{"text_format":"1","workbook":"xlsx","n_sheets":7,"sheets":["조치전검사","일보고서","조건기초","사진자료11","주간보고서","사진자료12","Sheet2"],"not_rendered":{"charts":6,"images":43,"macros":1,"external_links":0,"defined_names":19,"comments":1,"pivot_tables":0},"unopened":[],"bounds":{"document_bytes":16777216,"sheet_cells":100000,"rows_first":2000,"rows_last":500,"rows_between":2000,"halvings":0,"cell_chars":16384,"cell_head_chars":4096},"cells_cut":0,"cells_raw":0,"read":"whole","date_system":"1900"}

{"sheet":"조치전검사","index":0,"n_rows":264,"n_cols":24,"rows_kept":264,"cut":false,"hidden":false,"merged":[[3,7,4,7],[3,8,4,8],[0,0,0,2],[2,0,2,23],[3,0,4,0],[3,1,4,1],[3,2,4,2],[3,3,4,3],[3,4,4,4],[3,5,4,5],[3,9,4,9],[3,10,3,15],[3,16,3,18],[3,20,4,20],[3,21,4,21],[3,22,4,22],[3,23,4,23],[3,6,4,6]]}
["입력행",null,null,{"$f":"COUNTA(조치전검사!A:A)-2","v":1},null,{"$f":"TODAY()","v":"2016-01-05"},null,null,null,{"$f":"NOW()","v":42374.857333217595}]
[]
["공정중 불량유형 분석 및 조치 사항"]
["검사일자","검사시간","제품번호","품명","생산설비","작업자","기계수량","생산수량","생산오차","검사수량","기능성불량",null,null,null,null,null,"위생불량",null,null,"기타","조치자","조치확인\n(조치자작성)","조치자확인","QC확인"]
[null,null,null,null,null,null,null,null,null,null,"흑점","버","게이트버","크렉외","웰더","미성형","기름","이물","오염","투입이상"]
[]
[]
[]
[]
[]
[]
[]
[]
[]
[]
[]
[]
[]
[]
[]
[]
[]
[]
[]
[]
[]
[]
[]
[]
[]
[]
[]
[]
[]
[]
[]
[]
[]
[]
[]
[]
[]
[]
[]
[]
[]
[]
[]
[]
[]
[]
[]
[]
[]
[]
[]
[]
[]
[]
[]
[]
[]
[]
[]
[]
[]
[]
[]
[]
[]
[]
[]
[]
[]
[]
[]
[]
[]
[]
[]
[]
[]
[]
[]
[]
[]
[]
[]
[]
[]
[]
[]
[]
[]
[]
[]
[]
[]
[]
[]
[]
[]
[]
[]
[]
[]
[]
[]
[]
[]
[]
[]
[]
[]
[]
[]
[]
[]
[]
[]
[]
[]
[]
[]
[]
[]
[]
[]
[]
[]
[]
[]
[]
[]
[]
[]
[]
[]
[]
[]
[]
[]
[]
[]
[]
[]
[]
[]
[]
[]
[]
[]
[]
[]
[]
[]
[]
[]
[]
[]
[]
[]
[]
[]
[]
[]
[]
[]
[]
[]
[]
[]
[]
[]
[]
[]
[]
[]
[]
[]
[]
[]
[]
[]
[]
[]
[]
[]
[]
[]
[]
[]
[]
[]
[]
[]
[]
[]
[]
[]
[]
[]
[]
[]
[]
[]
[]
[]
[]
[]
[]
[]
[]
[]
[]
[]
[]
[]
[]
[]
[]
[]
[]
[]
[]
[]
[]
[null,null,null,{"$f":"IFERROR(VLOOKUP(C228,조건기초!E474:F499,2),\"\")","v":""}]
[null,null,null,{"$f":"IFERROR(VLOOKUP(C229,조건기초!E475:F500,2),\"\")","v":""}]
[null,null,null,{"$f":"IFERROR(VLOOKUP(C230,조건기초!E476:F501,2),\"\")","v":""}]
[null,null,null,{"$f":"IFERROR(VLOOKUP(C231,조건기초!E477:F502,2),\"\")","v":""}]
[null,null,null,{"$f":"IFERROR(VLOOKUP(C232,조건기초!E478:F503,2),\"\")","v":""}]
[null,null,null,{"$f":"IFERROR(VLOOKUP(C233,조건기초!E479:F504,2),\"\")","v":""}]
[null,null,null,{"$f":"IFERROR(VLOOKUP(C234,조건기초!E480:F505,2),\"\")","v":""}]
[null,null,null,{"$f":"IFERROR(VLOOKUP(C235,조건기초!E481:F506,2),\"\")","v":""}]
[null,null,null,{"$f":"IFERROR(VLOOKUP(C236,조건기초!E482:F507,2),\"\")","v":""}]
[null,null,null,{"$f":"IFERROR(VLOOKUP(C237,조건기초!E483:F508,2),\"\")","v":""}]
[null,null,null,{"$f":"IFERROR(VLOOKUP(C238,조건기초!E484:F509,2),\"\")","v":""}]
[null,null,null,{"$f":"IFERROR(VLOOKUP(C239,조건기초!E485:F510,2),\"\")","v":""}]
[null,null,null,{"$f":"IFERROR(VLOOKUP(C240,조건기초!E486:F511,2),\"\")","v":""}]
[null,null,null,{"$f":"IFERROR(VLOOKUP(C241,조건기초!E487:F512,2),\"\")","v":""}]
[null,null,null,{"$f":"IFERROR(VLOOKUP(C242,조건기초!E488:F513,2),\"\")","v":""}]
[null,null,null,{"$f":"IFERROR(VLOOKUP(C243,조건기초!E489:F514,2),\"\")","v":""}]
[null,null,null,{"$f":"IFERROR(VLOOKUP(C244,조건기초!E490:F515,2),\"\")","v":""}]
[null,null,null,{"$f":"IFERROR(VLOOKUP(C245,조건기초!E491:F516,2),\"\")","v":""}]
[null,null,null,{"$f":"IFERROR(VLOOKUP(C246,조건기초!E492:F517,2),\"\")","v":""}]
[null,null,null,{"$f":"IFERROR(VLOOKUP(C247,조건기초!E493:F518,2),\"\")","v":""}]
[null,null,null,{"$f":"IFERROR(VLOOKUP(C248,조건기초!E494:F519,2),\"\")","v":""}]
[null,null,null,{"$f":"IFERROR(VLOOKUP(C249,조건기초!E495:F520,2),\"\")","v":""}]
[null,null,null,{"$f":"IFERROR(VLOOKUP(C250,조건기초!E496:F521,2),\"\")","v":""}]
[null,null,null,{"$f":"IFERROR(VLOOKUP(C251,조건기초!E497:F522,2),\"\")","v":""}]
[null,null,null,{"$f":"IFERROR(VLOOKUP(C252,조건기초!E498:F523,2),\"\")","v":""}]
[null,null,null,{"$f":"IFERROR(VLOOKUP(C253,조건기초!E499:F524,2),\"\")","v":""}]
[null,null,null,{"$f":"IFERROR(VLOOKUP(C254,조건기초!E500:F525,2),\"\")","v":""}]
[null,null,null,{"$f":"IFERROR(VLOOKUP(C255,조건기초!E501:F526,2),\"\")","v":""}]
[null,null,null,{"$f":"IFERROR(VLOOKUP(C256,조건기초!E502:F527,2),\"\")","v":""}]
[null,null,null,{"$f":"IFERROR(VLOOKUP(C257,조건기초!E503:F528,2),\"\")","v":""}]
[null,null,null,{"$f":"IFERROR(VLOOKUP(C258,조건기초!E504:F529,2),\"\")","v":""}]
[null,null,null,{"$f":"IFERROR(VLOOKUP(C259,조건기초!E505:F530,2),\"\")","v":""}]
[null,null,null,{"$f":"IFERROR(VLOOKUP(C260,조건기초!E506:F531,2),\"\")","v":""}]
[null,null,null,{"$f":"IFERROR(VLOOKUP(C261,조건기초!E507:F532,2),\"\")","v":""}]
[null,null,null,{"$f":"IFERROR(VLOOKUP(C262,조건기초!E508:F533,2),\"\")","v":""}]
[null,null,null,{"$f":"IFERROR(VLOOKUP(C263,조건기초!E509:F534,2),\"\")","v":""}]
[null,null,null,{"$f":"IFERROR(VLOOKUP(C264,조건기초!E510:F535,2),\"\")","v":""}]

{"sheet":"일보고서","index":1,"n_rows":75,"n_cols":22,"rows_kept":75,"cut":false,"hidden":false,"merged":[[39,6,40,6],[19,6,20,6],[29,6,30,6],[31,6,32,6],[33,6,34,6],[35,6,36,6],[37,6,38,6],[39,4,40,4],[39,5,40,5],[21,8,22,8],[23,8,24,8],[25,8,26,8],[27,8,28,8],[29,8,30,8],[31,8,32,8],[33,8,34,8],[35,8,36,8],[37,8,38,8],[21,6,22,6],[25,6,26,6],[23,6,24,6],[27,6,28,6],[33,4,34,4],[33,5,34,5],[35,4,36,4],[35,5,36,5],[37,4,38,4],[37,5,38,5],[27,4,28,4],[27,5,28,5],[29,4,30,4],[29,5,30,5],[31,4,32,4],[31,5,32,5],[19,2,20,3],[19,5,20,5],[19,16,19,18],[23,1,24,1],[25,1,26,1],[21,4,22,4],[23,4,24,4],[21,5,22,5],[23,5,24,5],[25,4,26,4],[25,5,26,5],[27,1,28,1],[21,2,22,3],[23,2,24,3],[25,2,26,3],[27,2,28,3],[74,14,74,19],[64,12,64,13],[65,12,65,13],[71,12,71,13],[72,12,72,13],[73,12,73,13],[74,12,74,13],[66,12,66,13],[70,12,70,13],[67,12,67,13],[68,12,68,13],[69,12,69,13],[45,15,56,19],[57,15,58,19],[1,2,1,5],[19,9,20,9],[19,10,19,15],[4,1,7,13],[8,1,8,5],[19,4,20,4],[19,8,20,8],[19,1,20,1],[4,18,5,19],[4,16,5,17],[4,14,5,15],[35,1,36,1],[37,1,38,1],[21,1,22,1],[63,17,63,19],[63,12,63,13],[63,14,63,16],[39,1,40,1],[29,1,30,1],[31,1,32,1],[33,1,34,1],[45,10,56,14],[41,2,42,3],[29,2,30,3],[31,2,32,3],[33,2,34,3],[35,2,36,3],[37,2,38,3],[39,2,40,3],[57,10,58,14]]}
[]
[null,"검사일자","2014-12-22"]
[null,null,{"$f":"YEAR(C2)","v":2014},{"$f":"MONTH(C2)","v":12},null,{"$f":"DAY(C2)","v":22}]
[]
[null,"공정중 불량유형 분석 보고서",null,null,null,null,null,null,null,null,null,null,null,null,"작 성",null,"검 토",null,"승 인"]
[]
[]
[]
[null,{"$f":"\"검사일자 : \"&C3&\"년\"&D3&\"월\"&F3&\"일\"","v":"검사일자 : 2014년12월22일"}]
[]
[null,{"$f":"\"√ 금일 총 \"&COUNTA($C$22:$D$40)&\"제품 생산.  \"","v":"√ 금일 총 1제품 생산.  "}]
[null,{"$f":"\"√ 불량 제품 총 \"&J42&\"개 검사. \"","v":"√ 불량 제품 총 0개 검사. "}]
[null,{"$f":"\"√ 불량이 가장 많은 유형은 \"&INDEX(K21:T21,MATCH(MAX(K42:T42),K42:T42,0))&\" 불량. (\"&INDEX(K42:T42,MATCH(MAX(K42:T42),K42:T42,0))&\"개)\"","v":"√ 불량이 가장 많은 유형은 흑점 불량. (0개)"}]
[null,{"$f":"\"√ 불량이 가장 적은 유형은 \"&INDEX(K21:T21,MATCH(MIN(K42:T42),K42:T42,0))&\" 불량. (\"&INDEX(K42:T42,MATCH(MIN(K42:T42),K42:T42,0))&\"개)\"","v":"√ 불량이 가장 적은 유형은 흑점 불량. (0개)"}]
[null,"√ 금일 이슈 사항 ①닥터유 민트용기 하 안료 배합상태 불량으로 인한 \"색상불량\"발생.  ",null,null,null,null,null,null,null,null,null,null,null,null,null,null,null,null,null,null,null," "]
[]
[]
[]
[null,"☞","검사 상세",null,null,null,null,null,null,null,null,null,null,null,null,null,"*찍힘외 = 홀,크렉,스크레치,찍힘 포함"]
[null,"제품번호","품명",null,"기계수량","정품수량","재고수량","불량수량","오차","검사수량","기능성불량",null,null,null,null,null,"위생불량",null,null,"기타"]
[null,null,null,null,"수량",null,null,"불량률(%)",null,null,"흑점","버","게이트버","찍힘외","웰더","미성형","기름","이물","오염","기타"]
[null,{"$f":"IFERROR(VLOOKUP(C22,조건기초!$F$5:$AR$34,39,0),\"\")","v":""},"알파메스틱 용기",null,{"$f":"SUMIFS(조치전검사!$G:$G,조치전검사!$D:$D,일보고서!$C22,조치전검사!$A:$A,일보고서!$C$2)","v":0},{"$f":"SUMIFS(조치전검사!$H:$H,조치전검사!$D:$D,일보고서!$C22,조치전검사!$A:$A,일보고서!$C$2)","v":0},0,{"$f":"IFERROR(IF(E22-F22+G22=0,\"\",E22-F22+G22),\"\")","v":""},{"$f":"IFERROR(H22-J22,\"\")","v":""},{"$f":"SUMIFS(조치전검사!J:J,조치전검사!$A:$A,일보고서!$C$2,조치전검사!$D:$D,일보고서!$C22)","v":0},{"$f":"SUMIFS(조치전검사!K:K,조치전검사!$A:$A,일보고서!$C$2,조치전검사!$D:$D,일보고서!$C22)","v":0},{"$f":"SUMIFS(조치전검사!L:L,조치전검사!$A:$A,일보고서!$C$2,조치전검사!$D:$D,일보고서!$C22)","v":0},{"$f":"SUMIFS(조치전검사!M:M,조치전검사!$A:$A,일보고서!$C$2,조치전검사!$D:$D,일보고서!$C22)","v":0},{"$f":"SUMIFS(조치전검사!N:N,조치전검사!$A:$A,일보고서!$C$2,조치전검사!$D:$D,일보고서!$C22)","v":0},{"$f":"SUMIFS(조치전검사!O:O,조치전검사!$A:$A,일보고서!$C$2,조치전검사!$D:$D,일보고서!$C22)","v":0},{"$f":"SUMIFS(조치전검사!P:P,조치전검사!$A:$A,일보고서!$C$2,조치전검사!$D:$D,일보고서!$C22)","v":0},{"$f":"SUMIFS(조치전검사!Q:Q,조치전검사!$A:$A,일보고서!$C$2,조치전검사!$D:$D,일보고서!$C22)","v":0},{"$f":"SUMIFS(조치전검사!R:R,조치전검사!$A:$A,일보고서!$C$2,조치전검사!$D:$D,일보고서!$C22)","v":0},{"$f":"SUMIFS(조치전검사!S:S,조치전검사!$A:$A,일보고서!$C$2,조치전검사!$D:$D,일보고서!$C22)","v":0},{"$f":"SUMIFS(조치전검사!T:T,조치전검사!$A:$A,일보고서!$C$2,조치전검사!$D:$D,일보고서!$C22)","v":0}]
[null,null,null,null,null,null,null,{"$f":"IFERROR(H22/(E22),\"0%\")","v":"0%"},null,{"$f":"IFERROR(J22/(E22),0%)","v":0},{"$f":"IFERROR((K22/$J22),\"\")","v":""},{"$f":"IFERROR((L22/$J22),\"\")","v":""},"","","","","","","",""]
[null,{"$f":"IFERROR(VLOOKUP(C24,조건기초!$F$5:$AR$34,39,0),\"\")","v":""},null,null,{"$f":"SUMIFS(조치전검사!$G:$G,조치전검사!$D:$D,일보고서!$C24,조치전검사!$A:$A,일보고서!$C$2)","v":0},{"$f":"SUMIFS(조치전검사!$H:$H,조치전검사!$D:$D,일보고서!$C24,조치전검사!$A:$A,일보고서!$C$2)","v":0},null,{"$f":"IFERROR(IF(E24-F24+G24=0,\"\",E24-F24+G24),\"\")","v":""},{"$f":"IFERROR(H24-J24,\"\")","v":""},{"$f":"SUMIFS(조치전검사!J:J,조치전검사!$A:$A,일보고서!$C$2,조치전검사!$D:$D,일보고서!$C24)","v":0},{"$f":"SUMIFS(조치전검사!K:K,조치전검사!$A:$A,일보고서!$C$2,조치전검사!$D:$D,일보고서!$C24)","v":0},{"$f":"SUMIFS(조치전검사!L:L,조치전검사!$A:$A,일보고서!$C$2,조치전검사!$D:$D,일보고서!$C24)","v":0},{"$f":"SUMIFS(조치전검사!M:M,조치전검사!$A:$A,일보고서!$C$2,조치전검사!$D:$D,일보고서!$C24)","v":0},{"$f":"SUMIFS(조치전검사!N:N,조치전검사!$A:$A,일보고서!$C$2,조치전검사!$D:$D,일보고서!$C24)","v":0},{"$f":"SUMIFS(조치전검사!O:O,조치전검사!$A:$A,일보고서!$C$2,조치전검사!$D:$D,일보고서!$C24)","v":0},{"$f":"SUMIFS(조치전검사!P:P,조치전검사!$A:$A,일보고서!$C$2,조치전검사!$D:$D,일보고서!$C24)","v":0},{"$f":"SUMIFS(조치전검사!Q:Q,조치전검사!$A:$A,일보고서!$C$2,조치전검사!$D:$D,일보고서!$C24)","v":0},{"$f":"SUMIFS(조치전검사!R:R,조치전검사!$A:$A,일보고서!$C$2,조치전검사!$D:$D,일보고서!$C24)","v":0},{"$f":"SUMIFS(조치전검사!S:S,조치전검사!$A:$A,일보고서!$C$2,조치전검사!$D:$D,일보고서!$C24)","v":0},{"$f":"SUMIFS(조치전검사!T:T,조치전검사!$A:$A,일보고서!$C$2,조치전검사!$D:$D,일보고서!$C24)","v":0}]
[null,null,null,null,null,null,null,{"$f":"IFERROR(H24/(E24),\"0%\")","v":"0%"},null,{"$f":"IFERROR(J24/(E24),0%)","v":0},{"$f":"IFERROR((K24/$J24),\"\")","v":""},{"$f":"IFERROR((L24/$J24),\"\")","v":""},{"$f":"IFERROR((M24/$J24),\"\")","v":""},{"$f":"IFERROR((N24/$J24),\"\")","v":""},{"$f":"IFERROR((O24/$J24),\"\")","v":""},{"$f":"IFERROR((P24/$J24),\"\")","v":""},{"$f":"IFERROR((Q24/$J24),\"\")","v":""},{"$f":"IFERROR((R24/$J24),\"\")","v":""},{"$f":"IFERROR((S24/$J24),\"\")","v":""},{"$f":"IFERROR((T24/$J24),\"\")","v":""}]
[null,{"$f":"IFERROR(VLOOKUP(C26,조건기초!$F$5:$AR$34,39,0),\"\")","v":""},null,null,{"$f":"SUMIFS(조치전검사!$G:$G,조치전검사!$D:$D,일보고서!$C26,조치전검사!$A:$A,일보고서!$C$2)","v":0},{"$f":"SUMIFS(조치전검사!$H:$H,조치전검사!$D:$D,일보고서!$C26,조치전검사!$A:$A,일보고서!$C$2)","v":0},0,{"$f":"IFERROR(IF(E26-F26+G26=0,\"\",E26-F26+G26),\"\")","v":""},{"$f":"IFERROR(H26-J26,\"\")","v":""},{"$f":"SUMIFS(조치전검사!J:J,조치전검사!$A:$A,일보고서!$C$2,조치전검사!$D:$D,일보고서!$C26)","v":0},{"$f":"SUMIFS(조치전검사!K:K,조치전검사!$A:$A,일보고서!$C$2,조치전검사!$D:$D,일보고서!$C26)","v":0},{"$f":"SUMIFS(조치전검사!L:L,조치전검사!$A:$A,일보고서!$C$2,조치전검사!$D:$D,일보고서!$C26)","v":0},{"$f":"SUMIFS(조치전검사!M:M,조치전검사!$A:$A,일보고서!$C$2,조치전검사!$D:$D,일보고서!$C26)","v":0},{"$f":"SUMIFS(조치전검사!N:N,조치전검사!$A:$A,일보고서!$C$2,조치전검사!$D:$D,일보고서!$C26)","v":0},{"$f":"SUMIFS(조치전검사!O:O,조치전검사!$A:$A,일보고서!$C$2,조치전검사!$D:$D,일보고서!$C26)","v":0},{"$f":"SUMIFS(조치전검사!P:P,조치전검사!$A:$A,일보고서!$C$2,조치전검사!$D:$D,일보고서!$C26)","v":0},{"$f":"SUMIFS(조치전검사!Q:Q,조치전검사!$A:$A,일보고서!$C$2,조치전검사!$D:$D,일보고서!$C26)","v":0},{"$f":"SUMIFS(조치전검사!R:R,조치전검사!$A:$A,일보고서!$C$2,조치전검사!$D:$D,일보고서!$C26)","v":0},{"$f":"SUMIFS(조치전검사!S:S,조치전검사!$A:$A,일보고서!$C$2,조치전검사!$D:$D,일보고서!$C26)","v":0},{"$f":"SUMIFS(조치전검사!T:T,조치전검사!$A:$A,일보고서!$C$2,조치전검사!$D:$D,일보고서!$C26)","v":0}]
[null,null,null,null,null,null,null,{"$f":"IFERROR(H26/(E26),\"0%\")","v":"0%"},null,{"$f":"IFERROR(J26/(E26),0%)","v":0},{"$f":"IFERROR((K26/$J26),\"\")","v":""},{"$f":"IFERROR((L26/$J26),\"\")","v":""},{"$f":"IFERROR((M26/$J26),\"\")","v":""},{"$f":"IFERROR((N26/$J26),\"\")","v":""},{"$f":"IFERROR((O26/$J26),\"\")","v":""},{"$f":"IFERROR((P26/$J26),\"\")","v":""},{"$f":"IFERROR((Q26/$J26),\"\")","v":""},{"$f":"IFERROR((R26/$J26),\"\")","v":""},{"$f":"IFERROR((S26/$J26),\"\")","v":""},{"$f":"IFERROR((T26/$J26),\"\")","v":""}]
[null,{"$f":"IFERROR(VLOOKUP(C28,조건기초!$F$5:$AR$34,39,0),\"\")","v":""},null,null,{"$f":"SUMIFS(조치전검사!$G:$G,조치전검사!$D:$D,일보고서!$C28,조치전검사!$A:$A,일보고서!$C$2)","v":0},{"$f":"SUMIFS(조치전검사!$H:$H,조치전검사!$D:$D,일보고서!$C28,조치전검사!$A:$A,일보고서!$C$2)","v":0},0,{"$f":"IFERROR(IF(E28-F28+G28=0,\"\",E28-F28+G28),\"\")","v":""},{"$f":"IFERROR(H28-J28,\"\")","v":""},{"$f":"SUMIFS(조치전검사!J:J,조치전검사!$A:$A,일보고서!$C$2,조치전검사!$D:$D,일보고서!$C28)","v":0},{"$f":"SUMIFS(조치전검사!K:K,조치전검사!$A:$A,일보고서!$C$2,조치전검사!$D:$D,일보고서!$C28)","v":0},{"$f":"SUMIFS(조치전검사!L:L,조치전검사!$A:$A,일보고서!$C$2,조치전검사!$D:$D,일보고서!$C28)","v":0},{"$f":"SUMIFS(조치전검사!M:M,조치전검사!$A:$A,일보고서!$C$2,조치전검사!$D:$D,일보고서!$C28)","v":0},{"$f":"SUMIFS(조치전검사!N:N,조치전검사!$A:$A,일보고서!$C$2,조치전검사!$D:$D,일보고서!$C28)","v":0},{"$f":"SUMIFS(조치전검사!O:O,조치전검사!$A:$A,일보고서!$C$2,조치전검사!$D:$D,일보고서!$C28)","v":0},{"$f":"SUMIFS(조치전검사!P:P,조치전검사!$A:$A,일보고서!$C$2,조치전검사!$D:$D,일보고서!$C28)","v":0},{"$f":"SUMIFS(조치전검사!Q:Q,조치전검사!$A:$A,일보고서!$C$2,조치전검사!$D:$D,일보고서!$C28)","v":0},{"$f":"SUMIFS(조치전검사!R:R,조치전검사!$A:$A,일보고서!$C$2,조치전검사!$D:$D,일보고서!$C28)","v":0},{"$f":"SUMIFS(조치전검사!S:S,조치전검사!$A:$A,일보고서!$C$2,조치전검사!$D:$D,일보고서!$C28)","v":0},{"$f":"SUMIFS(조치전검사!T:T,조치전검사!$A:$A,일보고서!$C$2,조치전검사!$D:$D,일보고서!$C28)","v":0}]
[null,null,null,null,null,null,null,{"$f":"IFERROR(H28/(E28),\"0%\")","v":"0%"},null,{"$f":"IFERROR(J28/(E28),0%)","v":0},{"$f":"IFERROR((K28/$J28),\"\")","v":""},{"$f":"IFERROR((L28/$J28),\"\")","v":""},{"$f":"IFERROR((M28/$J28),\"\")","v":""},{"$f":"IFERROR((N28/$J28),\"\")","v":""},{"$f":"IFERROR((O28/$J28),\"\")","v":""},{"$f":"IFERROR((P28/$J28),\"\")","v":""},{"$f":"IFERROR((Q28/$J28),\"\")","v":""},{"$f":"IFERROR((R28/$J28),\"\")","v":""},{"$f":"IFERROR((S28/$J28),\"\")","v":""},{"$f":"IFERROR((T28/$J28),\"\")","v":""}]
[null,{"$f":"IFERROR(VLOOKUP(C30,조건기초!$F$5:$AR$34,39,0),\"\")","v":""},null,null,{"$f":"SUMIFS(조치전검사!$G:$G,조치전검사!$D:$D,일보고서!$C30,조치전검사!$A:$A,일보고서!$C$2)","v":0},{"$f":"SUMIFS(조치전검사!$H:$H,조치전검사!$D:$D,일보고서!$C30,조치전검사!$A:$A,일보고서!$C$2)","v":0},0,{"$f":"IFERROR(IF(E30-F30+G30=0,\"\",E30-F30+G30),\"\")","v":""},{"$f":"IFERROR(H30-J30,\"\")","v":""},{"$f":"SUMIFS(조치전검사!J:J,조치전검사!$A:$A,일보고서!$C$2,조치전검사!$D:$D,일보고서!$C30)","v":0},{"$f":"SUMIFS(조치전검사!K:K,조치전검사!$A:$A,일보고서!$C$2,조치전검사!$D:$D,일보고서!$C$30)","v":0},{"$f":"SUMIFS(조치전검사!L:L,조치전검사!$A:$A,일보고서!$C$2,조치전검사!$D:$D,일보고서!$C30)","v":0},{"$f":"SUMIFS(조치전검사!M:M,조치전검사!$A:$A,일보고서!$C$2,조치전검사!$D:$D,일보고서!$C30)","v":0},{"$f":"SUMIFS(조치전검사!N:N,조치전검사!$A:$A,일보고서!$C$2,조치전검사!$D:$D,일보고서!$C30)","v":0},{"$f":"SUMIFS(조치전검사!O:O,조치전검사!$A:$A,일보고서!$C$2,조치전검사!$D:$D,일보고서!$C30)","v":0},{"$f":"SUMIFS(조치전검사!P:P,조치전검사!$A:$A,일보고서!$C$2,조치전검사!$D:$D,일보고서!$C30)","v":0},{"$f":"SUMIFS(조치전검사!Q:Q,조치전검사!$A:$A,일보고서!$C$2,조치전검사!$D:$D,일보고서!$C30)","v":0},{"$f":"SUMIFS(조치전검사!R:R,조치전검사!$A:$A,일보고서!$C$2,조치전검사!$D:$D,일보고서!$C30)","v":0},{"$f":"SUMIFS(조치전검사!S:S,조치전검사!$A:$A,일보고서!$C$2,조치전검사!$D:$D,일보고서!$C30)","v":0},{"$f":"SUMIFS(조치전검사!T:T,조치전검사!$A:$A,일보고서!$C$2,조치전검사!$D:$D,일보고서!$C30)","v":0}]
[null,null,null,null,null,null,null,{"$f":"IFERROR(H30/(E30),\"0%\")","v":"0%"},null,{"$f":"IFERROR(J30/(E30),0%)","v":0},{"$f":"IFERROR((K30/$J30),\"\")","v":""},{"$f":"IFERROR((L30/$J30),\"\")","v":""},{"$f":"IFERROR((M30/$J30),\"\")","v":""},{"$f":"IFERROR((N30/$J30),\"\")","v":""},{"$f":"IFERROR((O30/$J30),\"\")","v":""},{"$f":"IFERROR((P30/$J30),\"\")","v":""},{"$f":"IFERROR((Q30/$J30),\"\")","v":""},{"$f":"IFERROR((R30/$J30),\"\")","v":""},{"$f":"IFERROR((S30/$J30),\"\")","v":""},{"$f":"IFERROR((T30/$J30),\"\")","v":""}]
[null,{"$f":"IFERROR(VLOOKUP(C32,조건기초!$F$5:$AR$34,39,0),\"\")","v":""},null,null,{"$f":"SUMIFS(조치전검사!$G:$G,조치전검사!$D:$D,일보고서!$C32,조치전검사!$A:$A,일보고서!$C$2)","v":0},{"$f":"SUMIFS(조치전검사!$H:$H,조치전검사!$D:$D,일보고서!$C32,조치전검사!$A:$A,일보고서!$C$2)","v":0},0,{"$f":"IFERROR(IF(E32-F32+G32=0,\"\",E32-F32+G32),\"\")","v":""},{"$f":"IFERROR(H32-J32,\"\")","v":""},{"$f":"SUMIFS(조치전검사!J:J,조치전검사!$A:$A,일보고서!$C$2,조치전검사!$D:$D,일보고서!$C32)","v":0},{"$f":"SUMIFS(조치전검사!K:K,조치전검사!$A:$A,일보고서!$C$2,조치전검사!$D:$D,일보고서!$C32)","v":0},{"$f":"SUMIFS(조치전검사!L:L,조치전검사!$A:$A,일보고서!$C$2,조치전검사!$D:$D,일보고서!$C32)","v":0},{"$f":"SUMIFS(조치전검사!M:M,조치전검사!$A:$A,일보고서!$C$2,조치전검사!$D:$D,일보고서!$C32)","v":0},{"$f":"SUMIFS(조치전검사!N:N,조치전검사!$A:$A,일보고서!$C$2,조치전검사!$D:$D,일보고서!$C32)","v":0},{"$f":"SUMIFS(조치전검사!O:O,조치전검사!$A:$A,일보고서!$C$2,조치전검사!$D:$D,일보고서!$C32)","v":0},{"$f":"SUMIFS(조치전검사!P:P,조치전검사!$A:$A,일보고서!$C$2,조치전검사!$D:$D,일보고서!$C32)","v":0},{"$f":"SUMIFS(조치전검사!Q:Q,조치전검사!$A:$A,일보고서!$C$2,조치전검사!$D:$D,일보고서!$C32)","v":0},{"$f":"SUMIFS(조치전검사!R:R,조치전검사!$A:$A,일보고서!$C$2,조치전검사!$D:$D,일보고서!$C32)","v":0},{"$f":"SUMIFS(조치전검사!S:S,조치전검사!$A:$A,일보고서!$C$2,조치전검사!$D:$D,일보고서!$C32)","v":0},{"$f":"SUMIFS(조치전검사!T:T,조치전검사!$A:$A,일보고서!$C$2,조치전검사!$D:$D,일보고서!$C32)","v":0}]
[null,null,null,null,null,null,null,{"$f":"IFERROR(H32/(E32),\"0%\")","v":"0%"},null,{"$f":"IFERROR(J32/(E32),0%)","v":0},{"$f":"IFERROR((K32/$J32),\"\")","v":""},{"$f":"IFERROR((L32/$J32),\"\")","v":""},{"$f":"IFERROR((M32/$J32),\"\")","v":""},{"$f":"IFERROR((N32/$J32),\"\")","v":""},{"$f":"IFERROR((O32/$J32),\"\")","v":""},{"$f":"IFERROR((P32/$J32),\"\")","v":""},{"$f":"IFERROR((Q32/$J32),\"\")","v":""},{"$f":"IFERROR((R32/$J32),\"\")","v":""},{"$f":"IFERROR((S32/$J32),\"\")","v":""},{"$f":"IFERROR((T32/$J32),\"\")","v":""}]
[null,{"$f":"IFERROR(VLOOKUP(C34,조건기초!$F$5:$AR$34,39,0),\"\")","v":""},null,null,{"$f":"SUMIFS(조치전검사!$G:$G,조치전검사!$D:$D,일보고서!$C34,조치전검사!$A:$A,일보고서!$C$2)","v":0},{"$f":"SUMIFS(조치전검사!$H:$H,조치전검사!$D:$D,일보고서!$C34,조치전검사!$A:$A,일보고서!$C$2)","v":0},null,{"$f":"IFERROR(IF(E34-F34+G34=0,\"\",E34-F34+G34),\"\")","v":""},{"$f":"IFERROR(H34-J34,\"\")","v":""},{"$f":"SUMIFS(조치전검사!J:J,조치전검사!$A:$A,일보고서!$C$2,조치전검사!$D:$D,일보고서!$C34)","v":0},{"$f":"SUMIFS(조치전검사!K:K,조치전검사!$A:$A,일보고서!$C$2,조치전검사!$D:$D,일보고서!$C34)","v":0},{"$f":"SUMIFS(조치전검사!L:L,조치전검사!$A:$A,일보고서!$C$2,조치전검사!$D:$D,일보고서!$C34)","v":0},{"$f":"SUMIFS(조치전검사!M:M,조치전검사!$A:$A,일보고서!$C$2,조치전검사!$D:$D,일보고서!$C34)","v":0},{"$f":"SUMIFS(조치전검사!N:N,조치전검사!$A:$A,일보고서!$C$2,조치전검사!$D:$D,일보고서!$C34)","v":0},{"$f":"SUMIFS(조치전검사!O:O,조치전검사!$A:$A,일보고서!$C$2,조치전검사!$D:$D,일보고서!$C34)","v":0},{"$f":"SUMIFS(조치전검사!P:P,조치전검사!$A:$A,일보고서!$C$2,조치전검사!$D:$D,일보고서!$C34)","v":0},{"$f":"SUMIFS(조치전검사!Q:Q,조치전검사!$A:$A,일보고서!$C$2,조치전검사!$D:$D,일보고서!$C34)","v":0},{"$f":"SUMIFS(조치전검사!R:R,조치전검사!$A:$A,일보고서!$C$2,조치전검사!$D:$D,일보고서!$C34)","v":0},{"$f":"SUMIFS(조치전검사!S:S,조치전검사!$A:$A,일보고서!$C$2,조치전검사!$D:$D,일보고서!$C34)","v":0},{"$f":"SUMIFS(조치전검사!T:T,조치전검사!$A:$A,일보고서!$C$2,조치전검사!$D:$D,일보고서!$C34)","v":0}]
[null,null,null,null,null,null,null,{"$f":"IFERROR(H34/(E34),\"0%\")","v":"0%"},null,{"$f":"IFERROR(J34/(E34),0%)","v":0},{"$f":"IFERROR((K34/$J34),\"\")","v":""},{"$f":"IFERROR((L34/$J34),\"\")","v":""},{"$f":"IFERROR((M34/$J34),\"\")","v":""},{"$f":"IFERROR((N34/$J34),\"\")","v":""},{"$f":"IFERROR((O34/$J34),\"\")","v":""},{"$f":"IFERROR((P34/$J34),\"\")","v":""},{"$f":"IFERROR((Q34/$J34),\"\")","v":""},{"$f":"IFERROR((R34/$J34),\"\")","v":""},{"$f":"IFERROR((S34/$J34),\"\")","v":""},{"$f":"IFERROR((T34/$J34),\"\")","v":""}]
[null,{"$f":"IFERROR(VLOOKUP(C36,조건기초!$F$5:$AR$34,39,0),\"\")","v":""},null,null,{"$f":"SUMIFS(조치전검사!$G:$G,조치전검사!$D:$D,일보고서!$C36,조치전검사!$A:$A,일보고서!$C$2)","v":0},{"$f":"SUMIFS(조치전검사!$H:$H,조치전검사!$D:$D,일보고서!$C36,조치전검사!$A:$A,일보고서!$C$2)","v":0},null,{"$f":"IFERROR(IF(E36-F36+G36=0,\"\",E36-F36+G36),\"\")","v":""},{"$f":"IFERROR(H36-J36,\"\")","v":""},{"$f":"SUMIFS(조치전검사!J:J,조치전검사!$A:$A,일보고서!$C$2,조치전검사!$D:$D,일보고서!$C36)","v":0},{"$f":"SUMIFS(조치전검사!K:K,조치전검사!$A:$A,일보고서!$C$2,조치전검사!$D:$D,일보고서!$C36)","v":0},{"$f":"SUMIFS(조치전검사!L:L,조치전검사!$A:$A,일보고서!$C$2,조치전검사!$D:$D,일보고서!$C36)","v":0},{"$f":"SUMIFS(조치전검사!M:M,조치전검사!$A:$A,일보고서!$C$2,조치전검사!$D:$D,일보고서!$C36)","v":0},{"$f":"SUMIFS(조치전검사!N:N,조치전검사!$A:$A,일보고서!$C$2,조치전검사!$D:$D,일보고서!$C36)","v":0},{"$f":"SUMIFS(조치전검사!O:O,조치전검사!$A:$A,일보고서!$C$2,조치전검사!$D:$D,일보고서!$C36)","v":0},{"$f":"SUMIFS(조치전검사!P:P,조치전검사!$A:$A,일보고서!$C$2,조치전검사!$D:$D,일보고서!$C36)","v":0},{"$f":"SUMIFS(조치전검사!Q:Q,조치전검사!$A:$A,일보고서!$C$2,조치전검사!$D:$D,일보고서!$C36)","v":0},{"$f":"SUMIFS(조치전검사!R:R,조치전검사!$A:$A,일보고서!$C$2,조치전검사!$D:$D,일보고서!$C36)","v":0},{"$f":"SUMIFS(조치전검사!S:S,조치전검사!$A:$A,일보고서!$C$2,조치전검사!$D:$D,일보고서!$C36)","v":0},{"$f":"SUMIFS(조치전검사!T:T,조치전검사!$A:$A,일보고서!$C$2,조치전검사!$D:$D,일보고서!$C36)","v":0}]
[null,null,null,null,null,null,null,{"$f":"IFERROR(H36/(E36),\"0%\")","v":"0%"},null,{"$f":"IFERROR(J36/(E36),0%)","v":0},{"$f":"IFERROR((K36/$J36),\"\")","v":""},"","","","","","","","",""]
[null,{"$f":"IFERROR(VLOOKUP(C38,조건기초!$F$5:$AR$34,39,0),\"\")","v":""},null,null,{"$f":"SUMIFS(조치전검사!$G:$G,조치전검사!$D:$D,일보고서!$C38,조치전검사!$A:$A,일보고서!$C$2)","v":0},{"$f":"SUMIFS(조치전검사!$H:$H,조치전검사!$D:$D,일보고서!$C38,조치전검사!$A:$A,일보고서!$C$2)","v":0},null,{"$f":"IFERROR(IF(E38-F38+G38=0,\"\",E38-F38+G38),\"\")","v":""},{"$f":"IFERROR(H38-J38,\"\")","v":""},{"$f":"SUMIFS(조치전검사!J:J,조치전검사!$A:$A,일보고서!$C$2,조치전검사!$D:$D,일보고서!$C38)","v":0},{"$f":"SUMIFS(조치전검사!K:K,조치전검사!$A:$A,일보고서!$C$2,조치전검사!$D:$D,일보고서!$C38)","v":0},{"$f":"SUMIFS(조치전검사!L:L,조치전검사!$A:$A,일보고서!$C$2,조치전검사!$D:$D,일보고서!$C38)","v":0},{"$f":"SUMIFS(조치전검사!M:M,조치전검사!$A:$A,일보고서!$C$2,조치전검사!$D:$D,일보고서!$C38)","v":0},{"$f":"SUMIFS(조치전검사!N:N,조치전검사!$A:$A,일보고서!$C$2,조치전검사!$D:$D,일보고서!$C38)","v":0},{"$f":"SUMIFS(조치전검사!O:O,조치전검사!$A:$A,일보고서!$C$2,조치전검사!$D:$D,일보고서!$C38)","v":0},{"$f":"SUMIFS(조치전검사!P:P,조치전검사!$A:$A,일보고서!$C$2,조치전검사!$D:$D,일보고서!$C38)","v":0},{"$f":"SUMIFS(조치전검사!Q:Q,조치전검사!$A:$A,일보고서!$C$2,조치전검사!$D:$D,일보고서!$C38)","v":0},{"$f":"SUMIFS(조치전검사!R:R,조치전검사!$A:$A,일보고서!$C$2,조치전검사!$D:$D,일보고서!$C38)","v":0},{"$f":"SUMIFS(조치전검사!S:S,조치전검사!$A:$A,일보고서!$C$2,조치전검사!$D:$D,일보고서!$C38)","v":0},{"$f":"SUMIFS(조치전검사!T:T,조치전검사!$A:$A,일보고서!$C$2,조치전검사!$D:$D,일보고서!$C38)","v":0}]
[null,null,null,null,null,null,null,{"$f":"IFERROR(H38/(E38),\"0%\")","v":"0%"},null,{"$f":"IFERROR(J38/(E38),0%)","v":0},{"$f":"IFERROR((K38/$J38),\"\")","v":""},"","","","","","","","",""]
[null,{"$f":"IFERROR(VLOOKUP(C40,조건기초!$F$5:$AR$34,39,0),\"\")","v":""},null,null,{"$f":"SUMIFS(조치전검사!$G:$G,조치전검사!$D:$D,일보고서!$C40,조치전검사!$A:$A,일보고서!$C$2)","v":0},{"$f":"SUMIFS(조치전검사!$H:$H,조치전검사!$D:$D,일보고서!$C40,조치전검사!$A:$A,일보고서!$C$2)","v":0},null,{"$f":"IFERROR(IF(E40-F40+G40=0,\"\",E40-F40+G40),\"\")","v":""},"",{"$f":"SUMIFS(조치전검사!J:J,조치전검사!$A:$A,일보고서!$C$2,조치전검사!$D:$D,일보고서!$C40)","v":0},{"$f":"SUMIFS(조치전검사!K:K,조치전검사!$A:$A,일보고서!$C$2,조치전검사!$D:$D,일보고서!$C40)","v":0},{"$f":"SUMIFS(조치전검사!L:L,조치전검사!$A:$A,일보고서!$C$2,조치전검사!$D:$D,일보고서!$C40)","v":0},{"$f":"SUMIFS(조치전검사!M:M,조치전검사!$A:$A,일보고서!$C$2,조치전검사!$D:$D,일보고서!$C40)","v":0},{"$f":"SUMIFS(조치전검사!N:N,조치전검사!$A:$A,일보고서!$C$2,조치전검사!$D:$D,일보고서!$C40)","v":0},{"$f":"SUMIFS(조치전검사!O:O,조치전검사!$A:$A,일보고서!$C$2,조치전검사!$D:$D,일보고서!$C40)","v":0},{"$f":"SUMIFS(조치전검사!P:P,조치전검사!$A:$A,일보고서!$C$2,조치전검사!$D:$D,일보고서!$C40)","v":0},{"$f":"SUMIFS(조치전검사!Q:Q,조치전검사!$A:$A,일보고서!$C$2,조치전검사!$D:$D,일보고서!$C40)","v":0},{"$f":"SUMIFS(조치전검사!R:R,조치전검사!$A:$A,일보고서!$C$2,조치전검사!$D:$D,일보고서!$C40)","v":0},{"$f":"SUMIFS(조치전검사!S:S,조치전검사!$A:$A,일보고서!$C$2,조치전검사!$D:$D,일보고서!$C40)","v":0},{"$f":"SUMIFS(조치전검사!T:T,조치전검사!$A:$A,일보고서!$C$2,조치전검사!$D:$D,일보고서!$C40)","v":0}]
[null,null,null,null,null,null,null,{"$f":"IFERROR(H40/(E40),\"0%\")","v":"0%"},null,{"$f":"IFERROR(J40/(E40),0%)","v":0},{"$f":"IFERROR((K40/$J40),\"\")","v":""},"","","","","","","","",""]
[null,null,"합 계",null,null,null,null,null,null,{"$f":"SUM(K42:T42)","v":0},{"$f":"SUM(K22,K24,K26,K28,K30,K32,K34,K36,K38,K40)","v":0},{"$f":"SUM(L22,L24,L26,L28,L30,L32,L34,L36,L38,L40)","v":0},0,0,0,0,0,0,0,0]
[null,null,null,null,null,null,null,null,null,{"$f":"IFERROR(SUM($K$43:$T$43),\"\")","v":0},{"$f":"IFERROR(K42/$J$42,\"\")","v":""},{"$f":"IFERROR(L42/$J$42,\"\")","v":""},{"$f":"IFERROR(M42/$J$42,\"\")","v":""},"","","","","","",""]
[]
[null,"☞","불량 유형별 상세"]
[]
[]
[]
[]
[]
[]
[]
[]
[]
[]
[]
[]
[null,null,null,null,null,null,null,null,null,null,{"$f":"IFERROR(INDEX(K21:T21,MATCH(MAX(K43:T43),K43:T43,0)),\"\")&\" 불량\"","v":" 불량"},null,null,null,null,"기타불량"]
[]
[]
[]
[]
[null,"☞","제품별 불량 상세"]
[null,null,null,null,null,null,null,null,null,null,null,null,"제품명",null,"최다불량",null,null,"최소불량"]
[null,null,null,null,null,null,null,null,null,null,null,null,{"$f":"C22","v":"알파메스틱 용기"},null,{"$f":"INDEX($K$21:$T$21,MATCH(MAX(K22:T22),K22:T22,0))","v":"흑점"},{"$f":"IF(SUM(K22:T22)=0,\"\",INDEX($K22:$T22,MATCH(MAX($K22:$T22),$K22:$T22,0)))","v":""},{"$f":"IFERROR(($P65/$J22),\"\")","v":""},{"$f":"INDEX($K$21:$T$21,MATCH(MIN(K22:T22),K22:T22,0))","v":"흑점"},{"$f":"IF(SUM(K22:T22)=0,\"\",INDEX($K22:$T22,MATCH(MIN($K22:$T22),$K22:$T22,0)))","v":""},{"$f":"IFERROR(($S65/$J22),\"\")","v":""}]
[null,null,null,null,null,null,null,null,null,null,null,null,{"$f":"C24","v":0},null,{"$f":"INDEX($K$21:$T$21,MATCH(MAX(K24:T24),K24:T24,0))","v":"흑점"},{"$f":"IF(SUM(K24:T24)=0,\"\",INDEX($K24:$T24,MATCH(MAX($K24:$T24),$K24:$T24,0)))","v":""},{"$f":"IFERROR(($P66/$J24),\"\")","v":""},{"$f":"INDEX($K$21:$T$21,MATCH(MIN(K24:T24),K24:T24,0))","v":"흑점"},{"$f":"IF(SUM(K24:T24)=0,\"\",INDEX($K24:$T24,MATCH(MIN($K24:$T24),$K24:$T24,0)))","v":""},{"$f":"IFERROR(($S66/$J24),\"\")","v":""}]
[null,null,null,null,null,null,null,null,null,null,null,null,{"$f":"C26","v":0},null,{"$f":"INDEX($K$21:$T$21,MATCH(MAX(K26:T26),K26:T26,0))","v":"흑점"},{"$f":"IF(SUM(K26:T26)=0,\"\",INDEX($K26:$T26,MATCH(MAX($K26:$T26),$K26:$T26,0)))","v":""},{"$f":"IFERROR(($P67/$J26),\"\")","v":""},{"$f":"INDEX($K$21:$T$21,MATCH(MIN(K26:T26),K26:T26,0))","v":"흑점"},{"$f":"IF(SUM(K26:T26)=0,\"\",INDEX($K26:$T26,MATCH(MIN($K26:$T26),$K26:$T26,0)))","v":""},{"$f":"IFERROR(($S67/$J26),\"\")","v":""}]
[null,null,null,null,null,null,null,null,null,null,null,null,{"$f":"C28","v":0},null,{"$f":"INDEX($K$21:$T$21,MATCH(MAX(K28:T28),K28:T28,0))","v":"흑점"},{"$f":"IF(SUM(K28:T28)=0,\"\",INDEX($K28:$T28,MATCH(MAX($K28:$T28),$K28:$T28,0)))","v":""},{"$f":"IFERROR(($P68/$J28),\"\")","v":""},{"$f":"INDEX($K$21:$T$21,MATCH(MIN(K28:T28),K28:T28,0))","v":"흑점"},{"$f":"IF(SUM(K28:T28)=0,\"\",INDEX($K28:$T28,MATCH(MIN($K28:$T28),$K28:$T28,0)))","v":""},{"$f":"IFERROR(($S68/$J28),\"\")","v":""}]
[null,null,null,null,null,null,null,null,null,null,null,null,{"$f":"C30","v":0},null,{"$f":"INDEX($K$21:$T$21,MATCH(MAX(K30:T30),K30:T30,0))","v":"흑점"},{"$f":"IF(SUM(K30:T30)=0,\"\",INDEX($K30:$T30,MATCH(MAX($K30:$T30),$K30:$T30,0)))","v":""},{"$f":"IFERROR(($P69/$J30),\"\")","v":""},{"$f":"INDEX($K$21:$T$21,MATCH(MIN(K30:T30),K30:T30,0))","v":"흑점"},{"$f":"IF(SUM(K30:T30)=0,\"\",INDEX($K30:$T30,MATCH(MIN($K30:$T30),$K30:$T30,0)))","v":""},{"$f":"IFERROR(($S69/$J30),\"\")","v":""}]
[null,null,null,null,null,null,null,null,null,null,null,null,{"$f":"C32","v":0},null,{"$f":"INDEX($K$21:$T$21,MATCH(MAX(K32:T32),K32:T32,0))","v":"흑점"},{"$f":"IF(SUM(K32:T32)=0,\"\",INDEX($K32:$T32,MATCH(MAX($K32:$T32),$K32:$T32,0)))","v":""},{"$f":"IFERROR(($P70/$J32),\"\")","v":""},{"$f":"INDEX($K$21:$T$21,MATCH(MIN(K32:T32),K32:T32,0))","v":"흑점"},{"$f":"IF(SUM(K32:T32)=0,\"\",INDEX($K32:$T32,MATCH(MIN($K32:$T32),$K32:$T32,0)))","v":""},{"$f":"IFERROR(($S70/$J32),\"\")","v":""}]
[]
[null,null,null,null,null,null,null,null,null,null,null,null,null,null,null,{"$f":"IF(SUM(K36:T36)=0,\"\",INDEX($K36:$T36,MATCH(MAX($K36:$T36),$K36:$T36,0)))","v":""},{"$f":"IFERROR(($P72/$J36),\"\")","v":""},null,{"$f":"IF(SUM(K36:T36)=0,\"\",INDEX($K36:$T36,MATCH(MIN($K36:$T36),$K36:$T36,0)))","v":""},{"$f":"IFERROR(($S72/$J36),\"\")","v":""}]
[null,null,null,null,null,null,null,null,null,null,null,null,null,null,null,{"$f":"IF(SUM(K38:T38)=0,\"\",INDEX($K38:$T38,MATCH(MAX($K38:$T38),$K38:$T38,0)))","v":""},{"$f":"IFERROR(($P73/$J38),\"\")","v":""},null,{"$f":"IF(SUM(K38:T38)=0,\"\",INDEX($K38:$T38,MATCH(MIN($K38:$T38),$K38:$T38,0)))","v":""},{"$f":"IFERROR(($S73/$J38),\"\")","v":""}]
[null,null,null,null,null,null,null,null,null,null,null,null,null,null,null,{"$f":"IF(SUM(K40:T40)=0,\"\",INDEX($K40:$T40,MATCH(MAX($K40:$T40),$K40:$T40,0)))","v":""},{"$f":"IFERROR(($P74/$J40),\"\")","v":""},null,{"$f":"IF(SUM(K40:T40)=0,\"\",INDEX($K40:$T40,MATCH(MIN($K40:$T40),$K40:$T40,0)))","v":""},{"$f":"IFERROR(($S74/$J40),\"\")","v":""}]
[null,null,null,null,null,null,null,null,null,null,null,null,"조치방법",null,"금형청소 및 조건수정"]

{"sheet":"조건기초","index":2,"n_rows":194,"n_cols":44,"rows_kept":194,"cut":false,"hidden":false,"merged":[[1,4,1,15],[3,1,3,2]]}
[]
[null,null,null,null,"조건 기초 원본 Ⅰ"]
[]
[null,"관리치수 항목 구분",null,null,"NO.","제품명","제품번호","고객","CAVITY","검사포인트","관리치수1","U S L","L S L","관리치수2","U S L","L S L","관리치수3","U S L","L S L","관리치수4","U S L","L S L","관리치수5","U S L","L S L","관리치수6","U S L","L S L","관리치수7","U S L","L S L","관리치수8","U S L","L S L","관리치수9","U S L","L S L","관리치수10","U S L","L S L","관리치수11","U S L","L S L"]
[null,"관리치수1","중량(g)",null,1,"알파메스틱 용기1","LT-A01-3A","롯데",4,3,17.8,0.8,0.8,61.7,0.8,0.8,73.900000000000006,0.8,0.8,null,null,null,null,null,null,null,null,null,null,null,null,null,null,null,null,null,null,null,null,null,null,null,null,{"$f":"E5","v":1}]
[null,"관리치수2","지름1(mm)",null,2,"알파메스틱 용기2",null,null,null,null,null,null,null,null,null,null,null,null,null,null,null,null,null,null,null,null,null,null,null,null,null,null,null,null,null,null,null,null,null,null,null,null,null,{"$f":"E6","v":2}]
[null,"관리치수3","높이1(mm)",null,3,"알파메스틱 용기3",null,null,null,null,null,null,null,null,null,null,null,null,null,null,null,null,null,null,null,null,null,null,null,null,null,null,null,null,null,null,null,null,null,null,null,null,null,{"$f":"E7","v":3}]
[null,"관리치수4","지름2(mm)",null,4,"알파메스틱 용기4",null,null,null,null,null,null,null,null,null,null,null,null,null,null,null,null,null,null,null,null,null,null,null,null,null,null,null,null,null,null,null,null,null,null,null,null,null,4]
[null,"관리치수5","높이2(mm)",null,5,"알파메스틱 용기5",null,null,null,null,null,null,null,null,null,null,null,null,null,null,null,null,null,null,null,null,null,null,null,null,null,null,null,null,null,null,null,null,null,null,null,null,null,5]
[null,"관리치수6","지름3(mm)",null,6,"알파메스틱 용기6",null,null,null,null,null,null,null,null,null,null,null,null,null,null,null,null,null,null,null,null,null,null,null,null,null,null,null,null,null,null,null,null,null,null,null,null,null,6]
[null,"관리치수7","높이3(mm)",null,7,"알파메스틱 용기7",null,null,null,null,null,null,null,null,null,null,null,null,null,null,null,null,null,null,null,null,null,null,null,null,null,null,null,null,null,null,null,null,null,null,null,null,null,7]
[null,"관리치수8","지름4(mm)",null,8,"알파메스틱 용기8",null,null,null,null,null,null,null,null,null,null,null,null,null,null,null,null,null,null,null,null,null,null,null,null,null,null,null,null,null,null,null,null,null,null,null,null,null,8]
[null,"관리치수9","높이4(mm)",null,9,"알파메스틱 용기9",null,null,null,null,null,null,null,null,null,null,null,null,null,null,null,null,null,null,null,null,null,null,null,null,null,null,null,null,null,null,null,null,null,null,null,null,null,9]
[null,"관리치수10","POINT1",null,10,"알파메스틱 용기10",null,null,null,null,null,null,null,null,null,null,null,null,null,null,null,null,null,null,null,null,null,null,null,null,null,null,null,null,null,null,null,null,null,null,null,null,null,10]
[null,"관리치수11","POINT2",null,11,"알파메스틱 용기11",null,null,null,null,null,null,null,null,null,null,null,null,null,null,null,null,null,null,null,null,null,null,null,null,null,null,null,null,null,null,null,null,null,null,null,null,null,11]
[null,null,null,null,12,"알파메스틱 용기12",null,null,null,null,null,null,null,null,null,null,null,null,null,null,null,null,null,null,null,null,null,null,null,null,null,null,null,null,null,null,null,null,null,null,null,null,null,12]
[null,null,null,null,13,"알파메스틱 용기13",null,null,null,null,null,null,null,null,null,null,null,null,null,null,null,null,null,null,null,null,null,null,null,null,null,null,null,null,null,null,null,null,null,null,null,null,null,13]
[null,null,null,null,14,"알파메스틱 용기14",null,null,null,null,null,null,null,null,null,null,null,null,null,null,null,null,null,null,null,null,null,null,null,null,null,null,null,null,null,null,null,null,null,null,null,null,null,14]
[null,null,null,null,15,"알파메스틱 용기15",null,null,null,null,null,null,null,null,null,null,null,null,null,null,null,null,null,null,null,null,null,null,null,null,null,null,null,null,null,null,null,null,null,null,null,null,null,15]
[null,null,null,null,16,"알파메스틱 용기16",null,null,null,null,null,null,null,null,null,null,null,null,null,null,null,null,null,null,null,null,null,null,null,null,null,null,null,null,null,null,null,null,null,null,null,null,null,16]
[null,null,null,null,17,"알파메스틱 용기17",null,null,null,null,null,null,null,null,null,null,null,null,null,null,null,null,null,null,null,null,null,null,null,null,null,null,null,null,null,null,null,null,null,null,null,null,null,17]
[null,null,null,null,18,"알파메스틱 용기18",null,null,null,null,null,null,null,null,null,null,null,null,null,null,null,null,null,null,null,null,null,null,null,null,null,null,null,null,null,null,null,null,null,null,null,null,null,18]
[null,null,null,null,19,"알파메스틱 용기19",null,null,null,null,null,null,null,null,null,null,null,null,null,null,null,null,null,null,null,null,null,null,null,null,null,null,null,null,null,null,null,null,null,null,null,null,null,19]
[null,null,null,null,20,"알파메스틱 용기20",null,null,null,null,null,null,null,null,null,null,null,null,null,null,null,null,null,null,null,null,null,null,null,null,null,null,null,null,null,null,null,null,null,null,null,null,null,20]
[null,null,null,null,21,"알파메스틱 용기21",null,null,null,null,null,null,null,null,null,null,null,null,null,null,null,null,null,null,null,null,null,null,null,null,null,null,null,null,null,null,null,null,null,null,null,null,null,21]
[null,null,null,null,22,"알파메스틱 용기22",null,null,null,null,null,null,null,null,null,null,null,null,null,null,null,null,null,null,null,null,null,null,null,null,null,null,null,null,null,null,null,null,null,null,null,null,null,22]
[null,null,null,null,23,"알파메스틱 용기23",null,null,null,null,null,null,null,null,null,null,null,null,null,null,null,null,null,null,null,null,null,null,null,null,null,null,null,null,null,null,null,null,null,null,null,null,null,23]
[null,null,null,null,24,"알파메스틱 용기24",null,null,null,null,null,null,null,null,null,null,null,null,null,null,null,null,null,null,null,null,null,null,null,null,null,null,null,null,null,null,null,null,null,null,null,null,null,24]
[null,null,null,null,25,"알파메스틱 용기25",null,null,null,null,null,null,null,null,null,null,null,null,null,null,null,null,null,null,null,null,null,null,null,null,null,null,null,null,null,null,null,null,null,null,null,null,null,25]
[null,null,null,null,26,"알파메스틱 용기26",null,null,null,null,null,null,null,null,null,null,null,null,null,null,null,null,null,null,null,null,null,null,null,null,null,null,null,null,null,null,null,null,null,null,null,null,null,26]
[null,null,null,null,27,"알파메스틱 용기27",null,null,null,null,null,null,null,null,null,null,null,null,null,null,null,null,null,null,null,null,null,null,null,null,null,null,null,null,null,null,null,null,null,null,null,null,null,27]
[null,null,null,null,28,"알파메스틱 용기28",null,null,null,null,null,null,null,null,null,null,null,null,null,null,null,null,null,null,null,null,null,null,null,null,null,null,null,null,null,null,null,null,null,null,null,null,null,28]
[null,null,null,null,29,"알파메스틱 용기29",null,null,null,null,null,null,null,null,null,null,null,null,null,null,null,null,null,null,null,null,null,null,null,null,null,null,null,null,null,null,null,null,null,null,null,null,null,29]
[null,null,null,null,30,"알파메스틱 용기30",null,null,null,null,null,null,null,null,null,null,null,null,null,null,null,null,null,null,null,null,null,null,null,null,null,null,null,null,null,null,null,null,null,null,null,null,null,30]
[null,null,null,null,31,"알파메스틱 용기31",null,null,null,null,null,null,null,null,null,null,null,null,null,null,null,null,null,null,null,null,null,null,null,null,null,null,null,null,null,null,null,null,null,null,null,null,null,31]
[null,null,null,null,32,"알파메스틱 용기32",null,null,null,null,null,null,null,null,null,null,null,null,null,null,null,null,null,null,null,null,null,null,null,null,null,null,null,null,null,null,null,null,null,null,null,null,null,32]
[null,null,null,null,33,"알파메스틱 용기33",null,null,null,null,null,null,null,null,null,null,null,null,null,null,null,null,null,null,null,null,null,null,null,null,null,null,null,null,null,null,null,null,null,null,null,null,null,33]
[null,null,null,null,34,"알파메스틱 용기34",null,null,null,null,null,null,null,null,null,null,null,null,null,null,null,null,null,null,null,null,null,null,null,null,null,null,null,null,null,null,null,null,null,null,null,null,null,34]
[null,null,null,null,35,"알파메스틱 용기35",null,null,null,null,null,null,null,null,null,null,null,null,null,null,null,null,null,null,null,null,null,null,null,null,null,null,null,null,null,null,null,null,null,null,null,null,null,35]
[null,null,null,null,36,"알파메스틱 용기36",null,null,null,null,null,null,null,null,null,null,null,null,null,null,null,null,null,null,null,null,null,null,null,null,null,null,null,null,null,null,null,null,null,null,null,null,null,36]
[null,null,null,null,37,"알파메스틱 용기37",null,null,null,null,null,null,null,null,null,null,null,null,null,null,null,null,null,null,null,null,null,null,null,null,null,null,null,null,null,null,null,null,null,null,null,null,null,37]
[null,null,null,null,38,"알파메스틱 용기38",null,null,null,null,null,null,null,null,null,null,null,null,null,null,null,null,null,null,null,null,null,null,null,null,null,null,null,null,null,null,null,null,null,null,null,null,null,38]
[null,null,null,null,39,"알파메스틱 용기39",null,null,null,null,null,null,null,null,null,null,null,null,null,null,null,null,null,null,null,null,null,null,null,null,null,null,null,null,null,null,null,null,null,null,null,null,null,39]
[null,null,null,null,40,"알파메스틱 용기40",null,null,null,null,null,null,null,null,null,null,null,null,null,null,null,null,null,null,null,null,null,null,null,null,null,null,null,null,null,null,null,null,null,null,null,null,null,40]
[null,null,null,null,41,"알파메스틱 용기41",null,null,null,null,null,null,null,null,null,null,null,null,null,null,null,null,null,null,null,null,null,null,null,null,null,null,null,null,null,null,null,null,null,null,null,null,null,41]
[null,null,null,null,42,"알파메스틱 용기42",null,null,null,null,null,null,null,null,null,null,null,null,null,null,null,null,null,null,null,null,null,null,null,null,null,null,null,null,null,null,null,null,null,null,null,null,null,42]
[null,null,null,null,43,"알파메스틱 용기43",null,null,null,null,null,null,null,null,null,null,null,null,null,null,null,null,null,null,null,null,null,null,null,null,null,null,null,null,null,null,null,null,null,null,null,null,null,43]
[null,null,null,null,44,"알파메스틱 용기44",null,null,null,null,null,null,null,null,null,null,null,null,null,null,null,null,null,null,null,null,null,null,null,null,null,null,null,null,null,null,null,null,null,null,null,null,null,44]
[null,null,null,null,45,"알파메스틱 용기45",null,null,null,null,null,null,null,null,null,null,null,null,null,null,null,null,null,null,null,null,null,null,null,null,null,null,null,null,null,null,null,null,null,null,null,null,null,45]
[null,null,null,null,46,"알파메스틱 용기46",null,null,null,null,null,null,null,null,null,null,null,null,null,null,null,null,null,null,null,null,null,null,null,null,null,null,null,null,null,null,null,null,null,null,null,null,null,46]
[null,null,null,null,47,"알파메스틱 용기47",null,null,null,null,null,null,null,null,null,null,null,null,null,null,null,null,null,null,null,null,null,null,null,null,null,null,null,null,null,null,null,null,null,null,null,null,null,47]
[null,null,null,null,48,"알파메스틱 용기48",null,null,null,null,null,null,null,null,null,null,null,null,null,null,null,null,null,null,null,null,null,null,null,null,null,null,null,null,null,null,null,null,null,null,null,null,null,48]
[null,null,null,null,49,"알파메스틱 용기49",null,null,null,null,null,null,null,null,null,null,null,null,null,null,null,null,null,null,null,null,null,null,null,null,null,null,null,null,null,null,null,null,null,null,null,null,null,49]
[null,null,null,null,50,"알파메스틱 용기50",null,null,null,null,null,null,null,null,null,null,null,null,null,null,null,null,null,null,null,null,null,null,null,null,null,null,null,null,null,null,null,null,null,null,null,null,null,50]
[null,null,null,null,51,"알파메스틱 용기51",null,null,null,null,null,null,null,null,null,null,null,null,null,null,null,null,null,null,null,null,null,null,null,null,null,null,null,null,null,null,null,null,null,null,null,null,null,51]
[null,null,null,null,52,"알파메스틱 용기52",null,null,null,null,null,null,null,null,null,null,null,null,null,null,null,null,null,null,null,null,null,null,null,null,null,null,null,null,null,null,null,null,null,null,null,null,null,52]
[null,null,null,null,53,"알파메스틱 용기53",null,null,null,null,null,null,null,null,null,null,null,null,null,null,null,null,null,null,null,null,null,null,null,null,null,null,null,null,null,null,null,null,null,null,null,null,null,53]
[null,null,null,null,54,"알파메스틱 용기54",null,null,null,null,null,null,null,null,null,null,null,null,null,null,null,null,null,null,null,null,null,null,null,null,null,null,null,null,null,null,null,null,null,null,null,null,null,54]
[null,null,null,null,55,"알파메스틱 용기55",null,null,null,null,null,null,null,null,null,null,null,null,null,null,null,null,null,null,null,null,null,null,null,null,null,null,null,null,null,null,null,null,null,null,null,null,null,55]
[null,null,null,null,56,"알파메스틱 용기56",null,null,null,null,null,null,null,null,null,null,null,null,null,null,null,null,null,null,null,null,null,null,null,null,null,null,null,null,null,null,null,null,null,null,null,null,null,56]
[null,null,null,null,57,"알파메스틱 용기57",null,null,null,null,null,null,null,null,null,null,null,null,null,null,null,null,null,null,null,null,null,null,null,null,null,null,null,null,null,null,null,null,null,null,null,null,null,57]
[null,null,null,null,58,"알파메스틱 용기58",null,null,null,null,null,null,null,null,null,null,null,null,null,null,null,null,null,null,null,null,null,null,null,null,null,null,null,null,null,null,null,null,null,null,null,null,null,58]
[null,null,null,null,59,"알파메스틱 용기59",null,null,null,null,null,null,null,null,null,null,null,null,null,null,null,null,null,null,null,null,null,null,null,null,null,null,null,null,null,null,null,null,null,null,null,null,null,59]
[null,null,null,null,60,"알파메스틱 용기60",null,null,null,null,null,null,null,null,null,null,null,null,null,null,null,null,null,null,null,null,null,null,null,null,null,null,null,null,null,null,null,null,null,null,null,null,null,60]
[null,null,null,null,61,"알파메스틱 용기61",null,null,null,null,null,null,null,null,null,null,null,null,null,null,null,null,null,null,null,null,null,null,null,null,null,null,null,null,null,null,null,null,null,null,null,null,null,61]
[null,null,null,null,62,"알파메스틱 용기62",null,null,null,null,null,null,null,null,null,null,null,null,null,null,null,null,null,null,null,null,null,null,null,null,null,null,null,null,null,null,null,null,null,null,null,null,null,62]
[null,null,null,null,63,"알파메스틱 용기63",null,null,null,null,null,null,null,null,null,null,null,null,null,null,null,null,null,null,null,null,null,null,null,null,null,null,null,null,null,null,null,null,null,null,null,null,null,63]
[null,null,null,null,64,"알파메스틱 용기64",null,null,null,null,null,null,null,null,null,null,null,null,null,null,null,null,null,null,null,null,null,null,null,null,null,null,null,null,null,null,null,null,null,null,null,null,null,64]
[null,null,null,null,65,"알파메스틱 용기65",null,null,null,null,null,null,null,null,null,null,null,null,null,null,null,null,null,null,null,null,null,null,null,null,null,null,null,null,null,null,null,null,null,null,null,null,null,65]
[null,null,null,null,66,"알파메스틱 용기66",null,null,null,null,null,null,null,null,null,null,null,null,null,null,null,null,null,null,null,null,null,null,null,null,null,null,null,null,null,null,null,null,null,null,null,null,null,66]
[null,null,null,null,67,"알파메스틱 용기67",null,null,null,null,null,null,null,null,null,null,null,null,null,null,null,null,null,null,null,null,null,null,null,null,null,null,null,null,null,null,null,null,null,null,null,null,null,{"$f":"E71","v":67}]
[null,null,null,null,68,"알파메스틱 용기68",null,null,null,null,null,null,null,null,null,null,null,null,null,null,null,null,null,null,null,null,null,null,null,null,null,null,null,null,null,null,null,null,null,null,null,null,null,68]
[null,null,null,null,69,"알파메스틱 용기69",null,null,null,null,null,null,null,null,null,null,null,null,null,null,null,null,null,null,null,null,null,null,null,null,null,null,null,null,null,null,null,null,null,null,null,null,null,69]
[null,null,null,null,70,"알파메스틱 용기70",null,null,null,null,null,null,null,null,null,null,null,null,null,null,null,null,null,null,null,null,null,null,null,null,null,null,null,null,null,null,null,null,null,null,null,null,null,70]
[null,null,null,null,71,"알파메스틱 용기71",null,null,null,null,null,null,null,null,null,null,null,null,null,null,null,null,null,null,null,null,null,null,null,null,null,null,null,null,null,null,null,null,null,null,null,null,null,71]
[null,null,null,null,72,"알파메스틱 용기72",null,null,null,null,null,null,null,null,null,null,null,null,null,null,null,null,null,null,null,null,null,null,null,null,null,null,null,null,null,null,null,null,null,null,null,null,null,72]
[null,null,null,null,73,"알파메스틱 용기73",null,null,null,null,null,null,null,null,null,null,null,null,null,null,null,null,null,null,null,null,null,null,null,null,null,null,null,null,null,null,null,null,null,null,null,null,null,73]
[null,null,null,null,74,"알파메스틱 용기74",null,null,null,null,null,null,null,null,null,null,null,null,null,null,null,null,null,null,null,null,null,null,null,null,null,null,null,null,null,null,null,null,null,null,null,null,null,74]
[null,null,null,null,75,"알파메스틱 용기75",null,null,null,null,null,null,null,null,null,null,null,null,null,null,null,null,null,null,null,null,null,null,null,null,null,null,null,null,null,null,null,null,null,null,null,null,null,75]
[null,null,null,null,76,"알파메스틱 용기76",null,null,null,null,null,null,null,null,null,null,null,null,null,null,null,null,null,null,null,null,null,null,null,null,null,null,null,null,null,null,null,null,null,null,null,null,null,76]
[null,null,null,null,77,"알파메스틱 용기77",null,null,null,null,null,null,null,null,null,null,null,null,null,null,null,null,null,null,null,null,null,null,null,null,null,null,null,null,null,null,null,null,null,null,null,null,null,77]
[null,null,null,null,78,"알파메스틱 용기78",null,null,null,null,null,null,null,null,null,null,null,null,null,null,null,null,null,null,null,null,null,null,null,null,null,null,null,null,null,null,null,null,null,null,null,null,null,78]
[null,null,null,null,79,"알파메스틱 용기79",null,null,null,null,null,null,null,null,null,null,null,null,null,null,null,null,null,null,null,null,null,null,null,null,null,null,null,null,null,null,null,null,null,null,null,null,null,79]
[null,null,null,null,80,"알파메스틱 용기80",null,null,null,null,null,null,null,null,null,null,null,null,null,null,null,null,null,null,null,null,null,null,null,null,null,null,null,null,null,null,null,null,null,null,null,null,null,80]
[null,null,null,null,81,"알파메스틱 용기81",null,null,null,null,null,null,null,null,null,null,null,null,null,null,null,null,null,null,null,null,null,null,null,null,null,null,null,null,null,null,null,null,null,null,null,null,null,81]
[null,null,null,null,82,"알파메스틱 용기82",null,null,null,null,null,null,null,null,null,null,null,null,null,null,null,null,null,null,null,null,null,null,null,null,null,null,null,null,null,null,null,null,null,null,null,null,null,82]
[null,null,null,null,83,"알파메스틱 용기83",null,null,null,null,null,null,null,null,null,null,null,null,null,null,null,null,null,null,null,null,null,null,null,null,null,null,null,null,null,null,null,null,null,null,null,null,null,83]
[null,null,null,null,84,"알파메스틱 용기84",null,null,null,null,null,null,null,null,null,null,null,null,null,null,null,null,null,null,null,null,null,null,null,null,null,null,null,null,null,null,null,null,null,null,null,null,null,84]
[null,null,null,null,85,"알파메스틱 용기85",null,null,null,null,null,null,null,null,null,null,null,null,null,null,null,null,null,null,null,null,null,null,null,null,null,null,null,null,null,null,null,null,null,null,null,null,null,85]
[null,null,null,null,86,"알파메스틱 용기86",null,null,null,null,null,null,null,null,null,null,null,null,null,null,null,null,null,null,null,null,null,null,null,null,null,null,null,null,null,null,null,null,null,null,null,null,null,86]
[null,null,null,null,87,"알파메스틱 용기87",null,null,null,null,null,null,null,null,null,null,null,null,null,null,null,null,null,null,null,null,null,null,null,null,null,null,null,null,null,null,null,null,null,null,null,null,null,87]
[null,null,null,null,88,"알파메스틱 용기88",null,null,null,null,null,null,null,null,null,null,null,null,null,null,null,null,null,null,null,null,null,null,null,null,null,null,null,null,null,null,null,null,null,null,null,null,null,88]
[null,null,null,null,89,"알파메스틱 용기89",null,null,null,null,null,null,null,null,null,null,null,null,null,null,null,null,null,null,null,null,null,null,null,null,null,null,null,null,null,null,null,null,null,null,null,null,null,89]
[null,null,null,null,90,"알파메스틱 용기90",null,null,null,null,null,null,null,null,null,null,null,null,null,null,null,null,null,null,null,null,null,null,null,null,null,null,null,null,null,null,null,null,null,null,null,null,null,90]
[null,null,null,null,91,"알파메스틱 용기91",null,null,null,null,null,null,null,null,null,null,null,null,null,null,null,null,null,null,null,null,null,null,null,null,null,null,null,null,null,null,null,null,null,null,null,null,null,91]
[null,null,null,null,92,"알파메스틱 용기92",null,null,null,null,null,null,null,null,null,null,null,null,null,null,null,null,null,null,null,null,null,null,null,null,null,null,null,null,null,null,null,null,null,null,null,null,null,92]
[null,null,null,null,93,"알파메스틱 용기93",null,null,null,null,null,null,null,null,null,null,null,null,null,null,null,null,null,null,null,null,null,null,null,null,null,null,null,null,null,null,null,null,null,null,null,null,null,93]
[null,null,null,null,94,"알파메스틱 용기94",null,null,null,null,null,null,null,null,null,null,null,null,null,null,null,null,null,null,null,null,null,null,null,null,null,null,null,null,null,null,null,null,null,null,null,null,null,94]
[null,null,null,null,95,"알파메스틱 용기95",null,null,null,null,null,null,null,null,null,null,null,null,null,null,null,null,null,null,null,null,null,null,null,null,null,null,null,null,null,null,null,null,null,null,null,null,null,95]
[null,null,null,null,96,"알파메스틱 용기96",null,null,null,null,null,null,null,null,null,null,null,null,null,null,null,null,null,null,null,null,null,null,null,null,null,null,null,null,null,null,null,null,null,null,null,null,null,96]
[null,null,null,null,97,"알파메스틱 용기97",null,null,null,null,null,null,null,null,null,null,null,null,null,null,null,null,null,null,null,null,null,null,null,null,null,null,null,null,null,null,null,null,null,null,null,null,null,97]
[null,null,null,null,98,"알파메스틱 용기98",null,null,null,null,null,null,null,null,null,null,null,null,null,null,null,null,null,null,null,null,null,null,null,null,null,null,null,null,null,null,null,null,null,null,null,null,null,98]
[null,null,null,null,99,"알파메스틱 용기99",null,null,null,null,null,null,null,null,null,null,null,null,null,null,null,null,null,null,null,null,null,null,null,null,null,null,null,null,null,null,null,null,null,null,null,null,null,99]
[null,null,null,null,100,"알파메스틱 용기100",null,null,null,null,null,null,null,null,null,null,null,null,null,null,null,null,null,null,null,null,null,null,null,null,null,null,null,null,null,null,null,null,null,null,null,null,null,100]
[null,null,null,null,101,"알파메스틱 용기101",null,null,null,null,null,null,null,null,null,null,null,null,null,null,null,null,null,null,null,null,null,null,null,null,null,null,null,null,null,null,null,null,null,null,null,null,null,101]
[null,null,null,null,102,"알파메스틱 용기102",null,null,null,null,null,null,null,null,null,null,null,null,null,null,null,null,null,null,null,null,null,null,null,null,null,null,null,null,null,null,null,null,null,null,null,null,null,102]
[null,null,null,null,103,"알파메스틱 용기103",null,null,null,null,null,null,null,null,null,null,null,null,null,null,null,null,null,null,null,null,null,null,null,null,null,null,null,null,null,null,null,null,null,null,null,null,null,103]
[null,null,null,null,104,"알파메스틱 용기104",null,null,null,null,null,null,null,null,null,null,null,null,null,null,null,null,null,null,null,null,null,null,null,null,null,null,null,null,null,null,null,null,null,null,null,null,null,104]
[null,null,null,null,105,"알파메스틱 용기105",null,null,null,null,null,null,null,null,null,null,null,null,null,null,null,null,null,null,null,null,null,null,null,null,null,null,null,null,null,null,null,null,null,null,null,null,null,105]
[null,null,null,null,106,"알파메스틱 용기106",null,null,null,null,null,null,null,null,null,null,null,null,null,null,null,null,null,null,null,null,null,null,null,null,null,null,null,null,null,null,null,null,null,null,null,null,null,106]
[null,null,null,null,107,"알파메스틱 용기107",null,null,null,null,null,null,null,null,null,null,null,null,null,null,null,null,null,null,null,null,null,null,null,null,null,null,null,null,null,null,null,null,null,null,null,null,null,107]
[null,null,null,null,108,"알파메스틱 용기108",null,null,null,null,null,null,null,null,null,null,null,null,null,null,null,null,null,null,null,null,null,null,null,null,null,null,null,null,null,null,null,null,null,null,null,null,null,108]
[null,null,null,null,109,"알파메스틱 용기109",null,null,null,null,null,null,null,null,null,null,null,null,null,null,null,null,null,null,null,null,null,null,null,null,null,null,null,null,null,null,null,null,null,null,null,null,null,109]
[null,null,null,null,110,"알파메스틱 용기110",null,null,null,null,null,null,null,null,null,null,null,null,null,null,null,null,null,null,null,null,null,null,null,null,null,null,null,null,null,null,null,null,null,null,null,null,null,110]
[null,null,null,null,111,"알파메스틱 용기111",null,null,null,null,null,null,null,null,null,null,null,null,null,null,null,null,null,null,null,null,null,null,null,null,null,null,null,null,null,null,null,null,null,null,null,null,null,111]
[null,null,null,null,112,"알파메스틱 용기112",null,null,null,null,null,null,null,null,null,null,null,null,null,null,null,null,null,null,null,null,null,null,null,null,null,null,null,null,null,null,null,null,null,null,null,null,null,112]
[null,null,null,null,113,"알파메스틱 용기113",null,null,null,null,null,null,null,null,null,null,null,null,null,null,null,null,null,null,null,null,null,null,null,null,null,null,null,null,null,null,null,null,null,null,null,null,null,113]
[null,null,null,null,114,"알파메스틱 용기114",null,null,null,null,null,null,null,null,null,null,null,null,null,null,null,null,null,null,null,null,null,null,null,null,null,null,null,null,null,null,null,null,null,null,null,null,null,114]
[null,null,null,null,115,"알파메스틱 용기115",null,null,null,null,null,null,null,null,null,null,null,null,null,null,null,null,null,null,null,null,null,null,null,null,null,null,null,null,null,null,null,null,null,null,null,null,null,115]
[null,null,null,null,116,"알파메스틱 용기116",null,null,null,null,null,null,null,null,null,null,null,null,null,null,null,null,null,null,null,null,null,null,null,null,null,null,null,null,null,null,null,null,null,null,null,null,null,116]
[null,null,null,null,117,"알파메스틱 용기117",null,null,null,null,null,null,null,null,null,null,null,null,null,null,null,null,null,null,null,null,null,null,null,null,null,null,null,null,null,null,null,null,null,null,null,null,null,117]
[null,null,null,null,118,"알파메스틱 용기118",null,null,null,null,null,null,null,null,null,null,null,null,null,null,null,null,null,null,null,null,null,null,null,null,null,null,null,null,null,null,null,null,null,null,null,null,null,118]
[null,null,null,null,119,"알파메스틱 용기119",null,null,null,null,null,null,null,null,null,null,null,null,null,null,null,null,null,null,null,null,null,null,null,null,null,null,null,null,null,null,null,null,null,null,null,null,null,119]
[null,null,null,null,120,"알파메스틱 용기120",null,null,null,null,null,null,null,null,null,null,null,null,null,null,null,null,null,null,null,null,null,null,null,null,null,null,null,null,null,null,null,null,null,null,null,null,null,120]
[null,null,null,null,121,"알파메스틱 용기121",null,null,null,null,null,null,null,null,null,null,null,null,null,null,null,null,null,null,null,null,null,null,null,null,null,null,null,null,null,null,null,null,null,null,null,null,null,121]
[null,null,null,null,122,"알파메스틱 용기122",null,null,null,null,null,null,null,null,null,null,null,null,null,null,null,null,null,null,null,null,null,null,null,null,null,null,null,null,null,null,null,null,null,null,null,null,null,122]
[null,null,null,null,123,"알파메스틱 용기123",null,null,null,null,null,null,null,null,null,null,null,null,null,null,null,null,null,null,null,null,null,null,null,null,null,null,null,null,null,null,null,null,null,null,null,null,null,123]
[null,null,null,null,124,"알파메스틱 용기124",null,null,null,null,null,null,null,null,null,null,null,null,null,null,null,null,null,null,null,null,null,null,null,null,null,null,null,null,null,null,null,null,null,null,null,null,null,124]
[null,null,null,null,125,"알파메스틱 용기125",null,null,null,null,null,null,null,null,null,null,null,null,null,null,null,null,null,null,null,null,null,null,null,null,null,null,null,null,null,null,null,null,null,null,null,null,null,125]
[null,null,null,null,126,"알파메스틱 용기126",null,null,null,null,null,null,null,null,null,null,null,null,null,null,null,null,null,null,null,null,null,null,null,null,null,null,null,null,null,null,null,null,null,null,null,null,null,126]
[null,null,null,null,127,"알파메스틱 용기127",null,null,null,null,null,null,null,null,null,null,null,null,null,null,null,null,null,null,null,null,null,null,null,null,null,null,null,null,null,null,null,null,null,null,null,null,null,127]
[null,null,null,null,128,"알파메스틱 용기128",null,null,null,null,null,null,null,null,null,null,null,null,null,null,null,null,null,null,null,null,null,null,null,null,null,null,null,null,null,null,null,null,null,null,null,null,null,128]
[null,null,null,null,129,"알파메스틱 용기129",null,null,null,null,null,null,null,null,null,null,null,null,null,null,null,null,null,null,null,null,null,null,null,null,null,null,null,null,null,null,null,null,null,null,null,null,null,129]
[null,null,null,null,130,"알파메스틱 용기130",null,null,null,null,null,null,null,null,null,null,null,null,null,null,null,null,null,null,null,null,null,null,null,null,null,null,null,null,null,null,null,null,null,null,null,null,null,130]
[null,null,null,null,131,"알파메스틱 용기131",null,null,null,null,null,null,null,null,null,null,null,null,null,null,null,null,null,null,null,null,null,null,null,null,null,null,null,null,null,null,null,null,null,null,null,null,null,{"$f":"E135","v":131}]
[null,null,null,null,132,null,null,null,null,null,null,null,null,null,null,null,null,null,null,null,null,null,null,null,null,null,null,null,null,null,null,null,null,null,null,null,null,null,null,null,null,null,null,132]
[null,null,null,null,133,null,null,null,null,null,null,null,null,null,null,null,null,null,null,null,null,null,null,null,null,null,null,null,null,null,null,null,null,null,null,null,null,null,null,null,null,null,null,133]
[null,null,null,null,134,null,null,null,null,null,null,null,null,null,null,null,null,null,null,null,null,null,null,null,null,null,null,null,null,null,null,null,null,null,null,null,null,null,null,null,null,null,null,134]
[null,null,null,null,135,null,null,null,null,null,null,null,null,null,null,null,null,null,null,null,null,null,null,null,null,null,null,null,null,null,null,null,null,null,null,null,null,null,null,null,null,null,null,135]
[null,null,null,null,136,null,null,null,null,null,null,null,null,null,null,null,null,null,null,null,null,null,null,null,null,null,null,null,null,null,null,null,null,null,null,null,null,null,null,null,null,null,null,136]
[null,null,null,null,137,null,null,null,null,null,null,null,null,null,null,null,null,null,null,null,null,null,null,null,null,null,null,null,null,null,null,null,null,null,null,null,null,null,null,null,null,null,null,137]
[null,null,null,null,138,null,null,null,null,null,null,null,null,null,null,null,null,null,null,null,null,null,null,null,null,null,null,null,null,null,null,null,null,null,null,null,null,null,null,null,null,null,null,138]
[null,null,null,null,139,null,null,null,null,null,null,null,null,null,null,null,null,null,null,null,null,null,null,null,null,null,null,null,null,null,null,null,null,null,null,null,null,null,null,null,null,null,null,139]
[null,null,null,null,140,null,null,null,null,null,null,null,null,null,null,null,null,null,null,null,null,null,null,null,null,null,null,null,null,null,null,null,null,null,null,null,null,null,null,null,null,null,null,140]
[null,null,null,null,141,null,null,null,null,null,null,null,null,null,null,null,null,null,null,null,null,null,null,null,null,null,null,null,null,null,null,null,null,null,null,null,null,null,null,null,null,null,null,141]
[null,null,null,null,142,null,null,null,null,null,null,null,null,null,null,null,null,null,null,null,null,null,null,null,null,null,null,null,null,null,null,null,null,null,null,null,null,null,null,null,null,null,null,142]
[null,null,null,null,143,null,null,null,null,null,null,null,null,null,null,null,null,null,null,null,null,null,null,null,null,null,null,null,null,null,null,null,null,null,null,null,null,null,null,null,null,null,null,143]
[null,null,null,null,144,null,null,null,null,null,null,null,null,null,null,null,null,null,null,null,null,null,null,null,null,null,null,null,null,null,null,null,null,null,null,null,null,null,null,null,null,null,null,144]
[null,null,null,null,145,null,null,null,null,null,null,null,null,null,null,null,null,null,null,null,null,null,null,null,null,null,null,null,null,null,null,null,null,null,null,null,null,null,null,null,null,null,null,145]
[null,null,null,null,146,null,null,null,null,null,null,null,null,null,null,null,null,null,null,null,null,null,null,null,null,null,null,null,null,null,null,null,null,null,null,null,null,null,null,null,null,null,null,146]
[null,null,null,null,147,null,null,null,null,null,null,null,null,null,null,null,null,null,null,null,null,null,null,null,null,null,null,null,null,null,null,null,null,null,null,null,null,null,null,null,null,null,null,147]
[null,null,null,null,148,null,null,null,null,null,null,null,null,null,null,null,null,null,null,null,null,null,null,null,null,null,null,null,null,null,null,null,null,null,null,null,null,null,null,null,null,null,null,148]
[null,null,null,null,149,null,null,null,null,null,null,null,null,null,null,null,null,null,null,null,null,null,null,null,null,null,null,null,null,null,null,null,null,null,null,null,null,null,null,null,null,null,null,149]
[null,null,null,null,150,null,null,null,null,null,null,null,null,null,null,null,null,null,null,null,null,null,null,null,null,null,null,null,null,null,null,null,null,null,null,null,null,null,null,null,null,null,null,150]
[null,null,null,null,151,null,null,null,null,null,null,null,null,null,null,null,null,null,null,null,null,null,null,null,null,null,null,null,null,null,null,null,null,null,null,null,null,null,null,null,null,null,null,151]
[null,null,null,null,152,null,null,null,null,null,null,null,null,null,null,null,null,null,null,null,null,null,null,null,null,null,null,null,null,null,null,null,null,null,null,null,null,null,null,null,null,null,null,152]
[null,null,null,null,153,null,null,null,null,null,null,null,null,null,null,null,null,null,null,null,null,null,null,null,null,null,null,null,null,null,null,null,null,null,null,null,null,null,null,null,null,null,null,153]
[null,null,null,null,154,null,null,null,null,null,null,null,null,null,null,null,null,null,null,null,null,null,null,null,null,null,null,null,null,null,null,null,null,null,null,null,null,null,null,null,null,null,null,154]
[null,null,null,null,155,null,null,null,null,null,null,null,null,null,null,null,null,null,null,null,null,null,null,null,null,null,null,null,null,null,null,null,null,null,null,null,null,null,null,null,null,null,null,155]
[null,null,null,null,156,null,null,null,null,null,null,null,null,null,null,null,null,null,null,null,null,null,null,null,null,null,null,null,null,null,null,null,null,null,null,null,null,null,null,null,null,null,null,156]
[null,null,null,null,157,null,null,null,null,null,null,null,null,null,null,null,null,null,null,null,null,null,null,null,null,null,null,null,null,null,null,null,null,null,null,null,null,null,null,null,null,null,null,157]
[null,null,null,null,158,null,null,null,null,null,null,null,null,null,null,null,null,null,null,null,null,null,null,null,null,null,null,null,null,null,null,null,null,null,null,null,null,null,null,null,null,null,null,158]
[null,null,null,null,159,null,null,null,null,null,null,null,null,null,null,null,null,null,null,null,null,null,null,null,null,null,null,null,null,null,null,null,null,null,null,null,null,null,null,null,null,null,null,159]
[null,null,null,null,160,null,null,null,null,null,null,null,null,null,null,null,null,null,null,null,null,null,null,null,null,null,null,null,null,null,null,null,null,null,null,null,null,null,null,null,null,null,null,160]
[null,null,null,null,161,null,null,null,null,null,null,null,null,null,null,null,null,null,null,null,null,null,null,null,null,null,null,null,null,null,null,null,null,null,null,null,null,null,null,null,null,null,null,161]
[null,null,null,null,162,null,null,null,null,null,null,null,null,null,null,null,null,null,null,null,null,null,null,null,null,null,null,null,null,null,null,null,null,null,null,null,null,null,null,null,null,null,null,162]
[null,null,null,null,163,null,null,null,null,null,null,null,null,null,null,null,null,null,null,null,null,null,null,null,null,null,null,null,null,null,null,null,null,null,null,null,null,null,null,null,null,null,null,163]
[null,null,null,null,164,null,null,null,null,null,null,null,null,null,null,null,null,null,null,null,null,null,null,null,null,null,null,null,null,null,null,null,null,null,null,null,null,null,null,null,null,null,null,164]
[null,null,null,null,165,null,null,null,null,null,null,null,null,null,null,null,null,null,null,null,null,null,null,null,null,null,null,null,null,null,null,null,null,null,null,null,null,null,null,null,null,null,null,165]
[null,null,null,null,166,null,null,null,null,null,null,null,null,null,null,null,null,null,null,null,null,null,null,null,null,null,null,null,null,null,null,null,null,null,null,null,null,null,null,null,null,null,null,166]
[null,null,null,null,167,null,null,null,null,null,null,null,null,null,null,null,null,null,null,null,null,null,null,null,null,null,null,null,null,null,null,null,null,null,null,null,null,null,null,null,null,null,null,167]
[null,null,null,null,168,null,null,null,null,null,null,null,null,null,null,null,null,null,null,null,null,null,null,null,null,null,null,null,null,null,null,null,null,null,null,null,null,null,null,null,null,null,null,168]
[null,null,null,null,169,null,null,null,null,null,null,null,null,null,null,null,null,null,null,null,null,null,null,null,null,null,null,null,null,null,null,null,null,null,null,null,null,null,null,null,null,null,null,169]
[null,null,null,null,170,null,null,null,null,null,null,null,null,null,null,null,null,null,null,null,null,null,null,null,null,null,null,null,null,null,null,null,null,null,null,null,null,null,null,null,null,null,null,170]
[null,null,null,null,171,null,null,null,null,null,null,null,null,null,null,null,null,null,null,null,null,null,null,null,null,null,null,null,null,null,null,null,null,null,null,null,null,null,null,null,null,null,null,171]
[null,null,null,null,172,null,null,null,null,null,null,null,null,null,null,null,null,null,null,null,null,null,null,null,null,null,null,null,null,null,null,null,null,null,null,null,null,null,null,null,null,null,null,172]
[null,null,null,null,173,null,null,null,null,null,null,null,null,null,null,null,null,null,null,null,null,null,null,null,null,null,null,null,null,null,null,null,null,null,null,null,null,null,null,null,null,null,null,173]
[null,null,null,null,174,null,null,null,null,null,null,null,null,null,null,null,null,null,null,null,null,null,null,null,null,null,null,null,null,null,null,null,null,null,null,null,null,null,null,null,null,null,null,174]
[null,null,null,null,175,null,null,null,null,null,null,null,null,null,null,null,null,null,null,null,null,null,null,null,null,null,null,null,null,null,null,null,null,null,null,null,null,null,null,null,null,null,null,175]
[null,null,null,null,176,null,null,null,null,null,null,null,null,null,null,null,null,null,null,null,null,null,null,null,null,null,null,null,null,null,null,null,null,null,null,null,null,null,null,null,null,null,null,176]
[null,null,null,null,177,null,null,null,null,null,null,null,null,null,null,null,null,null,null,null,null,null,null,null,null,null,null,null,null,null,null,null,null,null,null,null,null,null,null,null,null,null,null,177]
[null,null,null,null,178,null,null,null,null,null,null,null,null,null,null,null,null,null,null,null,null,null,null,null,null,null,null,null,null,null,null,null,null,null,null,null,null,null,null,null,null,null,null,178]
[null,null,null,null,179,null,null,null,null,null,null,null,null,null,null,null,null,null,null,null,null,null,null,null,null,null,null,null,null,null,null,null,null,null,null,null,null,null,null,null,null,null,null,179]
[null,null,null,null,180,null,null,null,null,null,null,null,null,null,null,null,null,null,null,null,null,null,null,null,null,null,null,null,null,null,null,null,null,null,null,null,null,null,null,null,null,null,null,180]
[null,null,null,null,181,null,null,null,null,null,null,null,null,null,null,null,null,null,null,null,null,null,null,null,null,null,null,null,null,null,null,null,null,null,null,null,null,null,null,null,null,null,null,181]
[null,null,null,null,182,null,null,null,null,null,null,null,null,null,null,null,null,null,null,null,null,null,null,null,null,null,null,null,null,null,null,null,null,null,null,null,null,null,null,null,null,null,null,182]
[null,null,null,null,183,null,null,null,null,null,null,null,null,null,null,null,null,null,null,null,null,null,null,null,null,null,null,null,null,null,null,null,null,null,null,null,null,null,null,null,null,null,null,183]
[null,null,null,null,184,null,null,null,null,null,null,null,null,null,null,null,null,null,null,null,null,null,null,null,null,null,null,null,null,null,null,null,null,null,null,null,null,null,null,null,null,null,null,184]
[null,null,null,null,185,null,null,null,null,null,null,null,null,null,null,null,null,null,null,null,null,null,null,null,null,null,null,null,null,null,null,null,null,null,null,null,null,null,null,null,null,null,null,185]
[null,null,null,null,186,null,null,null,null,null,null,null,null,null,null,null,null,null,null,null,null,null,null,null,null,null,null,null,null,null,null,null,null,null,null,null,null,null,null,null,null,null,null,186]
[null,null,null,null,187,null,null,null,null,null,null,null,null,null,null,null,null,null,null,null,null,null,null,null,null,null,null,null,null,null,null,null,null,null,null,null,null,null,null,null,null,null,null,187]
[null,null,null,null,188,null,null,null,null,null,null,null,null,null,null,null,null,null,null,null,null,null,null,null,null,null,null,null,null,null,null,null,null,null,null,null,null,null,null,null,null,null,null,188]
[null,null,null,null,189,null,null,null,null,null,null,null,null,null,null,null,null,null,null,null,null,null,null,null,null,null,null,null,null,null,null,null,null,null,null,null,null,null,null,null,null,null,null,189]
[null,null,null,null,190,1,1,1,null,1,1,1,1,1,1,1,1,1,1,1,1,1,1,1,1,1,1,1,1,1,1,1,1,1,1,1,1,1,1,1,1,1,1,190]

{"sheet":"사진자료11","index":3,"n_rows":102,"n_cols":14,"rows_kept":102,"cut":false,"hidden":true,"merged":[[74,1,82,1],[74,2,82,5],[74,6,82,9],[1,2,1,5],[1,6,1,9],[2,2,10,5],[2,6,10,9],[11,2,19,5],[11,6,19,9],[29,2,37,5],[29,6,37,9],[29,1,37,1],[2,1,10,1],[11,1,19,1],[20,1,28,1],[20,2,28,5],[20,6,28,9],[38,1,46,1],[38,2,46,5],[38,6,46,9],[47,1,55,1],[47,2,55,5],[47,6,55,9],[56,1,64,1],[56,2,64,5],[56,6,64,9],[65,1,73,1],[65,2,73,5],[65,6,73,9],[101,2,112,6],[101,7,112,11],[101,1,112,1],[83,1,91,1],[83,2,91,5],[83,6,91,9],[92,1,100,1],[92,2,100,5],[92,6,100,9]]}
[]
[null,"일 자","최다불량",null,null,null,"금일이슈"]
[null,"2014-11-12","사진넣기",null,null,null,"사진넣기"]
[]
[]
[]
[]
[]
[]
[]
[]
[null,"2014-11-13","사진넣기",null,null,null,"사진넣기",null,null,null,"√ 금일 이슈 사항은 ① 미떼용기 금형이상 내측하단 버(cav.1)발생과 ② 미떼캡 닫힘불량(cav.2)"]
[null,null,null,null,null,null,null,null,null,null,"  ③ 펌프대캡 금형이상 버발생, ④ 펌프외병 cav.4 일시막힘 현상으로 버(cav.전체) 발생입니다."]
[null,null,null,null,null,null,null,null,null,null,"√ ① 미떼용기는 보고 후 추후 금형수리, ② 미떼캡(cav.2) 재막음,  ③ 펌프대캡은 작업 중단 후"]
[null,null,null,null,null,null,null,null,null,null,"   금형수리 및 조건수정, 제품 재선별 조치 하였으며, ④ 펌프외병 온도↑설정 조치 하였습니다."]
[null,null,null,null,null,null,null,null,null,null,"금형수리, 금형청소, 막음 조치"]
[]
[]
[]
[]
[null,"2014-11-14","사진넣기",null,null,null,"사진넣기",null,null,null,"√ 금일 이슈 사항은 ① 펌프용기 미성형(cav.1) 발생 입니다. (불량 검사 미진행)"]
[null,null,null,null,null,null,null,null,null,null,"   미떼캡 불량 수량 부족으로 검사 미진행 되었습니다."]
[null,null,null,null,null,null,null,null,null,null,"√ 금형청소 및 조건 수정하였고, 펌프용기는 오전 중 작업 중지로 불량 조치 하였습니다."]
[null,null,null,null,null,null,null,null,null,null,"금형청소 및 조건 수정"]
[]
[]
[]
[]
[]
[null,"2014-11-17","사진넣기",null,null,null,"사진넣기",null,null,null,"√ 금일 이슈 사항은 ① 미떼캡 전.측면 크렉과 웰더 현상이 함께 발생되는 것과, "]
[null,null,null,null,null,null,null,null,null,null,"   ② 알파용기 기름(cav.2), ③ 알파중캡 고리부분 크렉(cav.4) 발생입니다. (일부 불량처리) "]
[null,null,null,null,null,null,null,null,null,null,"√ 조건수정과 금형청소로 불량 조치 하였으며, 알파중캡은 조건수정으로 60% 개선 되었습니다."]
[null,null,null,null,null,null,null,null,null,null,"조건 수정 및 금형 청소"]
[]
[]
[]
[]
[]
[null,"2014-11-18","사진넣기",null,null,null,"사진넣기",null,null,null,"√ 금일 이슈 사항은 ① 알파용기(cav.1,4) 하단면 얇아지는 불량과, ② 알파중캡 미성형(cav.2),"]
[null,null,null,null,null,null,null,null,null,null,"   ③ 펌프대캡 미성형 (불량검사 없음)입니다. "]
[null,null,null,null,null,null,null,null,null,null,"√ 조건수정으로 미성형 및 알파용기 불량 조치 하였으며, 펌프대캡 주간 생산 중지하였습니다."]
[]
[]
[]
[]
[]
[]
[null,"2014-11-19","사진넣기",null,null,null,"사진넣기",null,null,null,"√ 금일 이슈 사항은 ① 알파원캡 기름불량과, ② 알파중캡 버(cav.1) 발생입니다."]
[null,null,null,null,null,null,null,null,null,null,"   (알파상캡 불량 수량 부족으로 검사 없음)"]
[null,null,null,null,null,null,null,null,null,null,"√ 금형청소 및 조건수정으로 불량 조치 하였습니다."]
[null,null,null,null,null,null,null,null,null,null,"금형 청소 및 조건 수정"]
[]
[]
[]
[]
[null,null,null,null,null,null,null,null,null,null,null,null,null," "]
[null,"2014-11-20","사진넣기",null,null,null,"사진넣기"]
[]
[]
[]
[]
[]
[]
[]
[]
[null,"2014-11-21","사진넣기",null,null,null,"사진넣기"]
[]
[]
[]
[]
[]
[]
[]
[]
[null,"2014-11-24","사진넣기",null,null,null,"사진넣기"]
[]
[]
[]
[]
[]
[]
[]
[]
[null,"2014-11-25","사진넣기",null,null,null,"사진넣기"]
[]
[]
[]
[]
[]
[]
[]
[]
[null,"2014-11-28","사진넣기",null,null,null,"사진넣기"]
[]
[]
[]
[]
[]
[]
[]
[]
[null,"2014-11-29"]

{"sheet":"주간보고서","index":4,"n_rows":170,"n_cols":28,"rows_kept":170,"cut":false,"hidden":true,"merged":[[162,5,163,6],[156,4,157,4],[156,5,157,6],[158,4,159,4],[158,5,159,6],[160,4,161,4],[160,5,161,6],[142,7,143,7],[142,8,142,13],[142,14,142,16],[144,4,145,4],[144,5,145,6],[137,4,138,4],[137,5,138,6],[139,5,140,6],[142,5,143,6],[166,4,167,6],[142,4,143,4],[146,4,147,4],[146,5,147,6],[148,4,149,4],[148,5,149,6],[150,4,151,4],[150,5,151,6],[152,4,153,4],[152,5,153,6],[154,4,155,4],[154,5,155,6],[131,4,132,4],[131,5,132,6],[133,4,134,4],[133,5,134,6],[135,4,136,4],[135,5,136,6],[125,4,126,4],[125,5,126,6],[127,4,128,4],[127,5,128,6],[129,4,130,4],[129,5,130,6],[119,8,119,13],[119,14,119,16],[121,4,122,4],[121,5,122,6],[123,4,124,4],[123,5,124,6],[116,5,117,6],[119,4,120,4],[119,5,120,6],[119,7,120,7],[110,4,111,4],[110,5,111,6],[112,4,113,4],[112,5,113,6],[114,4,115,4],[114,5,115,6],[104,4,105,4],[104,5,105,6],[106,4,107,4],[106,5,107,6],[108,4,109,4],[108,5,109,6],[98,4,99,4],[98,5,99,6],[100,4,101,4],[100,5,101,6],[102,4,103,4],[102,5,103,6],[72,18,72,23],[72,24,72,26],[96,4,97,4],[96,5,97,6],[96,7,97,7],[96,8,96,13],[96,14,96,16],[72,7,72,12],[72,13,72,15],[0,20,1,20],[0,21,1,21],[0,22,1,22],[0,7,1,7],[0,8,1,8],[0,9,0,14],[0,15,0,17],[0,19,1,19],[0,2,1,2],[0,3,1,3],[0,4,1,4],[0,5,1,5],[0,6,1,6]]}
[null,null,"검사일자","검사시간","제품번호","품명","생산설비","작업자","검사수량","기능성불량",null,null,null,null,null,"위생불량",null,null,"기타","조치자","조치확인\n(조치자작성)","조치자확인","QC확인"]
[null,null,null,null,null,null,null,null,null,"흑점","버","게이트버","크렉외","웰더","미성형","기름","이물","오염","투입이상"]
[null,"1주차","2014-11-12",null,24,"미떼 용기",15,"후엔",64,8,0,2,10,0,0,3,23,8,10,"한재근","","박지선","조해인"]
[null,"1주차","2014-11-12",null,3,"펌프S 대캡(회색)",13,"박순덕",179,5,97,0,0,0,49,11,6,0,11,"주양","상단버(cav.2),측면버(cav.전체) 온도내림","박지선","안소현"]
[null,"1주차","2014-11-12",null,7,"펌프 외병",12,"박미숙",103,0,4,36,13,0,4,32,6,5,3,"주양","","박지선","안소현"]
[null,"1주차","2014-11-12",null,25,"미떼 캡",16,"황춘숙",54,0,0,0,40,13,1,0,0,0,0,"주양","크렉(cav.3,4), 웰더(cav.3) 생산 중지","박지선","안소현"]
[null,"1주차","2014-11-12",null,1,"알파메스틱 용기","IBM2","박순덕",54,46,0,0,0,0,0,8,0,0,0,"주양","","박지선","안소현"]
[null,"1주차","2014-11-12",null,2,"알파메스틱 원피스 캡",10,"황춘숙",103,93,0,0,0,0,0,10,0,0,0,"주양","","박지선","안소현"]
[null,"1주차","2014-11-13",null,3,"펌프S 대캡(회색)",13,"후엔",100,10,74,0,11,0,2,0,3,0,0,"박지선","금형수리및조건수정","박지선","조해인"]
[null,"1주차","2014-11-13",null,2,"알파메스틱 원피스 캡",10,"박금란",150,91,0,0,15,0,0,24,0,20,0,"한재근","금형청소","박지선","조해인"]
[null,"1주차","2014-11-13",null,1,"알파메스틱 용기","IBM2","후엔",100,72,0,0,0,0,0,5,8,13,2,"한재근","","박지선","조해인"]
[null,"1주차","2014-11-13",null,7,"펌프 외병",12,"이영희",100,10,2,23,25,0,17,11,4,8,0,"한재근","조건수정","박지선","조해인"]
[null,"1주차","2014-11-13","09:32 pm",24,"미떼 용기",15,"박미숙",34,4,0,0,1,0,0,3,0,0,26,"주양",null,"박지선","안소현"]
[null,"1주차","2014-11-13","09:32 pm",25,"미떼 캡",16,"박순덕",91,0,0,0,32,5,12,0,0,0,42,"주양","cav.2 주간재생산 후 막음","박지선","안소현"]
[null,"1주차","2014-11-13","01:22 am",7,"펌프 외병",12,"황춘숙",71,0,0,1,13,0,1,56,0,0,0,"주양","금형청소","박지선","안소현"]
[null,"1주차","2014-11-13","03:30 am",2,"알파메스틱 원피스 캡",10,"니가",104,91,0,0,0,0,0,12,1,0,0,"주양","금형청소","박지선","안소현"]
[null,"1주차","2014-11-13","03:55 am",7,"펌프 외병",12,"황춘숙",115,0,107,0,8,0,0,0,0,0,0,"주양","온도 조건 재설정","박지선","안소현"]
[null,"1주차","2014-11-14","09:02 am",1,"알파메스틱 용기","IBM2","마야",80,62,0,0,0,0,0,7,0,11,0,"한재근","","박지선","조해인"]
[null,"1주차","2014-11-14","11:05 am",2,"알파메스틱 원피스 캡",10,"마야",100,76,0,0,1,0,0,21,0,2,0,"한재근","금형청소","박지선","조해인"]
[null,"1주차","2014-11-14","02:49 pm",24,"미떼 용기",15,"박금자",31,11,0,0,4,0,0,0,5,7,4,"한재근","","박지선","조해인"]
[null,"1주차","2014-11-17","10:38:00",2,"알파메스틱 원피스 캡",10,"박미숙",309,276,0,0,0,0,2,28,0,3,0,"박지선","초도불량","박지선","조해인"]
[null,"1주차","2014-11-17","11:41 am",20,"알파메스틱 중캡",1,"니가",183,117,0,0,0,0,0,21,18,27,0,"박지선","초도불량","박지선","조해인"]
[null,"1주차","2014-11-17","03:12 pm",1,"알파메스틱 용기","IBM2","박순덕",33,25,0,0,0,0,0,7,0,0,1,"박지선","금형청소","박지선","조해인"]
[null,"1주차","2014-11-17","05:20 pm",25,"미떼 캡",16,"황춘숙",10,0,0,0,0,9,0,0,0,0,1,"박지선","조건수정(가스빼기)","박지선","조해인"]
[null,"1주차","2014-11-17","02:36 am",3,"펌프S 대캡(회색)",13,"이영희",81,45,0,0,0,0,28,5,3,0,0,"한재근","","박지선","안소현"]
[null,"1주차","2014-11-17","03:06 am",25,"미떼 캡",16,"박금자",30,0,0,0,30,0,0,0,0,0,0,"한재근","","박지선","안소현"]
[null,"1주차","2014-11-17","04:38 am",19,"알파메스틱 상캡",5,"후엔",73,4,0,0,0,0,0,13,56,0,0,"한재근","","박지선","안소현"]
[null,"1주차","2014-11-17","06:15 am",1,"알파메스틱 용기","IBM2","이영희",112,28,0,0,0,0,0,77,7,0,0,"한재근","","박지선","안소현"]
[null,"1주차","2014-11-18","09:46 am",2,"알파메스틱 원피스 캡",10,"황춘숙",43,34,0,0,0,0,0,7,0,2,0,"박지선","","박지선","조해인"]
[null,"1주차","2014-11-18","01:12 pm",1,"알파메스틱 용기","IBM2","니가",63,32,0,0,0,0,0,22,6,0,3,"박지선","금형청소","박지선","조해인"]
[null,"1주차","2014-11-18","02:27 pm",19,"알파메스틱 상캡",5,"박미숙",60,16,0,0,0,0,0,26,15,3,0,"박지선","","박지선","조해인"]
[null,"1주차","2014-11-18","05:28 pm",20,"알파메스틱 중캡",1,"박미숙",172,138,0,0,3,0,2,23,0,5,1,"박지선","","박지선","조해인"]
[null,"1주차","2014-11-18","01:52 am",20,"알파메스틱 중캡",1,"마야",67,34,0,0,2,0,16,15,0,0,0,"한재근","","박지선","안소현"]
[null,"1주차","2014-11-18","03:18 am",1,"알파메스틱 용기","IBM2","오영순",89,6,0,0,0,0,0,0,0,0,83,"한재근","","박지선","안소현"]
[null,"1주차","2014-11-18","04:52 am",2,"알파메스틱 원피스 캡",10,"박금자",56,52,0,0,0,0,0,4,0,0,0,"한재근","","박지선","안소현"]
[null,"2주차","2014-11-19","09:18 am",2,"알파메스틱 원피스 캡",10,"박순덕",{"$f":"104+1+48+4+3","v":160},104,0,0,1,0,0,48,4,3,0,"박지선","금형청소","박지선","조해인"]
[null,"2주차","2014-11-19","01:25 pm",20,"알파메스틱 중캡",1,"황춘숙",56,36,7,0,1,0,1,11,0,0,0,"박지선","조건수정(온도수정)","박지선","조해인"]
[null,"2주차","2014-11-19","03:14 pm",1,"알파메스틱 용기","IBM2","박미숙",{"$f":"118+13+12+16+2","v":161},118,0,0,0,0,0,13,12,16,2,"박지선","","박지선","조해인"]
[null,"2주차","2014-11-19","05:34 pm",2,"알파메스틱 원피스 캡",10,"박순덕",{"$f":"J39+2+30+8+1","v":217},176,0,0,2,0,0,30,8,1,0,"박지선","","박지선","조해인"]
[null,"2주차","2014-11-19","02:17 am",2,"알파메스틱 원피스 캡",10,"이영희",101,65,0,0,5,0,1,25,5,0,0,"한재근","","박지선","안소현"]
[null,"2주차","2014-11-19","04:40:00",20,"알파메스틱 중캡",1,"박금자",81,34,0,0,1,0,0,41,5,0,0,"한재근","","박지선","안소현"]
[null,"2주차","2014-11-20","11:30:00",2,"알파메스틱 원피스 캡",10,"니가",{"$f":"SUM(J42:S42)","v":65},49,0,0,0,0,0,12,3,1,0,"박지선","","박지선","조해인"]
[null,"2주차","2014-11-20","01:20 pm",20,"알파메스틱 중캡",1,"박순덕",{"$f":"SUM(J43:S43)","v":84},63,0,0,1,0,4,13,3,0,0,"박지선","","박지선","조해인"]
[null,"2주차","2014-11-20","03:48 pm",1,"알파메스틱 용기","IBM2","황춘숙",{"$f":"SUM(J44:S44)","v":162},67,0,0,2,0,0,91,0,0,2,"박지선","금형청소","박지선","조해인"]
[null,"2주차","2014-11-20","04:53 pm",2,"알파메스틱 원피스 캡",10,"니가",167,148,0,0,0,0,0,10,7,2,0,"박지선","","박지선","조해인"]
[null,"2주차","2014-11-20","05:59 pm",19,"알파메스틱 상캡",5,"박순덕",28,8,0,0,0,0,0,6,8,6,0,"박지선","","박지선","조해인"]
[null,"2주차","2014-11-20","01:28 am",1,"알파메스틱 용기","IBM2","마야",95,72,0,0,0,0,0,3,20,0,0,"한재근","","박지선","안소현"]
[null,"2주차","2014-11-20","02:45 am",20,"알파메스틱 중캡",1,"이영희",52,30,0,0,1,0,0,17,4,0,0,"한재근","","박지선","안소현"]
[null,"2주차","2014-11-20","04:21 am",2,"알파메스틱 원피스 캡",10,"오영순",103,66,0,0,0,0,1,36,0,0,0,"한재근","","박지선","안소현"]
[null,"2주차","2014-11-20","06:12 am",3,"펌프S 대캡(회색)",13,"마야",45,42,0,0,0,0,1,2,0,0,0,"한재근","","박지선","안소현"]
[null,"2주차","2014-11-21","09:26 am",1,"알파메스틱 용기","IBM2","박순덕",61,61,0,0,0,0,0,0,0,0,0,"박지선","","박지선","조해인"]
[null,"2주차","2014-11-21","01:21 pm",2,"알파메스틱 원피스 캡",10,"박미숙",120,107,0,0,7,0,0,5,1,0,0,"박지선","","박지선","조해인"]
[null,"2주차","2014-11-21","02:35 pm",20,"알파메스틱 중캡",1,"니가",75,55,0,0,0,0,8,10,2,0,0,"박지선","","박지선","조해인"]
[null,"2주차","2014-11-21","04:35 pm",3,"펌프S 대캡(회색)",13,"박순덕",37,37,0,0,0,0,0,0,0,0,0,"박지선","","박지선","조해인"]
[null,"2주차","2014-11-21","09:56 pm",1,"알파메스틱 용기","IBM2","박금자",63,63,0,0,0,0,0,0,0,0,0,"한재근","","박지선","안소현"]
[null,"2주차","2014-11-21","09:56 pm",2,"알파메스틱 원피스 캡",10,"후엔",100,67,0,0,0,0,0,28,5,0,0,"한재근","","박지선","안소현"]
[null,"2주차","2014-11-21","09:56 pm",3,"펌프S 대캡(회색)",13,"박금자",56,56,0,0,0,0,0,0,0,0,0,"한재근","","박지선","안소현"]
[null,"2주차","2014-11-21","09:56 pm",20,"알파메스틱 중캡",1,"오영순",29,7,0,0,0,0,0,22,0,0,0,"한재근","","박지선","안소현"]
[null,"2주차","2014-11-24","04:34 pm",20,"알파메스틱 중캡",1,"후엔",39,31,0,0,0,0,0,8,0,0,0,"박지선","","박지선","조해인"]
[null,"2주차","2014-11-24","05:52 pm",1,"알파메스틱 용기","IBM2","마야",35,19,0,0,0,0,0,5,5,0,6,"박지선","","박지선","조해인"]
[null,"2주차","2014-11-24","05:09 am",20,"알파메스틱 중캡",1,"박미숙",209,142,8,0,4,0,4,43,8,0,0,"주양","","박지선","안소현"]
[null,"2주차","2014-11-24","05:55 am",1,"알파메스틱 용기","IBM2","니가",128,98,0,0,4,0,0,0,26,0,0,"주양","","박지선","안소현"]
[null,"2주차","2014-11-25","01:34 pm",19,"알파메스틱 상캡",5,"마야",6,4,0,0,0,0,0,2,0,0,0,"한재근","","박지선","조해인"]
[null,"2주차","2014-11-25","01:37 pm",20,"알파메스틱 중캡",1,"마야",35,30,0,0,1,0,0,1,3,0,0,"한재근","","박지선","조해인"]
[null,"2주차","2014-11-25","02:23 pm",1,"알파메스틱 용기","IBM2","오영순",69,47,0,0,3,0,2,13,4,0,2,"한재근","","박지선","조해인"]
[null,"2주차","2014-11-25","05:07 pm",2,"알파메스틱 원피스 캡",10,"박금자",137,83,0,0,0,0,0,50,4,0,0,"한재근","금형청소","박지선","조해인"]
[null,"2주차","2014-11-25","03:58 am",28,"닥터유 민트용기 하",11,"니가",{"$f":"SUM(J67:S67)","v":111},0,0,0,15,0,0,30,66,0,0,"주양","","박지선","안소현"]
[null,"2주차","2014-11-25","03:58 am",1,"알파메스틱 용기",1,"박미숙",{"$f":"SUM(J68:S68)","v":145},123,0,0,0,0,0,0,22,0,0,"주양","","박지선","안소현"]
[null,"2주차","2014-11-25","03:58 am",2,"알파메스틱 원피스 캡",2,"박순덕",28,16,0,0,0,0,0,11,0,0,1,"주양","","박지선","안소현"]
[null,"2주차","2014-11-25","03:58 am",20,"알파메스틱 중캡",20,"황춘숙",29,6,0,0,0,0,0,23,0,0,0,"주양","","박지선","안소현"]
[]
[]
[null,null,null,null,null,null,"1주차","기능성불량",null,null,null,null,null,"위생불량",null,null,"기타","2주차","기능성불량",null,null,null,null,null,"위생불량",null,null,"기타"]
[null,null,null,null,null,null,"검사수량","흑점","버","게이트버","크렉외","웰더","미성형","기름","이물","오염","투입이상","검사수량","흑점","버","게이트버","크렉외","웰더","미성형","기름","이물","오염","투입이상"]
[null,null,null,null,1,"알파메스틱 용기",{"$f":"SUMIFS(I$3:I$70,$F$3:$F$70,$F75,$B$3:$B$70,$G$73)","v":531},{"$f":"SUMIFS(J$3:J$70,$F$3:$F$70,$F75,$B$3:$B$70,$G$73)","v":271},{"$f":"SUMIFS(K$3:K$70,$F$3:$F$70,$F75,$B$3:$B$70,$G$73)","v":0},0,0,0,0,126,21,24,89,{"$f":"SUMIFS(I$3:I$70,$F$3:$F$70,$F75,$B$3:$B$70,$R$73)","v":919},{"$f":"SUMIFS(J$3:J$70,$F$3:$F$70,$F75,$B$3:$B$70,$R$73)","v":668},0,0,9,0,2,125,89,16,12]
[null,null,null,null,2,"알파메스틱 원피스 캡",{"$f":"SUMIFS(I$3:I$70,$F$3:$F$70,$F76,$B$3:$B$70,$G$73)","v":865},713,0,0,16,0,2,106,1,27,0,{"$f":"SUMIFS(I$3:I$70,$F$3:$F$70,$F76,$B$3:$B$70,$R$73)","v":1198},881,0,0,15,0,2,255,37,7,1]
[null,null,null,null,3,"펌프S 대캡(회색)",360,60,171,0,11,0,79,16,12,0,11,138,135,0,0,0,0,1,2,0,0,0]
[null,null,null,null,7,"펌프 외병",389,10,113,60,59,0,22,99,10,13,3,0,0,0,0,0,0,0,0,0,0,0]
[null,null,null,null,19,"알파메스틱 상캡",133,20,0,0,0,0,0,39,71,3,0,34,12,0,0,0,0,0,8,8,6,0]
[null,null,null,null,20,"알파메스틱 중캡",422,289,0,0,5,0,18,59,18,32,1,689,434,15,0,9,0,17,189,25,0,0]
[null,null,null,null,24,"미떼 용기",129,23,0,2,15,0,0,6,28,15,40,0,0,0,0,0,0,0,0,0,0,0]
[null,null,null,null,25,"미떼 캡",185,0,0,0,102,27,13,0,0,0,43,0,0,0,0,0,0,0,0,0,0,0]
[null,null,null,null,28,"닥터유 민트용기 하",0,0,0,0,0,0,0,0,0,0,0,111,0,0,0,15,0,0,30,66,0,0]
[]
[]
[null,null,null,null,1,"알파메스틱 용기",{"$f":"SUM(H86:Q86)","v":1},{"$f":"IFERROR(H75/$G75,0%)","v":0.5103578154425612},{"$f":"IFERROR(I75/$G75,0%)","v":0},0,0,0,0,0.23728813559322035,3.954802259887006E-2,4.519774011299435E-2,0.16760828625235405,{"$f":"SUM(S86:AB86)","v":1.0021762785636561},{"$f":"IFERROR(S75/$R75,0%)","v":0.72687704026115341},{"$f":"IFERROR(T75/$R75,0%)","v":0},0,9.7932535364526653E-3,0,2.176278563656148E-3,0.13601741022850924,9.6844396082698583E-2,1.7410228509249184E-2,1.3057671381936888E-2]
[null,null,null,null,2,"알파메스틱 원피스 캡",{"$f":"SUM(H87:Q87)","v":1},{"$f":"IFERROR(H76/$G76,0%)","v":0.82427745664739882},0,0,1.8497109826589597E-2,0,2.3121387283236996E-3,0.12254335260115606,1.1560693641618498E-3,3.121387283236994E-2,0,{"$f":"SUM(S87:AB87)","v":0.99999999999999989},{"$f":"IFERROR(S76/$R76,0%)","v":0.73539232053422365},0,0,1.2520868113522538E-2,0,1.6694490818030051E-3,0.21285475792988315,3.0884808013355594E-2,5.8430717863105176E-3,8.3472454090150253E-4]
[null,null,null,null,3,"펌프S 대캡(회색)",0.99999999999999989,0.16666666666666666,0.47499999999999998,0,3.0555555555555555E-2,0,0.21944444444444444,4.4444444444444446E-2,3.3333333333333333E-2,0,3.0555555555555555E-2,1,0.97826086956521741,0,0,0,0,7.246376811594203E-3,1.4492753623188406E-2,0,0,0]
[null,null,null,null,7,"펌프 외병",1,2.570694087403599E-2,0.29048843187660667,0.15424164524421594,0.15167095115681234,0,5.6555269922879174E-2,0.25449871465295631,2.570694087403599E-2,3.3419023136246784E-2,7.7120822622107968E-3,0,0,0,0,0,0,0,0,0,0,0]
[null,null,null,null,19,"알파메스틱 상캡",1,0.15037593984962405,0,0,0,0,0,0.2932330827067669,0.53383458646616544,2.2556390977443608E-2,0,1,0.35294117647058826,0,0,0,0,0,0.23529411764705882,0.23529411764705882,0.17647058823529413,0]
[null,null,null,null,20,"알파메스틱 중캡",0.99999999999999989,0.68483412322274884,0,0,1.1848341232227487E-2,0,4.2654028436018961E-2,0.13981042654028436,4.2654028436018961E-2,7.582938388625593E-2,2.3696682464454978E-3,1,0.62989840348330917,2.1770682148040638E-2,0,1.3062409288824383E-2,0,2.4673439767779391E-2,0.27431059506531202,3.6284470246734396E-2,0,0]
[null,null,null,null,24,"미떼 용기",0.99999999999999989,0.17829457364341086,0,1.5503875968992248E-2,0.11627906976744186,0,0,4.6511627906976744E-2,0.21705426356589147,0.11627906976744186,0.31007751937984496,0,0,0,0,0,0,0,0,0,0,0]
[null,null,null,null,25,"미떼 캡",1,0,0,0,0.55135135135135138,0.14594594594594595,7.0270270270270274E-2,0,0,0,0.23243243243243245,0,0,0,0,0,0,0,0,0,0,0]
[null,null,null,null,28,"닥터유 민트용기 하",0,0,0,0,0,0,0,0,0,0,0,1,0,0,0,0.13513513513513514,0,0,0.27027027027027029,0.59459459459459463,0,0]
[]
[]
[null,null,null,null,"제품번호","품명",null,"검사수량","기능성불량",null,null,null,null,null,"위생불량",null,null,"기타"]
[null,null,null,null,null,null,null,null,"흑점","버","게이트버","찍힘외","웰더","미성형","기름","이물","오염","기타"]
[null,null,null,null,{"$f":"IFERROR(VLOOKUP(F99,조건기초!$F$5:$AR$34,39,0),\"\")","v":""},"알파메스틱 용기",null,{"$f":"SUMIFS(G$75:G$83,$F$75:$F$83,$F99)","v":531},{"$f":"SUMIFS(H$75:H$83,$F$75:$F$83,$F99)","v":271},{"$f":"SUMIFS(I$75:I$83,$F$75:$F$83,$F99)","v":0},0,0,0,0,126,21,24,{"$f":"SUMIFS(Q$75:Q$83,$F$75:$F$83,$F99)","v":89}]
[null,null,null,null,null,null,null,{"$f":"SUM(I100:R100)","v":1},{"$f":"IFERROR(I99/$H99,0%)","v":0.5103578154425612},{"$f":"IFERROR(J99/$H99,0%)","v":0},0,0,0,0,0.23728813559322035,3.954802259887006E-2,4.519774011299435E-2,0.16760828625235405]
[null,null,null,null,{"$f":"IFERROR(VLOOKUP(F101,조건기초!$F$5:$AR$34,39,0),\"\")","v":""},"알파메스틱 원피스 캡",null,{"$f":"SUMIFS(G$75:G$83,$F$75:$F$83,$F101)","v":865},{"$f":"SUMIFS(H$75:H$83,$F$75:$F$83,$F101)","v":713},{"$f":"SUMIFS(I$75:I$83,$F$75:$F$83,$F101)","v":0},0,16,0,2,106,1,27,{"$f":"SUMIFS(Q$75:Q$83,$F$75:$F$83,$F101)","v":0}]
[null,null,null,null,null,null,null,{"$f":"SUM(I102:R102)","v":1},{"$f":"IFERROR(I101/$H101,0%)","v":0.82427745664739882},{"$f":"IFERROR(J101/$H101,0%)","v":0},{"$f":"IFERROR(K101/$H101,0%)","v":0},{"$f":"IFERROR(L101/$H101,0%)","v":1.8497109826589597E-2},{"$f":"IFERROR(M101/$H101,0%)","v":0},{"$f":"IFERROR(N101/$H101,0%)","v":2.3121387283236996E-3},{"$f":"IFERROR(O101/$H101,0%)","v":0.12254335260115606},{"$f":"IFERROR(P101/$H101,0%)","v":1.1560693641618498E-3},{"$f":"IFERROR(Q101/$H101,0%)","v":3.121387283236994E-2},{"$f":"IFERROR(R101/$H101,0%)","v":0}]
[null,null,null,null,{"$f":"IFERROR(VLOOKUP(F103,조건기초!$F$5:$AR$34,39,0),\"\")","v":""},"펌프S 대캡(회색)",null,{"$f":"SUMIFS(G$75:G$83,$F$75:$F$83,$F103)","v":360},{"$f":"SUMIFS(H$75:H$83,$F$75:$F$83,$F103)","v":60},{"$f":"SUMIFS(I$75:I$83,$F$75:$F$83,$F103)","v":171},0,11,0,79,16,12,0,{"$f":"SUMIFS(Q$75:Q$83,$F$75:$F$83,$F103)","v":11}]
[null,null,null,null,null,null,null,{"$f":"SUM(I104:R104)","v":0.99999999999999989},{"$f":"IFERROR(I103/$H103,0%)","v":0.16666666666666666},{"$f":"IFERROR(J103/$H103,0%)","v":0.47499999999999998},{"$f":"IFERROR(K103/$H103,0%)","v":0},{"$f":"IFERROR(L103/$H103,0%)","v":3.0555555555555555E-2},{"$f":"IFERROR(M103/$H103,0%)","v":0},{"$f":"IFERROR(N103/$H103,0%)","v":0.21944444444444444},{"$f":"IFERROR(O103/$H103,0%)","v":4.4444444444444446E-2},{"$f":"IFERROR(P103/$H103,0%)","v":3.3333333333333333E-2},{"$f":"IFERROR(Q103/$H103,0%)","v":0},{"$f":"IFERROR(R103/$H103,0%)","v":3.0555555555555555E-2}]
[null,null,null,null,{"$f":"IFERROR(VLOOKUP(F105,조건기초!$F$5:$AR$34,39,0),\"\")","v":""},"펌프 외병",null,{"$f":"SUMIFS(G$75:G$83,$F$75:$F$83,$F105)","v":389},{"$f":"SUMIFS(H$75:H$83,$F$75:$F$83,$F105)","v":10},{"$f":"SUMIFS(I$75:I$83,$F$75:$F$83,$F105)","v":113},60,59,0,22,99,10,13,{"$f":"SUMIFS(Q$75:Q$83,$F$75:$F$83,$F105)","v":3}]
[null,null,null,null,null,null,null,{"$f":"SUM(I106:R106)","v":1},{"$f":"IFERROR(I105/$H105,0%)","v":2.570694087403599E-2},{"$f":"IFERROR(J105/$H105,0%)","v":0.29048843187660667},{"$f":"IFERROR(K105/$H105,0%)","v":0.15424164524421594},{"$f":"IFERROR(L105/$H105,0%)","v":0.15167095115681234},{"$f":"IFERROR(M105/$H105,0%)","v":0},{"$f":"IFERROR(N105/$H105,0%)","v":5.6555269922879174E-2},{"$f":"IFERROR(O105/$H105,0%)","v":0.25449871465295631},{"$f":"IFERROR(P105/$H105,0%)","v":2.570694087403599E-2},{"$f":"IFERROR(Q105/$H105,0%)","v":3.3419023136246784E-2},{"$f":"IFERROR(R105/$H105,0%)","v":7.7120822622107968E-3}]
[null,null,null,null,{"$f":"IFERROR(VLOOKUP(F107,조건기초!$F$5:$AR$34,39,0),\"\")","v":""},"알파메스틱 상캡",null,{"$f":"SUMIFS(G$75:G$83,$F$75:$F$83,$F107)","v":133},{"$f":"SUMIFS(H$75:H$83,$F$75:$F$83,$F107)","v":20},{"$f":"SUMIFS(I$75:I$83,$F$75:$F$83,$F107)","v":0},0,0,0,0,39,71,3,{"$f":"SUMIFS(Q$75:Q$83,$F$75:$F$83,$F107)","v":0}]
[null,null,null,null,null,null,null,{"$f":"SUM(I108:R108)","v":1},{"$f":"IFERROR(I107/$H107,0%)","v":0.15037593984962405},{"$f":"IFERROR(J107/$H107,0%)","v":0},{"$f":"IFERROR(K107/$H107,0%)","v":0},{"$f":"IFERROR(L107/$H107,0%)","v":0},{"$f":"IFERROR(M107/$H107,0%)","v":0},{"$f":"IFERROR(N107/$H107,0%)","v":0},{"$f":"IFERROR(O107/$H107,0%)","v":0.2932330827067669},{"$f":"IFERROR(P107/$H107,0%)","v":0.53383458646616544},{"$f":"IFERROR(Q107/$H107,0%)","v":2.2556390977443608E-2},{"$f":"IFERROR(R107/$H107,0%)","v":0}]
[null,null,null,null,{"$f":"IFERROR(VLOOKUP(F109,조건기초!$F$5:$AR$34,39,0),\"\")","v":""},"알파메스틱 중캡",null,{"$f":"SUMIFS(G$75:G$83,$F$75:$F$83,$F109)","v":422},{"$f":"SUMIFS(H$75:H$83,$F$75:$F$83,$F109)","v":289},{"$f":"SUMIFS(I$75:I$83,$F$75:$F$83,$F109)","v":0},0,5,0,18,59,18,32,{"$f":"SUMIFS(Q$75:Q$83,$F$75:$F$83,$F109)","v":1}]
[null,null,null,null,null,null,null,{"$f":"SUM(I110:R110)","v":0.99999999999999989},{"$f":"IFERROR(I109/$H109,0%)","v":0.68483412322274884},{"$f":"IFERROR(J109/$H109,0%)","v":0},{"$f":"IFERROR(K109/$H109,0%)","v":0},{"$f":"IFERROR(L109/$H109,0%)","v":1.1848341232227487E-2},{"$f":"IFERROR(M109/$H109,0%)","v":0},{"$f":"IFERROR(N109/$H109,0%)","v":4.2654028436018961E-2},{"$f":"IFERROR(O109/$H109,0%)","v":0.13981042654028436},{"$f":"IFERROR(P109/$H109,0%)","v":4.2654028436018961E-2},{"$f":"IFERROR(Q109/$H109,0%)","v":7.582938388625593E-2},{"$f":"IFERROR(R109/$H109,0%)","v":2.3696682464454978E-3}]
[null,null,null,null,{"$f":"IFERROR(VLOOKUP(F111,조건기초!$F$5:$AR$34,39,0),\"\")","v":""},"미떼 용기",null,{"$f":"SUMIFS(G$75:G$83,$F$75:$F$83,$F111)","v":129},{"$f":"SUMIFS(H$75:H$83,$F$75:$F$83,$F111)","v":23},{"$f":"SUMIFS(I$75:I$83,$F$75:$F$83,$F111)","v":0},2,15,0,0,6,28,15,{"$f":"SUMIFS(Q$75:Q$83,$F$75:$F$83,$F111)","v":40}]
[null,null,null,null,null,null,null,{"$f":"SUM(I112:R112)","v":0.99999999999999989},{"$f":"IFERROR(I111/$H111,0%)","v":0.17829457364341086},{"$f":"IFERROR(J111/$H111,0%)","v":0},{"$f":"IFERROR(K111/$H111,0%)","v":1.5503875968992248E-2},{"$f":"IFERROR(L111/$H111,0%)","v":0.11627906976744186},{"$f":"IFERROR(M111/$H111,0%)","v":0},{"$f":"IFERROR(N111/$H111,0%)","v":0},{"$f":"IFERROR(O111/$H111,0%)","v":4.6511627906976744E-2},{"$f":"IFERROR(P111/$H111,0%)","v":0.21705426356589147},{"$f":"IFERROR(Q111/$H111,0%)","v":0.11627906976744186},{"$f":"IFERROR(R111/$H111,0%)","v":0.31007751937984496}]
[null,null,null,null,{"$f":"IFERROR(VLOOKUP(F113,조건기초!$F$5:$AR$34,39,0),\"\")","v":""},"미떼 캡",null,{"$f":"SUMIFS(G$75:G$83,$F$75:$F$83,$F113)","v":185},{"$f":"SUMIFS(H$75:H$83,$F$75:$F$83,$F113)","v":0},{"$f":"SUMIFS(I$75:I$83,$F$75:$F$83,$F113)","v":0},0,102,27,13,0,0,0,{"$f":"SUMIFS(Q$75:Q$83,$F$75:$F$83,$F113)","v":43}]
[null,null,null,null,null,null,null,{"$f":"SUM(I114:R114)","v":1},{"$f":"IFERROR(I113/$H113,0%)","v":0},{"$f":"IFERROR(J113/$H113,0%)","v":0},{"$f":"IFERROR(K113/$H113,0%)","v":0},{"$f":"IFERROR(L113/$H113,0%)","v":0.55135135135135138},{"$f":"IFERROR(M113/$H113,0%)","v":0.14594594594594595},{"$f":"IFERROR(N113/$H113,0%)","v":7.0270270270270274E-2},{"$f":"IFERROR(O113/$H113,0%)","v":0},{"$f":"IFERROR(P113/$H113,0%)","v":0},{"$f":"IFERROR(Q113/$H113,0%)","v":0},{"$f":"IFERROR(R113/$H113,0%)","v":0.23243243243243245}]
[null,null,null,null,{"$f":"IFERROR(VLOOKUP(F115,조건기초!$F$5:$AR$34,39,0),\"\")","v":""},"닥터유 민트용기 하",null,{"$f":"SUMIFS(G$75:G$83,$F$75:$F$83,$F115)","v":0},{"$f":"SUMIFS(H$75:H$83,$F$75:$F$83,$F115)","v":0},{"$f":"SUMIFS(I$75:I$83,$F$75:$F$83,$F115)","v":0},0,0,0,0,0,0,0,{"$f":"SUMIFS(Q$75:Q$83,$F$75:$F$83,$F115)","v":0}]
[null,null,null,null,null,null,null,{"$f":"SUM(I116:R116)","v":0},{"$f":"IFERROR(I115/$H115,0%)","v":0},{"$f":"IFERROR(J115/$H115,0%)","v":0},{"$f":"IFERROR(K115/$H115,0%)","v":0},{"$f":"IFERROR(L115/$H115,0%)","v":0},{"$f":"IFERROR(M115/$H115,0%)","v":0},{"$f":"IFERROR(N115/$H115,0%)","v":0},{"$f":"IFERROR(O115/$H115,0%)","v":0},{"$f":"IFERROR(P115/$H115,0%)","v":0},{"$f":"IFERROR(Q115/$H115,0%)","v":0},{"$f":"IFERROR(R115/$H115,0%)","v":0}]
[null,null,null,null,null,"합 계",null,{"$f":"SUM(I117:R117)","v":3014},{"$f":"SUM(I99,I101,I103,I105,I107,I109,I111,I113,I115,)","v":1386},{"$f":"SUM(J99,J101,J103,J105,J107,J109,J111,J113,J115,)","v":284},62,208,27,134,451,161,114,187]
[null,null,null,null,null,null,null,{"$f":"IFERROR(SUM(I118:R118),0%)","v":0.99999999999999989},{"$f":"IFERROR(I117/$H$117,\"\")","v":0.45985401459854014},{"$f":"IFERROR(J117/$H$117,\"\")","v":9.422694094226941E-2},2.0570670205706701E-2,6.9011280690112808E-2,8.9581950895819516E-3,4.4459190444591908E-2,0.14963503649635038,5.3417385534173856E-2,3.7823490378234903E-2,6.2043795620437957E-2]
[]
[null,null,null,null,"제품번호","품명",null,"검사수량","기능성불량",null,null,null,null,null,"위생불량",null,null,"기타"]
[null,null,null,null,null,null,null,null,"흑점","버","게이트버","찍힘외","웰더","미성형","기름","이물","오염","기타"]
[null,null,null,null,{"$f":"IFERROR(VLOOKUP(F122,조건기초!$F$5:$AR$34,39,0),\"\")","v":""},"알파메스틱 용기",null,{"$f":"SUMIFS(R$75:R$83,$F$75:$F$83,$F122)","v":919},{"$f":"SUMIFS(S$75:S$83,$F$75:$F$83,$F122)","v":668},{"$f":"SUMIFS(T$75:T$83,$F$75:$F$83,$F122)","v":0},0,9,0,2,125,89,16,12]
[null,null,null,null,null,null,null,{"$f":"SUM(I123:R123)","v":1.0021762785636561},{"$f":"IFERROR(I122/$H122,0%)","v":0.72687704026115341},{"$f":"IFERROR(J122/$H122,0%)","v":0},{"$f":"IFERROR(K122/$H122,0%)","v":0},{"$f":"IFERROR(L122/$H122,0%)","v":9.7932535364526653E-3},{"$f":"IFERROR(M122/$H122,0%)","v":0},{"$f":"IFERROR(N122/$H122,0%)","v":2.176278563656148E-3},{"$f":"IFERROR(O122/$H122,0%)","v":0.13601741022850924},{"$f":"IFERROR(P122/$H122,0%)","v":9.6844396082698583E-2},{"$f":"IFERROR(Q122/$H122,0%)","v":1.7410228509249184E-2},{"$f":"IFERROR(R122/$H122,0%)","v":1.3057671381936888E-2}]
[null,null,null,null,{"$f":"IFERROR(VLOOKUP(F124,조건기초!$F$5:$AR$34,39,0),\"\")","v":""},"알파메스틱 원피스 캡",null,{"$f":"SUMIFS(R$75:R$83,$F$75:$F$83,$F124)","v":1198},{"$f":"SUMIFS(S$75:S$83,$F$75:$F$83,$F124)","v":881},{"$f":"SUMIFS(T$75:T$83,$F$75:$F$83,$F124)","v":0},{"$f":"SUMIFS(U$75:U$83,$F$75:$F$83,$F124)","v":0},{"$f":"SUMIFS(V$75:V$83,$F$75:$F$83,$F124)","v":15},{"$f":"SUMIFS(W$75:W$83,$F$75:$F$83,$F124)","v":0},{"$f":"SUMIFS(X$75:X$83,$F$75:$F$83,$F124)","v":2},{"$f":"SUMIFS(Y$75:Y$83,$F$75:$F$83,$F124)","v":255},{"$f":"SUMIFS(Z$75:Z$83,$F$75:$F$83,$F124)","v":37},{"$f":"SUMIFS(AA$75:AA$83,$F$75:$F$83,$F124)","v":7},{"$f":"SUMIFS(AB$75:AB$83,$F$75:$F$83,$F124)","v":1}]
[null,null,null,null,null,null,null,{"$f":"SUM(I125:R125)","v":0.99999999999999989},{"$f":"IFERROR(I124/$H124,0%)","v":0.73539232053422365},{"$f":"IFERROR(J124/$H124,0%)","v":0},{"$f":"IFERROR(K124/$H124,0%)","v":0},{"$f":"IFERROR(L124/$H124,0%)","v":1.2520868113522538E-2},{"$f":"IFERROR(M124/$H124,0%)","v":0},{"$f":"IFERROR(N124/$H124,0%)","v":1.6694490818030051E-3},{"$f":"IFERROR(O124/$H124,0%)","v":0.21285475792988315},{"$f":"IFERROR(P124/$H124,0%)","v":3.0884808013355594E-2},{"$f":"IFERROR(Q124/$H124,0%)","v":5.8430717863105176E-3},{"$f":"IFERROR(R124/$H124,0%)","v":8.3472454090150253E-4}]
[null,null,null,null,{"$f":"IFERROR(VLOOKUP(F126,조건기초!$F$5:$AR$34,39,0),\"\")","v":""},"펌프S 대캡(회색)",null,{"$f":"SUMIFS(R$75:R$83,$F$75:$F$83,$F126)","v":138},{"$f":"SUMIFS(S$75:S$83,$F$75:$F$83,$F126)","v":135},{"$f":"SUMIFS(T$75:T$83,$F$75:$F$83,$F126)","v":0},{"$f":"SUMIFS(U$75:U$83,$F$75:$F$83,$F126)","v":0},{"$f":"SUMIFS(V$75:V$83,$F$75:$F$83,$F126)","v":0},{"$f":"SUMIFS(W$75:W$83,$F$75:$F$83,$F126)","v":0},{"$f":"SUMIFS(X$75:X$83,$F$75:$F$83,$F126)","v":1},{"$f":"SUMIFS(Y$75:Y$83,$F$75:$F$83,$F126)","v":2},{"$f":"SUMIFS(Z$75:Z$83,$F$75:$F$83,$F126)","v":0},{"$f":"SUMIFS(AA$75:AA$83,$F$75:$F$83,$F126)","v":0},{"$f":"SUMIFS(AB$75:AB$83,$F$75:$F$83,$F126)","v":0}]
[null,null,null,null,null,null,null,{"$f":"SUM(I127:R127)","v":1},{"$f":"IFERROR(I126/$H126,0%)","v":0.97826086956521741},{"$f":"IFERROR(J126/$H126,0%)","v":0},{"$f":"IFERROR(K126/$H126,0%)","v":0},{"$f":"IFERROR(L126/$H126,0%)","v":0},{"$f":"IFERROR(M126/$H126,0%)","v":0},{"$f":"IFERROR(N126/$H126,0%)","v":7.246376811594203E-3},{"$f":"IFERROR(O126/$H126,0%)","v":1.4492753623188406E-2},{"$f":"IFERROR(P126/$H126,0%)","v":0},{"$f":"IFERROR(Q126/$H126,0%)","v":0},{"$f":"IFERROR(R126/$H126,0%)","v":0}]
[null,null,null,null,{"$f":"IFERROR(VLOOKUP(F128,조건기초!$F$5:$AR$34,39,0),\"\")","v":""},"펌프 외병",null,{"$f":"SUMIFS(R$75:R$83,$F$75:$F$83,$F128)","v":0},{"$f":"SUMIFS(S$75:S$83,$F$75:$F$83,$F128)","v":0},{"$f":"SUMIFS(T$75:T$83,$F$75:$F$83,$F128)","v":0},{"$f":"SUMIFS(U$75:U$83,$F$75:$F$83,$F128)","v":0},{"$f":"SUMIFS(V$75:V$83,$F$75:$F$83,$F128)","v":0},{"$f":"SUMIFS(W$75:W$83,$F$75:$F$83,$F128)","v":0},{"$f":"SUMIFS(X$75:X$83,$F$75:$F$83,$F128)","v":0},{"$f":"SUMIFS(Y$75:Y$83,$F$75:$F$83,$F128)","v":0},{"$f":"SUMIFS(Z$75:Z$83,$F$75:$F$83,$F128)","v":0},{"$f":"SUMIFS(AA$75:AA$83,$F$75:$F$83,$F128)","v":0},{"$f":"SUMIFS(AB$75:AB$83,$F$75:$F$83,$F128)","v":0}]
[null,null,null,null,null,null,null,{"$f":"SUM(I129:R129)","v":0},{"$f":"IFERROR(I128/$H128,0%)","v":0},{"$f":"IFERROR(J128/$H128,0%)","v":0},{"$f":"IFERROR(K128/$H128,0%)","v":0},{"$f":"IFERROR(L128/$H128,0%)","v":0},{"$f":"IFERROR(M128/$H128,0%)","v":0},{"$f":"IFERROR(N128/$H128,0%)","v":0},{"$f":"IFERROR(O128/$H128,0%)","v":0},{"$f":"IFERROR(P128/$H128,0%)","v":0},{"$f":"IFERROR(Q128/$H128,0%)","v":0},{"$f":"IFERROR(R128/$H128,0%)","v":0}]
[null,null,null,null,{"$f":"IFERROR(VLOOKUP(F130,조건기초!$F$5:$AR$34,39,0),\"\")","v":""},"알파메스틱 상캡",null,{"$f":"SUMIFS(R$75:R$83,$F$75:$F$83,$F130)","v":34},{"$f":"SUMIFS(S$75:S$83,$F$75:$F$83,$F130)","v":12},{"$f":"SUMIFS(T$75:T$83,$F$75:$F$83,$F130)","v":0},{"$f":"SUMIFS(U$75:U$83,$F$75:$F$83,$F130)","v":0},{"$f":"SUMIFS(V$75:V$83,$F$75:$F$83,$F130)","v":0},{"$f":"SUMIFS(W$75:W$83,$F$75:$F$83,$F130)","v":0},{"$f":"SUMIFS(X$75:X$83,$F$75:$F$83,$F130)","v":0},{"$f":"SUMIFS(Y$75:Y$83,$F$75:$F$83,$F130)","v":8},{"$f":"SUMIFS(Z$75:Z$83,$F$75:$F$83,$F130)","v":8},{"$f":"SUMIFS(AA$75:AA$83,$F$75:$F$83,$F130)","v":6},{"$f":"SUMIFS(AB$75:AB$83,$F$75:$F$83,$F130)","v":0}]
[null,null,null,null,null,null,null,{"$f":"SUM(I131:R131)","v":1},{"$f":"IFERROR(I130/$H130,0%)","v":0.35294117647058826},{"$f":"IFERROR(J130/$H130,0%)","v":0},{"$f":"IFERROR(K130/$H130,0%)","v":0},{"$f":"IFERROR(L130/$H130,0%)","v":0},{"$f":"IFERROR(M130/$H130,0%)","v":0},{"$f":"IFERROR(N130/$H130,0%)","v":0},{"$f":"IFERROR(O130/$H130,0%)","v":0.23529411764705882},{"$f":"IFERROR(P130/$H130,0%)","v":0.23529411764705882},{"$f":"IFERROR(Q130/$H130,0%)","v":0.17647058823529413},{"$f":"IFERROR(R130/$H130,0%)","v":0}]
[null,null,null,null,{"$f":"IFERROR(VLOOKUP(F132,조건기초!$F$5:$AR$34,39,0),\"\")","v":""},"알파메스틱 중캡",null,{"$f":"SUMIFS(R$75:R$83,$F$75:$F$83,$F132)","v":689},{"$f":"SUMIFS(S$75:S$83,$F$75:$F$83,$F132)","v":434},{"$f":"SUMIFS(T$75:T$83,$F$75:$F$83,$F132)","v":15},{"$f":"SUMIFS(U$75:U$83,$F$75:$F$83,$F132)","v":0},{"$f":"SUMIFS(V$75:V$83,$F$75:$F$83,$F132)","v":9},{"$f":"SUMIFS(W$75:W$83,$F$75:$F$83,$F132)","v":0},{"$f":"SUMIFS(X$75:X$83,$F$75:$F$83,$F132)","v":17},{"$f":"SUMIFS(Y$75:Y$83,$F$75:$F$83,$F132)","v":189},{"$f":"SUMIFS(Z$75:Z$83,$F$75:$F$83,$F132)","v":25},{"$f":"SUMIFS(AA$75:AA$83,$F$75:$F$83,$F132)","v":0},{"$f":"SUMIFS(AB$75:AB$83,$F$75:$F$83,$F132)","v":0}]
[null,null,null,null,null,null,null,{"$f":"SUM(I133:R133)","v":1},{"$f":"IFERROR(I132/$H132,0%)","v":0.62989840348330917},{"$f":"IFERROR(J132/$H132,0%)","v":2.1770682148040638E-2},{"$f":"IFERROR(K132/$H132,0%)","v":0},{"$f":"IFERROR(L132/$H132,0%)","v":1.3062409288824383E-2},{"$f":"IFERROR(M132/$H132,0%)","v":0},{"$f":"IFERROR(N132/$H132,0%)","v":2.4673439767779391E-2},{"$f":"IFERROR(O132/$H132,0%)","v":0.27431059506531202},{"$f":"IFERROR(P132/$H132,0%)","v":3.6284470246734396E-2},{"$f":"IFERROR(Q132/$H132,0%)","v":0},{"$f":"IFERROR(R132/$H132,0%)","v":0}]
[null,null,null,null,{"$f":"IFERROR(VLOOKUP(F134,조건기초!$F$5:$AR$34,39,0),\"\")","v":""},"미떼 용기",null,{"$f":"SUMIFS(R$75:R$83,$F$75:$F$83,$F134)","v":0},{"$f":"SUMIFS(S$75:S$83,$F$75:$F$83,$F134)","v":0},{"$f":"SUMIFS(T$75:T$83,$F$75:$F$83,$F134)","v":0},{"$f":"SUMIFS(U$75:U$83,$F$75:$F$83,$F134)","v":0},{"$f":"SUMIFS(V$75:V$83,$F$75:$F$83,$F134)","v":0},{"$f":"SUMIFS(W$75:W$83,$F$75:$F$83,$F134)","v":0},{"$f":"SUMIFS(X$75:X$83,$F$75:$F$83,$F134)","v":0},{"$f":"SUMIFS(Y$75:Y$83,$F$75:$F$83,$F134)","v":0},{"$f":"SUMIFS(Z$75:Z$83,$F$75:$F$83,$F134)","v":0},{"$f":"SUMIFS(AA$75:AA$83,$F$75:$F$83,$F134)","v":0},{"$f":"SUMIFS(AB$75:AB$83,$F$75:$F$83,$F134)","v":0}]
[null,null,null,null,null,null,null,{"$f":"SUM(I135:R135)","v":0},{"$f":"IFERROR(I134/$H134,0%)","v":0},{"$f":"IFERROR(J134/$H134,0%)","v":0},{"$f":"IFERROR(K134/$H134,0%)","v":0},{"$f":"IFERROR(L134/$H134,0%)","v":0},{"$f":"IFERROR(M134/$H134,0%)","v":0},{"$f":"IFERROR(N134/$H134,0%)","v":0},{"$f":"IFERROR(O134/$H134,0%)","v":0},{"$f":"IFERROR(P134/$H134,0%)","v":0},{"$f":"IFERROR(Q134/$H134,0%)","v":0},{"$f":"IFERROR(R134/$H134,0%)","v":0}]
[null,null,null,null,{"$f":"IFERROR(VLOOKUP(F136,조건기초!$F$5:$AR$34,39,0),\"\")","v":""},"미떼 캡",null,{"$f":"SUMIFS(R$75:R$83,$F$75:$F$83,$F136)","v":0},{"$f":"SUMIFS(S$75:S$83,$F$75:$F$83,$F136)","v":0},{"$f":"SUMIFS(T$75:T$83,$F$75:$F$83,$F136)","v":0},{"$f":"SUMIFS(U$75:U$83,$F$75:$F$83,$F136)","v":0},{"$f":"SUMIFS(V$75:V$83,$F$75:$F$83,$F136)","v":0},{"$f":"SUMIFS(W$75:W$83,$F$75:$F$83,$F136)","v":0},{"$f":"SUMIFS(X$75:X$83,$F$75:$F$83,$F136)","v":0},{"$f":"SUMIFS(Y$75:Y$83,$F$75:$F$83,$F136)","v":0},{"$f":"SUMIFS(Z$75:Z$83,$F$75:$F$83,$F136)","v":0},{"$f":"SUMIFS(AA$75:AA$83,$F$75:$F$83,$F136)","v":0},{"$f":"SUMIFS(AB$75:AB$83,$F$75:$F$83,$F136)","v":0}]
[null,null,null,null,null,null,null,{"$f":"SUM(I137:R137)","v":0},{"$f":"IFERROR(I136/$H136,0%)","v":0},{"$f":"IFERROR(J136/$H136,0%)","v":0},{"$f":"IFERROR(K136/$H136,0%)","v":0},{"$f":"IFERROR(L136/$H136,0%)","v":0},{"$f":"IFERROR(M136/$H136,0%)","v":0},{"$f":"IFERROR(N136/$H136,0%)","v":0},{"$f":"IFERROR(O136/$H136,0%)","v":0},{"$f":"IFERROR(P136/$H136,0%)","v":0},{"$f":"IFERROR(Q136/$H136,0%)","v":0},{"$f":"IFERROR(R136/$H136,0%)","v":0}]
[null,null,null,null,{"$f":"IFERROR(VLOOKUP(F138,조건기초!$F$5:$AR$34,39,0),\"\")","v":""},"닥터유 민트용기 하",null,{"$f":"SUMIFS(R$75:R$83,$F$75:$F$83,$F138)","v":111},{"$f":"SUMIFS(S$75:S$83,$F$75:$F$83,$F138)","v":0},{"$f":"SUMIFS(T$75:T$83,$F$75:$F$83,$F138)","v":0},{"$f":"SUMIFS(U$75:U$83,$F$75:$F$83,$F138)","v":0},{"$f":"SUMIFS(V$75:V$83,$F$75:$F$83,$F138)","v":15},{"$f":"SUMIFS(W$75:W$83,$F$75:$F$83,$F138)","v":0},{"$f":"SUMIFS(X$75:X$83,$F$75:$F$83,$F138)","v":0},{"$f":"SUMIFS(Y$75:Y$83,$F$75:$F$83,$F138)","v":30},{"$f":"SUMIFS(Z$75:Z$83,$F$75:$F$83,$F138)","v":66},{"$f":"SUMIFS(AA$75:AA$83,$F$75:$F$83,$F138)","v":0},{"$f":"SUMIFS(AB$75:AB$83,$F$75:$F$83,$F138)","v":0}]
[null,null,null,null,null,null,null,{"$f":"SUM(I139:R139)","v":1},{"$f":"IFERROR(I138/$H138,0%)","v":0},{"$f":"IFERROR(J138/$H138,0%)","v":0},{"$f":"IFERROR(K138/$H138,0%)","v":0},{"$f":"IFERROR(L138/$H138,0%)","v":0.13513513513513514},{"$f":"IFERROR(M138/$H138,0%)","v":0},{"$f":"IFERROR(N138/$H138,0%)","v":0},{"$f":"IFERROR(O138/$H138,0%)","v":0.27027027027027029},{"$f":"IFERROR(P138/$H138,0%)","v":0.59459459459459463},{"$f":"IFERROR(Q138/$H138,0%)","v":0},{"$f":"IFERROR(R138/$H138,0%)","v":0}]
[null,null,null,null,null,"합 계",null,{"$f":"SUM(I140:R140)","v":3091},{"$f":"SUM(I122,I124,I126,I128,I130,I132,I134,I136,I138,)","v":2130},{"$f":"SUM(J122,J124,J126,J128,J130,J132,J134,J136,J138,)","v":15},0,48,0,22,609,225,29,13]
[null,null,null,null,null,null,null,{"$f":"IFERROR(SUM(I141:R141),0%)","v":1.0255474452554745},{"$f":"IFERROR(I140/$H$117,\"\")","v":0.70670205706702061},{"$f":"IFERROR(J140/$H$117,\"\")","v":4.9767750497677508E-3},{"$f":"IFERROR(K140/$H$117,\"\")","v":0},{"$f":"IFERROR(L140/$H$117,\"\")","v":1.5925680159256803E-2},{"$f":"IFERROR(M140/$H$117,\"\")","v":0},{"$f":"IFERROR(N140/$H$117,\"\")","v":7.2992700729927005E-3},{"$f":"IFERROR(O140/$H$117,\"\")","v":0.20205706702057066},{"$f":"IFERROR(P140/$H$117,\"\")","v":7.4651625746516251E-2},{"$f":"IFERROR(Q140/$H$117,\"\")","v":9.621765096217651E-3},{"$f":"IFERROR(R140/$H$117,\"\")","v":4.3132050431320505E-3}]
[]
[null,null,null,null,"제품번호","품명",null,"검사수량","기능성불량",null,null,null,null,null,"위생불량",null,null,"기타"]
[null,null,null,null,null,null,null,null,"흑점","버","게이트버","찍힘외","웰더","미성형","기름","이물","오염","기타"]
[null,null,null,null,{"$f":"IFERROR(VLOOKUP(F145,조건기초!$F$5:$AR$34,39,0),\"\")","v":""},"알파메스틱 용기",null,{"$f":"H99+H122","v":1450},{"$f":"I99+I122","v":939},0,0,9,0,2,251,110,40,101]
[null,null,null,null,null,null,null,{"$f":"SUM(I146:R146)","v":1.0013793103448276},{"$f":"IFERROR(I145/$H145,0%)","v":0.64758620689655177},{"$f":"IFERROR(J145/$H145,0%)","v":0},{"$f":"IFERROR(K145/$H145,0%)","v":0},{"$f":"IFERROR(L145/$H145,0%)","v":6.2068965517241377E-3},{"$f":"IFERROR(M145/$H145,0%)","v":0},{"$f":"IFERROR(N145/$H145,0%)","v":1.3793103448275861E-3},{"$f":"IFERROR(O145/$H145,0%)","v":0.17310344827586208},{"$f":"IFERROR(P145/$H145,0%)","v":7.586206896551724E-2},{"$f":"IFERROR(Q145/$H145,0%)","v":2.7586206896551724E-2},{"$f":"IFERROR(R145/$H145,0%)","v":6.9655172413793098E-2}]
[null,null,null,null,{"$f":"IFERROR(VLOOKUP(F147,조건기초!$F$5:$AR$34,39,0),\"\")","v":""},"알파메스틱 원피스 캡",null,{"$f":"H101+H124","v":2063},{"$f":"I101+I124","v":1594},0,0,31,0,4,361,38,34,1]
[null,null,null,null,null,null,null,{"$f":"SUM(I148:R148)","v":1.0000000000000002},{"$f":"IFERROR(I147/$H147,0%)","v":0.77266117304895787},{"$f":"IFERROR(J147/$H147,0%)","v":0},{"$f":"IFERROR(K147/$H147,0%)","v":0},{"$f":"IFERROR(L147/$H147,0%)","v":1.5026660203587009E-2},{"$f":"IFERROR(M147/$H147,0%)","v":0},{"$f":"IFERROR(N147/$H147,0%)","v":1.9389238972370335E-3},{"$f":"IFERROR(O147/$H147,0%)","v":0.17498788172564228},{"$f":"IFERROR(P147/$H147,0%)","v":1.8419777023751818E-2},{"$f":"IFERROR(Q147/$H147,0%)","v":1.6480853126514785E-2},{"$f":"IFERROR(R147/$H147,0%)","v":4.8473097430925838E-4}]
[null,null,null,null,{"$f":"IFERROR(VLOOKUP(F149,조건기초!$F$5:$AR$34,39,0),\"\")","v":""},"펌프S 대캡(회색)",null,{"$f":"H103+H126","v":498},195,171,0,11,0,80,18,12,0,11]
[null,null,null,null,null,null,null,{"$f":"SUM(I150:R150)","v":1},{"$f":"IFERROR(I149/$H149,0%)","v":0.39156626506024095},{"$f":"IFERROR(J149/$H149,0%)","v":0.34337349397590361},{"$f":"IFERROR(K149/$H149,0%)","v":0},{"$f":"IFERROR(L149/$H149,0%)","v":2.2088353413654619E-2},{"$f":"IFERROR(M149/$H149,0%)","v":0},{"$f":"IFERROR(N149/$H149,0%)","v":0.1606425702811245},{"$f":"IFERROR(O149/$H149,0%)","v":3.614457831325301E-2},{"$f":"IFERROR(P149/$H149,0%)","v":2.4096385542168676E-2},{"$f":"IFERROR(Q149/$H149,0%)","v":0},{"$f":"IFERROR(R149/$H149,0%)","v":2.2088353413654619E-2}]
[null,null,null,null,{"$f":"IFERROR(VLOOKUP(F151,조건기초!$F$5:$AR$34,39,0),\"\")","v":""},"펌프 외병",null,{"$f":"H105+H128","v":389},10,113,60,59,0,22,99,10,13,3]
[null,null,null,null,null,null,null,{"$f":"SUM(I152:R152)","v":1},{"$f":"IFERROR(I151/$H151,0%)","v":2.570694087403599E-2},{"$f":"IFERROR(J151/$H151,0%)","v":0.29048843187660667},{"$f":"IFERROR(K151/$H151,0%)","v":0.15424164524421594},{"$f":"IFERROR(L151/$H151,0%)","v":0.15167095115681234},{"$f":"IFERROR(M151/$H151,0%)","v":0},{"$f":"IFERROR(N151/$H151,0%)","v":5.6555269922879174E-2},{"$f":"IFERROR(O151/$H151,0%)","v":0.25449871465295631},{"$f":"IFERROR(P151/$H151,0%)","v":2.570694087403599E-2},{"$f":"IFERROR(Q151/$H151,0%)","v":3.3419023136246784E-2},{"$f":"IFERROR(R151/$H151,0%)","v":7.7120822622107968E-3}]
[null,null,null,null,{"$f":"IFERROR(VLOOKUP(F153,조건기초!$F$5:$AR$34,39,0),\"\")","v":""},"알파메스틱 상캡",null,{"$f":"H107+H130","v":167},32,0,0,0,0,0,47,79,9,0]
[null,null,null,null,null,null,null,{"$f":"SUM(I154:R154)","v":1},{"$f":"IFERROR(I153/$H153,0%)","v":0.19161676646706588},{"$f":"IFERROR(J153/$H153,0%)","v":0},{"$f":"IFERROR(K153/$H153,0%)","v":0},{"$f":"IFERROR(L153/$H153,0%)","v":0},{"$f":"IFERROR(M153/$H153,0%)","v":0},{"$f":"IFERROR(N153/$H153,0%)","v":0},{"$f":"IFERROR(O153/$H153,0%)","v":0.28143712574850299},{"$f":"IFERROR(P153/$H153,0%)","v":0.47305389221556887},{"$f":"IFERROR(Q153/$H153,0%)","v":5.3892215568862277E-2},{"$f":"IFERROR(R153/$H153,0%)","v":0}]
[null,null,null,null,{"$f":"IFERROR(VLOOKUP(F155,조건기초!$F$5:$AR$34,39,0),\"\")","v":""},"알파메스틱 중캡",null,{"$f":"H109+H132","v":1111},723,15,0,14,0,35,248,43,32,1]
[null,null,null,null,null,null,null,{"$f":"SUM(I156:R156)","v":1},{"$f":"IFERROR(I155/$H155,0%)","v":0.65076507650765081},{"$f":"IFERROR(J155/$H155,0%)","v":1.3501350135013501E-2},{"$f":"IFERROR(K155/$H155,0%)","v":0},{"$f":"IFERROR(L155/$H155,0%)","v":1.2601260126012601E-2},{"$f":"IFERROR(M155/$H155,0%)","v":0},{"$f":"IFERROR(N155/$H155,0%)","v":3.1503150315031501E-2},{"$f":"IFERROR(O155/$H155,0%)","v":0.22322232223222321},{"$f":"IFERROR(P155/$H155,0%)","v":3.8703870387038701E-2},{"$f":"IFERROR(Q155/$H155,0%)","v":2.8802880288028802E-2},{"$f":"IFERROR(R155/$H155,0%)","v":9.0009000900090005E-4}]
[null,null,null,null,{"$f":"IFERROR(VLOOKUP(F157,조건기초!$F$5:$AR$34,39,0),\"\")","v":""},"미떼 용기",null,{"$f":"H111+H134","v":129},23,0,2,15,0,0,6,28,15,40]
[null,null,null,null,null,null,null,{"$f":"SUM(I158:R158)","v":0.99999999999999989},{"$f":"IFERROR(I157/$H157,0%)","v":0.17829457364341086},{"$f":"IFERROR(J157/$H157,0%)","v":0},{"$f":"IFERROR(K157/$H157,0%)","v":1.5503875968992248E-2},{"$f":"IFERROR(L157/$H157,0%)","v":0.11627906976744186},{"$f":"IFERROR(M157/$H157,0%)","v":0},{"$f":"IFERROR(N157/$H157,0%)","v":0},{"$f":"IFERROR(O157/$H157,0%)","v":4.6511627906976744E-2},{"$f":"IFERROR(P157/$H157,0%)","v":0.21705426356589147},{"$f":"IFERROR(Q157/$H157,0%)","v":0.11627906976744186},{"$f":"IFERROR(R157/$H157,0%)","v":0.31007751937984496}]
[null,null,null,null,{"$f":"IFERROR(VLOOKUP(F159,조건기초!$F$5:$AR$34,39,0),\"\")","v":""},"미떼 캡",null,{"$f":"H113+H136","v":185},0,0,0,102,27,13,0,0,0,43]
[null,null,null,null,null,null,null,{"$f":"SUM(I160:R160)","v":1},{"$f":"IFERROR(I159/$H159,0%)","v":0},{"$f":"IFERROR(J159/$H159,0%)","v":0},{"$f":"IFERROR(K159/$H159,0%)","v":0},{"$f":"IFERROR(L159/$H159,0%)","v":0.55135135135135138},{"$f":"IFERROR(M159/$H159,0%)","v":0.14594594594594595},{"$f":"IFERROR(N159/$H159,0%)","v":7.0270270270270274E-2},{"$f":"IFERROR(O159/$H159,0%)","v":0},{"$f":"IFERROR(P159/$H159,0%)","v":0},{"$f":"IFERROR(Q159/$H159,0%)","v":0},{"$f":"IFERROR(R159/$H159,0%)","v":0.23243243243243245}]
[null,null,null,null,{"$f":"IFERROR(VLOOKUP(F161,조건기초!$F$5:$AR$34,39,0),\"\")","v":""},"닥터유 민트용기 하",null,{"$f":"H115+H138","v":111},0,0,0,15,0,0,30,66,0,0]
[null,null,null,null,null,null,null,{"$f":"SUM(I162:R162)","v":1},{"$f":"IFERROR(I161/$H161,0%)","v":0},{"$f":"IFERROR(J161/$H161,0%)","v":0},{"$f":"IFERROR(K161/$H161,0%)","v":0},{"$f":"IFERROR(L161/$H161,0%)","v":0.13513513513513514},{"$f":"IFERROR(M161/$H161,0%)","v":0},{"$f":"IFERROR(N161/$H161,0%)","v":0},{"$f":"IFERROR(O161/$H161,0%)","v":0.27027027027027029},{"$f":"IFERROR(P161/$H161,0%)","v":0.59459459459459463},{"$f":"IFERROR(Q161/$H161,0%)","v":0},{"$f":"IFERROR(R161/$H161,0%)","v":0}]
[null,null,null,null,null,"합 계",null,{"$f":"SUM(I163:R163)","v":6105},{"$f":"SUM(I145,I147,I149,I151,I153,I155,I157,I159,I161,)","v":3516},{"$f":"SUM(J145,J147,J149,J151,J153,J155,J157,J159,J161,)","v":299},62,256,27,156,1060,386,143,200]
[null,null,null,null,null,null,null,{"$f":"IFERROR(SUM(I164:R164),0%)","v":1},{"$f":"IFERROR(I163/$H$163,\"\")","v":0.57592137592137593},{"$f":"IFERROR(J163/$H$163,\"\")","v":4.8976248976248977E-2},1.0155610155610156E-2,4.1932841932841934E-2,4.4226044226044229E-3,2.5552825552825554E-2,0.17362817362817362,6.3226863226863231E-2,2.3423423423423424E-2,3.276003276003276E-2]
[null,null,null,null,null,null,null,{"$f":"SUM(I163:N163)","v":4316},{"$f":"I163/$H$165","v":0.81464318813716408},{"$f":"J163/$H$165","v":6.9277108433734941E-2},1.4365152919369786E-2,5.9314179796107508E-2,6.2557924003707136E-3,{"$f":"N163/$H$165","v":3.614457831325301E-2},null,null,null,{"$f":"R164","v":3.276003276003276E-2}]
[null,null,null,null,null,null,null,null,null,null,null,null,null,{"$f":"SUM(O163:Q163)","v":1589},{"$f":"O163/$N$166","v":0.66708621774701071},{"$f":"P163/$N$166","v":0.24292007551919445},{"$f":"Q163/$N$166","v":8.9993706733794837E-2}]
[null,null,null,null,"3,4주차 합 계",null,null,{"$f":"H117+H140","v":6105},{"$f":"I117+I140","v":3516},299,62,256,27,156,1060,386,143,200]
[null,null,null,null,null,null,null,{"$f":"IFERROR(SUM(I168:R168),0%)","v":1},{"$f":"IFERROR(I167/$H$167,\"\")","v":0.57592137592137593},{"$f":"IFERROR(J167/$H$167,\"\")","v":4.8976248976248977E-2},1.0155610155610156E-2,4.1932841932841934E-2,4.4226044226044229E-3,2.5552825552825554E-2,0.17362817362817362,6.3226863226863231E-2,2.3423423423423424E-2,3.276003276003276E-2]
[]
[null,null,null,null,null,null,null,null,null,null,null,null,null,{"$f":"SUM(I164:N164)","v":0.70696150696150706},{"$f":"SUM(O164:Q164)","v":0.26027846027846024},{"$f":"R164","v":3.276003276003276E-2}]

{"sheet":"사진자료12","index":5,"n_rows":231,"n_cols":13,"rows_kept":231,"cut":false,"hidden":false,"merged":[[218,1,229,1],[218,2,229,6],[218,7,229,11],[194,1,205,1],[194,2,205,6],[194,7,205,11],[206,1,217,1],[206,2,217,6],[206,7,217,11],[170,2,181,6],[170,7,181,11],[182,1,193,1],[182,2,193,6],[182,7,193,11],[2,1,13,1],[2,2,13,6],[2,7,13,11],[1,2,1,6],[1,7,1,11],[14,1,25,1],[14,2,25,6],[14,7,25,11],[26,1,37,1],[26,2,37,6],[26,7,37,11],[38,1,49,1],[38,2,49,6],[38,7,49,11],[50,1,61,1],[50,2,61,6],[50,7,61,11],[62,1,73,1],[62,2,73,6],[62,7,73,11],[74,1,85,1],[74,2,85,6],[74,7,85,11],[110,1,121,1],[110,2,121,6],[110,7,121,11],[86,1,97,1],[86,2,97,6],[86,7,97,11],[98,1,109,1],[98,2,109,6],[98,7,109,11],[230,1,241,1],[230,2,241,6],[230,7,241,11],[122,1,133,1],[122,2,133,6],[122,7,133,11],[134,1,145,1],[134,2,145,6],[134,7,145,11],[146,1,157,1],[146,2,157,6],[146,7,157,11],[158,1,169,1],[158,2,169,6],[158,7,169,11],[170,1,181,1]]}
[]
[null,"일 자","최다불량",null,null,null,null,"그 외"]
[null,"2014-12-01",null,null,null,null,null,null,null,null,null,null,"√ 금일 이슈 사항은 ① 알파투캡 상캡 성형불량(초도)과  ② 민트용기 하 색상변경에 의한 색상 불량(그린->레드)"]
[]
[]
[]
[]
[]
[]
[]
[]
[]
[]
[]
[null,"2014-12-02"]
[]
[]
[]
[]
[]
[]
[]
[]
[]
[]
[]
[null,"2014-12-03"]
[]
[]
[]
[]
[]
[]
[]
[]
[]
[]
[]
[null,"2014-12-04"]
[]
[]
[]
[]
[]
[]
[]
[]
[]
[]
[]
[null,"2014-12-05"]
[]
[]
[]
[]
[]
[]
[]
[]
[]
[]
[]
[null,"2014-12-08"]
[]
[]
[]
[]
[]
[]
[]
[]
[]
[]
[]
[null,"2014-12-09"]
[]
[]
[]
[]
[]
[]
[]
[]
[]
[]
[]
[null,"2014-12-10"]
[]
[]
[]
[]
[]
[]
[]
[]
[]
[]
[]
[null,"2014-12-11"]
[]
[]
[]
[]
[]
[]
[]
[]
[]
[]
[]
[null,"2014-12-12"]
[]
[]
[]
[]
[]
[]
[]
[]
[]
[]
[]
[null,"2014-12-15"]
[]
[]
[]
[]
[]
[]
[]
[]
[]
[]
[]
[null,"2014-12-16"]
[]
[]
[]
[]
[]
[]
[]
[]
[]
[]
[]
[null,"2014-12-17"]
[]
[]
[]
[]
[]
[]
[]
[]
[]
[]
[]
[null,"2014-12-18"]
[]
[]
[]
[]
[]
[]
[]
[]
[]
[]
[]
[null,"2014-12-19"]
[]
[]
[]
[]
[]
[]
[]
[]
[]
[]
[]
[null,"2014-12-22"]
[]
[]
[]
[]
[]
[]
[]
[]
[]
[]
[]
[null,"2014-12-23"]
[]
[]
[]
[]
[]
[]
[]
[]
[]
[]
[]
[null,"2014-12-24"]
[]
[]
[]
[]
[]
[]
[]
[]
[]
[]
[]
[null,"2014-12-25"]
[]
[]
[]
[]
[]
[]
[]
[]
[]
[]
[]
[null,"2014-12-26"]

{"sheet":"Sheet2","index":6,"n_rows":107,"n_cols":14,"rows_kept":107,"cut":false,"hidden":false,"merged":[]}
[null,null,null,"미떼캡","알파원캡","알파중캡","알파상캡","민트상","민트하","펌프내병","펌프외병","대캡(회색","미떼용기"]
[null,"2014-11-27","주",null,null,8144,null,{"$f":"2024*8","v":16192},13800]
[null,null,"야",null,null,17264,12572,{"$f":"4647*8","v":37176},31472]
[null,"2014-11-28","주",null,null,27092,24108,{"$f":"6881*8","v":55048},46704]
[null,null,"야",null,null,8508,6076,{"$f":"2694*8","v":21552},20600]
[null,"2014-12-01","주",null,null,15676,8640,{"$f":"4434*8","v":35472},32240]
[null,null,"야",null,null,25960,21288,{"$f":"7018*8","v":56144},49464]
[null,"2014-12-02","주",null,null,8460,10232,17120,14112]
[null,null,"야",null,null,17804,21500,{"$f":"4390*8","v":35120},30840]
[null,"2014-12-03","주",null,null,8600,10380,{"$f":"4760*8","v":38080},10736]
[null,null,"야",null,null,17316,10380,{"$f":"7319*8","v":58552},20352]
[null,"2014-12-04","주",null,null,26192,21452,{"$f":"9491*8","v":75928},34480]
[null,null,"야",null,{"$f":"501*4","v":2004},30292,24724,{"$f":"12074*8","v":96592},49184,{"$f":"2105464*4","v":8421856}]
[null,"2014-12-05","주",null,{"$f":"1995*4","v":7980},30292,24724,{"$f":"14052*8","v":112416},63832,{"$f":"2106794*4","v":8427176}]
[null,null,"야",null,{"$f":"4045*4","v":16180},30292,24724,{"$f":"16461*8","v":131688},80248,{"$f":"2108704*4","v":8434816},{"$f":"1937*4","v":7748}]
[null,"2014-12-08","주",null,{"$f":"5820*4","v":23280},30292,24724,{"$f":"18540*8","v":148320},94624,{"$f":"2108704*4","v":8434816},{"$f":"1937*4","v":7748}]
[null,null,"야",null,{"$f":"8000*4","v":32000},30292,24724,{"$f":"21100*8","v":168800},112568,8434816,7748]
[null,"2014-12-09","주",null,{"$f":"9859*4","v":39436},34828,28960,{"$f":"21100*8","v":168800},112568,8434816,7748]
[null,null,"야",null,{"$f":"12040*4","v":48160},41208,41208,{"$f":"21100*8","v":168800},112568,8434816,7748,{"$f":"18050*4","v":72200}]
[null,"2014-12-10","주",null,{"$f":"13917*4","v":55668},53724,51856,{"$f":"22247*8","v":177976},112568,8434816,7748,{"$f":"18992*4","v":75968}]
[null,null,"야",null,64466,63872,64168,199225,112568,8434816,7748,9654]
[null,"2014-12-11","주",null,{"$f":"17945*4","v":71780},72484,74596,{"$f":"25666*8","v":205328},118280,8434816,7748,{"$f":"3459*4","v":13836}]
[null,null,"야",null,80502,82628,76792,0,134814,8434816,7748,0]
[null,"2014-12-12","주",null,{"$f":"21992*4","v":87968},91380,81132,0,149880,8434816,7748]
[null,null,"야",null,96896,101500,91324,0,167545,8434816,7748]
[null,"2014-12-15","주",{"$f":"72565*4","v":290260},null,108492,102628,{"$f":"2255*8","v":18040},11574]
[null,null,"야",{"$f":"74123*4","v":296492},null,117896,114004,{"$f":"3011*8","v":24088},26526]
[null,"2014-12-16","주",{"$f":"75482*4","v":301928},null,125396,124260,{"$f":"5050*8","v":40400},39324]
[null,null,"야",{"$f":"77076*4","v":308304},null,134624,{"$f":"128860+220","v":129080},{"$f":"7666*8","v":61328},54162]
[null,"2014-12-17","주",{"$f":"77916*4","v":311664},null,142732,{"$f":"10920-220","v":10700},{"$f":"2257*8","v":18056},67122]
[null,null,"야",null,null,153060,16316,{"$f":"4869*8","v":38952},81954]
[null,"2014-12-18","주",null,null,162120,26936,{"$f":"6096*8","v":48768},94884]
[null,null,"야",null,null,172400,39040,null,10974]
[null,"2014-12-19","주",null,null,176628,42406,null,12296]
[null,null,"야",{"$f":"13057*4","v":52228},null,176628,42406,null,null,null,null,null,{"$f":"210492*4","v":841968}," "]
[null,"2014-12-22","주",{"$f":"14073*4","v":56292},null,185212,46484,null,null,null,null,null,{"$f":"211608*4","v":846432}]
[null,null,"야",{"$f":"15715*4","v":62860},null,195192,58244,null,null,null,null,null,{"$f":"213062*4","v":852248}]
[null,"2014-12-23","주"]
[null,null,"야"]
[]
[]
[]
[]
[]
[]
[]
[]
[]
[]
[]
[]
[]
[]
[]
[]
[]
[]
[]
[null,"2014-11-27","주",null,{"$f":"E2","v":0},8144,0,16192,13800,0,0,{"$f":"L2","v":0},0]
[null,null,"야",null,{"$f":"E3-E2","v":0},9120,12572,20984,17672,0,0,{"$f":"L3-L2","v":0},0]
[null,"2014-11-28","주",null,0,9828,11536,17872,15232,0,0,{"$f":"L4-L3","v":0},0]
[null,null,"야",null,0,-18584,-18032,-33496,-26104,0,0,{"$f":"L5-L4","v":0},0]
[null,"2014-12-01","주",null,0,7168,2564,13920,11640,0,0,{"$f":"L6-L5","v":0},0]
[null,null,"야",null,0,10284,12648,20672,17224,0,0,{"$f":"L7-L6","v":0},0]
[null,"2014-12-02","주",null,{"$f":"E8-E7","v":0},8460,10232,{"$f":"2140*8","v":17120},14112]
[null,null,"야",null,0,{"$f":"F9-F8","v":9344},11268,18000,16728,0,0,{"$f":"L9-L8","v":0},0]
[null,"2014-12-03","주",null,0,8600,10380,{"$f":"H10-H9","v":2960},10736]
[null,null,"야",null,0,{"$f":"F11-F10","v":8716},0,20472,{"$f":"I11-I10","v":9616},0,0,{"$f":"L11-L10","v":0},0]
[null,"2014-12-04","주",null,0,8876,11072,17376,14128,0,0,{"$f":"L12-L11","v":0},0]
[null,null,"야",null,null,4100,3272,20664,{"$f":"I13-I12","v":14704},null,{"$f":"K13-K12","v":0},0,{"$f":"M13-M12","v":0}]
[null,"2014-12-05","주",null,{"$f":"E14-E13","v":5976},0,0,15824,14648,{"$f":"J14-J13","v":5320},0,0,{"$f":"M14-M13","v":0}]
[null,null,"야",null,8200,0,0,19272,16416,{"$f":"J15-J14","v":7640},7748,0,{"$f":"M15-M14","v":0}]
[null,"2014-12-08","주",null,7100,{"$f":"F16-F15","v":0},null,16632,14376]
[null,null,"야",null,8720,0,{"$f":"G17-G16","v":0},20480,17944,{"$f":"J17-J16","v":0},0,{"$f":"L17-L16","v":0},0]
[null,"2014-12-09","주",null,7436,4536,{"$f":"G18-G17","v":4236},0,0,0,0,0,0]
[null,null,"야",null,8724,6380,12248,0,0,0,0,72200,0]
[null,"2014-12-10","주",null,7508,12516,10648,9176,0,0,0,3768]
[null,null,"야",null,8798,10148,12312,21249,0,0,0,9654]
[null,"2014-12-11","주",null,7314,8612,10428,{"$f":"H22-H21","v":6103},{"$f":"I22-I21","v":5712},{"$f":"J22-J21","v":0},0,4182]
[null,null,"야",null,8722,10144,{"$f":"G23-G22","v":2196},{"$f":"H23-H22","v":-205328},16534,0,0,0]
[null,"2014-12-12","주",null,7466,8752,4340,{"$f":"H24-H23","v":0},{"$f":"I24-I23","v":15066},0,0,0]
[null,null,"야",{"$f":"D25-D24","v":0},{"$f":"E25-E24","v":8928},10120,10192,0,{"$f":"I25-I24","v":17665},0,0,0,0]
[null,"2014-12-15","주",null,{"$f":"E26-E25","v":-96896},6992,11304,18040,11574,null,null,0,0]
[null,null,"야",{"$f":"D27-D26","v":6232},0,9404,11376,6048,{"$f":"I27-I26","v":14952},0,0,0,0]
[null,"2014-12-16","주",5436,0,7500,10256,16312,{"$f":"I28-I27","v":12798},0,0,0,0]
[null,null,"야",{"$f":"D29-D28","v":6376},0,9228,4820,20928,{"$f":"I29-I28","v":14838},0,0,0,0]
[null,"2014-12-17","주",{"$f":"D30-D29","v":3360},0,8108,10700,18056,{"$f":"I30-I29","v":12960},0,0,0,0]
[null,null,"야",{"$f":"D31-D30","v":-311664},0,10328,5396,20896,14832,0,0,0,0]
[null,"2014-12-18","주",0,0,9060,10620,9816,12930,0,0,0,0]
[null,null,"야",0,0,10280,12104,-48768,-83910,0,0,0,0]
[null,"2014-12-19","주",0,0,4228,3366,0,1322,0,0,0,0]
[null,null,"야",52228,0,0,0,0,-12296,0,0,0,841968]
[null,"2014-12-22","주",4064,0,8584,4078,0,0,0,0,0,4464]
[null,null,"야",6568,0,9980,11760,0,0,0,0,0,5816]
[null,"2014-12-23","주",-62860,0,-195192,-58244,0,0,0,0,0,-852248]
[null,null,"야",0,0,0,0,0,0,0,0,0,0]
[null,null,null,0,0,0,0,0,null,{"$f":"J40-J39","v":0},0,0,0]
[null,null,null,0,0,0,0,0,null,{"$f":"J41-J40","v":0},0,0,0]
[null,null,null,0,null,{"$f":"F42-F41","v":0},0,null,null,{"$f":"J42-J41","v":0},0,0,0]
[null,null,null,null,null,null,null,null,null,{"$f":"J43-J42","v":0},0,0,0]
[null,null,null,null,null,null,null,null,null,{"$f":"J44-J43","v":0},0,0,0]
[null,null,null,null,null,null,null,null,null,{"$f":"J45-J44","v":0},0]
[null,null,null,null,null,null,null,null,null,{"$f":"J46-J45","v":0}]
[null,null,null,null,null,null,null,null,null,{"$f":"J47-J46","v":0}]
[null,null,null,null,null,null,null,null,null,{"$f":"J48-J47","v":0}]
[null,null,null,null,null,null,null,null,null,{"$f":"J49-J48","v":0}]
[null,null,null,null,null,null,null,null,null,{"$f":"J50-J49","v":0}]