{"text_format":"1","workbook":"xlsx","n_sheets":5,"sheets":["사용방법","0. 서식 인쇄","1. 직접 작성 후 인쇄","2-1 정렬 작성","2-2 인쇄"],"not_rendered":{"charts":0,"images":0,"macros":1,"external_links":0,"defined_names":5,"comments":0,"pivot_tables":0},"unopened":[],"bounds":{"document_bytes":16777216,"sheet_cells":100000,"rows_first":2000,"rows_last":500,"rows_between":2000,"halvings":0,"cell_chars":16384,"cell_head_chars":4096},"cells_cut":0,"cells_raw":0,"read":"whole","date_system":"1900"}

{"sheet":"사용방법","index":0,"n_rows":12,"n_cols":2,"rows_kept":12,"cut":false,"hidden":false,"merged":[]}
[]
[null,"1. A4용지에 방향을 표시 한 후 프린터에 넣습니다."]
[]
[null,"2. 시트 [0. 서식 인쇄]를 인쇄합니다."]
[]
[null,"3. 인쇄 된 A4용지를 얻을 수 있는데 가이드에 맞게 포스트잇 플래그를 붙입니다"]
[]
[null,"4. 그리고 시트[1. 직접 작성 후 인쇄] 나 시트[2-1 정렬작성] 중 원하는 방식으로 내용을 작성합니다."]
[]
[null,"5. 포스트잇 플래그를 붙인 [0. 서식인쇄]를 프린터기에 넣습니다. (방향확인 필수)"]
[]
[null,"6. 작성 한 시트를 인쇄합니다."]

{"sheet":"0. 서식 인쇄","index":1,"n_rows":0,"n_cols":0,"rows_kept":0,"cut":false,"hidden":false,"merged":[]}

{"sheet":"1. 직접 작성 후 인쇄","index":2,"n_rows":0,"n_cols":0,"rows_kept":0,"cut":false,"hidden":false,"merged":[]}

{"sheet":"2-1 정렬 작성","index":3,"n_rows":56,"n_cols":3,"rows_kept":56,"cut":false,"hidden":false,"merged":[]}
[]
[null,"구분","내용"]
[null,{"$f":"ROW(B3)-2","v":1}]
[null,2]
[null,3]
[null,4]
[null,5]
[null,6]
[null,7]
[null,8]
[null,9]
[null,10]
[null,11]
[null,12]
[null,13]
[null,14]
[null,15]
[null,16]
[null,17]
[null,18]
[null,19]
[null,20]
[null,21]
[null,22]
[null,23]
[null,24]
[null,25]
[null,26]
[null,27]
[null,28]
[null,{"$f":"ROW(B31)-2","v":29}]
[null,30]
[null,31]
[null,32]
[null,33]
[null,34]
[null,35]
[null,36]
[null,37]
[null,38]
[null,39]
[null,40]
[null,41]
[null,42]
[null,43]
[null,44]
[null,45]
[null,46]
[null,47]
[null,48]
[null,49]
[null,50]
[null,51]
[null,52]
[null,53]
[null,54]

{"sheet":"2-2 인쇄","index":4,"n_rows":36,"n_cols":9,"rows_kept":36,"cut":false,"hidden":false,"merged":[]}
[]
[null,null,{"$f":"'2-1 정렬 작성'!$C$3&\"\"","v":""},null,null,{"$f":"'2-1 정렬 작성'!$C$21&\"\"","v":""},null,null,{"$f":"'2-1 정렬 작성'!$C$39&\"\"","v":""}]
[]
[null,null,{"$f":"'2-1 정렬 작성'!$C$4&\"\"","v":""},null,null,{"$f":"'2-1 정렬 작성'!$C$22&\"\"","v":""},null,null,{"$f":"'2-1 정렬 작성'!$C$40&\"\"","v":""}]
[]
[null,null,{"$f":"'2-1 정렬 작성'!$C$5&\"\"","v":""},null,null,{"$f":"'2-1 정렬 작성'!$C$23&\"\"","v":""},null,null,{"$f":"'2-1 정렬 작성'!$C$41&\"\"","v":""}]
[]
[null,null,{"$f":"'2-1 정렬 작성'!$C$6&\"\"","v":""},null,null,{"$f":"'2-1 정렬 작성'!$C$24&\"\"","v":""},null,null,{"$f":"'2-1 정렬 작성'!$C$42&\"\"","v":""}]
[]
[null,null,{"$f":"'2-1 정렬 작성'!$C$7&\"\"","v":""},null,null,{"$f":"'2-1 정렬 작성'!$C$25&\"\"","v":""},null,null,{"$f":"'2-1 정렬 작성'!$C$43&\"\"","v":""}]
[]
[null,null,{"$f":"'2-1 정렬 작성'!$C$8&\"\"","v":""},null,null,{"$f":"'2-1 정렬 작성'!$C$26&\"\"","v":""},null,null,{"$f":"'2-1 정렬 작성'!$C$44&\"\"","v":""}]
[]
[null,null,{"$f":"'2-1 정렬 작성'!$C$9&\"\"","v":""},null,null,{"$f":"'2-1 정렬 작성'!$C$27&\"\"","v":""},null,null,{"$f":"'2-1 정렬 작성'!$C$45&\"\"","v":""}]
[]
[null,null,{"$f":"'2-1 정렬 작성'!$C$10&\"\"","v":""},null,null,{"$f":"'2-1 정렬 작성'!$C$28&\"\"","v":""},null,null,{"$f":"'2-1 정렬 작성'!$C$46&\"\"","v":""}]
[]
[null,null,{"$f":"'2-1 정렬 작성'!$C$11&\"\"","v":""},null,null,{"$f":"'2-1 정렬 작성'!$C$29&\"\"","v":""},null,null,{"$f":"'2-1 정렬 작성'!$C$47&\"\"","v":""}]
[]
[null,null,{"$f":"'2-1 정렬 작성'!$C$12&\"\"","v":""},null,null,{"$f":"'2-1 정렬 작성'!$C$30&\"\"","v":""},null,null,{"$f":"'2-1 정렬 작성'!$C$48&\"\"","v":""}]
[]
[null,null,{"$f":"'2-1 정렬 작성'!$C$13&\"\"","v":""},null,null,{"$f":"'2-1 정렬 작성'!$C$31&\"\"","v":""},null,null,{"$f":"'2-1 정렬 작성'!$C$49&\"\"","v":""}]
[]
[null,null,{"$f":"'2-1 정렬 작성'!$C$14&\"\"","v":""},null,null,{"$f":"'2-1 정렬 작성'!$C$32&\"\"","v":""},null,null,{"$f":"'2-1 정렬 작성'!$C$50&\"\"","v":""}]
[]
[null,null,{"$f":"'2-1 정렬 작성'!$C$15&\"\"","v":""},null,null,{"$f":"'2-1 정렬 작성'!$C$33&\"\"","v":""},null,null,{"$f":"'2-1 정렬 작성'!$C$51&\"\"","v":""}]
[]
[null,null,{"$f":"'2-1 정렬 작성'!$C$16&\"\"","v":""},null,null,{"$f":"'2-1 정렬 작성'!$C$34&\"\"","v":""},null,null,{"$f":"'2-1 정렬 작성'!$C$52&\"\"","v":""}]
[]
[null,null,{"$f":"'2-1 정렬 작성'!$C$17&\"\"","v":""},null,null,{"$f":"'2-1 정렬 작성'!$C$35&\"\"","v":""},null,null,{"$f":"'2-1 정렬 작성'!$C$53&\"\"","v":""}]
[]
[null,null,{"$f":"'2-1 정렬 작성'!$C$18&\"\"","v":""},null,null,{"$f":"'2-1 정렬 작성'!$C$36&\"\"","v":""},null,null,{"$f":"'2-1 정렬 작성'!$C$54&\"\"","v":""}]
[]
[null,null,{"$f":"'2-1 정렬 작성'!$C$19&\"\"","v":""},null,null,{"$f":"'2-1 정렬 작성'!$C$37&\"\"","v":""},null,null,{"$f":"'2-1 정렬 작성'!$C$55&\"\"","v":""}]
[]
[null,null,{"$f":"'2-1 정렬 작성'!$C$20&\"\"","v":""},null,null,{"$f":"'2-1 정렬 작성'!$C$38&\"\"","v":""},null,null,{"$f":"'2-1 정렬 작성'!$C$56&\"\"","v":""}]