{"text_format":"1","workbook":"xlsx","n_sheets":1,"sheets":["해선"],"not_rendered":{"charts":0,"images":0,"macros":1,"external_links":92,"defined_names":1,"comments":0,"pivot_tables":0},"unopened":[],"bounds":{"document_bytes":16777216,"sheet_cells":100000,"rows_first":2000,"rows_last":500,"rows_between":2000,"halvings":0,"cell_chars":16384,"cell_head_chars":4096},"cells_cut":0,"cells_raw":0,"read":"whole","date_system":"1900"}

{"sheet":"해선","index":0,"n_rows":50,"n_cols":39,"rows_kept":50,"cut":false,"hidden":false,"merged":[[3,32,3,38],[0,24,0,38],[2,0,2,5],[2,8,2,13],[2,6,3,6],[2,7,3,7],[2,16,2,21],[3,24,3,30],[0,16,0,18],[0,19,0,21],[1,19,1,21],[1,16,1,18],[0,14,1,15]]}
[null,"현재가","시가","고가","저가","기준가","전일대비",null,"현재가","시가","고가","저가","기준가","전일대비",null,null,{"$f":"TODAY()","v":"2020-11-16"},null,null,{"$f":"NOW()","v":44151.402146990738},null,null,null,null,"DDE DATA"]
["선물",{"$f":"+AA3","v":338.45},{"$f":"+AB3","v":335.5},{"$f":"+AC3","v":338.7},{"$f":"+AD3","v":334.35},{"$f":"+AE3","v":333.1},{"$f":"B2/F2-1","v":1.6061242870008874E-2},"코스피200",{"$f":"+AI3","v":338.43},{"$f":"+AJ3","v":335.2},{"$f":"+AK3","v":338.7},{"$f":"+AL3","v":335.2},{"$f":"+AM3","v":333.03},{"$f":"I2/M2-1","v":1.6214755427438998E-2},null,null,"기록시작",null,null,44151.400256944442,null,null,null,null,"종목코드","종목명","현재가","시가","고가","저가","기준가",null,"종목코드","종목명","현재가","시가","고가","저가","기준가"]
["CALL OPTION",null,null,null,null,null,"시가등가",{"$f":"ROUND(J2/2.5,0)*2.5","v":335},"PUT OPTION",null,null,null,null,null,null,null,"CALL PUT 양합",null,null,null,null,null,null,null,{"$f":"[1]!'9001'","v":"'101QC000"},{"$f":"[1]!'302'","v":"F 202012"},{"$f":"[1]!'10'","v":338.45},{"$f":"[1]!'16'","v":335.5},{"$f":"[1]!'17'","v":338.7},{"$f":"[1]!'18'","v":334.35},{"$f":"[1]!'307'","v":333.1},null,{"$f":"[2]!'9001'","v":"'201"},{"$f":"[2]!'302'","v":"KOSPI200"},{"$f":"[2]!'10'","v":338.43},{"$f":"[2]!'16'","v":335.2},{"$f":"[2]!'17'","v":338.7},{"$f":"[2]!'18'","v":335.2},{"$f":"[2]!'307'","v":333.03}]
["현재위치","현재가","시가","고가","저가","기준가",null,null,"현재가","시가","고가","저가","기준가","현재위치","우위","차이","현재가","시가","고가","저가","기준가","현재위치",null,null,"CALL OPTION",null,null,null,null,null,null,null,"PUT OPTION"]
[{"$f":"(B5-E5)/(D5-E5)","v":0.93333333333333324},{"$f":"VLOOKUP($G5,$Y$6:$AE$50,3,FALSE)","v":0.26},{"$f":"VLOOKUP($G5,$Y$6:$AE$50,4,FALSE)","v":0.13},{"$f":"VLOOKUP($G5,$Y$6:$AE$50,5,FALSE)","v":0.27},{"$f":"VLOOKUP($G5,$Y$6:$AE$50,6,FALSE)","v":0.12},{"$f":"VLOOKUP($G5,$Y$6:$AE$50,7,FALSE)","v":0.09},{"$f":"G6+2.5","v":370},{"$f":"H6-2.5","v":300},{"$f":"VLOOKUP($H5,$AG$6:$AM$50,3,FALSE)","v":0.37},{"$f":"VLOOKUP($H5,$AG$6:$AM$50,4,FALSE)","v":0.43},{"$f":"VLOOKUP($H5,$AG$6:$AM$50,5,FALSE)","v":0.46},{"$f":"VLOOKUP($H5,$AG$6:$AM$50,6,FALSE)","v":0.35},{"$f":"VLOOKUP($H5,$AG$6:$AM$50,7,FALSE)","v":0.56000000000000005},{"$f":"(I5-L5)/(K5-L5)","v":0.18181818181818191},{"$f":"IF(B5>I5,\"C\",IF(B5<I5,\"P\",\"-\"))","v":"P"},{"$f":"ABS(B5-I5)","v":0.10999999999999999},{"$f":"I5+B5","v":0.63},{"$f":"J5+C5","v":0.56000000000000005},0.64,0.56000000000000005,{"$f":"M5+F5","v":0.65},{"$f":"(Q5-T5)/(S5-T5)","v":0.87499999999999978},null,null,"종목명","종목코드","현재가","시가","고가","저가","기준가",null,"종목명","종목코드","현재가","시가","고가","저가","기준가"]
[{"$f":"(B6-E6)/(D6-E6)","v":0.90000000000000013},0.34,0.18,0.36,0.16,0.12,367.5,302.5,0.44,0.51,0.54,0.42,0.68,{"$f":"(I6-L6)/(K6-L6)","v":0.16666666666666674},{"$f":"IF(B6>I6,\"C\",IF(B6<I6,\"P\",\"-\"))","v":"P"},{"$f":"ABS(B6-I6)","v":9.9999999999999978E-2},{"$f":"I6+B6","v":0.78},{"$f":"J6+C6","v":0.69},0.79,0.69,{"$f":"M6+F6","v":0.8},{"$f":"(Q6-T6)/(S6-T6)","v":0.9},null,1,270,{"$f":"[3]!'9001'","v":"'201QC270"},{"$f":"[3]!'10'","v":63.15},{"$f":"[3]!'16'","v":0},{"$f":"[3]!'17'","v":0},{"$f":"[3]!'18'","v":0},{"$f":"[3]!'307'","v":63.15},null,270,{"$f":"[4]!'9001'","v":"'301QC270"},{"$f":"[4]!'10'","v":7.0000000000000007E-2},{"$f":"[4]!'16'","v":7.0000000000000007E-2},{"$f":"[4]!'17'","v":0.08},{"$f":"[4]!'18'","v":0.06},{"$f":"[4]!'307'","v":0.1}]
[0.92307692307692313,0.46,0.23,0.48,0.22,0.17,365,305,0.52,0.63,0.66,0.5,0.81,0.12500000000000008,"P",0.06,0.98,0.86,0.98,0.86,0.98000000000000009,1,null,2,{"$f":"+Y6+2.5","v":272.5},{"$f":"[5]!'9001'","v":"'201QC272"},{"$f":"[5]!'10'","v":60.65},{"$f":"[5]!'16'","v":0},{"$f":"[5]!'17'","v":0},{"$f":"[5]!'18'","v":0},{"$f":"[5]!'307'","v":60.65},null,{"$f":"+AG6+2.5","v":272.5},{"$f":"[6]!'9001'","v":"'301QC272"},{"$f":"[6]!'10'","v":0.08},{"$f":"[6]!'16'","v":0.09},{"$f":"[6]!'17'","v":0.09},{"$f":"[6]!'18'","v":7.0000000000000007E-2},{"$f":"[6]!'307'","v":0.11}]
[0.91176470588235292,0.61,0.3,0.64,0.3,0.23,362.5,307.5,0.61,0.75,0.79,0.59,0.95,0.10000000000000006,"-",0,1.22,1.05,1.23,1.05,1.18,0.94444444444444442,null,3,{"$f":"+Y7+2.5","v":275},{"$f":"[7]!'9001'","v":"'201QC275"},{"$f":"[7]!'10'","v":58.15},{"$f":"[7]!'16'","v":0},{"$f":"[7]!'17'","v":0},{"$f":"[7]!'18'","v":0},{"$f":"[7]!'307'","v":58.15},null,275,{"$f":"[8]!'9001'","v":"'301QC275"},{"$f":"[8]!'10'","v":0.09},{"$f":"[8]!'16'","v":0.1},{"$f":"[8]!'17'","v":0.1},{"$f":"[8]!'18'","v":0.08},{"$f":"[8]!'307'","v":0.13}]
[0.90909090909090928,0.81,0.45,0.85,0.41,0.33,360,310,0.73,0.89,0.96,0.71,1.1499999999999999,8.0000000000000071E-2,"C",8.0000000000000071E-2,1.54,1.34,1.56,1.34,1.48,0.90909090909090895,null,4,277.5,{"$f":"[9]!'9001'","v":"'201QC277"},{"$f":"[9]!'10'","v":55.65},{"$f":"[9]!'16'","v":0},{"$f":"[9]!'17'","v":0},{"$f":"[9]!'18'","v":0},{"$f":"[9]!'307'","v":55.65},null,277.5,{"$f":"[10]!'9001'","v":"'301QC277"},{"$f":"[10]!'10'","v":0.11},{"$f":"[10]!'16'","v":0.11},{"$f":"[10]!'17'","v":0.11},{"$f":"[10]!'18'","v":0.09},{"$f":"[10]!'307'","v":0.14000000000000001}]
[{"$f":"(B10-E10)/(D10-E10)","v":0.91228070175438591},{"$f":"VLOOKUP($G10,$Y$6:$AE$50,3,FALSE)","v":1.07},{"$f":"VLOOKUP($G10,$Y$6:$AE$50,4,FALSE)","v":0.62},{"$f":"VLOOKUP($G10,$Y$6:$AE$50,5,FALSE)","v":1.1200000000000001},{"$f":"VLOOKUP($G10,$Y$6:$AE$50,6,FALSE)","v":0.55000000000000004},{"$f":"VLOOKUP($G10,$Y$6:$AE$50,7,FALSE)","v":0.46},{"$f":"G11+2.5","v":357.5},312.5,{"$f":"VLOOKUP($H10,$AG$6:$AM$50,3,FALSE)","v":0.87},{"$f":"VLOOKUP($H10,$AG$6:$AM$50,4,FALSE)","v":1.07},{"$f":"VLOOKUP($H10,$AG$6:$AM$50,5,FALSE)","v":1.1599999999999999},{"$f":"VLOOKUP($H10,$AG$6:$AM$50,6,FALSE)","v":0.85},{"$f":"VLOOKUP($H10,$AG$6:$AM$50,7,FALSE)","v":1.37},{"$f":"(I10-L10)/(K10-L10)","v":6.4516129032258132E-2},{"$f":"IF(B10>I10,\"C\",IF(B10<I10,\"P\",\"-\"))","v":"C"},{"$f":"ABS(B10-I10)","v":0.20000000000000007},{"$f":"I10+B10","v":1.94},{"$f":"J10+C10","v":1.69},1.96,1.69,{"$f":"M10+F10","v":1.83},{"$f":"(Q10-T10)/(S10-T10)","v":0.92592592592592582},null,5,280,{"$f":"[11]!'9001'","v":"'201QC280"},{"$f":"[11]!'10'","v":49.85},{"$f":"[11]!'16'","v":0},{"$f":"[11]!'17'","v":0},{"$f":"[11]!'18'","v":0},{"$f":"[11]!'307'","v":49.85},null,280,{"$f":"[12]!'9001'","v":"'301QC280"},{"$f":"[12]!'10'","v":0.11},{"$f":"[12]!'16'","v":0.12},{"$f":"[12]!'17'","v":0.13},{"$f":"[12]!'18'","v":0.11},{"$f":"[12]!'307'","v":0.16}]
[0.91666666666666663,1.41,0.83,1.47,0.75,0.62,355,315,1.05,1.29,1.42,1.03,1.65,5.1282051282051343E-2,"C",0.35999999999999988,{"$f":"I11+B11","v":2.46},{"$f":"J11+C11","v":2.12},2.48,2.12,{"$f":"M11+F11","v":2.27},0.94444444444444442,null,6,282.5,{"$f":"[13]!'9001'","v":"'201QC282"},{"$f":"[13]!'10'","v":50.65},{"$f":"[13]!'16'","v":0},{"$f":"[13]!'17'","v":0},{"$f":"[13]!'18'","v":0},{"$f":"[13]!'307'","v":50.65},null,282.5,{"$f":"[14]!'9001'","v":"'301QC282"},{"$f":"[14]!'10'","v":0.13},{"$f":"[14]!'16'","v":0.14000000000000001},{"$f":"[14]!'17'","v":0.14000000000000001},{"$f":"[14]!'18'","v":0.13},{"$f":"[14]!'307'","v":0.19}]
[0.92045454545454564,1.83,1.1000000000000001,1.9,1.02,0.84,352.5,317.5,1.27,1.55,1.73,1.25,1.98,4.1666666666666706E-2,"C",0.56000000000000005,3.1,2.6500000000000004,3.1399999999999997,2.6500000000000004,2.82,0.9183673469387762,null,7,285,{"$f":"[15]!'9001'","v":"'201QC285"},{"$f":"[15]!'10'","v":48.15},{"$f":"[15]!'16'","v":0},{"$f":"[15]!'17'","v":0},{"$f":"[15]!'18'","v":0},{"$f":"[15]!'307'","v":48.15},null,285,{"$f":"[16]!'9001'","v":"'301QC285"},{"$f":"[16]!'10'","v":0.15},{"$f":"[16]!'16'","v":0.17},{"$f":"[16]!'17'","v":0.17},{"$f":"[16]!'18'","v":0.14000000000000001},{"$f":"[16]!'307'","v":0.22}]
[0.92592592592592582,2.36,1.5,2.44,1.36,1.1499999999999999,350,320,1.55,1.88,2.1,1.51,2.4,6.7796610169491581E-2,"C",0.80999999999999983,3.91,3.38,3.9400000000000004,3.38,3.55,0.94642857142857106,null,8,287.5,{"$f":"[17]!'9001'","v":"'201QC287"},{"$f":"[17]!'10'","v":45.7},{"$f":"[17]!'16'","v":0},{"$f":"[17]!'17'","v":0},{"$f":"[17]!'18'","v":0},{"$f":"[17]!'307'","v":45.7},null,287.5,{"$f":"[18]!'9001'","v":"'301QC287"},{"$f":"[18]!'10'","v":0.18},{"$f":"[18]!'16'","v":0.18},{"$f":"[18]!'17'","v":0.19},{"$f":"[18]!'18'","v":0.17},{"$f":"[18]!'307'","v":0.25}]
[0.93023255813953498,3,1.98,3.09,1.8,1.55,347.5,322.5,1.88,2.31,2.56,1.85,2.9,4.2253521126760292E-2,"C",1.1200000000000001,4.88,4.29,4.93,4.29,4.45,0.92187500000000022,null,9,290,{"$f":"[19]!'9001'","v":"'201QC290"},{"$f":"[19]!'10'","v":48.55},{"$f":"[19]!'16'","v":47.8},{"$f":"[19]!'17'","v":48.75},{"$f":"[19]!'18'","v":47.8},{"$f":"[19]!'307'","v":41.4},null,290,{"$f":"[20]!'9001'","v":"'301QC290"},{"$f":"[20]!'10'","v":0.2},{"$f":"[20]!'16'","v":0.22},{"$f":"[20]!'17'","v":0.23},{"$f":"[20]!'18'","v":0.19},{"$f":"[20]!'307'","v":0.31}]
[0.93421052631578938,3.78,2.58,3.88,2.36,2.0499999999999998,345,325,2.2999999999999998,2.81,3.11,2.27,3.5,3.571428571428549E-2,"C",1.48,6.08,5.3900000000000006,6.1199999999999992,5.3900000000000006,5.55,0.94520547945205591,null,10,292.5,{"$f":"[21]!'9001'","v":"'201QC292"},{"$f":"[21]!'10'","v":40.799999999999997},{"$f":"[21]!'16'","v":0},{"$f":"[21]!'17'","v":0},{"$f":"[21]!'18'","v":0},{"$f":"[21]!'307'","v":40.799999999999997},null,292.5,{"$f":"[22]!'9001'","v":"'301QC292"},{"$f":"[22]!'10'","v":0.24},{"$f":"[22]!'16'","v":0.26},{"$f":"[22]!'17'","v":0.27},{"$f":"[22]!'18'","v":0.22},{"$f":"[22]!'307'","v":0.35}]
[0.93785310734463256,4.71,3.32,4.82,3.05,2.66,342.5,327.5,2.81,3.42,3.79,2.76,4.2300000000000004,4.8543689320388599E-2,"C",1.9,7.52,6.74,7.58,6.74,6.8900000000000006,0.92857142857142794,null,11,295,{"$f":"[23]!'9001'","v":"'201QC295"},{"$f":"[23]!'10'","v":42.4},{"$f":"[23]!'16'","v":42.35},{"$f":"[23]!'17'","v":42.4},{"$f":"[23]!'18'","v":42.25},{"$f":"[23]!'307'","v":38.35},null,295,{"$f":"[24]!'9001'","v":"'301QC295"},{"$f":"[24]!'10'","v":0.27},{"$f":"[24]!'16'","v":0.31},{"$f":"[24]!'17'","v":0.32},{"$f":"[24]!'18'","v":0.25},{"$f":"[24]!'307'","v":0.4}]
[0.94581280788177324,5.81,4.22,5.92,3.89,3.42,340,330,3.42,4.1500000000000004,4.57,3.38,5.0999999999999996,3.361344537815128E-2,"C",2.3899999999999997,9.23,8.370000000000001,9.3000000000000007,8.370000000000001,8.52,0.92473118279569855,null,12,297.5,{"$f":"[25]!'9001'","v":"'201QC297"},{"$f":"[25]!'10'","v":40.15},{"$f":"[25]!'16'","v":39.85},{"$f":"[25]!'17'","v":40.15},{"$f":"[25]!'18'","v":39.85},{"$f":"[25]!'307'","v":35.15},null,297.5,{"$f":"[26]!'9001'","v":"'301QC297"},{"$f":"[26]!'10'","v":0.31},{"$f":"[26]!'16'","v":0.33},{"$f":"[26]!'17'","v":0.38},{"$f":"[26]!'18'","v":0.3},{"$f":"[26]!'307'","v":0.49}]
[0.94372294372294374,7.07,5.32,7.2,4.8899999999999997,4.34,337.5,{"$f":"H19-2.5","v":332.5},4.17,5.04,5.56,4.12,6.13,3.4722222222222113E-2,"C",2.9000000000000004,11.24,10.36,11.31,10.36,10.469999999999999,0.92631578947368398,null,13,300,{"$f":"[27]!'9001'","v":"'201QC300"},{"$f":"[27]!'10'","v":38},{"$f":"[27]!'16'","v":37.6},{"$f":"[27]!'17'","v":38},{"$f":"[27]!'18'","v":37.6},{"$f":"[27]!'307'","v":33.4},null,300,{"$f":"[28]!'9001'","v":"'301QC300"},{"$f":"[28]!'10'","v":0.37},{"$f":"[28]!'16'","v":0.43},{"$f":"[28]!'17'","v":0.46},{"$f":"[28]!'18'","v":0.35},{"$f":"[28]!'307'","v":0.56000000000000005}]
[0.95703124999999956,8.5299999999999994,6.6,8.64,6.08,5.45,{"$f":"+H3","v":335},{"$f":"+H3","v":335},5.0599999999999996,6.08,6.55,5,7.39,3.8709677419354591E-2,"C",3.4699999999999998,13.59,12.68,13.64,12.68,12.84,0.94791666666666596,null,14,302.5,{"$f":"[29]!'9001'","v":"'201QC302"},{"$f":"[29]!'10'","v":36.200000000000003},{"$f":"[29]!'16'","v":35.200000000000003},{"$f":"[29]!'17'","v":36.200000000000003},{"$f":"[29]!'18'","v":35.200000000000003},{"$f":"[29]!'307'","v":30.35},null,302.5,{"$f":"[30]!'9001'","v":"'301QC302"},{"$f":"[30]!'10'","v":0.44},{"$f":"[30]!'16'","v":0.51},{"$f":"[30]!'17'","v":0.54},{"$f":"[30]!'18'","v":0.42},{"$f":"[30]!'307'","v":0.68}]
[0.94485294117647045,10.15,8.0399999999999991,10.3,7.58,6.76,{"$f":"G19-2.5","v":332.5},{"$f":"H19+2.5","v":337.5},6.12,6.85,7.17,6.01,8.7899999999999991,9.4827586206896811E-2,"C",4.03,16.27,14.889999999999999,16.32,14.889999999999999,15.549999999999999,0.96503496503496455,null,15,305,{"$f":"[31]!'9001'","v":"'201QC305"},{"$f":"[31]!'10'","v":33.950000000000003},{"$f":"[31]!'16'","v":32},{"$f":"[31]!'17'","v":34.1},{"$f":"[31]!'18'","v":32},{"$f":"[31]!'307'","v":28.85},null,305,{"$f":"[32]!'9001'","v":"'301QC305"},{"$f":"[32]!'10'","v":0.52},{"$f":"[32]!'16'","v":0.63},{"$f":"[32]!'17'","v":0.66},{"$f":"[32]!'18'","v":0.5},{"$f":"[32]!'307'","v":0.81}]
[0.97727272727272696,11.95,9.8000000000000007,12,9.8000000000000007,8.24,{"$f":"G20-2.5","v":330},{"$f":"H20+2.5","v":340},7.33,8.3000000000000007,8.49,7.33,10.3,0,"C",4.6199999999999992,19.28,18.100000000000001,19.329999999999998,18.100000000000001,18.54,0.95934959349593718,null,16,307.5,{"$f":"[33]!'9001'","v":"'201QC307"},{"$f":"[33]!'10'","v":31.25},{"$f":"[33]!'16'","v":30.55},{"$f":"[33]!'17'","v":31.25},{"$f":"[33]!'18'","v":30.55},{"$f":"[33]!'307'","v":23.35},null,307.5,{"$f":"[34]!'9001'","v":"'301QC307"},{"$f":"[34]!'10'","v":0.61},{"$f":"[34]!'16'","v":0.75},{"$f":"[34]!'17'","v":0.79},{"$f":"[34]!'18'","v":0.59},{"$f":"[34]!'307'","v":0.95}]
[1,13.9,13.65,13.9,11.5,9.8000000000000007,{"$f":"G21-2.5","v":327.5},{"$f":"H21+2.5","v":342.5},9.01,9.4499999999999993,9.52,8.81,12.65,0.28169014084506977,"C",4.8900000000000006,22.91,23.1,23.1,22.509999999999998,22.450000000000003,0.677966101694915,null,17,310,{"$f":"[35]!'9001'","v":"'201QC310"},{"$f":"[35]!'10'","v":28.8},{"$f":"[35]!'16'","v":27.85},{"$f":"[35]!'17'","v":28.8},{"$f":"[35]!'18'","v":27.15},{"$f":"[35]!'307'","v":24.25},null,310,{"$f":"[36]!'9001'","v":"'301QC310"},{"$f":"[36]!'10'","v":0.73},{"$f":"[36]!'16'","v":0.89},{"$f":"[36]!'17'","v":0.96},{"$f":"[36]!'18'","v":0.71},{"$f":"[36]!'307'","v":1.1499999999999999}]
[1,15.8,12.7,15.8,12.7,11.55,{"$f":"G22-2.5","v":325},{"$f":"H22+2.5","v":345},10.5,11.4,11.75,10.3,13.9,0.1379310344827582,"C",5.3000000000000007,26.3,24.1,26.3,24.1,25.450000000000003,1,null,18,312.5,{"$f":"[37]!'9001'","v":"'201QC312"},{"$f":"[37]!'10'","v":25.8},{"$f":"[37]!'16'","v":25.8},{"$f":"[37]!'17'","v":25.8},{"$f":"[37]!'18'","v":25.8},{"$f":"[37]!'307'","v":21.95},null,312.5,{"$f":"[38]!'9001'","v":"'301QC312"},{"$f":"[38]!'10'","v":0.87},{"$f":"[38]!'16'","v":1.07},{"$f":"[38]!'17'","v":1.1599999999999999},{"$f":"[38]!'18'","v":0.85},{"$f":"[38]!'307'","v":1.37}]
[0.95454545454545392,17.899999999999999,15.8,18,15.8,13.4,{"$f":"G23-2.5","v":322.5},{"$f":"H23+2.5","v":347.5},12.2,13.1,13.1,12.1,16.5,9.9999999999999645E-2,"C",5.6999999999999993,30.099999999999998,28.9,30.099999999999998,28.9,29.9,1,null,19,315,{"$f":"[39]!'9001'","v":"'201QC315"},{"$f":"[39]!'10'","v":19.7},{"$f":"[39]!'16'","v":0},{"$f":"[39]!'17'","v":0},{"$f":"[39]!'18'","v":0},{"$f":"[39]!'307'","v":19.7},null,315,{"$f":"[40]!'9001'","v":"'301QC315"},{"$f":"[40]!'10'","v":1.05},{"$f":"[40]!'16'","v":1.29},{"$f":"[40]!'17'","v":1.42},{"$f":"[40]!'18'","v":1.03},{"$f":"[40]!'307'","v":1.65}]
[null,null,null,null,null,null,null,null,null,null,null,null,null,null,null,null,null,null,null,null,null,null,null,20,317.5,{"$f":"[41]!'9001'","v":"'201QC317"},{"$f":"[41]!'10'","v":20.55},{"$f":"[41]!'16'","v":20.55},{"$f":"[41]!'17'","v":20.55},{"$f":"[41]!'18'","v":20.55},{"$f":"[41]!'307'","v":17.149999999999999},null,317.5,{"$f":"[42]!'9001'","v":"'301QC317"},{"$f":"[42]!'10'","v":1.27},{"$f":"[42]!'16'","v":1.55},{"$f":"[42]!'17'","v":1.73},{"$f":"[42]!'18'","v":1.25},{"$f":"[42]!'307'","v":1.98}]
[null,null,null,null,null,null,null,null,null,null,null,null,null,null,null,null,null,null,null,null,null,null,null,21,320,{"$f":"[43]!'9001'","v":"'201QC320"},{"$f":"[43]!'10'","v":19.75},{"$f":"[43]!'16'","v":17.5},{"$f":"[43]!'17'","v":20},{"$f":"[43]!'18'","v":17.5},{"$f":"[43]!'307'","v":15.45},null,320,{"$f":"[44]!'9001'","v":"'301QC320"},{"$f":"[44]!'10'","v":1.55},{"$f":"[44]!'16'","v":1.88},{"$f":"[44]!'17'","v":2.1},{"$f":"[44]!'18'","v":1.51},{"$f":"[44]!'307'","v":2.4}]
[null,null,null,null,null,null,null,null,null,null,null,null,null,null,null,null,null,null,null,null,null,null,null,22,322.5,{"$f":"[45]!'9001'","v":"'201QC322"},{"$f":"[45]!'10'","v":17.899999999999999},{"$f":"[45]!'16'","v":15.8},{"$f":"[45]!'17'","v":18},{"$f":"[45]!'18'","v":15.8},{"$f":"[45]!'307'","v":13.4},null,322.5,{"$f":"[46]!'9001'","v":"'301QC322"},{"$f":"[46]!'10'","v":1.88},{"$f":"[46]!'16'","v":2.31},{"$f":"[46]!'17'","v":2.56},{"$f":"[46]!'18'","v":1.85},{"$f":"[46]!'307'","v":2.9}]
[null,null,null,null,null,null,null,null,null,null,null,null,null,null,null,null,null,null,null,null,null,null,null,23,325,{"$f":"[47]!'9001'","v":"'201QC325"},{"$f":"[47]!'10'","v":15.8},{"$f":"[47]!'16'","v":12.7},{"$f":"[47]!'17'","v":15.8},{"$f":"[47]!'18'","v":12.7},{"$f":"[47]!'307'","v":11.55},null,325,{"$f":"[48]!'9001'","v":"'301QC325"},{"$f":"[48]!'10'","v":2.2999999999999998},{"$f":"[48]!'16'","v":2.81},{"$f":"[48]!'17'","v":3.11},{"$f":"[48]!'18'","v":2.27},{"$f":"[48]!'307'","v":3.5}]
[null,null,null,null,null,null,null,null,null,null,null,null,null,null,null,null,null,null,null,null,null,null,null,24,327.5,{"$f":"[49]!'9001'","v":"'201QC327"},{"$f":"[49]!'10'","v":13.9},{"$f":"[49]!'16'","v":13.65},{"$f":"[49]!'17'","v":13.9},{"$f":"[49]!'18'","v":11.5},{"$f":"[49]!'307'","v":9.8000000000000007},null,327.5,{"$f":"[50]!'9001'","v":"'301QC327"},{"$f":"[50]!'10'","v":2.81},{"$f":"[50]!'16'","v":3.42},{"$f":"[50]!'17'","v":3.79},{"$f":"[50]!'18'","v":2.76},{"$f":"[50]!'307'","v":4.2300000000000004}]
[null,null,null,null,null,null,null,null,null,null,null,null,null,null,null,null,null,null,null,null,null,null,null,25,330,{"$f":"[51]!'9001'","v":"'201QC330"},{"$f":"[51]!'10'","v":11.95},{"$f":"[51]!'16'","v":9.8000000000000007},{"$f":"[51]!'17'","v":12},{"$f":"[51]!'18'","v":9.8000000000000007},{"$f":"[51]!'307'","v":8.24},null,330,{"$f":"[52]!'9001'","v":"'301QC330"},{"$f":"[52]!'10'","v":3.42},{"$f":"[52]!'16'","v":4.1500000000000004},{"$f":"[52]!'17'","v":4.57},{"$f":"[52]!'18'","v":3.38},{"$f":"[52]!'307'","v":5.0999999999999996}]
[null,null,null,null,null,null,null,null,null,null,null,null,null,null,null,null,null,null,null,null,null,null,null,26,332.5,{"$f":"[53]!'9001'","v":"'201QC332"},{"$f":"[53]!'10'","v":10.15},{"$f":"[53]!'16'","v":8.0399999999999991},{"$f":"[53]!'17'","v":10.3},{"$f":"[53]!'18'","v":7.58},{"$f":"[53]!'307'","v":6.76},null,332.5,{"$f":"[54]!'9001'","v":"'301QC332"},{"$f":"[54]!'10'","v":4.17},{"$f":"[54]!'16'","v":5.04},{"$f":"[54]!'17'","v":5.56},{"$f":"[54]!'18'","v":4.12},{"$f":"[54]!'307'","v":6.13}]
[null,null,null,null,null,null,null,null,null,null,null,null,null,null,null,null,null,null,null,null,null,null,null,27,335,{"$f":"[55]!'9001'","v":"'201QC335"},{"$f":"[55]!'10'","v":8.5299999999999994},{"$f":"[55]!'16'","v":6.6},{"$f":"[55]!'17'","v":8.64},{"$f":"[55]!'18'","v":6.08},{"$f":"[55]!'307'","v":5.45},null,335,{"$f":"[56]!'9001'","v":"'301QC335"},{"$f":"[56]!'10'","v":5.0599999999999996},{"$f":"[56]!'16'","v":6.08},{"$f":"[56]!'17'","v":6.55},{"$f":"[56]!'18'","v":5},{"$f":"[56]!'307'","v":7.39}]
[null,null,null,null,null,null,null,null,null,null,null,null,null,null,null,null,null,null,null,null,null,null,null,28,337.5,{"$f":"[57]!'9001'","v":"'201QC337"},{"$f":"[57]!'10'","v":7.07},{"$f":"[57]!'16'","v":5.32},{"$f":"[57]!'17'","v":7.2},{"$f":"[57]!'18'","v":4.8899999999999997},{"$f":"[57]!'307'","v":4.34},null,337.5,{"$f":"[58]!'9001'","v":"'301QC337"},{"$f":"[58]!'10'","v":6.12},{"$f":"[58]!'16'","v":6.85},{"$f":"[58]!'17'","v":7.17},{"$f":"[58]!'18'","v":6.01},{"$f":"[58]!'307'","v":8.7899999999999991}]
[null,null,null,null,null,null,null,null,null,null,null,null,null,null,null,null,null,null,null,null,null,null,null,29,340,{"$f":"[59]!'9001'","v":"'201QC340"},{"$f":"[59]!'10'","v":5.81},{"$f":"[59]!'16'","v":4.22},{"$f":"[59]!'17'","v":5.92},{"$f":"[59]!'18'","v":3.89},{"$f":"[59]!'307'","v":3.42},null,340,{"$f":"[60]!'9001'","v":"'301QC340"},{"$f":"[60]!'10'","v":7.33},{"$f":"[60]!'16'","v":8.3000000000000007},{"$f":"[60]!'17'","v":8.49},{"$f":"[60]!'18'","v":7.33},{"$f":"[60]!'307'","v":10.3}]
[null,null,null,null,null,null,null,null,null,null,null,null,null,null,null,null,null,null,null,null,null,null,null,30,342.5,{"$f":"[61]!'9001'","v":"'201QC342"},{"$f":"[61]!'10'","v":4.71},{"$f":"[61]!'16'","v":3.32},{"$f":"[61]!'17'","v":4.82},{"$f":"[61]!'18'","v":3.05},{"$f":"[61]!'307'","v":2.66},null,342.5,{"$f":"[62]!'9001'","v":"'301QC342"},{"$f":"[62]!'10'","v":9.01},{"$f":"[62]!'16'","v":9.4499999999999993},{"$f":"[62]!'17'","v":9.52},{"$f":"[62]!'18'","v":8.81},{"$f":"[62]!'307'","v":12.65}]
[null,null,null,null,null,null,null,null,null,null,null,null,null,null,null,null,null,null,null,null,null,null,null,31,345,{"$f":"[63]!'9001'","v":"'201QC345"},{"$f":"[63]!'10'","v":3.78},{"$f":"[63]!'16'","v":2.58},{"$f":"[63]!'17'","v":3.88},{"$f":"[63]!'18'","v":2.36},{"$f":"[63]!'307'","v":2.0499999999999998},null,345,{"$f":"[64]!'9001'","v":"'301QC345"},{"$f":"[64]!'10'","v":10.5},{"$f":"[64]!'16'","v":11.4},{"$f":"[64]!'17'","v":11.75},{"$f":"[64]!'18'","v":10.3},{"$f":"[64]!'307'","v":13.9}]
[null,null,null,null,null,null,null,null,null,null,null,null,null,null,null,null,null,null,null,null,null,null,null,32,347.5,{"$f":"[65]!'9001'","v":"'201QC347"},{"$f":"[65]!'10'","v":3},{"$f":"[65]!'16'","v":1.98},{"$f":"[65]!'17'","v":3.09},{"$f":"[65]!'18'","v":1.8},{"$f":"[65]!'307'","v":1.55},null,347.5,{"$f":"[66]!'9001'","v":"'301QC347"},{"$f":"[66]!'10'","v":12.2},{"$f":"[66]!'16'","v":13.1},{"$f":"[66]!'17'","v":13.1},{"$f":"[66]!'18'","v":12.1},{"$f":"[66]!'307'","v":16.5}]
[null,null,null,null,null,null,null,null,null,null,null,null,null,null,null,null,null,null,null,null,null,null,null,33,350,{"$f":"[67]!'9001'","v":"'201QC350"},{"$f":"[67]!'10'","v":2.36},{"$f":"[67]!'16'","v":1.5},{"$f":"[67]!'17'","v":2.44},{"$f":"[67]!'18'","v":1.36},{"$f":"[67]!'307'","v":1.1499999999999999},null,350,{"$f":"[68]!'9001'","v":"'301QC350"},{"$f":"[68]!'10'","v":14.05},{"$f":"[68]!'16'","v":15},{"$f":"[68]!'17'","v":15.25},{"$f":"[68]!'18'","v":13.85},{"$f":"[68]!'307'","v":18.2}]
[null,null,null,null,null,null,null,null,null,null,null,null,null,null,null,null,null,null,null,null,null,null,null,34,352.5,{"$f":"[69]!'9001'","v":"'201QC352"},{"$f":"[69]!'10'","v":1.83},{"$f":"[69]!'16'","v":1.1000000000000001},{"$f":"[69]!'17'","v":1.9},{"$f":"[69]!'18'","v":1.02},{"$f":"[69]!'307'","v":0.84},null,352.5,{"$f":"[70]!'9001'","v":"'301QC352"},{"$f":"[70]!'10'","v":15.95},{"$f":"[70]!'16'","v":15.9},{"$f":"[70]!'17'","v":16},{"$f":"[70]!'18'","v":15.9},{"$f":"[70]!'307'","v":21.05}]
[null,null,null,null,null,null,null,null,null,null,null,null,null,null,null,null,null,null,null,null,null,null,null,35,355,{"$f":"[71]!'9001'","v":"'201QC355"},{"$f":"[71]!'10'","v":1.41},{"$f":"[71]!'16'","v":0.83},{"$f":"[71]!'17'","v":1.47},{"$f":"[71]!'18'","v":0.75},{"$f":"[71]!'307'","v":0.62},null,355,{"$f":"[72]!'9001'","v":"'301QC355"},{"$f":"[72]!'10'","v":23.8},{"$f":"[72]!'16'","v":0},{"$f":"[72]!'17'","v":0},{"$f":"[72]!'18'","v":0},{"$f":"[72]!'307'","v":23.8}]
[null,null,null,null,null,null,null,null,null,null,null,null,null,null,null,null,null,null,null,null,null,null,null,36,357.5,{"$f":"[73]!'9001'","v":"'201QC357"},{"$f":"[73]!'10'","v":1.07},{"$f":"[73]!'16'","v":0.62},{"$f":"[73]!'17'","v":1.1200000000000001},{"$f":"[73]!'18'","v":0.55000000000000004},{"$f":"[73]!'307'","v":0.46},null,357.5,{"$f":"[74]!'9001'","v":"'301QC357"},{"$f":"[74]!'10'","v":27.15},{"$f":"[74]!'16'","v":0},{"$f":"[74]!'17'","v":0},{"$f":"[74]!'18'","v":0},{"$f":"[74]!'307'","v":27.15}]
[null,null,null,null,null,null,null,null,null,null,null,null,null,null,null,null,null,null,null,null,null,null,null,37,360,{"$f":"[75]!'9001'","v":"'201QC360"},{"$f":"[75]!'10'","v":0.81},{"$f":"[75]!'16'","v":0.45},{"$f":"[75]!'17'","v":0.85},{"$f":"[75]!'18'","v":0.41},{"$f":"[75]!'307'","v":0.33},null,360,{"$f":"[76]!'9001'","v":"'301QC360"},{"$f":"[76]!'10'","v":28.05},{"$f":"[76]!'16'","v":0},{"$f":"[76]!'17'","v":0},{"$f":"[76]!'18'","v":0},{"$f":"[76]!'307'","v":28.05}]
[null,null,null,null,null,null,null,null,null,null,null,null,null,null,null,null,null,null,null,null,null,null,null,38,362.5,{"$f":"[77]!'9001'","v":"'201QC362"},{"$f":"[77]!'10'","v":0.61},{"$f":"[77]!'16'","v":0.3},{"$f":"[77]!'17'","v":0.64},{"$f":"[77]!'18'","v":0.3},{"$f":"[77]!'307'","v":0.23},null,362.5,{"$f":"[78]!'9001'","v":"'301QC362"},{"$f":"[78]!'10'","v":24.65},{"$f":"[78]!'16'","v":24.65},{"$f":"[78]!'17'","v":24.65},{"$f":"[78]!'18'","v":24.65},{"$f":"[78]!'307'","v":30.5}]
[null,null,null,null,null,null,null,null,null,null,null,null,null,null,null,null,null,null,null,null,null,null,null,39,365,{"$f":"[79]!'9001'","v":"'201QC365"},{"$f":"[79]!'10'","v":0.46},{"$f":"[79]!'16'","v":0.23},{"$f":"[79]!'17'","v":0.48},{"$f":"[79]!'18'","v":0.22},{"$f":"[79]!'307'","v":0.17},null,365,{"$f":"[80]!'9001'","v":"'301QC365"},{"$f":"[80]!'10'","v":33.9},{"$f":"[80]!'16'","v":0},{"$f":"[80]!'17'","v":0},{"$f":"[80]!'18'","v":0},{"$f":"[80]!'307'","v":33.9}]
[null,null,null,null,null,null,null,null,null,null,null,null,null,null,null,null,null,null,null,null,null,null,null,40,367.5,{"$f":"[81]!'9001'","v":"'201QC367"},{"$f":"[81]!'10'","v":0.34},{"$f":"[81]!'16'","v":0.18},{"$f":"[81]!'17'","v":0.36},{"$f":"[81]!'18'","v":0.16},{"$f":"[81]!'307'","v":0.12},null,367.5,{"$f":"[82]!'9001'","v":"'301QC367"},{"$f":"[82]!'10'","v":34.4},{"$f":"[82]!'16'","v":0},{"$f":"[82]!'17'","v":0},{"$f":"[82]!'18'","v":0},{"$f":"[82]!'307'","v":34.4}]
[null,null,null,null,null,null,null,null,null,null,null,null,null,null,null,null,null,null,null,null,null,null,null,41,370,{"$f":"[83]!'9001'","v":"'201QC370"},{"$f":"[83]!'10'","v":0.26},{"$f":"[83]!'16'","v":0.13},{"$f":"[83]!'17'","v":0.27},{"$f":"[83]!'18'","v":0.12},{"$f":"[83]!'307'","v":0.09},null,370,{"$f":"[84]!'9001'","v":"'301QC370"},{"$f":"[84]!'10'","v":38.5},{"$f":"[84]!'16'","v":0},{"$f":"[84]!'17'","v":0},{"$f":"[84]!'18'","v":0},{"$f":"[84]!'307'","v":38.5}]
[null,null,null,null,null,null,null,null,null,null,null,null,null,null,null,null,null,null,null,null,null,null,null,42,372.5,{"$f":"[85]!'9001'","v":"'201QC372"},{"$f":"[85]!'10'","v":0.19},{"$f":"[85]!'16'","v":0.09},{"$f":"[85]!'17'","v":0.2},{"$f":"[85]!'18'","v":0.09},{"$f":"[85]!'307'","v":0.06},null,372.5,{"$f":"[86]!'9001'","v":"'301QC372"},{"$f":"[86]!'10'","v":35.549999999999997},{"$f":"[86]!'16'","v":36},{"$f":"[86]!'17'","v":36},{"$f":"[86]!'18'","v":35.549999999999997},{"$f":"[86]!'307'","v":40.6}]
[null,null,null,null,null,null,null,null,null,null,null,null,null,null,null,null,null,null,null,null,null,null,null,43,375,{"$f":"[87]!'9001'","v":"'201QC375"},{"$f":"[87]!'10'","v":0.15},{"$f":"[87]!'16'","v":7.0000000000000007E-2},{"$f":"[87]!'17'","v":0.15},{"$f":"[87]!'18'","v":7.0000000000000007E-2},{"$f":"[87]!'307'","v":0.05},null,375,{"$f":"[88]!'9001'","v":"'301QC375"},{"$f":"[88]!'10'","v":41.8},{"$f":"[88]!'16'","v":0},{"$f":"[88]!'17'","v":0},{"$f":"[88]!'18'","v":0},{"$f":"[88]!'307'","v":41.8}]
[null,null,null,null,null,null,null,null,null,null,null,null,null,null,null,null,null,null,null,null,null,null,null,44,377.5,{"$f":"[89]!'9001'","v":"'201QC377"},{"$f":"[89]!'10'","v":0.11},{"$f":"[89]!'16'","v":0.05},{"$f":"[89]!'17'","v":0.11},{"$f":"[89]!'18'","v":0.05},{"$f":"[89]!'307'","v":0.03},null,377.5,{"$f":"[90]!'9001'","v":"'301QC377"},{"$f":"[90]!'10'","v":44.35},{"$f":"[90]!'16'","v":0},{"$f":"[90]!'17'","v":0},{"$f":"[90]!'18'","v":0},{"$f":"[90]!'307'","v":44.35}]
[null,null,null,null,null,null,null,null,null,null,null,null,null,null,null,null,null,null,null,null,null,null,null,45,380,{"$f":"[91]!'9001'","v":"'201QC380"},{"$f":"[91]!'10'","v":0.08},{"$f":"[91]!'16'","v":0.04},{"$f":"[91]!'17'","v":0.08},{"$f":"[91]!'18'","v":0.04},{"$f":"[91]!'307'","v":0.03},null,380,{"$f":"[92]!'9001'","v":"'301QC380"},{"$f":"[92]!'10'","v":46.85},{"$f":"[92]!'16'","v":0},{"$f":"[92]!'17'","v":0},{"$f":"[92]!'18'","v":0},{"$f":"[92]!'307'","v":46.85}]