{"text_format":"1","workbook":"xlsx","n_sheets":9,"sheets":["사용안내","연간","달력","근무","일정","공휴일","디데이","일정-비교","이름지정"],"not_rendered":{"charts":0,"images":5,"macros":1,"external_links":0,"defined_names":40,"comments":3,"pivot_tables":0},"unopened":[],"bounds":{"document_bytes":16777216,"sheet_cells":100000,"rows_first":2000,"rows_last":500,"rows_between":2000,"halvings":0,"cell_chars":16384,"cell_head_chars":4096},"cells_cut":0,"cells_raw":0,"read":"whole","date_system":"1900"}

{"sheet":"사용안내","index":0,"n_rows":31,"n_cols":7,"rows_kept":31,"cut":false,"hidden":false,"merged":[[0,1,0,10],[17,1,17,10],[6,1,6,5],[6,6,6,10],[7,1,7,5],[8,1,8,5],[9,1,9,5],[10,1,10,5],[2,1,2,10],[3,1,3,10],[4,1,4,10],[7,6,7,10],[8,6,8,10],[9,6,9,10],[10,6,10,10],[11,6,11,10],[30,6,30,8],[28,1,28,10],[29,1,29,10],[13,1,13,10],[14,1,14,10],[15,1,15,10],[20,1,20,10],[22,1,22,10],[23,1,23,10],[24,1,24,10],[25,1,25,10],[27,1,27,10],[19,1,19,10],[18,1,18,10]]}
[null,"탭다 엑셀 양식 사용 안내"]
[]
[null,"탭다 블로그 내 엑셀 양식은"]
[null,"사용 범위를 준수할 경우 모두 무료입니다. "]
[null,"금지 사항 적발 시 관련법에 의거 제재 및 법적 처벌을 받을 수 있습니다."]
[]
[null,"O",null,null,null,null,"X"]
[null,"개인적 비상업적 용도의 사용",null,null,null,null,"디자인 무단 도용 및 판매 금지"]
[null,"온라인 및 오프라인 이용 가능",null,null,null,null,"재배포(개인적, 비상업적 용도라도) 금지"]
[null,"회사원 개인의 회사 내부 보고, 제출, 공유용",null,null,null,null,"외부 유출, 대외적 게시 금지"]
[null,"비영리 단체에서의 사용",null,null,null,null,"영리 목적의 강의에 사용 금지"]
[null,null,null,null,null,null,"기타 이에 준하는 모든 상업적 유사 행위 금지"]
[]
[null,"탭다의 최신 소식을 가장 빨리 받는 방법!"]
[null,"카카오톡 친구 검색에서 '탭다'를 찾아 친구 추가하기!"]
[null,"탭다 블로그 북마크 또는 즐겨찾기 http://tabda.tistory.com"]
[]
[null,"탭다 엑셀 양식이 마음에 드셨나요?"]
[null,"지금 블로그, SNS에 탭다를 홍보해주세요."]
[null,"#탭다, #무료엑셀양식, #고퀄리티, #개이득"]
[null,"여러분들의 우쭈쭈는 저에게 큰 힘이 됩니다."]
[]
[null,"탭다 엑셀 양식이 유용하셨나요?"]
[null,"앞으로도 고퀄리티 엑셀 양식이 꾸준히"]
[null,"만들어질 수 있도록 탭다를 후원해주세요."]
[null,"여러분들의 피드백에 더 나은 컨텐츠 제작으로 보답하겠습니다."]
[]
[null,"네이버 페이 포인트 선물하기 : mkjang0202(네이버 앱→메뉴→네이버 페이→포인트 선물)"]
[null,"계좌 후원 : 국민은행 240802-04-160014 장*경"]
[null,"문의 : 카카오톡 1:1 오픈채팅에서 '탭다' 검색"]
[null,null,"    오픈채팅 입장 링크 및 QR코드 →",null,null,null,"https://open.kakao.com/o/s3L8L5Tb"]

{"sheet":"연간","index":1,"n_rows":32,"n_cols":32,"rows_kept":32,"cut":false,"hidden":false,"merged":[[1,14,1,18]]}
[]
[null,"S",null,null,null,null,null,null,null,null,null,null,null,null,2023]
[]
[null,null,null,null,1,null,null,null,null,null,null,null,2,null,null,null,null,null,null,null,3,null,null,null,null,null,null,null,4]
[]
[null,{"$f":"IF($B$2=\"S\",\"S\",IF($B$2=\"M\",\"M\"))","v":"S"},{"$f":"IF($B$2=\"S\",\"M\",IF($B$2=\"M\",\"T\"))","v":"M"},{"$f":"IF($B$2=\"S\",\"T\",IF($B$2=\"M\",\"W\"))","v":"T"},{"$f":"IF($B$2=\"S\",\"W\",IF($B$2=\"M\",\"T\"))","v":"W"},{"$f":"IF($B$2=\"S\",\"T\",IF($B$2=\"M\",\"F\"))","v":"T"},{"$f":"IF($B$2=\"S\",\"F\",IF($B$2=\"M\",\"S\"))","v":"F"},"S",null,{"$f":"IF($B$2=\"S\",\"S\",IF($B$2=\"M\",\"M\"))","v":"S"},{"$f":"IF($B$2=\"S\",\"M\",IF($B$2=\"M\",\"T\"))","v":"M"},{"$f":"IF($B$2=\"S\",\"T\",IF($B$2=\"M\",\"W\"))","v":"T"},{"$f":"IF($B$2=\"S\",\"W\",IF($B$2=\"M\",\"T\"))","v":"W"},{"$f":"IF($B$2=\"S\",\"T\",IF($B$2=\"M\",\"F\"))","v":"T"},{"$f":"IF($B$2=\"S\",\"F\",IF($B$2=\"M\",\"S\"))","v":"F"},"S",null,{"$f":"IF($B$2=\"S\",\"S\",IF($B$2=\"M\",\"M\"))","v":"S"},{"$f":"IF($B$2=\"S\",\"M\",IF($B$2=\"M\",\"T\"))","v":"M"},{"$f":"IF($B$2=\"S\",\"T\",IF($B$2=\"M\",\"W\"))","v":"T"},{"$f":"IF($B$2=\"S\",\"W\",IF($B$2=\"M\",\"T\"))","v":"W"},{"$f":"IF($B$2=\"S\",\"T\",IF($B$2=\"M\",\"F\"))","v":"T"},{"$f":"IF($B$2=\"S\",\"F\",IF($B$2=\"M\",\"S\"))","v":"F"},"S",null,{"$f":"IF($B$2=\"S\",\"S\",IF($B$2=\"M\",\"M\"))","v":"S"},{"$f":"IF($B$2=\"S\",\"M\",IF($B$2=\"M\",\"T\"))","v":"M"},{"$f":"IF($B$2=\"S\",\"T\",IF($B$2=\"M\",\"W\"))","v":"T"},{"$f":"IF($B$2=\"S\",\"W\",IF($B$2=\"M\",\"T\"))","v":"W"},{"$f":"IF($B$2=\"S\",\"T\",IF($B$2=\"M\",\"F\"))","v":"T"},{"$f":"IF($B$2=\"S\",\"F\",IF($B$2=\"M\",\"S\"))","v":"F"},"S"]
[null,{"$f":"IF(B2=\"M\",(IF(DAY(DATE($O$2,$E$4,1)-WEEKDAY(DATE($O$2,$E$4,1))+2)=2,DATE($O$2,$E$4,1)-WEEKDAY(DATE($O$2,$E$4,1))-5,DATE($O$2,$E$4,1)-WEEKDAY(DATE($O$2,$E$4,1))+2)),IF(B2=\"S\",DATE($O$2,$E$4,1)-WEEKDAY(DATE($O$2,$E$4,1))+1))","v":"2023-01-01"},{"$f":"B7+1","v":"2023-01-02"},"2023-01-03","2023-01-04","2023-01-05","2023-01-06","2023-01-07",null,{"$f":"IF(B2=\"M\",(IF(DAY(DATE($O$2,$M$4,1)-WEEKDAY(DATE($O$2,$M$4,1))+2)=2,DATE($O$2,$M$4,1)-WEEKDAY(DATE($O$2,$M$4,1))-5,DATE($O$2,$M$4,1)-WEEKDAY(DATE($O$2,$M$4,1))+2)),IF(B2=\"S\",DATE($O$2,$M$4,1)-WEEKDAY(DATE($O$2,$M$4,1))+1))","v":"2023-01-29"},{"$f":"J7+1","v":"2023-01-30"},"2023-01-31","2023-02-01","2023-02-02","2023-02-03","2023-02-04",null,{"$f":"IF(B2=\"M\",(IF(DAY(DATE($O$2,$U$4,1)-WEEKDAY(DATE($O$2,$U$4,1))+2)=2,DATE($O$2,$U$4,1)-WEEKDAY(DATE($O$2,$U$4,1))-5,DATE($O$2,$U$4,1)-WEEKDAY(DATE($O$2,$U$4,1))+2)),IF(B2=\"S\",DATE($O$2,$U$4,1)-WEEKDAY(DATE($O$2,$U$4,1))+1))","v":"2023-02-26"},{"$f":"R7+1","v":"2023-02-27"},"2023-02-28","2023-03-01","2023-03-02","2023-03-03","2023-03-04",null,{"$f":"IF(B2=\"M\",(IF(DAY(DATE($O$2,$AC$4,1)-WEEKDAY(DATE($O$2,$AC$4,1))+2)=2,DATE($O$2,$AC$4,1)-WEEKDAY(DATE($O$2,$AC$4,1))-5,DATE($O$2,$AC$4,1)-WEEKDAY(DATE($O$2,$AC$4,1))+2)),IF(B2=\"S\",DATE($O$2,$AC$4,1)-WEEKDAY(DATE($O$2,$AC$4,1))+1))","v":"2023-03-26"},{"$f":"Z7+1","v":"2023-03-27"},"2023-03-28","2023-03-29","2023-03-30","2023-03-31","2023-04-01"]
[null,{"$f":"B7+7","v":"2023-01-08"},{"$f":"C7+7","v":"2023-01-09"},"2023-01-10","2023-01-11","2023-01-12","2023-01-13","2023-01-14",null,{"$f":"J7+7","v":"2023-02-05"},"2023-02-06","2023-02-07","2023-02-08","2023-02-09","2023-02-10","2023-02-11",null,{"$f":"R7+7","v":"2023-03-05"},"2023-03-06","2023-03-07","2023-03-08","2023-03-09","2023-03-10","2023-03-11",null,{"$f":"Z7+7","v":"2023-04-02"},"2023-04-03","2023-04-04","2023-04-05","2023-04-06","2023-04-07","2023-04-08"]
[null,{"$f":"B8+7","v":"2023-01-15"},"2023-01-16","2023-01-17","2023-01-18","2023-01-19","2023-01-20","2023-01-21",null,"2023-02-12","2023-02-13","2023-02-14","2023-02-15","2023-02-16","2023-02-17","2023-02-18",null,"2023-03-12","2023-03-13","2023-03-14","2023-03-15","2023-03-16","2023-03-17","2023-03-18",null,"2023-04-09","2023-04-10","2023-04-11","2023-04-12","2023-04-13","2023-04-14","2023-04-15"]
[null,{"$f":"B9+7","v":"2023-01-22"},"2023-01-23","2023-01-24","2023-01-25","2023-01-26","2023-01-27","2023-01-28",null,"2023-02-19","2023-02-20","2023-02-21","2023-02-22","2023-02-23","2023-02-24","2023-02-25",null,"2023-03-19","2023-03-20","2023-03-21","2023-03-22","2023-03-23","2023-03-24","2023-03-25",null,"2023-04-16","2023-04-17","2023-04-18","2023-04-19","2023-04-20","2023-04-21","2023-04-22"]
[null,{"$f":"B10+7","v":"2023-01-29"},"2023-01-30","2023-01-31","2023-02-01","2023-02-02","2023-02-03","2023-02-04",null,"2023-02-26","2023-02-27","2023-02-28","2023-03-01","2023-03-02","2023-03-03","2023-03-04",null,"2023-03-26","2023-03-27","2023-03-28","2023-03-29","2023-03-30","2023-03-31","2023-04-01",null,"2023-04-23","2023-04-24","2023-04-25","2023-04-26","2023-04-27","2023-04-28","2023-04-29"]
[null,{"$f":"B11+7","v":"2023-02-05"},"2023-02-06","2023-02-07","2023-02-08","2023-02-09","2023-02-10","2023-02-11",null,"2023-03-05","2023-03-06","2023-03-07","2023-03-08","2023-03-09","2023-03-10","2023-03-11",null,"2023-04-02","2023-04-03","2023-04-04","2023-04-05","2023-04-06","2023-04-07","2023-04-08",null,"2023-04-30","2023-05-01","2023-05-02","2023-05-03","2023-05-04","2023-05-05","2023-05-06"]
[]
[null,null,null,null,5,null,null,null,null,null,null,null,6,null,null,null,null,null,null,null,7,null,null,null,null,null,null,null,8]
[]
[null,{"$f":"IF($B$2=\"S\",\"S\",IF($B$2=\"M\",\"M\"))","v":"S"},{"$f":"IF($B$2=\"S\",\"M\",IF($B$2=\"M\",\"T\"))","v":"M"},{"$f":"IF($B$2=\"S\",\"T\",IF($B$2=\"M\",\"W\"))","v":"T"},{"$f":"IF($B$2=\"S\",\"W\",IF($B$2=\"M\",\"T\"))","v":"W"},{"$f":"IF($B$2=\"S\",\"T\",IF($B$2=\"M\",\"F\"))","v":"T"},{"$f":"IF($B$2=\"S\",\"F\",IF($B$2=\"M\",\"S\"))","v":"F"},"S",null,{"$f":"IF($B$2=\"S\",\"S\",IF($B$2=\"M\",\"M\"))","v":"S"},{"$f":"IF($B$2=\"S\",\"M\",IF($B$2=\"M\",\"T\"))","v":"M"},{"$f":"IF($B$2=\"S\",\"T\",IF($B$2=\"M\",\"W\"))","v":"T"},{"$f":"IF($B$2=\"S\",\"W\",IF($B$2=\"M\",\"T\"))","v":"W"},{"$f":"IF($B$2=\"S\",\"T\",IF($B$2=\"M\",\"F\"))","v":"T"},{"$f":"IF($B$2=\"S\",\"F\",IF($B$2=\"M\",\"S\"))","v":"F"},"S",null,{"$f":"IF($B$2=\"S\",\"S\",IF($B$2=\"M\",\"M\"))","v":"S"},{"$f":"IF($B$2=\"S\",\"M\",IF($B$2=\"M\",\"T\"))","v":"M"},{"$f":"IF($B$2=\"S\",\"T\",IF($B$2=\"M\",\"W\"))","v":"T"},{"$f":"IF($B$2=\"S\",\"W\",IF($B$2=\"M\",\"T\"))","v":"W"},{"$f":"IF($B$2=\"S\",\"T\",IF($B$2=\"M\",\"F\"))","v":"T"},{"$f":"IF($B$2=\"S\",\"F\",IF($B$2=\"M\",\"S\"))","v":"F"},"S",null,{"$f":"IF($B$2=\"S\",\"S\",IF($B$2=\"M\",\"M\"))","v":"S"},{"$f":"IF($B$2=\"S\",\"M\",IF($B$2=\"M\",\"T\"))","v":"M"},{"$f":"IF($B$2=\"S\",\"T\",IF($B$2=\"M\",\"W\"))","v":"T"},{"$f":"IF($B$2=\"S\",\"W\",IF($B$2=\"M\",\"T\"))","v":"W"},{"$f":"IF($B$2=\"S\",\"T\",IF($B$2=\"M\",\"F\"))","v":"T"},{"$f":"IF($B$2=\"S\",\"F\",IF($B$2=\"M\",\"S\"))","v":"F"},"S"]
[null,{"$f":"IF(B2=\"M\",(IF(DAY(DATE($O$2,$E$14,1)-WEEKDAY(DATE($O$2,$E$14,1))+2)=2,DATE($O$2,$E$14,1)-WEEKDAY(DATE($O$2,$E$14,1))-5,DATE($O$2,$E$14,1)-WEEKDAY(DATE($O$2,$E$14,1))+2)),IF(B2=\"S\",DATE($O$2,$E$14,1)-WEEKDAY(DATE($O$2,$E$14,1))+1))","v":"2023-04-30"},{"$f":"B17+1","v":"2023-05-01"},"2023-05-02","2023-05-03","2023-05-04","2023-05-05","2023-05-06",null,{"$f":"IF(B2=\"M\",(IF(DAY(DATE($O$2,$M$14,1)-WEEKDAY(DATE($O$2,$M$14,1))+2)=2,DATE($O$2,$M$14,1)-WEEKDAY(DATE($O$2,$M$14,1))-5,DATE($O$2,$M$14,1)-WEEKDAY(DATE($O$2,$M$14,1))+2)),IF(B2=\"S\",DATE($O$2,$M$14,1)-WEEKDAY(DATE($O$2,$M$14,1))+1))","v":"2023-05-28"},{"$f":"J17+1","v":"2023-05-29"},"2023-05-30","2023-05-31","2023-06-01","2023-06-02","2023-06-03",null,{"$f":"IF(B2=\"M\",(IF(DAY(DATE($O$2,$U$14,1)-WEEKDAY(DATE($O$2,$U$14,1))+2)=2,DATE($O$2,$U$14,1)-WEEKDAY(DATE($O$2,$U$14,1))-5,DATE($O$2,$U$14,1)-WEEKDAY(DATE($O$2,$U$14,1))+2)),IF(B2=\"S\",DATE($O$2,$U$14,1)-WEEKDAY(DATE($O$2,$U$14,1))+1))","v":"2023-06-25"},{"$f":"R17+1","v":"2023-06-26"},"2023-06-27","2023-06-28","2023-06-29","2023-06-30","2023-07-01",null,{"$f":"IF(B2=\"M\",(IF(DAY(DATE($O$2,$AC$14,1)-WEEKDAY(DATE($O$2,$AC$14,1))+2)=2,DATE($O$2,$AC$14,1)-WEEKDAY(DATE($O$2,$AC$14,1))-5,DATE($O$2,$AC$14,1)-WEEKDAY(DATE($O$2,$AC$14,1))+2)),IF(B2=\"S\",DATE($O$2,$AC$14,1)-WEEKDAY(DATE($O$2,$AC$14,1))+1))","v":"2023-07-30"},{"$f":"Z17+1","v":"2023-07-31"},"2023-08-01","2023-08-02","2023-08-03","2023-08-04","2023-08-05"]
[null,{"$f":"B17+7","v":"2023-05-07"},"2023-05-08","2023-05-09","2023-05-10","2023-05-11","2023-05-12","2023-05-13",null,{"$f":"J17+7","v":"2023-06-04"},"2023-06-05","2023-06-06","2023-06-07","2023-06-08","2023-06-09","2023-06-10",null,{"$f":"R17+7","v":"2023-07-02"},"2023-07-03","2023-07-04","2023-07-05","2023-07-06","2023-07-07","2023-07-08",null,{"$f":"Z17+7","v":"2023-08-06"},"2023-08-07","2023-08-08","2023-08-09","2023-08-10","2023-08-11","2023-08-12"]
[null,"2023-05-14","2023-05-15","2023-05-16","2023-05-17","2023-05-18","2023-05-19","2023-05-20",null,"2023-06-11","2023-06-12","2023-06-13","2023-06-14","2023-06-15","2023-06-16","2023-06-17",null,"2023-07-09","2023-07-10","2023-07-11","2023-07-12","2023-07-13","2023-07-14","2023-07-15",null,"2023-08-13","2023-08-14","2023-08-15","2023-08-16","2023-08-17","2023-08-18","2023-08-19"]
[null,"2023-05-21","2023-05-22","2023-05-23","2023-05-24","2023-05-25","2023-05-26","2023-05-27",null,"2023-06-18","2023-06-19","2023-06-20","2023-06-21","2023-06-22","2023-06-23","2023-06-24",null,"2023-07-16","2023-07-17","2023-07-18","2023-07-19","2023-07-20","2023-07-21","2023-07-22",null,"2023-08-20","2023-08-21","2023-08-22","2023-08-23","2023-08-24","2023-08-25","2023-08-26"]
[null,"2023-05-28","2023-05-29","2023-05-30","2023-05-31","2023-06-01","2023-06-02","2023-06-03",null,"2023-06-25","2023-06-26","2023-06-27","2023-06-28","2023-06-29","2023-06-30","2023-07-01",null,"2023-07-23","2023-07-24","2023-07-25","2023-07-26","2023-07-27","2023-07-28","2023-07-29",null,"2023-08-27","2023-08-28","2023-08-29","2023-08-30","2023-08-31","2023-09-01","2023-09-02"]
[null,"2023-06-04","2023-06-05","2023-06-06","2023-06-07","2023-06-08","2023-06-09","2023-06-10",null,"2023-07-02","2023-07-03","2023-07-04","2023-07-05","2023-07-06","2023-07-07","2023-07-08",null,"2023-07-30","2023-07-31","2023-08-01","2023-08-02","2023-08-03","2023-08-04","2023-08-05",null,"2023-09-03","2023-09-04","2023-09-05","2023-09-06","2023-09-07","2023-09-08","2023-09-09"]
[]
[null,null,null,null,9,null,null,null,null,null,null,null,10,null,null,null,null,null,null,null,11,null,null,null,null,null,null,null,12]
[]
[null,{"$f":"IF($B$2=\"S\",\"S\",IF($B$2=\"M\",\"M\"))","v":"S"},{"$f":"IF($B$2=\"S\",\"M\",IF($B$2=\"M\",\"T\"))","v":"M"},{"$f":"IF($B$2=\"S\",\"T\",IF($B$2=\"M\",\"W\"))","v":"T"},{"$f":"IF($B$2=\"S\",\"W\",IF($B$2=\"M\",\"T\"))","v":"W"},{"$f":"IF($B$2=\"S\",\"T\",IF($B$2=\"M\",\"F\"))","v":"T"},{"$f":"IF($B$2=\"S\",\"F\",IF($B$2=\"M\",\"S\"))","v":"F"},"S",null,{"$f":"IF($B$2=\"S\",\"S\",IF($B$2=\"M\",\"M\"))","v":"S"},{"$f":"IF($B$2=\"S\",\"M\",IF($B$2=\"M\",\"T\"))","v":"M"},{"$f":"IF($B$2=\"S\",\"T\",IF($B$2=\"M\",\"W\"))","v":"T"},{"$f":"IF($B$2=\"S\",\"W\",IF($B$2=\"M\",\"T\"))","v":"W"},{"$f":"IF($B$2=\"S\",\"T\",IF($B$2=\"M\",\"F\"))","v":"T"},{"$f":"IF($B$2=\"S\",\"F\",IF($B$2=\"M\",\"S\"))","v":"F"},"S",null,{"$f":"IF($B$2=\"S\",\"S\",IF($B$2=\"M\",\"M\"))","v":"S"},{"$f":"IF($B$2=\"S\",\"M\",IF($B$2=\"M\",\"T\"))","v":"M"},{"$f":"IF($B$2=\"S\",\"T\",IF($B$2=\"M\",\"W\"))","v":"T"},{"$f":"IF($B$2=\"S\",\"W\",IF($B$2=\"M\",\"T\"))","v":"W"},{"$f":"IF($B$2=\"S\",\"T\",IF($B$2=\"M\",\"F\"))","v":"T"},{"$f":"IF($B$2=\"S\",\"F\",IF($B$2=\"M\",\"S\"))","v":"F"},"S",null,{"$f":"IF($B$2=\"S\",\"S\",IF($B$2=\"M\",\"M\"))","v":"S"},{"$f":"IF($B$2=\"S\",\"M\",IF($B$2=\"M\",\"T\"))","v":"M"},{"$f":"IF($B$2=\"S\",\"T\",IF($B$2=\"M\",\"W\"))","v":"T"},{"$f":"IF($B$2=\"S\",\"W\",IF($B$2=\"M\",\"T\"))","v":"W"},{"$f":"IF($B$2=\"S\",\"T\",IF($B$2=\"M\",\"F\"))","v":"T"},{"$f":"IF($B$2=\"S\",\"F\",IF($B$2=\"M\",\"S\"))","v":"F"},"S"]
[null,{"$f":"IF(B2=\"M\",(IF(DAY(DATE($O$2,$E$24,1)-WEEKDAY(DATE($O$2,$E$24,1))+2)=2,DATE($O$2,$E$24,1)-WEEKDAY(DATE($O$2,$E$24,1))-5,DATE($O$2,$E$24,1)-WEEKDAY(DATE($O$2,$E$24,1))+2)),IF(B2=\"S\",DATE($O$2,$E$24,1)-WEEKDAY(DATE($O$2,$E$24,1))+1))","v":"2023-08-27"},{"$f":"B27+1","v":"2023-08-28"},"2023-08-29","2023-08-30","2023-08-31","2023-09-01","2023-09-02",null,{"$f":"IF(B2=\"M\",(IF(DAY(DATE($O$2,$M$24,1)-WEEKDAY(DATE($O$2,$M$24,1))+2)=2,DATE($O$2,$M$24,1)-WEEKDAY(DATE($O$2,$M$24,1))-5,DATE($O$2,$M$24,1)-WEEKDAY(DATE($O$2,$M$24,1))+2)),IF(B2=\"S\",DATE($O$2,$M$24,1)-WEEKDAY(DATE($O$2,$M$24,1))+1))","v":"2023-10-01"},{"$f":"J27+1","v":"2023-10-02"},"2023-10-03","2023-10-04","2023-10-05","2023-10-06","2023-10-07",null,{"$f":"IF(B2=\"M\",(IF(DAY(DATE($O$2,$U$24,1)-WEEKDAY(DATE($O$2,$U$24,1))+2)=2,DATE($O$2,$U$24,1)-WEEKDAY(DATE($O$2,$U$24,1))-5,DATE($O$2,$U$24,1)-WEEKDAY(DATE($O$2,$U$24,1))+2)),IF(B2=\"S\",DATE($O$2,$U$24,1)-WEEKDAY(DATE($O$2,$U$24,1))+1))","v":"2023-10-29"},{"$f":"R27+1","v":"2023-10-30"},"2023-10-31","2023-11-01","2023-11-02","2023-11-03","2023-11-04",null,{"$f":"IF(B2=\"M\",(IF(DAY(DATE($O$2,$AC$24,1)-WEEKDAY(DATE($O$2,$AC$24,1))+2)=2,DATE($O$2,$AC$24,1)-WEEKDAY(DATE($O$2,$AC$24,1))-5,DATE($O$2,$AC$24,1)-WEEKDAY(DATE($O$2,$AC$24,1))+2)),IF(B2=\"S\",DATE($O$2,$AC$24,1)-WEEKDAY(DATE($O$2,$AC$24,1))+1))","v":"2023-11-26"},{"$f":"Z27+1","v":"2023-11-27"},"2023-11-28","2023-11-29","2023-11-30","2023-12-01","2023-12-02"]
[null,{"$f":"B27+7","v":"2023-09-03"},"2023-09-04","2023-09-05","2023-09-06","2023-09-07","2023-09-08","2023-09-09",null,{"$f":"J27+7","v":"2023-10-08"},"2023-10-09","2023-10-10","2023-10-11","2023-10-12","2023-10-13","2023-10-14",null,{"$f":"R27+7","v":"2023-11-05"},"2023-11-06","2023-11-07","2023-11-08","2023-11-09","2023-11-10","2023-11-11",null,{"$f":"Z27+7","v":"2023-12-03"},"2023-12-04","2023-12-05","2023-12-06","2023-12-07","2023-12-08","2023-12-09"]
[null,"2023-09-10","2023-09-11","2023-09-12","2023-09-13","2023-09-14","2023-09-15","2023-09-16",null,"2023-10-15","2023-10-16","2023-10-17","2023-10-18","2023-10-19","2023-10-20","2023-10-21",null,"2023-11-12","2023-11-13","2023-11-14","2023-11-15","2023-11-16","2023-11-17","2023-11-18",null,"2023-12-10","2023-12-11","2023-12-12","2023-12-13","2023-12-14","2023-12-15","2023-12-16"]
[null,"2023-09-17","2023-09-18","2023-09-19","2023-09-20","2023-09-21","2023-09-22","2023-09-23",null,"2023-10-22","2023-10-23","2023-10-24","2023-10-25","2023-10-26","2023-10-27","2023-10-28",null,"2023-11-19","2023-11-20","2023-11-21","2023-11-22","2023-11-23","2023-11-24","2023-11-25",null,"2023-12-17","2023-12-18","2023-12-19","2023-12-20","2023-12-21","2023-12-22","2023-12-23"]
[null,"2023-09-24","2023-09-25","2023-09-26","2023-09-27","2023-09-28","2023-09-29","2023-09-30",null,"2023-10-29","2023-10-30","2023-10-31","2023-11-01","2023-11-02","2023-11-03","2023-11-04",null,"2023-11-26","2023-11-27","2023-11-28","2023-11-29","2023-11-30","2023-12-01","2023-12-02",null,"2023-12-24","2023-12-25","2023-12-26","2023-12-27","2023-12-28","2023-12-29","2023-12-30"]
[null,"2023-10-01","2023-10-02","2023-10-03","2023-10-04","2023-10-05","2023-10-06","2023-10-07",null,"2023-11-05","2023-11-06","2023-11-07","2023-11-08","2023-11-09","2023-11-10","2023-11-11",null,"2023-12-03","2023-12-04","2023-12-05","2023-12-06","2023-12-07","2023-12-08","2023-12-09",null,"2023-12-31","2024-01-01","2024-01-02","2024-01-03","2024-01-04","2024-01-05","2024-01-06"]

{"sheet":"달력","index":2,"n_rows":4941,"n_cols":23,"rows_kept":4941,"cut":false,"hidden":false,"merged":[[40,2,40,3],[40,4,40,5],[40,6,40,7],[40,8,40,9],[40,10,40,11],[40,12,40,13],[40,14,40,15],[46,4,46,5],[46,6,46,7],[46,8,46,9],[46,10,46,11],[46,12,46,13],[46,14,46,15],[45,2,45,3],[44,2,44,3],[43,2,43,3],[42,2,42,3],[45,10,45,11],[44,10,44,11],[43,10,43,11],[42,10,42,11],[42,8,42,9],[43,8,43,9],[44,8,44,9],[26,12,26,13],[26,14,26,15],[33,2,33,3],[33,4,33,5],[33,6,33,7],[33,8,33,9],[33,10,33,11],[33,12,33,13],[33,14,33,15],[28,14,28,15],[29,2,29,3],[29,14,29,15],[28,2,28,3],[30,14,30,15],[31,2,31,3],[31,14,31,15],[30,2,30,3],[30,4,30,5],[30,6,30,7],[30,8,30,9],[30,10,30,11],[30,12,30,13],[32,14,32,15],[15,20,15,21],[16,20,16,21],[17,20,17,21],[18,20,18,21],[46,2,46,3],[12,2,12,3],[12,4,12,5],[12,6,12,7],[12,8,12,9],[12,10,12,11],[12,12,12,13],[12,14,12,15],[19,2,19,3],[19,4,19,5],[19,6,19,7],[19,8,19,9],[19,10,19,11],[19,12,19,13],[19,14,19,15],[26,2,26,3],[26,4,26,5],[26,6,26,7],[26,8,26,9],[26,10,26,11],[45,8,45,9],[45,6,45,7],[44,6,44,7],[43,6,43,7],[42,6,42,7],[42,14,42,15],[42,12,42,13],[43,12,43,13],[44,12,44,13],[45,12,45,13],[42,4,42,5],[43,4,43,5],[44,4,44,5],[45,4,45,5],[7,4,7,5],[7,6,7,7],[7,8,7,9],[7,10,7,11],[7,12,7,13],[29,4,29,5],[29,6,29,7],[29,8,29,9],[29,10,29,11],[29,12,29,13],[28,4,28,5],[28,6,28,7],[28,8,28,9],[28,10,28,11],[28,12,28,13],[31,4,31,5],[31,6,31,7],[31,8,31,9],[31,10,31,11],[31,12,31,13],[7,14,7,15],[5,2,5,3],[5,4,5,5],[1,2,3,3],[5,12,5,13],[5,10,5,11],[5,14,5,15],[5,6,5,7],[5,8,5,9],[1,10,1,15],[2,10,2,15],[3,10,3,15],[2,4,3,4],[7,2,7,3],[8,14,8,15],[9,2,9,3],[9,4,9,5],[9,6,9,7],[9,8,9,9],[9,10,9,11],[9,12,9,13],[9,14,9,15],[8,2,8,3],[8,4,8,5],[8,6,8,7],[8,8,8,9],[8,10,8,11],[8,12,8,13],[10,14,10,15],[11,2,11,3],[11,4,11,5],[11,6,11,7],[11,8,11,9],[11,10,11,11],[11,12,11,13],[11,14,11,15],[10,2,10,3],[10,4,10,5],[10,6,10,7],[10,8,10,9],[10,10,10,11],[10,12,10,13],[14,14,14,15],[15,2,15,3],[15,4,15,5],[15,6,15,7],[15,8,15,9],[15,10,15,11],[15,12,15,13],[15,14,15,15],[14,2,14,3],[14,4,14,5],[14,6,14,7],[14,8,14,9],[14,10,14,11],[14,12,14,13],[16,14,16,15],[17,2,17,3],[17,4,17,5],[17,6,17,7],[17,8,17,9],[17,10,17,11],[17,12,17,13],[17,14,17,15],[16,2,16,3],[16,4,16,5],[16,6,16,7],[16,8,16,9],[16,10,16,11],[16,12,16,13],[18,14,18,15],[21,2,21,3],[21,4,21,5],[21,6,21,7],[21,8,21,9],[21,10,21,11],[21,12,21,13],[21,14,21,15],[18,2,18,3],[18,4,18,5],[18,6,18,7],[18,8,18,9],[18,10,18,11],[18,12,18,13],[22,14,22,15],[23,2,23,3],[23,4,23,5],[23,6,23,7],[23,8,23,9],[23,10,23,11],[23,12,23,13],[23,14,23,15],[22,2,22,3],[22,4,22,5],[22,6,22,7],[22,8,22,9],[22,10,22,11],[22,12,22,13],[24,14,24,15],[25,2,25,3],[25,4,25,5],[25,6,25,7],[25,8,25,9],[25,10,25,11],[25,12,25,13],[25,14,25,15],[24,2,24,3],[24,4,24,5],[24,6,24,7],[24,8,24,9],[24,10,24,11],[24,12,24,13],[35,2,35,3],[35,4,35,5],[35,6,35,7],[35,8,35,9],[35,10,35,11],[35,12,35,13],[35,14,35,15],[32,2,32,3],[32,4,32,5],[32,6,32,7],[32,8,32,9],[32,10,32,11],[32,12,32,13],[47,2,47,3],[47,4,47,5],[47,6,47,7],[47,8,47,9],[47,10,47,11],[36,14,36,15],[37,2,37,3],[37,4,37,5],[37,6,37,7],[37,8,37,9],[37,10,37,11],[37,12,37,13],[37,14,37,15],[36,2,36,3],[36,4,36,5],[36,6,36,7],[36,8,36,9],[36,10,36,11],[36,12,36,13],[47,12,47,13],[47,14,47,15],[45,14,45,15],[44,14,44,15],[43,14,43,15],[38,14,38,15],[39,2,39,3],[39,4,39,5],[39,6,39,7],[39,8,39,9],[39,10,39,11],[39,12,39,13],[39,14,39,15],[38,2,38,3],[38,4,38,5],[38,6,38,7],[38,8,38,9],[38,10,38,11],[38,12,38,13]]}
[]
[null,null,1,null,{"$f":"연간!$O$2","v":2023}]
[null,null,null,null,{"$f":"TEXT(DATE(E2,C2,1),\"mmmm\")","v":"January"}]
[null,null,null,null,null,null,null,null,null,null,"MADE BY 엠키(tabda.tistory.com)"]
[]
[null,null,{"$f":"IF(연간!$B$2=\"S\",\"SUN\",IF(연간!$B$2=\"M\",\"MON\"))","v":"SUN"},null,{"$f":"IF(연간!$B$2=\"S\",\"MON\",IF(연간!$B$2=\"M\",\"TUE\"))","v":"MON"},null,{"$f":"IF(연간!$B$2=\"S\",\"TUE\",IF(연간!$B$2=\"M\",\"WED\"))","v":"TUE"},null,{"$f":"IF(연간!$B$2=\"S\",\"WED\",IF(연간!$B$2=\"M\",\"THU\"))","v":"WED"},null,{"$f":"IF(연간!$B$2=\"S\",\"THU\",IF(연간!$B$2=\"M\",\"FRI\"))","v":"THU"},null,{"$f":"IF(연간!$B$2=\"S\",\"FRI\",IF(연간!$B$2=\"M\",\"SAT\"))","v":"FRI"},null,{"$f":"IF(연간!$B$2=\"S\",\"SAT\",IF(연간!$B$2=\"M\",\"SUN\"))","v":"SAT"}]
[null,"이름",{"$f":"IFERROR(INDEX(공휴일이름,MATCH(1,--($C$2=공휴일월)*(DAY(D7)=공휴일일),0)),\"\")&\"  \"&IFERROR(INDEX(기념일이름,MATCH(1,--($C$2=기념일월)*(DAY(D7)=기념일일),0)),\"\")&\" \"","v":"신정   "},{"$f":"IF(연간!$B$2=\"M\",(IF(DAY(DATE($E$2,$C$2,1)-WEEKDAY(DATE($E$2,$C$2,1))+2)=2,DATE($E$2,$C$2,1)-WEEKDAY(DATE($E$2,$C$2,1))-5,DATE($E$2,$C$2,1)-WEEKDAY(DATE($E$2,$C$2,1))+2)),IF(연간!$B$2=\"S\",DATE($E$2,$C$2,1)-WEEKDAY(DATE($E$2,$C$2,1))+1))","v":"2023-01-01"},{"$f":"IFERROR(INDEX(공휴일이름,MATCH(1,--($C$2=공휴일월)*(DAY(F7)=공휴일일),0)),\"\")&\"  \"&IFERROR(INDEX(기념일이름,MATCH(1,--($C$2=기념일월)*(DAY(F7)=기념일일),0)),\"\")&\" \"","v":"   "},{"$f":"D7+1","v":"2023-01-02"},{"$f":"IFERROR(INDEX(공휴일이름,MATCH(1,--($C$2=공휴일월)*(DAY(H7)=공휴일일),0)),\"\")&\"  \"&IFERROR(INDEX(기념일이름,MATCH(1,--($C$2=기념일월)*(DAY(H7)=기념일일),0)),\"\")&\" \"","v":"   "},{"$f":"D7+2","v":"2023-01-03"},{"$f":"IFERROR(INDEX(공휴일이름,MATCH(1,--($C$2=공휴일월)*(DAY(J7)=공휴일일),0)),\"\")&\"  \"&IFERROR(INDEX(기념일이름,MATCH(1,--($C$2=기념일월)*(DAY(J7)=기념일일),0)),\"\")&\" \"","v":"   "},{"$f":"D7+3","v":"2023-01-04"},{"$f":"IFERROR(INDEX(공휴일이름,MATCH(1,--($C$2=공휴일월)*(DAY(L7)=공휴일일),0)),\"\")&\"  \"&IFERROR(INDEX(기념일이름,MATCH(1,--($C$2=기념일월)*(DAY(L7)=기념일일),0)),\"\")&\" \"","v":"   "},{"$f":"D7+4","v":"2023-01-05"},{"$f":"IFERROR(INDEX(공휴일이름,MATCH(1,--($C$2=공휴일월)*(DAY(N7)=공휴일일),0)),\"\")&\"  \"&IFERROR(INDEX(기념일이름,MATCH(1,--($C$2=기념일월)*(DAY(N7)=기념일일),0)),\"\")&\" \"","v":"   "},{"$f":"D7+5","v":"2023-01-06"},{"$f":"IFERROR(INDEX(공휴일이름,MATCH(1,--($C$2=공휴일월)*(DAY(P7)=공휴일일),0)),\"\")&\"  \"&IFERROR(INDEX(기념일이름,MATCH(1,--($C$2=기념일월)*(DAY(P7)=기념일일),0)),\"\")&\" \"","v":"   "},{"$f":"D7+6","v":"2023-01-07"}]
[null,{"$f":"IF(일정!D$6=\"\",\"\",일정!D$6)","v":"홍길동"},{"$f":"IF(MONTH(D7)<>$C$2,\"\",IF(VLOOKUP(D7,일정,3,0)=0,\"\",VLOOKUP(D7,일정,3,0)))","v":"주간"},null,{"$f":"IF(MONTH(F7)<>$C$2,\"\",IF(VLOOKUP(F7,일정,3,0)=0,\"\",VLOOKUP(F7,일정,3,0)))","v":"주간"},null,{"$f":"IF(MONTH(H7)<>$C$2,\"\",IF(VLOOKUP(H7,일정,3,0)=0,\"\",VLOOKUP(H7,일정,3,0)))","v":"야간"},null,{"$f":"IF(MONTH(J7)<>$C$2,\"\",IF(VLOOKUP(J7,일정,3,0)=0,\"\",VLOOKUP(J7,일정,3,0)))","v":"야간"},null,{"$f":"IF(MONTH(L7)<>$C$2,\"\",IF(VLOOKUP(L7,일정,3,0)=0,\"\",VLOOKUP(L7,일정,3,0)))","v":"비번"},null,{"$f":"IF(MONTH(N7)<>$C$2,\"\",IF(VLOOKUP(N7,일정,3,0)=0,\"\",VLOOKUP(N7,일정,3,0)))","v":"비번"},null,{"$f":"IF(MONTH(P7)<>$C$2,\"\",IF(VLOOKUP(P7,일정,3,0)=0,\"\",VLOOKUP(P7,일정,3,0)))","v":"주간"}]
[null,{"$f":"IF(일정!E$6=\"\",\"\",일정!E$6)","v":"이땡땡"},{"$f":"IF(MONTH(D7)<>$C$2,\"\",IF(VLOOKUP(D7,일정,4,0)=0,\"\",VLOOKUP(D7,일정,4,0)))","v":"주간"},null,{"$f":"IF(MONTH(F7)<>$C$2,\"\",IF(VLOOKUP(F7,일정,4,0)=0,\"\",VLOOKUP(F7,일정,4,0)))","v":"주간"},null,{"$f":"IF(MONTH(H7)<>$C$2,\"\",IF(VLOOKUP(H7,일정,4,0)=0,\"\",VLOOKUP(H7,일정,4,0)))","v":"야간"},null,{"$f":"IF(MONTH(J7)<>$C$2,\"\",IF(VLOOKUP(J7,일정,4,0)=0,\"\",VLOOKUP(J7,일정,4,0)))","v":"야간"},null,{"$f":"IF(MONTH(L7)<>$C$2,\"\",IF(VLOOKUP(L7,일정,4,0)=0,\"\",VLOOKUP(L7,일정,4,0)))","v":"비번"},null,{"$f":"IF(MONTH(N7)<>$C$2,\"\",IF(VLOOKUP(N7,일정,4,0)=0,\"\",VLOOKUP(N7,일정,4,0)))","v":"비번"},null,{"$f":"IF(MONTH(P7)<>$C$2,\"\",IF(VLOOKUP(P7,일정,4,0)=0,\"\",VLOOKUP(P7,일정,4,0)))","v":"주간"}]
[null,{"$f":"IF(일정!F$6=\"\",\"\",일정!F$6)","v":"박땡땡"},{"$f":"IF(MONTH(D7)<>$C$2,\"\",IF(VLOOKUP(D7,일정,5,0)=0,\"\",VLOOKUP(D7,일정,5,0)))","v":"야간"},null,{"$f":"IF(MONTH(F7)<>$C$2,\"\",IF(VLOOKUP(F7,일정,5,0)=0,\"\",VLOOKUP(F7,일정,5,0)))","v":"야간"},null,{"$f":"IF(MONTH(H7)<>$C$2,\"\",IF(VLOOKUP(H7,일정,5,0)=0,\"\",VLOOKUP(H7,일정,5,0)))","v":"비번"},null,{"$f":"IF(MONTH(J7)<>$C$2,\"\",IF(VLOOKUP(J7,일정,5,0)=0,\"\",VLOOKUP(J7,일정,5,0)))","v":"비번"},null,{"$f":"IF(MONTH(L7)<>$C$2,\"\",IF(VLOOKUP(L7,일정,5,0)=0,\"\",VLOOKUP(L7,일정,5,0)))","v":"주간"},null,{"$f":"IF(MONTH(N7)<>$C$2,\"\",IF(VLOOKUP(N7,일정,5,0)=0,\"\",VLOOKUP(N7,일정,5,0)))","v":"주간"},null,{"$f":"IF(MONTH(P7)<>$C$2,\"\",IF(VLOOKUP(P7,일정,5,0)=0,\"\",VLOOKUP(P7,일정,5,0)))","v":"야간"}]
[null,{"$f":"IF(일정!G$6=\"\",\"\",일정!G$6)","v":"최땡땡"},{"$f":"IF(MONTH(D7)<>$C$2,\"\",IF(VLOOKUP(D7,일정,6,0)=0,\"\",VLOOKUP(D7,일정,6,0)))","v":"야간"},null,{"$f":"IF(MONTH(F7)<>$C$2,\"\",IF(VLOOKUP(F7,일정,6,0)=0,\"\",VLOOKUP(F7,일정,6,0)))","v":"야간"},null,{"$f":"IF(MONTH(H7)<>$C$2,\"\",IF(VLOOKUP(H7,일정,6,0)=0,\"\",VLOOKUP(H7,일정,6,0)))","v":"비번"},null,{"$f":"IF(MONTH(J7)<>$C$2,\"\",IF(VLOOKUP(J7,일정,6,0)=0,\"\",VLOOKUP(J7,일정,6,0)))","v":"비번"},null,{"$f":"IF(MONTH(L7)<>$C$2,\"\",IF(VLOOKUP(L7,일정,6,0)=0,\"\",VLOOKUP(L7,일정,6,0)))","v":"주간"},null,{"$f":"IF(MONTH(N7)<>$C$2,\"\",IF(VLOOKUP(N7,일정,6,0)=0,\"\",VLOOKUP(N7,일정,6,0)))","v":"주간"},null,{"$f":"IF(MONTH(P7)<>$C$2,\"\",IF(VLOOKUP(P7,일정,6,0)=0,\"\",VLOOKUP(P7,일정,6,0)))","v":"야간"}]
[null,{"$f":"IF(일정!H$6=\"\",\"\",일정!H$6)","v":"오땡땡"},{"$f":"IF(MONTH(D7)<>$C$2,\"\",IF(VLOOKUP(D7,일정,7,0)=0,\"\",VLOOKUP(D7,일정,7,0)))","v":"비번"},null,{"$f":"IF(MONTH(F7)<>$C$2,\"\",IF(VLOOKUP(F7,일정,7,0)=0,\"\",VLOOKUP(F7,일정,7,0)))","v":"비번"},null,{"$f":"IF(MONTH(H7)<>$C$2,\"\",IF(VLOOKUP(H7,일정,7,0)=0,\"\",VLOOKUP(H7,일정,7,0)))","v":"주간"},null,{"$f":"IF(MONTH(J7)<>$C$2,\"\",IF(VLOOKUP(J7,일정,7,0)=0,\"\",VLOOKUP(J7,일정,7,0)))","v":"주간"},null,{"$f":"IF(MONTH(L7)<>$C$2,\"\",IF(VLOOKUP(L7,일정,7,0)=0,\"\",VLOOKUP(L7,일정,7,0)))","v":"야간"},null,{"$f":"IF(MONTH(N7)<>$C$2,\"\",IF(VLOOKUP(N7,일정,7,0)=0,\"\",VLOOKUP(N7,일정,7,0)))","v":"야간"},null,{"$f":"IF(MONTH(P7)<>$C$2,\"\",IF(VLOOKUP(P7,일정,7,0)=0,\"\",VLOOKUP(P7,일정,7,0)))","v":"비번"}]
[null,{"$f":"IF(일정!I$6=\"\",\"\",일정!I$6)","v":"구땡땡"},{"$f":"IF(MONTH(D7)<>$C$2,\"\",IF(VLOOKUP(D7,일정,8,0)=0,\"\",VLOOKUP(D7,일정,8,0)))","v":"비번"},null,{"$f":"IF(MONTH(F7)<>$C$2,\"\",IF(VLOOKUP(F7,일정,8,0)=0,\"\",VLOOKUP(F7,일정,8,0)))","v":"비번"},null,{"$f":"IF(MONTH(H7)<>$C$2,\"\",IF(VLOOKUP(H7,일정,8,0)=0,\"\",VLOOKUP(H7,일정,8,0)))","v":"주간"},null,{"$f":"IF(MONTH(J7)<>$C$2,\"\",IF(VLOOKUP(J7,일정,8,0)=0,\"\",VLOOKUP(J7,일정,8,0)))","v":"주간"},null,{"$f":"IF(MONTH(L7)<>$C$2,\"\",IF(VLOOKUP(L7,일정,8,0)=0,\"\",VLOOKUP(L7,일정,8,0)))","v":"야간"},null,{"$f":"IF(MONTH(N7)<>$C$2,\"\",IF(VLOOKUP(N7,일정,8,0)=0,\"\",VLOOKUP(N7,일정,8,0)))","v":"야간"},null,{"$f":"IF(MONTH(P7)<>$C$2,\"\",IF(VLOOKUP(P7,일정,8,0)=0,\"\",VLOOKUP(P7,일정,8,0)))","v":"비번"}]
[null,null,{"$f":"IFERROR(INDEX(공휴일이름,MATCH(1,--($C$2=공휴일월)*(DAY(D14)=공휴일일),0)),\"\")&\"  \"&IFERROR(INDEX(기념일이름,MATCH(1,--($C$2=기념일월)*(DAY(D14)=기념일일),0)),\"\")&\" \"","v":"   "},{"$f":"D7+7","v":"2023-01-08"},{"$f":"IFERROR(INDEX(공휴일이름,MATCH(1,--($C$2=공휴일월)*(DAY(F14)=공휴일일),0)),\"\")&\"  \"&IFERROR(INDEX(기념일이름,MATCH(1,--($C$2=기념일월)*(DAY(F14)=기념일일),0)),\"\")&\" \"","v":"  친구생일 "},{"$f":"D7+8","v":"2023-01-09"},{"$f":"IFERROR(INDEX(공휴일이름,MATCH(1,--($C$2=공휴일월)*(DAY(H14)=공휴일일),0)),\"\")&\"  \"&IFERROR(INDEX(기념일이름,MATCH(1,--($C$2=기념일월)*(DAY(H14)=기념일일),0)),\"\")&\" \"","v":"   "},{"$f":"D7+9","v":"2023-01-10"},{"$f":"IFERROR(INDEX(공휴일이름,MATCH(1,--($C$2=공휴일월)*(DAY(J14)=공휴일일),0)),\"\")&\"  \"&IFERROR(INDEX(기념일이름,MATCH(1,--($C$2=기념일월)*(DAY(J14)=기념일일),0)),\"\")&\" \"","v":"   "},{"$f":"D7+10","v":"2023-01-11"},{"$f":"IFERROR(INDEX(공휴일이름,MATCH(1,--($C$2=공휴일월)*(DAY(L14)=공휴일일),0)),\"\")&\"  \"&IFERROR(INDEX(기념일이름,MATCH(1,--($C$2=기념일월)*(DAY(L14)=기념일일),0)),\"\")&\" \"","v":"   "},{"$f":"D7+11","v":"2023-01-12"},{"$f":"IFERROR(INDEX(공휴일이름,MATCH(1,--($C$2=공휴일월)*(DAY(N14)=공휴일일),0)),\"\")&\"  \"&IFERROR(INDEX(기념일이름,MATCH(1,--($C$2=기념일월)*(DAY(N14)=기념일일),0)),\"\")&\" \"","v":"   "},{"$f":"D7+12","v":"2023-01-13"},{"$f":"IFERROR(INDEX(공휴일이름,MATCH(1,--($C$2=공휴일월)*(DAY(P14)=공휴일일),0)),\"\")&\"  \"&IFERROR(INDEX(기념일이름,MATCH(1,--($C$2=기념일월)*(DAY(P14)=기념일일),0)),\"\")&\" \"","v":"   "},{"$f":"D7+13","v":"2023-01-14"}]
[null,{"$f":"IF(일정!D$6=\"\",\"\",일정!D$6)","v":"홍길동"},{"$f":"IF(MONTH(D14)<>$C$2,\"\",IF(VLOOKUP(D14,일정,3,0)=0,\"\",VLOOKUP(D14,일정,3,0)))","v":"주간"},null,{"$f":"IF(MONTH(F14)<>$C$2,\"\",IF(VLOOKUP(F14,일정,3,0)=0,\"\",VLOOKUP(F14,일정,3,0)))","v":"야간"},null,{"$f":"IF(MONTH(H14)<>$C$2,\"\",IF(VLOOKUP(H14,일정,3,0)=0,\"\",VLOOKUP(H14,일정,3,0)))","v":"야간"},null,{"$f":"IF(MONTH(J14)<>$C$2,\"\",IF(VLOOKUP(J14,일정,3,0)=0,\"\",VLOOKUP(J14,일정,3,0)))","v":"비번"},null,{"$f":"IF(MONTH(L14)<>$C$2,\"\",IF(VLOOKUP(L14,일정,3,0)=0,\"\",VLOOKUP(L14,일정,3,0)))","v":"비번"},null,{"$f":"IF(MONTH(N14)<>$C$2,\"\",IF(VLOOKUP(N14,일정,3,0)=0,\"\",VLOOKUP(N14,일정,3,0)))","v":"주간"},null,{"$f":"IF(MONTH(P14)<>$C$2,\"\",IF(VLOOKUP(P14,일정,3,0)=0,\"\",VLOOKUP(P14,일정,3,0)))","v":"주간"},null,null,"범례"]
[null,{"$f":"IF(일정!E$6=\"\",\"\",일정!E$6)","v":"이땡땡"},{"$f":"IF(MONTH(D14)<>$C$2,\"\",IF(VLOOKUP(D14,일정,4,0)=0,\"\",VLOOKUP(D14,일정,4,0)))","v":"주간"},null,{"$f":"IF(MONTH(F14)<>$C$2,\"\",IF(VLOOKUP(F14,일정,4,0)=0,\"\",VLOOKUP(F14,일정,4,0)))","v":"야간"},null,{"$f":"IF(MONTH(H14)<>$C$2,\"\",IF(VLOOKUP(H14,일정,4,0)=0,\"\",VLOOKUP(H14,일정,4,0)))","v":"야간"},null,{"$f":"IF(MONTH(J14)<>$C$2,\"\",IF(VLOOKUP(J14,일정,4,0)=0,\"\",VLOOKUP(J14,일정,4,0)))","v":"비번"},null,{"$f":"IF(MONTH(L14)<>$C$2,\"\",IF(VLOOKUP(L14,일정,4,0)=0,\"\",VLOOKUP(L14,일정,4,0)))","v":"비번"},null,{"$f":"IF(MONTH(N14)<>$C$2,\"\",IF(VLOOKUP(N14,일정,4,0)=0,\"\",VLOOKUP(N14,일정,4,0)))","v":"주간"},null,{"$f":"IF(MONTH(P14)<>$C$2,\"\",IF(VLOOKUP(P14,일정,4,0)=0,\"\",VLOOKUP(P14,일정,4,0)))","v":"주간"},null,null,"순번","구분","색상","GetColor"]
[null,{"$f":"IF(일정!F$6=\"\",\"\",일정!F$6)","v":"박땡땡"},{"$f":"IF(MONTH(D14)<>$C$2,\"\",IF(VLOOKUP(D14,일정,5,0)=0,\"\",VLOOKUP(D14,일정,5,0)))","v":"야간"},null,{"$f":"IF(MONTH(F14)<>$C$2,\"\",IF(VLOOKUP(F14,일정,5,0)=0,\"\",VLOOKUP(F14,일정,5,0)))","v":"비번"},null,{"$f":"IF(MONTH(H14)<>$C$2,\"\",IF(VLOOKUP(H14,일정,5,0)=0,\"\",VLOOKUP(H14,일정,5,0)))","v":"비번"},null,{"$f":"IF(MONTH(J14)<>$C$2,\"\",IF(VLOOKUP(J14,일정,5,0)=0,\"\",VLOOKUP(J14,일정,5,0)))","v":"주간"},null,{"$f":"IF(MONTH(L14)<>$C$2,\"\",IF(VLOOKUP(L14,일정,5,0)=0,\"\",VLOOKUP(L14,일정,5,0)))","v":"주간"},null,{"$f":"IF(MONTH(N14)<>$C$2,\"\",IF(VLOOKUP(N14,일정,5,0)=0,\"\",VLOOKUP(N14,일정,5,0)))","v":"야간"},null,{"$f":"IF(MONTH(P14)<>$C$2,\"\",IF(VLOOKUP(P14,일정,5,0)=0,\"\",VLOOKUP(P14,일정,5,0)))","v":"야간"},null,null,1,"주간",null,{"$f":"GetColor(T17,\"RGB\")","v":"244, 140, 140"}]
[null,{"$f":"IF(일정!G$6=\"\",\"\",일정!G$6)","v":"최땡땡"},{"$f":"IF(MONTH(D14)<>$C$2,\"\",IF(VLOOKUP(D14,일정,6,0)=0,\"\",VLOOKUP(D14,일정,6,0)))","v":"야간"},null,{"$f":"IF(MONTH(F14)<>$C$2,\"\",IF(VLOOKUP(F14,일정,6,0)=0,\"\",VLOOKUP(F14,일정,6,0)))","v":"비번"},null,{"$f":"IF(MONTH(H14)<>$C$2,\"\",IF(VLOOKUP(H14,일정,6,0)=0,\"\",VLOOKUP(H14,일정,6,0)))","v":"비번"},null,{"$f":"IF(MONTH(J14)<>$C$2,\"\",IF(VLOOKUP(J14,일정,6,0)=0,\"\",VLOOKUP(J14,일정,6,0)))","v":"주간"},null,{"$f":"IF(MONTH(L14)<>$C$2,\"\",IF(VLOOKUP(L14,일정,6,0)=0,\"\",VLOOKUP(L14,일정,6,0)))","v":"주간"},null,{"$f":"IF(MONTH(N14)<>$C$2,\"\",IF(VLOOKUP(N14,일정,6,0)=0,\"\",VLOOKUP(N14,일정,6,0)))","v":"야간"},null,{"$f":"IF(MONTH(P14)<>$C$2,\"\",IF(VLOOKUP(P14,일정,6,0)=0,\"\",VLOOKUP(P14,일정,6,0)))","v":"야간"},null,null,2,"야간",null,{"$f":"GetColor(T18,\"RGB\")","v":"171, 171, 171"}]
[null,{"$f":"IF(일정!H$6=\"\",\"\",일정!H$6)","v":"오땡땡"},{"$f":"IF(MONTH(D14)<>$C$2,\"\",IF(VLOOKUP(D14,일정,7,0)=0,\"\",VLOOKUP(D14,일정,7,0)))","v":"비번"},null,{"$f":"IF(MONTH(F14)<>$C$2,\"\",IF(VLOOKUP(F14,일정,7,0)=0,\"\",VLOOKUP(F14,일정,7,0)))","v":"주간"},null,{"$f":"IF(MONTH(H14)<>$C$2,\"\",IF(VLOOKUP(H14,일정,7,0)=0,\"\",VLOOKUP(H14,일정,7,0)))","v":"주간"},null,{"$f":"IF(MONTH(J14)<>$C$2,\"\",IF(VLOOKUP(J14,일정,7,0)=0,\"\",VLOOKUP(J14,일정,7,0)))","v":"야간"},null,{"$f":"IF(MONTH(L14)<>$C$2,\"\",IF(VLOOKUP(L14,일정,7,0)=0,\"\",VLOOKUP(L14,일정,7,0)))","v":"야간"},null,{"$f":"IF(MONTH(N14)<>$C$2,\"\",IF(VLOOKUP(N14,일정,7,0)=0,\"\",VLOOKUP(N14,일정,7,0)))","v":"비번"},null,{"$f":"IF(MONTH(P14)<>$C$2,\"\",IF(VLOOKUP(P14,일정,7,0)=0,\"\",VLOOKUP(P14,일정,7,0)))","v":"비번"},null,null,3,"비번",null,{"$f":"GetColor(T19,\"RGB\")","v":"255, 230, 153"}]
[null,{"$f":"IF(일정!I$6=\"\",\"\",일정!I$6)","v":"구땡땡"},{"$f":"IF(MONTH(D14)<>$C$2,\"\",IF(VLOOKUP(D14,일정,8,0)=0,\"\",VLOOKUP(D14,일정,8,0)))","v":"비번"},null,{"$f":"IF(MONTH(F14)<>$C$2,\"\",IF(VLOOKUP(F14,일정,8,0)=0,\"\",VLOOKUP(F14,일정,8,0)))","v":"주간"},null,{"$f":"IF(MONTH(H14)<>$C$2,\"\",IF(VLOOKUP(H14,일정,8,0)=0,\"\",VLOOKUP(H14,일정,8,0)))","v":"주간"},null,{"$f":"IF(MONTH(J14)<>$C$2,\"\",IF(VLOOKUP(J14,일정,8,0)=0,\"\",VLOOKUP(J14,일정,8,0)))","v":"야간"},null,{"$f":"IF(MONTH(L14)<>$C$2,\"\",IF(VLOOKUP(L14,일정,8,0)=0,\"\",VLOOKUP(L14,일정,8,0)))","v":"야간"},null,{"$f":"IF(MONTH(N14)<>$C$2,\"\",IF(VLOOKUP(N14,일정,8,0)=0,\"\",VLOOKUP(N14,일정,8,0)))","v":"비번"},null,{"$f":"IF(MONTH(P14)<>$C$2,\"\",IF(VLOOKUP(P14,일정,8,0)=0,\"\",VLOOKUP(P14,일정,8,0)))","v":"비번"}]
[null,null,{"$f":"IFERROR(INDEX(공휴일이름,MATCH(1,--($C$2=공휴일월)*(DAY(D21)=공휴일일),0)),\"\")&\"  \"&IFERROR(INDEX(기념일이름,MATCH(1,--($C$2=기념일월)*(DAY(D21)=기념일일),0)),\"\")&\" \"","v":"   "},{"$f":"D7+14","v":"2023-01-15"},{"$f":"IFERROR(INDEX(공휴일이름,MATCH(1,--($C$2=공휴일월)*(DAY(F21)=공휴일일),0)),\"\")&\"  \"&IFERROR(INDEX(기념일이름,MATCH(1,--($C$2=기념일월)*(DAY(F21)=기념일일),0)),\"\")&\" \"","v":"   "},{"$f":"D7+15","v":"2023-01-16"},{"$f":"IFERROR(INDEX(공휴일이름,MATCH(1,--($C$2=공휴일월)*(DAY(H21)=공휴일일),0)),\"\")&\"  \"&IFERROR(INDEX(기념일이름,MATCH(1,--($C$2=기념일월)*(DAY(H21)=기념일일),0)),\"\")&\" \"","v":"   "},{"$f":"D7+16","v":"2023-01-17"},{"$f":"IFERROR(INDEX(공휴일이름,MATCH(1,--($C$2=공휴일월)*(DAY(J21)=공휴일일),0)),\"\")&\"  \"&IFERROR(INDEX(기념일이름,MATCH(1,--($C$2=기념일월)*(DAY(J21)=기념일일),0)),\"\")&\" \"","v":"   "},{"$f":"D7+17","v":"2023-01-18"},{"$f":"IFERROR(INDEX(공휴일이름,MATCH(1,--($C$2=공휴일월)*(DAY(L21)=공휴일일),0)),\"\")&\"  \"&IFERROR(INDEX(기념일이름,MATCH(1,--($C$2=기념일월)*(DAY(L21)=기념일일),0)),\"\")&\" \"","v":"창립기념일   "},{"$f":"D7+18","v":"2023-01-19"},{"$f":"IFERROR(INDEX(공휴일이름,MATCH(1,--($C$2=공휴일월)*(DAY(N21)=공휴일일),0)),\"\")&\"  \"&IFERROR(INDEX(기념일이름,MATCH(1,--($C$2=기념일월)*(DAY(N21)=기념일일),0)),\"\")&\" \"","v":"   "},{"$f":"D7+19","v":"2023-01-20"},{"$f":"IFERROR(INDEX(공휴일이름,MATCH(1,--($C$2=공휴일월)*(DAY(P21)=공휴일일),0)),\"\")&\"  \"&IFERROR(INDEX(기념일이름,MATCH(1,--($C$2=기념일월)*(DAY(P21)=기념일일),0)),\"\")&\" \"","v":"설날   "},{"$f":"D7+20","v":"2023-01-21"}]
[null,{"$f":"IF(일정!D$6=\"\",\"\",일정!D$6)","v":"홍길동"},{"$f":"IF(MONTH(D21)<>$C$2,\"\",IF(VLOOKUP(D21,일정,3,0)=0,\"\",VLOOKUP(D21,일정,3,0)))","v":"야간"},null,{"$f":"IF(MONTH(F21)<>$C$2,\"\",IF(VLOOKUP(F21,일정,3,0)=0,\"\",VLOOKUP(F21,일정,3,0)))","v":"야간"},null,{"$f":"IF(MONTH(H21)<>$C$2,\"\",IF(VLOOKUP(H21,일정,3,0)=0,\"\",VLOOKUP(H21,일정,3,0)))","v":"비번"},null,{"$f":"IF(MONTH(J21)<>$C$2,\"\",IF(VLOOKUP(J21,일정,3,0)=0,\"\",VLOOKUP(J21,일정,3,0)))","v":"비번"},null,{"$f":"IF(MONTH(L21)<>$C$2,\"\",IF(VLOOKUP(L21,일정,3,0)=0,\"\",VLOOKUP(L21,일정,3,0)))","v":"주간"},null,{"$f":"IF(MONTH(N21)<>$C$2,\"\",IF(VLOOKUP(N21,일정,3,0)=0,\"\",VLOOKUP(N21,일정,3,0)))","v":"주간"},null,{"$f":"IF(MONTH(P21)<>$C$2,\"\",IF(VLOOKUP(P21,일정,3,0)=0,\"\",VLOOKUP(P21,일정,3,0)))","v":"야간"}]
[null,{"$f":"IF(일정!E$6=\"\",\"\",일정!E$6)","v":"이땡땡"},{"$f":"IF(MONTH(D21)<>$C$2,\"\",IF(VLOOKUP(D21,일정,4,0)=0,\"\",VLOOKUP(D21,일정,4,0)))","v":"야간"},null,{"$f":"IF(MONTH(F21)<>$C$2,\"\",IF(VLOOKUP(F21,일정,4,0)=0,\"\",VLOOKUP(F21,일정,4,0)))","v":"야간"},null,{"$f":"IF(MONTH(H21)<>$C$2,\"\",IF(VLOOKUP(H21,일정,4,0)=0,\"\",VLOOKUP(H21,일정,4,0)))","v":"비번"},null,{"$f":"IF(MONTH(J21)<>$C$2,\"\",IF(VLOOKUP(J21,일정,4,0)=0,\"\",VLOOKUP(J21,일정,4,0)))","v":"비번"},null,{"$f":"IF(MONTH(L21)<>$C$2,\"\",IF(VLOOKUP(L21,일정,4,0)=0,\"\",VLOOKUP(L21,일정,4,0)))","v":"주간"},null,{"$f":"IF(MONTH(N21)<>$C$2,\"\",IF(VLOOKUP(N21,일정,4,0)=0,\"\",VLOOKUP(N21,일정,4,0)))","v":"주간"},null,{"$f":"IF(MONTH(P21)<>$C$2,\"\",IF(VLOOKUP(P21,일정,4,0)=0,\"\",VLOOKUP(P21,일정,4,0)))","v":"야간"},null,null,"근무표",{"$f":"C2","v":1},{"$f":"$S$17","v":"주간"},{"$f":"$S$18","v":"야간"},{"$f":"$S$19","v":"비번"},"근무일 계"]
[null,{"$f":"IF(일정!F$6=\"\",\"\",일정!F$6)","v":"박땡땡"},{"$f":"IF(MONTH(D21)<>$C$2,\"\",IF(VLOOKUP(D21,일정,5,0)=0,\"\",VLOOKUP(D21,일정,5,0)))","v":"비번"},null,{"$f":"IF(MONTH(F21)<>$C$2,\"\",IF(VLOOKUP(F21,일정,5,0)=0,\"\",VLOOKUP(F21,일정,5,0)))","v":"비번"},null,{"$f":"IF(MONTH(H21)<>$C$2,\"\",IF(VLOOKUP(H21,일정,5,0)=0,\"\",VLOOKUP(H21,일정,5,0)))","v":"주간"},null,{"$f":"IF(MONTH(J21)<>$C$2,\"\",IF(VLOOKUP(J21,일정,5,0)=0,\"\",VLOOKUP(J21,일정,5,0)))","v":"주간"},null,{"$f":"IF(MONTH(L21)<>$C$2,\"\",IF(VLOOKUP(L21,일정,5,0)=0,\"\",VLOOKUP(L21,일정,5,0)))","v":"야간"},null,{"$f":"IF(MONTH(N21)<>$C$2,\"\",IF(VLOOKUP(N21,일정,5,0)=0,\"\",VLOOKUP(N21,일정,5,0)))","v":"야간"},null,{"$f":"IF(MONTH(P21)<>$C$2,\"\",IF(VLOOKUP(P21,일정,5,0)=0,\"\",VLOOKUP(P21,일정,5,0)))","v":"비번"},null,null,{"$f":"일정!D$6","v":"홍길동"},"순서1",{"$f":"COUNTIF($C$15:$P$15,T$23)+COUNTIF($C$22:$P$22,T$23)+COUNTIF($C$29:$P$29,T$23)+COUNTIF($C$36:$P$36,T$23)+COUNTIF($C$43:$P$43,T$23)+COUNTIF($C$8:$P$8,T$23)","v":11},{"$f":"COUNTIF($C$15:$P$15,U$23)+COUNTIF($C$22:$P$22,U$23)+COUNTIF($C$29:$P$29,U$23)+COUNTIF($C$36:$P$36,U$23)+COUNTIF($C$43:$P$43,U$23)+COUNTIF($C$8:$P$8,U$23)","v":10},{"$f":"COUNTIF($C$15:$P$15,V$23)+COUNTIF($C$22:$P$22,V$23)+COUNTIF($C$29:$P$29,V$23)+COUNTIF($C$36:$P$36,V$23)+COUNTIF($C$43:$P$43,V$23)+COUNTIF($C$8:$P$8,V$23)","v":10},{"$f":"T24+U24","v":21}]
[null,{"$f":"IF(일정!G$6=\"\",\"\",일정!G$6)","v":"최땡땡"},{"$f":"IF(MONTH(D21)<>$C$2,\"\",IF(VLOOKUP(D21,일정,6,0)=0,\"\",VLOOKUP(D21,일정,6,0)))","v":"비번"},null,{"$f":"IF(MONTH(F21)<>$C$2,\"\",IF(VLOOKUP(F21,일정,6,0)=0,\"\",VLOOKUP(F21,일정,6,0)))","v":"비번"},null,{"$f":"IF(MONTH(H21)<>$C$2,\"\",IF(VLOOKUP(H21,일정,6,0)=0,\"\",VLOOKUP(H21,일정,6,0)))","v":"주간"},null,{"$f":"IF(MONTH(J21)<>$C$2,\"\",IF(VLOOKUP(J21,일정,6,0)=0,\"\",VLOOKUP(J21,일정,6,0)))","v":"주간"},null,{"$f":"IF(MONTH(L21)<>$C$2,\"\",IF(VLOOKUP(L21,일정,6,0)=0,\"\",VLOOKUP(L21,일정,6,0)))","v":"야간"},null,{"$f":"IF(MONTH(N21)<>$C$2,\"\",IF(VLOOKUP(N21,일정,6,0)=0,\"\",VLOOKUP(N21,일정,6,0)))","v":"야간"},null,{"$f":"IF(MONTH(P21)<>$C$2,\"\",IF(VLOOKUP(P21,일정,6,0)=0,\"\",VLOOKUP(P21,일정,6,0)))","v":"비번"},null,null,{"$f":"일정!E$6","v":"이땡땡"},"순서1",{"$f":"COUNTIF($C$16:$P$16,T$23)+COUNTIF($C$23:$P$23,T$23)+COUNTIF($C$30:$P$30,T$23)+COUNTIF($C$37:$P$37,T$23)+COUNTIF($C$44:$P$44,T$23)+COUNTIF($C$9:$P$9,T$23)","v":11},{"$f":"COUNTIF($C$16:$P$16,U$23)+COUNTIF($C$23:$P$23,U$23)+COUNTIF($C$30:$P$30,U$23)+COUNTIF($C$37:$P$37,U$23)+COUNTIF($C$44:$P$44,U$23)+COUNTIF($C$9:$P$9,U$23)","v":10},10,{"$f":"T25+U25","v":21}]
[null,{"$f":"IF(일정!H$6=\"\",\"\",일정!H$6)","v":"오땡땡"},{"$f":"IF(MONTH(D21)<>$C$2,\"\",IF(VLOOKUP(D21,일정,7,0)=0,\"\",VLOOKUP(D21,일정,7,0)))","v":"주간"},null,{"$f":"IF(MONTH(F21)<>$C$2,\"\",IF(VLOOKUP(F21,일정,7,0)=0,\"\",VLOOKUP(F21,일정,7,0)))","v":"주간"},null,{"$f":"IF(MONTH(H21)<>$C$2,\"\",IF(VLOOKUP(H21,일정,7,0)=0,\"\",VLOOKUP(H21,일정,7,0)))","v":"야간"},null,{"$f":"IF(MONTH(J21)<>$C$2,\"\",IF(VLOOKUP(J21,일정,7,0)=0,\"\",VLOOKUP(J21,일정,7,0)))","v":"야간"},null,{"$f":"IF(MONTH(L21)<>$C$2,\"\",IF(VLOOKUP(L21,일정,7,0)=0,\"\",VLOOKUP(L21,일정,7,0)))","v":"비번"},null,{"$f":"IF(MONTH(N21)<>$C$2,\"\",IF(VLOOKUP(N21,일정,7,0)=0,\"\",VLOOKUP(N21,일정,7,0)))","v":"비번"},null,{"$f":"IF(MONTH(P21)<>$C$2,\"\",IF(VLOOKUP(P21,일정,7,0)=0,\"\",VLOOKUP(P21,일정,7,0)))","v":"주간"},null,null,{"$f":"일정!F$6","v":"박땡땡"},"순서3",{"$f":"COUNTIF($C$17:$P$17,T$23)+COUNTIF($C$24:$P$24,T$23)+COUNTIF($C$31:$P$31,T$23)+COUNTIF($C$38:$P$38,T$23)+COUNTIF($C$45:$P$45,T$23)+COUNTIF($C$10:$P$10,T$23)","v":10},{"$f":"COUNTIF($C$17:$P$17,U$23)+COUNTIF($C$24:$P$24,U$23)+COUNTIF($C$31:$P$31,U$23)+COUNTIF($C$38:$P$38,U$23)+COUNTIF($C$45:$P$45,U$23)+COUNTIF($C$10:$P$10,U$23)","v":11},10,21]
[null,{"$f":"IF(일정!I$6=\"\",\"\",일정!I$6)","v":"구땡땡"},{"$f":"IF(MONTH(D21)<>$C$2,\"\",IF(VLOOKUP(D21,일정,8,0)=0,\"\",VLOOKUP(D21,일정,8,0)))","v":"주간"},null,{"$f":"IF(MONTH(F21)<>$C$2,\"\",IF(VLOOKUP(F21,일정,8,0)=0,\"\",VLOOKUP(F21,일정,8,0)))","v":"주간"},null,{"$f":"IF(MONTH(H21)<>$C$2,\"\",IF(VLOOKUP(H21,일정,8,0)=0,\"\",VLOOKUP(H21,일정,8,0)))","v":"야간"},null,{"$f":"IF(MONTH(J21)<>$C$2,\"\",IF(VLOOKUP(J21,일정,8,0)=0,\"\",VLOOKUP(J21,일정,8,0)))","v":"야간"},null,{"$f":"IF(MONTH(L21)<>$C$2,\"\",IF(VLOOKUP(L21,일정,8,0)=0,\"\",VLOOKUP(L21,일정,8,0)))","v":"비번"},null,{"$f":"IF(MONTH(N21)<>$C$2,\"\",IF(VLOOKUP(N21,일정,8,0)=0,\"\",VLOOKUP(N21,일정,8,0)))","v":"비번"},null,{"$f":"IF(MONTH(P21)<>$C$2,\"\",IF(VLOOKUP(P21,일정,8,0)=0,\"\",VLOOKUP(P21,일정,8,0)))","v":"주간"},null,null,{"$f":"일정!G$6","v":"최땡땡"},"순서3",{"$f":"COUNTIF($C$18:$P$18,T$23)+COUNTIF($C$25:$P$25,T$23)+COUNTIF($C$32:$P$32,T$23)+COUNTIF($C$39:$P$39,T$23)+COUNTIF($C$46:$P$46,T$23)+COUNTIF($C$11:$P$11,T$23)","v":10},{"$f":"COUNTIF($C$18:$P$18,U$23)+COUNTIF($C$25:$P$25,U$23)+COUNTIF($C$32:$P$32,U$23)+COUNTIF($C$39:$P$39,U$23)+COUNTIF($C$46:$P$46,U$23)+COUNTIF($C$11:$P$11,U$23)","v":11},10,21]
[null,null,{"$f":"IFERROR(INDEX(공휴일이름,MATCH(1,--($C$2=공휴일월)*(DAY(D28)=공휴일일),0)),\"\")&\"  \"&IFERROR(INDEX(기념일이름,MATCH(1,--($C$2=기념일월)*(DAY(D28)=기념일일),0)),\"\")&\" \"","v":"설날   "},{"$f":"D7+21","v":"2023-01-22"},{"$f":"IFERROR(INDEX(공휴일이름,MATCH(1,--($C$2=공휴일월)*(DAY(F28)=공휴일일),0)),\"\")&\"  \"&IFERROR(INDEX(기념일이름,MATCH(1,--($C$2=기념일월)*(DAY(F28)=기념일일),0)),\"\")&\" \"","v":"설날   "},{"$f":"D7+22","v":"2023-01-23"},{"$f":"IFERROR(INDEX(공휴일이름,MATCH(1,--($C$2=공휴일월)*(DAY(H28)=공휴일일),0)),\"\")&\"  \"&IFERROR(INDEX(기념일이름,MATCH(1,--($C$2=기념일월)*(DAY(H28)=기념일일),0)),\"\")&\" \"","v":"설날 대체휴일   "},{"$f":"D7+23","v":"2023-01-24"},{"$f":"IFERROR(INDEX(공휴일이름,MATCH(1,--($C$2=공휴일월)*(DAY(J28)=공휴일일),0)),\"\")&\"  \"&IFERROR(INDEX(기념일이름,MATCH(1,--($C$2=기념일월)*(DAY(J28)=기념일일),0)),\"\")&\" \"","v":"   "},{"$f":"D7+24","v":"2023-01-25"},{"$f":"IFERROR(INDEX(공휴일이름,MATCH(1,--($C$2=공휴일월)*(DAY(L28)=공휴일일),0)),\"\")&\"  \"&IFERROR(INDEX(기념일이름,MATCH(1,--($C$2=기념일월)*(DAY(L28)=기념일일),0)),\"\")&\" \"","v":"   "},{"$f":"D7+25","v":"2023-01-26"},{"$f":"IFERROR(INDEX(공휴일이름,MATCH(1,--($C$2=공휴일월)*(DAY(N28)=공휴일일),0)),\"\")&\"  \"&IFERROR(INDEX(기념일이름,MATCH(1,--($C$2=기념일월)*(DAY(N28)=기념일일),0)),\"\")&\" \"","v":"   "},{"$f":"D7+26","v":"2023-01-27"},{"$f":"IFERROR(INDEX(공휴일이름,MATCH(1,--($C$2=공휴일월)*(DAY(P28)=공휴일일),0)),\"\")&\"  \"&IFERROR(INDEX(기념일이름,MATCH(1,--($C$2=기념일월)*(DAY(P28)=기념일일),0)),\"\")&\" \"","v":"   "},{"$f":"D7+27","v":"2023-01-28"},null,{"$f":"일정!H$6","v":"오땡땡"},"순서5",{"$f":"COUNTIF($C$19:$P$19,T$23)+COUNTIF($C$26:$P$26,T$23)+COUNTIF($C$33:$P$33,T$23)+COUNTIF($C$40:$P$40,T$23)+COUNTIF($C$47:$P$47,T$23)+COUNTIF($C$12:$P$12,T$23)","v":10},{"$f":"COUNTIF($C$19:$P$19,U$23)+COUNTIF($C$26:$P$26,U$23)+COUNTIF($C$33:$P$33,U$23)+COUNTIF($C$40:$P$40,U$23)+COUNTIF($C$47:$P$47,U$23)+COUNTIF($C$12:$P$12,U$23)","v":10},11,20]
[null,{"$f":"IF(일정!D$6=\"\",\"\",일정!D$6)","v":"홍길동"},{"$f":"IF(MONTH(D28)<>$C$2,\"\",IF(VLOOKUP(D28,일정,3,0)=0,\"\",VLOOKUP(D28,일정,3,0)))","v":"야간"},null,{"$f":"IF(MONTH(F28)<>$C$2,\"\",IF(VLOOKUP(F28,일정,3,0)=0,\"\",VLOOKUP(F28,일정,3,0)))","v":"비번"},null,{"$f":"IF(MONTH(H28)<>$C$2,\"\",IF(VLOOKUP(H28,일정,3,0)=0,\"\",VLOOKUP(H28,일정,3,0)))","v":"비번"},null,{"$f":"IF(MONTH(J28)<>$C$2,\"\",IF(VLOOKUP(J28,일정,3,0)=0,\"\",VLOOKUP(J28,일정,3,0)))","v":"주간"},null,{"$f":"IF(MONTH(L28)<>$C$2,\"\",IF(VLOOKUP(L28,일정,3,0)=0,\"\",VLOOKUP(L28,일정,3,0)))","v":"주간"},null,{"$f":"IF(MONTH(N28)<>$C$2,\"\",IF(VLOOKUP(N28,일정,3,0)=0,\"\",VLOOKUP(N28,일정,3,0)))","v":"야간"},null,{"$f":"IF(MONTH(P28)<>$C$2,\"\",IF(VLOOKUP(P28,일정,3,0)=0,\"\",VLOOKUP(P28,일정,3,0)))","v":"야간"},null,null,{"$f":"일정!I$6","v":"구땡땡"},"순서5",{"$f":"COUNTIF($C$20:$P$20,T$23)+COUNTIF($C$27:$P$27,T$23)+COUNTIF($C$34:$P$34,T$23)+COUNTIF($C$41:$P$41,T$23)+COUNTIF($C$48:$P$48,T$23)+COUNTIF($C$13:$P$13,T$23)","v":10},{"$f":"COUNTIF($C$20:$P$20,U$23)+COUNTIF($C$27:$P$27,U$23)+COUNTIF($C$34:$P$34,U$23)+COUNTIF($C$41:$P$41,U$23)+COUNTIF($C$48:$P$48,U$23)+COUNTIF($C$13:$P$13,U$23)","v":10},11,20]
[null,{"$f":"IF(일정!E$6=\"\",\"\",일정!E$6)","v":"이땡땡"},{"$f":"IF(MONTH(D28)<>$C$2,\"\",IF(VLOOKUP(D28,일정,4,0)=0,\"\",VLOOKUP(D28,일정,4,0)))","v":"야간"},null,{"$f":"IF(MONTH(F28)<>$C$2,\"\",IF(VLOOKUP(F28,일정,4,0)=0,\"\",VLOOKUP(F28,일정,4,0)))","v":"비번"},null,{"$f":"IF(MONTH(H28)<>$C$2,\"\",IF(VLOOKUP(H28,일정,4,0)=0,\"\",VLOOKUP(H28,일정,4,0)))","v":"비번"},null,{"$f":"IF(MONTH(J28)<>$C$2,\"\",IF(VLOOKUP(J28,일정,4,0)=0,\"\",VLOOKUP(J28,일정,4,0)))","v":"주간"},null,{"$f":"IF(MONTH(L28)<>$C$2,\"\",IF(VLOOKUP(L28,일정,4,0)=0,\"\",VLOOKUP(L28,일정,4,0)))","v":"주간"},null,{"$f":"IF(MONTH(N28)<>$C$2,\"\",IF(VLOOKUP(N28,일정,4,0)=0,\"\",VLOOKUP(N28,일정,4,0)))","v":"야간"},null,{"$f":"IF(MONTH(P28)<>$C$2,\"\",IF(VLOOKUP(P28,일정,4,0)=0,\"\",VLOOKUP(P28,일정,4,0)))","v":"야간"}]
[null,{"$f":"IF(일정!F$6=\"\",\"\",일정!F$6)","v":"박땡땡"},{"$f":"IF(MONTH(D28)<>$C$2,\"\",IF(VLOOKUP(D28,일정,5,0)=0,\"\",VLOOKUP(D28,일정,5,0)))","v":"비번"},null,{"$f":"IF(MONTH(F28)<>$C$2,\"\",IF(VLOOKUP(F28,일정,5,0)=0,\"\",VLOOKUP(F28,일정,5,0)))","v":"주간"},null,{"$f":"IF(MONTH(H28)<>$C$2,\"\",IF(VLOOKUP(H28,일정,5,0)=0,\"\",VLOOKUP(H28,일정,5,0)))","v":"주간"},null,{"$f":"IF(MONTH(J28)<>$C$2,\"\",IF(VLOOKUP(J28,일정,5,0)=0,\"\",VLOOKUP(J28,일정,5,0)))","v":"야간"},null,{"$f":"IF(MONTH(L28)<>$C$2,\"\",IF(VLOOKUP(L28,일정,5,0)=0,\"\",VLOOKUP(L28,일정,5,0)))","v":"야간"},null,{"$f":"IF(MONTH(N28)<>$C$2,\"\",IF(VLOOKUP(N28,일정,5,0)=0,\"\",VLOOKUP(N28,일정,5,0)))","v":"비번"},null,{"$f":"IF(MONTH(P28)<>$C$2,\"\",IF(VLOOKUP(P28,일정,5,0)=0,\"\",VLOOKUP(P28,일정,5,0)))","v":"비번"}]
[null,{"$f":"IF(일정!G$6=\"\",\"\",일정!G$6)","v":"최땡땡"},{"$f":"IF(MONTH(D28)<>$C$2,\"\",IF(VLOOKUP(D28,일정,6,0)=0,\"\",VLOOKUP(D28,일정,6,0)))","v":"비번"},null,{"$f":"IF(MONTH(F28)<>$C$2,\"\",IF(VLOOKUP(F28,일정,6,0)=0,\"\",VLOOKUP(F28,일정,6,0)))","v":"주간"},null,{"$f":"IF(MONTH(H28)<>$C$2,\"\",IF(VLOOKUP(H28,일정,6,0)=0,\"\",VLOOKUP(H28,일정,6,0)))","v":"주간"},null,{"$f":"IF(MONTH(J28)<>$C$2,\"\",IF(VLOOKUP(J28,일정,6,0)=0,\"\",VLOOKUP(J28,일정,6,0)))","v":"야간"},null,{"$f":"IF(MONTH(L28)<>$C$2,\"\",IF(VLOOKUP(L28,일정,6,0)=0,\"\",VLOOKUP(L28,일정,6,0)))","v":"야간"},null,{"$f":"IF(MONTH(N28)<>$C$2,\"\",IF(VLOOKUP(N28,일정,6,0)=0,\"\",VLOOKUP(N28,일정,6,0)))","v":"비번"},null,{"$f":"IF(MONTH(P28)<>$C$2,\"\",IF(VLOOKUP(P28,일정,6,0)=0,\"\",VLOOKUP(P28,일정,6,0)))","v":"비번"}]
[null,{"$f":"IF(일정!H$6=\"\",\"\",일정!H$6)","v":"오땡땡"},{"$f":"IF(MONTH(D28)<>$C$2,\"\",IF(VLOOKUP(D28,일정,7,0)=0,\"\",VLOOKUP(D28,일정,7,0)))","v":"주간"},null,{"$f":"IF(MONTH(F28)<>$C$2,\"\",IF(VLOOKUP(F28,일정,7,0)=0,\"\",VLOOKUP(F28,일정,7,0)))","v":"야간"},null,{"$f":"IF(MONTH(H28)<>$C$2,\"\",IF(VLOOKUP(H28,일정,7,0)=0,\"\",VLOOKUP(H28,일정,7,0)))","v":"야간"},null,{"$f":"IF(MONTH(J28)<>$C$2,\"\",IF(VLOOKUP(J28,일정,7,0)=0,\"\",VLOOKUP(J28,일정,7,0)))","v":"비번"},null,{"$f":"IF(MONTH(L28)<>$C$2,\"\",IF(VLOOKUP(L28,일정,7,0)=0,\"\",VLOOKUP(L28,일정,7,0)))","v":"비번"},null,{"$f":"IF(MONTH(N28)<>$C$2,\"\",IF(VLOOKUP(N28,일정,7,0)=0,\"\",VLOOKUP(N28,일정,7,0)))","v":"주간"},null,{"$f":"IF(MONTH(P28)<>$C$2,\"\",IF(VLOOKUP(P28,일정,7,0)=0,\"\",VLOOKUP(P28,일정,7,0)))","v":"주간"}]
[null,{"$f":"IF(일정!I$6=\"\",\"\",일정!I$6)","v":"구땡땡"},{"$f":"IF(MONTH(D28)<>$C$2,\"\",IF(VLOOKUP(D28,일정,8,0)=0,\"\",VLOOKUP(D28,일정,8,0)))","v":"주간"},null,{"$f":"IF(MONTH(F28)<>$C$2,\"\",IF(VLOOKUP(F28,일정,8,0)=0,\"\",VLOOKUP(F28,일정,8,0)))","v":"야간"},null,{"$f":"IF(MONTH(H28)<>$C$2,\"\",IF(VLOOKUP(H28,일정,8,0)=0,\"\",VLOOKUP(H28,일정,8,0)))","v":"야간"},null,{"$f":"IF(MONTH(J28)<>$C$2,\"\",IF(VLOOKUP(J28,일정,8,0)=0,\"\",VLOOKUP(J28,일정,8,0)))","v":"비번"},null,{"$f":"IF(MONTH(L28)<>$C$2,\"\",IF(VLOOKUP(L28,일정,8,0)=0,\"\",VLOOKUP(L28,일정,8,0)))","v":"비번"},null,{"$f":"IF(MONTH(N28)<>$C$2,\"\",IF(VLOOKUP(N28,일정,8,0)=0,\"\",VLOOKUP(N28,일정,8,0)))","v":"주간"},null,{"$f":"IF(MONTH(P28)<>$C$2,\"\",IF(VLOOKUP(P28,일정,8,0)=0,\"\",VLOOKUP(P28,일정,8,0)))","v":"주간"}]
[null,null,{"$f":"IFERROR(INDEX(공휴일이름,MATCH(1,--($C$2=공휴일월)*(DAY(D35)=공휴일일),0)),\"\")&\"  \"&IFERROR(INDEX(기념일이름,MATCH(1,--($C$2=기념일월)*(DAY(D35)=기념일일),0)),\"\")&\" \"","v":"   "},{"$f":"D7+28","v":"2023-01-29"},{"$f":"IFERROR(INDEX(공휴일이름,MATCH(1,--($C$2=공휴일월)*(DAY(F35)=공휴일일),0)),\"\")&\"  \"&IFERROR(INDEX(기념일이름,MATCH(1,--($C$2=기념일월)*(DAY(F35)=기념일일),0)),\"\")&\" \"","v":"   "},{"$f":"D7+29","v":"2023-01-30"},{"$f":"IFERROR(INDEX(공휴일이름,MATCH(1,--($C$2=공휴일월)*(DAY(H35)=공휴일일),0)),\"\")&\"  \"&IFERROR(INDEX(기념일이름,MATCH(1,--($C$2=기념일월)*(DAY(H35)=기념일일),0)),\"\")&\" \"","v":"   "},{"$f":"D7+30","v":"2023-01-31"},{"$f":"IFERROR(INDEX(공휴일이름,MATCH(1,--($C$2=공휴일월)*(DAY(J35)=공휴일일),0)),\"\")&\"  \"&IFERROR(INDEX(기념일이름,MATCH(1,--($C$2=기념일월)*(DAY(J35)=기념일일),0)),\"\")&\" \"","v":"신정   "},{"$f":"D7+31","v":"2023-02-01"},{"$f":"IFERROR(INDEX(공휴일이름,MATCH(1,--($C$2=공휴일월)*(DAY(L35)=공휴일일),0)),\"\")&\"  \"&IFERROR(INDEX(기념일이름,MATCH(1,--($C$2=기념일월)*(DAY(L35)=기념일일),0)),\"\")&\" \"","v":"   "},{"$f":"D7+32","v":"2023-02-02"},{"$f":"IFERROR(INDEX(공휴일이름,MATCH(1,--($C$2=공휴일월)*(DAY(N35)=공휴일일),0)),\"\")&\"  \"&IFERROR(INDEX(기념일이름,MATCH(1,--($C$2=기념일월)*(DAY(N35)=기념일일),0)),\"\")&\" \"","v":"   "},{"$f":"D7+33","v":"2023-02-03"},{"$f":"IFERROR(INDEX(공휴일이름,MATCH(1,--($C$2=공휴일월)*(DAY(P35)=공휴일일),0)),\"\")&\"  \"&IFERROR(INDEX(기념일이름,MATCH(1,--($C$2=기념일월)*(DAY(P35)=기념일일),0)),\"\")&\" \"","v":"   "},{"$f":"D7+34","v":"2023-02-04"}]
[null,{"$f":"IF(일정!D$6=\"\",\"\",일정!D$6)","v":"홍길동"},{"$f":"IF(MONTH(D35)<>$C$2,\"\",IF(VLOOKUP(D35,일정,3,0)=0,\"\",VLOOKUP(D35,일정,3,0)))","v":"비번"},null,{"$f":"IF(MONTH(F35)<>$C$2,\"\",IF(VLOOKUP(F35,일정,3,0)=0,\"\",VLOOKUP(F35,일정,3,0)))","v":"비번"},null,{"$f":"IF(MONTH(H35)<>$C$2,\"\",IF(VLOOKUP(H35,일정,3,0)=0,\"\",VLOOKUP(H35,일정,3,0)))","v":"주간"},null,{"$f":"IF(MONTH(J35)<>$C$2,\"\",IF(VLOOKUP(J35,일정,3,0)=0,\"\",VLOOKUP(J35,일정,3,0)))","v":""},null,{"$f":"IF(MONTH(L35)<>$C$2,\"\",IF(VLOOKUP(L35,일정,3,0)=0,\"\",VLOOKUP(L35,일정,3,0)))","v":""},null,{"$f":"IF(MONTH(N35)<>$C$2,\"\",IF(VLOOKUP(N35,일정,3,0)=0,\"\",VLOOKUP(N35,일정,3,0)))","v":""},null,{"$f":"IF(MONTH(P35)<>$C$2,\"\",IF(VLOOKUP(P35,일정,3,0)=0,\"\",VLOOKUP(P35,일정,3,0)))","v":""}]
[null,{"$f":"IF(일정!E$6=\"\",\"\",일정!E$6)","v":"이땡땡"},{"$f":"IF(MONTH(D35)<>$C$2,\"\",IF(VLOOKUP(D35,일정,4,0)=0,\"\",VLOOKUP(D35,일정,4,0)))","v":"비번"},null,{"$f":"IF(MONTH(F35)<>$C$2,\"\",IF(VLOOKUP(F35,일정,4,0)=0,\"\",VLOOKUP(F35,일정,4,0)))","v":"비번"},null,{"$f":"IF(MONTH(H35)<>$C$2,\"\",IF(VLOOKUP(H35,일정,4,0)=0,\"\",VLOOKUP(H35,일정,4,0)))","v":"주간"},null,{"$f":"IF(MONTH(J35)<>$C$2,\"\",IF(VLOOKUP(J35,일정,4,0)=0,\"\",VLOOKUP(J35,일정,4,0)))","v":""},null,{"$f":"IF(MONTH(L35)<>$C$2,\"\",IF(VLOOKUP(L35,일정,4,0)=0,\"\",VLOOKUP(L35,일정,4,0)))","v":""},null,{"$f":"IF(MONTH(N35)<>$C$2,\"\",IF(VLOOKUP(N35,일정,4,0)=0,\"\",VLOOKUP(N35,일정,4,0)))","v":""},null,{"$f":"IF(MONTH(P35)<>$C$2,\"\",IF(VLOOKUP(P35,일정,4,0)=0,\"\",VLOOKUP(P35,일정,4,0)))","v":""}]
[null,{"$f":"IF(일정!F$6=\"\",\"\",일정!F$6)","v":"박땡땡"},{"$f":"IF(MONTH(D35)<>$C$2,\"\",IF(VLOOKUP(D35,일정,5,0)=0,\"\",VLOOKUP(D35,일정,5,0)))","v":"주간"},null,{"$f":"IF(MONTH(F35)<>$C$2,\"\",IF(VLOOKUP(F35,일정,5,0)=0,\"\",VLOOKUP(F35,일정,5,0)))","v":"주간"},null,{"$f":"IF(MONTH(H35)<>$C$2,\"\",IF(VLOOKUP(H35,일정,5,0)=0,\"\",VLOOKUP(H35,일정,5,0)))","v":"야간"},null,{"$f":"IF(MONTH(J35)<>$C$2,\"\",IF(VLOOKUP(J35,일정,5,0)=0,\"\",VLOOKUP(J35,일정,5,0)))","v":""},null,{"$f":"IF(MONTH(L35)<>$C$2,\"\",IF(VLOOKUP(L35,일정,5,0)=0,\"\",VLOOKUP(L35,일정,5,0)))","v":""},null,{"$f":"IF(MONTH(N35)<>$C$2,\"\",IF(VLOOKUP(N35,일정,5,0)=0,\"\",VLOOKUP(N35,일정,5,0)))","v":""},null,{"$f":"IF(MONTH(P35)<>$C$2,\"\",IF(VLOOKUP(P35,일정,5,0)=0,\"\",VLOOKUP(P35,일정,5,0)))","v":""}]
[null,{"$f":"IF(일정!G$6=\"\",\"\",일정!G$6)","v":"최땡땡"},{"$f":"IF(MONTH(D35)<>$C$2,\"\",IF(VLOOKUP(D35,일정,6,0)=0,\"\",VLOOKUP(D35,일정,6,0)))","v":"주간"},null,{"$f":"IF(MONTH(F35)<>$C$2,\"\",IF(VLOOKUP(F35,일정,6,0)=0,\"\",VLOOKUP(F35,일정,6,0)))","v":"주간"},null,{"$f":"IF(MONTH(H35)<>$C$2,\"\",IF(VLOOKUP(H35,일정,6,0)=0,\"\",VLOOKUP(H35,일정,6,0)))","v":"야간"},null,{"$f":"IF(MONTH(J35)<>$C$2,\"\",IF(VLOOKUP(J35,일정,6,0)=0,\"\",VLOOKUP(J35,일정,6,0)))","v":""},null,{"$f":"IF(MONTH(L35)<>$C$2,\"\",IF(VLOOKUP(L35,일정,6,0)=0,\"\",VLOOKUP(L35,일정,6,0)))","v":""},null,{"$f":"IF(MONTH(N35)<>$C$2,\"\",IF(VLOOKUP(N35,일정,6,0)=0,\"\",VLOOKUP(N35,일정,6,0)))","v":""},null,{"$f":"IF(MONTH(P35)<>$C$2,\"\",IF(VLOOKUP(P35,일정,6,0)=0,\"\",VLOOKUP(P35,일정,6,0)))","v":""}]
[null,{"$f":"IF(일정!H$6=\"\",\"\",일정!H$6)","v":"오땡땡"},{"$f":"IF(MONTH(D35)<>$C$2,\"\",IF(VLOOKUP(D35,일정,7,0)=0,\"\",VLOOKUP(D35,일정,7,0)))","v":"야간"},null,{"$f":"IF(MONTH(F35)<>$C$2,\"\",IF(VLOOKUP(F35,일정,7,0)=0,\"\",VLOOKUP(F35,일정,7,0)))","v":"야간"},null,{"$f":"IF(MONTH(H35)<>$C$2,\"\",IF(VLOOKUP(H35,일정,7,0)=0,\"\",VLOOKUP(H35,일정,7,0)))","v":"비번"},null,{"$f":"IF(MONTH(J35)<>$C$2,\"\",IF(VLOOKUP(J35,일정,7,0)=0,\"\",VLOOKUP(J35,일정,7,0)))","v":""},null,{"$f":"IF(MONTH(L35)<>$C$2,\"\",IF(VLOOKUP(L35,일정,7,0)=0,\"\",VLOOKUP(L35,일정,7,0)))","v":""},null,{"$f":"IF(MONTH(N35)<>$C$2,\"\",IF(VLOOKUP(N35,일정,7,0)=0,\"\",VLOOKUP(N35,일정,7,0)))","v":""},null,{"$f":"IF(MONTH(P35)<>$C$2,\"\",IF(VLOOKUP(P35,일정,7,0)=0,\"\",VLOOKUP(P35,일정,7,0)))","v":""}]
[null,{"$f":"IF(일정!I$6=\"\",\"\",일정!I$6)","v":"구땡땡"},{"$f":"IF(MONTH(D35)<>$C$2,\"\",IF(VLOOKUP(D35,일정,8,0)=0,\"\",VLOOKUP(D35,일정,8,0)))","v":"야간"},null,{"$f":"IF(MONTH(F35)<>$C$2,\"\",IF(VLOOKUP(F35,일정,8,0)=0,\"\",VLOOKUP(F35,일정,8,0)))","v":"야간"},null,{"$f":"IF(MONTH(H35)<>$C$2,\"\",IF(VLOOKUP(H35,일정,8,0)=0,\"\",VLOOKUP(H35,일정,8,0)))","v":"비번"},null,{"$f":"IF(MONTH(J35)<>$C$2,\"\",IF(VLOOKUP(J35,일정,8,0)=0,\"\",VLOOKUP(J35,일정,8,0)))","v":""},null,{"$f":"IF(MONTH(L35)<>$C$2,\"\",IF(VLOOKUP(L35,일정,8,0)=0,\"\",VLOOKUP(L35,일정,8,0)))","v":""},null,{"$f":"IF(MONTH(N35)<>$C$2,\"\",IF(VLOOKUP(N35,일정,8,0)=0,\"\",VLOOKUP(N35,일정,8,0)))","v":""},null,{"$f":"IF(MONTH(P35)<>$C$2,\"\",IF(VLOOKUP(P35,일정,8,0)=0,\"\",VLOOKUP(P35,일정,8,0)))","v":""}]
[null,null,{"$f":"IFERROR(INDEX(공휴일이름,MATCH(1,--($C$2=공휴일월)*(DAY(D42)=공휴일일),0)),\"\")&\"  \"&IFERROR(INDEX(기념일이름,MATCH(1,--($C$2=기념일월)*(DAY(D42)=기념일일),0)),\"\")&\" \"","v":"   "},{"$f":"D7+35","v":"2023-02-05"},{"$f":"IFERROR(INDEX(공휴일이름,MATCH(1,--($C$2=공휴일월)*(DAY(F42)=공휴일일),0)),\"\")&\"  \"&IFERROR(INDEX(기념일이름,MATCH(1,--($C$2=기념일월)*(DAY(F42)=기념일일),0)),\"\")&\" \"","v":"   "},{"$f":"D7+36","v":"2023-02-06"},{"$f":"IFERROR(INDEX(공휴일이름,MATCH(1,--($C$2=공휴일월)*(DAY(H42)=공휴일일),0)),\"\")&\"  \"&IFERROR(INDEX(기념일이름,MATCH(1,--($C$2=기념일월)*(DAY(H42)=기념일일),0)),\"\")&\" \"","v":"   "},{"$f":"D7+37","v":"2023-02-07"},{"$f":"IFERROR(INDEX(공휴일이름,MATCH(1,--($C$2=공휴일월)*(DAY(J42)=공휴일일),0)),\"\")&\"  \"&IFERROR(INDEX(기념일이름,MATCH(1,--($C$2=기념일월)*(DAY(J42)=기념일일),0)),\"\")&\" \"","v":"   "},{"$f":"D7+38","v":"2023-02-08"},{"$f":"IFERROR(INDEX(공휴일이름,MATCH(1,--($C$2=공휴일월)*(DAY(L42)=공휴일일),0)),\"\")&\"  \"&IFERROR(INDEX(기념일이름,MATCH(1,--($C$2=기념일월)*(DAY(L42)=기념일일),0)),\"\")&\" \"","v":"  친구생일 "},{"$f":"D7+39","v":"2023-02-09"},{"$f":"IFERROR(INDEX(공휴일이름,MATCH(1,--($C$2=공휴일월)*(DAY(N42)=공휴일일),0)),\"\")&\"  \"&IFERROR(INDEX(기념일이름,MATCH(1,--($C$2=기념일월)*(DAY(N42)=기념일일),0)),\"\")&\" \"","v":"   "},{"$f":"D7+40","v":"2023-02-10"},{"$f":"IFERROR(INDEX(공휴일이름,MATCH(1,--($C$2=공휴일월)*(DAY(P42)=공휴일일),0)),\"\")&\"  \"&IFERROR(INDEX(기념일이름,MATCH(1,--($C$2=기념일월)*(DAY(P42)=기념일일),0)),\"\")&\" \"","v":"   "},{"$f":"D7+41","v":"2023-02-11"}]
[null,{"$f":"IF(일정!D$6=\"\",\"\",일정!D$6)","v":"홍길동"},{"$f":"IF(MONTH(D42)<>$C$2,\"\",IF(VLOOKUP(D42,일정,3,0)=0,\"\",VLOOKUP(D42,일정,3,0)))","v":""},null,{"$f":"IF(MONTH(F42)<>$C$2,\"\",IF(VLOOKUP(F42,일정,3,0)=0,\"\",VLOOKUP(F42,일정,3,0)))","v":""},null,{"$f":"IF(MONTH(H42)<>$C$2,\"\",IF(VLOOKUP(H42,일정,3,0)=0,\"\",VLOOKUP(H42,일정,3,0)))","v":""},null,{"$f":"IF(MONTH(J42)<>$C$2,\"\",IF(VLOOKUP(J42,일정,3,0)=0,\"\",VLOOKUP(J42,일정,3,0)))","v":""},null,{"$f":"IF(MONTH(L42)<>$C$2,\"\",IF(VLOOKUP(L42,일정,3,0)=0,\"\",VLOOKUP(L42,일정,3,0)))","v":""},null,{"$f":"IF(MONTH(N42)<>$C$2,\"\",IF(VLOOKUP(N42,일정,3,0)=0,\"\",VLOOKUP(N42,일정,3,0)))","v":""},null,{"$f":"IF(MONTH(P42)<>$C$2,\"\",IF(VLOOKUP(P42,일정,3,0)=0,\"\",VLOOKUP(P42,일정,3,0)))","v":""}]
[null,{"$f":"IF(일정!E$6=\"\",\"\",일정!E$6)","v":"이땡땡"},{"$f":"IF(MONTH(D42)<>$C$2,\"\",IF(VLOOKUP(D42,일정,4,0)=0,\"\",VLOOKUP(D42,일정,4,0)))","v":""},null,{"$f":"IF(MONTH(F42)<>$C$2,\"\",IF(VLOOKUP(F42,일정,4,0)=0,\"\",VLOOKUP(F42,일정,4,0)))","v":""},null,{"$f":"IF(MONTH(H42)<>$C$2,\"\",IF(VLOOKUP(H42,일정,4,0)=0,\"\",VLOOKUP(H42,일정,4,0)))","v":""},null,{"$f":"IF(MONTH(J42)<>$C$2,\"\",IF(VLOOKUP(J42,일정,4,0)=0,\"\",VLOOKUP(J42,일정,4,0)))","v":""},null,{"$f":"IF(MONTH(L42)<>$C$2,\"\",IF(VLOOKUP(L42,일정,4,0)=0,\"\",VLOOKUP(L42,일정,4,0)))","v":""},null,{"$f":"IF(MONTH(N42)<>$C$2,\"\",IF(VLOOKUP(N42,일정,4,0)=0,\"\",VLOOKUP(N42,일정,4,0)))","v":""},null,{"$f":"IF(MONTH(P42)<>$C$2,\"\",IF(VLOOKUP(P42,일정,4,0)=0,\"\",VLOOKUP(P42,일정,4,0)))","v":""}]
[null,{"$f":"IF(일정!F$6=\"\",\"\",일정!F$6)","v":"박땡땡"},{"$f":"IF(MONTH(D42)<>$C$2,\"\",IF(VLOOKUP(D42,일정,5,0)=0,\"\",VLOOKUP(D42,일정,5,0)))","v":""},null,{"$f":"IF(MONTH(F42)<>$C$2,\"\",IF(VLOOKUP(F42,일정,5,0)=0,\"\",VLOOKUP(F42,일정,5,0)))","v":""},null,{"$f":"IF(MONTH(H42)<>$C$2,\"\",IF(VLOOKUP(H42,일정,5,0)=0,\"\",VLOOKUP(H42,일정,5,0)))","v":""},null,{"$f":"IF(MONTH(J42)<>$C$2,\"\",IF(VLOOKUP(J42,일정,5,0)=0,\"\",VLOOKUP(J42,일정,5,0)))","v":""},null,{"$f":"IF(MONTH(L42)<>$C$2,\"\",IF(VLOOKUP(L42,일정,5,0)=0,\"\",VLOOKUP(L42,일정,5,0)))","v":""},null,{"$f":"IF(MONTH(N42)<>$C$2,\"\",IF(VLOOKUP(N42,일정,5,0)=0,\"\",VLOOKUP(N42,일정,5,0)))","v":""},null,{"$f":"IF(MONTH(P42)<>$C$2,\"\",IF(VLOOKUP(P42,일정,5,0)=0,\"\",VLOOKUP(P42,일정,5,0)))","v":""}]
[null,{"$f":"IF(일정!G$6=\"\",\"\",일정!G$6)","v":"최땡땡"},{"$f":"IF(MONTH(D42)<>$C$2,\"\",IF(VLOOKUP(D42,일정,6,0)=0,\"\",VLOOKUP(D42,일정,6,0)))","v":""},null,{"$f":"IF(MONTH(F42)<>$C$2,\"\",IF(VLOOKUP(F42,일정,6,0)=0,\"\",VLOOKUP(F42,일정,6,0)))","v":""},null,{"$f":"IF(MONTH(H42)<>$C$2,\"\",IF(VLOOKUP(H42,일정,6,0)=0,\"\",VLOOKUP(H42,일정,6,0)))","v":""},null,{"$f":"IF(MONTH(J42)<>$C$2,\"\",IF(VLOOKUP(J42,일정,6,0)=0,\"\",VLOOKUP(J42,일정,6,0)))","v":""},null,{"$f":"IF(MONTH(L42)<>$C$2,\"\",IF(VLOOKUP(L42,일정,6,0)=0,\"\",VLOOKUP(L42,일정,6,0)))","v":""},null,{"$f":"IF(MONTH(N42)<>$C$2,\"\",IF(VLOOKUP(N42,일정,6,0)=0,\"\",VLOOKUP(N42,일정,6,0)))","v":""},null,{"$f":"IF(MONTH(P42)<>$C$2,\"\",IF(VLOOKUP(P42,일정,6,0)=0,\"\",VLOOKUP(P42,일정,6,0)))","v":""}]
[null,{"$f":"IF(일정!H$6=\"\",\"\",일정!H$6)","v":"오땡땡"},{"$f":"IF(MONTH(D42)<>$C$2,\"\",IF(VLOOKUP(D42,일정,7,0)=0,\"\",VLOOKUP(D42,일정,7,0)))","v":""},null,{"$f":"IF(MONTH(F42)<>$C$2,\"\",IF(VLOOKUP(F42,일정,7,0)=0,\"\",VLOOKUP(F42,일정,7,0)))","v":""},null,{"$f":"IF(MONTH(H42)<>$C$2,\"\",IF(VLOOKUP(H42,일정,7,0)=0,\"\",VLOOKUP(H42,일정,7,0)))","v":""},null,{"$f":"IF(MONTH(J42)<>$C$2,\"\",IF(VLOOKUP(J42,일정,7,0)=0,\"\",VLOOKUP(J42,일정,7,0)))","v":""},null,{"$f":"IF(MONTH(L42)<>$C$2,\"\",IF(VLOOKUP(L42,일정,7,0)=0,\"\",VLOOKUP(L42,일정,7,0)))","v":""},null,{"$f":"IF(MONTH(N42)<>$C$2,\"\",IF(VLOOKUP(N42,일정,7,0)=0,\"\",VLOOKUP(N42,일정,7,0)))","v":""},null,{"$f":"IF(MONTH(P42)<>$C$2,\"\",IF(VLOOKUP(P42,일정,7,0)=0,\"\",VLOOKUP(P42,일정,7,0)))","v":""}]
[null,{"$f":"IF(일정!I$6=\"\",\"\",일정!I$6)","v":"구땡땡"},{"$f":"IF(MONTH(D42)<>$C$2,\"\",IF(VLOOKUP(D42,일정,8,0)=0,\"\",VLOOKUP(D42,일정,8,0)))","v":""},null,{"$f":"IF(MONTH(F42)<>$C$2,\"\",IF(VLOOKUP(F42,일정,8,0)=0,\"\",VLOOKUP(F42,일정,8,0)))","v":""},null,{"$f":"IF(MONTH(H42)<>$C$2,\"\",IF(VLOOKUP(H42,일정,8,0)=0,\"\",VLOOKUP(H42,일정,8,0)))","v":""},null,{"$f":"IF(MONTH(J42)<>$C$2,\"\",IF(VLOOKUP(J42,일정,8,0)=0,\"\",VLOOKUP(J42,일정,8,0)))","v":""},null,{"$f":"IF(MONTH(L42)<>$C$2,\"\",IF(VLOOKUP(L42,일정,8,0)=0,\"\",VLOOKUP(L42,일정,8,0)))","v":""},null,{"$f":"IF(MONTH(N42)<>$C$2,\"\",IF(VLOOKUP(N42,일정,8,0)=0,\"\",VLOOKUP(N42,일정,8,0)))","v":""},null,{"$f":"IF(MONTH(P42)<>$C$2,\"\",IF(VLOOKUP(P42,일정,8,0)=0,\"\",VLOOKUP(P42,일정,8,0)))","v":""}]
[]
[]
[]
[]
[]
[]
[]
[]
[]
[]
[]
[]
[]
[]
[]
[]
[]
[]
[]
[]
[]
[]
[]
[]
[]
[]
[]
[]
[]
[]
[]
[]
[]
[]
[]
[]
[]
[]
[]
[]
[]
[]
[]
[]
[]
[]
[]
[]
[]
[]
[]
[]
[]
[]
[]
[]
[]
[]
[]
[]
[]
[]
[]
[]
[]
[]
[]
[]
[]
[]
[]
[]
[]
[]
[]
[]
[]
[]
[]
[]
[]
[]
[]
[]
[]
[]
[]
[]
[]
[]
[]
[]
[]
[]
[]
[]
[]
[]
[]
[]
[]
[]
[]
[]
[]
[]
[]
[]
[]
[]
[]
[]
[]
[]
[]
[]
[]
[]
[]
[]
[]
[]
[]
[]
[]
[]
[]
[]
[]
[]
[]
[]
[]
[]
[]
[]
[]
[]
[]
[]
[]
[]
[]
[]
[]
[]
[]
[]
[]
[]
[]
[]
[]
[]
[]
[]
[]
[]
[]
[]
[]
[]
[]
[]
[]
[]
[]
[]
[]
[]
[]
[]
[]
[]
[]
[]
[]
[]
[]
[]
[]
[]
[]
[]
[]
[]
[]
[]
[]
[]
[]
[]
[]
[]
[]
[]
[]
[]
[]
[]
[]
[]
[]
[]
[]
[]
[]
[]
[]
[]
[]
[]
[]
[]
[]
[]
[]
[]
[]
[]
[]
[]
[]
[]
[]
[]
[]
[]
[]
[]
[]
[]
[]
[]
[]
[]
[]
[]
[]
[]
[]
[]
[]
[]
[]
[]
[]
[]
[]
[]
[]
[]
[]
[]
[]
[]
[]
[]
[]
[]
[]
[]
[]
[]
[]
[]
[]
[]
[]
[]
[]
[]
[]
[]
[]
[]
[]
[]
[]
[]
[]
[]
[]
[]
[]
[]
[]
[]
[]
[]
[]
[]
[]
[]
[]
[]
[]
[]
[]
[]
[]
[]
[]
[]
[]
[]
[]
[]
[]
[]
[]
[]
[]
[]
[]
[]
[]
[]
[]
[]
[]
[]
[]
[]
[]
[]
[]
[]
[]
[]
[]
[]
[]
[]
[]
[]
[]
[]
[]
[]
[]
[]
[]
[]
[]
[]
[]
[]
[]
[]
[]
[]
[]
[]
[]
[]
[]
[]
[]
[]
[]
[]
[]
[]
[]
[]
[]
[]
[]
[]
[]
[]
[]
[]
[]
[]
[]
[]
[]
[]
[]
[]
[]
[]
[]
[]
[]
[]
[]
[]
[]
[]
[]
[]
[]
[]
[]
[]
[]
[]
[]
[]
[]
[]
[]
[]
[]
[]
[]
[]
[]
[]
[]
[]
[]
[]
[]
[]
[]
[]
[]
[]
[]
[]
[]
[]
[]
[]
[]
[]
[]
[]
[]
[]
[]
[]
[]
[]
[]
[]
[]
[]
[]
[]
[]
[]
[]
[]
[]
[]
[]
[]
[]
[]
[]
[]
[]
[]
[]
[]
[]
[]
[]
[]
[]
[]
[]
[]
[]
[]
[]
[]
[]
[]
[]
[]
[]
[]
[]
[]
[]
[]
[]
[]
[]
[]
[]
[]
[]
[]
[]
[]
[]
[]
[]
[]
[]
[]
[]
[]
[]
[]
[]
[]
[]
[]
[]
[]
[]
[]
[]
[]
[]
[]
[]
[]
[]
[]
[]
[]
[]
[]
[]
[]
[]
[]
[]
[]
[]
[]
[]
[]
[]
[]
[]
[]
[]
[]
[]
[]
[]
[]
[]
[]
[]
[]
[]
[]
[]
[]
[]
[]
[]
[]
[]
[]
[]
[]
[]
[]
[]
[]
[]
[]
[]
[]
[]
[]
[]
[]
[]
[]
[]
[]
[]
[]
[]
[]
[]
[]
[]
[]
[]
[]
[]
[]
[]
[]
[]
[]
[]
[]
[]
[]
[]
[]
[]
[]
[]
[]
[]
[]
[]
[]
[]
[]
[]
[]
[]
[]
[]
[]
[]
[]
[]
[]
[]
[]
[]
[]
[]
[]
[]
[]
[]
[]
[]
[]
[]
[]
[]
[]
[]
[]
[]
[]
[]
[]
[]
[]
[]
[]
[]
[]
[]
[]
[]
[]
[]
[]
[]
[]
[]
[]
[]
[]
[]
[]
[]
[]
[]
[]
[]
[]
[]
[]
[]
[]
[]
[]
[]
[]
[]
[]
[]
[]
[]
[]
[]
[]
[]
[]
[]
[]
[]
[]
[]
[]
[]
[]
[]
[]
[]
[]
[]
[]
[]
[]
[]
[]
[]
[]
[]
[]
[]
[]
[]
[]
[]
[]
[]
[]
[]
[]
[]
[]
[]
[]
[]
[]
[]
[]
[]
[]
[]
[]
[]
[]
[]
[]
[]
[]
[]
[]
[]
[]
[]
[]
[]
[]
[]
[]
[]
[]
[]
[]
[]
[]
[]
[]
[]
[]
[]
[]
[]
[]
[]
[]
[]
[]
[]
[]
[]
[]
[]
[]
[]
[]
[]
[]
[]
[]
[]
[]
[]
[]
[]
[]
[]
[]
[]
[]
[]
[]
[]
[]
[]
[]
[]
[]
[]
[]
[]
[]
[]
[]
[]
[]
[]
[]
[]
[]
[]
[]
[]
[]
[]
[]
[]
[]
[]
[]
[]
[]
[]
[]
[]
[]
[]
[]
[]
[]
[]
[]
[]
[]
[]
[]
[]
[]
[]
[]
[]
[]
[]
[]
[]
[]
[]
[]
[]
[]
[]
[]
[]
[]
[]
[]
[]
[]
[]
[]
[]
[]
[]
[]
[]
[]
[]
[]
[]
[]
[]
[]
[]
[]
[]
[]
[]
[]
[]
[]
[]
[]
[]
[]
[]
[]
[]
[]
[]
[]
[]
[]
[]
[]
[]
[]
[]
[]
[]
[]
[]
[]
[]
[]
[]
[]
[]
[]
[]
[]
[]
[]
[]
[]
[]
[]
[]
[]
[]
[]
[]
[]
[]
[]
[]
[]
[]
[]
[]
[]
[]
[]
[]
[]
[]
[]
[]
[]
[]
[]
[]
[]
[]
[]
[]
[]
[]
[]
[]
[]
[]
[]
[]
[]
[]
[]
[]
[]
[]
[]
[]
[]
[]
[]
[]
[]
[]
[]
[]
[]
[]
[]
[]
[]
[]
[]
[]
[]
[]
[]
[]
[]
[]
[]
[]
[]
[]
[]
[]
[]
[]
[]
[]
[]
[]
[]
[]
[]
[]
[]
[]
[]
[]
[]
[]
[]
[]
[]
[]
[]
[]
[]
[]
[]
[]
[]
[]
[]
[]
[]
[]
[]
[]
[]
[]
[]
[]
[]
[]
[]
[]
[]
[]
[]
[]
[]
[]
[]
[]
[]
[]
[]
[]
[]
[]
[]
[]
[]
[]
[]
[]
[]
[]
[]
[]
[]
[]
[]
[]
[]
[]
[]
[]
[]
[]
[]
[]
[]
[]
[]
[]
[]
[]
[]
[]
[]
[]
[]
[]
[]
[]
[]
[]
[]
[]
[]
[]
[]
[]
[]
[]
[]
[]
[]
[]
[]
[]
[]
[]
[]
[]
[]
[]
[]
[]
[]
[]
[]
[]
[]
[]
[]
[]
[]
[]
[]
[]
[]
[]
[]
[]
[]
[]
[]
[]
[]
[]
[]
[]
[]
[]
[]
[]
[]
[]
[]
[]
[]
[]
[]
[]
[]
[]
[]
[]
[]
[]
[]
[]
[]
[]
[]
[]
[]
[]
[]
[]
[]
[]
[]
[]
[]
[]
[]
[]
[]
[]
[]
[]
[]
[]
[]
[]
[]
[]
[]
[]
[]
[]
[]
[]
[]
[]
[]
[]
[]
[]
[]
[]
[]
[]
[]
[]
[]
[]
[]
[]
[]
[]
[]
[]
[]
[]
[]
[]
[]
[]
[]
[]
[]
[]
[]
[]
[]
[]
[]
[]
[]
[]
[]
[]
[]
[]
[]
[]
[]
[]
[]
[]
[]
[]
[]
[]
[]
[]
[]
[]
[]
[]
[]
[]
[]
[]
[]
[]
[]
[]
[]
[]
[]
[]
[]
[]
[]
[]
[]
[]
[]
[]
[]
[]
[]
[]
[]
[]
[]
[]
[]
[]
[]
[]
[]
[]
[]
[]
[]
[]
[]
[]
[]
[]
[]
[]
[]
[]
[]
[]
[]
[]
[]
[]
[]
[]
[]
[]
[]
[]
[]
[]
[]
[]
[]
[]
[]
[]
[]
[]
[]
[]
[]
[]
[]
[]
[]
[]
[]
[]
[]
[]
[]
[]
[]
[]
[]
[]
[]
[]
[]
[]
[]
[]
[]
[]
[]
[]
[]
[]
[]
[]
[]
[]
[]
[]
[]
[]
[]
[]
[]
[]
[]
[]
[]
[]
[]
[]
[]
[]
[]
[]
[]
[]
[]
[]
[]
[]
[]
[]
[]
[]
[]
[]
[]
[]
[]
[]
[]
[]
[]
[]
[]
[]
[]
[]
[]
[]
[]
[]
[]
[]
[]
[]
[]
[]
[]
[]
[]
[]
[]
[]
[]
[]
[]
[]
[]
[]
[]
[]
[]
[]
[]
[]
[]
[]
[]
[]
[]
[]
[]
[]
[]
[]
[]
[]
[]
[]
[]
[]
[]
[]
[]
[]
[]
[]
[]
[]
[]
[]
[]
[]
[]
[]
[]
[]
[]
[]
[]
[]
[]
[]
[]
[]
[]
[]
[]
[]
[]
[]
[]
[]
[]
[]
[]
[]
[]
[]
[]
[]
[]
[]
[]
[]
[]
[]
[]
[]
[]
[]
[]
[]
[]
[]
[]
[]
[]
[]
[]
[]
[]
[]
[]
[]
[]
[]
[]
[]
[]
[]
[]
[]
[]
[]
[]
[]
[]
[]
[]
[]
[]
[]
[]
[]
[]
[]
[]
[]
[]
[]
[]
[]
[]
[]
[]
[]
[]
[]
[]
[]
[]
[]
[]
[]
[]
[]
[]
[]
[]
[]
[]
[]
[]
[]
[]
[]
[]
[]
[]
[]
[]
[]
[]
[]
[]
[]
[]
[]
[]
[]
[]
[]
[]
[]
[]
[]
[]
[]
[]
[]
[]
[]
[]
[]
[]
[]
[]
[]
[]
[]
[]
[]
[]
[]
[]
[]
[]
[]
[]
[]
[]
[]
[]
[]
[]
[]
[]
[]
[]
[]
[]
[]
[]
[]
[]
[]
[]
[]
[]
[]
[]
[]
[]
[]
[]
[]
[]
[]
[]
[]
[]
[]
[]
[]
[]
[]
[]
[]
[]
[]
[]
[]
[]
[]
[]
[]
[]
[]
[]
[]
[]
[]
[]
[]
[]
[]
[]
[]
[]
[]
[]
[]
[]
[]
[]
[]
[]
[]
[]
[]
[]
[]
[]
[]
[]
[]
[]
[]
[]
[]
[]
[]
[]
[]
[]
[]
[]
[]
[]
[]
[]
[]
[]
[]
[]
[]
[]
[]
[]
[]
[]
[]
[]
[]
[]
[]
[]
[]
[]
[]
[]
[]
[]
[]
[]
[]
[]
[]
[]
[]
[]
[]
[]
[]
[]
[]
[]
[]
[]
[]
[]
[]
[]
[]
[]
[]
[]
[]
[]
[]
[]
[]
[]
[]
[]
[]
[]
[]
[]
[]
[]
[]
[]
[]
[]
[]
[]
[]
[]
[]
[]
[]
[]
[]
[]
[]
[]
[]
[]
[]
[]
[]
[]
[]
[]
[]
[]
[]
[]
[]
[]
[]
[]
[]
[]
[]
[]
[]
[]
[]
[]
[]
[]
[]
[]
[]
[]
[]
[]
[]
[]
[]
[]
[]
[]
[]
[]
[]
[]
[]
[]
[]
[]
[]
[]
[]
[]
[]
[]
[]
[]
[]
[]
[]
[]
[]
[]
[]
[]
[]
[]
[]
[]
[]
[]
[]
[]
[]
[]
[]
[]
[]
[]
[]
[]
[]
[]
[]
[]
[]
[]
[]
[]
[]
[]
[]
[]
[]
[]
[]
[]
[]
[]
[]
[]
[]
[]
[]
[]
[]
[]
[]
[]
[]
[]
[]
[]
[]
[]
[]
[]
[]
[]
[]
[]
[]
[]
[]
[]
[]
[]
[]
[]
[]
[]
[]
[]
[]
[]
[]
[]
[]
[]
[]
[]
[]
[]
[]
[]
[]
[]
[]
[]
[]
[]
[]
[]
[]
[]
[]
[]
[]
[]
[]
[]
[]
[]
[]
[]
[]
[]
[]
[]
[]
[]
[]
[]
[]
[]
[]
[]
[]
[]
[]
[]
[]
[]
[]
[]
[]
[]
[]
[]
[]
[]
[]
[]
[]
[]
[]
[]
[]
[]
[]
[]
[]
[]
[]
[]
[]
[]
[]
[]
[]
[]
[]
[]
[]
[]
[]
[]
[]
[]
[]
[]
[]
[]
[]
[]
[]
[]
[]
[]
[]
[]
[]
[]
[]
[]
[]
[]
[]
[]
[]
[]
[]
[]
[]
[]
[]
[]
[]
[]
[]
[]
[]
[]
[]
[]
[]
[]
[]
[]
[]
[]
[]
[]
[]
[]
[]
[]
[]
[]
[]
[]
[]
[]
[]
[]
[]
[]
[]
[]
[]
[]
[]
[]
[]
[]
[]
[]
[]
[]
[]
[]
[]
[]
[]
[]
[]
[]
[]
[]
[]
[]
[]
[]
[]
[]
[]
[]
[]
[]
[]
[]
[]
[]
[]
[]
[]
[]
[]
[]
[]
[]
[]
[]
[]
[]
[]
[]
[]
[]
[]
[]
[]
[]
[]
[]
[]
[]
[]
[]
[]
[]
[]
[]
[]
[]
[]
[]
[]
[]
[]
[]
[]
[]
[]
[]
[]
[]
[]
[]
[]
[]
[]
[]
[]
[]
[]
[]
[]
[]
[]
[]
[]
[]
[]
[]
[]
[]
[]
[]
[]
[]
[]
[]
[]
[]
[]
[]
[]
[]
[]
[]
[]
[]
[]
[]
[]
[]
[]
[]
[]
[]
[]
[]
[]
[]
[]
[]
[]
[]
[]
[]
[]
[]
[]
[]
[]
[]
[]
[]
[]
[]
[]
[]
[]
[]
[]
[]
[]
[]
[]
[]
[]
[]
[]
[]
[]
[]
[]
[]
[]
[]
[]
[]
[]
[]
[]
[]
[]
[]
[]
[]
[]
[]
[]
[]
[]
[]
[]
[]
[]
[]
[]
[]
[]
[]
[]
[]
[]
[]
[]
[]
[]
[]
[]
[]
[]
[]
[]
[]
[]
[]
[]
[]
[]
[]
[]
[]
[]
[]
[]
[]
[]
[]
[]
[]
[]
[]
[]
[]
[]
[]
[]
[]
[]
[]
[]
[]
[]
[]
[]
[]
[]
[]
[]
[]
[]
[]
[]
[]
[]
[]
[]
[]
[]
[]
[]
[]
[]
[]
[]
[]
[]
[]
[]
[]
[]
[]
[]
[]
[]
[]
[]
[]
[]
[]
[]
[]
[]
[]
[]
[]
[]
[]
[]
[]
[]
[]
[]
[]
[]
[]
[]
[]
[]
[]
[]
[]
[]
[]
[]
[]
[]
[]
[]
[]
[]
[]
[]
[]
[]
[]
[]
[]
[]
[]
[]
[]
[]
[]
[]
[]
[]
[]
[]
[]
[]
[]
[]
[]
[]
[]
[]
[]
[]
[]
[]
[]
[]
[]
[]
[]
[]
[]
[]
[]
[]
[]
[]
[]
[]
[]
[]
[]
[]
[]
[]
[]
[]
[]
[]
[]
[]
[]
[]
[]
[]
[]
[]
[]
[]
[]
[]
[]
[]
[]
[]
[]
[]
[]
[]
[]
[]
[]
[]
[]
[]
[]
[]
[]
[]
[]
[]
[]
[]
[]
[]
[]
[]
[]
[]
[]
[]
[]
[]
[]
[]
[]
[]
[]
[]
[]
[]
[]
[]
[]
[]
[]
[]
[]
[]
[]
[]
[]
[]
[]
[]
[]
[]
[]
[]
[]
[]
[]
[]
[]
[]
[]
[]
[]
[]
[]
[]
[]
[]
[]
[]
[]
[]
[]
[]
[]
[]
[]
[]
[]
[]
[]
[]
[]
[]
[]
[]
[]
[]
[]
[]
[]
[]
[]
[]
[]
[]
[]
[]
[]
[]
[]
[]
[]
[]
[]
[]
[]
[]
[]
[]
[]
[]
[]
[]
[]
[]
[]
[]
[]
[]
[]
[]
[]
[]
[]
[]
[]
[]
[]
[]
[]
[]
[]
[]
[]
[]
[]
[]
[]
[]
[]
[]
[]
[]
[]
[]
[]
[]
[]
[]
[]
[]
[]
[]
[]
[]
[]
[]
[]
[]
[]
[]
[]
[]
[]
[]
[]
[]
[]
[]
[]
[]
[]
[]
[]
[]
[]
[]
[]
[]
[]
[]
[]
[]
[]
[]
[]
[]
[]
[]
[]
[]
[]
[]
[]
[]
[]
[]
[]
[]
[]
[]
[]
[]
[]
[]
[]
[]
[]
[]
[]
[]
[]
[]
[]
[]
[]
[]
[]
[]
[]
[]
[]
[]
[]
[]
[]
[]
[]
[]
[]
[]
[]
[]
[]
[]
[]
[]
[]
[]
[]
[]
[]
[]
[]
[]
[]
[]
[]
[]
[]
[]
[]
[]
[]
[]
[]
[]
[]
[]
[]
[]
[]
[]
[]
[]
[]
[]
[]
[]
[]
[]
[]
[]
[]
[]
[]
[]
[]
[]
[]
[]
[]
[]
[]
[]
[]
[]
[]
[]
[]
[]
[]
[]
[]
[]
[]
[]
[]
[]
[]
[]
[]
[]
[]
[]
[]
[]
[]
[]
[]
[]
[]
[]
[]
[]
[]
[]
[]
[]
[]
[]
[]
[]
[]
[]
[]
[]
[]
[]
[]
[]
[]
[]
[]
[]
[]
[]
[]
[]
[]
[]
[]
[]
[]
[]
[]
[]
[]
[]
[]
[]
[]
[]
[]
[]
[]
[]
[]
[]
[]
[]
[]
[]
[]
[]
[]
[]
[]
[]
[]
[]
[]
[]
[]
[]
[]
[]
[]
[]
[]
[]
[]
[]
[]
[]
[]
[]
[]
[]
[]
[]
[]
[]
[]
[]
[]
[]
[]
[]
[]
[]
[]
[]
[]
[]
[]
[]
[]
[]
[]
[]
[]
[]
[]
[]
[]
[]
[]
[]
[]
[]
[]
[]
[]
[]
[]
[]
[]
[]
[]
[]
[]
[]
[]
[]
[]
[]
[]
[]
[]
[]
[]
[]
[]
[]
[]
[]
[]
[]
[]
[]
[]
[]
[]
[]
[]
[]
[]
[]
[]
[]
[]
[]
[]
[]
[]
[]
[]
[]
[]
[]
[]
[]
[]
[]
[]
[]
[]
[]
[]
[]
[]
[]
[]
[]
[]
[]
[]
[]
[]
[]
[]
[]
[]
[]
[]
[]
[]
[]
[]
[]
[]
[]
[]
[]
[]
[]
[]
[]
[]
[]
[]
[]
[]
[]
[]
[]
[]
[]
[]
[]
[]
[]
[]
[]
[]
[]
[]
[]
[]
[]
[]
[]
[]
[]
[]
[]
[]
[]
[]
[]
[]
[]
[]
[]
[]
[]
[]
[]
[]
[]
[]
[]
[]
[]
[]
[]
[]
[]
[]
[]
[]
[]
[]
[]
[]
[]
[]
[]
[]
[]
[]
[]
[]
[]
[]
[]
[]
[]
[]
[]
[]
[]
[]
[]
[]
[]
[]
[]
[]
[]
[]
[]
[]
[]
[]
[]
[]
[]
[]
[]
[]
[]
[]
[]
[]
[]
[]
[]
[]
[]
[]
[]
[]
[]
[]
[]
[]
[]
[]
[]
[]
[]
[]
[]
[]
[]
[]
[]
[]
[]
[]
[]
[]
[]
[]
[]
[]
[]
[]
[]
[]
[]
[]
[]
[]
[]
[]
[]
[]
[]
[]
[]
[]
[]
[]
[]
[]
[]
[]
[]
[]
[]
[]
[]
[]
[]
[]
[]
[]
[]
[]
[]
[]
[]
[]
[]
[]
[]
[]
[]
[]
[]
[]
[]
[]
[]
[]
[]
[]
[]
[]
[]
[]
[]
[]
[]
[]
[]
[]
[]
[]
[]
[]
[]
[]
[]
[]
[]
[]
[]
[]
[]
[]
[]
[]
[]
[]
[]
[]
[]
[]
[]
[]
[]
[]
[]
[]
[]
[]
[]
[]
[]
[]
[]
[]
[]
[]
[]
[]
[]
[]
[]
[]
[]
[]
[]
[]
[]
[]
[]
[]
[]
[]
[]
[]
[]
[]
[]
[]
[]
[]
[]
[]
[]
[]
[]
[]
[]
[]
[]
[]
[]
[]
[]
[]
[]
[]
[]
[]
[]
[]
[]
[]
[]
[]
[]
[]
[]
[]
[]
[]
[]
[]
[]
[]
[]
[]
[]
[]
[]
[]
[]
[]
[]
[]
[]
[]
[]
[]
[]
[]
[]
[]
[]
[]
[]
[]
[]
[]
[]
[]
[]
[]
[]
[]
[]
[]
[]
[]
[]
[]
[]
[]
[]
[]
[]
[]
[]
[]
[]
[]
[]
[]
[]
[]
[]
[]
[]
[]
[]
[]
[]
[]
[]
[]
[]
[]
[]
[]
[]
[]
[]
[]
[]
[]
[]
[]
[]
[]
[]
[]
[]
[]
[]
[]
[]
[]
[]
[]
[]
[]
[]
[]
[]
[]
[]
[]
[]
[]
[]
[]
[]
[]
[]
[]
[]
[]
[]
[]
[]
[]
[]
[]
[]
[]
[]
[]
[]
[]
[]
[]
[]
[]
[]
[]
[]
[]
[]
[]
[]
[]
[]
[]
[]
[]
[]
[]
[]
[]
[]
[]
[]
[]
[]
[]
[]
[]
[]
[]
[]
[]
[]
[]
[]
[]
[]
[]
[]
[]
[]
[]
[]
[]
[]
[]
[]
[]
[]
[]
[]
[]
[]
[]
[]
[]
[]
[]
[]
[]
[]
[]
[]
[]
[]
[]
[]
[]
[]
[]
[]
[]
[]
[]
[]
[]
[]
[]
[]
[]
[]
[]
[]
[]
[]
[]
[]
[]
[]
[]
[]
[]
[]
[]
[]
[]
[]
[]
[]
[]
[]
[]
[]
[]
[]
[]
[]
[]
[]
[]
[]
[]
[]
[]
[]
[]
[]
[]
[]
[]
[]
[]
[]
[]
[]
[]
[]
[]
[]
[]
[]
[]
[]
[]
[]
[]
[]
[]
[]
[]
[]
[]
[]
[]
[]
[]
[]
[]
[]
[]
[]
[]
[]
[]
[]
[]
[]
[]
[]
[]
[]
[]
[]
[]
[]
[]
[]
[]
[]
[]
[]
[]
[]
[]
[]
[]
[]
[]
[]
[]
[]
[]
[]
[]
[]
[]
[]
[]
[]
[]
[]
[]
[]
[]
[]
[]
[]
[]
[]
[]
[]
[]
[]
[]
[]
[]
[]
[]
[]
[]
[]
[]
[]
[]
[]
[]
[]
[]
[]
[]
[]
[]
[]
[]
[]
[]
[]
[]
[]
[]
[]
[]
[]
[]
[]
[]
[]
[]
[]
[]
[]
[]
[]
[]
[]
[]
[]
[]
[]
[]
[]
[]
[]
[]
[]
[]
[]
[]
[]
[]
[]
[]
[]
[]
[]
[]
[]
[]
[]
[]
[]
[]
[]
[]
[]
[]
[]
[]
[]
[]
[]
[]
[]
[]
[]
[]
[]
[]
[]
[]
[]
[]
[]
[]
[]
[]
[]
[]
[]
[]
[]
[]
[]
[]
[]
[]
[]
[]
[]
[]
[]
[]
[]
[]
[]
[]
[]
[]
[]
[]
[]
[]
[]
[]
[]
[]
[]
[]
[]
[]
[]
[]
[]
[]
[]
[]
[]
[]
[]
[]
[]
[]
[]
[]
[]
[]
[]
[]
[]
[]
[]
[]
[]
[]
[]
[]
[]
[]
[]
[]
[]
[]
[]
[]
[]
[]
[]
[]
[]
[]
[]
[]
[]
[]
[]
[]
[]
[]
[]
[]
[]
[]
[]
[]
[]
[]
[]
[]
[]
[]
[]
[]
[]
[]
[]
[]
[]
[]
[]
[]
[]
[]
[]
[]
[]
[]
[]
[]
[]
[]
[]
[]
[]
[]
[]
[]
[]
[]
[]
[]
[]
[]
[]
[]
[]
[]
[]
[]
[]
[]
[]
[]
[]
[]
[]
[]
[]
[]
[]
[]
[]
[]
[]
[]
[]
[]
[]
[]
[]
[]
[]
[]
[]
[]
[]
[]
[]
[]
[]
[]
[]
[]
[]
[]
[]
[]
[]
[]
[]
[]
[]
[]
[]
[]
[]
[]
[]
[]
[]
[]
[]
[]
[]
[]
[]
[]
[]
[]
[]
[]
[]
[]
[]
[]
[]
[]
[]
[]
[]
[]
[]
[]
[]
[]
[]
[]
[]
[]
[]
[]
[]
[]
[]
[]
[]
[]
[]
[]
[]
[]
[]
[]
[]
[]
[]
[]
[]
[]
[]
[]
[]
[]
[]
[]
[]
[]
[]
[]
[]
[]
[]
[]
[]
[]
[]
[]
[]
[]
[]
[]
[]
[]
[]
[]
[]
[]
[]
[]
[]
[]
[]
[]
[]
[]
[]
[]
[]
[]
[]
[]
[]
[]
[]
[]
[]
[]
[]
[]
[]
[]
[]
[]
[]
[]
[]
[]
[]
[]
[]
[]
[]
[]
[]
[]
[]
[]
[]
[]
[]
[]
[]
[]
[]
[]
[]
[]
[]
[]
[]
[]
[]
[]
[]
[]
[]
[]
[]
[]
[]
[]
[]
[]
[]
[]
[]
[]
[]
[]
[]
[]
[]
[]
[]
[]
[]
[]
[]
[]
[]
[]
[]
[]
[]
[]
[]
[]
[]
[]
[]
[]
[]
[]
[]
[]
[]
[]
[]
[]
[]
[]
[]
[]
[]
[]
[]
[]
[]
[]
[]
[]
[]
[]
[]
[]
[]
[]
[]
[]
[]
[]
[]
[]
[]
[]
[]
[]
[]
[]
[]
[]
[]
[]
[]
[]
[]
[]
[]
[]
[]
[]
[]
[]
[]
[]
[]
[]
[]
[]
[]
[]
[]
[]
[]
[]
[]
[]
[]
[]
[]
[]
[]
[]
[]
[]
[]
[]
[]
[]
[]
[]
[]
[]
[]
[]
[]
[]
[]
[]
[]
[]
[]
[]
[]
[]
[]
[]
[]
[]
[]
[]
[]
[]
[]
[]
[]
[]
[]
[]
[]
[]
[]
[]
[]
[]
[]
[]
[]
[]
[]
[]
[]
[]
[]
[]
[]
[]
[]
[]
[]
[]
[]
[]
[]
[]
[]
[]
[]
[]
[]
[]
[]
[]
[]
[]
[]
[]
[]
[]
[]
[]
[]
[]
[]
[]
[]
[]
[]
[]
[]
[]
[]
[]
[]
[]
[]
[]
[]
[]
[]
[]
[]
[]
[]
[]
[]
[]
[]
[]
[]
[]
[]
[]
[]
[]
[]
[]
[]
[]
[]
[]
[]
[]
[]
[]
[]
[]
[]
[]
[]
[]
[]
[]
[]
[]
[]
[]
[]
[]
[]
[]
[]
[]
[]
[]
[]
[]
[]
[]
[]
[]
[]
[]
[]
[]
[]
[]
[]
[]
[]
[]
[]
[]
[]
[]
[]
[]
[]
[]
[]
[]
[]
[]
[]
[]
[]
[]
[]
[]
[]
[]
[]
[]
[]
[]
[]
[]
[]
[]
[]
[]
[]
[]
[]
[]
[]
[]
[]
[]
[]
[]
[]
[]
[]
[]
[]
[]
[]
[]
[]
[]
[]
[]
[]
[]
[]
[]
[]
[]
[]
[]
[]
[]
[]
[]
[]
[]
[]
[]
[]
[]
[]
[]
[]
[]
[]
[]
[]
[]
[]
[]
[]
[]
[]
[]
[]
[]
[]
[]
[]
[]
[]
[]
[]
[]
[]
[]
[]
[]
[]
[]
[]
[]
[]
[]
[]
[]
[]
[]
[]
[]
[]
[]
[]
[]
[]
[]
[]
[]
[]
[]
[]
[]
[]
[]
[]
[]
[]
[]
[]
[]
[]
[]
[]
[]
[]
[]
[]
[]
[]
[]
[]
[]
[]
[]
[]
[]
[]
[]
[]
[]
[]
[]
[]
[]
[]
[]
[]
[]
[]
[]
[]
[]
[]
[]
[]
[]
[]
[]
[]
[]
[]
[]
[]
[]
[]
[]
[]
[]
[]
[]
[]
[]
[]
[]
[]
[]
[]
[]
[]
[]
[]
[]
[]
[]
[]
[]
[]
[]
[]
[]
[]
[]
[]
[]
[]
[]
[]
[null,null,null,null,true]
[]
[]
[]
[]
[]
[]
[]
[]
[]
[]
[]
[]
[]
[]
[]
[]
[]
[]
[]
[]
[]
[]
[]
[]
[]
[]
[]
[]
[]
[]
[]
[]
[]
[]
[]
[]
[]
[]
[]
[]
[]
[]
[]
[]
[]
[]
[]
[]
[]
[]
[]
[]
[]
[]
[]
[]
[]
[]
[]
[]
[]
[]
[]
[]
[]
[]
[]
[]
[]
[]
[]
[]
[]
[]
[]
[]
[]
[]
[]
[]
[]
[]
[]
[]
[]
[]
[]
[]
[]
[]
[]
[]
[]
[]
[]
[]
[]
[]
[]
[]
[]
[]
[]
[]
[]
[]
[]
[]
[]
[]
[]
[]
[]
[]
[]
[]
[]
[]
[]
[]
[]
[]
[]
[]
[]
[]
[]
[]
[]
[]
[]
[]
[]
[]
[]
[]
[]
[]
[]
[]
[]
[]
[]
[]
[]
[]
[]
[]
[]
[]
[]
[]
[]
[]
[]
[]
[]
[]
[]
[]
[]
[]
[]
[]
[]
[]
[]
[]
[]
[]
[]
[]
[]
[]
[]
[]
[]
[]
[]
[]
[]
[]
[]
[]
[]
[]
[]
[]
[]
[]
[]
[]
[]
[]
[]
[]
[]
[]
[]
[]
[]
[]
[]
[]
[]
[]
[]
[]
[]
[]
[]
[]
[]
[]
[]
[]
[]
[]
[]
[]
[]
[]
[]
[]
[]
[]
[]
[]
[]
[]
[]
[]
[]
[]
[]
[]
[]
[]
[]
[]
[]
[]
[]
[]
[]
[]
[]
[]
[]
[]
[]
[]
[]
[]
[]
[]
[]
[]
[]
[]
[]
[]
[]
[]
[]
[]
[]
[]
[]
[]
[]
[]
[]
[]
[]
[]
[]
[]
[]
[]
[]
[]
[]
[]
[]
[]
[]
[]
[]
[]
[]
[]
[]
[]
[]
[]
[]
[]
[]
[]
[]
[]
[]
[]
[]
[]
[]
[]
[]
[]
[]
[]
[]
[]
[]
[]
[]
[]
[]
[]
[]
[]
[]
[]
[]
[]
[]
[]
[]
[]
[]
[]
[]
[]
[]
[]
[]
[]
[]
[]
[]
[]
[]
[]
[]
[]
[]
[]
[]
[]
[]
[]
[]
[]
[]
[]
[]
[]
[]
[]
[]
[]
[]
[]
[]
[]
[]
[]
[]
[]
[]
[]
[]
[]
[]
[]
[]
[]
[]
[]
[]
[]
[]
[]
[]
[]
[]
[]
[]
[]
[]
[]
[]
[]
[]
[]
[]
[]
[]
[]
[]
[]
[]
[]
[]
[]
[]
[]
[]
[]
[]
[]
[]
[]
[]
[]
[]
[]
[]
[]
[]
[]
[]
[]
[]
[]
[]
[]
[]
[]
[]
[]
[]
[]
[]
[]
[]
[]
[]
[]
[]
[]
[]
[]
[]
[]
[]
[]
[]
[]
[]
[]
[]
[]
[]
[]
[]
[]
[]
[]
[]
[]
[]
[]
[]
[]
[]
[]
[]
[]
[]
[]
[]
[]
[]
[]
[]
[]
[]
[]
[]
[]
[]
[]
[]
[]
[]
[]
[]
[]
[]
[]
[]
[]
[]
[]
[]
[]
[]
[]
[]
[]
[]
[]
[null,null,null,null,null,null,null,null,null,null,null,null,null,null,false]

{"sheet":"근무","index":3,"n_rows":371,"n_cols":13,"rows_kept":371,"cut":false,"hidden":true,"merged":[[5,11,5,12]]}
[]
[]
[]
[]
[]
["날짜","요일","번호","순서1","순서2","순서3","순서4","순서5","순서6","비고",null,"근무순서"]
[{"$f":"DATE(연간!$O$2,1,1)","v":"2023-01-01"},{"$f":"A7","v":44927},{"$f":"MOD(DATEDIF(DATE(1900,1,6),DATE(YEAR($A$7),MONTH($A$7),COUNT($A$7:$A7)),\"d\")+1,6)+1","v":1},{"$f":"CHOOSE(C7,$M$7,$M$8,$M$9,$M$10,$M$11,$M$12)","v":"주간"},{"$f":"CHOOSE(C7,$M$8,$M$9,$M$10,$M$11,$M$12,$M$7)","v":"주간"},{"$f":"CHOOSE(C7,$M$9,$M$10,$M$11,$M$12,$M$7,$M$8)","v":"야간"},{"$f":"CHOOSE(C7,$M$10,$M$11,$M$12,$M$7,$M$8,$M$9)","v":"야간"},{"$f":"CHOOSE(C7,$M$11,$M$12,$M$7,$M$8,$M$9,$M$10)","v":"비번"},{"$f":"CHOOSE(C7,$M$12,$M$7,$M$8,$M$9,$M$10,$M$11)","v":"비번"},null,null,1,"주간"]
[{"$f":"A7+1","v":"2023-01-02"},{"$f":"A8","v":44928},{"$f":"MOD(DATEDIF(DATE(1900,1,6),DATE(YEAR($A$7),MONTH($A$7),COUNT($A$7:$A8)),\"d\")+1,6)+1","v":2},{"$f":"CHOOSE(C8,$M$7,$M$8,$M$9,$M$10,$M$11,$M$12)","v":"주간"},{"$f":"CHOOSE(C8,$M$8,$M$9,$M$10,$M$11,$M$12,$M$7)","v":"야간"},{"$f":"CHOOSE(C8,$M$9,$M$10,$M$11,$M$12,$M$7,$M$8)","v":"야간"},{"$f":"CHOOSE(C8,$M$10,$M$11,$M$12,$M$7,$M$8,$M$9)","v":"비번"},{"$f":"CHOOSE(C8,$M$11,$M$12,$M$7,$M$8,$M$9,$M$10)","v":"비번"},{"$f":"CHOOSE(C8,$M$12,$M$7,$M$8,$M$9,$M$10,$M$11)","v":"주간"},null,null,2,"주간"]
[{"$f":"A8+1","v":"2023-01-03"},44929,{"$f":"MOD(DATEDIF(DATE(1900,1,6),DATE(YEAR($A$7),MONTH($A$7),COUNT($A$7:$A9)),\"d\")+1,6)+1","v":3},"야간","야간","비번","비번","주간","주간",null,null,3,"야간"]
["2023-01-04",44930,{"$f":"MOD(DATEDIF(DATE(1900,1,6),DATE(YEAR($A$7),MONTH($A$7),COUNT($A$7:$A10)),\"d\")+1,6)+1","v":4},"야간","비번","비번","주간","주간","야간",null,null,4,"야간"]
["2023-01-05",44931,{"$f":"MOD(DATEDIF(DATE(1900,1,6),DATE(YEAR($A$7),MONTH($A$7),COUNT($A$7:$A11)),\"d\")+1,6)+1","v":5},"비번","비번","주간","주간","야간","야간",null,null,5,"비번"]
["2023-01-06",44932,{"$f":"MOD(DATEDIF(DATE(1900,1,6),DATE(YEAR($A$7),MONTH($A$7),COUNT($A$7:$A12)),\"d\")+1,6)+1","v":6},"비번","주간","주간","야간","야간","비번",null,null,6,"비번"]
["2023-01-07",44933,{"$f":"MOD(DATEDIF(DATE(1900,1,6),DATE(YEAR($A$7),MONTH($A$7),COUNT($A$7:$A13)),\"d\")+1,6)+1","v":1},"주간","주간","야간","야간","비번","비번"]
["2023-01-08",44934,{"$f":"MOD(DATEDIF(DATE(1900,1,6),DATE(YEAR($A$7),MONTH($A$7),COUNT($A$7:$A14)),\"d\")+1,6)+1","v":2},"주간","야간","야간","비번","비번","주간"]
["2023-01-09",44935,{"$f":"MOD(DATEDIF(DATE(1900,1,6),DATE(YEAR($A$7),MONTH($A$7),COUNT($A$7:$A15)),\"d\")+1,6)+1","v":3},"야간","야간","비번","비번","주간","주간"]
["2023-01-10",44936,{"$f":"MOD(DATEDIF(DATE(1900,1,6),DATE(YEAR($A$7),MONTH($A$7),COUNT($A$7:$A16)),\"d\")+1,6)+1","v":4},"야간","비번","비번","주간","주간","야간"]
["2023-01-11",44937,{"$f":"MOD(DATEDIF(DATE(1900,1,6),DATE(YEAR($A$7),MONTH($A$7),COUNT($A$7:$A17)),\"d\")+1,6)+1","v":5},"비번","비번","주간","주간","야간","야간"]
["2023-01-12",44938,{"$f":"MOD(DATEDIF(DATE(1900,1,6),DATE(YEAR($A$7),MONTH($A$7),COUNT($A$7:$A18)),\"d\")+1,6)+1","v":6},"비번","주간","주간","야간","야간","비번"]
["2023-01-13",44939,{"$f":"MOD(DATEDIF(DATE(1900,1,6),DATE(YEAR($A$7),MONTH($A$7),COUNT($A$7:$A19)),\"d\")+1,6)+1","v":1},"주간","주간","야간","야간","비번","비번"]
["2023-01-14",44940,{"$f":"MOD(DATEDIF(DATE(1900,1,6),DATE(YEAR($A$7),MONTH($A$7),COUNT($A$7:$A20)),\"d\")+1,6)+1","v":2},"주간","야간","야간","비번","비번","주간"]
["2023-01-15",44941,{"$f":"MOD(DATEDIF(DATE(1900,1,6),DATE(YEAR($A$7),MONTH($A$7),COUNT($A$7:$A21)),\"d\")+1,6)+1","v":3},"야간","야간","비번","비번","주간","주간"]
["2023-01-16",44942,{"$f":"MOD(DATEDIF(DATE(1900,1,6),DATE(YEAR($A$7),MONTH($A$7),COUNT($A$7:$A22)),\"d\")+1,6)+1","v":4},"야간","비번","비번","주간","주간","야간"]
["2023-01-17",44943,{"$f":"MOD(DATEDIF(DATE(1900,1,6),DATE(YEAR($A$7),MONTH($A$7),COUNT($A$7:$A23)),\"d\")+1,6)+1","v":5},"비번","비번","주간","주간","야간","야간"]
["2023-01-18",44944,{"$f":"MOD(DATEDIF(DATE(1900,1,6),DATE(YEAR($A$7),MONTH($A$7),COUNT($A$7:$A24)),\"d\")+1,6)+1","v":6},"비번","주간","주간","야간","야간","비번"]
["2023-01-19",44945,{"$f":"MOD(DATEDIF(DATE(1900,1,6),DATE(YEAR($A$7),MONTH($A$7),COUNT($A$7:$A25)),\"d\")+1,6)+1","v":1},"주간","주간","야간","야간","비번","비번"]
["2023-01-20",44946,{"$f":"MOD(DATEDIF(DATE(1900,1,6),DATE(YEAR($A$7),MONTH($A$7),COUNT($A$7:$A26)),\"d\")+1,6)+1","v":2},"주간","야간","야간","비번","비번","주간"]
["2023-01-21",44947,{"$f":"MOD(DATEDIF(DATE(1900,1,6),DATE(YEAR($A$7),MONTH($A$7),COUNT($A$7:$A27)),\"d\")+1,6)+1","v":3},"야간","야간","비번","비번","주간","주간"]
["2023-01-22",44948,{"$f":"MOD(DATEDIF(DATE(1900,1,6),DATE(YEAR($A$7),MONTH($A$7),COUNT($A$7:$A28)),\"d\")+1,6)+1","v":4},"야간","비번","비번","주간","주간","야간"]
["2023-01-23",44949,{"$f":"MOD(DATEDIF(DATE(1900,1,6),DATE(YEAR($A$7),MONTH($A$7),COUNT($A$7:$A29)),\"d\")+1,6)+1","v":5},"비번","비번","주간","주간","야간","야간"]
["2023-01-24",44950,{"$f":"MOD(DATEDIF(DATE(1900,1,6),DATE(YEAR($A$7),MONTH($A$7),COUNT($A$7:$A30)),\"d\")+1,6)+1","v":6},"비번","주간","주간","야간","야간","비번"]
["2023-01-25",44951,{"$f":"MOD(DATEDIF(DATE(1900,1,6),DATE(YEAR($A$7),MONTH($A$7),COUNT($A$7:$A31)),\"d\")+1,6)+1","v":1},"주간","주간","야간","야간","비번","비번"]
["2023-01-26",44952,{"$f":"MOD(DATEDIF(DATE(1900,1,6),DATE(YEAR($A$7),MONTH($A$7),COUNT($A$7:$A32)),\"d\")+1,6)+1","v":2},"주간","야간","야간","비번","비번","주간"]
["2023-01-27",44953,{"$f":"MOD(DATEDIF(DATE(1900,1,6),DATE(YEAR($A$7),MONTH($A$7),COUNT($A$7:$A33)),\"d\")+1,6)+1","v":3},"야간","야간","비번","비번","주간","주간"]
["2023-01-28",44954,{"$f":"MOD(DATEDIF(DATE(1900,1,6),DATE(YEAR($A$7),MONTH($A$7),COUNT($A$7:$A34)),\"d\")+1,6)+1","v":4},"야간","비번","비번","주간","주간","야간"]
["2023-01-29",44955,{"$f":"MOD(DATEDIF(DATE(1900,1,6),DATE(YEAR($A$7),MONTH($A$7),COUNT($A$7:$A35)),\"d\")+1,6)+1","v":5},"비번","비번","주간","주간","야간","야간"]
["2023-01-30",44956,{"$f":"MOD(DATEDIF(DATE(1900,1,6),DATE(YEAR($A$7),MONTH($A$7),COUNT($A$7:$A36)),\"d\")+1,6)+1","v":6},"비번","주간","주간","야간","야간","비번"]
["2023-01-31",44957,{"$f":"MOD(DATEDIF(DATE(1900,1,6),DATE(YEAR($A$7),MONTH($A$7),COUNT($A$7:$A37)),\"d\")+1,6)+1","v":1},"주간","주간","야간","야간","비번","비번"]
["2023-02-01",44958,{"$f":"MOD(DATEDIF(DATE(1900,1,6),DATE(YEAR($A$7),MONTH($A$7),COUNT($A$7:$A38)),\"d\")+1,6)+1","v":2},"주간","야간","야간","비번","비번","주간"]
["2023-02-02",44959,{"$f":"MOD(DATEDIF(DATE(1900,1,6),DATE(YEAR($A$7),MONTH($A$7),COUNT($A$7:$A39)),\"d\")+1,6)+1","v":3},"야간","야간","비번","비번","주간","주간"]
["2023-02-03",44960,{"$f":"MOD(DATEDIF(DATE(1900,1,6),DATE(YEAR($A$7),MONTH($A$7),COUNT($A$7:$A40)),\"d\")+1,6)+1","v":4},"야간","비번","비번","주간","주간","야간"]
["2023-02-04",44961,{"$f":"MOD(DATEDIF(DATE(1900,1,6),DATE(YEAR($A$7),MONTH($A$7),COUNT($A$7:$A41)),\"d\")+1,6)+1","v":5},"비번","비번","주간","주간","야간","야간"]
["2023-02-05",44962,{"$f":"MOD(DATEDIF(DATE(1900,1,6),DATE(YEAR($A$7),MONTH($A$7),COUNT($A$7:$A42)),\"d\")+1,6)+1","v":6},"비번","주간","주간","야간","야간","비번"]
["2023-02-06",44963,{"$f":"MOD(DATEDIF(DATE(1900,1,6),DATE(YEAR($A$7),MONTH($A$7),COUNT($A$7:$A43)),\"d\")+1,6)+1","v":1},"주간","주간","야간","야간","비번","비번"]
["2023-02-07",44964,{"$f":"MOD(DATEDIF(DATE(1900,1,6),DATE(YEAR($A$7),MONTH($A$7),COUNT($A$7:$A44)),\"d\")+1,6)+1","v":2},"주간","야간","야간","비번","비번","주간"]
["2023-02-08",44965,{"$f":"MOD(DATEDIF(DATE(1900,1,6),DATE(YEAR($A$7),MONTH($A$7),COUNT($A$7:$A45)),\"d\")+1,6)+1","v":3},"야간","야간","비번","비번","주간","주간"]
["2023-02-09",44966,{"$f":"MOD(DATEDIF(DATE(1900,1,6),DATE(YEAR($A$7),MONTH($A$7),COUNT($A$7:$A46)),\"d\")+1,6)+1","v":4},"야간","비번","비번","주간","주간","야간"]
["2023-02-10",44967,{"$f":"MOD(DATEDIF(DATE(1900,1,6),DATE(YEAR($A$7),MONTH($A$7),COUNT($A$7:$A47)),\"d\")+1,6)+1","v":5},"비번","비번","주간","주간","야간","야간"]
["2023-02-11",44968,{"$f":"MOD(DATEDIF(DATE(1900,1,6),DATE(YEAR($A$7),MONTH($A$7),COUNT($A$7:$A48)),\"d\")+1,6)+1","v":6},"비번","주간","주간","야간","야간","비번"]
["2023-02-12",44969,{"$f":"MOD(DATEDIF(DATE(1900,1,6),DATE(YEAR($A$7),MONTH($A$7),COUNT($A$7:$A49)),\"d\")+1,6)+1","v":1},"주간","주간","야간","야간","비번","비번"]
["2023-02-13",44970,{"$f":"MOD(DATEDIF(DATE(1900,1,6),DATE(YEAR($A$7),MONTH($A$7),COUNT($A$7:$A50)),\"d\")+1,6)+1","v":2},"주간","야간","야간","비번","비번","주간"]
["2023-02-14",44971,{"$f":"MOD(DATEDIF(DATE(1900,1,6),DATE(YEAR($A$7),MONTH($A$7),COUNT($A$7:$A51)),\"d\")+1,6)+1","v":3},"야간","야간","비번","비번","주간","주간"]
["2023-02-15",44972,{"$f":"MOD(DATEDIF(DATE(1900,1,6),DATE(YEAR($A$7),MONTH($A$7),COUNT($A$7:$A52)),\"d\")+1,6)+1","v":4},"야간","비번","비번","주간","주간","야간"]
["2023-02-16",44973,{"$f":"MOD(DATEDIF(DATE(1900,1,6),DATE(YEAR($A$7),MONTH($A$7),COUNT($A$7:$A53)),\"d\")+1,6)+1","v":5},"비번","비번","주간","주간","야간","야간"]
["2023-02-17",44974,{"$f":"MOD(DATEDIF(DATE(1900,1,6),DATE(YEAR($A$7),MONTH($A$7),COUNT($A$7:$A54)),\"d\")+1,6)+1","v":6},"비번","주간","주간","야간","야간","비번"]
["2023-02-18",44975,{"$f":"MOD(DATEDIF(DATE(1900,1,6),DATE(YEAR($A$7),MONTH($A$7),COUNT($A$7:$A55)),\"d\")+1,6)+1","v":1},"주간","주간","야간","야간","비번","비번"]
["2023-02-19",44976,{"$f":"MOD(DATEDIF(DATE(1900,1,6),DATE(YEAR($A$7),MONTH($A$7),COUNT($A$7:$A56)),\"d\")+1,6)+1","v":2},"주간","야간","야간","비번","비번","주간"]
["2023-02-20",44977,{"$f":"MOD(DATEDIF(DATE(1900,1,6),DATE(YEAR($A$7),MONTH($A$7),COUNT($A$7:$A57)),\"d\")+1,6)+1","v":3},"야간","야간","비번","비번","주간","주간"]
["2023-02-21",44978,{"$f":"MOD(DATEDIF(DATE(1900,1,6),DATE(YEAR($A$7),MONTH($A$7),COUNT($A$7:$A58)),\"d\")+1,6)+1","v":4},"야간","비번","비번","주간","주간","야간"]
["2023-02-22",44979,{"$f":"MOD(DATEDIF(DATE(1900,1,6),DATE(YEAR($A$7),MONTH($A$7),COUNT($A$7:$A59)),\"d\")+1,6)+1","v":5},"비번","비번","주간","주간","야간","야간"]
["2023-02-23",44980,{"$f":"MOD(DATEDIF(DATE(1900,1,6),DATE(YEAR($A$7),MONTH($A$7),COUNT($A$7:$A60)),\"d\")+1,6)+1","v":6},"비번","주간","주간","야간","야간","비번"]
["2023-02-24",44981,{"$f":"MOD(DATEDIF(DATE(1900,1,6),DATE(YEAR($A$7),MONTH($A$7),COUNT($A$7:$A61)),\"d\")+1,6)+1","v":1},"주간","주간","야간","야간","비번","비번"]
["2023-02-25",44982,{"$f":"MOD(DATEDIF(DATE(1900,1,6),DATE(YEAR($A$7),MONTH($A$7),COUNT($A$7:$A62)),\"d\")+1,6)+1","v":2},"주간","야간","야간","비번","비번","주간"]
["2023-02-26",44983,{"$f":"MOD(DATEDIF(DATE(1900,1,6),DATE(YEAR($A$7),MONTH($A$7),COUNT($A$7:$A63)),\"d\")+1,6)+1","v":3},"야간","야간","비번","비번","주간","주간"]
["2023-02-27",44984,{"$f":"MOD(DATEDIF(DATE(1900,1,6),DATE(YEAR($A$7),MONTH($A$7),COUNT($A$7:$A64)),\"d\")+1,6)+1","v":4},"야간","비번","비번","주간","주간","야간"]
["2023-02-28",44985,{"$f":"MOD(DATEDIF(DATE(1900,1,6),DATE(YEAR($A$7),MONTH($A$7),COUNT($A$7:$A65)),\"d\")+1,6)+1","v":5},"비번","비번","주간","주간","야간","야간"]
["2023-03-01",44986,{"$f":"MOD(DATEDIF(DATE(1900,1,6),DATE(YEAR($A$7),MONTH($A$7),COUNT($A$7:$A66)),\"d\")+1,6)+1","v":6},"비번","주간","주간","야간","야간","비번"]
["2023-03-02",44987,{"$f":"MOD(DATEDIF(DATE(1900,1,6),DATE(YEAR($A$7),MONTH($A$7),COUNT($A$7:$A67)),\"d\")+1,6)+1","v":1},"주간","주간","야간","야간","비번","비번"]
["2023-03-03",44988,{"$f":"MOD(DATEDIF(DATE(1900,1,6),DATE(YEAR($A$7),MONTH($A$7),COUNT($A$7:$A68)),\"d\")+1,6)+1","v":2},"주간","야간","야간","비번","비번","주간"]
["2023-03-04",44989,{"$f":"MOD(DATEDIF(DATE(1900,1,6),DATE(YEAR($A$7),MONTH($A$7),COUNT($A$7:$A69)),\"d\")+1,6)+1","v":3},"야간","야간","비번","비번","주간","주간"]
["2023-03-05",44990,{"$f":"MOD(DATEDIF(DATE(1900,1,6),DATE(YEAR($A$7),MONTH($A$7),COUNT($A$7:$A70)),\"d\")+1,6)+1","v":4},"야간","비번","비번","주간","주간","야간"]
["2023-03-06",44991,{"$f":"MOD(DATEDIF(DATE(1900,1,6),DATE(YEAR($A$7),MONTH($A$7),COUNT($A$7:$A71)),\"d\")+1,6)+1","v":5},"비번","비번","주간","주간","야간","야간"]
["2023-03-07",{"$f":"A72","v":44992},{"$f":"MOD(DATEDIF(DATE(1900,1,6),DATE(YEAR($A$7),MONTH($A$7),COUNT($A$7:$A72)),\"d\")+1,6)+1","v":6},{"$f":"CHOOSE(C72,$M$7,$M$8,$M$9,$M$10,$M$11,$M$12)","v":"비번"},{"$f":"CHOOSE(C72,$M$8,$M$9,$M$10,$M$11,$M$12,$M$7)","v":"주간"},{"$f":"CHOOSE(C72,$M$9,$M$10,$M$11,$M$12,$M$7,$M$8)","v":"주간"},{"$f":"CHOOSE(C72,$M$10,$M$11,$M$12,$M$7,$M$8,$M$9)","v":"야간"},{"$f":"CHOOSE(C72,$M$11,$M$12,$M$7,$M$8,$M$9,$M$10)","v":"야간"},{"$f":"CHOOSE(C72,$M$12,$M$7,$M$8,$M$9,$M$10,$M$11)","v":"비번"}]
[{"$f":"A72+1","v":"2023-03-08"},44993,{"$f":"MOD(DATEDIF(DATE(1900,1,6),DATE(YEAR($A$7),MONTH($A$7),COUNT($A$7:$A73)),\"d\")+1,6)+1","v":1},"주간","주간","야간","야간","비번","비번"]
["2023-03-09",44994,{"$f":"MOD(DATEDIF(DATE(1900,1,6),DATE(YEAR($A$7),MONTH($A$7),COUNT($A$7:$A74)),\"d\")+1,6)+1","v":2},"주간","야간","야간","비번","비번","주간"]
["2023-03-10",44995,{"$f":"MOD(DATEDIF(DATE(1900,1,6),DATE(YEAR($A$7),MONTH($A$7),COUNT($A$7:$A75)),\"d\")+1,6)+1","v":3},"야간","야간","비번","비번","주간","주간"]
["2023-03-11",44996,{"$f":"MOD(DATEDIF(DATE(1900,1,6),DATE(YEAR($A$7),MONTH($A$7),COUNT($A$7:$A76)),\"d\")+1,6)+1","v":4},"야간","비번","비번","주간","주간","야간"]
["2023-03-12",44997,{"$f":"MOD(DATEDIF(DATE(1900,1,6),DATE(YEAR($A$7),MONTH($A$7),COUNT($A$7:$A77)),\"d\")+1,6)+1","v":5},"비번","비번","주간","주간","야간","야간"]
["2023-03-13",44998,{"$f":"MOD(DATEDIF(DATE(1900,1,6),DATE(YEAR($A$7),MONTH($A$7),COUNT($A$7:$A78)),\"d\")+1,6)+1","v":6},"비번","주간","주간","야간","야간","비번"]
["2023-03-14",44999,{"$f":"MOD(DATEDIF(DATE(1900,1,6),DATE(YEAR($A$7),MONTH($A$7),COUNT($A$7:$A79)),\"d\")+1,6)+1","v":1},"주간","주간","야간","야간","비번","비번"]
["2023-03-15",45000,{"$f":"MOD(DATEDIF(DATE(1900,1,6),DATE(YEAR($A$7),MONTH($A$7),COUNT($A$7:$A80)),\"d\")+1,6)+1","v":2},"주간","야간","야간","비번","비번","주간"]
["2023-03-16",45001,{"$f":"MOD(DATEDIF(DATE(1900,1,6),DATE(YEAR($A$7),MONTH($A$7),COUNT($A$7:$A81)),\"d\")+1,6)+1","v":3},"야간","야간","비번","비번","주간","주간"]
["2023-03-17",45002,{"$f":"MOD(DATEDIF(DATE(1900,1,6),DATE(YEAR($A$7),MONTH($A$7),COUNT($A$7:$A82)),\"d\")+1,6)+1","v":4},"야간","비번","비번","주간","주간","야간"]
["2023-03-18",45003,{"$f":"MOD(DATEDIF(DATE(1900,1,6),DATE(YEAR($A$7),MONTH($A$7),COUNT($A$7:$A83)),\"d\")+1,6)+1","v":5},"비번","비번","주간","주간","야간","야간"]
["2023-03-19",45004,{"$f":"MOD(DATEDIF(DATE(1900,1,6),DATE(YEAR($A$7),MONTH($A$7),COUNT($A$7:$A84)),\"d\")+1,6)+1","v":6},"비번","주간","주간","야간","야간","비번"]
["2023-03-20",45005,{"$f":"MOD(DATEDIF(DATE(1900,1,6),DATE(YEAR($A$7),MONTH($A$7),COUNT($A$7:$A85)),\"d\")+1,6)+1","v":1},"주간","주간","야간","야간","비번","비번"]
["2023-03-21",45006,{"$f":"MOD(DATEDIF(DATE(1900,1,6),DATE(YEAR($A$7),MONTH($A$7),COUNT($A$7:$A86)),\"d\")+1,6)+1","v":2},"주간","야간","야간","비번","비번","주간"]
["2023-03-22",45007,{"$f":"MOD(DATEDIF(DATE(1900,1,6),DATE(YEAR($A$7),MONTH($A$7),COUNT($A$7:$A87)),\"d\")+1,6)+1","v":3},"야간","야간","비번","비번","주간","주간"]
["2023-03-23",45008,{"$f":"MOD(DATEDIF(DATE(1900,1,6),DATE(YEAR($A$7),MONTH($A$7),COUNT($A$7:$A88)),\"d\")+1,6)+1","v":4},"야간","비번","비번","주간","주간","야간"]
["2023-03-24",45009,{"$f":"MOD(DATEDIF(DATE(1900,1,6),DATE(YEAR($A$7),MONTH($A$7),COUNT($A$7:$A89)),\"d\")+1,6)+1","v":5},"비번","비번","주간","주간","야간","야간"]
["2023-03-25",45010,{"$f":"MOD(DATEDIF(DATE(1900,1,6),DATE(YEAR($A$7),MONTH($A$7),COUNT($A$7:$A90)),\"d\")+1,6)+1","v":6},"비번","주간","주간","야간","야간","비번"]
["2023-03-26",45011,{"$f":"MOD(DATEDIF(DATE(1900,1,6),DATE(YEAR($A$7),MONTH($A$7),COUNT($A$7:$A91)),\"d\")+1,6)+1","v":1},"주간","주간","야간","야간","비번","비번"]
["2023-03-27",45012,{"$f":"MOD(DATEDIF(DATE(1900,1,6),DATE(YEAR($A$7),MONTH($A$7),COUNT($A$7:$A92)),\"d\")+1,6)+1","v":2},"주간","야간","야간","비번","비번","주간"]
["2023-03-28",45013,{"$f":"MOD(DATEDIF(DATE(1900,1,6),DATE(YEAR($A$7),MONTH($A$7),COUNT($A$7:$A93)),\"d\")+1,6)+1","v":3},"야간","야간","비번","비번","주간","주간"]
["2023-03-29",45014,{"$f":"MOD(DATEDIF(DATE(1900,1,6),DATE(YEAR($A$7),MONTH($A$7),COUNT($A$7:$A94)),\"d\")+1,6)+1","v":4},"야간","비번","비번","주간","주간","야간"]
["2023-03-30",45015,{"$f":"MOD(DATEDIF(DATE(1900,1,6),DATE(YEAR($A$7),MONTH($A$7),COUNT($A$7:$A95)),\"d\")+1,6)+1","v":5},"비번","비번","주간","주간","야간","야간"]
["2023-03-31",45016,{"$f":"MOD(DATEDIF(DATE(1900,1,6),DATE(YEAR($A$7),MONTH($A$7),COUNT($A$7:$A96)),\"d\")+1,6)+1","v":6},"비번","주간","주간","야간","야간","비번"]
["2023-04-01",45017,{"$f":"MOD(DATEDIF(DATE(1900,1,6),DATE(YEAR($A$7),MONTH($A$7),COUNT($A$7:$A97)),\"d\")+1,6)+1","v":1},"주간","주간","야간","야간","비번","비번"]
["2023-04-02",45018,{"$f":"MOD(DATEDIF(DATE(1900,1,6),DATE(YEAR($A$7),MONTH($A$7),COUNT($A$7:$A98)),\"d\")+1,6)+1","v":2},"주간","야간","야간","비번","비번","주간"]
["2023-04-03",45019,{"$f":"MOD(DATEDIF(DATE(1900,1,6),DATE(YEAR($A$7),MONTH($A$7),COUNT($A$7:$A99)),\"d\")+1,6)+1","v":3},"야간","야간","비번","비번","주간","주간"]
["2023-04-04",45020,{"$f":"MOD(DATEDIF(DATE(1900,1,6),DATE(YEAR($A$7),MONTH($A$7),COUNT($A$7:$A100)),\"d\")+1,6)+1","v":4},"야간","비번","비번","주간","주간","야간"]
["2023-04-05",45021,{"$f":"MOD(DATEDIF(DATE(1900,1,6),DATE(YEAR($A$7),MONTH($A$7),COUNT($A$7:$A101)),\"d\")+1,6)+1","v":5},"비번","비번","주간","주간","야간","야간"]
["2023-04-06",45022,{"$f":"MOD(DATEDIF(DATE(1900,1,6),DATE(YEAR($A$7),MONTH($A$7),COUNT($A$7:$A102)),\"d\")+1,6)+1","v":6},"비번","주간","주간","야간","야간","비번"]
["2023-04-07",45023,{"$f":"MOD(DATEDIF(DATE(1900,1,6),DATE(YEAR($A$7),MONTH($A$7),COUNT($A$7:$A103)),\"d\")+1,6)+1","v":1},"주간","주간","야간","야간","비번","비번"]
["2023-04-08",45024,{"$f":"MOD(DATEDIF(DATE(1900,1,6),DATE(YEAR($A$7),MONTH($A$7),COUNT($A$7:$A104)),\"d\")+1,6)+1","v":2},"주간","야간","야간","비번","비번","주간"]
["2023-04-09",45025,{"$f":"MOD(DATEDIF(DATE(1900,1,6),DATE(YEAR($A$7),MONTH($A$7),COUNT($A$7:$A105)),\"d\")+1,6)+1","v":3},"야간","야간","비번","비번","주간","주간"]
["2023-04-10",45026,{"$f":"MOD(DATEDIF(DATE(1900,1,6),DATE(YEAR($A$7),MONTH($A$7),COUNT($A$7:$A106)),\"d\")+1,6)+1","v":4},"야간","비번","비번","주간","주간","야간"]
["2023-04-11",45027,{"$f":"MOD(DATEDIF(DATE(1900,1,6),DATE(YEAR($A$7),MONTH($A$7),COUNT($A$7:$A107)),\"d\")+1,6)+1","v":5},"비번","비번","주간","주간","야간","야간"]
["2023-04-12",45028,{"$f":"MOD(DATEDIF(DATE(1900,1,6),DATE(YEAR($A$7),MONTH($A$7),COUNT($A$7:$A108)),\"d\")+1,6)+1","v":6},"비번","주간","주간","야간","야간","비번"]
["2023-04-13",45029,{"$f":"MOD(DATEDIF(DATE(1900,1,6),DATE(YEAR($A$7),MONTH($A$7),COUNT($A$7:$A109)),\"d\")+1,6)+1","v":1},"주간","주간","야간","야간","비번","비번"]
["2023-04-14",45030,{"$f":"MOD(DATEDIF(DATE(1900,1,6),DATE(YEAR($A$7),MONTH($A$7),COUNT($A$7:$A110)),\"d\")+1,6)+1","v":2},"주간","야간","야간","비번","비번","주간"]
["2023-04-15",45031,{"$f":"MOD(DATEDIF(DATE(1900,1,6),DATE(YEAR($A$7),MONTH($A$7),COUNT($A$7:$A111)),\"d\")+1,6)+1","v":3},"야간","야간","비번","비번","주간","주간"]
["2023-04-16",45032,{"$f":"MOD(DATEDIF(DATE(1900,1,6),DATE(YEAR($A$7),MONTH($A$7),COUNT($A$7:$A112)),\"d\")+1,6)+1","v":4},"야간","비번","비번","주간","주간","야간"]
["2023-04-17",45033,{"$f":"MOD(DATEDIF(DATE(1900,1,6),DATE(YEAR($A$7),MONTH($A$7),COUNT($A$7:$A113)),\"d\")+1,6)+1","v":5},"비번","비번","주간","주간","야간","야간"]
["2023-04-18",45034,{"$f":"MOD(DATEDIF(DATE(1900,1,6),DATE(YEAR($A$7),MONTH($A$7),COUNT($A$7:$A114)),\"d\")+1,6)+1","v":6},"비번","주간","주간","야간","야간","비번"]
["2023-04-19",45035,{"$f":"MOD(DATEDIF(DATE(1900,1,6),DATE(YEAR($A$7),MONTH($A$7),COUNT($A$7:$A115)),\"d\")+1,6)+1","v":1},"주간","주간","야간","야간","비번","비번"]
["2023-04-20",45036,{"$f":"MOD(DATEDIF(DATE(1900,1,6),DATE(YEAR($A$7),MONTH($A$7),COUNT($A$7:$A116)),\"d\")+1,6)+1","v":2},"주간","야간","야간","비번","비번","주간"]
["2023-04-21",45037,{"$f":"MOD(DATEDIF(DATE(1900,1,6),DATE(YEAR($A$7),MONTH($A$7),COUNT($A$7:$A117)),\"d\")+1,6)+1","v":3},"야간","야간","비번","비번","주간","주간"]
["2023-04-22",45038,{"$f":"MOD(DATEDIF(DATE(1900,1,6),DATE(YEAR($A$7),MONTH($A$7),COUNT($A$7:$A118)),\"d\")+1,6)+1","v":4},"야간","비번","비번","주간","주간","야간"]
["2023-04-23",45039,{"$f":"MOD(DATEDIF(DATE(1900,1,6),DATE(YEAR($A$7),MONTH($A$7),COUNT($A$7:$A119)),\"d\")+1,6)+1","v":5},"비번","비번","주간","주간","야간","야간"]
["2023-04-24",45040,{"$f":"MOD(DATEDIF(DATE(1900,1,6),DATE(YEAR($A$7),MONTH($A$7),COUNT($A$7:$A120)),\"d\")+1,6)+1","v":6},"비번","주간","주간","야간","야간","비번"]
["2023-04-25",45041,{"$f":"MOD(DATEDIF(DATE(1900,1,6),DATE(YEAR($A$7),MONTH($A$7),COUNT($A$7:$A121)),\"d\")+1,6)+1","v":1},"주간","주간","야간","야간","비번","비번"]
["2023-04-26",45042,{"$f":"MOD(DATEDIF(DATE(1900,1,6),DATE(YEAR($A$7),MONTH($A$7),COUNT($A$7:$A122)),\"d\")+1,6)+1","v":2},"주간","야간","야간","비번","비번","주간"]
["2023-04-27",45043,{"$f":"MOD(DATEDIF(DATE(1900,1,6),DATE(YEAR($A$7),MONTH($A$7),COUNT($A$7:$A123)),\"d\")+1,6)+1","v":3},"야간","야간","비번","비번","주간","주간"]
["2023-04-28",45044,{"$f":"MOD(DATEDIF(DATE(1900,1,6),DATE(YEAR($A$7),MONTH($A$7),COUNT($A$7:$A124)),\"d\")+1,6)+1","v":4},"야간","비번","비번","주간","주간","야간"]
["2023-04-29",45045,{"$f":"MOD(DATEDIF(DATE(1900,1,6),DATE(YEAR($A$7),MONTH($A$7),COUNT($A$7:$A125)),\"d\")+1,6)+1","v":5},"비번","비번","주간","주간","야간","야간"]
["2023-04-30",45046,{"$f":"MOD(DATEDIF(DATE(1900,1,6),DATE(YEAR($A$7),MONTH($A$7),COUNT($A$7:$A126)),\"d\")+1,6)+1","v":6},"비번","주간","주간","야간","야간","비번"]
["2023-05-01",45047,{"$f":"MOD(DATEDIF(DATE(1900,1,6),DATE(YEAR($A$7),MONTH($A$7),COUNT($A$7:$A127)),\"d\")+1,6)+1","v":1},"주간","주간","야간","야간","비번","비번"]
["2023-05-02",45048,{"$f":"MOD(DATEDIF(DATE(1900,1,6),DATE(YEAR($A$7),MONTH($A$7),COUNT($A$7:$A128)),\"d\")+1,6)+1","v":2},"주간","야간","야간","비번","비번","주간"]
["2023-05-03",45049,{"$f":"MOD(DATEDIF(DATE(1900,1,6),DATE(YEAR($A$7),MONTH($A$7),COUNT($A$7:$A129)),\"d\")+1,6)+1","v":3},"야간","야간","비번","비번","주간","주간"]
["2023-05-04",45050,{"$f":"MOD(DATEDIF(DATE(1900,1,6),DATE(YEAR($A$7),MONTH($A$7),COUNT($A$7:$A130)),\"d\")+1,6)+1","v":4},"야간","비번","비번","주간","주간","야간"]
["2023-05-05",45051,{"$f":"MOD(DATEDIF(DATE(1900,1,6),DATE(YEAR($A$7),MONTH($A$7),COUNT($A$7:$A131)),\"d\")+1,6)+1","v":5},"비번","비번","주간","주간","야간","야간"]
["2023-05-06",45052,{"$f":"MOD(DATEDIF(DATE(1900,1,6),DATE(YEAR($A$7),MONTH($A$7),COUNT($A$7:$A132)),\"d\")+1,6)+1","v":6},"비번","주간","주간","야간","야간","비번"]
["2023-05-07",45053,{"$f":"MOD(DATEDIF(DATE(1900,1,6),DATE(YEAR($A$7),MONTH($A$7),COUNT($A$7:$A133)),\"d\")+1,6)+1","v":1},"주간","주간","야간","야간","비번","비번"]
["2023-05-08",45054,{"$f":"MOD(DATEDIF(DATE(1900,1,6),DATE(YEAR($A$7),MONTH($A$7),COUNT($A$7:$A134)),\"d\")+1,6)+1","v":2},"주간","야간","야간","비번","비번","주간"]
["2023-05-09",45055,{"$f":"MOD(DATEDIF(DATE(1900,1,6),DATE(YEAR($A$7),MONTH($A$7),COUNT($A$7:$A135)),\"d\")+1,6)+1","v":3},"야간","야간","비번","비번","주간","주간"]
["2023-05-10",{"$f":"A136","v":45056},{"$f":"MOD(DATEDIF(DATE(1900,1,6),DATE(YEAR($A$7),MONTH($A$7),COUNT($A$7:$A136)),\"d\")+1,6)+1","v":4},{"$f":"CHOOSE(C136,$M$7,$M$8,$M$9,$M$10,$M$11,$M$12)","v":"야간"},{"$f":"CHOOSE(C136,$M$8,$M$9,$M$10,$M$11,$M$12,$M$7)","v":"비번"},{"$f":"CHOOSE(C136,$M$9,$M$10,$M$11,$M$12,$M$7,$M$8)","v":"비번"},{"$f":"CHOOSE(C136,$M$10,$M$11,$M$12,$M$7,$M$8,$M$9)","v":"주간"},{"$f":"CHOOSE(C136,$M$11,$M$12,$M$7,$M$8,$M$9,$M$10)","v":"주간"},{"$f":"CHOOSE(C136,$M$12,$M$7,$M$8,$M$9,$M$10,$M$11)","v":"야간"}]
[{"$f":"A136+1","v":"2023-05-11"},45057,{"$f":"MOD(DATEDIF(DATE(1900,1,6),DATE(YEAR($A$7),MONTH($A$7),COUNT($A$7:$A137)),\"d\")+1,6)+1","v":5},"비번","비번","주간","주간","야간","야간"]
["2023-05-12",45058,{"$f":"MOD(DATEDIF(DATE(1900,1,6),DATE(YEAR($A$7),MONTH($A$7),COUNT($A$7:$A138)),\"d\")+1,6)+1","v":6},"비번","주간","주간","야간","야간","비번"]
["2023-05-13",45059,{"$f":"MOD(DATEDIF(DATE(1900,1,6),DATE(YEAR($A$7),MONTH($A$7),COUNT($A$7:$A139)),\"d\")+1,6)+1","v":1},"주간","주간","야간","야간","비번","비번"]
["2023-05-14",45060,{"$f":"MOD(DATEDIF(DATE(1900,1,6),DATE(YEAR($A$7),MONTH($A$7),COUNT($A$7:$A140)),\"d\")+1,6)+1","v":2},"주간","야간","야간","비번","비번","주간"]
["2023-05-15",45061,{"$f":"MOD(DATEDIF(DATE(1900,1,6),DATE(YEAR($A$7),MONTH($A$7),COUNT($A$7:$A141)),\"d\")+1,6)+1","v":3},"야간","야간","비번","비번","주간","주간"]
["2023-05-16",45062,{"$f":"MOD(DATEDIF(DATE(1900,1,6),DATE(YEAR($A$7),MONTH($A$7),COUNT($A$7:$A142)),\"d\")+1,6)+1","v":4},"야간","비번","비번","주간","주간","야간"]
["2023-05-17",45063,{"$f":"MOD(DATEDIF(DATE(1900,1,6),DATE(YEAR($A$7),MONTH($A$7),COUNT($A$7:$A143)),\"d\")+1,6)+1","v":5},"비번","비번","주간","주간","야간","야간"]
["2023-05-18",45064,{"$f":"MOD(DATEDIF(DATE(1900,1,6),DATE(YEAR($A$7),MONTH($A$7),COUNT($A$7:$A144)),\"d\")+1,6)+1","v":6},"비번","주간","주간","야간","야간","비번"]
["2023-05-19",45065,{"$f":"MOD(DATEDIF(DATE(1900,1,6),DATE(YEAR($A$7),MONTH($A$7),COUNT($A$7:$A145)),\"d\")+1,6)+1","v":1},"주간","주간","야간","야간","비번","비번"]
["2023-05-20",45066,{"$f":"MOD(DATEDIF(DATE(1900,1,6),DATE(YEAR($A$7),MONTH($A$7),COUNT($A$7:$A146)),\"d\")+1,6)+1","v":2},"주간","야간","야간","비번","비번","주간"]
["2023-05-21",45067,{"$f":"MOD(DATEDIF(DATE(1900,1,6),DATE(YEAR($A$7),MONTH($A$7),COUNT($A$7:$A147)),\"d\")+1,6)+1","v":3},"야간","야간","비번","비번","주간","주간"]
["2023-05-22",45068,{"$f":"MOD(DATEDIF(DATE(1900,1,6),DATE(YEAR($A$7),MONTH($A$7),COUNT($A$7:$A148)),\"d\")+1,6)+1","v":4},"야간","비번","비번","주간","주간","야간"]
["2023-05-23",45069,{"$f":"MOD(DATEDIF(DATE(1900,1,6),DATE(YEAR($A$7),MONTH($A$7),COUNT($A$7:$A149)),\"d\")+1,6)+1","v":5},"비번","비번","주간","주간","야간","야간"]
["2023-05-24",45070,{"$f":"MOD(DATEDIF(DATE(1900,1,6),DATE(YEAR($A$7),MONTH($A$7),COUNT($A$7:$A150)),\"d\")+1,6)+1","v":6},"비번","주간","주간","야간","야간","비번"]
["2023-05-25",45071,{"$f":"MOD(DATEDIF(DATE(1900,1,6),DATE(YEAR($A$7),MONTH($A$7),COUNT($A$7:$A151)),\"d\")+1,6)+1","v":1},"주간","주간","야간","야간","비번","비번"]
["2023-05-26",45072,{"$f":"MOD(DATEDIF(DATE(1900,1,6),DATE(YEAR($A$7),MONTH($A$7),COUNT($A$7:$A152)),\"d\")+1,6)+1","v":2},"주간","야간","야간","비번","비번","주간"]
["2023-05-27",45073,{"$f":"MOD(DATEDIF(DATE(1900,1,6),DATE(YEAR($A$7),MONTH($A$7),COUNT($A$7:$A153)),\"d\")+1,6)+1","v":3},"야간","야간","비번","비번","주간","주간"]
["2023-05-28",45074,{"$f":"MOD(DATEDIF(DATE(1900,1,6),DATE(YEAR($A$7),MONTH($A$7),COUNT($A$7:$A154)),\"d\")+1,6)+1","v":4},"야간","비번","비번","주간","주간","야간"]
["2023-05-29",45075,{"$f":"MOD(DATEDIF(DATE(1900,1,6),DATE(YEAR($A$7),MONTH($A$7),COUNT($A$7:$A155)),\"d\")+1,6)+1","v":5},"비번","비번","주간","주간","야간","야간"]
["2023-05-30",45076,{"$f":"MOD(DATEDIF(DATE(1900,1,6),DATE(YEAR($A$7),MONTH($A$7),COUNT($A$7:$A156)),\"d\")+1,6)+1","v":6},"비번","주간","주간","야간","야간","비번"]
["2023-05-31",45077,{"$f":"MOD(DATEDIF(DATE(1900,1,6),DATE(YEAR($A$7),MONTH($A$7),COUNT($A$7:$A157)),\"d\")+1,6)+1","v":1},"주간","주간","야간","야간","비번","비번"]
["2023-06-01",45078,{"$f":"MOD(DATEDIF(DATE(1900,1,6),DATE(YEAR($A$7),MONTH($A$7),COUNT($A$7:$A158)),\"d\")+1,6)+1","v":2},"주간","야간","야간","비번","비번","주간"]
["2023-06-02",45079,{"$f":"MOD(DATEDIF(DATE(1900,1,6),DATE(YEAR($A$7),MONTH($A$7),COUNT($A$7:$A159)),\"d\")+1,6)+1","v":3},"야간","야간","비번","비번","주간","주간"]
["2023-06-03",45080,{"$f":"MOD(DATEDIF(DATE(1900,1,6),DATE(YEAR($A$7),MONTH($A$7),COUNT($A$7:$A160)),\"d\")+1,6)+1","v":4},"야간","비번","비번","주간","주간","야간"]
["2023-06-04",45081,{"$f":"MOD(DATEDIF(DATE(1900,1,6),DATE(YEAR($A$7),MONTH($A$7),COUNT($A$7:$A161)),\"d\")+1,6)+1","v":5},"비번","비번","주간","주간","야간","야간"]
["2023-06-05",45082,{"$f":"MOD(DATEDIF(DATE(1900,1,6),DATE(YEAR($A$7),MONTH($A$7),COUNT($A$7:$A162)),\"d\")+1,6)+1","v":6},"비번","주간","주간","야간","야간","비번"]
["2023-06-06",45083,{"$f":"MOD(DATEDIF(DATE(1900,1,6),DATE(YEAR($A$7),MONTH($A$7),COUNT($A$7:$A163)),\"d\")+1,6)+1","v":1},"주간","주간","야간","야간","비번","비번"]
["2023-06-07",45084,{"$f":"MOD(DATEDIF(DATE(1900,1,6),DATE(YEAR($A$7),MONTH($A$7),COUNT($A$7:$A164)),\"d\")+1,6)+1","v":2},"주간","야간","야간","비번","비번","주간"]
["2023-06-08",45085,{"$f":"MOD(DATEDIF(DATE(1900,1,6),DATE(YEAR($A$7),MONTH($A$7),COUNT($A$7:$A165)),\"d\")+1,6)+1","v":3},"야간","야간","비번","비번","주간","주간"]
["2023-06-09",45086,{"$f":"MOD(DATEDIF(DATE(1900,1,6),DATE(YEAR($A$7),MONTH($A$7),COUNT($A$7:$A166)),\"d\")+1,6)+1","v":4},"야간","비번","비번","주간","주간","야간"]
["2023-06-10",45087,{"$f":"MOD(DATEDIF(DATE(1900,1,6),DATE(YEAR($A$7),MONTH($A$7),COUNT($A$7:$A167)),\"d\")+1,6)+1","v":5},"비번","비번","주간","주간","야간","야간"]
["2023-06-11",45088,{"$f":"MOD(DATEDIF(DATE(1900,1,6),DATE(YEAR($A$7),MONTH($A$7),COUNT($A$7:$A168)),\"d\")+1,6)+1","v":6},"비번","주간","주간","야간","야간","비번"]
["2023-06-12",45089,{"$f":"MOD(DATEDIF(DATE(1900,1,6),DATE(YEAR($A$7),MONTH($A$7),COUNT($A$7:$A169)),\"d\")+1,6)+1","v":1},"주간","주간","야간","야간","비번","비번"]
["2023-06-13",45090,{"$f":"MOD(DATEDIF(DATE(1900,1,6),DATE(YEAR($A$7),MONTH($A$7),COUNT($A$7:$A170)),\"d\")+1,6)+1","v":2},"주간","야간","야간","비번","비번","주간"]
["2023-06-14",45091,{"$f":"MOD(DATEDIF(DATE(1900,1,6),DATE(YEAR($A$7),MONTH($A$7),COUNT($A$7:$A171)),\"d\")+1,6)+1","v":3},"야간","야간","비번","비번","주간","주간"]
["2023-06-15",45092,{"$f":"MOD(DATEDIF(DATE(1900,1,6),DATE(YEAR($A$7),MONTH($A$7),COUNT($A$7:$A172)),\"d\")+1,6)+1","v":4},"야간","비번","비번","주간","주간","야간"]
["2023-06-16",45093,{"$f":"MOD(DATEDIF(DATE(1900,1,6),DATE(YEAR($A$7),MONTH($A$7),COUNT($A$7:$A173)),\"d\")+1,6)+1","v":5},"비번","비번","주간","주간","야간","야간"]
["2023-06-17",45094,{"$f":"MOD(DATEDIF(DATE(1900,1,6),DATE(YEAR($A$7),MONTH($A$7),COUNT($A$7:$A174)),\"d\")+1,6)+1","v":6},"비번","주간","주간","야간","야간","비번"]
["2023-06-18",45095,{"$f":"MOD(DATEDIF(DATE(1900,1,6),DATE(YEAR($A$7),MONTH($A$7),COUNT($A$7:$A175)),\"d\")+1,6)+1","v":1},"주간","주간","야간","야간","비번","비번"]
["2023-06-19",45096,{"$f":"MOD(DATEDIF(DATE(1900,1,6),DATE(YEAR($A$7),MONTH($A$7),COUNT($A$7:$A176)),\"d\")+1,6)+1","v":2},"주간","야간","야간","비번","비번","주간"]
["2023-06-20",45097,{"$f":"MOD(DATEDIF(DATE(1900,1,6),DATE(YEAR($A$7),MONTH($A$7),COUNT($A$7:$A177)),\"d\")+1,6)+1","v":3},"야간","야간","비번","비번","주간","주간"]
["2023-06-21",45098,{"$f":"MOD(DATEDIF(DATE(1900,1,6),DATE(YEAR($A$7),MONTH($A$7),COUNT($A$7:$A178)),\"d\")+1,6)+1","v":4},"야간","비번","비번","주간","주간","야간"]
["2023-06-22",45099,{"$f":"MOD(DATEDIF(DATE(1900,1,6),DATE(YEAR($A$7),MONTH($A$7),COUNT($A$7:$A179)),\"d\")+1,6)+1","v":5},"비번","비번","주간","주간","야간","야간"]
["2023-06-23",45100,{"$f":"MOD(DATEDIF(DATE(1900,1,6),DATE(YEAR($A$7),MONTH($A$7),COUNT($A$7:$A180)),\"d\")+1,6)+1","v":6},"비번","주간","주간","야간","야간","비번"]
["2023-06-24",45101,{"$f":"MOD(DATEDIF(DATE(1900,1,6),DATE(YEAR($A$7),MONTH($A$7),COUNT($A$7:$A181)),\"d\")+1,6)+1","v":1},"주간","주간","야간","야간","비번","비번"]
["2023-06-25",45102,{"$f":"MOD(DATEDIF(DATE(1900,1,6),DATE(YEAR($A$7),MONTH($A$7),COUNT($A$7:$A182)),\"d\")+1,6)+1","v":2},"주간","야간","야간","비번","비번","주간"]
["2023-06-26",45103,{"$f":"MOD(DATEDIF(DATE(1900,1,6),DATE(YEAR($A$7),MONTH($A$7),COUNT($A$7:$A183)),\"d\")+1,6)+1","v":3},"야간","야간","비번","비번","주간","주간"]
["2023-06-27",45104,{"$f":"MOD(DATEDIF(DATE(1900,1,6),DATE(YEAR($A$7),MONTH($A$7),COUNT($A$7:$A184)),\"d\")+1,6)+1","v":4},"야간","비번","비번","주간","주간","야간"]
["2023-06-28",45105,{"$f":"MOD(DATEDIF(DATE(1900,1,6),DATE(YEAR($A$7),MONTH($A$7),COUNT($A$7:$A185)),\"d\")+1,6)+1","v":5},"비번","비번","주간","주간","야간","야간"]
["2023-06-29",45106,{"$f":"MOD(DATEDIF(DATE(1900,1,6),DATE(YEAR($A$7),MONTH($A$7),COUNT($A$7:$A186)),\"d\")+1,6)+1","v":6},"비번","주간","주간","야간","야간","비번"]
["2023-06-30",45107,{"$f":"MOD(DATEDIF(DATE(1900,1,6),DATE(YEAR($A$7),MONTH($A$7),COUNT($A$7:$A187)),\"d\")+1,6)+1","v":1},"주간","주간","야간","야간","비번","비번"]
["2023-07-01",45108,{"$f":"MOD(DATEDIF(DATE(1900,1,6),DATE(YEAR($A$7),MONTH($A$7),COUNT($A$7:$A188)),\"d\")+1,6)+1","v":2},"주간","야간","야간","비번","비번","주간"]
["2023-07-02",45109,{"$f":"MOD(DATEDIF(DATE(1900,1,6),DATE(YEAR($A$7),MONTH($A$7),COUNT($A$7:$A189)),\"d\")+1,6)+1","v":3},"야간","야간","비번","비번","주간","주간"]
["2023-07-03",45110,{"$f":"MOD(DATEDIF(DATE(1900,1,6),DATE(YEAR($A$7),MONTH($A$7),COUNT($A$7:$A190)),\"d\")+1,6)+1","v":4},"야간","비번","비번","주간","주간","야간"]
["2023-07-04",45111,{"$f":"MOD(DATEDIF(DATE(1900,1,6),DATE(YEAR($A$7),MONTH($A$7),COUNT($A$7:$A191)),\"d\")+1,6)+1","v":5},"비번","비번","주간","주간","야간","야간"]
["2023-07-05",45112,{"$f":"MOD(DATEDIF(DATE(1900,1,6),DATE(YEAR($A$7),MONTH($A$7),COUNT($A$7:$A192)),\"d\")+1,6)+1","v":6},"비번","주간","주간","야간","야간","비번"]
["2023-07-06",45113,{"$f":"MOD(DATEDIF(DATE(1900,1,6),DATE(YEAR($A$7),MONTH($A$7),COUNT($A$7:$A193)),\"d\")+1,6)+1","v":1},"주간","주간","야간","야간","비번","비번"]
["2023-07-07",45114,{"$f":"MOD(DATEDIF(DATE(1900,1,6),DATE(YEAR($A$7),MONTH($A$7),COUNT($A$7:$A194)),\"d\")+1,6)+1","v":2},"주간","야간","야간","비번","비번","주간"]
["2023-07-08",45115,{"$f":"MOD(DATEDIF(DATE(1900,1,6),DATE(YEAR($A$7),MONTH($A$7),COUNT($A$7:$A195)),\"d\")+1,6)+1","v":3},"야간","야간","비번","비번","주간","주간"]
["2023-07-09",45116,{"$f":"MOD(DATEDIF(DATE(1900,1,6),DATE(YEAR($A$7),MONTH($A$7),COUNT($A$7:$A196)),\"d\")+1,6)+1","v":4},"야간","비번","비번","주간","주간","야간"]
["2023-07-10",45117,{"$f":"MOD(DATEDIF(DATE(1900,1,6),DATE(YEAR($A$7),MONTH($A$7),COUNT($A$7:$A197)),\"d\")+1,6)+1","v":5},"비번","비번","주간","주간","야간","야간"]
["2023-07-11",45118,{"$f":"MOD(DATEDIF(DATE(1900,1,6),DATE(YEAR($A$7),MONTH($A$7),COUNT($A$7:$A198)),\"d\")+1,6)+1","v":6},"비번","주간","주간","야간","야간","비번"]
["2023-07-12",45119,{"$f":"MOD(DATEDIF(DATE(1900,1,6),DATE(YEAR($A$7),MONTH($A$7),COUNT($A$7:$A199)),\"d\")+1,6)+1","v":1},"주간","주간","야간","야간","비번","비번"]
["2023-07-13",{"$f":"A200","v":45120},{"$f":"MOD(DATEDIF(DATE(1900,1,6),DATE(YEAR($A$7),MONTH($A$7),COUNT($A$7:$A200)),\"d\")+1,6)+1","v":2},{"$f":"CHOOSE(C200,$M$7,$M$8,$M$9,$M$10,$M$11,$M$12)","v":"주간"},{"$f":"CHOOSE(C200,$M$8,$M$9,$M$10,$M$11,$M$12,$M$7)","v":"야간"},{"$f":"CHOOSE(C200,$M$9,$M$10,$M$11,$M$12,$M$7,$M$8)","v":"야간"},{"$f":"CHOOSE(C200,$M$10,$M$11,$M$12,$M$7,$M$8,$M$9)","v":"비번"},{"$f":"CHOOSE(C200,$M$11,$M$12,$M$7,$M$8,$M$9,$M$10)","v":"비번"},{"$f":"CHOOSE(C200,$M$12,$M$7,$M$8,$M$9,$M$10,$M$11)","v":"주간"}]
[{"$f":"A200+1","v":"2023-07-14"},45121,{"$f":"MOD(DATEDIF(DATE(1900,1,6),DATE(YEAR($A$7),MONTH($A$7),COUNT($A$7:$A201)),\"d\")+1,6)+1","v":3},"야간","야간","비번","비번","주간","주간"]
["2023-07-15",45122,{"$f":"MOD(DATEDIF(DATE(1900,1,6),DATE(YEAR($A$7),MONTH($A$7),COUNT($A$7:$A202)),\"d\")+1,6)+1","v":4},"야간","비번","비번","주간","주간","야간"]
["2023-07-16",45123,{"$f":"MOD(DATEDIF(DATE(1900,1,6),DATE(YEAR($A$7),MONTH($A$7),COUNT($A$7:$A203)),\"d\")+1,6)+1","v":5},"비번","비번","주간","주간","야간","야간"]
["2023-07-17",45124,{"$f":"MOD(DATEDIF(DATE(1900,1,6),DATE(YEAR($A$7),MONTH($A$7),COUNT($A$7:$A204)),\"d\")+1,6)+1","v":6},"비번","주간","주간","야간","야간","비번"]
["2023-07-18",45125,{"$f":"MOD(DATEDIF(DATE(1900,1,6),DATE(YEAR($A$7),MONTH($A$7),COUNT($A$7:$A205)),\"d\")+1,6)+1","v":1},"주간","주간","야간","야간","비번","비번"]
["2023-07-19",45126,{"$f":"MOD(DATEDIF(DATE(1900,1,6),DATE(YEAR($A$7),MONTH($A$7),COUNT($A$7:$A206)),\"d\")+1,6)+1","v":2},"주간","야간","야간","비번","비번","주간"]
["2023-07-20",45127,{"$f":"MOD(DATEDIF(DATE(1900,1,6),DATE(YEAR($A$7),MONTH($A$7),COUNT($A$7:$A207)),\"d\")+1,6)+1","v":3},"야간","야간","비번","비번","주간","주간"]
["2023-07-21",45128,{"$f":"MOD(DATEDIF(DATE(1900,1,6),DATE(YEAR($A$7),MONTH($A$7),COUNT($A$7:$A208)),\"d\")+1,6)+1","v":4},"야간","비번","비번","주간","주간","야간"]
["2023-07-22",45129,{"$f":"MOD(DATEDIF(DATE(1900,1,6),DATE(YEAR($A$7),MONTH($A$7),COUNT($A$7:$A209)),\"d\")+1,6)+1","v":5},"비번","비번","주간","주간","야간","야간"]
["2023-07-23",45130,{"$f":"MOD(DATEDIF(DATE(1900,1,6),DATE(YEAR($A$7),MONTH($A$7),COUNT($A$7:$A210)),\"d\")+1,6)+1","v":6},"비번","주간","주간","야간","야간","비번"]
["2023-07-24",45131,{"$f":"MOD(DATEDIF(DATE(1900,1,6),DATE(YEAR($A$7),MONTH($A$7),COUNT($A$7:$A211)),\"d\")+1,6)+1","v":1},"주간","주간","야간","야간","비번","비번"]
["2023-07-25",45132,{"$f":"MOD(DATEDIF(DATE(1900,1,6),DATE(YEAR($A$7),MONTH($A$7),COUNT($A$7:$A212)),\"d\")+1,6)+1","v":2},"주간","야간","야간","비번","비번","주간"]
["2023-07-26",45133,{"$f":"MOD(DATEDIF(DATE(1900,1,6),DATE(YEAR($A$7),MONTH($A$7),COUNT($A$7:$A213)),\"d\")+1,6)+1","v":3},"야간","야간","비번","비번","주간","주간"]
["2023-07-27",45134,{"$f":"MOD(DATEDIF(DATE(1900,1,6),DATE(YEAR($A$7),MONTH($A$7),COUNT($A$7:$A214)),\"d\")+1,6)+1","v":4},"야간","비번","비번","주간","주간","야간"]
["2023-07-28",45135,{"$f":"MOD(DATEDIF(DATE(1900,1,6),DATE(YEAR($A$7),MONTH($A$7),COUNT($A$7:$A215)),\"d\")+1,6)+1","v":5},"비번","비번","주간","주간","야간","야간"]
["2023-07-29",45136,{"$f":"MOD(DATEDIF(DATE(1900,1,6),DATE(YEAR($A$7),MONTH($A$7),COUNT($A$7:$A216)),\"d\")+1,6)+1","v":6},"비번","주간","주간","야간","야간","비번"]
["2023-07-30",45137,{"$f":"MOD(DATEDIF(DATE(1900,1,6),DATE(YEAR($A$7),MONTH($A$7),COUNT($A$7:$A217)),\"d\")+1,6)+1","v":1},"주간","주간","야간","야간","비번","비번"]
["2023-07-31",45138,{"$f":"MOD(DATEDIF(DATE(1900,1,6),DATE(YEAR($A$7),MONTH($A$7),COUNT($A$7:$A218)),\"d\")+1,6)+1","v":2},"주간","야간","야간","비번","비번","주간"]
["2023-08-01",45139,{"$f":"MOD(DATEDIF(DATE(1900,1,6),DATE(YEAR($A$7),MONTH($A$7),COUNT($A$7:$A219)),\"d\")+1,6)+1","v":3},"야간","야간","비번","비번","주간","주간"]
["2023-08-02",45140,{"$f":"MOD(DATEDIF(DATE(1900,1,6),DATE(YEAR($A$7),MONTH($A$7),COUNT($A$7:$A220)),\"d\")+1,6)+1","v":4},"야간","비번","비번","주간","주간","야간"]
["2023-08-03",45141,{"$f":"MOD(DATEDIF(DATE(1900,1,6),DATE(YEAR($A$7),MONTH($A$7),COUNT($A$7:$A221)),\"d\")+1,6)+1","v":5},"비번","비번","주간","주간","야간","야간"]
["2023-08-04",45142,{"$f":"MOD(DATEDIF(DATE(1900,1,6),DATE(YEAR($A$7),MONTH($A$7),COUNT($A$7:$A222)),\"d\")+1,6)+1","v":6},"비번","주간","주간","야간","야간","비번"]
["2023-08-05",45143,{"$f":"MOD(DATEDIF(DATE(1900,1,6),DATE(YEAR($A$7),MONTH($A$7),COUNT($A$7:$A223)),\"d\")+1,6)+1","v":1},"주간","주간","야간","야간","비번","비번"]
["2023-08-06",45144,{"$f":"MOD(DATEDIF(DATE(1900,1,6),DATE(YEAR($A$7),MONTH($A$7),COUNT($A$7:$A224)),\"d\")+1,6)+1","v":2},"주간","야간","야간","비번","비번","주간"]
["2023-08-07",45145,{"$f":"MOD(DATEDIF(DATE(1900,1,6),DATE(YEAR($A$7),MONTH($A$7),COUNT($A$7:$A225)),\"d\")+1,6)+1","v":3},"야간","야간","비번","비번","주간","주간"]
["2023-08-08",45146,{"$f":"MOD(DATEDIF(DATE(1900,1,6),DATE(YEAR($A$7),MONTH($A$7),COUNT($A$7:$A226)),\"d\")+1,6)+1","v":4},"야간","비번","비번","주간","주간","야간"]
["2023-08-09",45147,{"$f":"MOD(DATEDIF(DATE(1900,1,6),DATE(YEAR($A$7),MONTH($A$7),COUNT($A$7:$A227)),\"d\")+1,6)+1","v":5},"비번","비번","주간","주간","야간","야간"]
["2023-08-10",45148,{"$f":"MOD(DATEDIF(DATE(1900,1,6),DATE(YEAR($A$7),MONTH($A$7),COUNT($A$7:$A228)),\"d\")+1,6)+1","v":6},"비번","주간","주간","야간","야간","비번"]
["2023-08-11",45149,{"$f":"MOD(DATEDIF(DATE(1900,1,6),DATE(YEAR($A$7),MONTH($A$7),COUNT($A$7:$A229)),\"d\")+1,6)+1","v":1},"주간","주간","야간","야간","비번","비번"]
["2023-08-12",45150,{"$f":"MOD(DATEDIF(DATE(1900,1,6),DATE(YEAR($A$7),MONTH($A$7),COUNT($A$7:$A230)),\"d\")+1,6)+1","v":2},"주간","야간","야간","비번","비번","주간"]
["2023-08-13",45151,{"$f":"MOD(DATEDIF(DATE(1900,1,6),DATE(YEAR($A$7),MONTH($A$7),COUNT($A$7:$A231)),\"d\")+1,6)+1","v":3},"야간","야간","비번","비번","주간","주간"]
["2023-08-14",45152,{"$f":"MOD(DATEDIF(DATE(1900,1,6),DATE(YEAR($A$7),MONTH($A$7),COUNT($A$7:$A232)),\"d\")+1,6)+1","v":4},"야간","비번","비번","주간","주간","야간"]
["2023-08-15",45153,{"$f":"MOD(DATEDIF(DATE(1900,1,6),DATE(YEAR($A$7),MONTH($A$7),COUNT($A$7:$A233)),\"d\")+1,6)+1","v":5},"비번","비번","주간","주간","야간","야간"]
["2023-08-16",45154,{"$f":"MOD(DATEDIF(DATE(1900,1,6),DATE(YEAR($A$7),MONTH($A$7),COUNT($A$7:$A234)),\"d\")+1,6)+1","v":6},"비번","주간","주간","야간","야간","비번"]
["2023-08-17",45155,{"$f":"MOD(DATEDIF(DATE(1900,1,6),DATE(YEAR($A$7),MONTH($A$7),COUNT($A$7:$A235)),\"d\")+1,6)+1","v":1},"주간","주간","야간","야간","비번","비번"]
["2023-08-18",45156,{"$f":"MOD(DATEDIF(DATE(1900,1,6),DATE(YEAR($A$7),MONTH($A$7),COUNT($A$7:$A236)),\"d\")+1,6)+1","v":2},"주간","야간","야간","비번","비번","주간"]
["2023-08-19",45157,{"$f":"MOD(DATEDIF(DATE(1900,1,6),DATE(YEAR($A$7),MONTH($A$7),COUNT($A$7:$A237)),\"d\")+1,6)+1","v":3},"야간","야간","비번","비번","주간","주간"]
["2023-08-20",45158,{"$f":"MOD(DATEDIF(DATE(1900,1,6),DATE(YEAR($A$7),MONTH($A$7),COUNT($A$7:$A238)),\"d\")+1,6)+1","v":4},"야간","비번","비번","주간","주간","야간"]
["2023-08-21",45159,{"$f":"MOD(DATEDIF(DATE(1900,1,6),DATE(YEAR($A$7),MONTH($A$7),COUNT($A$7:$A239)),\"d\")+1,6)+1","v":5},"비번","비번","주간","주간","야간","야간"]
["2023-08-22",45160,{"$f":"MOD(DATEDIF(DATE(1900,1,6),DATE(YEAR($A$7),MONTH($A$7),COUNT($A$7:$A240)),\"d\")+1,6)+1","v":6},"비번","주간","주간","야간","야간","비번"]
["2023-08-23",45161,{"$f":"MOD(DATEDIF(DATE(1900,1,6),DATE(YEAR($A$7),MONTH($A$7),COUNT($A$7:$A241)),\"d\")+1,6)+1","v":1},"주간","주간","야간","야간","비번","비번"]
["2023-08-24",45162,{"$f":"MOD(DATEDIF(DATE(1900,1,6),DATE(YEAR($A$7),MONTH($A$7),COUNT($A$7:$A242)),\"d\")+1,6)+1","v":2},"주간","야간","야간","비번","비번","주간"]
["2023-08-25",45163,{"$f":"MOD(DATEDIF(DATE(1900,1,6),DATE(YEAR($A$7),MONTH($A$7),COUNT($A$7:$A243)),\"d\")+1,6)+1","v":3},"야간","야간","비번","비번","주간","주간"]
["2023-08-26",45164,{"$f":"MOD(DATEDIF(DATE(1900,1,6),DATE(YEAR($A$7),MONTH($A$7),COUNT($A$7:$A244)),\"d\")+1,6)+1","v":4},"야간","비번","비번","주간","주간","야간"]
["2023-08-27",45165,{"$f":"MOD(DATEDIF(DATE(1900,1,6),DATE(YEAR($A$7),MONTH($A$7),COUNT($A$7:$A245)),\"d\")+1,6)+1","v":5},"비번","비번","주간","주간","야간","야간"]
["2023-08-28",45166,{"$f":"MOD(DATEDIF(DATE(1900,1,6),DATE(YEAR($A$7),MONTH($A$7),COUNT($A$7:$A246)),\"d\")+1,6)+1","v":6},"비번","주간","주간","야간","야간","비번"]
["2023-08-29",45167,{"$f":"MOD(DATEDIF(DATE(1900,1,6),DATE(YEAR($A$7),MONTH($A$7),COUNT($A$7:$A247)),\"d\")+1,6)+1","v":1},"주간","주간","야간","야간","비번","비번"]
["2023-08-30",45168,{"$f":"MOD(DATEDIF(DATE(1900,1,6),DATE(YEAR($A$7),MONTH($A$7),COUNT($A$7:$A248)),\"d\")+1,6)+1","v":2},"주간","야간","야간","비번","비번","주간"]
["2023-08-31",45169,{"$f":"MOD(DATEDIF(DATE(1900,1,6),DATE(YEAR($A$7),MONTH($A$7),COUNT($A$7:$A249)),\"d\")+1,6)+1","v":3},"야간","야간","비번","비번","주간","주간"]
["2023-09-01",45170,{"$f":"MOD(DATEDIF(DATE(1900,1,6),DATE(YEAR($A$7),MONTH($A$7),COUNT($A$7:$A250)),\"d\")+1,6)+1","v":4},"야간","비번","비번","주간","주간","야간"]
["2023-09-02",45171,{"$f":"MOD(DATEDIF(DATE(1900,1,6),DATE(YEAR($A$7),MONTH($A$7),COUNT($A$7:$A251)),\"d\")+1,6)+1","v":5},"비번","비번","주간","주간","야간","야간"]
["2023-09-03",45172,{"$f":"MOD(DATEDIF(DATE(1900,1,6),DATE(YEAR($A$7),MONTH($A$7),COUNT($A$7:$A252)),\"d\")+1,6)+1","v":6},"비번","주간","주간","야간","야간","비번"]
["2023-09-04",45173,{"$f":"MOD(DATEDIF(DATE(1900,1,6),DATE(YEAR($A$7),MONTH($A$7),COUNT($A$7:$A253)),\"d\")+1,6)+1","v":1},"주간","주간","야간","야간","비번","비번"]
["2023-09-05",45174,{"$f":"MOD(DATEDIF(DATE(1900,1,6),DATE(YEAR($A$7),MONTH($A$7),COUNT($A$7:$A254)),\"d\")+1,6)+1","v":2},"주간","야간","야간","비번","비번","주간"]
["2023-09-06",45175,{"$f":"MOD(DATEDIF(DATE(1900,1,6),DATE(YEAR($A$7),MONTH($A$7),COUNT($A$7:$A255)),\"d\")+1,6)+1","v":3},"야간","야간","비번","비번","주간","주간"]
["2023-09-07",45176,{"$f":"MOD(DATEDIF(DATE(1900,1,6),DATE(YEAR($A$7),MONTH($A$7),COUNT($A$7:$A256)),\"d\")+1,6)+1","v":4},"야간","비번","비번","주간","주간","야간"]
["2023-09-08",45177,{"$f":"MOD(DATEDIF(DATE(1900,1,6),DATE(YEAR($A$7),MONTH($A$7),COUNT($A$7:$A257)),\"d\")+1,6)+1","v":5},"비번","비번","주간","주간","야간","야간"]
["2023-09-09",45178,{"$f":"MOD(DATEDIF(DATE(1900,1,6),DATE(YEAR($A$7),MONTH($A$7),COUNT($A$7:$A258)),\"d\")+1,6)+1","v":6},"비번","주간","주간","야간","야간","비번"]
["2023-09-10",45179,{"$f":"MOD(DATEDIF(DATE(1900,1,6),DATE(YEAR($A$7),MONTH($A$7),COUNT($A$7:$A259)),\"d\")+1,6)+1","v":1},"주간","주간","야간","야간","비번","비번"]
["2023-09-11",45180,{"$f":"MOD(DATEDIF(DATE(1900,1,6),DATE(YEAR($A$7),MONTH($A$7),COUNT($A$7:$A260)),\"d\")+1,6)+1","v":2},"주간","야간","야간","비번","비번","주간"]
["2023-09-12",45181,{"$f":"MOD(DATEDIF(DATE(1900,1,6),DATE(YEAR($A$7),MONTH($A$7),COUNT($A$7:$A261)),\"d\")+1,6)+1","v":3},"야간","야간","비번","비번","주간","주간"]
["2023-09-13",45182,{"$f":"MOD(DATEDIF(DATE(1900,1,6),DATE(YEAR($A$7),MONTH($A$7),COUNT($A$7:$A262)),\"d\")+1,6)+1","v":4},"야간","비번","비번","주간","주간","야간"]
["2023-09-14",45183,{"$f":"MOD(DATEDIF(DATE(1900,1,6),DATE(YEAR($A$7),MONTH($A$7),COUNT($A$7:$A263)),\"d\")+1,6)+1","v":5},"비번","비번","주간","주간","야간","야간"]
["2023-09-15",{"$f":"A264","v":45184},{"$f":"MOD(DATEDIF(DATE(1900,1,6),DATE(YEAR($A$7),MONTH($A$7),COUNT($A$7:$A264)),\"d\")+1,6)+1","v":6},{"$f":"CHOOSE(C264,$M$7,$M$8,$M$9,$M$10,$M$11,$M$12)","v":"비번"},{"$f":"CHOOSE(C264,$M$8,$M$9,$M$10,$M$11,$M$12,$M$7)","v":"주간"},{"$f":"CHOOSE(C264,$M$9,$M$10,$M$11,$M$12,$M$7,$M$8)","v":"주간"},{"$f":"CHOOSE(C264,$M$10,$M$11,$M$12,$M$7,$M$8,$M$9)","v":"야간"},{"$f":"CHOOSE(C264,$M$11,$M$12,$M$7,$M$8,$M$9,$M$10)","v":"야간"},{"$f":"CHOOSE(C264,$M$12,$M$7,$M$8,$M$9,$M$10,$M$11)","v":"비번"}]
[{"$f":"A264+1","v":"2023-09-16"},45185,{"$f":"MOD(DATEDIF(DATE(1900,1,6),DATE(YEAR($A$7),MONTH($A$7),COUNT($A$7:$A265)),\"d\")+1,6)+1","v":1},"주간","주간","야간","야간","비번","비번"]
["2023-09-17",45186,{"$f":"MOD(DATEDIF(DATE(1900,1,6),DATE(YEAR($A$7),MONTH($A$7),COUNT($A$7:$A266)),\"d\")+1,6)+1","v":2},"주간","야간","야간","비번","비번","주간"]
["2023-09-18",45187,{"$f":"MOD(DATEDIF(DATE(1900,1,6),DATE(YEAR($A$7),MONTH($A$7),COUNT($A$7:$A267)),\"d\")+1,6)+1","v":3},"야간","야간","비번","비번","주간","주간"]
["2023-09-19",45188,{"$f":"MOD(DATEDIF(DATE(1900,1,6),DATE(YEAR($A$7),MONTH($A$7),COUNT($A$7:$A268)),\"d\")+1,6)+1","v":4},"야간","비번","비번","주간","주간","야간"]
["2023-09-20",45189,{"$f":"MOD(DATEDIF(DATE(1900,1,6),DATE(YEAR($A$7),MONTH($A$7),COUNT($A$7:$A269)),\"d\")+1,6)+1","v":5},"비번","비번","주간","주간","야간","야간"]
["2023-09-21",45190,{"$f":"MOD(DATEDIF(DATE(1900,1,6),DATE(YEAR($A$7),MONTH($A$7),COUNT($A$7:$A270)),\"d\")+1,6)+1","v":6},"비번","주간","주간","야간","야간","비번"]
["2023-09-22",45191,{"$f":"MOD(DATEDIF(DATE(1900,1,6),DATE(YEAR($A$7),MONTH($A$7),COUNT($A$7:$A271)),\"d\")+1,6)+1","v":1},"주간","주간","야간","야간","비번","비번"]
["2023-09-23",45192,{"$f":"MOD(DATEDIF(DATE(1900,1,6),DATE(YEAR($A$7),MONTH($A$7),COUNT($A$7:$A272)),\"d\")+1,6)+1","v":2},"주간","야간","야간","비번","비번","주간"]
["2023-09-24",45193,{"$f":"MOD(DATEDIF(DATE(1900,1,6),DATE(YEAR($A$7),MONTH($A$7),COUNT($A$7:$A273)),\"d\")+1,6)+1","v":3},"야간","야간","비번","비번","주간","주간"]
["2023-09-25",45194,{"$f":"MOD(DATEDIF(DATE(1900,1,6),DATE(YEAR($A$7),MONTH($A$7),COUNT($A$7:$A274)),\"d\")+1,6)+1","v":4},"야간","비번","비번","주간","주간","야간"]
["2023-09-26",45195,{"$f":"MOD(DATEDIF(DATE(1900,1,6),DATE(YEAR($A$7),MONTH($A$7),COUNT($A$7:$A275)),\"d\")+1,6)+1","v":5},"비번","비번","주간","주간","야간","야간"]
["2023-09-27",45196,{"$f":"MOD(DATEDIF(DATE(1900,1,6),DATE(YEAR($A$7),MONTH($A$7),COUNT($A$7:$A276)),\"d\")+1,6)+1","v":6},"비번","주간","주간","야간","야간","비번"]
["2023-09-28",45197,{"$f":"MOD(DATEDIF(DATE(1900,1,6),DATE(YEAR($A$7),MONTH($A$7),COUNT($A$7:$A277)),\"d\")+1,6)+1","v":1},"주간","주간","야간","야간","비번","비번"]
["2023-09-29",45198,{"$f":"MOD(DATEDIF(DATE(1900,1,6),DATE(YEAR($A$7),MONTH($A$7),COUNT($A$7:$A278)),\"d\")+1,6)+1","v":2},"주간","야간","야간","비번","비번","주간"]
["2023-09-30",45199,{"$f":"MOD(DATEDIF(DATE(1900,1,6),DATE(YEAR($A$7),MONTH($A$7),COUNT($A$7:$A279)),\"d\")+1,6)+1","v":3},"야간","야간","비번","비번","주간","주간"]
["2023-10-01",45200,{"$f":"MOD(DATEDIF(DATE(1900,1,6),DATE(YEAR($A$7),MONTH($A$7),COUNT($A$7:$A280)),\"d\")+1,6)+1","v":4},"야간","비번","비번","주간","주간","야간"]
["2023-10-02",45201,{"$f":"MOD(DATEDIF(DATE(1900,1,6),DATE(YEAR($A$7),MONTH($A$7),COUNT($A$7:$A281)),\"d\")+1,6)+1","v":5},"비번","비번","주간","주간","야간","야간"]
["2023-10-03",45202,{"$f":"MOD(DATEDIF(DATE(1900,1,6),DATE(YEAR($A$7),MONTH($A$7),COUNT($A$7:$A282)),\"d\")+1,6)+1","v":6},"비번","주간","주간","야간","야간","비번"]
["2023-10-04",45203,{"$f":"MOD(DATEDIF(DATE(1900,1,6),DATE(YEAR($A$7),MONTH($A$7),COUNT($A$7:$A283)),\"d\")+1,6)+1","v":1},"주간","주간","야간","야간","비번","비번"]
["2023-10-05",45204,{"$f":"MOD(DATEDIF(DATE(1900,1,6),DATE(YEAR($A$7),MONTH($A$7),COUNT($A$7:$A284)),\"d\")+1,6)+1","v":2},"주간","야간","야간","비번","비번","주간"]
["2023-10-06",45205,{"$f":"MOD(DATEDIF(DATE(1900,1,6),DATE(YEAR($A$7),MONTH($A$7),COUNT($A$7:$A285)),\"d\")+1,6)+1","v":3},"야간","야간","비번","비번","주간","주간"]
["2023-10-07",45206,{"$f":"MOD(DATEDIF(DATE(1900,1,6),DATE(YEAR($A$7),MONTH($A$7),COUNT($A$7:$A286)),\"d\")+1,6)+1","v":4},"야간","비번","비번","주간","주간","야간"]
["2023-10-08",45207,{"$f":"MOD(DATEDIF(DATE(1900,1,6),DATE(YEAR($A$7),MONTH($A$7),COUNT($A$7:$A287)),\"d\")+1,6)+1","v":5},"비번","비번","주간","주간","야간","야간"]
["2023-10-09",45208,{"$f":"MOD(DATEDIF(DATE(1900,1,6),DATE(YEAR($A$7),MONTH($A$7),COUNT($A$7:$A288)),\"d\")+1,6)+1","v":6},"비번","주간","주간","야간","야간","비번"]
["2023-10-10",45209,{"$f":"MOD(DATEDIF(DATE(1900,1,6),DATE(YEAR($A$7),MONTH($A$7),COUNT($A$7:$A289)),\"d\")+1,6)+1","v":1},"주간","주간","야간","야간","비번","비번"]
["2023-10-11",45210,{"$f":"MOD(DATEDIF(DATE(1900,1,6),DATE(YEAR($A$7),MONTH($A$7),COUNT($A$7:$A290)),\"d\")+1,6)+1","v":2},"주간","야간","야간","비번","비번","주간"]
["2023-10-12",45211,{"$f":"MOD(DATEDIF(DATE(1900,1,6),DATE(YEAR($A$7),MONTH($A$7),COUNT($A$7:$A291)),\"d\")+1,6)+1","v":3},"야간","야간","비번","비번","주간","주간"]
["2023-10-13",45212,{"$f":"MOD(DATEDIF(DATE(1900,1,6),DATE(YEAR($A$7),MONTH($A$7),COUNT($A$7:$A292)),\"d\")+1,6)+1","v":4},"야간","비번","비번","주간","주간","야간"]
["2023-10-14",45213,{"$f":"MOD(DATEDIF(DATE(1900,1,6),DATE(YEAR($A$7),MONTH($A$7),COUNT($A$7:$A293)),\"d\")+1,6)+1","v":5},"비번","비번","주간","주간","야간","야간"]
["2023-10-15",45214,{"$f":"MOD(DATEDIF(DATE(1900,1,6),DATE(YEAR($A$7),MONTH($A$7),COUNT($A$7:$A294)),\"d\")+1,6)+1","v":6},"비번","주간","주간","야간","야간","비번"]
["2023-10-16",45215,{"$f":"MOD(DATEDIF(DATE(1900,1,6),DATE(YEAR($A$7),MONTH($A$7),COUNT($A$7:$A295)),\"d\")+1,6)+1","v":1},"주간","주간","야간","야간","비번","비번"]
["2023-10-17",45216,{"$f":"MOD(DATEDIF(DATE(1900,1,6),DATE(YEAR($A$7),MONTH($A$7),COUNT($A$7:$A296)),\"d\")+1,6)+1","v":2},"주간","야간","야간","비번","비번","주간"]
["2023-10-18",45217,{"$f":"MOD(DATEDIF(DATE(1900,1,6),DATE(YEAR($A$7),MONTH($A$7),COUNT($A$7:$A297)),\"d\")+1,6)+1","v":3},"야간","야간","비번","비번","주간","주간"]
["2023-10-19",45218,{"$f":"MOD(DATEDIF(DATE(1900,1,6),DATE(YEAR($A$7),MONTH($A$7),COUNT($A$7:$A298)),\"d\")+1,6)+1","v":4},"야간","비번","비번","주간","주간","야간"]
["2023-10-20",45219,{"$f":"MOD(DATEDIF(DATE(1900,1,6),DATE(YEAR($A$7),MONTH($A$7),COUNT($A$7:$A299)),\"d\")+1,6)+1","v":5},"비번","비번","주간","주간","야간","야간"]
["2023-10-21",45220,{"$f":"MOD(DATEDIF(DATE(1900,1,6),DATE(YEAR($A$7),MONTH($A$7),COUNT($A$7:$A300)),\"d\")+1,6)+1","v":6},"비번","주간","주간","야간","야간","비번"]
["2023-10-22",45221,{"$f":"MOD(DATEDIF(DATE(1900,1,6),DATE(YEAR($A$7),MONTH($A$7),COUNT($A$7:$A301)),\"d\")+1,6)+1","v":1},"주간","주간","야간","야간","비번","비번"]
["2023-10-23",45222,{"$f":"MOD(DATEDIF(DATE(1900,1,6),DATE(YEAR($A$7),MONTH($A$7),COUNT($A$7:$A302)),\"d\")+1,6)+1","v":2},"주간","야간","야간","비번","비번","주간"]
["2023-10-24",45223,{"$f":"MOD(DATEDIF(DATE(1900,1,6),DATE(YEAR($A$7),MONTH($A$7),COUNT($A$7:$A303)),\"d\")+1,6)+1","v":3},"야간","야간","비번","비번","주간","주간"]
["2023-10-25",45224,{"$f":"MOD(DATEDIF(DATE(1900,1,6),DATE(YEAR($A$7),MONTH($A$7),COUNT($A$7:$A304)),\"d\")+1,6)+1","v":4},"야간","비번","비번","주간","주간","야간"]
["2023-10-26",45225,{"$f":"MOD(DATEDIF(DATE(1900,1,6),DATE(YEAR($A$7),MONTH($A$7),COUNT($A$7:$A305)),\"d\")+1,6)+1","v":5},"비번","비번","주간","주간","야간","야간"]
["2023-10-27",45226,{"$f":"MOD(DATEDIF(DATE(1900,1,6),DATE(YEAR($A$7),MONTH($A$7),COUNT($A$7:$A306)),\"d\")+1,6)+1","v":6},"비번","주간","주간","야간","야간","비번"]
["2023-10-28",45227,{"$f":"MOD(DATEDIF(DATE(1900,1,6),DATE(YEAR($A$7),MONTH($A$7),COUNT($A$7:$A307)),\"d\")+1,6)+1","v":1},"주간","주간","야간","야간","비번","비번"]
["2023-10-29",45228,{"$f":"MOD(DATEDIF(DATE(1900,1,6),DATE(YEAR($A$7),MONTH($A$7),COUNT($A$7:$A308)),\"d\")+1,6)+1","v":2},"주간","야간","야간","비번","비번","주간"]
["2023-10-30",45229,{"$f":"MOD(DATEDIF(DATE(1900,1,6),DATE(YEAR($A$7),MONTH($A$7),COUNT($A$7:$A309)),\"d\")+1,6)+1","v":3},"야간","야간","비번","비번","주간","주간"]
["2023-10-31",45230,{"$f":"MOD(DATEDIF(DATE(1900,1,6),DATE(YEAR($A$7),MONTH($A$7),COUNT($A$7:$A310)),\"d\")+1,6)+1","v":4},"야간","비번","비번","주간","주간","야간"]
["2023-11-01",45231,{"$f":"MOD(DATEDIF(DATE(1900,1,6),DATE(YEAR($A$7),MONTH($A$7),COUNT($A$7:$A311)),\"d\")+1,6)+1","v":5},"비번","비번","주간","주간","야간","야간"]
["2023-11-02",45232,{"$f":"MOD(DATEDIF(DATE(1900,1,6),DATE(YEAR($A$7),MONTH($A$7),COUNT($A$7:$A312)),\"d\")+1,6)+1","v":6},"비번","주간","주간","야간","야간","비번"]
["2023-11-03",45233,{"$f":"MOD(DATEDIF(DATE(1900,1,6),DATE(YEAR($A$7),MONTH($A$7),COUNT($A$7:$A313)),\"d\")+1,6)+1","v":1},"주간","주간","야간","야간","비번","비번"]
["2023-11-04",45234,{"$f":"MOD(DATEDIF(DATE(1900,1,6),DATE(YEAR($A$7),MONTH($A$7),COUNT($A$7:$A314)),\"d\")+1,6)+1","v":2},"주간","야간","야간","비번","비번","주간"]
["2023-11-05",45235,{"$f":"MOD(DATEDIF(DATE(1900,1,6),DATE(YEAR($A$7),MONTH($A$7),COUNT($A$7:$A315)),\"d\")+1,6)+1","v":3},"야간","야간","비번","비번","주간","주간"]
["2023-11-06",45236,{"$f":"MOD(DATEDIF(DATE(1900,1,6),DATE(YEAR($A$7),MONTH($A$7),COUNT($A$7:$A316)),\"d\")+1,6)+1","v":4},"야간","비번","비번","주간","주간","야간"]
["2023-11-07",45237,{"$f":"MOD(DATEDIF(DATE(1900,1,6),DATE(YEAR($A$7),MONTH($A$7),COUNT($A$7:$A317)),\"d\")+1,6)+1","v":5},"비번","비번","주간","주간","야간","야간"]
["2023-11-08",45238,{"$f":"MOD(DATEDIF(DATE(1900,1,6),DATE(YEAR($A$7),MONTH($A$7),COUNT($A$7:$A318)),\"d\")+1,6)+1","v":6},"비번","주간","주간","야간","야간","비번"]
["2023-11-09",45239,{"$f":"MOD(DATEDIF(DATE(1900,1,6),DATE(YEAR($A$7),MONTH($A$7),COUNT($A$7:$A319)),\"d\")+1,6)+1","v":1},"주간","주간","야간","야간","비번","비번"]
["2023-11-10",45240,{"$f":"MOD(DATEDIF(DATE(1900,1,6),DATE(YEAR($A$7),MONTH($A$7),COUNT($A$7:$A320)),\"d\")+1,6)+1","v":2},"주간","야간","야간","비번","비번","주간"]
["2023-11-11",45241,{"$f":"MOD(DATEDIF(DATE(1900,1,6),DATE(YEAR($A$7),MONTH($A$7),COUNT($A$7:$A321)),\"d\")+1,6)+1","v":3},"야간","야간","비번","비번","주간","주간"]
["2023-11-12",45242,{"$f":"MOD(DATEDIF(DATE(1900,1,6),DATE(YEAR($A$7),MONTH($A$7),COUNT($A$7:$A322)),\"d\")+1,6)+1","v":4},"야간","비번","비번","주간","주간","야간"]
["2023-11-13",45243,{"$f":"MOD(DATEDIF(DATE(1900,1,6),DATE(YEAR($A$7),MONTH($A$7),COUNT($A$7:$A323)),\"d\")+1,6)+1","v":5},"비번","비번","주간","주간","야간","야간"]
["2023-11-14",45244,{"$f":"MOD(DATEDIF(DATE(1900,1,6),DATE(YEAR($A$7),MONTH($A$7),COUNT($A$7:$A324)),\"d\")+1,6)+1","v":6},"비번","주간","주간","야간","야간","비번"]
["2023-11-15",45245,{"$f":"MOD(DATEDIF(DATE(1900,1,6),DATE(YEAR($A$7),MONTH($A$7),COUNT($A$7:$A325)),\"d\")+1,6)+1","v":1},"주간","주간","야간","야간","비번","비번"]
["2023-11-16",45246,{"$f":"MOD(DATEDIF(DATE(1900,1,6),DATE(YEAR($A$7),MONTH($A$7),COUNT($A$7:$A326)),\"d\")+1,6)+1","v":2},"주간","야간","야간","비번","비번","주간"]
["2023-11-17",45247,{"$f":"MOD(DATEDIF(DATE(1900,1,6),DATE(YEAR($A$7),MONTH($A$7),COUNT($A$7:$A327)),\"d\")+1,6)+1","v":3},"야간","야간","비번","비번","주간","주간"]
["2023-11-18",{"$f":"A328","v":45248},{"$f":"MOD(DATEDIF(DATE(1900,1,6),DATE(YEAR($A$7),MONTH($A$7),COUNT($A$7:$A328)),\"d\")+1,6)+1","v":4},{"$f":"CHOOSE(C328,$M$7,$M$8,$M$9,$M$10,$M$11,$M$12)","v":"야간"},{"$f":"CHOOSE(C328,$M$8,$M$9,$M$10,$M$11,$M$12,$M$7)","v":"비번"},{"$f":"CHOOSE(C328,$M$9,$M$10,$M$11,$M$12,$M$7,$M$8)","v":"비번"},{"$f":"CHOOSE(C328,$M$10,$M$11,$M$12,$M$7,$M$8,$M$9)","v":"주간"},{"$f":"CHOOSE(C328,$M$11,$M$12,$M$7,$M$8,$M$9,$M$10)","v":"주간"},{"$f":"CHOOSE(C328,$M$12,$M$7,$M$8,$M$9,$M$10,$M$11)","v":"야간"}]
[{"$f":"A328+1","v":"2023-11-19"},45249,{"$f":"MOD(DATEDIF(DATE(1900,1,6),DATE(YEAR($A$7),MONTH($A$7),COUNT($A$7:$A329)),\"d\")+1,6)+1","v":5},"비번","비번","주간","주간","야간","야간"]
["2023-11-20",45250,{"$f":"MOD(DATEDIF(DATE(1900,1,6),DATE(YEAR($A$7),MONTH($A$7),COUNT($A$7:$A330)),\"d\")+1,6)+1","v":6},"비번","주간","주간","야간","야간","비번"]
["2023-11-21",45251,{"$f":"MOD(DATEDIF(DATE(1900,1,6),DATE(YEAR($A$7),MONTH($A$7),COUNT($A$7:$A331)),\"d\")+1,6)+1","v":1},"주간","주간","야간","야간","비번","비번"]
["2023-11-22",45252,{"$f":"MOD(DATEDIF(DATE(1900,1,6),DATE(YEAR($A$7),MONTH($A$7),COUNT($A$7:$A332)),\"d\")+1,6)+1","v":2},"주간","야간","야간","비번","비번","주간"]
["2023-11-23",45253,{"$f":"MOD(DATEDIF(DATE(1900,1,6),DATE(YEAR($A$7),MONTH($A$7),COUNT($A$7:$A333)),\"d\")+1,6)+1","v":3},"야간","야간","비번","비번","주간","주간"]
["2023-11-24",45254,{"$f":"MOD(DATEDIF(DATE(1900,1,6),DATE(YEAR($A$7),MONTH($A$7),COUNT($A$7:$A334)),\"d\")+1,6)+1","v":4},"야간","비번","비번","주간","주간","야간"]
["2023-11-25",45255,{"$f":"MOD(DATEDIF(DATE(1900,1,6),DATE(YEAR($A$7),MONTH($A$7),COUNT($A$7:$A335)),\"d\")+1,6)+1","v":5},"비번","비번","주간","주간","야간","야간"]
["2023-11-26",45256,{"$f":"MOD(DATEDIF(DATE(1900,1,6),DATE(YEAR($A$7),MONTH($A$7),COUNT($A$7:$A336)),\"d\")+1,6)+1","v":6},"비번","주간","주간","야간","야간","비번"]
["2023-11-27",45257,{"$f":"MOD(DATEDIF(DATE(1900,1,6),DATE(YEAR($A$7),MONTH($A$7),COUNT($A$7:$A337)),\"d\")+1,6)+1","v":1},"주간","주간","야간","야간","비번","비번"]
["2023-11-28",45258,{"$f":"MOD(DATEDIF(DATE(1900,1,6),DATE(YEAR($A$7),MONTH($A$7),COUNT($A$7:$A338)),\"d\")+1,6)+1","v":2},"주간","야간","야간","비번","비번","주간"]
["2023-11-29",45259,{"$f":"MOD(DATEDIF(DATE(1900,1,6),DATE(YEAR($A$7),MONTH($A$7),COUNT($A$7:$A339)),\"d\")+1,6)+1","v":3},"야간","야간","비번","비번","주간","주간"]
["2023-11-30",45260,{"$f":"MOD(DATEDIF(DATE(1900,1,6),DATE(YEAR($A$7),MONTH($A$7),COUNT($A$7:$A340)),\"d\")+1,6)+1","v":4},"야간","비번","비번","주간","주간","야간"]
["2023-12-01",45261,{"$f":"MOD(DATEDIF(DATE(1900,1,6),DATE(YEAR($A$7),MONTH($A$7),COUNT($A$7:$A341)),\"d\")+1,6)+1","v":5},"비번","비번","주간","주간","야간","야간"]
["2023-12-02",45262,{"$f":"MOD(DATEDIF(DATE(1900,1,6),DATE(YEAR($A$7),MONTH($A$7),COUNT($A$7:$A342)),\"d\")+1,6)+1","v":6},"비번","주간","주간","야간","야간","비번"]
["2023-12-03",45263,{"$f":"MOD(DATEDIF(DATE(1900,1,6),DATE(YEAR($A$7),MONTH($A$7),COUNT($A$7:$A343)),\"d\")+1,6)+1","v":1},"주간","주간","야간","야간","비번","비번"]
["2023-12-04",45264,{"$f":"MOD(DATEDIF(DATE(1900,1,6),DATE(YEAR($A$7),MONTH($A$7),COUNT($A$7:$A344)),\"d\")+1,6)+1","v":2},"주간","야간","야간","비번","비번","주간"]
["2023-12-05",45265,{"$f":"MOD(DATEDIF(DATE(1900,1,6),DATE(YEAR($A$7),MONTH($A$7),COUNT($A$7:$A345)),\"d\")+1,6)+1","v":3},"야간","야간","비번","비번","주간","주간"]
["2023-12-06",45266,{"$f":"MOD(DATEDIF(DATE(1900,1,6),DATE(YEAR($A$7),MONTH($A$7),COUNT($A$7:$A346)),\"d\")+1,6)+1","v":4},"야간","비번","비번","주간","주간","야간"]
["2023-12-07",45267,{"$f":"MOD(DATEDIF(DATE(1900,1,6),DATE(YEAR($A$7),MONTH($A$7),COUNT($A$7:$A347)),\"d\")+1,6)+1","v":5},"비번","비번","주간","주간","야간","야간"]
["2023-12-08",45268,{"$f":"MOD(DATEDIF(DATE(1900,1,6),DATE(YEAR($A$7),MONTH($A$7),COUNT($A$7:$A348)),\"d\")+1,6)+1","v":6},"비번","주간","주간","야간","야간","비번"]
["2023-12-09",45269,{"$f":"MOD(DATEDIF(DATE(1900,1,6),DATE(YEAR($A$7),MONTH($A$7),COUNT($A$7:$A349)),\"d\")+1,6)+1","v":1},"주간","주간","야간","야간","비번","비번"]
["2023-12-10",45270,{"$f":"MOD(DATEDIF(DATE(1900,1,6),DATE(YEAR($A$7),MONTH($A$7),COUNT($A$7:$A350)),\"d\")+1,6)+1","v":2},"주간","야간","야간","비번","비번","주간"]
["2023-12-11",45271,{"$f":"MOD(DATEDIF(DATE(1900,1,6),DATE(YEAR($A$7),MONTH($A$7),COUNT($A$7:$A351)),\"d\")+1,6)+1","v":3},"야간","야간","비번","비번","주간","주간"]
["2023-12-12",45272,{"$f":"MOD(DATEDIF(DATE(1900,1,6),DATE(YEAR($A$7),MONTH($A$7),COUNT($A$7:$A352)),\"d\")+1,6)+1","v":4},"야간","비번","비번","주간","주간","야간"]
["2023-12-13",45273,{"$f":"MOD(DATEDIF(DATE(1900,1,6),DATE(YEAR($A$7),MONTH($A$7),COUNT($A$7:$A353)),\"d\")+1,6)+1","v":5},"비번","비번","주간","주간","야간","야간"]
["2023-12-14",45274,{"$f":"MOD(DATEDIF(DATE(1900,1,6),DATE(YEAR($A$7),MONTH($A$7),COUNT($A$7:$A354)),\"d\")+1,6)+1","v":6},"비번","주간","주간","야간","야간","비번"]
["2023-12-15",45275,{"$f":"MOD(DATEDIF(DATE(1900,1,6),DATE(YEAR($A$7),MONTH($A$7),COUNT($A$7:$A355)),\"d\")+1,6)+1","v":1},"주간","주간","야간","야간","비번","비번"]
["2023-12-16",45276,{"$f":"MOD(DATEDIF(DATE(1900,1,6),DATE(YEAR($A$7),MONTH($A$7),COUNT($A$7:$A356)),\"d\")+1,6)+1","v":2},"주간","야간","야간","비번","비번","주간"]
["2023-12-17",45277,{"$f":"MOD(DATEDIF(DATE(1900,1,6),DATE(YEAR($A$7),MONTH($A$7),COUNT($A$7:$A357)),\"d\")+1,6)+1","v":3},"야간","야간","비번","비번","주간","주간"]
["2023-12-18",45278,{"$f":"MOD(DATEDIF(DATE(1900,1,6),DATE(YEAR($A$7),MONTH($A$7),COUNT($A$7:$A358)),\"d\")+1,6)+1","v":4},"야간","비번","비번","주간","주간","야간"]
["2023-12-19",45279,{"$f":"MOD(DATEDIF(DATE(1900,1,6),DATE(YEAR($A$7),MONTH($A$7),COUNT($A$7:$A359)),\"d\")+1,6)+1","v":5},"비번","비번","주간","주간","야간","야간"]
["2023-12-20",45280,{"$f":"MOD(DATEDIF(DATE(1900,1,6),DATE(YEAR($A$7),MONTH($A$7),COUNT($A$7:$A360)),\"d\")+1,6)+1","v":6},"비번","주간","주간","야간","야간","비번"]
["2023-12-21",45281,{"$f":"MOD(DATEDIF(DATE(1900,1,6),DATE(YEAR($A$7),MONTH($A$7),COUNT($A$7:$A361)),\"d\")+1,6)+1","v":1},"주간","주간","야간","야간","비번","비번"]
["2023-12-22",45282,{"$f":"MOD(DATEDIF(DATE(1900,1,6),DATE(YEAR($A$7),MONTH($A$7),COUNT($A$7:$A362)),\"d\")+1,6)+1","v":2},"주간","야간","야간","비번","비번","주간"]
["2023-12-23",45283,{"$f":"MOD(DATEDIF(DATE(1900,1,6),DATE(YEAR($A$7),MONTH($A$7),COUNT($A$7:$A363)),\"d\")+1,6)+1","v":3},"야간","야간","비번","비번","주간","주간"]
["2023-12-24",45284,{"$f":"MOD(DATEDIF(DATE(1900,1,6),DATE(YEAR($A$7),MONTH($A$7),COUNT($A$7:$A364)),\"d\")+1,6)+1","v":4},"야간","비번","비번","주간","주간","야간"]
["2023-12-25",45285,{"$f":"MOD(DATEDIF(DATE(1900,1,6),DATE(YEAR($A$7),MONTH($A$7),COUNT($A$7:$A365)),\"d\")+1,6)+1","v":5},"비번","비번","주간","주간","야간","야간"]
["2023-12-26",45286,{"$f":"MOD(DATEDIF(DATE(1900,1,6),DATE(YEAR($A$7),MONTH($A$7),COUNT($A$7:$A366)),\"d\")+1,6)+1","v":6},"비번","주간","주간","야간","야간","비번"]
["2023-12-27",45287,{"$f":"MOD(DATEDIF(DATE(1900,1,6),DATE(YEAR($A$7),MONTH($A$7),COUNT($A$7:$A367)),\"d\")+1,6)+1","v":1},"주간","주간","야간","야간","비번","비번"]
["2023-12-28",45288,{"$f":"MOD(DATEDIF(DATE(1900,1,6),DATE(YEAR($A$7),MONTH($A$7),COUNT($A$7:$A368)),\"d\")+1,6)+1","v":2},"주간","야간","야간","비번","비번","주간"]
["2023-12-29",45289,{"$f":"MOD(DATEDIF(DATE(1900,1,6),DATE(YEAR($A$7),MONTH($A$7),COUNT($A$7:$A369)),\"d\")+1,6)+1","v":3},"야간","야간","비번","비번","주간","주간"]
["2023-12-30",45290,{"$f":"MOD(DATEDIF(DATE(1900,1,6),DATE(YEAR($A$7),MONTH($A$7),COUNT($A$7:$A370)),\"d\")+1,6)+1","v":4},"야간","비번","비번","주간","주간","야간"]
["2023-12-31",45291,{"$f":"MOD(DATEDIF(DATE(1900,1,6),DATE(YEAR($A$7),MONTH($A$7),COUNT($A$7:$A371)),\"d\")+1,6)+1","v":5},"비번","비번","주간","주간","야간","야간"]

{"sheet":"일정","index":4,"n_rows":371,"n_cols":18,"rows_kept":371,"cut":false,"hidden":false,"merged":[]}
[]
[]
[]
[]
[null,"근무일정",null,null,null,null,null,null,null,null,null,null,"근무일수"]
[null,"날짜","요일","홍길동","이땡땡","박땡땡","최땡땡","오땡땡","구땡땡",null,null,"월",{"$f":"D6","v":"홍길동"},{"$f":"E6","v":"이땡땡"},"박땡땡","최땡땡","오땡땡","구땡땡"]
[null,{"$f":"DATE(연간!$O$2,연간!$E$4,1)","v":"2023-01-01"},{"$f":"CHOOSE(WEEKDAY(B7,1),\"일\",\"월\",\"화\",\"수\",\"목\",\"금\",\"토\")","v":"일"},{"$f":"IF(달력!$S$24=\"순서1\",근무!D7,IF(달력!$S$24=\"순서2\",근무!E7,IF(달력!$S$24=\"순서3\",근무!F7,IF(달력!$S$24=\"순서4\",근무!G7,IF(달력!$S$24=\"순서5\",근무!H7,IF(달력!$S$24=\"순서6\",근무!I7,\"\"))))))","v":"주간"},{"$f":"IF(달력!$S$25=\"순서1\",근무!D7,IF(달력!$S$25=\"순서2\",근무!E7,IF(달력!$S$25=\"순서3\",근무!F7,IF(달력!$S$25=\"순서4\",근무!G7,IF(달력!$S$25=\"순서5\",근무!H7,IF(달력!$S$25=\"순서6\",근무!I7,\"\"))))))","v":"주간"},{"$f":"IF(달력!$S$26=\"순서1\",근무!D7,IF(달력!$S$26=\"순서2\",근무!E7,IF(달력!$S$26=\"순서3\",근무!F7,IF(달력!$S$26=\"순서4\",근무!G7,IF(달력!$S$26=\"순서5\",근무!H7,IF(달력!$S$26=\"순서6\",근무!I7,\"\"))))))","v":"야간"},{"$f":"IF(달력!$S$27=\"순서1\",근무!D7,IF(달력!$S$27=\"순서2\",근무!E7,IF(달력!$S$27=\"순서3\",근무!F7,IF(달력!$S$27=\"순서4\",근무!G7,IF(달력!$S$27=\"순서5\",근무!H7,IF(달력!$S$27=\"순서6\",근무!I7,\"\"))))))","v":"야간"},{"$f":"IF(달력!$S$28=\"순서1\",근무!D7,IF(달력!$S$28=\"순서2\",근무!E7,IF(달력!$S$28=\"순서3\",근무!F7,IF(달력!$S$28=\"순서4\",근무!G7,IF(달력!$S$28=\"순서5\",근무!H7,IF(달력!$S$28=\"순서6\",근무!I7,\"\"))))))","v":"비번"},{"$f":"IF(달력!$S$29=\"순서1\",근무!D7,IF(달력!$S$29=\"순서2\",근무!E7,IF(달력!$S$29=\"순서3\",근무!F7,IF(달력!$S$29=\"순서4\",근무!G7,IF(달력!$S$29=\"순서5\",근무!H7,IF(달력!$S$29=\"순서6\",근무!I7,\"\"))))))","v":"비번"},null,"주간",{"$f":"MONTH(B7)","v":1},{"$f":"COUNTIFS(일정1내용,$K7,$L$7:$L$372,1)","v":11},{"$f":"COUNTIFS(일정2내용,$K7,$L$7:$L$372,1)","v":11},{"$f":"COUNTIFS(일정3내용,$K7,$L$7:$L$372,1)","v":10},{"$f":"COUNTIFS(일정4내용,$K7,$L$7:$L$372,1)","v":10},{"$f":"COUNTIFS(일정5내용,$K7,$L$7:$L$372,1)","v":10},{"$f":"COUNTIFS(일정6내용,$K7,$L$7:$L$372,1)","v":10}]
[null,{"$f":"B7+1","v":"2023-01-02"},{"$f":"CHOOSE(WEEKDAY(B8,1),\"일\",\"월\",\"화\",\"수\",\"목\",\"금\",\"토\")","v":"월"},{"$f":"IF(달력!$S$24=\"순서1\",근무!D8,IF(달력!$S$24=\"순서2\",근무!E8,IF(달력!$S$24=\"순서3\",근무!F8,IF(달력!$S$24=\"순서4\",근무!G8,IF(달력!$S$24=\"순서5\",근무!H8,IF(달력!$S$24=\"순서6\",근무!I8,\"\"))))))","v":"주간"},{"$f":"IF(달력!$S$25=\"순서1\",근무!D8,IF(달력!$S$25=\"순서2\",근무!E8,IF(달력!$S$25=\"순서3\",근무!F8,IF(달력!$S$25=\"순서4\",근무!G8,IF(달력!$S$25=\"순서5\",근무!H8,IF(달력!$S$25=\"순서6\",근무!I8,\"\"))))))","v":"주간"},{"$f":"IF(달력!$S$26=\"순서1\",근무!D8,IF(달력!$S$26=\"순서2\",근무!E8,IF(달력!$S$26=\"순서3\",근무!F8,IF(달력!$S$26=\"순서4\",근무!G8,IF(달력!$S$26=\"순서5\",근무!H8,IF(달력!$S$26=\"순서6\",근무!I8,\"\"))))))","v":"야간"},{"$f":"IF(달력!$S$27=\"순서1\",근무!D8,IF(달력!$S$27=\"순서2\",근무!E8,IF(달력!$S$27=\"순서3\",근무!F8,IF(달력!$S$27=\"순서4\",근무!G8,IF(달력!$S$27=\"순서5\",근무!H8,IF(달력!$S$27=\"순서6\",근무!I8,\"\"))))))","v":"야간"},{"$f":"IF(달력!$S$28=\"순서1\",근무!D8,IF(달력!$S$28=\"순서2\",근무!E8,IF(달력!$S$28=\"순서3\",근무!F8,IF(달력!$S$28=\"순서4\",근무!G8,IF(달력!$S$28=\"순서5\",근무!H8,IF(달력!$S$28=\"순서6\",근무!I8,\"\"))))))","v":"비번"},{"$f":"IF(달력!$S$29=\"순서1\",근무!D8,IF(달력!$S$29=\"순서2\",근무!E8,IF(달력!$S$29=\"순서3\",근무!F8,IF(달력!$S$29=\"순서4\",근무!G8,IF(달력!$S$29=\"순서5\",근무!H8,IF(달력!$S$29=\"순서6\",근무!I8,\"\"))))))","v":"비번"},null,"야간",{"$f":"MONTH(B8)","v":1},{"$f":"COUNTIFS(일정1내용,$K8,$L$7:$L$372,1)","v":10},{"$f":"COUNTIFS(일정2내용,$K8,$L$7:$L$372,1)","v":10},{"$f":"COUNTIFS(일정3내용,$K8,$L$7:$L$372,1)","v":11},{"$f":"COUNTIFS(일정4내용,$K8,$L$7:$L$372,1)","v":11},{"$f":"COUNTIFS(일정5내용,$K8,$L$7:$L$372,1)","v":10},{"$f":"COUNTIFS(일정6내용,$K8,$L$7:$L$372,1)","v":10}]
[null,{"$f":"B8+1","v":"2023-01-03"},"화",{"$f":"IF(달력!$S$24=\"순서1\",근무!D9,IF(달력!$S$24=\"순서2\",근무!E9,IF(달력!$S$24=\"순서3\",근무!F9,IF(달력!$S$24=\"순서4\",근무!G9,IF(달력!$S$24=\"순서5\",근무!H9,IF(달력!$S$24=\"순서6\",근무!I9,\"\"))))))","v":"야간"},{"$f":"IF(달력!$S$25=\"순서1\",근무!D9,IF(달력!$S$25=\"순서2\",근무!E9,IF(달력!$S$25=\"순서3\",근무!F9,IF(달력!$S$25=\"순서4\",근무!G9,IF(달력!$S$25=\"순서5\",근무!H9,IF(달력!$S$25=\"순서6\",근무!I9,\"\"))))))","v":"야간"},{"$f":"IF(달력!$S$26=\"순서1\",근무!D9,IF(달력!$S$26=\"순서2\",근무!E9,IF(달력!$S$26=\"순서3\",근무!F9,IF(달력!$S$26=\"순서4\",근무!G9,IF(달력!$S$26=\"순서5\",근무!H9,IF(달력!$S$26=\"순서6\",근무!I9,\"\"))))))","v":"비번"},{"$f":"IF(달력!$S$27=\"순서1\",근무!D9,IF(달력!$S$27=\"순서2\",근무!E9,IF(달력!$S$27=\"순서3\",근무!F9,IF(달력!$S$27=\"순서4\",근무!G9,IF(달력!$S$27=\"순서5\",근무!H9,IF(달력!$S$27=\"순서6\",근무!I9,\"\"))))))","v":"비번"},{"$f":"IF(달력!$S$28=\"순서1\",근무!D9,IF(달력!$S$28=\"순서2\",근무!E9,IF(달력!$S$28=\"순서3\",근무!F9,IF(달력!$S$28=\"순서4\",근무!G9,IF(달력!$S$28=\"순서5\",근무!H9,IF(달력!$S$28=\"순서6\",근무!I9,\"\"))))))","v":"주간"},{"$f":"IF(달력!$S$29=\"순서1\",근무!D9,IF(달력!$S$29=\"순서2\",근무!E9,IF(달력!$S$29=\"순서3\",근무!F9,IF(달력!$S$29=\"순서4\",근무!G9,IF(달력!$S$29=\"순서5\",근무!H9,IF(달력!$S$29=\"순서6\",근무!I9,\"\"))))))","v":"주간"},null,"비번",1,{"$f":"COUNTIFS(일정1내용,$K9,$L$7:$L$372,1)","v":10},{"$f":"COUNTIFS(일정2내용,$K9,$L$7:$L$372,1)","v":10},{"$f":"COUNTIFS(일정3내용,$K9,$L$7:$L$372,1)","v":10},{"$f":"COUNTIFS(일정4내용,$K9,$L$7:$L$372,1)","v":10},{"$f":"COUNTIFS(일정5내용,$K9,$L$7:$L$372,1)","v":11},{"$f":"COUNTIFS(일정6내용,$K9,$L$7:$L$372,1)","v":11}]
[null,"2023-01-04","수",{"$f":"IF(달력!$S$24=\"순서1\",근무!D10,IF(달력!$S$24=\"순서2\",근무!E10,IF(달력!$S$24=\"순서3\",근무!F10,IF(달력!$S$24=\"순서4\",근무!G10,IF(달력!$S$24=\"순서5\",근무!H10,IF(달력!$S$24=\"순서6\",근무!I10,\"\"))))))","v":"야간"},{"$f":"IF(달력!$S$25=\"순서1\",근무!D10,IF(달력!$S$25=\"순서2\",근무!E10,IF(달력!$S$25=\"순서3\",근무!F10,IF(달력!$S$25=\"순서4\",근무!G10,IF(달력!$S$25=\"순서5\",근무!H10,IF(달력!$S$25=\"순서6\",근무!I10,\"\"))))))","v":"야간"},{"$f":"IF(달력!$S$26=\"순서1\",근무!D10,IF(달력!$S$26=\"순서2\",근무!E10,IF(달력!$S$26=\"순서3\",근무!F10,IF(달력!$S$26=\"순서4\",근무!G10,IF(달력!$S$26=\"순서5\",근무!H10,IF(달력!$S$26=\"순서6\",근무!I10,\"\"))))))","v":"비번"},{"$f":"IF(달력!$S$27=\"순서1\",근무!D10,IF(달력!$S$27=\"순서2\",근무!E10,IF(달력!$S$27=\"순서3\",근무!F10,IF(달력!$S$27=\"순서4\",근무!G10,IF(달력!$S$27=\"순서5\",근무!H10,IF(달력!$S$27=\"순서6\",근무!I10,\"\"))))))","v":"비번"},{"$f":"IF(달력!$S$28=\"순서1\",근무!D10,IF(달력!$S$28=\"순서2\",근무!E10,IF(달력!$S$28=\"순서3\",근무!F10,IF(달력!$S$28=\"순서4\",근무!G10,IF(달력!$S$28=\"순서5\",근무!H10,IF(달력!$S$28=\"순서6\",근무!I10,\"\"))))))","v":"주간"},{"$f":"IF(달력!$S$29=\"순서1\",근무!D10,IF(달력!$S$29=\"순서2\",근무!E10,IF(달력!$S$29=\"순서3\",근무!F10,IF(달력!$S$29=\"순서4\",근무!G10,IF(달력!$S$29=\"순서5\",근무!H10,IF(달력!$S$29=\"순서6\",근무!I10,\"\"))))))","v":"주간"},null,"근무일 계",1,{"$f":"M7+M8","v":21},{"$f":"N7+N8","v":21},21,21,20,20]
[null,"2023-01-05","목",{"$f":"IF(달력!$S$24=\"순서1\",근무!D11,IF(달력!$S$24=\"순서2\",근무!E11,IF(달력!$S$24=\"순서3\",근무!F11,IF(달력!$S$24=\"순서4\",근무!G11,IF(달력!$S$24=\"순서5\",근무!H11,IF(달력!$S$24=\"순서6\",근무!I11,\"\"))))))","v":"비번"},{"$f":"IF(달력!$S$25=\"순서1\",근무!D11,IF(달력!$S$25=\"순서2\",근무!E11,IF(달력!$S$25=\"순서3\",근무!F11,IF(달력!$S$25=\"순서4\",근무!G11,IF(달력!$S$25=\"순서5\",근무!H11,IF(달력!$S$25=\"순서6\",근무!I11,\"\"))))))","v":"비번"},{"$f":"IF(달력!$S$26=\"순서1\",근무!D11,IF(달력!$S$26=\"순서2\",근무!E11,IF(달력!$S$26=\"순서3\",근무!F11,IF(달력!$S$26=\"순서4\",근무!G11,IF(달력!$S$26=\"순서5\",근무!H11,IF(달력!$S$26=\"순서6\",근무!I11,\"\"))))))","v":"주간"},{"$f":"IF(달력!$S$27=\"순서1\",근무!D11,IF(달력!$S$27=\"순서2\",근무!E11,IF(달력!$S$27=\"순서3\",근무!F11,IF(달력!$S$27=\"순서4\",근무!G11,IF(달력!$S$27=\"순서5\",근무!H11,IF(달력!$S$27=\"순서6\",근무!I11,\"\"))))))","v":"주간"},{"$f":"IF(달력!$S$28=\"순서1\",근무!D11,IF(달력!$S$28=\"순서2\",근무!E11,IF(달력!$S$28=\"순서3\",근무!F11,IF(달력!$S$28=\"순서4\",근무!G11,IF(달력!$S$28=\"순서5\",근무!H11,IF(달력!$S$28=\"순서6\",근무!I11,\"\"))))))","v":"야간"},{"$f":"IF(달력!$S$29=\"순서1\",근무!D11,IF(달력!$S$29=\"순서2\",근무!E11,IF(달력!$S$29=\"순서3\",근무!F11,IF(달력!$S$29=\"순서4\",근무!G11,IF(달력!$S$29=\"순서5\",근무!H11,IF(달력!$S$29=\"순서6\",근무!I11,\"\"))))))","v":"야간"},null,null,1]
[null,"2023-01-06","금",{"$f":"IF(달력!$S$24=\"순서1\",근무!D12,IF(달력!$S$24=\"순서2\",근무!E12,IF(달력!$S$24=\"순서3\",근무!F12,IF(달력!$S$24=\"순서4\",근무!G12,IF(달력!$S$24=\"순서5\",근무!H12,IF(달력!$S$24=\"순서6\",근무!I12,\"\"))))))","v":"비번"},{"$f":"IF(달력!$S$25=\"순서1\",근무!D12,IF(달력!$S$25=\"순서2\",근무!E12,IF(달력!$S$25=\"순서3\",근무!F12,IF(달력!$S$25=\"순서4\",근무!G12,IF(달력!$S$25=\"순서5\",근무!H12,IF(달력!$S$25=\"순서6\",근무!I12,\"\"))))))","v":"비번"},{"$f":"IF(달력!$S$26=\"순서1\",근무!D12,IF(달력!$S$26=\"순서2\",근무!E12,IF(달력!$S$26=\"순서3\",근무!F12,IF(달력!$S$26=\"순서4\",근무!G12,IF(달력!$S$26=\"순서5\",근무!H12,IF(달력!$S$26=\"순서6\",근무!I12,\"\"))))))","v":"주간"},{"$f":"IF(달력!$S$27=\"순서1\",근무!D12,IF(달력!$S$27=\"순서2\",근무!E12,IF(달력!$S$27=\"순서3\",근무!F12,IF(달력!$S$27=\"순서4\",근무!G12,IF(달력!$S$27=\"순서5\",근무!H12,IF(달력!$S$27=\"순서6\",근무!I12,\"\"))))))","v":"주간"},{"$f":"IF(달력!$S$28=\"순서1\",근무!D12,IF(달력!$S$28=\"순서2\",근무!E12,IF(달력!$S$28=\"순서3\",근무!F12,IF(달력!$S$28=\"순서4\",근무!G12,IF(달력!$S$28=\"순서5\",근무!H12,IF(달력!$S$28=\"순서6\",근무!I12,\"\"))))))","v":"야간"},{"$f":"IF(달력!$S$29=\"순서1\",근무!D12,IF(달력!$S$29=\"순서2\",근무!E12,IF(달력!$S$29=\"순서3\",근무!F12,IF(달력!$S$29=\"순서4\",근무!G12,IF(달력!$S$29=\"순서5\",근무!H12,IF(달력!$S$29=\"순서6\",근무!I12,\"\"))))))","v":"야간"},null,null,1]
[null,"2023-01-07","토",{"$f":"IF(달력!$S$24=\"순서1\",근무!D13,IF(달력!$S$24=\"순서2\",근무!E13,IF(달력!$S$24=\"순서3\",근무!F13,IF(달력!$S$24=\"순서4\",근무!G13,IF(달력!$S$24=\"순서5\",근무!H13,IF(달력!$S$24=\"순서6\",근무!I13,\"\"))))))","v":"주간"},{"$f":"IF(달력!$S$25=\"순서1\",근무!D13,IF(달력!$S$25=\"순서2\",근무!E13,IF(달력!$S$25=\"순서3\",근무!F13,IF(달력!$S$25=\"순서4\",근무!G13,IF(달력!$S$25=\"순서5\",근무!H13,IF(달력!$S$25=\"순서6\",근무!I13,\"\"))))))","v":"주간"},{"$f":"IF(달력!$S$26=\"순서1\",근무!D13,IF(달력!$S$26=\"순서2\",근무!E13,IF(달력!$S$26=\"순서3\",근무!F13,IF(달력!$S$26=\"순서4\",근무!G13,IF(달력!$S$26=\"순서5\",근무!H13,IF(달력!$S$26=\"순서6\",근무!I13,\"\"))))))","v":"야간"},{"$f":"IF(달력!$S$27=\"순서1\",근무!D13,IF(달력!$S$27=\"순서2\",근무!E13,IF(달력!$S$27=\"순서3\",근무!F13,IF(달력!$S$27=\"순서4\",근무!G13,IF(달력!$S$27=\"순서5\",근무!H13,IF(달력!$S$27=\"순서6\",근무!I13,\"\"))))))","v":"야간"},{"$f":"IF(달력!$S$28=\"순서1\",근무!D13,IF(달력!$S$28=\"순서2\",근무!E13,IF(달력!$S$28=\"순서3\",근무!F13,IF(달력!$S$28=\"순서4\",근무!G13,IF(달력!$S$28=\"순서5\",근무!H13,IF(달력!$S$28=\"순서6\",근무!I13,\"\"))))))","v":"비번"},{"$f":"IF(달력!$S$29=\"순서1\",근무!D13,IF(달력!$S$29=\"순서2\",근무!E13,IF(달력!$S$29=\"순서3\",근무!F13,IF(달력!$S$29=\"순서4\",근무!G13,IF(달력!$S$29=\"순서5\",근무!H13,IF(달력!$S$29=\"순서6\",근무!I13,\"\"))))))","v":"비번"},null,null,1]
[null,"2023-01-08","일",{"$f":"IF(달력!$S$24=\"순서1\",근무!D14,IF(달력!$S$24=\"순서2\",근무!E14,IF(달력!$S$24=\"순서3\",근무!F14,IF(달력!$S$24=\"순서4\",근무!G14,IF(달력!$S$24=\"순서5\",근무!H14,IF(달력!$S$24=\"순서6\",근무!I14,\"\"))))))","v":"주간"},{"$f":"IF(달력!$S$25=\"순서1\",근무!D14,IF(달력!$S$25=\"순서2\",근무!E14,IF(달력!$S$25=\"순서3\",근무!F14,IF(달력!$S$25=\"순서4\",근무!G14,IF(달력!$S$25=\"순서5\",근무!H14,IF(달력!$S$25=\"순서6\",근무!I14,\"\"))))))","v":"주간"},{"$f":"IF(달력!$S$26=\"순서1\",근무!D14,IF(달력!$S$26=\"순서2\",근무!E14,IF(달력!$S$26=\"순서3\",근무!F14,IF(달력!$S$26=\"순서4\",근무!G14,IF(달력!$S$26=\"순서5\",근무!H14,IF(달력!$S$26=\"순서6\",근무!I14,\"\"))))))","v":"야간"},{"$f":"IF(달력!$S$27=\"순서1\",근무!D14,IF(달력!$S$27=\"순서2\",근무!E14,IF(달력!$S$27=\"순서3\",근무!F14,IF(달력!$S$27=\"순서4\",근무!G14,IF(달력!$S$27=\"순서5\",근무!H14,IF(달력!$S$27=\"순서6\",근무!I14,\"\"))))))","v":"야간"},{"$f":"IF(달력!$S$28=\"순서1\",근무!D14,IF(달력!$S$28=\"순서2\",근무!E14,IF(달력!$S$28=\"순서3\",근무!F14,IF(달력!$S$28=\"순서4\",근무!G14,IF(달력!$S$28=\"순서5\",근무!H14,IF(달력!$S$28=\"순서6\",근무!I14,\"\"))))))","v":"비번"},{"$f":"IF(달력!$S$29=\"순서1\",근무!D14,IF(달력!$S$29=\"순서2\",근무!E14,IF(달력!$S$29=\"순서3\",근무!F14,IF(달력!$S$29=\"순서4\",근무!G14,IF(달력!$S$29=\"순서5\",근무!H14,IF(달력!$S$29=\"순서6\",근무!I14,\"\"))))))","v":"비번"},null,null,1]
[null,"2023-01-09","월",{"$f":"IF(달력!$S$24=\"순서1\",근무!D15,IF(달력!$S$24=\"순서2\",근무!E15,IF(달력!$S$24=\"순서3\",근무!F15,IF(달력!$S$24=\"순서4\",근무!G15,IF(달력!$S$24=\"순서5\",근무!H15,IF(달력!$S$24=\"순서6\",근무!I15,\"\"))))))","v":"야간"},{"$f":"IF(달력!$S$25=\"순서1\",근무!D15,IF(달력!$S$25=\"순서2\",근무!E15,IF(달력!$S$25=\"순서3\",근무!F15,IF(달력!$S$25=\"순서4\",근무!G15,IF(달력!$S$25=\"순서5\",근무!H15,IF(달력!$S$25=\"순서6\",근무!I15,\"\"))))))","v":"야간"},{"$f":"IF(달력!$S$26=\"순서1\",근무!D15,IF(달력!$S$26=\"순서2\",근무!E15,IF(달력!$S$26=\"순서3\",근무!F15,IF(달력!$S$26=\"순서4\",근무!G15,IF(달력!$S$26=\"순서5\",근무!H15,IF(달력!$S$26=\"순서6\",근무!I15,\"\"))))))","v":"비번"},{"$f":"IF(달력!$S$27=\"순서1\",근무!D15,IF(달력!$S$27=\"순서2\",근무!E15,IF(달력!$S$27=\"순서3\",근무!F15,IF(달력!$S$27=\"순서4\",근무!G15,IF(달력!$S$27=\"순서5\",근무!H15,IF(달력!$S$27=\"순서6\",근무!I15,\"\"))))))","v":"비번"},{"$f":"IF(달력!$S$28=\"순서1\",근무!D15,IF(달력!$S$28=\"순서2\",근무!E15,IF(달력!$S$28=\"순서3\",근무!F15,IF(달력!$S$28=\"순서4\",근무!G15,IF(달력!$S$28=\"순서5\",근무!H15,IF(달력!$S$28=\"순서6\",근무!I15,\"\"))))))","v":"주간"},{"$f":"IF(달력!$S$29=\"순서1\",근무!D15,IF(달력!$S$29=\"순서2\",근무!E15,IF(달력!$S$29=\"순서3\",근무!F15,IF(달력!$S$29=\"순서4\",근무!G15,IF(달력!$S$29=\"순서5\",근무!H15,IF(달력!$S$29=\"순서6\",근무!I15,\"\"))))))","v":"주간"},null,null,1]
[null,"2023-01-10","화",{"$f":"IF(달력!$S$24=\"순서1\",근무!D16,IF(달력!$S$24=\"순서2\",근무!E16,IF(달력!$S$24=\"순서3\",근무!F16,IF(달력!$S$24=\"순서4\",근무!G16,IF(달력!$S$24=\"순서5\",근무!H16,IF(달력!$S$24=\"순서6\",근무!I16,\"\"))))))","v":"야간"},{"$f":"IF(달력!$S$25=\"순서1\",근무!D16,IF(달력!$S$25=\"순서2\",근무!E16,IF(달력!$S$25=\"순서3\",근무!F16,IF(달력!$S$25=\"순서4\",근무!G16,IF(달력!$S$25=\"순서5\",근무!H16,IF(달력!$S$25=\"순서6\",근무!I16,\"\"))))))","v":"야간"},{"$f":"IF(달력!$S$26=\"순서1\",근무!D16,IF(달력!$S$26=\"순서2\",근무!E16,IF(달력!$S$26=\"순서3\",근무!F16,IF(달력!$S$26=\"순서4\",근무!G16,IF(달력!$S$26=\"순서5\",근무!H16,IF(달력!$S$26=\"순서6\",근무!I16,\"\"))))))","v":"비번"},{"$f":"IF(달력!$S$27=\"순서1\",근무!D16,IF(달력!$S$27=\"순서2\",근무!E16,IF(달력!$S$27=\"순서3\",근무!F16,IF(달력!$S$27=\"순서4\",근무!G16,IF(달력!$S$27=\"순서5\",근무!H16,IF(달력!$S$27=\"순서6\",근무!I16,\"\"))))))","v":"비번"},{"$f":"IF(달력!$S$28=\"순서1\",근무!D16,IF(달력!$S$28=\"순서2\",근무!E16,IF(달력!$S$28=\"순서3\",근무!F16,IF(달력!$S$28=\"순서4\",근무!G16,IF(달력!$S$28=\"순서5\",근무!H16,IF(달력!$S$28=\"순서6\",근무!I16,\"\"))))))","v":"주간"},{"$f":"IF(달력!$S$29=\"순서1\",근무!D16,IF(달력!$S$29=\"순서2\",근무!E16,IF(달력!$S$29=\"순서3\",근무!F16,IF(달력!$S$29=\"순서4\",근무!G16,IF(달력!$S$29=\"순서5\",근무!H16,IF(달력!$S$29=\"순서6\",근무!I16,\"\"))))))","v":"주간"},null,null,1]
[null,"2023-01-11","수",{"$f":"IF(달력!$S$24=\"순서1\",근무!D17,IF(달력!$S$24=\"순서2\",근무!E17,IF(달력!$S$24=\"순서3\",근무!F17,IF(달력!$S$24=\"순서4\",근무!G17,IF(달력!$S$24=\"순서5\",근무!H17,IF(달력!$S$24=\"순서6\",근무!I17,\"\"))))))","v":"비번"},{"$f":"IF(달력!$S$25=\"순서1\",근무!D17,IF(달력!$S$25=\"순서2\",근무!E17,IF(달력!$S$25=\"순서3\",근무!F17,IF(달력!$S$25=\"순서4\",근무!G17,IF(달력!$S$25=\"순서5\",근무!H17,IF(달력!$S$25=\"순서6\",근무!I17,\"\"))))))","v":"비번"},{"$f":"IF(달력!$S$26=\"순서1\",근무!D17,IF(달력!$S$26=\"순서2\",근무!E17,IF(달력!$S$26=\"순서3\",근무!F17,IF(달력!$S$26=\"순서4\",근무!G17,IF(달력!$S$26=\"순서5\",근무!H17,IF(달력!$S$26=\"순서6\",근무!I17,\"\"))))))","v":"주간"},{"$f":"IF(달력!$S$27=\"순서1\",근무!D17,IF(달력!$S$27=\"순서2\",근무!E17,IF(달력!$S$27=\"순서3\",근무!F17,IF(달력!$S$27=\"순서4\",근무!G17,IF(달력!$S$27=\"순서5\",근무!H17,IF(달력!$S$27=\"순서6\",근무!I17,\"\"))))))","v":"주간"},{"$f":"IF(달력!$S$28=\"순서1\",근무!D17,IF(달력!$S$28=\"순서2\",근무!E17,IF(달력!$S$28=\"순서3\",근무!F17,IF(달력!$S$28=\"순서4\",근무!G17,IF(달력!$S$28=\"순서5\",근무!H17,IF(달력!$S$28=\"순서6\",근무!I17,\"\"))))))","v":"야간"},{"$f":"IF(달력!$S$29=\"순서1\",근무!D17,IF(달력!$S$29=\"순서2\",근무!E17,IF(달력!$S$29=\"순서3\",근무!F17,IF(달력!$S$29=\"순서4\",근무!G17,IF(달력!$S$29=\"순서5\",근무!H17,IF(달력!$S$29=\"순서6\",근무!I17,\"\"))))))","v":"야간"},null,null,1]
[null,"2023-01-12","목",{"$f":"IF(달력!$S$24=\"순서1\",근무!D18,IF(달력!$S$24=\"순서2\",근무!E18,IF(달력!$S$24=\"순서3\",근무!F18,IF(달력!$S$24=\"순서4\",근무!G18,IF(달력!$S$24=\"순서5\",근무!H18,IF(달력!$S$24=\"순서6\",근무!I18,\"\"))))))","v":"비번"},{"$f":"IF(달력!$S$25=\"순서1\",근무!D18,IF(달력!$S$25=\"순서2\",근무!E18,IF(달력!$S$25=\"순서3\",근무!F18,IF(달력!$S$25=\"순서4\",근무!G18,IF(달력!$S$25=\"순서5\",근무!H18,IF(달력!$S$25=\"순서6\",근무!I18,\"\"))))))","v":"비번"},{"$f":"IF(달력!$S$26=\"순서1\",근무!D18,IF(달력!$S$26=\"순서2\",근무!E18,IF(달력!$S$26=\"순서3\",근무!F18,IF(달력!$S$26=\"순서4\",근무!G18,IF(달력!$S$26=\"순서5\",근무!H18,IF(달력!$S$26=\"순서6\",근무!I18,\"\"))))))","v":"주간"},{"$f":"IF(달력!$S$27=\"순서1\",근무!D18,IF(달력!$S$27=\"순서2\",근무!E18,IF(달력!$S$27=\"순서3\",근무!F18,IF(달력!$S$27=\"순서4\",근무!G18,IF(달력!$S$27=\"순서5\",근무!H18,IF(달력!$S$27=\"순서6\",근무!I18,\"\"))))))","v":"주간"},{"$f":"IF(달력!$S$28=\"순서1\",근무!D18,IF(달력!$S$28=\"순서2\",근무!E18,IF(달력!$S$28=\"순서3\",근무!F18,IF(달력!$S$28=\"순서4\",근무!G18,IF(달력!$S$28=\"순서5\",근무!H18,IF(달력!$S$28=\"순서6\",근무!I18,\"\"))))))","v":"야간"},{"$f":"IF(달력!$S$29=\"순서1\",근무!D18,IF(달력!$S$29=\"순서2\",근무!E18,IF(달력!$S$29=\"순서3\",근무!F18,IF(달력!$S$29=\"순서4\",근무!G18,IF(달력!$S$29=\"순서5\",근무!H18,IF(달력!$S$29=\"순서6\",근무!I18,\"\"))))))","v":"야간"},null,null,1]
[null,"2023-01-13","금",{"$f":"IF(달력!$S$24=\"순서1\",근무!D19,IF(달력!$S$24=\"순서2\",근무!E19,IF(달력!$S$24=\"순서3\",근무!F19,IF(달력!$S$24=\"순서4\",근무!G19,IF(달력!$S$24=\"순서5\",근무!H19,IF(달력!$S$24=\"순서6\",근무!I19,\"\"))))))","v":"주간"},{"$f":"IF(달력!$S$25=\"순서1\",근무!D19,IF(달력!$S$25=\"순서2\",근무!E19,IF(달력!$S$25=\"순서3\",근무!F19,IF(달력!$S$25=\"순서4\",근무!G19,IF(달력!$S$25=\"순서5\",근무!H19,IF(달력!$S$25=\"순서6\",근무!I19,\"\"))))))","v":"주간"},{"$f":"IF(달력!$S$26=\"순서1\",근무!D19,IF(달력!$S$26=\"순서2\",근무!E19,IF(달력!$S$26=\"순서3\",근무!F19,IF(달력!$S$26=\"순서4\",근무!G19,IF(달력!$S$26=\"순서5\",근무!H19,IF(달력!$S$26=\"순서6\",근무!I19,\"\"))))))","v":"야간"},{"$f":"IF(달력!$S$27=\"순서1\",근무!D19,IF(달력!$S$27=\"순서2\",근무!E19,IF(달력!$S$27=\"순서3\",근무!F19,IF(달력!$S$27=\"순서4\",근무!G19,IF(달력!$S$27=\"순서5\",근무!H19,IF(달력!$S$27=\"순서6\",근무!I19,\"\"))))))","v":"야간"},{"$f":"IF(달력!$S$28=\"순서1\",근무!D19,IF(달력!$S$28=\"순서2\",근무!E19,IF(달력!$S$28=\"순서3\",근무!F19,IF(달력!$S$28=\"순서4\",근무!G19,IF(달력!$S$28=\"순서5\",근무!H19,IF(달력!$S$28=\"순서6\",근무!I19,\"\"))))))","v":"비번"},{"$f":"IF(달력!$S$29=\"순서1\",근무!D19,IF(달력!$S$29=\"순서2\",근무!E19,IF(달력!$S$29=\"순서3\",근무!F19,IF(달력!$S$29=\"순서4\",근무!G19,IF(달력!$S$29=\"순서5\",근무!H19,IF(달력!$S$29=\"순서6\",근무!I19,\"\"))))))","v":"비번"},null,null,1]
[null,"2023-01-14","토",{"$f":"IF(달력!$S$24=\"순서1\",근무!D20,IF(달력!$S$24=\"순서2\",근무!E20,IF(달력!$S$24=\"순서3\",근무!F20,IF(달력!$S$24=\"순서4\",근무!G20,IF(달력!$S$24=\"순서5\",근무!H20,IF(달력!$S$24=\"순서6\",근무!I20,\"\"))))))","v":"주간"},{"$f":"IF(달력!$S$25=\"순서1\",근무!D20,IF(달력!$S$25=\"순서2\",근무!E20,IF(달력!$S$25=\"순서3\",근무!F20,IF(달력!$S$25=\"순서4\",근무!G20,IF(달력!$S$25=\"순서5\",근무!H20,IF(달력!$S$25=\"순서6\",근무!I20,\"\"))))))","v":"주간"},{"$f":"IF(달력!$S$26=\"순서1\",근무!D20,IF(달력!$S$26=\"순서2\",근무!E20,IF(달력!$S$26=\"순서3\",근무!F20,IF(달력!$S$26=\"순서4\",근무!G20,IF(달력!$S$26=\"순서5\",근무!H20,IF(달력!$S$26=\"순서6\",근무!I20,\"\"))))))","v":"야간"},{"$f":"IF(달력!$S$27=\"순서1\",근무!D20,IF(달력!$S$27=\"순서2\",근무!E20,IF(달력!$S$27=\"순서3\",근무!F20,IF(달력!$S$27=\"순서4\",근무!G20,IF(달력!$S$27=\"순서5\",근무!H20,IF(달력!$S$27=\"순서6\",근무!I20,\"\"))))))","v":"야간"},{"$f":"IF(달력!$S$28=\"순서1\",근무!D20,IF(달력!$S$28=\"순서2\",근무!E20,IF(달력!$S$28=\"순서3\",근무!F20,IF(달력!$S$28=\"순서4\",근무!G20,IF(달력!$S$28=\"순서5\",근무!H20,IF(달력!$S$28=\"순서6\",근무!I20,\"\"))))))","v":"비번"},{"$f":"IF(달력!$S$29=\"순서1\",근무!D20,IF(달력!$S$29=\"순서2\",근무!E20,IF(달력!$S$29=\"순서3\",근무!F20,IF(달력!$S$29=\"순서4\",근무!G20,IF(달력!$S$29=\"순서5\",근무!H20,IF(달력!$S$29=\"순서6\",근무!I20,\"\"))))))","v":"비번"},null,null,1]
[null,"2023-01-15","일",{"$f":"IF(달력!$S$24=\"순서1\",근무!D21,IF(달력!$S$24=\"순서2\",근무!E21,IF(달력!$S$24=\"순서3\",근무!F21,IF(달력!$S$24=\"순서4\",근무!G21,IF(달력!$S$24=\"순서5\",근무!H21,IF(달력!$S$24=\"순서6\",근무!I21,\"\"))))))","v":"야간"},{"$f":"IF(달력!$S$25=\"순서1\",근무!D21,IF(달력!$S$25=\"순서2\",근무!E21,IF(달력!$S$25=\"순서3\",근무!F21,IF(달력!$S$25=\"순서4\",근무!G21,IF(달력!$S$25=\"순서5\",근무!H21,IF(달력!$S$25=\"순서6\",근무!I21,\"\"))))))","v":"야간"},{"$f":"IF(달력!$S$26=\"순서1\",근무!D21,IF(달력!$S$26=\"순서2\",근무!E21,IF(달력!$S$26=\"순서3\",근무!F21,IF(달력!$S$26=\"순서4\",근무!G21,IF(달력!$S$26=\"순서5\",근무!H21,IF(달력!$S$26=\"순서6\",근무!I21,\"\"))))))","v":"비번"},{"$f":"IF(달력!$S$27=\"순서1\",근무!D21,IF(달력!$S$27=\"순서2\",근무!E21,IF(달력!$S$27=\"순서3\",근무!F21,IF(달력!$S$27=\"순서4\",근무!G21,IF(달력!$S$27=\"순서5\",근무!H21,IF(달력!$S$27=\"순서6\",근무!I21,\"\"))))))","v":"비번"},{"$f":"IF(달력!$S$28=\"순서1\",근무!D21,IF(달력!$S$28=\"순서2\",근무!E21,IF(달력!$S$28=\"순서3\",근무!F21,IF(달력!$S$28=\"순서4\",근무!G21,IF(달력!$S$28=\"순서5\",근무!H21,IF(달력!$S$28=\"순서6\",근무!I21,\"\"))))))","v":"주간"},{"$f":"IF(달력!$S$29=\"순서1\",근무!D21,IF(달력!$S$29=\"순서2\",근무!E21,IF(달력!$S$29=\"순서3\",근무!F21,IF(달력!$S$29=\"순서4\",근무!G21,IF(달력!$S$29=\"순서5\",근무!H21,IF(달력!$S$29=\"순서6\",근무!I21,\"\"))))))","v":"주간"},null,null,1]
[null,"2023-01-16","월",{"$f":"IF(달력!$S$24=\"순서1\",근무!D22,IF(달력!$S$24=\"순서2\",근무!E22,IF(달력!$S$24=\"순서3\",근무!F22,IF(달력!$S$24=\"순서4\",근무!G22,IF(달력!$S$24=\"순서5\",근무!H22,IF(달력!$S$24=\"순서6\",근무!I22,\"\"))))))","v":"야간"},{"$f":"IF(달력!$S$25=\"순서1\",근무!D22,IF(달력!$S$25=\"순서2\",근무!E22,IF(달력!$S$25=\"순서3\",근무!F22,IF(달력!$S$25=\"순서4\",근무!G22,IF(달력!$S$25=\"순서5\",근무!H22,IF(달력!$S$25=\"순서6\",근무!I22,\"\"))))))","v":"야간"},{"$f":"IF(달력!$S$26=\"순서1\",근무!D22,IF(달력!$S$26=\"순서2\",근무!E22,IF(달력!$S$26=\"순서3\",근무!F22,IF(달력!$S$26=\"순서4\",근무!G22,IF(달력!$S$26=\"순서5\",근무!H22,IF(달력!$S$26=\"순서6\",근무!I22,\"\"))))))","v":"비번"},{"$f":"IF(달력!$S$27=\"순서1\",근무!D22,IF(달력!$S$27=\"순서2\",근무!E22,IF(달력!$S$27=\"순서3\",근무!F22,IF(달력!$S$27=\"순서4\",근무!G22,IF(달력!$S$27=\"순서5\",근무!H22,IF(달력!$S$27=\"순서6\",근무!I22,\"\"))))))","v":"비번"},{"$f":"IF(달력!$S$28=\"순서1\",근무!D22,IF(달력!$S$28=\"순서2\",근무!E22,IF(달력!$S$28=\"순서3\",근무!F22,IF(달력!$S$28=\"순서4\",근무!G22,IF(달력!$S$28=\"순서5\",근무!H22,IF(달력!$S$28=\"순서6\",근무!I22,\"\"))))))","v":"주간"},{"$f":"IF(달력!$S$29=\"순서1\",근무!D22,IF(달력!$S$29=\"순서2\",근무!E22,IF(달력!$S$29=\"순서3\",근무!F22,IF(달력!$S$29=\"순서4\",근무!G22,IF(달력!$S$29=\"순서5\",근무!H22,IF(달력!$S$29=\"순서6\",근무!I22,\"\"))))))","v":"주간"},null,null,1]
[null,"2023-01-17","화",{"$f":"IF(달력!$S$24=\"순서1\",근무!D23,IF(달력!$S$24=\"순서2\",근무!E23,IF(달력!$S$24=\"순서3\",근무!F23,IF(달력!$S$24=\"순서4\",근무!G23,IF(달력!$S$24=\"순서5\",근무!H23,IF(달력!$S$24=\"순서6\",근무!I23,\"\"))))))","v":"비번"},{"$f":"IF(달력!$S$25=\"순서1\",근무!D23,IF(달력!$S$25=\"순서2\",근무!E23,IF(달력!$S$25=\"순서3\",근무!F23,IF(달력!$S$25=\"순서4\",근무!G23,IF(달력!$S$25=\"순서5\",근무!H23,IF(달력!$S$25=\"순서6\",근무!I23,\"\"))))))","v":"비번"},{"$f":"IF(달력!$S$26=\"순서1\",근무!D23,IF(달력!$S$26=\"순서2\",근무!E23,IF(달력!$S$26=\"순서3\",근무!F23,IF(달력!$S$26=\"순서4\",근무!G23,IF(달력!$S$26=\"순서5\",근무!H23,IF(달력!$S$26=\"순서6\",근무!I23,\"\"))))))","v":"주간"},{"$f":"IF(달력!$S$27=\"순서1\",근무!D23,IF(달력!$S$27=\"순서2\",근무!E23,IF(달력!$S$27=\"순서3\",근무!F23,IF(달력!$S$27=\"순서4\",근무!G23,IF(달력!$S$27=\"순서5\",근무!H23,IF(달력!$S$27=\"순서6\",근무!I23,\"\"))))))","v":"주간"},{"$f":"IF(달력!$S$28=\"순서1\",근무!D23,IF(달력!$S$28=\"순서2\",근무!E23,IF(달력!$S$28=\"순서3\",근무!F23,IF(달력!$S$28=\"순서4\",근무!G23,IF(달력!$S$28=\"순서5\",근무!H23,IF(달력!$S$28=\"순서6\",근무!I23,\"\"))))))","v":"야간"},{"$f":"IF(달력!$S$29=\"순서1\",근무!D23,IF(달력!$S$29=\"순서2\",근무!E23,IF(달력!$S$29=\"순서3\",근무!F23,IF(달력!$S$29=\"순서4\",근무!G23,IF(달력!$S$29=\"순서5\",근무!H23,IF(달력!$S$29=\"순서6\",근무!I23,\"\"))))))","v":"야간"},null,null,1]
[null,"2023-01-18","수",{"$f":"IF(달력!$S$24=\"순서1\",근무!D24,IF(달력!$S$24=\"순서2\",근무!E24,IF(달력!$S$24=\"순서3\",근무!F24,IF(달력!$S$24=\"순서4\",근무!G24,IF(달력!$S$24=\"순서5\",근무!H24,IF(달력!$S$24=\"순서6\",근무!I24,\"\"))))))","v":"비번"},{"$f":"IF(달력!$S$25=\"순서1\",근무!D24,IF(달력!$S$25=\"순서2\",근무!E24,IF(달력!$S$25=\"순서3\",근무!F24,IF(달력!$S$25=\"순서4\",근무!G24,IF(달력!$S$25=\"순서5\",근무!H24,IF(달력!$S$25=\"순서6\",근무!I24,\"\"))))))","v":"비번"},{"$f":"IF(달력!$S$26=\"순서1\",근무!D24,IF(달력!$S$26=\"순서2\",근무!E24,IF(달력!$S$26=\"순서3\",근무!F24,IF(달력!$S$26=\"순서4\",근무!G24,IF(달력!$S$26=\"순서5\",근무!H24,IF(달력!$S$26=\"순서6\",근무!I24,\"\"))))))","v":"주간"},{"$f":"IF(달력!$S$27=\"순서1\",근무!D24,IF(달력!$S$27=\"순서2\",근무!E24,IF(달력!$S$27=\"순서3\",근무!F24,IF(달력!$S$27=\"순서4\",근무!G24,IF(달력!$S$27=\"순서5\",근무!H24,IF(달력!$S$27=\"순서6\",근무!I24,\"\"))))))","v":"주간"},{"$f":"IF(달력!$S$28=\"순서1\",근무!D24,IF(달력!$S$28=\"순서2\",근무!E24,IF(달력!$S$28=\"순서3\",근무!F24,IF(달력!$S$28=\"순서4\",근무!G24,IF(달력!$S$28=\"순서5\",근무!H24,IF(달력!$S$28=\"순서6\",근무!I24,\"\"))))))","v":"야간"},{"$f":"IF(달력!$S$29=\"순서1\",근무!D24,IF(달력!$S$29=\"순서2\",근무!E24,IF(달력!$S$29=\"순서3\",근무!F24,IF(달력!$S$29=\"순서4\",근무!G24,IF(달력!$S$29=\"순서5\",근무!H24,IF(달력!$S$29=\"순서6\",근무!I24,\"\"))))))","v":"야간"},null,null,1]
[null,"2023-01-19","목",{"$f":"IF(달력!$S$24=\"순서1\",근무!D25,IF(달력!$S$24=\"순서2\",근무!E25,IF(달력!$S$24=\"순서3\",근무!F25,IF(달력!$S$24=\"순서4\",근무!G25,IF(달력!$S$24=\"순서5\",근무!H25,IF(달력!$S$24=\"순서6\",근무!I25,\"\"))))))","v":"주간"},{"$f":"IF(달력!$S$25=\"순서1\",근무!D25,IF(달력!$S$25=\"순서2\",근무!E25,IF(달력!$S$25=\"순서3\",근무!F25,IF(달력!$S$25=\"순서4\",근무!G25,IF(달력!$S$25=\"순서5\",근무!H25,IF(달력!$S$25=\"순서6\",근무!I25,\"\"))))))","v":"주간"},{"$f":"IF(달력!$S$26=\"순서1\",근무!D25,IF(달력!$S$26=\"순서2\",근무!E25,IF(달력!$S$26=\"순서3\",근무!F25,IF(달력!$S$26=\"순서4\",근무!G25,IF(달력!$S$26=\"순서5\",근무!H25,IF(달력!$S$26=\"순서6\",근무!I25,\"\"))))))","v":"야간"},{"$f":"IF(달력!$S$27=\"순서1\",근무!D25,IF(달력!$S$27=\"순서2\",근무!E25,IF(달력!$S$27=\"순서3\",근무!F25,IF(달력!$S$27=\"순서4\",근무!G25,IF(달력!$S$27=\"순서5\",근무!H25,IF(달력!$S$27=\"순서6\",근무!I25,\"\"))))))","v":"야간"},{"$f":"IF(달력!$S$28=\"순서1\",근무!D25,IF(달력!$S$28=\"순서2\",근무!E25,IF(달력!$S$28=\"순서3\",근무!F25,IF(달력!$S$28=\"순서4\",근무!G25,IF(달력!$S$28=\"순서5\",근무!H25,IF(달력!$S$28=\"순서6\",근무!I25,\"\"))))))","v":"비번"},{"$f":"IF(달력!$S$29=\"순서1\",근무!D25,IF(달력!$S$29=\"순서2\",근무!E25,IF(달력!$S$29=\"순서3\",근무!F25,IF(달력!$S$29=\"순서4\",근무!G25,IF(달력!$S$29=\"순서5\",근무!H25,IF(달력!$S$29=\"순서6\",근무!I25,\"\"))))))","v":"비번"},null,null,1]
[null,"2023-01-20","금",{"$f":"IF(달력!$S$24=\"순서1\",근무!D26,IF(달력!$S$24=\"순서2\",근무!E26,IF(달력!$S$24=\"순서3\",근무!F26,IF(달력!$S$24=\"순서4\",근무!G26,IF(달력!$S$24=\"순서5\",근무!H26,IF(달력!$S$24=\"순서6\",근무!I26,\"\"))))))","v":"주간"},{"$f":"IF(달력!$S$25=\"순서1\",근무!D26,IF(달력!$S$25=\"순서2\",근무!E26,IF(달력!$S$25=\"순서3\",근무!F26,IF(달력!$S$25=\"순서4\",근무!G26,IF(달력!$S$25=\"순서5\",근무!H26,IF(달력!$S$25=\"순서6\",근무!I26,\"\"))))))","v":"주간"},{"$f":"IF(달력!$S$26=\"순서1\",근무!D26,IF(달력!$S$26=\"순서2\",근무!E26,IF(달력!$S$26=\"순서3\",근무!F26,IF(달력!$S$26=\"순서4\",근무!G26,IF(달력!$S$26=\"순서5\",근무!H26,IF(달력!$S$26=\"순서6\",근무!I26,\"\"))))))","v":"야간"},{"$f":"IF(달력!$S$27=\"순서1\",근무!D26,IF(달력!$S$27=\"순서2\",근무!E26,IF(달력!$S$27=\"순서3\",근무!F26,IF(달력!$S$27=\"순서4\",근무!G26,IF(달력!$S$27=\"순서5\",근무!H26,IF(달력!$S$27=\"순서6\",근무!I26,\"\"))))))","v":"야간"},{"$f":"IF(달력!$S$28=\"순서1\",근무!D26,IF(달력!$S$28=\"순서2\",근무!E26,IF(달력!$S$28=\"순서3\",근무!F26,IF(달력!$S$28=\"순서4\",근무!G26,IF(달력!$S$28=\"순서5\",근무!H26,IF(달력!$S$28=\"순서6\",근무!I26,\"\"))))))","v":"비번"},{"$f":"IF(달력!$S$29=\"순서1\",근무!D26,IF(달력!$S$29=\"순서2\",근무!E26,IF(달력!$S$29=\"순서3\",근무!F26,IF(달력!$S$29=\"순서4\",근무!G26,IF(달력!$S$29=\"순서5\",근무!H26,IF(달력!$S$29=\"순서6\",근무!I26,\"\"))))))","v":"비번"},null,null,1]
[null,"2023-01-21","토",{"$f":"IF(달력!$S$24=\"순서1\",근무!D27,IF(달력!$S$24=\"순서2\",근무!E27,IF(달력!$S$24=\"순서3\",근무!F27,IF(달력!$S$24=\"순서4\",근무!G27,IF(달력!$S$24=\"순서5\",근무!H27,IF(달력!$S$24=\"순서6\",근무!I27,\"\"))))))","v":"야간"},{"$f":"IF(달력!$S$25=\"순서1\",근무!D27,IF(달력!$S$25=\"순서2\",근무!E27,IF(달력!$S$25=\"순서3\",근무!F27,IF(달력!$S$25=\"순서4\",근무!G27,IF(달력!$S$25=\"순서5\",근무!H27,IF(달력!$S$25=\"순서6\",근무!I27,\"\"))))))","v":"야간"},{"$f":"IF(달력!$S$26=\"순서1\",근무!D27,IF(달력!$S$26=\"순서2\",근무!E27,IF(달력!$S$26=\"순서3\",근무!F27,IF(달력!$S$26=\"순서4\",근무!G27,IF(달력!$S$26=\"순서5\",근무!H27,IF(달력!$S$26=\"순서6\",근무!I27,\"\"))))))","v":"비번"},{"$f":"IF(달력!$S$27=\"순서1\",근무!D27,IF(달력!$S$27=\"순서2\",근무!E27,IF(달력!$S$27=\"순서3\",근무!F27,IF(달력!$S$27=\"순서4\",근무!G27,IF(달력!$S$27=\"순서5\",근무!H27,IF(달력!$S$27=\"순서6\",근무!I27,\"\"))))))","v":"비번"},{"$f":"IF(달력!$S$28=\"순서1\",근무!D27,IF(달력!$S$28=\"순서2\",근무!E27,IF(달력!$S$28=\"순서3\",근무!F27,IF(달력!$S$28=\"순서4\",근무!G27,IF(달력!$S$28=\"순서5\",근무!H27,IF(달력!$S$28=\"순서6\",근무!I27,\"\"))))))","v":"주간"},{"$f":"IF(달력!$S$29=\"순서1\",근무!D27,IF(달력!$S$29=\"순서2\",근무!E27,IF(달력!$S$29=\"순서3\",근무!F27,IF(달력!$S$29=\"순서4\",근무!G27,IF(달력!$S$29=\"순서5\",근무!H27,IF(달력!$S$29=\"순서6\",근무!I27,\"\"))))))","v":"주간"},null,null,1]
[null,"2023-01-22","일",{"$f":"IF(달력!$S$24=\"순서1\",근무!D28,IF(달력!$S$24=\"순서2\",근무!E28,IF(달력!$S$24=\"순서3\",근무!F28,IF(달력!$S$24=\"순서4\",근무!G28,IF(달력!$S$24=\"순서5\",근무!H28,IF(달력!$S$24=\"순서6\",근무!I28,\"\"))))))","v":"야간"},{"$f":"IF(달력!$S$25=\"순서1\",근무!D28,IF(달력!$S$25=\"순서2\",근무!E28,IF(달력!$S$25=\"순서3\",근무!F28,IF(달력!$S$25=\"순서4\",근무!G28,IF(달력!$S$25=\"순서5\",근무!H28,IF(달력!$S$25=\"순서6\",근무!I28,\"\"))))))","v":"야간"},{"$f":"IF(달력!$S$26=\"순서1\",근무!D28,IF(달력!$S$26=\"순서2\",근무!E28,IF(달력!$S$26=\"순서3\",근무!F28,IF(달력!$S$26=\"순서4\",근무!G28,IF(달력!$S$26=\"순서5\",근무!H28,IF(달력!$S$26=\"순서6\",근무!I28,\"\"))))))","v":"비번"},{"$f":"IF(달력!$S$27=\"순서1\",근무!D28,IF(달력!$S$27=\"순서2\",근무!E28,IF(달력!$S$27=\"순서3\",근무!F28,IF(달력!$S$27=\"순서4\",근무!G28,IF(달력!$S$27=\"순서5\",근무!H28,IF(달력!$S$27=\"순서6\",근무!I28,\"\"))))))","v":"비번"},{"$f":"IF(달력!$S$28=\"순서1\",근무!D28,IF(달력!$S$28=\"순서2\",근무!E28,IF(달력!$S$28=\"순서3\",근무!F28,IF(달력!$S$28=\"순서4\",근무!G28,IF(달력!$S$28=\"순서5\",근무!H28,IF(달력!$S$28=\"순서6\",근무!I28,\"\"))))))","v":"주간"},{"$f":"IF(달력!$S$29=\"순서1\",근무!D28,IF(달력!$S$29=\"순서2\",근무!E28,IF(달력!$S$29=\"순서3\",근무!F28,IF(달력!$S$29=\"순서4\",근무!G28,IF(달력!$S$29=\"순서5\",근무!H28,IF(달력!$S$29=\"순서6\",근무!I28,\"\"))))))","v":"주간"},null,null,1]
[null,"2023-01-23","월",{"$f":"IF(달력!$S$24=\"순서1\",근무!D29,IF(달력!$S$24=\"순서2\",근무!E29,IF(달력!$S$24=\"순서3\",근무!F29,IF(달력!$S$24=\"순서4\",근무!G29,IF(달력!$S$24=\"순서5\",근무!H29,IF(달력!$S$24=\"순서6\",근무!I29,\"\"))))))","v":"비번"},{"$f":"IF(달력!$S$25=\"순서1\",근무!D29,IF(달력!$S$25=\"순서2\",근무!E29,IF(달력!$S$25=\"순서3\",근무!F29,IF(달력!$S$25=\"순서4\",근무!G29,IF(달력!$S$25=\"순서5\",근무!H29,IF(달력!$S$25=\"순서6\",근무!I29,\"\"))))))","v":"비번"},{"$f":"IF(달력!$S$26=\"순서1\",근무!D29,IF(달력!$S$26=\"순서2\",근무!E29,IF(달력!$S$26=\"순서3\",근무!F29,IF(달력!$S$26=\"순서4\",근무!G29,IF(달력!$S$26=\"순서5\",근무!H29,IF(달력!$S$26=\"순서6\",근무!I29,\"\"))))))","v":"주간"},{"$f":"IF(달력!$S$27=\"순서1\",근무!D29,IF(달력!$S$27=\"순서2\",근무!E29,IF(달력!$S$27=\"순서3\",근무!F29,IF(달력!$S$27=\"순서4\",근무!G29,IF(달력!$S$27=\"순서5\",근무!H29,IF(달력!$S$27=\"순서6\",근무!I29,\"\"))))))","v":"주간"},{"$f":"IF(달력!$S$28=\"순서1\",근무!D29,IF(달력!$S$28=\"순서2\",근무!E29,IF(달력!$S$28=\"순서3\",근무!F29,IF(달력!$S$28=\"순서4\",근무!G29,IF(달력!$S$28=\"순서5\",근무!H29,IF(달력!$S$28=\"순서6\",근무!I29,\"\"))))))","v":"야간"},{"$f":"IF(달력!$S$29=\"순서1\",근무!D29,IF(달력!$S$29=\"순서2\",근무!E29,IF(달력!$S$29=\"순서3\",근무!F29,IF(달력!$S$29=\"순서4\",근무!G29,IF(달력!$S$29=\"순서5\",근무!H29,IF(달력!$S$29=\"순서6\",근무!I29,\"\"))))))","v":"야간"},null,null,1]
[null,"2023-01-24","화",{"$f":"IF(달력!$S$24=\"순서1\",근무!D30,IF(달력!$S$24=\"순서2\",근무!E30,IF(달력!$S$24=\"순서3\",근무!F30,IF(달력!$S$24=\"순서4\",근무!G30,IF(달력!$S$24=\"순서5\",근무!H30,IF(달력!$S$24=\"순서6\",근무!I30,\"\"))))))","v":"비번"},{"$f":"IF(달력!$S$25=\"순서1\",근무!D30,IF(달력!$S$25=\"순서2\",근무!E30,IF(달력!$S$25=\"순서3\",근무!F30,IF(달력!$S$25=\"순서4\",근무!G30,IF(달력!$S$25=\"순서5\",근무!H30,IF(달력!$S$25=\"순서6\",근무!I30,\"\"))))))","v":"비번"},{"$f":"IF(달력!$S$26=\"순서1\",근무!D30,IF(달력!$S$26=\"순서2\",근무!E30,IF(달력!$S$26=\"순서3\",근무!F30,IF(달력!$S$26=\"순서4\",근무!G30,IF(달력!$S$26=\"순서5\",근무!H30,IF(달력!$S$26=\"순서6\",근무!I30,\"\"))))))","v":"주간"},{"$f":"IF(달력!$S$27=\"순서1\",근무!D30,IF(달력!$S$27=\"순서2\",근무!E30,IF(달력!$S$27=\"순서3\",근무!F30,IF(달력!$S$27=\"순서4\",근무!G30,IF(달력!$S$27=\"순서5\",근무!H30,IF(달력!$S$27=\"순서6\",근무!I30,\"\"))))))","v":"주간"},{"$f":"IF(달력!$S$28=\"순서1\",근무!D30,IF(달력!$S$28=\"순서2\",근무!E30,IF(달력!$S$28=\"순서3\",근무!F30,IF(달력!$S$28=\"순서4\",근무!G30,IF(달력!$S$28=\"순서5\",근무!H30,IF(달력!$S$28=\"순서6\",근무!I30,\"\"))))))","v":"야간"},{"$f":"IF(달력!$S$29=\"순서1\",근무!D30,IF(달력!$S$29=\"순서2\",근무!E30,IF(달력!$S$29=\"순서3\",근무!F30,IF(달력!$S$29=\"순서4\",근무!G30,IF(달력!$S$29=\"순서5\",근무!H30,IF(달력!$S$29=\"순서6\",근무!I30,\"\"))))))","v":"야간"},null,null,1]
[null,"2023-01-25","수",{"$f":"IF(달력!$S$24=\"순서1\",근무!D31,IF(달력!$S$24=\"순서2\",근무!E31,IF(달력!$S$24=\"순서3\",근무!F31,IF(달력!$S$24=\"순서4\",근무!G31,IF(달력!$S$24=\"순서5\",근무!H31,IF(달력!$S$24=\"순서6\",근무!I31,\"\"))))))","v":"주간"},{"$f":"IF(달력!$S$25=\"순서1\",근무!D31,IF(달력!$S$25=\"순서2\",근무!E31,IF(달력!$S$25=\"순서3\",근무!F31,IF(달력!$S$25=\"순서4\",근무!G31,IF(달력!$S$25=\"순서5\",근무!H31,IF(달력!$S$25=\"순서6\",근무!I31,\"\"))))))","v":"주간"},{"$f":"IF(달력!$S$26=\"순서1\",근무!D31,IF(달력!$S$26=\"순서2\",근무!E31,IF(달력!$S$26=\"순서3\",근무!F31,IF(달력!$S$26=\"순서4\",근무!G31,IF(달력!$S$26=\"순서5\",근무!H31,IF(달력!$S$26=\"순서6\",근무!I31,\"\"))))))","v":"야간"},{"$f":"IF(달력!$S$27=\"순서1\",근무!D31,IF(달력!$S$27=\"순서2\",근무!E31,IF(달력!$S$27=\"순서3\",근무!F31,IF(달력!$S$27=\"순서4\",근무!G31,IF(달력!$S$27=\"순서5\",근무!H31,IF(달력!$S$27=\"순서6\",근무!I31,\"\"))))))","v":"야간"},{"$f":"IF(달력!$S$28=\"순서1\",근무!D31,IF(달력!$S$28=\"순서2\",근무!E31,IF(달력!$S$28=\"순서3\",근무!F31,IF(달력!$S$28=\"순서4\",근무!G31,IF(달력!$S$28=\"순서5\",근무!H31,IF(달력!$S$28=\"순서6\",근무!I31,\"\"))))))","v":"비번"},{"$f":"IF(달력!$S$29=\"순서1\",근무!D31,IF(달력!$S$29=\"순서2\",근무!E31,IF(달력!$S$29=\"순서3\",근무!F31,IF(달력!$S$29=\"순서4\",근무!G31,IF(달력!$S$29=\"순서5\",근무!H31,IF(달력!$S$29=\"순서6\",근무!I31,\"\"))))))","v":"비번"},null,null,1]
[null,"2023-01-26","목",{"$f":"IF(달력!$S$24=\"순서1\",근무!D32,IF(달력!$S$24=\"순서2\",근무!E32,IF(달력!$S$24=\"순서3\",근무!F32,IF(달력!$S$24=\"순서4\",근무!G32,IF(달력!$S$24=\"순서5\",근무!H32,IF(달력!$S$24=\"순서6\",근무!I32,\"\"))))))","v":"주간"},{"$f":"IF(달력!$S$25=\"순서1\",근무!D32,IF(달력!$S$25=\"순서2\",근무!E32,IF(달력!$S$25=\"순서3\",근무!F32,IF(달력!$S$25=\"순서4\",근무!G32,IF(달력!$S$25=\"순서5\",근무!H32,IF(달력!$S$25=\"순서6\",근무!I32,\"\"))))))","v":"주간"},{"$f":"IF(달력!$S$26=\"순서1\",근무!D32,IF(달력!$S$26=\"순서2\",근무!E32,IF(달력!$S$26=\"순서3\",근무!F32,IF(달력!$S$26=\"순서4\",근무!G32,IF(달력!$S$26=\"순서5\",근무!H32,IF(달력!$S$26=\"순서6\",근무!I32,\"\"))))))","v":"야간"},{"$f":"IF(달력!$S$27=\"순서1\",근무!D32,IF(달력!$S$27=\"순서2\",근무!E32,IF(달력!$S$27=\"순서3\",근무!F32,IF(달력!$S$27=\"순서4\",근무!G32,IF(달력!$S$27=\"순서5\",근무!H32,IF(달력!$S$27=\"순서6\",근무!I32,\"\"))))))","v":"야간"},{"$f":"IF(달력!$S$28=\"순서1\",근무!D32,IF(달력!$S$28=\"순서2\",근무!E32,IF(달력!$S$28=\"순서3\",근무!F32,IF(달력!$S$28=\"순서4\",근무!G32,IF(달력!$S$28=\"순서5\",근무!H32,IF(달력!$S$28=\"순서6\",근무!I32,\"\"))))))","v":"비번"},{"$f":"IF(달력!$S$29=\"순서1\",근무!D32,IF(달력!$S$29=\"순서2\",근무!E32,IF(달력!$S$29=\"순서3\",근무!F32,IF(달력!$S$29=\"순서4\",근무!G32,IF(달력!$S$29=\"순서5\",근무!H32,IF(달력!$S$29=\"순서6\",근무!I32,\"\"))))))","v":"비번"},null,null,1]
[null,"2023-01-27","금",{"$f":"IF(달력!$S$24=\"순서1\",근무!D33,IF(달력!$S$24=\"순서2\",근무!E33,IF(달력!$S$24=\"순서3\",근무!F33,IF(달력!$S$24=\"순서4\",근무!G33,IF(달력!$S$24=\"순서5\",근무!H33,IF(달력!$S$24=\"순서6\",근무!I33,\"\"))))))","v":"야간"},{"$f":"IF(달력!$S$25=\"순서1\",근무!D33,IF(달력!$S$25=\"순서2\",근무!E33,IF(달력!$S$25=\"순서3\",근무!F33,IF(달력!$S$25=\"순서4\",근무!G33,IF(달력!$S$25=\"순서5\",근무!H33,IF(달력!$S$25=\"순서6\",근무!I33,\"\"))))))","v":"야간"},{"$f":"IF(달력!$S$26=\"순서1\",근무!D33,IF(달력!$S$26=\"순서2\",근무!E33,IF(달력!$S$26=\"순서3\",근무!F33,IF(달력!$S$26=\"순서4\",근무!G33,IF(달력!$S$26=\"순서5\",근무!H33,IF(달력!$S$26=\"순서6\",근무!I33,\"\"))))))","v":"비번"},{"$f":"IF(달력!$S$27=\"순서1\",근무!D33,IF(달력!$S$27=\"순서2\",근무!E33,IF(달력!$S$27=\"순서3\",근무!F33,IF(달력!$S$27=\"순서4\",근무!G33,IF(달력!$S$27=\"순서5\",근무!H33,IF(달력!$S$27=\"순서6\",근무!I33,\"\"))))))","v":"비번"},{"$f":"IF(달력!$S$28=\"순서1\",근무!D33,IF(달력!$S$28=\"순서2\",근무!E33,IF(달력!$S$28=\"순서3\",근무!F33,IF(달력!$S$28=\"순서4\",근무!G33,IF(달력!$S$28=\"순서5\",근무!H33,IF(달력!$S$28=\"순서6\",근무!I33,\"\"))))))","v":"주간"},{"$f":"IF(달력!$S$29=\"순서1\",근무!D33,IF(달력!$S$29=\"순서2\",근무!E33,IF(달력!$S$29=\"순서3\",근무!F33,IF(달력!$S$29=\"순서4\",근무!G33,IF(달력!$S$29=\"순서5\",근무!H33,IF(달력!$S$29=\"순서6\",근무!I33,\"\"))))))","v":"주간"},null,null,1]
[null,"2023-01-28","토",{"$f":"IF(달력!$S$24=\"순서1\",근무!D34,IF(달력!$S$24=\"순서2\",근무!E34,IF(달력!$S$24=\"순서3\",근무!F34,IF(달력!$S$24=\"순서4\",근무!G34,IF(달력!$S$24=\"순서5\",근무!H34,IF(달력!$S$24=\"순서6\",근무!I34,\"\"))))))","v":"야간"},{"$f":"IF(달력!$S$25=\"순서1\",근무!D34,IF(달력!$S$25=\"순서2\",근무!E34,IF(달력!$S$25=\"순서3\",근무!F34,IF(달력!$S$25=\"순서4\",근무!G34,IF(달력!$S$25=\"순서5\",근무!H34,IF(달력!$S$25=\"순서6\",근무!I34,\"\"))))))","v":"야간"},{"$f":"IF(달력!$S$26=\"순서1\",근무!D34,IF(달력!$S$26=\"순서2\",근무!E34,IF(달력!$S$26=\"순서3\",근무!F34,IF(달력!$S$26=\"순서4\",근무!G34,IF(달력!$S$26=\"순서5\",근무!H34,IF(달력!$S$26=\"순서6\",근무!I34,\"\"))))))","v":"비번"},{"$f":"IF(달력!$S$27=\"순서1\",근무!D34,IF(달력!$S$27=\"순서2\",근무!E34,IF(달력!$S$27=\"순서3\",근무!F34,IF(달력!$S$27=\"순서4\",근무!G34,IF(달력!$S$27=\"순서5\",근무!H34,IF(달력!$S$27=\"순서6\",근무!I34,\"\"))))))","v":"비번"},{"$f":"IF(달력!$S$28=\"순서1\",근무!D34,IF(달력!$S$28=\"순서2\",근무!E34,IF(달력!$S$28=\"순서3\",근무!F34,IF(달력!$S$28=\"순서4\",근무!G34,IF(달력!$S$28=\"순서5\",근무!H34,IF(달력!$S$28=\"순서6\",근무!I34,\"\"))))))","v":"주간"},{"$f":"IF(달력!$S$29=\"순서1\",근무!D34,IF(달력!$S$29=\"순서2\",근무!E34,IF(달력!$S$29=\"순서3\",근무!F34,IF(달력!$S$29=\"순서4\",근무!G34,IF(달력!$S$29=\"순서5\",근무!H34,IF(달력!$S$29=\"순서6\",근무!I34,\"\"))))))","v":"주간"},null,null,1]
[null,"2023-01-29","일",{"$f":"IF(달력!$S$24=\"순서1\",근무!D35,IF(달력!$S$24=\"순서2\",근무!E35,IF(달력!$S$24=\"순서3\",근무!F35,IF(달력!$S$24=\"순서4\",근무!G35,IF(달력!$S$24=\"순서5\",근무!H35,IF(달력!$S$24=\"순서6\",근무!I35,\"\"))))))","v":"비번"},{"$f":"IF(달력!$S$25=\"순서1\",근무!D35,IF(달력!$S$25=\"순서2\",근무!E35,IF(달력!$S$25=\"순서3\",근무!F35,IF(달력!$S$25=\"순서4\",근무!G35,IF(달력!$S$25=\"순서5\",근무!H35,IF(달력!$S$25=\"순서6\",근무!I35,\"\"))))))","v":"비번"},{"$f":"IF(달력!$S$26=\"순서1\",근무!D35,IF(달력!$S$26=\"순서2\",근무!E35,IF(달력!$S$26=\"순서3\",근무!F35,IF(달력!$S$26=\"순서4\",근무!G35,IF(달력!$S$26=\"순서5\",근무!H35,IF(달력!$S$26=\"순서6\",근무!I35,\"\"))))))","v":"주간"},{"$f":"IF(달력!$S$27=\"순서1\",근무!D35,IF(달력!$S$27=\"순서2\",근무!E35,IF(달력!$S$27=\"순서3\",근무!F35,IF(달력!$S$27=\"순서4\",근무!G35,IF(달력!$S$27=\"순서5\",근무!H35,IF(달력!$S$27=\"순서6\",근무!I35,\"\"))))))","v":"주간"},{"$f":"IF(달력!$S$28=\"순서1\",근무!D35,IF(달력!$S$28=\"순서2\",근무!E35,IF(달력!$S$28=\"순서3\",근무!F35,IF(달력!$S$28=\"순서4\",근무!G35,IF(달력!$S$28=\"순서5\",근무!H35,IF(달력!$S$28=\"순서6\",근무!I35,\"\"))))))","v":"야간"},{"$f":"IF(달력!$S$29=\"순서1\",근무!D35,IF(달력!$S$29=\"순서2\",근무!E35,IF(달력!$S$29=\"순서3\",근무!F35,IF(달력!$S$29=\"순서4\",근무!G35,IF(달력!$S$29=\"순서5\",근무!H35,IF(달력!$S$29=\"순서6\",근무!I35,\"\"))))))","v":"야간"},null,null,1]
[null,"2023-01-30","월",{"$f":"IF(달력!$S$24=\"순서1\",근무!D36,IF(달력!$S$24=\"순서2\",근무!E36,IF(달력!$S$24=\"순서3\",근무!F36,IF(달력!$S$24=\"순서4\",근무!G36,IF(달력!$S$24=\"순서5\",근무!H36,IF(달력!$S$24=\"순서6\",근무!I36,\"\"))))))","v":"비번"},{"$f":"IF(달력!$S$25=\"순서1\",근무!D36,IF(달력!$S$25=\"순서2\",근무!E36,IF(달력!$S$25=\"순서3\",근무!F36,IF(달력!$S$25=\"순서4\",근무!G36,IF(달력!$S$25=\"순서5\",근무!H36,IF(달력!$S$25=\"순서6\",근무!I36,\"\"))))))","v":"비번"},{"$f":"IF(달력!$S$26=\"순서1\",근무!D36,IF(달력!$S$26=\"순서2\",근무!E36,IF(달력!$S$26=\"순서3\",근무!F36,IF(달력!$S$26=\"순서4\",근무!G36,IF(달력!$S$26=\"순서5\",근무!H36,IF(달력!$S$26=\"순서6\",근무!I36,\"\"))))))","v":"주간"},{"$f":"IF(달력!$S$27=\"순서1\",근무!D36,IF(달력!$S$27=\"순서2\",근무!E36,IF(달력!$S$27=\"순서3\",근무!F36,IF(달력!$S$27=\"순서4\",근무!G36,IF(달력!$S$27=\"순서5\",근무!H36,IF(달력!$S$27=\"순서6\",근무!I36,\"\"))))))","v":"주간"},{"$f":"IF(달력!$S$28=\"순서1\",근무!D36,IF(달력!$S$28=\"순서2\",근무!E36,IF(달력!$S$28=\"순서3\",근무!F36,IF(달력!$S$28=\"순서4\",근무!G36,IF(달력!$S$28=\"순서5\",근무!H36,IF(달력!$S$28=\"순서6\",근무!I36,\"\"))))))","v":"야간"},{"$f":"IF(달력!$S$29=\"순서1\",근무!D36,IF(달력!$S$29=\"순서2\",근무!E36,IF(달력!$S$29=\"순서3\",근무!F36,IF(달력!$S$29=\"순서4\",근무!G36,IF(달력!$S$29=\"순서5\",근무!H36,IF(달력!$S$29=\"순서6\",근무!I36,\"\"))))))","v":"야간"},null,null,1]
[null,"2023-01-31","화",{"$f":"IF(달력!$S$24=\"순서1\",근무!D37,IF(달력!$S$24=\"순서2\",근무!E37,IF(달력!$S$24=\"순서3\",근무!F37,IF(달력!$S$24=\"순서4\",근무!G37,IF(달력!$S$24=\"순서5\",근무!H37,IF(달력!$S$24=\"순서6\",근무!I37,\"\"))))))","v":"주간"},{"$f":"IF(달력!$S$25=\"순서1\",근무!D37,IF(달력!$S$25=\"순서2\",근무!E37,IF(달력!$S$25=\"순서3\",근무!F37,IF(달력!$S$25=\"순서4\",근무!G37,IF(달력!$S$25=\"순서5\",근무!H37,IF(달력!$S$25=\"순서6\",근무!I37,\"\"))))))","v":"주간"},{"$f":"IF(달력!$S$26=\"순서1\",근무!D37,IF(달력!$S$26=\"순서2\",근무!E37,IF(달력!$S$26=\"순서3\",근무!F37,IF(달력!$S$26=\"순서4\",근무!G37,IF(달력!$S$26=\"순서5\",근무!H37,IF(달력!$S$26=\"순서6\",근무!I37,\"\"))))))","v":"야간"},{"$f":"IF(달력!$S$27=\"순서1\",근무!D37,IF(달력!$S$27=\"순서2\",근무!E37,IF(달력!$S$27=\"순서3\",근무!F37,IF(달력!$S$27=\"순서4\",근무!G37,IF(달력!$S$27=\"순서5\",근무!H37,IF(달력!$S$27=\"순서6\",근무!I37,\"\"))))))","v":"야간"},{"$f":"IF(달력!$S$28=\"순서1\",근무!D37,IF(달력!$S$28=\"순서2\",근무!E37,IF(달력!$S$28=\"순서3\",근무!F37,IF(달력!$S$28=\"순서4\",근무!G37,IF(달력!$S$28=\"순서5\",근무!H37,IF(달력!$S$28=\"순서6\",근무!I37,\"\"))))))","v":"비번"},{"$f":"IF(달력!$S$29=\"순서1\",근무!D37,IF(달력!$S$29=\"순서2\",근무!E37,IF(달력!$S$29=\"순서3\",근무!F37,IF(달력!$S$29=\"순서4\",근무!G37,IF(달력!$S$29=\"순서5\",근무!H37,IF(달력!$S$29=\"순서6\",근무!I37,\"\"))))))","v":"비번"},null,null,1]
[null,"2023-02-01","수",{"$f":"IF(달력!$S$24=\"순서1\",근무!D38,IF(달력!$S$24=\"순서2\",근무!E38,IF(달력!$S$24=\"순서3\",근무!F38,IF(달력!$S$24=\"순서4\",근무!G38,IF(달력!$S$24=\"순서5\",근무!H38,IF(달력!$S$24=\"순서6\",근무!I38,\"\"))))))","v":"주간"},{"$f":"IF(달력!$S$25=\"순서1\",근무!D38,IF(달력!$S$25=\"순서2\",근무!E38,IF(달력!$S$25=\"순서3\",근무!F38,IF(달력!$S$25=\"순서4\",근무!G38,IF(달력!$S$25=\"순서5\",근무!H38,IF(달력!$S$25=\"순서6\",근무!I38,\"\"))))))","v":"주간"},{"$f":"IF(달력!$S$26=\"순서1\",근무!D38,IF(달력!$S$26=\"순서2\",근무!E38,IF(달력!$S$26=\"순서3\",근무!F38,IF(달력!$S$26=\"순서4\",근무!G38,IF(달력!$S$26=\"순서5\",근무!H38,IF(달력!$S$26=\"순서6\",근무!I38,\"\"))))))","v":"야간"},{"$f":"IF(달력!$S$27=\"순서1\",근무!D38,IF(달력!$S$27=\"순서2\",근무!E38,IF(달력!$S$27=\"순서3\",근무!F38,IF(달력!$S$27=\"순서4\",근무!G38,IF(달력!$S$27=\"순서5\",근무!H38,IF(달력!$S$27=\"순서6\",근무!I38,\"\"))))))","v":"야간"},{"$f":"IF(달력!$S$28=\"순서1\",근무!D38,IF(달력!$S$28=\"순서2\",근무!E38,IF(달력!$S$28=\"순서3\",근무!F38,IF(달력!$S$28=\"순서4\",근무!G38,IF(달력!$S$28=\"순서5\",근무!H38,IF(달력!$S$28=\"순서6\",근무!I38,\"\"))))))","v":"비번"},{"$f":"IF(달력!$S$29=\"순서1\",근무!D38,IF(달력!$S$29=\"순서2\",근무!E38,IF(달력!$S$29=\"순서3\",근무!F38,IF(달력!$S$29=\"순서4\",근무!G38,IF(달력!$S$29=\"순서5\",근무!H38,IF(달력!$S$29=\"순서6\",근무!I38,\"\"))))))","v":"비번"},null,"주간",2,{"$f":"COUNTIFS(일정1내용,$K38,$L$7:$L$372,2)","v":9},{"$f":"COUNTIFS(일정2내용,$K38,$L$7:$L$372,2)","v":9},{"$f":"COUNTIFS(일정3내용,$K38,$L$7:$L$372,2)","v":9},{"$f":"COUNTIFS(일정4내용,$K38,$L$7:$L$372,2)","v":9},{"$f":"COUNTIFS(일정5내용,$K38,$L$7:$L$372,2)","v":10},{"$f":"COUNTIFS(일정6내용,$K38,$L$7:$L$372,2)","v":10}]
[null,"2023-02-02","목",{"$f":"IF(달력!$S$24=\"순서1\",근무!D39,IF(달력!$S$24=\"순서2\",근무!E39,IF(달력!$S$24=\"순서3\",근무!F39,IF(달력!$S$24=\"순서4\",근무!G39,IF(달력!$S$24=\"순서5\",근무!H39,IF(달력!$S$24=\"순서6\",근무!I39,\"\"))))))","v":"야간"},{"$f":"IF(달력!$S$25=\"순서1\",근무!D39,IF(달력!$S$25=\"순서2\",근무!E39,IF(달력!$S$25=\"순서3\",근무!F39,IF(달력!$S$25=\"순서4\",근무!G39,IF(달력!$S$25=\"순서5\",근무!H39,IF(달력!$S$25=\"순서6\",근무!I39,\"\"))))))","v":"야간"},{"$f":"IF(달력!$S$26=\"순서1\",근무!D39,IF(달력!$S$26=\"순서2\",근무!E39,IF(달력!$S$26=\"순서3\",근무!F39,IF(달력!$S$26=\"순서4\",근무!G39,IF(달력!$S$26=\"순서5\",근무!H39,IF(달력!$S$26=\"순서6\",근무!I39,\"\"))))))","v":"비번"},{"$f":"IF(달력!$S$27=\"순서1\",근무!D39,IF(달력!$S$27=\"순서2\",근무!E39,IF(달력!$S$27=\"순서3\",근무!F39,IF(달력!$S$27=\"순서4\",근무!G39,IF(달력!$S$27=\"순서5\",근무!H39,IF(달력!$S$27=\"순서6\",근무!I39,\"\"))))))","v":"비번"},{"$f":"IF(달력!$S$28=\"순서1\",근무!D39,IF(달력!$S$28=\"순서2\",근무!E39,IF(달력!$S$28=\"순서3\",근무!F39,IF(달력!$S$28=\"순서4\",근무!G39,IF(달력!$S$28=\"순서5\",근무!H39,IF(달력!$S$28=\"순서6\",근무!I39,\"\"))))))","v":"주간"},{"$f":"IF(달력!$S$29=\"순서1\",근무!D39,IF(달력!$S$29=\"순서2\",근무!E39,IF(달력!$S$29=\"순서3\",근무!F39,IF(달력!$S$29=\"순서4\",근무!G39,IF(달력!$S$29=\"순서5\",근무!H39,IF(달력!$S$29=\"순서6\",근무!I39,\"\"))))))","v":"주간"},null,"야간",2,{"$f":"COUNTIFS(일정1내용,$K39,$L$7:$L$372,2)","v":10},{"$f":"COUNTIFS(일정2내용,$K39,$L$7:$L$372,2)","v":10},{"$f":"COUNTIFS(일정3내용,$K39,$L$7:$L$372,2)","v":9},{"$f":"COUNTIFS(일정4내용,$K39,$L$7:$L$372,2)","v":9},{"$f":"COUNTIFS(일정5내용,$K39,$L$7:$L$372,2)","v":9},{"$f":"COUNTIFS(일정6내용,$K39,$L$7:$L$372,2)","v":9}]
[null,"2023-02-03","금",{"$f":"IF(달력!$S$24=\"순서1\",근무!D40,IF(달력!$S$24=\"순서2\",근무!E40,IF(달력!$S$24=\"순서3\",근무!F40,IF(달력!$S$24=\"순서4\",근무!G40,IF(달력!$S$24=\"순서5\",근무!H40,IF(달력!$S$24=\"순서6\",근무!I40,\"\"))))))","v":"야간"},{"$f":"IF(달력!$S$25=\"순서1\",근무!D40,IF(달력!$S$25=\"순서2\",근무!E40,IF(달력!$S$25=\"순서3\",근무!F40,IF(달력!$S$25=\"순서4\",근무!G40,IF(달력!$S$25=\"순서5\",근무!H40,IF(달력!$S$25=\"순서6\",근무!I40,\"\"))))))","v":"야간"},{"$f":"IF(달력!$S$26=\"순서1\",근무!D40,IF(달력!$S$26=\"순서2\",근무!E40,IF(달력!$S$26=\"순서3\",근무!F40,IF(달력!$S$26=\"순서4\",근무!G40,IF(달력!$S$26=\"순서5\",근무!H40,IF(달력!$S$26=\"순서6\",근무!I40,\"\"))))))","v":"비번"},{"$f":"IF(달력!$S$27=\"순서1\",근무!D40,IF(달력!$S$27=\"순서2\",근무!E40,IF(달력!$S$27=\"순서3\",근무!F40,IF(달력!$S$27=\"순서4\",근무!G40,IF(달력!$S$27=\"순서5\",근무!H40,IF(달력!$S$27=\"순서6\",근무!I40,\"\"))))))","v":"비번"},{"$f":"IF(달력!$S$28=\"순서1\",근무!D40,IF(달력!$S$28=\"순서2\",근무!E40,IF(달력!$S$28=\"순서3\",근무!F40,IF(달력!$S$28=\"순서4\",근무!G40,IF(달력!$S$28=\"순서5\",근무!H40,IF(달력!$S$28=\"순서6\",근무!I40,\"\"))))))","v":"주간"},{"$f":"IF(달력!$S$29=\"순서1\",근무!D40,IF(달력!$S$29=\"순서2\",근무!E40,IF(달력!$S$29=\"순서3\",근무!F40,IF(달력!$S$29=\"순서4\",근무!G40,IF(달력!$S$29=\"순서5\",근무!H40,IF(달력!$S$29=\"순서6\",근무!I40,\"\"))))))","v":"주간"},null,"비번",2,{"$f":"COUNTIFS(일정1내용,$K40,$L$7:$L$372,2)","v":9},{"$f":"COUNTIFS(일정2내용,$K40,$L$7:$L$372,2)","v":9},{"$f":"COUNTIFS(일정3내용,$K40,$L$7:$L$372,2)","v":10},{"$f":"COUNTIFS(일정4내용,$K40,$L$7:$L$372,2)","v":10},{"$f":"COUNTIFS(일정5내용,$K40,$L$7:$L$372,2)","v":9},{"$f":"COUNTIFS(일정6내용,$K40,$L$7:$L$372,2)","v":9}]
[null,"2023-02-04","토",{"$f":"IF(달력!$S$24=\"순서1\",근무!D41,IF(달력!$S$24=\"순서2\",근무!E41,IF(달력!$S$24=\"순서3\",근무!F41,IF(달력!$S$24=\"순서4\",근무!G41,IF(달력!$S$24=\"순서5\",근무!H41,IF(달력!$S$24=\"순서6\",근무!I41,\"\"))))))","v":"비번"},{"$f":"IF(달력!$S$25=\"순서1\",근무!D41,IF(달력!$S$25=\"순서2\",근무!E41,IF(달력!$S$25=\"순서3\",근무!F41,IF(달력!$S$25=\"순서4\",근무!G41,IF(달력!$S$25=\"순서5\",근무!H41,IF(달력!$S$25=\"순서6\",근무!I41,\"\"))))))","v":"비번"},{"$f":"IF(달력!$S$26=\"순서1\",근무!D41,IF(달력!$S$26=\"순서2\",근무!E41,IF(달력!$S$26=\"순서3\",근무!F41,IF(달력!$S$26=\"순서4\",근무!G41,IF(달력!$S$26=\"순서5\",근무!H41,IF(달력!$S$26=\"순서6\",근무!I41,\"\"))))))","v":"주간"},{"$f":"IF(달력!$S$27=\"순서1\",근무!D41,IF(달력!$S$27=\"순서2\",근무!E41,IF(달력!$S$27=\"순서3\",근무!F41,IF(달력!$S$27=\"순서4\",근무!G41,IF(달력!$S$27=\"순서5\",근무!H41,IF(달력!$S$27=\"순서6\",근무!I41,\"\"))))))","v":"주간"},{"$f":"IF(달력!$S$28=\"순서1\",근무!D41,IF(달력!$S$28=\"순서2\",근무!E41,IF(달력!$S$28=\"순서3\",근무!F41,IF(달력!$S$28=\"순서4\",근무!G41,IF(달력!$S$28=\"순서5\",근무!H41,IF(달력!$S$28=\"순서6\",근무!I41,\"\"))))))","v":"야간"},{"$f":"IF(달력!$S$29=\"순서1\",근무!D41,IF(달력!$S$29=\"순서2\",근무!E41,IF(달력!$S$29=\"순서3\",근무!F41,IF(달력!$S$29=\"순서4\",근무!G41,IF(달력!$S$29=\"순서5\",근무!H41,IF(달력!$S$29=\"순서6\",근무!I41,\"\"))))))","v":"야간"},null,"근무일 계",2,{"$f":"M38+M39","v":19},{"$f":"N38+N39","v":19},18,18,19,19]
[null,"2023-02-05","일",{"$f":"IF(달력!$S$24=\"순서1\",근무!D42,IF(달력!$S$24=\"순서2\",근무!E42,IF(달력!$S$24=\"순서3\",근무!F42,IF(달력!$S$24=\"순서4\",근무!G42,IF(달력!$S$24=\"순서5\",근무!H42,IF(달력!$S$24=\"순서6\",근무!I42,\"\"))))))","v":"비번"},{"$f":"IF(달력!$S$25=\"순서1\",근무!D42,IF(달력!$S$25=\"순서2\",근무!E42,IF(달력!$S$25=\"순서3\",근무!F42,IF(달력!$S$25=\"순서4\",근무!G42,IF(달력!$S$25=\"순서5\",근무!H42,IF(달력!$S$25=\"순서6\",근무!I42,\"\"))))))","v":"비번"},{"$f":"IF(달력!$S$26=\"순서1\",근무!D42,IF(달력!$S$26=\"순서2\",근무!E42,IF(달력!$S$26=\"순서3\",근무!F42,IF(달력!$S$26=\"순서4\",근무!G42,IF(달력!$S$26=\"순서5\",근무!H42,IF(달력!$S$26=\"순서6\",근무!I42,\"\"))))))","v":"주간"},{"$f":"IF(달력!$S$27=\"순서1\",근무!D42,IF(달력!$S$27=\"순서2\",근무!E42,IF(달력!$S$27=\"순서3\",근무!F42,IF(달력!$S$27=\"순서4\",근무!G42,IF(달력!$S$27=\"순서5\",근무!H42,IF(달력!$S$27=\"순서6\",근무!I42,\"\"))))))","v":"주간"},{"$f":"IF(달력!$S$28=\"순서1\",근무!D42,IF(달력!$S$28=\"순서2\",근무!E42,IF(달력!$S$28=\"순서3\",근무!F42,IF(달력!$S$28=\"순서4\",근무!G42,IF(달력!$S$28=\"순서5\",근무!H42,IF(달력!$S$28=\"순서6\",근무!I42,\"\"))))))","v":"야간"},{"$f":"IF(달력!$S$29=\"순서1\",근무!D42,IF(달력!$S$29=\"순서2\",근무!E42,IF(달력!$S$29=\"순서3\",근무!F42,IF(달력!$S$29=\"순서4\",근무!G42,IF(달력!$S$29=\"순서5\",근무!H42,IF(달력!$S$29=\"순서6\",근무!I42,\"\"))))))","v":"야간"},null,null,2]
[null,"2023-02-06","월",{"$f":"IF(달력!$S$24=\"순서1\",근무!D43,IF(달력!$S$24=\"순서2\",근무!E43,IF(달력!$S$24=\"순서3\",근무!F43,IF(달력!$S$24=\"순서4\",근무!G43,IF(달력!$S$24=\"순서5\",근무!H43,IF(달력!$S$24=\"순서6\",근무!I43,\"\"))))))","v":"주간"},{"$f":"IF(달력!$S$25=\"순서1\",근무!D43,IF(달력!$S$25=\"순서2\",근무!E43,IF(달력!$S$25=\"순서3\",근무!F43,IF(달력!$S$25=\"순서4\",근무!G43,IF(달력!$S$25=\"순서5\",근무!H43,IF(달력!$S$25=\"순서6\",근무!I43,\"\"))))))","v":"주간"},{"$f":"IF(달력!$S$26=\"순서1\",근무!D43,IF(달력!$S$26=\"순서2\",근무!E43,IF(달력!$S$26=\"순서3\",근무!F43,IF(달력!$S$26=\"순서4\",근무!G43,IF(달력!$S$26=\"순서5\",근무!H43,IF(달력!$S$26=\"순서6\",근무!I43,\"\"))))))","v":"야간"},{"$f":"IF(달력!$S$27=\"순서1\",근무!D43,IF(달력!$S$27=\"순서2\",근무!E43,IF(달력!$S$27=\"순서3\",근무!F43,IF(달력!$S$27=\"순서4\",근무!G43,IF(달력!$S$27=\"순서5\",근무!H43,IF(달력!$S$27=\"순서6\",근무!I43,\"\"))))))","v":"야간"},{"$f":"IF(달력!$S$28=\"순서1\",근무!D43,IF(달력!$S$28=\"순서2\",근무!E43,IF(달력!$S$28=\"순서3\",근무!F43,IF(달력!$S$28=\"순서4\",근무!G43,IF(달력!$S$28=\"순서5\",근무!H43,IF(달력!$S$28=\"순서6\",근무!I43,\"\"))))))","v":"비번"},{"$f":"IF(달력!$S$29=\"순서1\",근무!D43,IF(달력!$S$29=\"순서2\",근무!E43,IF(달력!$S$29=\"순서3\",근무!F43,IF(달력!$S$29=\"순서4\",근무!G43,IF(달력!$S$29=\"순서5\",근무!H43,IF(달력!$S$29=\"순서6\",근무!I43,\"\"))))))","v":"비번"},null,null,2]
[null,"2023-02-07","화",{"$f":"IF(달력!$S$24=\"순서1\",근무!D44,IF(달력!$S$24=\"순서2\",근무!E44,IF(달력!$S$24=\"순서3\",근무!F44,IF(달력!$S$24=\"순서4\",근무!G44,IF(달력!$S$24=\"순서5\",근무!H44,IF(달력!$S$24=\"순서6\",근무!I44,\"\"))))))","v":"주간"},{"$f":"IF(달력!$S$25=\"순서1\",근무!D44,IF(달력!$S$25=\"순서2\",근무!E44,IF(달력!$S$25=\"순서3\",근무!F44,IF(달력!$S$25=\"순서4\",근무!G44,IF(달력!$S$25=\"순서5\",근무!H44,IF(달력!$S$25=\"순서6\",근무!I44,\"\"))))))","v":"주간"},{"$f":"IF(달력!$S$26=\"순서1\",근무!D44,IF(달력!$S$26=\"순서2\",근무!E44,IF(달력!$S$26=\"순서3\",근무!F44,IF(달력!$S$26=\"순서4\",근무!G44,IF(달력!$S$26=\"순서5\",근무!H44,IF(달력!$S$26=\"순서6\",근무!I44,\"\"))))))","v":"야간"},{"$f":"IF(달력!$S$27=\"순서1\",근무!D44,IF(달력!$S$27=\"순서2\",근무!E44,IF(달력!$S$27=\"순서3\",근무!F44,IF(달력!$S$27=\"순서4\",근무!G44,IF(달력!$S$27=\"순서5\",근무!H44,IF(달력!$S$27=\"순서6\",근무!I44,\"\"))))))","v":"야간"},{"$f":"IF(달력!$S$28=\"순서1\",근무!D44,IF(달력!$S$28=\"순서2\",근무!E44,IF(달력!$S$28=\"순서3\",근무!F44,IF(달력!$S$28=\"순서4\",근무!G44,IF(달력!$S$28=\"순서5\",근무!H44,IF(달력!$S$28=\"순서6\",근무!I44,\"\"))))))","v":"비번"},{"$f":"IF(달력!$S$29=\"순서1\",근무!D44,IF(달력!$S$29=\"순서2\",근무!E44,IF(달력!$S$29=\"순서3\",근무!F44,IF(달력!$S$29=\"순서4\",근무!G44,IF(달력!$S$29=\"순서5\",근무!H44,IF(달력!$S$29=\"순서6\",근무!I44,\"\"))))))","v":"비번"},null,null,2]
[null,"2023-02-08","수",{"$f":"IF(달력!$S$24=\"순서1\",근무!D45,IF(달력!$S$24=\"순서2\",근무!E45,IF(달력!$S$24=\"순서3\",근무!F45,IF(달력!$S$24=\"순서4\",근무!G45,IF(달력!$S$24=\"순서5\",근무!H45,IF(달력!$S$24=\"순서6\",근무!I45,\"\"))))))","v":"야간"},{"$f":"IF(달력!$S$25=\"순서1\",근무!D45,IF(달력!$S$25=\"순서2\",근무!E45,IF(달력!$S$25=\"순서3\",근무!F45,IF(달력!$S$25=\"순서4\",근무!G45,IF(달력!$S$25=\"순서5\",근무!H45,IF(달력!$S$25=\"순서6\",근무!I45,\"\"))))))","v":"야간"},{"$f":"IF(달력!$S$26=\"순서1\",근무!D45,IF(달력!$S$26=\"순서2\",근무!E45,IF(달력!$S$26=\"순서3\",근무!F45,IF(달력!$S$26=\"순서4\",근무!G45,IF(달력!$S$26=\"순서5\",근무!H45,IF(달력!$S$26=\"순서6\",근무!I45,\"\"))))))","v":"비번"},{"$f":"IF(달력!$S$27=\"순서1\",근무!D45,IF(달력!$S$27=\"순서2\",근무!E45,IF(달력!$S$27=\"순서3\",근무!F45,IF(달력!$S$27=\"순서4\",근무!G45,IF(달력!$S$27=\"순서5\",근무!H45,IF(달력!$S$27=\"순서6\",근무!I45,\"\"))))))","v":"비번"},{"$f":"IF(달력!$S$28=\"순서1\",근무!D45,IF(달력!$S$28=\"순서2\",근무!E45,IF(달력!$S$28=\"순서3\",근무!F45,IF(달력!$S$28=\"순서4\",근무!G45,IF(달력!$S$28=\"순서5\",근무!H45,IF(달력!$S$28=\"순서6\",근무!I45,\"\"))))))","v":"주간"},{"$f":"IF(달력!$S$29=\"순서1\",근무!D45,IF(달력!$S$29=\"순서2\",근무!E45,IF(달력!$S$29=\"순서3\",근무!F45,IF(달력!$S$29=\"순서4\",근무!G45,IF(달력!$S$29=\"순서5\",근무!H45,IF(달력!$S$29=\"순서6\",근무!I45,\"\"))))))","v":"주간"},null,null,2]
[null,"2023-02-09","목",{"$f":"IF(달력!$S$24=\"순서1\",근무!D46,IF(달력!$S$24=\"순서2\",근무!E46,IF(달력!$S$24=\"순서3\",근무!F46,IF(달력!$S$24=\"순서4\",근무!G46,IF(달력!$S$24=\"순서5\",근무!H46,IF(달력!$S$24=\"순서6\",근무!I46,\"\"))))))","v":"야간"},{"$f":"IF(달력!$S$25=\"순서1\",근무!D46,IF(달력!$S$25=\"순서2\",근무!E46,IF(달력!$S$25=\"순서3\",근무!F46,IF(달력!$S$25=\"순서4\",근무!G46,IF(달력!$S$25=\"순서5\",근무!H46,IF(달력!$S$25=\"순서6\",근무!I46,\"\"))))))","v":"야간"},{"$f":"IF(달력!$S$26=\"순서1\",근무!D46,IF(달력!$S$26=\"순서2\",근무!E46,IF(달력!$S$26=\"순서3\",근무!F46,IF(달력!$S$26=\"순서4\",근무!G46,IF(달력!$S$26=\"순서5\",근무!H46,IF(달력!$S$26=\"순서6\",근무!I46,\"\"))))))","v":"비번"},{"$f":"IF(달력!$S$27=\"순서1\",근무!D46,IF(달력!$S$27=\"순서2\",근무!E46,IF(달력!$S$27=\"순서3\",근무!F46,IF(달력!$S$27=\"순서4\",근무!G46,IF(달력!$S$27=\"순서5\",근무!H46,IF(달력!$S$27=\"순서6\",근무!I46,\"\"))))))","v":"비번"},{"$f":"IF(달력!$S$28=\"순서1\",근무!D46,IF(달력!$S$28=\"순서2\",근무!E46,IF(달력!$S$28=\"순서3\",근무!F46,IF(달력!$S$28=\"순서4\",근무!G46,IF(달력!$S$28=\"순서5\",근무!H46,IF(달력!$S$28=\"순서6\",근무!I46,\"\"))))))","v":"주간"},{"$f":"IF(달력!$S$29=\"순서1\",근무!D46,IF(달력!$S$29=\"순서2\",근무!E46,IF(달력!$S$29=\"순서3\",근무!F46,IF(달력!$S$29=\"순서4\",근무!G46,IF(달력!$S$29=\"순서5\",근무!H46,IF(달력!$S$29=\"순서6\",근무!I46,\"\"))))))","v":"주간"},null,null,2]
[null,"2023-02-10","금",{"$f":"IF(달력!$S$24=\"순서1\",근무!D47,IF(달력!$S$24=\"순서2\",근무!E47,IF(달력!$S$24=\"순서3\",근무!F47,IF(달력!$S$24=\"순서4\",근무!G47,IF(달력!$S$24=\"순서5\",근무!H47,IF(달력!$S$24=\"순서6\",근무!I47,\"\"))))))","v":"비번"},{"$f":"IF(달력!$S$25=\"순서1\",근무!D47,IF(달력!$S$25=\"순서2\",근무!E47,IF(달력!$S$25=\"순서3\",근무!F47,IF(달력!$S$25=\"순서4\",근무!G47,IF(달력!$S$25=\"순서5\",근무!H47,IF(달력!$S$25=\"순서6\",근무!I47,\"\"))))))","v":"비번"},{"$f":"IF(달력!$S$26=\"순서1\",근무!D47,IF(달력!$S$26=\"순서2\",근무!E47,IF(달력!$S$26=\"순서3\",근무!F47,IF(달력!$S$26=\"순서4\",근무!G47,IF(달력!$S$26=\"순서5\",근무!H47,IF(달력!$S$26=\"순서6\",근무!I47,\"\"))))))","v":"주간"},{"$f":"IF(달력!$S$27=\"순서1\",근무!D47,IF(달력!$S$27=\"순서2\",근무!E47,IF(달력!$S$27=\"순서3\",근무!F47,IF(달력!$S$27=\"순서4\",근무!G47,IF(달력!$S$27=\"순서5\",근무!H47,IF(달력!$S$27=\"순서6\",근무!I47,\"\"))))))","v":"주간"},{"$f":"IF(달력!$S$28=\"순서1\",근무!D47,IF(달력!$S$28=\"순서2\",근무!E47,IF(달력!$S$28=\"순서3\",근무!F47,IF(달력!$S$28=\"순서4\",근무!G47,IF(달력!$S$28=\"순서5\",근무!H47,IF(달력!$S$28=\"순서6\",근무!I47,\"\"))))))","v":"야간"},{"$f":"IF(달력!$S$29=\"순서1\",근무!D47,IF(달력!$S$29=\"순서2\",근무!E47,IF(달력!$S$29=\"순서3\",근무!F47,IF(달력!$S$29=\"순서4\",근무!G47,IF(달력!$S$29=\"순서5\",근무!H47,IF(달력!$S$29=\"순서6\",근무!I47,\"\"))))))","v":"야간"},null,null,2]
[null,"2023-02-11","토",{"$f":"IF(달력!$S$24=\"순서1\",근무!D48,IF(달력!$S$24=\"순서2\",근무!E48,IF(달력!$S$24=\"순서3\",근무!F48,IF(달력!$S$24=\"순서4\",근무!G48,IF(달력!$S$24=\"순서5\",근무!H48,IF(달력!$S$24=\"순서6\",근무!I48,\"\"))))))","v":"비번"},{"$f":"IF(달력!$S$25=\"순서1\",근무!D48,IF(달력!$S$25=\"순서2\",근무!E48,IF(달력!$S$25=\"순서3\",근무!F48,IF(달력!$S$25=\"순서4\",근무!G48,IF(달력!$S$25=\"순서5\",근무!H48,IF(달력!$S$25=\"순서6\",근무!I48,\"\"))))))","v":"비번"},{"$f":"IF(달력!$S$26=\"순서1\",근무!D48,IF(달력!$S$26=\"순서2\",근무!E48,IF(달력!$S$26=\"순서3\",근무!F48,IF(달력!$S$26=\"순서4\",근무!G48,IF(달력!$S$26=\"순서5\",근무!H48,IF(달력!$S$26=\"순서6\",근무!I48,\"\"))))))","v":"주간"},{"$f":"IF(달력!$S$27=\"순서1\",근무!D48,IF(달력!$S$27=\"순서2\",근무!E48,IF(달력!$S$27=\"순서3\",근무!F48,IF(달력!$S$27=\"순서4\",근무!G48,IF(달력!$S$27=\"순서5\",근무!H48,IF(달력!$S$27=\"순서6\",근무!I48,\"\"))))))","v":"주간"},{"$f":"IF(달력!$S$28=\"순서1\",근무!D48,IF(달력!$S$28=\"순서2\",근무!E48,IF(달력!$S$28=\"순서3\",근무!F48,IF(달력!$S$28=\"순서4\",근무!G48,IF(달력!$S$28=\"순서5\",근무!H48,IF(달력!$S$28=\"순서6\",근무!I48,\"\"))))))","v":"야간"},{"$f":"IF(달력!$S$29=\"순서1\",근무!D48,IF(달력!$S$29=\"순서2\",근무!E48,IF(달력!$S$29=\"순서3\",근무!F48,IF(달력!$S$29=\"순서4\",근무!G48,IF(달력!$S$29=\"순서5\",근무!H48,IF(달력!$S$29=\"순서6\",근무!I48,\"\"))))))","v":"야간"},null,null,2]
[null,"2023-02-12","일",{"$f":"IF(달력!$S$24=\"순서1\",근무!D49,IF(달력!$S$24=\"순서2\",근무!E49,IF(달력!$S$24=\"순서3\",근무!F49,IF(달력!$S$24=\"순서4\",근무!G49,IF(달력!$S$24=\"순서5\",근무!H49,IF(달력!$S$24=\"순서6\",근무!I49,\"\"))))))","v":"주간"},{"$f":"IF(달력!$S$25=\"순서1\",근무!D49,IF(달력!$S$25=\"순서2\",근무!E49,IF(달력!$S$25=\"순서3\",근무!F49,IF(달력!$S$25=\"순서4\",근무!G49,IF(달력!$S$25=\"순서5\",근무!H49,IF(달력!$S$25=\"순서6\",근무!I49,\"\"))))))","v":"주간"},{"$f":"IF(달력!$S$26=\"순서1\",근무!D49,IF(달력!$S$26=\"순서2\",근무!E49,IF(달력!$S$26=\"순서3\",근무!F49,IF(달력!$S$26=\"순서4\",근무!G49,IF(달력!$S$26=\"순서5\",근무!H49,IF(달력!$S$26=\"순서6\",근무!I49,\"\"))))))","v":"야간"},{"$f":"IF(달력!$S$27=\"순서1\",근무!D49,IF(달력!$S$27=\"순서2\",근무!E49,IF(달력!$S$27=\"순서3\",근무!F49,IF(달력!$S$27=\"순서4\",근무!G49,IF(달력!$S$27=\"순서5\",근무!H49,IF(달력!$S$27=\"순서6\",근무!I49,\"\"))))))","v":"야간"},{"$f":"IF(달력!$S$28=\"순서1\",근무!D49,IF(달력!$S$28=\"순서2\",근무!E49,IF(달력!$S$28=\"순서3\",근무!F49,IF(달력!$S$28=\"순서4\",근무!G49,IF(달력!$S$28=\"순서5\",근무!H49,IF(달력!$S$28=\"순서6\",근무!I49,\"\"))))))","v":"비번"},{"$f":"IF(달력!$S$29=\"순서1\",근무!D49,IF(달력!$S$29=\"순서2\",근무!E49,IF(달력!$S$29=\"순서3\",근무!F49,IF(달력!$S$29=\"순서4\",근무!G49,IF(달력!$S$29=\"순서5\",근무!H49,IF(달력!$S$29=\"순서6\",근무!I49,\"\"))))))","v":"비번"},null,null,2]
[null,"2023-02-13","월",{"$f":"IF(달력!$S$24=\"순서1\",근무!D50,IF(달력!$S$24=\"순서2\",근무!E50,IF(달력!$S$24=\"순서3\",근무!F50,IF(달력!$S$24=\"순서4\",근무!G50,IF(달력!$S$24=\"순서5\",근무!H50,IF(달력!$S$24=\"순서6\",근무!I50,\"\"))))))","v":"주간"},{"$f":"IF(달력!$S$25=\"순서1\",근무!D50,IF(달력!$S$25=\"순서2\",근무!E50,IF(달력!$S$25=\"순서3\",근무!F50,IF(달력!$S$25=\"순서4\",근무!G50,IF(달력!$S$25=\"순서5\",근무!H50,IF(달력!$S$25=\"순서6\",근무!I50,\"\"))))))","v":"주간"},{"$f":"IF(달력!$S$26=\"순서1\",근무!D50,IF(달력!$S$26=\"순서2\",근무!E50,IF(달력!$S$26=\"순서3\",근무!F50,IF(달력!$S$26=\"순서4\",근무!G50,IF(달력!$S$26=\"순서5\",근무!H50,IF(달력!$S$26=\"순서6\",근무!I50,\"\"))))))","v":"야간"},{"$f":"IF(달력!$S$27=\"순서1\",근무!D50,IF(달력!$S$27=\"순서2\",근무!E50,IF(달력!$S$27=\"순서3\",근무!F50,IF(달력!$S$27=\"순서4\",근무!G50,IF(달력!$S$27=\"순서5\",근무!H50,IF(달력!$S$27=\"순서6\",근무!I50,\"\"))))))","v":"야간"},{"$f":"IF(달력!$S$28=\"순서1\",근무!D50,IF(달력!$S$28=\"순서2\",근무!E50,IF(달력!$S$28=\"순서3\",근무!F50,IF(달력!$S$28=\"순서4\",근무!G50,IF(달력!$S$28=\"순서5\",근무!H50,IF(달력!$S$28=\"순서6\",근무!I50,\"\"))))))","v":"비번"},{"$f":"IF(달력!$S$29=\"순서1\",근무!D50,IF(달력!$S$29=\"순서2\",근무!E50,IF(달력!$S$29=\"순서3\",근무!F50,IF(달력!$S$29=\"순서4\",근무!G50,IF(달력!$S$29=\"순서5\",근무!H50,IF(달력!$S$29=\"순서6\",근무!I50,\"\"))))))","v":"비번"},null,null,2]
[null,"2023-02-14","화",{"$f":"IF(달력!$S$24=\"순서1\",근무!D51,IF(달력!$S$24=\"순서2\",근무!E51,IF(달력!$S$24=\"순서3\",근무!F51,IF(달력!$S$24=\"순서4\",근무!G51,IF(달력!$S$24=\"순서5\",근무!H51,IF(달력!$S$24=\"순서6\",근무!I51,\"\"))))))","v":"야간"},{"$f":"IF(달력!$S$25=\"순서1\",근무!D51,IF(달력!$S$25=\"순서2\",근무!E51,IF(달력!$S$25=\"순서3\",근무!F51,IF(달력!$S$25=\"순서4\",근무!G51,IF(달력!$S$25=\"순서5\",근무!H51,IF(달력!$S$25=\"순서6\",근무!I51,\"\"))))))","v":"야간"},{"$f":"IF(달력!$S$26=\"순서1\",근무!D51,IF(달력!$S$26=\"순서2\",근무!E51,IF(달력!$S$26=\"순서3\",근무!F51,IF(달력!$S$26=\"순서4\",근무!G51,IF(달력!$S$26=\"순서5\",근무!H51,IF(달력!$S$26=\"순서6\",근무!I51,\"\"))))))","v":"비번"},{"$f":"IF(달력!$S$27=\"순서1\",근무!D51,IF(달력!$S$27=\"순서2\",근무!E51,IF(달력!$S$27=\"순서3\",근무!F51,IF(달력!$S$27=\"순서4\",근무!G51,IF(달력!$S$27=\"순서5\",근무!H51,IF(달력!$S$27=\"순서6\",근무!I51,\"\"))))))","v":"비번"},{"$f":"IF(달력!$S$28=\"순서1\",근무!D51,IF(달력!$S$28=\"순서2\",근무!E51,IF(달력!$S$28=\"순서3\",근무!F51,IF(달력!$S$28=\"순서4\",근무!G51,IF(달력!$S$28=\"순서5\",근무!H51,IF(달력!$S$28=\"순서6\",근무!I51,\"\"))))))","v":"주간"},{"$f":"IF(달력!$S$29=\"순서1\",근무!D51,IF(달력!$S$29=\"순서2\",근무!E51,IF(달력!$S$29=\"순서3\",근무!F51,IF(달력!$S$29=\"순서4\",근무!G51,IF(달력!$S$29=\"순서5\",근무!H51,IF(달력!$S$29=\"순서6\",근무!I51,\"\"))))))","v":"주간"},null,null,2]
[null,"2023-02-15","수",{"$f":"IF(달력!$S$24=\"순서1\",근무!D52,IF(달력!$S$24=\"순서2\",근무!E52,IF(달력!$S$24=\"순서3\",근무!F52,IF(달력!$S$24=\"순서4\",근무!G52,IF(달력!$S$24=\"순서5\",근무!H52,IF(달력!$S$24=\"순서6\",근무!I52,\"\"))))))","v":"야간"},{"$f":"IF(달력!$S$25=\"순서1\",근무!D52,IF(달력!$S$25=\"순서2\",근무!E52,IF(달력!$S$25=\"순서3\",근무!F52,IF(달력!$S$25=\"순서4\",근무!G52,IF(달력!$S$25=\"순서5\",근무!H52,IF(달력!$S$25=\"순서6\",근무!I52,\"\"))))))","v":"야간"},{"$f":"IF(달력!$S$26=\"순서1\",근무!D52,IF(달력!$S$26=\"순서2\",근무!E52,IF(달력!$S$26=\"순서3\",근무!F52,IF(달력!$S$26=\"순서4\",근무!G52,IF(달력!$S$26=\"순서5\",근무!H52,IF(달력!$S$26=\"순서6\",근무!I52,\"\"))))))","v":"비번"},{"$f":"IF(달력!$S$27=\"순서1\",근무!D52,IF(달력!$S$27=\"순서2\",근무!E52,IF(달력!$S$27=\"순서3\",근무!F52,IF(달력!$S$27=\"순서4\",근무!G52,IF(달력!$S$27=\"순서5\",근무!H52,IF(달력!$S$27=\"순서6\",근무!I52,\"\"))))))","v":"비번"},{"$f":"IF(달력!$S$28=\"순서1\",근무!D52,IF(달력!$S$28=\"순서2\",근무!E52,IF(달력!$S$28=\"순서3\",근무!F52,IF(달력!$S$28=\"순서4\",근무!G52,IF(달력!$S$28=\"순서5\",근무!H52,IF(달력!$S$28=\"순서6\",근무!I52,\"\"))))))","v":"주간"},{"$f":"IF(달력!$S$29=\"순서1\",근무!D52,IF(달력!$S$29=\"순서2\",근무!E52,IF(달력!$S$29=\"순서3\",근무!F52,IF(달력!$S$29=\"순서4\",근무!G52,IF(달력!$S$29=\"순서5\",근무!H52,IF(달력!$S$29=\"순서6\",근무!I52,\"\"))))))","v":"주간"},null,null,2]
[null,"2023-02-16","목",{"$f":"IF(달력!$S$24=\"순서1\",근무!D53,IF(달력!$S$24=\"순서2\",근무!E53,IF(달력!$S$24=\"순서3\",근무!F53,IF(달력!$S$24=\"순서4\",근무!G53,IF(달력!$S$24=\"순서5\",근무!H53,IF(달력!$S$24=\"순서6\",근무!I53,\"\"))))))","v":"비번"},{"$f":"IF(달력!$S$25=\"순서1\",근무!D53,IF(달력!$S$25=\"순서2\",근무!E53,IF(달력!$S$25=\"순서3\",근무!F53,IF(달력!$S$25=\"순서4\",근무!G53,IF(달력!$S$25=\"순서5\",근무!H53,IF(달력!$S$25=\"순서6\",근무!I53,\"\"))))))","v":"비번"},{"$f":"IF(달력!$S$26=\"순서1\",근무!D53,IF(달력!$S$26=\"순서2\",근무!E53,IF(달력!$S$26=\"순서3\",근무!F53,IF(달력!$S$26=\"순서4\",근무!G53,IF(달력!$S$26=\"순서5\",근무!H53,IF(달력!$S$26=\"순서6\",근무!I53,\"\"))))))","v":"주간"},{"$f":"IF(달력!$S$27=\"순서1\",근무!D53,IF(달력!$S$27=\"순서2\",근무!E53,IF(달력!$S$27=\"순서3\",근무!F53,IF(달력!$S$27=\"순서4\",근무!G53,IF(달력!$S$27=\"순서5\",근무!H53,IF(달력!$S$27=\"순서6\",근무!I53,\"\"))))))","v":"주간"},{"$f":"IF(달력!$S$28=\"순서1\",근무!D53,IF(달력!$S$28=\"순서2\",근무!E53,IF(달력!$S$28=\"순서3\",근무!F53,IF(달력!$S$28=\"순서4\",근무!G53,IF(달력!$S$28=\"순서5\",근무!H53,IF(달력!$S$28=\"순서6\",근무!I53,\"\"))))))","v":"야간"},{"$f":"IF(달력!$S$29=\"순서1\",근무!D53,IF(달력!$S$29=\"순서2\",근무!E53,IF(달력!$S$29=\"순서3\",근무!F53,IF(달력!$S$29=\"순서4\",근무!G53,IF(달력!$S$29=\"순서5\",근무!H53,IF(달력!$S$29=\"순서6\",근무!I53,\"\"))))))","v":"야간"},null,null,2]
[null,"2023-02-17","금",{"$f":"IF(달력!$S$24=\"순서1\",근무!D54,IF(달력!$S$24=\"순서2\",근무!E54,IF(달력!$S$24=\"순서3\",근무!F54,IF(달력!$S$24=\"순서4\",근무!G54,IF(달력!$S$24=\"순서5\",근무!H54,IF(달력!$S$24=\"순서6\",근무!I54,\"\"))))))","v":"비번"},{"$f":"IF(달력!$S$25=\"순서1\",근무!D54,IF(달력!$S$25=\"순서2\",근무!E54,IF(달력!$S$25=\"순서3\",근무!F54,IF(달력!$S$25=\"순서4\",근무!G54,IF(달력!$S$25=\"순서5\",근무!H54,IF(달력!$S$25=\"순서6\",근무!I54,\"\"))))))","v":"비번"},{"$f":"IF(달력!$S$26=\"순서1\",근무!D54,IF(달력!$S$26=\"순서2\",근무!E54,IF(달력!$S$26=\"순서3\",근무!F54,IF(달력!$S$26=\"순서4\",근무!G54,IF(달력!$S$26=\"순서5\",근무!H54,IF(달력!$S$26=\"순서6\",근무!I54,\"\"))))))","v":"주간"},{"$f":"IF(달력!$S$27=\"순서1\",근무!D54,IF(달력!$S$27=\"순서2\",근무!E54,IF(달력!$S$27=\"순서3\",근무!F54,IF(달력!$S$27=\"순서4\",근무!G54,IF(달력!$S$27=\"순서5\",근무!H54,IF(달력!$S$27=\"순서6\",근무!I54,\"\"))))))","v":"주간"},{"$f":"IF(달력!$S$28=\"순서1\",근무!D54,IF(달력!$S$28=\"순서2\",근무!E54,IF(달력!$S$28=\"순서3\",근무!F54,IF(달력!$S$28=\"순서4\",근무!G54,IF(달력!$S$28=\"순서5\",근무!H54,IF(달력!$S$28=\"순서6\",근무!I54,\"\"))))))","v":"야간"},{"$f":"IF(달력!$S$29=\"순서1\",근무!D54,IF(달력!$S$29=\"순서2\",근무!E54,IF(달력!$S$29=\"순서3\",근무!F54,IF(달력!$S$29=\"순서4\",근무!G54,IF(달력!$S$29=\"순서5\",근무!H54,IF(달력!$S$29=\"순서6\",근무!I54,\"\"))))))","v":"야간"},null,null,2]
[null,"2023-02-18","토",{"$f":"IF(달력!$S$24=\"순서1\",근무!D55,IF(달력!$S$24=\"순서2\",근무!E55,IF(달력!$S$24=\"순서3\",근무!F55,IF(달력!$S$24=\"순서4\",근무!G55,IF(달력!$S$24=\"순서5\",근무!H55,IF(달력!$S$24=\"순서6\",근무!I55,\"\"))))))","v":"주간"},{"$f":"IF(달력!$S$25=\"순서1\",근무!D55,IF(달력!$S$25=\"순서2\",근무!E55,IF(달력!$S$25=\"순서3\",근무!F55,IF(달력!$S$25=\"순서4\",근무!G55,IF(달력!$S$25=\"순서5\",근무!H55,IF(달력!$S$25=\"순서6\",근무!I55,\"\"))))))","v":"주간"},{"$f":"IF(달력!$S$26=\"순서1\",근무!D55,IF(달력!$S$26=\"순서2\",근무!E55,IF(달력!$S$26=\"순서3\",근무!F55,IF(달력!$S$26=\"순서4\",근무!G55,IF(달력!$S$26=\"순서5\",근무!H55,IF(달력!$S$26=\"순서6\",근무!I55,\"\"))))))","v":"야간"},{"$f":"IF(달력!$S$27=\"순서1\",근무!D55,IF(달력!$S$27=\"순서2\",근무!E55,IF(달력!$S$27=\"순서3\",근무!F55,IF(달력!$S$27=\"순서4\",근무!G55,IF(달력!$S$27=\"순서5\",근무!H55,IF(달력!$S$27=\"순서6\",근무!I55,\"\"))))))","v":"야간"},{"$f":"IF(달력!$S$28=\"순서1\",근무!D55,IF(달력!$S$28=\"순서2\",근무!E55,IF(달력!$S$28=\"순서3\",근무!F55,IF(달력!$S$28=\"순서4\",근무!G55,IF(달력!$S$28=\"순서5\",근무!H55,IF(달력!$S$28=\"순서6\",근무!I55,\"\"))))))","v":"비번"},{"$f":"IF(달력!$S$29=\"순서1\",근무!D55,IF(달력!$S$29=\"순서2\",근무!E55,IF(달력!$S$29=\"순서3\",근무!F55,IF(달력!$S$29=\"순서4\",근무!G55,IF(달력!$S$29=\"순서5\",근무!H55,IF(달력!$S$29=\"순서6\",근무!I55,\"\"))))))","v":"비번"},null,null,2]
[null,"2023-02-19","일",{"$f":"IF(달력!$S$24=\"순서1\",근무!D56,IF(달력!$S$24=\"순서2\",근무!E56,IF(달력!$S$24=\"순서3\",근무!F56,IF(달력!$S$24=\"순서4\",근무!G56,IF(달력!$S$24=\"순서5\",근무!H56,IF(달력!$S$24=\"순서6\",근무!I56,\"\"))))))","v":"주간"},{"$f":"IF(달력!$S$25=\"순서1\",근무!D56,IF(달력!$S$25=\"순서2\",근무!E56,IF(달력!$S$25=\"순서3\",근무!F56,IF(달력!$S$25=\"순서4\",근무!G56,IF(달력!$S$25=\"순서5\",근무!H56,IF(달력!$S$25=\"순서6\",근무!I56,\"\"))))))","v":"주간"},{"$f":"IF(달력!$S$26=\"순서1\",근무!D56,IF(달력!$S$26=\"순서2\",근무!E56,IF(달력!$S$26=\"순서3\",근무!F56,IF(달력!$S$26=\"순서4\",근무!G56,IF(달력!$S$26=\"순서5\",근무!H56,IF(달력!$S$26=\"순서6\",근무!I56,\"\"))))))","v":"야간"},{"$f":"IF(달력!$S$27=\"순서1\",근무!D56,IF(달력!$S$27=\"순서2\",근무!E56,IF(달력!$S$27=\"순서3\",근무!F56,IF(달력!$S$27=\"순서4\",근무!G56,IF(달력!$S$27=\"순서5\",근무!H56,IF(달력!$S$27=\"순서6\",근무!I56,\"\"))))))","v":"야간"},{"$f":"IF(달력!$S$28=\"순서1\",근무!D56,IF(달력!$S$28=\"순서2\",근무!E56,IF(달력!$S$28=\"순서3\",근무!F56,IF(달력!$S$28=\"순서4\",근무!G56,IF(달력!$S$28=\"순서5\",근무!H56,IF(달력!$S$28=\"순서6\",근무!I56,\"\"))))))","v":"비번"},{"$f":"IF(달력!$S$29=\"순서1\",근무!D56,IF(달력!$S$29=\"순서2\",근무!E56,IF(달력!$S$29=\"순서3\",근무!F56,IF(달력!$S$29=\"순서4\",근무!G56,IF(달력!$S$29=\"순서5\",근무!H56,IF(달력!$S$29=\"순서6\",근무!I56,\"\"))))))","v":"비번"},null,null,2]
[null,"2023-02-20","월",{"$f":"IF(달력!$S$24=\"순서1\",근무!D57,IF(달력!$S$24=\"순서2\",근무!E57,IF(달력!$S$24=\"순서3\",근무!F57,IF(달력!$S$24=\"순서4\",근무!G57,IF(달력!$S$24=\"순서5\",근무!H57,IF(달력!$S$24=\"순서6\",근무!I57,\"\"))))))","v":"야간"},{"$f":"IF(달력!$S$25=\"순서1\",근무!D57,IF(달력!$S$25=\"순서2\",근무!E57,IF(달력!$S$25=\"순서3\",근무!F57,IF(달력!$S$25=\"순서4\",근무!G57,IF(달력!$S$25=\"순서5\",근무!H57,IF(달력!$S$25=\"순서6\",근무!I57,\"\"))))))","v":"야간"},{"$f":"IF(달력!$S$26=\"순서1\",근무!D57,IF(달력!$S$26=\"순서2\",근무!E57,IF(달력!$S$26=\"순서3\",근무!F57,IF(달력!$S$26=\"순서4\",근무!G57,IF(달력!$S$26=\"순서5\",근무!H57,IF(달력!$S$26=\"순서6\",근무!I57,\"\"))))))","v":"비번"},{"$f":"IF(달력!$S$27=\"순서1\",근무!D57,IF(달력!$S$27=\"순서2\",근무!E57,IF(달력!$S$27=\"순서3\",근무!F57,IF(달력!$S$27=\"순서4\",근무!G57,IF(달력!$S$27=\"순서5\",근무!H57,IF(달력!$S$27=\"순서6\",근무!I57,\"\"))))))","v":"비번"},{"$f":"IF(달력!$S$28=\"순서1\",근무!D57,IF(달력!$S$28=\"순서2\",근무!E57,IF(달력!$S$28=\"순서3\",근무!F57,IF(달력!$S$28=\"순서4\",근무!G57,IF(달력!$S$28=\"순서5\",근무!H57,IF(달력!$S$28=\"순서6\",근무!I57,\"\"))))))","v":"주간"},{"$f":"IF(달력!$S$29=\"순서1\",근무!D57,IF(달력!$S$29=\"순서2\",근무!E57,IF(달력!$S$29=\"순서3\",근무!F57,IF(달력!$S$29=\"순서4\",근무!G57,IF(달력!$S$29=\"순서5\",근무!H57,IF(달력!$S$29=\"순서6\",근무!I57,\"\"))))))","v":"주간"},null,null,2]
[null,"2023-02-21","화",{"$f":"IF(달력!$S$24=\"순서1\",근무!D58,IF(달력!$S$24=\"순서2\",근무!E58,IF(달력!$S$24=\"순서3\",근무!F58,IF(달력!$S$24=\"순서4\",근무!G58,IF(달력!$S$24=\"순서5\",근무!H58,IF(달력!$S$24=\"순서6\",근무!I58,\"\"))))))","v":"야간"},{"$f":"IF(달력!$S$25=\"순서1\",근무!D58,IF(달력!$S$25=\"순서2\",근무!E58,IF(달력!$S$25=\"순서3\",근무!F58,IF(달력!$S$25=\"순서4\",근무!G58,IF(달력!$S$25=\"순서5\",근무!H58,IF(달력!$S$25=\"순서6\",근무!I58,\"\"))))))","v":"야간"},{"$f":"IF(달력!$S$26=\"순서1\",근무!D58,IF(달력!$S$26=\"순서2\",근무!E58,IF(달력!$S$26=\"순서3\",근무!F58,IF(달력!$S$26=\"순서4\",근무!G58,IF(달력!$S$26=\"순서5\",근무!H58,IF(달력!$S$26=\"순서6\",근무!I58,\"\"))))))","v":"비번"},{"$f":"IF(달력!$S$27=\"순서1\",근무!D58,IF(달력!$S$27=\"순서2\",근무!E58,IF(달력!$S$27=\"순서3\",근무!F58,IF(달력!$S$27=\"순서4\",근무!G58,IF(달력!$S$27=\"순서5\",근무!H58,IF(달력!$S$27=\"순서6\",근무!I58,\"\"))))))","v":"비번"},{"$f":"IF(달력!$S$28=\"순서1\",근무!D58,IF(달력!$S$28=\"순서2\",근무!E58,IF(달력!$S$28=\"순서3\",근무!F58,IF(달력!$S$28=\"순서4\",근무!G58,IF(달력!$S$28=\"순서5\",근무!H58,IF(달력!$S$28=\"순서6\",근무!I58,\"\"))))))","v":"주간"},{"$f":"IF(달력!$S$29=\"순서1\",근무!D58,IF(달력!$S$29=\"순서2\",근무!E58,IF(달력!$S$29=\"순서3\",근무!F58,IF(달력!$S$29=\"순서4\",근무!G58,IF(달력!$S$29=\"순서5\",근무!H58,IF(달력!$S$29=\"순서6\",근무!I58,\"\"))))))","v":"주간"},null,null,2]
[null,"2023-02-22","수",{"$f":"IF(달력!$S$24=\"순서1\",근무!D59,IF(달력!$S$24=\"순서2\",근무!E59,IF(달력!$S$24=\"순서3\",근무!F59,IF(달력!$S$24=\"순서4\",근무!G59,IF(달력!$S$24=\"순서5\",근무!H59,IF(달력!$S$24=\"순서6\",근무!I59,\"\"))))))","v":"비번"},{"$f":"IF(달력!$S$25=\"순서1\",근무!D59,IF(달력!$S$25=\"순서2\",근무!E59,IF(달력!$S$25=\"순서3\",근무!F59,IF(달력!$S$25=\"순서4\",근무!G59,IF(달력!$S$25=\"순서5\",근무!H59,IF(달력!$S$25=\"순서6\",근무!I59,\"\"))))))","v":"비번"},{"$f":"IF(달력!$S$26=\"순서1\",근무!D59,IF(달력!$S$26=\"순서2\",근무!E59,IF(달력!$S$26=\"순서3\",근무!F59,IF(달력!$S$26=\"순서4\",근무!G59,IF(달력!$S$26=\"순서5\",근무!H59,IF(달력!$S$26=\"순서6\",근무!I59,\"\"))))))","v":"주간"},{"$f":"IF(달력!$S$27=\"순서1\",근무!D59,IF(달력!$S$27=\"순서2\",근무!E59,IF(달력!$S$27=\"순서3\",근무!F59,IF(달력!$S$27=\"순서4\",근무!G59,IF(달력!$S$27=\"순서5\",근무!H59,IF(달력!$S$27=\"순서6\",근무!I59,\"\"))))))","v":"주간"},{"$f":"IF(달력!$S$28=\"순서1\",근무!D59,IF(달력!$S$28=\"순서2\",근무!E59,IF(달력!$S$28=\"순서3\",근무!F59,IF(달력!$S$28=\"순서4\",근무!G59,IF(달력!$S$28=\"순서5\",근무!H59,IF(달력!$S$28=\"순서6\",근무!I59,\"\"))))))","v":"야간"},{"$f":"IF(달력!$S$29=\"순서1\",근무!D59,IF(달력!$S$29=\"순서2\",근무!E59,IF(달력!$S$29=\"순서3\",근무!F59,IF(달력!$S$29=\"순서4\",근무!G59,IF(달력!$S$29=\"순서5\",근무!H59,IF(달력!$S$29=\"순서6\",근무!I59,\"\"))))))","v":"야간"},null,null,2]
[null,"2023-02-23","목",{"$f":"IF(달력!$S$24=\"순서1\",근무!D60,IF(달력!$S$24=\"순서2\",근무!E60,IF(달력!$S$24=\"순서3\",근무!F60,IF(달력!$S$24=\"순서4\",근무!G60,IF(달력!$S$24=\"순서5\",근무!H60,IF(달력!$S$24=\"순서6\",근무!I60,\"\"))))))","v":"비번"},{"$f":"IF(달력!$S$25=\"순서1\",근무!D60,IF(달력!$S$25=\"순서2\",근무!E60,IF(달력!$S$25=\"순서3\",근무!F60,IF(달력!$S$25=\"순서4\",근무!G60,IF(달력!$S$25=\"순서5\",근무!H60,IF(달력!$S$25=\"순서6\",근무!I60,\"\"))))))","v":"비번"},{"$f":"IF(달력!$S$26=\"순서1\",근무!D60,IF(달력!$S$26=\"순서2\",근무!E60,IF(달력!$S$26=\"순서3\",근무!F60,IF(달력!$S$26=\"순서4\",근무!G60,IF(달력!$S$26=\"순서5\",근무!H60,IF(달력!$S$26=\"순서6\",근무!I60,\"\"))))))","v":"주간"},{"$f":"IF(달력!$S$27=\"순서1\",근무!D60,IF(달력!$S$27=\"순서2\",근무!E60,IF(달력!$S$27=\"순서3\",근무!F60,IF(달력!$S$27=\"순서4\",근무!G60,IF(달력!$S$27=\"순서5\",근무!H60,IF(달력!$S$27=\"순서6\",근무!I60,\"\"))))))","v":"주간"},{"$f":"IF(달력!$S$28=\"순서1\",근무!D60,IF(달력!$S$28=\"순서2\",근무!E60,IF(달력!$S$28=\"순서3\",근무!F60,IF(달력!$S$28=\"순서4\",근무!G60,IF(달력!$S$28=\"순서5\",근무!H60,IF(달력!$S$28=\"순서6\",근무!I60,\"\"))))))","v":"야간"},{"$f":"IF(달력!$S$29=\"순서1\",근무!D60,IF(달력!$S$29=\"순서2\",근무!E60,IF(달력!$S$29=\"순서3\",근무!F60,IF(달력!$S$29=\"순서4\",근무!G60,IF(달력!$S$29=\"순서5\",근무!H60,IF(달력!$S$29=\"순서6\",근무!I60,\"\"))))))","v":"야간"},null,null,2]
[null,"2023-02-24","금",{"$f":"IF(달력!$S$24=\"순서1\",근무!D61,IF(달력!$S$24=\"순서2\",근무!E61,IF(달력!$S$24=\"순서3\",근무!F61,IF(달력!$S$24=\"순서4\",근무!G61,IF(달력!$S$24=\"순서5\",근무!H61,IF(달력!$S$24=\"순서6\",근무!I61,\"\"))))))","v":"주간"},{"$f":"IF(달력!$S$25=\"순서1\",근무!D61,IF(달력!$S$25=\"순서2\",근무!E61,IF(달력!$S$25=\"순서3\",근무!F61,IF(달력!$S$25=\"순서4\",근무!G61,IF(달력!$S$25=\"순서5\",근무!H61,IF(달력!$S$25=\"순서6\",근무!I61,\"\"))))))","v":"주간"},{"$f":"IF(달력!$S$26=\"순서1\",근무!D61,IF(달력!$S$26=\"순서2\",근무!E61,IF(달력!$S$26=\"순서3\",근무!F61,IF(달력!$S$26=\"순서4\",근무!G61,IF(달력!$S$26=\"순서5\",근무!H61,IF(달력!$S$26=\"순서6\",근무!I61,\"\"))))))","v":"야간"},{"$f":"IF(달력!$S$27=\"순서1\",근무!D61,IF(달력!$S$27=\"순서2\",근무!E61,IF(달력!$S$27=\"순서3\",근무!F61,IF(달력!$S$27=\"순서4\",근무!G61,IF(달력!$S$27=\"순서5\",근무!H61,IF(달력!$S$27=\"순서6\",근무!I61,\"\"))))))","v":"야간"},{"$f":"IF(달력!$S$28=\"순서1\",근무!D61,IF(달력!$S$28=\"순서2\",근무!E61,IF(달력!$S$28=\"순서3\",근무!F61,IF(달력!$S$28=\"순서4\",근무!G61,IF(달력!$S$28=\"순서5\",근무!H61,IF(달력!$S$28=\"순서6\",근무!I61,\"\"))))))","v":"비번"},{"$f":"IF(달력!$S$29=\"순서1\",근무!D61,IF(달력!$S$29=\"순서2\",근무!E61,IF(달력!$S$29=\"순서3\",근무!F61,IF(달력!$S$29=\"순서4\",근무!G61,IF(달력!$S$29=\"순서5\",근무!H61,IF(달력!$S$29=\"순서6\",근무!I61,\"\"))))))","v":"비번"},null,null,2]
[null,"2023-02-25","토",{"$f":"IF(달력!$S$24=\"순서1\",근무!D62,IF(달력!$S$24=\"순서2\",근무!E62,IF(달력!$S$24=\"순서3\",근무!F62,IF(달력!$S$24=\"순서4\",근무!G62,IF(달력!$S$24=\"순서5\",근무!H62,IF(달력!$S$24=\"순서6\",근무!I62,\"\"))))))","v":"주간"},{"$f":"IF(달력!$S$25=\"순서1\",근무!D62,IF(달력!$S$25=\"순서2\",근무!E62,IF(달력!$S$25=\"순서3\",근무!F62,IF(달력!$S$25=\"순서4\",근무!G62,IF(달력!$S$25=\"순서5\",근무!H62,IF(달력!$S$25=\"순서6\",근무!I62,\"\"))))))","v":"주간"},{"$f":"IF(달력!$S$26=\"순서1\",근무!D62,IF(달력!$S$26=\"순서2\",근무!E62,IF(달력!$S$26=\"순서3\",근무!F62,IF(달력!$S$26=\"순서4\",근무!G62,IF(달력!$S$26=\"순서5\",근무!H62,IF(달력!$S$26=\"순서6\",근무!I62,\"\"))))))","v":"야간"},{"$f":"IF(달력!$S$27=\"순서1\",근무!D62,IF(달력!$S$27=\"순서2\",근무!E62,IF(달력!$S$27=\"순서3\",근무!F62,IF(달력!$S$27=\"순서4\",근무!G62,IF(달력!$S$27=\"순서5\",근무!H62,IF(달력!$S$27=\"순서6\",근무!I62,\"\"))))))","v":"야간"},{"$f":"IF(달력!$S$28=\"순서1\",근무!D62,IF(달력!$S$28=\"순서2\",근무!E62,IF(달력!$S$28=\"순서3\",근무!F62,IF(달력!$S$28=\"순서4\",근무!G62,IF(달력!$S$28=\"순서5\",근무!H62,IF(달력!$S$28=\"순서6\",근무!I62,\"\"))))))","v":"비번"},{"$f":"IF(달력!$S$29=\"순서1\",근무!D62,IF(달력!$S$29=\"순서2\",근무!E62,IF(달력!$S$29=\"순서3\",근무!F62,IF(달력!$S$29=\"순서4\",근무!G62,IF(달력!$S$29=\"순서5\",근무!H62,IF(달력!$S$29=\"순서6\",근무!I62,\"\"))))))","v":"비번"},null,null,2]
[null,"2023-02-26","일",{"$f":"IF(달력!$S$24=\"순서1\",근무!D63,IF(달력!$S$24=\"순서2\",근무!E63,IF(달력!$S$24=\"순서3\",근무!F63,IF(달력!$S$24=\"순서4\",근무!G63,IF(달력!$S$24=\"순서5\",근무!H63,IF(달력!$S$24=\"순서6\",근무!I63,\"\"))))))","v":"야간"},{"$f":"IF(달력!$S$25=\"순서1\",근무!D63,IF(달력!$S$25=\"순서2\",근무!E63,IF(달력!$S$25=\"순서3\",근무!F63,IF(달력!$S$25=\"순서4\",근무!G63,IF(달력!$S$25=\"순서5\",근무!H63,IF(달력!$S$25=\"순서6\",근무!I63,\"\"))))))","v":"야간"},{"$f":"IF(달력!$S$26=\"순서1\",근무!D63,IF(달력!$S$26=\"순서2\",근무!E63,IF(달력!$S$26=\"순서3\",근무!F63,IF(달력!$S$26=\"순서4\",근무!G63,IF(달력!$S$26=\"순서5\",근무!H63,IF(달력!$S$26=\"순서6\",근무!I63,\"\"))))))","v":"비번"},{"$f":"IF(달력!$S$27=\"순서1\",근무!D63,IF(달력!$S$27=\"순서2\",근무!E63,IF(달력!$S$27=\"순서3\",근무!F63,IF(달력!$S$27=\"순서4\",근무!G63,IF(달력!$S$27=\"순서5\",근무!H63,IF(달력!$S$27=\"순서6\",근무!I63,\"\"))))))","v":"비번"},{"$f":"IF(달력!$S$28=\"순서1\",근무!D63,IF(달력!$S$28=\"순서2\",근무!E63,IF(달력!$S$28=\"순서3\",근무!F63,IF(달력!$S$28=\"순서4\",근무!G63,IF(달력!$S$28=\"순서5\",근무!H63,IF(달력!$S$28=\"순서6\",근무!I63,\"\"))))))","v":"주간"},{"$f":"IF(달력!$S$29=\"순서1\",근무!D63,IF(달력!$S$29=\"순서2\",근무!E63,IF(달력!$S$29=\"순서3\",근무!F63,IF(달력!$S$29=\"순서4\",근무!G63,IF(달력!$S$29=\"순서5\",근무!H63,IF(달력!$S$29=\"순서6\",근무!I63,\"\"))))))","v":"주간"},null,null,2]
[null,"2023-02-27","월",{"$f":"IF(달력!$S$24=\"순서1\",근무!D64,IF(달력!$S$24=\"순서2\",근무!E64,IF(달력!$S$24=\"순서3\",근무!F64,IF(달력!$S$24=\"순서4\",근무!G64,IF(달력!$S$24=\"순서5\",근무!H64,IF(달력!$S$24=\"순서6\",근무!I64,\"\"))))))","v":"야간"},{"$f":"IF(달력!$S$25=\"순서1\",근무!D64,IF(달력!$S$25=\"순서2\",근무!E64,IF(달력!$S$25=\"순서3\",근무!F64,IF(달력!$S$25=\"순서4\",근무!G64,IF(달력!$S$25=\"순서5\",근무!H64,IF(달력!$S$25=\"순서6\",근무!I64,\"\"))))))","v":"야간"},{"$f":"IF(달력!$S$26=\"순서1\",근무!D64,IF(달력!$S$26=\"순서2\",근무!E64,IF(달력!$S$26=\"순서3\",근무!F64,IF(달력!$S$26=\"순서4\",근무!G64,IF(달력!$S$26=\"순서5\",근무!H64,IF(달력!$S$26=\"순서6\",근무!I64,\"\"))))))","v":"비번"},{"$f":"IF(달력!$S$27=\"순서1\",근무!D64,IF(달력!$S$27=\"순서2\",근무!E64,IF(달력!$S$27=\"순서3\",근무!F64,IF(달력!$S$27=\"순서4\",근무!G64,IF(달력!$S$27=\"순서5\",근무!H64,IF(달력!$S$27=\"순서6\",근무!I64,\"\"))))))","v":"비번"},{"$f":"IF(달력!$S$28=\"순서1\",근무!D64,IF(달력!$S$28=\"순서2\",근무!E64,IF(달력!$S$28=\"순서3\",근무!F64,IF(달력!$S$28=\"순서4\",근무!G64,IF(달력!$S$28=\"순서5\",근무!H64,IF(달력!$S$28=\"순서6\",근무!I64,\"\"))))))","v":"주간"},{"$f":"IF(달력!$S$29=\"순서1\",근무!D64,IF(달력!$S$29=\"순서2\",근무!E64,IF(달력!$S$29=\"순서3\",근무!F64,IF(달력!$S$29=\"순서4\",근무!G64,IF(달력!$S$29=\"순서5\",근무!H64,IF(달력!$S$29=\"순서6\",근무!I64,\"\"))))))","v":"주간"},null,null,2]
[null,"2023-02-28","화",{"$f":"IF(달력!$S$24=\"순서1\",근무!D65,IF(달력!$S$24=\"순서2\",근무!E65,IF(달력!$S$24=\"순서3\",근무!F65,IF(달력!$S$24=\"순서4\",근무!G65,IF(달력!$S$24=\"순서5\",근무!H65,IF(달력!$S$24=\"순서6\",근무!I65,\"\"))))))","v":"비번"},{"$f":"IF(달력!$S$25=\"순서1\",근무!D65,IF(달력!$S$25=\"순서2\",근무!E65,IF(달력!$S$25=\"순서3\",근무!F65,IF(달력!$S$25=\"순서4\",근무!G65,IF(달력!$S$25=\"순서5\",근무!H65,IF(달력!$S$25=\"순서6\",근무!I65,\"\"))))))","v":"비번"},{"$f":"IF(달력!$S$26=\"순서1\",근무!D65,IF(달력!$S$26=\"순서2\",근무!E65,IF(달력!$S$26=\"순서3\",근무!F65,IF(달력!$S$26=\"순서4\",근무!G65,IF(달력!$S$26=\"순서5\",근무!H65,IF(달력!$S$26=\"순서6\",근무!I65,\"\"))))))","v":"주간"},{"$f":"IF(달력!$S$27=\"순서1\",근무!D65,IF(달력!$S$27=\"순서2\",근무!E65,IF(달력!$S$27=\"순서3\",근무!F65,IF(달력!$S$27=\"순서4\",근무!G65,IF(달력!$S$27=\"순서5\",근무!H65,IF(달력!$S$27=\"순서6\",근무!I65,\"\"))))))","v":"주간"},{"$f":"IF(달력!$S$28=\"순서1\",근무!D65,IF(달력!$S$28=\"순서2\",근무!E65,IF(달력!$S$28=\"순서3\",근무!F65,IF(달력!$S$28=\"순서4\",근무!G65,IF(달력!$S$28=\"순서5\",근무!H65,IF(달력!$S$28=\"순서6\",근무!I65,\"\"))))))","v":"야간"},{"$f":"IF(달력!$S$29=\"순서1\",근무!D65,IF(달력!$S$29=\"순서2\",근무!E65,IF(달력!$S$29=\"순서3\",근무!F65,IF(달력!$S$29=\"순서4\",근무!G65,IF(달력!$S$29=\"순서5\",근무!H65,IF(달력!$S$29=\"순서6\",근무!I65,\"\"))))))","v":"야간"},null,null,2]
[null,"2023-03-01","수",{"$f":"IF(달력!$S$24=\"순서1\",근무!D66,IF(달력!$S$24=\"순서2\",근무!E66,IF(달력!$S$24=\"순서3\",근무!F66,IF(달력!$S$24=\"순서4\",근무!G66,IF(달력!$S$24=\"순서5\",근무!H66,IF(달력!$S$24=\"순서6\",근무!I66,\"\"))))))","v":"비번"},{"$f":"IF(달력!$S$25=\"순서1\",근무!D66,IF(달력!$S$25=\"순서2\",근무!E66,IF(달력!$S$25=\"순서3\",근무!F66,IF(달력!$S$25=\"순서4\",근무!G66,IF(달력!$S$25=\"순서5\",근무!H66,IF(달력!$S$25=\"순서6\",근무!I66,\"\"))))))","v":"비번"},{"$f":"IF(달력!$S$26=\"순서1\",근무!D66,IF(달력!$S$26=\"순서2\",근무!E66,IF(달력!$S$26=\"순서3\",근무!F66,IF(달력!$S$26=\"순서4\",근무!G66,IF(달력!$S$26=\"순서5\",근무!H66,IF(달력!$S$26=\"순서6\",근무!I66,\"\"))))))","v":"주간"},{"$f":"IF(달력!$S$27=\"순서1\",근무!D66,IF(달력!$S$27=\"순서2\",근무!E66,IF(달력!$S$27=\"순서3\",근무!F66,IF(달력!$S$27=\"순서4\",근무!G66,IF(달력!$S$27=\"순서5\",근무!H66,IF(달력!$S$27=\"순서6\",근무!I66,\"\"))))))","v":"주간"},{"$f":"IF(달력!$S$28=\"순서1\",근무!D66,IF(달력!$S$28=\"순서2\",근무!E66,IF(달력!$S$28=\"순서3\",근무!F66,IF(달력!$S$28=\"순서4\",근무!G66,IF(달력!$S$28=\"순서5\",근무!H66,IF(달력!$S$28=\"순서6\",근무!I66,\"\"))))))","v":"야간"},{"$f":"IF(달력!$S$29=\"순서1\",근무!D66,IF(달력!$S$29=\"순서2\",근무!E66,IF(달력!$S$29=\"순서3\",근무!F66,IF(달력!$S$29=\"순서4\",근무!G66,IF(달력!$S$29=\"순서5\",근무!H66,IF(달력!$S$29=\"순서6\",근무!I66,\"\"))))))","v":"야간"},null,"주간",3,{"$f":"COUNTIFS(일정1내용,$K66,$L$7:$L$372,3)","v":10},{"$f":"COUNTIFS(일정2내용,$K66,$L$7:$L$372,3)","v":10},{"$f":"COUNTIFS(일정3내용,$K66,$L$7:$L$372,3)","v":11},{"$f":"COUNTIFS(일정4내용,$K66,$L$7:$L$372,3)","v":11},{"$f":"COUNTIFS(일정5내용,$K66,$L$7:$L$372,3)","v":10},{"$f":"COUNTIFS(일정6내용,$K66,$L$7:$L$372,3)","v":10}]
[null,"2023-03-02","목",{"$f":"IF(달력!$S$24=\"순서1\",근무!D67,IF(달력!$S$24=\"순서2\",근무!E67,IF(달력!$S$24=\"순서3\",근무!F67,IF(달력!$S$24=\"순서4\",근무!G67,IF(달력!$S$24=\"순서5\",근무!H67,IF(달력!$S$24=\"순서6\",근무!I67,\"\"))))))","v":"주간"},{"$f":"IF(달력!$S$25=\"순서1\",근무!D67,IF(달력!$S$25=\"순서2\",근무!E67,IF(달력!$S$25=\"순서3\",근무!F67,IF(달력!$S$25=\"순서4\",근무!G67,IF(달력!$S$25=\"순서5\",근무!H67,IF(달력!$S$25=\"순서6\",근무!I67,\"\"))))))","v":"주간"},{"$f":"IF(달력!$S$26=\"순서1\",근무!D67,IF(달력!$S$26=\"순서2\",근무!E67,IF(달력!$S$26=\"순서3\",근무!F67,IF(달력!$S$26=\"순서4\",근무!G67,IF(달력!$S$26=\"순서5\",근무!H67,IF(달력!$S$26=\"순서6\",근무!I67,\"\"))))))","v":"야간"},{"$f":"IF(달력!$S$27=\"순서1\",근무!D67,IF(달력!$S$27=\"순서2\",근무!E67,IF(달력!$S$27=\"순서3\",근무!F67,IF(달력!$S$27=\"순서4\",근무!G67,IF(달력!$S$27=\"순서5\",근무!H67,IF(달력!$S$27=\"순서6\",근무!I67,\"\"))))))","v":"야간"},{"$f":"IF(달력!$S$28=\"순서1\",근무!D67,IF(달력!$S$28=\"순서2\",근무!E67,IF(달력!$S$28=\"순서3\",근무!F67,IF(달력!$S$28=\"순서4\",근무!G67,IF(달력!$S$28=\"순서5\",근무!H67,IF(달력!$S$28=\"순서6\",근무!I67,\"\"))))))","v":"비번"},{"$f":"IF(달력!$S$29=\"순서1\",근무!D67,IF(달력!$S$29=\"순서2\",근무!E67,IF(달력!$S$29=\"순서3\",근무!F67,IF(달력!$S$29=\"순서4\",근무!G67,IF(달력!$S$29=\"순서5\",근무!H67,IF(달력!$S$29=\"순서6\",근무!I67,\"\"))))))","v":"비번"},null,"야간",3,{"$f":"COUNTIFS(일정1내용,$K67,$L$7:$L$372,3)","v":10},{"$f":"COUNTIFS(일정2내용,$K67,$L$7:$L$372,3)","v":10},{"$f":"COUNTIFS(일정3내용,$K67,$L$7:$L$372,3)","v":10},{"$f":"COUNTIFS(일정4내용,$K67,$L$7:$L$372,3)","v":10},{"$f":"COUNTIFS(일정5내용,$K67,$L$7:$L$372,3)","v":11},{"$f":"COUNTIFS(일정6내용,$K67,$L$7:$L$372,3)","v":11}]
[null,"2023-03-03","금",{"$f":"IF(달력!$S$24=\"순서1\",근무!D68,IF(달력!$S$24=\"순서2\",근무!E68,IF(달력!$S$24=\"순서3\",근무!F68,IF(달력!$S$24=\"순서4\",근무!G68,IF(달력!$S$24=\"순서5\",근무!H68,IF(달력!$S$24=\"순서6\",근무!I68,\"\"))))))","v":"주간"},{"$f":"IF(달력!$S$25=\"순서1\",근무!D68,IF(달력!$S$25=\"순서2\",근무!E68,IF(달력!$S$25=\"순서3\",근무!F68,IF(달력!$S$25=\"순서4\",근무!G68,IF(달력!$S$25=\"순서5\",근무!H68,IF(달력!$S$25=\"순서6\",근무!I68,\"\"))))))","v":"주간"},{"$f":"IF(달력!$S$26=\"순서1\",근무!D68,IF(달력!$S$26=\"순서2\",근무!E68,IF(달력!$S$26=\"순서3\",근무!F68,IF(달력!$S$26=\"순서4\",근무!G68,IF(달력!$S$26=\"순서5\",근무!H68,IF(달력!$S$26=\"순서6\",근무!I68,\"\"))))))","v":"야간"},{"$f":"IF(달력!$S$27=\"순서1\",근무!D68,IF(달력!$S$27=\"순서2\",근무!E68,IF(달력!$S$27=\"순서3\",근무!F68,IF(달력!$S$27=\"순서4\",근무!G68,IF(달력!$S$27=\"순서5\",근무!H68,IF(달력!$S$27=\"순서6\",근무!I68,\"\"))))))","v":"야간"},{"$f":"IF(달력!$S$28=\"순서1\",근무!D68,IF(달력!$S$28=\"순서2\",근무!E68,IF(달력!$S$28=\"순서3\",근무!F68,IF(달력!$S$28=\"순서4\",근무!G68,IF(달력!$S$28=\"순서5\",근무!H68,IF(달력!$S$28=\"순서6\",근무!I68,\"\"))))))","v":"비번"},{"$f":"IF(달력!$S$29=\"순서1\",근무!D68,IF(달력!$S$29=\"순서2\",근무!E68,IF(달력!$S$29=\"순서3\",근무!F68,IF(달력!$S$29=\"순서4\",근무!G68,IF(달력!$S$29=\"순서5\",근무!H68,IF(달력!$S$29=\"순서6\",근무!I68,\"\"))))))","v":"비번"},null,"비번",3,{"$f":"COUNTIFS(일정1내용,$K68,$L$7:$L$372,3)","v":11},{"$f":"COUNTIFS(일정2내용,$K68,$L$7:$L$372,3)","v":11},{"$f":"COUNTIFS(일정3내용,$K68,$L$7:$L$372,3)","v":10},{"$f":"COUNTIFS(일정4내용,$K68,$L$7:$L$372,3)","v":10},{"$f":"COUNTIFS(일정5내용,$K68,$L$7:$L$372,3)","v":10},{"$f":"COUNTIFS(일정6내용,$K68,$L$7:$L$372,3)","v":10}]
[null,"2023-03-04","토",{"$f":"IF(달력!$S$24=\"순서1\",근무!D69,IF(달력!$S$24=\"순서2\",근무!E69,IF(달력!$S$24=\"순서3\",근무!F69,IF(달력!$S$24=\"순서4\",근무!G69,IF(달력!$S$24=\"순서5\",근무!H69,IF(달력!$S$24=\"순서6\",근무!I69,\"\"))))))","v":"야간"},{"$f":"IF(달력!$S$25=\"순서1\",근무!D69,IF(달력!$S$25=\"순서2\",근무!E69,IF(달력!$S$25=\"순서3\",근무!F69,IF(달력!$S$25=\"순서4\",근무!G69,IF(달력!$S$25=\"순서5\",근무!H69,IF(달력!$S$25=\"순서6\",근무!I69,\"\"))))))","v":"야간"},{"$f":"IF(달력!$S$26=\"순서1\",근무!D69,IF(달력!$S$26=\"순서2\",근무!E69,IF(달력!$S$26=\"순서3\",근무!F69,IF(달력!$S$26=\"순서4\",근무!G69,IF(달력!$S$26=\"순서5\",근무!H69,IF(달력!$S$26=\"순서6\",근무!I69,\"\"))))))","v":"비번"},{"$f":"IF(달력!$S$27=\"순서1\",근무!D69,IF(달력!$S$27=\"순서2\",근무!E69,IF(달력!$S$27=\"순서3\",근무!F69,IF(달력!$S$27=\"순서4\",근무!G69,IF(달력!$S$27=\"순서5\",근무!H69,IF(달력!$S$27=\"순서6\",근무!I69,\"\"))))))","v":"비번"},{"$f":"IF(달력!$S$28=\"순서1\",근무!D69,IF(달력!$S$28=\"순서2\",근무!E69,IF(달력!$S$28=\"순서3\",근무!F69,IF(달력!$S$28=\"순서4\",근무!G69,IF(달력!$S$28=\"순서5\",근무!H69,IF(달력!$S$28=\"순서6\",근무!I69,\"\"))))))","v":"주간"},{"$f":"IF(달력!$S$29=\"순서1\",근무!D69,IF(달력!$S$29=\"순서2\",근무!E69,IF(달력!$S$29=\"순서3\",근무!F69,IF(달력!$S$29=\"순서4\",근무!G69,IF(달력!$S$29=\"순서5\",근무!H69,IF(달력!$S$29=\"순서6\",근무!I69,\"\"))))))","v":"주간"},null,"근무일 계",3,{"$f":"M66+M67","v":20},{"$f":"N66+N67","v":20},21,21,21,21]
[null,"2023-03-05","일",{"$f":"IF(달력!$S$24=\"순서1\",근무!D70,IF(달력!$S$24=\"순서2\",근무!E70,IF(달력!$S$24=\"순서3\",근무!F70,IF(달력!$S$24=\"순서4\",근무!G70,IF(달력!$S$24=\"순서5\",근무!H70,IF(달력!$S$24=\"순서6\",근무!I70,\"\"))))))","v":"야간"},{"$f":"IF(달력!$S$25=\"순서1\",근무!D70,IF(달력!$S$25=\"순서2\",근무!E70,IF(달력!$S$25=\"순서3\",근무!F70,IF(달력!$S$25=\"순서4\",근무!G70,IF(달력!$S$25=\"순서5\",근무!H70,IF(달력!$S$25=\"순서6\",근무!I70,\"\"))))))","v":"야간"},{"$f":"IF(달력!$S$26=\"순서1\",근무!D70,IF(달력!$S$26=\"순서2\",근무!E70,IF(달력!$S$26=\"순서3\",근무!F70,IF(달력!$S$26=\"순서4\",근무!G70,IF(달력!$S$26=\"순서5\",근무!H70,IF(달력!$S$26=\"순서6\",근무!I70,\"\"))))))","v":"비번"},{"$f":"IF(달력!$S$27=\"순서1\",근무!D70,IF(달력!$S$27=\"순서2\",근무!E70,IF(달력!$S$27=\"순서3\",근무!F70,IF(달력!$S$27=\"순서4\",근무!G70,IF(달력!$S$27=\"순서5\",근무!H70,IF(달력!$S$27=\"순서6\",근무!I70,\"\"))))))","v":"비번"},{"$f":"IF(달력!$S$28=\"순서1\",근무!D70,IF(달력!$S$28=\"순서2\",근무!E70,IF(달력!$S$28=\"순서3\",근무!F70,IF(달력!$S$28=\"순서4\",근무!G70,IF(달력!$S$28=\"순서5\",근무!H70,IF(달력!$S$28=\"순서6\",근무!I70,\"\"))))))","v":"주간"},{"$f":"IF(달력!$S$29=\"순서1\",근무!D70,IF(달력!$S$29=\"순서2\",근무!E70,IF(달력!$S$29=\"순서3\",근무!F70,IF(달력!$S$29=\"순서4\",근무!G70,IF(달력!$S$29=\"순서5\",근무!H70,IF(달력!$S$29=\"순서6\",근무!I70,\"\"))))))","v":"주간"},null,null,3]
[null,"2023-03-06","월",{"$f":"IF(달력!$S$24=\"순서1\",근무!D71,IF(달력!$S$24=\"순서2\",근무!E71,IF(달력!$S$24=\"순서3\",근무!F71,IF(달력!$S$24=\"순서4\",근무!G71,IF(달력!$S$24=\"순서5\",근무!H71,IF(달력!$S$24=\"순서6\",근무!I71,\"\"))))))","v":"비번"},{"$f":"IF(달력!$S$25=\"순서1\",근무!D71,IF(달력!$S$25=\"순서2\",근무!E71,IF(달력!$S$25=\"순서3\",근무!F71,IF(달력!$S$25=\"순서4\",근무!G71,IF(달력!$S$25=\"순서5\",근무!H71,IF(달력!$S$25=\"순서6\",근무!I71,\"\"))))))","v":"비번"},{"$f":"IF(달력!$S$26=\"순서1\",근무!D71,IF(달력!$S$26=\"순서2\",근무!E71,IF(달력!$S$26=\"순서3\",근무!F71,IF(달력!$S$26=\"순서4\",근무!G71,IF(달력!$S$26=\"순서5\",근무!H71,IF(달력!$S$26=\"순서6\",근무!I71,\"\"))))))","v":"주간"},{"$f":"IF(달력!$S$27=\"순서1\",근무!D71,IF(달력!$S$27=\"순서2\",근무!E71,IF(달력!$S$27=\"순서3\",근무!F71,IF(달력!$S$27=\"순서4\",근무!G71,IF(달력!$S$27=\"순서5\",근무!H71,IF(달력!$S$27=\"순서6\",근무!I71,\"\"))))))","v":"주간"},{"$f":"IF(달력!$S$28=\"순서1\",근무!D71,IF(달력!$S$28=\"순서2\",근무!E71,IF(달력!$S$28=\"순서3\",근무!F71,IF(달력!$S$28=\"순서4\",근무!G71,IF(달력!$S$28=\"순서5\",근무!H71,IF(달력!$S$28=\"순서6\",근무!I71,\"\"))))))","v":"야간"},{"$f":"IF(달력!$S$29=\"순서1\",근무!D71,IF(달력!$S$29=\"순서2\",근무!E71,IF(달력!$S$29=\"순서3\",근무!F71,IF(달력!$S$29=\"순서4\",근무!G71,IF(달력!$S$29=\"순서5\",근무!H71,IF(달력!$S$29=\"순서6\",근무!I71,\"\"))))))","v":"야간"},null,null,3]
[null,"2023-03-07",{"$f":"CHOOSE(WEEKDAY(B72,1),\"일\",\"월\",\"화\",\"수\",\"목\",\"금\",\"토\")","v":"화"},{"$f":"IF(달력!$S$24=\"순서1\",근무!D72,IF(달력!$S$24=\"순서2\",근무!E72,IF(달력!$S$24=\"순서3\",근무!F72,IF(달력!$S$24=\"순서4\",근무!G72,IF(달력!$S$24=\"순서5\",근무!H72,IF(달력!$S$24=\"순서6\",근무!I72,\"\"))))))","v":"비번"},{"$f":"IF(달력!$S$25=\"순서1\",근무!D72,IF(달력!$S$25=\"순서2\",근무!E72,IF(달력!$S$25=\"순서3\",근무!F72,IF(달력!$S$25=\"순서4\",근무!G72,IF(달력!$S$25=\"순서5\",근무!H72,IF(달력!$S$25=\"순서6\",근무!I72,\"\"))))))","v":"비번"},{"$f":"IF(달력!$S$26=\"순서1\",근무!D72,IF(달력!$S$26=\"순서2\",근무!E72,IF(달력!$S$26=\"순서3\",근무!F72,IF(달력!$S$26=\"순서4\",근무!G72,IF(달력!$S$26=\"순서5\",근무!H72,IF(달력!$S$26=\"순서6\",근무!I72,\"\"))))))","v":"주간"},{"$f":"IF(달력!$S$27=\"순서1\",근무!D72,IF(달력!$S$27=\"순서2\",근무!E72,IF(달력!$S$27=\"순서3\",근무!F72,IF(달력!$S$27=\"순서4\",근무!G72,IF(달력!$S$27=\"순서5\",근무!H72,IF(달력!$S$27=\"순서6\",근무!I72,\"\"))))))","v":"주간"},{"$f":"IF(달력!$S$28=\"순서1\",근무!D72,IF(달력!$S$28=\"순서2\",근무!E72,IF(달력!$S$28=\"순서3\",근무!F72,IF(달력!$S$28=\"순서4\",근무!G72,IF(달력!$S$28=\"순서5\",근무!H72,IF(달력!$S$28=\"순서6\",근무!I72,\"\"))))))","v":"야간"},{"$f":"IF(달력!$S$29=\"순서1\",근무!D72,IF(달력!$S$29=\"순서2\",근무!E72,IF(달력!$S$29=\"순서3\",근무!F72,IF(달력!$S$29=\"순서4\",근무!G72,IF(달력!$S$29=\"순서5\",근무!H72,IF(달력!$S$29=\"순서6\",근무!I72,\"\"))))))","v":"야간"},null,null,{"$f":"MONTH(B72)","v":3}]
[null,{"$f":"B72+1","v":"2023-03-08"},"수",{"$f":"IF(달력!$S$24=\"순서1\",근무!D73,IF(달력!$S$24=\"순서2\",근무!E73,IF(달력!$S$24=\"순서3\",근무!F73,IF(달력!$S$24=\"순서4\",근무!G73,IF(달력!$S$24=\"순서5\",근무!H73,IF(달력!$S$24=\"순서6\",근무!I73,\"\"))))))","v":"주간"},{"$f":"IF(달력!$S$25=\"순서1\",근무!D73,IF(달력!$S$25=\"순서2\",근무!E73,IF(달력!$S$25=\"순서3\",근무!F73,IF(달력!$S$25=\"순서4\",근무!G73,IF(달력!$S$25=\"순서5\",근무!H73,IF(달력!$S$25=\"순서6\",근무!I73,\"\"))))))","v":"주간"},{"$f":"IF(달력!$S$26=\"순서1\",근무!D73,IF(달력!$S$26=\"순서2\",근무!E73,IF(달력!$S$26=\"순서3\",근무!F73,IF(달력!$S$26=\"순서4\",근무!G73,IF(달력!$S$26=\"순서5\",근무!H73,IF(달력!$S$26=\"순서6\",근무!I73,\"\"))))))","v":"야간"},{"$f":"IF(달력!$S$27=\"순서1\",근무!D73,IF(달력!$S$27=\"순서2\",근무!E73,IF(달력!$S$27=\"순서3\",근무!F73,IF(달력!$S$27=\"순서4\",근무!G73,IF(달력!$S$27=\"순서5\",근무!H73,IF(달력!$S$27=\"순서6\",근무!I73,\"\"))))))","v":"야간"},{"$f":"IF(달력!$S$28=\"순서1\",근무!D73,IF(달력!$S$28=\"순서2\",근무!E73,IF(달력!$S$28=\"순서3\",근무!F73,IF(달력!$S$28=\"순서4\",근무!G73,IF(달력!$S$28=\"순서5\",근무!H73,IF(달력!$S$28=\"순서6\",근무!I73,\"\"))))))","v":"비번"},{"$f":"IF(달력!$S$29=\"순서1\",근무!D73,IF(달력!$S$29=\"순서2\",근무!E73,IF(달력!$S$29=\"순서3\",근무!F73,IF(달력!$S$29=\"순서4\",근무!G73,IF(달력!$S$29=\"순서5\",근무!H73,IF(달력!$S$29=\"순서6\",근무!I73,\"\"))))))","v":"비번"},null,null,3]
[null,"2023-03-09","목",{"$f":"IF(달력!$S$24=\"순서1\",근무!D74,IF(달력!$S$24=\"순서2\",근무!E74,IF(달력!$S$24=\"순서3\",근무!F74,IF(달력!$S$24=\"순서4\",근무!G74,IF(달력!$S$24=\"순서5\",근무!H74,IF(달력!$S$24=\"순서6\",근무!I74,\"\"))))))","v":"주간"},{"$f":"IF(달력!$S$25=\"순서1\",근무!D74,IF(달력!$S$25=\"순서2\",근무!E74,IF(달력!$S$25=\"순서3\",근무!F74,IF(달력!$S$25=\"순서4\",근무!G74,IF(달력!$S$25=\"순서5\",근무!H74,IF(달력!$S$25=\"순서6\",근무!I74,\"\"))))))","v":"주간"},{"$f":"IF(달력!$S$26=\"순서1\",근무!D74,IF(달력!$S$26=\"순서2\",근무!E74,IF(달력!$S$26=\"순서3\",근무!F74,IF(달력!$S$26=\"순서4\",근무!G74,IF(달력!$S$26=\"순서5\",근무!H74,IF(달력!$S$26=\"순서6\",근무!I74,\"\"))))))","v":"야간"},{"$f":"IF(달력!$S$27=\"순서1\",근무!D74,IF(달력!$S$27=\"순서2\",근무!E74,IF(달력!$S$27=\"순서3\",근무!F74,IF(달력!$S$27=\"순서4\",근무!G74,IF(달력!$S$27=\"순서5\",근무!H74,IF(달력!$S$27=\"순서6\",근무!I74,\"\"))))))","v":"야간"},{"$f":"IF(달력!$S$28=\"순서1\",근무!D74,IF(달력!$S$28=\"순서2\",근무!E74,IF(달력!$S$28=\"순서3\",근무!F74,IF(달력!$S$28=\"순서4\",근무!G74,IF(달력!$S$28=\"순서5\",근무!H74,IF(달력!$S$28=\"순서6\",근무!I74,\"\"))))))","v":"비번"},{"$f":"IF(달력!$S$29=\"순서1\",근무!D74,IF(달력!$S$29=\"순서2\",근무!E74,IF(달력!$S$29=\"순서3\",근무!F74,IF(달력!$S$29=\"순서4\",근무!G74,IF(달력!$S$29=\"순서5\",근무!H74,IF(달력!$S$29=\"순서6\",근무!I74,\"\"))))))","v":"비번"},null,null,3]
[null,"2023-03-10","금",{"$f":"IF(달력!$S$24=\"순서1\",근무!D75,IF(달력!$S$24=\"순서2\",근무!E75,IF(달력!$S$24=\"순서3\",근무!F75,IF(달력!$S$24=\"순서4\",근무!G75,IF(달력!$S$24=\"순서5\",근무!H75,IF(달력!$S$24=\"순서6\",근무!I75,\"\"))))))","v":"야간"},{"$f":"IF(달력!$S$25=\"순서1\",근무!D75,IF(달력!$S$25=\"순서2\",근무!E75,IF(달력!$S$25=\"순서3\",근무!F75,IF(달력!$S$25=\"순서4\",근무!G75,IF(달력!$S$25=\"순서5\",근무!H75,IF(달력!$S$25=\"순서6\",근무!I75,\"\"))))))","v":"야간"},{"$f":"IF(달력!$S$26=\"순서1\",근무!D75,IF(달력!$S$26=\"순서2\",근무!E75,IF(달력!$S$26=\"순서3\",근무!F75,IF(달력!$S$26=\"순서4\",근무!G75,IF(달력!$S$26=\"순서5\",근무!H75,IF(달력!$S$26=\"순서6\",근무!I75,\"\"))))))","v":"비번"},{"$f":"IF(달력!$S$27=\"순서1\",근무!D75,IF(달력!$S$27=\"순서2\",근무!E75,IF(달력!$S$27=\"순서3\",근무!F75,IF(달력!$S$27=\"순서4\",근무!G75,IF(달력!$S$27=\"순서5\",근무!H75,IF(달력!$S$27=\"순서6\",근무!I75,\"\"))))))","v":"비번"},{"$f":"IF(달력!$S$28=\"순서1\",근무!D75,IF(달력!$S$28=\"순서2\",근무!E75,IF(달력!$S$28=\"순서3\",근무!F75,IF(달력!$S$28=\"순서4\",근무!G75,IF(달력!$S$28=\"순서5\",근무!H75,IF(달력!$S$28=\"순서6\",근무!I75,\"\"))))))","v":"주간"},{"$f":"IF(달력!$S$29=\"순서1\",근무!D75,IF(달력!$S$29=\"순서2\",근무!E75,IF(달력!$S$29=\"순서3\",근무!F75,IF(달력!$S$29=\"순서4\",근무!G75,IF(달력!$S$29=\"순서5\",근무!H75,IF(달력!$S$29=\"순서6\",근무!I75,\"\"))))))","v":"주간"},null,null,3]
[null,"2023-03-11","토",{"$f":"IF(달력!$S$24=\"순서1\",근무!D76,IF(달력!$S$24=\"순서2\",근무!E76,IF(달력!$S$24=\"순서3\",근무!F76,IF(달력!$S$24=\"순서4\",근무!G76,IF(달력!$S$24=\"순서5\",근무!H76,IF(달력!$S$24=\"순서6\",근무!I76,\"\"))))))","v":"야간"},{"$f":"IF(달력!$S$25=\"순서1\",근무!D76,IF(달력!$S$25=\"순서2\",근무!E76,IF(달력!$S$25=\"순서3\",근무!F76,IF(달력!$S$25=\"순서4\",근무!G76,IF(달력!$S$25=\"순서5\",근무!H76,IF(달력!$S$25=\"순서6\",근무!I76,\"\"))))))","v":"야간"},{"$f":"IF(달력!$S$26=\"순서1\",근무!D76,IF(달력!$S$26=\"순서2\",근무!E76,IF(달력!$S$26=\"순서3\",근무!F76,IF(달력!$S$26=\"순서4\",근무!G76,IF(달력!$S$26=\"순서5\",근무!H76,IF(달력!$S$26=\"순서6\",근무!I76,\"\"))))))","v":"비번"},{"$f":"IF(달력!$S$27=\"순서1\",근무!D76,IF(달력!$S$27=\"순서2\",근무!E76,IF(달력!$S$27=\"순서3\",근무!F76,IF(달력!$S$27=\"순서4\",근무!G76,IF(달력!$S$27=\"순서5\",근무!H76,IF(달력!$S$27=\"순서6\",근무!I76,\"\"))))))","v":"비번"},{"$f":"IF(달력!$S$28=\"순서1\",근무!D76,IF(달력!$S$28=\"순서2\",근무!E76,IF(달력!$S$28=\"순서3\",근무!F76,IF(달력!$S$28=\"순서4\",근무!G76,IF(달력!$S$28=\"순서5\",근무!H76,IF(달력!$S$28=\"순서6\",근무!I76,\"\"))))))","v":"주간"},{"$f":"IF(달력!$S$29=\"순서1\",근무!D76,IF(달력!$S$29=\"순서2\",근무!E76,IF(달력!$S$29=\"순서3\",근무!F76,IF(달력!$S$29=\"순서4\",근무!G76,IF(달력!$S$29=\"순서5\",근무!H76,IF(달력!$S$29=\"순서6\",근무!I76,\"\"))))))","v":"주간"},null,null,3]
[null,"2023-03-12","일",{"$f":"IF(달력!$S$24=\"순서1\",근무!D77,IF(달력!$S$24=\"순서2\",근무!E77,IF(달력!$S$24=\"순서3\",근무!F77,IF(달력!$S$24=\"순서4\",근무!G77,IF(달력!$S$24=\"순서5\",근무!H77,IF(달력!$S$24=\"순서6\",근무!I77,\"\"))))))","v":"비번"},{"$f":"IF(달력!$S$25=\"순서1\",근무!D77,IF(달력!$S$25=\"순서2\",근무!E77,IF(달력!$S$25=\"순서3\",근무!F77,IF(달력!$S$25=\"순서4\",근무!G77,IF(달력!$S$25=\"순서5\",근무!H77,IF(달력!$S$25=\"순서6\",근무!I77,\"\"))))))","v":"비번"},{"$f":"IF(달력!$S$26=\"순서1\",근무!D77,IF(달력!$S$26=\"순서2\",근무!E77,IF(달력!$S$26=\"순서3\",근무!F77,IF(달력!$S$26=\"순서4\",근무!G77,IF(달력!$S$26=\"순서5\",근무!H77,IF(달력!$S$26=\"순서6\",근무!I77,\"\"))))))","v":"주간"},{"$f":"IF(달력!$S$27=\"순서1\",근무!D77,IF(달력!$S$27=\"순서2\",근무!E77,IF(달력!$S$27=\"순서3\",근무!F77,IF(달력!$S$27=\"순서4\",근무!G77,IF(달력!$S$27=\"순서5\",근무!H77,IF(달력!$S$27=\"순서6\",근무!I77,\"\"))))))","v":"주간"},{"$f":"IF(달력!$S$28=\"순서1\",근무!D77,IF(달력!$S$28=\"순서2\",근무!E77,IF(달력!$S$28=\"순서3\",근무!F77,IF(달력!$S$28=\"순서4\",근무!G77,IF(달력!$S$28=\"순서5\",근무!H77,IF(달력!$S$28=\"순서6\",근무!I77,\"\"))))))","v":"야간"},{"$f":"IF(달력!$S$29=\"순서1\",근무!D77,IF(달력!$S$29=\"순서2\",근무!E77,IF(달력!$S$29=\"순서3\",근무!F77,IF(달력!$S$29=\"순서4\",근무!G77,IF(달력!$S$29=\"순서5\",근무!H77,IF(달력!$S$29=\"순서6\",근무!I77,\"\"))))))","v":"야간"},null,null,3]
[null,"2023-03-13","월",{"$f":"IF(달력!$S$24=\"순서1\",근무!D78,IF(달력!$S$24=\"순서2\",근무!E78,IF(달력!$S$24=\"순서3\",근무!F78,IF(달력!$S$24=\"순서4\",근무!G78,IF(달력!$S$24=\"순서5\",근무!H78,IF(달력!$S$24=\"순서6\",근무!I78,\"\"))))))","v":"비번"},{"$f":"IF(달력!$S$25=\"순서1\",근무!D78,IF(달력!$S$25=\"순서2\",근무!E78,IF(달력!$S$25=\"순서3\",근무!F78,IF(달력!$S$25=\"순서4\",근무!G78,IF(달력!$S$25=\"순서5\",근무!H78,IF(달력!$S$25=\"순서6\",근무!I78,\"\"))))))","v":"비번"},{"$f":"IF(달력!$S$26=\"순서1\",근무!D78,IF(달력!$S$26=\"순서2\",근무!E78,IF(달력!$S$26=\"순서3\",근무!F78,IF(달력!$S$26=\"순서4\",근무!G78,IF(달력!$S$26=\"순서5\",근무!H78,IF(달력!$S$26=\"순서6\",근무!I78,\"\"))))))","v":"주간"},{"$f":"IF(달력!$S$27=\"순서1\",근무!D78,IF(달력!$S$27=\"순서2\",근무!E78,IF(달력!$S$27=\"순서3\",근무!F78,IF(달력!$S$27=\"순서4\",근무!G78,IF(달력!$S$27=\"순서5\",근무!H78,IF(달력!$S$27=\"순서6\",근무!I78,\"\"))))))","v":"주간"},{"$f":"IF(달력!$S$28=\"순서1\",근무!D78,IF(달력!$S$28=\"순서2\",근무!E78,IF(달력!$S$28=\"순서3\",근무!F78,IF(달력!$S$28=\"순서4\",근무!G78,IF(달력!$S$28=\"순서5\",근무!H78,IF(달력!$S$28=\"순서6\",근무!I78,\"\"))))))","v":"야간"},{"$f":"IF(달력!$S$29=\"순서1\",근무!D78,IF(달력!$S$29=\"순서2\",근무!E78,IF(달력!$S$29=\"순서3\",근무!F78,IF(달력!$S$29=\"순서4\",근무!G78,IF(달력!$S$29=\"순서5\",근무!H78,IF(달력!$S$29=\"순서6\",근무!I78,\"\"))))))","v":"야간"},null,null,3]
[null,"2023-03-14","화",{"$f":"IF(달력!$S$24=\"순서1\",근무!D79,IF(달력!$S$24=\"순서2\",근무!E79,IF(달력!$S$24=\"순서3\",근무!F79,IF(달력!$S$24=\"순서4\",근무!G79,IF(달력!$S$24=\"순서5\",근무!H79,IF(달력!$S$24=\"순서6\",근무!I79,\"\"))))))","v":"주간"},{"$f":"IF(달력!$S$25=\"순서1\",근무!D79,IF(달력!$S$25=\"순서2\",근무!E79,IF(달력!$S$25=\"순서3\",근무!F79,IF(달력!$S$25=\"순서4\",근무!G79,IF(달력!$S$25=\"순서5\",근무!H79,IF(달력!$S$25=\"순서6\",근무!I79,\"\"))))))","v":"주간"},{"$f":"IF(달력!$S$26=\"순서1\",근무!D79,IF(달력!$S$26=\"순서2\",근무!E79,IF(달력!$S$26=\"순서3\",근무!F79,IF(달력!$S$26=\"순서4\",근무!G79,IF(달력!$S$26=\"순서5\",근무!H79,IF(달력!$S$26=\"순서6\",근무!I79,\"\"))))))","v":"야간"},{"$f":"IF(달력!$S$27=\"순서1\",근무!D79,IF(달력!$S$27=\"순서2\",근무!E79,IF(달력!$S$27=\"순서3\",근무!F79,IF(달력!$S$27=\"순서4\",근무!G79,IF(달력!$S$27=\"순서5\",근무!H79,IF(달력!$S$27=\"순서6\",근무!I79,\"\"))))))","v":"야간"},{"$f":"IF(달력!$S$28=\"순서1\",근무!D79,IF(달력!$S$28=\"순서2\",근무!E79,IF(달력!$S$28=\"순서3\",근무!F79,IF(달력!$S$28=\"순서4\",근무!G79,IF(달력!$S$28=\"순서5\",근무!H79,IF(달력!$S$28=\"순서6\",근무!I79,\"\"))))))","v":"비번"},{"$f":"IF(달력!$S$29=\"순서1\",근무!D79,IF(달력!$S$29=\"순서2\",근무!E79,IF(달력!$S$29=\"순서3\",근무!F79,IF(달력!$S$29=\"순서4\",근무!G79,IF(달력!$S$29=\"순서5\",근무!H79,IF(달력!$S$29=\"순서6\",근무!I79,\"\"))))))","v":"비번"},null,null,3]
[null,"2023-03-15","수",{"$f":"IF(달력!$S$24=\"순서1\",근무!D80,IF(달력!$S$24=\"순서2\",근무!E80,IF(달력!$S$24=\"순서3\",근무!F80,IF(달력!$S$24=\"순서4\",근무!G80,IF(달력!$S$24=\"순서5\",근무!H80,IF(달력!$S$24=\"순서6\",근무!I80,\"\"))))))","v":"주간"},{"$f":"IF(달력!$S$25=\"순서1\",근무!D80,IF(달력!$S$25=\"순서2\",근무!E80,IF(달력!$S$25=\"순서3\",근무!F80,IF(달력!$S$25=\"순서4\",근무!G80,IF(달력!$S$25=\"순서5\",근무!H80,IF(달력!$S$25=\"순서6\",근무!I80,\"\"))))))","v":"주간"},{"$f":"IF(달력!$S$26=\"순서1\",근무!D80,IF(달력!$S$26=\"순서2\",근무!E80,IF(달력!$S$26=\"순서3\",근무!F80,IF(달력!$S$26=\"순서4\",근무!G80,IF(달력!$S$26=\"순서5\",근무!H80,IF(달력!$S$26=\"순서6\",근무!I80,\"\"))))))","v":"야간"},{"$f":"IF(달력!$S$27=\"순서1\",근무!D80,IF(달력!$S$27=\"순서2\",근무!E80,IF(달력!$S$27=\"순서3\",근무!F80,IF(달력!$S$27=\"순서4\",근무!G80,IF(달력!$S$27=\"순서5\",근무!H80,IF(달력!$S$27=\"순서6\",근무!I80,\"\"))))))","v":"야간"},{"$f":"IF(달력!$S$28=\"순서1\",근무!D80,IF(달력!$S$28=\"순서2\",근무!E80,IF(달력!$S$28=\"순서3\",근무!F80,IF(달력!$S$28=\"순서4\",근무!G80,IF(달력!$S$28=\"순서5\",근무!H80,IF(달력!$S$28=\"순서6\",근무!I80,\"\"))))))","v":"비번"},{"$f":"IF(달력!$S$29=\"순서1\",근무!D80,IF(달력!$S$29=\"순서2\",근무!E80,IF(달력!$S$29=\"순서3\",근무!F80,IF(달력!$S$29=\"순서4\",근무!G80,IF(달력!$S$29=\"순서5\",근무!H80,IF(달력!$S$29=\"순서6\",근무!I80,\"\"))))))","v":"비번"},null,null,3]
[null,"2023-03-16","목",{"$f":"IF(달력!$S$24=\"순서1\",근무!D81,IF(달력!$S$24=\"순서2\",근무!E81,IF(달력!$S$24=\"순서3\",근무!F81,IF(달력!$S$24=\"순서4\",근무!G81,IF(달력!$S$24=\"순서5\",근무!H81,IF(달력!$S$24=\"순서6\",근무!I81,\"\"))))))","v":"야간"},{"$f":"IF(달력!$S$25=\"순서1\",근무!D81,IF(달력!$S$25=\"순서2\",근무!E81,IF(달력!$S$25=\"순서3\",근무!F81,IF(달력!$S$25=\"순서4\",근무!G81,IF(달력!$S$25=\"순서5\",근무!H81,IF(달력!$S$25=\"순서6\",근무!I81,\"\"))))))","v":"야간"},{"$f":"IF(달력!$S$26=\"순서1\",근무!D81,IF(달력!$S$26=\"순서2\",근무!E81,IF(달력!$S$26=\"순서3\",근무!F81,IF(달력!$S$26=\"순서4\",근무!G81,IF(달력!$S$26=\"순서5\",근무!H81,IF(달력!$S$26=\"순서6\",근무!I81,\"\"))))))","v":"비번"},{"$f":"IF(달력!$S$27=\"순서1\",근무!D81,IF(달력!$S$27=\"순서2\",근무!E81,IF(달력!$S$27=\"순서3\",근무!F81,IF(달력!$S$27=\"순서4\",근무!G81,IF(달력!$S$27=\"순서5\",근무!H81,IF(달력!$S$27=\"순서6\",근무!I81,\"\"))))))","v":"비번"},{"$f":"IF(달력!$S$28=\"순서1\",근무!D81,IF(달력!$S$28=\"순서2\",근무!E81,IF(달력!$S$28=\"순서3\",근무!F81,IF(달력!$S$28=\"순서4\",근무!G81,IF(달력!$S$28=\"순서5\",근무!H81,IF(달력!$S$28=\"순서6\",근무!I81,\"\"))))))","v":"주간"},{"$f":"IF(달력!$S$29=\"순서1\",근무!D81,IF(달력!$S$29=\"순서2\",근무!E81,IF(달력!$S$29=\"순서3\",근무!F81,IF(달력!$S$29=\"순서4\",근무!G81,IF(달력!$S$29=\"순서5\",근무!H81,IF(달력!$S$29=\"순서6\",근무!I81,\"\"))))))","v":"주간"},null,null,3]
[null,"2023-03-17","금",{"$f":"IF(달력!$S$24=\"순서1\",근무!D82,IF(달력!$S$24=\"순서2\",근무!E82,IF(달력!$S$24=\"순서3\",근무!F82,IF(달력!$S$24=\"순서4\",근무!G82,IF(달력!$S$24=\"순서5\",근무!H82,IF(달력!$S$24=\"순서6\",근무!I82,\"\"))))))","v":"야간"},{"$f":"IF(달력!$S$25=\"순서1\",근무!D82,IF(달력!$S$25=\"순서2\",근무!E82,IF(달력!$S$25=\"순서3\",근무!F82,IF(달력!$S$25=\"순서4\",근무!G82,IF(달력!$S$25=\"순서5\",근무!H82,IF(달력!$S$25=\"순서6\",근무!I82,\"\"))))))","v":"야간"},{"$f":"IF(달력!$S$26=\"순서1\",근무!D82,IF(달력!$S$26=\"순서2\",근무!E82,IF(달력!$S$26=\"순서3\",근무!F82,IF(달력!$S$26=\"순서4\",근무!G82,IF(달력!$S$26=\"순서5\",근무!H82,IF(달력!$S$26=\"순서6\",근무!I82,\"\"))))))","v":"비번"},{"$f":"IF(달력!$S$27=\"순서1\",근무!D82,IF(달력!$S$27=\"순서2\",근무!E82,IF(달력!$S$27=\"순서3\",근무!F82,IF(달력!$S$27=\"순서4\",근무!G82,IF(달력!$S$27=\"순서5\",근무!H82,IF(달력!$S$27=\"순서6\",근무!I82,\"\"))))))","v":"비번"},{"$f":"IF(달력!$S$28=\"순서1\",근무!D82,IF(달력!$S$28=\"순서2\",근무!E82,IF(달력!$S$28=\"순서3\",근무!F82,IF(달력!$S$28=\"순서4\",근무!G82,IF(달력!$S$28=\"순서5\",근무!H82,IF(달력!$S$28=\"순서6\",근무!I82,\"\"))))))","v":"주간"},{"$f":"IF(달력!$S$29=\"순서1\",근무!D82,IF(달력!$S$29=\"순서2\",근무!E82,IF(달력!$S$29=\"순서3\",근무!F82,IF(달력!$S$29=\"순서4\",근무!G82,IF(달력!$S$29=\"순서5\",근무!H82,IF(달력!$S$29=\"순서6\",근무!I82,\"\"))))))","v":"주간"},null,null,3]
[null,"2023-03-18","토",{"$f":"IF(달력!$S$24=\"순서1\",근무!D83,IF(달력!$S$24=\"순서2\",근무!E83,IF(달력!$S$24=\"순서3\",근무!F83,IF(달력!$S$24=\"순서4\",근무!G83,IF(달력!$S$24=\"순서5\",근무!H83,IF(달력!$S$24=\"순서6\",근무!I83,\"\"))))))","v":"비번"},{"$f":"IF(달력!$S$25=\"순서1\",근무!D83,IF(달력!$S$25=\"순서2\",근무!E83,IF(달력!$S$25=\"순서3\",근무!F83,IF(달력!$S$25=\"순서4\",근무!G83,IF(달력!$S$25=\"순서5\",근무!H83,IF(달력!$S$25=\"순서6\",근무!I83,\"\"))))))","v":"비번"},{"$f":"IF(달력!$S$26=\"순서1\",근무!D83,IF(달력!$S$26=\"순서2\",근무!E83,IF(달력!$S$26=\"순서3\",근무!F83,IF(달력!$S$26=\"순서4\",근무!G83,IF(달력!$S$26=\"순서5\",근무!H83,IF(달력!$S$26=\"순서6\",근무!I83,\"\"))))))","v":"주간"},{"$f":"IF(달력!$S$27=\"순서1\",근무!D83,IF(달력!$S$27=\"순서2\",근무!E83,IF(달력!$S$27=\"순서3\",근무!F83,IF(달력!$S$27=\"순서4\",근무!G83,IF(달력!$S$27=\"순서5\",근무!H83,IF(달력!$S$27=\"순서6\",근무!I83,\"\"))))))","v":"주간"},{"$f":"IF(달력!$S$28=\"순서1\",근무!D83,IF(달력!$S$28=\"순서2\",근무!E83,IF(달력!$S$28=\"순서3\",근무!F83,IF(달력!$S$28=\"순서4\",근무!G83,IF(달력!$S$28=\"순서5\",근무!H83,IF(달력!$S$28=\"순서6\",근무!I83,\"\"))))))","v":"야간"},{"$f":"IF(달력!$S$29=\"순서1\",근무!D83,IF(달력!$S$29=\"순서2\",근무!E83,IF(달력!$S$29=\"순서3\",근무!F83,IF(달력!$S$29=\"순서4\",근무!G83,IF(달력!$S$29=\"순서5\",근무!H83,IF(달력!$S$29=\"순서6\",근무!I83,\"\"))))))","v":"야간"},null,null,3]
[null,"2023-03-19","일",{"$f":"IF(달력!$S$24=\"순서1\",근무!D84,IF(달력!$S$24=\"순서2\",근무!E84,IF(달력!$S$24=\"순서3\",근무!F84,IF(달력!$S$24=\"순서4\",근무!G84,IF(달력!$S$24=\"순서5\",근무!H84,IF(달력!$S$24=\"순서6\",근무!I84,\"\"))))))","v":"비번"},{"$f":"IF(달력!$S$25=\"순서1\",근무!D84,IF(달력!$S$25=\"순서2\",근무!E84,IF(달력!$S$25=\"순서3\",근무!F84,IF(달력!$S$25=\"순서4\",근무!G84,IF(달력!$S$25=\"순서5\",근무!H84,IF(달력!$S$25=\"순서6\",근무!I84,\"\"))))))","v":"비번"},{"$f":"IF(달력!$S$26=\"순서1\",근무!D84,IF(달력!$S$26=\"순서2\",근무!E84,IF(달력!$S$26=\"순서3\",근무!F84,IF(달력!$S$26=\"순서4\",근무!G84,IF(달력!$S$26=\"순서5\",근무!H84,IF(달력!$S$26=\"순서6\",근무!I84,\"\"))))))","v":"주간"},{"$f":"IF(달력!$S$27=\"순서1\",근무!D84,IF(달력!$S$27=\"순서2\",근무!E84,IF(달력!$S$27=\"순서3\",근무!F84,IF(달력!$S$27=\"순서4\",근무!G84,IF(달력!$S$27=\"순서5\",근무!H84,IF(달력!$S$27=\"순서6\",근무!I84,\"\"))))))","v":"주간"},{"$f":"IF(달력!$S$28=\"순서1\",근무!D84,IF(달력!$S$28=\"순서2\",근무!E84,IF(달력!$S$28=\"순서3\",근무!F84,IF(달력!$S$28=\"순서4\",근무!G84,IF(달력!$S$28=\"순서5\",근무!H84,IF(달력!$S$28=\"순서6\",근무!I84,\"\"))))))","v":"야간"},{"$f":"IF(달력!$S$29=\"순서1\",근무!D84,IF(달력!$S$29=\"순서2\",근무!E84,IF(달력!$S$29=\"순서3\",근무!F84,IF(달력!$S$29=\"순서4\",근무!G84,IF(달력!$S$29=\"순서5\",근무!H84,IF(달력!$S$29=\"순서6\",근무!I84,\"\"))))))","v":"야간"},null,null,3]
[null,"2023-03-20","월",{"$f":"IF(달력!$S$24=\"순서1\",근무!D85,IF(달력!$S$24=\"순서2\",근무!E85,IF(달력!$S$24=\"순서3\",근무!F85,IF(달력!$S$24=\"순서4\",근무!G85,IF(달력!$S$24=\"순서5\",근무!H85,IF(달력!$S$24=\"순서6\",근무!I85,\"\"))))))","v":"주간"},{"$f":"IF(달력!$S$25=\"순서1\",근무!D85,IF(달력!$S$25=\"순서2\",근무!E85,IF(달력!$S$25=\"순서3\",근무!F85,IF(달력!$S$25=\"순서4\",근무!G85,IF(달력!$S$25=\"순서5\",근무!H85,IF(달력!$S$25=\"순서6\",근무!I85,\"\"))))))","v":"주간"},{"$f":"IF(달력!$S$26=\"순서1\",근무!D85,IF(달력!$S$26=\"순서2\",근무!E85,IF(달력!$S$26=\"순서3\",근무!F85,IF(달력!$S$26=\"순서4\",근무!G85,IF(달력!$S$26=\"순서5\",근무!H85,IF(달력!$S$26=\"순서6\",근무!I85,\"\"))))))","v":"야간"},{"$f":"IF(달력!$S$27=\"순서1\",근무!D85,IF(달력!$S$27=\"순서2\",근무!E85,IF(달력!$S$27=\"순서3\",근무!F85,IF(달력!$S$27=\"순서4\",근무!G85,IF(달력!$S$27=\"순서5\",근무!H85,IF(달력!$S$27=\"순서6\",근무!I85,\"\"))))))","v":"야간"},{"$f":"IF(달력!$S$28=\"순서1\",근무!D85,IF(달력!$S$28=\"순서2\",근무!E85,IF(달력!$S$28=\"순서3\",근무!F85,IF(달력!$S$28=\"순서4\",근무!G85,IF(달력!$S$28=\"순서5\",근무!H85,IF(달력!$S$28=\"순서6\",근무!I85,\"\"))))))","v":"비번"},{"$f":"IF(달력!$S$29=\"순서1\",근무!D85,IF(달력!$S$29=\"순서2\",근무!E85,IF(달력!$S$29=\"순서3\",근무!F85,IF(달력!$S$29=\"순서4\",근무!G85,IF(달력!$S$29=\"순서5\",근무!H85,IF(달력!$S$29=\"순서6\",근무!I85,\"\"))))))","v":"비번"},null,null,3]
[null,"2023-03-21","화",{"$f":"IF(달력!$S$24=\"순서1\",근무!D86,IF(달력!$S$24=\"순서2\",근무!E86,IF(달력!$S$24=\"순서3\",근무!F86,IF(달력!$S$24=\"순서4\",근무!G86,IF(달력!$S$24=\"순서5\",근무!H86,IF(달력!$S$24=\"순서6\",근무!I86,\"\"))))))","v":"주간"},{"$f":"IF(달력!$S$25=\"순서1\",근무!D86,IF(달력!$S$25=\"순서2\",근무!E86,IF(달력!$S$25=\"순서3\",근무!F86,IF(달력!$S$25=\"순서4\",근무!G86,IF(달력!$S$25=\"순서5\",근무!H86,IF(달력!$S$25=\"순서6\",근무!I86,\"\"))))))","v":"주간"},{"$f":"IF(달력!$S$26=\"순서1\",근무!D86,IF(달력!$S$26=\"순서2\",근무!E86,IF(달력!$S$26=\"순서3\",근무!F86,IF(달력!$S$26=\"순서4\",근무!G86,IF(달력!$S$26=\"순서5\",근무!H86,IF(달력!$S$26=\"순서6\",근무!I86,\"\"))))))","v":"야간"},{"$f":"IF(달력!$S$27=\"순서1\",근무!D86,IF(달력!$S$27=\"순서2\",근무!E86,IF(달력!$S$27=\"순서3\",근무!F86,IF(달력!$S$27=\"순서4\",근무!G86,IF(달력!$S$27=\"순서5\",근무!H86,IF(달력!$S$27=\"순서6\",근무!I86,\"\"))))))","v":"야간"},{"$f":"IF(달력!$S$28=\"순서1\",근무!D86,IF(달력!$S$28=\"순서2\",근무!E86,IF(달력!$S$28=\"순서3\",근무!F86,IF(달력!$S$28=\"순서4\",근무!G86,IF(달력!$S$28=\"순서5\",근무!H86,IF(달력!$S$28=\"순서6\",근무!I86,\"\"))))))","v":"비번"},{"$f":"IF(달력!$S$29=\"순서1\",근무!D86,IF(달력!$S$29=\"순서2\",근무!E86,IF(달력!$S$29=\"순서3\",근무!F86,IF(달력!$S$29=\"순서4\",근무!G86,IF(달력!$S$29=\"순서5\",근무!H86,IF(달력!$S$29=\"순서6\",근무!I86,\"\"))))))","v":"비번"},null,null,3]
[null,"2023-03-22","수",{"$f":"IF(달력!$S$24=\"순서1\",근무!D87,IF(달력!$S$24=\"순서2\",근무!E87,IF(달력!$S$24=\"순서3\",근무!F87,IF(달력!$S$24=\"순서4\",근무!G87,IF(달력!$S$24=\"순서5\",근무!H87,IF(달력!$S$24=\"순서6\",근무!I87,\"\"))))))","v":"야간"},{"$f":"IF(달력!$S$25=\"순서1\",근무!D87,IF(달력!$S$25=\"순서2\",근무!E87,IF(달력!$S$25=\"순서3\",근무!F87,IF(달력!$S$25=\"순서4\",근무!G87,IF(달력!$S$25=\"순서5\",근무!H87,IF(달력!$S$25=\"순서6\",근무!I87,\"\"))))))","v":"야간"},{"$f":"IF(달력!$S$26=\"순서1\",근무!D87,IF(달력!$S$26=\"순서2\",근무!E87,IF(달력!$S$26=\"순서3\",근무!F87,IF(달력!$S$26=\"순서4\",근무!G87,IF(달력!$S$26=\"순서5\",근무!H87,IF(달력!$S$26=\"순서6\",근무!I87,\"\"))))))","v":"비번"},{"$f":"IF(달력!$S$27=\"순서1\",근무!D87,IF(달력!$S$27=\"순서2\",근무!E87,IF(달력!$S$27=\"순서3\",근무!F87,IF(달력!$S$27=\"순서4\",근무!G87,IF(달력!$S$27=\"순서5\",근무!H87,IF(달력!$S$27=\"순서6\",근무!I87,\"\"))))))","v":"비번"},{"$f":"IF(달력!$S$28=\"순서1\",근무!D87,IF(달력!$S$28=\"순서2\",근무!E87,IF(달력!$S$28=\"순서3\",근무!F87,IF(달력!$S$28=\"순서4\",근무!G87,IF(달력!$S$28=\"순서5\",근무!H87,IF(달력!$S$28=\"순서6\",근무!I87,\"\"))))))","v":"주간"},{"$f":"IF(달력!$S$29=\"순서1\",근무!D87,IF(달력!$S$29=\"순서2\",근무!E87,IF(달력!$S$29=\"순서3\",근무!F87,IF(달력!$S$29=\"순서4\",근무!G87,IF(달력!$S$29=\"순서5\",근무!H87,IF(달력!$S$29=\"순서6\",근무!I87,\"\"))))))","v":"주간"},null,null,3]
[null,"2023-03-23","목",{"$f":"IF(달력!$S$24=\"순서1\",근무!D88,IF(달력!$S$24=\"순서2\",근무!E88,IF(달력!$S$24=\"순서3\",근무!F88,IF(달력!$S$24=\"순서4\",근무!G88,IF(달력!$S$24=\"순서5\",근무!H88,IF(달력!$S$24=\"순서6\",근무!I88,\"\"))))))","v":"야간"},{"$f":"IF(달력!$S$25=\"순서1\",근무!D88,IF(달력!$S$25=\"순서2\",근무!E88,IF(달력!$S$25=\"순서3\",근무!F88,IF(달력!$S$25=\"순서4\",근무!G88,IF(달력!$S$25=\"순서5\",근무!H88,IF(달력!$S$25=\"순서6\",근무!I88,\"\"))))))","v":"야간"},{"$f":"IF(달력!$S$26=\"순서1\",근무!D88,IF(달력!$S$26=\"순서2\",근무!E88,IF(달력!$S$26=\"순서3\",근무!F88,IF(달력!$S$26=\"순서4\",근무!G88,IF(달력!$S$26=\"순서5\",근무!H88,IF(달력!$S$26=\"순서6\",근무!I88,\"\"))))))","v":"비번"},{"$f":"IF(달력!$S$27=\"순서1\",근무!D88,IF(달력!$S$27=\"순서2\",근무!E88,IF(달력!$S$27=\"순서3\",근무!F88,IF(달력!$S$27=\"순서4\",근무!G88,IF(달력!$S$27=\"순서5\",근무!H88,IF(달력!$S$27=\"순서6\",근무!I88,\"\"))))))","v":"비번"},{"$f":"IF(달력!$S$28=\"순서1\",근무!D88,IF(달력!$S$28=\"순서2\",근무!E88,IF(달력!$S$28=\"순서3\",근무!F88,IF(달력!$S$28=\"순서4\",근무!G88,IF(달력!$S$28=\"순서5\",근무!H88,IF(달력!$S$28=\"순서6\",근무!I88,\"\"))))))","v":"주간"},{"$f":"IF(달력!$S$29=\"순서1\",근무!D88,IF(달력!$S$29=\"순서2\",근무!E88,IF(달력!$S$29=\"순서3\",근무!F88,IF(달력!$S$29=\"순서4\",근무!G88,IF(달력!$S$29=\"순서5\",근무!H88,IF(달력!$S$29=\"순서6\",근무!I88,\"\"))))))","v":"주간"},null,null,3]
[null,"2023-03-24","금",{"$f":"IF(달력!$S$24=\"순서1\",근무!D89,IF(달력!$S$24=\"순서2\",근무!E89,IF(달력!$S$24=\"순서3\",근무!F89,IF(달력!$S$24=\"순서4\",근무!G89,IF(달력!$S$24=\"순서5\",근무!H89,IF(달력!$S$24=\"순서6\",근무!I89,\"\"))))))","v":"비번"},{"$f":"IF(달력!$S$25=\"순서1\",근무!D89,IF(달력!$S$25=\"순서2\",근무!E89,IF(달력!$S$25=\"순서3\",근무!F89,IF(달력!$S$25=\"순서4\",근무!G89,IF(달력!$S$25=\"순서5\",근무!H89,IF(달력!$S$25=\"순서6\",근무!I89,\"\"))))))","v":"비번"},{"$f":"IF(달력!$S$26=\"순서1\",근무!D89,IF(달력!$S$26=\"순서2\",근무!E89,IF(달력!$S$26=\"순서3\",근무!F89,IF(달력!$S$26=\"순서4\",근무!G89,IF(달력!$S$26=\"순서5\",근무!H89,IF(달력!$S$26=\"순서6\",근무!I89,\"\"))))))","v":"주간"},{"$f":"IF(달력!$S$27=\"순서1\",근무!D89,IF(달력!$S$27=\"순서2\",근무!E89,IF(달력!$S$27=\"순서3\",근무!F89,IF(달력!$S$27=\"순서4\",근무!G89,IF(달력!$S$27=\"순서5\",근무!H89,IF(달력!$S$27=\"순서6\",근무!I89,\"\"))))))","v":"주간"},{"$f":"IF(달력!$S$28=\"순서1\",근무!D89,IF(달력!$S$28=\"순서2\",근무!E89,IF(달력!$S$28=\"순서3\",근무!F89,IF(달력!$S$28=\"순서4\",근무!G89,IF(달력!$S$28=\"순서5\",근무!H89,IF(달력!$S$28=\"순서6\",근무!I89,\"\"))))))","v":"야간"},{"$f":"IF(달력!$S$29=\"순서1\",근무!D89,IF(달력!$S$29=\"순서2\",근무!E89,IF(달력!$S$29=\"순서3\",근무!F89,IF(달력!$S$29=\"순서4\",근무!G89,IF(달력!$S$29=\"순서5\",근무!H89,IF(달력!$S$29=\"순서6\",근무!I89,\"\"))))))","v":"야간"},null,null,3]
[null,"2023-03-25","토",{"$f":"IF(달력!$S$24=\"순서1\",근무!D90,IF(달력!$S$24=\"순서2\",근무!E90,IF(달력!$S$24=\"순서3\",근무!F90,IF(달력!$S$24=\"순서4\",근무!G90,IF(달력!$S$24=\"순서5\",근무!H90,IF(달력!$S$24=\"순서6\",근무!I90,\"\"))))))","v":"비번"},{"$f":"IF(달력!$S$25=\"순서1\",근무!D90,IF(달력!$S$25=\"순서2\",근무!E90,IF(달력!$S$25=\"순서3\",근무!F90,IF(달력!$S$25=\"순서4\",근무!G90,IF(달력!$S$25=\"순서5\",근무!H90,IF(달력!$S$25=\"순서6\",근무!I90,\"\"))))))","v":"비번"},{"$f":"IF(달력!$S$26=\"순서1\",근무!D90,IF(달력!$S$26=\"순서2\",근무!E90,IF(달력!$S$26=\"순서3\",근무!F90,IF(달력!$S$26=\"순서4\",근무!G90,IF(달력!$S$26=\"순서5\",근무!H90,IF(달력!$S$26=\"순서6\",근무!I90,\"\"))))))","v":"주간"},{"$f":"IF(달력!$S$27=\"순서1\",근무!D90,IF(달력!$S$27=\"순서2\",근무!E90,IF(달력!$S$27=\"순서3\",근무!F90,IF(달력!$S$27=\"순서4\",근무!G90,IF(달력!$S$27=\"순서5\",근무!H90,IF(달력!$S$27=\"순서6\",근무!I90,\"\"))))))","v":"주간"},{"$f":"IF(달력!$S$28=\"순서1\",근무!D90,IF(달력!$S$28=\"순서2\",근무!E90,IF(달력!$S$28=\"순서3\",근무!F90,IF(달력!$S$28=\"순서4\",근무!G90,IF(달력!$S$28=\"순서5\",근무!H90,IF(달력!$S$28=\"순서6\",근무!I90,\"\"))))))","v":"야간"},{"$f":"IF(달력!$S$29=\"순서1\",근무!D90,IF(달력!$S$29=\"순서2\",근무!E90,IF(달력!$S$29=\"순서3\",근무!F90,IF(달력!$S$29=\"순서4\",근무!G90,IF(달력!$S$29=\"순서5\",근무!H90,IF(달력!$S$29=\"순서6\",근무!I90,\"\"))))))","v":"야간"},null,null,3]
[null,"2023-03-26","일",{"$f":"IF(달력!$S$24=\"순서1\",근무!D91,IF(달력!$S$24=\"순서2\",근무!E91,IF(달력!$S$24=\"순서3\",근무!F91,IF(달력!$S$24=\"순서4\",근무!G91,IF(달력!$S$24=\"순서5\",근무!H91,IF(달력!$S$24=\"순서6\",근무!I91,\"\"))))))","v":"주간"},{"$f":"IF(달력!$S$25=\"순서1\",근무!D91,IF(달력!$S$25=\"순서2\",근무!E91,IF(달력!$S$25=\"순서3\",근무!F91,IF(달력!$S$25=\"순서4\",근무!G91,IF(달력!$S$25=\"순서5\",근무!H91,IF(달력!$S$25=\"순서6\",근무!I91,\"\"))))))","v":"주간"},{"$f":"IF(달력!$S$26=\"순서1\",근무!D91,IF(달력!$S$26=\"순서2\",근무!E91,IF(달력!$S$26=\"순서3\",근무!F91,IF(달력!$S$26=\"순서4\",근무!G91,IF(달력!$S$26=\"순서5\",근무!H91,IF(달력!$S$26=\"순서6\",근무!I91,\"\"))))))","v":"야간"},{"$f":"IF(달력!$S$27=\"순서1\",근무!D91,IF(달력!$S$27=\"순서2\",근무!E91,IF(달력!$S$27=\"순서3\",근무!F91,IF(달력!$S$27=\"순서4\",근무!G91,IF(달력!$S$27=\"순서5\",근무!H91,IF(달력!$S$27=\"순서6\",근무!I91,\"\"))))))","v":"야간"},{"$f":"IF(달력!$S$28=\"순서1\",근무!D91,IF(달력!$S$28=\"순서2\",근무!E91,IF(달력!$S$28=\"순서3\",근무!F91,IF(달력!$S$28=\"순서4\",근무!G91,IF(달력!$S$28=\"순서5\",근무!H91,IF(달력!$S$28=\"순서6\",근무!I91,\"\"))))))","v":"비번"},{"$f":"IF(달력!$S$29=\"순서1\",근무!D91,IF(달력!$S$29=\"순서2\",근무!E91,IF(달력!$S$29=\"순서3\",근무!F91,IF(달력!$S$29=\"순서4\",근무!G91,IF(달력!$S$29=\"순서5\",근무!H91,IF(달력!$S$29=\"순서6\",근무!I91,\"\"))))))","v":"비번"},null,null,3]
[null,"2023-03-27","월",{"$f":"IF(달력!$S$24=\"순서1\",근무!D92,IF(달력!$S$24=\"순서2\",근무!E92,IF(달력!$S$24=\"순서3\",근무!F92,IF(달력!$S$24=\"순서4\",근무!G92,IF(달력!$S$24=\"순서5\",근무!H92,IF(달력!$S$24=\"순서6\",근무!I92,\"\"))))))","v":"주간"},{"$f":"IF(달력!$S$25=\"순서1\",근무!D92,IF(달력!$S$25=\"순서2\",근무!E92,IF(달력!$S$25=\"순서3\",근무!F92,IF(달력!$S$25=\"순서4\",근무!G92,IF(달력!$S$25=\"순서5\",근무!H92,IF(달력!$S$25=\"순서6\",근무!I92,\"\"))))))","v":"주간"},{"$f":"IF(달력!$S$26=\"순서1\",근무!D92,IF(달력!$S$26=\"순서2\",근무!E92,IF(달력!$S$26=\"순서3\",근무!F92,IF(달력!$S$26=\"순서4\",근무!G92,IF(달력!$S$26=\"순서5\",근무!H92,IF(달력!$S$26=\"순서6\",근무!I92,\"\"))))))","v":"야간"},{"$f":"IF(달력!$S$27=\"순서1\",근무!D92,IF(달력!$S$27=\"순서2\",근무!E92,IF(달력!$S$27=\"순서3\",근무!F92,IF(달력!$S$27=\"순서4\",근무!G92,IF(달력!$S$27=\"순서5\",근무!H92,IF(달력!$S$27=\"순서6\",근무!I92,\"\"))))))","v":"야간"},{"$f":"IF(달력!$S$28=\"순서1\",근무!D92,IF(달력!$S$28=\"순서2\",근무!E92,IF(달력!$S$28=\"순서3\",근무!F92,IF(달력!$S$28=\"순서4\",근무!G92,IF(달력!$S$28=\"순서5\",근무!H92,IF(달력!$S$28=\"순서6\",근무!I92,\"\"))))))","v":"비번"},{"$f":"IF(달력!$S$29=\"순서1\",근무!D92,IF(달력!$S$29=\"순서2\",근무!E92,IF(달력!$S$29=\"순서3\",근무!F92,IF(달력!$S$29=\"순서4\",근무!G92,IF(달력!$S$29=\"순서5\",근무!H92,IF(달력!$S$29=\"순서6\",근무!I92,\"\"))))))","v":"비번"},null,null,3]
[null,"2023-03-28","화",{"$f":"IF(달력!$S$24=\"순서1\",근무!D93,IF(달력!$S$24=\"순서2\",근무!E93,IF(달력!$S$24=\"순서3\",근무!F93,IF(달력!$S$24=\"순서4\",근무!G93,IF(달력!$S$24=\"순서5\",근무!H93,IF(달력!$S$24=\"순서6\",근무!I93,\"\"))))))","v":"야간"},{"$f":"IF(달력!$S$25=\"순서1\",근무!D93,IF(달력!$S$25=\"순서2\",근무!E93,IF(달력!$S$25=\"순서3\",근무!F93,IF(달력!$S$25=\"순서4\",근무!G93,IF(달력!$S$25=\"순서5\",근무!H93,IF(달력!$S$25=\"순서6\",근무!I93,\"\"))))))","v":"야간"},{"$f":"IF(달력!$S$26=\"순서1\",근무!D93,IF(달력!$S$26=\"순서2\",근무!E93,IF(달력!$S$26=\"순서3\",근무!F93,IF(달력!$S$26=\"순서4\",근무!G93,IF(달력!$S$26=\"순서5\",근무!H93,IF(달력!$S$26=\"순서6\",근무!I93,\"\"))))))","v":"비번"},{"$f":"IF(달력!$S$27=\"순서1\",근무!D93,IF(달력!$S$27=\"순서2\",근무!E93,IF(달력!$S$27=\"순서3\",근무!F93,IF(달력!$S$27=\"순서4\",근무!G93,IF(달력!$S$27=\"순서5\",근무!H93,IF(달력!$S$27=\"순서6\",근무!I93,\"\"))))))","v":"비번"},{"$f":"IF(달력!$S$28=\"순서1\",근무!D93,IF(달력!$S$28=\"순서2\",근무!E93,IF(달력!$S$28=\"순서3\",근무!F93,IF(달력!$S$28=\"순서4\",근무!G93,IF(달력!$S$28=\"순서5\",근무!H93,IF(달력!$S$28=\"순서6\",근무!I93,\"\"))))))","v":"주간"},{"$f":"IF(달력!$S$29=\"순서1\",근무!D93,IF(달력!$S$29=\"순서2\",근무!E93,IF(달력!$S$29=\"순서3\",근무!F93,IF(달력!$S$29=\"순서4\",근무!G93,IF(달력!$S$29=\"순서5\",근무!H93,IF(달력!$S$29=\"순서6\",근무!I93,\"\"))))))","v":"주간"},null,null,3]
[null,"2023-03-29","수",{"$f":"IF(달력!$S$24=\"순서1\",근무!D94,IF(달력!$S$24=\"순서2\",근무!E94,IF(달력!$S$24=\"순서3\",근무!F94,IF(달력!$S$24=\"순서4\",근무!G94,IF(달력!$S$24=\"순서5\",근무!H94,IF(달력!$S$24=\"순서6\",근무!I94,\"\"))))))","v":"야간"},{"$f":"IF(달력!$S$25=\"순서1\",근무!D94,IF(달력!$S$25=\"순서2\",근무!E94,IF(달력!$S$25=\"순서3\",근무!F94,IF(달력!$S$25=\"순서4\",근무!G94,IF(달력!$S$25=\"순서5\",근무!H94,IF(달력!$S$25=\"순서6\",근무!I94,\"\"))))))","v":"야간"},{"$f":"IF(달력!$S$26=\"순서1\",근무!D94,IF(달력!$S$26=\"순서2\",근무!E94,IF(달력!$S$26=\"순서3\",근무!F94,IF(달력!$S$26=\"순서4\",근무!G94,IF(달력!$S$26=\"순서5\",근무!H94,IF(달력!$S$26=\"순서6\",근무!I94,\"\"))))))","v":"비번"},{"$f":"IF(달력!$S$27=\"순서1\",근무!D94,IF(달력!$S$27=\"순서2\",근무!E94,IF(달력!$S$27=\"순서3\",근무!F94,IF(달력!$S$27=\"순서4\",근무!G94,IF(달력!$S$27=\"순서5\",근무!H94,IF(달력!$S$27=\"순서6\",근무!I94,\"\"))))))","v":"비번"},{"$f":"IF(달력!$S$28=\"순서1\",근무!D94,IF(달력!$S$28=\"순서2\",근무!E94,IF(달력!$S$28=\"순서3\",근무!F94,IF(달력!$S$28=\"순서4\",근무!G94,IF(달력!$S$28=\"순서5\",근무!H94,IF(달력!$S$28=\"순서6\",근무!I94,\"\"))))))","v":"주간"},{"$f":"IF(달력!$S$29=\"순서1\",근무!D94,IF(달력!$S$29=\"순서2\",근무!E94,IF(달력!$S$29=\"순서3\",근무!F94,IF(달력!$S$29=\"순서4\",근무!G94,IF(달력!$S$29=\"순서5\",근무!H94,IF(달력!$S$29=\"순서6\",근무!I94,\"\"))))))","v":"주간"},null,null,3]
[null,"2023-03-30","목",{"$f":"IF(달력!$S$24=\"순서1\",근무!D95,IF(달력!$S$24=\"순서2\",근무!E95,IF(달력!$S$24=\"순서3\",근무!F95,IF(달력!$S$24=\"순서4\",근무!G95,IF(달력!$S$24=\"순서5\",근무!H95,IF(달력!$S$24=\"순서6\",근무!I95,\"\"))))))","v":"비번"},{"$f":"IF(달력!$S$25=\"순서1\",근무!D95,IF(달력!$S$25=\"순서2\",근무!E95,IF(달력!$S$25=\"순서3\",근무!F95,IF(달력!$S$25=\"순서4\",근무!G95,IF(달력!$S$25=\"순서5\",근무!H95,IF(달력!$S$25=\"순서6\",근무!I95,\"\"))))))","v":"비번"},{"$f":"IF(달력!$S$26=\"순서1\",근무!D95,IF(달력!$S$26=\"순서2\",근무!E95,IF(달력!$S$26=\"순서3\",근무!F95,IF(달력!$S$26=\"순서4\",근무!G95,IF(달력!$S$26=\"순서5\",근무!H95,IF(달력!$S$26=\"순서6\",근무!I95,\"\"))))))","v":"주간"},{"$f":"IF(달력!$S$27=\"순서1\",근무!D95,IF(달력!$S$27=\"순서2\",근무!E95,IF(달력!$S$27=\"순서3\",근무!F95,IF(달력!$S$27=\"순서4\",근무!G95,IF(달력!$S$27=\"순서5\",근무!H95,IF(달력!$S$27=\"순서6\",근무!I95,\"\"))))))","v":"주간"},{"$f":"IF(달력!$S$28=\"순서1\",근무!D95,IF(달력!$S$28=\"순서2\",근무!E95,IF(달력!$S$28=\"순서3\",근무!F95,IF(달력!$S$28=\"순서4\",근무!G95,IF(달력!$S$28=\"순서5\",근무!H95,IF(달력!$S$28=\"순서6\",근무!I95,\"\"))))))","v":"야간"},{"$f":"IF(달력!$S$29=\"순서1\",근무!D95,IF(달력!$S$29=\"순서2\",근무!E95,IF(달력!$S$29=\"순서3\",근무!F95,IF(달력!$S$29=\"순서4\",근무!G95,IF(달력!$S$29=\"순서5\",근무!H95,IF(달력!$S$29=\"순서6\",근무!I95,\"\"))))))","v":"야간"},null,null,3]
[null,"2023-03-31","금",{"$f":"IF(달력!$S$24=\"순서1\",근무!D96,IF(달력!$S$24=\"순서2\",근무!E96,IF(달력!$S$24=\"순서3\",근무!F96,IF(달력!$S$24=\"순서4\",근무!G96,IF(달력!$S$24=\"순서5\",근무!H96,IF(달력!$S$24=\"순서6\",근무!I96,\"\"))))))","v":"비번"},{"$f":"IF(달력!$S$25=\"순서1\",근무!D96,IF(달력!$S$25=\"순서2\",근무!E96,IF(달력!$S$25=\"순서3\",근무!F96,IF(달력!$S$25=\"순서4\",근무!G96,IF(달력!$S$25=\"순서5\",근무!H96,IF(달력!$S$25=\"순서6\",근무!I96,\"\"))))))","v":"비번"},{"$f":"IF(달력!$S$26=\"순서1\",근무!D96,IF(달력!$S$26=\"순서2\",근무!E96,IF(달력!$S$26=\"순서3\",근무!F96,IF(달력!$S$26=\"순서4\",근무!G96,IF(달력!$S$26=\"순서5\",근무!H96,IF(달력!$S$26=\"순서6\",근무!I96,\"\"))))))","v":"주간"},{"$f":"IF(달력!$S$27=\"순서1\",근무!D96,IF(달력!$S$27=\"순서2\",근무!E96,IF(달력!$S$27=\"순서3\",근무!F96,IF(달력!$S$27=\"순서4\",근무!G96,IF(달력!$S$27=\"순서5\",근무!H96,IF(달력!$S$27=\"순서6\",근무!I96,\"\"))))))","v":"주간"},{"$f":"IF(달력!$S$28=\"순서1\",근무!D96,IF(달력!$S$28=\"순서2\",근무!E96,IF(달력!$S$28=\"순서3\",근무!F96,IF(달력!$S$28=\"순서4\",근무!G96,IF(달력!$S$28=\"순서5\",근무!H96,IF(달력!$S$28=\"순서6\",근무!I96,\"\"))))))","v":"야간"},{"$f":"IF(달력!$S$29=\"순서1\",근무!D96,IF(달력!$S$29=\"순서2\",근무!E96,IF(달력!$S$29=\"순서3\",근무!F96,IF(달력!$S$29=\"순서4\",근무!G96,IF(달력!$S$29=\"순서5\",근무!H96,IF(달력!$S$29=\"순서6\",근무!I96,\"\"))))))","v":"야간"},null,null,3]
[null,"2023-04-01","토",{"$f":"IF(달력!$S$24=\"순서1\",근무!D97,IF(달력!$S$24=\"순서2\",근무!E97,IF(달력!$S$24=\"순서3\",근무!F97,IF(달력!$S$24=\"순서4\",근무!G97,IF(달력!$S$24=\"순서5\",근무!H97,IF(달력!$S$24=\"순서6\",근무!I97,\"\"))))))","v":"주간"},{"$f":"IF(달력!$S$25=\"순서1\",근무!D97,IF(달력!$S$25=\"순서2\",근무!E97,IF(달력!$S$25=\"순서3\",근무!F97,IF(달력!$S$25=\"순서4\",근무!G97,IF(달력!$S$25=\"순서5\",근무!H97,IF(달력!$S$25=\"순서6\",근무!I97,\"\"))))))","v":"주간"},{"$f":"IF(달력!$S$26=\"순서1\",근무!D97,IF(달력!$S$26=\"순서2\",근무!E97,IF(달력!$S$26=\"순서3\",근무!F97,IF(달력!$S$26=\"순서4\",근무!G97,IF(달력!$S$26=\"순서5\",근무!H97,IF(달력!$S$26=\"순서6\",근무!I97,\"\"))))))","v":"야간"},{"$f":"IF(달력!$S$27=\"순서1\",근무!D97,IF(달력!$S$27=\"순서2\",근무!E97,IF(달력!$S$27=\"순서3\",근무!F97,IF(달력!$S$27=\"순서4\",근무!G97,IF(달력!$S$27=\"순서5\",근무!H97,IF(달력!$S$27=\"순서6\",근무!I97,\"\"))))))","v":"야간"},{"$f":"IF(달력!$S$28=\"순서1\",근무!D97,IF(달력!$S$28=\"순서2\",근무!E97,IF(달력!$S$28=\"순서3\",근무!F97,IF(달력!$S$28=\"순서4\",근무!G97,IF(달력!$S$28=\"순서5\",근무!H97,IF(달력!$S$28=\"순서6\",근무!I97,\"\"))))))","v":"비번"},{"$f":"IF(달력!$S$29=\"순서1\",근무!D97,IF(달력!$S$29=\"순서2\",근무!E97,IF(달력!$S$29=\"순서3\",근무!F97,IF(달력!$S$29=\"순서4\",근무!G97,IF(달력!$S$29=\"순서5\",근무!H97,IF(달력!$S$29=\"순서6\",근무!I97,\"\"))))))","v":"비번"},null,"주간",4,{"$f":"COUNTIFS(일정1내용,$K97,$L$7:$L$372,4)","v":10},{"$f":"COUNTIFS(일정2내용,$K97,$L$7:$L$372,4)","v":10},{"$f":"COUNTIFS(일정3내용,$K97,$L$7:$L$372,4)","v":10},{"$f":"COUNTIFS(일정4내용,$K97,$L$7:$L$372,4)","v":10},{"$f":"COUNTIFS(일정5내용,$K97,$L$7:$L$372,4)","v":10},{"$f":"COUNTIFS(일정6내용,$K97,$L$7:$L$372,4)","v":10}]
[null,"2023-04-02","일",{"$f":"IF(달력!$S$24=\"순서1\",근무!D98,IF(달력!$S$24=\"순서2\",근무!E98,IF(달력!$S$24=\"순서3\",근무!F98,IF(달력!$S$24=\"순서4\",근무!G98,IF(달력!$S$24=\"순서5\",근무!H98,IF(달력!$S$24=\"순서6\",근무!I98,\"\"))))))","v":"주간"},{"$f":"IF(달력!$S$25=\"순서1\",근무!D98,IF(달력!$S$25=\"순서2\",근무!E98,IF(달력!$S$25=\"순서3\",근무!F98,IF(달력!$S$25=\"순서4\",근무!G98,IF(달력!$S$25=\"순서5\",근무!H98,IF(달력!$S$25=\"순서6\",근무!I98,\"\"))))))","v":"주간"},{"$f":"IF(달력!$S$26=\"순서1\",근무!D98,IF(달력!$S$26=\"순서2\",근무!E98,IF(달력!$S$26=\"순서3\",근무!F98,IF(달력!$S$26=\"순서4\",근무!G98,IF(달력!$S$26=\"순서5\",근무!H98,IF(달력!$S$26=\"순서6\",근무!I98,\"\"))))))","v":"야간"},{"$f":"IF(달력!$S$27=\"순서1\",근무!D98,IF(달력!$S$27=\"순서2\",근무!E98,IF(달력!$S$27=\"순서3\",근무!F98,IF(달력!$S$27=\"순서4\",근무!G98,IF(달력!$S$27=\"순서5\",근무!H98,IF(달력!$S$27=\"순서6\",근무!I98,\"\"))))))","v":"야간"},{"$f":"IF(달력!$S$28=\"순서1\",근무!D98,IF(달력!$S$28=\"순서2\",근무!E98,IF(달력!$S$28=\"순서3\",근무!F98,IF(달력!$S$28=\"순서4\",근무!G98,IF(달력!$S$28=\"순서5\",근무!H98,IF(달력!$S$28=\"순서6\",근무!I98,\"\"))))))","v":"비번"},{"$f":"IF(달력!$S$29=\"순서1\",근무!D98,IF(달력!$S$29=\"순서2\",근무!E98,IF(달력!$S$29=\"순서3\",근무!F98,IF(달력!$S$29=\"순서4\",근무!G98,IF(달력!$S$29=\"순서5\",근무!H98,IF(달력!$S$29=\"순서6\",근무!I98,\"\"))))))","v":"비번"},null,"야간",4,{"$f":"COUNTIFS(일정1내용,$K98,$L$7:$L$372,4)","v":10},{"$f":"COUNTIFS(일정2내용,$K98,$L$7:$L$372,4)","v":10},{"$f":"COUNTIFS(일정3내용,$K98,$L$7:$L$372,4)","v":10},{"$f":"COUNTIFS(일정4내용,$K98,$L$7:$L$372,4)","v":10},{"$f":"COUNTIFS(일정5내용,$K98,$L$7:$L$372,4)","v":10},{"$f":"COUNTIFS(일정6내용,$K98,$L$7:$L$372,4)","v":10}]
[null,"2023-04-03","월",{"$f":"IF(달력!$S$24=\"순서1\",근무!D99,IF(달력!$S$24=\"순서2\",근무!E99,IF(달력!$S$24=\"순서3\",근무!F99,IF(달력!$S$24=\"순서4\",근무!G99,IF(달력!$S$24=\"순서5\",근무!H99,IF(달력!$S$24=\"순서6\",근무!I99,\"\"))))))","v":"야간"},{"$f":"IF(달력!$S$25=\"순서1\",근무!D99,IF(달력!$S$25=\"순서2\",근무!E99,IF(달력!$S$25=\"순서3\",근무!F99,IF(달력!$S$25=\"순서4\",근무!G99,IF(달력!$S$25=\"순서5\",근무!H99,IF(달력!$S$25=\"순서6\",근무!I99,\"\"))))))","v":"야간"},{"$f":"IF(달력!$S$26=\"순서1\",근무!D99,IF(달력!$S$26=\"순서2\",근무!E99,IF(달력!$S$26=\"순서3\",근무!F99,IF(달력!$S$26=\"순서4\",근무!G99,IF(달력!$S$26=\"순서5\",근무!H99,IF(달력!$S$26=\"순서6\",근무!I99,\"\"))))))","v":"비번"},{"$f":"IF(달력!$S$27=\"순서1\",근무!D99,IF(달력!$S$27=\"순서2\",근무!E99,IF(달력!$S$27=\"순서3\",근무!F99,IF(달력!$S$27=\"순서4\",근무!G99,IF(달력!$S$27=\"순서5\",근무!H99,IF(달력!$S$27=\"순서6\",근무!I99,\"\"))))))","v":"비번"},{"$f":"IF(달력!$S$28=\"순서1\",근무!D99,IF(달력!$S$28=\"순서2\",근무!E99,IF(달력!$S$28=\"순서3\",근무!F99,IF(달력!$S$28=\"순서4\",근무!G99,IF(달력!$S$28=\"순서5\",근무!H99,IF(달력!$S$28=\"순서6\",근무!I99,\"\"))))))","v":"주간"},{"$f":"IF(달력!$S$29=\"순서1\",근무!D99,IF(달력!$S$29=\"순서2\",근무!E99,IF(달력!$S$29=\"순서3\",근무!F99,IF(달력!$S$29=\"순서4\",근무!G99,IF(달력!$S$29=\"순서5\",근무!H99,IF(달력!$S$29=\"순서6\",근무!I99,\"\"))))))","v":"주간"},null,"비번",4,{"$f":"COUNTIFS(일정1내용,$K99,$L$7:$L$372,4)","v":10},{"$f":"COUNTIFS(일정2내용,$K99,$L$7:$L$372,4)","v":10},{"$f":"COUNTIFS(일정3내용,$K99,$L$7:$L$372,4)","v":10},{"$f":"COUNTIFS(일정4내용,$K99,$L$7:$L$372,4)","v":10},{"$f":"COUNTIFS(일정5내용,$K99,$L$7:$L$372,4)","v":10},{"$f":"COUNTIFS(일정6내용,$K99,$L$7:$L$372,4)","v":10}]
[null,"2023-04-04","화",{"$f":"IF(달력!$S$24=\"순서1\",근무!D100,IF(달력!$S$24=\"순서2\",근무!E100,IF(달력!$S$24=\"순서3\",근무!F100,IF(달력!$S$24=\"순서4\",근무!G100,IF(달력!$S$24=\"순서5\",근무!H100,IF(달력!$S$24=\"순서6\",근무!I100,\"\"))))))","v":"야간"},{"$f":"IF(달력!$S$25=\"순서1\",근무!D100,IF(달력!$S$25=\"순서2\",근무!E100,IF(달력!$S$25=\"순서3\",근무!F100,IF(달력!$S$25=\"순서4\",근무!G100,IF(달력!$S$25=\"순서5\",근무!H100,IF(달력!$S$25=\"순서6\",근무!I100,\"\"))))))","v":"야간"},{"$f":"IF(달력!$S$26=\"순서1\",근무!D100,IF(달력!$S$26=\"순서2\",근무!E100,IF(달력!$S$26=\"순서3\",근무!F100,IF(달력!$S$26=\"순서4\",근무!G100,IF(달력!$S$26=\"순서5\",근무!H100,IF(달력!$S$26=\"순서6\",근무!I100,\"\"))))))","v":"비번"},{"$f":"IF(달력!$S$27=\"순서1\",근무!D100,IF(달력!$S$27=\"순서2\",근무!E100,IF(달력!$S$27=\"순서3\",근무!F100,IF(달력!$S$27=\"순서4\",근무!G100,IF(달력!$S$27=\"순서5\",근무!H100,IF(달력!$S$27=\"순서6\",근무!I100,\"\"))))))","v":"비번"},{"$f":"IF(달력!$S$28=\"순서1\",근무!D100,IF(달력!$S$28=\"순서2\",근무!E100,IF(달력!$S$28=\"순서3\",근무!F100,IF(달력!$S$28=\"순서4\",근무!G100,IF(달력!$S$28=\"순서5\",근무!H100,IF(달력!$S$28=\"순서6\",근무!I100,\"\"))))))","v":"주간"},{"$f":"IF(달력!$S$29=\"순서1\",근무!D100,IF(달력!$S$29=\"순서2\",근무!E100,IF(달력!$S$29=\"순서3\",근무!F100,IF(달력!$S$29=\"순서4\",근무!G100,IF(달력!$S$29=\"순서5\",근무!H100,IF(달력!$S$29=\"순서6\",근무!I100,\"\"))))))","v":"주간"},null,"근무일 계",4,{"$f":"M97+M98","v":20},{"$f":"N97+N98","v":20},20,20,20,20]
[null,"2023-04-05","수",{"$f":"IF(달력!$S$24=\"순서1\",근무!D101,IF(달력!$S$24=\"순서2\",근무!E101,IF(달력!$S$24=\"순서3\",근무!F101,IF(달력!$S$24=\"순서4\",근무!G101,IF(달력!$S$24=\"순서5\",근무!H101,IF(달력!$S$24=\"순서6\",근무!I101,\"\"))))))","v":"비번"},{"$f":"IF(달력!$S$25=\"순서1\",근무!D101,IF(달력!$S$25=\"순서2\",근무!E101,IF(달력!$S$25=\"순서3\",근무!F101,IF(달력!$S$25=\"순서4\",근무!G101,IF(달력!$S$25=\"순서5\",근무!H101,IF(달력!$S$25=\"순서6\",근무!I101,\"\"))))))","v":"비번"},{"$f":"IF(달력!$S$26=\"순서1\",근무!D101,IF(달력!$S$26=\"순서2\",근무!E101,IF(달력!$S$26=\"순서3\",근무!F101,IF(달력!$S$26=\"순서4\",근무!G101,IF(달력!$S$26=\"순서5\",근무!H101,IF(달력!$S$26=\"순서6\",근무!I101,\"\"))))))","v":"주간"},{"$f":"IF(달력!$S$27=\"순서1\",근무!D101,IF(달력!$S$27=\"순서2\",근무!E101,IF(달력!$S$27=\"순서3\",근무!F101,IF(달력!$S$27=\"순서4\",근무!G101,IF(달력!$S$27=\"순서5\",근무!H101,IF(달력!$S$27=\"순서6\",근무!I101,\"\"))))))","v":"주간"},{"$f":"IF(달력!$S$28=\"순서1\",근무!D101,IF(달력!$S$28=\"순서2\",근무!E101,IF(달력!$S$28=\"순서3\",근무!F101,IF(달력!$S$28=\"순서4\",근무!G101,IF(달력!$S$28=\"순서5\",근무!H101,IF(달력!$S$28=\"순서6\",근무!I101,\"\"))))))","v":"야간"},{"$f":"IF(달력!$S$29=\"순서1\",근무!D101,IF(달력!$S$29=\"순서2\",근무!E101,IF(달력!$S$29=\"순서3\",근무!F101,IF(달력!$S$29=\"순서4\",근무!G101,IF(달력!$S$29=\"순서5\",근무!H101,IF(달력!$S$29=\"순서6\",근무!I101,\"\"))))))","v":"야간"},null,null,4]
[null,"2023-04-06","목",{"$f":"IF(달력!$S$24=\"순서1\",근무!D102,IF(달력!$S$24=\"순서2\",근무!E102,IF(달력!$S$24=\"순서3\",근무!F102,IF(달력!$S$24=\"순서4\",근무!G102,IF(달력!$S$24=\"순서5\",근무!H102,IF(달력!$S$24=\"순서6\",근무!I102,\"\"))))))","v":"비번"},{"$f":"IF(달력!$S$25=\"순서1\",근무!D102,IF(달력!$S$25=\"순서2\",근무!E102,IF(달력!$S$25=\"순서3\",근무!F102,IF(달력!$S$25=\"순서4\",근무!G102,IF(달력!$S$25=\"순서5\",근무!H102,IF(달력!$S$25=\"순서6\",근무!I102,\"\"))))))","v":"비번"},{"$f":"IF(달력!$S$26=\"순서1\",근무!D102,IF(달력!$S$26=\"순서2\",근무!E102,IF(달력!$S$26=\"순서3\",근무!F102,IF(달력!$S$26=\"순서4\",근무!G102,IF(달력!$S$26=\"순서5\",근무!H102,IF(달력!$S$26=\"순서6\",근무!I102,\"\"))))))","v":"주간"},{"$f":"IF(달력!$S$27=\"순서1\",근무!D102,IF(달력!$S$27=\"순서2\",근무!E102,IF(달력!$S$27=\"순서3\",근무!F102,IF(달력!$S$27=\"순서4\",근무!G102,IF(달력!$S$27=\"순서5\",근무!H102,IF(달력!$S$27=\"순서6\",근무!I102,\"\"))))))","v":"주간"},{"$f":"IF(달력!$S$28=\"순서1\",근무!D102,IF(달력!$S$28=\"순서2\",근무!E102,IF(달력!$S$28=\"순서3\",근무!F102,IF(달력!$S$28=\"순서4\",근무!G102,IF(달력!$S$28=\"순서5\",근무!H102,IF(달력!$S$28=\"순서6\",근무!I102,\"\"))))))","v":"야간"},{"$f":"IF(달력!$S$29=\"순서1\",근무!D102,IF(달력!$S$29=\"순서2\",근무!E102,IF(달력!$S$29=\"순서3\",근무!F102,IF(달력!$S$29=\"순서4\",근무!G102,IF(달력!$S$29=\"순서5\",근무!H102,IF(달력!$S$29=\"순서6\",근무!I102,\"\"))))))","v":"야간"},null,null,4]
[null,"2023-04-07","금",{"$f":"IF(달력!$S$24=\"순서1\",근무!D103,IF(달력!$S$24=\"순서2\",근무!E103,IF(달력!$S$24=\"순서3\",근무!F103,IF(달력!$S$24=\"순서4\",근무!G103,IF(달력!$S$24=\"순서5\",근무!H103,IF(달력!$S$24=\"순서6\",근무!I103,\"\"))))))","v":"주간"},{"$f":"IF(달력!$S$25=\"순서1\",근무!D103,IF(달력!$S$25=\"순서2\",근무!E103,IF(달력!$S$25=\"순서3\",근무!F103,IF(달력!$S$25=\"순서4\",근무!G103,IF(달력!$S$25=\"순서5\",근무!H103,IF(달력!$S$25=\"순서6\",근무!I103,\"\"))))))","v":"주간"},{"$f":"IF(달력!$S$26=\"순서1\",근무!D103,IF(달력!$S$26=\"순서2\",근무!E103,IF(달력!$S$26=\"순서3\",근무!F103,IF(달력!$S$26=\"순서4\",근무!G103,IF(달력!$S$26=\"순서5\",근무!H103,IF(달력!$S$26=\"순서6\",근무!I103,\"\"))))))","v":"야간"},{"$f":"IF(달력!$S$27=\"순서1\",근무!D103,IF(달력!$S$27=\"순서2\",근무!E103,IF(달력!$S$27=\"순서3\",근무!F103,IF(달력!$S$27=\"순서4\",근무!G103,IF(달력!$S$27=\"순서5\",근무!H103,IF(달력!$S$27=\"순서6\",근무!I103,\"\"))))))","v":"야간"},{"$f":"IF(달력!$S$28=\"순서1\",근무!D103,IF(달력!$S$28=\"순서2\",근무!E103,IF(달력!$S$28=\"순서3\",근무!F103,IF(달력!$S$28=\"순서4\",근무!G103,IF(달력!$S$28=\"순서5\",근무!H103,IF(달력!$S$28=\"순서6\",근무!I103,\"\"))))))","v":"비번"},{"$f":"IF(달력!$S$29=\"순서1\",근무!D103,IF(달력!$S$29=\"순서2\",근무!E103,IF(달력!$S$29=\"순서3\",근무!F103,IF(달력!$S$29=\"순서4\",근무!G103,IF(달력!$S$29=\"순서5\",근무!H103,IF(달력!$S$29=\"순서6\",근무!I103,\"\"))))))","v":"비번"},null,null,4]
[null,"2023-04-08","토",{"$f":"IF(달력!$S$24=\"순서1\",근무!D104,IF(달력!$S$24=\"순서2\",근무!E104,IF(달력!$S$24=\"순서3\",근무!F104,IF(달력!$S$24=\"순서4\",근무!G104,IF(달력!$S$24=\"순서5\",근무!H104,IF(달력!$S$24=\"순서6\",근무!I104,\"\"))))))","v":"주간"},{"$f":"IF(달력!$S$25=\"순서1\",근무!D104,IF(달력!$S$25=\"순서2\",근무!E104,IF(달력!$S$25=\"순서3\",근무!F104,IF(달력!$S$25=\"순서4\",근무!G104,IF(달력!$S$25=\"순서5\",근무!H104,IF(달력!$S$25=\"순서6\",근무!I104,\"\"))))))","v":"주간"},{"$f":"IF(달력!$S$26=\"순서1\",근무!D104,IF(달력!$S$26=\"순서2\",근무!E104,IF(달력!$S$26=\"순서3\",근무!F104,IF(달력!$S$26=\"순서4\",근무!G104,IF(달력!$S$26=\"순서5\",근무!H104,IF(달력!$S$26=\"순서6\",근무!I104,\"\"))))))","v":"야간"},{"$f":"IF(달력!$S$27=\"순서1\",근무!D104,IF(달력!$S$27=\"순서2\",근무!E104,IF(달력!$S$27=\"순서3\",근무!F104,IF(달력!$S$27=\"순서4\",근무!G104,IF(달력!$S$27=\"순서5\",근무!H104,IF(달력!$S$27=\"순서6\",근무!I104,\"\"))))))","v":"야간"},{"$f":"IF(달력!$S$28=\"순서1\",근무!D104,IF(달력!$S$28=\"순서2\",근무!E104,IF(달력!$S$28=\"순서3\",근무!F104,IF(달력!$S$28=\"순서4\",근무!G104,IF(달력!$S$28=\"순서5\",근무!H104,IF(달력!$S$28=\"순서6\",근무!I104,\"\"))))))","v":"비번"},{"$f":"IF(달력!$S$29=\"순서1\",근무!D104,IF(달력!$S$29=\"순서2\",근무!E104,IF(달력!$S$29=\"순서3\",근무!F104,IF(달력!$S$29=\"순서4\",근무!G104,IF(달력!$S$29=\"순서5\",근무!H104,IF(달력!$S$29=\"순서6\",근무!I104,\"\"))))))","v":"비번"},null,null,4]
[null,"2023-04-09","일",{"$f":"IF(달력!$S$24=\"순서1\",근무!D105,IF(달력!$S$24=\"순서2\",근무!E105,IF(달력!$S$24=\"순서3\",근무!F105,IF(달력!$S$24=\"순서4\",근무!G105,IF(달력!$S$24=\"순서5\",근무!H105,IF(달력!$S$24=\"순서6\",근무!I105,\"\"))))))","v":"야간"},{"$f":"IF(달력!$S$25=\"순서1\",근무!D105,IF(달력!$S$25=\"순서2\",근무!E105,IF(달력!$S$25=\"순서3\",근무!F105,IF(달력!$S$25=\"순서4\",근무!G105,IF(달력!$S$25=\"순서5\",근무!H105,IF(달력!$S$25=\"순서6\",근무!I105,\"\"))))))","v":"야간"},{"$f":"IF(달력!$S$26=\"순서1\",근무!D105,IF(달력!$S$26=\"순서2\",근무!E105,IF(달력!$S$26=\"순서3\",근무!F105,IF(달력!$S$26=\"순서4\",근무!G105,IF(달력!$S$26=\"순서5\",근무!H105,IF(달력!$S$26=\"순서6\",근무!I105,\"\"))))))","v":"비번"},{"$f":"IF(달력!$S$27=\"순서1\",근무!D105,IF(달력!$S$27=\"순서2\",근무!E105,IF(달력!$S$27=\"순서3\",근무!F105,IF(달력!$S$27=\"순서4\",근무!G105,IF(달력!$S$27=\"순서5\",근무!H105,IF(달력!$S$27=\"순서6\",근무!I105,\"\"))))))","v":"비번"},{"$f":"IF(달력!$S$28=\"순서1\",근무!D105,IF(달력!$S$28=\"순서2\",근무!E105,IF(달력!$S$28=\"순서3\",근무!F105,IF(달력!$S$28=\"순서4\",근무!G105,IF(달력!$S$28=\"순서5\",근무!H105,IF(달력!$S$28=\"순서6\",근무!I105,\"\"))))))","v":"주간"},{"$f":"IF(달력!$S$29=\"순서1\",근무!D105,IF(달력!$S$29=\"순서2\",근무!E105,IF(달력!$S$29=\"순서3\",근무!F105,IF(달력!$S$29=\"순서4\",근무!G105,IF(달력!$S$29=\"순서5\",근무!H105,IF(달력!$S$29=\"순서6\",근무!I105,\"\"))))))","v":"주간"},null,null,4]
[null,"2023-04-10","월",{"$f":"IF(달력!$S$24=\"순서1\",근무!D106,IF(달력!$S$24=\"순서2\",근무!E106,IF(달력!$S$24=\"순서3\",근무!F106,IF(달력!$S$24=\"순서4\",근무!G106,IF(달력!$S$24=\"순서5\",근무!H106,IF(달력!$S$24=\"순서6\",근무!I106,\"\"))))))","v":"야간"},{"$f":"IF(달력!$S$25=\"순서1\",근무!D106,IF(달력!$S$25=\"순서2\",근무!E106,IF(달력!$S$25=\"순서3\",근무!F106,IF(달력!$S$25=\"순서4\",근무!G106,IF(달력!$S$25=\"순서5\",근무!H106,IF(달력!$S$25=\"순서6\",근무!I106,\"\"))))))","v":"야간"},{"$f":"IF(달력!$S$26=\"순서1\",근무!D106,IF(달력!$S$26=\"순서2\",근무!E106,IF(달력!$S$26=\"순서3\",근무!F106,IF(달력!$S$26=\"순서4\",근무!G106,IF(달력!$S$26=\"순서5\",근무!H106,IF(달력!$S$26=\"순서6\",근무!I106,\"\"))))))","v":"비번"},{"$f":"IF(달력!$S$27=\"순서1\",근무!D106,IF(달력!$S$27=\"순서2\",근무!E106,IF(달력!$S$27=\"순서3\",근무!F106,IF(달력!$S$27=\"순서4\",근무!G106,IF(달력!$S$27=\"순서5\",근무!H106,IF(달력!$S$27=\"순서6\",근무!I106,\"\"))))))","v":"비번"},{"$f":"IF(달력!$S$28=\"순서1\",근무!D106,IF(달력!$S$28=\"순서2\",근무!E106,IF(달력!$S$28=\"순서3\",근무!F106,IF(달력!$S$28=\"순서4\",근무!G106,IF(달력!$S$28=\"순서5\",근무!H106,IF(달력!$S$28=\"순서6\",근무!I106,\"\"))))))","v":"주간"},{"$f":"IF(달력!$S$29=\"순서1\",근무!D106,IF(달력!$S$29=\"순서2\",근무!E106,IF(달력!$S$29=\"순서3\",근무!F106,IF(달력!$S$29=\"순서4\",근무!G106,IF(달력!$S$29=\"순서5\",근무!H106,IF(달력!$S$29=\"순서6\",근무!I106,\"\"))))))","v":"주간"},null,null,4]
[null,"2023-04-11","화",{"$f":"IF(달력!$S$24=\"순서1\",근무!D107,IF(달력!$S$24=\"순서2\",근무!E107,IF(달력!$S$24=\"순서3\",근무!F107,IF(달력!$S$24=\"순서4\",근무!G107,IF(달력!$S$24=\"순서5\",근무!H107,IF(달력!$S$24=\"순서6\",근무!I107,\"\"))))))","v":"비번"},{"$f":"IF(달력!$S$25=\"순서1\",근무!D107,IF(달력!$S$25=\"순서2\",근무!E107,IF(달력!$S$25=\"순서3\",근무!F107,IF(달력!$S$25=\"순서4\",근무!G107,IF(달력!$S$25=\"순서5\",근무!H107,IF(달력!$S$25=\"순서6\",근무!I107,\"\"))))))","v":"비번"},{"$f":"IF(달력!$S$26=\"순서1\",근무!D107,IF(달력!$S$26=\"순서2\",근무!E107,IF(달력!$S$26=\"순서3\",근무!F107,IF(달력!$S$26=\"순서4\",근무!G107,IF(달력!$S$26=\"순서5\",근무!H107,IF(달력!$S$26=\"순서6\",근무!I107,\"\"))))))","v":"주간"},{"$f":"IF(달력!$S$27=\"순서1\",근무!D107,IF(달력!$S$27=\"순서2\",근무!E107,IF(달력!$S$27=\"순서3\",근무!F107,IF(달력!$S$27=\"순서4\",근무!G107,IF(달력!$S$27=\"순서5\",근무!H107,IF(달력!$S$27=\"순서6\",근무!I107,\"\"))))))","v":"주간"},{"$f":"IF(달력!$S$28=\"순서1\",근무!D107,IF(달력!$S$28=\"순서2\",근무!E107,IF(달력!$S$28=\"순서3\",근무!F107,IF(달력!$S$28=\"순서4\",근무!G107,IF(달력!$S$28=\"순서5\",근무!H107,IF(달력!$S$28=\"순서6\",근무!I107,\"\"))))))","v":"야간"},{"$f":"IF(달력!$S$29=\"순서1\",근무!D107,IF(달력!$S$29=\"순서2\",근무!E107,IF(달력!$S$29=\"순서3\",근무!F107,IF(달력!$S$29=\"순서4\",근무!G107,IF(달력!$S$29=\"순서5\",근무!H107,IF(달력!$S$29=\"순서6\",근무!I107,\"\"))))))","v":"야간"},null,null,4]
[null,"2023-04-12","수",{"$f":"IF(달력!$S$24=\"순서1\",근무!D108,IF(달력!$S$24=\"순서2\",근무!E108,IF(달력!$S$24=\"순서3\",근무!F108,IF(달력!$S$24=\"순서4\",근무!G108,IF(달력!$S$24=\"순서5\",근무!H108,IF(달력!$S$24=\"순서6\",근무!I108,\"\"))))))","v":"비번"},{"$f":"IF(달력!$S$25=\"순서1\",근무!D108,IF(달력!$S$25=\"순서2\",근무!E108,IF(달력!$S$25=\"순서3\",근무!F108,IF(달력!$S$25=\"순서4\",근무!G108,IF(달력!$S$25=\"순서5\",근무!H108,IF(달력!$S$25=\"순서6\",근무!I108,\"\"))))))","v":"비번"},{"$f":"IF(달력!$S$26=\"순서1\",근무!D108,IF(달력!$S$26=\"순서2\",근무!E108,IF(달력!$S$26=\"순서3\",근무!F108,IF(달력!$S$26=\"순서4\",근무!G108,IF(달력!$S$26=\"순서5\",근무!H108,IF(달력!$S$26=\"순서6\",근무!I108,\"\"))))))","v":"주간"},{"$f":"IF(달력!$S$27=\"순서1\",근무!D108,IF(달력!$S$27=\"순서2\",근무!E108,IF(달력!$S$27=\"순서3\",근무!F108,IF(달력!$S$27=\"순서4\",근무!G108,IF(달력!$S$27=\"순서5\",근무!H108,IF(달력!$S$27=\"순서6\",근무!I108,\"\"))))))","v":"주간"},{"$f":"IF(달력!$S$28=\"순서1\",근무!D108,IF(달력!$S$28=\"순서2\",근무!E108,IF(달력!$S$28=\"순서3\",근무!F108,IF(달력!$S$28=\"순서4\",근무!G108,IF(달력!$S$28=\"순서5\",근무!H108,IF(달력!$S$28=\"순서6\",근무!I108,\"\"))))))","v":"야간"},{"$f":"IF(달력!$S$29=\"순서1\",근무!D108,IF(달력!$S$29=\"순서2\",근무!E108,IF(달력!$S$29=\"순서3\",근무!F108,IF(달력!$S$29=\"순서4\",근무!G108,IF(달력!$S$29=\"순서5\",근무!H108,IF(달력!$S$29=\"순서6\",근무!I108,\"\"))))))","v":"야간"},null,null,4]
[null,"2023-04-13","목",{"$f":"IF(달력!$S$24=\"순서1\",근무!D109,IF(달력!$S$24=\"순서2\",근무!E109,IF(달력!$S$24=\"순서3\",근무!F109,IF(달력!$S$24=\"순서4\",근무!G109,IF(달력!$S$24=\"순서5\",근무!H109,IF(달력!$S$24=\"순서6\",근무!I109,\"\"))))))","v":"주간"},{"$f":"IF(달력!$S$25=\"순서1\",근무!D109,IF(달력!$S$25=\"순서2\",근무!E109,IF(달력!$S$25=\"순서3\",근무!F109,IF(달력!$S$25=\"순서4\",근무!G109,IF(달력!$S$25=\"순서5\",근무!H109,IF(달력!$S$25=\"순서6\",근무!I109,\"\"))))))","v":"주간"},{"$f":"IF(달력!$S$26=\"순서1\",근무!D109,IF(달력!$S$26=\"순서2\",근무!E109,IF(달력!$S$26=\"순서3\",근무!F109,IF(달력!$S$26=\"순서4\",근무!G109,IF(달력!$S$26=\"순서5\",근무!H109,IF(달력!$S$26=\"순서6\",근무!I109,\"\"))))))","v":"야간"},{"$f":"IF(달력!$S$27=\"순서1\",근무!D109,IF(달력!$S$27=\"순서2\",근무!E109,IF(달력!$S$27=\"순서3\",근무!F109,IF(달력!$S$27=\"순서4\",근무!G109,IF(달력!$S$27=\"순서5\",근무!H109,IF(달력!$S$27=\"순서6\",근무!I109,\"\"))))))","v":"야간"},{"$f":"IF(달력!$S$28=\"순서1\",근무!D109,IF(달력!$S$28=\"순서2\",근무!E109,IF(달력!$S$28=\"순서3\",근무!F109,IF(달력!$S$28=\"순서4\",근무!G109,IF(달력!$S$28=\"순서5\",근무!H109,IF(달력!$S$28=\"순서6\",근무!I109,\"\"))))))","v":"비번"},{"$f":"IF(달력!$S$29=\"순서1\",근무!D109,IF(달력!$S$29=\"순서2\",근무!E109,IF(달력!$S$29=\"순서3\",근무!F109,IF(달력!$S$29=\"순서4\",근무!G109,IF(달력!$S$29=\"순서5\",근무!H109,IF(달력!$S$29=\"순서6\",근무!I109,\"\"))))))","v":"비번"},null,null,4]
[null,"2023-04-14","금",{"$f":"IF(달력!$S$24=\"순서1\",근무!D110,IF(달력!$S$24=\"순서2\",근무!E110,IF(달력!$S$24=\"순서3\",근무!F110,IF(달력!$S$24=\"순서4\",근무!G110,IF(달력!$S$24=\"순서5\",근무!H110,IF(달력!$S$24=\"순서6\",근무!I110,\"\"))))))","v":"주간"},{"$f":"IF(달력!$S$25=\"순서1\",근무!D110,IF(달력!$S$25=\"순서2\",근무!E110,IF(달력!$S$25=\"순서3\",근무!F110,IF(달력!$S$25=\"순서4\",근무!G110,IF(달력!$S$25=\"순서5\",근무!H110,IF(달력!$S$25=\"순서6\",근무!I110,\"\"))))))","v":"주간"},{"$f":"IF(달력!$S$26=\"순서1\",근무!D110,IF(달력!$S$26=\"순서2\",근무!E110,IF(달력!$S$26=\"순서3\",근무!F110,IF(달력!$S$26=\"순서4\",근무!G110,IF(달력!$S$26=\"순서5\",근무!H110,IF(달력!$S$26=\"순서6\",근무!I110,\"\"))))))","v":"야간"},{"$f":"IF(달력!$S$27=\"순서1\",근무!D110,IF(달력!$S$27=\"순서2\",근무!E110,IF(달력!$S$27=\"순서3\",근무!F110,IF(달력!$S$27=\"순서4\",근무!G110,IF(달력!$S$27=\"순서5\",근무!H110,IF(달력!$S$27=\"순서6\",근무!I110,\"\"))))))","v":"야간"},{"$f":"IF(달력!$S$28=\"순서1\",근무!D110,IF(달력!$S$28=\"순서2\",근무!E110,IF(달력!$S$28=\"순서3\",근무!F110,IF(달력!$S$28=\"순서4\",근무!G110,IF(달력!$S$28=\"순서5\",근무!H110,IF(달력!$S$28=\"순서6\",근무!I110,\"\"))))))","v":"비번"},{"$f":"IF(달력!$S$29=\"순서1\",근무!D110,IF(달력!$S$29=\"순서2\",근무!E110,IF(달력!$S$29=\"순서3\",근무!F110,IF(달력!$S$29=\"순서4\",근무!G110,IF(달력!$S$29=\"순서5\",근무!H110,IF(달력!$S$29=\"순서6\",근무!I110,\"\"))))))","v":"비번"},null,null,4]
[null,"2023-04-15","토",{"$f":"IF(달력!$S$24=\"순서1\",근무!D111,IF(달력!$S$24=\"순서2\",근무!E111,IF(달력!$S$24=\"순서3\",근무!F111,IF(달력!$S$24=\"순서4\",근무!G111,IF(달력!$S$24=\"순서5\",근무!H111,IF(달력!$S$24=\"순서6\",근무!I111,\"\"))))))","v":"야간"},{"$f":"IF(달력!$S$25=\"순서1\",근무!D111,IF(달력!$S$25=\"순서2\",근무!E111,IF(달력!$S$25=\"순서3\",근무!F111,IF(달력!$S$25=\"순서4\",근무!G111,IF(달력!$S$25=\"순서5\",근무!H111,IF(달력!$S$25=\"순서6\",근무!I111,\"\"))))))","v":"야간"},{"$f":"IF(달력!$S$26=\"순서1\",근무!D111,IF(달력!$S$26=\"순서2\",근무!E111,IF(달력!$S$26=\"순서3\",근무!F111,IF(달력!$S$26=\"순서4\",근무!G111,IF(달력!$S$26=\"순서5\",근무!H111,IF(달력!$S$26=\"순서6\",근무!I111,\"\"))))))","v":"비번"},{"$f":"IF(달력!$S$27=\"순서1\",근무!D111,IF(달력!$S$27=\"순서2\",근무!E111,IF(달력!$S$27=\"순서3\",근무!F111,IF(달력!$S$27=\"순서4\",근무!G111,IF(달력!$S$27=\"순서5\",근무!H111,IF(달력!$S$27=\"순서6\",근무!I111,\"\"))))))","v":"비번"},{"$f":"IF(달력!$S$28=\"순서1\",근무!D111,IF(달력!$S$28=\"순서2\",근무!E111,IF(달력!$S$28=\"순서3\",근무!F111,IF(달력!$S$28=\"순서4\",근무!G111,IF(달력!$S$28=\"순서5\",근무!H111,IF(달력!$S$28=\"순서6\",근무!I111,\"\"))))))","v":"주간"},{"$f":"IF(달력!$S$29=\"순서1\",근무!D111,IF(달력!$S$29=\"순서2\",근무!E111,IF(달력!$S$29=\"순서3\",근무!F111,IF(달력!$S$29=\"순서4\",근무!G111,IF(달력!$S$29=\"순서5\",근무!H111,IF(달력!$S$29=\"순서6\",근무!I111,\"\"))))))","v":"주간"},null,null,4]
[null,"2023-04-16","일",{"$f":"IF(달력!$S$24=\"순서1\",근무!D112,IF(달력!$S$24=\"순서2\",근무!E112,IF(달력!$S$24=\"순서3\",근무!F112,IF(달력!$S$24=\"순서4\",근무!G112,IF(달력!$S$24=\"순서5\",근무!H112,IF(달력!$S$24=\"순서6\",근무!I112,\"\"))))))","v":"야간"},{"$f":"IF(달력!$S$25=\"순서1\",근무!D112,IF(달력!$S$25=\"순서2\",근무!E112,IF(달력!$S$25=\"순서3\",근무!F112,IF(달력!$S$25=\"순서4\",근무!G112,IF(달력!$S$25=\"순서5\",근무!H112,IF(달력!$S$25=\"순서6\",근무!I112,\"\"))))))","v":"야간"},{"$f":"IF(달력!$S$26=\"순서1\",근무!D112,IF(달력!$S$26=\"순서2\",근무!E112,IF(달력!$S$26=\"순서3\",근무!F112,IF(달력!$S$26=\"순서4\",근무!G112,IF(달력!$S$26=\"순서5\",근무!H112,IF(달력!$S$26=\"순서6\",근무!I112,\"\"))))))","v":"비번"},{"$f":"IF(달력!$S$27=\"순서1\",근무!D112,IF(달력!$S$27=\"순서2\",근무!E112,IF(달력!$S$27=\"순서3\",근무!F112,IF(달력!$S$27=\"순서4\",근무!G112,IF(달력!$S$27=\"순서5\",근무!H112,IF(달력!$S$27=\"순서6\",근무!I112,\"\"))))))","v":"비번"},{"$f":"IF(달력!$S$28=\"순서1\",근무!D112,IF(달력!$S$28=\"순서2\",근무!E112,IF(달력!$S$28=\"순서3\",근무!F112,IF(달력!$S$28=\"순서4\",근무!G112,IF(달력!$S$28=\"순서5\",근무!H112,IF(달력!$S$28=\"순서6\",근무!I112,\"\"))))))","v":"주간"},{"$f":"IF(달력!$S$29=\"순서1\",근무!D112,IF(달력!$S$29=\"순서2\",근무!E112,IF(달력!$S$29=\"순서3\",근무!F112,IF(달력!$S$29=\"순서4\",근무!G112,IF(달력!$S$29=\"순서5\",근무!H112,IF(달력!$S$29=\"순서6\",근무!I112,\"\"))))))","v":"주간"},null,null,4]
[null,"2023-04-17","월",{"$f":"IF(달력!$S$24=\"순서1\",근무!D113,IF(달력!$S$24=\"순서2\",근무!E113,IF(달력!$S$24=\"순서3\",근무!F113,IF(달력!$S$24=\"순서4\",근무!G113,IF(달력!$S$24=\"순서5\",근무!H113,IF(달력!$S$24=\"순서6\",근무!I113,\"\"))))))","v":"비번"},{"$f":"IF(달력!$S$25=\"순서1\",근무!D113,IF(달력!$S$25=\"순서2\",근무!E113,IF(달력!$S$25=\"순서3\",근무!F113,IF(달력!$S$25=\"순서4\",근무!G113,IF(달력!$S$25=\"순서5\",근무!H113,IF(달력!$S$25=\"순서6\",근무!I113,\"\"))))))","v":"비번"},{"$f":"IF(달력!$S$26=\"순서1\",근무!D113,IF(달력!$S$26=\"순서2\",근무!E113,IF(달력!$S$26=\"순서3\",근무!F113,IF(달력!$S$26=\"순서4\",근무!G113,IF(달력!$S$26=\"순서5\",근무!H113,IF(달력!$S$26=\"순서6\",근무!I113,\"\"))))))","v":"주간"},{"$f":"IF(달력!$S$27=\"순서1\",근무!D113,IF(달력!$S$27=\"순서2\",근무!E113,IF(달력!$S$27=\"순서3\",근무!F113,IF(달력!$S$27=\"순서4\",근무!G113,IF(달력!$S$27=\"순서5\",근무!H113,IF(달력!$S$27=\"순서6\",근무!I113,\"\"))))))","v":"주간"},{"$f":"IF(달력!$S$28=\"순서1\",근무!D113,IF(달력!$S$28=\"순서2\",근무!E113,IF(달력!$S$28=\"순서3\",근무!F113,IF(달력!$S$28=\"순서4\",근무!G113,IF(달력!$S$28=\"순서5\",근무!H113,IF(달력!$S$28=\"순서6\",근무!I113,\"\"))))))","v":"야간"},{"$f":"IF(달력!$S$29=\"순서1\",근무!D113,IF(달력!$S$29=\"순서2\",근무!E113,IF(달력!$S$29=\"순서3\",근무!F113,IF(달력!$S$29=\"순서4\",근무!G113,IF(달력!$S$29=\"순서5\",근무!H113,IF(달력!$S$29=\"순서6\",근무!I113,\"\"))))))","v":"야간"},null,null,4]
[null,"2023-04-18","화",{"$f":"IF(달력!$S$24=\"순서1\",근무!D114,IF(달력!$S$24=\"순서2\",근무!E114,IF(달력!$S$24=\"순서3\",근무!F114,IF(달력!$S$24=\"순서4\",근무!G114,IF(달력!$S$24=\"순서5\",근무!H114,IF(달력!$S$24=\"순서6\",근무!I114,\"\"))))))","v":"비번"},{"$f":"IF(달력!$S$25=\"순서1\",근무!D114,IF(달력!$S$25=\"순서2\",근무!E114,IF(달력!$S$25=\"순서3\",근무!F114,IF(달력!$S$25=\"순서4\",근무!G114,IF(달력!$S$25=\"순서5\",근무!H114,IF(달력!$S$25=\"순서6\",근무!I114,\"\"))))))","v":"비번"},{"$f":"IF(달력!$S$26=\"순서1\",근무!D114,IF(달력!$S$26=\"순서2\",근무!E114,IF(달력!$S$26=\"순서3\",근무!F114,IF(달력!$S$26=\"순서4\",근무!G114,IF(달력!$S$26=\"순서5\",근무!H114,IF(달력!$S$26=\"순서6\",근무!I114,\"\"))))))","v":"주간"},{"$f":"IF(달력!$S$27=\"순서1\",근무!D114,IF(달력!$S$27=\"순서2\",근무!E114,IF(달력!$S$27=\"순서3\",근무!F114,IF(달력!$S$27=\"순서4\",근무!G114,IF(달력!$S$27=\"순서5\",근무!H114,IF(달력!$S$27=\"순서6\",근무!I114,\"\"))))))","v":"주간"},{"$f":"IF(달력!$S$28=\"순서1\",근무!D114,IF(달력!$S$28=\"순서2\",근무!E114,IF(달력!$S$28=\"순서3\",근무!F114,IF(달력!$S$28=\"순서4\",근무!G114,IF(달력!$S$28=\"순서5\",근무!H114,IF(달력!$S$28=\"순서6\",근무!I114,\"\"))))))","v":"야간"},{"$f":"IF(달력!$S$29=\"순서1\",근무!D114,IF(달력!$S$29=\"순서2\",근무!E114,IF(달력!$S$29=\"순서3\",근무!F114,IF(달력!$S$29=\"순서4\",근무!G114,IF(달력!$S$29=\"순서5\",근무!H114,IF(달력!$S$29=\"순서6\",근무!I114,\"\"))))))","v":"야간"},null,null,4]
[null,"2023-04-19","수",{"$f":"IF(달력!$S$24=\"순서1\",근무!D115,IF(달력!$S$24=\"순서2\",근무!E115,IF(달력!$S$24=\"순서3\",근무!F115,IF(달력!$S$24=\"순서4\",근무!G115,IF(달력!$S$24=\"순서5\",근무!H115,IF(달력!$S$24=\"순서6\",근무!I115,\"\"))))))","v":"주간"},{"$f":"IF(달력!$S$25=\"순서1\",근무!D115,IF(달력!$S$25=\"순서2\",근무!E115,IF(달력!$S$25=\"순서3\",근무!F115,IF(달력!$S$25=\"순서4\",근무!G115,IF(달력!$S$25=\"순서5\",근무!H115,IF(달력!$S$25=\"순서6\",근무!I115,\"\"))))))","v":"주간"},{"$f":"IF(달력!$S$26=\"순서1\",근무!D115,IF(달력!$S$26=\"순서2\",근무!E115,IF(달력!$S$26=\"순서3\",근무!F115,IF(달력!$S$26=\"순서4\",근무!G115,IF(달력!$S$26=\"순서5\",근무!H115,IF(달력!$S$26=\"순서6\",근무!I115,\"\"))))))","v":"야간"},{"$f":"IF(달력!$S$27=\"순서1\",근무!D115,IF(달력!$S$27=\"순서2\",근무!E115,IF(달력!$S$27=\"순서3\",근무!F115,IF(달력!$S$27=\"순서4\",근무!G115,IF(달력!$S$27=\"순서5\",근무!H115,IF(달력!$S$27=\"순서6\",근무!I115,\"\"))))))","v":"야간"},{"$f":"IF(달력!$S$28=\"순서1\",근무!D115,IF(달력!$S$28=\"순서2\",근무!E115,IF(달력!$S$28=\"순서3\",근무!F115,IF(달력!$S$28=\"순서4\",근무!G115,IF(달력!$S$28=\"순서5\",근무!H115,IF(달력!$S$28=\"순서6\",근무!I115,\"\"))))))","v":"비번"},{"$f":"IF(달력!$S$29=\"순서1\",근무!D115,IF(달력!$S$29=\"순서2\",근무!E115,IF(달력!$S$29=\"순서3\",근무!F115,IF(달력!$S$29=\"순서4\",근무!G115,IF(달력!$S$29=\"순서5\",근무!H115,IF(달력!$S$29=\"순서6\",근무!I115,\"\"))))))","v":"비번"},null,null,4]
[null,"2023-04-20","목",{"$f":"IF(달력!$S$24=\"순서1\",근무!D116,IF(달력!$S$24=\"순서2\",근무!E116,IF(달력!$S$24=\"순서3\",근무!F116,IF(달력!$S$24=\"순서4\",근무!G116,IF(달력!$S$24=\"순서5\",근무!H116,IF(달력!$S$24=\"순서6\",근무!I116,\"\"))))))","v":"주간"},{"$f":"IF(달력!$S$25=\"순서1\",근무!D116,IF(달력!$S$25=\"순서2\",근무!E116,IF(달력!$S$25=\"순서3\",근무!F116,IF(달력!$S$25=\"순서4\",근무!G116,IF(달력!$S$25=\"순서5\",근무!H116,IF(달력!$S$25=\"순서6\",근무!I116,\"\"))))))","v":"주간"},{"$f":"IF(달력!$S$26=\"순서1\",근무!D116,IF(달력!$S$26=\"순서2\",근무!E116,IF(달력!$S$26=\"순서3\",근무!F116,IF(달력!$S$26=\"순서4\",근무!G116,IF(달력!$S$26=\"순서5\",근무!H116,IF(달력!$S$26=\"순서6\",근무!I116,\"\"))))))","v":"야간"},{"$f":"IF(달력!$S$27=\"순서1\",근무!D116,IF(달력!$S$27=\"순서2\",근무!E116,IF(달력!$S$27=\"순서3\",근무!F116,IF(달력!$S$27=\"순서4\",근무!G116,IF(달력!$S$27=\"순서5\",근무!H116,IF(달력!$S$27=\"순서6\",근무!I116,\"\"))))))","v":"야간"},{"$f":"IF(달력!$S$28=\"순서1\",근무!D116,IF(달력!$S$28=\"순서2\",근무!E116,IF(달력!$S$28=\"순서3\",근무!F116,IF(달력!$S$28=\"순서4\",근무!G116,IF(달력!$S$28=\"순서5\",근무!H116,IF(달력!$S$28=\"순서6\",근무!I116,\"\"))))))","v":"비번"},{"$f":"IF(달력!$S$29=\"순서1\",근무!D116,IF(달력!$S$29=\"순서2\",근무!E116,IF(달력!$S$29=\"순서3\",근무!F116,IF(달력!$S$29=\"순서4\",근무!G116,IF(달력!$S$29=\"순서5\",근무!H116,IF(달력!$S$29=\"순서6\",근무!I116,\"\"))))))","v":"비번"},null,null,4]
[null,"2023-04-21","금",{"$f":"IF(달력!$S$24=\"순서1\",근무!D117,IF(달력!$S$24=\"순서2\",근무!E117,IF(달력!$S$24=\"순서3\",근무!F117,IF(달력!$S$24=\"순서4\",근무!G117,IF(달력!$S$24=\"순서5\",근무!H117,IF(달력!$S$24=\"순서6\",근무!I117,\"\"))))))","v":"야간"},{"$f":"IF(달력!$S$25=\"순서1\",근무!D117,IF(달력!$S$25=\"순서2\",근무!E117,IF(달력!$S$25=\"순서3\",근무!F117,IF(달력!$S$25=\"순서4\",근무!G117,IF(달력!$S$25=\"순서5\",근무!H117,IF(달력!$S$25=\"순서6\",근무!I117,\"\"))))))","v":"야간"},{"$f":"IF(달력!$S$26=\"순서1\",근무!D117,IF(달력!$S$26=\"순서2\",근무!E117,IF(달력!$S$26=\"순서3\",근무!F117,IF(달력!$S$26=\"순서4\",근무!G117,IF(달력!$S$26=\"순서5\",근무!H117,IF(달력!$S$26=\"순서6\",근무!I117,\"\"))))))","v":"비번"},{"$f":"IF(달력!$S$27=\"순서1\",근무!D117,IF(달력!$S$27=\"순서2\",근무!E117,IF(달력!$S$27=\"순서3\",근무!F117,IF(달력!$S$27=\"순서4\",근무!G117,IF(달력!$S$27=\"순서5\",근무!H117,IF(달력!$S$27=\"순서6\",근무!I117,\"\"))))))","v":"비번"},{"$f":"IF(달력!$S$28=\"순서1\",근무!D117,IF(달력!$S$28=\"순서2\",근무!E117,IF(달력!$S$28=\"순서3\",근무!F117,IF(달력!$S$28=\"순서4\",근무!G117,IF(달력!$S$28=\"순서5\",근무!H117,IF(달력!$S$28=\"순서6\",근무!I117,\"\"))))))","v":"주간"},{"$f":"IF(달력!$S$29=\"순서1\",근무!D117,IF(달력!$S$29=\"순서2\",근무!E117,IF(달력!$S$29=\"순서3\",근무!F117,IF(달력!$S$29=\"순서4\",근무!G117,IF(달력!$S$29=\"순서5\",근무!H117,IF(달력!$S$29=\"순서6\",근무!I117,\"\"))))))","v":"주간"},null,null,4]
[null,"2023-04-22","토",{"$f":"IF(달력!$S$24=\"순서1\",근무!D118,IF(달력!$S$24=\"순서2\",근무!E118,IF(달력!$S$24=\"순서3\",근무!F118,IF(달력!$S$24=\"순서4\",근무!G118,IF(달력!$S$24=\"순서5\",근무!H118,IF(달력!$S$24=\"순서6\",근무!I118,\"\"))))))","v":"야간"},{"$f":"IF(달력!$S$25=\"순서1\",근무!D118,IF(달력!$S$25=\"순서2\",근무!E118,IF(달력!$S$25=\"순서3\",근무!F118,IF(달력!$S$25=\"순서4\",근무!G118,IF(달력!$S$25=\"순서5\",근무!H118,IF(달력!$S$25=\"순서6\",근무!I118,\"\"))))))","v":"야간"},{"$f":"IF(달력!$S$26=\"순서1\",근무!D118,IF(달력!$S$26=\"순서2\",근무!E118,IF(달력!$S$26=\"순서3\",근무!F118,IF(달력!$S$26=\"순서4\",근무!G118,IF(달력!$S$26=\"순서5\",근무!H118,IF(달력!$S$26=\"순서6\",근무!I118,\"\"))))))","v":"비번"},{"$f":"IF(달력!$S$27=\"순서1\",근무!D118,IF(달력!$S$27=\"순서2\",근무!E118,IF(달력!$S$27=\"순서3\",근무!F118,IF(달력!$S$27=\"순서4\",근무!G118,IF(달력!$S$27=\"순서5\",근무!H118,IF(달력!$S$27=\"순서6\",근무!I118,\"\"))))))","v":"비번"},{"$f":"IF(달력!$S$28=\"순서1\",근무!D118,IF(달력!$S$28=\"순서2\",근무!E118,IF(달력!$S$28=\"순서3\",근무!F118,IF(달력!$S$28=\"순서4\",근무!G118,IF(달력!$S$28=\"순서5\",근무!H118,IF(달력!$S$28=\"순서6\",근무!I118,\"\"))))))","v":"주간"},{"$f":"IF(달력!$S$29=\"순서1\",근무!D118,IF(달력!$S$29=\"순서2\",근무!E118,IF(달력!$S$29=\"순서3\",근무!F118,IF(달력!$S$29=\"순서4\",근무!G118,IF(달력!$S$29=\"순서5\",근무!H118,IF(달력!$S$29=\"순서6\",근무!I118,\"\"))))))","v":"주간"},null,null,4]
[null,"2023-04-23","일",{"$f":"IF(달력!$S$24=\"순서1\",근무!D119,IF(달력!$S$24=\"순서2\",근무!E119,IF(달력!$S$24=\"순서3\",근무!F119,IF(달력!$S$24=\"순서4\",근무!G119,IF(달력!$S$24=\"순서5\",근무!H119,IF(달력!$S$24=\"순서6\",근무!I119,\"\"))))))","v":"비번"},{"$f":"IF(달력!$S$25=\"순서1\",근무!D119,IF(달력!$S$25=\"순서2\",근무!E119,IF(달력!$S$25=\"순서3\",근무!F119,IF(달력!$S$25=\"순서4\",근무!G119,IF(달력!$S$25=\"순서5\",근무!H119,IF(달력!$S$25=\"순서6\",근무!I119,\"\"))))))","v":"비번"},{"$f":"IF(달력!$S$26=\"순서1\",근무!D119,IF(달력!$S$26=\"순서2\",근무!E119,IF(달력!$S$26=\"순서3\",근무!F119,IF(달력!$S$26=\"순서4\",근무!G119,IF(달력!$S$26=\"순서5\",근무!H119,IF(달력!$S$26=\"순서6\",근무!I119,\"\"))))))","v":"주간"},{"$f":"IF(달력!$S$27=\"순서1\",근무!D119,IF(달력!$S$27=\"순서2\",근무!E119,IF(달력!$S$27=\"순서3\",근무!F119,IF(달력!$S$27=\"순서4\",근무!G119,IF(달력!$S$27=\"순서5\",근무!H119,IF(달력!$S$27=\"순서6\",근무!I119,\"\"))))))","v":"주간"},{"$f":"IF(달력!$S$28=\"순서1\",근무!D119,IF(달력!$S$28=\"순서2\",근무!E119,IF(달력!$S$28=\"순서3\",근무!F119,IF(달력!$S$28=\"순서4\",근무!G119,IF(달력!$S$28=\"순서5\",근무!H119,IF(달력!$S$28=\"순서6\",근무!I119,\"\"))))))","v":"야간"},{"$f":"IF(달력!$S$29=\"순서1\",근무!D119,IF(달력!$S$29=\"순서2\",근무!E119,IF(달력!$S$29=\"순서3\",근무!F119,IF(달력!$S$29=\"순서4\",근무!G119,IF(달력!$S$29=\"순서5\",근무!H119,IF(달력!$S$29=\"순서6\",근무!I119,\"\"))))))","v":"야간"},null,null,4]
[null,"2023-04-24","월",{"$f":"IF(달력!$S$24=\"순서1\",근무!D120,IF(달력!$S$24=\"순서2\",근무!E120,IF(달력!$S$24=\"순서3\",근무!F120,IF(달력!$S$24=\"순서4\",근무!G120,IF(달력!$S$24=\"순서5\",근무!H120,IF(달력!$S$24=\"순서6\",근무!I120,\"\"))))))","v":"비번"},{"$f":"IF(달력!$S$25=\"순서1\",근무!D120,IF(달력!$S$25=\"순서2\",근무!E120,IF(달력!$S$25=\"순서3\",근무!F120,IF(달력!$S$25=\"순서4\",근무!G120,IF(달력!$S$25=\"순서5\",근무!H120,IF(달력!$S$25=\"순서6\",근무!I120,\"\"))))))","v":"비번"},{"$f":"IF(달력!$S$26=\"순서1\",근무!D120,IF(달력!$S$26=\"순서2\",근무!E120,IF(달력!$S$26=\"순서3\",근무!F120,IF(달력!$S$26=\"순서4\",근무!G120,IF(달력!$S$26=\"순서5\",근무!H120,IF(달력!$S$26=\"순서6\",근무!I120,\"\"))))))","v":"주간"},{"$f":"IF(달력!$S$27=\"순서1\",근무!D120,IF(달력!$S$27=\"순서2\",근무!E120,IF(달력!$S$27=\"순서3\",근무!F120,IF(달력!$S$27=\"순서4\",근무!G120,IF(달력!$S$27=\"순서5\",근무!H120,IF(달력!$S$27=\"순서6\",근무!I120,\"\"))))))","v":"주간"},{"$f":"IF(달력!$S$28=\"순서1\",근무!D120,IF(달력!$S$28=\"순서2\",근무!E120,IF(달력!$S$28=\"순서3\",근무!F120,IF(달력!$S$28=\"순서4\",근무!G120,IF(달력!$S$28=\"순서5\",근무!H120,IF(달력!$S$28=\"순서6\",근무!I120,\"\"))))))","v":"야간"},{"$f":"IF(달력!$S$29=\"순서1\",근무!D120,IF(달력!$S$29=\"순서2\",근무!E120,IF(달력!$S$29=\"순서3\",근무!F120,IF(달력!$S$29=\"순서4\",근무!G120,IF(달력!$S$29=\"순서5\",근무!H120,IF(달력!$S$29=\"순서6\",근무!I120,\"\"))))))","v":"야간"},null,null,4]
[null,"2023-04-25","화",{"$f":"IF(달력!$S$24=\"순서1\",근무!D121,IF(달력!$S$24=\"순서2\",근무!E121,IF(달력!$S$24=\"순서3\",근무!F121,IF(달력!$S$24=\"순서4\",근무!G121,IF(달력!$S$24=\"순서5\",근무!H121,IF(달력!$S$24=\"순서6\",근무!I121,\"\"))))))","v":"주간"},{"$f":"IF(달력!$S$25=\"순서1\",근무!D121,IF(달력!$S$25=\"순서2\",근무!E121,IF(달력!$S$25=\"순서3\",근무!F121,IF(달력!$S$25=\"순서4\",근무!G121,IF(달력!$S$25=\"순서5\",근무!H121,IF(달력!$S$25=\"순서6\",근무!I121,\"\"))))))","v":"주간"},{"$f":"IF(달력!$S$26=\"순서1\",근무!D121,IF(달력!$S$26=\"순서2\",근무!E121,IF(달력!$S$26=\"순서3\",근무!F121,IF(달력!$S$26=\"순서4\",근무!G121,IF(달력!$S$26=\"순서5\",근무!H121,IF(달력!$S$26=\"순서6\",근무!I121,\"\"))))))","v":"야간"},{"$f":"IF(달력!$S$27=\"순서1\",근무!D121,IF(달력!$S$27=\"순서2\",근무!E121,IF(달력!$S$27=\"순서3\",근무!F121,IF(달력!$S$27=\"순서4\",근무!G121,IF(달력!$S$27=\"순서5\",근무!H121,IF(달력!$S$27=\"순서6\",근무!I121,\"\"))))))","v":"야간"},{"$f":"IF(달력!$S$28=\"순서1\",근무!D121,IF(달력!$S$28=\"순서2\",근무!E121,IF(달력!$S$28=\"순서3\",근무!F121,IF(달력!$S$28=\"순서4\",근무!G121,IF(달력!$S$28=\"순서5\",근무!H121,IF(달력!$S$28=\"순서6\",근무!I121,\"\"))))))","v":"비번"},{"$f":"IF(달력!$S$29=\"순서1\",근무!D121,IF(달력!$S$29=\"순서2\",근무!E121,IF(달력!$S$29=\"순서3\",근무!F121,IF(달력!$S$29=\"순서4\",근무!G121,IF(달력!$S$29=\"순서5\",근무!H121,IF(달력!$S$29=\"순서6\",근무!I121,\"\"))))))","v":"비번"},null,null,4]
[null,"2023-04-26","수",{"$f":"IF(달력!$S$24=\"순서1\",근무!D122,IF(달력!$S$24=\"순서2\",근무!E122,IF(달력!$S$24=\"순서3\",근무!F122,IF(달력!$S$24=\"순서4\",근무!G122,IF(달력!$S$24=\"순서5\",근무!H122,IF(달력!$S$24=\"순서6\",근무!I122,\"\"))))))","v":"주간"},{"$f":"IF(달력!$S$25=\"순서1\",근무!D122,IF(달력!$S$25=\"순서2\",근무!E122,IF(달력!$S$25=\"순서3\",근무!F122,IF(달력!$S$25=\"순서4\",근무!G122,IF(달력!$S$25=\"순서5\",근무!H122,IF(달력!$S$25=\"순서6\",근무!I122,\"\"))))))","v":"주간"},{"$f":"IF(달력!$S$26=\"순서1\",근무!D122,IF(달력!$S$26=\"순서2\",근무!E122,IF(달력!$S$26=\"순서3\",근무!F122,IF(달력!$S$26=\"순서4\",근무!G122,IF(달력!$S$26=\"순서5\",근무!H122,IF(달력!$S$26=\"순서6\",근무!I122,\"\"))))))","v":"야간"},{"$f":"IF(달력!$S$27=\"순서1\",근무!D122,IF(달력!$S$27=\"순서2\",근무!E122,IF(달력!$S$27=\"순서3\",근무!F122,IF(달력!$S$27=\"순서4\",근무!G122,IF(달력!$S$27=\"순서5\",근무!H122,IF(달력!$S$27=\"순서6\",근무!I122,\"\"))))))","v":"야간"},{"$f":"IF(달력!$S$28=\"순서1\",근무!D122,IF(달력!$S$28=\"순서2\",근무!E122,IF(달력!$S$28=\"순서3\",근무!F122,IF(달력!$S$28=\"순서4\",근무!G122,IF(달력!$S$28=\"순서5\",근무!H122,IF(달력!$S$28=\"순서6\",근무!I122,\"\"))))))","v":"비번"},{"$f":"IF(달력!$S$29=\"순서1\",근무!D122,IF(달력!$S$29=\"순서2\",근무!E122,IF(달력!$S$29=\"순서3\",근무!F122,IF(달력!$S$29=\"순서4\",근무!G122,IF(달력!$S$29=\"순서5\",근무!H122,IF(달력!$S$29=\"순서6\",근무!I122,\"\"))))))","v":"비번"},null,null,4]
[null,"2023-04-27","목",{"$f":"IF(달력!$S$24=\"순서1\",근무!D123,IF(달력!$S$24=\"순서2\",근무!E123,IF(달력!$S$24=\"순서3\",근무!F123,IF(달력!$S$24=\"순서4\",근무!G123,IF(달력!$S$24=\"순서5\",근무!H123,IF(달력!$S$24=\"순서6\",근무!I123,\"\"))))))","v":"야간"},{"$f":"IF(달력!$S$25=\"순서1\",근무!D123,IF(달력!$S$25=\"순서2\",근무!E123,IF(달력!$S$25=\"순서3\",근무!F123,IF(달력!$S$25=\"순서4\",근무!G123,IF(달력!$S$25=\"순서5\",근무!H123,IF(달력!$S$25=\"순서6\",근무!I123,\"\"))))))","v":"야간"},{"$f":"IF(달력!$S$26=\"순서1\",근무!D123,IF(달력!$S$26=\"순서2\",근무!E123,IF(달력!$S$26=\"순서3\",근무!F123,IF(달력!$S$26=\"순서4\",근무!G123,IF(달력!$S$26=\"순서5\",근무!H123,IF(달력!$S$26=\"순서6\",근무!I123,\"\"))))))","v":"비번"},{"$f":"IF(달력!$S$27=\"순서1\",근무!D123,IF(달력!$S$27=\"순서2\",근무!E123,IF(달력!$S$27=\"순서3\",근무!F123,IF(달력!$S$27=\"순서4\",근무!G123,IF(달력!$S$27=\"순서5\",근무!H123,IF(달력!$S$27=\"순서6\",근무!I123,\"\"))))))","v":"비번"},{"$f":"IF(달력!$S$28=\"순서1\",근무!D123,IF(달력!$S$28=\"순서2\",근무!E123,IF(달력!$S$28=\"순서3\",근무!F123,IF(달력!$S$28=\"순서4\",근무!G123,IF(달력!$S$28=\"순서5\",근무!H123,IF(달력!$S$28=\"순서6\",근무!I123,\"\"))))))","v":"주간"},{"$f":"IF(달력!$S$29=\"순서1\",근무!D123,IF(달력!$S$29=\"순서2\",근무!E123,IF(달력!$S$29=\"순서3\",근무!F123,IF(달력!$S$29=\"순서4\",근무!G123,IF(달력!$S$29=\"순서5\",근무!H123,IF(달력!$S$29=\"순서6\",근무!I123,\"\"))))))","v":"주간"},null,null,4]
[null,"2023-04-28","금",{"$f":"IF(달력!$S$24=\"순서1\",근무!D124,IF(달력!$S$24=\"순서2\",근무!E124,IF(달력!$S$24=\"순서3\",근무!F124,IF(달력!$S$24=\"순서4\",근무!G124,IF(달력!$S$24=\"순서5\",근무!H124,IF(달력!$S$24=\"순서6\",근무!I124,\"\"))))))","v":"야간"},{"$f":"IF(달력!$S$25=\"순서1\",근무!D124,IF(달력!$S$25=\"순서2\",근무!E124,IF(달력!$S$25=\"순서3\",근무!F124,IF(달력!$S$25=\"순서4\",근무!G124,IF(달력!$S$25=\"순서5\",근무!H124,IF(달력!$S$25=\"순서6\",근무!I124,\"\"))))))","v":"야간"},{"$f":"IF(달력!$S$26=\"순서1\",근무!D124,IF(달력!$S$26=\"순서2\",근무!E124,IF(달력!$S$26=\"순서3\",근무!F124,IF(달력!$S$26=\"순서4\",근무!G124,IF(달력!$S$26=\"순서5\",근무!H124,IF(달력!$S$26=\"순서6\",근무!I124,\"\"))))))","v":"비번"},{"$f":"IF(달력!$S$27=\"순서1\",근무!D124,IF(달력!$S$27=\"순서2\",근무!E124,IF(달력!$S$27=\"순서3\",근무!F124,IF(달력!$S$27=\"순서4\",근무!G124,IF(달력!$S$27=\"순서5\",근무!H124,IF(달력!$S$27=\"순서6\",근무!I124,\"\"))))))","v":"비번"},{"$f":"IF(달력!$S$28=\"순서1\",근무!D124,IF(달력!$S$28=\"순서2\",근무!E124,IF(달력!$S$28=\"순서3\",근무!F124,IF(달력!$S$28=\"순서4\",근무!G124,IF(달력!$S$28=\"순서5\",근무!H124,IF(달력!$S$28=\"순서6\",근무!I124,\"\"))))))","v":"주간"},{"$f":"IF(달력!$S$29=\"순서1\",근무!D124,IF(달력!$S$29=\"순서2\",근무!E124,IF(달력!$S$29=\"순서3\",근무!F124,IF(달력!$S$29=\"순서4\",근무!G124,IF(달력!$S$29=\"순서5\",근무!H124,IF(달력!$S$29=\"순서6\",근무!I124,\"\"))))))","v":"주간"},null,null,4]
[null,"2023-04-29","토",{"$f":"IF(달력!$S$24=\"순서1\",근무!D125,IF(달력!$S$24=\"순서2\",근무!E125,IF(달력!$S$24=\"순서3\",근무!F125,IF(달력!$S$24=\"순서4\",근무!G125,IF(달력!$S$24=\"순서5\",근무!H125,IF(달력!$S$24=\"순서6\",근무!I125,\"\"))))))","v":"비번"},{"$f":"IF(달력!$S$25=\"순서1\",근무!D125,IF(달력!$S$25=\"순서2\",근무!E125,IF(달력!$S$25=\"순서3\",근무!F125,IF(달력!$S$25=\"순서4\",근무!G125,IF(달력!$S$25=\"순서5\",근무!H125,IF(달력!$S$25=\"순서6\",근무!I125,\"\"))))))","v":"비번"},{"$f":"IF(달력!$S$26=\"순서1\",근무!D125,IF(달력!$S$26=\"순서2\",근무!E125,IF(달력!$S$26=\"순서3\",근무!F125,IF(달력!$S$26=\"순서4\",근무!G125,IF(달력!$S$26=\"순서5\",근무!H125,IF(달력!$S$26=\"순서6\",근무!I125,\"\"))))))","v":"주간"},{"$f":"IF(달력!$S$27=\"순서1\",근무!D125,IF(달력!$S$27=\"순서2\",근무!E125,IF(달력!$S$27=\"순서3\",근무!F125,IF(달력!$S$27=\"순서4\",근무!G125,IF(달력!$S$27=\"순서5\",근무!H125,IF(달력!$S$27=\"순서6\",근무!I125,\"\"))))))","v":"주간"},{"$f":"IF(달력!$S$28=\"순서1\",근무!D125,IF(달력!$S$28=\"순서2\",근무!E125,IF(달력!$S$28=\"순서3\",근무!F125,IF(달력!$S$28=\"순서4\",근무!G125,IF(달력!$S$28=\"순서5\",근무!H125,IF(달력!$S$28=\"순서6\",근무!I125,\"\"))))))","v":"야간"},{"$f":"IF(달력!$S$29=\"순서1\",근무!D125,IF(달력!$S$29=\"순서2\",근무!E125,IF(달력!$S$29=\"순서3\",근무!F125,IF(달력!$S$29=\"순서4\",근무!G125,IF(달력!$S$29=\"순서5\",근무!H125,IF(달력!$S$29=\"순서6\",근무!I125,\"\"))))))","v":"야간"},null,null,4]
[null,"2023-04-30","일",{"$f":"IF(달력!$S$24=\"순서1\",근무!D126,IF(달력!$S$24=\"순서2\",근무!E126,IF(달력!$S$24=\"순서3\",근무!F126,IF(달력!$S$24=\"순서4\",근무!G126,IF(달력!$S$24=\"순서5\",근무!H126,IF(달력!$S$24=\"순서6\",근무!I126,\"\"))))))","v":"비번"},{"$f":"IF(달력!$S$25=\"순서1\",근무!D126,IF(달력!$S$25=\"순서2\",근무!E126,IF(달력!$S$25=\"순서3\",근무!F126,IF(달력!$S$25=\"순서4\",근무!G126,IF(달력!$S$25=\"순서5\",근무!H126,IF(달력!$S$25=\"순서6\",근무!I126,\"\"))))))","v":"비번"},{"$f":"IF(달력!$S$26=\"순서1\",근무!D126,IF(달력!$S$26=\"순서2\",근무!E126,IF(달력!$S$26=\"순서3\",근무!F126,IF(달력!$S$26=\"순서4\",근무!G126,IF(달력!$S$26=\"순서5\",근무!H126,IF(달력!$S$26=\"순서6\",근무!I126,\"\"))))))","v":"주간"},{"$f":"IF(달력!$S$27=\"순서1\",근무!D126,IF(달력!$S$27=\"순서2\",근무!E126,IF(달력!$S$27=\"순서3\",근무!F126,IF(달력!$S$27=\"순서4\",근무!G126,IF(달력!$S$27=\"순서5\",근무!H126,IF(달력!$S$27=\"순서6\",근무!I126,\"\"))))))","v":"주간"},{"$f":"IF(달력!$S$28=\"순서1\",근무!D126,IF(달력!$S$28=\"순서2\",근무!E126,IF(달력!$S$28=\"순서3\",근무!F126,IF(달력!$S$28=\"순서4\",근무!G126,IF(달력!$S$28=\"순서5\",근무!H126,IF(달력!$S$28=\"순서6\",근무!I126,\"\"))))))","v":"야간"},{"$f":"IF(달력!$S$29=\"순서1\",근무!D126,IF(달력!$S$29=\"순서2\",근무!E126,IF(달력!$S$29=\"순서3\",근무!F126,IF(달력!$S$29=\"순서4\",근무!G126,IF(달력!$S$29=\"순서5\",근무!H126,IF(달력!$S$29=\"순서6\",근무!I126,\"\"))))))","v":"야간"},null,null,4]
[null,"2023-05-01","월",{"$f":"IF(달력!$S$24=\"순서1\",근무!D127,IF(달력!$S$24=\"순서2\",근무!E127,IF(달력!$S$24=\"순서3\",근무!F127,IF(달력!$S$24=\"순서4\",근무!G127,IF(달력!$S$24=\"순서5\",근무!H127,IF(달력!$S$24=\"순서6\",근무!I127,\"\"))))))","v":"주간"},{"$f":"IF(달력!$S$25=\"순서1\",근무!D127,IF(달력!$S$25=\"순서2\",근무!E127,IF(달력!$S$25=\"순서3\",근무!F127,IF(달력!$S$25=\"순서4\",근무!G127,IF(달력!$S$25=\"순서5\",근무!H127,IF(달력!$S$25=\"순서6\",근무!I127,\"\"))))))","v":"주간"},{"$f":"IF(달력!$S$26=\"순서1\",근무!D127,IF(달력!$S$26=\"순서2\",근무!E127,IF(달력!$S$26=\"순서3\",근무!F127,IF(달력!$S$26=\"순서4\",근무!G127,IF(달력!$S$26=\"순서5\",근무!H127,IF(달력!$S$26=\"순서6\",근무!I127,\"\"))))))","v":"야간"},{"$f":"IF(달력!$S$27=\"순서1\",근무!D127,IF(달력!$S$27=\"순서2\",근무!E127,IF(달력!$S$27=\"순서3\",근무!F127,IF(달력!$S$27=\"순서4\",근무!G127,IF(달력!$S$27=\"순서5\",근무!H127,IF(달력!$S$27=\"순서6\",근무!I127,\"\"))))))","v":"야간"},{"$f":"IF(달력!$S$28=\"순서1\",근무!D127,IF(달력!$S$28=\"순서2\",근무!E127,IF(달력!$S$28=\"순서3\",근무!F127,IF(달력!$S$28=\"순서4\",근무!G127,IF(달력!$S$28=\"순서5\",근무!H127,IF(달력!$S$28=\"순서6\",근무!I127,\"\"))))))","v":"비번"},{"$f":"IF(달력!$S$29=\"순서1\",근무!D127,IF(달력!$S$29=\"순서2\",근무!E127,IF(달력!$S$29=\"순서3\",근무!F127,IF(달력!$S$29=\"순서4\",근무!G127,IF(달력!$S$29=\"순서5\",근무!H127,IF(달력!$S$29=\"순서6\",근무!I127,\"\"))))))","v":"비번"},null,"주간",5,{"$f":"COUNTIFS(일정1내용,$K127,$L$7:$L$372,5)","v":11},{"$f":"COUNTIFS(일정2내용,$K127,$L$7:$L$372,5)","v":11},{"$f":"COUNTIFS(일정3내용,$K127,$L$7:$L$372,5)","v":10},{"$f":"COUNTIFS(일정4내용,$K127,$L$7:$L$372,5)","v":10},{"$f":"COUNTIFS(일정5내용,$K127,$L$7:$L$372,5)","v":10},{"$f":"COUNTIFS(일정6내용,$K127,$L$7:$L$372,5)","v":10}]
[null,"2023-05-02","화",{"$f":"IF(달력!$S$24=\"순서1\",근무!D128,IF(달력!$S$24=\"순서2\",근무!E128,IF(달력!$S$24=\"순서3\",근무!F128,IF(달력!$S$24=\"순서4\",근무!G128,IF(달력!$S$24=\"순서5\",근무!H128,IF(달력!$S$24=\"순서6\",근무!I128,\"\"))))))","v":"주간"},{"$f":"IF(달력!$S$25=\"순서1\",근무!D128,IF(달력!$S$25=\"순서2\",근무!E128,IF(달력!$S$25=\"순서3\",근무!F128,IF(달력!$S$25=\"순서4\",근무!G128,IF(달력!$S$25=\"순서5\",근무!H128,IF(달력!$S$25=\"순서6\",근무!I128,\"\"))))))","v":"주간"},{"$f":"IF(달력!$S$26=\"순서1\",근무!D128,IF(달력!$S$26=\"순서2\",근무!E128,IF(달력!$S$26=\"순서3\",근무!F128,IF(달력!$S$26=\"순서4\",근무!G128,IF(달력!$S$26=\"순서5\",근무!H128,IF(달력!$S$26=\"순서6\",근무!I128,\"\"))))))","v":"야간"},{"$f":"IF(달력!$S$27=\"순서1\",근무!D128,IF(달력!$S$27=\"순서2\",근무!E128,IF(달력!$S$27=\"순서3\",근무!F128,IF(달력!$S$27=\"순서4\",근무!G128,IF(달력!$S$27=\"순서5\",근무!H128,IF(달력!$S$27=\"순서6\",근무!I128,\"\"))))))","v":"야간"},{"$f":"IF(달력!$S$28=\"순서1\",근무!D128,IF(달력!$S$28=\"순서2\",근무!E128,IF(달력!$S$28=\"순서3\",근무!F128,IF(달력!$S$28=\"순서4\",근무!G128,IF(달력!$S$28=\"순서5\",근무!H128,IF(달력!$S$28=\"순서6\",근무!I128,\"\"))))))","v":"비번"},{"$f":"IF(달력!$S$29=\"순서1\",근무!D128,IF(달력!$S$29=\"순서2\",근무!E128,IF(달력!$S$29=\"순서3\",근무!F128,IF(달력!$S$29=\"순서4\",근무!G128,IF(달력!$S$29=\"순서5\",근무!H128,IF(달력!$S$29=\"순서6\",근무!I128,\"\"))))))","v":"비번"},null,"야간",5,{"$f":"COUNTIFS(일정1내용,$K128,$L$7:$L$372,5)","v":10},{"$f":"COUNTIFS(일정2내용,$K128,$L$7:$L$372,5)","v":10},{"$f":"COUNTIFS(일정3내용,$K128,$L$7:$L$372,5)","v":11},{"$f":"COUNTIFS(일정4내용,$K128,$L$7:$L$372,5)","v":11},{"$f":"COUNTIFS(일정5내용,$K128,$L$7:$L$372,5)","v":10},{"$f":"COUNTIFS(일정6내용,$K128,$L$7:$L$372,5)","v":10}]
[null,"2023-05-03","수",{"$f":"IF(달력!$S$24=\"순서1\",근무!D129,IF(달력!$S$24=\"순서2\",근무!E129,IF(달력!$S$24=\"순서3\",근무!F129,IF(달력!$S$24=\"순서4\",근무!G129,IF(달력!$S$24=\"순서5\",근무!H129,IF(달력!$S$24=\"순서6\",근무!I129,\"\"))))))","v":"야간"},{"$f":"IF(달력!$S$25=\"순서1\",근무!D129,IF(달력!$S$25=\"순서2\",근무!E129,IF(달력!$S$25=\"순서3\",근무!F129,IF(달력!$S$25=\"순서4\",근무!G129,IF(달력!$S$25=\"순서5\",근무!H129,IF(달력!$S$25=\"순서6\",근무!I129,\"\"))))))","v":"야간"},{"$f":"IF(달력!$S$26=\"순서1\",근무!D129,IF(달력!$S$26=\"순서2\",근무!E129,IF(달력!$S$26=\"순서3\",근무!F129,IF(달력!$S$26=\"순서4\",근무!G129,IF(달력!$S$26=\"순서5\",근무!H129,IF(달력!$S$26=\"순서6\",근무!I129,\"\"))))))","v":"비번"},{"$f":"IF(달력!$S$27=\"순서1\",근무!D129,IF(달력!$S$27=\"순서2\",근무!E129,IF(달력!$S$27=\"순서3\",근무!F129,IF(달력!$S$27=\"순서4\",근무!G129,IF(달력!$S$27=\"순서5\",근무!H129,IF(달력!$S$27=\"순서6\",근무!I129,\"\"))))))","v":"비번"},{"$f":"IF(달력!$S$28=\"순서1\",근무!D129,IF(달력!$S$28=\"순서2\",근무!E129,IF(달력!$S$28=\"순서3\",근무!F129,IF(달력!$S$28=\"순서4\",근무!G129,IF(달력!$S$28=\"순서5\",근무!H129,IF(달력!$S$28=\"순서6\",근무!I129,\"\"))))))","v":"주간"},{"$f":"IF(달력!$S$29=\"순서1\",근무!D129,IF(달력!$S$29=\"순서2\",근무!E129,IF(달력!$S$29=\"순서3\",근무!F129,IF(달력!$S$29=\"순서4\",근무!G129,IF(달력!$S$29=\"순서5\",근무!H129,IF(달력!$S$29=\"순서6\",근무!I129,\"\"))))))","v":"주간"},null,"비번",5,{"$f":"COUNTIFS(일정1내용,$K129,$L$7:$L$372,5)","v":10},{"$f":"COUNTIFS(일정2내용,$K129,$L$7:$L$372,5)","v":10},{"$f":"COUNTIFS(일정3내용,$K129,$L$7:$L$372,5)","v":10},{"$f":"COUNTIFS(일정4내용,$K129,$L$7:$L$372,5)","v":10},{"$f":"COUNTIFS(일정5내용,$K129,$L$7:$L$372,5)","v":11},{"$f":"COUNTIFS(일정6내용,$K129,$L$7:$L$372,5)","v":11}]
[null,"2023-05-04","목",{"$f":"IF(달력!$S$24=\"순서1\",근무!D130,IF(달력!$S$24=\"순서2\",근무!E130,IF(달력!$S$24=\"순서3\",근무!F130,IF(달력!$S$24=\"순서4\",근무!G130,IF(달력!$S$24=\"순서5\",근무!H130,IF(달력!$S$24=\"순서6\",근무!I130,\"\"))))))","v":"야간"},{"$f":"IF(달력!$S$25=\"순서1\",근무!D130,IF(달력!$S$25=\"순서2\",근무!E130,IF(달력!$S$25=\"순서3\",근무!F130,IF(달력!$S$25=\"순서4\",근무!G130,IF(달력!$S$25=\"순서5\",근무!H130,IF(달력!$S$25=\"순서6\",근무!I130,\"\"))))))","v":"야간"},{"$f":"IF(달력!$S$26=\"순서1\",근무!D130,IF(달력!$S$26=\"순서2\",근무!E130,IF(달력!$S$26=\"순서3\",근무!F130,IF(달력!$S$26=\"순서4\",근무!G130,IF(달력!$S$26=\"순서5\",근무!H130,IF(달력!$S$26=\"순서6\",근무!I130,\"\"))))))","v":"비번"},{"$f":"IF(달력!$S$27=\"순서1\",근무!D130,IF(달력!$S$27=\"순서2\",근무!E130,IF(달력!$S$27=\"순서3\",근무!F130,IF(달력!$S$27=\"순서4\",근무!G130,IF(달력!$S$27=\"순서5\",근무!H130,IF(달력!$S$27=\"순서6\",근무!I130,\"\"))))))","v":"비번"},{"$f":"IF(달력!$S$28=\"순서1\",근무!D130,IF(달력!$S$28=\"순서2\",근무!E130,IF(달력!$S$28=\"순서3\",근무!F130,IF(달력!$S$28=\"순서4\",근무!G130,IF(달력!$S$28=\"순서5\",근무!H130,IF(달력!$S$28=\"순서6\",근무!I130,\"\"))))))","v":"주간"},{"$f":"IF(달력!$S$29=\"순서1\",근무!D130,IF(달력!$S$29=\"순서2\",근무!E130,IF(달력!$S$29=\"순서3\",근무!F130,IF(달력!$S$29=\"순서4\",근무!G130,IF(달력!$S$29=\"순서5\",근무!H130,IF(달력!$S$29=\"순서6\",근무!I130,\"\"))))))","v":"주간"},null,"근무일 계",5,{"$f":"M127+M128","v":21},{"$f":"N127+N128","v":21},21,21,20,20]
[null,"2023-05-05","금",{"$f":"IF(달력!$S$24=\"순서1\",근무!D131,IF(달력!$S$24=\"순서2\",근무!E131,IF(달력!$S$24=\"순서3\",근무!F131,IF(달력!$S$24=\"순서4\",근무!G131,IF(달력!$S$24=\"순서5\",근무!H131,IF(달력!$S$24=\"순서6\",근무!I131,\"\"))))))","v":"비번"},{"$f":"IF(달력!$S$25=\"순서1\",근무!D131,IF(달력!$S$25=\"순서2\",근무!E131,IF(달력!$S$25=\"순서3\",근무!F131,IF(달력!$S$25=\"순서4\",근무!G131,IF(달력!$S$25=\"순서5\",근무!H131,IF(달력!$S$25=\"순서6\",근무!I131,\"\"))))))","v":"비번"},{"$f":"IF(달력!$S$26=\"순서1\",근무!D131,IF(달력!$S$26=\"순서2\",근무!E131,IF(달력!$S$26=\"순서3\",근무!F131,IF(달력!$S$26=\"순서4\",근무!G131,IF(달력!$S$26=\"순서5\",근무!H131,IF(달력!$S$26=\"순서6\",근무!I131,\"\"))))))","v":"주간"},{"$f":"IF(달력!$S$27=\"순서1\",근무!D131,IF(달력!$S$27=\"순서2\",근무!E131,IF(달력!$S$27=\"순서3\",근무!F131,IF(달력!$S$27=\"순서4\",근무!G131,IF(달력!$S$27=\"순서5\",근무!H131,IF(달력!$S$27=\"순서6\",근무!I131,\"\"))))))","v":"주간"},{"$f":"IF(달력!$S$28=\"순서1\",근무!D131,IF(달력!$S$28=\"순서2\",근무!E131,IF(달력!$S$28=\"순서3\",근무!F131,IF(달력!$S$28=\"순서4\",근무!G131,IF(달력!$S$28=\"순서5\",근무!H131,IF(달력!$S$28=\"순서6\",근무!I131,\"\"))))))","v":"야간"},{"$f":"IF(달력!$S$29=\"순서1\",근무!D131,IF(달력!$S$29=\"순서2\",근무!E131,IF(달력!$S$29=\"순서3\",근무!F131,IF(달력!$S$29=\"순서4\",근무!G131,IF(달력!$S$29=\"순서5\",근무!H131,IF(달력!$S$29=\"순서6\",근무!I131,\"\"))))))","v":"야간"},null,null,5]
[null,"2023-05-06","토",{"$f":"IF(달력!$S$24=\"순서1\",근무!D132,IF(달력!$S$24=\"순서2\",근무!E132,IF(달력!$S$24=\"순서3\",근무!F132,IF(달력!$S$24=\"순서4\",근무!G132,IF(달력!$S$24=\"순서5\",근무!H132,IF(달력!$S$24=\"순서6\",근무!I132,\"\"))))))","v":"비번"},{"$f":"IF(달력!$S$25=\"순서1\",근무!D132,IF(달력!$S$25=\"순서2\",근무!E132,IF(달력!$S$25=\"순서3\",근무!F132,IF(달력!$S$25=\"순서4\",근무!G132,IF(달력!$S$25=\"순서5\",근무!H132,IF(달력!$S$25=\"순서6\",근무!I132,\"\"))))))","v":"비번"},{"$f":"IF(달력!$S$26=\"순서1\",근무!D132,IF(달력!$S$26=\"순서2\",근무!E132,IF(달력!$S$26=\"순서3\",근무!F132,IF(달력!$S$26=\"순서4\",근무!G132,IF(달력!$S$26=\"순서5\",근무!H132,IF(달력!$S$26=\"순서6\",근무!I132,\"\"))))))","v":"주간"},{"$f":"IF(달력!$S$27=\"순서1\",근무!D132,IF(달력!$S$27=\"순서2\",근무!E132,IF(달력!$S$27=\"순서3\",근무!F132,IF(달력!$S$27=\"순서4\",근무!G132,IF(달력!$S$27=\"순서5\",근무!H132,IF(달력!$S$27=\"순서6\",근무!I132,\"\"))))))","v":"주간"},{"$f":"IF(달력!$S$28=\"순서1\",근무!D132,IF(달력!$S$28=\"순서2\",근무!E132,IF(달력!$S$28=\"순서3\",근무!F132,IF(달력!$S$28=\"순서4\",근무!G132,IF(달력!$S$28=\"순서5\",근무!H132,IF(달력!$S$28=\"순서6\",근무!I132,\"\"))))))","v":"야간"},{"$f":"IF(달력!$S$29=\"순서1\",근무!D132,IF(달력!$S$29=\"순서2\",근무!E132,IF(달력!$S$29=\"순서3\",근무!F132,IF(달력!$S$29=\"순서4\",근무!G132,IF(달력!$S$29=\"순서5\",근무!H132,IF(달력!$S$29=\"순서6\",근무!I132,\"\"))))))","v":"야간"},null,null,5]
[null,"2023-05-07","일",{"$f":"IF(달력!$S$24=\"순서1\",근무!D133,IF(달력!$S$24=\"순서2\",근무!E133,IF(달력!$S$24=\"순서3\",근무!F133,IF(달력!$S$24=\"순서4\",근무!G133,IF(달력!$S$24=\"순서5\",근무!H133,IF(달력!$S$24=\"순서6\",근무!I133,\"\"))))))","v":"주간"},{"$f":"IF(달력!$S$25=\"순서1\",근무!D133,IF(달력!$S$25=\"순서2\",근무!E133,IF(달력!$S$25=\"순서3\",근무!F133,IF(달력!$S$25=\"순서4\",근무!G133,IF(달력!$S$25=\"순서5\",근무!H133,IF(달력!$S$25=\"순서6\",근무!I133,\"\"))))))","v":"주간"},{"$f":"IF(달력!$S$26=\"순서1\",근무!D133,IF(달력!$S$26=\"순서2\",근무!E133,IF(달력!$S$26=\"순서3\",근무!F133,IF(달력!$S$26=\"순서4\",근무!G133,IF(달력!$S$26=\"순서5\",근무!H133,IF(달력!$S$26=\"순서6\",근무!I133,\"\"))))))","v":"야간"},{"$f":"IF(달력!$S$27=\"순서1\",근무!D133,IF(달력!$S$27=\"순서2\",근무!E133,IF(달력!$S$27=\"순서3\",근무!F133,IF(달력!$S$27=\"순서4\",근무!G133,IF(달력!$S$27=\"순서5\",근무!H133,IF(달력!$S$27=\"순서6\",근무!I133,\"\"))))))","v":"야간"},{"$f":"IF(달력!$S$28=\"순서1\",근무!D133,IF(달력!$S$28=\"순서2\",근무!E133,IF(달력!$S$28=\"순서3\",근무!F133,IF(달력!$S$28=\"순서4\",근무!G133,IF(달력!$S$28=\"순서5\",근무!H133,IF(달력!$S$28=\"순서6\",근무!I133,\"\"))))))","v":"비번"},{"$f":"IF(달력!$S$29=\"순서1\",근무!D133,IF(달력!$S$29=\"순서2\",근무!E133,IF(달력!$S$29=\"순서3\",근무!F133,IF(달력!$S$29=\"순서4\",근무!G133,IF(달력!$S$29=\"순서5\",근무!H133,IF(달력!$S$29=\"순서6\",근무!I133,\"\"))))))","v":"비번"},null,null,5]
[null,"2023-05-08","월",{"$f":"IF(달력!$S$24=\"순서1\",근무!D134,IF(달력!$S$24=\"순서2\",근무!E134,IF(달력!$S$24=\"순서3\",근무!F134,IF(달력!$S$24=\"순서4\",근무!G134,IF(달력!$S$24=\"순서5\",근무!H134,IF(달력!$S$24=\"순서6\",근무!I134,\"\"))))))","v":"주간"},{"$f":"IF(달력!$S$25=\"순서1\",근무!D134,IF(달력!$S$25=\"순서2\",근무!E134,IF(달력!$S$25=\"순서3\",근무!F134,IF(달력!$S$25=\"순서4\",근무!G134,IF(달력!$S$25=\"순서5\",근무!H134,IF(달력!$S$25=\"순서6\",근무!I134,\"\"))))))","v":"주간"},{"$f":"IF(달력!$S$26=\"순서1\",근무!D134,IF(달력!$S$26=\"순서2\",근무!E134,IF(달력!$S$26=\"순서3\",근무!F134,IF(달력!$S$26=\"순서4\",근무!G134,IF(달력!$S$26=\"순서5\",근무!H134,IF(달력!$S$26=\"순서6\",근무!I134,\"\"))))))","v":"야간"},{"$f":"IF(달력!$S$27=\"순서1\",근무!D134,IF(달력!$S$27=\"순서2\",근무!E134,IF(달력!$S$27=\"순서3\",근무!F134,IF(달력!$S$27=\"순서4\",근무!G134,IF(달력!$S$27=\"순서5\",근무!H134,IF(달력!$S$27=\"순서6\",근무!I134,\"\"))))))","v":"야간"},{"$f":"IF(달력!$S$28=\"순서1\",근무!D134,IF(달력!$S$28=\"순서2\",근무!E134,IF(달력!$S$28=\"순서3\",근무!F134,IF(달력!$S$28=\"순서4\",근무!G134,IF(달력!$S$28=\"순서5\",근무!H134,IF(달력!$S$28=\"순서6\",근무!I134,\"\"))))))","v":"비번"},{"$f":"IF(달력!$S$29=\"순서1\",근무!D134,IF(달력!$S$29=\"순서2\",근무!E134,IF(달력!$S$29=\"순서3\",근무!F134,IF(달력!$S$29=\"순서4\",근무!G134,IF(달력!$S$29=\"순서5\",근무!H134,IF(달력!$S$29=\"순서6\",근무!I134,\"\"))))))","v":"비번"},null,null,5]
[null,"2023-05-09","화",{"$f":"IF(달력!$S$24=\"순서1\",근무!D135,IF(달력!$S$24=\"순서2\",근무!E135,IF(달력!$S$24=\"순서3\",근무!F135,IF(달력!$S$24=\"순서4\",근무!G135,IF(달력!$S$24=\"순서5\",근무!H135,IF(달력!$S$24=\"순서6\",근무!I135,\"\"))))))","v":"야간"},{"$f":"IF(달력!$S$25=\"순서1\",근무!D135,IF(달력!$S$25=\"순서2\",근무!E135,IF(달력!$S$25=\"순서3\",근무!F135,IF(달력!$S$25=\"순서4\",근무!G135,IF(달력!$S$25=\"순서5\",근무!H135,IF(달력!$S$25=\"순서6\",근무!I135,\"\"))))))","v":"야간"},{"$f":"IF(달력!$S$26=\"순서1\",근무!D135,IF(달력!$S$26=\"순서2\",근무!E135,IF(달력!$S$26=\"순서3\",근무!F135,IF(달력!$S$26=\"순서4\",근무!G135,IF(달력!$S$26=\"순서5\",근무!H135,IF(달력!$S$26=\"순서6\",근무!I135,\"\"))))))","v":"비번"},{"$f":"IF(달력!$S$27=\"순서1\",근무!D135,IF(달력!$S$27=\"순서2\",근무!E135,IF(달력!$S$27=\"순서3\",근무!F135,IF(달력!$S$27=\"순서4\",근무!G135,IF(달력!$S$27=\"순서5\",근무!H135,IF(달력!$S$27=\"순서6\",근무!I135,\"\"))))))","v":"비번"},{"$f":"IF(달력!$S$28=\"순서1\",근무!D135,IF(달력!$S$28=\"순서2\",근무!E135,IF(달력!$S$28=\"순서3\",근무!F135,IF(달력!$S$28=\"순서4\",근무!G135,IF(달력!$S$28=\"순서5\",근무!H135,IF(달력!$S$28=\"순서6\",근무!I135,\"\"))))))","v":"주간"},{"$f":"IF(달력!$S$29=\"순서1\",근무!D135,IF(달력!$S$29=\"순서2\",근무!E135,IF(달력!$S$29=\"순서3\",근무!F135,IF(달력!$S$29=\"순서4\",근무!G135,IF(달력!$S$29=\"순서5\",근무!H135,IF(달력!$S$29=\"순서6\",근무!I135,\"\"))))))","v":"주간"},null,null,5]
[null,"2023-05-10",{"$f":"CHOOSE(WEEKDAY(B136,1),\"일\",\"월\",\"화\",\"수\",\"목\",\"금\",\"토\")","v":"수"},{"$f":"IF(달력!$S$24=\"순서1\",근무!D136,IF(달력!$S$24=\"순서2\",근무!E136,IF(달력!$S$24=\"순서3\",근무!F136,IF(달력!$S$24=\"순서4\",근무!G136,IF(달력!$S$24=\"순서5\",근무!H136,IF(달력!$S$24=\"순서6\",근무!I136,\"\"))))))","v":"야간"},{"$f":"IF(달력!$S$25=\"순서1\",근무!D136,IF(달력!$S$25=\"순서2\",근무!E136,IF(달력!$S$25=\"순서3\",근무!F136,IF(달력!$S$25=\"순서4\",근무!G136,IF(달력!$S$25=\"순서5\",근무!H136,IF(달력!$S$25=\"순서6\",근무!I136,\"\"))))))","v":"야간"},{"$f":"IF(달력!$S$26=\"순서1\",근무!D136,IF(달력!$S$26=\"순서2\",근무!E136,IF(달력!$S$26=\"순서3\",근무!F136,IF(달력!$S$26=\"순서4\",근무!G136,IF(달력!$S$26=\"순서5\",근무!H136,IF(달력!$S$26=\"순서6\",근무!I136,\"\"))))))","v":"비번"},{"$f":"IF(달력!$S$27=\"순서1\",근무!D136,IF(달력!$S$27=\"순서2\",근무!E136,IF(달력!$S$27=\"순서3\",근무!F136,IF(달력!$S$27=\"순서4\",근무!G136,IF(달력!$S$27=\"순서5\",근무!H136,IF(달력!$S$27=\"순서6\",근무!I136,\"\"))))))","v":"비번"},{"$f":"IF(달력!$S$28=\"순서1\",근무!D136,IF(달력!$S$28=\"순서2\",근무!E136,IF(달력!$S$28=\"순서3\",근무!F136,IF(달력!$S$28=\"순서4\",근무!G136,IF(달력!$S$28=\"순서5\",근무!H136,IF(달력!$S$28=\"순서6\",근무!I136,\"\"))))))","v":"주간"},{"$f":"IF(달력!$S$29=\"순서1\",근무!D136,IF(달력!$S$29=\"순서2\",근무!E136,IF(달력!$S$29=\"순서3\",근무!F136,IF(달력!$S$29=\"순서4\",근무!G136,IF(달력!$S$29=\"순서5\",근무!H136,IF(달력!$S$29=\"순서6\",근무!I136,\"\"))))))","v":"주간"},null,null,{"$f":"MONTH(B136)","v":5}]
[null,{"$f":"B136+1","v":"2023-05-11"},"목",{"$f":"IF(달력!$S$24=\"순서1\",근무!D137,IF(달력!$S$24=\"순서2\",근무!E137,IF(달력!$S$24=\"순서3\",근무!F137,IF(달력!$S$24=\"순서4\",근무!G137,IF(달력!$S$24=\"순서5\",근무!H137,IF(달력!$S$24=\"순서6\",근무!I137,\"\"))))))","v":"비번"},{"$f":"IF(달력!$S$25=\"순서1\",근무!D137,IF(달력!$S$25=\"순서2\",근무!E137,IF(달력!$S$25=\"순서3\",근무!F137,IF(달력!$S$25=\"순서4\",근무!G137,IF(달력!$S$25=\"순서5\",근무!H137,IF(달력!$S$25=\"순서6\",근무!I137,\"\"))))))","v":"비번"},{"$f":"IF(달력!$S$26=\"순서1\",근무!D137,IF(달력!$S$26=\"순서2\",근무!E137,IF(달력!$S$26=\"순서3\",근무!F137,IF(달력!$S$26=\"순서4\",근무!G137,IF(달력!$S$26=\"순서5\",근무!H137,IF(달력!$S$26=\"순서6\",근무!I137,\"\"))))))","v":"주간"},{"$f":"IF(달력!$S$27=\"순서1\",근무!D137,IF(달력!$S$27=\"순서2\",근무!E137,IF(달력!$S$27=\"순서3\",근무!F137,IF(달력!$S$27=\"순서4\",근무!G137,IF(달력!$S$27=\"순서5\",근무!H137,IF(달력!$S$27=\"순서6\",근무!I137,\"\"))))))","v":"주간"},{"$f":"IF(달력!$S$28=\"순서1\",근무!D137,IF(달력!$S$28=\"순서2\",근무!E137,IF(달력!$S$28=\"순서3\",근무!F137,IF(달력!$S$28=\"순서4\",근무!G137,IF(달력!$S$28=\"순서5\",근무!H137,IF(달력!$S$28=\"순서6\",근무!I137,\"\"))))))","v":"야간"},{"$f":"IF(달력!$S$29=\"순서1\",근무!D137,IF(달력!$S$29=\"순서2\",근무!E137,IF(달력!$S$29=\"순서3\",근무!F137,IF(달력!$S$29=\"순서4\",근무!G137,IF(달력!$S$29=\"순서5\",근무!H137,IF(달력!$S$29=\"순서6\",근무!I137,\"\"))))))","v":"야간"},null,null,5]
[null,"2023-05-12","금",{"$f":"IF(달력!$S$24=\"순서1\",근무!D138,IF(달력!$S$24=\"순서2\",근무!E138,IF(달력!$S$24=\"순서3\",근무!F138,IF(달력!$S$24=\"순서4\",근무!G138,IF(달력!$S$24=\"순서5\",근무!H138,IF(달력!$S$24=\"순서6\",근무!I138,\"\"))))))","v":"비번"},{"$f":"IF(달력!$S$25=\"순서1\",근무!D138,IF(달력!$S$25=\"순서2\",근무!E138,IF(달력!$S$25=\"순서3\",근무!F138,IF(달력!$S$25=\"순서4\",근무!G138,IF(달력!$S$25=\"순서5\",근무!H138,IF(달력!$S$25=\"순서6\",근무!I138,\"\"))))))","v":"비번"},{"$f":"IF(달력!$S$26=\"순서1\",근무!D138,IF(달력!$S$26=\"순서2\",근무!E138,IF(달력!$S$26=\"순서3\",근무!F138,IF(달력!$S$26=\"순서4\",근무!G138,IF(달력!$S$26=\"순서5\",근무!H138,IF(달력!$S$26=\"순서6\",근무!I138,\"\"))))))","v":"주간"},{"$f":"IF(달력!$S$27=\"순서1\",근무!D138,IF(달력!$S$27=\"순서2\",근무!E138,IF(달력!$S$27=\"순서3\",근무!F138,IF(달력!$S$27=\"순서4\",근무!G138,IF(달력!$S$27=\"순서5\",근무!H138,IF(달력!$S$27=\"순서6\",근무!I138,\"\"))))))","v":"주간"},{"$f":"IF(달력!$S$28=\"순서1\",근무!D138,IF(달력!$S$28=\"순서2\",근무!E138,IF(달력!$S$28=\"순서3\",근무!F138,IF(달력!$S$28=\"순서4\",근무!G138,IF(달력!$S$28=\"순서5\",근무!H138,IF(달력!$S$28=\"순서6\",근무!I138,\"\"))))))","v":"야간"},{"$f":"IF(달력!$S$29=\"순서1\",근무!D138,IF(달력!$S$29=\"순서2\",근무!E138,IF(달력!$S$29=\"순서3\",근무!F138,IF(달력!$S$29=\"순서4\",근무!G138,IF(달력!$S$29=\"순서5\",근무!H138,IF(달력!$S$29=\"순서6\",근무!I138,\"\"))))))","v":"야간"},null,null,5]
[null,"2023-05-13","토",{"$f":"IF(달력!$S$24=\"순서1\",근무!D139,IF(달력!$S$24=\"순서2\",근무!E139,IF(달력!$S$24=\"순서3\",근무!F139,IF(달력!$S$24=\"순서4\",근무!G139,IF(달력!$S$24=\"순서5\",근무!H139,IF(달력!$S$24=\"순서6\",근무!I139,\"\"))))))","v":"주간"},{"$f":"IF(달력!$S$25=\"순서1\",근무!D139,IF(달력!$S$25=\"순서2\",근무!E139,IF(달력!$S$25=\"순서3\",근무!F139,IF(달력!$S$25=\"순서4\",근무!G139,IF(달력!$S$25=\"순서5\",근무!H139,IF(달력!$S$25=\"순서6\",근무!I139,\"\"))))))","v":"주간"},{"$f":"IF(달력!$S$26=\"순서1\",근무!D139,IF(달력!$S$26=\"순서2\",근무!E139,IF(달력!$S$26=\"순서3\",근무!F139,IF(달력!$S$26=\"순서4\",근무!G139,IF(달력!$S$26=\"순서5\",근무!H139,IF(달력!$S$26=\"순서6\",근무!I139,\"\"))))))","v":"야간"},{"$f":"IF(달력!$S$27=\"순서1\",근무!D139,IF(달력!$S$27=\"순서2\",근무!E139,IF(달력!$S$27=\"순서3\",근무!F139,IF(달력!$S$27=\"순서4\",근무!G139,IF(달력!$S$27=\"순서5\",근무!H139,IF(달력!$S$27=\"순서6\",근무!I139,\"\"))))))","v":"야간"},{"$f":"IF(달력!$S$28=\"순서1\",근무!D139,IF(달력!$S$28=\"순서2\",근무!E139,IF(달력!$S$28=\"순서3\",근무!F139,IF(달력!$S$28=\"순서4\",근무!G139,IF(달력!$S$28=\"순서5\",근무!H139,IF(달력!$S$28=\"순서6\",근무!I139,\"\"))))))","v":"비번"},{"$f":"IF(달력!$S$29=\"순서1\",근무!D139,IF(달력!$S$29=\"순서2\",근무!E139,IF(달력!$S$29=\"순서3\",근무!F139,IF(달력!$S$29=\"순서4\",근무!G139,IF(달력!$S$29=\"순서5\",근무!H139,IF(달력!$S$29=\"순서6\",근무!I139,\"\"))))))","v":"비번"},null,null,5]
[null,"2023-05-14","일",{"$f":"IF(달력!$S$24=\"순서1\",근무!D140,IF(달력!$S$24=\"순서2\",근무!E140,IF(달력!$S$24=\"순서3\",근무!F140,IF(달력!$S$24=\"순서4\",근무!G140,IF(달력!$S$24=\"순서5\",근무!H140,IF(달력!$S$24=\"순서6\",근무!I140,\"\"))))))","v":"주간"},{"$f":"IF(달력!$S$25=\"순서1\",근무!D140,IF(달력!$S$25=\"순서2\",근무!E140,IF(달력!$S$25=\"순서3\",근무!F140,IF(달력!$S$25=\"순서4\",근무!G140,IF(달력!$S$25=\"순서5\",근무!H140,IF(달력!$S$25=\"순서6\",근무!I140,\"\"))))))","v":"주간"},{"$f":"IF(달력!$S$26=\"순서1\",근무!D140,IF(달력!$S$26=\"순서2\",근무!E140,IF(달력!$S$26=\"순서3\",근무!F140,IF(달력!$S$26=\"순서4\",근무!G140,IF(달력!$S$26=\"순서5\",근무!H140,IF(달력!$S$26=\"순서6\",근무!I140,\"\"))))))","v":"야간"},{"$f":"IF(달력!$S$27=\"순서1\",근무!D140,IF(달력!$S$27=\"순서2\",근무!E140,IF(달력!$S$27=\"순서3\",근무!F140,IF(달력!$S$27=\"순서4\",근무!G140,IF(달력!$S$27=\"순서5\",근무!H140,IF(달력!$S$27=\"순서6\",근무!I140,\"\"))))))","v":"야간"},{"$f":"IF(달력!$S$28=\"순서1\",근무!D140,IF(달력!$S$28=\"순서2\",근무!E140,IF(달력!$S$28=\"순서3\",근무!F140,IF(달력!$S$28=\"순서4\",근무!G140,IF(달력!$S$28=\"순서5\",근무!H140,IF(달력!$S$28=\"순서6\",근무!I140,\"\"))))))","v":"비번"},{"$f":"IF(달력!$S$29=\"순서1\",근무!D140,IF(달력!$S$29=\"순서2\",근무!E140,IF(달력!$S$29=\"순서3\",근무!F140,IF(달력!$S$29=\"순서4\",근무!G140,IF(달력!$S$29=\"순서5\",근무!H140,IF(달력!$S$29=\"순서6\",근무!I140,\"\"))))))","v":"비번"},null,null,5]
[null,"2023-05-15","월",{"$f":"IF(달력!$S$24=\"순서1\",근무!D141,IF(달력!$S$24=\"순서2\",근무!E141,IF(달력!$S$24=\"순서3\",근무!F141,IF(달력!$S$24=\"순서4\",근무!G141,IF(달력!$S$24=\"순서5\",근무!H141,IF(달력!$S$24=\"순서6\",근무!I141,\"\"))))))","v":"야간"},{"$f":"IF(달력!$S$25=\"순서1\",근무!D141,IF(달력!$S$25=\"순서2\",근무!E141,IF(달력!$S$25=\"순서3\",근무!F141,IF(달력!$S$25=\"순서4\",근무!G141,IF(달력!$S$25=\"순서5\",근무!H141,IF(달력!$S$25=\"순서6\",근무!I141,\"\"))))))","v":"야간"},{"$f":"IF(달력!$S$26=\"순서1\",근무!D141,IF(달력!$S$26=\"순서2\",근무!E141,IF(달력!$S$26=\"순서3\",근무!F141,IF(달력!$S$26=\"순서4\",근무!G141,IF(달력!$S$26=\"순서5\",근무!H141,IF(달력!$S$26=\"순서6\",근무!I141,\"\"))))))","v":"비번"},{"$f":"IF(달력!$S$27=\"순서1\",근무!D141,IF(달력!$S$27=\"순서2\",근무!E141,IF(달력!$S$27=\"순서3\",근무!F141,IF(달력!$S$27=\"순서4\",근무!G141,IF(달력!$S$27=\"순서5\",근무!H141,IF(달력!$S$27=\"순서6\",근무!I141,\"\"))))))","v":"비번"},{"$f":"IF(달력!$S$28=\"순서1\",근무!D141,IF(달력!$S$28=\"순서2\",근무!E141,IF(달력!$S$28=\"순서3\",근무!F141,IF(달력!$S$28=\"순서4\",근무!G141,IF(달력!$S$28=\"순서5\",근무!H141,IF(달력!$S$28=\"순서6\",근무!I141,\"\"))))))","v":"주간"},{"$f":"IF(달력!$S$29=\"순서1\",근무!D141,IF(달력!$S$29=\"순서2\",근무!E141,IF(달력!$S$29=\"순서3\",근무!F141,IF(달력!$S$29=\"순서4\",근무!G141,IF(달력!$S$29=\"순서5\",근무!H141,IF(달력!$S$29=\"순서6\",근무!I141,\"\"))))))","v":"주간"},null,null,5]
[null,"2023-05-16","화",{"$f":"IF(달력!$S$24=\"순서1\",근무!D142,IF(달력!$S$24=\"순서2\",근무!E142,IF(달력!$S$24=\"순서3\",근무!F142,IF(달력!$S$24=\"순서4\",근무!G142,IF(달력!$S$24=\"순서5\",근무!H142,IF(달력!$S$24=\"순서6\",근무!I142,\"\"))))))","v":"야간"},{"$f":"IF(달력!$S$25=\"순서1\",근무!D142,IF(달력!$S$25=\"순서2\",근무!E142,IF(달력!$S$25=\"순서3\",근무!F142,IF(달력!$S$25=\"순서4\",근무!G142,IF(달력!$S$25=\"순서5\",근무!H142,IF(달력!$S$25=\"순서6\",근무!I142,\"\"))))))","v":"야간"},{"$f":"IF(달력!$S$26=\"순서1\",근무!D142,IF(달력!$S$26=\"순서2\",근무!E142,IF(달력!$S$26=\"순서3\",근무!F142,IF(달력!$S$26=\"순서4\",근무!G142,IF(달력!$S$26=\"순서5\",근무!H142,IF(달력!$S$26=\"순서6\",근무!I142,\"\"))))))","v":"비번"},{"$f":"IF(달력!$S$27=\"순서1\",근무!D142,IF(달력!$S$27=\"순서2\",근무!E142,IF(달력!$S$27=\"순서3\",근무!F142,IF(달력!$S$27=\"순서4\",근무!G142,IF(달력!$S$27=\"순서5\",근무!H142,IF(달력!$S$27=\"순서6\",근무!I142,\"\"))))))","v":"비번"},{"$f":"IF(달력!$S$28=\"순서1\",근무!D142,IF(달력!$S$28=\"순서2\",근무!E142,IF(달력!$S$28=\"순서3\",근무!F142,IF(달력!$S$28=\"순서4\",근무!G142,IF(달력!$S$28=\"순서5\",근무!H142,IF(달력!$S$28=\"순서6\",근무!I142,\"\"))))))","v":"주간"},{"$f":"IF(달력!$S$29=\"순서1\",근무!D142,IF(달력!$S$29=\"순서2\",근무!E142,IF(달력!$S$29=\"순서3\",근무!F142,IF(달력!$S$29=\"순서4\",근무!G142,IF(달력!$S$29=\"순서5\",근무!H142,IF(달력!$S$29=\"순서6\",근무!I142,\"\"))))))","v":"주간"},null,null,5]
[null,"2023-05-17","수",{"$f":"IF(달력!$S$24=\"순서1\",근무!D143,IF(달력!$S$24=\"순서2\",근무!E143,IF(달력!$S$24=\"순서3\",근무!F143,IF(달력!$S$24=\"순서4\",근무!G143,IF(달력!$S$24=\"순서5\",근무!H143,IF(달력!$S$24=\"순서6\",근무!I143,\"\"))))))","v":"비번"},{"$f":"IF(달력!$S$25=\"순서1\",근무!D143,IF(달력!$S$25=\"순서2\",근무!E143,IF(달력!$S$25=\"순서3\",근무!F143,IF(달력!$S$25=\"순서4\",근무!G143,IF(달력!$S$25=\"순서5\",근무!H143,IF(달력!$S$25=\"순서6\",근무!I143,\"\"))))))","v":"비번"},{"$f":"IF(달력!$S$26=\"순서1\",근무!D143,IF(달력!$S$26=\"순서2\",근무!E143,IF(달력!$S$26=\"순서3\",근무!F143,IF(달력!$S$26=\"순서4\",근무!G143,IF(달력!$S$26=\"순서5\",근무!H143,IF(달력!$S$26=\"순서6\",근무!I143,\"\"))))))","v":"주간"},{"$f":"IF(달력!$S$27=\"순서1\",근무!D143,IF(달력!$S$27=\"순서2\",근무!E143,IF(달력!$S$27=\"순서3\",근무!F143,IF(달력!$S$27=\"순서4\",근무!G143,IF(달력!$S$27=\"순서5\",근무!H143,IF(달력!$S$27=\"순서6\",근무!I143,\"\"))))))","v":"주간"},{"$f":"IF(달력!$S$28=\"순서1\",근무!D143,IF(달력!$S$28=\"순서2\",근무!E143,IF(달력!$S$28=\"순서3\",근무!F143,IF(달력!$S$28=\"순서4\",근무!G143,IF(달력!$S$28=\"순서5\",근무!H143,IF(달력!$S$28=\"순서6\",근무!I143,\"\"))))))","v":"야간"},{"$f":"IF(달력!$S$29=\"순서1\",근무!D143,IF(달력!$S$29=\"순서2\",근무!E143,IF(달력!$S$29=\"순서3\",근무!F143,IF(달력!$S$29=\"순서4\",근무!G143,IF(달력!$S$29=\"순서5\",근무!H143,IF(달력!$S$29=\"순서6\",근무!I143,\"\"))))))","v":"야간"},null,null,5]
[null,"2023-05-18","목",{"$f":"IF(달력!$S$24=\"순서1\",근무!D144,IF(달력!$S$24=\"순서2\",근무!E144,IF(달력!$S$24=\"순서3\",근무!F144,IF(달력!$S$24=\"순서4\",근무!G144,IF(달력!$S$24=\"순서5\",근무!H144,IF(달력!$S$24=\"순서6\",근무!I144,\"\"))))))","v":"비번"},{"$f":"IF(달력!$S$25=\"순서1\",근무!D144,IF(달력!$S$25=\"순서2\",근무!E144,IF(달력!$S$25=\"순서3\",근무!F144,IF(달력!$S$25=\"순서4\",근무!G144,IF(달력!$S$25=\"순서5\",근무!H144,IF(달력!$S$25=\"순서6\",근무!I144,\"\"))))))","v":"비번"},{"$f":"IF(달력!$S$26=\"순서1\",근무!D144,IF(달력!$S$26=\"순서2\",근무!E144,IF(달력!$S$26=\"순서3\",근무!F144,IF(달력!$S$26=\"순서4\",근무!G144,IF(달력!$S$26=\"순서5\",근무!H144,IF(달력!$S$26=\"순서6\",근무!I144,\"\"))))))","v":"주간"},{"$f":"IF(달력!$S$27=\"순서1\",근무!D144,IF(달력!$S$27=\"순서2\",근무!E144,IF(달력!$S$27=\"순서3\",근무!F144,IF(달력!$S$27=\"순서4\",근무!G144,IF(달력!$S$27=\"순서5\",근무!H144,IF(달력!$S$27=\"순서6\",근무!I144,\"\"))))))","v":"주간"},{"$f":"IF(달력!$S$28=\"순서1\",근무!D144,IF(달력!$S$28=\"순서2\",근무!E144,IF(달력!$S$28=\"순서3\",근무!F144,IF(달력!$S$28=\"순서4\",근무!G144,IF(달력!$S$28=\"순서5\",근무!H144,IF(달력!$S$28=\"순서6\",근무!I144,\"\"))))))","v":"야간"},{"$f":"IF(달력!$S$29=\"순서1\",근무!D144,IF(달력!$S$29=\"순서2\",근무!E144,IF(달력!$S$29=\"순서3\",근무!F144,IF(달력!$S$29=\"순서4\",근무!G144,IF(달력!$S$29=\"순서5\",근무!H144,IF(달력!$S$29=\"순서6\",근무!I144,\"\"))))))","v":"야간"},null,null,5]
[null,"2023-05-19","금",{"$f":"IF(달력!$S$24=\"순서1\",근무!D145,IF(달력!$S$24=\"순서2\",근무!E145,IF(달력!$S$24=\"순서3\",근무!F145,IF(달력!$S$24=\"순서4\",근무!G145,IF(달력!$S$24=\"순서5\",근무!H145,IF(달력!$S$24=\"순서6\",근무!I145,\"\"))))))","v":"주간"},{"$f":"IF(달력!$S$25=\"순서1\",근무!D145,IF(달력!$S$25=\"순서2\",근무!E145,IF(달력!$S$25=\"순서3\",근무!F145,IF(달력!$S$25=\"순서4\",근무!G145,IF(달력!$S$25=\"순서5\",근무!H145,IF(달력!$S$25=\"순서6\",근무!I145,\"\"))))))","v":"주간"},{"$f":"IF(달력!$S$26=\"순서1\",근무!D145,IF(달력!$S$26=\"순서2\",근무!E145,IF(달력!$S$26=\"순서3\",근무!F145,IF(달력!$S$26=\"순서4\",근무!G145,IF(달력!$S$26=\"순서5\",근무!H145,IF(달력!$S$26=\"순서6\",근무!I145,\"\"))))))","v":"야간"},{"$f":"IF(달력!$S$27=\"순서1\",근무!D145,IF(달력!$S$27=\"순서2\",근무!E145,IF(달력!$S$27=\"순서3\",근무!F145,IF(달력!$S$27=\"순서4\",근무!G145,IF(달력!$S$27=\"순서5\",근무!H145,IF(달력!$S$27=\"순서6\",근무!I145,\"\"))))))","v":"야간"},{"$f":"IF(달력!$S$28=\"순서1\",근무!D145,IF(달력!$S$28=\"순서2\",근무!E145,IF(달력!$S$28=\"순서3\",근무!F145,IF(달력!$S$28=\"순서4\",근무!G145,IF(달력!$S$28=\"순서5\",근무!H145,IF(달력!$S$28=\"순서6\",근무!I145,\"\"))))))","v":"비번"},{"$f":"IF(달력!$S$29=\"순서1\",근무!D145,IF(달력!$S$29=\"순서2\",근무!E145,IF(달력!$S$29=\"순서3\",근무!F145,IF(달력!$S$29=\"순서4\",근무!G145,IF(달력!$S$29=\"순서5\",근무!H145,IF(달력!$S$29=\"순서6\",근무!I145,\"\"))))))","v":"비번"},null,null,5]
[null,"2023-05-20","토",{"$f":"IF(달력!$S$24=\"순서1\",근무!D146,IF(달력!$S$24=\"순서2\",근무!E146,IF(달력!$S$24=\"순서3\",근무!F146,IF(달력!$S$24=\"순서4\",근무!G146,IF(달력!$S$24=\"순서5\",근무!H146,IF(달력!$S$24=\"순서6\",근무!I146,\"\"))))))","v":"주간"},{"$f":"IF(달력!$S$25=\"순서1\",근무!D146,IF(달력!$S$25=\"순서2\",근무!E146,IF(달력!$S$25=\"순서3\",근무!F146,IF(달력!$S$25=\"순서4\",근무!G146,IF(달력!$S$25=\"순서5\",근무!H146,IF(달력!$S$25=\"순서6\",근무!I146,\"\"))))))","v":"주간"},{"$f":"IF(달력!$S$26=\"순서1\",근무!D146,IF(달력!$S$26=\"순서2\",근무!E146,IF(달력!$S$26=\"순서3\",근무!F146,IF(달력!$S$26=\"순서4\",근무!G146,IF(달력!$S$26=\"순서5\",근무!H146,IF(달력!$S$26=\"순서6\",근무!I146,\"\"))))))","v":"야간"},{"$f":"IF(달력!$S$27=\"순서1\",근무!D146,IF(달력!$S$27=\"순서2\",근무!E146,IF(달력!$S$27=\"순서3\",근무!F146,IF(달력!$S$27=\"순서4\",근무!G146,IF(달력!$S$27=\"순서5\",근무!H146,IF(달력!$S$27=\"순서6\",근무!I146,\"\"))))))","v":"야간"},{"$f":"IF(달력!$S$28=\"순서1\",근무!D146,IF(달력!$S$28=\"순서2\",근무!E146,IF(달력!$S$28=\"순서3\",근무!F146,IF(달력!$S$28=\"순서4\",근무!G146,IF(달력!$S$28=\"순서5\",근무!H146,IF(달력!$S$28=\"순서6\",근무!I146,\"\"))))))","v":"비번"},{"$f":"IF(달력!$S$29=\"순서1\",근무!D146,IF(달력!$S$29=\"순서2\",근무!E146,IF(달력!$S$29=\"순서3\",근무!F146,IF(달력!$S$29=\"순서4\",근무!G146,IF(달력!$S$29=\"순서5\",근무!H146,IF(달력!$S$29=\"순서6\",근무!I146,\"\"))))))","v":"비번"},null,null,5]
[null,"2023-05-21","일",{"$f":"IF(달력!$S$24=\"순서1\",근무!D147,IF(달력!$S$24=\"순서2\",근무!E147,IF(달력!$S$24=\"순서3\",근무!F147,IF(달력!$S$24=\"순서4\",근무!G147,IF(달력!$S$24=\"순서5\",근무!H147,IF(달력!$S$24=\"순서6\",근무!I147,\"\"))))))","v":"야간"},{"$f":"IF(달력!$S$25=\"순서1\",근무!D147,IF(달력!$S$25=\"순서2\",근무!E147,IF(달력!$S$25=\"순서3\",근무!F147,IF(달력!$S$25=\"순서4\",근무!G147,IF(달력!$S$25=\"순서5\",근무!H147,IF(달력!$S$25=\"순서6\",근무!I147,\"\"))))))","v":"야간"},{"$f":"IF(달력!$S$26=\"순서1\",근무!D147,IF(달력!$S$26=\"순서2\",근무!E147,IF(달력!$S$26=\"순서3\",근무!F147,IF(달력!$S$26=\"순서4\",근무!G147,IF(달력!$S$26=\"순서5\",근무!H147,IF(달력!$S$26=\"순서6\",근무!I147,\"\"))))))","v":"비번"},{"$f":"IF(달력!$S$27=\"순서1\",근무!D147,IF(달력!$S$27=\"순서2\",근무!E147,IF(달력!$S$27=\"순서3\",근무!F147,IF(달력!$S$27=\"순서4\",근무!G147,IF(달력!$S$27=\"순서5\",근무!H147,IF(달력!$S$27=\"순서6\",근무!I147,\"\"))))))","v":"비번"},{"$f":"IF(달력!$S$28=\"순서1\",근무!D147,IF(달력!$S$28=\"순서2\",근무!E147,IF(달력!$S$28=\"순서3\",근무!F147,IF(달력!$S$28=\"순서4\",근무!G147,IF(달력!$S$28=\"순서5\",근무!H147,IF(달력!$S$28=\"순서6\",근무!I147,\"\"))))))","v":"주간"},{"$f":"IF(달력!$S$29=\"순서1\",근무!D147,IF(달력!$S$29=\"순서2\",근무!E147,IF(달력!$S$29=\"순서3\",근무!F147,IF(달력!$S$29=\"순서4\",근무!G147,IF(달력!$S$29=\"순서5\",근무!H147,IF(달력!$S$29=\"순서6\",근무!I147,\"\"))))))","v":"주간"},null,null,5]
[null,"2023-05-22","월",{"$f":"IF(달력!$S$24=\"순서1\",근무!D148,IF(달력!$S$24=\"순서2\",근무!E148,IF(달력!$S$24=\"순서3\",근무!F148,IF(달력!$S$24=\"순서4\",근무!G148,IF(달력!$S$24=\"순서5\",근무!H148,IF(달력!$S$24=\"순서6\",근무!I148,\"\"))))))","v":"야간"},{"$f":"IF(달력!$S$25=\"순서1\",근무!D148,IF(달력!$S$25=\"순서2\",근무!E148,IF(달력!$S$25=\"순서3\",근무!F148,IF(달력!$S$25=\"순서4\",근무!G148,IF(달력!$S$25=\"순서5\",근무!H148,IF(달력!$S$25=\"순서6\",근무!I148,\"\"))))))","v":"야간"},{"$f":"IF(달력!$S$26=\"순서1\",근무!D148,IF(달력!$S$26=\"순서2\",근무!E148,IF(달력!$S$26=\"순서3\",근무!F148,IF(달력!$S$26=\"순서4\",근무!G148,IF(달력!$S$26=\"순서5\",근무!H148,IF(달력!$S$26=\"순서6\",근무!I148,\"\"))))))","v":"비번"},{"$f":"IF(달력!$S$27=\"순서1\",근무!D148,IF(달력!$S$27=\"순서2\",근무!E148,IF(달력!$S$27=\"순서3\",근무!F148,IF(달력!$S$27=\"순서4\",근무!G148,IF(달력!$S$27=\"순서5\",근무!H148,IF(달력!$S$27=\"순서6\",근무!I148,\"\"))))))","v":"비번"},{"$f":"IF(달력!$S$28=\"순서1\",근무!D148,IF(달력!$S$28=\"순서2\",근무!E148,IF(달력!$S$28=\"순서3\",근무!F148,IF(달력!$S$28=\"순서4\",근무!G148,IF(달력!$S$28=\"순서5\",근무!H148,IF(달력!$S$28=\"순서6\",근무!I148,\"\"))))))","v":"주간"},{"$f":"IF(달력!$S$29=\"순서1\",근무!D148,IF(달력!$S$29=\"순서2\",근무!E148,IF(달력!$S$29=\"순서3\",근무!F148,IF(달력!$S$29=\"순서4\",근무!G148,IF(달력!$S$29=\"순서5\",근무!H148,IF(달력!$S$29=\"순서6\",근무!I148,\"\"))))))","v":"주간"},null,null,5]
[null,"2023-05-23","화",{"$f":"IF(달력!$S$24=\"순서1\",근무!D149,IF(달력!$S$24=\"순서2\",근무!E149,IF(달력!$S$24=\"순서3\",근무!F149,IF(달력!$S$24=\"순서4\",근무!G149,IF(달력!$S$24=\"순서5\",근무!H149,IF(달력!$S$24=\"순서6\",근무!I149,\"\"))))))","v":"비번"},{"$f":"IF(달력!$S$25=\"순서1\",근무!D149,IF(달력!$S$25=\"순서2\",근무!E149,IF(달력!$S$25=\"순서3\",근무!F149,IF(달력!$S$25=\"순서4\",근무!G149,IF(달력!$S$25=\"순서5\",근무!H149,IF(달력!$S$25=\"순서6\",근무!I149,\"\"))))))","v":"비번"},{"$f":"IF(달력!$S$26=\"순서1\",근무!D149,IF(달력!$S$26=\"순서2\",근무!E149,IF(달력!$S$26=\"순서3\",근무!F149,IF(달력!$S$26=\"순서4\",근무!G149,IF(달력!$S$26=\"순서5\",근무!H149,IF(달력!$S$26=\"순서6\",근무!I149,\"\"))))))","v":"주간"},{"$f":"IF(달력!$S$27=\"순서1\",근무!D149,IF(달력!$S$27=\"순서2\",근무!E149,IF(달력!$S$27=\"순서3\",근무!F149,IF(달력!$S$27=\"순서4\",근무!G149,IF(달력!$S$27=\"순서5\",근무!H149,IF(달력!$S$27=\"순서6\",근무!I149,\"\"))))))","v":"주간"},{"$f":"IF(달력!$S$28=\"순서1\",근무!D149,IF(달력!$S$28=\"순서2\",근무!E149,IF(달력!$S$28=\"순서3\",근무!F149,IF(달력!$S$28=\"순서4\",근무!G149,IF(달력!$S$28=\"순서5\",근무!H149,IF(달력!$S$28=\"순서6\",근무!I149,\"\"))))))","v":"야간"},{"$f":"IF(달력!$S$29=\"순서1\",근무!D149,IF(달력!$S$29=\"순서2\",근무!E149,IF(달력!$S$29=\"순서3\",근무!F149,IF(달력!$S$29=\"순서4\",근무!G149,IF(달력!$S$29=\"순서5\",근무!H149,IF(달력!$S$29=\"순서6\",근무!I149,\"\"))))))","v":"야간"},null,null,5]
[null,"2023-05-24","수",{"$f":"IF(달력!$S$24=\"순서1\",근무!D150,IF(달력!$S$24=\"순서2\",근무!E150,IF(달력!$S$24=\"순서3\",근무!F150,IF(달력!$S$24=\"순서4\",근무!G150,IF(달력!$S$24=\"순서5\",근무!H150,IF(달력!$S$24=\"순서6\",근무!I150,\"\"))))))","v":"비번"},{"$f":"IF(달력!$S$25=\"순서1\",근무!D150,IF(달력!$S$25=\"순서2\",근무!E150,IF(달력!$S$25=\"순서3\",근무!F150,IF(달력!$S$25=\"순서4\",근무!G150,IF(달력!$S$25=\"순서5\",근무!H150,IF(달력!$S$25=\"순서6\",근무!I150,\"\"))))))","v":"비번"},{"$f":"IF(달력!$S$26=\"순서1\",근무!D150,IF(달력!$S$26=\"순서2\",근무!E150,IF(달력!$S$26=\"순서3\",근무!F150,IF(달력!$S$26=\"순서4\",근무!G150,IF(달력!$S$26=\"순서5\",근무!H150,IF(달력!$S$26=\"순서6\",근무!I150,\"\"))))))","v":"주간"},{"$f":"IF(달력!$S$27=\"순서1\",근무!D150,IF(달력!$S$27=\"순서2\",근무!E150,IF(달력!$S$27=\"순서3\",근무!F150,IF(달력!$S$27=\"순서4\",근무!G150,IF(달력!$S$27=\"순서5\",근무!H150,IF(달력!$S$27=\"순서6\",근무!I150,\"\"))))))","v":"주간"},{"$f":"IF(달력!$S$28=\"순서1\",근무!D150,IF(달력!$S$28=\"순서2\",근무!E150,IF(달력!$S$28=\"순서3\",근무!F150,IF(달력!$S$28=\"순서4\",근무!G150,IF(달력!$S$28=\"순서5\",근무!H150,IF(달력!$S$28=\"순서6\",근무!I150,\"\"))))))","v":"야간"},{"$f":"IF(달력!$S$29=\"순서1\",근무!D150,IF(달력!$S$29=\"순서2\",근무!E150,IF(달력!$S$29=\"순서3\",근무!F150,IF(달력!$S$29=\"순서4\",근무!G150,IF(달력!$S$29=\"순서5\",근무!H150,IF(달력!$S$29=\"순서6\",근무!I150,\"\"))))))","v":"야간"},null,null,5]
[null,"2023-05-25","목",{"$f":"IF(달력!$S$24=\"순서1\",근무!D151,IF(달력!$S$24=\"순서2\",근무!E151,IF(달력!$S$24=\"순서3\",근무!F151,IF(달력!$S$24=\"순서4\",근무!G151,IF(달력!$S$24=\"순서5\",근무!H151,IF(달력!$S$24=\"순서6\",근무!I151,\"\"))))))","v":"주간"},{"$f":"IF(달력!$S$25=\"순서1\",근무!D151,IF(달력!$S$25=\"순서2\",근무!E151,IF(달력!$S$25=\"순서3\",근무!F151,IF(달력!$S$25=\"순서4\",근무!G151,IF(달력!$S$25=\"순서5\",근무!H151,IF(달력!$S$25=\"순서6\",근무!I151,\"\"))))))","v":"주간"},{"$f":"IF(달력!$S$26=\"순서1\",근무!D151,IF(달력!$S$26=\"순서2\",근무!E151,IF(달력!$S$26=\"순서3\",근무!F151,IF(달력!$S$26=\"순서4\",근무!G151,IF(달력!$S$26=\"순서5\",근무!H151,IF(달력!$S$26=\"순서6\",근무!I151,\"\"))))))","v":"야간"},{"$f":"IF(달력!$S$27=\"순서1\",근무!D151,IF(달력!$S$27=\"순서2\",근무!E151,IF(달력!$S$27=\"순서3\",근무!F151,IF(달력!$S$27=\"순서4\",근무!G151,IF(달력!$S$27=\"순서5\",근무!H151,IF(달력!$S$27=\"순서6\",근무!I151,\"\"))))))","v":"야간"},{"$f":"IF(달력!$S$28=\"순서1\",근무!D151,IF(달력!$S$28=\"순서2\",근무!E151,IF(달력!$S$28=\"순서3\",근무!F151,IF(달력!$S$28=\"순서4\",근무!G151,IF(달력!$S$28=\"순서5\",근무!H151,IF(달력!$S$28=\"순서6\",근무!I151,\"\"))))))","v":"비번"},{"$f":"IF(달력!$S$29=\"순서1\",근무!D151,IF(달력!$S$29=\"순서2\",근무!E151,IF(달력!$S$29=\"순서3\",근무!F151,IF(달력!$S$29=\"순서4\",근무!G151,IF(달력!$S$29=\"순서5\",근무!H151,IF(달력!$S$29=\"순서6\",근무!I151,\"\"))))))","v":"비번"},null,null,5]
[null,"2023-05-26","금",{"$f":"IF(달력!$S$24=\"순서1\",근무!D152,IF(달력!$S$24=\"순서2\",근무!E152,IF(달력!$S$24=\"순서3\",근무!F152,IF(달력!$S$24=\"순서4\",근무!G152,IF(달력!$S$24=\"순서5\",근무!H152,IF(달력!$S$24=\"순서6\",근무!I152,\"\"))))))","v":"주간"},{"$f":"IF(달력!$S$25=\"순서1\",근무!D152,IF(달력!$S$25=\"순서2\",근무!E152,IF(달력!$S$25=\"순서3\",근무!F152,IF(달력!$S$25=\"순서4\",근무!G152,IF(달력!$S$25=\"순서5\",근무!H152,IF(달력!$S$25=\"순서6\",근무!I152,\"\"))))))","v":"주간"},{"$f":"IF(달력!$S$26=\"순서1\",근무!D152,IF(달력!$S$26=\"순서2\",근무!E152,IF(달력!$S$26=\"순서3\",근무!F152,IF(달력!$S$26=\"순서4\",근무!G152,IF(달력!$S$26=\"순서5\",근무!H152,IF(달력!$S$26=\"순서6\",근무!I152,\"\"))))))","v":"야간"},{"$f":"IF(달력!$S$27=\"순서1\",근무!D152,IF(달력!$S$27=\"순서2\",근무!E152,IF(달력!$S$27=\"순서3\",근무!F152,IF(달력!$S$27=\"순서4\",근무!G152,IF(달력!$S$27=\"순서5\",근무!H152,IF(달력!$S$27=\"순서6\",근무!I152,\"\"))))))","v":"야간"},{"$f":"IF(달력!$S$28=\"순서1\",근무!D152,IF(달력!$S$28=\"순서2\",근무!E152,IF(달력!$S$28=\"순서3\",근무!F152,IF(달력!$S$28=\"순서4\",근무!G152,IF(달력!$S$28=\"순서5\",근무!H152,IF(달력!$S$28=\"순서6\",근무!I152,\"\"))))))","v":"비번"},{"$f":"IF(달력!$S$29=\"순서1\",근무!D152,IF(달력!$S$29=\"순서2\",근무!E152,IF(달력!$S$29=\"순서3\",근무!F152,IF(달력!$S$29=\"순서4\",근무!G152,IF(달력!$S$29=\"순서5\",근무!H152,IF(달력!$S$29=\"순서6\",근무!I152,\"\"))))))","v":"비번"},null,null,5]
[null,"2023-05-27","토",{"$f":"IF(달력!$S$24=\"순서1\",근무!D153,IF(달력!$S$24=\"순서2\",근무!E153,IF(달력!$S$24=\"순서3\",근무!F153,IF(달력!$S$24=\"순서4\",근무!G153,IF(달력!$S$24=\"순서5\",근무!H153,IF(달력!$S$24=\"순서6\",근무!I153,\"\"))))))","v":"야간"},{"$f":"IF(달력!$S$25=\"순서1\",근무!D153,IF(달력!$S$25=\"순서2\",근무!E153,IF(달력!$S$25=\"순서3\",근무!F153,IF(달력!$S$25=\"순서4\",근무!G153,IF(달력!$S$25=\"순서5\",근무!H153,IF(달력!$S$25=\"순서6\",근무!I153,\"\"))))))","v":"야간"},{"$f":"IF(달력!$S$26=\"순서1\",근무!D153,IF(달력!$S$26=\"순서2\",근무!E153,IF(달력!$S$26=\"순서3\",근무!F153,IF(달력!$S$26=\"순서4\",근무!G153,IF(달력!$S$26=\"순서5\",근무!H153,IF(달력!$S$26=\"순서6\",근무!I153,\"\"))))))","v":"비번"},{"$f":"IF(달력!$S$27=\"순서1\",근무!D153,IF(달력!$S$27=\"순서2\",근무!E153,IF(달력!$S$27=\"순서3\",근무!F153,IF(달력!$S$27=\"순서4\",근무!G153,IF(달력!$S$27=\"순서5\",근무!H153,IF(달력!$S$27=\"순서6\",근무!I153,\"\"))))))","v":"비번"},{"$f":"IF(달력!$S$28=\"순서1\",근무!D153,IF(달력!$S$28=\"순서2\",근무!E153,IF(달력!$S$28=\"순서3\",근무!F153,IF(달력!$S$28=\"순서4\",근무!G153,IF(달력!$S$28=\"순서5\",근무!H153,IF(달력!$S$28=\"순서6\",근무!I153,\"\"))))))","v":"주간"},{"$f":"IF(달력!$S$29=\"순서1\",근무!D153,IF(달력!$S$29=\"순서2\",근무!E153,IF(달력!$S$29=\"순서3\",근무!F153,IF(달력!$S$29=\"순서4\",근무!G153,IF(달력!$S$29=\"순서5\",근무!H153,IF(달력!$S$29=\"순서6\",근무!I153,\"\"))))))","v":"주간"},null,null,5]
[null,"2023-05-28","일",{"$f":"IF(달력!$S$24=\"순서1\",근무!D154,IF(달력!$S$24=\"순서2\",근무!E154,IF(달력!$S$24=\"순서3\",근무!F154,IF(달력!$S$24=\"순서4\",근무!G154,IF(달력!$S$24=\"순서5\",근무!H154,IF(달력!$S$24=\"순서6\",근무!I154,\"\"))))))","v":"야간"},{"$f":"IF(달력!$S$25=\"순서1\",근무!D154,IF(달력!$S$25=\"순서2\",근무!E154,IF(달력!$S$25=\"순서3\",근무!F154,IF(달력!$S$25=\"순서4\",근무!G154,IF(달력!$S$25=\"순서5\",근무!H154,IF(달력!$S$25=\"순서6\",근무!I154,\"\"))))))","v":"야간"},{"$f":"IF(달력!$S$26=\"순서1\",근무!D154,IF(달력!$S$26=\"순서2\",근무!E154,IF(달력!$S$26=\"순서3\",근무!F154,IF(달력!$S$26=\"순서4\",근무!G154,IF(달력!$S$26=\"순서5\",근무!H154,IF(달력!$S$26=\"순서6\",근무!I154,\"\"))))))","v":"비번"},{"$f":"IF(달력!$S$27=\"순서1\",근무!D154,IF(달력!$S$27=\"순서2\",근무!E154,IF(달력!$S$27=\"순서3\",근무!F154,IF(달력!$S$27=\"순서4\",근무!G154,IF(달력!$S$27=\"순서5\",근무!H154,IF(달력!$S$27=\"순서6\",근무!I154,\"\"))))))","v":"비번"},{"$f":"IF(달력!$S$28=\"순서1\",근무!D154,IF(달력!$S$28=\"순서2\",근무!E154,IF(달력!$S$28=\"순서3\",근무!F154,IF(달력!$S$28=\"순서4\",근무!G154,IF(달력!$S$28=\"순서5\",근무!H154,IF(달력!$S$28=\"순서6\",근무!I154,\"\"))))))","v":"주간"},{"$f":"IF(달력!$S$29=\"순서1\",근무!D154,IF(달력!$S$29=\"순서2\",근무!E154,IF(달력!$S$29=\"순서3\",근무!F154,IF(달력!$S$29=\"순서4\",근무!G154,IF(달력!$S$29=\"순서5\",근무!H154,IF(달력!$S$29=\"순서6\",근무!I154,\"\"))))))","v":"주간"},null,null,5]
[null,"2023-05-29","월",{"$f":"IF(달력!$S$24=\"순서1\",근무!D155,IF(달력!$S$24=\"순서2\",근무!E155,IF(달력!$S$24=\"순서3\",근무!F155,IF(달력!$S$24=\"순서4\",근무!G155,IF(달력!$S$24=\"순서5\",근무!H155,IF(달력!$S$24=\"순서6\",근무!I155,\"\"))))))","v":"비번"},{"$f":"IF(달력!$S$25=\"순서1\",근무!D155,IF(달력!$S$25=\"순서2\",근무!E155,IF(달력!$S$25=\"순서3\",근무!F155,IF(달력!$S$25=\"순서4\",근무!G155,IF(달력!$S$25=\"순서5\",근무!H155,IF(달력!$S$25=\"순서6\",근무!I155,\"\"))))))","v":"비번"},{"$f":"IF(달력!$S$26=\"순서1\",근무!D155,IF(달력!$S$26=\"순서2\",근무!E155,IF(달력!$S$26=\"순서3\",근무!F155,IF(달력!$S$26=\"순서4\",근무!G155,IF(달력!$S$26=\"순서5\",근무!H155,IF(달력!$S$26=\"순서6\",근무!I155,\"\"))))))","v":"주간"},{"$f":"IF(달력!$S$27=\"순서1\",근무!D155,IF(달력!$S$27=\"순서2\",근무!E155,IF(달력!$S$27=\"순서3\",근무!F155,IF(달력!$S$27=\"순서4\",근무!G155,IF(달력!$S$27=\"순서5\",근무!H155,IF(달력!$S$27=\"순서6\",근무!I155,\"\"))))))","v":"주간"},{"$f":"IF(달력!$S$28=\"순서1\",근무!D155,IF(달력!$S$28=\"순서2\",근무!E155,IF(달력!$S$28=\"순서3\",근무!F155,IF(달력!$S$28=\"순서4\",근무!G155,IF(달력!$S$28=\"순서5\",근무!H155,IF(달력!$S$28=\"순서6\",근무!I155,\"\"))))))","v":"야간"},{"$f":"IF(달력!$S$29=\"순서1\",근무!D155,IF(달력!$S$29=\"순서2\",근무!E155,IF(달력!$S$29=\"순서3\",근무!F155,IF(달력!$S$29=\"순서4\",근무!G155,IF(달력!$S$29=\"순서5\",근무!H155,IF(달력!$S$29=\"순서6\",근무!I155,\"\"))))))","v":"야간"},null,null,5]
[null,"2023-05-30","화",{"$f":"IF(달력!$S$24=\"순서1\",근무!D156,IF(달력!$S$24=\"순서2\",근무!E156,IF(달력!$S$24=\"순서3\",근무!F156,IF(달력!$S$24=\"순서4\",근무!G156,IF(달력!$S$24=\"순서5\",근무!H156,IF(달력!$S$24=\"순서6\",근무!I156,\"\"))))))","v":"비번"},{"$f":"IF(달력!$S$25=\"순서1\",근무!D156,IF(달력!$S$25=\"순서2\",근무!E156,IF(달력!$S$25=\"순서3\",근무!F156,IF(달력!$S$25=\"순서4\",근무!G156,IF(달력!$S$25=\"순서5\",근무!H156,IF(달력!$S$25=\"순서6\",근무!I156,\"\"))))))","v":"비번"},{"$f":"IF(달력!$S$26=\"순서1\",근무!D156,IF(달력!$S$26=\"순서2\",근무!E156,IF(달력!$S$26=\"순서3\",근무!F156,IF(달력!$S$26=\"순서4\",근무!G156,IF(달력!$S$26=\"순서5\",근무!H156,IF(달력!$S$26=\"순서6\",근무!I156,\"\"))))))","v":"주간"},{"$f":"IF(달력!$S$27=\"순서1\",근무!D156,IF(달력!$S$27=\"순서2\",근무!E156,IF(달력!$S$27=\"순서3\",근무!F156,IF(달력!$S$27=\"순서4\",근무!G156,IF(달력!$S$27=\"순서5\",근무!H156,IF(달력!$S$27=\"순서6\",근무!I156,\"\"))))))","v":"주간"},{"$f":"IF(달력!$S$28=\"순서1\",근무!D156,IF(달력!$S$28=\"순서2\",근무!E156,IF(달력!$S$28=\"순서3\",근무!F156,IF(달력!$S$28=\"순서4\",근무!G156,IF(달력!$S$28=\"순서5\",근무!H156,IF(달력!$S$28=\"순서6\",근무!I156,\"\"))))))","v":"야간"},{"$f":"IF(달력!$S$29=\"순서1\",근무!D156,IF(달력!$S$29=\"순서2\",근무!E156,IF(달력!$S$29=\"순서3\",근무!F156,IF(달력!$S$29=\"순서4\",근무!G156,IF(달력!$S$29=\"순서5\",근무!H156,IF(달력!$S$29=\"순서6\",근무!I156,\"\"))))))","v":"야간"},null,null,5]
[null,"2023-05-31","수",{"$f":"IF(달력!$S$24=\"순서1\",근무!D157,IF(달력!$S$24=\"순서2\",근무!E157,IF(달력!$S$24=\"순서3\",근무!F157,IF(달력!$S$24=\"순서4\",근무!G157,IF(달력!$S$24=\"순서5\",근무!H157,IF(달력!$S$24=\"순서6\",근무!I157,\"\"))))))","v":"주간"},{"$f":"IF(달력!$S$25=\"순서1\",근무!D157,IF(달력!$S$25=\"순서2\",근무!E157,IF(달력!$S$25=\"순서3\",근무!F157,IF(달력!$S$25=\"순서4\",근무!G157,IF(달력!$S$25=\"순서5\",근무!H157,IF(달력!$S$25=\"순서6\",근무!I157,\"\"))))))","v":"주간"},{"$f":"IF(달력!$S$26=\"순서1\",근무!D157,IF(달력!$S$26=\"순서2\",근무!E157,IF(달력!$S$26=\"순서3\",근무!F157,IF(달력!$S$26=\"순서4\",근무!G157,IF(달력!$S$26=\"순서5\",근무!H157,IF(달력!$S$26=\"순서6\",근무!I157,\"\"))))))","v":"야간"},{"$f":"IF(달력!$S$27=\"순서1\",근무!D157,IF(달력!$S$27=\"순서2\",근무!E157,IF(달력!$S$27=\"순서3\",근무!F157,IF(달력!$S$27=\"순서4\",근무!G157,IF(달력!$S$27=\"순서5\",근무!H157,IF(달력!$S$27=\"순서6\",근무!I157,\"\"))))))","v":"야간"},{"$f":"IF(달력!$S$28=\"순서1\",근무!D157,IF(달력!$S$28=\"순서2\",근무!E157,IF(달력!$S$28=\"순서3\",근무!F157,IF(달력!$S$28=\"순서4\",근무!G157,IF(달력!$S$28=\"순서5\",근무!H157,IF(달력!$S$28=\"순서6\",근무!I157,\"\"))))))","v":"비번"},{"$f":"IF(달력!$S$29=\"순서1\",근무!D157,IF(달력!$S$29=\"순서2\",근무!E157,IF(달력!$S$29=\"순서3\",근무!F157,IF(달력!$S$29=\"순서4\",근무!G157,IF(달력!$S$29=\"순서5\",근무!H157,IF(달력!$S$29=\"순서6\",근무!I157,\"\"))))))","v":"비번"},null,null,5]
[null,"2023-06-01","목",{"$f":"IF(달력!$S$24=\"순서1\",근무!D158,IF(달력!$S$24=\"순서2\",근무!E158,IF(달력!$S$24=\"순서3\",근무!F158,IF(달력!$S$24=\"순서4\",근무!G158,IF(달력!$S$24=\"순서5\",근무!H158,IF(달력!$S$24=\"순서6\",근무!I158,\"\"))))))","v":"주간"},{"$f":"IF(달력!$S$25=\"순서1\",근무!D158,IF(달력!$S$25=\"순서2\",근무!E158,IF(달력!$S$25=\"순서3\",근무!F158,IF(달력!$S$25=\"순서4\",근무!G158,IF(달력!$S$25=\"순서5\",근무!H158,IF(달력!$S$25=\"순서6\",근무!I158,\"\"))))))","v":"주간"},{"$f":"IF(달력!$S$26=\"순서1\",근무!D158,IF(달력!$S$26=\"순서2\",근무!E158,IF(달력!$S$26=\"순서3\",근무!F158,IF(달력!$S$26=\"순서4\",근무!G158,IF(달력!$S$26=\"순서5\",근무!H158,IF(달력!$S$26=\"순서6\",근무!I158,\"\"))))))","v":"야간"},{"$f":"IF(달력!$S$27=\"순서1\",근무!D158,IF(달력!$S$27=\"순서2\",근무!E158,IF(달력!$S$27=\"순서3\",근무!F158,IF(달력!$S$27=\"순서4\",근무!G158,IF(달력!$S$27=\"순서5\",근무!H158,IF(달력!$S$27=\"순서6\",근무!I158,\"\"))))))","v":"야간"},{"$f":"IF(달력!$S$28=\"순서1\",근무!D158,IF(달력!$S$28=\"순서2\",근무!E158,IF(달력!$S$28=\"순서3\",근무!F158,IF(달력!$S$28=\"순서4\",근무!G158,IF(달력!$S$28=\"순서5\",근무!H158,IF(달력!$S$28=\"순서6\",근무!I158,\"\"))))))","v":"비번"},{"$f":"IF(달력!$S$29=\"순서1\",근무!D158,IF(달력!$S$29=\"순서2\",근무!E158,IF(달력!$S$29=\"순서3\",근무!F158,IF(달력!$S$29=\"순서4\",근무!G158,IF(달력!$S$29=\"순서5\",근무!H158,IF(달력!$S$29=\"순서6\",근무!I158,\"\"))))))","v":"비번"},null,"주간",6,{"$f":"COUNTIFS(일정1내용,$K158,$L$7:$L$372,6)","v":10},{"$f":"COUNTIFS(일정2내용,$K158,$L$7:$L$372,6)","v":10},{"$f":"COUNTIFS(일정3내용,$K158,$L$7:$L$372,6)","v":10},{"$f":"COUNTIFS(일정4내용,$K158,$L$7:$L$372,6)","v":10},{"$f":"COUNTIFS(일정5내용,$K158,$L$7:$L$372,6)","v":10},{"$f":"COUNTIFS(일정6내용,$K158,$L$7:$L$372,6)","v":10}]
[null,"2023-06-02","금",{"$f":"IF(달력!$S$24=\"순서1\",근무!D159,IF(달력!$S$24=\"순서2\",근무!E159,IF(달력!$S$24=\"순서3\",근무!F159,IF(달력!$S$24=\"순서4\",근무!G159,IF(달력!$S$24=\"순서5\",근무!H159,IF(달력!$S$24=\"순서6\",근무!I159,\"\"))))))","v":"야간"},{"$f":"IF(달력!$S$25=\"순서1\",근무!D159,IF(달력!$S$25=\"순서2\",근무!E159,IF(달력!$S$25=\"순서3\",근무!F159,IF(달력!$S$25=\"순서4\",근무!G159,IF(달력!$S$25=\"순서5\",근무!H159,IF(달력!$S$25=\"순서6\",근무!I159,\"\"))))))","v":"야간"},{"$f":"IF(달력!$S$26=\"순서1\",근무!D159,IF(달력!$S$26=\"순서2\",근무!E159,IF(달력!$S$26=\"순서3\",근무!F159,IF(달력!$S$26=\"순서4\",근무!G159,IF(달력!$S$26=\"순서5\",근무!H159,IF(달력!$S$26=\"순서6\",근무!I159,\"\"))))))","v":"비번"},{"$f":"IF(달력!$S$27=\"순서1\",근무!D159,IF(달력!$S$27=\"순서2\",근무!E159,IF(달력!$S$27=\"순서3\",근무!F159,IF(달력!$S$27=\"순서4\",근무!G159,IF(달력!$S$27=\"순서5\",근무!H159,IF(달력!$S$27=\"순서6\",근무!I159,\"\"))))))","v":"비번"},{"$f":"IF(달력!$S$28=\"순서1\",근무!D159,IF(달력!$S$28=\"순서2\",근무!E159,IF(달력!$S$28=\"순서3\",근무!F159,IF(달력!$S$28=\"순서4\",근무!G159,IF(달력!$S$28=\"순서5\",근무!H159,IF(달력!$S$28=\"순서6\",근무!I159,\"\"))))))","v":"주간"},{"$f":"IF(달력!$S$29=\"순서1\",근무!D159,IF(달력!$S$29=\"순서2\",근무!E159,IF(달력!$S$29=\"순서3\",근무!F159,IF(달력!$S$29=\"순서4\",근무!G159,IF(달력!$S$29=\"순서5\",근무!H159,IF(달력!$S$29=\"순서6\",근무!I159,\"\"))))))","v":"주간"},null,"야간",6,{"$f":"COUNTIFS(일정1내용,$K159,$L$7:$L$372,6)","v":10},{"$f":"COUNTIFS(일정2내용,$K159,$L$7:$L$372,6)","v":10},{"$f":"COUNTIFS(일정3내용,$K159,$L$7:$L$372,6)","v":10},{"$f":"COUNTIFS(일정4내용,$K159,$L$7:$L$372,6)","v":10},{"$f":"COUNTIFS(일정5내용,$K159,$L$7:$L$372,6)","v":10},{"$f":"COUNTIFS(일정6내용,$K159,$L$7:$L$372,6)","v":10}]
[null,"2023-06-03","토",{"$f":"IF(달력!$S$24=\"순서1\",근무!D160,IF(달력!$S$24=\"순서2\",근무!E160,IF(달력!$S$24=\"순서3\",근무!F160,IF(달력!$S$24=\"순서4\",근무!G160,IF(달력!$S$24=\"순서5\",근무!H160,IF(달력!$S$24=\"순서6\",근무!I160,\"\"))))))","v":"야간"},{"$f":"IF(달력!$S$25=\"순서1\",근무!D160,IF(달력!$S$25=\"순서2\",근무!E160,IF(달력!$S$25=\"순서3\",근무!F160,IF(달력!$S$25=\"순서4\",근무!G160,IF(달력!$S$25=\"순서5\",근무!H160,IF(달력!$S$25=\"순서6\",근무!I160,\"\"))))))","v":"야간"},{"$f":"IF(달력!$S$26=\"순서1\",근무!D160,IF(달력!$S$26=\"순서2\",근무!E160,IF(달력!$S$26=\"순서3\",근무!F160,IF(달력!$S$26=\"순서4\",근무!G160,IF(달력!$S$26=\"순서5\",근무!H160,IF(달력!$S$26=\"순서6\",근무!I160,\"\"))))))","v":"비번"},{"$f":"IF(달력!$S$27=\"순서1\",근무!D160,IF(달력!$S$27=\"순서2\",근무!E160,IF(달력!$S$27=\"순서3\",근무!F160,IF(달력!$S$27=\"순서4\",근무!G160,IF(달력!$S$27=\"순서5\",근무!H160,IF(달력!$S$27=\"순서6\",근무!I160,\"\"))))))","v":"비번"},{"$f":"IF(달력!$S$28=\"순서1\",근무!D160,IF(달력!$S$28=\"순서2\",근무!E160,IF(달력!$S$28=\"순서3\",근무!F160,IF(달력!$S$28=\"순서4\",근무!G160,IF(달력!$S$28=\"순서5\",근무!H160,IF(달력!$S$28=\"순서6\",근무!I160,\"\"))))))","v":"주간"},{"$f":"IF(달력!$S$29=\"순서1\",근무!D160,IF(달력!$S$29=\"순서2\",근무!E160,IF(달력!$S$29=\"순서3\",근무!F160,IF(달력!$S$29=\"순서4\",근무!G160,IF(달력!$S$29=\"순서5\",근무!H160,IF(달력!$S$29=\"순서6\",근무!I160,\"\"))))))","v":"주간"},null,"비번",6,{"$f":"COUNTIFS(일정1내용,$K160,$L$7:$L$372,6)","v":10},{"$f":"COUNTIFS(일정2내용,$K160,$L$7:$L$372,6)","v":10},{"$f":"COUNTIFS(일정3내용,$K160,$L$7:$L$372,6)","v":10},{"$f":"COUNTIFS(일정4내용,$K160,$L$7:$L$372,6)","v":10},{"$f":"COUNTIFS(일정5내용,$K160,$L$7:$L$372,6)","v":10},{"$f":"COUNTIFS(일정6내용,$K160,$L$7:$L$372,6)","v":10}]
[null,"2023-06-04","일",{"$f":"IF(달력!$S$24=\"순서1\",근무!D161,IF(달력!$S$24=\"순서2\",근무!E161,IF(달력!$S$24=\"순서3\",근무!F161,IF(달력!$S$24=\"순서4\",근무!G161,IF(달력!$S$24=\"순서5\",근무!H161,IF(달력!$S$24=\"순서6\",근무!I161,\"\"))))))","v":"비번"},{"$f":"IF(달력!$S$25=\"순서1\",근무!D161,IF(달력!$S$25=\"순서2\",근무!E161,IF(달력!$S$25=\"순서3\",근무!F161,IF(달력!$S$25=\"순서4\",근무!G161,IF(달력!$S$25=\"순서5\",근무!H161,IF(달력!$S$25=\"순서6\",근무!I161,\"\"))))))","v":"비번"},{"$f":"IF(달력!$S$26=\"순서1\",근무!D161,IF(달력!$S$26=\"순서2\",근무!E161,IF(달력!$S$26=\"순서3\",근무!F161,IF(달력!$S$26=\"순서4\",근무!G161,IF(달력!$S$26=\"순서5\",근무!H161,IF(달력!$S$26=\"순서6\",근무!I161,\"\"))))))","v":"주간"},{"$f":"IF(달력!$S$27=\"순서1\",근무!D161,IF(달력!$S$27=\"순서2\",근무!E161,IF(달력!$S$27=\"순서3\",근무!F161,IF(달력!$S$27=\"순서4\",근무!G161,IF(달력!$S$27=\"순서5\",근무!H161,IF(달력!$S$27=\"순서6\",근무!I161,\"\"))))))","v":"주간"},{"$f":"IF(달력!$S$28=\"순서1\",근무!D161,IF(달력!$S$28=\"순서2\",근무!E161,IF(달력!$S$28=\"순서3\",근무!F161,IF(달력!$S$28=\"순서4\",근무!G161,IF(달력!$S$28=\"순서5\",근무!H161,IF(달력!$S$28=\"순서6\",근무!I161,\"\"))))))","v":"야간"},{"$f":"IF(달력!$S$29=\"순서1\",근무!D161,IF(달력!$S$29=\"순서2\",근무!E161,IF(달력!$S$29=\"순서3\",근무!F161,IF(달력!$S$29=\"순서4\",근무!G161,IF(달력!$S$29=\"순서5\",근무!H161,IF(달력!$S$29=\"순서6\",근무!I161,\"\"))))))","v":"야간"},null,"근무일 계",6,{"$f":"M158+M159","v":20},{"$f":"N158+N159","v":20},20,20,20,20]
[null,"2023-06-05","월",{"$f":"IF(달력!$S$24=\"순서1\",근무!D162,IF(달력!$S$24=\"순서2\",근무!E162,IF(달력!$S$24=\"순서3\",근무!F162,IF(달력!$S$24=\"순서4\",근무!G162,IF(달력!$S$24=\"순서5\",근무!H162,IF(달력!$S$24=\"순서6\",근무!I162,\"\"))))))","v":"비번"},{"$f":"IF(달력!$S$25=\"순서1\",근무!D162,IF(달력!$S$25=\"순서2\",근무!E162,IF(달력!$S$25=\"순서3\",근무!F162,IF(달력!$S$25=\"순서4\",근무!G162,IF(달력!$S$25=\"순서5\",근무!H162,IF(달력!$S$25=\"순서6\",근무!I162,\"\"))))))","v":"비번"},{"$f":"IF(달력!$S$26=\"순서1\",근무!D162,IF(달력!$S$26=\"순서2\",근무!E162,IF(달력!$S$26=\"순서3\",근무!F162,IF(달력!$S$26=\"순서4\",근무!G162,IF(달력!$S$26=\"순서5\",근무!H162,IF(달력!$S$26=\"순서6\",근무!I162,\"\"))))))","v":"주간"},{"$f":"IF(달력!$S$27=\"순서1\",근무!D162,IF(달력!$S$27=\"순서2\",근무!E162,IF(달력!$S$27=\"순서3\",근무!F162,IF(달력!$S$27=\"순서4\",근무!G162,IF(달력!$S$27=\"순서5\",근무!H162,IF(달력!$S$27=\"순서6\",근무!I162,\"\"))))))","v":"주간"},{"$f":"IF(달력!$S$28=\"순서1\",근무!D162,IF(달력!$S$28=\"순서2\",근무!E162,IF(달력!$S$28=\"순서3\",근무!F162,IF(달력!$S$28=\"순서4\",근무!G162,IF(달력!$S$28=\"순서5\",근무!H162,IF(달력!$S$28=\"순서6\",근무!I162,\"\"))))))","v":"야간"},{"$f":"IF(달력!$S$29=\"순서1\",근무!D162,IF(달력!$S$29=\"순서2\",근무!E162,IF(달력!$S$29=\"순서3\",근무!F162,IF(달력!$S$29=\"순서4\",근무!G162,IF(달력!$S$29=\"순서5\",근무!H162,IF(달력!$S$29=\"순서6\",근무!I162,\"\"))))))","v":"야간"},null,null,6]
[null,"2023-06-06","화",{"$f":"IF(달력!$S$24=\"순서1\",근무!D163,IF(달력!$S$24=\"순서2\",근무!E163,IF(달력!$S$24=\"순서3\",근무!F163,IF(달력!$S$24=\"순서4\",근무!G163,IF(달력!$S$24=\"순서5\",근무!H163,IF(달력!$S$24=\"순서6\",근무!I163,\"\"))))))","v":"주간"},{"$f":"IF(달력!$S$25=\"순서1\",근무!D163,IF(달력!$S$25=\"순서2\",근무!E163,IF(달력!$S$25=\"순서3\",근무!F163,IF(달력!$S$25=\"순서4\",근무!G163,IF(달력!$S$25=\"순서5\",근무!H163,IF(달력!$S$25=\"순서6\",근무!I163,\"\"))))))","v":"주간"},{"$f":"IF(달력!$S$26=\"순서1\",근무!D163,IF(달력!$S$26=\"순서2\",근무!E163,IF(달력!$S$26=\"순서3\",근무!F163,IF(달력!$S$26=\"순서4\",근무!G163,IF(달력!$S$26=\"순서5\",근무!H163,IF(달력!$S$26=\"순서6\",근무!I163,\"\"))))))","v":"야간"},{"$f":"IF(달력!$S$27=\"순서1\",근무!D163,IF(달력!$S$27=\"순서2\",근무!E163,IF(달력!$S$27=\"순서3\",근무!F163,IF(달력!$S$27=\"순서4\",근무!G163,IF(달력!$S$27=\"순서5\",근무!H163,IF(달력!$S$27=\"순서6\",근무!I163,\"\"))))))","v":"야간"},{"$f":"IF(달력!$S$28=\"순서1\",근무!D163,IF(달력!$S$28=\"순서2\",근무!E163,IF(달력!$S$28=\"순서3\",근무!F163,IF(달력!$S$28=\"순서4\",근무!G163,IF(달력!$S$28=\"순서5\",근무!H163,IF(달력!$S$28=\"순서6\",근무!I163,\"\"))))))","v":"비번"},{"$f":"IF(달력!$S$29=\"순서1\",근무!D163,IF(달력!$S$29=\"순서2\",근무!E163,IF(달력!$S$29=\"순서3\",근무!F163,IF(달력!$S$29=\"순서4\",근무!G163,IF(달력!$S$29=\"순서5\",근무!H163,IF(달력!$S$29=\"순서6\",근무!I163,\"\"))))))","v":"비번"},null,null,6]
[null,"2023-06-07","수",{"$f":"IF(달력!$S$24=\"순서1\",근무!D164,IF(달력!$S$24=\"순서2\",근무!E164,IF(달력!$S$24=\"순서3\",근무!F164,IF(달력!$S$24=\"순서4\",근무!G164,IF(달력!$S$24=\"순서5\",근무!H164,IF(달력!$S$24=\"순서6\",근무!I164,\"\"))))))","v":"주간"},{"$f":"IF(달력!$S$25=\"순서1\",근무!D164,IF(달력!$S$25=\"순서2\",근무!E164,IF(달력!$S$25=\"순서3\",근무!F164,IF(달력!$S$25=\"순서4\",근무!G164,IF(달력!$S$25=\"순서5\",근무!H164,IF(달력!$S$25=\"순서6\",근무!I164,\"\"))))))","v":"주간"},{"$f":"IF(달력!$S$26=\"순서1\",근무!D164,IF(달력!$S$26=\"순서2\",근무!E164,IF(달력!$S$26=\"순서3\",근무!F164,IF(달력!$S$26=\"순서4\",근무!G164,IF(달력!$S$26=\"순서5\",근무!H164,IF(달력!$S$26=\"순서6\",근무!I164,\"\"))))))","v":"야간"},{"$f":"IF(달력!$S$27=\"순서1\",근무!D164,IF(달력!$S$27=\"순서2\",근무!E164,IF(달력!$S$27=\"순서3\",근무!F164,IF(달력!$S$27=\"순서4\",근무!G164,IF(달력!$S$27=\"순서5\",근무!H164,IF(달력!$S$27=\"순서6\",근무!I164,\"\"))))))","v":"야간"},{"$f":"IF(달력!$S$28=\"순서1\",근무!D164,IF(달력!$S$28=\"순서2\",근무!E164,IF(달력!$S$28=\"순서3\",근무!F164,IF(달력!$S$28=\"순서4\",근무!G164,IF(달력!$S$28=\"순서5\",근무!H164,IF(달력!$S$28=\"순서6\",근무!I164,\"\"))))))","v":"비번"},{"$f":"IF(달력!$S$29=\"순서1\",근무!D164,IF(달력!$S$29=\"순서2\",근무!E164,IF(달력!$S$29=\"순서3\",근무!F164,IF(달력!$S$29=\"순서4\",근무!G164,IF(달력!$S$29=\"순서5\",근무!H164,IF(달력!$S$29=\"순서6\",근무!I164,\"\"))))))","v":"비번"},null,null,6]
[null,"2023-06-08","목",{"$f":"IF(달력!$S$24=\"순서1\",근무!D165,IF(달력!$S$24=\"순서2\",근무!E165,IF(달력!$S$24=\"순서3\",근무!F165,IF(달력!$S$24=\"순서4\",근무!G165,IF(달력!$S$24=\"순서5\",근무!H165,IF(달력!$S$24=\"순서6\",근무!I165,\"\"))))))","v":"야간"},{"$f":"IF(달력!$S$25=\"순서1\",근무!D165,IF(달력!$S$25=\"순서2\",근무!E165,IF(달력!$S$25=\"순서3\",근무!F165,IF(달력!$S$25=\"순서4\",근무!G165,IF(달력!$S$25=\"순서5\",근무!H165,IF(달력!$S$25=\"순서6\",근무!I165,\"\"))))))","v":"야간"},{"$f":"IF(달력!$S$26=\"순서1\",근무!D165,IF(달력!$S$26=\"순서2\",근무!E165,IF(달력!$S$26=\"순서3\",근무!F165,IF(달력!$S$26=\"순서4\",근무!G165,IF(달력!$S$26=\"순서5\",근무!H165,IF(달력!$S$26=\"순서6\",근무!I165,\"\"))))))","v":"비번"},{"$f":"IF(달력!$S$27=\"순서1\",근무!D165,IF(달력!$S$27=\"순서2\",근무!E165,IF(달력!$S$27=\"순서3\",근무!F165,IF(달력!$S$27=\"순서4\",근무!G165,IF(달력!$S$27=\"순서5\",근무!H165,IF(달력!$S$27=\"순서6\",근무!I165,\"\"))))))","v":"비번"},{"$f":"IF(달력!$S$28=\"순서1\",근무!D165,IF(달력!$S$28=\"순서2\",근무!E165,IF(달력!$S$28=\"순서3\",근무!F165,IF(달력!$S$28=\"순서4\",근무!G165,IF(달력!$S$28=\"순서5\",근무!H165,IF(달력!$S$28=\"순서6\",근무!I165,\"\"))))))","v":"주간"},{"$f":"IF(달력!$S$29=\"순서1\",근무!D165,IF(달력!$S$29=\"순서2\",근무!E165,IF(달력!$S$29=\"순서3\",근무!F165,IF(달력!$S$29=\"순서4\",근무!G165,IF(달력!$S$29=\"순서5\",근무!H165,IF(달력!$S$29=\"순서6\",근무!I165,\"\"))))))","v":"주간"},null,null,6]
[null,"2023-06-09","금",{"$f":"IF(달력!$S$24=\"순서1\",근무!D166,IF(달력!$S$24=\"순서2\",근무!E166,IF(달력!$S$24=\"순서3\",근무!F166,IF(달력!$S$24=\"순서4\",근무!G166,IF(달력!$S$24=\"순서5\",근무!H166,IF(달력!$S$24=\"순서6\",근무!I166,\"\"))))))","v":"야간"},{"$f":"IF(달력!$S$25=\"순서1\",근무!D166,IF(달력!$S$25=\"순서2\",근무!E166,IF(달력!$S$25=\"순서3\",근무!F166,IF(달력!$S$25=\"순서4\",근무!G166,IF(달력!$S$25=\"순서5\",근무!H166,IF(달력!$S$25=\"순서6\",근무!I166,\"\"))))))","v":"야간"},{"$f":"IF(달력!$S$26=\"순서1\",근무!D166,IF(달력!$S$26=\"순서2\",근무!E166,IF(달력!$S$26=\"순서3\",근무!F166,IF(달력!$S$26=\"순서4\",근무!G166,IF(달력!$S$26=\"순서5\",근무!H166,IF(달력!$S$26=\"순서6\",근무!I166,\"\"))))))","v":"비번"},{"$f":"IF(달력!$S$27=\"순서1\",근무!D166,IF(달력!$S$27=\"순서2\",근무!E166,IF(달력!$S$27=\"순서3\",근무!F166,IF(달력!$S$27=\"순서4\",근무!G166,IF(달력!$S$27=\"순서5\",근무!H166,IF(달력!$S$27=\"순서6\",근무!I166,\"\"))))))","v":"비번"},{"$f":"IF(달력!$S$28=\"순서1\",근무!D166,IF(달력!$S$28=\"순서2\",근무!E166,IF(달력!$S$28=\"순서3\",근무!F166,IF(달력!$S$28=\"순서4\",근무!G166,IF(달력!$S$28=\"순서5\",근무!H166,IF(달력!$S$28=\"순서6\",근무!I166,\"\"))))))","v":"주간"},{"$f":"IF(달력!$S$29=\"순서1\",근무!D166,IF(달력!$S$29=\"순서2\",근무!E166,IF(달력!$S$29=\"순서3\",근무!F166,IF(달력!$S$29=\"순서4\",근무!G166,IF(달력!$S$29=\"순서5\",근무!H166,IF(달력!$S$29=\"순서6\",근무!I166,\"\"))))))","v":"주간"},null,null,6]
[null,"2023-06-10","토",{"$f":"IF(달력!$S$24=\"순서1\",근무!D167,IF(달력!$S$24=\"순서2\",근무!E167,IF(달력!$S$24=\"순서3\",근무!F167,IF(달력!$S$24=\"순서4\",근무!G167,IF(달력!$S$24=\"순서5\",근무!H167,IF(달력!$S$24=\"순서6\",근무!I167,\"\"))))))","v":"비번"},{"$f":"IF(달력!$S$25=\"순서1\",근무!D167,IF(달력!$S$25=\"순서2\",근무!E167,IF(달력!$S$25=\"순서3\",근무!F167,IF(달력!$S$25=\"순서4\",근무!G167,IF(달력!$S$25=\"순서5\",근무!H167,IF(달력!$S$25=\"순서6\",근무!I167,\"\"))))))","v":"비번"},{"$f":"IF(달력!$S$26=\"순서1\",근무!D167,IF(달력!$S$26=\"순서2\",근무!E167,IF(달력!$S$26=\"순서3\",근무!F167,IF(달력!$S$26=\"순서4\",근무!G167,IF(달력!$S$26=\"순서5\",근무!H167,IF(달력!$S$26=\"순서6\",근무!I167,\"\"))))))","v":"주간"},{"$f":"IF(달력!$S$27=\"순서1\",근무!D167,IF(달력!$S$27=\"순서2\",근무!E167,IF(달력!$S$27=\"순서3\",근무!F167,IF(달력!$S$27=\"순서4\",근무!G167,IF(달력!$S$27=\"순서5\",근무!H167,IF(달력!$S$27=\"순서6\",근무!I167,\"\"))))))","v":"주간"},{"$f":"IF(달력!$S$28=\"순서1\",근무!D167,IF(달력!$S$28=\"순서2\",근무!E167,IF(달력!$S$28=\"순서3\",근무!F167,IF(달력!$S$28=\"순서4\",근무!G167,IF(달력!$S$28=\"순서5\",근무!H167,IF(달력!$S$28=\"순서6\",근무!I167,\"\"))))))","v":"야간"},{"$f":"IF(달력!$S$29=\"순서1\",근무!D167,IF(달력!$S$29=\"순서2\",근무!E167,IF(달력!$S$29=\"순서3\",근무!F167,IF(달력!$S$29=\"순서4\",근무!G167,IF(달력!$S$29=\"순서5\",근무!H167,IF(달력!$S$29=\"순서6\",근무!I167,\"\"))))))","v":"야간"},null,null,6]
[null,"2023-06-11","일",{"$f":"IF(달력!$S$24=\"순서1\",근무!D168,IF(달력!$S$24=\"순서2\",근무!E168,IF(달력!$S$24=\"순서3\",근무!F168,IF(달력!$S$24=\"순서4\",근무!G168,IF(달력!$S$24=\"순서5\",근무!H168,IF(달력!$S$24=\"순서6\",근무!I168,\"\"))))))","v":"비번"},{"$f":"IF(달력!$S$25=\"순서1\",근무!D168,IF(달력!$S$25=\"순서2\",근무!E168,IF(달력!$S$25=\"순서3\",근무!F168,IF(달력!$S$25=\"순서4\",근무!G168,IF(달력!$S$25=\"순서5\",근무!H168,IF(달력!$S$25=\"순서6\",근무!I168,\"\"))))))","v":"비번"},{"$f":"IF(달력!$S$26=\"순서1\",근무!D168,IF(달력!$S$26=\"순서2\",근무!E168,IF(달력!$S$26=\"순서3\",근무!F168,IF(달력!$S$26=\"순서4\",근무!G168,IF(달력!$S$26=\"순서5\",근무!H168,IF(달력!$S$26=\"순서6\",근무!I168,\"\"))))))","v":"주간"},{"$f":"IF(달력!$S$27=\"순서1\",근무!D168,IF(달력!$S$27=\"순서2\",근무!E168,IF(달력!$S$27=\"순서3\",근무!F168,IF(달력!$S$27=\"순서4\",근무!G168,IF(달력!$S$27=\"순서5\",근무!H168,IF(달력!$S$27=\"순서6\",근무!I168,\"\"))))))","v":"주간"},{"$f":"IF(달력!$S$28=\"순서1\",근무!D168,IF(달력!$S$28=\"순서2\",근무!E168,IF(달력!$S$28=\"순서3\",근무!F168,IF(달력!$S$28=\"순서4\",근무!G168,IF(달력!$S$28=\"순서5\",근무!H168,IF(달력!$S$28=\"순서6\",근무!I168,\"\"))))))","v":"야간"},{"$f":"IF(달력!$S$29=\"순서1\",근무!D168,IF(달력!$S$29=\"순서2\",근무!E168,IF(달력!$S$29=\"순서3\",근무!F168,IF(달력!$S$29=\"순서4\",근무!G168,IF(달력!$S$29=\"순서5\",근무!H168,IF(달력!$S$29=\"순서6\",근무!I168,\"\"))))))","v":"야간"},null,null,6]
[null,"2023-06-12","월",{"$f":"IF(달력!$S$24=\"순서1\",근무!D169,IF(달력!$S$24=\"순서2\",근무!E169,IF(달력!$S$24=\"순서3\",근무!F169,IF(달력!$S$24=\"순서4\",근무!G169,IF(달력!$S$24=\"순서5\",근무!H169,IF(달력!$S$24=\"순서6\",근무!I169,\"\"))))))","v":"주간"},{"$f":"IF(달력!$S$25=\"순서1\",근무!D169,IF(달력!$S$25=\"순서2\",근무!E169,IF(달력!$S$25=\"순서3\",근무!F169,IF(달력!$S$25=\"순서4\",근무!G169,IF(달력!$S$25=\"순서5\",근무!H169,IF(달력!$S$25=\"순서6\",근무!I169,\"\"))))))","v":"주간"},{"$f":"IF(달력!$S$26=\"순서1\",근무!D169,IF(달력!$S$26=\"순서2\",근무!E169,IF(달력!$S$26=\"순서3\",근무!F169,IF(달력!$S$26=\"순서4\",근무!G169,IF(달력!$S$26=\"순서5\",근무!H169,IF(달력!$S$26=\"순서6\",근무!I169,\"\"))))))","v":"야간"},{"$f":"IF(달력!$S$27=\"순서1\",근무!D169,IF(달력!$S$27=\"순서2\",근무!E169,IF(달력!$S$27=\"순서3\",근무!F169,IF(달력!$S$27=\"순서4\",근무!G169,IF(달력!$S$27=\"순서5\",근무!H169,IF(달력!$S$27=\"순서6\",근무!I169,\"\"))))))","v":"야간"},{"$f":"IF(달력!$S$28=\"순서1\",근무!D169,IF(달력!$S$28=\"순서2\",근무!E169,IF(달력!$S$28=\"순서3\",근무!F169,IF(달력!$S$28=\"순서4\",근무!G169,IF(달력!$S$28=\"순서5\",근무!H169,IF(달력!$S$28=\"순서6\",근무!I169,\"\"))))))","v":"비번"},{"$f":"IF(달력!$S$29=\"순서1\",근무!D169,IF(달력!$S$29=\"순서2\",근무!E169,IF(달력!$S$29=\"순서3\",근무!F169,IF(달력!$S$29=\"순서4\",근무!G169,IF(달력!$S$29=\"순서5\",근무!H169,IF(달력!$S$29=\"순서6\",근무!I169,\"\"))))))","v":"비번"},null,null,6]
[null,"2023-06-13","화",{"$f":"IF(달력!$S$24=\"순서1\",근무!D170,IF(달력!$S$24=\"순서2\",근무!E170,IF(달력!$S$24=\"순서3\",근무!F170,IF(달력!$S$24=\"순서4\",근무!G170,IF(달력!$S$24=\"순서5\",근무!H170,IF(달력!$S$24=\"순서6\",근무!I170,\"\"))))))","v":"주간"},{"$f":"IF(달력!$S$25=\"순서1\",근무!D170,IF(달력!$S$25=\"순서2\",근무!E170,IF(달력!$S$25=\"순서3\",근무!F170,IF(달력!$S$25=\"순서4\",근무!G170,IF(달력!$S$25=\"순서5\",근무!H170,IF(달력!$S$25=\"순서6\",근무!I170,\"\"))))))","v":"주간"},{"$f":"IF(달력!$S$26=\"순서1\",근무!D170,IF(달력!$S$26=\"순서2\",근무!E170,IF(달력!$S$26=\"순서3\",근무!F170,IF(달력!$S$26=\"순서4\",근무!G170,IF(달력!$S$26=\"순서5\",근무!H170,IF(달력!$S$26=\"순서6\",근무!I170,\"\"))))))","v":"야간"},{"$f":"IF(달력!$S$27=\"순서1\",근무!D170,IF(달력!$S$27=\"순서2\",근무!E170,IF(달력!$S$27=\"순서3\",근무!F170,IF(달력!$S$27=\"순서4\",근무!G170,IF(달력!$S$27=\"순서5\",근무!H170,IF(달력!$S$27=\"순서6\",근무!I170,\"\"))))))","v":"야간"},{"$f":"IF(달력!$S$28=\"순서1\",근무!D170,IF(달력!$S$28=\"순서2\",근무!E170,IF(달력!$S$28=\"순서3\",근무!F170,IF(달력!$S$28=\"순서4\",근무!G170,IF(달력!$S$28=\"순서5\",근무!H170,IF(달력!$S$28=\"순서6\",근무!I170,\"\"))))))","v":"비번"},{"$f":"IF(달력!$S$29=\"순서1\",근무!D170,IF(달력!$S$29=\"순서2\",근무!E170,IF(달력!$S$29=\"순서3\",근무!F170,IF(달력!$S$29=\"순서4\",근무!G170,IF(달력!$S$29=\"순서5\",근무!H170,IF(달력!$S$29=\"순서6\",근무!I170,\"\"))))))","v":"비번"},null,null,6]
[null,"2023-06-14","수",{"$f":"IF(달력!$S$24=\"순서1\",근무!D171,IF(달력!$S$24=\"순서2\",근무!E171,IF(달력!$S$24=\"순서3\",근무!F171,IF(달력!$S$24=\"순서4\",근무!G171,IF(달력!$S$24=\"순서5\",근무!H171,IF(달력!$S$24=\"순서6\",근무!I171,\"\"))))))","v":"야간"},{"$f":"IF(달력!$S$25=\"순서1\",근무!D171,IF(달력!$S$25=\"순서2\",근무!E171,IF(달력!$S$25=\"순서3\",근무!F171,IF(달력!$S$25=\"순서4\",근무!G171,IF(달력!$S$25=\"순서5\",근무!H171,IF(달력!$S$25=\"순서6\",근무!I171,\"\"))))))","v":"야간"},{"$f":"IF(달력!$S$26=\"순서1\",근무!D171,IF(달력!$S$26=\"순서2\",근무!E171,IF(달력!$S$26=\"순서3\",근무!F171,IF(달력!$S$26=\"순서4\",근무!G171,IF(달력!$S$26=\"순서5\",근무!H171,IF(달력!$S$26=\"순서6\",근무!I171,\"\"))))))","v":"비번"},{"$f":"IF(달력!$S$27=\"순서1\",근무!D171,IF(달력!$S$27=\"순서2\",근무!E171,IF(달력!$S$27=\"순서3\",근무!F171,IF(달력!$S$27=\"순서4\",근무!G171,IF(달력!$S$27=\"순서5\",근무!H171,IF(달력!$S$27=\"순서6\",근무!I171,\"\"))))))","v":"비번"},{"$f":"IF(달력!$S$28=\"순서1\",근무!D171,IF(달력!$S$28=\"순서2\",근무!E171,IF(달력!$S$28=\"순서3\",근무!F171,IF(달력!$S$28=\"순서4\",근무!G171,IF(달력!$S$28=\"순서5\",근무!H171,IF(달력!$S$28=\"순서6\",근무!I171,\"\"))))))","v":"주간"},{"$f":"IF(달력!$S$29=\"순서1\",근무!D171,IF(달력!$S$29=\"순서2\",근무!E171,IF(달력!$S$29=\"순서3\",근무!F171,IF(달력!$S$29=\"순서4\",근무!G171,IF(달력!$S$29=\"순서5\",근무!H171,IF(달력!$S$29=\"순서6\",근무!I171,\"\"))))))","v":"주간"},null,null,6]
[null,"2023-06-15","목",{"$f":"IF(달력!$S$24=\"순서1\",근무!D172,IF(달력!$S$24=\"순서2\",근무!E172,IF(달력!$S$24=\"순서3\",근무!F172,IF(달력!$S$24=\"순서4\",근무!G172,IF(달력!$S$24=\"순서5\",근무!H172,IF(달력!$S$24=\"순서6\",근무!I172,\"\"))))))","v":"야간"},{"$f":"IF(달력!$S$25=\"순서1\",근무!D172,IF(달력!$S$25=\"순서2\",근무!E172,IF(달력!$S$25=\"순서3\",근무!F172,IF(달력!$S$25=\"순서4\",근무!G172,IF(달력!$S$25=\"순서5\",근무!H172,IF(달력!$S$25=\"순서6\",근무!I172,\"\"))))))","v":"야간"},{"$f":"IF(달력!$S$26=\"순서1\",근무!D172,IF(달력!$S$26=\"순서2\",근무!E172,IF(달력!$S$26=\"순서3\",근무!F172,IF(달력!$S$26=\"순서4\",근무!G172,IF(달력!$S$26=\"순서5\",근무!H172,IF(달력!$S$26=\"순서6\",근무!I172,\"\"))))))","v":"비번"},{"$f":"IF(달력!$S$27=\"순서1\",근무!D172,IF(달력!$S$27=\"순서2\",근무!E172,IF(달력!$S$27=\"순서3\",근무!F172,IF(달력!$S$27=\"순서4\",근무!G172,IF(달력!$S$27=\"순서5\",근무!H172,IF(달력!$S$27=\"순서6\",근무!I172,\"\"))))))","v":"비번"},{"$f":"IF(달력!$S$28=\"순서1\",근무!D172,IF(달력!$S$28=\"순서2\",근무!E172,IF(달력!$S$28=\"순서3\",근무!F172,IF(달력!$S$28=\"순서4\",근무!G172,IF(달력!$S$28=\"순서5\",근무!H172,IF(달력!$S$28=\"순서6\",근무!I172,\"\"))))))","v":"주간"},{"$f":"IF(달력!$S$29=\"순서1\",근무!D172,IF(달력!$S$29=\"순서2\",근무!E172,IF(달력!$S$29=\"순서3\",근무!F172,IF(달력!$S$29=\"순서4\",근무!G172,IF(달력!$S$29=\"순서5\",근무!H172,IF(달력!$S$29=\"순서6\",근무!I172,\"\"))))))","v":"주간"},null,null,6]
[null,"2023-06-16","금",{"$f":"IF(달력!$S$24=\"순서1\",근무!D173,IF(달력!$S$24=\"순서2\",근무!E173,IF(달력!$S$24=\"순서3\",근무!F173,IF(달력!$S$24=\"순서4\",근무!G173,IF(달력!$S$24=\"순서5\",근무!H173,IF(달력!$S$24=\"순서6\",근무!I173,\"\"))))))","v":"비번"},{"$f":"IF(달력!$S$25=\"순서1\",근무!D173,IF(달력!$S$25=\"순서2\",근무!E173,IF(달력!$S$25=\"순서3\",근무!F173,IF(달력!$S$25=\"순서4\",근무!G173,IF(달력!$S$25=\"순서5\",근무!H173,IF(달력!$S$25=\"순서6\",근무!I173,\"\"))))))","v":"비번"},{"$f":"IF(달력!$S$26=\"순서1\",근무!D173,IF(달력!$S$26=\"순서2\",근무!E173,IF(달력!$S$26=\"순서3\",근무!F173,IF(달력!$S$26=\"순서4\",근무!G173,IF(달력!$S$26=\"순서5\",근무!H173,IF(달력!$S$26=\"순서6\",근무!I173,\"\"))))))","v":"주간"},{"$f":"IF(달력!$S$27=\"순서1\",근무!D173,IF(달력!$S$27=\"순서2\",근무!E173,IF(달력!$S$27=\"순서3\",근무!F173,IF(달력!$S$27=\"순서4\",근무!G173,IF(달력!$S$27=\"순서5\",근무!H173,IF(달력!$S$27=\"순서6\",근무!I173,\"\"))))))","v":"주간"},{"$f":"IF(달력!$S$28=\"순서1\",근무!D173,IF(달력!$S$28=\"순서2\",근무!E173,IF(달력!$S$28=\"순서3\",근무!F173,IF(달력!$S$28=\"순서4\",근무!G173,IF(달력!$S$28=\"순서5\",근무!H173,IF(달력!$S$28=\"순서6\",근무!I173,\"\"))))))","v":"야간"},{"$f":"IF(달력!$S$29=\"순서1\",근무!D173,IF(달력!$S$29=\"순서2\",근무!E173,IF(달력!$S$29=\"순서3\",근무!F173,IF(달력!$S$29=\"순서4\",근무!G173,IF(달력!$S$29=\"순서5\",근무!H173,IF(달력!$S$29=\"순서6\",근무!I173,\"\"))))))","v":"야간"},null,null,6]
[null,"2023-06-17","토",{"$f":"IF(달력!$S$24=\"순서1\",근무!D174,IF(달력!$S$24=\"순서2\",근무!E174,IF(달력!$S$24=\"순서3\",근무!F174,IF(달력!$S$24=\"순서4\",근무!G174,IF(달력!$S$24=\"순서5\",근무!H174,IF(달력!$S$24=\"순서6\",근무!I174,\"\"))))))","v":"비번"},{"$f":"IF(달력!$S$25=\"순서1\",근무!D174,IF(달력!$S$25=\"순서2\",근무!E174,IF(달력!$S$25=\"순서3\",근무!F174,IF(달력!$S$25=\"순서4\",근무!G174,IF(달력!$S$25=\"순서5\",근무!H174,IF(달력!$S$25=\"순서6\",근무!I174,\"\"))))))","v":"비번"},{"$f":"IF(달력!$S$26=\"순서1\",근무!D174,IF(달력!$S$26=\"순서2\",근무!E174,IF(달력!$S$26=\"순서3\",근무!F174,IF(달력!$S$26=\"순서4\",근무!G174,IF(달력!$S$26=\"순서5\",근무!H174,IF(달력!$S$26=\"순서6\",근무!I174,\"\"))))))","v":"주간"},{"$f":"IF(달력!$S$27=\"순서1\",근무!D174,IF(달력!$S$27=\"순서2\",근무!E174,IF(달력!$S$27=\"순서3\",근무!F174,IF(달력!$S$27=\"순서4\",근무!G174,IF(달력!$S$27=\"순서5\",근무!H174,IF(달력!$S$27=\"순서6\",근무!I174,\"\"))))))","v":"주간"},{"$f":"IF(달력!$S$28=\"순서1\",근무!D174,IF(달력!$S$28=\"순서2\",근무!E174,IF(달력!$S$28=\"순서3\",근무!F174,IF(달력!$S$28=\"순서4\",근무!G174,IF(달력!$S$28=\"순서5\",근무!H174,IF(달력!$S$28=\"순서6\",근무!I174,\"\"))))))","v":"야간"},{"$f":"IF(달력!$S$29=\"순서1\",근무!D174,IF(달력!$S$29=\"순서2\",근무!E174,IF(달력!$S$29=\"순서3\",근무!F174,IF(달력!$S$29=\"순서4\",근무!G174,IF(달력!$S$29=\"순서5\",근무!H174,IF(달력!$S$29=\"순서6\",근무!I174,\"\"))))))","v":"야간"},null,null,6]
[null,"2023-06-18","일",{"$f":"IF(달력!$S$24=\"순서1\",근무!D175,IF(달력!$S$24=\"순서2\",근무!E175,IF(달력!$S$24=\"순서3\",근무!F175,IF(달력!$S$24=\"순서4\",근무!G175,IF(달력!$S$24=\"순서5\",근무!H175,IF(달력!$S$24=\"순서6\",근무!I175,\"\"))))))","v":"주간"},{"$f":"IF(달력!$S$25=\"순서1\",근무!D175,IF(달력!$S$25=\"순서2\",근무!E175,IF(달력!$S$25=\"순서3\",근무!F175,IF(달력!$S$25=\"순서4\",근무!G175,IF(달력!$S$25=\"순서5\",근무!H175,IF(달력!$S$25=\"순서6\",근무!I175,\"\"))))))","v":"주간"},{"$f":"IF(달력!$S$26=\"순서1\",근무!D175,IF(달력!$S$26=\"순서2\",근무!E175,IF(달력!$S$26=\"순서3\",근무!F175,IF(달력!$S$26=\"순서4\",근무!G175,IF(달력!$S$26=\"순서5\",근무!H175,IF(달력!$S$26=\"순서6\",근무!I175,\"\"))))))","v":"야간"},{"$f":"IF(달력!$S$27=\"순서1\",근무!D175,IF(달력!$S$27=\"순서2\",근무!E175,IF(달력!$S$27=\"순서3\",근무!F175,IF(달력!$S$27=\"순서4\",근무!G175,IF(달력!$S$27=\"순서5\",근무!H175,IF(달력!$S$27=\"순서6\",근무!I175,\"\"))))))","v":"야간"},{"$f":"IF(달력!$S$28=\"순서1\",근무!D175,IF(달력!$S$28=\"순서2\",근무!E175,IF(달력!$S$28=\"순서3\",근무!F175,IF(달력!$S$28=\"순서4\",근무!G175,IF(달력!$S$28=\"순서5\",근무!H175,IF(달력!$S$28=\"순서6\",근무!I175,\"\"))))))","v":"비번"},{"$f":"IF(달력!$S$29=\"순서1\",근무!D175,IF(달력!$S$29=\"순서2\",근무!E175,IF(달력!$S$29=\"순서3\",근무!F175,IF(달력!$S$29=\"순서4\",근무!G175,IF(달력!$S$29=\"순서5\",근무!H175,IF(달력!$S$29=\"순서6\",근무!I175,\"\"))))))","v":"비번"},null,null,6]
[null,"2023-06-19","월",{"$f":"IF(달력!$S$24=\"순서1\",근무!D176,IF(달력!$S$24=\"순서2\",근무!E176,IF(달력!$S$24=\"순서3\",근무!F176,IF(달력!$S$24=\"순서4\",근무!G176,IF(달력!$S$24=\"순서5\",근무!H176,IF(달력!$S$24=\"순서6\",근무!I176,\"\"))))))","v":"주간"},{"$f":"IF(달력!$S$25=\"순서1\",근무!D176,IF(달력!$S$25=\"순서2\",근무!E176,IF(달력!$S$25=\"순서3\",근무!F176,IF(달력!$S$25=\"순서4\",근무!G176,IF(달력!$S$25=\"순서5\",근무!H176,IF(달력!$S$25=\"순서6\",근무!I176,\"\"))))))","v":"주간"},{"$f":"IF(달력!$S$26=\"순서1\",근무!D176,IF(달력!$S$26=\"순서2\",근무!E176,IF(달력!$S$26=\"순서3\",근무!F176,IF(달력!$S$26=\"순서4\",근무!G176,IF(달력!$S$26=\"순서5\",근무!H176,IF(달력!$S$26=\"순서6\",근무!I176,\"\"))))))","v":"야간"},{"$f":"IF(달력!$S$27=\"순서1\",근무!D176,IF(달력!$S$27=\"순서2\",근무!E176,IF(달력!$S$27=\"순서3\",근무!F176,IF(달력!$S$27=\"순서4\",근무!G176,IF(달력!$S$27=\"순서5\",근무!H176,IF(달력!$S$27=\"순서6\",근무!I176,\"\"))))))","v":"야간"},{"$f":"IF(달력!$S$28=\"순서1\",근무!D176,IF(달력!$S$28=\"순서2\",근무!E176,IF(달력!$S$28=\"순서3\",근무!F176,IF(달력!$S$28=\"순서4\",근무!G176,IF(달력!$S$28=\"순서5\",근무!H176,IF(달력!$S$28=\"순서6\",근무!I176,\"\"))))))","v":"비번"},{"$f":"IF(달력!$S$29=\"순서1\",근무!D176,IF(달력!$S$29=\"순서2\",근무!E176,IF(달력!$S$29=\"순서3\",근무!F176,IF(달력!$S$29=\"순서4\",근무!G176,IF(달력!$S$29=\"순서5\",근무!H176,IF(달력!$S$29=\"순서6\",근무!I176,\"\"))))))","v":"비번"},null,null,6]
[null,"2023-06-20","화",{"$f":"IF(달력!$S$24=\"순서1\",근무!D177,IF(달력!$S$24=\"순서2\",근무!E177,IF(달력!$S$24=\"순서3\",근무!F177,IF(달력!$S$24=\"순서4\",근무!G177,IF(달력!$S$24=\"순서5\",근무!H177,IF(달력!$S$24=\"순서6\",근무!I177,\"\"))))))","v":"야간"},{"$f":"IF(달력!$S$25=\"순서1\",근무!D177,IF(달력!$S$25=\"순서2\",근무!E177,IF(달력!$S$25=\"순서3\",근무!F177,IF(달력!$S$25=\"순서4\",근무!G177,IF(달력!$S$25=\"순서5\",근무!H177,IF(달력!$S$25=\"순서6\",근무!I177,\"\"))))))","v":"야간"},{"$f":"IF(달력!$S$26=\"순서1\",근무!D177,IF(달력!$S$26=\"순서2\",근무!E177,IF(달력!$S$26=\"순서3\",근무!F177,IF(달력!$S$26=\"순서4\",근무!G177,IF(달력!$S$26=\"순서5\",근무!H177,IF(달력!$S$26=\"순서6\",근무!I177,\"\"))))))","v":"비번"},{"$f":"IF(달력!$S$27=\"순서1\",근무!D177,IF(달력!$S$27=\"순서2\",근무!E177,IF(달력!$S$27=\"순서3\",근무!F177,IF(달력!$S$27=\"순서4\",근무!G177,IF(달력!$S$27=\"순서5\",근무!H177,IF(달력!$S$27=\"순서6\",근무!I177,\"\"))))))","v":"비번"},{"$f":"IF(달력!$S$28=\"순서1\",근무!D177,IF(달력!$S$28=\"순서2\",근무!E177,IF(달력!$S$28=\"순서3\",근무!F177,IF(달력!$S$28=\"순서4\",근무!G177,IF(달력!$S$28=\"순서5\",근무!H177,IF(달력!$S$28=\"순서6\",근무!I177,\"\"))))))","v":"주간"},{"$f":"IF(달력!$S$29=\"순서1\",근무!D177,IF(달력!$S$29=\"순서2\",근무!E177,IF(달력!$S$29=\"순서3\",근무!F177,IF(달력!$S$29=\"순서4\",근무!G177,IF(달력!$S$29=\"순서5\",근무!H177,IF(달력!$S$29=\"순서6\",근무!I177,\"\"))))))","v":"주간"},null,null,6]
[null,"2023-06-21","수",{"$f":"IF(달력!$S$24=\"순서1\",근무!D178,IF(달력!$S$24=\"순서2\",근무!E178,IF(달력!$S$24=\"순서3\",근무!F178,IF(달력!$S$24=\"순서4\",근무!G178,IF(달력!$S$24=\"순서5\",근무!H178,IF(달력!$S$24=\"순서6\",근무!I178,\"\"))))))","v":"야간"},{"$f":"IF(달력!$S$25=\"순서1\",근무!D178,IF(달력!$S$25=\"순서2\",근무!E178,IF(달력!$S$25=\"순서3\",근무!F178,IF(달력!$S$25=\"순서4\",근무!G178,IF(달력!$S$25=\"순서5\",근무!H178,IF(달력!$S$25=\"순서6\",근무!I178,\"\"))))))","v":"야간"},{"$f":"IF(달력!$S$26=\"순서1\",근무!D178,IF(달력!$S$26=\"순서2\",근무!E178,IF(달력!$S$26=\"순서3\",근무!F178,IF(달력!$S$26=\"순서4\",근무!G178,IF(달력!$S$26=\"순서5\",근무!H178,IF(달력!$S$26=\"순서6\",근무!I178,\"\"))))))","v":"비번"},{"$f":"IF(달력!$S$27=\"순서1\",근무!D178,IF(달력!$S$27=\"순서2\",근무!E178,IF(달력!$S$27=\"순서3\",근무!F178,IF(달력!$S$27=\"순서4\",근무!G178,IF(달력!$S$27=\"순서5\",근무!H178,IF(달력!$S$27=\"순서6\",근무!I178,\"\"))))))","v":"비번"},{"$f":"IF(달력!$S$28=\"순서1\",근무!D178,IF(달력!$S$28=\"순서2\",근무!E178,IF(달력!$S$28=\"순서3\",근무!F178,IF(달력!$S$28=\"순서4\",근무!G178,IF(달력!$S$28=\"순서5\",근무!H178,IF(달력!$S$28=\"순서6\",근무!I178,\"\"))))))","v":"주간"},{"$f":"IF(달력!$S$29=\"순서1\",근무!D178,IF(달력!$S$29=\"순서2\",근무!E178,IF(달력!$S$29=\"순서3\",근무!F178,IF(달력!$S$29=\"순서4\",근무!G178,IF(달력!$S$29=\"순서5\",근무!H178,IF(달력!$S$29=\"순서6\",근무!I178,\"\"))))))","v":"주간"},null,null,6]
[null,"2023-06-22","목",{"$f":"IF(달력!$S$24=\"순서1\",근무!D179,IF(달력!$S$24=\"순서2\",근무!E179,IF(달력!$S$24=\"순서3\",근무!F179,IF(달력!$S$24=\"순서4\",근무!G179,IF(달력!$S$24=\"순서5\",근무!H179,IF(달력!$S$24=\"순서6\",근무!I179,\"\"))))))","v":"비번"},{"$f":"IF(달력!$S$25=\"순서1\",근무!D179,IF(달력!$S$25=\"순서2\",근무!E179,IF(달력!$S$25=\"순서3\",근무!F179,IF(달력!$S$25=\"순서4\",근무!G179,IF(달력!$S$25=\"순서5\",근무!H179,IF(달력!$S$25=\"순서6\",근무!I179,\"\"))))))","v":"비번"},{"$f":"IF(달력!$S$26=\"순서1\",근무!D179,IF(달력!$S$26=\"순서2\",근무!E179,IF(달력!$S$26=\"순서3\",근무!F179,IF(달력!$S$26=\"순서4\",근무!G179,IF(달력!$S$26=\"순서5\",근무!H179,IF(달력!$S$26=\"순서6\",근무!I179,\"\"))))))","v":"주간"},{"$f":"IF(달력!$S$27=\"순서1\",근무!D179,IF(달력!$S$27=\"순서2\",근무!E179,IF(달력!$S$27=\"순서3\",근무!F179,IF(달력!$S$27=\"순서4\",근무!G179,IF(달력!$S$27=\"순서5\",근무!H179,IF(달력!$S$27=\"순서6\",근무!I179,\"\"))))))","v":"주간"},{"$f":"IF(달력!$S$28=\"순서1\",근무!D179,IF(달력!$S$28=\"순서2\",근무!E179,IF(달력!$S$28=\"순서3\",근무!F179,IF(달력!$S$28=\"순서4\",근무!G179,IF(달력!$S$28=\"순서5\",근무!H179,IF(달력!$S$28=\"순서6\",근무!I179,\"\"))))))","v":"야간"},{"$f":"IF(달력!$S$29=\"순서1\",근무!D179,IF(달력!$S$29=\"순서2\",근무!E179,IF(달력!$S$29=\"순서3\",근무!F179,IF(달력!$S$29=\"순서4\",근무!G179,IF(달력!$S$29=\"순서5\",근무!H179,IF(달력!$S$29=\"순서6\",근무!I179,\"\"))))))","v":"야간"},null,null,6]
[null,"2023-06-23","금",{"$f":"IF(달력!$S$24=\"순서1\",근무!D180,IF(달력!$S$24=\"순서2\",근무!E180,IF(달력!$S$24=\"순서3\",근무!F180,IF(달력!$S$24=\"순서4\",근무!G180,IF(달력!$S$24=\"순서5\",근무!H180,IF(달력!$S$24=\"순서6\",근무!I180,\"\"))))))","v":"비번"},{"$f":"IF(달력!$S$25=\"순서1\",근무!D180,IF(달력!$S$25=\"순서2\",근무!E180,IF(달력!$S$25=\"순서3\",근무!F180,IF(달력!$S$25=\"순서4\",근무!G180,IF(달력!$S$25=\"순서5\",근무!H180,IF(달력!$S$25=\"순서6\",근무!I180,\"\"))))))","v":"비번"},{"$f":"IF(달력!$S$26=\"순서1\",근무!D180,IF(달력!$S$26=\"순서2\",근무!E180,IF(달력!$S$26=\"순서3\",근무!F180,IF(달력!$S$26=\"순서4\",근무!G180,IF(달력!$S$26=\"순서5\",근무!H180,IF(달력!$S$26=\"순서6\",근무!I180,\"\"))))))","v":"주간"},{"$f":"IF(달력!$S$27=\"순서1\",근무!D180,IF(달력!$S$27=\"순서2\",근무!E180,IF(달력!$S$27=\"순서3\",근무!F180,IF(달력!$S$27=\"순서4\",근무!G180,IF(달력!$S$27=\"순서5\",근무!H180,IF(달력!$S$27=\"순서6\",근무!I180,\"\"))))))","v":"주간"},{"$f":"IF(달력!$S$28=\"순서1\",근무!D180,IF(달력!$S$28=\"순서2\",근무!E180,IF(달력!$S$28=\"순서3\",근무!F180,IF(달력!$S$28=\"순서4\",근무!G180,IF(달력!$S$28=\"순서5\",근무!H180,IF(달력!$S$28=\"순서6\",근무!I180,\"\"))))))","v":"야간"},{"$f":"IF(달력!$S$29=\"순서1\",근무!D180,IF(달력!$S$29=\"순서2\",근무!E180,IF(달력!$S$29=\"순서3\",근무!F180,IF(달력!$S$29=\"순서4\",근무!G180,IF(달력!$S$29=\"순서5\",근무!H180,IF(달력!$S$29=\"순서6\",근무!I180,\"\"))))))","v":"야간"},null,null,6]
[null,"2023-06-24","토",{"$f":"IF(달력!$S$24=\"순서1\",근무!D181,IF(달력!$S$24=\"순서2\",근무!E181,IF(달력!$S$24=\"순서3\",근무!F181,IF(달력!$S$24=\"순서4\",근무!G181,IF(달력!$S$24=\"순서5\",근무!H181,IF(달력!$S$24=\"순서6\",근무!I181,\"\"))))))","v":"주간"},{"$f":"IF(달력!$S$25=\"순서1\",근무!D181,IF(달력!$S$25=\"순서2\",근무!E181,IF(달력!$S$25=\"순서3\",근무!F181,IF(달력!$S$25=\"순서4\",근무!G181,IF(달력!$S$25=\"순서5\",근무!H181,IF(달력!$S$25=\"순서6\",근무!I181,\"\"))))))","v":"주간"},{"$f":"IF(달력!$S$26=\"순서1\",근무!D181,IF(달력!$S$26=\"순서2\",근무!E181,IF(달력!$S$26=\"순서3\",근무!F181,IF(달력!$S$26=\"순서4\",근무!G181,IF(달력!$S$26=\"순서5\",근무!H181,IF(달력!$S$26=\"순서6\",근무!I181,\"\"))))))","v":"야간"},{"$f":"IF(달력!$S$27=\"순서1\",근무!D181,IF(달력!$S$27=\"순서2\",근무!E181,IF(달력!$S$27=\"순서3\",근무!F181,IF(달력!$S$27=\"순서4\",근무!G181,IF(달력!$S$27=\"순서5\",근무!H181,IF(달력!$S$27=\"순서6\",근무!I181,\"\"))))))","v":"야간"},{"$f":"IF(달력!$S$28=\"순서1\",근무!D181,IF(달력!$S$28=\"순서2\",근무!E181,IF(달력!$S$28=\"순서3\",근무!F181,IF(달력!$S$28=\"순서4\",근무!G181,IF(달력!$S$28=\"순서5\",근무!H181,IF(달력!$S$28=\"순서6\",근무!I181,\"\"))))))","v":"비번"},{"$f":"IF(달력!$S$29=\"순서1\",근무!D181,IF(달력!$S$29=\"순서2\",근무!E181,IF(달력!$S$29=\"순서3\",근무!F181,IF(달력!$S$29=\"순서4\",근무!G181,IF(달력!$S$29=\"순서5\",근무!H181,IF(달력!$S$29=\"순서6\",근무!I181,\"\"))))))","v":"비번"},null,null,6]
[null,"2023-06-25","일",{"$f":"IF(달력!$S$24=\"순서1\",근무!D182,IF(달력!$S$24=\"순서2\",근무!E182,IF(달력!$S$24=\"순서3\",근무!F182,IF(달력!$S$24=\"순서4\",근무!G182,IF(달력!$S$24=\"순서5\",근무!H182,IF(달력!$S$24=\"순서6\",근무!I182,\"\"))))))","v":"주간"},{"$f":"IF(달력!$S$25=\"순서1\",근무!D182,IF(달력!$S$25=\"순서2\",근무!E182,IF(달력!$S$25=\"순서3\",근무!F182,IF(달력!$S$25=\"순서4\",근무!G182,IF(달력!$S$25=\"순서5\",근무!H182,IF(달력!$S$25=\"순서6\",근무!I182,\"\"))))))","v":"주간"},{"$f":"IF(달력!$S$26=\"순서1\",근무!D182,IF(달력!$S$26=\"순서2\",근무!E182,IF(달력!$S$26=\"순서3\",근무!F182,IF(달력!$S$26=\"순서4\",근무!G182,IF(달력!$S$26=\"순서5\",근무!H182,IF(달력!$S$26=\"순서6\",근무!I182,\"\"))))))","v":"야간"},{"$f":"IF(달력!$S$27=\"순서1\",근무!D182,IF(달력!$S$27=\"순서2\",근무!E182,IF(달력!$S$27=\"순서3\",근무!F182,IF(달력!$S$27=\"순서4\",근무!G182,IF(달력!$S$27=\"순서5\",근무!H182,IF(달력!$S$27=\"순서6\",근무!I182,\"\"))))))","v":"야간"},{"$f":"IF(달력!$S$28=\"순서1\",근무!D182,IF(달력!$S$28=\"순서2\",근무!E182,IF(달력!$S$28=\"순서3\",근무!F182,IF(달력!$S$28=\"순서4\",근무!G182,IF(달력!$S$28=\"순서5\",근무!H182,IF(달력!$S$28=\"순서6\",근무!I182,\"\"))))))","v":"비번"},{"$f":"IF(달력!$S$29=\"순서1\",근무!D182,IF(달력!$S$29=\"순서2\",근무!E182,IF(달력!$S$29=\"순서3\",근무!F182,IF(달력!$S$29=\"순서4\",근무!G182,IF(달력!$S$29=\"순서5\",근무!H182,IF(달력!$S$29=\"순서6\",근무!I182,\"\"))))))","v":"비번"},null,null,6]
[null,"2023-06-26","월",{"$f":"IF(달력!$S$24=\"순서1\",근무!D183,IF(달력!$S$24=\"순서2\",근무!E183,IF(달력!$S$24=\"순서3\",근무!F183,IF(달력!$S$24=\"순서4\",근무!G183,IF(달력!$S$24=\"순서5\",근무!H183,IF(달력!$S$24=\"순서6\",근무!I183,\"\"))))))","v":"야간"},{"$f":"IF(달력!$S$25=\"순서1\",근무!D183,IF(달력!$S$25=\"순서2\",근무!E183,IF(달력!$S$25=\"순서3\",근무!F183,IF(달력!$S$25=\"순서4\",근무!G183,IF(달력!$S$25=\"순서5\",근무!H183,IF(달력!$S$25=\"순서6\",근무!I183,\"\"))))))","v":"야간"},{"$f":"IF(달력!$S$26=\"순서1\",근무!D183,IF(달력!$S$26=\"순서2\",근무!E183,IF(달력!$S$26=\"순서3\",근무!F183,IF(달력!$S$26=\"순서4\",근무!G183,IF(달력!$S$26=\"순서5\",근무!H183,IF(달력!$S$26=\"순서6\",근무!I183,\"\"))))))","v":"비번"},{"$f":"IF(달력!$S$27=\"순서1\",근무!D183,IF(달력!$S$27=\"순서2\",근무!E183,IF(달력!$S$27=\"순서3\",근무!F183,IF(달력!$S$27=\"순서4\",근무!G183,IF(달력!$S$27=\"순서5\",근무!H183,IF(달력!$S$27=\"순서6\",근무!I183,\"\"))))))","v":"비번"},{"$f":"IF(달력!$S$28=\"순서1\",근무!D183,IF(달력!$S$28=\"순서2\",근무!E183,IF(달력!$S$28=\"순서3\",근무!F183,IF(달력!$S$28=\"순서4\",근무!G183,IF(달력!$S$28=\"순서5\",근무!H183,IF(달력!$S$28=\"순서6\",근무!I183,\"\"))))))","v":"주간"},{"$f":"IF(달력!$S$29=\"순서1\",근무!D183,IF(달력!$S$29=\"순서2\",근무!E183,IF(달력!$S$29=\"순서3\",근무!F183,IF(달력!$S$29=\"순서4\",근무!G183,IF(달력!$S$29=\"순서5\",근무!H183,IF(달력!$S$29=\"순서6\",근무!I183,\"\"))))))","v":"주간"},null,null,6]
[null,"2023-06-27","화",{"$f":"IF(달력!$S$24=\"순서1\",근무!D184,IF(달력!$S$24=\"순서2\",근무!E184,IF(달력!$S$24=\"순서3\",근무!F184,IF(달력!$S$24=\"순서4\",근무!G184,IF(달력!$S$24=\"순서5\",근무!H184,IF(달력!$S$24=\"순서6\",근무!I184,\"\"))))))","v":"야간"},{"$f":"IF(달력!$S$25=\"순서1\",근무!D184,IF(달력!$S$25=\"순서2\",근무!E184,IF(달력!$S$25=\"순서3\",근무!F184,IF(달력!$S$25=\"순서4\",근무!G184,IF(달력!$S$25=\"순서5\",근무!H184,IF(달력!$S$25=\"순서6\",근무!I184,\"\"))))))","v":"야간"},{"$f":"IF(달력!$S$26=\"순서1\",근무!D184,IF(달력!$S$26=\"순서2\",근무!E184,IF(달력!$S$26=\"순서3\",근무!F184,IF(달력!$S$26=\"순서4\",근무!G184,IF(달력!$S$26=\"순서5\",근무!H184,IF(달력!$S$26=\"순서6\",근무!I184,\"\"))))))","v":"비번"},{"$f":"IF(달력!$S$27=\"순서1\",근무!D184,IF(달력!$S$27=\"순서2\",근무!E184,IF(달력!$S$27=\"순서3\",근무!F184,IF(달력!$S$27=\"순서4\",근무!G184,IF(달력!$S$27=\"순서5\",근무!H184,IF(달력!$S$27=\"순서6\",근무!I184,\"\"))))))","v":"비번"},{"$f":"IF(달력!$S$28=\"순서1\",근무!D184,IF(달력!$S$28=\"순서2\",근무!E184,IF(달력!$S$28=\"순서3\",근무!F184,IF(달력!$S$28=\"순서4\",근무!G184,IF(달력!$S$28=\"순서5\",근무!H184,IF(달력!$S$28=\"순서6\",근무!I184,\"\"))))))","v":"주간"},{"$f":"IF(달력!$S$29=\"순서1\",근무!D184,IF(달력!$S$29=\"순서2\",근무!E184,IF(달력!$S$29=\"순서3\",근무!F184,IF(달력!$S$29=\"순서4\",근무!G184,IF(달력!$S$29=\"순서5\",근무!H184,IF(달력!$S$29=\"순서6\",근무!I184,\"\"))))))","v":"주간"},null,null,6]
[null,"2023-06-28","수",{"$f":"IF(달력!$S$24=\"순서1\",근무!D185,IF(달력!$S$24=\"순서2\",근무!E185,IF(달력!$S$24=\"순서3\",근무!F185,IF(달력!$S$24=\"순서4\",근무!G185,IF(달력!$S$24=\"순서5\",근무!H185,IF(달력!$S$24=\"순서6\",근무!I185,\"\"))))))","v":"비번"},{"$f":"IF(달력!$S$25=\"순서1\",근무!D185,IF(달력!$S$25=\"순서2\",근무!E185,IF(달력!$S$25=\"순서3\",근무!F185,IF(달력!$S$25=\"순서4\",근무!G185,IF(달력!$S$25=\"순서5\",근무!H185,IF(달력!$S$25=\"순서6\",근무!I185,\"\"))))))","v":"비번"},{"$f":"IF(달력!$S$26=\"순서1\",근무!D185,IF(달력!$S$26=\"순서2\",근무!E185,IF(달력!$S$26=\"순서3\",근무!F185,IF(달력!$S$26=\"순서4\",근무!G185,IF(달력!$S$26=\"순서5\",근무!H185,IF(달력!$S$26=\"순서6\",근무!I185,\"\"))))))","v":"주간"},{"$f":"IF(달력!$S$27=\"순서1\",근무!D185,IF(달력!$S$27=\"순서2\",근무!E185,IF(달력!$S$27=\"순서3\",근무!F185,IF(달력!$S$27=\"순서4\",근무!G185,IF(달력!$S$27=\"순서5\",근무!H185,IF(달력!$S$27=\"순서6\",근무!I185,\"\"))))))","v":"주간"},{"$f":"IF(달력!$S$28=\"순서1\",근무!D185,IF(달력!$S$28=\"순서2\",근무!E185,IF(달력!$S$28=\"순서3\",근무!F185,IF(달력!$S$28=\"순서4\",근무!G185,IF(달력!$S$28=\"순서5\",근무!H185,IF(달력!$S$28=\"순서6\",근무!I185,\"\"))))))","v":"야간"},{"$f":"IF(달력!$S$29=\"순서1\",근무!D185,IF(달력!$S$29=\"순서2\",근무!E185,IF(달력!$S$29=\"순서3\",근무!F185,IF(달력!$S$29=\"순서4\",근무!G185,IF(달력!$S$29=\"순서5\",근무!H185,IF(달력!$S$29=\"순서6\",근무!I185,\"\"))))))","v":"야간"},null,null,6]
[null,"2023-06-29","목",{"$f":"IF(달력!$S$24=\"순서1\",근무!D186,IF(달력!$S$24=\"순서2\",근무!E186,IF(달력!$S$24=\"순서3\",근무!F186,IF(달력!$S$24=\"순서4\",근무!G186,IF(달력!$S$24=\"순서5\",근무!H186,IF(달력!$S$24=\"순서6\",근무!I186,\"\"))))))","v":"비번"},{"$f":"IF(달력!$S$25=\"순서1\",근무!D186,IF(달력!$S$25=\"순서2\",근무!E186,IF(달력!$S$25=\"순서3\",근무!F186,IF(달력!$S$25=\"순서4\",근무!G186,IF(달력!$S$25=\"순서5\",근무!H186,IF(달력!$S$25=\"순서6\",근무!I186,\"\"))))))","v":"비번"},{"$f":"IF(달력!$S$26=\"순서1\",근무!D186,IF(달력!$S$26=\"순서2\",근무!E186,IF(달력!$S$26=\"순서3\",근무!F186,IF(달력!$S$26=\"순서4\",근무!G186,IF(달력!$S$26=\"순서5\",근무!H186,IF(달력!$S$26=\"순서6\",근무!I186,\"\"))))))","v":"주간"},{"$f":"IF(달력!$S$27=\"순서1\",근무!D186,IF(달력!$S$27=\"순서2\",근무!E186,IF(달력!$S$27=\"순서3\",근무!F186,IF(달력!$S$27=\"순서4\",근무!G186,IF(달력!$S$27=\"순서5\",근무!H186,IF(달력!$S$27=\"순서6\",근무!I186,\"\"))))))","v":"주간"},{"$f":"IF(달력!$S$28=\"순서1\",근무!D186,IF(달력!$S$28=\"순서2\",근무!E186,IF(달력!$S$28=\"순서3\",근무!F186,IF(달력!$S$28=\"순서4\",근무!G186,IF(달력!$S$28=\"순서5\",근무!H186,IF(달력!$S$28=\"순서6\",근무!I186,\"\"))))))","v":"야간"},{"$f":"IF(달력!$S$29=\"순서1\",근무!D186,IF(달력!$S$29=\"순서2\",근무!E186,IF(달력!$S$29=\"순서3\",근무!F186,IF(달력!$S$29=\"순서4\",근무!G186,IF(달력!$S$29=\"순서5\",근무!H186,IF(달력!$S$29=\"순서6\",근무!I186,\"\"))))))","v":"야간"},null,null,6]
[null,"2023-06-30","금",{"$f":"IF(달력!$S$24=\"순서1\",근무!D187,IF(달력!$S$24=\"순서2\",근무!E187,IF(달력!$S$24=\"순서3\",근무!F187,IF(달력!$S$24=\"순서4\",근무!G187,IF(달력!$S$24=\"순서5\",근무!H187,IF(달력!$S$24=\"순서6\",근무!I187,\"\"))))))","v":"주간"},{"$f":"IF(달력!$S$25=\"순서1\",근무!D187,IF(달력!$S$25=\"순서2\",근무!E187,IF(달력!$S$25=\"순서3\",근무!F187,IF(달력!$S$25=\"순서4\",근무!G187,IF(달력!$S$25=\"순서5\",근무!H187,IF(달력!$S$25=\"순서6\",근무!I187,\"\"))))))","v":"주간"},{"$f":"IF(달력!$S$26=\"순서1\",근무!D187,IF(달력!$S$26=\"순서2\",근무!E187,IF(달력!$S$26=\"순서3\",근무!F187,IF(달력!$S$26=\"순서4\",근무!G187,IF(달력!$S$26=\"순서5\",근무!H187,IF(달력!$S$26=\"순서6\",근무!I187,\"\"))))))","v":"야간"},{"$f":"IF(달력!$S$27=\"순서1\",근무!D187,IF(달력!$S$27=\"순서2\",근무!E187,IF(달력!$S$27=\"순서3\",근무!F187,IF(달력!$S$27=\"순서4\",근무!G187,IF(달력!$S$27=\"순서5\",근무!H187,IF(달력!$S$27=\"순서6\",근무!I187,\"\"))))))","v":"야간"},{"$f":"IF(달력!$S$28=\"순서1\",근무!D187,IF(달력!$S$28=\"순서2\",근무!E187,IF(달력!$S$28=\"순서3\",근무!F187,IF(달력!$S$28=\"순서4\",근무!G187,IF(달력!$S$28=\"순서5\",근무!H187,IF(달력!$S$28=\"순서6\",근무!I187,\"\"))))))","v":"비번"},{"$f":"IF(달력!$S$29=\"순서1\",근무!D187,IF(달력!$S$29=\"순서2\",근무!E187,IF(달력!$S$29=\"순서3\",근무!F187,IF(달력!$S$29=\"순서4\",근무!G187,IF(달력!$S$29=\"순서5\",근무!H187,IF(달력!$S$29=\"순서6\",근무!I187,\"\"))))))","v":"비번"},null,null,6]
[null,"2023-07-01","토",{"$f":"IF(달력!$S$24=\"순서1\",근무!D188,IF(달력!$S$24=\"순서2\",근무!E188,IF(달력!$S$24=\"순서3\",근무!F188,IF(달력!$S$24=\"순서4\",근무!G188,IF(달력!$S$24=\"순서5\",근무!H188,IF(달력!$S$24=\"순서6\",근무!I188,\"\"))))))","v":"주간"},{"$f":"IF(달력!$S$25=\"순서1\",근무!D188,IF(달력!$S$25=\"순서2\",근무!E188,IF(달력!$S$25=\"순서3\",근무!F188,IF(달력!$S$25=\"순서4\",근무!G188,IF(달력!$S$25=\"순서5\",근무!H188,IF(달력!$S$25=\"순서6\",근무!I188,\"\"))))))","v":"주간"},{"$f":"IF(달력!$S$26=\"순서1\",근무!D188,IF(달력!$S$26=\"순서2\",근무!E188,IF(달력!$S$26=\"순서3\",근무!F188,IF(달력!$S$26=\"순서4\",근무!G188,IF(달력!$S$26=\"순서5\",근무!H188,IF(달력!$S$26=\"순서6\",근무!I188,\"\"))))))","v":"야간"},{"$f":"IF(달력!$S$27=\"순서1\",근무!D188,IF(달력!$S$27=\"순서2\",근무!E188,IF(달력!$S$27=\"순서3\",근무!F188,IF(달력!$S$27=\"순서4\",근무!G188,IF(달력!$S$27=\"순서5\",근무!H188,IF(달력!$S$27=\"순서6\",근무!I188,\"\"))))))","v":"야간"},{"$f":"IF(달력!$S$28=\"순서1\",근무!D188,IF(달력!$S$28=\"순서2\",근무!E188,IF(달력!$S$28=\"순서3\",근무!F188,IF(달력!$S$28=\"순서4\",근무!G188,IF(달력!$S$28=\"순서5\",근무!H188,IF(달력!$S$28=\"순서6\",근무!I188,\"\"))))))","v":"비번"},{"$f":"IF(달력!$S$29=\"순서1\",근무!D188,IF(달력!$S$29=\"순서2\",근무!E188,IF(달력!$S$29=\"순서3\",근무!F188,IF(달력!$S$29=\"순서4\",근무!G188,IF(달력!$S$29=\"순서5\",근무!H188,IF(달력!$S$29=\"순서6\",근무!I188,\"\"))))))","v":"비번"},null,"주간",7,{"$f":"COUNTIFS(일정1내용,$K188,$L$7:$L$372,7)","v":11},{"$f":"COUNTIFS(일정2내용,$K188,$L$7:$L$372,7)","v":11},{"$f":"COUNTIFS(일정3내용,$K188,$L$7:$L$372,7)","v":10},{"$f":"COUNTIFS(일정4내용,$K188,$L$7:$L$372,7)","v":10},{"$f":"COUNTIFS(일정5내용,$K188,$L$7:$L$372,7)","v":10},{"$f":"COUNTIFS(일정6내용,$K188,$L$7:$L$372,7)","v":10}]
[null,"2023-07-02","일",{"$f":"IF(달력!$S$24=\"순서1\",근무!D189,IF(달력!$S$24=\"순서2\",근무!E189,IF(달력!$S$24=\"순서3\",근무!F189,IF(달력!$S$24=\"순서4\",근무!G189,IF(달력!$S$24=\"순서5\",근무!H189,IF(달력!$S$24=\"순서6\",근무!I189,\"\"))))))","v":"야간"},{"$f":"IF(달력!$S$25=\"순서1\",근무!D189,IF(달력!$S$25=\"순서2\",근무!E189,IF(달력!$S$25=\"순서3\",근무!F189,IF(달력!$S$25=\"순서4\",근무!G189,IF(달력!$S$25=\"순서5\",근무!H189,IF(달력!$S$25=\"순서6\",근무!I189,\"\"))))))","v":"야간"},{"$f":"IF(달력!$S$26=\"순서1\",근무!D189,IF(달력!$S$26=\"순서2\",근무!E189,IF(달력!$S$26=\"순서3\",근무!F189,IF(달력!$S$26=\"순서4\",근무!G189,IF(달력!$S$26=\"순서5\",근무!H189,IF(달력!$S$26=\"순서6\",근무!I189,\"\"))))))","v":"비번"},{"$f":"IF(달력!$S$27=\"순서1\",근무!D189,IF(달력!$S$27=\"순서2\",근무!E189,IF(달력!$S$27=\"순서3\",근무!F189,IF(달력!$S$27=\"순서4\",근무!G189,IF(달력!$S$27=\"순서5\",근무!H189,IF(달력!$S$27=\"순서6\",근무!I189,\"\"))))))","v":"비번"},{"$f":"IF(달력!$S$28=\"순서1\",근무!D189,IF(달력!$S$28=\"순서2\",근무!E189,IF(달력!$S$28=\"순서3\",근무!F189,IF(달력!$S$28=\"순서4\",근무!G189,IF(달력!$S$28=\"순서5\",근무!H189,IF(달력!$S$28=\"순서6\",근무!I189,\"\"))))))","v":"주간"},{"$f":"IF(달력!$S$29=\"순서1\",근무!D189,IF(달력!$S$29=\"순서2\",근무!E189,IF(달력!$S$29=\"순서3\",근무!F189,IF(달력!$S$29=\"순서4\",근무!G189,IF(달력!$S$29=\"순서5\",근무!H189,IF(달력!$S$29=\"순서6\",근무!I189,\"\"))))))","v":"주간"},null,"야간",7,{"$f":"COUNTIFS(일정1내용,$K189,$L$7:$L$372,7)","v":10},{"$f":"COUNTIFS(일정2내용,$K189,$L$7:$L$372,7)","v":10},{"$f":"COUNTIFS(일정3내용,$K189,$L$7:$L$372,7)","v":11},{"$f":"COUNTIFS(일정4내용,$K189,$L$7:$L$372,7)","v":11},{"$f":"COUNTIFS(일정5내용,$K189,$L$7:$L$372,7)","v":10},{"$f":"COUNTIFS(일정6내용,$K189,$L$7:$L$372,7)","v":10}]
[null,"2023-07-03","월",{"$f":"IF(달력!$S$24=\"순서1\",근무!D190,IF(달력!$S$24=\"순서2\",근무!E190,IF(달력!$S$24=\"순서3\",근무!F190,IF(달력!$S$24=\"순서4\",근무!G190,IF(달력!$S$24=\"순서5\",근무!H190,IF(달력!$S$24=\"순서6\",근무!I190,\"\"))))))","v":"야간"},{"$f":"IF(달력!$S$25=\"순서1\",근무!D190,IF(달력!$S$25=\"순서2\",근무!E190,IF(달력!$S$25=\"순서3\",근무!F190,IF(달력!$S$25=\"순서4\",근무!G190,IF(달력!$S$25=\"순서5\",근무!H190,IF(달력!$S$25=\"순서6\",근무!I190,\"\"))))))","v":"야간"},{"$f":"IF(달력!$S$26=\"순서1\",근무!D190,IF(달력!$S$26=\"순서2\",근무!E190,IF(달력!$S$26=\"순서3\",근무!F190,IF(달력!$S$26=\"순서4\",근무!G190,IF(달력!$S$26=\"순서5\",근무!H190,IF(달력!$S$26=\"순서6\",근무!I190,\"\"))))))","v":"비번"},{"$f":"IF(달력!$S$27=\"순서1\",근무!D190,IF(달력!$S$27=\"순서2\",근무!E190,IF(달력!$S$27=\"순서3\",근무!F190,IF(달력!$S$27=\"순서4\",근무!G190,IF(달력!$S$27=\"순서5\",근무!H190,IF(달력!$S$27=\"순서6\",근무!I190,\"\"))))))","v":"비번"},{"$f":"IF(달력!$S$28=\"순서1\",근무!D190,IF(달력!$S$28=\"순서2\",근무!E190,IF(달력!$S$28=\"순서3\",근무!F190,IF(달력!$S$28=\"순서4\",근무!G190,IF(달력!$S$28=\"순서5\",근무!H190,IF(달력!$S$28=\"순서6\",근무!I190,\"\"))))))","v":"주간"},{"$f":"IF(달력!$S$29=\"순서1\",근무!D190,IF(달력!$S$29=\"순서2\",근무!E190,IF(달력!$S$29=\"순서3\",근무!F190,IF(달력!$S$29=\"순서4\",근무!G190,IF(달력!$S$29=\"순서5\",근무!H190,IF(달력!$S$29=\"순서6\",근무!I190,\"\"))))))","v":"주간"},null,"비번",7,{"$f":"COUNTIFS(일정1내용,$K190,$L$7:$L$372,7)","v":10},{"$f":"COUNTIFS(일정2내용,$K190,$L$7:$L$372,7)","v":10},{"$f":"COUNTIFS(일정3내용,$K190,$L$7:$L$372,7)","v":10},{"$f":"COUNTIFS(일정4내용,$K190,$L$7:$L$372,7)","v":10},{"$f":"COUNTIFS(일정5내용,$K190,$L$7:$L$372,7)","v":11},{"$f":"COUNTIFS(일정6내용,$K190,$L$7:$L$372,7)","v":11}]
[null,"2023-07-04","화",{"$f":"IF(달력!$S$24=\"순서1\",근무!D191,IF(달력!$S$24=\"순서2\",근무!E191,IF(달력!$S$24=\"순서3\",근무!F191,IF(달력!$S$24=\"순서4\",근무!G191,IF(달력!$S$24=\"순서5\",근무!H191,IF(달력!$S$24=\"순서6\",근무!I191,\"\"))))))","v":"비번"},{"$f":"IF(달력!$S$25=\"순서1\",근무!D191,IF(달력!$S$25=\"순서2\",근무!E191,IF(달력!$S$25=\"순서3\",근무!F191,IF(달력!$S$25=\"순서4\",근무!G191,IF(달력!$S$25=\"순서5\",근무!H191,IF(달력!$S$25=\"순서6\",근무!I191,\"\"))))))","v":"비번"},{"$f":"IF(달력!$S$26=\"순서1\",근무!D191,IF(달력!$S$26=\"순서2\",근무!E191,IF(달력!$S$26=\"순서3\",근무!F191,IF(달력!$S$26=\"순서4\",근무!G191,IF(달력!$S$26=\"순서5\",근무!H191,IF(달력!$S$26=\"순서6\",근무!I191,\"\"))))))","v":"주간"},{"$f":"IF(달력!$S$27=\"순서1\",근무!D191,IF(달력!$S$27=\"순서2\",근무!E191,IF(달력!$S$27=\"순서3\",근무!F191,IF(달력!$S$27=\"순서4\",근무!G191,IF(달력!$S$27=\"순서5\",근무!H191,IF(달력!$S$27=\"순서6\",근무!I191,\"\"))))))","v":"주간"},{"$f":"IF(달력!$S$28=\"순서1\",근무!D191,IF(달력!$S$28=\"순서2\",근무!E191,IF(달력!$S$28=\"순서3\",근무!F191,IF(달력!$S$28=\"순서4\",근무!G191,IF(달력!$S$28=\"순서5\",근무!H191,IF(달력!$S$28=\"순서6\",근무!I191,\"\"))))))","v":"야간"},{"$f":"IF(달력!$S$29=\"순서1\",근무!D191,IF(달력!$S$29=\"순서2\",근무!E191,IF(달력!$S$29=\"순서3\",근무!F191,IF(달력!$S$29=\"순서4\",근무!G191,IF(달력!$S$29=\"순서5\",근무!H191,IF(달력!$S$29=\"순서6\",근무!I191,\"\"))))))","v":"야간"},null,"근무일 계",7,{"$f":"M188+M189","v":21},{"$f":"N188+N189","v":21},21,21,20,20]
[null,"2023-07-05","수",{"$f":"IF(달력!$S$24=\"순서1\",근무!D192,IF(달력!$S$24=\"순서2\",근무!E192,IF(달력!$S$24=\"순서3\",근무!F192,IF(달력!$S$24=\"순서4\",근무!G192,IF(달력!$S$24=\"순서5\",근무!H192,IF(달력!$S$24=\"순서6\",근무!I192,\"\"))))))","v":"비번"},{"$f":"IF(달력!$S$25=\"순서1\",근무!D192,IF(달력!$S$25=\"순서2\",근무!E192,IF(달력!$S$25=\"순서3\",근무!F192,IF(달력!$S$25=\"순서4\",근무!G192,IF(달력!$S$25=\"순서5\",근무!H192,IF(달력!$S$25=\"순서6\",근무!I192,\"\"))))))","v":"비번"},{"$f":"IF(달력!$S$26=\"순서1\",근무!D192,IF(달력!$S$26=\"순서2\",근무!E192,IF(달력!$S$26=\"순서3\",근무!F192,IF(달력!$S$26=\"순서4\",근무!G192,IF(달력!$S$26=\"순서5\",근무!H192,IF(달력!$S$26=\"순서6\",근무!I192,\"\"))))))","v":"주간"},{"$f":"IF(달력!$S$27=\"순서1\",근무!D192,IF(달력!$S$27=\"순서2\",근무!E192,IF(달력!$S$27=\"순서3\",근무!F192,IF(달력!$S$27=\"순서4\",근무!G192,IF(달력!$S$27=\"순서5\",근무!H192,IF(달력!$S$27=\"순서6\",근무!I192,\"\"))))))","v":"주간"},{"$f":"IF(달력!$S$28=\"순서1\",근무!D192,IF(달력!$S$28=\"순서2\",근무!E192,IF(달력!$S$28=\"순서3\",근무!F192,IF(달력!$S$28=\"순서4\",근무!G192,IF(달력!$S$28=\"순서5\",근무!H192,IF(달력!$S$28=\"순서6\",근무!I192,\"\"))))))","v":"야간"},{"$f":"IF(달력!$S$29=\"순서1\",근무!D192,IF(달력!$S$29=\"순서2\",근무!E192,IF(달력!$S$29=\"순서3\",근무!F192,IF(달력!$S$29=\"순서4\",근무!G192,IF(달력!$S$29=\"순서5\",근무!H192,IF(달력!$S$29=\"순서6\",근무!I192,\"\"))))))","v":"야간"},null,null,7]
[null,"2023-07-06","목",{"$f":"IF(달력!$S$24=\"순서1\",근무!D193,IF(달력!$S$24=\"순서2\",근무!E193,IF(달력!$S$24=\"순서3\",근무!F193,IF(달력!$S$24=\"순서4\",근무!G193,IF(달력!$S$24=\"순서5\",근무!H193,IF(달력!$S$24=\"순서6\",근무!I193,\"\"))))))","v":"주간"},{"$f":"IF(달력!$S$25=\"순서1\",근무!D193,IF(달력!$S$25=\"순서2\",근무!E193,IF(달력!$S$25=\"순서3\",근무!F193,IF(달력!$S$25=\"순서4\",근무!G193,IF(달력!$S$25=\"순서5\",근무!H193,IF(달력!$S$25=\"순서6\",근무!I193,\"\"))))))","v":"주간"},{"$f":"IF(달력!$S$26=\"순서1\",근무!D193,IF(달력!$S$26=\"순서2\",근무!E193,IF(달력!$S$26=\"순서3\",근무!F193,IF(달력!$S$26=\"순서4\",근무!G193,IF(달력!$S$26=\"순서5\",근무!H193,IF(달력!$S$26=\"순서6\",근무!I193,\"\"))))))","v":"야간"},{"$f":"IF(달력!$S$27=\"순서1\",근무!D193,IF(달력!$S$27=\"순서2\",근무!E193,IF(달력!$S$27=\"순서3\",근무!F193,IF(달력!$S$27=\"순서4\",근무!G193,IF(달력!$S$27=\"순서5\",근무!H193,IF(달력!$S$27=\"순서6\",근무!I193,\"\"))))))","v":"야간"},{"$f":"IF(달력!$S$28=\"순서1\",근무!D193,IF(달력!$S$28=\"순서2\",근무!E193,IF(달력!$S$28=\"순서3\",근무!F193,IF(달력!$S$28=\"순서4\",근무!G193,IF(달력!$S$28=\"순서5\",근무!H193,IF(달력!$S$28=\"순서6\",근무!I193,\"\"))))))","v":"비번"},{"$f":"IF(달력!$S$29=\"순서1\",근무!D193,IF(달력!$S$29=\"순서2\",근무!E193,IF(달력!$S$29=\"순서3\",근무!F193,IF(달력!$S$29=\"순서4\",근무!G193,IF(달력!$S$29=\"순서5\",근무!H193,IF(달력!$S$29=\"순서6\",근무!I193,\"\"))))))","v":"비번"},null,null,7]
[null,"2023-07-07","금",{"$f":"IF(달력!$S$24=\"순서1\",근무!D194,IF(달력!$S$24=\"순서2\",근무!E194,IF(달력!$S$24=\"순서3\",근무!F194,IF(달력!$S$24=\"순서4\",근무!G194,IF(달력!$S$24=\"순서5\",근무!H194,IF(달력!$S$24=\"순서6\",근무!I194,\"\"))))))","v":"주간"},{"$f":"IF(달력!$S$25=\"순서1\",근무!D194,IF(달력!$S$25=\"순서2\",근무!E194,IF(달력!$S$25=\"순서3\",근무!F194,IF(달력!$S$25=\"순서4\",근무!G194,IF(달력!$S$25=\"순서5\",근무!H194,IF(달력!$S$25=\"순서6\",근무!I194,\"\"))))))","v":"주간"},{"$f":"IF(달력!$S$26=\"순서1\",근무!D194,IF(달력!$S$26=\"순서2\",근무!E194,IF(달력!$S$26=\"순서3\",근무!F194,IF(달력!$S$26=\"순서4\",근무!G194,IF(달력!$S$26=\"순서5\",근무!H194,IF(달력!$S$26=\"순서6\",근무!I194,\"\"))))))","v":"야간"},{"$f":"IF(달력!$S$27=\"순서1\",근무!D194,IF(달력!$S$27=\"순서2\",근무!E194,IF(달력!$S$27=\"순서3\",근무!F194,IF(달력!$S$27=\"순서4\",근무!G194,IF(달력!$S$27=\"순서5\",근무!H194,IF(달력!$S$27=\"순서6\",근무!I194,\"\"))))))","v":"야간"},{"$f":"IF(달력!$S$28=\"순서1\",근무!D194,IF(달력!$S$28=\"순서2\",근무!E194,IF(달력!$S$28=\"순서3\",근무!F194,IF(달력!$S$28=\"순서4\",근무!G194,IF(달력!$S$28=\"순서5\",근무!H194,IF(달력!$S$28=\"순서6\",근무!I194,\"\"))))))","v":"비번"},{"$f":"IF(달력!$S$29=\"순서1\",근무!D194,IF(달력!$S$29=\"순서2\",근무!E194,IF(달력!$S$29=\"순서3\",근무!F194,IF(달력!$S$29=\"순서4\",근무!G194,IF(달력!$S$29=\"순서5\",근무!H194,IF(달력!$S$29=\"순서6\",근무!I194,\"\"))))))","v":"비번"},null,null,7]
[null,"2023-07-08","토",{"$f":"IF(달력!$S$24=\"순서1\",근무!D195,IF(달력!$S$24=\"순서2\",근무!E195,IF(달력!$S$24=\"순서3\",근무!F195,IF(달력!$S$24=\"순서4\",근무!G195,IF(달력!$S$24=\"순서5\",근무!H195,IF(달력!$S$24=\"순서6\",근무!I195,\"\"))))))","v":"야간"},{"$f":"IF(달력!$S$25=\"순서1\",근무!D195,IF(달력!$S$25=\"순서2\",근무!E195,IF(달력!$S$25=\"순서3\",근무!F195,IF(달력!$S$25=\"순서4\",근무!G195,IF(달력!$S$25=\"순서5\",근무!H195,IF(달력!$S$25=\"순서6\",근무!I195,\"\"))))))","v":"야간"},{"$f":"IF(달력!$S$26=\"순서1\",근무!D195,IF(달력!$S$26=\"순서2\",근무!E195,IF(달력!$S$26=\"순서3\",근무!F195,IF(달력!$S$26=\"순서4\",근무!G195,IF(달력!$S$26=\"순서5\",근무!H195,IF(달력!$S$26=\"순서6\",근무!I195,\"\"))))))","v":"비번"},{"$f":"IF(달력!$S$27=\"순서1\",근무!D195,IF(달력!$S$27=\"순서2\",근무!E195,IF(달력!$S$27=\"순서3\",근무!F195,IF(달력!$S$27=\"순서4\",근무!G195,IF(달력!$S$27=\"순서5\",근무!H195,IF(달력!$S$27=\"순서6\",근무!I195,\"\"))))))","v":"비번"},{"$f":"IF(달력!$S$28=\"순서1\",근무!D195,IF(달력!$S$28=\"순서2\",근무!E195,IF(달력!$S$28=\"순서3\",근무!F195,IF(달력!$S$28=\"순서4\",근무!G195,IF(달력!$S$28=\"순서5\",근무!H195,IF(달력!$S$28=\"순서6\",근무!I195,\"\"))))))","v":"주간"},{"$f":"IF(달력!$S$29=\"순서1\",근무!D195,IF(달력!$S$29=\"순서2\",근무!E195,IF(달력!$S$29=\"순서3\",근무!F195,IF(달력!$S$29=\"순서4\",근무!G195,IF(달력!$S$29=\"순서5\",근무!H195,IF(달력!$S$29=\"순서6\",근무!I195,\"\"))))))","v":"주간"},null,null,7]
[null,"2023-07-09","일",{"$f":"IF(달력!$S$24=\"순서1\",근무!D196,IF(달력!$S$24=\"순서2\",근무!E196,IF(달력!$S$24=\"순서3\",근무!F196,IF(달력!$S$24=\"순서4\",근무!G196,IF(달력!$S$24=\"순서5\",근무!H196,IF(달력!$S$24=\"순서6\",근무!I196,\"\"))))))","v":"야간"},{"$f":"IF(달력!$S$25=\"순서1\",근무!D196,IF(달력!$S$25=\"순서2\",근무!E196,IF(달력!$S$25=\"순서3\",근무!F196,IF(달력!$S$25=\"순서4\",근무!G196,IF(달력!$S$25=\"순서5\",근무!H196,IF(달력!$S$25=\"순서6\",근무!I196,\"\"))))))","v":"야간"},{"$f":"IF(달력!$S$26=\"순서1\",근무!D196,IF(달력!$S$26=\"순서2\",근무!E196,IF(달력!$S$26=\"순서3\",근무!F196,IF(달력!$S$26=\"순서4\",근무!G196,IF(달력!$S$26=\"순서5\",근무!H196,IF(달력!$S$26=\"순서6\",근무!I196,\"\"))))))","v":"비번"},{"$f":"IF(달력!$S$27=\"순서1\",근무!D196,IF(달력!$S$27=\"순서2\",근무!E196,IF(달력!$S$27=\"순서3\",근무!F196,IF(달력!$S$27=\"순서4\",근무!G196,IF(달력!$S$27=\"순서5\",근무!H196,IF(달력!$S$27=\"순서6\",근무!I196,\"\"))))))","v":"비번"},{"$f":"IF(달력!$S$28=\"순서1\",근무!D196,IF(달력!$S$28=\"순서2\",근무!E196,IF(달력!$S$28=\"순서3\",근무!F196,IF(달력!$S$28=\"순서4\",근무!G196,IF(달력!$S$28=\"순서5\",근무!H196,IF(달력!$S$28=\"순서6\",근무!I196,\"\"))))))","v":"주간"},{"$f":"IF(달력!$S$29=\"순서1\",근무!D196,IF(달력!$S$29=\"순서2\",근무!E196,IF(달력!$S$29=\"순서3\",근무!F196,IF(달력!$S$29=\"순서4\",근무!G196,IF(달력!$S$29=\"순서5\",근무!H196,IF(달력!$S$29=\"순서6\",근무!I196,\"\"))))))","v":"주간"},null,null,7]
[null,"2023-07-10","월",{"$f":"IF(달력!$S$24=\"순서1\",근무!D197,IF(달력!$S$24=\"순서2\",근무!E197,IF(달력!$S$24=\"순서3\",근무!F197,IF(달력!$S$24=\"순서4\",근무!G197,IF(달력!$S$24=\"순서5\",근무!H197,IF(달력!$S$24=\"순서6\",근무!I197,\"\"))))))","v":"비번"},{"$f":"IF(달력!$S$25=\"순서1\",근무!D197,IF(달력!$S$25=\"순서2\",근무!E197,IF(달력!$S$25=\"순서3\",근무!F197,IF(달력!$S$25=\"순서4\",근무!G197,IF(달력!$S$25=\"순서5\",근무!H197,IF(달력!$S$25=\"순서6\",근무!I197,\"\"))))))","v":"비번"},{"$f":"IF(달력!$S$26=\"순서1\",근무!D197,IF(달력!$S$26=\"순서2\",근무!E197,IF(달력!$S$26=\"순서3\",근무!F197,IF(달력!$S$26=\"순서4\",근무!G197,IF(달력!$S$26=\"순서5\",근무!H197,IF(달력!$S$26=\"순서6\",근무!I197,\"\"))))))","v":"주간"},{"$f":"IF(달력!$S$27=\"순서1\",근무!D197,IF(달력!$S$27=\"순서2\",근무!E197,IF(달력!$S$27=\"순서3\",근무!F197,IF(달력!$S$27=\"순서4\",근무!G197,IF(달력!$S$27=\"순서5\",근무!H197,IF(달력!$S$27=\"순서6\",근무!I197,\"\"))))))","v":"주간"},{"$f":"IF(달력!$S$28=\"순서1\",근무!D197,IF(달력!$S$28=\"순서2\",근무!E197,IF(달력!$S$28=\"순서3\",근무!F197,IF(달력!$S$28=\"순서4\",근무!G197,IF(달력!$S$28=\"순서5\",근무!H197,IF(달력!$S$28=\"순서6\",근무!I197,\"\"))))))","v":"야간"},{"$f":"IF(달력!$S$29=\"순서1\",근무!D197,IF(달력!$S$29=\"순서2\",근무!E197,IF(달력!$S$29=\"순서3\",근무!F197,IF(달력!$S$29=\"순서4\",근무!G197,IF(달력!$S$29=\"순서5\",근무!H197,IF(달력!$S$29=\"순서6\",근무!I197,\"\"))))))","v":"야간"},null,null,7]
[null,"2023-07-11","화",{"$f":"IF(달력!$S$24=\"순서1\",근무!D198,IF(달력!$S$24=\"순서2\",근무!E198,IF(달력!$S$24=\"순서3\",근무!F198,IF(달력!$S$24=\"순서4\",근무!G198,IF(달력!$S$24=\"순서5\",근무!H198,IF(달력!$S$24=\"순서6\",근무!I198,\"\"))))))","v":"비번"},{"$f":"IF(달력!$S$25=\"순서1\",근무!D198,IF(달력!$S$25=\"순서2\",근무!E198,IF(달력!$S$25=\"순서3\",근무!F198,IF(달력!$S$25=\"순서4\",근무!G198,IF(달력!$S$25=\"순서5\",근무!H198,IF(달력!$S$25=\"순서6\",근무!I198,\"\"))))))","v":"비번"},{"$f":"IF(달력!$S$26=\"순서1\",근무!D198,IF(달력!$S$26=\"순서2\",근무!E198,IF(달력!$S$26=\"순서3\",근무!F198,IF(달력!$S$26=\"순서4\",근무!G198,IF(달력!$S$26=\"순서5\",근무!H198,IF(달력!$S$26=\"순서6\",근무!I198,\"\"))))))","v":"주간"},{"$f":"IF(달력!$S$27=\"순서1\",근무!D198,IF(달력!$S$27=\"순서2\",근무!E198,IF(달력!$S$27=\"순서3\",근무!F198,IF(달력!$S$27=\"순서4\",근무!G198,IF(달력!$S$27=\"순서5\",근무!H198,IF(달력!$S$27=\"순서6\",근무!I198,\"\"))))))","v":"주간"},{"$f":"IF(달력!$S$28=\"순서1\",근무!D198,IF(달력!$S$28=\"순서2\",근무!E198,IF(달력!$S$28=\"순서3\",근무!F198,IF(달력!$S$28=\"순서4\",근무!G198,IF(달력!$S$28=\"순서5\",근무!H198,IF(달력!$S$28=\"순서6\",근무!I198,\"\"))))))","v":"야간"},{"$f":"IF(달력!$S$29=\"순서1\",근무!D198,IF(달력!$S$29=\"순서2\",근무!E198,IF(달력!$S$29=\"순서3\",근무!F198,IF(달력!$S$29=\"순서4\",근무!G198,IF(달력!$S$29=\"순서5\",근무!H198,IF(달력!$S$29=\"순서6\",근무!I198,\"\"))))))","v":"야간"},null,null,7]
[null,"2023-07-12","수",{"$f":"IF(달력!$S$24=\"순서1\",근무!D199,IF(달력!$S$24=\"순서2\",근무!E199,IF(달력!$S$24=\"순서3\",근무!F199,IF(달력!$S$24=\"순서4\",근무!G199,IF(달력!$S$24=\"순서5\",근무!H199,IF(달력!$S$24=\"순서6\",근무!I199,\"\"))))))","v":"주간"},{"$f":"IF(달력!$S$25=\"순서1\",근무!D199,IF(달력!$S$25=\"순서2\",근무!E199,IF(달력!$S$25=\"순서3\",근무!F199,IF(달력!$S$25=\"순서4\",근무!G199,IF(달력!$S$25=\"순서5\",근무!H199,IF(달력!$S$25=\"순서6\",근무!I199,\"\"))))))","v":"주간"},{"$f":"IF(달력!$S$26=\"순서1\",근무!D199,IF(달력!$S$26=\"순서2\",근무!E199,IF(달력!$S$26=\"순서3\",근무!F199,IF(달력!$S$26=\"순서4\",근무!G199,IF(달력!$S$26=\"순서5\",근무!H199,IF(달력!$S$26=\"순서6\",근무!I199,\"\"))))))","v":"야간"},{"$f":"IF(달력!$S$27=\"순서1\",근무!D199,IF(달력!$S$27=\"순서2\",근무!E199,IF(달력!$S$27=\"순서3\",근무!F199,IF(달력!$S$27=\"순서4\",근무!G199,IF(달력!$S$27=\"순서5\",근무!H199,IF(달력!$S$27=\"순서6\",근무!I199,\"\"))))))","v":"야간"},{"$f":"IF(달력!$S$28=\"순서1\",근무!D199,IF(달력!$S$28=\"순서2\",근무!E199,IF(달력!$S$28=\"순서3\",근무!F199,IF(달력!$S$28=\"순서4\",근무!G199,IF(달력!$S$28=\"순서5\",근무!H199,IF(달력!$S$28=\"순서6\",근무!I199,\"\"))))))","v":"비번"},{"$f":"IF(달력!$S$29=\"순서1\",근무!D199,IF(달력!$S$29=\"순서2\",근무!E199,IF(달력!$S$29=\"순서3\",근무!F199,IF(달력!$S$29=\"순서4\",근무!G199,IF(달력!$S$29=\"순서5\",근무!H199,IF(달력!$S$29=\"순서6\",근무!I199,\"\"))))))","v":"비번"},null,null,7]
[null,"2023-07-13",{"$f":"CHOOSE(WEEKDAY(B200,1),\"일\",\"월\",\"화\",\"수\",\"목\",\"금\",\"토\")","v":"목"},{"$f":"IF(달력!$S$24=\"순서1\",근무!D200,IF(달력!$S$24=\"순서2\",근무!E200,IF(달력!$S$24=\"순서3\",근무!F200,IF(달력!$S$24=\"순서4\",근무!G200,IF(달력!$S$24=\"순서5\",근무!H200,IF(달력!$S$24=\"순서6\",근무!I200,\"\"))))))","v":"주간"},{"$f":"IF(달력!$S$25=\"순서1\",근무!D200,IF(달력!$S$25=\"순서2\",근무!E200,IF(달력!$S$25=\"순서3\",근무!F200,IF(달력!$S$25=\"순서4\",근무!G200,IF(달력!$S$25=\"순서5\",근무!H200,IF(달력!$S$25=\"순서6\",근무!I200,\"\"))))))","v":"주간"},{"$f":"IF(달력!$S$26=\"순서1\",근무!D200,IF(달력!$S$26=\"순서2\",근무!E200,IF(달력!$S$26=\"순서3\",근무!F200,IF(달력!$S$26=\"순서4\",근무!G200,IF(달력!$S$26=\"순서5\",근무!H200,IF(달력!$S$26=\"순서6\",근무!I200,\"\"))))))","v":"야간"},{"$f":"IF(달력!$S$27=\"순서1\",근무!D200,IF(달력!$S$27=\"순서2\",근무!E200,IF(달력!$S$27=\"순서3\",근무!F200,IF(달력!$S$27=\"순서4\",근무!G200,IF(달력!$S$27=\"순서5\",근무!H200,IF(달력!$S$27=\"순서6\",근무!I200,\"\"))))))","v":"야간"},{"$f":"IF(달력!$S$28=\"순서1\",근무!D200,IF(달력!$S$28=\"순서2\",근무!E200,IF(달력!$S$28=\"순서3\",근무!F200,IF(달력!$S$28=\"순서4\",근무!G200,IF(달력!$S$28=\"순서5\",근무!H200,IF(달력!$S$28=\"순서6\",근무!I200,\"\"))))))","v":"비번"},{"$f":"IF(달력!$S$29=\"순서1\",근무!D200,IF(달력!$S$29=\"순서2\",근무!E200,IF(달력!$S$29=\"순서3\",근무!F200,IF(달력!$S$29=\"순서4\",근무!G200,IF(달력!$S$29=\"순서5\",근무!H200,IF(달력!$S$29=\"순서6\",근무!I200,\"\"))))))","v":"비번"},null,null,{"$f":"MONTH(B200)","v":7}]
[null,{"$f":"B200+1","v":"2023-07-14"},"금",{"$f":"IF(달력!$S$24=\"순서1\",근무!D201,IF(달력!$S$24=\"순서2\",근무!E201,IF(달력!$S$24=\"순서3\",근무!F201,IF(달력!$S$24=\"순서4\",근무!G201,IF(달력!$S$24=\"순서5\",근무!H201,IF(달력!$S$24=\"순서6\",근무!I201,\"\"))))))","v":"야간"},{"$f":"IF(달력!$S$25=\"순서1\",근무!D201,IF(달력!$S$25=\"순서2\",근무!E201,IF(달력!$S$25=\"순서3\",근무!F201,IF(달력!$S$25=\"순서4\",근무!G201,IF(달력!$S$25=\"순서5\",근무!H201,IF(달력!$S$25=\"순서6\",근무!I201,\"\"))))))","v":"야간"},{"$f":"IF(달력!$S$26=\"순서1\",근무!D201,IF(달력!$S$26=\"순서2\",근무!E201,IF(달력!$S$26=\"순서3\",근무!F201,IF(달력!$S$26=\"순서4\",근무!G201,IF(달력!$S$26=\"순서5\",근무!H201,IF(달력!$S$26=\"순서6\",근무!I201,\"\"))))))","v":"비번"},{"$f":"IF(달력!$S$27=\"순서1\",근무!D201,IF(달력!$S$27=\"순서2\",근무!E201,IF(달력!$S$27=\"순서3\",근무!F201,IF(달력!$S$27=\"순서4\",근무!G201,IF(달력!$S$27=\"순서5\",근무!H201,IF(달력!$S$27=\"순서6\",근무!I201,\"\"))))))","v":"비번"},{"$f":"IF(달력!$S$28=\"순서1\",근무!D201,IF(달력!$S$28=\"순서2\",근무!E201,IF(달력!$S$28=\"순서3\",근무!F201,IF(달력!$S$28=\"순서4\",근무!G201,IF(달력!$S$28=\"순서5\",근무!H201,IF(달력!$S$28=\"순서6\",근무!I201,\"\"))))))","v":"주간"},{"$f":"IF(달력!$S$29=\"순서1\",근무!D201,IF(달력!$S$29=\"순서2\",근무!E201,IF(달력!$S$29=\"순서3\",근무!F201,IF(달력!$S$29=\"순서4\",근무!G201,IF(달력!$S$29=\"순서5\",근무!H201,IF(달력!$S$29=\"순서6\",근무!I201,\"\"))))))","v":"주간"},null,null,7]
[null,"2023-07-15","토",{"$f":"IF(달력!$S$24=\"순서1\",근무!D202,IF(달력!$S$24=\"순서2\",근무!E202,IF(달력!$S$24=\"순서3\",근무!F202,IF(달력!$S$24=\"순서4\",근무!G202,IF(달력!$S$24=\"순서5\",근무!H202,IF(달력!$S$24=\"순서6\",근무!I202,\"\"))))))","v":"야간"},{"$f":"IF(달력!$S$25=\"순서1\",근무!D202,IF(달력!$S$25=\"순서2\",근무!E202,IF(달력!$S$25=\"순서3\",근무!F202,IF(달력!$S$25=\"순서4\",근무!G202,IF(달력!$S$25=\"순서5\",근무!H202,IF(달력!$S$25=\"순서6\",근무!I202,\"\"))))))","v":"야간"},{"$f":"IF(달력!$S$26=\"순서1\",근무!D202,IF(달력!$S$26=\"순서2\",근무!E202,IF(달력!$S$26=\"순서3\",근무!F202,IF(달력!$S$26=\"순서4\",근무!G202,IF(달력!$S$26=\"순서5\",근무!H202,IF(달력!$S$26=\"순서6\",근무!I202,\"\"))))))","v":"비번"},{"$f":"IF(달력!$S$27=\"순서1\",근무!D202,IF(달력!$S$27=\"순서2\",근무!E202,IF(달력!$S$27=\"순서3\",근무!F202,IF(달력!$S$27=\"순서4\",근무!G202,IF(달력!$S$27=\"순서5\",근무!H202,IF(달력!$S$27=\"순서6\",근무!I202,\"\"))))))","v":"비번"},{"$f":"IF(달력!$S$28=\"순서1\",근무!D202,IF(달력!$S$28=\"순서2\",근무!E202,IF(달력!$S$28=\"순서3\",근무!F202,IF(달력!$S$28=\"순서4\",근무!G202,IF(달력!$S$28=\"순서5\",근무!H202,IF(달력!$S$28=\"순서6\",근무!I202,\"\"))))))","v":"주간"},{"$f":"IF(달력!$S$29=\"순서1\",근무!D202,IF(달력!$S$29=\"순서2\",근무!E202,IF(달력!$S$29=\"순서3\",근무!F202,IF(달력!$S$29=\"순서4\",근무!G202,IF(달력!$S$29=\"순서5\",근무!H202,IF(달력!$S$29=\"순서6\",근무!I202,\"\"))))))","v":"주간"},null,null,7]
[null,"2023-07-16","일",{"$f":"IF(달력!$S$24=\"순서1\",근무!D203,IF(달력!$S$24=\"순서2\",근무!E203,IF(달력!$S$24=\"순서3\",근무!F203,IF(달력!$S$24=\"순서4\",근무!G203,IF(달력!$S$24=\"순서5\",근무!H203,IF(달력!$S$24=\"순서6\",근무!I203,\"\"))))))","v":"비번"},{"$f":"IF(달력!$S$25=\"순서1\",근무!D203,IF(달력!$S$25=\"순서2\",근무!E203,IF(달력!$S$25=\"순서3\",근무!F203,IF(달력!$S$25=\"순서4\",근무!G203,IF(달력!$S$25=\"순서5\",근무!H203,IF(달력!$S$25=\"순서6\",근무!I203,\"\"))))))","v":"비번"},{"$f":"IF(달력!$S$26=\"순서1\",근무!D203,IF(달력!$S$26=\"순서2\",근무!E203,IF(달력!$S$26=\"순서3\",근무!F203,IF(달력!$S$26=\"순서4\",근무!G203,IF(달력!$S$26=\"순서5\",근무!H203,IF(달력!$S$26=\"순서6\",근무!I203,\"\"))))))","v":"주간"},{"$f":"IF(달력!$S$27=\"순서1\",근무!D203,IF(달력!$S$27=\"순서2\",근무!E203,IF(달력!$S$27=\"순서3\",근무!F203,IF(달력!$S$27=\"순서4\",근무!G203,IF(달력!$S$27=\"순서5\",근무!H203,IF(달력!$S$27=\"순서6\",근무!I203,\"\"))))))","v":"주간"},{"$f":"IF(달력!$S$28=\"순서1\",근무!D203,IF(달력!$S$28=\"순서2\",근무!E203,IF(달력!$S$28=\"순서3\",근무!F203,IF(달력!$S$28=\"순서4\",근무!G203,IF(달력!$S$28=\"순서5\",근무!H203,IF(달력!$S$28=\"순서6\",근무!I203,\"\"))))))","v":"야간"},{"$f":"IF(달력!$S$29=\"순서1\",근무!D203,IF(달력!$S$29=\"순서2\",근무!E203,IF(달력!$S$29=\"순서3\",근무!F203,IF(달력!$S$29=\"순서4\",근무!G203,IF(달력!$S$29=\"순서5\",근무!H203,IF(달력!$S$29=\"순서6\",근무!I203,\"\"))))))","v":"야간"},null,null,7]
[null,"2023-07-17","월",{"$f":"IF(달력!$S$24=\"순서1\",근무!D204,IF(달력!$S$24=\"순서2\",근무!E204,IF(달력!$S$24=\"순서3\",근무!F204,IF(달력!$S$24=\"순서4\",근무!G204,IF(달력!$S$24=\"순서5\",근무!H204,IF(달력!$S$24=\"순서6\",근무!I204,\"\"))))))","v":"비번"},{"$f":"IF(달력!$S$25=\"순서1\",근무!D204,IF(달력!$S$25=\"순서2\",근무!E204,IF(달력!$S$25=\"순서3\",근무!F204,IF(달력!$S$25=\"순서4\",근무!G204,IF(달력!$S$25=\"순서5\",근무!H204,IF(달력!$S$25=\"순서6\",근무!I204,\"\"))))))","v":"비번"},{"$f":"IF(달력!$S$26=\"순서1\",근무!D204,IF(달력!$S$26=\"순서2\",근무!E204,IF(달력!$S$26=\"순서3\",근무!F204,IF(달력!$S$26=\"순서4\",근무!G204,IF(달력!$S$26=\"순서5\",근무!H204,IF(달력!$S$26=\"순서6\",근무!I204,\"\"))))))","v":"주간"},{"$f":"IF(달력!$S$27=\"순서1\",근무!D204,IF(달력!$S$27=\"순서2\",근무!E204,IF(달력!$S$27=\"순서3\",근무!F204,IF(달력!$S$27=\"순서4\",근무!G204,IF(달력!$S$27=\"순서5\",근무!H204,IF(달력!$S$27=\"순서6\",근무!I204,\"\"))))))","v":"주간"},{"$f":"IF(달력!$S$28=\"순서1\",근무!D204,IF(달력!$S$28=\"순서2\",근무!E204,IF(달력!$S$28=\"순서3\",근무!F204,IF(달력!$S$28=\"순서4\",근무!G204,IF(달력!$S$28=\"순서5\",근무!H204,IF(달력!$S$28=\"순서6\",근무!I204,\"\"))))))","v":"야간"},{"$f":"IF(달력!$S$29=\"순서1\",근무!D204,IF(달력!$S$29=\"순서2\",근무!E204,IF(달력!$S$29=\"순서3\",근무!F204,IF(달력!$S$29=\"순서4\",근무!G204,IF(달력!$S$29=\"순서5\",근무!H204,IF(달력!$S$29=\"순서6\",근무!I204,\"\"))))))","v":"야간"},null,null,7]
[null,"2023-07-18","화",{"$f":"IF(달력!$S$24=\"순서1\",근무!D205,IF(달력!$S$24=\"순서2\",근무!E205,IF(달력!$S$24=\"순서3\",근무!F205,IF(달력!$S$24=\"순서4\",근무!G205,IF(달력!$S$24=\"순서5\",근무!H205,IF(달력!$S$24=\"순서6\",근무!I205,\"\"))))))","v":"주간"},{"$f":"IF(달력!$S$25=\"순서1\",근무!D205,IF(달력!$S$25=\"순서2\",근무!E205,IF(달력!$S$25=\"순서3\",근무!F205,IF(달력!$S$25=\"순서4\",근무!G205,IF(달력!$S$25=\"순서5\",근무!H205,IF(달력!$S$25=\"순서6\",근무!I205,\"\"))))))","v":"주간"},{"$f":"IF(달력!$S$26=\"순서1\",근무!D205,IF(달력!$S$26=\"순서2\",근무!E205,IF(달력!$S$26=\"순서3\",근무!F205,IF(달력!$S$26=\"순서4\",근무!G205,IF(달력!$S$26=\"순서5\",근무!H205,IF(달력!$S$26=\"순서6\",근무!I205,\"\"))))))","v":"야간"},{"$f":"IF(달력!$S$27=\"순서1\",근무!D205,IF(달력!$S$27=\"순서2\",근무!E205,IF(달력!$S$27=\"순서3\",근무!F205,IF(달력!$S$27=\"순서4\",근무!G205,IF(달력!$S$27=\"순서5\",근무!H205,IF(달력!$S$27=\"순서6\",근무!I205,\"\"))))))","v":"야간"},{"$f":"IF(달력!$S$28=\"순서1\",근무!D205,IF(달력!$S$28=\"순서2\",근무!E205,IF(달력!$S$28=\"순서3\",근무!F205,IF(달력!$S$28=\"순서4\",근무!G205,IF(달력!$S$28=\"순서5\",근무!H205,IF(달력!$S$28=\"순서6\",근무!I205,\"\"))))))","v":"비번"},{"$f":"IF(달력!$S$29=\"순서1\",근무!D205,IF(달력!$S$29=\"순서2\",근무!E205,IF(달력!$S$29=\"순서3\",근무!F205,IF(달력!$S$29=\"순서4\",근무!G205,IF(달력!$S$29=\"순서5\",근무!H205,IF(달력!$S$29=\"순서6\",근무!I205,\"\"))))))","v":"비번"},null,null,7]
[null,"2023-07-19","수",{"$f":"IF(달력!$S$24=\"순서1\",근무!D206,IF(달력!$S$24=\"순서2\",근무!E206,IF(달력!$S$24=\"순서3\",근무!F206,IF(달력!$S$24=\"순서4\",근무!G206,IF(달력!$S$24=\"순서5\",근무!H206,IF(달력!$S$24=\"순서6\",근무!I206,\"\"))))))","v":"주간"},{"$f":"IF(달력!$S$25=\"순서1\",근무!D206,IF(달력!$S$25=\"순서2\",근무!E206,IF(달력!$S$25=\"순서3\",근무!F206,IF(달력!$S$25=\"순서4\",근무!G206,IF(달력!$S$25=\"순서5\",근무!H206,IF(달력!$S$25=\"순서6\",근무!I206,\"\"))))))","v":"주간"},{"$f":"IF(달력!$S$26=\"순서1\",근무!D206,IF(달력!$S$26=\"순서2\",근무!E206,IF(달력!$S$26=\"순서3\",근무!F206,IF(달력!$S$26=\"순서4\",근무!G206,IF(달력!$S$26=\"순서5\",근무!H206,IF(달력!$S$26=\"순서6\",근무!I206,\"\"))))))","v":"야간"},{"$f":"IF(달력!$S$27=\"순서1\",근무!D206,IF(달력!$S$27=\"순서2\",근무!E206,IF(달력!$S$27=\"순서3\",근무!F206,IF(달력!$S$27=\"순서4\",근무!G206,IF(달력!$S$27=\"순서5\",근무!H206,IF(달력!$S$27=\"순서6\",근무!I206,\"\"))))))","v":"야간"},{"$f":"IF(달력!$S$28=\"순서1\",근무!D206,IF(달력!$S$28=\"순서2\",근무!E206,IF(달력!$S$28=\"순서3\",근무!F206,IF(달력!$S$28=\"순서4\",근무!G206,IF(달력!$S$28=\"순서5\",근무!H206,IF(달력!$S$28=\"순서6\",근무!I206,\"\"))))))","v":"비번"},{"$f":"IF(달력!$S$29=\"순서1\",근무!D206,IF(달력!$S$29=\"순서2\",근무!E206,IF(달력!$S$29=\"순서3\",근무!F206,IF(달력!$S$29=\"순서4\",근무!G206,IF(달력!$S$29=\"순서5\",근무!H206,IF(달력!$S$29=\"순서6\",근무!I206,\"\"))))))","v":"비번"},null,null,7]
[null,"2023-07-20","목",{"$f":"IF(달력!$S$24=\"순서1\",근무!D207,IF(달력!$S$24=\"순서2\",근무!E207,IF(달력!$S$24=\"순서3\",근무!F207,IF(달력!$S$24=\"순서4\",근무!G207,IF(달력!$S$24=\"순서5\",근무!H207,IF(달력!$S$24=\"순서6\",근무!I207,\"\"))))))","v":"야간"},{"$f":"IF(달력!$S$25=\"순서1\",근무!D207,IF(달력!$S$25=\"순서2\",근무!E207,IF(달력!$S$25=\"순서3\",근무!F207,IF(달력!$S$25=\"순서4\",근무!G207,IF(달력!$S$25=\"순서5\",근무!H207,IF(달력!$S$25=\"순서6\",근무!I207,\"\"))))))","v":"야간"},{"$f":"IF(달력!$S$26=\"순서1\",근무!D207,IF(달력!$S$26=\"순서2\",근무!E207,IF(달력!$S$26=\"순서3\",근무!F207,IF(달력!$S$26=\"순서4\",근무!G207,IF(달력!$S$26=\"순서5\",근무!H207,IF(달력!$S$26=\"순서6\",근무!I207,\"\"))))))","v":"비번"},{"$f":"IF(달력!$S$27=\"순서1\",근무!D207,IF(달력!$S$27=\"순서2\",근무!E207,IF(달력!$S$27=\"순서3\",근무!F207,IF(달력!$S$27=\"순서4\",근무!G207,IF(달력!$S$27=\"순서5\",근무!H207,IF(달력!$S$27=\"순서6\",근무!I207,\"\"))))))","v":"비번"},{"$f":"IF(달력!$S$28=\"순서1\",근무!D207,IF(달력!$S$28=\"순서2\",근무!E207,IF(달력!$S$28=\"순서3\",근무!F207,IF(달력!$S$28=\"순서4\",근무!G207,IF(달력!$S$28=\"순서5\",근무!H207,IF(달력!$S$28=\"순서6\",근무!I207,\"\"))))))","v":"주간"},{"$f":"IF(달력!$S$29=\"순서1\",근무!D207,IF(달력!$S$29=\"순서2\",근무!E207,IF(달력!$S$29=\"순서3\",근무!F207,IF(달력!$S$29=\"순서4\",근무!G207,IF(달력!$S$29=\"순서5\",근무!H207,IF(달력!$S$29=\"순서6\",근무!I207,\"\"))))))","v":"주간"},null,null,7]
[null,"2023-07-21","금",{"$f":"IF(달력!$S$24=\"순서1\",근무!D208,IF(달력!$S$24=\"순서2\",근무!E208,IF(달력!$S$24=\"순서3\",근무!F208,IF(달력!$S$24=\"순서4\",근무!G208,IF(달력!$S$24=\"순서5\",근무!H208,IF(달력!$S$24=\"순서6\",근무!I208,\"\"))))))","v":"야간"},{"$f":"IF(달력!$S$25=\"순서1\",근무!D208,IF(달력!$S$25=\"순서2\",근무!E208,IF(달력!$S$25=\"순서3\",근무!F208,IF(달력!$S$25=\"순서4\",근무!G208,IF(달력!$S$25=\"순서5\",근무!H208,IF(달력!$S$25=\"순서6\",근무!I208,\"\"))))))","v":"야간"},{"$f":"IF(달력!$S$26=\"순서1\",근무!D208,IF(달력!$S$26=\"순서2\",근무!E208,IF(달력!$S$26=\"순서3\",근무!F208,IF(달력!$S$26=\"순서4\",근무!G208,IF(달력!$S$26=\"순서5\",근무!H208,IF(달력!$S$26=\"순서6\",근무!I208,\"\"))))))","v":"비번"},{"$f":"IF(달력!$S$27=\"순서1\",근무!D208,IF(달력!$S$27=\"순서2\",근무!E208,IF(달력!$S$27=\"순서3\",근무!F208,IF(달력!$S$27=\"순서4\",근무!G208,IF(달력!$S$27=\"순서5\",근무!H208,IF(달력!$S$27=\"순서6\",근무!I208,\"\"))))))","v":"비번"},{"$f":"IF(달력!$S$28=\"순서1\",근무!D208,IF(달력!$S$28=\"순서2\",근무!E208,IF(달력!$S$28=\"순서3\",근무!F208,IF(달력!$S$28=\"순서4\",근무!G208,IF(달력!$S$28=\"순서5\",근무!H208,IF(달력!$S$28=\"순서6\",근무!I208,\"\"))))))","v":"주간"},{"$f":"IF(달력!$S$29=\"순서1\",근무!D208,IF(달력!$S$29=\"순서2\",근무!E208,IF(달력!$S$29=\"순서3\",근무!F208,IF(달력!$S$29=\"순서4\",근무!G208,IF(달력!$S$29=\"순서5\",근무!H208,IF(달력!$S$29=\"순서6\",근무!I208,\"\"))))))","v":"주간"},null,null,7]
[null,"2023-07-22","토",{"$f":"IF(달력!$S$24=\"순서1\",근무!D209,IF(달력!$S$24=\"순서2\",근무!E209,IF(달력!$S$24=\"순서3\",근무!F209,IF(달력!$S$24=\"순서4\",근무!G209,IF(달력!$S$24=\"순서5\",근무!H209,IF(달력!$S$24=\"순서6\",근무!I209,\"\"))))))","v":"비번"},{"$f":"IF(달력!$S$25=\"순서1\",근무!D209,IF(달력!$S$25=\"순서2\",근무!E209,IF(달력!$S$25=\"순서3\",근무!F209,IF(달력!$S$25=\"순서4\",근무!G209,IF(달력!$S$25=\"순서5\",근무!H209,IF(달력!$S$25=\"순서6\",근무!I209,\"\"))))))","v":"비번"},{"$f":"IF(달력!$S$26=\"순서1\",근무!D209,IF(달력!$S$26=\"순서2\",근무!E209,IF(달력!$S$26=\"순서3\",근무!F209,IF(달력!$S$26=\"순서4\",근무!G209,IF(달력!$S$26=\"순서5\",근무!H209,IF(달력!$S$26=\"순서6\",근무!I209,\"\"))))))","v":"주간"},{"$f":"IF(달력!$S$27=\"순서1\",근무!D209,IF(달력!$S$27=\"순서2\",근무!E209,IF(달력!$S$27=\"순서3\",근무!F209,IF(달력!$S$27=\"순서4\",근무!G209,IF(달력!$S$27=\"순서5\",근무!H209,IF(달력!$S$27=\"순서6\",근무!I209,\"\"))))))","v":"주간"},{"$f":"IF(달력!$S$28=\"순서1\",근무!D209,IF(달력!$S$28=\"순서2\",근무!E209,IF(달력!$S$28=\"순서3\",근무!F209,IF(달력!$S$28=\"순서4\",근무!G209,IF(달력!$S$28=\"순서5\",근무!H209,IF(달력!$S$28=\"순서6\",근무!I209,\"\"))))))","v":"야간"},{"$f":"IF(달력!$S$29=\"순서1\",근무!D209,IF(달력!$S$29=\"순서2\",근무!E209,IF(달력!$S$29=\"순서3\",근무!F209,IF(달력!$S$29=\"순서4\",근무!G209,IF(달력!$S$29=\"순서5\",근무!H209,IF(달력!$S$29=\"순서6\",근무!I209,\"\"))))))","v":"야간"},null,null,7]
[null,"2023-07-23","일",{"$f":"IF(달력!$S$24=\"순서1\",근무!D210,IF(달력!$S$24=\"순서2\",근무!E210,IF(달력!$S$24=\"순서3\",근무!F210,IF(달력!$S$24=\"순서4\",근무!G210,IF(달력!$S$24=\"순서5\",근무!H210,IF(달력!$S$24=\"순서6\",근무!I210,\"\"))))))","v":"비번"},{"$f":"IF(달력!$S$25=\"순서1\",근무!D210,IF(달력!$S$25=\"순서2\",근무!E210,IF(달력!$S$25=\"순서3\",근무!F210,IF(달력!$S$25=\"순서4\",근무!G210,IF(달력!$S$25=\"순서5\",근무!H210,IF(달력!$S$25=\"순서6\",근무!I210,\"\"))))))","v":"비번"},{"$f":"IF(달력!$S$26=\"순서1\",근무!D210,IF(달력!$S$26=\"순서2\",근무!E210,IF(달력!$S$26=\"순서3\",근무!F210,IF(달력!$S$26=\"순서4\",근무!G210,IF(달력!$S$26=\"순서5\",근무!H210,IF(달력!$S$26=\"순서6\",근무!I210,\"\"))))))","v":"주간"},{"$f":"IF(달력!$S$27=\"순서1\",근무!D210,IF(달력!$S$27=\"순서2\",근무!E210,IF(달력!$S$27=\"순서3\",근무!F210,IF(달력!$S$27=\"순서4\",근무!G210,IF(달력!$S$27=\"순서5\",근무!H210,IF(달력!$S$27=\"순서6\",근무!I210,\"\"))))))","v":"주간"},{"$f":"IF(달력!$S$28=\"순서1\",근무!D210,IF(달력!$S$28=\"순서2\",근무!E210,IF(달력!$S$28=\"순서3\",근무!F210,IF(달력!$S$28=\"순서4\",근무!G210,IF(달력!$S$28=\"순서5\",근무!H210,IF(달력!$S$28=\"순서6\",근무!I210,\"\"))))))","v":"야간"},{"$f":"IF(달력!$S$29=\"순서1\",근무!D210,IF(달력!$S$29=\"순서2\",근무!E210,IF(달력!$S$29=\"순서3\",근무!F210,IF(달력!$S$29=\"순서4\",근무!G210,IF(달력!$S$29=\"순서5\",근무!H210,IF(달력!$S$29=\"순서6\",근무!I210,\"\"))))))","v":"야간"},null,null,7]
[null,"2023-07-24","월",{"$f":"IF(달력!$S$24=\"순서1\",근무!D211,IF(달력!$S$24=\"순서2\",근무!E211,IF(달력!$S$24=\"순서3\",근무!F211,IF(달력!$S$24=\"순서4\",근무!G211,IF(달력!$S$24=\"순서5\",근무!H211,IF(달력!$S$24=\"순서6\",근무!I211,\"\"))))))","v":"주간"},{"$f":"IF(달력!$S$25=\"순서1\",근무!D211,IF(달력!$S$25=\"순서2\",근무!E211,IF(달력!$S$25=\"순서3\",근무!F211,IF(달력!$S$25=\"순서4\",근무!G211,IF(달력!$S$25=\"순서5\",근무!H211,IF(달력!$S$25=\"순서6\",근무!I211,\"\"))))))","v":"주간"},{"$f":"IF(달력!$S$26=\"순서1\",근무!D211,IF(달력!$S$26=\"순서2\",근무!E211,IF(달력!$S$26=\"순서3\",근무!F211,IF(달력!$S$26=\"순서4\",근무!G211,IF(달력!$S$26=\"순서5\",근무!H211,IF(달력!$S$26=\"순서6\",근무!I211,\"\"))))))","v":"야간"},{"$f":"IF(달력!$S$27=\"순서1\",근무!D211,IF(달력!$S$27=\"순서2\",근무!E211,IF(달력!$S$27=\"순서3\",근무!F211,IF(달력!$S$27=\"순서4\",근무!G211,IF(달력!$S$27=\"순서5\",근무!H211,IF(달력!$S$27=\"순서6\",근무!I211,\"\"))))))","v":"야간"},{"$f":"IF(달력!$S$28=\"순서1\",근무!D211,IF(달력!$S$28=\"순서2\",근무!E211,IF(달력!$S$28=\"순서3\",근무!F211,IF(달력!$S$28=\"순서4\",근무!G211,IF(달력!$S$28=\"순서5\",근무!H211,IF(달력!$S$28=\"순서6\",근무!I211,\"\"))))))","v":"비번"},{"$f":"IF(달력!$S$29=\"순서1\",근무!D211,IF(달력!$S$29=\"순서2\",근무!E211,IF(달력!$S$29=\"순서3\",근무!F211,IF(달력!$S$29=\"순서4\",근무!G211,IF(달력!$S$29=\"순서5\",근무!H211,IF(달력!$S$29=\"순서6\",근무!I211,\"\"))))))","v":"비번"},null,null,7]
[null,"2023-07-25","화",{"$f":"IF(달력!$S$24=\"순서1\",근무!D212,IF(달력!$S$24=\"순서2\",근무!E212,IF(달력!$S$24=\"순서3\",근무!F212,IF(달력!$S$24=\"순서4\",근무!G212,IF(달력!$S$24=\"순서5\",근무!H212,IF(달력!$S$24=\"순서6\",근무!I212,\"\"))))))","v":"주간"},{"$f":"IF(달력!$S$25=\"순서1\",근무!D212,IF(달력!$S$25=\"순서2\",근무!E212,IF(달력!$S$25=\"순서3\",근무!F212,IF(달력!$S$25=\"순서4\",근무!G212,IF(달력!$S$25=\"순서5\",근무!H212,IF(달력!$S$25=\"순서6\",근무!I212,\"\"))))))","v":"주간"},{"$f":"IF(달력!$S$26=\"순서1\",근무!D212,IF(달력!$S$26=\"순서2\",근무!E212,IF(달력!$S$26=\"순서3\",근무!F212,IF(달력!$S$26=\"순서4\",근무!G212,IF(달력!$S$26=\"순서5\",근무!H212,IF(달력!$S$26=\"순서6\",근무!I212,\"\"))))))","v":"야간"},{"$f":"IF(달력!$S$27=\"순서1\",근무!D212,IF(달력!$S$27=\"순서2\",근무!E212,IF(달력!$S$27=\"순서3\",근무!F212,IF(달력!$S$27=\"순서4\",근무!G212,IF(달력!$S$27=\"순서5\",근무!H212,IF(달력!$S$27=\"순서6\",근무!I212,\"\"))))))","v":"야간"},{"$f":"IF(달력!$S$28=\"순서1\",근무!D212,IF(달력!$S$28=\"순서2\",근무!E212,IF(달력!$S$28=\"순서3\",근무!F212,IF(달력!$S$28=\"순서4\",근무!G212,IF(달력!$S$28=\"순서5\",근무!H212,IF(달력!$S$28=\"순서6\",근무!I212,\"\"))))))","v":"비번"},{"$f":"IF(달력!$S$29=\"순서1\",근무!D212,IF(달력!$S$29=\"순서2\",근무!E212,IF(달력!$S$29=\"순서3\",근무!F212,IF(달력!$S$29=\"순서4\",근무!G212,IF(달력!$S$29=\"순서5\",근무!H212,IF(달력!$S$29=\"순서6\",근무!I212,\"\"))))))","v":"비번"},null,null,7]
[null,"2023-07-26","수",{"$f":"IF(달력!$S$24=\"순서1\",근무!D213,IF(달력!$S$24=\"순서2\",근무!E213,IF(달력!$S$24=\"순서3\",근무!F213,IF(달력!$S$24=\"순서4\",근무!G213,IF(달력!$S$24=\"순서5\",근무!H213,IF(달력!$S$24=\"순서6\",근무!I213,\"\"))))))","v":"야간"},{"$f":"IF(달력!$S$25=\"순서1\",근무!D213,IF(달력!$S$25=\"순서2\",근무!E213,IF(달력!$S$25=\"순서3\",근무!F213,IF(달력!$S$25=\"순서4\",근무!G213,IF(달력!$S$25=\"순서5\",근무!H213,IF(달력!$S$25=\"순서6\",근무!I213,\"\"))))))","v":"야간"},{"$f":"IF(달력!$S$26=\"순서1\",근무!D213,IF(달력!$S$26=\"순서2\",근무!E213,IF(달력!$S$26=\"순서3\",근무!F213,IF(달력!$S$26=\"순서4\",근무!G213,IF(달력!$S$26=\"순서5\",근무!H213,IF(달력!$S$26=\"순서6\",근무!I213,\"\"))))))","v":"비번"},{"$f":"IF(달력!$S$27=\"순서1\",근무!D213,IF(달력!$S$27=\"순서2\",근무!E213,IF(달력!$S$27=\"순서3\",근무!F213,IF(달력!$S$27=\"순서4\",근무!G213,IF(달력!$S$27=\"순서5\",근무!H213,IF(달력!$S$27=\"순서6\",근무!I213,\"\"))))))","v":"비번"},{"$f":"IF(달력!$S$28=\"순서1\",근무!D213,IF(달력!$S$28=\"순서2\",근무!E213,IF(달력!$S$28=\"순서3\",근무!F213,IF(달력!$S$28=\"순서4\",근무!G213,IF(달력!$S$28=\"순서5\",근무!H213,IF(달력!$S$28=\"순서6\",근무!I213,\"\"))))))","v":"주간"},{"$f":"IF(달력!$S$29=\"순서1\",근무!D213,IF(달력!$S$29=\"순서2\",근무!E213,IF(달력!$S$29=\"순서3\",근무!F213,IF(달력!$S$29=\"순서4\",근무!G213,IF(달력!$S$29=\"순서5\",근무!H213,IF(달력!$S$29=\"순서6\",근무!I213,\"\"))))))","v":"주간"},null,null,7]
[null,"2023-07-27","목",{"$f":"IF(달력!$S$24=\"순서1\",근무!D214,IF(달력!$S$24=\"순서2\",근무!E214,IF(달력!$S$24=\"순서3\",근무!F214,IF(달력!$S$24=\"순서4\",근무!G214,IF(달력!$S$24=\"순서5\",근무!H214,IF(달력!$S$24=\"순서6\",근무!I214,\"\"))))))","v":"야간"},{"$f":"IF(달력!$S$25=\"순서1\",근무!D214,IF(달력!$S$25=\"순서2\",근무!E214,IF(달력!$S$25=\"순서3\",근무!F214,IF(달력!$S$25=\"순서4\",근무!G214,IF(달력!$S$25=\"순서5\",근무!H214,IF(달력!$S$25=\"순서6\",근무!I214,\"\"))))))","v":"야간"},{"$f":"IF(달력!$S$26=\"순서1\",근무!D214,IF(달력!$S$26=\"순서2\",근무!E214,IF(달력!$S$26=\"순서3\",근무!F214,IF(달력!$S$26=\"순서4\",근무!G214,IF(달력!$S$26=\"순서5\",근무!H214,IF(달력!$S$26=\"순서6\",근무!I214,\"\"))))))","v":"비번"},{"$f":"IF(달력!$S$27=\"순서1\",근무!D214,IF(달력!$S$27=\"순서2\",근무!E214,IF(달력!$S$27=\"순서3\",근무!F214,IF(달력!$S$27=\"순서4\",근무!G214,IF(달력!$S$27=\"순서5\",근무!H214,IF(달력!$S$27=\"순서6\",근무!I214,\"\"))))))","v":"비번"},{"$f":"IF(달력!$S$28=\"순서1\",근무!D214,IF(달력!$S$28=\"순서2\",근무!E214,IF(달력!$S$28=\"순서3\",근무!F214,IF(달력!$S$28=\"순서4\",근무!G214,IF(달력!$S$28=\"순서5\",근무!H214,IF(달력!$S$28=\"순서6\",근무!I214,\"\"))))))","v":"주간"},{"$f":"IF(달력!$S$29=\"순서1\",근무!D214,IF(달력!$S$29=\"순서2\",근무!E214,IF(달력!$S$29=\"순서3\",근무!F214,IF(달력!$S$29=\"순서4\",근무!G214,IF(달력!$S$29=\"순서5\",근무!H214,IF(달력!$S$29=\"순서6\",근무!I214,\"\"))))))","v":"주간"},null,null,7]
[null,"2023-07-28","금",{"$f":"IF(달력!$S$24=\"순서1\",근무!D215,IF(달력!$S$24=\"순서2\",근무!E215,IF(달력!$S$24=\"순서3\",근무!F215,IF(달력!$S$24=\"순서4\",근무!G215,IF(달력!$S$24=\"순서5\",근무!H215,IF(달력!$S$24=\"순서6\",근무!I215,\"\"))))))","v":"비번"},{"$f":"IF(달력!$S$25=\"순서1\",근무!D215,IF(달력!$S$25=\"순서2\",근무!E215,IF(달력!$S$25=\"순서3\",근무!F215,IF(달력!$S$25=\"순서4\",근무!G215,IF(달력!$S$25=\"순서5\",근무!H215,IF(달력!$S$25=\"순서6\",근무!I215,\"\"))))))","v":"비번"},{"$f":"IF(달력!$S$26=\"순서1\",근무!D215,IF(달력!$S$26=\"순서2\",근무!E215,IF(달력!$S$26=\"순서3\",근무!F215,IF(달력!$S$26=\"순서4\",근무!G215,IF(달력!$S$26=\"순서5\",근무!H215,IF(달력!$S$26=\"순서6\",근무!I215,\"\"))))))","v":"주간"},{"$f":"IF(달력!$S$27=\"순서1\",근무!D215,IF(달력!$S$27=\"순서2\",근무!E215,IF(달력!$S$27=\"순서3\",근무!F215,IF(달력!$S$27=\"순서4\",근무!G215,IF(달력!$S$27=\"순서5\",근무!H215,IF(달력!$S$27=\"순서6\",근무!I215,\"\"))))))","v":"주간"},{"$f":"IF(달력!$S$28=\"순서1\",근무!D215,IF(달력!$S$28=\"순서2\",근무!E215,IF(달력!$S$28=\"순서3\",근무!F215,IF(달력!$S$28=\"순서4\",근무!G215,IF(달력!$S$28=\"순서5\",근무!H215,IF(달력!$S$28=\"순서6\",근무!I215,\"\"))))))","v":"야간"},{"$f":"IF(달력!$S$29=\"순서1\",근무!D215,IF(달력!$S$29=\"순서2\",근무!E215,IF(달력!$S$29=\"순서3\",근무!F215,IF(달력!$S$29=\"순서4\",근무!G215,IF(달력!$S$29=\"순서5\",근무!H215,IF(달력!$S$29=\"순서6\",근무!I215,\"\"))))))","v":"야간"},null,null,7]
[null,"2023-07-29","토",{"$f":"IF(달력!$S$24=\"순서1\",근무!D216,IF(달력!$S$24=\"순서2\",근무!E216,IF(달력!$S$24=\"순서3\",근무!F216,IF(달력!$S$24=\"순서4\",근무!G216,IF(달력!$S$24=\"순서5\",근무!H216,IF(달력!$S$24=\"순서6\",근무!I216,\"\"))))))","v":"비번"},{"$f":"IF(달력!$S$25=\"순서1\",근무!D216,IF(달력!$S$25=\"순서2\",근무!E216,IF(달력!$S$25=\"순서3\",근무!F216,IF(달력!$S$25=\"순서4\",근무!G216,IF(달력!$S$25=\"순서5\",근무!H216,IF(달력!$S$25=\"순서6\",근무!I216,\"\"))))))","v":"비번"},{"$f":"IF(달력!$S$26=\"순서1\",근무!D216,IF(달력!$S$26=\"순서2\",근무!E216,IF(달력!$S$26=\"순서3\",근무!F216,IF(달력!$S$26=\"순서4\",근무!G216,IF(달력!$S$26=\"순서5\",근무!H216,IF(달력!$S$26=\"순서6\",근무!I216,\"\"))))))","v":"주간"},{"$f":"IF(달력!$S$27=\"순서1\",근무!D216,IF(달력!$S$27=\"순서2\",근무!E216,IF(달력!$S$27=\"순서3\",근무!F216,IF(달력!$S$27=\"순서4\",근무!G216,IF(달력!$S$27=\"순서5\",근무!H216,IF(달력!$S$27=\"순서6\",근무!I216,\"\"))))))","v":"주간"},{"$f":"IF(달력!$S$28=\"순서1\",근무!D216,IF(달력!$S$28=\"순서2\",근무!E216,IF(달력!$S$28=\"순서3\",근무!F216,IF(달력!$S$28=\"순서4\",근무!G216,IF(달력!$S$28=\"순서5\",근무!H216,IF(달력!$S$28=\"순서6\",근무!I216,\"\"))))))","v":"야간"},{"$f":"IF(달력!$S$29=\"순서1\",근무!D216,IF(달력!$S$29=\"순서2\",근무!E216,IF(달력!$S$29=\"순서3\",근무!F216,IF(달력!$S$29=\"순서4\",근무!G216,IF(달력!$S$29=\"순서5\",근무!H216,IF(달력!$S$29=\"순서6\",근무!I216,\"\"))))))","v":"야간"},null,null,7]
[null,"2023-07-30","일",{"$f":"IF(달력!$S$24=\"순서1\",근무!D217,IF(달력!$S$24=\"순서2\",근무!E217,IF(달력!$S$24=\"순서3\",근무!F217,IF(달력!$S$24=\"순서4\",근무!G217,IF(달력!$S$24=\"순서5\",근무!H217,IF(달력!$S$24=\"순서6\",근무!I217,\"\"))))))","v":"주간"},{"$f":"IF(달력!$S$25=\"순서1\",근무!D217,IF(달력!$S$25=\"순서2\",근무!E217,IF(달력!$S$25=\"순서3\",근무!F217,IF(달력!$S$25=\"순서4\",근무!G217,IF(달력!$S$25=\"순서5\",근무!H217,IF(달력!$S$25=\"순서6\",근무!I217,\"\"))))))","v":"주간"},{"$f":"IF(달력!$S$26=\"순서1\",근무!D217,IF(달력!$S$26=\"순서2\",근무!E217,IF(달력!$S$26=\"순서3\",근무!F217,IF(달력!$S$26=\"순서4\",근무!G217,IF(달력!$S$26=\"순서5\",근무!H217,IF(달력!$S$26=\"순서6\",근무!I217,\"\"))))))","v":"야간"},{"$f":"IF(달력!$S$27=\"순서1\",근무!D217,IF(달력!$S$27=\"순서2\",근무!E217,IF(달력!$S$27=\"순서3\",근무!F217,IF(달력!$S$27=\"순서4\",근무!G217,IF(달력!$S$27=\"순서5\",근무!H217,IF(달력!$S$27=\"순서6\",근무!I217,\"\"))))))","v":"야간"},{"$f":"IF(달력!$S$28=\"순서1\",근무!D217,IF(달력!$S$28=\"순서2\",근무!E217,IF(달력!$S$28=\"순서3\",근무!F217,IF(달력!$S$28=\"순서4\",근무!G217,IF(달력!$S$28=\"순서5\",근무!H217,IF(달력!$S$28=\"순서6\",근무!I217,\"\"))))))","v":"비번"},{"$f":"IF(달력!$S$29=\"순서1\",근무!D217,IF(달력!$S$29=\"순서2\",근무!E217,IF(달력!$S$29=\"순서3\",근무!F217,IF(달력!$S$29=\"순서4\",근무!G217,IF(달력!$S$29=\"순서5\",근무!H217,IF(달력!$S$29=\"순서6\",근무!I217,\"\"))))))","v":"비번"},null,null,7]
[null,"2023-07-31","월",{"$f":"IF(달력!$S$24=\"순서1\",근무!D218,IF(달력!$S$24=\"순서2\",근무!E218,IF(달력!$S$24=\"순서3\",근무!F218,IF(달력!$S$24=\"순서4\",근무!G218,IF(달력!$S$24=\"순서5\",근무!H218,IF(달력!$S$24=\"순서6\",근무!I218,\"\"))))))","v":"주간"},{"$f":"IF(달력!$S$25=\"순서1\",근무!D218,IF(달력!$S$25=\"순서2\",근무!E218,IF(달력!$S$25=\"순서3\",근무!F218,IF(달력!$S$25=\"순서4\",근무!G218,IF(달력!$S$25=\"순서5\",근무!H218,IF(달력!$S$25=\"순서6\",근무!I218,\"\"))))))","v":"주간"},{"$f":"IF(달력!$S$26=\"순서1\",근무!D218,IF(달력!$S$26=\"순서2\",근무!E218,IF(달력!$S$26=\"순서3\",근무!F218,IF(달력!$S$26=\"순서4\",근무!G218,IF(달력!$S$26=\"순서5\",근무!H218,IF(달력!$S$26=\"순서6\",근무!I218,\"\"))))))","v":"야간"},{"$f":"IF(달력!$S$27=\"순서1\",근무!D218,IF(달력!$S$27=\"순서2\",근무!E218,IF(달력!$S$27=\"순서3\",근무!F218,IF(달력!$S$27=\"순서4\",근무!G218,IF(달력!$S$27=\"순서5\",근무!H218,IF(달력!$S$27=\"순서6\",근무!I218,\"\"))))))","v":"야간"},{"$f":"IF(달력!$S$28=\"순서1\",근무!D218,IF(달력!$S$28=\"순서2\",근무!E218,IF(달력!$S$28=\"순서3\",근무!F218,IF(달력!$S$28=\"순서4\",근무!G218,IF(달력!$S$28=\"순서5\",근무!H218,IF(달력!$S$28=\"순서6\",근무!I218,\"\"))))))","v":"비번"},{"$f":"IF(달력!$S$29=\"순서1\",근무!D218,IF(달력!$S$29=\"순서2\",근무!E218,IF(달력!$S$29=\"순서3\",근무!F218,IF(달력!$S$29=\"순서4\",근무!G218,IF(달력!$S$29=\"순서5\",근무!H218,IF(달력!$S$29=\"순서6\",근무!I218,\"\"))))))","v":"비번"},null,null,7]
[null,"2023-08-01","화",{"$f":"IF(달력!$S$24=\"순서1\",근무!D219,IF(달력!$S$24=\"순서2\",근무!E219,IF(달력!$S$24=\"순서3\",근무!F219,IF(달력!$S$24=\"순서4\",근무!G219,IF(달력!$S$24=\"순서5\",근무!H219,IF(달력!$S$24=\"순서6\",근무!I219,\"\"))))))","v":"야간"},{"$f":"IF(달력!$S$25=\"순서1\",근무!D219,IF(달력!$S$25=\"순서2\",근무!E219,IF(달력!$S$25=\"순서3\",근무!F219,IF(달력!$S$25=\"순서4\",근무!G219,IF(달력!$S$25=\"순서5\",근무!H219,IF(달력!$S$25=\"순서6\",근무!I219,\"\"))))))","v":"야간"},{"$f":"IF(달력!$S$26=\"순서1\",근무!D219,IF(달력!$S$26=\"순서2\",근무!E219,IF(달력!$S$26=\"순서3\",근무!F219,IF(달력!$S$26=\"순서4\",근무!G219,IF(달력!$S$26=\"순서5\",근무!H219,IF(달력!$S$26=\"순서6\",근무!I219,\"\"))))))","v":"비번"},{"$f":"IF(달력!$S$27=\"순서1\",근무!D219,IF(달력!$S$27=\"순서2\",근무!E219,IF(달력!$S$27=\"순서3\",근무!F219,IF(달력!$S$27=\"순서4\",근무!G219,IF(달력!$S$27=\"순서5\",근무!H219,IF(달력!$S$27=\"순서6\",근무!I219,\"\"))))))","v":"비번"},{"$f":"IF(달력!$S$28=\"순서1\",근무!D219,IF(달력!$S$28=\"순서2\",근무!E219,IF(달력!$S$28=\"순서3\",근무!F219,IF(달력!$S$28=\"순서4\",근무!G219,IF(달력!$S$28=\"순서5\",근무!H219,IF(달력!$S$28=\"순서6\",근무!I219,\"\"))))))","v":"주간"},{"$f":"IF(달력!$S$29=\"순서1\",근무!D219,IF(달력!$S$29=\"순서2\",근무!E219,IF(달력!$S$29=\"순서3\",근무!F219,IF(달력!$S$29=\"순서4\",근무!G219,IF(달력!$S$29=\"순서5\",근무!H219,IF(달력!$S$29=\"순서6\",근무!I219,\"\"))))))","v":"주간"},null,"주간",8,{"$f":"COUNTIFS(일정1내용,$K219,$L$7:$L$372,8)","v":10},{"$f":"COUNTIFS(일정2내용,$K219,$L$7:$L$372,8)","v":10},{"$f":"COUNTIFS(일정3내용,$K219,$L$7:$L$372,8)","v":10},{"$f":"COUNTIFS(일정4내용,$K219,$L$7:$L$372,8)","v":10},{"$f":"COUNTIFS(일정5내용,$K219,$L$7:$L$372,8)","v":11},{"$f":"COUNTIFS(일정6내용,$K219,$L$7:$L$372,8)","v":11}]
[null,"2023-08-02","수",{"$f":"IF(달력!$S$24=\"순서1\",근무!D220,IF(달력!$S$24=\"순서2\",근무!E220,IF(달력!$S$24=\"순서3\",근무!F220,IF(달력!$S$24=\"순서4\",근무!G220,IF(달력!$S$24=\"순서5\",근무!H220,IF(달력!$S$24=\"순서6\",근무!I220,\"\"))))))","v":"야간"},{"$f":"IF(달력!$S$25=\"순서1\",근무!D220,IF(달력!$S$25=\"순서2\",근무!E220,IF(달력!$S$25=\"순서3\",근무!F220,IF(달력!$S$25=\"순서4\",근무!G220,IF(달력!$S$25=\"순서5\",근무!H220,IF(달력!$S$25=\"순서6\",근무!I220,\"\"))))))","v":"야간"},{"$f":"IF(달력!$S$26=\"순서1\",근무!D220,IF(달력!$S$26=\"순서2\",근무!E220,IF(달력!$S$26=\"순서3\",근무!F220,IF(달력!$S$26=\"순서4\",근무!G220,IF(달력!$S$26=\"순서5\",근무!H220,IF(달력!$S$26=\"순서6\",근무!I220,\"\"))))))","v":"비번"},{"$f":"IF(달력!$S$27=\"순서1\",근무!D220,IF(달력!$S$27=\"순서2\",근무!E220,IF(달력!$S$27=\"순서3\",근무!F220,IF(달력!$S$27=\"순서4\",근무!G220,IF(달력!$S$27=\"순서5\",근무!H220,IF(달력!$S$27=\"순서6\",근무!I220,\"\"))))))","v":"비번"},{"$f":"IF(달력!$S$28=\"순서1\",근무!D220,IF(달력!$S$28=\"순서2\",근무!E220,IF(달력!$S$28=\"순서3\",근무!F220,IF(달력!$S$28=\"순서4\",근무!G220,IF(달력!$S$28=\"순서5\",근무!H220,IF(달력!$S$28=\"순서6\",근무!I220,\"\"))))))","v":"주간"},{"$f":"IF(달력!$S$29=\"순서1\",근무!D220,IF(달력!$S$29=\"순서2\",근무!E220,IF(달력!$S$29=\"순서3\",근무!F220,IF(달력!$S$29=\"순서4\",근무!G220,IF(달력!$S$29=\"순서5\",근무!H220,IF(달력!$S$29=\"순서6\",근무!I220,\"\"))))))","v":"주간"},null,"야간",8,{"$f":"COUNTIFS(일정1내용,$K220,$L$7:$L$372,8)","v":11},{"$f":"COUNTIFS(일정2내용,$K220,$L$7:$L$372,8)","v":11},{"$f":"COUNTIFS(일정3내용,$K220,$L$7:$L$372,8)","v":10},{"$f":"COUNTIFS(일정4내용,$K220,$L$7:$L$372,8)","v":10},{"$f":"COUNTIFS(일정5내용,$K220,$L$7:$L$372,8)","v":10},{"$f":"COUNTIFS(일정6내용,$K220,$L$7:$L$372,8)","v":10}]
[null,"2023-08-03","목",{"$f":"IF(달력!$S$24=\"순서1\",근무!D221,IF(달력!$S$24=\"순서2\",근무!E221,IF(달력!$S$24=\"순서3\",근무!F221,IF(달력!$S$24=\"순서4\",근무!G221,IF(달력!$S$24=\"순서5\",근무!H221,IF(달력!$S$24=\"순서6\",근무!I221,\"\"))))))","v":"비번"},{"$f":"IF(달력!$S$25=\"순서1\",근무!D221,IF(달력!$S$25=\"순서2\",근무!E221,IF(달력!$S$25=\"순서3\",근무!F221,IF(달력!$S$25=\"순서4\",근무!G221,IF(달력!$S$25=\"순서5\",근무!H221,IF(달력!$S$25=\"순서6\",근무!I221,\"\"))))))","v":"비번"},{"$f":"IF(달력!$S$26=\"순서1\",근무!D221,IF(달력!$S$26=\"순서2\",근무!E221,IF(달력!$S$26=\"순서3\",근무!F221,IF(달력!$S$26=\"순서4\",근무!G221,IF(달력!$S$26=\"순서5\",근무!H221,IF(달력!$S$26=\"순서6\",근무!I221,\"\"))))))","v":"주간"},{"$f":"IF(달력!$S$27=\"순서1\",근무!D221,IF(달력!$S$27=\"순서2\",근무!E221,IF(달력!$S$27=\"순서3\",근무!F221,IF(달력!$S$27=\"순서4\",근무!G221,IF(달력!$S$27=\"순서5\",근무!H221,IF(달력!$S$27=\"순서6\",근무!I221,\"\"))))))","v":"주간"},{"$f":"IF(달력!$S$28=\"순서1\",근무!D221,IF(달력!$S$28=\"순서2\",근무!E221,IF(달력!$S$28=\"순서3\",근무!F221,IF(달력!$S$28=\"순서4\",근무!G221,IF(달력!$S$28=\"순서5\",근무!H221,IF(달력!$S$28=\"순서6\",근무!I221,\"\"))))))","v":"야간"},{"$f":"IF(달력!$S$29=\"순서1\",근무!D221,IF(달력!$S$29=\"순서2\",근무!E221,IF(달력!$S$29=\"순서3\",근무!F221,IF(달력!$S$29=\"순서4\",근무!G221,IF(달력!$S$29=\"순서5\",근무!H221,IF(달력!$S$29=\"순서6\",근무!I221,\"\"))))))","v":"야간"},null,"비번",8,{"$f":"COUNTIFS(일정1내용,$K221,$L$7:$L$372,8)","v":10},{"$f":"COUNTIFS(일정2내용,$K221,$L$7:$L$372,8)","v":10},{"$f":"COUNTIFS(일정3내용,$K221,$L$7:$L$372,8)","v":11},{"$f":"COUNTIFS(일정4내용,$K221,$L$7:$L$372,8)","v":11},{"$f":"COUNTIFS(일정5내용,$K221,$L$7:$L$372,8)","v":10},{"$f":"COUNTIFS(일정6내용,$K221,$L$7:$L$372,8)","v":10}]
[null,"2023-08-04","금",{"$f":"IF(달력!$S$24=\"순서1\",근무!D222,IF(달력!$S$24=\"순서2\",근무!E222,IF(달력!$S$24=\"순서3\",근무!F222,IF(달력!$S$24=\"순서4\",근무!G222,IF(달력!$S$24=\"순서5\",근무!H222,IF(달력!$S$24=\"순서6\",근무!I222,\"\"))))))","v":"비번"},{"$f":"IF(달력!$S$25=\"순서1\",근무!D222,IF(달력!$S$25=\"순서2\",근무!E222,IF(달력!$S$25=\"순서3\",근무!F222,IF(달력!$S$25=\"순서4\",근무!G222,IF(달력!$S$25=\"순서5\",근무!H222,IF(달력!$S$25=\"순서6\",근무!I222,\"\"))))))","v":"비번"},{"$f":"IF(달력!$S$26=\"순서1\",근무!D222,IF(달력!$S$26=\"순서2\",근무!E222,IF(달력!$S$26=\"순서3\",근무!F222,IF(달력!$S$26=\"순서4\",근무!G222,IF(달력!$S$26=\"순서5\",근무!H222,IF(달력!$S$26=\"순서6\",근무!I222,\"\"))))))","v":"주간"},{"$f":"IF(달력!$S$27=\"순서1\",근무!D222,IF(달력!$S$27=\"순서2\",근무!E222,IF(달력!$S$27=\"순서3\",근무!F222,IF(달력!$S$27=\"순서4\",근무!G222,IF(달력!$S$27=\"순서5\",근무!H222,IF(달력!$S$27=\"순서6\",근무!I222,\"\"))))))","v":"주간"},{"$f":"IF(달력!$S$28=\"순서1\",근무!D222,IF(달력!$S$28=\"순서2\",근무!E222,IF(달력!$S$28=\"순서3\",근무!F222,IF(달력!$S$28=\"순서4\",근무!G222,IF(달력!$S$28=\"순서5\",근무!H222,IF(달력!$S$28=\"순서6\",근무!I222,\"\"))))))","v":"야간"},{"$f":"IF(달력!$S$29=\"순서1\",근무!D222,IF(달력!$S$29=\"순서2\",근무!E222,IF(달력!$S$29=\"순서3\",근무!F222,IF(달력!$S$29=\"순서4\",근무!G222,IF(달력!$S$29=\"순서5\",근무!H222,IF(달력!$S$29=\"순서6\",근무!I222,\"\"))))))","v":"야간"},null,"근무일 계",8,{"$f":"M219+M220","v":21},{"$f":"N219+N220","v":21},20,20,21,21]
[null,"2023-08-05","토",{"$f":"IF(달력!$S$24=\"순서1\",근무!D223,IF(달력!$S$24=\"순서2\",근무!E223,IF(달력!$S$24=\"순서3\",근무!F223,IF(달력!$S$24=\"순서4\",근무!G223,IF(달력!$S$24=\"순서5\",근무!H223,IF(달력!$S$24=\"순서6\",근무!I223,\"\"))))))","v":"주간"},{"$f":"IF(달력!$S$25=\"순서1\",근무!D223,IF(달력!$S$25=\"순서2\",근무!E223,IF(달력!$S$25=\"순서3\",근무!F223,IF(달력!$S$25=\"순서4\",근무!G223,IF(달력!$S$25=\"순서5\",근무!H223,IF(달력!$S$25=\"순서6\",근무!I223,\"\"))))))","v":"주간"},{"$f":"IF(달력!$S$26=\"순서1\",근무!D223,IF(달력!$S$26=\"순서2\",근무!E223,IF(달력!$S$26=\"순서3\",근무!F223,IF(달력!$S$26=\"순서4\",근무!G223,IF(달력!$S$26=\"순서5\",근무!H223,IF(달력!$S$26=\"순서6\",근무!I223,\"\"))))))","v":"야간"},{"$f":"IF(달력!$S$27=\"순서1\",근무!D223,IF(달력!$S$27=\"순서2\",근무!E223,IF(달력!$S$27=\"순서3\",근무!F223,IF(달력!$S$27=\"순서4\",근무!G223,IF(달력!$S$27=\"순서5\",근무!H223,IF(달력!$S$27=\"순서6\",근무!I223,\"\"))))))","v":"야간"},{"$f":"IF(달력!$S$28=\"순서1\",근무!D223,IF(달력!$S$28=\"순서2\",근무!E223,IF(달력!$S$28=\"순서3\",근무!F223,IF(달력!$S$28=\"순서4\",근무!G223,IF(달력!$S$28=\"순서5\",근무!H223,IF(달력!$S$28=\"순서6\",근무!I223,\"\"))))))","v":"비번"},{"$f":"IF(달력!$S$29=\"순서1\",근무!D223,IF(달력!$S$29=\"순서2\",근무!E223,IF(달력!$S$29=\"순서3\",근무!F223,IF(달력!$S$29=\"순서4\",근무!G223,IF(달력!$S$29=\"순서5\",근무!H223,IF(달력!$S$29=\"순서6\",근무!I223,\"\"))))))","v":"비번"},null,null,8]
[null,"2023-08-06","일",{"$f":"IF(달력!$S$24=\"순서1\",근무!D224,IF(달력!$S$24=\"순서2\",근무!E224,IF(달력!$S$24=\"순서3\",근무!F224,IF(달력!$S$24=\"순서4\",근무!G224,IF(달력!$S$24=\"순서5\",근무!H224,IF(달력!$S$24=\"순서6\",근무!I224,\"\"))))))","v":"주간"},{"$f":"IF(달력!$S$25=\"순서1\",근무!D224,IF(달력!$S$25=\"순서2\",근무!E224,IF(달력!$S$25=\"순서3\",근무!F224,IF(달력!$S$25=\"순서4\",근무!G224,IF(달력!$S$25=\"순서5\",근무!H224,IF(달력!$S$25=\"순서6\",근무!I224,\"\"))))))","v":"주간"},{"$f":"IF(달력!$S$26=\"순서1\",근무!D224,IF(달력!$S$26=\"순서2\",근무!E224,IF(달력!$S$26=\"순서3\",근무!F224,IF(달력!$S$26=\"순서4\",근무!G224,IF(달력!$S$26=\"순서5\",근무!H224,IF(달력!$S$26=\"순서6\",근무!I224,\"\"))))))","v":"야간"},{"$f":"IF(달력!$S$27=\"순서1\",근무!D224,IF(달력!$S$27=\"순서2\",근무!E224,IF(달력!$S$27=\"순서3\",근무!F224,IF(달력!$S$27=\"순서4\",근무!G224,IF(달력!$S$27=\"순서5\",근무!H224,IF(달력!$S$27=\"순서6\",근무!I224,\"\"))))))","v":"야간"},{"$f":"IF(달력!$S$28=\"순서1\",근무!D224,IF(달력!$S$28=\"순서2\",근무!E224,IF(달력!$S$28=\"순서3\",근무!F224,IF(달력!$S$28=\"순서4\",근무!G224,IF(달력!$S$28=\"순서5\",근무!H224,IF(달력!$S$28=\"순서6\",근무!I224,\"\"))))))","v":"비번"},{"$f":"IF(달력!$S$29=\"순서1\",근무!D224,IF(달력!$S$29=\"순서2\",근무!E224,IF(달력!$S$29=\"순서3\",근무!F224,IF(달력!$S$29=\"순서4\",근무!G224,IF(달력!$S$29=\"순서5\",근무!H224,IF(달력!$S$29=\"순서6\",근무!I224,\"\"))))))","v":"비번"},null,null,8]
[null,"2023-08-07","월",{"$f":"IF(달력!$S$24=\"순서1\",근무!D225,IF(달력!$S$24=\"순서2\",근무!E225,IF(달력!$S$24=\"순서3\",근무!F225,IF(달력!$S$24=\"순서4\",근무!G225,IF(달력!$S$24=\"순서5\",근무!H225,IF(달력!$S$24=\"순서6\",근무!I225,\"\"))))))","v":"야간"},{"$f":"IF(달력!$S$25=\"순서1\",근무!D225,IF(달력!$S$25=\"순서2\",근무!E225,IF(달력!$S$25=\"순서3\",근무!F225,IF(달력!$S$25=\"순서4\",근무!G225,IF(달력!$S$25=\"순서5\",근무!H225,IF(달력!$S$25=\"순서6\",근무!I225,\"\"))))))","v":"야간"},{"$f":"IF(달력!$S$26=\"순서1\",근무!D225,IF(달력!$S$26=\"순서2\",근무!E225,IF(달력!$S$26=\"순서3\",근무!F225,IF(달력!$S$26=\"순서4\",근무!G225,IF(달력!$S$26=\"순서5\",근무!H225,IF(달력!$S$26=\"순서6\",근무!I225,\"\"))))))","v":"비번"},{"$f":"IF(달력!$S$27=\"순서1\",근무!D225,IF(달력!$S$27=\"순서2\",근무!E225,IF(달력!$S$27=\"순서3\",근무!F225,IF(달력!$S$27=\"순서4\",근무!G225,IF(달력!$S$27=\"순서5\",근무!H225,IF(달력!$S$27=\"순서6\",근무!I225,\"\"))))))","v":"비번"},{"$f":"IF(달력!$S$28=\"순서1\",근무!D225,IF(달력!$S$28=\"순서2\",근무!E225,IF(달력!$S$28=\"순서3\",근무!F225,IF(달력!$S$28=\"순서4\",근무!G225,IF(달력!$S$28=\"순서5\",근무!H225,IF(달력!$S$28=\"순서6\",근무!I225,\"\"))))))","v":"주간"},{"$f":"IF(달력!$S$29=\"순서1\",근무!D225,IF(달력!$S$29=\"순서2\",근무!E225,IF(달력!$S$29=\"순서3\",근무!F225,IF(달력!$S$29=\"순서4\",근무!G225,IF(달력!$S$29=\"순서5\",근무!H225,IF(달력!$S$29=\"순서6\",근무!I225,\"\"))))))","v":"주간"},null,null,8]
[null,"2023-08-08","화",{"$f":"IF(달력!$S$24=\"순서1\",근무!D226,IF(달력!$S$24=\"순서2\",근무!E226,IF(달력!$S$24=\"순서3\",근무!F226,IF(달력!$S$24=\"순서4\",근무!G226,IF(달력!$S$24=\"순서5\",근무!H226,IF(달력!$S$24=\"순서6\",근무!I226,\"\"))))))","v":"야간"},{"$f":"IF(달력!$S$25=\"순서1\",근무!D226,IF(달력!$S$25=\"순서2\",근무!E226,IF(달력!$S$25=\"순서3\",근무!F226,IF(달력!$S$25=\"순서4\",근무!G226,IF(달력!$S$25=\"순서5\",근무!H226,IF(달력!$S$25=\"순서6\",근무!I226,\"\"))))))","v":"야간"},{"$f":"IF(달력!$S$26=\"순서1\",근무!D226,IF(달력!$S$26=\"순서2\",근무!E226,IF(달력!$S$26=\"순서3\",근무!F226,IF(달력!$S$26=\"순서4\",근무!G226,IF(달력!$S$26=\"순서5\",근무!H226,IF(달력!$S$26=\"순서6\",근무!I226,\"\"))))))","v":"비번"},{"$f":"IF(달력!$S$27=\"순서1\",근무!D226,IF(달력!$S$27=\"순서2\",근무!E226,IF(달력!$S$27=\"순서3\",근무!F226,IF(달력!$S$27=\"순서4\",근무!G226,IF(달력!$S$27=\"순서5\",근무!H226,IF(달력!$S$27=\"순서6\",근무!I226,\"\"))))))","v":"비번"},{"$f":"IF(달력!$S$28=\"순서1\",근무!D226,IF(달력!$S$28=\"순서2\",근무!E226,IF(달력!$S$28=\"순서3\",근무!F226,IF(달력!$S$28=\"순서4\",근무!G226,IF(달력!$S$28=\"순서5\",근무!H226,IF(달력!$S$28=\"순서6\",근무!I226,\"\"))))))","v":"주간"},{"$f":"IF(달력!$S$29=\"순서1\",근무!D226,IF(달력!$S$29=\"순서2\",근무!E226,IF(달력!$S$29=\"순서3\",근무!F226,IF(달력!$S$29=\"순서4\",근무!G226,IF(달력!$S$29=\"순서5\",근무!H226,IF(달력!$S$29=\"순서6\",근무!I226,\"\"))))))","v":"주간"},null,null,8]
[null,"2023-08-09","수",{"$f":"IF(달력!$S$24=\"순서1\",근무!D227,IF(달력!$S$24=\"순서2\",근무!E227,IF(달력!$S$24=\"순서3\",근무!F227,IF(달력!$S$24=\"순서4\",근무!G227,IF(달력!$S$24=\"순서5\",근무!H227,IF(달력!$S$24=\"순서6\",근무!I227,\"\"))))))","v":"비번"},{"$f":"IF(달력!$S$25=\"순서1\",근무!D227,IF(달력!$S$25=\"순서2\",근무!E227,IF(달력!$S$25=\"순서3\",근무!F227,IF(달력!$S$25=\"순서4\",근무!G227,IF(달력!$S$25=\"순서5\",근무!H227,IF(달력!$S$25=\"순서6\",근무!I227,\"\"))))))","v":"비번"},{"$f":"IF(달력!$S$26=\"순서1\",근무!D227,IF(달력!$S$26=\"순서2\",근무!E227,IF(달력!$S$26=\"순서3\",근무!F227,IF(달력!$S$26=\"순서4\",근무!G227,IF(달력!$S$26=\"순서5\",근무!H227,IF(달력!$S$26=\"순서6\",근무!I227,\"\"))))))","v":"주간"},{"$f":"IF(달력!$S$27=\"순서1\",근무!D227,IF(달력!$S$27=\"순서2\",근무!E227,IF(달력!$S$27=\"순서3\",근무!F227,IF(달력!$S$27=\"순서4\",근무!G227,IF(달력!$S$27=\"순서5\",근무!H227,IF(달력!$S$27=\"순서6\",근무!I227,\"\"))))))","v":"주간"},{"$f":"IF(달력!$S$28=\"순서1\",근무!D227,IF(달력!$S$28=\"순서2\",근무!E227,IF(달력!$S$28=\"순서3\",근무!F227,IF(달력!$S$28=\"순서4\",근무!G227,IF(달력!$S$28=\"순서5\",근무!H227,IF(달력!$S$28=\"순서6\",근무!I227,\"\"))))))","v":"야간"},{"$f":"IF(달력!$S$29=\"순서1\",근무!D227,IF(달력!$S$29=\"순서2\",근무!E227,IF(달력!$S$29=\"순서3\",근무!F227,IF(달력!$S$29=\"순서4\",근무!G227,IF(달력!$S$29=\"순서5\",근무!H227,IF(달력!$S$29=\"순서6\",근무!I227,\"\"))))))","v":"야간"},null,null,8]
[null,"2023-08-10","목",{"$f":"IF(달력!$S$24=\"순서1\",근무!D228,IF(달력!$S$24=\"순서2\",근무!E228,IF(달력!$S$24=\"순서3\",근무!F228,IF(달력!$S$24=\"순서4\",근무!G228,IF(달력!$S$24=\"순서5\",근무!H228,IF(달력!$S$24=\"순서6\",근무!I228,\"\"))))))","v":"비번"},{"$f":"IF(달력!$S$25=\"순서1\",근무!D228,IF(달력!$S$25=\"순서2\",근무!E228,IF(달력!$S$25=\"순서3\",근무!F228,IF(달력!$S$25=\"순서4\",근무!G228,IF(달력!$S$25=\"순서5\",근무!H228,IF(달력!$S$25=\"순서6\",근무!I228,\"\"))))))","v":"비번"},{"$f":"IF(달력!$S$26=\"순서1\",근무!D228,IF(달력!$S$26=\"순서2\",근무!E228,IF(달력!$S$26=\"순서3\",근무!F228,IF(달력!$S$26=\"순서4\",근무!G228,IF(달력!$S$26=\"순서5\",근무!H228,IF(달력!$S$26=\"순서6\",근무!I228,\"\"))))))","v":"주간"},{"$f":"IF(달력!$S$27=\"순서1\",근무!D228,IF(달력!$S$27=\"순서2\",근무!E228,IF(달력!$S$27=\"순서3\",근무!F228,IF(달력!$S$27=\"순서4\",근무!G228,IF(달력!$S$27=\"순서5\",근무!H228,IF(달력!$S$27=\"순서6\",근무!I228,\"\"))))))","v":"주간"},{"$f":"IF(달력!$S$28=\"순서1\",근무!D228,IF(달력!$S$28=\"순서2\",근무!E228,IF(달력!$S$28=\"순서3\",근무!F228,IF(달력!$S$28=\"순서4\",근무!G228,IF(달력!$S$28=\"순서5\",근무!H228,IF(달력!$S$28=\"순서6\",근무!I228,\"\"))))))","v":"야간"},{"$f":"IF(달력!$S$29=\"순서1\",근무!D228,IF(달력!$S$29=\"순서2\",근무!E228,IF(달력!$S$29=\"순서3\",근무!F228,IF(달력!$S$29=\"순서4\",근무!G228,IF(달력!$S$29=\"순서5\",근무!H228,IF(달력!$S$29=\"순서6\",근무!I228,\"\"))))))","v":"야간"},null,null,8]
[null,"2023-08-11","금",{"$f":"IF(달력!$S$24=\"순서1\",근무!D229,IF(달력!$S$24=\"순서2\",근무!E229,IF(달력!$S$24=\"순서3\",근무!F229,IF(달력!$S$24=\"순서4\",근무!G229,IF(달력!$S$24=\"순서5\",근무!H229,IF(달력!$S$24=\"순서6\",근무!I229,\"\"))))))","v":"주간"},{"$f":"IF(달력!$S$25=\"순서1\",근무!D229,IF(달력!$S$25=\"순서2\",근무!E229,IF(달력!$S$25=\"순서3\",근무!F229,IF(달력!$S$25=\"순서4\",근무!G229,IF(달력!$S$25=\"순서5\",근무!H229,IF(달력!$S$25=\"순서6\",근무!I229,\"\"))))))","v":"주간"},{"$f":"IF(달력!$S$26=\"순서1\",근무!D229,IF(달력!$S$26=\"순서2\",근무!E229,IF(달력!$S$26=\"순서3\",근무!F229,IF(달력!$S$26=\"순서4\",근무!G229,IF(달력!$S$26=\"순서5\",근무!H229,IF(달력!$S$26=\"순서6\",근무!I229,\"\"))))))","v":"야간"},{"$f":"IF(달력!$S$27=\"순서1\",근무!D229,IF(달력!$S$27=\"순서2\",근무!E229,IF(달력!$S$27=\"순서3\",근무!F229,IF(달력!$S$27=\"순서4\",근무!G229,IF(달력!$S$27=\"순서5\",근무!H229,IF(달력!$S$27=\"순서6\",근무!I229,\"\"))))))","v":"야간"},{"$f":"IF(달력!$S$28=\"순서1\",근무!D229,IF(달력!$S$28=\"순서2\",근무!E229,IF(달력!$S$28=\"순서3\",근무!F229,IF(달력!$S$28=\"순서4\",근무!G229,IF(달력!$S$28=\"순서5\",근무!H229,IF(달력!$S$28=\"순서6\",근무!I229,\"\"))))))","v":"비번"},{"$f":"IF(달력!$S$29=\"순서1\",근무!D229,IF(달력!$S$29=\"순서2\",근무!E229,IF(달력!$S$29=\"순서3\",근무!F229,IF(달력!$S$29=\"순서4\",근무!G229,IF(달력!$S$29=\"순서5\",근무!H229,IF(달력!$S$29=\"순서6\",근무!I229,\"\"))))))","v":"비번"},null,null,8]
[null,"2023-08-12","토",{"$f":"IF(달력!$S$24=\"순서1\",근무!D230,IF(달력!$S$24=\"순서2\",근무!E230,IF(달력!$S$24=\"순서3\",근무!F230,IF(달력!$S$24=\"순서4\",근무!G230,IF(달력!$S$24=\"순서5\",근무!H230,IF(달력!$S$24=\"순서6\",근무!I230,\"\"))))))","v":"주간"},{"$f":"IF(달력!$S$25=\"순서1\",근무!D230,IF(달력!$S$25=\"순서2\",근무!E230,IF(달력!$S$25=\"순서3\",근무!F230,IF(달력!$S$25=\"순서4\",근무!G230,IF(달력!$S$25=\"순서5\",근무!H230,IF(달력!$S$25=\"순서6\",근무!I230,\"\"))))))","v":"주간"},{"$f":"IF(달력!$S$26=\"순서1\",근무!D230,IF(달력!$S$26=\"순서2\",근무!E230,IF(달력!$S$26=\"순서3\",근무!F230,IF(달력!$S$26=\"순서4\",근무!G230,IF(달력!$S$26=\"순서5\",근무!H230,IF(달력!$S$26=\"순서6\",근무!I230,\"\"))))))","v":"야간"},{"$f":"IF(달력!$S$27=\"순서1\",근무!D230,IF(달력!$S$27=\"순서2\",근무!E230,IF(달력!$S$27=\"순서3\",근무!F230,IF(달력!$S$27=\"순서4\",근무!G230,IF(달력!$S$27=\"순서5\",근무!H230,IF(달력!$S$27=\"순서6\",근무!I230,\"\"))))))","v":"야간"},{"$f":"IF(달력!$S$28=\"순서1\",근무!D230,IF(달력!$S$28=\"순서2\",근무!E230,IF(달력!$S$28=\"순서3\",근무!F230,IF(달력!$S$28=\"순서4\",근무!G230,IF(달력!$S$28=\"순서5\",근무!H230,IF(달력!$S$28=\"순서6\",근무!I230,\"\"))))))","v":"비번"},{"$f":"IF(달력!$S$29=\"순서1\",근무!D230,IF(달력!$S$29=\"순서2\",근무!E230,IF(달력!$S$29=\"순서3\",근무!F230,IF(달력!$S$29=\"순서4\",근무!G230,IF(달력!$S$29=\"순서5\",근무!H230,IF(달력!$S$29=\"순서6\",근무!I230,\"\"))))))","v":"비번"},null,null,8]
[null,"2023-08-13","일",{"$f":"IF(달력!$S$24=\"순서1\",근무!D231,IF(달력!$S$24=\"순서2\",근무!E231,IF(달력!$S$24=\"순서3\",근무!F231,IF(달력!$S$24=\"순서4\",근무!G231,IF(달력!$S$24=\"순서5\",근무!H231,IF(달력!$S$24=\"순서6\",근무!I231,\"\"))))))","v":"야간"},{"$f":"IF(달력!$S$25=\"순서1\",근무!D231,IF(달력!$S$25=\"순서2\",근무!E231,IF(달력!$S$25=\"순서3\",근무!F231,IF(달력!$S$25=\"순서4\",근무!G231,IF(달력!$S$25=\"순서5\",근무!H231,IF(달력!$S$25=\"순서6\",근무!I231,\"\"))))))","v":"야간"},{"$f":"IF(달력!$S$26=\"순서1\",근무!D231,IF(달력!$S$26=\"순서2\",근무!E231,IF(달력!$S$26=\"순서3\",근무!F231,IF(달력!$S$26=\"순서4\",근무!G231,IF(달력!$S$26=\"순서5\",근무!H231,IF(달력!$S$26=\"순서6\",근무!I231,\"\"))))))","v":"비번"},{"$f":"IF(달력!$S$27=\"순서1\",근무!D231,IF(달력!$S$27=\"순서2\",근무!E231,IF(달력!$S$27=\"순서3\",근무!F231,IF(달력!$S$27=\"순서4\",근무!G231,IF(달력!$S$27=\"순서5\",근무!H231,IF(달력!$S$27=\"순서6\",근무!I231,\"\"))))))","v":"비번"},{"$f":"IF(달력!$S$28=\"순서1\",근무!D231,IF(달력!$S$28=\"순서2\",근무!E231,IF(달력!$S$28=\"순서3\",근무!F231,IF(달력!$S$28=\"순서4\",근무!G231,IF(달력!$S$28=\"순서5\",근무!H231,IF(달력!$S$28=\"순서6\",근무!I231,\"\"))))))","v":"주간"},{"$f":"IF(달력!$S$29=\"순서1\",근무!D231,IF(달력!$S$29=\"순서2\",근무!E231,IF(달력!$S$29=\"순서3\",근무!F231,IF(달력!$S$29=\"순서4\",근무!G231,IF(달력!$S$29=\"순서5\",근무!H231,IF(달력!$S$29=\"순서6\",근무!I231,\"\"))))))","v":"주간"},null,null,8]
[null,"2023-08-14","월",{"$f":"IF(달력!$S$24=\"순서1\",근무!D232,IF(달력!$S$24=\"순서2\",근무!E232,IF(달력!$S$24=\"순서3\",근무!F232,IF(달력!$S$24=\"순서4\",근무!G232,IF(달력!$S$24=\"순서5\",근무!H232,IF(달력!$S$24=\"순서6\",근무!I232,\"\"))))))","v":"야간"},{"$f":"IF(달력!$S$25=\"순서1\",근무!D232,IF(달력!$S$25=\"순서2\",근무!E232,IF(달력!$S$25=\"순서3\",근무!F232,IF(달력!$S$25=\"순서4\",근무!G232,IF(달력!$S$25=\"순서5\",근무!H232,IF(달력!$S$25=\"순서6\",근무!I232,\"\"))))))","v":"야간"},{"$f":"IF(달력!$S$26=\"순서1\",근무!D232,IF(달력!$S$26=\"순서2\",근무!E232,IF(달력!$S$26=\"순서3\",근무!F232,IF(달력!$S$26=\"순서4\",근무!G232,IF(달력!$S$26=\"순서5\",근무!H232,IF(달력!$S$26=\"순서6\",근무!I232,\"\"))))))","v":"비번"},{"$f":"IF(달력!$S$27=\"순서1\",근무!D232,IF(달력!$S$27=\"순서2\",근무!E232,IF(달력!$S$27=\"순서3\",근무!F232,IF(달력!$S$27=\"순서4\",근무!G232,IF(달력!$S$27=\"순서5\",근무!H232,IF(달력!$S$27=\"순서6\",근무!I232,\"\"))))))","v":"비번"},{"$f":"IF(달력!$S$28=\"순서1\",근무!D232,IF(달력!$S$28=\"순서2\",근무!E232,IF(달력!$S$28=\"순서3\",근무!F232,IF(달력!$S$28=\"순서4\",근무!G232,IF(달력!$S$28=\"순서5\",근무!H232,IF(달력!$S$28=\"순서6\",근무!I232,\"\"))))))","v":"주간"},{"$f":"IF(달력!$S$29=\"순서1\",근무!D232,IF(달력!$S$29=\"순서2\",근무!E232,IF(달력!$S$29=\"순서3\",근무!F232,IF(달력!$S$29=\"순서4\",근무!G232,IF(달력!$S$29=\"순서5\",근무!H232,IF(달력!$S$29=\"순서6\",근무!I232,\"\"))))))","v":"주간"},null,null,8]
[null,"2023-08-15","화",{"$f":"IF(달력!$S$24=\"순서1\",근무!D233,IF(달력!$S$24=\"순서2\",근무!E233,IF(달력!$S$24=\"순서3\",근무!F233,IF(달력!$S$24=\"순서4\",근무!G233,IF(달력!$S$24=\"순서5\",근무!H233,IF(달력!$S$24=\"순서6\",근무!I233,\"\"))))))","v":"비번"},{"$f":"IF(달력!$S$25=\"순서1\",근무!D233,IF(달력!$S$25=\"순서2\",근무!E233,IF(달력!$S$25=\"순서3\",근무!F233,IF(달력!$S$25=\"순서4\",근무!G233,IF(달력!$S$25=\"순서5\",근무!H233,IF(달력!$S$25=\"순서6\",근무!I233,\"\"))))))","v":"비번"},{"$f":"IF(달력!$S$26=\"순서1\",근무!D233,IF(달력!$S$26=\"순서2\",근무!E233,IF(달력!$S$26=\"순서3\",근무!F233,IF(달력!$S$26=\"순서4\",근무!G233,IF(달력!$S$26=\"순서5\",근무!H233,IF(달력!$S$26=\"순서6\",근무!I233,\"\"))))))","v":"주간"},{"$f":"IF(달력!$S$27=\"순서1\",근무!D233,IF(달력!$S$27=\"순서2\",근무!E233,IF(달력!$S$27=\"순서3\",근무!F233,IF(달력!$S$27=\"순서4\",근무!G233,IF(달력!$S$27=\"순서5\",근무!H233,IF(달력!$S$27=\"순서6\",근무!I233,\"\"))))))","v":"주간"},{"$f":"IF(달력!$S$28=\"순서1\",근무!D233,IF(달력!$S$28=\"순서2\",근무!E233,IF(달력!$S$28=\"순서3\",근무!F233,IF(달력!$S$28=\"순서4\",근무!G233,IF(달력!$S$28=\"순서5\",근무!H233,IF(달력!$S$28=\"순서6\",근무!I233,\"\"))))))","v":"야간"},{"$f":"IF(달력!$S$29=\"순서1\",근무!D233,IF(달력!$S$29=\"순서2\",근무!E233,IF(달력!$S$29=\"순서3\",근무!F233,IF(달력!$S$29=\"순서4\",근무!G233,IF(달력!$S$29=\"순서5\",근무!H233,IF(달력!$S$29=\"순서6\",근무!I233,\"\"))))))","v":"야간"},null,null,8]
[null,"2023-08-16","수",{"$f":"IF(달력!$S$24=\"순서1\",근무!D234,IF(달력!$S$24=\"순서2\",근무!E234,IF(달력!$S$24=\"순서3\",근무!F234,IF(달력!$S$24=\"순서4\",근무!G234,IF(달력!$S$24=\"순서5\",근무!H234,IF(달력!$S$24=\"순서6\",근무!I234,\"\"))))))","v":"비번"},{"$f":"IF(달력!$S$25=\"순서1\",근무!D234,IF(달력!$S$25=\"순서2\",근무!E234,IF(달력!$S$25=\"순서3\",근무!F234,IF(달력!$S$25=\"순서4\",근무!G234,IF(달력!$S$25=\"순서5\",근무!H234,IF(달력!$S$25=\"순서6\",근무!I234,\"\"))))))","v":"비번"},{"$f":"IF(달력!$S$26=\"순서1\",근무!D234,IF(달력!$S$26=\"순서2\",근무!E234,IF(달력!$S$26=\"순서3\",근무!F234,IF(달력!$S$26=\"순서4\",근무!G234,IF(달력!$S$26=\"순서5\",근무!H234,IF(달력!$S$26=\"순서6\",근무!I234,\"\"))))))","v":"주간"},{"$f":"IF(달력!$S$27=\"순서1\",근무!D234,IF(달력!$S$27=\"순서2\",근무!E234,IF(달력!$S$27=\"순서3\",근무!F234,IF(달력!$S$27=\"순서4\",근무!G234,IF(달력!$S$27=\"순서5\",근무!H234,IF(달력!$S$27=\"순서6\",근무!I234,\"\"))))))","v":"주간"},{"$f":"IF(달력!$S$28=\"순서1\",근무!D234,IF(달력!$S$28=\"순서2\",근무!E234,IF(달력!$S$28=\"순서3\",근무!F234,IF(달력!$S$28=\"순서4\",근무!G234,IF(달력!$S$28=\"순서5\",근무!H234,IF(달력!$S$28=\"순서6\",근무!I234,\"\"))))))","v":"야간"},{"$f":"IF(달력!$S$29=\"순서1\",근무!D234,IF(달력!$S$29=\"순서2\",근무!E234,IF(달력!$S$29=\"순서3\",근무!F234,IF(달력!$S$29=\"순서4\",근무!G234,IF(달력!$S$29=\"순서5\",근무!H234,IF(달력!$S$29=\"순서6\",근무!I234,\"\"))))))","v":"야간"},null,null,8]
[null,"2023-08-17","목",{"$f":"IF(달력!$S$24=\"순서1\",근무!D235,IF(달력!$S$24=\"순서2\",근무!E235,IF(달력!$S$24=\"순서3\",근무!F235,IF(달력!$S$24=\"순서4\",근무!G235,IF(달력!$S$24=\"순서5\",근무!H235,IF(달력!$S$24=\"순서6\",근무!I235,\"\"))))))","v":"주간"},{"$f":"IF(달력!$S$25=\"순서1\",근무!D235,IF(달력!$S$25=\"순서2\",근무!E235,IF(달력!$S$25=\"순서3\",근무!F235,IF(달력!$S$25=\"순서4\",근무!G235,IF(달력!$S$25=\"순서5\",근무!H235,IF(달력!$S$25=\"순서6\",근무!I235,\"\"))))))","v":"주간"},{"$f":"IF(달력!$S$26=\"순서1\",근무!D235,IF(달력!$S$26=\"순서2\",근무!E235,IF(달력!$S$26=\"순서3\",근무!F235,IF(달력!$S$26=\"순서4\",근무!G235,IF(달력!$S$26=\"순서5\",근무!H235,IF(달력!$S$26=\"순서6\",근무!I235,\"\"))))))","v":"야간"},{"$f":"IF(달력!$S$27=\"순서1\",근무!D235,IF(달력!$S$27=\"순서2\",근무!E235,IF(달력!$S$27=\"순서3\",근무!F235,IF(달력!$S$27=\"순서4\",근무!G235,IF(달력!$S$27=\"순서5\",근무!H235,IF(달력!$S$27=\"순서6\",근무!I235,\"\"))))))","v":"야간"},{"$f":"IF(달력!$S$28=\"순서1\",근무!D235,IF(달력!$S$28=\"순서2\",근무!E235,IF(달력!$S$28=\"순서3\",근무!F235,IF(달력!$S$28=\"순서4\",근무!G235,IF(달력!$S$28=\"순서5\",근무!H235,IF(달력!$S$28=\"순서6\",근무!I235,\"\"))))))","v":"비번"},{"$f":"IF(달력!$S$29=\"순서1\",근무!D235,IF(달력!$S$29=\"순서2\",근무!E235,IF(달력!$S$29=\"순서3\",근무!F235,IF(달력!$S$29=\"순서4\",근무!G235,IF(달력!$S$29=\"순서5\",근무!H235,IF(달력!$S$29=\"순서6\",근무!I235,\"\"))))))","v":"비번"},null,null,8]
[null,"2023-08-18","금",{"$f":"IF(달력!$S$24=\"순서1\",근무!D236,IF(달력!$S$24=\"순서2\",근무!E236,IF(달력!$S$24=\"순서3\",근무!F236,IF(달력!$S$24=\"순서4\",근무!G236,IF(달력!$S$24=\"순서5\",근무!H236,IF(달력!$S$24=\"순서6\",근무!I236,\"\"))))))","v":"주간"},{"$f":"IF(달력!$S$25=\"순서1\",근무!D236,IF(달력!$S$25=\"순서2\",근무!E236,IF(달력!$S$25=\"순서3\",근무!F236,IF(달력!$S$25=\"순서4\",근무!G236,IF(달력!$S$25=\"순서5\",근무!H236,IF(달력!$S$25=\"순서6\",근무!I236,\"\"))))))","v":"주간"},{"$f":"IF(달력!$S$26=\"순서1\",근무!D236,IF(달력!$S$26=\"순서2\",근무!E236,IF(달력!$S$26=\"순서3\",근무!F236,IF(달력!$S$26=\"순서4\",근무!G236,IF(달력!$S$26=\"순서5\",근무!H236,IF(달력!$S$26=\"순서6\",근무!I236,\"\"))))))","v":"야간"},{"$f":"IF(달력!$S$27=\"순서1\",근무!D236,IF(달력!$S$27=\"순서2\",근무!E236,IF(달력!$S$27=\"순서3\",근무!F236,IF(달력!$S$27=\"순서4\",근무!G236,IF(달력!$S$27=\"순서5\",근무!H236,IF(달력!$S$27=\"순서6\",근무!I236,\"\"))))))","v":"야간"},{"$f":"IF(달력!$S$28=\"순서1\",근무!D236,IF(달력!$S$28=\"순서2\",근무!E236,IF(달력!$S$28=\"순서3\",근무!F236,IF(달력!$S$28=\"순서4\",근무!G236,IF(달력!$S$28=\"순서5\",근무!H236,IF(달력!$S$28=\"순서6\",근무!I236,\"\"))))))","v":"비번"},{"$f":"IF(달력!$S$29=\"순서1\",근무!D236,IF(달력!$S$29=\"순서2\",근무!E236,IF(달력!$S$29=\"순서3\",근무!F236,IF(달력!$S$29=\"순서4\",근무!G236,IF(달력!$S$29=\"순서5\",근무!H236,IF(달력!$S$29=\"순서6\",근무!I236,\"\"))))))","v":"비번"},null,null,8]
[null,"2023-08-19","토",{"$f":"IF(달력!$S$24=\"순서1\",근무!D237,IF(달력!$S$24=\"순서2\",근무!E237,IF(달력!$S$24=\"순서3\",근무!F237,IF(달력!$S$24=\"순서4\",근무!G237,IF(달력!$S$24=\"순서5\",근무!H237,IF(달력!$S$24=\"순서6\",근무!I237,\"\"))))))","v":"야간"},{"$f":"IF(달력!$S$25=\"순서1\",근무!D237,IF(달력!$S$25=\"순서2\",근무!E237,IF(달력!$S$25=\"순서3\",근무!F237,IF(달력!$S$25=\"순서4\",근무!G237,IF(달력!$S$25=\"순서5\",근무!H237,IF(달력!$S$25=\"순서6\",근무!I237,\"\"))))))","v":"야간"},{"$f":"IF(달력!$S$26=\"순서1\",근무!D237,IF(달력!$S$26=\"순서2\",근무!E237,IF(달력!$S$26=\"순서3\",근무!F237,IF(달력!$S$26=\"순서4\",근무!G237,IF(달력!$S$26=\"순서5\",근무!H237,IF(달력!$S$26=\"순서6\",근무!I237,\"\"))))))","v":"비번"},{"$f":"IF(달력!$S$27=\"순서1\",근무!D237,IF(달력!$S$27=\"순서2\",근무!E237,IF(달력!$S$27=\"순서3\",근무!F237,IF(달력!$S$27=\"순서4\",근무!G237,IF(달력!$S$27=\"순서5\",근무!H237,IF(달력!$S$27=\"순서6\",근무!I237,\"\"))))))","v":"비번"},{"$f":"IF(달력!$S$28=\"순서1\",근무!D237,IF(달력!$S$28=\"순서2\",근무!E237,IF(달력!$S$28=\"순서3\",근무!F237,IF(달력!$S$28=\"순서4\",근무!G237,IF(달력!$S$28=\"순서5\",근무!H237,IF(달력!$S$28=\"순서6\",근무!I237,\"\"))))))","v":"주간"},{"$f":"IF(달력!$S$29=\"순서1\",근무!D237,IF(달력!$S$29=\"순서2\",근무!E237,IF(달력!$S$29=\"순서3\",근무!F237,IF(달력!$S$29=\"순서4\",근무!G237,IF(달력!$S$29=\"순서5\",근무!H237,IF(달력!$S$29=\"순서6\",근무!I237,\"\"))))))","v":"주간"},null,null,8]
[null,"2023-08-20","일",{"$f":"IF(달력!$S$24=\"순서1\",근무!D238,IF(달력!$S$24=\"순서2\",근무!E238,IF(달력!$S$24=\"순서3\",근무!F238,IF(달력!$S$24=\"순서4\",근무!G238,IF(달력!$S$24=\"순서5\",근무!H238,IF(달력!$S$24=\"순서6\",근무!I238,\"\"))))))","v":"야간"},{"$f":"IF(달력!$S$25=\"순서1\",근무!D238,IF(달력!$S$25=\"순서2\",근무!E238,IF(달력!$S$25=\"순서3\",근무!F238,IF(달력!$S$25=\"순서4\",근무!G238,IF(달력!$S$25=\"순서5\",근무!H238,IF(달력!$S$25=\"순서6\",근무!I238,\"\"))))))","v":"야간"},{"$f":"IF(달력!$S$26=\"순서1\",근무!D238,IF(달력!$S$26=\"순서2\",근무!E238,IF(달력!$S$26=\"순서3\",근무!F238,IF(달력!$S$26=\"순서4\",근무!G238,IF(달력!$S$26=\"순서5\",근무!H238,IF(달력!$S$26=\"순서6\",근무!I238,\"\"))))))","v":"비번"},{"$f":"IF(달력!$S$27=\"순서1\",근무!D238,IF(달력!$S$27=\"순서2\",근무!E238,IF(달력!$S$27=\"순서3\",근무!F238,IF(달력!$S$27=\"순서4\",근무!G238,IF(달력!$S$27=\"순서5\",근무!H238,IF(달력!$S$27=\"순서6\",근무!I238,\"\"))))))","v":"비번"},{"$f":"IF(달력!$S$28=\"순서1\",근무!D238,IF(달력!$S$28=\"순서2\",근무!E238,IF(달력!$S$28=\"순서3\",근무!F238,IF(달력!$S$28=\"순서4\",근무!G238,IF(달력!$S$28=\"순서5\",근무!H238,IF(달력!$S$28=\"순서6\",근무!I238,\"\"))))))","v":"주간"},{"$f":"IF(달력!$S$29=\"순서1\",근무!D238,IF(달력!$S$29=\"순서2\",근무!E238,IF(달력!$S$29=\"순서3\",근무!F238,IF(달력!$S$29=\"순서4\",근무!G238,IF(달력!$S$29=\"순서5\",근무!H238,IF(달력!$S$29=\"순서6\",근무!I238,\"\"))))))","v":"주간"},null,null,8]
[null,"2023-08-21","월",{"$f":"IF(달력!$S$24=\"순서1\",근무!D239,IF(달력!$S$24=\"순서2\",근무!E239,IF(달력!$S$24=\"순서3\",근무!F239,IF(달력!$S$24=\"순서4\",근무!G239,IF(달력!$S$24=\"순서5\",근무!H239,IF(달력!$S$24=\"순서6\",근무!I239,\"\"))))))","v":"비번"},{"$f":"IF(달력!$S$25=\"순서1\",근무!D239,IF(달력!$S$25=\"순서2\",근무!E239,IF(달력!$S$25=\"순서3\",근무!F239,IF(달력!$S$25=\"순서4\",근무!G239,IF(달력!$S$25=\"순서5\",근무!H239,IF(달력!$S$25=\"순서6\",근무!I239,\"\"))))))","v":"비번"},{"$f":"IF(달력!$S$26=\"순서1\",근무!D239,IF(달력!$S$26=\"순서2\",근무!E239,IF(달력!$S$26=\"순서3\",근무!F239,IF(달력!$S$26=\"순서4\",근무!G239,IF(달력!$S$26=\"순서5\",근무!H239,IF(달력!$S$26=\"순서6\",근무!I239,\"\"))))))","v":"주간"},{"$f":"IF(달력!$S$27=\"순서1\",근무!D239,IF(달력!$S$27=\"순서2\",근무!E239,IF(달력!$S$27=\"순서3\",근무!F239,IF(달력!$S$27=\"순서4\",근무!G239,IF(달력!$S$27=\"순서5\",근무!H239,IF(달력!$S$27=\"순서6\",근무!I239,\"\"))))))","v":"주간"},{"$f":"IF(달력!$S$28=\"순서1\",근무!D239,IF(달력!$S$28=\"순서2\",근무!E239,IF(달력!$S$28=\"순서3\",근무!F239,IF(달력!$S$28=\"순서4\",근무!G239,IF(달력!$S$28=\"순서5\",근무!H239,IF(달력!$S$28=\"순서6\",근무!I239,\"\"))))))","v":"야간"},{"$f":"IF(달력!$S$29=\"순서1\",근무!D239,IF(달력!$S$29=\"순서2\",근무!E239,IF(달력!$S$29=\"순서3\",근무!F239,IF(달력!$S$29=\"순서4\",근무!G239,IF(달력!$S$29=\"순서5\",근무!H239,IF(달력!$S$29=\"순서6\",근무!I239,\"\"))))))","v":"야간"},null,null,8]
[null,"2023-08-22","화",{"$f":"IF(달력!$S$24=\"순서1\",근무!D240,IF(달력!$S$24=\"순서2\",근무!E240,IF(달력!$S$24=\"순서3\",근무!F240,IF(달력!$S$24=\"순서4\",근무!G240,IF(달력!$S$24=\"순서5\",근무!H240,IF(달력!$S$24=\"순서6\",근무!I240,\"\"))))))","v":"비번"},{"$f":"IF(달력!$S$25=\"순서1\",근무!D240,IF(달력!$S$25=\"순서2\",근무!E240,IF(달력!$S$25=\"순서3\",근무!F240,IF(달력!$S$25=\"순서4\",근무!G240,IF(달력!$S$25=\"순서5\",근무!H240,IF(달력!$S$25=\"순서6\",근무!I240,\"\"))))))","v":"비번"},{"$f":"IF(달력!$S$26=\"순서1\",근무!D240,IF(달력!$S$26=\"순서2\",근무!E240,IF(달력!$S$26=\"순서3\",근무!F240,IF(달력!$S$26=\"순서4\",근무!G240,IF(달력!$S$26=\"순서5\",근무!H240,IF(달력!$S$26=\"순서6\",근무!I240,\"\"))))))","v":"주간"},{"$f":"IF(달력!$S$27=\"순서1\",근무!D240,IF(달력!$S$27=\"순서2\",근무!E240,IF(달력!$S$27=\"순서3\",근무!F240,IF(달력!$S$27=\"순서4\",근무!G240,IF(달력!$S$27=\"순서5\",근무!H240,IF(달력!$S$27=\"순서6\",근무!I240,\"\"))))))","v":"주간"},{"$f":"IF(달력!$S$28=\"순서1\",근무!D240,IF(달력!$S$28=\"순서2\",근무!E240,IF(달력!$S$28=\"순서3\",근무!F240,IF(달력!$S$28=\"순서4\",근무!G240,IF(달력!$S$28=\"순서5\",근무!H240,IF(달력!$S$28=\"순서6\",근무!I240,\"\"))))))","v":"야간"},{"$f":"IF(달력!$S$29=\"순서1\",근무!D240,IF(달력!$S$29=\"순서2\",근무!E240,IF(달력!$S$29=\"순서3\",근무!F240,IF(달력!$S$29=\"순서4\",근무!G240,IF(달력!$S$29=\"순서5\",근무!H240,IF(달력!$S$29=\"순서6\",근무!I240,\"\"))))))","v":"야간"},null,null,8]
[null,"2023-08-23","수",{"$f":"IF(달력!$S$24=\"순서1\",근무!D241,IF(달력!$S$24=\"순서2\",근무!E241,IF(달력!$S$24=\"순서3\",근무!F241,IF(달력!$S$24=\"순서4\",근무!G241,IF(달력!$S$24=\"순서5\",근무!H241,IF(달력!$S$24=\"순서6\",근무!I241,\"\"))))))","v":"주간"},{"$f":"IF(달력!$S$25=\"순서1\",근무!D241,IF(달력!$S$25=\"순서2\",근무!E241,IF(달력!$S$25=\"순서3\",근무!F241,IF(달력!$S$25=\"순서4\",근무!G241,IF(달력!$S$25=\"순서5\",근무!H241,IF(달력!$S$25=\"순서6\",근무!I241,\"\"))))))","v":"주간"},{"$f":"IF(달력!$S$26=\"순서1\",근무!D241,IF(달력!$S$26=\"순서2\",근무!E241,IF(달력!$S$26=\"순서3\",근무!F241,IF(달력!$S$26=\"순서4\",근무!G241,IF(달력!$S$26=\"순서5\",근무!H241,IF(달력!$S$26=\"순서6\",근무!I241,\"\"))))))","v":"야간"},{"$f":"IF(달력!$S$27=\"순서1\",근무!D241,IF(달력!$S$27=\"순서2\",근무!E241,IF(달력!$S$27=\"순서3\",근무!F241,IF(달력!$S$27=\"순서4\",근무!G241,IF(달력!$S$27=\"순서5\",근무!H241,IF(달력!$S$27=\"순서6\",근무!I241,\"\"))))))","v":"야간"},{"$f":"IF(달력!$S$28=\"순서1\",근무!D241,IF(달력!$S$28=\"순서2\",근무!E241,IF(달력!$S$28=\"순서3\",근무!F241,IF(달력!$S$28=\"순서4\",근무!G241,IF(달력!$S$28=\"순서5\",근무!H241,IF(달력!$S$28=\"순서6\",근무!I241,\"\"))))))","v":"비번"},{"$f":"IF(달력!$S$29=\"순서1\",근무!D241,IF(달력!$S$29=\"순서2\",근무!E241,IF(달력!$S$29=\"순서3\",근무!F241,IF(달력!$S$29=\"순서4\",근무!G241,IF(달력!$S$29=\"순서5\",근무!H241,IF(달력!$S$29=\"순서6\",근무!I241,\"\"))))))","v":"비번"},null,null,8]
[null,"2023-08-24","목",{"$f":"IF(달력!$S$24=\"순서1\",근무!D242,IF(달력!$S$24=\"순서2\",근무!E242,IF(달력!$S$24=\"순서3\",근무!F242,IF(달력!$S$24=\"순서4\",근무!G242,IF(달력!$S$24=\"순서5\",근무!H242,IF(달력!$S$24=\"순서6\",근무!I242,\"\"))))))","v":"주간"},{"$f":"IF(달력!$S$25=\"순서1\",근무!D242,IF(달력!$S$25=\"순서2\",근무!E242,IF(달력!$S$25=\"순서3\",근무!F242,IF(달력!$S$25=\"순서4\",근무!G242,IF(달력!$S$25=\"순서5\",근무!H242,IF(달력!$S$25=\"순서6\",근무!I242,\"\"))))))","v":"주간"},{"$f":"IF(달력!$S$26=\"순서1\",근무!D242,IF(달력!$S$26=\"순서2\",근무!E242,IF(달력!$S$26=\"순서3\",근무!F242,IF(달력!$S$26=\"순서4\",근무!G242,IF(달력!$S$26=\"순서5\",근무!H242,IF(달력!$S$26=\"순서6\",근무!I242,\"\"))))))","v":"야간"},{"$f":"IF(달력!$S$27=\"순서1\",근무!D242,IF(달력!$S$27=\"순서2\",근무!E242,IF(달력!$S$27=\"순서3\",근무!F242,IF(달력!$S$27=\"순서4\",근무!G242,IF(달력!$S$27=\"순서5\",근무!H242,IF(달력!$S$27=\"순서6\",근무!I242,\"\"))))))","v":"야간"},{"$f":"IF(달력!$S$28=\"순서1\",근무!D242,IF(달력!$S$28=\"순서2\",근무!E242,IF(달력!$S$28=\"순서3\",근무!F242,IF(달력!$S$28=\"순서4\",근무!G242,IF(달력!$S$28=\"순서5\",근무!H242,IF(달력!$S$28=\"순서6\",근무!I242,\"\"))))))","v":"비번"},{"$f":"IF(달력!$S$29=\"순서1\",근무!D242,IF(달력!$S$29=\"순서2\",근무!E242,IF(달력!$S$29=\"순서3\",근무!F242,IF(달력!$S$29=\"순서4\",근무!G242,IF(달력!$S$29=\"순서5\",근무!H242,IF(달력!$S$29=\"순서6\",근무!I242,\"\"))))))","v":"비번"},null,null,8]
[null,"2023-08-25","금",{"$f":"IF(달력!$S$24=\"순서1\",근무!D243,IF(달력!$S$24=\"순서2\",근무!E243,IF(달력!$S$24=\"순서3\",근무!F243,IF(달력!$S$24=\"순서4\",근무!G243,IF(달력!$S$24=\"순서5\",근무!H243,IF(달력!$S$24=\"순서6\",근무!I243,\"\"))))))","v":"야간"},{"$f":"IF(달력!$S$25=\"순서1\",근무!D243,IF(달력!$S$25=\"순서2\",근무!E243,IF(달력!$S$25=\"순서3\",근무!F243,IF(달력!$S$25=\"순서4\",근무!G243,IF(달력!$S$25=\"순서5\",근무!H243,IF(달력!$S$25=\"순서6\",근무!I243,\"\"))))))","v":"야간"},{"$f":"IF(달력!$S$26=\"순서1\",근무!D243,IF(달력!$S$26=\"순서2\",근무!E243,IF(달력!$S$26=\"순서3\",근무!F243,IF(달력!$S$26=\"순서4\",근무!G243,IF(달력!$S$26=\"순서5\",근무!H243,IF(달력!$S$26=\"순서6\",근무!I243,\"\"))))))","v":"비번"},{"$f":"IF(달력!$S$27=\"순서1\",근무!D243,IF(달력!$S$27=\"순서2\",근무!E243,IF(달력!$S$27=\"순서3\",근무!F243,IF(달력!$S$27=\"순서4\",근무!G243,IF(달력!$S$27=\"순서5\",근무!H243,IF(달력!$S$27=\"순서6\",근무!I243,\"\"))))))","v":"비번"},{"$f":"IF(달력!$S$28=\"순서1\",근무!D243,IF(달력!$S$28=\"순서2\",근무!E243,IF(달력!$S$28=\"순서3\",근무!F243,IF(달력!$S$28=\"순서4\",근무!G243,IF(달력!$S$28=\"순서5\",근무!H243,IF(달력!$S$28=\"순서6\",근무!I243,\"\"))))))","v":"주간"},{"$f":"IF(달력!$S$29=\"순서1\",근무!D243,IF(달력!$S$29=\"순서2\",근무!E243,IF(달력!$S$29=\"순서3\",근무!F243,IF(달력!$S$29=\"순서4\",근무!G243,IF(달력!$S$29=\"순서5\",근무!H243,IF(달력!$S$29=\"순서6\",근무!I243,\"\"))))))","v":"주간"},null,null,8]
[null,"2023-08-26","토",{"$f":"IF(달력!$S$24=\"순서1\",근무!D244,IF(달력!$S$24=\"순서2\",근무!E244,IF(달력!$S$24=\"순서3\",근무!F244,IF(달력!$S$24=\"순서4\",근무!G244,IF(달력!$S$24=\"순서5\",근무!H244,IF(달력!$S$24=\"순서6\",근무!I244,\"\"))))))","v":"야간"},{"$f":"IF(달력!$S$25=\"순서1\",근무!D244,IF(달력!$S$25=\"순서2\",근무!E244,IF(달력!$S$25=\"순서3\",근무!F244,IF(달력!$S$25=\"순서4\",근무!G244,IF(달력!$S$25=\"순서5\",근무!H244,IF(달력!$S$25=\"순서6\",근무!I244,\"\"))))))","v":"야간"},{"$f":"IF(달력!$S$26=\"순서1\",근무!D244,IF(달력!$S$26=\"순서2\",근무!E244,IF(달력!$S$26=\"순서3\",근무!F244,IF(달력!$S$26=\"순서4\",근무!G244,IF(달력!$S$26=\"순서5\",근무!H244,IF(달력!$S$26=\"순서6\",근무!I244,\"\"))))))","v":"비번"},{"$f":"IF(달력!$S$27=\"순서1\",근무!D244,IF(달력!$S$27=\"순서2\",근무!E244,IF(달력!$S$27=\"순서3\",근무!F244,IF(달력!$S$27=\"순서4\",근무!G244,IF(달력!$S$27=\"순서5\",근무!H244,IF(달력!$S$27=\"순서6\",근무!I244,\"\"))))))","v":"비번"},{"$f":"IF(달력!$S$28=\"순서1\",근무!D244,IF(달력!$S$28=\"순서2\",근무!E244,IF(달력!$S$28=\"순서3\",근무!F244,IF(달력!$S$28=\"순서4\",근무!G244,IF(달력!$S$28=\"순서5\",근무!H244,IF(달력!$S$28=\"순서6\",근무!I244,\"\"))))))","v":"주간"},{"$f":"IF(달력!$S$29=\"순서1\",근무!D244,IF(달력!$S$29=\"순서2\",근무!E244,IF(달력!$S$29=\"순서3\",근무!F244,IF(달력!$S$29=\"순서4\",근무!G244,IF(달력!$S$29=\"순서5\",근무!H244,IF(달력!$S$29=\"순서6\",근무!I244,\"\"))))))","v":"주간"},null,null,8]
[null,"2023-08-27","일",{"$f":"IF(달력!$S$24=\"순서1\",근무!D245,IF(달력!$S$24=\"순서2\",근무!E245,IF(달력!$S$24=\"순서3\",근무!F245,IF(달력!$S$24=\"순서4\",근무!G245,IF(달력!$S$24=\"순서5\",근무!H245,IF(달력!$S$24=\"순서6\",근무!I245,\"\"))))))","v":"비번"},{"$f":"IF(달력!$S$25=\"순서1\",근무!D245,IF(달력!$S$25=\"순서2\",근무!E245,IF(달력!$S$25=\"순서3\",근무!F245,IF(달력!$S$25=\"순서4\",근무!G245,IF(달력!$S$25=\"순서5\",근무!H245,IF(달력!$S$25=\"순서6\",근무!I245,\"\"))))))","v":"비번"},{"$f":"IF(달력!$S$26=\"순서1\",근무!D245,IF(달력!$S$26=\"순서2\",근무!E245,IF(달력!$S$26=\"순서3\",근무!F245,IF(달력!$S$26=\"순서4\",근무!G245,IF(달력!$S$26=\"순서5\",근무!H245,IF(달력!$S$26=\"순서6\",근무!I245,\"\"))))))","v":"주간"},{"$f":"IF(달력!$S$27=\"순서1\",근무!D245,IF(달력!$S$27=\"순서2\",근무!E245,IF(달력!$S$27=\"순서3\",근무!F245,IF(달력!$S$27=\"순서4\",근무!G245,IF(달력!$S$27=\"순서5\",근무!H245,IF(달력!$S$27=\"순서6\",근무!I245,\"\"))))))","v":"주간"},{"$f":"IF(달력!$S$28=\"순서1\",근무!D245,IF(달력!$S$28=\"순서2\",근무!E245,IF(달력!$S$28=\"순서3\",근무!F245,IF(달력!$S$28=\"순서4\",근무!G245,IF(달력!$S$28=\"순서5\",근무!H245,IF(달력!$S$28=\"순서6\",근무!I245,\"\"))))))","v":"야간"},{"$f":"IF(달력!$S$29=\"순서1\",근무!D245,IF(달력!$S$29=\"순서2\",근무!E245,IF(달력!$S$29=\"순서3\",근무!F245,IF(달력!$S$29=\"순서4\",근무!G245,IF(달력!$S$29=\"순서5\",근무!H245,IF(달력!$S$29=\"순서6\",근무!I245,\"\"))))))","v":"야간"},null,null,8]
[null,"2023-08-28","월",{"$f":"IF(달력!$S$24=\"순서1\",근무!D246,IF(달력!$S$24=\"순서2\",근무!E246,IF(달력!$S$24=\"순서3\",근무!F246,IF(달력!$S$24=\"순서4\",근무!G246,IF(달력!$S$24=\"순서5\",근무!H246,IF(달력!$S$24=\"순서6\",근무!I246,\"\"))))))","v":"비번"},{"$f":"IF(달력!$S$25=\"순서1\",근무!D246,IF(달력!$S$25=\"순서2\",근무!E246,IF(달력!$S$25=\"순서3\",근무!F246,IF(달력!$S$25=\"순서4\",근무!G246,IF(달력!$S$25=\"순서5\",근무!H246,IF(달력!$S$25=\"순서6\",근무!I246,\"\"))))))","v":"비번"},{"$f":"IF(달력!$S$26=\"순서1\",근무!D246,IF(달력!$S$26=\"순서2\",근무!E246,IF(달력!$S$26=\"순서3\",근무!F246,IF(달력!$S$26=\"순서4\",근무!G246,IF(달력!$S$26=\"순서5\",근무!H246,IF(달력!$S$26=\"순서6\",근무!I246,\"\"))))))","v":"주간"},{"$f":"IF(달력!$S$27=\"순서1\",근무!D246,IF(달력!$S$27=\"순서2\",근무!E246,IF(달력!$S$27=\"순서3\",근무!F246,IF(달력!$S$27=\"순서4\",근무!G246,IF(달력!$S$27=\"순서5\",근무!H246,IF(달력!$S$27=\"순서6\",근무!I246,\"\"))))))","v":"주간"},{"$f":"IF(달력!$S$28=\"순서1\",근무!D246,IF(달력!$S$28=\"순서2\",근무!E246,IF(달력!$S$28=\"순서3\",근무!F246,IF(달력!$S$28=\"순서4\",근무!G246,IF(달력!$S$28=\"순서5\",근무!H246,IF(달력!$S$28=\"순서6\",근무!I246,\"\"))))))","v":"야간"},{"$f":"IF(달력!$S$29=\"순서1\",근무!D246,IF(달력!$S$29=\"순서2\",근무!E246,IF(달력!$S$29=\"순서3\",근무!F246,IF(달력!$S$29=\"순서4\",근무!G246,IF(달력!$S$29=\"순서5\",근무!H246,IF(달력!$S$29=\"순서6\",근무!I246,\"\"))))))","v":"야간"},null,null,8]
[null,"2023-08-29","화",{"$f":"IF(달력!$S$24=\"순서1\",근무!D247,IF(달력!$S$24=\"순서2\",근무!E247,IF(달력!$S$24=\"순서3\",근무!F247,IF(달력!$S$24=\"순서4\",근무!G247,IF(달력!$S$24=\"순서5\",근무!H247,IF(달력!$S$24=\"순서6\",근무!I247,\"\"))))))","v":"주간"},{"$f":"IF(달력!$S$25=\"순서1\",근무!D247,IF(달력!$S$25=\"순서2\",근무!E247,IF(달력!$S$25=\"순서3\",근무!F247,IF(달력!$S$25=\"순서4\",근무!G247,IF(달력!$S$25=\"순서5\",근무!H247,IF(달력!$S$25=\"순서6\",근무!I247,\"\"))))))","v":"주간"},{"$f":"IF(달력!$S$26=\"순서1\",근무!D247,IF(달력!$S$26=\"순서2\",근무!E247,IF(달력!$S$26=\"순서3\",근무!F247,IF(달력!$S$26=\"순서4\",근무!G247,IF(달력!$S$26=\"순서5\",근무!H247,IF(달력!$S$26=\"순서6\",근무!I247,\"\"))))))","v":"야간"},{"$f":"IF(달력!$S$27=\"순서1\",근무!D247,IF(달력!$S$27=\"순서2\",근무!E247,IF(달력!$S$27=\"순서3\",근무!F247,IF(달력!$S$27=\"순서4\",근무!G247,IF(달력!$S$27=\"순서5\",근무!H247,IF(달력!$S$27=\"순서6\",근무!I247,\"\"))))))","v":"야간"},{"$f":"IF(달력!$S$28=\"순서1\",근무!D247,IF(달력!$S$28=\"순서2\",근무!E247,IF(달력!$S$28=\"순서3\",근무!F247,IF(달력!$S$28=\"순서4\",근무!G247,IF(달력!$S$28=\"순서5\",근무!H247,IF(달력!$S$28=\"순서6\",근무!I247,\"\"))))))","v":"비번"},{"$f":"IF(달력!$S$29=\"순서1\",근무!D247,IF(달력!$S$29=\"순서2\",근무!E247,IF(달력!$S$29=\"순서3\",근무!F247,IF(달력!$S$29=\"순서4\",근무!G247,IF(달력!$S$29=\"순서5\",근무!H247,IF(달력!$S$29=\"순서6\",근무!I247,\"\"))))))","v":"비번"},null,null,8]
[null,"2023-08-30","수",{"$f":"IF(달력!$S$24=\"순서1\",근무!D248,IF(달력!$S$24=\"순서2\",근무!E248,IF(달력!$S$24=\"순서3\",근무!F248,IF(달력!$S$24=\"순서4\",근무!G248,IF(달력!$S$24=\"순서5\",근무!H248,IF(달력!$S$24=\"순서6\",근무!I248,\"\"))))))","v":"주간"},{"$f":"IF(달력!$S$25=\"순서1\",근무!D248,IF(달력!$S$25=\"순서2\",근무!E248,IF(달력!$S$25=\"순서3\",근무!F248,IF(달력!$S$25=\"순서4\",근무!G248,IF(달력!$S$25=\"순서5\",근무!H248,IF(달력!$S$25=\"순서6\",근무!I248,\"\"))))))","v":"주간"},{"$f":"IF(달력!$S$26=\"순서1\",근무!D248,IF(달력!$S$26=\"순서2\",근무!E248,IF(달력!$S$26=\"순서3\",근무!F248,IF(달력!$S$26=\"순서4\",근무!G248,IF(달력!$S$26=\"순서5\",근무!H248,IF(달력!$S$26=\"순서6\",근무!I248,\"\"))))))","v":"야간"},{"$f":"IF(달력!$S$27=\"순서1\",근무!D248,IF(달력!$S$27=\"순서2\",근무!E248,IF(달력!$S$27=\"순서3\",근무!F248,IF(달력!$S$27=\"순서4\",근무!G248,IF(달력!$S$27=\"순서5\",근무!H248,IF(달력!$S$27=\"순서6\",근무!I248,\"\"))))))","v":"야간"},{"$f":"IF(달력!$S$28=\"순서1\",근무!D248,IF(달력!$S$28=\"순서2\",근무!E248,IF(달력!$S$28=\"순서3\",근무!F248,IF(달력!$S$28=\"순서4\",근무!G248,IF(달력!$S$28=\"순서5\",근무!H248,IF(달력!$S$28=\"순서6\",근무!I248,\"\"))))))","v":"비번"},{"$f":"IF(달력!$S$29=\"순서1\",근무!D248,IF(달력!$S$29=\"순서2\",근무!E248,IF(달력!$S$29=\"순서3\",근무!F248,IF(달력!$S$29=\"순서4\",근무!G248,IF(달력!$S$29=\"순서5\",근무!H248,IF(달력!$S$29=\"순서6\",근무!I248,\"\"))))))","v":"비번"},null,null,8]
[null,"2023-08-31","목",{"$f":"IF(달력!$S$24=\"순서1\",근무!D249,IF(달력!$S$24=\"순서2\",근무!E249,IF(달력!$S$24=\"순서3\",근무!F249,IF(달력!$S$24=\"순서4\",근무!G249,IF(달력!$S$24=\"순서5\",근무!H249,IF(달력!$S$24=\"순서6\",근무!I249,\"\"))))))","v":"야간"},{"$f":"IF(달력!$S$25=\"순서1\",근무!D249,IF(달력!$S$25=\"순서2\",근무!E249,IF(달력!$S$25=\"순서3\",근무!F249,IF(달력!$S$25=\"순서4\",근무!G249,IF(달력!$S$25=\"순서5\",근무!H249,IF(달력!$S$25=\"순서6\",근무!I249,\"\"))))))","v":"야간"},{"$f":"IF(달력!$S$26=\"순서1\",근무!D249,IF(달력!$S$26=\"순서2\",근무!E249,IF(달력!$S$26=\"순서3\",근무!F249,IF(달력!$S$26=\"순서4\",근무!G249,IF(달력!$S$26=\"순서5\",근무!H249,IF(달력!$S$26=\"순서6\",근무!I249,\"\"))))))","v":"비번"},{"$f":"IF(달력!$S$27=\"순서1\",근무!D249,IF(달력!$S$27=\"순서2\",근무!E249,IF(달력!$S$27=\"순서3\",근무!F249,IF(달력!$S$27=\"순서4\",근무!G249,IF(달력!$S$27=\"순서5\",근무!H249,IF(달력!$S$27=\"순서6\",근무!I249,\"\"))))))","v":"비번"},{"$f":"IF(달력!$S$28=\"순서1\",근무!D249,IF(달력!$S$28=\"순서2\",근무!E249,IF(달력!$S$28=\"순서3\",근무!F249,IF(달력!$S$28=\"순서4\",근무!G249,IF(달력!$S$28=\"순서5\",근무!H249,IF(달력!$S$28=\"순서6\",근무!I249,\"\"))))))","v":"주간"},{"$f":"IF(달력!$S$29=\"순서1\",근무!D249,IF(달력!$S$29=\"순서2\",근무!E249,IF(달력!$S$29=\"순서3\",근무!F249,IF(달력!$S$29=\"순서4\",근무!G249,IF(달력!$S$29=\"순서5\",근무!H249,IF(달력!$S$29=\"순서6\",근무!I249,\"\"))))))","v":"주간"},null,null,8]
[null,"2023-09-01","금",{"$f":"IF(달력!$S$24=\"순서1\",근무!D250,IF(달력!$S$24=\"순서2\",근무!E250,IF(달력!$S$24=\"순서3\",근무!F250,IF(달력!$S$24=\"순서4\",근무!G250,IF(달력!$S$24=\"순서5\",근무!H250,IF(달력!$S$24=\"순서6\",근무!I250,\"\"))))))","v":"야간"},{"$f":"IF(달력!$S$25=\"순서1\",근무!D250,IF(달력!$S$25=\"순서2\",근무!E250,IF(달력!$S$25=\"순서3\",근무!F250,IF(달력!$S$25=\"순서4\",근무!G250,IF(달력!$S$25=\"순서5\",근무!H250,IF(달력!$S$25=\"순서6\",근무!I250,\"\"))))))","v":"야간"},{"$f":"IF(달력!$S$26=\"순서1\",근무!D250,IF(달력!$S$26=\"순서2\",근무!E250,IF(달력!$S$26=\"순서3\",근무!F250,IF(달력!$S$26=\"순서4\",근무!G250,IF(달력!$S$26=\"순서5\",근무!H250,IF(달력!$S$26=\"순서6\",근무!I250,\"\"))))))","v":"비번"},{"$f":"IF(달력!$S$27=\"순서1\",근무!D250,IF(달력!$S$27=\"순서2\",근무!E250,IF(달력!$S$27=\"순서3\",근무!F250,IF(달력!$S$27=\"순서4\",근무!G250,IF(달력!$S$27=\"순서5\",근무!H250,IF(달력!$S$27=\"순서6\",근무!I250,\"\"))))))","v":"비번"},{"$f":"IF(달력!$S$28=\"순서1\",근무!D250,IF(달력!$S$28=\"순서2\",근무!E250,IF(달력!$S$28=\"순서3\",근무!F250,IF(달력!$S$28=\"순서4\",근무!G250,IF(달력!$S$28=\"순서5\",근무!H250,IF(달력!$S$28=\"순서6\",근무!I250,\"\"))))))","v":"주간"},{"$f":"IF(달력!$S$29=\"순서1\",근무!D250,IF(달력!$S$29=\"순서2\",근무!E250,IF(달력!$S$29=\"순서3\",근무!F250,IF(달력!$S$29=\"순서4\",근무!G250,IF(달력!$S$29=\"순서5\",근무!H250,IF(달력!$S$29=\"순서6\",근무!I250,\"\"))))))","v":"주간"},null,"주간",9,{"$f":"COUNTIFS(일정1내용,$K250,$L$7:$L$372,9)","v":10},{"$f":"COUNTIFS(일정2내용,$K250,$L$7:$L$372,9)","v":10},{"$f":"COUNTIFS(일정3내용,$K250,$L$7:$L$372,9)","v":10},{"$f":"COUNTIFS(일정4내용,$K250,$L$7:$L$372,9)","v":10},{"$f":"COUNTIFS(일정5내용,$K250,$L$7:$L$372,9)","v":10},{"$f":"COUNTIFS(일정6내용,$K250,$L$7:$L$372,9)","v":10}]
[null,"2023-09-02","토",{"$f":"IF(달력!$S$24=\"순서1\",근무!D251,IF(달력!$S$24=\"순서2\",근무!E251,IF(달력!$S$24=\"순서3\",근무!F251,IF(달력!$S$24=\"순서4\",근무!G251,IF(달력!$S$24=\"순서5\",근무!H251,IF(달력!$S$24=\"순서6\",근무!I251,\"\"))))))","v":"비번"},{"$f":"IF(달력!$S$25=\"순서1\",근무!D251,IF(달력!$S$25=\"순서2\",근무!E251,IF(달력!$S$25=\"순서3\",근무!F251,IF(달력!$S$25=\"순서4\",근무!G251,IF(달력!$S$25=\"순서5\",근무!H251,IF(달력!$S$25=\"순서6\",근무!I251,\"\"))))))","v":"비번"},{"$f":"IF(달력!$S$26=\"순서1\",근무!D251,IF(달력!$S$26=\"순서2\",근무!E251,IF(달력!$S$26=\"순서3\",근무!F251,IF(달력!$S$26=\"순서4\",근무!G251,IF(달력!$S$26=\"순서5\",근무!H251,IF(달력!$S$26=\"순서6\",근무!I251,\"\"))))))","v":"주간"},{"$f":"IF(달력!$S$27=\"순서1\",근무!D251,IF(달력!$S$27=\"순서2\",근무!E251,IF(달력!$S$27=\"순서3\",근무!F251,IF(달력!$S$27=\"순서4\",근무!G251,IF(달력!$S$27=\"순서5\",근무!H251,IF(달력!$S$27=\"순서6\",근무!I251,\"\"))))))","v":"주간"},{"$f":"IF(달력!$S$28=\"순서1\",근무!D251,IF(달력!$S$28=\"순서2\",근무!E251,IF(달력!$S$28=\"순서3\",근무!F251,IF(달력!$S$28=\"순서4\",근무!G251,IF(달력!$S$28=\"순서5\",근무!H251,IF(달력!$S$28=\"순서6\",근무!I251,\"\"))))))","v":"야간"},{"$f":"IF(달력!$S$29=\"순서1\",근무!D251,IF(달력!$S$29=\"순서2\",근무!E251,IF(달력!$S$29=\"순서3\",근무!F251,IF(달력!$S$29=\"순서4\",근무!G251,IF(달력!$S$29=\"순서5\",근무!H251,IF(달력!$S$29=\"순서6\",근무!I251,\"\"))))))","v":"야간"},null,"야간",9,{"$f":"COUNTIFS(일정1내용,$K251,$L$7:$L$372,9)","v":10},{"$f":"COUNTIFS(일정2내용,$K251,$L$7:$L$372,9)","v":10},{"$f":"COUNTIFS(일정3내용,$K251,$L$7:$L$372,9)","v":10},{"$f":"COUNTIFS(일정4내용,$K251,$L$7:$L$372,9)","v":10},{"$f":"COUNTIFS(일정5내용,$K251,$L$7:$L$372,9)","v":10},{"$f":"COUNTIFS(일정6내용,$K251,$L$7:$L$372,9)","v":10}]
[null,"2023-09-03","일",{"$f":"IF(달력!$S$24=\"순서1\",근무!D252,IF(달력!$S$24=\"순서2\",근무!E252,IF(달력!$S$24=\"순서3\",근무!F252,IF(달력!$S$24=\"순서4\",근무!G252,IF(달력!$S$24=\"순서5\",근무!H252,IF(달력!$S$24=\"순서6\",근무!I252,\"\"))))))","v":"비번"},{"$f":"IF(달력!$S$25=\"순서1\",근무!D252,IF(달력!$S$25=\"순서2\",근무!E252,IF(달력!$S$25=\"순서3\",근무!F252,IF(달력!$S$25=\"순서4\",근무!G252,IF(달력!$S$25=\"순서5\",근무!H252,IF(달력!$S$25=\"순서6\",근무!I252,\"\"))))))","v":"비번"},{"$f":"IF(달력!$S$26=\"순서1\",근무!D252,IF(달력!$S$26=\"순서2\",근무!E252,IF(달력!$S$26=\"순서3\",근무!F252,IF(달력!$S$26=\"순서4\",근무!G252,IF(달력!$S$26=\"순서5\",근무!H252,IF(달력!$S$26=\"순서6\",근무!I252,\"\"))))))","v":"주간"},{"$f":"IF(달력!$S$27=\"순서1\",근무!D252,IF(달력!$S$27=\"순서2\",근무!E252,IF(달력!$S$27=\"순서3\",근무!F252,IF(달력!$S$27=\"순서4\",근무!G252,IF(달력!$S$27=\"순서5\",근무!H252,IF(달력!$S$27=\"순서6\",근무!I252,\"\"))))))","v":"주간"},{"$f":"IF(달력!$S$28=\"순서1\",근무!D252,IF(달력!$S$28=\"순서2\",근무!E252,IF(달력!$S$28=\"순서3\",근무!F252,IF(달력!$S$28=\"순서4\",근무!G252,IF(달력!$S$28=\"순서5\",근무!H252,IF(달력!$S$28=\"순서6\",근무!I252,\"\"))))))","v":"야간"},{"$f":"IF(달력!$S$29=\"순서1\",근무!D252,IF(달력!$S$29=\"순서2\",근무!E252,IF(달력!$S$29=\"순서3\",근무!F252,IF(달력!$S$29=\"순서4\",근무!G252,IF(달력!$S$29=\"순서5\",근무!H252,IF(달력!$S$29=\"순서6\",근무!I252,\"\"))))))","v":"야간"},null,"비번",9,{"$f":"COUNTIFS(일정1내용,$K252,$L$7:$L$372,9)","v":10},{"$f":"COUNTIFS(일정2내용,$K252,$L$7:$L$372,8)","v":10},{"$f":"COUNTIFS(일정3내용,$K252,$L$7:$L$372,9)","v":10},{"$f":"COUNTIFS(일정4내용,$K252,$L$7:$L$372,9)","v":10},{"$f":"COUNTIFS(일정5내용,$K252,$L$7:$L$372,9)","v":10},{"$f":"COUNTIFS(일정6내용,$K252,$L$7:$L$372,9)","v":10}]
[null,"2023-09-04","월",{"$f":"IF(달력!$S$24=\"순서1\",근무!D253,IF(달력!$S$24=\"순서2\",근무!E253,IF(달력!$S$24=\"순서3\",근무!F253,IF(달력!$S$24=\"순서4\",근무!G253,IF(달력!$S$24=\"순서5\",근무!H253,IF(달력!$S$24=\"순서6\",근무!I253,\"\"))))))","v":"주간"},{"$f":"IF(달력!$S$25=\"순서1\",근무!D253,IF(달력!$S$25=\"순서2\",근무!E253,IF(달력!$S$25=\"순서3\",근무!F253,IF(달력!$S$25=\"순서4\",근무!G253,IF(달력!$S$25=\"순서5\",근무!H253,IF(달력!$S$25=\"순서6\",근무!I253,\"\"))))))","v":"주간"},{"$f":"IF(달력!$S$26=\"순서1\",근무!D253,IF(달력!$S$26=\"순서2\",근무!E253,IF(달력!$S$26=\"순서3\",근무!F253,IF(달력!$S$26=\"순서4\",근무!G253,IF(달력!$S$26=\"순서5\",근무!H253,IF(달력!$S$26=\"순서6\",근무!I253,\"\"))))))","v":"야간"},{"$f":"IF(달력!$S$27=\"순서1\",근무!D253,IF(달력!$S$27=\"순서2\",근무!E253,IF(달력!$S$27=\"순서3\",근무!F253,IF(달력!$S$27=\"순서4\",근무!G253,IF(달력!$S$27=\"순서5\",근무!H253,IF(달력!$S$27=\"순서6\",근무!I253,\"\"))))))","v":"야간"},{"$f":"IF(달력!$S$28=\"순서1\",근무!D253,IF(달력!$S$28=\"순서2\",근무!E253,IF(달력!$S$28=\"순서3\",근무!F253,IF(달력!$S$28=\"순서4\",근무!G253,IF(달력!$S$28=\"순서5\",근무!H253,IF(달력!$S$28=\"순서6\",근무!I253,\"\"))))))","v":"비번"},{"$f":"IF(달력!$S$29=\"순서1\",근무!D253,IF(달력!$S$29=\"순서2\",근무!E253,IF(달력!$S$29=\"순서3\",근무!F253,IF(달력!$S$29=\"순서4\",근무!G253,IF(달력!$S$29=\"순서5\",근무!H253,IF(달력!$S$29=\"순서6\",근무!I253,\"\"))))))","v":"비번"},null,"근무일 계",9,{"$f":"M250+M251","v":20},{"$f":"N250+N251","v":20},20,20,20,20]
[null,"2023-09-05","화",{"$f":"IF(달력!$S$24=\"순서1\",근무!D254,IF(달력!$S$24=\"순서2\",근무!E254,IF(달력!$S$24=\"순서3\",근무!F254,IF(달력!$S$24=\"순서4\",근무!G254,IF(달력!$S$24=\"순서5\",근무!H254,IF(달력!$S$24=\"순서6\",근무!I254,\"\"))))))","v":"주간"},{"$f":"IF(달력!$S$25=\"순서1\",근무!D254,IF(달력!$S$25=\"순서2\",근무!E254,IF(달력!$S$25=\"순서3\",근무!F254,IF(달력!$S$25=\"순서4\",근무!G254,IF(달력!$S$25=\"순서5\",근무!H254,IF(달력!$S$25=\"순서6\",근무!I254,\"\"))))))","v":"주간"},{"$f":"IF(달력!$S$26=\"순서1\",근무!D254,IF(달력!$S$26=\"순서2\",근무!E254,IF(달력!$S$26=\"순서3\",근무!F254,IF(달력!$S$26=\"순서4\",근무!G254,IF(달력!$S$26=\"순서5\",근무!H254,IF(달력!$S$26=\"순서6\",근무!I254,\"\"))))))","v":"야간"},{"$f":"IF(달력!$S$27=\"순서1\",근무!D254,IF(달력!$S$27=\"순서2\",근무!E254,IF(달력!$S$27=\"순서3\",근무!F254,IF(달력!$S$27=\"순서4\",근무!G254,IF(달력!$S$27=\"순서5\",근무!H254,IF(달력!$S$27=\"순서6\",근무!I254,\"\"))))))","v":"야간"},{"$f":"IF(달력!$S$28=\"순서1\",근무!D254,IF(달력!$S$28=\"순서2\",근무!E254,IF(달력!$S$28=\"순서3\",근무!F254,IF(달력!$S$28=\"순서4\",근무!G254,IF(달력!$S$28=\"순서5\",근무!H254,IF(달력!$S$28=\"순서6\",근무!I254,\"\"))))))","v":"비번"},{"$f":"IF(달력!$S$29=\"순서1\",근무!D254,IF(달력!$S$29=\"순서2\",근무!E254,IF(달력!$S$29=\"순서3\",근무!F254,IF(달력!$S$29=\"순서4\",근무!G254,IF(달력!$S$29=\"순서5\",근무!H254,IF(달력!$S$29=\"순서6\",근무!I254,\"\"))))))","v":"비번"},null,null,9]
[null,"2023-09-06","수",{"$f":"IF(달력!$S$24=\"순서1\",근무!D255,IF(달력!$S$24=\"순서2\",근무!E255,IF(달력!$S$24=\"순서3\",근무!F255,IF(달력!$S$24=\"순서4\",근무!G255,IF(달력!$S$24=\"순서5\",근무!H255,IF(달력!$S$24=\"순서6\",근무!I255,\"\"))))))","v":"야간"},{"$f":"IF(달력!$S$25=\"순서1\",근무!D255,IF(달력!$S$25=\"순서2\",근무!E255,IF(달력!$S$25=\"순서3\",근무!F255,IF(달력!$S$25=\"순서4\",근무!G255,IF(달력!$S$25=\"순서5\",근무!H255,IF(달력!$S$25=\"순서6\",근무!I255,\"\"))))))","v":"야간"},{"$f":"IF(달력!$S$26=\"순서1\",근무!D255,IF(달력!$S$26=\"순서2\",근무!E255,IF(달력!$S$26=\"순서3\",근무!F255,IF(달력!$S$26=\"순서4\",근무!G255,IF(달력!$S$26=\"순서5\",근무!H255,IF(달력!$S$26=\"순서6\",근무!I255,\"\"))))))","v":"비번"},{"$f":"IF(달력!$S$27=\"순서1\",근무!D255,IF(달력!$S$27=\"순서2\",근무!E255,IF(달력!$S$27=\"순서3\",근무!F255,IF(달력!$S$27=\"순서4\",근무!G255,IF(달력!$S$27=\"순서5\",근무!H255,IF(달력!$S$27=\"순서6\",근무!I255,\"\"))))))","v":"비번"},{"$f":"IF(달력!$S$28=\"순서1\",근무!D255,IF(달력!$S$28=\"순서2\",근무!E255,IF(달력!$S$28=\"순서3\",근무!F255,IF(달력!$S$28=\"순서4\",근무!G255,IF(달력!$S$28=\"순서5\",근무!H255,IF(달력!$S$28=\"순서6\",근무!I255,\"\"))))))","v":"주간"},{"$f":"IF(달력!$S$29=\"순서1\",근무!D255,IF(달력!$S$29=\"순서2\",근무!E255,IF(달력!$S$29=\"순서3\",근무!F255,IF(달력!$S$29=\"순서4\",근무!G255,IF(달력!$S$29=\"순서5\",근무!H255,IF(달력!$S$29=\"순서6\",근무!I255,\"\"))))))","v":"주간"},null,null,9]
[null,"2023-09-07","목",{"$f":"IF(달력!$S$24=\"순서1\",근무!D256,IF(달력!$S$24=\"순서2\",근무!E256,IF(달력!$S$24=\"순서3\",근무!F256,IF(달력!$S$24=\"순서4\",근무!G256,IF(달력!$S$24=\"순서5\",근무!H256,IF(달력!$S$24=\"순서6\",근무!I256,\"\"))))))","v":"야간"},{"$f":"IF(달력!$S$25=\"순서1\",근무!D256,IF(달력!$S$25=\"순서2\",근무!E256,IF(달력!$S$25=\"순서3\",근무!F256,IF(달력!$S$25=\"순서4\",근무!G256,IF(달력!$S$25=\"순서5\",근무!H256,IF(달력!$S$25=\"순서6\",근무!I256,\"\"))))))","v":"야간"},{"$f":"IF(달력!$S$26=\"순서1\",근무!D256,IF(달력!$S$26=\"순서2\",근무!E256,IF(달력!$S$26=\"순서3\",근무!F256,IF(달력!$S$26=\"순서4\",근무!G256,IF(달력!$S$26=\"순서5\",근무!H256,IF(달력!$S$26=\"순서6\",근무!I256,\"\"))))))","v":"비번"},{"$f":"IF(달력!$S$27=\"순서1\",근무!D256,IF(달력!$S$27=\"순서2\",근무!E256,IF(달력!$S$27=\"순서3\",근무!F256,IF(달력!$S$27=\"순서4\",근무!G256,IF(달력!$S$27=\"순서5\",근무!H256,IF(달력!$S$27=\"순서6\",근무!I256,\"\"))))))","v":"비번"},{"$f":"IF(달력!$S$28=\"순서1\",근무!D256,IF(달력!$S$28=\"순서2\",근무!E256,IF(달력!$S$28=\"순서3\",근무!F256,IF(달력!$S$28=\"순서4\",근무!G256,IF(달력!$S$28=\"순서5\",근무!H256,IF(달력!$S$28=\"순서6\",근무!I256,\"\"))))))","v":"주간"},{"$f":"IF(달력!$S$29=\"순서1\",근무!D256,IF(달력!$S$29=\"순서2\",근무!E256,IF(달력!$S$29=\"순서3\",근무!F256,IF(달력!$S$29=\"순서4\",근무!G256,IF(달력!$S$29=\"순서5\",근무!H256,IF(달력!$S$29=\"순서6\",근무!I256,\"\"))))))","v":"주간"},null,null,9]
[null,"2023-09-08","금",{"$f":"IF(달력!$S$24=\"순서1\",근무!D257,IF(달력!$S$24=\"순서2\",근무!E257,IF(달력!$S$24=\"순서3\",근무!F257,IF(달력!$S$24=\"순서4\",근무!G257,IF(달력!$S$24=\"순서5\",근무!H257,IF(달력!$S$24=\"순서6\",근무!I257,\"\"))))))","v":"비번"},{"$f":"IF(달력!$S$25=\"순서1\",근무!D257,IF(달력!$S$25=\"순서2\",근무!E257,IF(달력!$S$25=\"순서3\",근무!F257,IF(달력!$S$25=\"순서4\",근무!G257,IF(달력!$S$25=\"순서5\",근무!H257,IF(달력!$S$25=\"순서6\",근무!I257,\"\"))))))","v":"비번"},{"$f":"IF(달력!$S$26=\"순서1\",근무!D257,IF(달력!$S$26=\"순서2\",근무!E257,IF(달력!$S$26=\"순서3\",근무!F257,IF(달력!$S$26=\"순서4\",근무!G257,IF(달력!$S$26=\"순서5\",근무!H257,IF(달력!$S$26=\"순서6\",근무!I257,\"\"))))))","v":"주간"},{"$f":"IF(달력!$S$27=\"순서1\",근무!D257,IF(달력!$S$27=\"순서2\",근무!E257,IF(달력!$S$27=\"순서3\",근무!F257,IF(달력!$S$27=\"순서4\",근무!G257,IF(달력!$S$27=\"순서5\",근무!H257,IF(달력!$S$27=\"순서6\",근무!I257,\"\"))))))","v":"주간"},{"$f":"IF(달력!$S$28=\"순서1\",근무!D257,IF(달력!$S$28=\"순서2\",근무!E257,IF(달력!$S$28=\"순서3\",근무!F257,IF(달력!$S$28=\"순서4\",근무!G257,IF(달력!$S$28=\"순서5\",근무!H257,IF(달력!$S$28=\"순서6\",근무!I257,\"\"))))))","v":"야간"},{"$f":"IF(달력!$S$29=\"순서1\",근무!D257,IF(달력!$S$29=\"순서2\",근무!E257,IF(달력!$S$29=\"순서3\",근무!F257,IF(달력!$S$29=\"순서4\",근무!G257,IF(달력!$S$29=\"순서5\",근무!H257,IF(달력!$S$29=\"순서6\",근무!I257,\"\"))))))","v":"야간"},null,null,9]
[null,"2023-09-09","토",{"$f":"IF(달력!$S$24=\"순서1\",근무!D258,IF(달력!$S$24=\"순서2\",근무!E258,IF(달력!$S$24=\"순서3\",근무!F258,IF(달력!$S$24=\"순서4\",근무!G258,IF(달력!$S$24=\"순서5\",근무!H258,IF(달력!$S$24=\"순서6\",근무!I258,\"\"))))))","v":"비번"},{"$f":"IF(달력!$S$25=\"순서1\",근무!D258,IF(달력!$S$25=\"순서2\",근무!E258,IF(달력!$S$25=\"순서3\",근무!F258,IF(달력!$S$25=\"순서4\",근무!G258,IF(달력!$S$25=\"순서5\",근무!H258,IF(달력!$S$25=\"순서6\",근무!I258,\"\"))))))","v":"비번"},{"$f":"IF(달력!$S$26=\"순서1\",근무!D258,IF(달력!$S$26=\"순서2\",근무!E258,IF(달력!$S$26=\"순서3\",근무!F258,IF(달력!$S$26=\"순서4\",근무!G258,IF(달력!$S$26=\"순서5\",근무!H258,IF(달력!$S$26=\"순서6\",근무!I258,\"\"))))))","v":"주간"},{"$f":"IF(달력!$S$27=\"순서1\",근무!D258,IF(달력!$S$27=\"순서2\",근무!E258,IF(달력!$S$27=\"순서3\",근무!F258,IF(달력!$S$27=\"순서4\",근무!G258,IF(달력!$S$27=\"순서5\",근무!H258,IF(달력!$S$27=\"순서6\",근무!I258,\"\"))))))","v":"주간"},{"$f":"IF(달력!$S$28=\"순서1\",근무!D258,IF(달력!$S$28=\"순서2\",근무!E258,IF(달력!$S$28=\"순서3\",근무!F258,IF(달력!$S$28=\"순서4\",근무!G258,IF(달력!$S$28=\"순서5\",근무!H258,IF(달력!$S$28=\"순서6\",근무!I258,\"\"))))))","v":"야간"},{"$f":"IF(달력!$S$29=\"순서1\",근무!D258,IF(달력!$S$29=\"순서2\",근무!E258,IF(달력!$S$29=\"순서3\",근무!F258,IF(달력!$S$29=\"순서4\",근무!G258,IF(달력!$S$29=\"순서5\",근무!H258,IF(달력!$S$29=\"순서6\",근무!I258,\"\"))))))","v":"야간"},null,null,9]
[null,"2023-09-10","일",{"$f":"IF(달력!$S$24=\"순서1\",근무!D259,IF(달력!$S$24=\"순서2\",근무!E259,IF(달력!$S$24=\"순서3\",근무!F259,IF(달력!$S$24=\"순서4\",근무!G259,IF(달력!$S$24=\"순서5\",근무!H259,IF(달력!$S$24=\"순서6\",근무!I259,\"\"))))))","v":"주간"},{"$f":"IF(달력!$S$25=\"순서1\",근무!D259,IF(달력!$S$25=\"순서2\",근무!E259,IF(달력!$S$25=\"순서3\",근무!F259,IF(달력!$S$25=\"순서4\",근무!G259,IF(달력!$S$25=\"순서5\",근무!H259,IF(달력!$S$25=\"순서6\",근무!I259,\"\"))))))","v":"주간"},{"$f":"IF(달력!$S$26=\"순서1\",근무!D259,IF(달력!$S$26=\"순서2\",근무!E259,IF(달력!$S$26=\"순서3\",근무!F259,IF(달력!$S$26=\"순서4\",근무!G259,IF(달력!$S$26=\"순서5\",근무!H259,IF(달력!$S$26=\"순서6\",근무!I259,\"\"))))))","v":"야간"},{"$f":"IF(달력!$S$27=\"순서1\",근무!D259,IF(달력!$S$27=\"순서2\",근무!E259,IF(달력!$S$27=\"순서3\",근무!F259,IF(달력!$S$27=\"순서4\",근무!G259,IF(달력!$S$27=\"순서5\",근무!H259,IF(달력!$S$27=\"순서6\",근무!I259,\"\"))))))","v":"야간"},{"$f":"IF(달력!$S$28=\"순서1\",근무!D259,IF(달력!$S$28=\"순서2\",근무!E259,IF(달력!$S$28=\"순서3\",근무!F259,IF(달력!$S$28=\"순서4\",근무!G259,IF(달력!$S$28=\"순서5\",근무!H259,IF(달력!$S$28=\"순서6\",근무!I259,\"\"))))))","v":"비번"},{"$f":"IF(달력!$S$29=\"순서1\",근무!D259,IF(달력!$S$29=\"순서2\",근무!E259,IF(달력!$S$29=\"순서3\",근무!F259,IF(달력!$S$29=\"순서4\",근무!G259,IF(달력!$S$29=\"순서5\",근무!H259,IF(달력!$S$29=\"순서6\",근무!I259,\"\"))))))","v":"비번"},null,null,9]
[null,"2023-09-11","월",{"$f":"IF(달력!$S$24=\"순서1\",근무!D260,IF(달력!$S$24=\"순서2\",근무!E260,IF(달력!$S$24=\"순서3\",근무!F260,IF(달력!$S$24=\"순서4\",근무!G260,IF(달력!$S$24=\"순서5\",근무!H260,IF(달력!$S$24=\"순서6\",근무!I260,\"\"))))))","v":"주간"},{"$f":"IF(달력!$S$25=\"순서1\",근무!D260,IF(달력!$S$25=\"순서2\",근무!E260,IF(달력!$S$25=\"순서3\",근무!F260,IF(달력!$S$25=\"순서4\",근무!G260,IF(달력!$S$25=\"순서5\",근무!H260,IF(달력!$S$25=\"순서6\",근무!I260,\"\"))))))","v":"주간"},{"$f":"IF(달력!$S$26=\"순서1\",근무!D260,IF(달력!$S$26=\"순서2\",근무!E260,IF(달력!$S$26=\"순서3\",근무!F260,IF(달력!$S$26=\"순서4\",근무!G260,IF(달력!$S$26=\"순서5\",근무!H260,IF(달력!$S$26=\"순서6\",근무!I260,\"\"))))))","v":"야간"},{"$f":"IF(달력!$S$27=\"순서1\",근무!D260,IF(달력!$S$27=\"순서2\",근무!E260,IF(달력!$S$27=\"순서3\",근무!F260,IF(달력!$S$27=\"순서4\",근무!G260,IF(달력!$S$27=\"순서5\",근무!H260,IF(달력!$S$27=\"순서6\",근무!I260,\"\"))))))","v":"야간"},{"$f":"IF(달력!$S$28=\"순서1\",근무!D260,IF(달력!$S$28=\"순서2\",근무!E260,IF(달력!$S$28=\"순서3\",근무!F260,IF(달력!$S$28=\"순서4\",근무!G260,IF(달력!$S$28=\"순서5\",근무!H260,IF(달력!$S$28=\"순서6\",근무!I260,\"\"))))))","v":"비번"},{"$f":"IF(달력!$S$29=\"순서1\",근무!D260,IF(달력!$S$29=\"순서2\",근무!E260,IF(달력!$S$29=\"순서3\",근무!F260,IF(달력!$S$29=\"순서4\",근무!G260,IF(달력!$S$29=\"순서5\",근무!H260,IF(달력!$S$29=\"순서6\",근무!I260,\"\"))))))","v":"비번"},null,null,9]
[null,"2023-09-12","화",{"$f":"IF(달력!$S$24=\"순서1\",근무!D261,IF(달력!$S$24=\"순서2\",근무!E261,IF(달력!$S$24=\"순서3\",근무!F261,IF(달력!$S$24=\"순서4\",근무!G261,IF(달력!$S$24=\"순서5\",근무!H261,IF(달력!$S$24=\"순서6\",근무!I261,\"\"))))))","v":"야간"},{"$f":"IF(달력!$S$25=\"순서1\",근무!D261,IF(달력!$S$25=\"순서2\",근무!E261,IF(달력!$S$25=\"순서3\",근무!F261,IF(달력!$S$25=\"순서4\",근무!G261,IF(달력!$S$25=\"순서5\",근무!H261,IF(달력!$S$25=\"순서6\",근무!I261,\"\"))))))","v":"야간"},{"$f":"IF(달력!$S$26=\"순서1\",근무!D261,IF(달력!$S$26=\"순서2\",근무!E261,IF(달력!$S$26=\"순서3\",근무!F261,IF(달력!$S$26=\"순서4\",근무!G261,IF(달력!$S$26=\"순서5\",근무!H261,IF(달력!$S$26=\"순서6\",근무!I261,\"\"))))))","v":"비번"},{"$f":"IF(달력!$S$27=\"순서1\",근무!D261,IF(달력!$S$27=\"순서2\",근무!E261,IF(달력!$S$27=\"순서3\",근무!F261,IF(달력!$S$27=\"순서4\",근무!G261,IF(달력!$S$27=\"순서5\",근무!H261,IF(달력!$S$27=\"순서6\",근무!I261,\"\"))))))","v":"비번"},{"$f":"IF(달력!$S$28=\"순서1\",근무!D261,IF(달력!$S$28=\"순서2\",근무!E261,IF(달력!$S$28=\"순서3\",근무!F261,IF(달력!$S$28=\"순서4\",근무!G261,IF(달력!$S$28=\"순서5\",근무!H261,IF(달력!$S$28=\"순서6\",근무!I261,\"\"))))))","v":"주간"},{"$f":"IF(달력!$S$29=\"순서1\",근무!D261,IF(달력!$S$29=\"순서2\",근무!E261,IF(달력!$S$29=\"순서3\",근무!F261,IF(달력!$S$29=\"순서4\",근무!G261,IF(달력!$S$29=\"순서5\",근무!H261,IF(달력!$S$29=\"순서6\",근무!I261,\"\"))))))","v":"주간"},null,null,9]
[null,"2023-09-13","수",{"$f":"IF(달력!$S$24=\"순서1\",근무!D262,IF(달력!$S$24=\"순서2\",근무!E262,IF(달력!$S$24=\"순서3\",근무!F262,IF(달력!$S$24=\"순서4\",근무!G262,IF(달력!$S$24=\"순서5\",근무!H262,IF(달력!$S$24=\"순서6\",근무!I262,\"\"))))))","v":"야간"},{"$f":"IF(달력!$S$25=\"순서1\",근무!D262,IF(달력!$S$25=\"순서2\",근무!E262,IF(달력!$S$25=\"순서3\",근무!F262,IF(달력!$S$25=\"순서4\",근무!G262,IF(달력!$S$25=\"순서5\",근무!H262,IF(달력!$S$25=\"순서6\",근무!I262,\"\"))))))","v":"야간"},{"$f":"IF(달력!$S$26=\"순서1\",근무!D262,IF(달력!$S$26=\"순서2\",근무!E262,IF(달력!$S$26=\"순서3\",근무!F262,IF(달력!$S$26=\"순서4\",근무!G262,IF(달력!$S$26=\"순서5\",근무!H262,IF(달력!$S$26=\"순서6\",근무!I262,\"\"))))))","v":"비번"},{"$f":"IF(달력!$S$27=\"순서1\",근무!D262,IF(달력!$S$27=\"순서2\",근무!E262,IF(달력!$S$27=\"순서3\",근무!F262,IF(달력!$S$27=\"순서4\",근무!G262,IF(달력!$S$27=\"순서5\",근무!H262,IF(달력!$S$27=\"순서6\",근무!I262,\"\"))))))","v":"비번"},{"$f":"IF(달력!$S$28=\"순서1\",근무!D262,IF(달력!$S$28=\"순서2\",근무!E262,IF(달력!$S$28=\"순서3\",근무!F262,IF(달력!$S$28=\"순서4\",근무!G262,IF(달력!$S$28=\"순서5\",근무!H262,IF(달력!$S$28=\"순서6\",근무!I262,\"\"))))))","v":"주간"},{"$f":"IF(달력!$S$29=\"순서1\",근무!D262,IF(달력!$S$29=\"순서2\",근무!E262,IF(달력!$S$29=\"순서3\",근무!F262,IF(달력!$S$29=\"순서4\",근무!G262,IF(달력!$S$29=\"순서5\",근무!H262,IF(달력!$S$29=\"순서6\",근무!I262,\"\"))))))","v":"주간"},null,null,9]
[null,"2023-09-14","목",{"$f":"IF(달력!$S$24=\"순서1\",근무!D263,IF(달력!$S$24=\"순서2\",근무!E263,IF(달력!$S$24=\"순서3\",근무!F263,IF(달력!$S$24=\"순서4\",근무!G263,IF(달력!$S$24=\"순서5\",근무!H263,IF(달력!$S$24=\"순서6\",근무!I263,\"\"))))))","v":"비번"},{"$f":"IF(달력!$S$25=\"순서1\",근무!D263,IF(달력!$S$25=\"순서2\",근무!E263,IF(달력!$S$25=\"순서3\",근무!F263,IF(달력!$S$25=\"순서4\",근무!G263,IF(달력!$S$25=\"순서5\",근무!H263,IF(달력!$S$25=\"순서6\",근무!I263,\"\"))))))","v":"비번"},{"$f":"IF(달력!$S$26=\"순서1\",근무!D263,IF(달력!$S$26=\"순서2\",근무!E263,IF(달력!$S$26=\"순서3\",근무!F263,IF(달력!$S$26=\"순서4\",근무!G263,IF(달력!$S$26=\"순서5\",근무!H263,IF(달력!$S$26=\"순서6\",근무!I263,\"\"))))))","v":"주간"},{"$f":"IF(달력!$S$27=\"순서1\",근무!D263,IF(달력!$S$27=\"순서2\",근무!E263,IF(달력!$S$27=\"순서3\",근무!F263,IF(달력!$S$27=\"순서4\",근무!G263,IF(달력!$S$27=\"순서5\",근무!H263,IF(달력!$S$27=\"순서6\",근무!I263,\"\"))))))","v":"주간"},{"$f":"IF(달력!$S$28=\"순서1\",근무!D263,IF(달력!$S$28=\"순서2\",근무!E263,IF(달력!$S$28=\"순서3\",근무!F263,IF(달력!$S$28=\"순서4\",근무!G263,IF(달력!$S$28=\"순서5\",근무!H263,IF(달력!$S$28=\"순서6\",근무!I263,\"\"))))))","v":"야간"},{"$f":"IF(달력!$S$29=\"순서1\",근무!D263,IF(달력!$S$29=\"순서2\",근무!E263,IF(달력!$S$29=\"순서3\",근무!F263,IF(달력!$S$29=\"순서4\",근무!G263,IF(달력!$S$29=\"순서5\",근무!H263,IF(달력!$S$29=\"순서6\",근무!I263,\"\"))))))","v":"야간"},null,null,9]
[null,"2023-09-15",{"$f":"CHOOSE(WEEKDAY(B264,1),\"일\",\"월\",\"화\",\"수\",\"목\",\"금\",\"토\")","v":"금"},{"$f":"IF(달력!$S$24=\"순서1\",근무!D264,IF(달력!$S$24=\"순서2\",근무!E264,IF(달력!$S$24=\"순서3\",근무!F264,IF(달력!$S$24=\"순서4\",근무!G264,IF(달력!$S$24=\"순서5\",근무!H264,IF(달력!$S$24=\"순서6\",근무!I264,\"\"))))))","v":"비번"},{"$f":"IF(달력!$S$25=\"순서1\",근무!D264,IF(달력!$S$25=\"순서2\",근무!E264,IF(달력!$S$25=\"순서3\",근무!F264,IF(달력!$S$25=\"순서4\",근무!G264,IF(달력!$S$25=\"순서5\",근무!H264,IF(달력!$S$25=\"순서6\",근무!I264,\"\"))))))","v":"비번"},{"$f":"IF(달력!$S$26=\"순서1\",근무!D264,IF(달력!$S$26=\"순서2\",근무!E264,IF(달력!$S$26=\"순서3\",근무!F264,IF(달력!$S$26=\"순서4\",근무!G264,IF(달력!$S$26=\"순서5\",근무!H264,IF(달력!$S$26=\"순서6\",근무!I264,\"\"))))))","v":"주간"},{"$f":"IF(달력!$S$27=\"순서1\",근무!D264,IF(달력!$S$27=\"순서2\",근무!E264,IF(달력!$S$27=\"순서3\",근무!F264,IF(달력!$S$27=\"순서4\",근무!G264,IF(달력!$S$27=\"순서5\",근무!H264,IF(달력!$S$27=\"순서6\",근무!I264,\"\"))))))","v":"주간"},{"$f":"IF(달력!$S$28=\"순서1\",근무!D264,IF(달력!$S$28=\"순서2\",근무!E264,IF(달력!$S$28=\"순서3\",근무!F264,IF(달력!$S$28=\"순서4\",근무!G264,IF(달력!$S$28=\"순서5\",근무!H264,IF(달력!$S$28=\"순서6\",근무!I264,\"\"))))))","v":"야간"},{"$f":"IF(달력!$S$29=\"순서1\",근무!D264,IF(달력!$S$29=\"순서2\",근무!E264,IF(달력!$S$29=\"순서3\",근무!F264,IF(달력!$S$29=\"순서4\",근무!G264,IF(달력!$S$29=\"순서5\",근무!H264,IF(달력!$S$29=\"순서6\",근무!I264,\"\"))))))","v":"야간"},null,null,{"$f":"MONTH(B264)","v":9}]
[null,{"$f":"B264+1","v":"2023-09-16"},"토",{"$f":"IF(달력!$S$24=\"순서1\",근무!D265,IF(달력!$S$24=\"순서2\",근무!E265,IF(달력!$S$24=\"순서3\",근무!F265,IF(달력!$S$24=\"순서4\",근무!G265,IF(달력!$S$24=\"순서5\",근무!H265,IF(달력!$S$24=\"순서6\",근무!I265,\"\"))))))","v":"주간"},{"$f":"IF(달력!$S$25=\"순서1\",근무!D265,IF(달력!$S$25=\"순서2\",근무!E265,IF(달력!$S$25=\"순서3\",근무!F265,IF(달력!$S$25=\"순서4\",근무!G265,IF(달력!$S$25=\"순서5\",근무!H265,IF(달력!$S$25=\"순서6\",근무!I265,\"\"))))))","v":"주간"},{"$f":"IF(달력!$S$26=\"순서1\",근무!D265,IF(달력!$S$26=\"순서2\",근무!E265,IF(달력!$S$26=\"순서3\",근무!F265,IF(달력!$S$26=\"순서4\",근무!G265,IF(달력!$S$26=\"순서5\",근무!H265,IF(달력!$S$26=\"순서6\",근무!I265,\"\"))))))","v":"야간"},{"$f":"IF(달력!$S$27=\"순서1\",근무!D265,IF(달력!$S$27=\"순서2\",근무!E265,IF(달력!$S$27=\"순서3\",근무!F265,IF(달력!$S$27=\"순서4\",근무!G265,IF(달력!$S$27=\"순서5\",근무!H265,IF(달력!$S$27=\"순서6\",근무!I265,\"\"))))))","v":"야간"},{"$f":"IF(달력!$S$28=\"순서1\",근무!D265,IF(달력!$S$28=\"순서2\",근무!E265,IF(달력!$S$28=\"순서3\",근무!F265,IF(달력!$S$28=\"순서4\",근무!G265,IF(달력!$S$28=\"순서5\",근무!H265,IF(달력!$S$28=\"순서6\",근무!I265,\"\"))))))","v":"비번"},{"$f":"IF(달력!$S$29=\"순서1\",근무!D265,IF(달력!$S$29=\"순서2\",근무!E265,IF(달력!$S$29=\"순서3\",근무!F265,IF(달력!$S$29=\"순서4\",근무!G265,IF(달력!$S$29=\"순서5\",근무!H265,IF(달력!$S$29=\"순서6\",근무!I265,\"\"))))))","v":"비번"},null,null,9]
[null,"2023-09-17","일",{"$f":"IF(달력!$S$24=\"순서1\",근무!D266,IF(달력!$S$24=\"순서2\",근무!E266,IF(달력!$S$24=\"순서3\",근무!F266,IF(달력!$S$24=\"순서4\",근무!G266,IF(달력!$S$24=\"순서5\",근무!H266,IF(달력!$S$24=\"순서6\",근무!I266,\"\"))))))","v":"주간"},{"$f":"IF(달력!$S$25=\"순서1\",근무!D266,IF(달력!$S$25=\"순서2\",근무!E266,IF(달력!$S$25=\"순서3\",근무!F266,IF(달력!$S$25=\"순서4\",근무!G266,IF(달력!$S$25=\"순서5\",근무!H266,IF(달력!$S$25=\"순서6\",근무!I266,\"\"))))))","v":"주간"},{"$f":"IF(달력!$S$26=\"순서1\",근무!D266,IF(달력!$S$26=\"순서2\",근무!E266,IF(달력!$S$26=\"순서3\",근무!F266,IF(달력!$S$26=\"순서4\",근무!G266,IF(달력!$S$26=\"순서5\",근무!H266,IF(달력!$S$26=\"순서6\",근무!I266,\"\"))))))","v":"야간"},{"$f":"IF(달력!$S$27=\"순서1\",근무!D266,IF(달력!$S$27=\"순서2\",근무!E266,IF(달력!$S$27=\"순서3\",근무!F266,IF(달력!$S$27=\"순서4\",근무!G266,IF(달력!$S$27=\"순서5\",근무!H266,IF(달력!$S$27=\"순서6\",근무!I266,\"\"))))))","v":"야간"},{"$f":"IF(달력!$S$28=\"순서1\",근무!D266,IF(달력!$S$28=\"순서2\",근무!E266,IF(달력!$S$28=\"순서3\",근무!F266,IF(달력!$S$28=\"순서4\",근무!G266,IF(달력!$S$28=\"순서5\",근무!H266,IF(달력!$S$28=\"순서6\",근무!I266,\"\"))))))","v":"비번"},{"$f":"IF(달력!$S$29=\"순서1\",근무!D266,IF(달력!$S$29=\"순서2\",근무!E266,IF(달력!$S$29=\"순서3\",근무!F266,IF(달력!$S$29=\"순서4\",근무!G266,IF(달력!$S$29=\"순서5\",근무!H266,IF(달력!$S$29=\"순서6\",근무!I266,\"\"))))))","v":"비번"},null,null,9]
[null,"2023-09-18","월",{"$f":"IF(달력!$S$24=\"순서1\",근무!D267,IF(달력!$S$24=\"순서2\",근무!E267,IF(달력!$S$24=\"순서3\",근무!F267,IF(달력!$S$24=\"순서4\",근무!G267,IF(달력!$S$24=\"순서5\",근무!H267,IF(달력!$S$24=\"순서6\",근무!I267,\"\"))))))","v":"야간"},{"$f":"IF(달력!$S$25=\"순서1\",근무!D267,IF(달력!$S$25=\"순서2\",근무!E267,IF(달력!$S$25=\"순서3\",근무!F267,IF(달력!$S$25=\"순서4\",근무!G267,IF(달력!$S$25=\"순서5\",근무!H267,IF(달력!$S$25=\"순서6\",근무!I267,\"\"))))))","v":"야간"},{"$f":"IF(달력!$S$26=\"순서1\",근무!D267,IF(달력!$S$26=\"순서2\",근무!E267,IF(달력!$S$26=\"순서3\",근무!F267,IF(달력!$S$26=\"순서4\",근무!G267,IF(달력!$S$26=\"순서5\",근무!H267,IF(달력!$S$26=\"순서6\",근무!I267,\"\"))))))","v":"비번"},{"$f":"IF(달력!$S$27=\"순서1\",근무!D267,IF(달력!$S$27=\"순서2\",근무!E267,IF(달력!$S$27=\"순서3\",근무!F267,IF(달력!$S$27=\"순서4\",근무!G267,IF(달력!$S$27=\"순서5\",근무!H267,IF(달력!$S$27=\"순서6\",근무!I267,\"\"))))))","v":"비번"},{"$f":"IF(달력!$S$28=\"순서1\",근무!D267,IF(달력!$S$28=\"순서2\",근무!E267,IF(달력!$S$28=\"순서3\",근무!F267,IF(달력!$S$28=\"순서4\",근무!G267,IF(달력!$S$28=\"순서5\",근무!H267,IF(달력!$S$28=\"순서6\",근무!I267,\"\"))))))","v":"주간"},{"$f":"IF(달력!$S$29=\"순서1\",근무!D267,IF(달력!$S$29=\"순서2\",근무!E267,IF(달력!$S$29=\"순서3\",근무!F267,IF(달력!$S$29=\"순서4\",근무!G267,IF(달력!$S$29=\"순서5\",근무!H267,IF(달력!$S$29=\"순서6\",근무!I267,\"\"))))))","v":"주간"},null,null,9]
[null,"2023-09-19","화",{"$f":"IF(달력!$S$24=\"순서1\",근무!D268,IF(달력!$S$24=\"순서2\",근무!E268,IF(달력!$S$24=\"순서3\",근무!F268,IF(달력!$S$24=\"순서4\",근무!G268,IF(달력!$S$24=\"순서5\",근무!H268,IF(달력!$S$24=\"순서6\",근무!I268,\"\"))))))","v":"야간"},{"$f":"IF(달력!$S$25=\"순서1\",근무!D268,IF(달력!$S$25=\"순서2\",근무!E268,IF(달력!$S$25=\"순서3\",근무!F268,IF(달력!$S$25=\"순서4\",근무!G268,IF(달력!$S$25=\"순서5\",근무!H268,IF(달력!$S$25=\"순서6\",근무!I268,\"\"))))))","v":"야간"},{"$f":"IF(달력!$S$26=\"순서1\",근무!D268,IF(달력!$S$26=\"순서2\",근무!E268,IF(달력!$S$26=\"순서3\",근무!F268,IF(달력!$S$26=\"순서4\",근무!G268,IF(달력!$S$26=\"순서5\",근무!H268,IF(달력!$S$26=\"순서6\",근무!I268,\"\"))))))","v":"비번"},{"$f":"IF(달력!$S$27=\"순서1\",근무!D268,IF(달력!$S$27=\"순서2\",근무!E268,IF(달력!$S$27=\"순서3\",근무!F268,IF(달력!$S$27=\"순서4\",근무!G268,IF(달력!$S$27=\"순서5\",근무!H268,IF(달력!$S$27=\"순서6\",근무!I268,\"\"))))))","v":"비번"},{"$f":"IF(달력!$S$28=\"순서1\",근무!D268,IF(달력!$S$28=\"순서2\",근무!E268,IF(달력!$S$28=\"순서3\",근무!F268,IF(달력!$S$28=\"순서4\",근무!G268,IF(달력!$S$28=\"순서5\",근무!H268,IF(달력!$S$28=\"순서6\",근무!I268,\"\"))))))","v":"주간"},{"$f":"IF(달력!$S$29=\"순서1\",근무!D268,IF(달력!$S$29=\"순서2\",근무!E268,IF(달력!$S$29=\"순서3\",근무!F268,IF(달력!$S$29=\"순서4\",근무!G268,IF(달력!$S$29=\"순서5\",근무!H268,IF(달력!$S$29=\"순서6\",근무!I268,\"\"))))))","v":"주간"},null,null,9]
[null,"2023-09-20","수",{"$f":"IF(달력!$S$24=\"순서1\",근무!D269,IF(달력!$S$24=\"순서2\",근무!E269,IF(달력!$S$24=\"순서3\",근무!F269,IF(달력!$S$24=\"순서4\",근무!G269,IF(달력!$S$24=\"순서5\",근무!H269,IF(달력!$S$24=\"순서6\",근무!I269,\"\"))))))","v":"비번"},{"$f":"IF(달력!$S$25=\"순서1\",근무!D269,IF(달력!$S$25=\"순서2\",근무!E269,IF(달력!$S$25=\"순서3\",근무!F269,IF(달력!$S$25=\"순서4\",근무!G269,IF(달력!$S$25=\"순서5\",근무!H269,IF(달력!$S$25=\"순서6\",근무!I269,\"\"))))))","v":"비번"},{"$f":"IF(달력!$S$26=\"순서1\",근무!D269,IF(달력!$S$26=\"순서2\",근무!E269,IF(달력!$S$26=\"순서3\",근무!F269,IF(달력!$S$26=\"순서4\",근무!G269,IF(달력!$S$26=\"순서5\",근무!H269,IF(달력!$S$26=\"순서6\",근무!I269,\"\"))))))","v":"주간"},{"$f":"IF(달력!$S$27=\"순서1\",근무!D269,IF(달력!$S$27=\"순서2\",근무!E269,IF(달력!$S$27=\"순서3\",근무!F269,IF(달력!$S$27=\"순서4\",근무!G269,IF(달력!$S$27=\"순서5\",근무!H269,IF(달력!$S$27=\"순서6\",근무!I269,\"\"))))))","v":"주간"},{"$f":"IF(달력!$S$28=\"순서1\",근무!D269,IF(달력!$S$28=\"순서2\",근무!E269,IF(달력!$S$28=\"순서3\",근무!F269,IF(달력!$S$28=\"순서4\",근무!G269,IF(달력!$S$28=\"순서5\",근무!H269,IF(달력!$S$28=\"순서6\",근무!I269,\"\"))))))","v":"야간"},{"$f":"IF(달력!$S$29=\"순서1\",근무!D269,IF(달력!$S$29=\"순서2\",근무!E269,IF(달력!$S$29=\"순서3\",근무!F269,IF(달력!$S$29=\"순서4\",근무!G269,IF(달력!$S$29=\"순서5\",근무!H269,IF(달력!$S$29=\"순서6\",근무!I269,\"\"))))))","v":"야간"},null,null,9]
[null,"2023-09-21","목",{"$f":"IF(달력!$S$24=\"순서1\",근무!D270,IF(달력!$S$24=\"순서2\",근무!E270,IF(달력!$S$24=\"순서3\",근무!F270,IF(달력!$S$24=\"순서4\",근무!G270,IF(달력!$S$24=\"순서5\",근무!H270,IF(달력!$S$24=\"순서6\",근무!I270,\"\"))))))","v":"비번"},{"$f":"IF(달력!$S$25=\"순서1\",근무!D270,IF(달력!$S$25=\"순서2\",근무!E270,IF(달력!$S$25=\"순서3\",근무!F270,IF(달력!$S$25=\"순서4\",근무!G270,IF(달력!$S$25=\"순서5\",근무!H270,IF(달력!$S$25=\"순서6\",근무!I270,\"\"))))))","v":"비번"},{"$f":"IF(달력!$S$26=\"순서1\",근무!D270,IF(달력!$S$26=\"순서2\",근무!E270,IF(달력!$S$26=\"순서3\",근무!F270,IF(달력!$S$26=\"순서4\",근무!G270,IF(달력!$S$26=\"순서5\",근무!H270,IF(달력!$S$26=\"순서6\",근무!I270,\"\"))))))","v":"주간"},{"$f":"IF(달력!$S$27=\"순서1\",근무!D270,IF(달력!$S$27=\"순서2\",근무!E270,IF(달력!$S$27=\"순서3\",근무!F270,IF(달력!$S$27=\"순서4\",근무!G270,IF(달력!$S$27=\"순서5\",근무!H270,IF(달력!$S$27=\"순서6\",근무!I270,\"\"))))))","v":"주간"},{"$f":"IF(달력!$S$28=\"순서1\",근무!D270,IF(달력!$S$28=\"순서2\",근무!E270,IF(달력!$S$28=\"순서3\",근무!F270,IF(달력!$S$28=\"순서4\",근무!G270,IF(달력!$S$28=\"순서5\",근무!H270,IF(달력!$S$28=\"순서6\",근무!I270,\"\"))))))","v":"야간"},{"$f":"IF(달력!$S$29=\"순서1\",근무!D270,IF(달력!$S$29=\"순서2\",근무!E270,IF(달력!$S$29=\"순서3\",근무!F270,IF(달력!$S$29=\"순서4\",근무!G270,IF(달력!$S$29=\"순서5\",근무!H270,IF(달력!$S$29=\"순서6\",근무!I270,\"\"))))))","v":"야간"},null,null,9]
[null,"2023-09-22","금",{"$f":"IF(달력!$S$24=\"순서1\",근무!D271,IF(달력!$S$24=\"순서2\",근무!E271,IF(달력!$S$24=\"순서3\",근무!F271,IF(달력!$S$24=\"순서4\",근무!G271,IF(달력!$S$24=\"순서5\",근무!H271,IF(달력!$S$24=\"순서6\",근무!I271,\"\"))))))","v":"주간"},{"$f":"IF(달력!$S$25=\"순서1\",근무!D271,IF(달력!$S$25=\"순서2\",근무!E271,IF(달력!$S$25=\"순서3\",근무!F271,IF(달력!$S$25=\"순서4\",근무!G271,IF(달력!$S$25=\"순서5\",근무!H271,IF(달력!$S$25=\"순서6\",근무!I271,\"\"))))))","v":"주간"},{"$f":"IF(달력!$S$26=\"순서1\",근무!D271,IF(달력!$S$26=\"순서2\",근무!E271,IF(달력!$S$26=\"순서3\",근무!F271,IF(달력!$S$26=\"순서4\",근무!G271,IF(달력!$S$26=\"순서5\",근무!H271,IF(달력!$S$26=\"순서6\",근무!I271,\"\"))))))","v":"야간"},{"$f":"IF(달력!$S$27=\"순서1\",근무!D271,IF(달력!$S$27=\"순서2\",근무!E271,IF(달력!$S$27=\"순서3\",근무!F271,IF(달력!$S$27=\"순서4\",근무!G271,IF(달력!$S$27=\"순서5\",근무!H271,IF(달력!$S$27=\"순서6\",근무!I271,\"\"))))))","v":"야간"},{"$f":"IF(달력!$S$28=\"순서1\",근무!D271,IF(달력!$S$28=\"순서2\",근무!E271,IF(달력!$S$28=\"순서3\",근무!F271,IF(달력!$S$28=\"순서4\",근무!G271,IF(달력!$S$28=\"순서5\",근무!H271,IF(달력!$S$28=\"순서6\",근무!I271,\"\"))))))","v":"비번"},{"$f":"IF(달력!$S$29=\"순서1\",근무!D271,IF(달력!$S$29=\"순서2\",근무!E271,IF(달력!$S$29=\"순서3\",근무!F271,IF(달력!$S$29=\"순서4\",근무!G271,IF(달력!$S$29=\"순서5\",근무!H271,IF(달력!$S$29=\"순서6\",근무!I271,\"\"))))))","v":"비번"},null,null,9]
[null,"2023-09-23","토",{"$f":"IF(달력!$S$24=\"순서1\",근무!D272,IF(달력!$S$24=\"순서2\",근무!E272,IF(달력!$S$24=\"순서3\",근무!F272,IF(달력!$S$24=\"순서4\",근무!G272,IF(달력!$S$24=\"순서5\",근무!H272,IF(달력!$S$24=\"순서6\",근무!I272,\"\"))))))","v":"주간"},{"$f":"IF(달력!$S$25=\"순서1\",근무!D272,IF(달력!$S$25=\"순서2\",근무!E272,IF(달력!$S$25=\"순서3\",근무!F272,IF(달력!$S$25=\"순서4\",근무!G272,IF(달력!$S$25=\"순서5\",근무!H272,IF(달력!$S$25=\"순서6\",근무!I272,\"\"))))))","v":"주간"},{"$f":"IF(달력!$S$26=\"순서1\",근무!D272,IF(달력!$S$26=\"순서2\",근무!E272,IF(달력!$S$26=\"순서3\",근무!F272,IF(달력!$S$26=\"순서4\",근무!G272,IF(달력!$S$26=\"순서5\",근무!H272,IF(달력!$S$26=\"순서6\",근무!I272,\"\"))))))","v":"야간"},{"$f":"IF(달력!$S$27=\"순서1\",근무!D272,IF(달력!$S$27=\"순서2\",근무!E272,IF(달력!$S$27=\"순서3\",근무!F272,IF(달력!$S$27=\"순서4\",근무!G272,IF(달력!$S$27=\"순서5\",근무!H272,IF(달력!$S$27=\"순서6\",근무!I272,\"\"))))))","v":"야간"},{"$f":"IF(달력!$S$28=\"순서1\",근무!D272,IF(달력!$S$28=\"순서2\",근무!E272,IF(달력!$S$28=\"순서3\",근무!F272,IF(달력!$S$28=\"순서4\",근무!G272,IF(달력!$S$28=\"순서5\",근무!H272,IF(달력!$S$28=\"순서6\",근무!I272,\"\"))))))","v":"비번"},{"$f":"IF(달력!$S$29=\"순서1\",근무!D272,IF(달력!$S$29=\"순서2\",근무!E272,IF(달력!$S$29=\"순서3\",근무!F272,IF(달력!$S$29=\"순서4\",근무!G272,IF(달력!$S$29=\"순서5\",근무!H272,IF(달력!$S$29=\"순서6\",근무!I272,\"\"))))))","v":"비번"},null,null,9]
[null,"2023-09-24","일",{"$f":"IF(달력!$S$24=\"순서1\",근무!D273,IF(달력!$S$24=\"순서2\",근무!E273,IF(달력!$S$24=\"순서3\",근무!F273,IF(달력!$S$24=\"순서4\",근무!G273,IF(달력!$S$24=\"순서5\",근무!H273,IF(달력!$S$24=\"순서6\",근무!I273,\"\"))))))","v":"야간"},{"$f":"IF(달력!$S$25=\"순서1\",근무!D273,IF(달력!$S$25=\"순서2\",근무!E273,IF(달력!$S$25=\"순서3\",근무!F273,IF(달력!$S$25=\"순서4\",근무!G273,IF(달력!$S$25=\"순서5\",근무!H273,IF(달력!$S$25=\"순서6\",근무!I273,\"\"))))))","v":"야간"},{"$f":"IF(달력!$S$26=\"순서1\",근무!D273,IF(달력!$S$26=\"순서2\",근무!E273,IF(달력!$S$26=\"순서3\",근무!F273,IF(달력!$S$26=\"순서4\",근무!G273,IF(달력!$S$26=\"순서5\",근무!H273,IF(달력!$S$26=\"순서6\",근무!I273,\"\"))))))","v":"비번"},{"$f":"IF(달력!$S$27=\"순서1\",근무!D273,IF(달력!$S$27=\"순서2\",근무!E273,IF(달력!$S$27=\"순서3\",근무!F273,IF(달력!$S$27=\"순서4\",근무!G273,IF(달력!$S$27=\"순서5\",근무!H273,IF(달력!$S$27=\"순서6\",근무!I273,\"\"))))))","v":"비번"},{"$f":"IF(달력!$S$28=\"순서1\",근무!D273,IF(달력!$S$28=\"순서2\",근무!E273,IF(달력!$S$28=\"순서3\",근무!F273,IF(달력!$S$28=\"순서4\",근무!G273,IF(달력!$S$28=\"순서5\",근무!H273,IF(달력!$S$28=\"순서6\",근무!I273,\"\"))))))","v":"주간"},{"$f":"IF(달력!$S$29=\"순서1\",근무!D273,IF(달력!$S$29=\"순서2\",근무!E273,IF(달력!$S$29=\"순서3\",근무!F273,IF(달력!$S$29=\"순서4\",근무!G273,IF(달력!$S$29=\"순서5\",근무!H273,IF(달력!$S$29=\"순서6\",근무!I273,\"\"))))))","v":"주간"},null,null,9]
[null,"2023-09-25","월",{"$f":"IF(달력!$S$24=\"순서1\",근무!D274,IF(달력!$S$24=\"순서2\",근무!E274,IF(달력!$S$24=\"순서3\",근무!F274,IF(달력!$S$24=\"순서4\",근무!G274,IF(달력!$S$24=\"순서5\",근무!H274,IF(달력!$S$24=\"순서6\",근무!I274,\"\"))))))","v":"야간"},{"$f":"IF(달력!$S$25=\"순서1\",근무!D274,IF(달력!$S$25=\"순서2\",근무!E274,IF(달력!$S$25=\"순서3\",근무!F274,IF(달력!$S$25=\"순서4\",근무!G274,IF(달력!$S$25=\"순서5\",근무!H274,IF(달력!$S$25=\"순서6\",근무!I274,\"\"))))))","v":"야간"},{"$f":"IF(달력!$S$26=\"순서1\",근무!D274,IF(달력!$S$26=\"순서2\",근무!E274,IF(달력!$S$26=\"순서3\",근무!F274,IF(달력!$S$26=\"순서4\",근무!G274,IF(달력!$S$26=\"순서5\",근무!H274,IF(달력!$S$26=\"순서6\",근무!I274,\"\"))))))","v":"비번"},{"$f":"IF(달력!$S$27=\"순서1\",근무!D274,IF(달력!$S$27=\"순서2\",근무!E274,IF(달력!$S$27=\"순서3\",근무!F274,IF(달력!$S$27=\"순서4\",근무!G274,IF(달력!$S$27=\"순서5\",근무!H274,IF(달력!$S$27=\"순서6\",근무!I274,\"\"))))))","v":"비번"},{"$f":"IF(달력!$S$28=\"순서1\",근무!D274,IF(달력!$S$28=\"순서2\",근무!E274,IF(달력!$S$28=\"순서3\",근무!F274,IF(달력!$S$28=\"순서4\",근무!G274,IF(달력!$S$28=\"순서5\",근무!H274,IF(달력!$S$28=\"순서6\",근무!I274,\"\"))))))","v":"주간"},{"$f":"IF(달력!$S$29=\"순서1\",근무!D274,IF(달력!$S$29=\"순서2\",근무!E274,IF(달력!$S$29=\"순서3\",근무!F274,IF(달력!$S$29=\"순서4\",근무!G274,IF(달력!$S$29=\"순서5\",근무!H274,IF(달력!$S$29=\"순서6\",근무!I274,\"\"))))))","v":"주간"},null,null,9]
[null,"2023-09-26","화",{"$f":"IF(달력!$S$24=\"순서1\",근무!D275,IF(달력!$S$24=\"순서2\",근무!E275,IF(달력!$S$24=\"순서3\",근무!F275,IF(달력!$S$24=\"순서4\",근무!G275,IF(달력!$S$24=\"순서5\",근무!H275,IF(달력!$S$24=\"순서6\",근무!I275,\"\"))))))","v":"비번"},{"$f":"IF(달력!$S$25=\"순서1\",근무!D275,IF(달력!$S$25=\"순서2\",근무!E275,IF(달력!$S$25=\"순서3\",근무!F275,IF(달력!$S$25=\"순서4\",근무!G275,IF(달력!$S$25=\"순서5\",근무!H275,IF(달력!$S$25=\"순서6\",근무!I275,\"\"))))))","v":"비번"},{"$f":"IF(달력!$S$26=\"순서1\",근무!D275,IF(달력!$S$26=\"순서2\",근무!E275,IF(달력!$S$26=\"순서3\",근무!F275,IF(달력!$S$26=\"순서4\",근무!G275,IF(달력!$S$26=\"순서5\",근무!H275,IF(달력!$S$26=\"순서6\",근무!I275,\"\"))))))","v":"주간"},{"$f":"IF(달력!$S$27=\"순서1\",근무!D275,IF(달력!$S$27=\"순서2\",근무!E275,IF(달력!$S$27=\"순서3\",근무!F275,IF(달력!$S$27=\"순서4\",근무!G275,IF(달력!$S$27=\"순서5\",근무!H275,IF(달력!$S$27=\"순서6\",근무!I275,\"\"))))))","v":"주간"},{"$f":"IF(달력!$S$28=\"순서1\",근무!D275,IF(달력!$S$28=\"순서2\",근무!E275,IF(달력!$S$28=\"순서3\",근무!F275,IF(달력!$S$28=\"순서4\",근무!G275,IF(달력!$S$28=\"순서5\",근무!H275,IF(달력!$S$28=\"순서6\",근무!I275,\"\"))))))","v":"야간"},{"$f":"IF(달력!$S$29=\"순서1\",근무!D275,IF(달력!$S$29=\"순서2\",근무!E275,IF(달력!$S$29=\"순서3\",근무!F275,IF(달력!$S$29=\"순서4\",근무!G275,IF(달력!$S$29=\"순서5\",근무!H275,IF(달력!$S$29=\"순서6\",근무!I275,\"\"))))))","v":"야간"},null,null,9]
[null,"2023-09-27","수",{"$f":"IF(달력!$S$24=\"순서1\",근무!D276,IF(달력!$S$24=\"순서2\",근무!E276,IF(달력!$S$24=\"순서3\",근무!F276,IF(달력!$S$24=\"순서4\",근무!G276,IF(달력!$S$24=\"순서5\",근무!H276,IF(달력!$S$24=\"순서6\",근무!I276,\"\"))))))","v":"비번"},{"$f":"IF(달력!$S$25=\"순서1\",근무!D276,IF(달력!$S$25=\"순서2\",근무!E276,IF(달력!$S$25=\"순서3\",근무!F276,IF(달력!$S$25=\"순서4\",근무!G276,IF(달력!$S$25=\"순서5\",근무!H276,IF(달력!$S$25=\"순서6\",근무!I276,\"\"))))))","v":"비번"},{"$f":"IF(달력!$S$26=\"순서1\",근무!D276,IF(달력!$S$26=\"순서2\",근무!E276,IF(달력!$S$26=\"순서3\",근무!F276,IF(달력!$S$26=\"순서4\",근무!G276,IF(달력!$S$26=\"순서5\",근무!H276,IF(달력!$S$26=\"순서6\",근무!I276,\"\"))))))","v":"주간"},{"$f":"IF(달력!$S$27=\"순서1\",근무!D276,IF(달력!$S$27=\"순서2\",근무!E276,IF(달력!$S$27=\"순서3\",근무!F276,IF(달력!$S$27=\"순서4\",근무!G276,IF(달력!$S$27=\"순서5\",근무!H276,IF(달력!$S$27=\"순서6\",근무!I276,\"\"))))))","v":"주간"},{"$f":"IF(달력!$S$28=\"순서1\",근무!D276,IF(달력!$S$28=\"순서2\",근무!E276,IF(달력!$S$28=\"순서3\",근무!F276,IF(달력!$S$28=\"순서4\",근무!G276,IF(달력!$S$28=\"순서5\",근무!H276,IF(달력!$S$28=\"순서6\",근무!I276,\"\"))))))","v":"야간"},{"$f":"IF(달력!$S$29=\"순서1\",근무!D276,IF(달력!$S$29=\"순서2\",근무!E276,IF(달력!$S$29=\"순서3\",근무!F276,IF(달력!$S$29=\"순서4\",근무!G276,IF(달력!$S$29=\"순서5\",근무!H276,IF(달력!$S$29=\"순서6\",근무!I276,\"\"))))))","v":"야간"},null,null,9]
[null,"2023-09-28","목",{"$f":"IF(달력!$S$24=\"순서1\",근무!D277,IF(달력!$S$24=\"순서2\",근무!E277,IF(달력!$S$24=\"순서3\",근무!F277,IF(달력!$S$24=\"순서4\",근무!G277,IF(달력!$S$24=\"순서5\",근무!H277,IF(달력!$S$24=\"순서6\",근무!I277,\"\"))))))","v":"주간"},{"$f":"IF(달력!$S$25=\"순서1\",근무!D277,IF(달력!$S$25=\"순서2\",근무!E277,IF(달력!$S$25=\"순서3\",근무!F277,IF(달력!$S$25=\"순서4\",근무!G277,IF(달력!$S$25=\"순서5\",근무!H277,IF(달력!$S$25=\"순서6\",근무!I277,\"\"))))))","v":"주간"},{"$f":"IF(달력!$S$26=\"순서1\",근무!D277,IF(달력!$S$26=\"순서2\",근무!E277,IF(달력!$S$26=\"순서3\",근무!F277,IF(달력!$S$26=\"순서4\",근무!G277,IF(달력!$S$26=\"순서5\",근무!H277,IF(달력!$S$26=\"순서6\",근무!I277,\"\"))))))","v":"야간"},{"$f":"IF(달력!$S$27=\"순서1\",근무!D277,IF(달력!$S$27=\"순서2\",근무!E277,IF(달력!$S$27=\"순서3\",근무!F277,IF(달력!$S$27=\"순서4\",근무!G277,IF(달력!$S$27=\"순서5\",근무!H277,IF(달력!$S$27=\"순서6\",근무!I277,\"\"))))))","v":"야간"},{"$f":"IF(달력!$S$28=\"순서1\",근무!D277,IF(달력!$S$28=\"순서2\",근무!E277,IF(달력!$S$28=\"순서3\",근무!F277,IF(달력!$S$28=\"순서4\",근무!G277,IF(달력!$S$28=\"순서5\",근무!H277,IF(달력!$S$28=\"순서6\",근무!I277,\"\"))))))","v":"비번"},{"$f":"IF(달력!$S$29=\"순서1\",근무!D277,IF(달력!$S$29=\"순서2\",근무!E277,IF(달력!$S$29=\"순서3\",근무!F277,IF(달력!$S$29=\"순서4\",근무!G277,IF(달력!$S$29=\"순서5\",근무!H277,IF(달력!$S$29=\"순서6\",근무!I277,\"\"))))))","v":"비번"},null,null,9]
[null,"2023-09-29","금",{"$f":"IF(달력!$S$24=\"순서1\",근무!D278,IF(달력!$S$24=\"순서2\",근무!E278,IF(달력!$S$24=\"순서3\",근무!F278,IF(달력!$S$24=\"순서4\",근무!G278,IF(달력!$S$24=\"순서5\",근무!H278,IF(달력!$S$24=\"순서6\",근무!I278,\"\"))))))","v":"주간"},{"$f":"IF(달력!$S$25=\"순서1\",근무!D278,IF(달력!$S$25=\"순서2\",근무!E278,IF(달력!$S$25=\"순서3\",근무!F278,IF(달력!$S$25=\"순서4\",근무!G278,IF(달력!$S$25=\"순서5\",근무!H278,IF(달력!$S$25=\"순서6\",근무!I278,\"\"))))))","v":"주간"},{"$f":"IF(달력!$S$26=\"순서1\",근무!D278,IF(달력!$S$26=\"순서2\",근무!E278,IF(달력!$S$26=\"순서3\",근무!F278,IF(달력!$S$26=\"순서4\",근무!G278,IF(달력!$S$26=\"순서5\",근무!H278,IF(달력!$S$26=\"순서6\",근무!I278,\"\"))))))","v":"야간"},{"$f":"IF(달력!$S$27=\"순서1\",근무!D278,IF(달력!$S$27=\"순서2\",근무!E278,IF(달력!$S$27=\"순서3\",근무!F278,IF(달력!$S$27=\"순서4\",근무!G278,IF(달력!$S$27=\"순서5\",근무!H278,IF(달력!$S$27=\"순서6\",근무!I278,\"\"))))))","v":"야간"},{"$f":"IF(달력!$S$28=\"순서1\",근무!D278,IF(달력!$S$28=\"순서2\",근무!E278,IF(달력!$S$28=\"순서3\",근무!F278,IF(달력!$S$28=\"순서4\",근무!G278,IF(달력!$S$28=\"순서5\",근무!H278,IF(달력!$S$28=\"순서6\",근무!I278,\"\"))))))","v":"비번"},{"$f":"IF(달력!$S$29=\"순서1\",근무!D278,IF(달력!$S$29=\"순서2\",근무!E278,IF(달력!$S$29=\"순서3\",근무!F278,IF(달력!$S$29=\"순서4\",근무!G278,IF(달력!$S$29=\"순서5\",근무!H278,IF(달력!$S$29=\"순서6\",근무!I278,\"\"))))))","v":"비번"},null,null,9]
[null,"2023-09-30","토",{"$f":"IF(달력!$S$24=\"순서1\",근무!D279,IF(달력!$S$24=\"순서2\",근무!E279,IF(달력!$S$24=\"순서3\",근무!F279,IF(달력!$S$24=\"순서4\",근무!G279,IF(달력!$S$24=\"순서5\",근무!H279,IF(달력!$S$24=\"순서6\",근무!I279,\"\"))))))","v":"야간"},{"$f":"IF(달력!$S$25=\"순서1\",근무!D279,IF(달력!$S$25=\"순서2\",근무!E279,IF(달력!$S$25=\"순서3\",근무!F279,IF(달력!$S$25=\"순서4\",근무!G279,IF(달력!$S$25=\"순서5\",근무!H279,IF(달력!$S$25=\"순서6\",근무!I279,\"\"))))))","v":"야간"},{"$f":"IF(달력!$S$26=\"순서1\",근무!D279,IF(달력!$S$26=\"순서2\",근무!E279,IF(달력!$S$26=\"순서3\",근무!F279,IF(달력!$S$26=\"순서4\",근무!G279,IF(달력!$S$26=\"순서5\",근무!H279,IF(달력!$S$26=\"순서6\",근무!I279,\"\"))))))","v":"비번"},{"$f":"IF(달력!$S$27=\"순서1\",근무!D279,IF(달력!$S$27=\"순서2\",근무!E279,IF(달력!$S$27=\"순서3\",근무!F279,IF(달력!$S$27=\"순서4\",근무!G279,IF(달력!$S$27=\"순서5\",근무!H279,IF(달력!$S$27=\"순서6\",근무!I279,\"\"))))))","v":"비번"},{"$f":"IF(달력!$S$28=\"순서1\",근무!D279,IF(달력!$S$28=\"순서2\",근무!E279,IF(달력!$S$28=\"순서3\",근무!F279,IF(달력!$S$28=\"순서4\",근무!G279,IF(달력!$S$28=\"순서5\",근무!H279,IF(달력!$S$28=\"순서6\",근무!I279,\"\"))))))","v":"주간"},{"$f":"IF(달력!$S$29=\"순서1\",근무!D279,IF(달력!$S$29=\"순서2\",근무!E279,IF(달력!$S$29=\"순서3\",근무!F279,IF(달력!$S$29=\"순서4\",근무!G279,IF(달력!$S$29=\"순서5\",근무!H279,IF(달력!$S$29=\"순서6\",근무!I279,\"\"))))))","v":"주간"},null,null,9]
[null,"2023-10-01","일",{"$f":"IF(달력!$S$24=\"순서1\",근무!D280,IF(달력!$S$24=\"순서2\",근무!E280,IF(달력!$S$24=\"순서3\",근무!F280,IF(달력!$S$24=\"순서4\",근무!G280,IF(달력!$S$24=\"순서5\",근무!H280,IF(달력!$S$24=\"순서6\",근무!I280,\"\"))))))","v":"야간"},{"$f":"IF(달력!$S$25=\"순서1\",근무!D280,IF(달력!$S$25=\"순서2\",근무!E280,IF(달력!$S$25=\"순서3\",근무!F280,IF(달력!$S$25=\"순서4\",근무!G280,IF(달력!$S$25=\"순서5\",근무!H280,IF(달력!$S$25=\"순서6\",근무!I280,\"\"))))))","v":"야간"},{"$f":"IF(달력!$S$26=\"순서1\",근무!D280,IF(달력!$S$26=\"순서2\",근무!E280,IF(달력!$S$26=\"순서3\",근무!F280,IF(달력!$S$26=\"순서4\",근무!G280,IF(달력!$S$26=\"순서5\",근무!H280,IF(달력!$S$26=\"순서6\",근무!I280,\"\"))))))","v":"비번"},{"$f":"IF(달력!$S$27=\"순서1\",근무!D280,IF(달력!$S$27=\"순서2\",근무!E280,IF(달력!$S$27=\"순서3\",근무!F280,IF(달력!$S$27=\"순서4\",근무!G280,IF(달력!$S$27=\"순서5\",근무!H280,IF(달력!$S$27=\"순서6\",근무!I280,\"\"))))))","v":"비번"},{"$f":"IF(달력!$S$28=\"순서1\",근무!D280,IF(달력!$S$28=\"순서2\",근무!E280,IF(달력!$S$28=\"순서3\",근무!F280,IF(달력!$S$28=\"순서4\",근무!G280,IF(달력!$S$28=\"순서5\",근무!H280,IF(달력!$S$28=\"순서6\",근무!I280,\"\"))))))","v":"주간"},{"$f":"IF(달력!$S$29=\"순서1\",근무!D280,IF(달력!$S$29=\"순서2\",근무!E280,IF(달력!$S$29=\"순서3\",근무!F280,IF(달력!$S$29=\"순서4\",근무!G280,IF(달력!$S$29=\"순서5\",근무!H280,IF(달력!$S$29=\"순서6\",근무!I280,\"\"))))))","v":"주간"},null,"주간",10,{"$f":"COUNTIFS(일정1내용,$K280,$L$7:$L$372,10)","v":10},{"$f":"COUNTIFS(일정2내용,$K280,$L$7:$L$372,10)","v":10},{"$f":"COUNTIFS(일정3내용,$K280,$L$7:$L$372,10)","v":10},{"$f":"COUNTIFS(일정4내용,$K280,$L$7:$L$372,10)","v":10},{"$f":"COUNTIFS(일정5내용,$K280,$L$7:$L$372,10)","v":11},{"$f":"COUNTIFS(일정6내용,$K280,$L$7:$L$372,10)","v":11}]
[null,"2023-10-02","월",{"$f":"IF(달력!$S$24=\"순서1\",근무!D281,IF(달력!$S$24=\"순서2\",근무!E281,IF(달력!$S$24=\"순서3\",근무!F281,IF(달력!$S$24=\"순서4\",근무!G281,IF(달력!$S$24=\"순서5\",근무!H281,IF(달력!$S$24=\"순서6\",근무!I281,\"\"))))))","v":"비번"},{"$f":"IF(달력!$S$25=\"순서1\",근무!D281,IF(달력!$S$25=\"순서2\",근무!E281,IF(달력!$S$25=\"순서3\",근무!F281,IF(달력!$S$25=\"순서4\",근무!G281,IF(달력!$S$25=\"순서5\",근무!H281,IF(달력!$S$25=\"순서6\",근무!I281,\"\"))))))","v":"비번"},{"$f":"IF(달력!$S$26=\"순서1\",근무!D281,IF(달력!$S$26=\"순서2\",근무!E281,IF(달력!$S$26=\"순서3\",근무!F281,IF(달력!$S$26=\"순서4\",근무!G281,IF(달력!$S$26=\"순서5\",근무!H281,IF(달력!$S$26=\"순서6\",근무!I281,\"\"))))))","v":"주간"},{"$f":"IF(달력!$S$27=\"순서1\",근무!D281,IF(달력!$S$27=\"순서2\",근무!E281,IF(달력!$S$27=\"순서3\",근무!F281,IF(달력!$S$27=\"순서4\",근무!G281,IF(달력!$S$27=\"순서5\",근무!H281,IF(달력!$S$27=\"순서6\",근무!I281,\"\"))))))","v":"주간"},{"$f":"IF(달력!$S$28=\"순서1\",근무!D281,IF(달력!$S$28=\"순서2\",근무!E281,IF(달력!$S$28=\"순서3\",근무!F281,IF(달력!$S$28=\"순서4\",근무!G281,IF(달력!$S$28=\"순서5\",근무!H281,IF(달력!$S$28=\"순서6\",근무!I281,\"\"))))))","v":"야간"},{"$f":"IF(달력!$S$29=\"순서1\",근무!D281,IF(달력!$S$29=\"순서2\",근무!E281,IF(달력!$S$29=\"순서3\",근무!F281,IF(달력!$S$29=\"순서4\",근무!G281,IF(달력!$S$29=\"순서5\",근무!H281,IF(달력!$S$29=\"순서6\",근무!I281,\"\"))))))","v":"야간"},null,"야간",10,{"$f":"COUNTIFS(일정1내용,$K281,$L$7:$L$372,10)","v":11},{"$f":"COUNTIFS(일정2내용,$K281,$L$7:$L$372,10)","v":11},{"$f":"COUNTIFS(일정3내용,$K281,$L$7:$L$372,10)","v":10},{"$f":"COUNTIFS(일정4내용,$K281,$L$7:$L$372,10)","v":10},{"$f":"COUNTIFS(일정5내용,$K281,$L$7:$L$372,10)","v":10},{"$f":"COUNTIFS(일정6내용,$K281,$L$7:$L$372,10)","v":10}]
[null,"2023-10-03","화",{"$f":"IF(달력!$S$24=\"순서1\",근무!D282,IF(달력!$S$24=\"순서2\",근무!E282,IF(달력!$S$24=\"순서3\",근무!F282,IF(달력!$S$24=\"순서4\",근무!G282,IF(달력!$S$24=\"순서5\",근무!H282,IF(달력!$S$24=\"순서6\",근무!I282,\"\"))))))","v":"비번"},{"$f":"IF(달력!$S$25=\"순서1\",근무!D282,IF(달력!$S$25=\"순서2\",근무!E282,IF(달력!$S$25=\"순서3\",근무!F282,IF(달력!$S$25=\"순서4\",근무!G282,IF(달력!$S$25=\"순서5\",근무!H282,IF(달력!$S$25=\"순서6\",근무!I282,\"\"))))))","v":"비번"},{"$f":"IF(달력!$S$26=\"순서1\",근무!D282,IF(달력!$S$26=\"순서2\",근무!E282,IF(달력!$S$26=\"순서3\",근무!F282,IF(달력!$S$26=\"순서4\",근무!G282,IF(달력!$S$26=\"순서5\",근무!H282,IF(달력!$S$26=\"순서6\",근무!I282,\"\"))))))","v":"주간"},{"$f":"IF(달력!$S$27=\"순서1\",근무!D282,IF(달력!$S$27=\"순서2\",근무!E282,IF(달력!$S$27=\"순서3\",근무!F282,IF(달력!$S$27=\"순서4\",근무!G282,IF(달력!$S$27=\"순서5\",근무!H282,IF(달력!$S$27=\"순서6\",근무!I282,\"\"))))))","v":"주간"},{"$f":"IF(달력!$S$28=\"순서1\",근무!D282,IF(달력!$S$28=\"순서2\",근무!E282,IF(달력!$S$28=\"순서3\",근무!F282,IF(달력!$S$28=\"순서4\",근무!G282,IF(달력!$S$28=\"순서5\",근무!H282,IF(달력!$S$28=\"순서6\",근무!I282,\"\"))))))","v":"야간"},{"$f":"IF(달력!$S$29=\"순서1\",근무!D282,IF(달력!$S$29=\"순서2\",근무!E282,IF(달력!$S$29=\"순서3\",근무!F282,IF(달력!$S$29=\"순서4\",근무!G282,IF(달력!$S$29=\"순서5\",근무!H282,IF(달력!$S$29=\"순서6\",근무!I282,\"\"))))))","v":"야간"},null,"비번",10,{"$f":"COUNTIFS(일정1내용,$K282,$L$7:$L$372,10)","v":10},{"$f":"COUNTIFS(일정2내용,$K282,$L$7:$L$372,10)","v":10},{"$f":"COUNTIFS(일정3내용,$K282,$L$7:$L$372,10)","v":11},{"$f":"COUNTIFS(일정4내용,$K282,$L$7:$L$372,10)","v":11},{"$f":"COUNTIFS(일정5내용,$K282,$L$7:$L$372,10)","v":10},{"$f":"COUNTIFS(일정6내용,$K282,$L$7:$L$372,10)","v":10}]
[null,"2023-10-04","수",{"$f":"IF(달력!$S$24=\"순서1\",근무!D283,IF(달력!$S$24=\"순서2\",근무!E283,IF(달력!$S$24=\"순서3\",근무!F283,IF(달력!$S$24=\"순서4\",근무!G283,IF(달력!$S$24=\"순서5\",근무!H283,IF(달력!$S$24=\"순서6\",근무!I283,\"\"))))))","v":"주간"},{"$f":"IF(달력!$S$25=\"순서1\",근무!D283,IF(달력!$S$25=\"순서2\",근무!E283,IF(달력!$S$25=\"순서3\",근무!F283,IF(달력!$S$25=\"순서4\",근무!G283,IF(달력!$S$25=\"순서5\",근무!H283,IF(달력!$S$25=\"순서6\",근무!I283,\"\"))))))","v":"주간"},{"$f":"IF(달력!$S$26=\"순서1\",근무!D283,IF(달력!$S$26=\"순서2\",근무!E283,IF(달력!$S$26=\"순서3\",근무!F283,IF(달력!$S$26=\"순서4\",근무!G283,IF(달력!$S$26=\"순서5\",근무!H283,IF(달력!$S$26=\"순서6\",근무!I283,\"\"))))))","v":"야간"},{"$f":"IF(달력!$S$27=\"순서1\",근무!D283,IF(달력!$S$27=\"순서2\",근무!E283,IF(달력!$S$27=\"순서3\",근무!F283,IF(달력!$S$27=\"순서4\",근무!G283,IF(달력!$S$27=\"순서5\",근무!H283,IF(달력!$S$27=\"순서6\",근무!I283,\"\"))))))","v":"야간"},{"$f":"IF(달력!$S$28=\"순서1\",근무!D283,IF(달력!$S$28=\"순서2\",근무!E283,IF(달력!$S$28=\"순서3\",근무!F283,IF(달력!$S$28=\"순서4\",근무!G283,IF(달력!$S$28=\"순서5\",근무!H283,IF(달력!$S$28=\"순서6\",근무!I283,\"\"))))))","v":"비번"},{"$f":"IF(달력!$S$29=\"순서1\",근무!D283,IF(달력!$S$29=\"순서2\",근무!E283,IF(달력!$S$29=\"순서3\",근무!F283,IF(달력!$S$29=\"순서4\",근무!G283,IF(달력!$S$29=\"순서5\",근무!H283,IF(달력!$S$29=\"순서6\",근무!I283,\"\"))))))","v":"비번"},null,"근무일 계",10,{"$f":"M280+M281","v":21},{"$f":"N280+N281","v":21},20,20,21,21]
[null,"2023-10-05","목",{"$f":"IF(달력!$S$24=\"순서1\",근무!D284,IF(달력!$S$24=\"순서2\",근무!E284,IF(달력!$S$24=\"순서3\",근무!F284,IF(달력!$S$24=\"순서4\",근무!G284,IF(달력!$S$24=\"순서5\",근무!H284,IF(달력!$S$24=\"순서6\",근무!I284,\"\"))))))","v":"주간"},{"$f":"IF(달력!$S$25=\"순서1\",근무!D284,IF(달력!$S$25=\"순서2\",근무!E284,IF(달력!$S$25=\"순서3\",근무!F284,IF(달력!$S$25=\"순서4\",근무!G284,IF(달력!$S$25=\"순서5\",근무!H284,IF(달력!$S$25=\"순서6\",근무!I284,\"\"))))))","v":"주간"},{"$f":"IF(달력!$S$26=\"순서1\",근무!D284,IF(달력!$S$26=\"순서2\",근무!E284,IF(달력!$S$26=\"순서3\",근무!F284,IF(달력!$S$26=\"순서4\",근무!G284,IF(달력!$S$26=\"순서5\",근무!H284,IF(달력!$S$26=\"순서6\",근무!I284,\"\"))))))","v":"야간"},{"$f":"IF(달력!$S$27=\"순서1\",근무!D284,IF(달력!$S$27=\"순서2\",근무!E284,IF(달력!$S$27=\"순서3\",근무!F284,IF(달력!$S$27=\"순서4\",근무!G284,IF(달력!$S$27=\"순서5\",근무!H284,IF(달력!$S$27=\"순서6\",근무!I284,\"\"))))))","v":"야간"},{"$f":"IF(달력!$S$28=\"순서1\",근무!D284,IF(달력!$S$28=\"순서2\",근무!E284,IF(달력!$S$28=\"순서3\",근무!F284,IF(달력!$S$28=\"순서4\",근무!G284,IF(달력!$S$28=\"순서5\",근무!H284,IF(달력!$S$28=\"순서6\",근무!I284,\"\"))))))","v":"비번"},{"$f":"IF(달력!$S$29=\"순서1\",근무!D284,IF(달력!$S$29=\"순서2\",근무!E284,IF(달력!$S$29=\"순서3\",근무!F284,IF(달력!$S$29=\"순서4\",근무!G284,IF(달력!$S$29=\"순서5\",근무!H284,IF(달력!$S$29=\"순서6\",근무!I284,\"\"))))))","v":"비번"},null,null,10]
[null,"2023-10-06","금",{"$f":"IF(달력!$S$24=\"순서1\",근무!D285,IF(달력!$S$24=\"순서2\",근무!E285,IF(달력!$S$24=\"순서3\",근무!F285,IF(달력!$S$24=\"순서4\",근무!G285,IF(달력!$S$24=\"순서5\",근무!H285,IF(달력!$S$24=\"순서6\",근무!I285,\"\"))))))","v":"야간"},{"$f":"IF(달력!$S$25=\"순서1\",근무!D285,IF(달력!$S$25=\"순서2\",근무!E285,IF(달력!$S$25=\"순서3\",근무!F285,IF(달력!$S$25=\"순서4\",근무!G285,IF(달력!$S$25=\"순서5\",근무!H285,IF(달력!$S$25=\"순서6\",근무!I285,\"\"))))))","v":"야간"},{"$f":"IF(달력!$S$26=\"순서1\",근무!D285,IF(달력!$S$26=\"순서2\",근무!E285,IF(달력!$S$26=\"순서3\",근무!F285,IF(달력!$S$26=\"순서4\",근무!G285,IF(달력!$S$26=\"순서5\",근무!H285,IF(달력!$S$26=\"순서6\",근무!I285,\"\"))))))","v":"비번"},{"$f":"IF(달력!$S$27=\"순서1\",근무!D285,IF(달력!$S$27=\"순서2\",근무!E285,IF(달력!$S$27=\"순서3\",근무!F285,IF(달력!$S$27=\"순서4\",근무!G285,IF(달력!$S$27=\"순서5\",근무!H285,IF(달력!$S$27=\"순서6\",근무!I285,\"\"))))))","v":"비번"},{"$f":"IF(달력!$S$28=\"순서1\",근무!D285,IF(달력!$S$28=\"순서2\",근무!E285,IF(달력!$S$28=\"순서3\",근무!F285,IF(달력!$S$28=\"순서4\",근무!G285,IF(달력!$S$28=\"순서5\",근무!H285,IF(달력!$S$28=\"순서6\",근무!I285,\"\"))))))","v":"주간"},{"$f":"IF(달력!$S$29=\"순서1\",근무!D285,IF(달력!$S$29=\"순서2\",근무!E285,IF(달력!$S$29=\"순서3\",근무!F285,IF(달력!$S$29=\"순서4\",근무!G285,IF(달력!$S$29=\"순서5\",근무!H285,IF(달력!$S$29=\"순서6\",근무!I285,\"\"))))))","v":"주간"},null,null,10]
[null,"2023-10-07","토",{"$f":"IF(달력!$S$24=\"순서1\",근무!D286,IF(달력!$S$24=\"순서2\",근무!E286,IF(달력!$S$24=\"순서3\",근무!F286,IF(달력!$S$24=\"순서4\",근무!G286,IF(달력!$S$24=\"순서5\",근무!H286,IF(달력!$S$24=\"순서6\",근무!I286,\"\"))))))","v":"야간"},{"$f":"IF(달력!$S$25=\"순서1\",근무!D286,IF(달력!$S$25=\"순서2\",근무!E286,IF(달력!$S$25=\"순서3\",근무!F286,IF(달력!$S$25=\"순서4\",근무!G286,IF(달력!$S$25=\"순서5\",근무!H286,IF(달력!$S$25=\"순서6\",근무!I286,\"\"))))))","v":"야간"},{"$f":"IF(달력!$S$26=\"순서1\",근무!D286,IF(달력!$S$26=\"순서2\",근무!E286,IF(달력!$S$26=\"순서3\",근무!F286,IF(달력!$S$26=\"순서4\",근무!G286,IF(달력!$S$26=\"순서5\",근무!H286,IF(달력!$S$26=\"순서6\",근무!I286,\"\"))))))","v":"비번"},{"$f":"IF(달력!$S$27=\"순서1\",근무!D286,IF(달력!$S$27=\"순서2\",근무!E286,IF(달력!$S$27=\"순서3\",근무!F286,IF(달력!$S$27=\"순서4\",근무!G286,IF(달력!$S$27=\"순서5\",근무!H286,IF(달력!$S$27=\"순서6\",근무!I286,\"\"))))))","v":"비번"},{"$f":"IF(달력!$S$28=\"순서1\",근무!D286,IF(달력!$S$28=\"순서2\",근무!E286,IF(달력!$S$28=\"순서3\",근무!F286,IF(달력!$S$28=\"순서4\",근무!G286,IF(달력!$S$28=\"순서5\",근무!H286,IF(달력!$S$28=\"순서6\",근무!I286,\"\"))))))","v":"주간"},{"$f":"IF(달력!$S$29=\"순서1\",근무!D286,IF(달력!$S$29=\"순서2\",근무!E286,IF(달력!$S$29=\"순서3\",근무!F286,IF(달력!$S$29=\"순서4\",근무!G286,IF(달력!$S$29=\"순서5\",근무!H286,IF(달력!$S$29=\"순서6\",근무!I286,\"\"))))))","v":"주간"},null,null,10]
[null,"2023-10-08","일",{"$f":"IF(달력!$S$24=\"순서1\",근무!D287,IF(달력!$S$24=\"순서2\",근무!E287,IF(달력!$S$24=\"순서3\",근무!F287,IF(달력!$S$24=\"순서4\",근무!G287,IF(달력!$S$24=\"순서5\",근무!H287,IF(달력!$S$24=\"순서6\",근무!I287,\"\"))))))","v":"비번"},{"$f":"IF(달력!$S$25=\"순서1\",근무!D287,IF(달력!$S$25=\"순서2\",근무!E287,IF(달력!$S$25=\"순서3\",근무!F287,IF(달력!$S$25=\"순서4\",근무!G287,IF(달력!$S$25=\"순서5\",근무!H287,IF(달력!$S$25=\"순서6\",근무!I287,\"\"))))))","v":"비번"},{"$f":"IF(달력!$S$26=\"순서1\",근무!D287,IF(달력!$S$26=\"순서2\",근무!E287,IF(달력!$S$26=\"순서3\",근무!F287,IF(달력!$S$26=\"순서4\",근무!G287,IF(달력!$S$26=\"순서5\",근무!H287,IF(달력!$S$26=\"순서6\",근무!I287,\"\"))))))","v":"주간"},{"$f":"IF(달력!$S$27=\"순서1\",근무!D287,IF(달력!$S$27=\"순서2\",근무!E287,IF(달력!$S$27=\"순서3\",근무!F287,IF(달력!$S$27=\"순서4\",근무!G287,IF(달력!$S$27=\"순서5\",근무!H287,IF(달력!$S$27=\"순서6\",근무!I287,\"\"))))))","v":"주간"},{"$f":"IF(달력!$S$28=\"순서1\",근무!D287,IF(달력!$S$28=\"순서2\",근무!E287,IF(달력!$S$28=\"순서3\",근무!F287,IF(달력!$S$28=\"순서4\",근무!G287,IF(달력!$S$28=\"순서5\",근무!H287,IF(달력!$S$28=\"순서6\",근무!I287,\"\"))))))","v":"야간"},{"$f":"IF(달력!$S$29=\"순서1\",근무!D287,IF(달력!$S$29=\"순서2\",근무!E287,IF(달력!$S$29=\"순서3\",근무!F287,IF(달력!$S$29=\"순서4\",근무!G287,IF(달력!$S$29=\"순서5\",근무!H287,IF(달력!$S$29=\"순서6\",근무!I287,\"\"))))))","v":"야간"},null,null,10]
[null,"2023-10-09","월",{"$f":"IF(달력!$S$24=\"순서1\",근무!D288,IF(달력!$S$24=\"순서2\",근무!E288,IF(달력!$S$24=\"순서3\",근무!F288,IF(달력!$S$24=\"순서4\",근무!G288,IF(달력!$S$24=\"순서5\",근무!H288,IF(달력!$S$24=\"순서6\",근무!I288,\"\"))))))","v":"비번"},{"$f":"IF(달력!$S$25=\"순서1\",근무!D288,IF(달력!$S$25=\"순서2\",근무!E288,IF(달력!$S$25=\"순서3\",근무!F288,IF(달력!$S$25=\"순서4\",근무!G288,IF(달력!$S$25=\"순서5\",근무!H288,IF(달력!$S$25=\"순서6\",근무!I288,\"\"))))))","v":"비번"},{"$f":"IF(달력!$S$26=\"순서1\",근무!D288,IF(달력!$S$26=\"순서2\",근무!E288,IF(달력!$S$26=\"순서3\",근무!F288,IF(달력!$S$26=\"순서4\",근무!G288,IF(달력!$S$26=\"순서5\",근무!H288,IF(달력!$S$26=\"순서6\",근무!I288,\"\"))))))","v":"주간"},{"$f":"IF(달력!$S$27=\"순서1\",근무!D288,IF(달력!$S$27=\"순서2\",근무!E288,IF(달력!$S$27=\"순서3\",근무!F288,IF(달력!$S$27=\"순서4\",근무!G288,IF(달력!$S$27=\"순서5\",근무!H288,IF(달력!$S$27=\"순서6\",근무!I288,\"\"))))))","v":"주간"},{"$f":"IF(달력!$S$28=\"순서1\",근무!D288,IF(달력!$S$28=\"순서2\",근무!E288,IF(달력!$S$28=\"순서3\",근무!F288,IF(달력!$S$28=\"순서4\",근무!G288,IF(달력!$S$28=\"순서5\",근무!H288,IF(달력!$S$28=\"순서6\",근무!I288,\"\"))))))","v":"야간"},{"$f":"IF(달력!$S$29=\"순서1\",근무!D288,IF(달력!$S$29=\"순서2\",근무!E288,IF(달력!$S$29=\"순서3\",근무!F288,IF(달력!$S$29=\"순서4\",근무!G288,IF(달력!$S$29=\"순서5\",근무!H288,IF(달력!$S$29=\"순서6\",근무!I288,\"\"))))))","v":"야간"},null,null,10]
[null,"2023-10-10","화",{"$f":"IF(달력!$S$24=\"순서1\",근무!D289,IF(달력!$S$24=\"순서2\",근무!E289,IF(달력!$S$24=\"순서3\",근무!F289,IF(달력!$S$24=\"순서4\",근무!G289,IF(달력!$S$24=\"순서5\",근무!H289,IF(달력!$S$24=\"순서6\",근무!I289,\"\"))))))","v":"주간"},{"$f":"IF(달력!$S$25=\"순서1\",근무!D289,IF(달력!$S$25=\"순서2\",근무!E289,IF(달력!$S$25=\"순서3\",근무!F289,IF(달력!$S$25=\"순서4\",근무!G289,IF(달력!$S$25=\"순서5\",근무!H289,IF(달력!$S$25=\"순서6\",근무!I289,\"\"))))))","v":"주간"},{"$f":"IF(달력!$S$26=\"순서1\",근무!D289,IF(달력!$S$26=\"순서2\",근무!E289,IF(달력!$S$26=\"순서3\",근무!F289,IF(달력!$S$26=\"순서4\",근무!G289,IF(달력!$S$26=\"순서5\",근무!H289,IF(달력!$S$26=\"순서6\",근무!I289,\"\"))))))","v":"야간"},{"$f":"IF(달력!$S$27=\"순서1\",근무!D289,IF(달력!$S$27=\"순서2\",근무!E289,IF(달력!$S$27=\"순서3\",근무!F289,IF(달력!$S$27=\"순서4\",근무!G289,IF(달력!$S$27=\"순서5\",근무!H289,IF(달력!$S$27=\"순서6\",근무!I289,\"\"))))))","v":"야간"},{"$f":"IF(달력!$S$28=\"순서1\",근무!D289,IF(달력!$S$28=\"순서2\",근무!E289,IF(달력!$S$28=\"순서3\",근무!F289,IF(달력!$S$28=\"순서4\",근무!G289,IF(달력!$S$28=\"순서5\",근무!H289,IF(달력!$S$28=\"순서6\",근무!I289,\"\"))))))","v":"비번"},{"$f":"IF(달력!$S$29=\"순서1\",근무!D289,IF(달력!$S$29=\"순서2\",근무!E289,IF(달력!$S$29=\"순서3\",근무!F289,IF(달력!$S$29=\"순서4\",근무!G289,IF(달력!$S$29=\"순서5\",근무!H289,IF(달력!$S$29=\"순서6\",근무!I289,\"\"))))))","v":"비번"},null,null,10]
[null,"2023-10-11","수",{"$f":"IF(달력!$S$24=\"순서1\",근무!D290,IF(달력!$S$24=\"순서2\",근무!E290,IF(달력!$S$24=\"순서3\",근무!F290,IF(달력!$S$24=\"순서4\",근무!G290,IF(달력!$S$24=\"순서5\",근무!H290,IF(달력!$S$24=\"순서6\",근무!I290,\"\"))))))","v":"주간"},{"$f":"IF(달력!$S$25=\"순서1\",근무!D290,IF(달력!$S$25=\"순서2\",근무!E290,IF(달력!$S$25=\"순서3\",근무!F290,IF(달력!$S$25=\"순서4\",근무!G290,IF(달력!$S$25=\"순서5\",근무!H290,IF(달력!$S$25=\"순서6\",근무!I290,\"\"))))))","v":"주간"},{"$f":"IF(달력!$S$26=\"순서1\",근무!D290,IF(달력!$S$26=\"순서2\",근무!E290,IF(달력!$S$26=\"순서3\",근무!F290,IF(달력!$S$26=\"순서4\",근무!G290,IF(달력!$S$26=\"순서5\",근무!H290,IF(달력!$S$26=\"순서6\",근무!I290,\"\"))))))","v":"야간"},{"$f":"IF(달력!$S$27=\"순서1\",근무!D290,IF(달력!$S$27=\"순서2\",근무!E290,IF(달력!$S$27=\"순서3\",근무!F290,IF(달력!$S$27=\"순서4\",근무!G290,IF(달력!$S$27=\"순서5\",근무!H290,IF(달력!$S$27=\"순서6\",근무!I290,\"\"))))))","v":"야간"},{"$f":"IF(달력!$S$28=\"순서1\",근무!D290,IF(달력!$S$28=\"순서2\",근무!E290,IF(달력!$S$28=\"순서3\",근무!F290,IF(달력!$S$28=\"순서4\",근무!G290,IF(달력!$S$28=\"순서5\",근무!H290,IF(달력!$S$28=\"순서6\",근무!I290,\"\"))))))","v":"비번"},{"$f":"IF(달력!$S$29=\"순서1\",근무!D290,IF(달력!$S$29=\"순서2\",근무!E290,IF(달력!$S$29=\"순서3\",근무!F290,IF(달력!$S$29=\"순서4\",근무!G290,IF(달력!$S$29=\"순서5\",근무!H290,IF(달력!$S$29=\"순서6\",근무!I290,\"\"))))))","v":"비번"},null,null,10]
[null,"2023-10-12","목",{"$f":"IF(달력!$S$24=\"순서1\",근무!D291,IF(달력!$S$24=\"순서2\",근무!E291,IF(달력!$S$24=\"순서3\",근무!F291,IF(달력!$S$24=\"순서4\",근무!G291,IF(달력!$S$24=\"순서5\",근무!H291,IF(달력!$S$24=\"순서6\",근무!I291,\"\"))))))","v":"야간"},{"$f":"IF(달력!$S$25=\"순서1\",근무!D291,IF(달력!$S$25=\"순서2\",근무!E291,IF(달력!$S$25=\"순서3\",근무!F291,IF(달력!$S$25=\"순서4\",근무!G291,IF(달력!$S$25=\"순서5\",근무!H291,IF(달력!$S$25=\"순서6\",근무!I291,\"\"))))))","v":"야간"},{"$f":"IF(달력!$S$26=\"순서1\",근무!D291,IF(달력!$S$26=\"순서2\",근무!E291,IF(달력!$S$26=\"순서3\",근무!F291,IF(달력!$S$26=\"순서4\",근무!G291,IF(달력!$S$26=\"순서5\",근무!H291,IF(달력!$S$26=\"순서6\",근무!I291,\"\"))))))","v":"비번"},{"$f":"IF(달력!$S$27=\"순서1\",근무!D291,IF(달력!$S$27=\"순서2\",근무!E291,IF(달력!$S$27=\"순서3\",근무!F291,IF(달력!$S$27=\"순서4\",근무!G291,IF(달력!$S$27=\"순서5\",근무!H291,IF(달력!$S$27=\"순서6\",근무!I291,\"\"))))))","v":"비번"},{"$f":"IF(달력!$S$28=\"순서1\",근무!D291,IF(달력!$S$28=\"순서2\",근무!E291,IF(달력!$S$28=\"순서3\",근무!F291,IF(달력!$S$28=\"순서4\",근무!G291,IF(달력!$S$28=\"순서5\",근무!H291,IF(달력!$S$28=\"순서6\",근무!I291,\"\"))))))","v":"주간"},{"$f":"IF(달력!$S$29=\"순서1\",근무!D291,IF(달력!$S$29=\"순서2\",근무!E291,IF(달력!$S$29=\"순서3\",근무!F291,IF(달력!$S$29=\"순서4\",근무!G291,IF(달력!$S$29=\"순서5\",근무!H291,IF(달력!$S$29=\"순서6\",근무!I291,\"\"))))))","v":"주간"},null,null,10]
[null,"2023-10-13","금",{"$f":"IF(달력!$S$24=\"순서1\",근무!D292,IF(달력!$S$24=\"순서2\",근무!E292,IF(달력!$S$24=\"순서3\",근무!F292,IF(달력!$S$24=\"순서4\",근무!G292,IF(달력!$S$24=\"순서5\",근무!H292,IF(달력!$S$24=\"순서6\",근무!I292,\"\"))))))","v":"야간"},{"$f":"IF(달력!$S$25=\"순서1\",근무!D292,IF(달력!$S$25=\"순서2\",근무!E292,IF(달력!$S$25=\"순서3\",근무!F292,IF(달력!$S$25=\"순서4\",근무!G292,IF(달력!$S$25=\"순서5\",근무!H292,IF(달력!$S$25=\"순서6\",근무!I292,\"\"))))))","v":"야간"},{"$f":"IF(달력!$S$26=\"순서1\",근무!D292,IF(달력!$S$26=\"순서2\",근무!E292,IF(달력!$S$26=\"순서3\",근무!F292,IF(달력!$S$26=\"순서4\",근무!G292,IF(달력!$S$26=\"순서5\",근무!H292,IF(달력!$S$26=\"순서6\",근무!I292,\"\"))))))","v":"비번"},{"$f":"IF(달력!$S$27=\"순서1\",근무!D292,IF(달력!$S$27=\"순서2\",근무!E292,IF(달력!$S$27=\"순서3\",근무!F292,IF(달력!$S$27=\"순서4\",근무!G292,IF(달력!$S$27=\"순서5\",근무!H292,IF(달력!$S$27=\"순서6\",근무!I292,\"\"))))))","v":"비번"},{"$f":"IF(달력!$S$28=\"순서1\",근무!D292,IF(달력!$S$28=\"순서2\",근무!E292,IF(달력!$S$28=\"순서3\",근무!F292,IF(달력!$S$28=\"순서4\",근무!G292,IF(달력!$S$28=\"순서5\",근무!H292,IF(달력!$S$28=\"순서6\",근무!I292,\"\"))))))","v":"주간"},{"$f":"IF(달력!$S$29=\"순서1\",근무!D292,IF(달력!$S$29=\"순서2\",근무!E292,IF(달력!$S$29=\"순서3\",근무!F292,IF(달력!$S$29=\"순서4\",근무!G292,IF(달력!$S$29=\"순서5\",근무!H292,IF(달력!$S$29=\"순서6\",근무!I292,\"\"))))))","v":"주간"},null,null,10]
[null,"2023-10-14","토",{"$f":"IF(달력!$S$24=\"순서1\",근무!D293,IF(달력!$S$24=\"순서2\",근무!E293,IF(달력!$S$24=\"순서3\",근무!F293,IF(달력!$S$24=\"순서4\",근무!G293,IF(달력!$S$24=\"순서5\",근무!H293,IF(달력!$S$24=\"순서6\",근무!I293,\"\"))))))","v":"비번"},{"$f":"IF(달력!$S$25=\"순서1\",근무!D293,IF(달력!$S$25=\"순서2\",근무!E293,IF(달력!$S$25=\"순서3\",근무!F293,IF(달력!$S$25=\"순서4\",근무!G293,IF(달력!$S$25=\"순서5\",근무!H293,IF(달력!$S$25=\"순서6\",근무!I293,\"\"))))))","v":"비번"},{"$f":"IF(달력!$S$26=\"순서1\",근무!D293,IF(달력!$S$26=\"순서2\",근무!E293,IF(달력!$S$26=\"순서3\",근무!F293,IF(달력!$S$26=\"순서4\",근무!G293,IF(달력!$S$26=\"순서5\",근무!H293,IF(달력!$S$26=\"순서6\",근무!I293,\"\"))))))","v":"주간"},{"$f":"IF(달력!$S$27=\"순서1\",근무!D293,IF(달력!$S$27=\"순서2\",근무!E293,IF(달력!$S$27=\"순서3\",근무!F293,IF(달력!$S$27=\"순서4\",근무!G293,IF(달력!$S$27=\"순서5\",근무!H293,IF(달력!$S$27=\"순서6\",근무!I293,\"\"))))))","v":"주간"},{"$f":"IF(달력!$S$28=\"순서1\",근무!D293,IF(달력!$S$28=\"순서2\",근무!E293,IF(달력!$S$28=\"순서3\",근무!F293,IF(달력!$S$28=\"순서4\",근무!G293,IF(달력!$S$28=\"순서5\",근무!H293,IF(달력!$S$28=\"순서6\",근무!I293,\"\"))))))","v":"야간"},{"$f":"IF(달력!$S$29=\"순서1\",근무!D293,IF(달력!$S$29=\"순서2\",근무!E293,IF(달력!$S$29=\"순서3\",근무!F293,IF(달력!$S$29=\"순서4\",근무!G293,IF(달력!$S$29=\"순서5\",근무!H293,IF(달력!$S$29=\"순서6\",근무!I293,\"\"))))))","v":"야간"},null,null,10]
[null,"2023-10-15","일",{"$f":"IF(달력!$S$24=\"순서1\",근무!D294,IF(달력!$S$24=\"순서2\",근무!E294,IF(달력!$S$24=\"순서3\",근무!F294,IF(달력!$S$24=\"순서4\",근무!G294,IF(달력!$S$24=\"순서5\",근무!H294,IF(달력!$S$24=\"순서6\",근무!I294,\"\"))))))","v":"비번"},{"$f":"IF(달력!$S$25=\"순서1\",근무!D294,IF(달력!$S$25=\"순서2\",근무!E294,IF(달력!$S$25=\"순서3\",근무!F294,IF(달력!$S$25=\"순서4\",근무!G294,IF(달력!$S$25=\"순서5\",근무!H294,IF(달력!$S$25=\"순서6\",근무!I294,\"\"))))))","v":"비번"},{"$f":"IF(달력!$S$26=\"순서1\",근무!D294,IF(달력!$S$26=\"순서2\",근무!E294,IF(달력!$S$26=\"순서3\",근무!F294,IF(달력!$S$26=\"순서4\",근무!G294,IF(달력!$S$26=\"순서5\",근무!H294,IF(달력!$S$26=\"순서6\",근무!I294,\"\"))))))","v":"주간"},{"$f":"IF(달력!$S$27=\"순서1\",근무!D294,IF(달력!$S$27=\"순서2\",근무!E294,IF(달력!$S$27=\"순서3\",근무!F294,IF(달력!$S$27=\"순서4\",근무!G294,IF(달력!$S$27=\"순서5\",근무!H294,IF(달력!$S$27=\"순서6\",근무!I294,\"\"))))))","v":"주간"},{"$f":"IF(달력!$S$28=\"순서1\",근무!D294,IF(달력!$S$28=\"순서2\",근무!E294,IF(달력!$S$28=\"순서3\",근무!F294,IF(달력!$S$28=\"순서4\",근무!G294,IF(달력!$S$28=\"순서5\",근무!H294,IF(달력!$S$28=\"순서6\",근무!I294,\"\"))))))","v":"야간"},{"$f":"IF(달력!$S$29=\"순서1\",근무!D294,IF(달력!$S$29=\"순서2\",근무!E294,IF(달력!$S$29=\"순서3\",근무!F294,IF(달력!$S$29=\"순서4\",근무!G294,IF(달력!$S$29=\"순서5\",근무!H294,IF(달력!$S$29=\"순서6\",근무!I294,\"\"))))))","v":"야간"},null,null,10]
[null,"2023-10-16","월",{"$f":"IF(달력!$S$24=\"순서1\",근무!D295,IF(달력!$S$24=\"순서2\",근무!E295,IF(달력!$S$24=\"순서3\",근무!F295,IF(달력!$S$24=\"순서4\",근무!G295,IF(달력!$S$24=\"순서5\",근무!H295,IF(달력!$S$24=\"순서6\",근무!I295,\"\"))))))","v":"주간"},{"$f":"IF(달력!$S$25=\"순서1\",근무!D295,IF(달력!$S$25=\"순서2\",근무!E295,IF(달력!$S$25=\"순서3\",근무!F295,IF(달력!$S$25=\"순서4\",근무!G295,IF(달력!$S$25=\"순서5\",근무!H295,IF(달력!$S$25=\"순서6\",근무!I295,\"\"))))))","v":"주간"},{"$f":"IF(달력!$S$26=\"순서1\",근무!D295,IF(달력!$S$26=\"순서2\",근무!E295,IF(달력!$S$26=\"순서3\",근무!F295,IF(달력!$S$26=\"순서4\",근무!G295,IF(달력!$S$26=\"순서5\",근무!H295,IF(달력!$S$26=\"순서6\",근무!I295,\"\"))))))","v":"야간"},{"$f":"IF(달력!$S$27=\"순서1\",근무!D295,IF(달력!$S$27=\"순서2\",근무!E295,IF(달력!$S$27=\"순서3\",근무!F295,IF(달력!$S$27=\"순서4\",근무!G295,IF(달력!$S$27=\"순서5\",근무!H295,IF(달력!$S$27=\"순서6\",근무!I295,\"\"))))))","v":"야간"},{"$f":"IF(달력!$S$28=\"순서1\",근무!D295,IF(달력!$S$28=\"순서2\",근무!E295,IF(달력!$S$28=\"순서3\",근무!F295,IF(달력!$S$28=\"순서4\",근무!G295,IF(달력!$S$28=\"순서5\",근무!H295,IF(달력!$S$28=\"순서6\",근무!I295,\"\"))))))","v":"비번"},{"$f":"IF(달력!$S$29=\"순서1\",근무!D295,IF(달력!$S$29=\"순서2\",근무!E295,IF(달력!$S$29=\"순서3\",근무!F295,IF(달력!$S$29=\"순서4\",근무!G295,IF(달력!$S$29=\"순서5\",근무!H295,IF(달력!$S$29=\"순서6\",근무!I295,\"\"))))))","v":"비번"},null,null,10]
[null,"2023-10-17","화",{"$f":"IF(달력!$S$24=\"순서1\",근무!D296,IF(달력!$S$24=\"순서2\",근무!E296,IF(달력!$S$24=\"순서3\",근무!F296,IF(달력!$S$24=\"순서4\",근무!G296,IF(달력!$S$24=\"순서5\",근무!H296,IF(달력!$S$24=\"순서6\",근무!I296,\"\"))))))","v":"주간"},{"$f":"IF(달력!$S$25=\"순서1\",근무!D296,IF(달력!$S$25=\"순서2\",근무!E296,IF(달력!$S$25=\"순서3\",근무!F296,IF(달력!$S$25=\"순서4\",근무!G296,IF(달력!$S$25=\"순서5\",근무!H296,IF(달력!$S$25=\"순서6\",근무!I296,\"\"))))))","v":"주간"},{"$f":"IF(달력!$S$26=\"순서1\",근무!D296,IF(달력!$S$26=\"순서2\",근무!E296,IF(달력!$S$26=\"순서3\",근무!F296,IF(달력!$S$26=\"순서4\",근무!G296,IF(달력!$S$26=\"순서5\",근무!H296,IF(달력!$S$26=\"순서6\",근무!I296,\"\"))))))","v":"야간"},{"$f":"IF(달력!$S$27=\"순서1\",근무!D296,IF(달력!$S$27=\"순서2\",근무!E296,IF(달력!$S$27=\"순서3\",근무!F296,IF(달력!$S$27=\"순서4\",근무!G296,IF(달력!$S$27=\"순서5\",근무!H296,IF(달력!$S$27=\"순서6\",근무!I296,\"\"))))))","v":"야간"},{"$f":"IF(달력!$S$28=\"순서1\",근무!D296,IF(달력!$S$28=\"순서2\",근무!E296,IF(달력!$S$28=\"순서3\",근무!F296,IF(달력!$S$28=\"순서4\",근무!G296,IF(달력!$S$28=\"순서5\",근무!H296,IF(달력!$S$28=\"순서6\",근무!I296,\"\"))))))","v":"비번"},{"$f":"IF(달력!$S$29=\"순서1\",근무!D296,IF(달력!$S$29=\"순서2\",근무!E296,IF(달력!$S$29=\"순서3\",근무!F296,IF(달력!$S$29=\"순서4\",근무!G296,IF(달력!$S$29=\"순서5\",근무!H296,IF(달력!$S$29=\"순서6\",근무!I296,\"\"))))))","v":"비번"},null,null,10]
[null,"2023-10-18","수",{"$f":"IF(달력!$S$24=\"순서1\",근무!D297,IF(달력!$S$24=\"순서2\",근무!E297,IF(달력!$S$24=\"순서3\",근무!F297,IF(달력!$S$24=\"순서4\",근무!G297,IF(달력!$S$24=\"순서5\",근무!H297,IF(달력!$S$24=\"순서6\",근무!I297,\"\"))))))","v":"야간"},{"$f":"IF(달력!$S$25=\"순서1\",근무!D297,IF(달력!$S$25=\"순서2\",근무!E297,IF(달력!$S$25=\"순서3\",근무!F297,IF(달력!$S$25=\"순서4\",근무!G297,IF(달력!$S$25=\"순서5\",근무!H297,IF(달력!$S$25=\"순서6\",근무!I297,\"\"))))))","v":"야간"},{"$f":"IF(달력!$S$26=\"순서1\",근무!D297,IF(달력!$S$26=\"순서2\",근무!E297,IF(달력!$S$26=\"순서3\",근무!F297,IF(달력!$S$26=\"순서4\",근무!G297,IF(달력!$S$26=\"순서5\",근무!H297,IF(달력!$S$26=\"순서6\",근무!I297,\"\"))))))","v":"비번"},{"$f":"IF(달력!$S$27=\"순서1\",근무!D297,IF(달력!$S$27=\"순서2\",근무!E297,IF(달력!$S$27=\"순서3\",근무!F297,IF(달력!$S$27=\"순서4\",근무!G297,IF(달력!$S$27=\"순서5\",근무!H297,IF(달력!$S$27=\"순서6\",근무!I297,\"\"))))))","v":"비번"},{"$f":"IF(달력!$S$28=\"순서1\",근무!D297,IF(달력!$S$28=\"순서2\",근무!E297,IF(달력!$S$28=\"순서3\",근무!F297,IF(달력!$S$28=\"순서4\",근무!G297,IF(달력!$S$28=\"순서5\",근무!H297,IF(달력!$S$28=\"순서6\",근무!I297,\"\"))))))","v":"주간"},{"$f":"IF(달력!$S$29=\"순서1\",근무!D297,IF(달력!$S$29=\"순서2\",근무!E297,IF(달력!$S$29=\"순서3\",근무!F297,IF(달력!$S$29=\"순서4\",근무!G297,IF(달력!$S$29=\"순서5\",근무!H297,IF(달력!$S$29=\"순서6\",근무!I297,\"\"))))))","v":"주간"},null,null,10]
[null,"2023-10-19","목",{"$f":"IF(달력!$S$24=\"순서1\",근무!D298,IF(달력!$S$24=\"순서2\",근무!E298,IF(달력!$S$24=\"순서3\",근무!F298,IF(달력!$S$24=\"순서4\",근무!G298,IF(달력!$S$24=\"순서5\",근무!H298,IF(달력!$S$24=\"순서6\",근무!I298,\"\"))))))","v":"야간"},{"$f":"IF(달력!$S$25=\"순서1\",근무!D298,IF(달력!$S$25=\"순서2\",근무!E298,IF(달력!$S$25=\"순서3\",근무!F298,IF(달력!$S$25=\"순서4\",근무!G298,IF(달력!$S$25=\"순서5\",근무!H298,IF(달력!$S$25=\"순서6\",근무!I298,\"\"))))))","v":"야간"},{"$f":"IF(달력!$S$26=\"순서1\",근무!D298,IF(달력!$S$26=\"순서2\",근무!E298,IF(달력!$S$26=\"순서3\",근무!F298,IF(달력!$S$26=\"순서4\",근무!G298,IF(달력!$S$26=\"순서5\",근무!H298,IF(달력!$S$26=\"순서6\",근무!I298,\"\"))))))","v":"비번"},{"$f":"IF(달력!$S$27=\"순서1\",근무!D298,IF(달력!$S$27=\"순서2\",근무!E298,IF(달력!$S$27=\"순서3\",근무!F298,IF(달력!$S$27=\"순서4\",근무!G298,IF(달력!$S$27=\"순서5\",근무!H298,IF(달력!$S$27=\"순서6\",근무!I298,\"\"))))))","v":"비번"},{"$f":"IF(달력!$S$28=\"순서1\",근무!D298,IF(달력!$S$28=\"순서2\",근무!E298,IF(달력!$S$28=\"순서3\",근무!F298,IF(달력!$S$28=\"순서4\",근무!G298,IF(달력!$S$28=\"순서5\",근무!H298,IF(달력!$S$28=\"순서6\",근무!I298,\"\"))))))","v":"주간"},{"$f":"IF(달력!$S$29=\"순서1\",근무!D298,IF(달력!$S$29=\"순서2\",근무!E298,IF(달력!$S$29=\"순서3\",근무!F298,IF(달력!$S$29=\"순서4\",근무!G298,IF(달력!$S$29=\"순서5\",근무!H298,IF(달력!$S$29=\"순서6\",근무!I298,\"\"))))))","v":"주간"},null,null,10]
[null,"2023-10-20","금",{"$f":"IF(달력!$S$24=\"순서1\",근무!D299,IF(달력!$S$24=\"순서2\",근무!E299,IF(달력!$S$24=\"순서3\",근무!F299,IF(달력!$S$24=\"순서4\",근무!G299,IF(달력!$S$24=\"순서5\",근무!H299,IF(달력!$S$24=\"순서6\",근무!I299,\"\"))))))","v":"비번"},{"$f":"IF(달력!$S$25=\"순서1\",근무!D299,IF(달력!$S$25=\"순서2\",근무!E299,IF(달력!$S$25=\"순서3\",근무!F299,IF(달력!$S$25=\"순서4\",근무!G299,IF(달력!$S$25=\"순서5\",근무!H299,IF(달력!$S$25=\"순서6\",근무!I299,\"\"))))))","v":"비번"},{"$f":"IF(달력!$S$26=\"순서1\",근무!D299,IF(달력!$S$26=\"순서2\",근무!E299,IF(달력!$S$26=\"순서3\",근무!F299,IF(달력!$S$26=\"순서4\",근무!G299,IF(달력!$S$26=\"순서5\",근무!H299,IF(달력!$S$26=\"순서6\",근무!I299,\"\"))))))","v":"주간"},{"$f":"IF(달력!$S$27=\"순서1\",근무!D299,IF(달력!$S$27=\"순서2\",근무!E299,IF(달력!$S$27=\"순서3\",근무!F299,IF(달력!$S$27=\"순서4\",근무!G299,IF(달력!$S$27=\"순서5\",근무!H299,IF(달력!$S$27=\"순서6\",근무!I299,\"\"))))))","v":"주간"},{"$f":"IF(달력!$S$28=\"순서1\",근무!D299,IF(달력!$S$28=\"순서2\",근무!E299,IF(달력!$S$28=\"순서3\",근무!F299,IF(달력!$S$28=\"순서4\",근무!G299,IF(달력!$S$28=\"순서5\",근무!H299,IF(달력!$S$28=\"순서6\",근무!I299,\"\"))))))","v":"야간"},{"$f":"IF(달력!$S$29=\"순서1\",근무!D299,IF(달력!$S$29=\"순서2\",근무!E299,IF(달력!$S$29=\"순서3\",근무!F299,IF(달력!$S$29=\"순서4\",근무!G299,IF(달력!$S$29=\"순서5\",근무!H299,IF(달력!$S$29=\"순서6\",근무!I299,\"\"))))))","v":"야간"},null,null,10]
[null,"2023-10-21","토",{"$f":"IF(달력!$S$24=\"순서1\",근무!D300,IF(달력!$S$24=\"순서2\",근무!E300,IF(달력!$S$24=\"순서3\",근무!F300,IF(달력!$S$24=\"순서4\",근무!G300,IF(달력!$S$24=\"순서5\",근무!H300,IF(달력!$S$24=\"순서6\",근무!I300,\"\"))))))","v":"비번"},{"$f":"IF(달력!$S$25=\"순서1\",근무!D300,IF(달력!$S$25=\"순서2\",근무!E300,IF(달력!$S$25=\"순서3\",근무!F300,IF(달력!$S$25=\"순서4\",근무!G300,IF(달력!$S$25=\"순서5\",근무!H300,IF(달력!$S$25=\"순서6\",근무!I300,\"\"))))))","v":"비번"},{"$f":"IF(달력!$S$26=\"순서1\",근무!D300,IF(달력!$S$26=\"순서2\",근무!E300,IF(달력!$S$26=\"순서3\",근무!F300,IF(달력!$S$26=\"순서4\",근무!G300,IF(달력!$S$26=\"순서5\",근무!H300,IF(달력!$S$26=\"순서6\",근무!I300,\"\"))))))","v":"주간"},{"$f":"IF(달력!$S$27=\"순서1\",근무!D300,IF(달력!$S$27=\"순서2\",근무!E300,IF(달력!$S$27=\"순서3\",근무!F300,IF(달력!$S$27=\"순서4\",근무!G300,IF(달력!$S$27=\"순서5\",근무!H300,IF(달력!$S$27=\"순서6\",근무!I300,\"\"))))))","v":"주간"},{"$f":"IF(달력!$S$28=\"순서1\",근무!D300,IF(달력!$S$28=\"순서2\",근무!E300,IF(달력!$S$28=\"순서3\",근무!F300,IF(달력!$S$28=\"순서4\",근무!G300,IF(달력!$S$28=\"순서5\",근무!H300,IF(달력!$S$28=\"순서6\",근무!I300,\"\"))))))","v":"야간"},{"$f":"IF(달력!$S$29=\"순서1\",근무!D300,IF(달력!$S$29=\"순서2\",근무!E300,IF(달력!$S$29=\"순서3\",근무!F300,IF(달력!$S$29=\"순서4\",근무!G300,IF(달력!$S$29=\"순서5\",근무!H300,IF(달력!$S$29=\"순서6\",근무!I300,\"\"))))))","v":"야간"},null,null,10]
[null,"2023-10-22","일",{"$f":"IF(달력!$S$24=\"순서1\",근무!D301,IF(달력!$S$24=\"순서2\",근무!E301,IF(달력!$S$24=\"순서3\",근무!F301,IF(달력!$S$24=\"순서4\",근무!G301,IF(달력!$S$24=\"순서5\",근무!H301,IF(달력!$S$24=\"순서6\",근무!I301,\"\"))))))","v":"주간"},{"$f":"IF(달력!$S$25=\"순서1\",근무!D301,IF(달력!$S$25=\"순서2\",근무!E301,IF(달력!$S$25=\"순서3\",근무!F301,IF(달력!$S$25=\"순서4\",근무!G301,IF(달력!$S$25=\"순서5\",근무!H301,IF(달력!$S$25=\"순서6\",근무!I301,\"\"))))))","v":"주간"},{"$f":"IF(달력!$S$26=\"순서1\",근무!D301,IF(달력!$S$26=\"순서2\",근무!E301,IF(달력!$S$26=\"순서3\",근무!F301,IF(달력!$S$26=\"순서4\",근무!G301,IF(달력!$S$26=\"순서5\",근무!H301,IF(달력!$S$26=\"순서6\",근무!I301,\"\"))))))","v":"야간"},{"$f":"IF(달력!$S$27=\"순서1\",근무!D301,IF(달력!$S$27=\"순서2\",근무!E301,IF(달력!$S$27=\"순서3\",근무!F301,IF(달력!$S$27=\"순서4\",근무!G301,IF(달력!$S$27=\"순서5\",근무!H301,IF(달력!$S$27=\"순서6\",근무!I301,\"\"))))))","v":"야간"},{"$f":"IF(달력!$S$28=\"순서1\",근무!D301,IF(달력!$S$28=\"순서2\",근무!E301,IF(달력!$S$28=\"순서3\",근무!F301,IF(달력!$S$28=\"순서4\",근무!G301,IF(달력!$S$28=\"순서5\",근무!H301,IF(달력!$S$28=\"순서6\",근무!I301,\"\"))))))","v":"비번"},{"$f":"IF(달력!$S$29=\"순서1\",근무!D301,IF(달력!$S$29=\"순서2\",근무!E301,IF(달력!$S$29=\"순서3\",근무!F301,IF(달력!$S$29=\"순서4\",근무!G301,IF(달력!$S$29=\"순서5\",근무!H301,IF(달력!$S$29=\"순서6\",근무!I301,\"\"))))))","v":"비번"},null,null,10]
[null,"2023-10-23","월",{"$f":"IF(달력!$S$24=\"순서1\",근무!D302,IF(달력!$S$24=\"순서2\",근무!E302,IF(달력!$S$24=\"순서3\",근무!F302,IF(달력!$S$24=\"순서4\",근무!G302,IF(달력!$S$24=\"순서5\",근무!H302,IF(달력!$S$24=\"순서6\",근무!I302,\"\"))))))","v":"주간"},{"$f":"IF(달력!$S$25=\"순서1\",근무!D302,IF(달력!$S$25=\"순서2\",근무!E302,IF(달력!$S$25=\"순서3\",근무!F302,IF(달력!$S$25=\"순서4\",근무!G302,IF(달력!$S$25=\"순서5\",근무!H302,IF(달력!$S$25=\"순서6\",근무!I302,\"\"))))))","v":"주간"},{"$f":"IF(달력!$S$26=\"순서1\",근무!D302,IF(달력!$S$26=\"순서2\",근무!E302,IF(달력!$S$26=\"순서3\",근무!F302,IF(달력!$S$26=\"순서4\",근무!G302,IF(달력!$S$26=\"순서5\",근무!H302,IF(달력!$S$26=\"순서6\",근무!I302,\"\"))))))","v":"야간"},{"$f":"IF(달력!$S$27=\"순서1\",근무!D302,IF(달력!$S$27=\"순서2\",근무!E302,IF(달력!$S$27=\"순서3\",근무!F302,IF(달력!$S$27=\"순서4\",근무!G302,IF(달력!$S$27=\"순서5\",근무!H302,IF(달력!$S$27=\"순서6\",근무!I302,\"\"))))))","v":"야간"},{"$f":"IF(달력!$S$28=\"순서1\",근무!D302,IF(달력!$S$28=\"순서2\",근무!E302,IF(달력!$S$28=\"순서3\",근무!F302,IF(달력!$S$28=\"순서4\",근무!G302,IF(달력!$S$28=\"순서5\",근무!H302,IF(달력!$S$28=\"순서6\",근무!I302,\"\"))))))","v":"비번"},{"$f":"IF(달력!$S$29=\"순서1\",근무!D302,IF(달력!$S$29=\"순서2\",근무!E302,IF(달력!$S$29=\"순서3\",근무!F302,IF(달력!$S$29=\"순서4\",근무!G302,IF(달력!$S$29=\"순서5\",근무!H302,IF(달력!$S$29=\"순서6\",근무!I302,\"\"))))))","v":"비번"},null,null,10]
[null,"2023-10-24","화",{"$f":"IF(달력!$S$24=\"순서1\",근무!D303,IF(달력!$S$24=\"순서2\",근무!E303,IF(달력!$S$24=\"순서3\",근무!F303,IF(달력!$S$24=\"순서4\",근무!G303,IF(달력!$S$24=\"순서5\",근무!H303,IF(달력!$S$24=\"순서6\",근무!I303,\"\"))))))","v":"야간"},{"$f":"IF(달력!$S$25=\"순서1\",근무!D303,IF(달력!$S$25=\"순서2\",근무!E303,IF(달력!$S$25=\"순서3\",근무!F303,IF(달력!$S$25=\"순서4\",근무!G303,IF(달력!$S$25=\"순서5\",근무!H303,IF(달력!$S$25=\"순서6\",근무!I303,\"\"))))))","v":"야간"},{"$f":"IF(달력!$S$26=\"순서1\",근무!D303,IF(달력!$S$26=\"순서2\",근무!E303,IF(달력!$S$26=\"순서3\",근무!F303,IF(달력!$S$26=\"순서4\",근무!G303,IF(달력!$S$26=\"순서5\",근무!H303,IF(달력!$S$26=\"순서6\",근무!I303,\"\"))))))","v":"비번"},{"$f":"IF(달력!$S$27=\"순서1\",근무!D303,IF(달력!$S$27=\"순서2\",근무!E303,IF(달력!$S$27=\"순서3\",근무!F303,IF(달력!$S$27=\"순서4\",근무!G303,IF(달력!$S$27=\"순서5\",근무!H303,IF(달력!$S$27=\"순서6\",근무!I303,\"\"))))))","v":"비번"},{"$f":"IF(달력!$S$28=\"순서1\",근무!D303,IF(달력!$S$28=\"순서2\",근무!E303,IF(달력!$S$28=\"순서3\",근무!F303,IF(달력!$S$28=\"순서4\",근무!G303,IF(달력!$S$28=\"순서5\",근무!H303,IF(달력!$S$28=\"순서6\",근무!I303,\"\"))))))","v":"주간"},{"$f":"IF(달력!$S$29=\"순서1\",근무!D303,IF(달력!$S$29=\"순서2\",근무!E303,IF(달력!$S$29=\"순서3\",근무!F303,IF(달력!$S$29=\"순서4\",근무!G303,IF(달력!$S$29=\"순서5\",근무!H303,IF(달력!$S$29=\"순서6\",근무!I303,\"\"))))))","v":"주간"},null,null,10]
[null,"2023-10-25","수",{"$f":"IF(달력!$S$24=\"순서1\",근무!D304,IF(달력!$S$24=\"순서2\",근무!E304,IF(달력!$S$24=\"순서3\",근무!F304,IF(달력!$S$24=\"순서4\",근무!G304,IF(달력!$S$24=\"순서5\",근무!H304,IF(달력!$S$24=\"순서6\",근무!I304,\"\"))))))","v":"야간"},{"$f":"IF(달력!$S$25=\"순서1\",근무!D304,IF(달력!$S$25=\"순서2\",근무!E304,IF(달력!$S$25=\"순서3\",근무!F304,IF(달력!$S$25=\"순서4\",근무!G304,IF(달력!$S$25=\"순서5\",근무!H304,IF(달력!$S$25=\"순서6\",근무!I304,\"\"))))))","v":"야간"},{"$f":"IF(달력!$S$26=\"순서1\",근무!D304,IF(달력!$S$26=\"순서2\",근무!E304,IF(달력!$S$26=\"순서3\",근무!F304,IF(달력!$S$26=\"순서4\",근무!G304,IF(달력!$S$26=\"순서5\",근무!H304,IF(달력!$S$26=\"순서6\",근무!I304,\"\"))))))","v":"비번"},{"$f":"IF(달력!$S$27=\"순서1\",근무!D304,IF(달력!$S$27=\"순서2\",근무!E304,IF(달력!$S$27=\"순서3\",근무!F304,IF(달력!$S$27=\"순서4\",근무!G304,IF(달력!$S$27=\"순서5\",근무!H304,IF(달력!$S$27=\"순서6\",근무!I304,\"\"))))))","v":"비번"},{"$f":"IF(달력!$S$28=\"순서1\",근무!D304,IF(달력!$S$28=\"순서2\",근무!E304,IF(달력!$S$28=\"순서3\",근무!F304,IF(달력!$S$28=\"순서4\",근무!G304,IF(달력!$S$28=\"순서5\",근무!H304,IF(달력!$S$28=\"순서6\",근무!I304,\"\"))))))","v":"주간"},{"$f":"IF(달력!$S$29=\"순서1\",근무!D304,IF(달력!$S$29=\"순서2\",근무!E304,IF(달력!$S$29=\"순서3\",근무!F304,IF(달력!$S$29=\"순서4\",근무!G304,IF(달력!$S$29=\"순서5\",근무!H304,IF(달력!$S$29=\"순서6\",근무!I304,\"\"))))))","v":"주간"},null,null,10]
[null,"2023-10-26","목",{"$f":"IF(달력!$S$24=\"순서1\",근무!D305,IF(달력!$S$24=\"순서2\",근무!E305,IF(달력!$S$24=\"순서3\",근무!F305,IF(달력!$S$24=\"순서4\",근무!G305,IF(달력!$S$24=\"순서5\",근무!H305,IF(달력!$S$24=\"순서6\",근무!I305,\"\"))))))","v":"비번"},{"$f":"IF(달력!$S$25=\"순서1\",근무!D305,IF(달력!$S$25=\"순서2\",근무!E305,IF(달력!$S$25=\"순서3\",근무!F305,IF(달력!$S$25=\"순서4\",근무!G305,IF(달력!$S$25=\"순서5\",근무!H305,IF(달력!$S$25=\"순서6\",근무!I305,\"\"))))))","v":"비번"},{"$f":"IF(달력!$S$26=\"순서1\",근무!D305,IF(달력!$S$26=\"순서2\",근무!E305,IF(달력!$S$26=\"순서3\",근무!F305,IF(달력!$S$26=\"순서4\",근무!G305,IF(달력!$S$26=\"순서5\",근무!H305,IF(달력!$S$26=\"순서6\",근무!I305,\"\"))))))","v":"주간"},{"$f":"IF(달력!$S$27=\"순서1\",근무!D305,IF(달력!$S$27=\"순서2\",근무!E305,IF(달력!$S$27=\"순서3\",근무!F305,IF(달력!$S$27=\"순서4\",근무!G305,IF(달력!$S$27=\"순서5\",근무!H305,IF(달력!$S$27=\"순서6\",근무!I305,\"\"))))))","v":"주간"},{"$f":"IF(달력!$S$28=\"순서1\",근무!D305,IF(달력!$S$28=\"순서2\",근무!E305,IF(달력!$S$28=\"순서3\",근무!F305,IF(달력!$S$28=\"순서4\",근무!G305,IF(달력!$S$28=\"순서5\",근무!H305,IF(달력!$S$28=\"순서6\",근무!I305,\"\"))))))","v":"야간"},{"$f":"IF(달력!$S$29=\"순서1\",근무!D305,IF(달력!$S$29=\"순서2\",근무!E305,IF(달력!$S$29=\"순서3\",근무!F305,IF(달력!$S$29=\"순서4\",근무!G305,IF(달력!$S$29=\"순서5\",근무!H305,IF(달력!$S$29=\"순서6\",근무!I305,\"\"))))))","v":"야간"},null,null,10]
[null,"2023-10-27","금",{"$f":"IF(달력!$S$24=\"순서1\",근무!D306,IF(달력!$S$24=\"순서2\",근무!E306,IF(달력!$S$24=\"순서3\",근무!F306,IF(달력!$S$24=\"순서4\",근무!G306,IF(달력!$S$24=\"순서5\",근무!H306,IF(달력!$S$24=\"순서6\",근무!I306,\"\"))))))","v":"비번"},{"$f":"IF(달력!$S$25=\"순서1\",근무!D306,IF(달력!$S$25=\"순서2\",근무!E306,IF(달력!$S$25=\"순서3\",근무!F306,IF(달력!$S$25=\"순서4\",근무!G306,IF(달력!$S$25=\"순서5\",근무!H306,IF(달력!$S$25=\"순서6\",근무!I306,\"\"))))))","v":"비번"},{"$f":"IF(달력!$S$26=\"순서1\",근무!D306,IF(달력!$S$26=\"순서2\",근무!E306,IF(달력!$S$26=\"순서3\",근무!F306,IF(달력!$S$26=\"순서4\",근무!G306,IF(달력!$S$26=\"순서5\",근무!H306,IF(달력!$S$26=\"순서6\",근무!I306,\"\"))))))","v":"주간"},{"$f":"IF(달력!$S$27=\"순서1\",근무!D306,IF(달력!$S$27=\"순서2\",근무!E306,IF(달력!$S$27=\"순서3\",근무!F306,IF(달력!$S$27=\"순서4\",근무!G306,IF(달력!$S$27=\"순서5\",근무!H306,IF(달력!$S$27=\"순서6\",근무!I306,\"\"))))))","v":"주간"},{"$f":"IF(달력!$S$28=\"순서1\",근무!D306,IF(달력!$S$28=\"순서2\",근무!E306,IF(달력!$S$28=\"순서3\",근무!F306,IF(달력!$S$28=\"순서4\",근무!G306,IF(달력!$S$28=\"순서5\",근무!H306,IF(달력!$S$28=\"순서6\",근무!I306,\"\"))))))","v":"야간"},{"$f":"IF(달력!$S$29=\"순서1\",근무!D306,IF(달력!$S$29=\"순서2\",근무!E306,IF(달력!$S$29=\"순서3\",근무!F306,IF(달력!$S$29=\"순서4\",근무!G306,IF(달력!$S$29=\"순서5\",근무!H306,IF(달력!$S$29=\"순서6\",근무!I306,\"\"))))))","v":"야간"},null,null,10]
[null,"2023-10-28","토",{"$f":"IF(달력!$S$24=\"순서1\",근무!D307,IF(달력!$S$24=\"순서2\",근무!E307,IF(달력!$S$24=\"순서3\",근무!F307,IF(달력!$S$24=\"순서4\",근무!G307,IF(달력!$S$24=\"순서5\",근무!H307,IF(달력!$S$24=\"순서6\",근무!I307,\"\"))))))","v":"주간"},{"$f":"IF(달력!$S$25=\"순서1\",근무!D307,IF(달력!$S$25=\"순서2\",근무!E307,IF(달력!$S$25=\"순서3\",근무!F307,IF(달력!$S$25=\"순서4\",근무!G307,IF(달력!$S$25=\"순서5\",근무!H307,IF(달력!$S$25=\"순서6\",근무!I307,\"\"))))))","v":"주간"},{"$f":"IF(달력!$S$26=\"순서1\",근무!D307,IF(달력!$S$26=\"순서2\",근무!E307,IF(달력!$S$26=\"순서3\",근무!F307,IF(달력!$S$26=\"순서4\",근무!G307,IF(달력!$S$26=\"순서5\",근무!H307,IF(달력!$S$26=\"순서6\",근무!I307,\"\"))))))","v":"야간"},{"$f":"IF(달력!$S$27=\"순서1\",근무!D307,IF(달력!$S$27=\"순서2\",근무!E307,IF(달력!$S$27=\"순서3\",근무!F307,IF(달력!$S$27=\"순서4\",근무!G307,IF(달력!$S$27=\"순서5\",근무!H307,IF(달력!$S$27=\"순서6\",근무!I307,\"\"))))))","v":"야간"},{"$f":"IF(달력!$S$28=\"순서1\",근무!D307,IF(달력!$S$28=\"순서2\",근무!E307,IF(달력!$S$28=\"순서3\",근무!F307,IF(달력!$S$28=\"순서4\",근무!G307,IF(달력!$S$28=\"순서5\",근무!H307,IF(달력!$S$28=\"순서6\",근무!I307,\"\"))))))","v":"비번"},{"$f":"IF(달력!$S$29=\"순서1\",근무!D307,IF(달력!$S$29=\"순서2\",근무!E307,IF(달력!$S$29=\"순서3\",근무!F307,IF(달력!$S$29=\"순서4\",근무!G307,IF(달력!$S$29=\"순서5\",근무!H307,IF(달력!$S$29=\"순서6\",근무!I307,\"\"))))))","v":"비번"},null,null,10]
[null,"2023-10-29","일",{"$f":"IF(달력!$S$24=\"순서1\",근무!D308,IF(달력!$S$24=\"순서2\",근무!E308,IF(달력!$S$24=\"순서3\",근무!F308,IF(달력!$S$24=\"순서4\",근무!G308,IF(달력!$S$24=\"순서5\",근무!H308,IF(달력!$S$24=\"순서6\",근무!I308,\"\"))))))","v":"주간"},{"$f":"IF(달력!$S$25=\"순서1\",근무!D308,IF(달력!$S$25=\"순서2\",근무!E308,IF(달력!$S$25=\"순서3\",근무!F308,IF(달력!$S$25=\"순서4\",근무!G308,IF(달력!$S$25=\"순서5\",근무!H308,IF(달력!$S$25=\"순서6\",근무!I308,\"\"))))))","v":"주간"},{"$f":"IF(달력!$S$26=\"순서1\",근무!D308,IF(달력!$S$26=\"순서2\",근무!E308,IF(달력!$S$26=\"순서3\",근무!F308,IF(달력!$S$26=\"순서4\",근무!G308,IF(달력!$S$26=\"순서5\",근무!H308,IF(달력!$S$26=\"순서6\",근무!I308,\"\"))))))","v":"야간"},{"$f":"IF(달력!$S$27=\"순서1\",근무!D308,IF(달력!$S$27=\"순서2\",근무!E308,IF(달력!$S$27=\"순서3\",근무!F308,IF(달력!$S$27=\"순서4\",근무!G308,IF(달력!$S$27=\"순서5\",근무!H308,IF(달력!$S$27=\"순서6\",근무!I308,\"\"))))))","v":"야간"},{"$f":"IF(달력!$S$28=\"순서1\",근무!D308,IF(달력!$S$28=\"순서2\",근무!E308,IF(달력!$S$28=\"순서3\",근무!F308,IF(달력!$S$28=\"순서4\",근무!G308,IF(달력!$S$28=\"순서5\",근무!H308,IF(달력!$S$28=\"순서6\",근무!I308,\"\"))))))","v":"비번"},{"$f":"IF(달력!$S$29=\"순서1\",근무!D308,IF(달력!$S$29=\"순서2\",근무!E308,IF(달력!$S$29=\"순서3\",근무!F308,IF(달력!$S$29=\"순서4\",근무!G308,IF(달력!$S$29=\"순서5\",근무!H308,IF(달력!$S$29=\"순서6\",근무!I308,\"\"))))))","v":"비번"},null,null,10]
[null,"2023-10-30","월",{"$f":"IF(달력!$S$24=\"순서1\",근무!D309,IF(달력!$S$24=\"순서2\",근무!E309,IF(달력!$S$24=\"순서3\",근무!F309,IF(달력!$S$24=\"순서4\",근무!G309,IF(달력!$S$24=\"순서5\",근무!H309,IF(달력!$S$24=\"순서6\",근무!I309,\"\"))))))","v":"야간"},{"$f":"IF(달력!$S$25=\"순서1\",근무!D309,IF(달력!$S$25=\"순서2\",근무!E309,IF(달력!$S$25=\"순서3\",근무!F309,IF(달력!$S$25=\"순서4\",근무!G309,IF(달력!$S$25=\"순서5\",근무!H309,IF(달력!$S$25=\"순서6\",근무!I309,\"\"))))))","v":"야간"},{"$f":"IF(달력!$S$26=\"순서1\",근무!D309,IF(달력!$S$26=\"순서2\",근무!E309,IF(달력!$S$26=\"순서3\",근무!F309,IF(달력!$S$26=\"순서4\",근무!G309,IF(달력!$S$26=\"순서5\",근무!H309,IF(달력!$S$26=\"순서6\",근무!I309,\"\"))))))","v":"비번"},{"$f":"IF(달력!$S$27=\"순서1\",근무!D309,IF(달력!$S$27=\"순서2\",근무!E309,IF(달력!$S$27=\"순서3\",근무!F309,IF(달력!$S$27=\"순서4\",근무!G309,IF(달력!$S$27=\"순서5\",근무!H309,IF(달력!$S$27=\"순서6\",근무!I309,\"\"))))))","v":"비번"},{"$f":"IF(달력!$S$28=\"순서1\",근무!D309,IF(달력!$S$28=\"순서2\",근무!E309,IF(달력!$S$28=\"순서3\",근무!F309,IF(달력!$S$28=\"순서4\",근무!G309,IF(달력!$S$28=\"순서5\",근무!H309,IF(달력!$S$28=\"순서6\",근무!I309,\"\"))))))","v":"주간"},{"$f":"IF(달력!$S$29=\"순서1\",근무!D309,IF(달력!$S$29=\"순서2\",근무!E309,IF(달력!$S$29=\"순서3\",근무!F309,IF(달력!$S$29=\"순서4\",근무!G309,IF(달력!$S$29=\"순서5\",근무!H309,IF(달력!$S$29=\"순서6\",근무!I309,\"\"))))))","v":"주간"},null,null,10]
[null,"2023-10-31","화",{"$f":"IF(달력!$S$24=\"순서1\",근무!D310,IF(달력!$S$24=\"순서2\",근무!E310,IF(달력!$S$24=\"순서3\",근무!F310,IF(달력!$S$24=\"순서4\",근무!G310,IF(달력!$S$24=\"순서5\",근무!H310,IF(달력!$S$24=\"순서6\",근무!I310,\"\"))))))","v":"야간"},{"$f":"IF(달력!$S$25=\"순서1\",근무!D310,IF(달력!$S$25=\"순서2\",근무!E310,IF(달력!$S$25=\"순서3\",근무!F310,IF(달력!$S$25=\"순서4\",근무!G310,IF(달력!$S$25=\"순서5\",근무!H310,IF(달력!$S$25=\"순서6\",근무!I310,\"\"))))))","v":"야간"},{"$f":"IF(달력!$S$26=\"순서1\",근무!D310,IF(달력!$S$26=\"순서2\",근무!E310,IF(달력!$S$26=\"순서3\",근무!F310,IF(달력!$S$26=\"순서4\",근무!G310,IF(달력!$S$26=\"순서5\",근무!H310,IF(달력!$S$26=\"순서6\",근무!I310,\"\"))))))","v":"비번"},{"$f":"IF(달력!$S$27=\"순서1\",근무!D310,IF(달력!$S$27=\"순서2\",근무!E310,IF(달력!$S$27=\"순서3\",근무!F310,IF(달력!$S$27=\"순서4\",근무!G310,IF(달력!$S$27=\"순서5\",근무!H310,IF(달력!$S$27=\"순서6\",근무!I310,\"\"))))))","v":"비번"},{"$f":"IF(달력!$S$28=\"순서1\",근무!D310,IF(달력!$S$28=\"순서2\",근무!E310,IF(달력!$S$28=\"순서3\",근무!F310,IF(달력!$S$28=\"순서4\",근무!G310,IF(달력!$S$28=\"순서5\",근무!H310,IF(달력!$S$28=\"순서6\",근무!I310,\"\"))))))","v":"주간"},{"$f":"IF(달력!$S$29=\"순서1\",근무!D310,IF(달력!$S$29=\"순서2\",근무!E310,IF(달력!$S$29=\"순서3\",근무!F310,IF(달력!$S$29=\"순서4\",근무!G310,IF(달력!$S$29=\"순서5\",근무!H310,IF(달력!$S$29=\"순서6\",근무!I310,\"\"))))))","v":"주간"},null,null,10]
[null,"2023-11-01","수",{"$f":"IF(달력!$S$24=\"순서1\",근무!D311,IF(달력!$S$24=\"순서2\",근무!E311,IF(달력!$S$24=\"순서3\",근무!F311,IF(달력!$S$24=\"순서4\",근무!G311,IF(달력!$S$24=\"순서5\",근무!H311,IF(달력!$S$24=\"순서6\",근무!I311,\"\"))))))","v":"비번"},{"$f":"IF(달력!$S$25=\"순서1\",근무!D311,IF(달력!$S$25=\"순서2\",근무!E311,IF(달력!$S$25=\"순서3\",근무!F311,IF(달력!$S$25=\"순서4\",근무!G311,IF(달력!$S$25=\"순서5\",근무!H311,IF(달력!$S$25=\"순서6\",근무!I311,\"\"))))))","v":"비번"},{"$f":"IF(달력!$S$26=\"순서1\",근무!D311,IF(달력!$S$26=\"순서2\",근무!E311,IF(달력!$S$26=\"순서3\",근무!F311,IF(달력!$S$26=\"순서4\",근무!G311,IF(달력!$S$26=\"순서5\",근무!H311,IF(달력!$S$26=\"순서6\",근무!I311,\"\"))))))","v":"주간"},{"$f":"IF(달력!$S$27=\"순서1\",근무!D311,IF(달력!$S$27=\"순서2\",근무!E311,IF(달력!$S$27=\"순서3\",근무!F311,IF(달력!$S$27=\"순서4\",근무!G311,IF(달력!$S$27=\"순서5\",근무!H311,IF(달력!$S$27=\"순서6\",근무!I311,\"\"))))))","v":"주간"},{"$f":"IF(달력!$S$28=\"순서1\",근무!D311,IF(달력!$S$28=\"순서2\",근무!E311,IF(달력!$S$28=\"순서3\",근무!F311,IF(달력!$S$28=\"순서4\",근무!G311,IF(달력!$S$28=\"순서5\",근무!H311,IF(달력!$S$28=\"순서6\",근무!I311,\"\"))))))","v":"야간"},{"$f":"IF(달력!$S$29=\"순서1\",근무!D311,IF(달력!$S$29=\"순서2\",근무!E311,IF(달력!$S$29=\"순서3\",근무!F311,IF(달력!$S$29=\"순서4\",근무!G311,IF(달력!$S$29=\"순서5\",근무!H311,IF(달력!$S$29=\"순서6\",근무!I311,\"\"))))))","v":"야간"},null,"주간",11,{"$f":"COUNTIFS(일정1내용,$K311,$L$7:$L$372,11)","v":10},{"$f":"COUNTIFS(일정2내용,$K311,$L$7:$L$372,11)","v":10},{"$f":"COUNTIFS(일정3내용,$K311,$L$7:$L$372,11)","v":10},{"$f":"COUNTIFS(일정4내용,$K311,$L$7:$L$372,11)","v":10},{"$f":"COUNTIFS(일정5내용,$K311,$L$7:$L$372,11)","v":10},{"$f":"COUNTIFS(일정6내용,$K311,$L$7:$L$372,11)","v":10}]
[null,"2023-11-02","목",{"$f":"IF(달력!$S$24=\"순서1\",근무!D312,IF(달력!$S$24=\"순서2\",근무!E312,IF(달력!$S$24=\"순서3\",근무!F312,IF(달력!$S$24=\"순서4\",근무!G312,IF(달력!$S$24=\"순서5\",근무!H312,IF(달력!$S$24=\"순서6\",근무!I312,\"\"))))))","v":"비번"},{"$f":"IF(달력!$S$25=\"순서1\",근무!D312,IF(달력!$S$25=\"순서2\",근무!E312,IF(달력!$S$25=\"순서3\",근무!F312,IF(달력!$S$25=\"순서4\",근무!G312,IF(달력!$S$25=\"순서5\",근무!H312,IF(달력!$S$25=\"순서6\",근무!I312,\"\"))))))","v":"비번"},{"$f":"IF(달력!$S$26=\"순서1\",근무!D312,IF(달력!$S$26=\"순서2\",근무!E312,IF(달력!$S$26=\"순서3\",근무!F312,IF(달력!$S$26=\"순서4\",근무!G312,IF(달력!$S$26=\"순서5\",근무!H312,IF(달력!$S$26=\"순서6\",근무!I312,\"\"))))))","v":"주간"},{"$f":"IF(달력!$S$27=\"순서1\",근무!D312,IF(달력!$S$27=\"순서2\",근무!E312,IF(달력!$S$27=\"순서3\",근무!F312,IF(달력!$S$27=\"순서4\",근무!G312,IF(달력!$S$27=\"순서5\",근무!H312,IF(달력!$S$27=\"순서6\",근무!I312,\"\"))))))","v":"주간"},{"$f":"IF(달력!$S$28=\"순서1\",근무!D312,IF(달력!$S$28=\"순서2\",근무!E312,IF(달력!$S$28=\"순서3\",근무!F312,IF(달력!$S$28=\"순서4\",근무!G312,IF(달력!$S$28=\"순서5\",근무!H312,IF(달력!$S$28=\"순서6\",근무!I312,\"\"))))))","v":"야간"},{"$f":"IF(달력!$S$29=\"순서1\",근무!D312,IF(달력!$S$29=\"순서2\",근무!E312,IF(달력!$S$29=\"순서3\",근무!F312,IF(달력!$S$29=\"순서4\",근무!G312,IF(달력!$S$29=\"순서5\",근무!H312,IF(달력!$S$29=\"순서6\",근무!I312,\"\"))))))","v":"야간"},null,"야간",11,{"$f":"COUNTIFS(일정1내용,$K312,$L$7:$L$372,11)","v":10},{"$f":"COUNTIFS(일정2내용,$K312,$L$7:$L$372,11)","v":10},{"$f":"COUNTIFS(일정3내용,$K312,$L$7:$L$372,11)","v":10},{"$f":"COUNTIFS(일정4내용,$K312,$L$7:$L$372,11)","v":10},{"$f":"COUNTIFS(일정5내용,$K312,$L$7:$L$372,11)","v":10},{"$f":"COUNTIFS(일정6내용,$K312,$L$7:$L$372,11)","v":10}]
[null,"2023-11-03","금",{"$f":"IF(달력!$S$24=\"순서1\",근무!D313,IF(달력!$S$24=\"순서2\",근무!E313,IF(달력!$S$24=\"순서3\",근무!F313,IF(달력!$S$24=\"순서4\",근무!G313,IF(달력!$S$24=\"순서5\",근무!H313,IF(달력!$S$24=\"순서6\",근무!I313,\"\"))))))","v":"주간"},{"$f":"IF(달력!$S$25=\"순서1\",근무!D313,IF(달력!$S$25=\"순서2\",근무!E313,IF(달력!$S$25=\"순서3\",근무!F313,IF(달력!$S$25=\"순서4\",근무!G313,IF(달력!$S$25=\"순서5\",근무!H313,IF(달력!$S$25=\"순서6\",근무!I313,\"\"))))))","v":"주간"},{"$f":"IF(달력!$S$26=\"순서1\",근무!D313,IF(달력!$S$26=\"순서2\",근무!E313,IF(달력!$S$26=\"순서3\",근무!F313,IF(달력!$S$26=\"순서4\",근무!G313,IF(달력!$S$26=\"순서5\",근무!H313,IF(달력!$S$26=\"순서6\",근무!I313,\"\"))))))","v":"야간"},{"$f":"IF(달력!$S$27=\"순서1\",근무!D313,IF(달력!$S$27=\"순서2\",근무!E313,IF(달력!$S$27=\"순서3\",근무!F313,IF(달력!$S$27=\"순서4\",근무!G313,IF(달력!$S$27=\"순서5\",근무!H313,IF(달력!$S$27=\"순서6\",근무!I313,\"\"))))))","v":"야간"},{"$f":"IF(달력!$S$28=\"순서1\",근무!D313,IF(달력!$S$28=\"순서2\",근무!E313,IF(달력!$S$28=\"순서3\",근무!F313,IF(달력!$S$28=\"순서4\",근무!G313,IF(달력!$S$28=\"순서5\",근무!H313,IF(달력!$S$28=\"순서6\",근무!I313,\"\"))))))","v":"비번"},{"$f":"IF(달력!$S$29=\"순서1\",근무!D313,IF(달력!$S$29=\"순서2\",근무!E313,IF(달력!$S$29=\"순서3\",근무!F313,IF(달력!$S$29=\"순서4\",근무!G313,IF(달력!$S$29=\"순서5\",근무!H313,IF(달력!$S$29=\"순서6\",근무!I313,\"\"))))))","v":"비번"},null,"비번",11,{"$f":"COUNTIFS(일정1내용,$K313,$L$7:$L$372,11)","v":10},{"$f":"COUNTIFS(일정2내용,$K313,$L$7:$L$372,11)","v":10},{"$f":"COUNTIFS(일정3내용,$K313,$L$7:$L$372,11)","v":10},{"$f":"COUNTIFS(일정4내용,$K313,$L$7:$L$372,11)","v":10},{"$f":"COUNTIFS(일정5내용,$K313,$L$7:$L$372,11)","v":10},{"$f":"COUNTIFS(일정6내용,$K313,$L$7:$L$372,11)","v":10}]
[null,"2023-11-04","토",{"$f":"IF(달력!$S$24=\"순서1\",근무!D314,IF(달력!$S$24=\"순서2\",근무!E314,IF(달력!$S$24=\"순서3\",근무!F314,IF(달력!$S$24=\"순서4\",근무!G314,IF(달력!$S$24=\"순서5\",근무!H314,IF(달력!$S$24=\"순서6\",근무!I314,\"\"))))))","v":"주간"},{"$f":"IF(달력!$S$25=\"순서1\",근무!D314,IF(달력!$S$25=\"순서2\",근무!E314,IF(달력!$S$25=\"순서3\",근무!F314,IF(달력!$S$25=\"순서4\",근무!G314,IF(달력!$S$25=\"순서5\",근무!H314,IF(달력!$S$25=\"순서6\",근무!I314,\"\"))))))","v":"주간"},{"$f":"IF(달력!$S$26=\"순서1\",근무!D314,IF(달력!$S$26=\"순서2\",근무!E314,IF(달력!$S$26=\"순서3\",근무!F314,IF(달력!$S$26=\"순서4\",근무!G314,IF(달력!$S$26=\"순서5\",근무!H314,IF(달력!$S$26=\"순서6\",근무!I314,\"\"))))))","v":"야간"},{"$f":"IF(달력!$S$27=\"순서1\",근무!D314,IF(달력!$S$27=\"순서2\",근무!E314,IF(달력!$S$27=\"순서3\",근무!F314,IF(달력!$S$27=\"순서4\",근무!G314,IF(달력!$S$27=\"순서5\",근무!H314,IF(달력!$S$27=\"순서6\",근무!I314,\"\"))))))","v":"야간"},{"$f":"IF(달력!$S$28=\"순서1\",근무!D314,IF(달력!$S$28=\"순서2\",근무!E314,IF(달력!$S$28=\"순서3\",근무!F314,IF(달력!$S$28=\"순서4\",근무!G314,IF(달력!$S$28=\"순서5\",근무!H314,IF(달력!$S$28=\"순서6\",근무!I314,\"\"))))))","v":"비번"},{"$f":"IF(달력!$S$29=\"순서1\",근무!D314,IF(달력!$S$29=\"순서2\",근무!E314,IF(달력!$S$29=\"순서3\",근무!F314,IF(달력!$S$29=\"순서4\",근무!G314,IF(달력!$S$29=\"순서5\",근무!H314,IF(달력!$S$29=\"순서6\",근무!I314,\"\"))))))","v":"비번"},null,"근무일 계",11,{"$f":"M311+M312","v":20},{"$f":"N311+N312","v":20},20,20,20,20]
[null,"2023-11-05","일",{"$f":"IF(달력!$S$24=\"순서1\",근무!D315,IF(달력!$S$24=\"순서2\",근무!E315,IF(달력!$S$24=\"순서3\",근무!F315,IF(달력!$S$24=\"순서4\",근무!G315,IF(달력!$S$24=\"순서5\",근무!H315,IF(달력!$S$24=\"순서6\",근무!I315,\"\"))))))","v":"야간"},{"$f":"IF(달력!$S$25=\"순서1\",근무!D315,IF(달력!$S$25=\"순서2\",근무!E315,IF(달력!$S$25=\"순서3\",근무!F315,IF(달력!$S$25=\"순서4\",근무!G315,IF(달력!$S$25=\"순서5\",근무!H315,IF(달력!$S$25=\"순서6\",근무!I315,\"\"))))))","v":"야간"},{"$f":"IF(달력!$S$26=\"순서1\",근무!D315,IF(달력!$S$26=\"순서2\",근무!E315,IF(달력!$S$26=\"순서3\",근무!F315,IF(달력!$S$26=\"순서4\",근무!G315,IF(달력!$S$26=\"순서5\",근무!H315,IF(달력!$S$26=\"순서6\",근무!I315,\"\"))))))","v":"비번"},{"$f":"IF(달력!$S$27=\"순서1\",근무!D315,IF(달력!$S$27=\"순서2\",근무!E315,IF(달력!$S$27=\"순서3\",근무!F315,IF(달력!$S$27=\"순서4\",근무!G315,IF(달력!$S$27=\"순서5\",근무!H315,IF(달력!$S$27=\"순서6\",근무!I315,\"\"))))))","v":"비번"},{"$f":"IF(달력!$S$28=\"순서1\",근무!D315,IF(달력!$S$28=\"순서2\",근무!E315,IF(달력!$S$28=\"순서3\",근무!F315,IF(달력!$S$28=\"순서4\",근무!G315,IF(달력!$S$28=\"순서5\",근무!H315,IF(달력!$S$28=\"순서6\",근무!I315,\"\"))))))","v":"주간"},{"$f":"IF(달력!$S$29=\"순서1\",근무!D315,IF(달력!$S$29=\"순서2\",근무!E315,IF(달력!$S$29=\"순서3\",근무!F315,IF(달력!$S$29=\"순서4\",근무!G315,IF(달력!$S$29=\"순서5\",근무!H315,IF(달력!$S$29=\"순서6\",근무!I315,\"\"))))))","v":"주간"},null,null,11]
[null,"2023-11-06","월",{"$f":"IF(달력!$S$24=\"순서1\",근무!D316,IF(달력!$S$24=\"순서2\",근무!E316,IF(달력!$S$24=\"순서3\",근무!F316,IF(달력!$S$24=\"순서4\",근무!G316,IF(달력!$S$24=\"순서5\",근무!H316,IF(달력!$S$24=\"순서6\",근무!I316,\"\"))))))","v":"야간"},{"$f":"IF(달력!$S$25=\"순서1\",근무!D316,IF(달력!$S$25=\"순서2\",근무!E316,IF(달력!$S$25=\"순서3\",근무!F316,IF(달력!$S$25=\"순서4\",근무!G316,IF(달력!$S$25=\"순서5\",근무!H316,IF(달력!$S$25=\"순서6\",근무!I316,\"\"))))))","v":"야간"},{"$f":"IF(달력!$S$26=\"순서1\",근무!D316,IF(달력!$S$26=\"순서2\",근무!E316,IF(달력!$S$26=\"순서3\",근무!F316,IF(달력!$S$26=\"순서4\",근무!G316,IF(달력!$S$26=\"순서5\",근무!H316,IF(달력!$S$26=\"순서6\",근무!I316,\"\"))))))","v":"비번"},{"$f":"IF(달력!$S$27=\"순서1\",근무!D316,IF(달력!$S$27=\"순서2\",근무!E316,IF(달력!$S$27=\"순서3\",근무!F316,IF(달력!$S$27=\"순서4\",근무!G316,IF(달력!$S$27=\"순서5\",근무!H316,IF(달력!$S$27=\"순서6\",근무!I316,\"\"))))))","v":"비번"},{"$f":"IF(달력!$S$28=\"순서1\",근무!D316,IF(달력!$S$28=\"순서2\",근무!E316,IF(달력!$S$28=\"순서3\",근무!F316,IF(달력!$S$28=\"순서4\",근무!G316,IF(달력!$S$28=\"순서5\",근무!H316,IF(달력!$S$28=\"순서6\",근무!I316,\"\"))))))","v":"주간"},{"$f":"IF(달력!$S$29=\"순서1\",근무!D316,IF(달력!$S$29=\"순서2\",근무!E316,IF(달력!$S$29=\"순서3\",근무!F316,IF(달력!$S$29=\"순서4\",근무!G316,IF(달력!$S$29=\"순서5\",근무!H316,IF(달력!$S$29=\"순서6\",근무!I316,\"\"))))))","v":"주간"},null,null,11]
[null,"2023-11-07","화",{"$f":"IF(달력!$S$24=\"순서1\",근무!D317,IF(달력!$S$24=\"순서2\",근무!E317,IF(달력!$S$24=\"순서3\",근무!F317,IF(달력!$S$24=\"순서4\",근무!G317,IF(달력!$S$24=\"순서5\",근무!H317,IF(달력!$S$24=\"순서6\",근무!I317,\"\"))))))","v":"비번"},{"$f":"IF(달력!$S$25=\"순서1\",근무!D317,IF(달력!$S$25=\"순서2\",근무!E317,IF(달력!$S$25=\"순서3\",근무!F317,IF(달력!$S$25=\"순서4\",근무!G317,IF(달력!$S$25=\"순서5\",근무!H317,IF(달력!$S$25=\"순서6\",근무!I317,\"\"))))))","v":"비번"},{"$f":"IF(달력!$S$26=\"순서1\",근무!D317,IF(달력!$S$26=\"순서2\",근무!E317,IF(달력!$S$26=\"순서3\",근무!F317,IF(달력!$S$26=\"순서4\",근무!G317,IF(달력!$S$26=\"순서5\",근무!H317,IF(달력!$S$26=\"순서6\",근무!I317,\"\"))))))","v":"주간"},{"$f":"IF(달력!$S$27=\"순서1\",근무!D317,IF(달력!$S$27=\"순서2\",근무!E317,IF(달력!$S$27=\"순서3\",근무!F317,IF(달력!$S$27=\"순서4\",근무!G317,IF(달력!$S$27=\"순서5\",근무!H317,IF(달력!$S$27=\"순서6\",근무!I317,\"\"))))))","v":"주간"},{"$f":"IF(달력!$S$28=\"순서1\",근무!D317,IF(달력!$S$28=\"순서2\",근무!E317,IF(달력!$S$28=\"순서3\",근무!F317,IF(달력!$S$28=\"순서4\",근무!G317,IF(달력!$S$28=\"순서5\",근무!H317,IF(달력!$S$28=\"순서6\",근무!I317,\"\"))))))","v":"야간"},{"$f":"IF(달력!$S$29=\"순서1\",근무!D317,IF(달력!$S$29=\"순서2\",근무!E317,IF(달력!$S$29=\"순서3\",근무!F317,IF(달력!$S$29=\"순서4\",근무!G317,IF(달력!$S$29=\"순서5\",근무!H317,IF(달력!$S$29=\"순서6\",근무!I317,\"\"))))))","v":"야간"},null,null,11]
[null,"2023-11-08","수",{"$f":"IF(달력!$S$24=\"순서1\",근무!D318,IF(달력!$S$24=\"순서2\",근무!E318,IF(달력!$S$24=\"순서3\",근무!F318,IF(달력!$S$24=\"순서4\",근무!G318,IF(달력!$S$24=\"순서5\",근무!H318,IF(달력!$S$24=\"순서6\",근무!I318,\"\"))))))","v":"비번"},{"$f":"IF(달력!$S$25=\"순서1\",근무!D318,IF(달력!$S$25=\"순서2\",근무!E318,IF(달력!$S$25=\"순서3\",근무!F318,IF(달력!$S$25=\"순서4\",근무!G318,IF(달력!$S$25=\"순서5\",근무!H318,IF(달력!$S$25=\"순서6\",근무!I318,\"\"))))))","v":"비번"},{"$f":"IF(달력!$S$26=\"순서1\",근무!D318,IF(달력!$S$26=\"순서2\",근무!E318,IF(달력!$S$26=\"순서3\",근무!F318,IF(달력!$S$26=\"순서4\",근무!G318,IF(달력!$S$26=\"순서5\",근무!H318,IF(달력!$S$26=\"순서6\",근무!I318,\"\"))))))","v":"주간"},{"$f":"IF(달력!$S$27=\"순서1\",근무!D318,IF(달력!$S$27=\"순서2\",근무!E318,IF(달력!$S$27=\"순서3\",근무!F318,IF(달력!$S$27=\"순서4\",근무!G318,IF(달력!$S$27=\"순서5\",근무!H318,IF(달력!$S$27=\"순서6\",근무!I318,\"\"))))))","v":"주간"},{"$f":"IF(달력!$S$28=\"순서1\",근무!D318,IF(달력!$S$28=\"순서2\",근무!E318,IF(달력!$S$28=\"순서3\",근무!F318,IF(달력!$S$28=\"순서4\",근무!G318,IF(달력!$S$28=\"순서5\",근무!H318,IF(달력!$S$28=\"순서6\",근무!I318,\"\"))))))","v":"야간"},{"$f":"IF(달력!$S$29=\"순서1\",근무!D318,IF(달력!$S$29=\"순서2\",근무!E318,IF(달력!$S$29=\"순서3\",근무!F318,IF(달력!$S$29=\"순서4\",근무!G318,IF(달력!$S$29=\"순서5\",근무!H318,IF(달력!$S$29=\"순서6\",근무!I318,\"\"))))))","v":"야간"},null,null,11]
[null,"2023-11-09","목",{"$f":"IF(달력!$S$24=\"순서1\",근무!D319,IF(달력!$S$24=\"순서2\",근무!E319,IF(달력!$S$24=\"순서3\",근무!F319,IF(달력!$S$24=\"순서4\",근무!G319,IF(달력!$S$24=\"순서5\",근무!H319,IF(달력!$S$24=\"순서6\",근무!I319,\"\"))))))","v":"주간"},{"$f":"IF(달력!$S$25=\"순서1\",근무!D319,IF(달력!$S$25=\"순서2\",근무!E319,IF(달력!$S$25=\"순서3\",근무!F319,IF(달력!$S$25=\"순서4\",근무!G319,IF(달력!$S$25=\"순서5\",근무!H319,IF(달력!$S$25=\"순서6\",근무!I319,\"\"))))))","v":"주간"},{"$f":"IF(달력!$S$26=\"순서1\",근무!D319,IF(달력!$S$26=\"순서2\",근무!E319,IF(달력!$S$26=\"순서3\",근무!F319,IF(달력!$S$26=\"순서4\",근무!G319,IF(달력!$S$26=\"순서5\",근무!H319,IF(달력!$S$26=\"순서6\",근무!I319,\"\"))))))","v":"야간"},{"$f":"IF(달력!$S$27=\"순서1\",근무!D319,IF(달력!$S$27=\"순서2\",근무!E319,IF(달력!$S$27=\"순서3\",근무!F319,IF(달력!$S$27=\"순서4\",근무!G319,IF(달력!$S$27=\"순서5\",근무!H319,IF(달력!$S$27=\"순서6\",근무!I319,\"\"))))))","v":"야간"},{"$f":"IF(달력!$S$28=\"순서1\",근무!D319,IF(달력!$S$28=\"순서2\",근무!E319,IF(달력!$S$28=\"순서3\",근무!F319,IF(달력!$S$28=\"순서4\",근무!G319,IF(달력!$S$28=\"순서5\",근무!H319,IF(달력!$S$28=\"순서6\",근무!I319,\"\"))))))","v":"비번"},{"$f":"IF(달력!$S$29=\"순서1\",근무!D319,IF(달력!$S$29=\"순서2\",근무!E319,IF(달력!$S$29=\"순서3\",근무!F319,IF(달력!$S$29=\"순서4\",근무!G319,IF(달력!$S$29=\"순서5\",근무!H319,IF(달력!$S$29=\"순서6\",근무!I319,\"\"))))))","v":"비번"},null,null,11]
[null,"2023-11-10","금",{"$f":"IF(달력!$S$24=\"순서1\",근무!D320,IF(달력!$S$24=\"순서2\",근무!E320,IF(달력!$S$24=\"순서3\",근무!F320,IF(달력!$S$24=\"순서4\",근무!G320,IF(달력!$S$24=\"순서5\",근무!H320,IF(달력!$S$24=\"순서6\",근무!I320,\"\"))))))","v":"주간"},{"$f":"IF(달력!$S$25=\"순서1\",근무!D320,IF(달력!$S$25=\"순서2\",근무!E320,IF(달력!$S$25=\"순서3\",근무!F320,IF(달력!$S$25=\"순서4\",근무!G320,IF(달력!$S$25=\"순서5\",근무!H320,IF(달력!$S$25=\"순서6\",근무!I320,\"\"))))))","v":"주간"},{"$f":"IF(달력!$S$26=\"순서1\",근무!D320,IF(달력!$S$26=\"순서2\",근무!E320,IF(달력!$S$26=\"순서3\",근무!F320,IF(달력!$S$26=\"순서4\",근무!G320,IF(달력!$S$26=\"순서5\",근무!H320,IF(달력!$S$26=\"순서6\",근무!I320,\"\"))))))","v":"야간"},{"$f":"IF(달력!$S$27=\"순서1\",근무!D320,IF(달력!$S$27=\"순서2\",근무!E320,IF(달력!$S$27=\"순서3\",근무!F320,IF(달력!$S$27=\"순서4\",근무!G320,IF(달력!$S$27=\"순서5\",근무!H320,IF(달력!$S$27=\"순서6\",근무!I320,\"\"))))))","v":"야간"},{"$f":"IF(달력!$S$28=\"순서1\",근무!D320,IF(달력!$S$28=\"순서2\",근무!E320,IF(달력!$S$28=\"순서3\",근무!F320,IF(달력!$S$28=\"순서4\",근무!G320,IF(달력!$S$28=\"순서5\",근무!H320,IF(달력!$S$28=\"순서6\",근무!I320,\"\"))))))","v":"비번"},{"$f":"IF(달력!$S$29=\"순서1\",근무!D320,IF(달력!$S$29=\"순서2\",근무!E320,IF(달력!$S$29=\"순서3\",근무!F320,IF(달력!$S$29=\"순서4\",근무!G320,IF(달력!$S$29=\"순서5\",근무!H320,IF(달력!$S$29=\"순서6\",근무!I320,\"\"))))))","v":"비번"},null,null,11]
[null,"2023-11-11","토",{"$f":"IF(달력!$S$24=\"순서1\",근무!D321,IF(달력!$S$24=\"순서2\",근무!E321,IF(달력!$S$24=\"순서3\",근무!F321,IF(달력!$S$24=\"순서4\",근무!G321,IF(달력!$S$24=\"순서5\",근무!H321,IF(달력!$S$24=\"순서6\",근무!I321,\"\"))))))","v":"야간"},{"$f":"IF(달력!$S$25=\"순서1\",근무!D321,IF(달력!$S$25=\"순서2\",근무!E321,IF(달력!$S$25=\"순서3\",근무!F321,IF(달력!$S$25=\"순서4\",근무!G321,IF(달력!$S$25=\"순서5\",근무!H321,IF(달력!$S$25=\"순서6\",근무!I321,\"\"))))))","v":"야간"},{"$f":"IF(달력!$S$26=\"순서1\",근무!D321,IF(달력!$S$26=\"순서2\",근무!E321,IF(달력!$S$26=\"순서3\",근무!F321,IF(달력!$S$26=\"순서4\",근무!G321,IF(달력!$S$26=\"순서5\",근무!H321,IF(달력!$S$26=\"순서6\",근무!I321,\"\"))))))","v":"비번"},{"$f":"IF(달력!$S$27=\"순서1\",근무!D321,IF(달력!$S$27=\"순서2\",근무!E321,IF(달력!$S$27=\"순서3\",근무!F321,IF(달력!$S$27=\"순서4\",근무!G321,IF(달력!$S$27=\"순서5\",근무!H321,IF(달력!$S$27=\"순서6\",근무!I321,\"\"))))))","v":"비번"},{"$f":"IF(달력!$S$28=\"순서1\",근무!D321,IF(달력!$S$28=\"순서2\",근무!E321,IF(달력!$S$28=\"순서3\",근무!F321,IF(달력!$S$28=\"순서4\",근무!G321,IF(달력!$S$28=\"순서5\",근무!H321,IF(달력!$S$28=\"순서6\",근무!I321,\"\"))))))","v":"주간"},{"$f":"IF(달력!$S$29=\"순서1\",근무!D321,IF(달력!$S$29=\"순서2\",근무!E321,IF(달력!$S$29=\"순서3\",근무!F321,IF(달력!$S$29=\"순서4\",근무!G321,IF(달력!$S$29=\"순서5\",근무!H321,IF(달력!$S$29=\"순서6\",근무!I321,\"\"))))))","v":"주간"},null,null,11]
[null,"2023-11-12","일",{"$f":"IF(달력!$S$24=\"순서1\",근무!D322,IF(달력!$S$24=\"순서2\",근무!E322,IF(달력!$S$24=\"순서3\",근무!F322,IF(달력!$S$24=\"순서4\",근무!G322,IF(달력!$S$24=\"순서5\",근무!H322,IF(달력!$S$24=\"순서6\",근무!I322,\"\"))))))","v":"야간"},{"$f":"IF(달력!$S$25=\"순서1\",근무!D322,IF(달력!$S$25=\"순서2\",근무!E322,IF(달력!$S$25=\"순서3\",근무!F322,IF(달력!$S$25=\"순서4\",근무!G322,IF(달력!$S$25=\"순서5\",근무!H322,IF(달력!$S$25=\"순서6\",근무!I322,\"\"))))))","v":"야간"},{"$f":"IF(달력!$S$26=\"순서1\",근무!D322,IF(달력!$S$26=\"순서2\",근무!E322,IF(달력!$S$26=\"순서3\",근무!F322,IF(달력!$S$26=\"순서4\",근무!G322,IF(달력!$S$26=\"순서5\",근무!H322,IF(달력!$S$26=\"순서6\",근무!I322,\"\"))))))","v":"비번"},{"$f":"IF(달력!$S$27=\"순서1\",근무!D322,IF(달력!$S$27=\"순서2\",근무!E322,IF(달력!$S$27=\"순서3\",근무!F322,IF(달력!$S$27=\"순서4\",근무!G322,IF(달력!$S$27=\"순서5\",근무!H322,IF(달력!$S$27=\"순서6\",근무!I322,\"\"))))))","v":"비번"},{"$f":"IF(달력!$S$28=\"순서1\",근무!D322,IF(달력!$S$28=\"순서2\",근무!E322,IF(달력!$S$28=\"순서3\",근무!F322,IF(달력!$S$28=\"순서4\",근무!G322,IF(달력!$S$28=\"순서5\",근무!H322,IF(달력!$S$28=\"순서6\",근무!I322,\"\"))))))","v":"주간"},{"$f":"IF(달력!$S$29=\"순서1\",근무!D322,IF(달력!$S$29=\"순서2\",근무!E322,IF(달력!$S$29=\"순서3\",근무!F322,IF(달력!$S$29=\"순서4\",근무!G322,IF(달력!$S$29=\"순서5\",근무!H322,IF(달력!$S$29=\"순서6\",근무!I322,\"\"))))))","v":"주간"},null,null,11]
[null,"2023-11-13","월",{"$f":"IF(달력!$S$24=\"순서1\",근무!D323,IF(달력!$S$24=\"순서2\",근무!E323,IF(달력!$S$24=\"순서3\",근무!F323,IF(달력!$S$24=\"순서4\",근무!G323,IF(달력!$S$24=\"순서5\",근무!H323,IF(달력!$S$24=\"순서6\",근무!I323,\"\"))))))","v":"비번"},{"$f":"IF(달력!$S$25=\"순서1\",근무!D323,IF(달력!$S$25=\"순서2\",근무!E323,IF(달력!$S$25=\"순서3\",근무!F323,IF(달력!$S$25=\"순서4\",근무!G323,IF(달력!$S$25=\"순서5\",근무!H323,IF(달력!$S$25=\"순서6\",근무!I323,\"\"))))))","v":"비번"},{"$f":"IF(달력!$S$26=\"순서1\",근무!D323,IF(달력!$S$26=\"순서2\",근무!E323,IF(달력!$S$26=\"순서3\",근무!F323,IF(달력!$S$26=\"순서4\",근무!G323,IF(달력!$S$26=\"순서5\",근무!H323,IF(달력!$S$26=\"순서6\",근무!I323,\"\"))))))","v":"주간"},{"$f":"IF(달력!$S$27=\"순서1\",근무!D323,IF(달력!$S$27=\"순서2\",근무!E323,IF(달력!$S$27=\"순서3\",근무!F323,IF(달력!$S$27=\"순서4\",근무!G323,IF(달력!$S$27=\"순서5\",근무!H323,IF(달력!$S$27=\"순서6\",근무!I323,\"\"))))))","v":"주간"},{"$f":"IF(달력!$S$28=\"순서1\",근무!D323,IF(달력!$S$28=\"순서2\",근무!E323,IF(달력!$S$28=\"순서3\",근무!F323,IF(달력!$S$28=\"순서4\",근무!G323,IF(달력!$S$28=\"순서5\",근무!H323,IF(달력!$S$28=\"순서6\",근무!I323,\"\"))))))","v":"야간"},{"$f":"IF(달력!$S$29=\"순서1\",근무!D323,IF(달력!$S$29=\"순서2\",근무!E323,IF(달력!$S$29=\"순서3\",근무!F323,IF(달력!$S$29=\"순서4\",근무!G323,IF(달력!$S$29=\"순서5\",근무!H323,IF(달력!$S$29=\"순서6\",근무!I323,\"\"))))))","v":"야간"},null,null,11]
[null,"2023-11-14","화",{"$f":"IF(달력!$S$24=\"순서1\",근무!D324,IF(달력!$S$24=\"순서2\",근무!E324,IF(달력!$S$24=\"순서3\",근무!F324,IF(달력!$S$24=\"순서4\",근무!G324,IF(달력!$S$24=\"순서5\",근무!H324,IF(달력!$S$24=\"순서6\",근무!I324,\"\"))))))","v":"비번"},{"$f":"IF(달력!$S$25=\"순서1\",근무!D324,IF(달력!$S$25=\"순서2\",근무!E324,IF(달력!$S$25=\"순서3\",근무!F324,IF(달력!$S$25=\"순서4\",근무!G324,IF(달력!$S$25=\"순서5\",근무!H324,IF(달력!$S$25=\"순서6\",근무!I324,\"\"))))))","v":"비번"},{"$f":"IF(달력!$S$26=\"순서1\",근무!D324,IF(달력!$S$26=\"순서2\",근무!E324,IF(달력!$S$26=\"순서3\",근무!F324,IF(달력!$S$26=\"순서4\",근무!G324,IF(달력!$S$26=\"순서5\",근무!H324,IF(달력!$S$26=\"순서6\",근무!I324,\"\"))))))","v":"주간"},{"$f":"IF(달력!$S$27=\"순서1\",근무!D324,IF(달력!$S$27=\"순서2\",근무!E324,IF(달력!$S$27=\"순서3\",근무!F324,IF(달력!$S$27=\"순서4\",근무!G324,IF(달력!$S$27=\"순서5\",근무!H324,IF(달력!$S$27=\"순서6\",근무!I324,\"\"))))))","v":"주간"},{"$f":"IF(달력!$S$28=\"순서1\",근무!D324,IF(달력!$S$28=\"순서2\",근무!E324,IF(달력!$S$28=\"순서3\",근무!F324,IF(달력!$S$28=\"순서4\",근무!G324,IF(달력!$S$28=\"순서5\",근무!H324,IF(달력!$S$28=\"순서6\",근무!I324,\"\"))))))","v":"야간"},{"$f":"IF(달력!$S$29=\"순서1\",근무!D324,IF(달력!$S$29=\"순서2\",근무!E324,IF(달력!$S$29=\"순서3\",근무!F324,IF(달력!$S$29=\"순서4\",근무!G324,IF(달력!$S$29=\"순서5\",근무!H324,IF(달력!$S$29=\"순서6\",근무!I324,\"\"))))))","v":"야간"},null,null,11]
[null,"2023-11-15","수",{"$f":"IF(달력!$S$24=\"순서1\",근무!D325,IF(달력!$S$24=\"순서2\",근무!E325,IF(달력!$S$24=\"순서3\",근무!F325,IF(달력!$S$24=\"순서4\",근무!G325,IF(달력!$S$24=\"순서5\",근무!H325,IF(달력!$S$24=\"순서6\",근무!I325,\"\"))))))","v":"주간"},{"$f":"IF(달력!$S$25=\"순서1\",근무!D325,IF(달력!$S$25=\"순서2\",근무!E325,IF(달력!$S$25=\"순서3\",근무!F325,IF(달력!$S$25=\"순서4\",근무!G325,IF(달력!$S$25=\"순서5\",근무!H325,IF(달력!$S$25=\"순서6\",근무!I325,\"\"))))))","v":"주간"},{"$f":"IF(달력!$S$26=\"순서1\",근무!D325,IF(달력!$S$26=\"순서2\",근무!E325,IF(달력!$S$26=\"순서3\",근무!F325,IF(달력!$S$26=\"순서4\",근무!G325,IF(달력!$S$26=\"순서5\",근무!H325,IF(달력!$S$26=\"순서6\",근무!I325,\"\"))))))","v":"야간"},{"$f":"IF(달력!$S$27=\"순서1\",근무!D325,IF(달력!$S$27=\"순서2\",근무!E325,IF(달력!$S$27=\"순서3\",근무!F325,IF(달력!$S$27=\"순서4\",근무!G325,IF(달력!$S$27=\"순서5\",근무!H325,IF(달력!$S$27=\"순서6\",근무!I325,\"\"))))))","v":"야간"},{"$f":"IF(달력!$S$28=\"순서1\",근무!D325,IF(달력!$S$28=\"순서2\",근무!E325,IF(달력!$S$28=\"순서3\",근무!F325,IF(달력!$S$28=\"순서4\",근무!G325,IF(달력!$S$28=\"순서5\",근무!H325,IF(달력!$S$28=\"순서6\",근무!I325,\"\"))))))","v":"비번"},{"$f":"IF(달력!$S$29=\"순서1\",근무!D325,IF(달력!$S$29=\"순서2\",근무!E325,IF(달력!$S$29=\"순서3\",근무!F325,IF(달력!$S$29=\"순서4\",근무!G325,IF(달력!$S$29=\"순서5\",근무!H325,IF(달력!$S$29=\"순서6\",근무!I325,\"\"))))))","v":"비번"},null,null,11]
[null,"2023-11-16","목",{"$f":"IF(달력!$S$24=\"순서1\",근무!D326,IF(달력!$S$24=\"순서2\",근무!E326,IF(달력!$S$24=\"순서3\",근무!F326,IF(달력!$S$24=\"순서4\",근무!G326,IF(달력!$S$24=\"순서5\",근무!H326,IF(달력!$S$24=\"순서6\",근무!I326,\"\"))))))","v":"주간"},{"$f":"IF(달력!$S$25=\"순서1\",근무!D326,IF(달력!$S$25=\"순서2\",근무!E326,IF(달력!$S$25=\"순서3\",근무!F326,IF(달력!$S$25=\"순서4\",근무!G326,IF(달력!$S$25=\"순서5\",근무!H326,IF(달력!$S$25=\"순서6\",근무!I326,\"\"))))))","v":"주간"},{"$f":"IF(달력!$S$26=\"순서1\",근무!D326,IF(달력!$S$26=\"순서2\",근무!E326,IF(달력!$S$26=\"순서3\",근무!F326,IF(달력!$S$26=\"순서4\",근무!G326,IF(달력!$S$26=\"순서5\",근무!H326,IF(달력!$S$26=\"순서6\",근무!I326,\"\"))))))","v":"야간"},{"$f":"IF(달력!$S$27=\"순서1\",근무!D326,IF(달력!$S$27=\"순서2\",근무!E326,IF(달력!$S$27=\"순서3\",근무!F326,IF(달력!$S$27=\"순서4\",근무!G326,IF(달력!$S$27=\"순서5\",근무!H326,IF(달력!$S$27=\"순서6\",근무!I326,\"\"))))))","v":"야간"},{"$f":"IF(달력!$S$28=\"순서1\",근무!D326,IF(달력!$S$28=\"순서2\",근무!E326,IF(달력!$S$28=\"순서3\",근무!F326,IF(달력!$S$28=\"순서4\",근무!G326,IF(달력!$S$28=\"순서5\",근무!H326,IF(달력!$S$28=\"순서6\",근무!I326,\"\"))))))","v":"비번"},{"$f":"IF(달력!$S$29=\"순서1\",근무!D326,IF(달력!$S$29=\"순서2\",근무!E326,IF(달력!$S$29=\"순서3\",근무!F326,IF(달력!$S$29=\"순서4\",근무!G326,IF(달력!$S$29=\"순서5\",근무!H326,IF(달력!$S$29=\"순서6\",근무!I326,\"\"))))))","v":"비번"},null,null,11]
[null,"2023-11-17","금",{"$f":"IF(달력!$S$24=\"순서1\",근무!D327,IF(달력!$S$24=\"순서2\",근무!E327,IF(달력!$S$24=\"순서3\",근무!F327,IF(달력!$S$24=\"순서4\",근무!G327,IF(달력!$S$24=\"순서5\",근무!H327,IF(달력!$S$24=\"순서6\",근무!I327,\"\"))))))","v":"야간"},{"$f":"IF(달력!$S$25=\"순서1\",근무!D327,IF(달력!$S$25=\"순서2\",근무!E327,IF(달력!$S$25=\"순서3\",근무!F327,IF(달력!$S$25=\"순서4\",근무!G327,IF(달력!$S$25=\"순서5\",근무!H327,IF(달력!$S$25=\"순서6\",근무!I327,\"\"))))))","v":"야간"},{"$f":"IF(달력!$S$26=\"순서1\",근무!D327,IF(달력!$S$26=\"순서2\",근무!E327,IF(달력!$S$26=\"순서3\",근무!F327,IF(달력!$S$26=\"순서4\",근무!G327,IF(달력!$S$26=\"순서5\",근무!H327,IF(달력!$S$26=\"순서6\",근무!I327,\"\"))))))","v":"비번"},{"$f":"IF(달력!$S$27=\"순서1\",근무!D327,IF(달력!$S$27=\"순서2\",근무!E327,IF(달력!$S$27=\"순서3\",근무!F327,IF(달력!$S$27=\"순서4\",근무!G327,IF(달력!$S$27=\"순서5\",근무!H327,IF(달력!$S$27=\"순서6\",근무!I327,\"\"))))))","v":"비번"},{"$f":"IF(달력!$S$28=\"순서1\",근무!D327,IF(달력!$S$28=\"순서2\",근무!E327,IF(달력!$S$28=\"순서3\",근무!F327,IF(달력!$S$28=\"순서4\",근무!G327,IF(달력!$S$28=\"순서5\",근무!H327,IF(달력!$S$28=\"순서6\",근무!I327,\"\"))))))","v":"주간"},{"$f":"IF(달력!$S$29=\"순서1\",근무!D327,IF(달력!$S$29=\"순서2\",근무!E327,IF(달력!$S$29=\"순서3\",근무!F327,IF(달력!$S$29=\"순서4\",근무!G327,IF(달력!$S$29=\"순서5\",근무!H327,IF(달력!$S$29=\"순서6\",근무!I327,\"\"))))))","v":"주간"},null,null,11]
[null,"2023-11-18",{"$f":"CHOOSE(WEEKDAY(B328,1),\"일\",\"월\",\"화\",\"수\",\"목\",\"금\",\"토\")","v":"토"},{"$f":"IF(달력!$S$24=\"순서1\",근무!D328,IF(달력!$S$24=\"순서2\",근무!E328,IF(달력!$S$24=\"순서3\",근무!F328,IF(달력!$S$24=\"순서4\",근무!G328,IF(달력!$S$24=\"순서5\",근무!H328,IF(달력!$S$24=\"순서6\",근무!I328,\"\"))))))","v":"야간"},{"$f":"IF(달력!$S$25=\"순서1\",근무!D328,IF(달력!$S$25=\"순서2\",근무!E328,IF(달력!$S$25=\"순서3\",근무!F328,IF(달력!$S$25=\"순서4\",근무!G328,IF(달력!$S$25=\"순서5\",근무!H328,IF(달력!$S$25=\"순서6\",근무!I328,\"\"))))))","v":"야간"},{"$f":"IF(달력!$S$26=\"순서1\",근무!D328,IF(달력!$S$26=\"순서2\",근무!E328,IF(달력!$S$26=\"순서3\",근무!F328,IF(달력!$S$26=\"순서4\",근무!G328,IF(달력!$S$26=\"순서5\",근무!H328,IF(달력!$S$26=\"순서6\",근무!I328,\"\"))))))","v":"비번"},{"$f":"IF(달력!$S$27=\"순서1\",근무!D328,IF(달력!$S$27=\"순서2\",근무!E328,IF(달력!$S$27=\"순서3\",근무!F328,IF(달력!$S$27=\"순서4\",근무!G328,IF(달력!$S$27=\"순서5\",근무!H328,IF(달력!$S$27=\"순서6\",근무!I328,\"\"))))))","v":"비번"},{"$f":"IF(달력!$S$28=\"순서1\",근무!D328,IF(달력!$S$28=\"순서2\",근무!E328,IF(달력!$S$28=\"순서3\",근무!F328,IF(달력!$S$28=\"순서4\",근무!G328,IF(달력!$S$28=\"순서5\",근무!H328,IF(달력!$S$28=\"순서6\",근무!I328,\"\"))))))","v":"주간"},{"$f":"IF(달력!$S$29=\"순서1\",근무!D328,IF(달력!$S$29=\"순서2\",근무!E328,IF(달력!$S$29=\"순서3\",근무!F328,IF(달력!$S$29=\"순서4\",근무!G328,IF(달력!$S$29=\"순서5\",근무!H328,IF(달력!$S$29=\"순서6\",근무!I328,\"\"))))))","v":"주간"},null,null,{"$f":"MONTH(B328)","v":11}]
[null,{"$f":"B328+1","v":"2023-11-19"},"일",{"$f":"IF(달력!$S$24=\"순서1\",근무!D329,IF(달력!$S$24=\"순서2\",근무!E329,IF(달력!$S$24=\"순서3\",근무!F329,IF(달력!$S$24=\"순서4\",근무!G329,IF(달력!$S$24=\"순서5\",근무!H329,IF(달력!$S$24=\"순서6\",근무!I329,\"\"))))))","v":"비번"},{"$f":"IF(달력!$S$25=\"순서1\",근무!D329,IF(달력!$S$25=\"순서2\",근무!E329,IF(달력!$S$25=\"순서3\",근무!F329,IF(달력!$S$25=\"순서4\",근무!G329,IF(달력!$S$25=\"순서5\",근무!H329,IF(달력!$S$25=\"순서6\",근무!I329,\"\"))))))","v":"비번"},{"$f":"IF(달력!$S$26=\"순서1\",근무!D329,IF(달력!$S$26=\"순서2\",근무!E329,IF(달력!$S$26=\"순서3\",근무!F329,IF(달력!$S$26=\"순서4\",근무!G329,IF(달력!$S$26=\"순서5\",근무!H329,IF(달력!$S$26=\"순서6\",근무!I329,\"\"))))))","v":"주간"},{"$f":"IF(달력!$S$27=\"순서1\",근무!D329,IF(달력!$S$27=\"순서2\",근무!E329,IF(달력!$S$27=\"순서3\",근무!F329,IF(달력!$S$27=\"순서4\",근무!G329,IF(달력!$S$27=\"순서5\",근무!H329,IF(달력!$S$27=\"순서6\",근무!I329,\"\"))))))","v":"주간"},{"$f":"IF(달력!$S$28=\"순서1\",근무!D329,IF(달력!$S$28=\"순서2\",근무!E329,IF(달력!$S$28=\"순서3\",근무!F329,IF(달력!$S$28=\"순서4\",근무!G329,IF(달력!$S$28=\"순서5\",근무!H329,IF(달력!$S$28=\"순서6\",근무!I329,\"\"))))))","v":"야간"},{"$f":"IF(달력!$S$29=\"순서1\",근무!D329,IF(달력!$S$29=\"순서2\",근무!E329,IF(달력!$S$29=\"순서3\",근무!F329,IF(달력!$S$29=\"순서4\",근무!G329,IF(달력!$S$29=\"순서5\",근무!H329,IF(달력!$S$29=\"순서6\",근무!I329,\"\"))))))","v":"야간"},null,null,11]
[null,"2023-11-20","월",{"$f":"IF(달력!$S$24=\"순서1\",근무!D330,IF(달력!$S$24=\"순서2\",근무!E330,IF(달력!$S$24=\"순서3\",근무!F330,IF(달력!$S$24=\"순서4\",근무!G330,IF(달력!$S$24=\"순서5\",근무!H330,IF(달력!$S$24=\"순서6\",근무!I330,\"\"))))))","v":"비번"},{"$f":"IF(달력!$S$25=\"순서1\",근무!D330,IF(달력!$S$25=\"순서2\",근무!E330,IF(달력!$S$25=\"순서3\",근무!F330,IF(달력!$S$25=\"순서4\",근무!G330,IF(달력!$S$25=\"순서5\",근무!H330,IF(달력!$S$25=\"순서6\",근무!I330,\"\"))))))","v":"비번"},{"$f":"IF(달력!$S$26=\"순서1\",근무!D330,IF(달력!$S$26=\"순서2\",근무!E330,IF(달력!$S$26=\"순서3\",근무!F330,IF(달력!$S$26=\"순서4\",근무!G330,IF(달력!$S$26=\"순서5\",근무!H330,IF(달력!$S$26=\"순서6\",근무!I330,\"\"))))))","v":"주간"},{"$f":"IF(달력!$S$27=\"순서1\",근무!D330,IF(달력!$S$27=\"순서2\",근무!E330,IF(달력!$S$27=\"순서3\",근무!F330,IF(달력!$S$27=\"순서4\",근무!G330,IF(달력!$S$27=\"순서5\",근무!H330,IF(달력!$S$27=\"순서6\",근무!I330,\"\"))))))","v":"주간"},{"$f":"IF(달력!$S$28=\"순서1\",근무!D330,IF(달력!$S$28=\"순서2\",근무!E330,IF(달력!$S$28=\"순서3\",근무!F330,IF(달력!$S$28=\"순서4\",근무!G330,IF(달력!$S$28=\"순서5\",근무!H330,IF(달력!$S$28=\"순서6\",근무!I330,\"\"))))))","v":"야간"},{"$f":"IF(달력!$S$29=\"순서1\",근무!D330,IF(달력!$S$29=\"순서2\",근무!E330,IF(달력!$S$29=\"순서3\",근무!F330,IF(달력!$S$29=\"순서4\",근무!G330,IF(달력!$S$29=\"순서5\",근무!H330,IF(달력!$S$29=\"순서6\",근무!I330,\"\"))))))","v":"야간"},null,null,11]
[null,"2023-11-21","화",{"$f":"IF(달력!$S$24=\"순서1\",근무!D331,IF(달력!$S$24=\"순서2\",근무!E331,IF(달력!$S$24=\"순서3\",근무!F331,IF(달력!$S$24=\"순서4\",근무!G331,IF(달력!$S$24=\"순서5\",근무!H331,IF(달력!$S$24=\"순서6\",근무!I331,\"\"))))))","v":"주간"},{"$f":"IF(달력!$S$25=\"순서1\",근무!D331,IF(달력!$S$25=\"순서2\",근무!E331,IF(달력!$S$25=\"순서3\",근무!F331,IF(달력!$S$25=\"순서4\",근무!G331,IF(달력!$S$25=\"순서5\",근무!H331,IF(달력!$S$25=\"순서6\",근무!I331,\"\"))))))","v":"주간"},{"$f":"IF(달력!$S$26=\"순서1\",근무!D331,IF(달력!$S$26=\"순서2\",근무!E331,IF(달력!$S$26=\"순서3\",근무!F331,IF(달력!$S$26=\"순서4\",근무!G331,IF(달력!$S$26=\"순서5\",근무!H331,IF(달력!$S$26=\"순서6\",근무!I331,\"\"))))))","v":"야간"},{"$f":"IF(달력!$S$27=\"순서1\",근무!D331,IF(달력!$S$27=\"순서2\",근무!E331,IF(달력!$S$27=\"순서3\",근무!F331,IF(달력!$S$27=\"순서4\",근무!G331,IF(달력!$S$27=\"순서5\",근무!H331,IF(달력!$S$27=\"순서6\",근무!I331,\"\"))))))","v":"야간"},{"$f":"IF(달력!$S$28=\"순서1\",근무!D331,IF(달력!$S$28=\"순서2\",근무!E331,IF(달력!$S$28=\"순서3\",근무!F331,IF(달력!$S$28=\"순서4\",근무!G331,IF(달력!$S$28=\"순서5\",근무!H331,IF(달력!$S$28=\"순서6\",근무!I331,\"\"))))))","v":"비번"},{"$f":"IF(달력!$S$29=\"순서1\",근무!D331,IF(달력!$S$29=\"순서2\",근무!E331,IF(달력!$S$29=\"순서3\",근무!F331,IF(달력!$S$29=\"순서4\",근무!G331,IF(달력!$S$29=\"순서5\",근무!H331,IF(달력!$S$29=\"순서6\",근무!I331,\"\"))))))","v":"비번"},null,null,11]
[null,"2023-11-22","수",{"$f":"IF(달력!$S$24=\"순서1\",근무!D332,IF(달력!$S$24=\"순서2\",근무!E332,IF(달력!$S$24=\"순서3\",근무!F332,IF(달력!$S$24=\"순서4\",근무!G332,IF(달력!$S$24=\"순서5\",근무!H332,IF(달력!$S$24=\"순서6\",근무!I332,\"\"))))))","v":"주간"},{"$f":"IF(달력!$S$25=\"순서1\",근무!D332,IF(달력!$S$25=\"순서2\",근무!E332,IF(달력!$S$25=\"순서3\",근무!F332,IF(달력!$S$25=\"순서4\",근무!G332,IF(달력!$S$25=\"순서5\",근무!H332,IF(달력!$S$25=\"순서6\",근무!I332,\"\"))))))","v":"주간"},{"$f":"IF(달력!$S$26=\"순서1\",근무!D332,IF(달력!$S$26=\"순서2\",근무!E332,IF(달력!$S$26=\"순서3\",근무!F332,IF(달력!$S$26=\"순서4\",근무!G332,IF(달력!$S$26=\"순서5\",근무!H332,IF(달력!$S$26=\"순서6\",근무!I332,\"\"))))))","v":"야간"},{"$f":"IF(달력!$S$27=\"순서1\",근무!D332,IF(달력!$S$27=\"순서2\",근무!E332,IF(달력!$S$27=\"순서3\",근무!F332,IF(달력!$S$27=\"순서4\",근무!G332,IF(달력!$S$27=\"순서5\",근무!H332,IF(달력!$S$27=\"순서6\",근무!I332,\"\"))))))","v":"야간"},{"$f":"IF(달력!$S$28=\"순서1\",근무!D332,IF(달력!$S$28=\"순서2\",근무!E332,IF(달력!$S$28=\"순서3\",근무!F332,IF(달력!$S$28=\"순서4\",근무!G332,IF(달력!$S$28=\"순서5\",근무!H332,IF(달력!$S$28=\"순서6\",근무!I332,\"\"))))))","v":"비번"},{"$f":"IF(달력!$S$29=\"순서1\",근무!D332,IF(달력!$S$29=\"순서2\",근무!E332,IF(달력!$S$29=\"순서3\",근무!F332,IF(달력!$S$29=\"순서4\",근무!G332,IF(달력!$S$29=\"순서5\",근무!H332,IF(달력!$S$29=\"순서6\",근무!I332,\"\"))))))","v":"비번"},null,null,11]
[null,"2023-11-23","목",{"$f":"IF(달력!$S$24=\"순서1\",근무!D333,IF(달력!$S$24=\"순서2\",근무!E333,IF(달력!$S$24=\"순서3\",근무!F333,IF(달력!$S$24=\"순서4\",근무!G333,IF(달력!$S$24=\"순서5\",근무!H333,IF(달력!$S$24=\"순서6\",근무!I333,\"\"))))))","v":"야간"},{"$f":"IF(달력!$S$25=\"순서1\",근무!D333,IF(달력!$S$25=\"순서2\",근무!E333,IF(달력!$S$25=\"순서3\",근무!F333,IF(달력!$S$25=\"순서4\",근무!G333,IF(달력!$S$25=\"순서5\",근무!H333,IF(달력!$S$25=\"순서6\",근무!I333,\"\"))))))","v":"야간"},{"$f":"IF(달력!$S$26=\"순서1\",근무!D333,IF(달력!$S$26=\"순서2\",근무!E333,IF(달력!$S$26=\"순서3\",근무!F333,IF(달력!$S$26=\"순서4\",근무!G333,IF(달력!$S$26=\"순서5\",근무!H333,IF(달력!$S$26=\"순서6\",근무!I333,\"\"))))))","v":"비번"},{"$f":"IF(달력!$S$27=\"순서1\",근무!D333,IF(달력!$S$27=\"순서2\",근무!E333,IF(달력!$S$27=\"순서3\",근무!F333,IF(달력!$S$27=\"순서4\",근무!G333,IF(달력!$S$27=\"순서5\",근무!H333,IF(달력!$S$27=\"순서6\",근무!I333,\"\"))))))","v":"비번"},{"$f":"IF(달력!$S$28=\"순서1\",근무!D333,IF(달력!$S$28=\"순서2\",근무!E333,IF(달력!$S$28=\"순서3\",근무!F333,IF(달력!$S$28=\"순서4\",근무!G333,IF(달력!$S$28=\"순서5\",근무!H333,IF(달력!$S$28=\"순서6\",근무!I333,\"\"))))))","v":"주간"},{"$f":"IF(달력!$S$29=\"순서1\",근무!D333,IF(달력!$S$29=\"순서2\",근무!E333,IF(달력!$S$29=\"순서3\",근무!F333,IF(달력!$S$29=\"순서4\",근무!G333,IF(달력!$S$29=\"순서5\",근무!H333,IF(달력!$S$29=\"순서6\",근무!I333,\"\"))))))","v":"주간"},null,null,11]
[null,"2023-11-24","금",{"$f":"IF(달력!$S$24=\"순서1\",근무!D334,IF(달력!$S$24=\"순서2\",근무!E334,IF(달력!$S$24=\"순서3\",근무!F334,IF(달력!$S$24=\"순서4\",근무!G334,IF(달력!$S$24=\"순서5\",근무!H334,IF(달력!$S$24=\"순서6\",근무!I334,\"\"))))))","v":"야간"},{"$f":"IF(달력!$S$25=\"순서1\",근무!D334,IF(달력!$S$25=\"순서2\",근무!E334,IF(달력!$S$25=\"순서3\",근무!F334,IF(달력!$S$25=\"순서4\",근무!G334,IF(달력!$S$25=\"순서5\",근무!H334,IF(달력!$S$25=\"순서6\",근무!I334,\"\"))))))","v":"야간"},{"$f":"IF(달력!$S$26=\"순서1\",근무!D334,IF(달력!$S$26=\"순서2\",근무!E334,IF(달력!$S$26=\"순서3\",근무!F334,IF(달력!$S$26=\"순서4\",근무!G334,IF(달력!$S$26=\"순서5\",근무!H334,IF(달력!$S$26=\"순서6\",근무!I334,\"\"))))))","v":"비번"},{"$f":"IF(달력!$S$27=\"순서1\",근무!D334,IF(달력!$S$27=\"순서2\",근무!E334,IF(달력!$S$27=\"순서3\",근무!F334,IF(달력!$S$27=\"순서4\",근무!G334,IF(달력!$S$27=\"순서5\",근무!H334,IF(달력!$S$27=\"순서6\",근무!I334,\"\"))))))","v":"비번"},{"$f":"IF(달력!$S$28=\"순서1\",근무!D334,IF(달력!$S$28=\"순서2\",근무!E334,IF(달력!$S$28=\"순서3\",근무!F334,IF(달력!$S$28=\"순서4\",근무!G334,IF(달력!$S$28=\"순서5\",근무!H334,IF(달력!$S$28=\"순서6\",근무!I334,\"\"))))))","v":"주간"},{"$f":"IF(달력!$S$29=\"순서1\",근무!D334,IF(달력!$S$29=\"순서2\",근무!E334,IF(달력!$S$29=\"순서3\",근무!F334,IF(달력!$S$29=\"순서4\",근무!G334,IF(달력!$S$29=\"순서5\",근무!H334,IF(달력!$S$29=\"순서6\",근무!I334,\"\"))))))","v":"주간"},null,null,11]
[null,"2023-11-25","토",{"$f":"IF(달력!$S$24=\"순서1\",근무!D335,IF(달력!$S$24=\"순서2\",근무!E335,IF(달력!$S$24=\"순서3\",근무!F335,IF(달력!$S$24=\"순서4\",근무!G335,IF(달력!$S$24=\"순서5\",근무!H335,IF(달력!$S$24=\"순서6\",근무!I335,\"\"))))))","v":"비번"},{"$f":"IF(달력!$S$25=\"순서1\",근무!D335,IF(달력!$S$25=\"순서2\",근무!E335,IF(달력!$S$25=\"순서3\",근무!F335,IF(달력!$S$25=\"순서4\",근무!G335,IF(달력!$S$25=\"순서5\",근무!H335,IF(달력!$S$25=\"순서6\",근무!I335,\"\"))))))","v":"비번"},{"$f":"IF(달력!$S$26=\"순서1\",근무!D335,IF(달력!$S$26=\"순서2\",근무!E335,IF(달력!$S$26=\"순서3\",근무!F335,IF(달력!$S$26=\"순서4\",근무!G335,IF(달력!$S$26=\"순서5\",근무!H335,IF(달력!$S$26=\"순서6\",근무!I335,\"\"))))))","v":"주간"},{"$f":"IF(달력!$S$27=\"순서1\",근무!D335,IF(달력!$S$27=\"순서2\",근무!E335,IF(달력!$S$27=\"순서3\",근무!F335,IF(달력!$S$27=\"순서4\",근무!G335,IF(달력!$S$27=\"순서5\",근무!H335,IF(달력!$S$27=\"순서6\",근무!I335,\"\"))))))","v":"주간"},{"$f":"IF(달력!$S$28=\"순서1\",근무!D335,IF(달력!$S$28=\"순서2\",근무!E335,IF(달력!$S$28=\"순서3\",근무!F335,IF(달력!$S$28=\"순서4\",근무!G335,IF(달력!$S$28=\"순서5\",근무!H335,IF(달력!$S$28=\"순서6\",근무!I335,\"\"))))))","v":"야간"},{"$f":"IF(달력!$S$29=\"순서1\",근무!D335,IF(달력!$S$29=\"순서2\",근무!E335,IF(달력!$S$29=\"순서3\",근무!F335,IF(달력!$S$29=\"순서4\",근무!G335,IF(달력!$S$29=\"순서5\",근무!H335,IF(달력!$S$29=\"순서6\",근무!I335,\"\"))))))","v":"야간"},null,null,11]
[null,"2023-11-26","일",{"$f":"IF(달력!$S$24=\"순서1\",근무!D336,IF(달력!$S$24=\"순서2\",근무!E336,IF(달력!$S$24=\"순서3\",근무!F336,IF(달력!$S$24=\"순서4\",근무!G336,IF(달력!$S$24=\"순서5\",근무!H336,IF(달력!$S$24=\"순서6\",근무!I336,\"\"))))))","v":"비번"},{"$f":"IF(달력!$S$25=\"순서1\",근무!D336,IF(달력!$S$25=\"순서2\",근무!E336,IF(달력!$S$25=\"순서3\",근무!F336,IF(달력!$S$25=\"순서4\",근무!G336,IF(달력!$S$25=\"순서5\",근무!H336,IF(달력!$S$25=\"순서6\",근무!I336,\"\"))))))","v":"비번"},{"$f":"IF(달력!$S$26=\"순서1\",근무!D336,IF(달력!$S$26=\"순서2\",근무!E336,IF(달력!$S$26=\"순서3\",근무!F336,IF(달력!$S$26=\"순서4\",근무!G336,IF(달력!$S$26=\"순서5\",근무!H336,IF(달력!$S$26=\"순서6\",근무!I336,\"\"))))))","v":"주간"},{"$f":"IF(달력!$S$27=\"순서1\",근무!D336,IF(달력!$S$27=\"순서2\",근무!E336,IF(달력!$S$27=\"순서3\",근무!F336,IF(달력!$S$27=\"순서4\",근무!G336,IF(달력!$S$27=\"순서5\",근무!H336,IF(달력!$S$27=\"순서6\",근무!I336,\"\"))))))","v":"주간"},{"$f":"IF(달력!$S$28=\"순서1\",근무!D336,IF(달력!$S$28=\"순서2\",근무!E336,IF(달력!$S$28=\"순서3\",근무!F336,IF(달력!$S$28=\"순서4\",근무!G336,IF(달력!$S$28=\"순서5\",근무!H336,IF(달력!$S$28=\"순서6\",근무!I336,\"\"))))))","v":"야간"},{"$f":"IF(달력!$S$29=\"순서1\",근무!D336,IF(달력!$S$29=\"순서2\",근무!E336,IF(달력!$S$29=\"순서3\",근무!F336,IF(달력!$S$29=\"순서4\",근무!G336,IF(달력!$S$29=\"순서5\",근무!H336,IF(달력!$S$29=\"순서6\",근무!I336,\"\"))))))","v":"야간"},null,null,11]
[null,"2023-11-27","월",{"$f":"IF(달력!$S$24=\"순서1\",근무!D337,IF(달력!$S$24=\"순서2\",근무!E337,IF(달력!$S$24=\"순서3\",근무!F337,IF(달력!$S$24=\"순서4\",근무!G337,IF(달력!$S$24=\"순서5\",근무!H337,IF(달력!$S$24=\"순서6\",근무!I337,\"\"))))))","v":"주간"},{"$f":"IF(달력!$S$25=\"순서1\",근무!D337,IF(달력!$S$25=\"순서2\",근무!E337,IF(달력!$S$25=\"순서3\",근무!F337,IF(달력!$S$25=\"순서4\",근무!G337,IF(달력!$S$25=\"순서5\",근무!H337,IF(달력!$S$25=\"순서6\",근무!I337,\"\"))))))","v":"주간"},{"$f":"IF(달력!$S$26=\"순서1\",근무!D337,IF(달력!$S$26=\"순서2\",근무!E337,IF(달력!$S$26=\"순서3\",근무!F337,IF(달력!$S$26=\"순서4\",근무!G337,IF(달력!$S$26=\"순서5\",근무!H337,IF(달력!$S$26=\"순서6\",근무!I337,\"\"))))))","v":"야간"},{"$f":"IF(달력!$S$27=\"순서1\",근무!D337,IF(달력!$S$27=\"순서2\",근무!E337,IF(달력!$S$27=\"순서3\",근무!F337,IF(달력!$S$27=\"순서4\",근무!G337,IF(달력!$S$27=\"순서5\",근무!H337,IF(달력!$S$27=\"순서6\",근무!I337,\"\"))))))","v":"야간"},{"$f":"IF(달력!$S$28=\"순서1\",근무!D337,IF(달력!$S$28=\"순서2\",근무!E337,IF(달력!$S$28=\"순서3\",근무!F337,IF(달력!$S$28=\"순서4\",근무!G337,IF(달력!$S$28=\"순서5\",근무!H337,IF(달력!$S$28=\"순서6\",근무!I337,\"\"))))))","v":"비번"},{"$f":"IF(달력!$S$29=\"순서1\",근무!D337,IF(달력!$S$29=\"순서2\",근무!E337,IF(달력!$S$29=\"순서3\",근무!F337,IF(달력!$S$29=\"순서4\",근무!G337,IF(달력!$S$29=\"순서5\",근무!H337,IF(달력!$S$29=\"순서6\",근무!I337,\"\"))))))","v":"비번"},null,null,11]
[null,"2023-11-28","화",{"$f":"IF(달력!$S$24=\"순서1\",근무!D338,IF(달력!$S$24=\"순서2\",근무!E338,IF(달력!$S$24=\"순서3\",근무!F338,IF(달력!$S$24=\"순서4\",근무!G338,IF(달력!$S$24=\"순서5\",근무!H338,IF(달력!$S$24=\"순서6\",근무!I338,\"\"))))))","v":"주간"},{"$f":"IF(달력!$S$25=\"순서1\",근무!D338,IF(달력!$S$25=\"순서2\",근무!E338,IF(달력!$S$25=\"순서3\",근무!F338,IF(달력!$S$25=\"순서4\",근무!G338,IF(달력!$S$25=\"순서5\",근무!H338,IF(달력!$S$25=\"순서6\",근무!I338,\"\"))))))","v":"주간"},{"$f":"IF(달력!$S$26=\"순서1\",근무!D338,IF(달력!$S$26=\"순서2\",근무!E338,IF(달력!$S$26=\"순서3\",근무!F338,IF(달력!$S$26=\"순서4\",근무!G338,IF(달력!$S$26=\"순서5\",근무!H338,IF(달력!$S$26=\"순서6\",근무!I338,\"\"))))))","v":"야간"},{"$f":"IF(달력!$S$27=\"순서1\",근무!D338,IF(달력!$S$27=\"순서2\",근무!E338,IF(달력!$S$27=\"순서3\",근무!F338,IF(달력!$S$27=\"순서4\",근무!G338,IF(달력!$S$27=\"순서5\",근무!H338,IF(달력!$S$27=\"순서6\",근무!I338,\"\"))))))","v":"야간"},{"$f":"IF(달력!$S$28=\"순서1\",근무!D338,IF(달력!$S$28=\"순서2\",근무!E338,IF(달력!$S$28=\"순서3\",근무!F338,IF(달력!$S$28=\"순서4\",근무!G338,IF(달력!$S$28=\"순서5\",근무!H338,IF(달력!$S$28=\"순서6\",근무!I338,\"\"))))))","v":"비번"},{"$f":"IF(달력!$S$29=\"순서1\",근무!D338,IF(달력!$S$29=\"순서2\",근무!E338,IF(달력!$S$29=\"순서3\",근무!F338,IF(달력!$S$29=\"순서4\",근무!G338,IF(달력!$S$29=\"순서5\",근무!H338,IF(달력!$S$29=\"순서6\",근무!I338,\"\"))))))","v":"비번"},null,null,11]
[null,"2023-11-29","수",{"$f":"IF(달력!$S$24=\"순서1\",근무!D339,IF(달력!$S$24=\"순서2\",근무!E339,IF(달력!$S$24=\"순서3\",근무!F339,IF(달력!$S$24=\"순서4\",근무!G339,IF(달력!$S$24=\"순서5\",근무!H339,IF(달력!$S$24=\"순서6\",근무!I339,\"\"))))))","v":"야간"},{"$f":"IF(달력!$S$25=\"순서1\",근무!D339,IF(달력!$S$25=\"순서2\",근무!E339,IF(달력!$S$25=\"순서3\",근무!F339,IF(달력!$S$25=\"순서4\",근무!G339,IF(달력!$S$25=\"순서5\",근무!H339,IF(달력!$S$25=\"순서6\",근무!I339,\"\"))))))","v":"야간"},{"$f":"IF(달력!$S$26=\"순서1\",근무!D339,IF(달력!$S$26=\"순서2\",근무!E339,IF(달력!$S$26=\"순서3\",근무!F339,IF(달력!$S$26=\"순서4\",근무!G339,IF(달력!$S$26=\"순서5\",근무!H339,IF(달력!$S$26=\"순서6\",근무!I339,\"\"))))))","v":"비번"},{"$f":"IF(달력!$S$27=\"순서1\",근무!D339,IF(달력!$S$27=\"순서2\",근무!E339,IF(달력!$S$27=\"순서3\",근무!F339,IF(달력!$S$27=\"순서4\",근무!G339,IF(달력!$S$27=\"순서5\",근무!H339,IF(달력!$S$27=\"순서6\",근무!I339,\"\"))))))","v":"비번"},{"$f":"IF(달력!$S$28=\"순서1\",근무!D339,IF(달력!$S$28=\"순서2\",근무!E339,IF(달력!$S$28=\"순서3\",근무!F339,IF(달력!$S$28=\"순서4\",근무!G339,IF(달력!$S$28=\"순서5\",근무!H339,IF(달력!$S$28=\"순서6\",근무!I339,\"\"))))))","v":"주간"},{"$f":"IF(달력!$S$29=\"순서1\",근무!D339,IF(달력!$S$29=\"순서2\",근무!E339,IF(달력!$S$29=\"순서3\",근무!F339,IF(달력!$S$29=\"순서4\",근무!G339,IF(달력!$S$29=\"순서5\",근무!H339,IF(달력!$S$29=\"순서6\",근무!I339,\"\"))))))","v":"주간"},null,null,11]
[null,"2023-11-30","목",{"$f":"IF(달력!$S$24=\"순서1\",근무!D340,IF(달력!$S$24=\"순서2\",근무!E340,IF(달력!$S$24=\"순서3\",근무!F340,IF(달력!$S$24=\"순서4\",근무!G340,IF(달력!$S$24=\"순서5\",근무!H340,IF(달력!$S$24=\"순서6\",근무!I340,\"\"))))))","v":"야간"},{"$f":"IF(달력!$S$25=\"순서1\",근무!D340,IF(달력!$S$25=\"순서2\",근무!E340,IF(달력!$S$25=\"순서3\",근무!F340,IF(달력!$S$25=\"순서4\",근무!G340,IF(달력!$S$25=\"순서5\",근무!H340,IF(달력!$S$25=\"순서6\",근무!I340,\"\"))))))","v":"야간"},{"$f":"IF(달력!$S$26=\"순서1\",근무!D340,IF(달력!$S$26=\"순서2\",근무!E340,IF(달력!$S$26=\"순서3\",근무!F340,IF(달력!$S$26=\"순서4\",근무!G340,IF(달력!$S$26=\"순서5\",근무!H340,IF(달력!$S$26=\"순서6\",근무!I340,\"\"))))))","v":"비번"},{"$f":"IF(달력!$S$27=\"순서1\",근무!D340,IF(달력!$S$27=\"순서2\",근무!E340,IF(달력!$S$27=\"순서3\",근무!F340,IF(달력!$S$27=\"순서4\",근무!G340,IF(달력!$S$27=\"순서5\",근무!H340,IF(달력!$S$27=\"순서6\",근무!I340,\"\"))))))","v":"비번"},{"$f":"IF(달력!$S$28=\"순서1\",근무!D340,IF(달력!$S$28=\"순서2\",근무!E340,IF(달력!$S$28=\"순서3\",근무!F340,IF(달력!$S$28=\"순서4\",근무!G340,IF(달력!$S$28=\"순서5\",근무!H340,IF(달력!$S$28=\"순서6\",근무!I340,\"\"))))))","v":"주간"},{"$f":"IF(달력!$S$29=\"순서1\",근무!D340,IF(달력!$S$29=\"순서2\",근무!E340,IF(달력!$S$29=\"순서3\",근무!F340,IF(달력!$S$29=\"순서4\",근무!G340,IF(달력!$S$29=\"순서5\",근무!H340,IF(달력!$S$29=\"순서6\",근무!I340,\"\"))))))","v":"주간"},null,null,11]
[null,"2023-12-01","금",{"$f":"IF(달력!$S$24=\"순서1\",근무!D341,IF(달력!$S$24=\"순서2\",근무!E341,IF(달력!$S$24=\"순서3\",근무!F341,IF(달력!$S$24=\"순서4\",근무!G341,IF(달력!$S$24=\"순서5\",근무!H341,IF(달력!$S$24=\"순서6\",근무!I341,\"\"))))))","v":"비번"},{"$f":"IF(달력!$S$25=\"순서1\",근무!D341,IF(달력!$S$25=\"순서2\",근무!E341,IF(달력!$S$25=\"순서3\",근무!F341,IF(달력!$S$25=\"순서4\",근무!G341,IF(달력!$S$25=\"순서5\",근무!H341,IF(달력!$S$25=\"순서6\",근무!I341,\"\"))))))","v":"비번"},{"$f":"IF(달력!$S$26=\"순서1\",근무!D341,IF(달력!$S$26=\"순서2\",근무!E341,IF(달력!$S$26=\"순서3\",근무!F341,IF(달력!$S$26=\"순서4\",근무!G341,IF(달력!$S$26=\"순서5\",근무!H341,IF(달력!$S$26=\"순서6\",근무!I341,\"\"))))))","v":"주간"},{"$f":"IF(달력!$S$27=\"순서1\",근무!D341,IF(달력!$S$27=\"순서2\",근무!E341,IF(달력!$S$27=\"순서3\",근무!F341,IF(달력!$S$27=\"순서4\",근무!G341,IF(달력!$S$27=\"순서5\",근무!H341,IF(달력!$S$27=\"순서6\",근무!I341,\"\"))))))","v":"주간"},{"$f":"IF(달력!$S$28=\"순서1\",근무!D341,IF(달력!$S$28=\"순서2\",근무!E341,IF(달력!$S$28=\"순서3\",근무!F341,IF(달력!$S$28=\"순서4\",근무!G341,IF(달력!$S$28=\"순서5\",근무!H341,IF(달력!$S$28=\"순서6\",근무!I341,\"\"))))))","v":"야간"},{"$f":"IF(달력!$S$29=\"순서1\",근무!D341,IF(달력!$S$29=\"순서2\",근무!E341,IF(달력!$S$29=\"순서3\",근무!F341,IF(달력!$S$29=\"순서4\",근무!G341,IF(달력!$S$29=\"순서5\",근무!H341,IF(달력!$S$29=\"순서6\",근무!I341,\"\"))))))","v":"야간"},null,"주간",12,{"$f":"COUNTIFS(일정1내용,$K341,$L$7:$L$372,12)","v":10},{"$f":"COUNTIFS(일정2내용,$K341,$L$7:$L$372,12)","v":10},{"$f":"COUNTIFS(일정3내용,$K341,$L$7:$L$372,12)","v":11},{"$f":"COUNTIFS(일정4내용,$K341,$L$7:$L$372,12)","v":11},{"$f":"COUNTIFS(일정5내용,$K341,$L$7:$L$372,12)","v":10},{"$f":"COUNTIFS(일정6내용,$K341,$L$7:$L$372,12)","v":10}]
[null,"2023-12-02","토",{"$f":"IF(달력!$S$24=\"순서1\",근무!D342,IF(달력!$S$24=\"순서2\",근무!E342,IF(달력!$S$24=\"순서3\",근무!F342,IF(달력!$S$24=\"순서4\",근무!G342,IF(달력!$S$24=\"순서5\",근무!H342,IF(달력!$S$24=\"순서6\",근무!I342,\"\"))))))","v":"비번"},{"$f":"IF(달력!$S$25=\"순서1\",근무!D342,IF(달력!$S$25=\"순서2\",근무!E342,IF(달력!$S$25=\"순서3\",근무!F342,IF(달력!$S$25=\"순서4\",근무!G342,IF(달력!$S$25=\"순서5\",근무!H342,IF(달력!$S$25=\"순서6\",근무!I342,\"\"))))))","v":"비번"},{"$f":"IF(달력!$S$26=\"순서1\",근무!D342,IF(달력!$S$26=\"순서2\",근무!E342,IF(달력!$S$26=\"순서3\",근무!F342,IF(달력!$S$26=\"순서4\",근무!G342,IF(달력!$S$26=\"순서5\",근무!H342,IF(달력!$S$26=\"순서6\",근무!I342,\"\"))))))","v":"주간"},{"$f":"IF(달력!$S$27=\"순서1\",근무!D342,IF(달력!$S$27=\"순서2\",근무!E342,IF(달력!$S$27=\"순서3\",근무!F342,IF(달력!$S$27=\"순서4\",근무!G342,IF(달력!$S$27=\"순서5\",근무!H342,IF(달력!$S$27=\"순서6\",근무!I342,\"\"))))))","v":"주간"},{"$f":"IF(달력!$S$28=\"순서1\",근무!D342,IF(달력!$S$28=\"순서2\",근무!E342,IF(달력!$S$28=\"순서3\",근무!F342,IF(달력!$S$28=\"순서4\",근무!G342,IF(달력!$S$28=\"순서5\",근무!H342,IF(달력!$S$28=\"순서6\",근무!I342,\"\"))))))","v":"야간"},{"$f":"IF(달력!$S$29=\"순서1\",근무!D342,IF(달력!$S$29=\"순서2\",근무!E342,IF(달력!$S$29=\"순서3\",근무!F342,IF(달력!$S$29=\"순서4\",근무!G342,IF(달력!$S$29=\"순서5\",근무!H342,IF(달력!$S$29=\"순서6\",근무!I342,\"\"))))))","v":"야간"},null,"야간",12,{"$f":"COUNTIFS(일정1내용,$K342,$L$7:$L$372,12)","v":10},{"$f":"COUNTIFS(일정2내용,$K342,$L$7:$L$372,12)","v":10},{"$f":"COUNTIFS(일정3내용,$K342,$L$7:$L$372,12)","v":10},{"$f":"COUNTIFS(일정4내용,$K342,$L$7:$L$372,12)","v":10},{"$f":"COUNTIFS(일정5내용,$K342,$L$7:$L$372,12)","v":11},{"$f":"COUNTIFS(일정6내용,$K342,$L$7:$L$372,12)","v":11}]
[null,"2023-12-03","일",{"$f":"IF(달력!$S$24=\"순서1\",근무!D343,IF(달력!$S$24=\"순서2\",근무!E343,IF(달력!$S$24=\"순서3\",근무!F343,IF(달력!$S$24=\"순서4\",근무!G343,IF(달력!$S$24=\"순서5\",근무!H343,IF(달력!$S$24=\"순서6\",근무!I343,\"\"))))))","v":"주간"},{"$f":"IF(달력!$S$25=\"순서1\",근무!D343,IF(달력!$S$25=\"순서2\",근무!E343,IF(달력!$S$25=\"순서3\",근무!F343,IF(달력!$S$25=\"순서4\",근무!G343,IF(달력!$S$25=\"순서5\",근무!H343,IF(달력!$S$25=\"순서6\",근무!I343,\"\"))))))","v":"주간"},{"$f":"IF(달력!$S$26=\"순서1\",근무!D343,IF(달력!$S$26=\"순서2\",근무!E343,IF(달력!$S$26=\"순서3\",근무!F343,IF(달력!$S$26=\"순서4\",근무!G343,IF(달력!$S$26=\"순서5\",근무!H343,IF(달력!$S$26=\"순서6\",근무!I343,\"\"))))))","v":"야간"},{"$f":"IF(달력!$S$27=\"순서1\",근무!D343,IF(달력!$S$27=\"순서2\",근무!E343,IF(달력!$S$27=\"순서3\",근무!F343,IF(달력!$S$27=\"순서4\",근무!G343,IF(달력!$S$27=\"순서5\",근무!H343,IF(달력!$S$27=\"순서6\",근무!I343,\"\"))))))","v":"야간"},{"$f":"IF(달력!$S$28=\"순서1\",근무!D343,IF(달력!$S$28=\"순서2\",근무!E343,IF(달력!$S$28=\"순서3\",근무!F343,IF(달력!$S$28=\"순서4\",근무!G343,IF(달력!$S$28=\"순서5\",근무!H343,IF(달력!$S$28=\"순서6\",근무!I343,\"\"))))))","v":"비번"},{"$f":"IF(달력!$S$29=\"순서1\",근무!D343,IF(달력!$S$29=\"순서2\",근무!E343,IF(달력!$S$29=\"순서3\",근무!F343,IF(달력!$S$29=\"순서4\",근무!G343,IF(달력!$S$29=\"순서5\",근무!H343,IF(달력!$S$29=\"순서6\",근무!I343,\"\"))))))","v":"비번"},null,"비번",12,{"$f":"COUNTIFS(일정1내용,$K343,$L$7:$L$372,12)","v":11},{"$f":"COUNTIFS(일정2내용,$K343,$L$7:$L$372,12)","v":11},{"$f":"COUNTIFS(일정3내용,$K343,$L$7:$L$372,12)","v":10},{"$f":"COUNTIFS(일정4내용,$K343,$L$7:$L$372,12)","v":10},{"$f":"COUNTIFS(일정5내용,$K343,$L$7:$L$372,12)","v":10},{"$f":"COUNTIFS(일정6내용,$K343,$L$7:$L$372,12)","v":10}]
[null,"2023-12-04","월",{"$f":"IF(달력!$S$24=\"순서1\",근무!D344,IF(달력!$S$24=\"순서2\",근무!E344,IF(달력!$S$24=\"순서3\",근무!F344,IF(달력!$S$24=\"순서4\",근무!G344,IF(달력!$S$24=\"순서5\",근무!H344,IF(달력!$S$24=\"순서6\",근무!I344,\"\"))))))","v":"주간"},{"$f":"IF(달력!$S$25=\"순서1\",근무!D344,IF(달력!$S$25=\"순서2\",근무!E344,IF(달력!$S$25=\"순서3\",근무!F344,IF(달력!$S$25=\"순서4\",근무!G344,IF(달력!$S$25=\"순서5\",근무!H344,IF(달력!$S$25=\"순서6\",근무!I344,\"\"))))))","v":"주간"},{"$f":"IF(달력!$S$26=\"순서1\",근무!D344,IF(달력!$S$26=\"순서2\",근무!E344,IF(달력!$S$26=\"순서3\",근무!F344,IF(달력!$S$26=\"순서4\",근무!G344,IF(달력!$S$26=\"순서5\",근무!H344,IF(달력!$S$26=\"순서6\",근무!I344,\"\"))))))","v":"야간"},{"$f":"IF(달력!$S$27=\"순서1\",근무!D344,IF(달력!$S$27=\"순서2\",근무!E344,IF(달력!$S$27=\"순서3\",근무!F344,IF(달력!$S$27=\"순서4\",근무!G344,IF(달력!$S$27=\"순서5\",근무!H344,IF(달력!$S$27=\"순서6\",근무!I344,\"\"))))))","v":"야간"},{"$f":"IF(달력!$S$28=\"순서1\",근무!D344,IF(달력!$S$28=\"순서2\",근무!E344,IF(달력!$S$28=\"순서3\",근무!F344,IF(달력!$S$28=\"순서4\",근무!G344,IF(달력!$S$28=\"순서5\",근무!H344,IF(달력!$S$28=\"순서6\",근무!I344,\"\"))))))","v":"비번"},{"$f":"IF(달력!$S$29=\"순서1\",근무!D344,IF(달력!$S$29=\"순서2\",근무!E344,IF(달력!$S$29=\"순서3\",근무!F344,IF(달력!$S$29=\"순서4\",근무!G344,IF(달력!$S$29=\"순서5\",근무!H344,IF(달력!$S$29=\"순서6\",근무!I344,\"\"))))))","v":"비번"},null,"근무일 계",12,{"$f":"M341+M342","v":20},{"$f":"N341+N342","v":20},21,21,21,21]
[null,"2023-12-05","화",{"$f":"IF(달력!$S$24=\"순서1\",근무!D345,IF(달력!$S$24=\"순서2\",근무!E345,IF(달력!$S$24=\"순서3\",근무!F345,IF(달력!$S$24=\"순서4\",근무!G345,IF(달력!$S$24=\"순서5\",근무!H345,IF(달력!$S$24=\"순서6\",근무!I345,\"\"))))))","v":"야간"},{"$f":"IF(달력!$S$25=\"순서1\",근무!D345,IF(달력!$S$25=\"순서2\",근무!E345,IF(달력!$S$25=\"순서3\",근무!F345,IF(달력!$S$25=\"순서4\",근무!G345,IF(달력!$S$25=\"순서5\",근무!H345,IF(달력!$S$25=\"순서6\",근무!I345,\"\"))))))","v":"야간"},{"$f":"IF(달력!$S$26=\"순서1\",근무!D345,IF(달력!$S$26=\"순서2\",근무!E345,IF(달력!$S$26=\"순서3\",근무!F345,IF(달력!$S$26=\"순서4\",근무!G345,IF(달력!$S$26=\"순서5\",근무!H345,IF(달력!$S$26=\"순서6\",근무!I345,\"\"))))))","v":"비번"},{"$f":"IF(달력!$S$27=\"순서1\",근무!D345,IF(달력!$S$27=\"순서2\",근무!E345,IF(달력!$S$27=\"순서3\",근무!F345,IF(달력!$S$27=\"순서4\",근무!G345,IF(달력!$S$27=\"순서5\",근무!H345,IF(달력!$S$27=\"순서6\",근무!I345,\"\"))))))","v":"비번"},{"$f":"IF(달력!$S$28=\"순서1\",근무!D345,IF(달력!$S$28=\"순서2\",근무!E345,IF(달력!$S$28=\"순서3\",근무!F345,IF(달력!$S$28=\"순서4\",근무!G345,IF(달력!$S$28=\"순서5\",근무!H345,IF(달력!$S$28=\"순서6\",근무!I345,\"\"))))))","v":"주간"},{"$f":"IF(달력!$S$29=\"순서1\",근무!D345,IF(달력!$S$29=\"순서2\",근무!E345,IF(달력!$S$29=\"순서3\",근무!F345,IF(달력!$S$29=\"순서4\",근무!G345,IF(달력!$S$29=\"순서5\",근무!H345,IF(달력!$S$29=\"순서6\",근무!I345,\"\"))))))","v":"주간"},null,null,12]
[null,"2023-12-06","수",{"$f":"IF(달력!$S$24=\"순서1\",근무!D346,IF(달력!$S$24=\"순서2\",근무!E346,IF(달력!$S$24=\"순서3\",근무!F346,IF(달력!$S$24=\"순서4\",근무!G346,IF(달력!$S$24=\"순서5\",근무!H346,IF(달력!$S$24=\"순서6\",근무!I346,\"\"))))))","v":"야간"},{"$f":"IF(달력!$S$25=\"순서1\",근무!D346,IF(달력!$S$25=\"순서2\",근무!E346,IF(달력!$S$25=\"순서3\",근무!F346,IF(달력!$S$25=\"순서4\",근무!G346,IF(달력!$S$25=\"순서5\",근무!H346,IF(달력!$S$25=\"순서6\",근무!I346,\"\"))))))","v":"야간"},{"$f":"IF(달력!$S$26=\"순서1\",근무!D346,IF(달력!$S$26=\"순서2\",근무!E346,IF(달력!$S$26=\"순서3\",근무!F346,IF(달력!$S$26=\"순서4\",근무!G346,IF(달력!$S$26=\"순서5\",근무!H346,IF(달력!$S$26=\"순서6\",근무!I346,\"\"))))))","v":"비번"},{"$f":"IF(달력!$S$27=\"순서1\",근무!D346,IF(달력!$S$27=\"순서2\",근무!E346,IF(달력!$S$27=\"순서3\",근무!F346,IF(달력!$S$27=\"순서4\",근무!G346,IF(달력!$S$27=\"순서5\",근무!H346,IF(달력!$S$27=\"순서6\",근무!I346,\"\"))))))","v":"비번"},{"$f":"IF(달력!$S$28=\"순서1\",근무!D346,IF(달력!$S$28=\"순서2\",근무!E346,IF(달력!$S$28=\"순서3\",근무!F346,IF(달력!$S$28=\"순서4\",근무!G346,IF(달력!$S$28=\"순서5\",근무!H346,IF(달력!$S$28=\"순서6\",근무!I346,\"\"))))))","v":"주간"},{"$f":"IF(달력!$S$29=\"순서1\",근무!D346,IF(달력!$S$29=\"순서2\",근무!E346,IF(달력!$S$29=\"순서3\",근무!F346,IF(달력!$S$29=\"순서4\",근무!G346,IF(달력!$S$29=\"순서5\",근무!H346,IF(달력!$S$29=\"순서6\",근무!I346,\"\"))))))","v":"주간"},null,"주간",12,{"$f":"COUNTIF(일정1내용,\"주간\")","v":122},{"$f":"COUNTIF(일정2내용,\"주간\")","v":122},{"$f":"COUNTIF(일정3내용,\"주간\")","v":121},{"$f":"COUNTIF(일정4내용,\"주간\")","v":121},{"$f":"COUNTIF(일정5내용,\"주간\")","v":122},{"$f":"COUNTIF(일정6내용,\"주간\")","v":122}]
[null,"2023-12-07","목",{"$f":"IF(달력!$S$24=\"순서1\",근무!D347,IF(달력!$S$24=\"순서2\",근무!E347,IF(달력!$S$24=\"순서3\",근무!F347,IF(달력!$S$24=\"순서4\",근무!G347,IF(달력!$S$24=\"순서5\",근무!H347,IF(달력!$S$24=\"순서6\",근무!I347,\"\"))))))","v":"비번"},{"$f":"IF(달력!$S$25=\"순서1\",근무!D347,IF(달력!$S$25=\"순서2\",근무!E347,IF(달력!$S$25=\"순서3\",근무!F347,IF(달력!$S$25=\"순서4\",근무!G347,IF(달력!$S$25=\"순서5\",근무!H347,IF(달력!$S$25=\"순서6\",근무!I347,\"\"))))))","v":"비번"},{"$f":"IF(달력!$S$26=\"순서1\",근무!D347,IF(달력!$S$26=\"순서2\",근무!E347,IF(달력!$S$26=\"순서3\",근무!F347,IF(달력!$S$26=\"순서4\",근무!G347,IF(달력!$S$26=\"순서5\",근무!H347,IF(달력!$S$26=\"순서6\",근무!I347,\"\"))))))","v":"주간"},{"$f":"IF(달력!$S$27=\"순서1\",근무!D347,IF(달력!$S$27=\"순서2\",근무!E347,IF(달력!$S$27=\"순서3\",근무!F347,IF(달력!$S$27=\"순서4\",근무!G347,IF(달력!$S$27=\"순서5\",근무!H347,IF(달력!$S$27=\"순서6\",근무!I347,\"\"))))))","v":"주간"},{"$f":"IF(달력!$S$28=\"순서1\",근무!D347,IF(달력!$S$28=\"순서2\",근무!E347,IF(달력!$S$28=\"순서3\",근무!F347,IF(달력!$S$28=\"순서4\",근무!G347,IF(달력!$S$28=\"순서5\",근무!H347,IF(달력!$S$28=\"순서6\",근무!I347,\"\"))))))","v":"야간"},{"$f":"IF(달력!$S$29=\"순서1\",근무!D347,IF(달력!$S$29=\"순서2\",근무!E347,IF(달력!$S$29=\"순서3\",근무!F347,IF(달력!$S$29=\"순서4\",근무!G347,IF(달력!$S$29=\"순서5\",근무!H347,IF(달력!$S$29=\"순서6\",근무!I347,\"\"))))))","v":"야간"},null,"야간",{"$f":"MONTH(B347)","v":12},{"$f":"COUNTIF(일정1내용,\"야간\")","v":122},{"$f":"COUNTIF(일정2내용,\"야간\")","v":122},{"$f":"COUNTIF(일정3내용,\"야간\")","v":122},{"$f":"COUNTIF(일정4내용,\"야간\")","v":122},{"$f":"COUNTIF(일정5내용,\"야간\")","v":121},{"$f":"COUNTIF(일정6내용,\"야간\")","v":121}]
[null,"2023-12-08","금",{"$f":"IF(달력!$S$24=\"순서1\",근무!D348,IF(달력!$S$24=\"순서2\",근무!E348,IF(달력!$S$24=\"순서3\",근무!F348,IF(달력!$S$24=\"순서4\",근무!G348,IF(달력!$S$24=\"순서5\",근무!H348,IF(달력!$S$24=\"순서6\",근무!I348,\"\"))))))","v":"비번"},{"$f":"IF(달력!$S$25=\"순서1\",근무!D348,IF(달력!$S$25=\"순서2\",근무!E348,IF(달력!$S$25=\"순서3\",근무!F348,IF(달력!$S$25=\"순서4\",근무!G348,IF(달력!$S$25=\"순서5\",근무!H348,IF(달력!$S$25=\"순서6\",근무!I348,\"\"))))))","v":"비번"},{"$f":"IF(달력!$S$26=\"순서1\",근무!D348,IF(달력!$S$26=\"순서2\",근무!E348,IF(달력!$S$26=\"순서3\",근무!F348,IF(달력!$S$26=\"순서4\",근무!G348,IF(달력!$S$26=\"순서5\",근무!H348,IF(달력!$S$26=\"순서6\",근무!I348,\"\"))))))","v":"주간"},{"$f":"IF(달력!$S$27=\"순서1\",근무!D348,IF(달력!$S$27=\"순서2\",근무!E348,IF(달력!$S$27=\"순서3\",근무!F348,IF(달력!$S$27=\"순서4\",근무!G348,IF(달력!$S$27=\"순서5\",근무!H348,IF(달력!$S$27=\"순서6\",근무!I348,\"\"))))))","v":"주간"},{"$f":"IF(달력!$S$28=\"순서1\",근무!D348,IF(달력!$S$28=\"순서2\",근무!E348,IF(달력!$S$28=\"순서3\",근무!F348,IF(달력!$S$28=\"순서4\",근무!G348,IF(달력!$S$28=\"순서5\",근무!H348,IF(달력!$S$28=\"순서6\",근무!I348,\"\"))))))","v":"야간"},{"$f":"IF(달력!$S$29=\"순서1\",근무!D348,IF(달력!$S$29=\"순서2\",근무!E348,IF(달력!$S$29=\"순서3\",근무!F348,IF(달력!$S$29=\"순서4\",근무!G348,IF(달력!$S$29=\"순서5\",근무!H348,IF(달력!$S$29=\"순서6\",근무!I348,\"\"))))))","v":"야간"},null,"비번",{"$f":"MONTH(B348)","v":12},{"$f":"COUNTIF(일정1내용,\"비번\")","v":121},{"$f":"COUNTIF(일정2내용,\"비번\")","v":121},{"$f":"COUNTIF(일정3내용,\"비번\")","v":122},{"$f":"COUNTIF(일정4내용,\"비번\")","v":122},{"$f":"COUNTIF(일정5내용,\"비번\")","v":122},{"$f":"COUNTIF(일정6내용,\"비번\")","v":122}]
[null,"2023-12-09","토",{"$f":"IF(달력!$S$24=\"순서1\",근무!D349,IF(달력!$S$24=\"순서2\",근무!E349,IF(달력!$S$24=\"순서3\",근무!F349,IF(달력!$S$24=\"순서4\",근무!G349,IF(달력!$S$24=\"순서5\",근무!H349,IF(달력!$S$24=\"순서6\",근무!I349,\"\"))))))","v":"주간"},{"$f":"IF(달력!$S$25=\"순서1\",근무!D349,IF(달력!$S$25=\"순서2\",근무!E349,IF(달력!$S$25=\"순서3\",근무!F349,IF(달력!$S$25=\"순서4\",근무!G349,IF(달력!$S$25=\"순서5\",근무!H349,IF(달력!$S$25=\"순서6\",근무!I349,\"\"))))))","v":"주간"},{"$f":"IF(달력!$S$26=\"순서1\",근무!D349,IF(달력!$S$26=\"순서2\",근무!E349,IF(달력!$S$26=\"순서3\",근무!F349,IF(달력!$S$26=\"순서4\",근무!G349,IF(달력!$S$26=\"순서5\",근무!H349,IF(달력!$S$26=\"순서6\",근무!I349,\"\"))))))","v":"야간"},{"$f":"IF(달력!$S$27=\"순서1\",근무!D349,IF(달력!$S$27=\"순서2\",근무!E349,IF(달력!$S$27=\"순서3\",근무!F349,IF(달력!$S$27=\"순서4\",근무!G349,IF(달력!$S$27=\"순서5\",근무!H349,IF(달력!$S$27=\"순서6\",근무!I349,\"\"))))))","v":"야간"},{"$f":"IF(달력!$S$28=\"순서1\",근무!D349,IF(달력!$S$28=\"순서2\",근무!E349,IF(달력!$S$28=\"순서3\",근무!F349,IF(달력!$S$28=\"순서4\",근무!G349,IF(달력!$S$28=\"순서5\",근무!H349,IF(달력!$S$28=\"순서6\",근무!I349,\"\"))))))","v":"비번"},{"$f":"IF(달력!$S$29=\"순서1\",근무!D349,IF(달력!$S$29=\"순서2\",근무!E349,IF(달력!$S$29=\"순서3\",근무!F349,IF(달력!$S$29=\"순서4\",근무!G349,IF(달력!$S$29=\"순서5\",근무!H349,IF(달력!$S$29=\"순서6\",근무!I349,\"\"))))))","v":"비번"},null,"연간 계",{"$f":"MONTH(B349)","v":12},{"$f":"M346+M347","v":244},244,243,243,243,243]
[null,"2023-12-10","일",{"$f":"IF(달력!$S$24=\"순서1\",근무!D350,IF(달력!$S$24=\"순서2\",근무!E350,IF(달력!$S$24=\"순서3\",근무!F350,IF(달력!$S$24=\"순서4\",근무!G350,IF(달력!$S$24=\"순서5\",근무!H350,IF(달력!$S$24=\"순서6\",근무!I350,\"\"))))))","v":"주간"},{"$f":"IF(달력!$S$25=\"순서1\",근무!D350,IF(달력!$S$25=\"순서2\",근무!E350,IF(달력!$S$25=\"순서3\",근무!F350,IF(달력!$S$25=\"순서4\",근무!G350,IF(달력!$S$25=\"순서5\",근무!H350,IF(달력!$S$25=\"순서6\",근무!I350,\"\"))))))","v":"주간"},{"$f":"IF(달력!$S$26=\"순서1\",근무!D350,IF(달력!$S$26=\"순서2\",근무!E350,IF(달력!$S$26=\"순서3\",근무!F350,IF(달력!$S$26=\"순서4\",근무!G350,IF(달력!$S$26=\"순서5\",근무!H350,IF(달력!$S$26=\"순서6\",근무!I350,\"\"))))))","v":"야간"},{"$f":"IF(달력!$S$27=\"순서1\",근무!D350,IF(달력!$S$27=\"순서2\",근무!E350,IF(달력!$S$27=\"순서3\",근무!F350,IF(달력!$S$27=\"순서4\",근무!G350,IF(달력!$S$27=\"순서5\",근무!H350,IF(달력!$S$27=\"순서6\",근무!I350,\"\"))))))","v":"야간"},{"$f":"IF(달력!$S$28=\"순서1\",근무!D350,IF(달력!$S$28=\"순서2\",근무!E350,IF(달력!$S$28=\"순서3\",근무!F350,IF(달력!$S$28=\"순서4\",근무!G350,IF(달력!$S$28=\"순서5\",근무!H350,IF(달력!$S$28=\"순서6\",근무!I350,\"\"))))))","v":"비번"},{"$f":"IF(달력!$S$29=\"순서1\",근무!D350,IF(달력!$S$29=\"순서2\",근무!E350,IF(달력!$S$29=\"순서3\",근무!F350,IF(달력!$S$29=\"순서4\",근무!G350,IF(달력!$S$29=\"순서5\",근무!H350,IF(달력!$S$29=\"순서6\",근무!I350,\"\"))))))","v":"비번"},null,null,{"$f":"MONTH(B350)","v":12}]
[null,"2023-12-11","월",{"$f":"IF(달력!$S$24=\"순서1\",근무!D351,IF(달력!$S$24=\"순서2\",근무!E351,IF(달력!$S$24=\"순서3\",근무!F351,IF(달력!$S$24=\"순서4\",근무!G351,IF(달력!$S$24=\"순서5\",근무!H351,IF(달력!$S$24=\"순서6\",근무!I351,\"\"))))))","v":"야간"},{"$f":"IF(달력!$S$25=\"순서1\",근무!D351,IF(달력!$S$25=\"순서2\",근무!E351,IF(달력!$S$25=\"순서3\",근무!F351,IF(달력!$S$25=\"순서4\",근무!G351,IF(달력!$S$25=\"순서5\",근무!H351,IF(달력!$S$25=\"순서6\",근무!I351,\"\"))))))","v":"야간"},{"$f":"IF(달력!$S$26=\"순서1\",근무!D351,IF(달력!$S$26=\"순서2\",근무!E351,IF(달력!$S$26=\"순서3\",근무!F351,IF(달력!$S$26=\"순서4\",근무!G351,IF(달력!$S$26=\"순서5\",근무!H351,IF(달력!$S$26=\"순서6\",근무!I351,\"\"))))))","v":"비번"},{"$f":"IF(달력!$S$27=\"순서1\",근무!D351,IF(달력!$S$27=\"순서2\",근무!E351,IF(달력!$S$27=\"순서3\",근무!F351,IF(달력!$S$27=\"순서4\",근무!G351,IF(달력!$S$27=\"순서5\",근무!H351,IF(달력!$S$27=\"순서6\",근무!I351,\"\"))))))","v":"비번"},{"$f":"IF(달력!$S$28=\"순서1\",근무!D351,IF(달력!$S$28=\"순서2\",근무!E351,IF(달력!$S$28=\"순서3\",근무!F351,IF(달력!$S$28=\"순서4\",근무!G351,IF(달력!$S$28=\"순서5\",근무!H351,IF(달력!$S$28=\"순서6\",근무!I351,\"\"))))))","v":"주간"},{"$f":"IF(달력!$S$29=\"순서1\",근무!D351,IF(달력!$S$29=\"순서2\",근무!E351,IF(달력!$S$29=\"순서3\",근무!F351,IF(달력!$S$29=\"순서4\",근무!G351,IF(달력!$S$29=\"순서5\",근무!H351,IF(달력!$S$29=\"순서6\",근무!I351,\"\"))))))","v":"주간"},null,null,12]
[null,"2023-12-12","화",{"$f":"IF(달력!$S$24=\"순서1\",근무!D352,IF(달력!$S$24=\"순서2\",근무!E352,IF(달력!$S$24=\"순서3\",근무!F352,IF(달력!$S$24=\"순서4\",근무!G352,IF(달력!$S$24=\"순서5\",근무!H352,IF(달력!$S$24=\"순서6\",근무!I352,\"\"))))))","v":"야간"},{"$f":"IF(달력!$S$25=\"순서1\",근무!D352,IF(달력!$S$25=\"순서2\",근무!E352,IF(달력!$S$25=\"순서3\",근무!F352,IF(달력!$S$25=\"순서4\",근무!G352,IF(달력!$S$25=\"순서5\",근무!H352,IF(달력!$S$25=\"순서6\",근무!I352,\"\"))))))","v":"야간"},{"$f":"IF(달력!$S$26=\"순서1\",근무!D352,IF(달력!$S$26=\"순서2\",근무!E352,IF(달력!$S$26=\"순서3\",근무!F352,IF(달력!$S$26=\"순서4\",근무!G352,IF(달력!$S$26=\"순서5\",근무!H352,IF(달력!$S$26=\"순서6\",근무!I352,\"\"))))))","v":"비번"},{"$f":"IF(달력!$S$27=\"순서1\",근무!D352,IF(달력!$S$27=\"순서2\",근무!E352,IF(달력!$S$27=\"순서3\",근무!F352,IF(달력!$S$27=\"순서4\",근무!G352,IF(달력!$S$27=\"순서5\",근무!H352,IF(달력!$S$27=\"순서6\",근무!I352,\"\"))))))","v":"비번"},{"$f":"IF(달력!$S$28=\"순서1\",근무!D352,IF(달력!$S$28=\"순서2\",근무!E352,IF(달력!$S$28=\"순서3\",근무!F352,IF(달력!$S$28=\"순서4\",근무!G352,IF(달력!$S$28=\"순서5\",근무!H352,IF(달력!$S$28=\"순서6\",근무!I352,\"\"))))))","v":"주간"},{"$f":"IF(달력!$S$29=\"순서1\",근무!D352,IF(달력!$S$29=\"순서2\",근무!E352,IF(달력!$S$29=\"순서3\",근무!F352,IF(달력!$S$29=\"순서4\",근무!G352,IF(달력!$S$29=\"순서5\",근무!H352,IF(달력!$S$29=\"순서6\",근무!I352,\"\"))))))","v":"주간"},null,null,12]
[null,"2023-12-13","수",{"$f":"IF(달력!$S$24=\"순서1\",근무!D353,IF(달력!$S$24=\"순서2\",근무!E353,IF(달력!$S$24=\"순서3\",근무!F353,IF(달력!$S$24=\"순서4\",근무!G353,IF(달력!$S$24=\"순서5\",근무!H353,IF(달력!$S$24=\"순서6\",근무!I353,\"\"))))))","v":"비번"},{"$f":"IF(달력!$S$25=\"순서1\",근무!D353,IF(달력!$S$25=\"순서2\",근무!E353,IF(달력!$S$25=\"순서3\",근무!F353,IF(달력!$S$25=\"순서4\",근무!G353,IF(달력!$S$25=\"순서5\",근무!H353,IF(달력!$S$25=\"순서6\",근무!I353,\"\"))))))","v":"비번"},{"$f":"IF(달력!$S$26=\"순서1\",근무!D353,IF(달력!$S$26=\"순서2\",근무!E353,IF(달력!$S$26=\"순서3\",근무!F353,IF(달력!$S$26=\"순서4\",근무!G353,IF(달력!$S$26=\"순서5\",근무!H353,IF(달력!$S$26=\"순서6\",근무!I353,\"\"))))))","v":"주간"},{"$f":"IF(달력!$S$27=\"순서1\",근무!D353,IF(달력!$S$27=\"순서2\",근무!E353,IF(달력!$S$27=\"순서3\",근무!F353,IF(달력!$S$27=\"순서4\",근무!G353,IF(달력!$S$27=\"순서5\",근무!H353,IF(달력!$S$27=\"순서6\",근무!I353,\"\"))))))","v":"주간"},{"$f":"IF(달력!$S$28=\"순서1\",근무!D353,IF(달력!$S$28=\"순서2\",근무!E353,IF(달력!$S$28=\"순서3\",근무!F353,IF(달력!$S$28=\"순서4\",근무!G353,IF(달력!$S$28=\"순서5\",근무!H353,IF(달력!$S$28=\"순서6\",근무!I353,\"\"))))))","v":"야간"},{"$f":"IF(달력!$S$29=\"순서1\",근무!D353,IF(달력!$S$29=\"순서2\",근무!E353,IF(달력!$S$29=\"순서3\",근무!F353,IF(달력!$S$29=\"순서4\",근무!G353,IF(달력!$S$29=\"순서5\",근무!H353,IF(달력!$S$29=\"순서6\",근무!I353,\"\"))))))","v":"야간"},null,null,12]
[null,"2023-12-14","목",{"$f":"IF(달력!$S$24=\"순서1\",근무!D354,IF(달력!$S$24=\"순서2\",근무!E354,IF(달력!$S$24=\"순서3\",근무!F354,IF(달력!$S$24=\"순서4\",근무!G354,IF(달력!$S$24=\"순서5\",근무!H354,IF(달력!$S$24=\"순서6\",근무!I354,\"\"))))))","v":"비번"},{"$f":"IF(달력!$S$25=\"순서1\",근무!D354,IF(달력!$S$25=\"순서2\",근무!E354,IF(달력!$S$25=\"순서3\",근무!F354,IF(달력!$S$25=\"순서4\",근무!G354,IF(달력!$S$25=\"순서5\",근무!H354,IF(달력!$S$25=\"순서6\",근무!I354,\"\"))))))","v":"비번"},{"$f":"IF(달력!$S$26=\"순서1\",근무!D354,IF(달력!$S$26=\"순서2\",근무!E354,IF(달력!$S$26=\"순서3\",근무!F354,IF(달력!$S$26=\"순서4\",근무!G354,IF(달력!$S$26=\"순서5\",근무!H354,IF(달력!$S$26=\"순서6\",근무!I354,\"\"))))))","v":"주간"},{"$f":"IF(달력!$S$27=\"순서1\",근무!D354,IF(달력!$S$27=\"순서2\",근무!E354,IF(달력!$S$27=\"순서3\",근무!F354,IF(달력!$S$27=\"순서4\",근무!G354,IF(달력!$S$27=\"순서5\",근무!H354,IF(달력!$S$27=\"순서6\",근무!I354,\"\"))))))","v":"주간"},{"$f":"IF(달력!$S$28=\"순서1\",근무!D354,IF(달력!$S$28=\"순서2\",근무!E354,IF(달력!$S$28=\"순서3\",근무!F354,IF(달력!$S$28=\"순서4\",근무!G354,IF(달력!$S$28=\"순서5\",근무!H354,IF(달력!$S$28=\"순서6\",근무!I354,\"\"))))))","v":"야간"},{"$f":"IF(달력!$S$29=\"순서1\",근무!D354,IF(달력!$S$29=\"순서2\",근무!E354,IF(달력!$S$29=\"순서3\",근무!F354,IF(달력!$S$29=\"순서4\",근무!G354,IF(달력!$S$29=\"순서5\",근무!H354,IF(달력!$S$29=\"순서6\",근무!I354,\"\"))))))","v":"야간"},null,null,12]
[null,"2023-12-15","금",{"$f":"IF(달력!$S$24=\"순서1\",근무!D355,IF(달력!$S$24=\"순서2\",근무!E355,IF(달력!$S$24=\"순서3\",근무!F355,IF(달력!$S$24=\"순서4\",근무!G355,IF(달력!$S$24=\"순서5\",근무!H355,IF(달력!$S$24=\"순서6\",근무!I355,\"\"))))))","v":"주간"},{"$f":"IF(달력!$S$25=\"순서1\",근무!D355,IF(달력!$S$25=\"순서2\",근무!E355,IF(달력!$S$25=\"순서3\",근무!F355,IF(달력!$S$25=\"순서4\",근무!G355,IF(달력!$S$25=\"순서5\",근무!H355,IF(달력!$S$25=\"순서6\",근무!I355,\"\"))))))","v":"주간"},{"$f":"IF(달력!$S$26=\"순서1\",근무!D355,IF(달력!$S$26=\"순서2\",근무!E355,IF(달력!$S$26=\"순서3\",근무!F355,IF(달력!$S$26=\"순서4\",근무!G355,IF(달력!$S$26=\"순서5\",근무!H355,IF(달력!$S$26=\"순서6\",근무!I355,\"\"))))))","v":"야간"},{"$f":"IF(달력!$S$27=\"순서1\",근무!D355,IF(달력!$S$27=\"순서2\",근무!E355,IF(달력!$S$27=\"순서3\",근무!F355,IF(달력!$S$27=\"순서4\",근무!G355,IF(달력!$S$27=\"순서5\",근무!H355,IF(달력!$S$27=\"순서6\",근무!I355,\"\"))))))","v":"야간"},{"$f":"IF(달력!$S$28=\"순서1\",근무!D355,IF(달력!$S$28=\"순서2\",근무!E355,IF(달력!$S$28=\"순서3\",근무!F355,IF(달력!$S$28=\"순서4\",근무!G355,IF(달력!$S$28=\"순서5\",근무!H355,IF(달력!$S$28=\"순서6\",근무!I355,\"\"))))))","v":"비번"},{"$f":"IF(달력!$S$29=\"순서1\",근무!D355,IF(달력!$S$29=\"순서2\",근무!E355,IF(달력!$S$29=\"순서3\",근무!F355,IF(달력!$S$29=\"순서4\",근무!G355,IF(달력!$S$29=\"순서5\",근무!H355,IF(달력!$S$29=\"순서6\",근무!I355,\"\"))))))","v":"비번"},null,null,12]
[null,"2023-12-16","토",{"$f":"IF(달력!$S$24=\"순서1\",근무!D356,IF(달력!$S$24=\"순서2\",근무!E356,IF(달력!$S$24=\"순서3\",근무!F356,IF(달력!$S$24=\"순서4\",근무!G356,IF(달력!$S$24=\"순서5\",근무!H356,IF(달력!$S$24=\"순서6\",근무!I356,\"\"))))))","v":"주간"},{"$f":"IF(달력!$S$25=\"순서1\",근무!D356,IF(달력!$S$25=\"순서2\",근무!E356,IF(달력!$S$25=\"순서3\",근무!F356,IF(달력!$S$25=\"순서4\",근무!G356,IF(달력!$S$25=\"순서5\",근무!H356,IF(달력!$S$25=\"순서6\",근무!I356,\"\"))))))","v":"주간"},{"$f":"IF(달력!$S$26=\"순서1\",근무!D356,IF(달력!$S$26=\"순서2\",근무!E356,IF(달력!$S$26=\"순서3\",근무!F356,IF(달력!$S$26=\"순서4\",근무!G356,IF(달력!$S$26=\"순서5\",근무!H356,IF(달력!$S$26=\"순서6\",근무!I356,\"\"))))))","v":"야간"},{"$f":"IF(달력!$S$27=\"순서1\",근무!D356,IF(달력!$S$27=\"순서2\",근무!E356,IF(달력!$S$27=\"순서3\",근무!F356,IF(달력!$S$27=\"순서4\",근무!G356,IF(달력!$S$27=\"순서5\",근무!H356,IF(달력!$S$27=\"순서6\",근무!I356,\"\"))))))","v":"야간"},{"$f":"IF(달력!$S$28=\"순서1\",근무!D356,IF(달력!$S$28=\"순서2\",근무!E356,IF(달력!$S$28=\"순서3\",근무!F356,IF(달력!$S$28=\"순서4\",근무!G356,IF(달력!$S$28=\"순서5\",근무!H356,IF(달력!$S$28=\"순서6\",근무!I356,\"\"))))))","v":"비번"},{"$f":"IF(달력!$S$29=\"순서1\",근무!D356,IF(달력!$S$29=\"순서2\",근무!E356,IF(달력!$S$29=\"순서3\",근무!F356,IF(달력!$S$29=\"순서4\",근무!G356,IF(달력!$S$29=\"순서5\",근무!H356,IF(달력!$S$29=\"순서6\",근무!I356,\"\"))))))","v":"비번"},null,null,12]
[null,"2023-12-17","일",{"$f":"IF(달력!$S$24=\"순서1\",근무!D357,IF(달력!$S$24=\"순서2\",근무!E357,IF(달력!$S$24=\"순서3\",근무!F357,IF(달력!$S$24=\"순서4\",근무!G357,IF(달력!$S$24=\"순서5\",근무!H357,IF(달력!$S$24=\"순서6\",근무!I357,\"\"))))))","v":"야간"},{"$f":"IF(달력!$S$25=\"순서1\",근무!D357,IF(달력!$S$25=\"순서2\",근무!E357,IF(달력!$S$25=\"순서3\",근무!F357,IF(달력!$S$25=\"순서4\",근무!G357,IF(달력!$S$25=\"순서5\",근무!H357,IF(달력!$S$25=\"순서6\",근무!I357,\"\"))))))","v":"야간"},{"$f":"IF(달력!$S$26=\"순서1\",근무!D357,IF(달력!$S$26=\"순서2\",근무!E357,IF(달력!$S$26=\"순서3\",근무!F357,IF(달력!$S$26=\"순서4\",근무!G357,IF(달력!$S$26=\"순서5\",근무!H357,IF(달력!$S$26=\"순서6\",근무!I357,\"\"))))))","v":"비번"},{"$f":"IF(달력!$S$27=\"순서1\",근무!D357,IF(달력!$S$27=\"순서2\",근무!E357,IF(달력!$S$27=\"순서3\",근무!F357,IF(달력!$S$27=\"순서4\",근무!G357,IF(달력!$S$27=\"순서5\",근무!H357,IF(달력!$S$27=\"순서6\",근무!I357,\"\"))))))","v":"비번"},{"$f":"IF(달력!$S$28=\"순서1\",근무!D357,IF(달력!$S$28=\"순서2\",근무!E357,IF(달력!$S$28=\"순서3\",근무!F357,IF(달력!$S$28=\"순서4\",근무!G357,IF(달력!$S$28=\"순서5\",근무!H357,IF(달력!$S$28=\"순서6\",근무!I357,\"\"))))))","v":"주간"},{"$f":"IF(달력!$S$29=\"순서1\",근무!D357,IF(달력!$S$29=\"순서2\",근무!E357,IF(달력!$S$29=\"순서3\",근무!F357,IF(달력!$S$29=\"순서4\",근무!G357,IF(달력!$S$29=\"순서5\",근무!H357,IF(달력!$S$29=\"순서6\",근무!I357,\"\"))))))","v":"주간"},null,null,12]
[null,"2023-12-18","월",{"$f":"IF(달력!$S$24=\"순서1\",근무!D358,IF(달력!$S$24=\"순서2\",근무!E358,IF(달력!$S$24=\"순서3\",근무!F358,IF(달력!$S$24=\"순서4\",근무!G358,IF(달력!$S$24=\"순서5\",근무!H358,IF(달력!$S$24=\"순서6\",근무!I358,\"\"))))))","v":"야간"},{"$f":"IF(달력!$S$25=\"순서1\",근무!D358,IF(달력!$S$25=\"순서2\",근무!E358,IF(달력!$S$25=\"순서3\",근무!F358,IF(달력!$S$25=\"순서4\",근무!G358,IF(달력!$S$25=\"순서5\",근무!H358,IF(달력!$S$25=\"순서6\",근무!I358,\"\"))))))","v":"야간"},{"$f":"IF(달력!$S$26=\"순서1\",근무!D358,IF(달력!$S$26=\"순서2\",근무!E358,IF(달력!$S$26=\"순서3\",근무!F358,IF(달력!$S$26=\"순서4\",근무!G358,IF(달력!$S$26=\"순서5\",근무!H358,IF(달력!$S$26=\"순서6\",근무!I358,\"\"))))))","v":"비번"},{"$f":"IF(달력!$S$27=\"순서1\",근무!D358,IF(달력!$S$27=\"순서2\",근무!E358,IF(달력!$S$27=\"순서3\",근무!F358,IF(달력!$S$27=\"순서4\",근무!G358,IF(달력!$S$27=\"순서5\",근무!H358,IF(달력!$S$27=\"순서6\",근무!I358,\"\"))))))","v":"비번"},{"$f":"IF(달력!$S$28=\"순서1\",근무!D358,IF(달력!$S$28=\"순서2\",근무!E358,IF(달력!$S$28=\"순서3\",근무!F358,IF(달력!$S$28=\"순서4\",근무!G358,IF(달력!$S$28=\"순서5\",근무!H358,IF(달력!$S$28=\"순서6\",근무!I358,\"\"))))))","v":"주간"},{"$f":"IF(달력!$S$29=\"순서1\",근무!D358,IF(달력!$S$29=\"순서2\",근무!E358,IF(달력!$S$29=\"순서3\",근무!F358,IF(달력!$S$29=\"순서4\",근무!G358,IF(달력!$S$29=\"순서5\",근무!H358,IF(달력!$S$29=\"순서6\",근무!I358,\"\"))))))","v":"주간"},null,null,12]
[null,"2023-12-19","화",{"$f":"IF(달력!$S$24=\"순서1\",근무!D359,IF(달력!$S$24=\"순서2\",근무!E359,IF(달력!$S$24=\"순서3\",근무!F359,IF(달력!$S$24=\"순서4\",근무!G359,IF(달력!$S$24=\"순서5\",근무!H359,IF(달력!$S$24=\"순서6\",근무!I359,\"\"))))))","v":"비번"},{"$f":"IF(달력!$S$25=\"순서1\",근무!D359,IF(달력!$S$25=\"순서2\",근무!E359,IF(달력!$S$25=\"순서3\",근무!F359,IF(달력!$S$25=\"순서4\",근무!G359,IF(달력!$S$25=\"순서5\",근무!H359,IF(달력!$S$25=\"순서6\",근무!I359,\"\"))))))","v":"비번"},{"$f":"IF(달력!$S$26=\"순서1\",근무!D359,IF(달력!$S$26=\"순서2\",근무!E359,IF(달력!$S$26=\"순서3\",근무!F359,IF(달력!$S$26=\"순서4\",근무!G359,IF(달력!$S$26=\"순서5\",근무!H359,IF(달력!$S$26=\"순서6\",근무!I359,\"\"))))))","v":"주간"},{"$f":"IF(달력!$S$27=\"순서1\",근무!D359,IF(달력!$S$27=\"순서2\",근무!E359,IF(달력!$S$27=\"순서3\",근무!F359,IF(달력!$S$27=\"순서4\",근무!G359,IF(달력!$S$27=\"순서5\",근무!H359,IF(달력!$S$27=\"순서6\",근무!I359,\"\"))))))","v":"주간"},{"$f":"IF(달력!$S$28=\"순서1\",근무!D359,IF(달력!$S$28=\"순서2\",근무!E359,IF(달력!$S$28=\"순서3\",근무!F359,IF(달력!$S$28=\"순서4\",근무!G359,IF(달력!$S$28=\"순서5\",근무!H359,IF(달력!$S$28=\"순서6\",근무!I359,\"\"))))))","v":"야간"},{"$f":"IF(달력!$S$29=\"순서1\",근무!D359,IF(달력!$S$29=\"순서2\",근무!E359,IF(달력!$S$29=\"순서3\",근무!F359,IF(달력!$S$29=\"순서4\",근무!G359,IF(달력!$S$29=\"순서5\",근무!H359,IF(달력!$S$29=\"순서6\",근무!I359,\"\"))))))","v":"야간"},null,null,12]
[null,"2023-12-20","수",{"$f":"IF(달력!$S$24=\"순서1\",근무!D360,IF(달력!$S$24=\"순서2\",근무!E360,IF(달력!$S$24=\"순서3\",근무!F360,IF(달력!$S$24=\"순서4\",근무!G360,IF(달력!$S$24=\"순서5\",근무!H360,IF(달력!$S$24=\"순서6\",근무!I360,\"\"))))))","v":"비번"},{"$f":"IF(달력!$S$25=\"순서1\",근무!D360,IF(달력!$S$25=\"순서2\",근무!E360,IF(달력!$S$25=\"순서3\",근무!F360,IF(달력!$S$25=\"순서4\",근무!G360,IF(달력!$S$25=\"순서5\",근무!H360,IF(달력!$S$25=\"순서6\",근무!I360,\"\"))))))","v":"비번"},{"$f":"IF(달력!$S$26=\"순서1\",근무!D360,IF(달력!$S$26=\"순서2\",근무!E360,IF(달력!$S$26=\"순서3\",근무!F360,IF(달력!$S$26=\"순서4\",근무!G360,IF(달력!$S$26=\"순서5\",근무!H360,IF(달력!$S$26=\"순서6\",근무!I360,\"\"))))))","v":"주간"},{"$f":"IF(달력!$S$27=\"순서1\",근무!D360,IF(달력!$S$27=\"순서2\",근무!E360,IF(달력!$S$27=\"순서3\",근무!F360,IF(달력!$S$27=\"순서4\",근무!G360,IF(달력!$S$27=\"순서5\",근무!H360,IF(달력!$S$27=\"순서6\",근무!I360,\"\"))))))","v":"주간"},{"$f":"IF(달력!$S$28=\"순서1\",근무!D360,IF(달력!$S$28=\"순서2\",근무!E360,IF(달력!$S$28=\"순서3\",근무!F360,IF(달력!$S$28=\"순서4\",근무!G360,IF(달력!$S$28=\"순서5\",근무!H360,IF(달력!$S$28=\"순서6\",근무!I360,\"\"))))))","v":"야간"},{"$f":"IF(달력!$S$29=\"순서1\",근무!D360,IF(달력!$S$29=\"순서2\",근무!E360,IF(달력!$S$29=\"순서3\",근무!F360,IF(달력!$S$29=\"순서4\",근무!G360,IF(달력!$S$29=\"순서5\",근무!H360,IF(달력!$S$29=\"순서6\",근무!I360,\"\"))))))","v":"야간"},null,null,12]
[null,"2023-12-21","목",{"$f":"IF(달력!$S$24=\"순서1\",근무!D361,IF(달력!$S$24=\"순서2\",근무!E361,IF(달력!$S$24=\"순서3\",근무!F361,IF(달력!$S$24=\"순서4\",근무!G361,IF(달력!$S$24=\"순서5\",근무!H361,IF(달력!$S$24=\"순서6\",근무!I361,\"\"))))))","v":"주간"},{"$f":"IF(달력!$S$25=\"순서1\",근무!D361,IF(달력!$S$25=\"순서2\",근무!E361,IF(달력!$S$25=\"순서3\",근무!F361,IF(달력!$S$25=\"순서4\",근무!G361,IF(달력!$S$25=\"순서5\",근무!H361,IF(달력!$S$25=\"순서6\",근무!I361,\"\"))))))","v":"주간"},{"$f":"IF(달력!$S$26=\"순서1\",근무!D361,IF(달력!$S$26=\"순서2\",근무!E361,IF(달력!$S$26=\"순서3\",근무!F361,IF(달력!$S$26=\"순서4\",근무!G361,IF(달력!$S$26=\"순서5\",근무!H361,IF(달력!$S$26=\"순서6\",근무!I361,\"\"))))))","v":"야간"},{"$f":"IF(달력!$S$27=\"순서1\",근무!D361,IF(달력!$S$27=\"순서2\",근무!E361,IF(달력!$S$27=\"순서3\",근무!F361,IF(달력!$S$27=\"순서4\",근무!G361,IF(달력!$S$27=\"순서5\",근무!H361,IF(달력!$S$27=\"순서6\",근무!I361,\"\"))))))","v":"야간"},{"$f":"IF(달력!$S$28=\"순서1\",근무!D361,IF(달력!$S$28=\"순서2\",근무!E361,IF(달력!$S$28=\"순서3\",근무!F361,IF(달력!$S$28=\"순서4\",근무!G361,IF(달력!$S$28=\"순서5\",근무!H361,IF(달력!$S$28=\"순서6\",근무!I361,\"\"))))))","v":"비번"},{"$f":"IF(달력!$S$29=\"순서1\",근무!D361,IF(달력!$S$29=\"순서2\",근무!E361,IF(달력!$S$29=\"순서3\",근무!F361,IF(달력!$S$29=\"순서4\",근무!G361,IF(달력!$S$29=\"순서5\",근무!H361,IF(달력!$S$29=\"순서6\",근무!I361,\"\"))))))","v":"비번"},null,null,12]
[null,"2023-12-22","금",{"$f":"IF(달력!$S$24=\"순서1\",근무!D362,IF(달력!$S$24=\"순서2\",근무!E362,IF(달력!$S$24=\"순서3\",근무!F362,IF(달력!$S$24=\"순서4\",근무!G362,IF(달력!$S$24=\"순서5\",근무!H362,IF(달력!$S$24=\"순서6\",근무!I362,\"\"))))))","v":"주간"},{"$f":"IF(달력!$S$25=\"순서1\",근무!D362,IF(달력!$S$25=\"순서2\",근무!E362,IF(달력!$S$25=\"순서3\",근무!F362,IF(달력!$S$25=\"순서4\",근무!G362,IF(달력!$S$25=\"순서5\",근무!H362,IF(달력!$S$25=\"순서6\",근무!I362,\"\"))))))","v":"주간"},{"$f":"IF(달력!$S$26=\"순서1\",근무!D362,IF(달력!$S$26=\"순서2\",근무!E362,IF(달력!$S$26=\"순서3\",근무!F362,IF(달력!$S$26=\"순서4\",근무!G362,IF(달력!$S$26=\"순서5\",근무!H362,IF(달력!$S$26=\"순서6\",근무!I362,\"\"))))))","v":"야간"},{"$f":"IF(달력!$S$27=\"순서1\",근무!D362,IF(달력!$S$27=\"순서2\",근무!E362,IF(달력!$S$27=\"순서3\",근무!F362,IF(달력!$S$27=\"순서4\",근무!G362,IF(달력!$S$27=\"순서5\",근무!H362,IF(달력!$S$27=\"순서6\",근무!I362,\"\"))))))","v":"야간"},{"$f":"IF(달력!$S$28=\"순서1\",근무!D362,IF(달력!$S$28=\"순서2\",근무!E362,IF(달력!$S$28=\"순서3\",근무!F362,IF(달력!$S$28=\"순서4\",근무!G362,IF(달력!$S$28=\"순서5\",근무!H362,IF(달력!$S$28=\"순서6\",근무!I362,\"\"))))))","v":"비번"},{"$f":"IF(달력!$S$29=\"순서1\",근무!D362,IF(달력!$S$29=\"순서2\",근무!E362,IF(달력!$S$29=\"순서3\",근무!F362,IF(달력!$S$29=\"순서4\",근무!G362,IF(달력!$S$29=\"순서5\",근무!H362,IF(달력!$S$29=\"순서6\",근무!I362,\"\"))))))","v":"비번"},null,null,12]
[null,"2023-12-23","토",{"$f":"IF(달력!$S$24=\"순서1\",근무!D363,IF(달력!$S$24=\"순서2\",근무!E363,IF(달력!$S$24=\"순서3\",근무!F363,IF(달력!$S$24=\"순서4\",근무!G363,IF(달력!$S$24=\"순서5\",근무!H363,IF(달력!$S$24=\"순서6\",근무!I363,\"\"))))))","v":"야간"},{"$f":"IF(달력!$S$25=\"순서1\",근무!D363,IF(달력!$S$25=\"순서2\",근무!E363,IF(달력!$S$25=\"순서3\",근무!F363,IF(달력!$S$25=\"순서4\",근무!G363,IF(달력!$S$25=\"순서5\",근무!H363,IF(달력!$S$25=\"순서6\",근무!I363,\"\"))))))","v":"야간"},{"$f":"IF(달력!$S$26=\"순서1\",근무!D363,IF(달력!$S$26=\"순서2\",근무!E363,IF(달력!$S$26=\"순서3\",근무!F363,IF(달력!$S$26=\"순서4\",근무!G363,IF(달력!$S$26=\"순서5\",근무!H363,IF(달력!$S$26=\"순서6\",근무!I363,\"\"))))))","v":"비번"},{"$f":"IF(달력!$S$27=\"순서1\",근무!D363,IF(달력!$S$27=\"순서2\",근무!E363,IF(달력!$S$27=\"순서3\",근무!F363,IF(달력!$S$27=\"순서4\",근무!G363,IF(달력!$S$27=\"순서5\",근무!H363,IF(달력!$S$27=\"순서6\",근무!I363,\"\"))))))","v":"비번"},{"$f":"IF(달력!$S$28=\"순서1\",근무!D363,IF(달력!$S$28=\"순서2\",근무!E363,IF(달력!$S$28=\"순서3\",근무!F363,IF(달력!$S$28=\"순서4\",근무!G363,IF(달력!$S$28=\"순서5\",근무!H363,IF(달력!$S$28=\"순서6\",근무!I363,\"\"))))))","v":"주간"},{"$f":"IF(달력!$S$29=\"순서1\",근무!D363,IF(달력!$S$29=\"순서2\",근무!E363,IF(달력!$S$29=\"순서3\",근무!F363,IF(달력!$S$29=\"순서4\",근무!G363,IF(달력!$S$29=\"순서5\",근무!H363,IF(달력!$S$29=\"순서6\",근무!I363,\"\"))))))","v":"주간"},null,null,12]
[null,"2023-12-24","일",{"$f":"IF(달력!$S$24=\"순서1\",근무!D364,IF(달력!$S$24=\"순서2\",근무!E364,IF(달력!$S$24=\"순서3\",근무!F364,IF(달력!$S$24=\"순서4\",근무!G364,IF(달력!$S$24=\"순서5\",근무!H364,IF(달력!$S$24=\"순서6\",근무!I364,\"\"))))))","v":"야간"},{"$f":"IF(달력!$S$25=\"순서1\",근무!D364,IF(달력!$S$25=\"순서2\",근무!E364,IF(달력!$S$25=\"순서3\",근무!F364,IF(달력!$S$25=\"순서4\",근무!G364,IF(달력!$S$25=\"순서5\",근무!H364,IF(달력!$S$25=\"순서6\",근무!I364,\"\"))))))","v":"야간"},{"$f":"IF(달력!$S$26=\"순서1\",근무!D364,IF(달력!$S$26=\"순서2\",근무!E364,IF(달력!$S$26=\"순서3\",근무!F364,IF(달력!$S$26=\"순서4\",근무!G364,IF(달력!$S$26=\"순서5\",근무!H364,IF(달력!$S$26=\"순서6\",근무!I364,\"\"))))))","v":"비번"},{"$f":"IF(달력!$S$27=\"순서1\",근무!D364,IF(달력!$S$27=\"순서2\",근무!E364,IF(달력!$S$27=\"순서3\",근무!F364,IF(달력!$S$27=\"순서4\",근무!G364,IF(달력!$S$27=\"순서5\",근무!H364,IF(달력!$S$27=\"순서6\",근무!I364,\"\"))))))","v":"비번"},{"$f":"IF(달력!$S$28=\"순서1\",근무!D364,IF(달력!$S$28=\"순서2\",근무!E364,IF(달력!$S$28=\"순서3\",근무!F364,IF(달력!$S$28=\"순서4\",근무!G364,IF(달력!$S$28=\"순서5\",근무!H364,IF(달력!$S$28=\"순서6\",근무!I364,\"\"))))))","v":"주간"},{"$f":"IF(달력!$S$29=\"순서1\",근무!D364,IF(달력!$S$29=\"순서2\",근무!E364,IF(달력!$S$29=\"순서3\",근무!F364,IF(달력!$S$29=\"순서4\",근무!G364,IF(달력!$S$29=\"순서5\",근무!H364,IF(달력!$S$29=\"순서6\",근무!I364,\"\"))))))","v":"주간"},null,null,12]
[null,"2023-12-25","월",{"$f":"IF(달력!$S$24=\"순서1\",근무!D365,IF(달력!$S$24=\"순서2\",근무!E365,IF(달력!$S$24=\"순서3\",근무!F365,IF(달력!$S$24=\"순서4\",근무!G365,IF(달력!$S$24=\"순서5\",근무!H365,IF(달력!$S$24=\"순서6\",근무!I365,\"\"))))))","v":"비번"},{"$f":"IF(달력!$S$25=\"순서1\",근무!D365,IF(달력!$S$25=\"순서2\",근무!E365,IF(달력!$S$25=\"순서3\",근무!F365,IF(달력!$S$25=\"순서4\",근무!G365,IF(달력!$S$25=\"순서5\",근무!H365,IF(달력!$S$25=\"순서6\",근무!I365,\"\"))))))","v":"비번"},{"$f":"IF(달력!$S$26=\"순서1\",근무!D365,IF(달력!$S$26=\"순서2\",근무!E365,IF(달력!$S$26=\"순서3\",근무!F365,IF(달력!$S$26=\"순서4\",근무!G365,IF(달력!$S$26=\"순서5\",근무!H365,IF(달력!$S$26=\"순서6\",근무!I365,\"\"))))))","v":"주간"},{"$f":"IF(달력!$S$27=\"순서1\",근무!D365,IF(달력!$S$27=\"순서2\",근무!E365,IF(달력!$S$27=\"순서3\",근무!F365,IF(달력!$S$27=\"순서4\",근무!G365,IF(달력!$S$27=\"순서5\",근무!H365,IF(달력!$S$27=\"순서6\",근무!I365,\"\"))))))","v":"주간"},{"$f":"IF(달력!$S$28=\"순서1\",근무!D365,IF(달력!$S$28=\"순서2\",근무!E365,IF(달력!$S$28=\"순서3\",근무!F365,IF(달력!$S$28=\"순서4\",근무!G365,IF(달력!$S$28=\"순서5\",근무!H365,IF(달력!$S$28=\"순서6\",근무!I365,\"\"))))))","v":"야간"},{"$f":"IF(달력!$S$29=\"순서1\",근무!D365,IF(달력!$S$29=\"순서2\",근무!E365,IF(달력!$S$29=\"순서3\",근무!F365,IF(달력!$S$29=\"순서4\",근무!G365,IF(달력!$S$29=\"순서5\",근무!H365,IF(달력!$S$29=\"순서6\",근무!I365,\"\"))))))","v":"야간"},null,null,12]
[null,"2023-12-26","화",{"$f":"IF(달력!$S$24=\"순서1\",근무!D366,IF(달력!$S$24=\"순서2\",근무!E366,IF(달력!$S$24=\"순서3\",근무!F366,IF(달력!$S$24=\"순서4\",근무!G366,IF(달력!$S$24=\"순서5\",근무!H366,IF(달력!$S$24=\"순서6\",근무!I366,\"\"))))))","v":"비번"},{"$f":"IF(달력!$S$25=\"순서1\",근무!D366,IF(달력!$S$25=\"순서2\",근무!E366,IF(달력!$S$25=\"순서3\",근무!F366,IF(달력!$S$25=\"순서4\",근무!G366,IF(달력!$S$25=\"순서5\",근무!H366,IF(달력!$S$25=\"순서6\",근무!I366,\"\"))))))","v":"비번"},{"$f":"IF(달력!$S$26=\"순서1\",근무!D366,IF(달력!$S$26=\"순서2\",근무!E366,IF(달력!$S$26=\"순서3\",근무!F366,IF(달력!$S$26=\"순서4\",근무!G366,IF(달력!$S$26=\"순서5\",근무!H366,IF(달력!$S$26=\"순서6\",근무!I366,\"\"))))))","v":"주간"},{"$f":"IF(달력!$S$27=\"순서1\",근무!D366,IF(달력!$S$27=\"순서2\",근무!E366,IF(달력!$S$27=\"순서3\",근무!F366,IF(달력!$S$27=\"순서4\",근무!G366,IF(달력!$S$27=\"순서5\",근무!H366,IF(달력!$S$27=\"순서6\",근무!I366,\"\"))))))","v":"주간"},{"$f":"IF(달력!$S$28=\"순서1\",근무!D366,IF(달력!$S$28=\"순서2\",근무!E366,IF(달력!$S$28=\"순서3\",근무!F366,IF(달력!$S$28=\"순서4\",근무!G366,IF(달력!$S$28=\"순서5\",근무!H366,IF(달력!$S$28=\"순서6\",근무!I366,\"\"))))))","v":"야간"},{"$f":"IF(달력!$S$29=\"순서1\",근무!D366,IF(달력!$S$29=\"순서2\",근무!E366,IF(달력!$S$29=\"순서3\",근무!F366,IF(달력!$S$29=\"순서4\",근무!G366,IF(달력!$S$29=\"순서5\",근무!H366,IF(달력!$S$29=\"순서6\",근무!I366,\"\"))))))","v":"야간"},null,null,12]
[null,"2023-12-27","수",{"$f":"IF(달력!$S$24=\"순서1\",근무!D367,IF(달력!$S$24=\"순서2\",근무!E367,IF(달력!$S$24=\"순서3\",근무!F367,IF(달력!$S$24=\"순서4\",근무!G367,IF(달력!$S$24=\"순서5\",근무!H367,IF(달력!$S$24=\"순서6\",근무!I367,\"\"))))))","v":"주간"},{"$f":"IF(달력!$S$25=\"순서1\",근무!D367,IF(달력!$S$25=\"순서2\",근무!E367,IF(달력!$S$25=\"순서3\",근무!F367,IF(달력!$S$25=\"순서4\",근무!G367,IF(달력!$S$25=\"순서5\",근무!H367,IF(달력!$S$25=\"순서6\",근무!I367,\"\"))))))","v":"주간"},{"$f":"IF(달력!$S$26=\"순서1\",근무!D367,IF(달력!$S$26=\"순서2\",근무!E367,IF(달력!$S$26=\"순서3\",근무!F367,IF(달력!$S$26=\"순서4\",근무!G367,IF(달력!$S$26=\"순서5\",근무!H367,IF(달력!$S$26=\"순서6\",근무!I367,\"\"))))))","v":"야간"},{"$f":"IF(달력!$S$27=\"순서1\",근무!D367,IF(달력!$S$27=\"순서2\",근무!E367,IF(달력!$S$27=\"순서3\",근무!F367,IF(달력!$S$27=\"순서4\",근무!G367,IF(달력!$S$27=\"순서5\",근무!H367,IF(달력!$S$27=\"순서6\",근무!I367,\"\"))))))","v":"야간"},{"$f":"IF(달력!$S$28=\"순서1\",근무!D367,IF(달력!$S$28=\"순서2\",근무!E367,IF(달력!$S$28=\"순서3\",근무!F367,IF(달력!$S$28=\"순서4\",근무!G367,IF(달력!$S$28=\"순서5\",근무!H367,IF(달력!$S$28=\"순서6\",근무!I367,\"\"))))))","v":"비번"},{"$f":"IF(달력!$S$29=\"순서1\",근무!D367,IF(달력!$S$29=\"순서2\",근무!E367,IF(달력!$S$29=\"순서3\",근무!F367,IF(달력!$S$29=\"순서4\",근무!G367,IF(달력!$S$29=\"순서5\",근무!H367,IF(달력!$S$29=\"순서6\",근무!I367,\"\"))))))","v":"비번"},null,null,12]
[null,"2023-12-28","목",{"$f":"IF(달력!$S$24=\"순서1\",근무!D368,IF(달력!$S$24=\"순서2\",근무!E368,IF(달력!$S$24=\"순서3\",근무!F368,IF(달력!$S$24=\"순서4\",근무!G368,IF(달력!$S$24=\"순서5\",근무!H368,IF(달력!$S$24=\"순서6\",근무!I368,\"\"))))))","v":"주간"},{"$f":"IF(달력!$S$25=\"순서1\",근무!D368,IF(달력!$S$25=\"순서2\",근무!E368,IF(달력!$S$25=\"순서3\",근무!F368,IF(달력!$S$25=\"순서4\",근무!G368,IF(달력!$S$25=\"순서5\",근무!H368,IF(달력!$S$25=\"순서6\",근무!I368,\"\"))))))","v":"주간"},{"$f":"IF(달력!$S$26=\"순서1\",근무!D368,IF(달력!$S$26=\"순서2\",근무!E368,IF(달력!$S$26=\"순서3\",근무!F368,IF(달력!$S$26=\"순서4\",근무!G368,IF(달력!$S$26=\"순서5\",근무!H368,IF(달력!$S$26=\"순서6\",근무!I368,\"\"))))))","v":"야간"},{"$f":"IF(달력!$S$27=\"순서1\",근무!D368,IF(달력!$S$27=\"순서2\",근무!E368,IF(달력!$S$27=\"순서3\",근무!F368,IF(달력!$S$27=\"순서4\",근무!G368,IF(달력!$S$27=\"순서5\",근무!H368,IF(달력!$S$27=\"순서6\",근무!I368,\"\"))))))","v":"야간"},{"$f":"IF(달력!$S$28=\"순서1\",근무!D368,IF(달력!$S$28=\"순서2\",근무!E368,IF(달력!$S$28=\"순서3\",근무!F368,IF(달력!$S$28=\"순서4\",근무!G368,IF(달력!$S$28=\"순서5\",근무!H368,IF(달력!$S$28=\"순서6\",근무!I368,\"\"))))))","v":"비번"},{"$f":"IF(달력!$S$29=\"순서1\",근무!D368,IF(달력!$S$29=\"순서2\",근무!E368,IF(달력!$S$29=\"순서3\",근무!F368,IF(달력!$S$29=\"순서4\",근무!G368,IF(달력!$S$29=\"순서5\",근무!H368,IF(달력!$S$29=\"순서6\",근무!I368,\"\"))))))","v":"비번"},null,null,12]
[null,"2023-12-29","금",{"$f":"IF(달력!$S$24=\"순서1\",근무!D369,IF(달력!$S$24=\"순서2\",근무!E369,IF(달력!$S$24=\"순서3\",근무!F369,IF(달력!$S$24=\"순서4\",근무!G369,IF(달력!$S$24=\"순서5\",근무!H369,IF(달력!$S$24=\"순서6\",근무!I369,\"\"))))))","v":"야간"},{"$f":"IF(달력!$S$25=\"순서1\",근무!D369,IF(달력!$S$25=\"순서2\",근무!E369,IF(달력!$S$25=\"순서3\",근무!F369,IF(달력!$S$25=\"순서4\",근무!G369,IF(달력!$S$25=\"순서5\",근무!H369,IF(달력!$S$25=\"순서6\",근무!I369,\"\"))))))","v":"야간"},{"$f":"IF(달력!$S$26=\"순서1\",근무!D369,IF(달력!$S$26=\"순서2\",근무!E369,IF(달력!$S$26=\"순서3\",근무!F369,IF(달력!$S$26=\"순서4\",근무!G369,IF(달력!$S$26=\"순서5\",근무!H369,IF(달력!$S$26=\"순서6\",근무!I369,\"\"))))))","v":"비번"},{"$f":"IF(달력!$S$27=\"순서1\",근무!D369,IF(달력!$S$27=\"순서2\",근무!E369,IF(달력!$S$27=\"순서3\",근무!F369,IF(달력!$S$27=\"순서4\",근무!G369,IF(달력!$S$27=\"순서5\",근무!H369,IF(달력!$S$27=\"순서6\",근무!I369,\"\"))))))","v":"비번"},{"$f":"IF(달력!$S$28=\"순서1\",근무!D369,IF(달력!$S$28=\"순서2\",근무!E369,IF(달력!$S$28=\"순서3\",근무!F369,IF(달력!$S$28=\"순서4\",근무!G369,IF(달력!$S$28=\"순서5\",근무!H369,IF(달력!$S$28=\"순서6\",근무!I369,\"\"))))))","v":"주간"},{"$f":"IF(달력!$S$29=\"순서1\",근무!D369,IF(달력!$S$29=\"순서2\",근무!E369,IF(달력!$S$29=\"순서3\",근무!F369,IF(달력!$S$29=\"순서4\",근무!G369,IF(달력!$S$29=\"순서5\",근무!H369,IF(달력!$S$29=\"순서6\",근무!I369,\"\"))))))","v":"주간"},null,null,12]
[null,"2023-12-30","토",{"$f":"IF(달력!$S$24=\"순서1\",근무!D370,IF(달력!$S$24=\"순서2\",근무!E370,IF(달력!$S$24=\"순서3\",근무!F370,IF(달력!$S$24=\"순서4\",근무!G370,IF(달력!$S$24=\"순서5\",근무!H370,IF(달력!$S$24=\"순서6\",근무!I370,\"\"))))))","v":"야간"},{"$f":"IF(달력!$S$25=\"순서1\",근무!D370,IF(달력!$S$25=\"순서2\",근무!E370,IF(달력!$S$25=\"순서3\",근무!F370,IF(달력!$S$25=\"순서4\",근무!G370,IF(달력!$S$25=\"순서5\",근무!H370,IF(달력!$S$25=\"순서6\",근무!I370,\"\"))))))","v":"야간"},{"$f":"IF(달력!$S$26=\"순서1\",근무!D370,IF(달력!$S$26=\"순서2\",근무!E370,IF(달력!$S$26=\"순서3\",근무!F370,IF(달력!$S$26=\"순서4\",근무!G370,IF(달력!$S$26=\"순서5\",근무!H370,IF(달력!$S$26=\"순서6\",근무!I370,\"\"))))))","v":"비번"},{"$f":"IF(달력!$S$27=\"순서1\",근무!D370,IF(달력!$S$27=\"순서2\",근무!E370,IF(달력!$S$27=\"순서3\",근무!F370,IF(달력!$S$27=\"순서4\",근무!G370,IF(달력!$S$27=\"순서5\",근무!H370,IF(달력!$S$27=\"순서6\",근무!I370,\"\"))))))","v":"비번"},{"$f":"IF(달력!$S$28=\"순서1\",근무!D370,IF(달력!$S$28=\"순서2\",근무!E370,IF(달력!$S$28=\"순서3\",근무!F370,IF(달력!$S$28=\"순서4\",근무!G370,IF(달력!$S$28=\"순서5\",근무!H370,IF(달력!$S$28=\"순서6\",근무!I370,\"\"))))))","v":"주간"},{"$f":"IF(달력!$S$29=\"순서1\",근무!D370,IF(달력!$S$29=\"순서2\",근무!E370,IF(달력!$S$29=\"순서3\",근무!F370,IF(달력!$S$29=\"순서4\",근무!G370,IF(달력!$S$29=\"순서5\",근무!H370,IF(달력!$S$29=\"순서6\",근무!I370,\"\"))))))","v":"주간"},null,null,12]
[null,"2023-12-31","일",{"$f":"IF(달력!$S$24=\"순서1\",근무!D371,IF(달력!$S$24=\"순서2\",근무!E371,IF(달력!$S$24=\"순서3\",근무!F371,IF(달력!$S$24=\"순서4\",근무!G371,IF(달력!$S$24=\"순서5\",근무!H371,IF(달력!$S$24=\"순서6\",근무!I371,\"\"))))))","v":"비번"},{"$f":"IF(달력!$S$25=\"순서1\",근무!D371,IF(달력!$S$25=\"순서2\",근무!E371,IF(달력!$S$25=\"순서3\",근무!F371,IF(달력!$S$25=\"순서4\",근무!G371,IF(달력!$S$25=\"순서5\",근무!H371,IF(달력!$S$25=\"순서6\",근무!I371,\"\"))))))","v":"비번"},{"$f":"IF(달력!$S$26=\"순서1\",근무!D371,IF(달력!$S$26=\"순서2\",근무!E371,IF(달력!$S$26=\"순서3\",근무!F371,IF(달력!$S$26=\"순서4\",근무!G371,IF(달력!$S$26=\"순서5\",근무!H371,IF(달력!$S$26=\"순서6\",근무!I371,\"\"))))))","v":"주간"},{"$f":"IF(달력!$S$27=\"순서1\",근무!D371,IF(달력!$S$27=\"순서2\",근무!E371,IF(달력!$S$27=\"순서3\",근무!F371,IF(달력!$S$27=\"순서4\",근무!G371,IF(달력!$S$27=\"순서5\",근무!H371,IF(달력!$S$27=\"순서6\",근무!I371,\"\"))))))","v":"주간"},{"$f":"IF(달력!$S$28=\"순서1\",근무!D371,IF(달력!$S$28=\"순서2\",근무!E371,IF(달력!$S$28=\"순서3\",근무!F371,IF(달력!$S$28=\"순서4\",근무!G371,IF(달력!$S$28=\"순서5\",근무!H371,IF(달력!$S$28=\"순서6\",근무!I371,\"\"))))))","v":"야간"},{"$f":"IF(달력!$S$29=\"순서1\",근무!D371,IF(달력!$S$29=\"순서2\",근무!E371,IF(달력!$S$29=\"순서3\",근무!F371,IF(달력!$S$29=\"순서4\",근무!G371,IF(달력!$S$29=\"순서5\",근무!H371,IF(달력!$S$29=\"순서6\",근무!I371,\"\"))))))","v":"야간"},null,null,12]

{"sheet":"공휴일","index":5,"n_rows":29,"n_cols":8,"rows_kept":29,"cut":false,"hidden":false,"merged":[[0,6,0,7],[0,2,0,3]]}
["월","일","공휴일",null,"월","일","기념일"]
[{"$f":"IF(C2=\"\",\"\",MONTH(C2))","v":1},{"$f":"IF(C2=\"\",\"\",DAY(C2))","v":1},{"$f":"DATE(연간!$O$2,1,1)","v":"2023-01-01"},"신정",{"$f":"IF(G2=\"\",\"\",MONTH(G2))","v":1},{"$f":"IF(G2=\"\",\"\",DAY(G2))","v":9},{"$f":"DATE(연간!$O$2,1,9)","v":"2023-01-09"},"친구생일"]
[{"$f":"IF(C3=\"\",\"\",MONTH(C3))","v":1},{"$f":"IF(C3=\"\",\"\",DAY(C3))","v":21},{"$f":"INDEX(날짜,MATCH(연간!$O$2,공휴일연도,0),0)","v":"2023-01-21"},"설날",{"$f":"IF(G3=\"\",\"\",MONTH(G3))","v":""},{"$f":"IF(G3=\"\",\"\",DAY(G3))","v":""}]
[1,22,{"$f":"C3+1","v":"2023-01-22"},"설날","",""]
[1,23,{"$f":"C4+1","v":"2023-01-23"},"설날","",""]
[3,1,{"$f":"DATE(연간!$O$2,3,1)","v":"2023-03-01"},"삼일절","",""]
[5,5,{"$f":"DATE(연간!$O$2,5,5)","v":"2023-05-05"},"어린이날","",""]
[5,27,{"$f":"INDEX(날짜,MATCH(1,($D$8=휴일명)*(연간!$O$2=공휴일연도),0))","v":"2023-05-27"},"석가탄신일","",""]
[6,6,{"$f":"DATE(연간!$O$2,6,6)","v":"2023-06-06"},"현충일","",""]
[8,15,{"$f":"DATE(연간!$O$2,8,15)","v":"2023-08-15"},"광복절","",""]
[9,28,{"$f":"INDEX(날짜,MATCH(1,($D$11=휴일명)*(연간!$O$2=공휴일연도),0))","v":"2023-09-28"},"추석","",""]
[9,29,{"$f":"C11+1","v":"2023-09-29"},"추석","",""]
[9,30,{"$f":"C12+1","v":"2023-09-30"},"추석","",""]
[10,3,{"$f":"DATE(연간!$O$2,10,3)","v":"2023-10-03"},"개천절","",""]
[10,9,{"$f":"DATE(연간!$O$2,10,9)","v":"2023-10-09"},"한글날","",""]
[12,25,{"$f":"DATE(연간!$O$2,12,25)","v":"2023-12-25"},"성탄절","",""]
[1,24,"2023-01-24","설날 대체휴일","",""]
[1,19,"2023-01-19","창립기념일","",""]
["","",null,null,"",""]
["","",null,null,"",""]
["","",null,null,"",""]
["","",null,null,"",""]
["","",null,null,"",""]
["","",null,null,"",""]
["","",null,null,"",""]
["","",null,null,"",""]
["","",null,null,"",""]
["","",null,null,"",""]
["","",null,null,"",""]

{"sheet":"디데이","index":6,"n_rows":12,"n_cols":6,"rows_kept":12,"cut":false,"hidden":false,"merged":[]}
[]
[null,"디데이 내용 입력","시설평가",null,{"$f":"IF(C2=\"\",\"\",\"📆 \"&C2)","v":"📆 시설평가"},{"$f":"IF(C4=\"\",\"\",C5)","v":"D-296"}]
[null,"오늘 날짜",{"$f":"TODAY()","v":"2022-12-17"}]
[null,"기준일 입력","2023-10-09"]
[null,"D-day",{"$f":"IF(C4-C3<0,\"D+\"&ABS(C4-C3),\"D-\"&C4-C3)","v":"D-296"}]
[]
[null,"디데이 내용 입력",null,null,{"$f":"IF(C7=\"\",\"\",\"📆 \"&C7)","v":""},{"$f":"IF(C9=\"\",\"\",C10)","v":""}]
[null,"오늘 날짜",{"$f":"TODAY()","v":"2022-12-17"}]
[null,"기준일 입력"]
[null,"D-day",{"$f":"IF(C9-C8<0,\"D+\"&ABS(C9-C8),\"D-\"&C9-C8)","v":"D+44912"}]
[]
[null,"*노란색 셀 배경이 채워져있는 곳만 수정하세요!"]

{"sheet":"일정-비교","index":7,"n_rows":371,"n_cols":9,"rows_kept":371,"cut":false,"hidden":true,"merged":[]}
[]
[]
[]
[]
[null,"근무일정"]
[null,"날짜","요일","김땡땡","이땡땡","박땡땡","최땡땡","오땡땡","구땡땡"]
[null,{"$f":"DATE(연간!$O$2,연간!$E$4,1)","v":"2023-01-01"},{"$f":"CHOOSE(WEEKDAY(B7,1),\"일\",\"월\",\"화\",\"수\",\"목\",\"금\",\"토\")","v":"일"},{"$f":"IF(달력!$S$24=\"순서1\",근무!D7,IF(달력!$S$24=\"순서2\",근무!E7,IF(달력!$S$24=\"순서3\",근무!F7,IF(달력!$S$24=\"순서4\",근무!G7,IF(달력!$S$24=\"순서5\",근무!H7,IF(달력!$S$24=\"순서6\",근무!I7,\"\"))))))","v":"주간"},{"$f":"IF(달력!$S$25=\"순서1\",근무!D7,IF(달력!$S$25=\"순서2\",근무!E7,IF(달력!$S$25=\"순서3\",근무!F7,IF(달력!$S$25=\"순서4\",근무!G7,IF(달력!$S$25=\"순서5\",근무!H7,IF(달력!$S$25=\"순서6\",근무!I7,\"\"))))))","v":"주간"},{"$f":"IF(달력!$S$26=\"순서1\",근무!D7,IF(달력!$S$26=\"순서2\",근무!E7,IF(달력!$S$26=\"순서3\",근무!F7,IF(달력!$S$26=\"순서4\",근무!G7,IF(달력!$S$26=\"순서5\",근무!H7,IF(달력!$S$26=\"순서6\",근무!I7,\"\"))))))","v":"야간"},{"$f":"IF(달력!$S$27=\"순서1\",근무!D7,IF(달력!$S$27=\"순서2\",근무!E7,IF(달력!$S$27=\"순서3\",근무!F7,IF(달력!$S$27=\"순서4\",근무!G7,IF(달력!$S$27=\"순서5\",근무!H7,IF(달력!$S$27=\"순서6\",근무!I7,\"\"))))))","v":"야간"},{"$f":"IF(달력!$S$28=\"순서1\",근무!D7,IF(달력!$S$28=\"순서2\",근무!E7,IF(달력!$S$28=\"순서3\",근무!F7,IF(달력!$S$28=\"순서4\",근무!G7,IF(달력!$S$28=\"순서5\",근무!H7,IF(달력!$S$28=\"순서6\",근무!I7,\"\"))))))","v":"비번"},{"$f":"IF(달력!$S$29=\"순서1\",근무!D7,IF(달력!$S$29=\"순서2\",근무!E7,IF(달력!$S$29=\"순서3\",근무!F7,IF(달력!$S$29=\"순서4\",근무!G7,IF(달력!$S$29=\"순서5\",근무!H7,IF(달력!$S$29=\"순서6\",근무!I7,\"\"))))))","v":"비번"}]
[null,{"$f":"B7+1","v":"2023-01-02"},{"$f":"CHOOSE(WEEKDAY(B8,1),\"일\",\"월\",\"화\",\"수\",\"목\",\"금\",\"토\")","v":"월"},{"$f":"IF(달력!$S$24=\"순서1\",근무!D8,IF(달력!$S$24=\"순서2\",근무!E8,IF(달력!$S$24=\"순서3\",근무!F8,IF(달력!$S$24=\"순서4\",근무!G8,IF(달력!$S$24=\"순서5\",근무!H8,IF(달력!$S$24=\"순서6\",근무!I8,\"\"))))))","v":"주간"},{"$f":"IF(달력!$S$25=\"순서1\",근무!D8,IF(달력!$S$25=\"순서2\",근무!E8,IF(달력!$S$25=\"순서3\",근무!F8,IF(달력!$S$25=\"순서4\",근무!G8,IF(달력!$S$25=\"순서5\",근무!H8,IF(달력!$S$25=\"순서6\",근무!I8,\"\"))))))","v":"주간"},{"$f":"IF(달력!$S$26=\"순서1\",근무!D8,IF(달력!$S$26=\"순서2\",근무!E8,IF(달력!$S$26=\"순서3\",근무!F8,IF(달력!$S$26=\"순서4\",근무!G8,IF(달력!$S$26=\"순서5\",근무!H8,IF(달력!$S$26=\"순서6\",근무!I8,\"\"))))))","v":"야간"},{"$f":"IF(달력!$S$27=\"순서1\",근무!D8,IF(달력!$S$27=\"순서2\",근무!E8,IF(달력!$S$27=\"순서3\",근무!F8,IF(달력!$S$27=\"순서4\",근무!G8,IF(달력!$S$27=\"순서5\",근무!H8,IF(달력!$S$27=\"순서6\",근무!I8,\"\"))))))","v":"야간"},{"$f":"IF(달력!$S$28=\"순서1\",근무!D8,IF(달력!$S$28=\"순서2\",근무!E8,IF(달력!$S$28=\"순서3\",근무!F8,IF(달력!$S$28=\"순서4\",근무!G8,IF(달력!$S$28=\"순서5\",근무!H8,IF(달력!$S$28=\"순서6\",근무!I8,\"\"))))))","v":"비번"},{"$f":"IF(달력!$S$29=\"순서1\",근무!D8,IF(달력!$S$29=\"순서2\",근무!E8,IF(달력!$S$29=\"순서3\",근무!F8,IF(달력!$S$29=\"순서4\",근무!G8,IF(달력!$S$29=\"순서5\",근무!H8,IF(달력!$S$29=\"순서6\",근무!I8,\"\"))))))","v":"비번"}]
[null,{"$f":"B8+1","v":"2023-01-03"},"화",{"$f":"IF(달력!$S$24=\"순서1\",근무!D9,IF(달력!$S$24=\"순서2\",근무!E9,IF(달력!$S$24=\"순서3\",근무!F9,IF(달력!$S$24=\"순서4\",근무!G9,IF(달력!$S$24=\"순서5\",근무!H9,IF(달력!$S$24=\"순서6\",근무!I9,\"\"))))))","v":"야간"},{"$f":"IF(달력!$S$25=\"순서1\",근무!D9,IF(달력!$S$25=\"순서2\",근무!E9,IF(달력!$S$25=\"순서3\",근무!F9,IF(달력!$S$25=\"순서4\",근무!G9,IF(달력!$S$25=\"순서5\",근무!H9,IF(달력!$S$25=\"순서6\",근무!I9,\"\"))))))","v":"야간"},{"$f":"IF(달력!$S$26=\"순서1\",근무!D9,IF(달력!$S$26=\"순서2\",근무!E9,IF(달력!$S$26=\"순서3\",근무!F9,IF(달력!$S$26=\"순서4\",근무!G9,IF(달력!$S$26=\"순서5\",근무!H9,IF(달력!$S$26=\"순서6\",근무!I9,\"\"))))))","v":"비번"},{"$f":"IF(달력!$S$27=\"순서1\",근무!D9,IF(달력!$S$27=\"순서2\",근무!E9,IF(달력!$S$27=\"순서3\",근무!F9,IF(달력!$S$27=\"순서4\",근무!G9,IF(달력!$S$27=\"순서5\",근무!H9,IF(달력!$S$27=\"순서6\",근무!I9,\"\"))))))","v":"비번"},{"$f":"IF(달력!$S$28=\"순서1\",근무!D9,IF(달력!$S$28=\"순서2\",근무!E9,IF(달력!$S$28=\"순서3\",근무!F9,IF(달력!$S$28=\"순서4\",근무!G9,IF(달력!$S$28=\"순서5\",근무!H9,IF(달력!$S$28=\"순서6\",근무!I9,\"\"))))))","v":"주간"},{"$f":"IF(달력!$S$29=\"순서1\",근무!D9,IF(달력!$S$29=\"순서2\",근무!E9,IF(달력!$S$29=\"순서3\",근무!F9,IF(달력!$S$29=\"순서4\",근무!G9,IF(달력!$S$29=\"순서5\",근무!H9,IF(달력!$S$29=\"순서6\",근무!I9,\"\"))))))","v":"주간"}]
[null,"2023-01-04","수",{"$f":"IF(달력!$S$24=\"순서1\",근무!D10,IF(달력!$S$24=\"순서2\",근무!E10,IF(달력!$S$24=\"순서3\",근무!F10,IF(달력!$S$24=\"순서4\",근무!G10,IF(달력!$S$24=\"순서5\",근무!H10,IF(달력!$S$24=\"순서6\",근무!I10,\"\"))))))","v":"야간"},{"$f":"IF(달력!$S$25=\"순서1\",근무!D10,IF(달력!$S$25=\"순서2\",근무!E10,IF(달력!$S$25=\"순서3\",근무!F10,IF(달력!$S$25=\"순서4\",근무!G10,IF(달력!$S$25=\"순서5\",근무!H10,IF(달력!$S$25=\"순서6\",근무!I10,\"\"))))))","v":"야간"},{"$f":"IF(달력!$S$26=\"순서1\",근무!D10,IF(달력!$S$26=\"순서2\",근무!E10,IF(달력!$S$26=\"순서3\",근무!F10,IF(달력!$S$26=\"순서4\",근무!G10,IF(달력!$S$26=\"순서5\",근무!H10,IF(달력!$S$26=\"순서6\",근무!I10,\"\"))))))","v":"비번"},{"$f":"IF(달력!$S$27=\"순서1\",근무!D10,IF(달력!$S$27=\"순서2\",근무!E10,IF(달력!$S$27=\"순서3\",근무!F10,IF(달력!$S$27=\"순서4\",근무!G10,IF(달력!$S$27=\"순서5\",근무!H10,IF(달력!$S$27=\"순서6\",근무!I10,\"\"))))))","v":"비번"},{"$f":"IF(달력!$S$28=\"순서1\",근무!D10,IF(달력!$S$28=\"순서2\",근무!E10,IF(달력!$S$28=\"순서3\",근무!F10,IF(달력!$S$28=\"순서4\",근무!G10,IF(달력!$S$28=\"순서5\",근무!H10,IF(달력!$S$28=\"순서6\",근무!I10,\"\"))))))","v":"주간"},{"$f":"IF(달력!$S$29=\"순서1\",근무!D10,IF(달력!$S$29=\"순서2\",근무!E10,IF(달력!$S$29=\"순서3\",근무!F10,IF(달력!$S$29=\"순서4\",근무!G10,IF(달력!$S$29=\"순서5\",근무!H10,IF(달력!$S$29=\"순서6\",근무!I10,\"\"))))))","v":"주간"}]
[null,"2023-01-05","목",{"$f":"IF(달력!$S$24=\"순서1\",근무!D11,IF(달력!$S$24=\"순서2\",근무!E11,IF(달력!$S$24=\"순서3\",근무!F11,IF(달력!$S$24=\"순서4\",근무!G11,IF(달력!$S$24=\"순서5\",근무!H11,IF(달력!$S$24=\"순서6\",근무!I11,\"\"))))))","v":"비번"},{"$f":"IF(달력!$S$25=\"순서1\",근무!D11,IF(달력!$S$25=\"순서2\",근무!E11,IF(달력!$S$25=\"순서3\",근무!F11,IF(달력!$S$25=\"순서4\",근무!G11,IF(달력!$S$25=\"순서5\",근무!H11,IF(달력!$S$25=\"순서6\",근무!I11,\"\"))))))","v":"비번"},{"$f":"IF(달력!$S$26=\"순서1\",근무!D11,IF(달력!$S$26=\"순서2\",근무!E11,IF(달력!$S$26=\"순서3\",근무!F11,IF(달력!$S$26=\"순서4\",근무!G11,IF(달력!$S$26=\"순서5\",근무!H11,IF(달력!$S$26=\"순서6\",근무!I11,\"\"))))))","v":"주간"},{"$f":"IF(달력!$S$27=\"순서1\",근무!D11,IF(달력!$S$27=\"순서2\",근무!E11,IF(달력!$S$27=\"순서3\",근무!F11,IF(달력!$S$27=\"순서4\",근무!G11,IF(달력!$S$27=\"순서5\",근무!H11,IF(달력!$S$27=\"순서6\",근무!I11,\"\"))))))","v":"주간"},{"$f":"IF(달력!$S$28=\"순서1\",근무!D11,IF(달력!$S$28=\"순서2\",근무!E11,IF(달력!$S$28=\"순서3\",근무!F11,IF(달력!$S$28=\"순서4\",근무!G11,IF(달력!$S$28=\"순서5\",근무!H11,IF(달력!$S$28=\"순서6\",근무!I11,\"\"))))))","v":"야간"},{"$f":"IF(달력!$S$29=\"순서1\",근무!D11,IF(달력!$S$29=\"순서2\",근무!E11,IF(달력!$S$29=\"순서3\",근무!F11,IF(달력!$S$29=\"순서4\",근무!G11,IF(달력!$S$29=\"순서5\",근무!H11,IF(달력!$S$29=\"순서6\",근무!I11,\"\"))))))","v":"야간"}]
[null,"2023-01-06","금",{"$f":"IF(달력!$S$24=\"순서1\",근무!D12,IF(달력!$S$24=\"순서2\",근무!E12,IF(달력!$S$24=\"순서3\",근무!F12,IF(달력!$S$24=\"순서4\",근무!G12,IF(달력!$S$24=\"순서5\",근무!H12,IF(달력!$S$24=\"순서6\",근무!I12,\"\"))))))","v":"비번"},{"$f":"IF(달력!$S$25=\"순서1\",근무!D12,IF(달력!$S$25=\"순서2\",근무!E12,IF(달력!$S$25=\"순서3\",근무!F12,IF(달력!$S$25=\"순서4\",근무!G12,IF(달력!$S$25=\"순서5\",근무!H12,IF(달력!$S$25=\"순서6\",근무!I12,\"\"))))))","v":"비번"},{"$f":"IF(달력!$S$26=\"순서1\",근무!D12,IF(달력!$S$26=\"순서2\",근무!E12,IF(달력!$S$26=\"순서3\",근무!F12,IF(달력!$S$26=\"순서4\",근무!G12,IF(달력!$S$26=\"순서5\",근무!H12,IF(달력!$S$26=\"순서6\",근무!I12,\"\"))))))","v":"주간"},{"$f":"IF(달력!$S$27=\"순서1\",근무!D12,IF(달력!$S$27=\"순서2\",근무!E12,IF(달력!$S$27=\"순서3\",근무!F12,IF(달력!$S$27=\"순서4\",근무!G12,IF(달력!$S$27=\"순서5\",근무!H12,IF(달력!$S$27=\"순서6\",근무!I12,\"\"))))))","v":"주간"},{"$f":"IF(달력!$S$28=\"순서1\",근무!D12,IF(달력!$S$28=\"순서2\",근무!E12,IF(달력!$S$28=\"순서3\",근무!F12,IF(달력!$S$28=\"순서4\",근무!G12,IF(달력!$S$28=\"순서5\",근무!H12,IF(달력!$S$28=\"순서6\",근무!I12,\"\"))))))","v":"야간"},{"$f":"IF(달력!$S$29=\"순서1\",근무!D12,IF(달력!$S$29=\"순서2\",근무!E12,IF(달력!$S$29=\"순서3\",근무!F12,IF(달력!$S$29=\"순서4\",근무!G12,IF(달력!$S$29=\"순서5\",근무!H12,IF(달력!$S$29=\"순서6\",근무!I12,\"\"))))))","v":"야간"}]
[null,"2023-01-07","토",{"$f":"IF(달력!$S$24=\"순서1\",근무!D13,IF(달력!$S$24=\"순서2\",근무!E13,IF(달력!$S$24=\"순서3\",근무!F13,IF(달력!$S$24=\"순서4\",근무!G13,IF(달력!$S$24=\"순서5\",근무!H13,IF(달력!$S$24=\"순서6\",근무!I13,\"\"))))))","v":"주간"},{"$f":"IF(달력!$S$25=\"순서1\",근무!D13,IF(달력!$S$25=\"순서2\",근무!E13,IF(달력!$S$25=\"순서3\",근무!F13,IF(달력!$S$25=\"순서4\",근무!G13,IF(달력!$S$25=\"순서5\",근무!H13,IF(달력!$S$25=\"순서6\",근무!I13,\"\"))))))","v":"주간"},{"$f":"IF(달력!$S$26=\"순서1\",근무!D13,IF(달력!$S$26=\"순서2\",근무!E13,IF(달력!$S$26=\"순서3\",근무!F13,IF(달력!$S$26=\"순서4\",근무!G13,IF(달력!$S$26=\"순서5\",근무!H13,IF(달력!$S$26=\"순서6\",근무!I13,\"\"))))))","v":"야간"},{"$f":"IF(달력!$S$27=\"순서1\",근무!D13,IF(달력!$S$27=\"순서2\",근무!E13,IF(달력!$S$27=\"순서3\",근무!F13,IF(달력!$S$27=\"순서4\",근무!G13,IF(달력!$S$27=\"순서5\",근무!H13,IF(달력!$S$27=\"순서6\",근무!I13,\"\"))))))","v":"야간"},{"$f":"IF(달력!$S$28=\"순서1\",근무!D13,IF(달력!$S$28=\"순서2\",근무!E13,IF(달력!$S$28=\"순서3\",근무!F13,IF(달력!$S$28=\"순서4\",근무!G13,IF(달력!$S$28=\"순서5\",근무!H13,IF(달력!$S$28=\"순서6\",근무!I13,\"\"))))))","v":"비번"},{"$f":"IF(달력!$S$29=\"순서1\",근무!D13,IF(달력!$S$29=\"순서2\",근무!E13,IF(달력!$S$29=\"순서3\",근무!F13,IF(달력!$S$29=\"순서4\",근무!G13,IF(달력!$S$29=\"순서5\",근무!H13,IF(달력!$S$29=\"순서6\",근무!I13,\"\"))))))","v":"비번"}]
[null,"2023-01-08","일",{"$f":"IF(달력!$S$24=\"순서1\",근무!D14,IF(달력!$S$24=\"순서2\",근무!E14,IF(달력!$S$24=\"순서3\",근무!F14,IF(달력!$S$24=\"순서4\",근무!G14,IF(달력!$S$24=\"순서5\",근무!H14,IF(달력!$S$24=\"순서6\",근무!I14,\"\"))))))","v":"주간"},{"$f":"IF(달력!$S$25=\"순서1\",근무!D14,IF(달력!$S$25=\"순서2\",근무!E14,IF(달력!$S$25=\"순서3\",근무!F14,IF(달력!$S$25=\"순서4\",근무!G14,IF(달력!$S$25=\"순서5\",근무!H14,IF(달력!$S$25=\"순서6\",근무!I14,\"\"))))))","v":"주간"},{"$f":"IF(달력!$S$26=\"순서1\",근무!D14,IF(달력!$S$26=\"순서2\",근무!E14,IF(달력!$S$26=\"순서3\",근무!F14,IF(달력!$S$26=\"순서4\",근무!G14,IF(달력!$S$26=\"순서5\",근무!H14,IF(달력!$S$26=\"순서6\",근무!I14,\"\"))))))","v":"야간"},{"$f":"IF(달력!$S$27=\"순서1\",근무!D14,IF(달력!$S$27=\"순서2\",근무!E14,IF(달력!$S$27=\"순서3\",근무!F14,IF(달력!$S$27=\"순서4\",근무!G14,IF(달력!$S$27=\"순서5\",근무!H14,IF(달력!$S$27=\"순서6\",근무!I14,\"\"))))))","v":"야간"},{"$f":"IF(달력!$S$28=\"순서1\",근무!D14,IF(달력!$S$28=\"순서2\",근무!E14,IF(달력!$S$28=\"순서3\",근무!F14,IF(달력!$S$28=\"순서4\",근무!G14,IF(달력!$S$28=\"순서5\",근무!H14,IF(달력!$S$28=\"순서6\",근무!I14,\"\"))))))","v":"비번"},{"$f":"IF(달력!$S$29=\"순서1\",근무!D14,IF(달력!$S$29=\"순서2\",근무!E14,IF(달력!$S$29=\"순서3\",근무!F14,IF(달력!$S$29=\"순서4\",근무!G14,IF(달력!$S$29=\"순서5\",근무!H14,IF(달력!$S$29=\"순서6\",근무!I14,\"\"))))))","v":"비번"}]
[null,"2023-01-09","월",{"$f":"IF(달력!$S$24=\"순서1\",근무!D15,IF(달력!$S$24=\"순서2\",근무!E15,IF(달력!$S$24=\"순서3\",근무!F15,IF(달력!$S$24=\"순서4\",근무!G15,IF(달력!$S$24=\"순서5\",근무!H15,IF(달력!$S$24=\"순서6\",근무!I15,\"\"))))))","v":"야간"},{"$f":"IF(달력!$S$25=\"순서1\",근무!D15,IF(달력!$S$25=\"순서2\",근무!E15,IF(달력!$S$25=\"순서3\",근무!F15,IF(달력!$S$25=\"순서4\",근무!G15,IF(달력!$S$25=\"순서5\",근무!H15,IF(달력!$S$25=\"순서6\",근무!I15,\"\"))))))","v":"야간"},{"$f":"IF(달력!$S$26=\"순서1\",근무!D15,IF(달력!$S$26=\"순서2\",근무!E15,IF(달력!$S$26=\"순서3\",근무!F15,IF(달력!$S$26=\"순서4\",근무!G15,IF(달력!$S$26=\"순서5\",근무!H15,IF(달력!$S$26=\"순서6\",근무!I15,\"\"))))))","v":"비번"},{"$f":"IF(달력!$S$27=\"순서1\",근무!D15,IF(달력!$S$27=\"순서2\",근무!E15,IF(달력!$S$27=\"순서3\",근무!F15,IF(달력!$S$27=\"순서4\",근무!G15,IF(달력!$S$27=\"순서5\",근무!H15,IF(달력!$S$27=\"순서6\",근무!I15,\"\"))))))","v":"비번"},{"$f":"IF(달력!$S$28=\"순서1\",근무!D15,IF(달력!$S$28=\"순서2\",근무!E15,IF(달력!$S$28=\"순서3\",근무!F15,IF(달력!$S$28=\"순서4\",근무!G15,IF(달력!$S$28=\"순서5\",근무!H15,IF(달력!$S$28=\"순서6\",근무!I15,\"\"))))))","v":"주간"},{"$f":"IF(달력!$S$29=\"순서1\",근무!D15,IF(달력!$S$29=\"순서2\",근무!E15,IF(달력!$S$29=\"순서3\",근무!F15,IF(달력!$S$29=\"순서4\",근무!G15,IF(달력!$S$29=\"순서5\",근무!H15,IF(달력!$S$29=\"순서6\",근무!I15,\"\"))))))","v":"주간"}]
[null,"2023-01-10","화",{"$f":"IF(달력!$S$24=\"순서1\",근무!D16,IF(달력!$S$24=\"순서2\",근무!E16,IF(달력!$S$24=\"순서3\",근무!F16,IF(달력!$S$24=\"순서4\",근무!G16,IF(달력!$S$24=\"순서5\",근무!H16,IF(달력!$S$24=\"순서6\",근무!I16,\"\"))))))","v":"야간"},{"$f":"IF(달력!$S$25=\"순서1\",근무!D16,IF(달력!$S$25=\"순서2\",근무!E16,IF(달력!$S$25=\"순서3\",근무!F16,IF(달력!$S$25=\"순서4\",근무!G16,IF(달력!$S$25=\"순서5\",근무!H16,IF(달력!$S$25=\"순서6\",근무!I16,\"\"))))))","v":"야간"},{"$f":"IF(달력!$S$26=\"순서1\",근무!D16,IF(달력!$S$26=\"순서2\",근무!E16,IF(달력!$S$26=\"순서3\",근무!F16,IF(달력!$S$26=\"순서4\",근무!G16,IF(달력!$S$26=\"순서5\",근무!H16,IF(달력!$S$26=\"순서6\",근무!I16,\"\"))))))","v":"비번"},{"$f":"IF(달력!$S$27=\"순서1\",근무!D16,IF(달력!$S$27=\"순서2\",근무!E16,IF(달력!$S$27=\"순서3\",근무!F16,IF(달력!$S$27=\"순서4\",근무!G16,IF(달력!$S$27=\"순서5\",근무!H16,IF(달력!$S$27=\"순서6\",근무!I16,\"\"))))))","v":"비번"},{"$f":"IF(달력!$S$28=\"순서1\",근무!D16,IF(달력!$S$28=\"순서2\",근무!E16,IF(달력!$S$28=\"순서3\",근무!F16,IF(달력!$S$28=\"순서4\",근무!G16,IF(달력!$S$28=\"순서5\",근무!H16,IF(달력!$S$28=\"순서6\",근무!I16,\"\"))))))","v":"주간"},{"$f":"IF(달력!$S$29=\"순서1\",근무!D16,IF(달력!$S$29=\"순서2\",근무!E16,IF(달력!$S$29=\"순서3\",근무!F16,IF(달력!$S$29=\"순서4\",근무!G16,IF(달력!$S$29=\"순서5\",근무!H16,IF(달력!$S$29=\"순서6\",근무!I16,\"\"))))))","v":"주간"}]
[null,"2023-01-11","수",{"$f":"IF(달력!$S$24=\"순서1\",근무!D17,IF(달력!$S$24=\"순서2\",근무!E17,IF(달력!$S$24=\"순서3\",근무!F17,IF(달력!$S$24=\"순서4\",근무!G17,IF(달력!$S$24=\"순서5\",근무!H17,IF(달력!$S$24=\"순서6\",근무!I17,\"\"))))))","v":"비번"},{"$f":"IF(달력!$S$25=\"순서1\",근무!D17,IF(달력!$S$25=\"순서2\",근무!E17,IF(달력!$S$25=\"순서3\",근무!F17,IF(달력!$S$25=\"순서4\",근무!G17,IF(달력!$S$25=\"순서5\",근무!H17,IF(달력!$S$25=\"순서6\",근무!I17,\"\"))))))","v":"비번"},{"$f":"IF(달력!$S$26=\"순서1\",근무!D17,IF(달력!$S$26=\"순서2\",근무!E17,IF(달력!$S$26=\"순서3\",근무!F17,IF(달력!$S$26=\"순서4\",근무!G17,IF(달력!$S$26=\"순서5\",근무!H17,IF(달력!$S$26=\"순서6\",근무!I17,\"\"))))))","v":"주간"},{"$f":"IF(달력!$S$27=\"순서1\",근무!D17,IF(달력!$S$27=\"순서2\",근무!E17,IF(달력!$S$27=\"순서3\",근무!F17,IF(달력!$S$27=\"순서4\",근무!G17,IF(달력!$S$27=\"순서5\",근무!H17,IF(달력!$S$27=\"순서6\",근무!I17,\"\"))))))","v":"주간"},{"$f":"IF(달력!$S$28=\"순서1\",근무!D17,IF(달력!$S$28=\"순서2\",근무!E17,IF(달력!$S$28=\"순서3\",근무!F17,IF(달력!$S$28=\"순서4\",근무!G17,IF(달력!$S$28=\"순서5\",근무!H17,IF(달력!$S$28=\"순서6\",근무!I17,\"\"))))))","v":"야간"},{"$f":"IF(달력!$S$29=\"순서1\",근무!D17,IF(달력!$S$29=\"순서2\",근무!E17,IF(달력!$S$29=\"순서3\",근무!F17,IF(달력!$S$29=\"순서4\",근무!G17,IF(달력!$S$29=\"순서5\",근무!H17,IF(달력!$S$29=\"순서6\",근무!I17,\"\"))))))","v":"야간"}]
[null,"2023-01-12","목",{"$f":"IF(달력!$S$24=\"순서1\",근무!D18,IF(달력!$S$24=\"순서2\",근무!E18,IF(달력!$S$24=\"순서3\",근무!F18,IF(달력!$S$24=\"순서4\",근무!G18,IF(달력!$S$24=\"순서5\",근무!H18,IF(달력!$S$24=\"순서6\",근무!I18,\"\"))))))","v":"비번"},{"$f":"IF(달력!$S$25=\"순서1\",근무!D18,IF(달력!$S$25=\"순서2\",근무!E18,IF(달력!$S$25=\"순서3\",근무!F18,IF(달력!$S$25=\"순서4\",근무!G18,IF(달력!$S$25=\"순서5\",근무!H18,IF(달력!$S$25=\"순서6\",근무!I18,\"\"))))))","v":"비번"},{"$f":"IF(달력!$S$26=\"순서1\",근무!D18,IF(달력!$S$26=\"순서2\",근무!E18,IF(달력!$S$26=\"순서3\",근무!F18,IF(달력!$S$26=\"순서4\",근무!G18,IF(달력!$S$26=\"순서5\",근무!H18,IF(달력!$S$26=\"순서6\",근무!I18,\"\"))))))","v":"주간"},{"$f":"IF(달력!$S$27=\"순서1\",근무!D18,IF(달력!$S$27=\"순서2\",근무!E18,IF(달력!$S$27=\"순서3\",근무!F18,IF(달력!$S$27=\"순서4\",근무!G18,IF(달력!$S$27=\"순서5\",근무!H18,IF(달력!$S$27=\"순서6\",근무!I18,\"\"))))))","v":"주간"},{"$f":"IF(달력!$S$28=\"순서1\",근무!D18,IF(달력!$S$28=\"순서2\",근무!E18,IF(달력!$S$28=\"순서3\",근무!F18,IF(달력!$S$28=\"순서4\",근무!G18,IF(달력!$S$28=\"순서5\",근무!H18,IF(달력!$S$28=\"순서6\",근무!I18,\"\"))))))","v":"야간"},{"$f":"IF(달력!$S$29=\"순서1\",근무!D18,IF(달력!$S$29=\"순서2\",근무!E18,IF(달력!$S$29=\"순서3\",근무!F18,IF(달력!$S$29=\"순서4\",근무!G18,IF(달력!$S$29=\"순서5\",근무!H18,IF(달력!$S$29=\"순서6\",근무!I18,\"\"))))))","v":"야간"}]
[null,"2023-01-13","금",{"$f":"IF(달력!$S$24=\"순서1\",근무!D19,IF(달력!$S$24=\"순서2\",근무!E19,IF(달력!$S$24=\"순서3\",근무!F19,IF(달력!$S$24=\"순서4\",근무!G19,IF(달력!$S$24=\"순서5\",근무!H19,IF(달력!$S$24=\"순서6\",근무!I19,\"\"))))))","v":"주간"},{"$f":"IF(달력!$S$25=\"순서1\",근무!D19,IF(달력!$S$25=\"순서2\",근무!E19,IF(달력!$S$25=\"순서3\",근무!F19,IF(달력!$S$25=\"순서4\",근무!G19,IF(달력!$S$25=\"순서5\",근무!H19,IF(달력!$S$25=\"순서6\",근무!I19,\"\"))))))","v":"주간"},{"$f":"IF(달력!$S$26=\"순서1\",근무!D19,IF(달력!$S$26=\"순서2\",근무!E19,IF(달력!$S$26=\"순서3\",근무!F19,IF(달력!$S$26=\"순서4\",근무!G19,IF(달력!$S$26=\"순서5\",근무!H19,IF(달력!$S$26=\"순서6\",근무!I19,\"\"))))))","v":"야간"},{"$f":"IF(달력!$S$27=\"순서1\",근무!D19,IF(달력!$S$27=\"순서2\",근무!E19,IF(달력!$S$27=\"순서3\",근무!F19,IF(달력!$S$27=\"순서4\",근무!G19,IF(달력!$S$27=\"순서5\",근무!H19,IF(달력!$S$27=\"순서6\",근무!I19,\"\"))))))","v":"야간"},{"$f":"IF(달력!$S$28=\"순서1\",근무!D19,IF(달력!$S$28=\"순서2\",근무!E19,IF(달력!$S$28=\"순서3\",근무!F19,IF(달력!$S$28=\"순서4\",근무!G19,IF(달력!$S$28=\"순서5\",근무!H19,IF(달력!$S$28=\"순서6\",근무!I19,\"\"))))))","v":"비번"},{"$f":"IF(달력!$S$29=\"순서1\",근무!D19,IF(달력!$S$29=\"순서2\",근무!E19,IF(달력!$S$29=\"순서3\",근무!F19,IF(달력!$S$29=\"순서4\",근무!G19,IF(달력!$S$29=\"순서5\",근무!H19,IF(달력!$S$29=\"순서6\",근무!I19,\"\"))))))","v":"비번"}]
[null,"2023-01-14","토",{"$f":"IF(달력!$S$24=\"순서1\",근무!D20,IF(달력!$S$24=\"순서2\",근무!E20,IF(달력!$S$24=\"순서3\",근무!F20,IF(달력!$S$24=\"순서4\",근무!G20,IF(달력!$S$24=\"순서5\",근무!H20,IF(달력!$S$24=\"순서6\",근무!I20,\"\"))))))","v":"주간"},{"$f":"IF(달력!$S$25=\"순서1\",근무!D20,IF(달력!$S$25=\"순서2\",근무!E20,IF(달력!$S$25=\"순서3\",근무!F20,IF(달력!$S$25=\"순서4\",근무!G20,IF(달력!$S$25=\"순서5\",근무!H20,IF(달력!$S$25=\"순서6\",근무!I20,\"\"))))))","v":"주간"},{"$f":"IF(달력!$S$26=\"순서1\",근무!D20,IF(달력!$S$26=\"순서2\",근무!E20,IF(달력!$S$26=\"순서3\",근무!F20,IF(달력!$S$26=\"순서4\",근무!G20,IF(달력!$S$26=\"순서5\",근무!H20,IF(달력!$S$26=\"순서6\",근무!I20,\"\"))))))","v":"야간"},{"$f":"IF(달력!$S$27=\"순서1\",근무!D20,IF(달력!$S$27=\"순서2\",근무!E20,IF(달력!$S$27=\"순서3\",근무!F20,IF(달력!$S$27=\"순서4\",근무!G20,IF(달력!$S$27=\"순서5\",근무!H20,IF(달력!$S$27=\"순서6\",근무!I20,\"\"))))))","v":"야간"},{"$f":"IF(달력!$S$28=\"순서1\",근무!D20,IF(달력!$S$28=\"순서2\",근무!E20,IF(달력!$S$28=\"순서3\",근무!F20,IF(달력!$S$28=\"순서4\",근무!G20,IF(달력!$S$28=\"순서5\",근무!H20,IF(달력!$S$28=\"순서6\",근무!I20,\"\"))))))","v":"비번"},{"$f":"IF(달력!$S$29=\"순서1\",근무!D20,IF(달력!$S$29=\"순서2\",근무!E20,IF(달력!$S$29=\"순서3\",근무!F20,IF(달력!$S$29=\"순서4\",근무!G20,IF(달력!$S$29=\"순서5\",근무!H20,IF(달력!$S$29=\"순서6\",근무!I20,\"\"))))))","v":"비번"}]
[null,"2023-01-15","일",{"$f":"IF(달력!$S$24=\"순서1\",근무!D21,IF(달력!$S$24=\"순서2\",근무!E21,IF(달력!$S$24=\"순서3\",근무!F21,IF(달력!$S$24=\"순서4\",근무!G21,IF(달력!$S$24=\"순서5\",근무!H21,IF(달력!$S$24=\"순서6\",근무!I21,\"\"))))))","v":"야간"},{"$f":"IF(달력!$S$25=\"순서1\",근무!D21,IF(달력!$S$25=\"순서2\",근무!E21,IF(달력!$S$25=\"순서3\",근무!F21,IF(달력!$S$25=\"순서4\",근무!G21,IF(달력!$S$25=\"순서5\",근무!H21,IF(달력!$S$25=\"순서6\",근무!I21,\"\"))))))","v":"야간"},{"$f":"IF(달력!$S$26=\"순서1\",근무!D21,IF(달력!$S$26=\"순서2\",근무!E21,IF(달력!$S$26=\"순서3\",근무!F21,IF(달력!$S$26=\"순서4\",근무!G21,IF(달력!$S$26=\"순서5\",근무!H21,IF(달력!$S$26=\"순서6\",근무!I21,\"\"))))))","v":"비번"},{"$f":"IF(달력!$S$27=\"순서1\",근무!D21,IF(달력!$S$27=\"순서2\",근무!E21,IF(달력!$S$27=\"순서3\",근무!F21,IF(달력!$S$27=\"순서4\",근무!G21,IF(달력!$S$27=\"순서5\",근무!H21,IF(달력!$S$27=\"순서6\",근무!I21,\"\"))))))","v":"비번"},{"$f":"IF(달력!$S$28=\"순서1\",근무!D21,IF(달력!$S$28=\"순서2\",근무!E21,IF(달력!$S$28=\"순서3\",근무!F21,IF(달력!$S$28=\"순서4\",근무!G21,IF(달력!$S$28=\"순서5\",근무!H21,IF(달력!$S$28=\"순서6\",근무!I21,\"\"))))))","v":"주간"},{"$f":"IF(달력!$S$29=\"순서1\",근무!D21,IF(달력!$S$29=\"순서2\",근무!E21,IF(달력!$S$29=\"순서3\",근무!F21,IF(달력!$S$29=\"순서4\",근무!G21,IF(달력!$S$29=\"순서5\",근무!H21,IF(달력!$S$29=\"순서6\",근무!I21,\"\"))))))","v":"주간"}]
[null,"2023-01-16","월",{"$f":"IF(달력!$S$24=\"순서1\",근무!D22,IF(달력!$S$24=\"순서2\",근무!E22,IF(달력!$S$24=\"순서3\",근무!F22,IF(달력!$S$24=\"순서4\",근무!G22,IF(달력!$S$24=\"순서5\",근무!H22,IF(달력!$S$24=\"순서6\",근무!I22,\"\"))))))","v":"야간"},{"$f":"IF(달력!$S$25=\"순서1\",근무!D22,IF(달력!$S$25=\"순서2\",근무!E22,IF(달력!$S$25=\"순서3\",근무!F22,IF(달력!$S$25=\"순서4\",근무!G22,IF(달력!$S$25=\"순서5\",근무!H22,IF(달력!$S$25=\"순서6\",근무!I22,\"\"))))))","v":"야간"},{"$f":"IF(달력!$S$26=\"순서1\",근무!D22,IF(달력!$S$26=\"순서2\",근무!E22,IF(달력!$S$26=\"순서3\",근무!F22,IF(달력!$S$26=\"순서4\",근무!G22,IF(달력!$S$26=\"순서5\",근무!H22,IF(달력!$S$26=\"순서6\",근무!I22,\"\"))))))","v":"비번"},{"$f":"IF(달력!$S$27=\"순서1\",근무!D22,IF(달력!$S$27=\"순서2\",근무!E22,IF(달력!$S$27=\"순서3\",근무!F22,IF(달력!$S$27=\"순서4\",근무!G22,IF(달력!$S$27=\"순서5\",근무!H22,IF(달력!$S$27=\"순서6\",근무!I22,\"\"))))))","v":"비번"},{"$f":"IF(달력!$S$28=\"순서1\",근무!D22,IF(달력!$S$28=\"순서2\",근무!E22,IF(달력!$S$28=\"순서3\",근무!F22,IF(달력!$S$28=\"순서4\",근무!G22,IF(달력!$S$28=\"순서5\",근무!H22,IF(달력!$S$28=\"순서6\",근무!I22,\"\"))))))","v":"주간"},{"$f":"IF(달력!$S$29=\"순서1\",근무!D22,IF(달력!$S$29=\"순서2\",근무!E22,IF(달력!$S$29=\"순서3\",근무!F22,IF(달력!$S$29=\"순서4\",근무!G22,IF(달력!$S$29=\"순서5\",근무!H22,IF(달력!$S$29=\"순서6\",근무!I22,\"\"))))))","v":"주간"}]
[null,"2023-01-17","화",{"$f":"IF(달력!$S$24=\"순서1\",근무!D23,IF(달력!$S$24=\"순서2\",근무!E23,IF(달력!$S$24=\"순서3\",근무!F23,IF(달력!$S$24=\"순서4\",근무!G23,IF(달력!$S$24=\"순서5\",근무!H23,IF(달력!$S$24=\"순서6\",근무!I23,\"\"))))))","v":"비번"},{"$f":"IF(달력!$S$25=\"순서1\",근무!D23,IF(달력!$S$25=\"순서2\",근무!E23,IF(달력!$S$25=\"순서3\",근무!F23,IF(달력!$S$25=\"순서4\",근무!G23,IF(달력!$S$25=\"순서5\",근무!H23,IF(달력!$S$25=\"순서6\",근무!I23,\"\"))))))","v":"비번"},{"$f":"IF(달력!$S$26=\"순서1\",근무!D23,IF(달력!$S$26=\"순서2\",근무!E23,IF(달력!$S$26=\"순서3\",근무!F23,IF(달력!$S$26=\"순서4\",근무!G23,IF(달력!$S$26=\"순서5\",근무!H23,IF(달력!$S$26=\"순서6\",근무!I23,\"\"))))))","v":"주간"},{"$f":"IF(달력!$S$27=\"순서1\",근무!D23,IF(달력!$S$27=\"순서2\",근무!E23,IF(달력!$S$27=\"순서3\",근무!F23,IF(달력!$S$27=\"순서4\",근무!G23,IF(달력!$S$27=\"순서5\",근무!H23,IF(달력!$S$27=\"순서6\",근무!I23,\"\"))))))","v":"주간"},{"$f":"IF(달력!$S$28=\"순서1\",근무!D23,IF(달력!$S$28=\"순서2\",근무!E23,IF(달력!$S$28=\"순서3\",근무!F23,IF(달력!$S$28=\"순서4\",근무!G23,IF(달력!$S$28=\"순서5\",근무!H23,IF(달력!$S$28=\"순서6\",근무!I23,\"\"))))))","v":"야간"},{"$f":"IF(달력!$S$29=\"순서1\",근무!D23,IF(달력!$S$29=\"순서2\",근무!E23,IF(달력!$S$29=\"순서3\",근무!F23,IF(달력!$S$29=\"순서4\",근무!G23,IF(달력!$S$29=\"순서5\",근무!H23,IF(달력!$S$29=\"순서6\",근무!I23,\"\"))))))","v":"야간"}]
[null,"2023-01-18","수",{"$f":"IF(달력!$S$24=\"순서1\",근무!D24,IF(달력!$S$24=\"순서2\",근무!E24,IF(달력!$S$24=\"순서3\",근무!F24,IF(달력!$S$24=\"순서4\",근무!G24,IF(달력!$S$24=\"순서5\",근무!H24,IF(달력!$S$24=\"순서6\",근무!I24,\"\"))))))","v":"비번"},{"$f":"IF(달력!$S$25=\"순서1\",근무!D24,IF(달력!$S$25=\"순서2\",근무!E24,IF(달력!$S$25=\"순서3\",근무!F24,IF(달력!$S$25=\"순서4\",근무!G24,IF(달력!$S$25=\"순서5\",근무!H24,IF(달력!$S$25=\"순서6\",근무!I24,\"\"))))))","v":"비번"},{"$f":"IF(달력!$S$26=\"순서1\",근무!D24,IF(달력!$S$26=\"순서2\",근무!E24,IF(달력!$S$26=\"순서3\",근무!F24,IF(달력!$S$26=\"순서4\",근무!G24,IF(달력!$S$26=\"순서5\",근무!H24,IF(달력!$S$26=\"순서6\",근무!I24,\"\"))))))","v":"주간"},{"$f":"IF(달력!$S$27=\"순서1\",근무!D24,IF(달력!$S$27=\"순서2\",근무!E24,IF(달력!$S$27=\"순서3\",근무!F24,IF(달력!$S$27=\"순서4\",근무!G24,IF(달력!$S$27=\"순서5\",근무!H24,IF(달력!$S$27=\"순서6\",근무!I24,\"\"))))))","v":"주간"},{"$f":"IF(달력!$S$28=\"순서1\",근무!D24,IF(달력!$S$28=\"순서2\",근무!E24,IF(달력!$S$28=\"순서3\",근무!F24,IF(달력!$S$28=\"순서4\",근무!G24,IF(달력!$S$28=\"순서5\",근무!H24,IF(달력!$S$28=\"순서6\",근무!I24,\"\"))))))","v":"야간"},{"$f":"IF(달력!$S$29=\"순서1\",근무!D24,IF(달력!$S$29=\"순서2\",근무!E24,IF(달력!$S$29=\"순서3\",근무!F24,IF(달력!$S$29=\"순서4\",근무!G24,IF(달력!$S$29=\"순서5\",근무!H24,IF(달력!$S$29=\"순서6\",근무!I24,\"\"))))))","v":"야간"}]
[null,"2023-01-19","목",{"$f":"IF(달력!$S$24=\"순서1\",근무!D25,IF(달력!$S$24=\"순서2\",근무!E25,IF(달력!$S$24=\"순서3\",근무!F25,IF(달력!$S$24=\"순서4\",근무!G25,IF(달력!$S$24=\"순서5\",근무!H25,IF(달력!$S$24=\"순서6\",근무!I25,\"\"))))))","v":"주간"},{"$f":"IF(달력!$S$25=\"순서1\",근무!D25,IF(달력!$S$25=\"순서2\",근무!E25,IF(달력!$S$25=\"순서3\",근무!F25,IF(달력!$S$25=\"순서4\",근무!G25,IF(달력!$S$25=\"순서5\",근무!H25,IF(달력!$S$25=\"순서6\",근무!I25,\"\"))))))","v":"주간"},{"$f":"IF(달력!$S$26=\"순서1\",근무!D25,IF(달력!$S$26=\"순서2\",근무!E25,IF(달력!$S$26=\"순서3\",근무!F25,IF(달력!$S$26=\"순서4\",근무!G25,IF(달력!$S$26=\"순서5\",근무!H25,IF(달력!$S$26=\"순서6\",근무!I25,\"\"))))))","v":"야간"},{"$f":"IF(달력!$S$27=\"순서1\",근무!D25,IF(달력!$S$27=\"순서2\",근무!E25,IF(달력!$S$27=\"순서3\",근무!F25,IF(달력!$S$27=\"순서4\",근무!G25,IF(달력!$S$27=\"순서5\",근무!H25,IF(달력!$S$27=\"순서6\",근무!I25,\"\"))))))","v":"야간"},{"$f":"IF(달력!$S$28=\"순서1\",근무!D25,IF(달력!$S$28=\"순서2\",근무!E25,IF(달력!$S$28=\"순서3\",근무!F25,IF(달력!$S$28=\"순서4\",근무!G25,IF(달력!$S$28=\"순서5\",근무!H25,IF(달력!$S$28=\"순서6\",근무!I25,\"\"))))))","v":"비번"},{"$f":"IF(달력!$S$29=\"순서1\",근무!D25,IF(달력!$S$29=\"순서2\",근무!E25,IF(달력!$S$29=\"순서3\",근무!F25,IF(달력!$S$29=\"순서4\",근무!G25,IF(달력!$S$29=\"순서5\",근무!H25,IF(달력!$S$29=\"순서6\",근무!I25,\"\"))))))","v":"비번"}]
[null,"2023-01-20","금",{"$f":"IF(달력!$S$24=\"순서1\",근무!D26,IF(달력!$S$24=\"순서2\",근무!E26,IF(달력!$S$24=\"순서3\",근무!F26,IF(달력!$S$24=\"순서4\",근무!G26,IF(달력!$S$24=\"순서5\",근무!H26,IF(달력!$S$24=\"순서6\",근무!I26,\"\"))))))","v":"주간"},{"$f":"IF(달력!$S$25=\"순서1\",근무!D26,IF(달력!$S$25=\"순서2\",근무!E26,IF(달력!$S$25=\"순서3\",근무!F26,IF(달력!$S$25=\"순서4\",근무!G26,IF(달력!$S$25=\"순서5\",근무!H26,IF(달력!$S$25=\"순서6\",근무!I26,\"\"))))))","v":"주간"},{"$f":"IF(달력!$S$26=\"순서1\",근무!D26,IF(달력!$S$26=\"순서2\",근무!E26,IF(달력!$S$26=\"순서3\",근무!F26,IF(달력!$S$26=\"순서4\",근무!G26,IF(달력!$S$26=\"순서5\",근무!H26,IF(달력!$S$26=\"순서6\",근무!I26,\"\"))))))","v":"야간"},{"$f":"IF(달력!$S$27=\"순서1\",근무!D26,IF(달력!$S$27=\"순서2\",근무!E26,IF(달력!$S$27=\"순서3\",근무!F26,IF(달력!$S$27=\"순서4\",근무!G26,IF(달력!$S$27=\"순서5\",근무!H26,IF(달력!$S$27=\"순서6\",근무!I26,\"\"))))))","v":"야간"},{"$f":"IF(달력!$S$28=\"순서1\",근무!D26,IF(달력!$S$28=\"순서2\",근무!E26,IF(달력!$S$28=\"순서3\",근무!F26,IF(달력!$S$28=\"순서4\",근무!G26,IF(달력!$S$28=\"순서5\",근무!H26,IF(달력!$S$28=\"순서6\",근무!I26,\"\"))))))","v":"비번"},{"$f":"IF(달력!$S$29=\"순서1\",근무!D26,IF(달력!$S$29=\"순서2\",근무!E26,IF(달력!$S$29=\"순서3\",근무!F26,IF(달력!$S$29=\"순서4\",근무!G26,IF(달력!$S$29=\"순서5\",근무!H26,IF(달력!$S$29=\"순서6\",근무!I26,\"\"))))))","v":"비번"}]
[null,"2023-01-21","토",{"$f":"IF(달력!$S$24=\"순서1\",근무!D27,IF(달력!$S$24=\"순서2\",근무!E27,IF(달력!$S$24=\"순서3\",근무!F27,IF(달력!$S$24=\"순서4\",근무!G27,IF(달력!$S$24=\"순서5\",근무!H27,IF(달력!$S$24=\"순서6\",근무!I27,\"\"))))))","v":"야간"},{"$f":"IF(달력!$S$25=\"순서1\",근무!D27,IF(달력!$S$25=\"순서2\",근무!E27,IF(달력!$S$25=\"순서3\",근무!F27,IF(달력!$S$25=\"순서4\",근무!G27,IF(달력!$S$25=\"순서5\",근무!H27,IF(달력!$S$25=\"순서6\",근무!I27,\"\"))))))","v":"야간"},{"$f":"IF(달력!$S$26=\"순서1\",근무!D27,IF(달력!$S$26=\"순서2\",근무!E27,IF(달력!$S$26=\"순서3\",근무!F27,IF(달력!$S$26=\"순서4\",근무!G27,IF(달력!$S$26=\"순서5\",근무!H27,IF(달력!$S$26=\"순서6\",근무!I27,\"\"))))))","v":"비번"},{"$f":"IF(달력!$S$27=\"순서1\",근무!D27,IF(달력!$S$27=\"순서2\",근무!E27,IF(달력!$S$27=\"순서3\",근무!F27,IF(달력!$S$27=\"순서4\",근무!G27,IF(달력!$S$27=\"순서5\",근무!H27,IF(달력!$S$27=\"순서6\",근무!I27,\"\"))))))","v":"비번"},{"$f":"IF(달력!$S$28=\"순서1\",근무!D27,IF(달력!$S$28=\"순서2\",근무!E27,IF(달력!$S$28=\"순서3\",근무!F27,IF(달력!$S$28=\"순서4\",근무!G27,IF(달력!$S$28=\"순서5\",근무!H27,IF(달력!$S$28=\"순서6\",근무!I27,\"\"))))))","v":"주간"},{"$f":"IF(달력!$S$29=\"순서1\",근무!D27,IF(달력!$S$29=\"순서2\",근무!E27,IF(달력!$S$29=\"순서3\",근무!F27,IF(달력!$S$29=\"순서4\",근무!G27,IF(달력!$S$29=\"순서5\",근무!H27,IF(달력!$S$29=\"순서6\",근무!I27,\"\"))))))","v":"주간"}]
[null,"2023-01-22","일",{"$f":"IF(달력!$S$24=\"순서1\",근무!D28,IF(달력!$S$24=\"순서2\",근무!E28,IF(달력!$S$24=\"순서3\",근무!F28,IF(달력!$S$24=\"순서4\",근무!G28,IF(달력!$S$24=\"순서5\",근무!H28,IF(달력!$S$24=\"순서6\",근무!I28,\"\"))))))","v":"야간"},{"$f":"IF(달력!$S$25=\"순서1\",근무!D28,IF(달력!$S$25=\"순서2\",근무!E28,IF(달력!$S$25=\"순서3\",근무!F28,IF(달력!$S$25=\"순서4\",근무!G28,IF(달력!$S$25=\"순서5\",근무!H28,IF(달력!$S$25=\"순서6\",근무!I28,\"\"))))))","v":"야간"},{"$f":"IF(달력!$S$26=\"순서1\",근무!D28,IF(달력!$S$26=\"순서2\",근무!E28,IF(달력!$S$26=\"순서3\",근무!F28,IF(달력!$S$26=\"순서4\",근무!G28,IF(달력!$S$26=\"순서5\",근무!H28,IF(달력!$S$26=\"순서6\",근무!I28,\"\"))))))","v":"비번"},{"$f":"IF(달력!$S$27=\"순서1\",근무!D28,IF(달력!$S$27=\"순서2\",근무!E28,IF(달력!$S$27=\"순서3\",근무!F28,IF(달력!$S$27=\"순서4\",근무!G28,IF(달력!$S$27=\"순서5\",근무!H28,IF(달력!$S$27=\"순서6\",근무!I28,\"\"))))))","v":"비번"},{"$f":"IF(달력!$S$28=\"순서1\",근무!D28,IF(달력!$S$28=\"순서2\",근무!E28,IF(달력!$S$28=\"순서3\",근무!F28,IF(달력!$S$28=\"순서4\",근무!G28,IF(달력!$S$28=\"순서5\",근무!H28,IF(달력!$S$28=\"순서6\",근무!I28,\"\"))))))","v":"주간"},{"$f":"IF(달력!$S$29=\"순서1\",근무!D28,IF(달력!$S$29=\"순서2\",근무!E28,IF(달력!$S$29=\"순서3\",근무!F28,IF(달력!$S$29=\"순서4\",근무!G28,IF(달력!$S$29=\"순서5\",근무!H28,IF(달력!$S$29=\"순서6\",근무!I28,\"\"))))))","v":"주간"}]
[null,"2023-01-23","월",{"$f":"IF(달력!$S$24=\"순서1\",근무!D29,IF(달력!$S$24=\"순서2\",근무!E29,IF(달력!$S$24=\"순서3\",근무!F29,IF(달력!$S$24=\"순서4\",근무!G29,IF(달력!$S$24=\"순서5\",근무!H29,IF(달력!$S$24=\"순서6\",근무!I29,\"\"))))))","v":"비번"},{"$f":"IF(달력!$S$25=\"순서1\",근무!D29,IF(달력!$S$25=\"순서2\",근무!E29,IF(달력!$S$25=\"순서3\",근무!F29,IF(달력!$S$25=\"순서4\",근무!G29,IF(달력!$S$25=\"순서5\",근무!H29,IF(달력!$S$25=\"순서6\",근무!I29,\"\"))))))","v":"비번"},{"$f":"IF(달력!$S$26=\"순서1\",근무!D29,IF(달력!$S$26=\"순서2\",근무!E29,IF(달력!$S$26=\"순서3\",근무!F29,IF(달력!$S$26=\"순서4\",근무!G29,IF(달력!$S$26=\"순서5\",근무!H29,IF(달력!$S$26=\"순서6\",근무!I29,\"\"))))))","v":"주간"},{"$f":"IF(달력!$S$27=\"순서1\",근무!D29,IF(달력!$S$27=\"순서2\",근무!E29,IF(달력!$S$27=\"순서3\",근무!F29,IF(달력!$S$27=\"순서4\",근무!G29,IF(달력!$S$27=\"순서5\",근무!H29,IF(달력!$S$27=\"순서6\",근무!I29,\"\"))))))","v":"주간"},{"$f":"IF(달력!$S$28=\"순서1\",근무!D29,IF(달력!$S$28=\"순서2\",근무!E29,IF(달력!$S$28=\"순서3\",근무!F29,IF(달력!$S$28=\"순서4\",근무!G29,IF(달력!$S$28=\"순서5\",근무!H29,IF(달력!$S$28=\"순서6\",근무!I29,\"\"))))))","v":"야간"},{"$f":"IF(달력!$S$29=\"순서1\",근무!D29,IF(달력!$S$29=\"순서2\",근무!E29,IF(달력!$S$29=\"순서3\",근무!F29,IF(달력!$S$29=\"순서4\",근무!G29,IF(달력!$S$29=\"순서5\",근무!H29,IF(달력!$S$29=\"순서6\",근무!I29,\"\"))))))","v":"야간"}]
[null,"2023-01-24","화",{"$f":"IF(달력!$S$24=\"순서1\",근무!D30,IF(달력!$S$24=\"순서2\",근무!E30,IF(달력!$S$24=\"순서3\",근무!F30,IF(달력!$S$24=\"순서4\",근무!G30,IF(달력!$S$24=\"순서5\",근무!H30,IF(달력!$S$24=\"순서6\",근무!I30,\"\"))))))","v":"비번"},{"$f":"IF(달력!$S$25=\"순서1\",근무!D30,IF(달력!$S$25=\"순서2\",근무!E30,IF(달력!$S$25=\"순서3\",근무!F30,IF(달력!$S$25=\"순서4\",근무!G30,IF(달력!$S$25=\"순서5\",근무!H30,IF(달력!$S$25=\"순서6\",근무!I30,\"\"))))))","v":"비번"},{"$f":"IF(달력!$S$26=\"순서1\",근무!D30,IF(달력!$S$26=\"순서2\",근무!E30,IF(달력!$S$26=\"순서3\",근무!F30,IF(달력!$S$26=\"순서4\",근무!G30,IF(달력!$S$26=\"순서5\",근무!H30,IF(달력!$S$26=\"순서6\",근무!I30,\"\"))))))","v":"주간"},{"$f":"IF(달력!$S$27=\"순서1\",근무!D30,IF(달력!$S$27=\"순서2\",근무!E30,IF(달력!$S$27=\"순서3\",근무!F30,IF(달력!$S$27=\"순서4\",근무!G30,IF(달력!$S$27=\"순서5\",근무!H30,IF(달력!$S$27=\"순서6\",근무!I30,\"\"))))))","v":"주간"},{"$f":"IF(달력!$S$28=\"순서1\",근무!D30,IF(달력!$S$28=\"순서2\",근무!E30,IF(달력!$S$28=\"순서3\",근무!F30,IF(달력!$S$28=\"순서4\",근무!G30,IF(달력!$S$28=\"순서5\",근무!H30,IF(달력!$S$28=\"순서6\",근무!I30,\"\"))))))","v":"야간"},{"$f":"IF(달력!$S$29=\"순서1\",근무!D30,IF(달력!$S$29=\"순서2\",근무!E30,IF(달력!$S$29=\"순서3\",근무!F30,IF(달력!$S$29=\"순서4\",근무!G30,IF(달력!$S$29=\"순서5\",근무!H30,IF(달력!$S$29=\"순서6\",근무!I30,\"\"))))))","v":"야간"}]
[null,"2023-01-25","수",{"$f":"IF(달력!$S$24=\"순서1\",근무!D31,IF(달력!$S$24=\"순서2\",근무!E31,IF(달력!$S$24=\"순서3\",근무!F31,IF(달력!$S$24=\"순서4\",근무!G31,IF(달력!$S$24=\"순서5\",근무!H31,IF(달력!$S$24=\"순서6\",근무!I31,\"\"))))))","v":"주간"},{"$f":"IF(달력!$S$25=\"순서1\",근무!D31,IF(달력!$S$25=\"순서2\",근무!E31,IF(달력!$S$25=\"순서3\",근무!F31,IF(달력!$S$25=\"순서4\",근무!G31,IF(달력!$S$25=\"순서5\",근무!H31,IF(달력!$S$25=\"순서6\",근무!I31,\"\"))))))","v":"주간"},{"$f":"IF(달력!$S$26=\"순서1\",근무!D31,IF(달력!$S$26=\"순서2\",근무!E31,IF(달력!$S$26=\"순서3\",근무!F31,IF(달력!$S$26=\"순서4\",근무!G31,IF(달력!$S$26=\"순서5\",근무!H31,IF(달력!$S$26=\"순서6\",근무!I31,\"\"))))))","v":"야간"},{"$f":"IF(달력!$S$27=\"순서1\",근무!D31,IF(달력!$S$27=\"순서2\",근무!E31,IF(달력!$S$27=\"순서3\",근무!F31,IF(달력!$S$27=\"순서4\",근무!G31,IF(달력!$S$27=\"순서5\",근무!H31,IF(달력!$S$27=\"순서6\",근무!I31,\"\"))))))","v":"야간"},{"$f":"IF(달력!$S$28=\"순서1\",근무!D31,IF(달력!$S$28=\"순서2\",근무!E31,IF(달력!$S$28=\"순서3\",근무!F31,IF(달력!$S$28=\"순서4\",근무!G31,IF(달력!$S$28=\"순서5\",근무!H31,IF(달력!$S$28=\"순서6\",근무!I31,\"\"))))))","v":"비번"},{"$f":"IF(달력!$S$29=\"순서1\",근무!D31,IF(달력!$S$29=\"순서2\",근무!E31,IF(달력!$S$29=\"순서3\",근무!F31,IF(달력!$S$29=\"순서4\",근무!G31,IF(달력!$S$29=\"순서5\",근무!H31,IF(달력!$S$29=\"순서6\",근무!I31,\"\"))))))","v":"비번"}]
[null,"2023-01-26","목",{"$f":"IF(달력!$S$24=\"순서1\",근무!D32,IF(달력!$S$24=\"순서2\",근무!E32,IF(달력!$S$24=\"순서3\",근무!F32,IF(달력!$S$24=\"순서4\",근무!G32,IF(달력!$S$24=\"순서5\",근무!H32,IF(달력!$S$24=\"순서6\",근무!I32,\"\"))))))","v":"주간"},{"$f":"IF(달력!$S$25=\"순서1\",근무!D32,IF(달력!$S$25=\"순서2\",근무!E32,IF(달력!$S$25=\"순서3\",근무!F32,IF(달력!$S$25=\"순서4\",근무!G32,IF(달력!$S$25=\"순서5\",근무!H32,IF(달력!$S$25=\"순서6\",근무!I32,\"\"))))))","v":"주간"},{"$f":"IF(달력!$S$26=\"순서1\",근무!D32,IF(달력!$S$26=\"순서2\",근무!E32,IF(달력!$S$26=\"순서3\",근무!F32,IF(달력!$S$26=\"순서4\",근무!G32,IF(달력!$S$26=\"순서5\",근무!H32,IF(달력!$S$26=\"순서6\",근무!I32,\"\"))))))","v":"야간"},{"$f":"IF(달력!$S$27=\"순서1\",근무!D32,IF(달력!$S$27=\"순서2\",근무!E32,IF(달력!$S$27=\"순서3\",근무!F32,IF(달력!$S$27=\"순서4\",근무!G32,IF(달력!$S$27=\"순서5\",근무!H32,IF(달력!$S$27=\"순서6\",근무!I32,\"\"))))))","v":"야간"},{"$f":"IF(달력!$S$28=\"순서1\",근무!D32,IF(달력!$S$28=\"순서2\",근무!E32,IF(달력!$S$28=\"순서3\",근무!F32,IF(달력!$S$28=\"순서4\",근무!G32,IF(달력!$S$28=\"순서5\",근무!H32,IF(달력!$S$28=\"순서6\",근무!I32,\"\"))))))","v":"비번"},{"$f":"IF(달력!$S$29=\"순서1\",근무!D32,IF(달력!$S$29=\"순서2\",근무!E32,IF(달력!$S$29=\"순서3\",근무!F32,IF(달력!$S$29=\"순서4\",근무!G32,IF(달력!$S$29=\"순서5\",근무!H32,IF(달력!$S$29=\"순서6\",근무!I32,\"\"))))))","v":"비번"}]
[null,"2023-01-27","금",{"$f":"IF(달력!$S$24=\"순서1\",근무!D33,IF(달력!$S$24=\"순서2\",근무!E33,IF(달력!$S$24=\"순서3\",근무!F33,IF(달력!$S$24=\"순서4\",근무!G33,IF(달력!$S$24=\"순서5\",근무!H33,IF(달력!$S$24=\"순서6\",근무!I33,\"\"))))))","v":"야간"},{"$f":"IF(달력!$S$25=\"순서1\",근무!D33,IF(달력!$S$25=\"순서2\",근무!E33,IF(달력!$S$25=\"순서3\",근무!F33,IF(달력!$S$25=\"순서4\",근무!G33,IF(달력!$S$25=\"순서5\",근무!H33,IF(달력!$S$25=\"순서6\",근무!I33,\"\"))))))","v":"야간"},{"$f":"IF(달력!$S$26=\"순서1\",근무!D33,IF(달력!$S$26=\"순서2\",근무!E33,IF(달력!$S$26=\"순서3\",근무!F33,IF(달력!$S$26=\"순서4\",근무!G33,IF(달력!$S$26=\"순서5\",근무!H33,IF(달력!$S$26=\"순서6\",근무!I33,\"\"))))))","v":"비번"},{"$f":"IF(달력!$S$27=\"순서1\",근무!D33,IF(달력!$S$27=\"순서2\",근무!E33,IF(달력!$S$27=\"순서3\",근무!F33,IF(달력!$S$27=\"순서4\",근무!G33,IF(달력!$S$27=\"순서5\",근무!H33,IF(달력!$S$27=\"순서6\",근무!I33,\"\"))))))","v":"비번"},{"$f":"IF(달력!$S$28=\"순서1\",근무!D33,IF(달력!$S$28=\"순서2\",근무!E33,IF(달력!$S$28=\"순서3\",근무!F33,IF(달력!$S$28=\"순서4\",근무!G33,IF(달력!$S$28=\"순서5\",근무!H33,IF(달력!$S$28=\"순서6\",근무!I33,\"\"))))))","v":"주간"},{"$f":"IF(달력!$S$29=\"순서1\",근무!D33,IF(달력!$S$29=\"순서2\",근무!E33,IF(달력!$S$29=\"순서3\",근무!F33,IF(달력!$S$29=\"순서4\",근무!G33,IF(달력!$S$29=\"순서5\",근무!H33,IF(달력!$S$29=\"순서6\",근무!I33,\"\"))))))","v":"주간"}]
[null,"2023-01-28","토",{"$f":"IF(달력!$S$24=\"순서1\",근무!D34,IF(달력!$S$24=\"순서2\",근무!E34,IF(달력!$S$24=\"순서3\",근무!F34,IF(달력!$S$24=\"순서4\",근무!G34,IF(달력!$S$24=\"순서5\",근무!H34,IF(달력!$S$24=\"순서6\",근무!I34,\"\"))))))","v":"야간"},{"$f":"IF(달력!$S$25=\"순서1\",근무!D34,IF(달력!$S$25=\"순서2\",근무!E34,IF(달력!$S$25=\"순서3\",근무!F34,IF(달력!$S$25=\"순서4\",근무!G34,IF(달력!$S$25=\"순서5\",근무!H34,IF(달력!$S$25=\"순서6\",근무!I34,\"\"))))))","v":"야간"},{"$f":"IF(달력!$S$26=\"순서1\",근무!D34,IF(달력!$S$26=\"순서2\",근무!E34,IF(달력!$S$26=\"순서3\",근무!F34,IF(달력!$S$26=\"순서4\",근무!G34,IF(달력!$S$26=\"순서5\",근무!H34,IF(달력!$S$26=\"순서6\",근무!I34,\"\"))))))","v":"비번"},{"$f":"IF(달력!$S$27=\"순서1\",근무!D34,IF(달력!$S$27=\"순서2\",근무!E34,IF(달력!$S$27=\"순서3\",근무!F34,IF(달력!$S$27=\"순서4\",근무!G34,IF(달력!$S$27=\"순서5\",근무!H34,IF(달력!$S$27=\"순서6\",근무!I34,\"\"))))))","v":"비번"},{"$f":"IF(달력!$S$28=\"순서1\",근무!D34,IF(달력!$S$28=\"순서2\",근무!E34,IF(달력!$S$28=\"순서3\",근무!F34,IF(달력!$S$28=\"순서4\",근무!G34,IF(달력!$S$28=\"순서5\",근무!H34,IF(달력!$S$28=\"순서6\",근무!I34,\"\"))))))","v":"주간"},{"$f":"IF(달력!$S$29=\"순서1\",근무!D34,IF(달력!$S$29=\"순서2\",근무!E34,IF(달력!$S$29=\"순서3\",근무!F34,IF(달력!$S$29=\"순서4\",근무!G34,IF(달력!$S$29=\"순서5\",근무!H34,IF(달력!$S$29=\"순서6\",근무!I34,\"\"))))))","v":"주간"}]
[null,"2023-01-29","일",{"$f":"IF(달력!$S$24=\"순서1\",근무!D35,IF(달력!$S$24=\"순서2\",근무!E35,IF(달력!$S$24=\"순서3\",근무!F35,IF(달력!$S$24=\"순서4\",근무!G35,IF(달력!$S$24=\"순서5\",근무!H35,IF(달력!$S$24=\"순서6\",근무!I35,\"\"))))))","v":"비번"},{"$f":"IF(달력!$S$25=\"순서1\",근무!D35,IF(달력!$S$25=\"순서2\",근무!E35,IF(달력!$S$25=\"순서3\",근무!F35,IF(달력!$S$25=\"순서4\",근무!G35,IF(달력!$S$25=\"순서5\",근무!H35,IF(달력!$S$25=\"순서6\",근무!I35,\"\"))))))","v":"비번"},{"$f":"IF(달력!$S$26=\"순서1\",근무!D35,IF(달력!$S$26=\"순서2\",근무!E35,IF(달력!$S$26=\"순서3\",근무!F35,IF(달력!$S$26=\"순서4\",근무!G35,IF(달력!$S$26=\"순서5\",근무!H35,IF(달력!$S$26=\"순서6\",근무!I35,\"\"))))))","v":"주간"},{"$f":"IF(달력!$S$27=\"순서1\",근무!D35,IF(달력!$S$27=\"순서2\",근무!E35,IF(달력!$S$27=\"순서3\",근무!F35,IF(달력!$S$27=\"순서4\",근무!G35,IF(달력!$S$27=\"순서5\",근무!H35,IF(달력!$S$27=\"순서6\",근무!I35,\"\"))))))","v":"주간"},{"$f":"IF(달력!$S$28=\"순서1\",근무!D35,IF(달력!$S$28=\"순서2\",근무!E35,IF(달력!$S$28=\"순서3\",근무!F35,IF(달력!$S$28=\"순서4\",근무!G35,IF(달력!$S$28=\"순서5\",근무!H35,IF(달력!$S$28=\"순서6\",근무!I35,\"\"))))))","v":"야간"},{"$f":"IF(달력!$S$29=\"순서1\",근무!D35,IF(달력!$S$29=\"순서2\",근무!E35,IF(달력!$S$29=\"순서3\",근무!F35,IF(달력!$S$29=\"순서4\",근무!G35,IF(달력!$S$29=\"순서5\",근무!H35,IF(달력!$S$29=\"순서6\",근무!I35,\"\"))))))","v":"야간"}]
[null,"2023-01-30","월",{"$f":"IF(달력!$S$24=\"순서1\",근무!D36,IF(달력!$S$24=\"순서2\",근무!E36,IF(달력!$S$24=\"순서3\",근무!F36,IF(달력!$S$24=\"순서4\",근무!G36,IF(달력!$S$24=\"순서5\",근무!H36,IF(달력!$S$24=\"순서6\",근무!I36,\"\"))))))","v":"비번"},{"$f":"IF(달력!$S$25=\"순서1\",근무!D36,IF(달력!$S$25=\"순서2\",근무!E36,IF(달력!$S$25=\"순서3\",근무!F36,IF(달력!$S$25=\"순서4\",근무!G36,IF(달력!$S$25=\"순서5\",근무!H36,IF(달력!$S$25=\"순서6\",근무!I36,\"\"))))))","v":"비번"},{"$f":"IF(달력!$S$26=\"순서1\",근무!D36,IF(달력!$S$26=\"순서2\",근무!E36,IF(달력!$S$26=\"순서3\",근무!F36,IF(달력!$S$26=\"순서4\",근무!G36,IF(달력!$S$26=\"순서5\",근무!H36,IF(달력!$S$26=\"순서6\",근무!I36,\"\"))))))","v":"주간"},{"$f":"IF(달력!$S$27=\"순서1\",근무!D36,IF(달력!$S$27=\"순서2\",근무!E36,IF(달력!$S$27=\"순서3\",근무!F36,IF(달력!$S$27=\"순서4\",근무!G36,IF(달력!$S$27=\"순서5\",근무!H36,IF(달력!$S$27=\"순서6\",근무!I36,\"\"))))))","v":"주간"},{"$f":"IF(달력!$S$28=\"순서1\",근무!D36,IF(달력!$S$28=\"순서2\",근무!E36,IF(달력!$S$28=\"순서3\",근무!F36,IF(달력!$S$28=\"순서4\",근무!G36,IF(달력!$S$28=\"순서5\",근무!H36,IF(달력!$S$28=\"순서6\",근무!I36,\"\"))))))","v":"야간"},{"$f":"IF(달력!$S$29=\"순서1\",근무!D36,IF(달력!$S$29=\"순서2\",근무!E36,IF(달력!$S$29=\"순서3\",근무!F36,IF(달력!$S$29=\"순서4\",근무!G36,IF(달력!$S$29=\"순서5\",근무!H36,IF(달력!$S$29=\"순서6\",근무!I36,\"\"))))))","v":"야간"}]
[null,"2023-01-31","화",{"$f":"IF(달력!$S$24=\"순서1\",근무!D37,IF(달력!$S$24=\"순서2\",근무!E37,IF(달력!$S$24=\"순서3\",근무!F37,IF(달력!$S$24=\"순서4\",근무!G37,IF(달력!$S$24=\"순서5\",근무!H37,IF(달력!$S$24=\"순서6\",근무!I37,\"\"))))))","v":"주간"},{"$f":"IF(달력!$S$25=\"순서1\",근무!D37,IF(달력!$S$25=\"순서2\",근무!E37,IF(달력!$S$25=\"순서3\",근무!F37,IF(달력!$S$25=\"순서4\",근무!G37,IF(달력!$S$25=\"순서5\",근무!H37,IF(달력!$S$25=\"순서6\",근무!I37,\"\"))))))","v":"주간"},{"$f":"IF(달력!$S$26=\"순서1\",근무!D37,IF(달력!$S$26=\"순서2\",근무!E37,IF(달력!$S$26=\"순서3\",근무!F37,IF(달력!$S$26=\"순서4\",근무!G37,IF(달력!$S$26=\"순서5\",근무!H37,IF(달력!$S$26=\"순서6\",근무!I37,\"\"))))))","v":"야간"},{"$f":"IF(달력!$S$27=\"순서1\",근무!D37,IF(달력!$S$27=\"순서2\",근무!E37,IF(달력!$S$27=\"순서3\",근무!F37,IF(달력!$S$27=\"순서4\",근무!G37,IF(달력!$S$27=\"순서5\",근무!H37,IF(달력!$S$27=\"순서6\",근무!I37,\"\"))))))","v":"야간"},{"$f":"IF(달력!$S$28=\"순서1\",근무!D37,IF(달력!$S$28=\"순서2\",근무!E37,IF(달력!$S$28=\"순서3\",근무!F37,IF(달력!$S$28=\"순서4\",근무!G37,IF(달력!$S$28=\"순서5\",근무!H37,IF(달력!$S$28=\"순서6\",근무!I37,\"\"))))))","v":"비번"},{"$f":"IF(달력!$S$29=\"순서1\",근무!D37,IF(달력!$S$29=\"순서2\",근무!E37,IF(달력!$S$29=\"순서3\",근무!F37,IF(달력!$S$29=\"순서4\",근무!G37,IF(달력!$S$29=\"순서5\",근무!H37,IF(달력!$S$29=\"순서6\",근무!I37,\"\"))))))","v":"비번"}]
[null,"2023-02-01","수",{"$f":"IF(달력!$S$24=\"순서1\",근무!D38,IF(달력!$S$24=\"순서2\",근무!E38,IF(달력!$S$24=\"순서3\",근무!F38,IF(달력!$S$24=\"순서4\",근무!G38,IF(달력!$S$24=\"순서5\",근무!H38,IF(달력!$S$24=\"순서6\",근무!I38,\"\"))))))","v":"주간"},{"$f":"IF(달력!$S$25=\"순서1\",근무!D38,IF(달력!$S$25=\"순서2\",근무!E38,IF(달력!$S$25=\"순서3\",근무!F38,IF(달력!$S$25=\"순서4\",근무!G38,IF(달력!$S$25=\"순서5\",근무!H38,IF(달력!$S$25=\"순서6\",근무!I38,\"\"))))))","v":"주간"},{"$f":"IF(달력!$S$26=\"순서1\",근무!D38,IF(달력!$S$26=\"순서2\",근무!E38,IF(달력!$S$26=\"순서3\",근무!F38,IF(달력!$S$26=\"순서4\",근무!G38,IF(달력!$S$26=\"순서5\",근무!H38,IF(달력!$S$26=\"순서6\",근무!I38,\"\"))))))","v":"야간"},{"$f":"IF(달력!$S$27=\"순서1\",근무!D38,IF(달력!$S$27=\"순서2\",근무!E38,IF(달력!$S$27=\"순서3\",근무!F38,IF(달력!$S$27=\"순서4\",근무!G38,IF(달력!$S$27=\"순서5\",근무!H38,IF(달력!$S$27=\"순서6\",근무!I38,\"\"))))))","v":"야간"},{"$f":"IF(달력!$S$28=\"순서1\",근무!D38,IF(달력!$S$28=\"순서2\",근무!E38,IF(달력!$S$28=\"순서3\",근무!F38,IF(달력!$S$28=\"순서4\",근무!G38,IF(달력!$S$28=\"순서5\",근무!H38,IF(달력!$S$28=\"순서6\",근무!I38,\"\"))))))","v":"비번"},{"$f":"IF(달력!$S$29=\"순서1\",근무!D38,IF(달력!$S$29=\"순서2\",근무!E38,IF(달력!$S$29=\"순서3\",근무!F38,IF(달력!$S$29=\"순서4\",근무!G38,IF(달력!$S$29=\"순서5\",근무!H38,IF(달력!$S$29=\"순서6\",근무!I38,\"\"))))))","v":"비번"}]
[null,"2023-02-02","목",{"$f":"IF(달력!$S$24=\"순서1\",근무!D39,IF(달력!$S$24=\"순서2\",근무!E39,IF(달력!$S$24=\"순서3\",근무!F39,IF(달력!$S$24=\"순서4\",근무!G39,IF(달력!$S$24=\"순서5\",근무!H39,IF(달력!$S$24=\"순서6\",근무!I39,\"\"))))))","v":"야간"},{"$f":"IF(달력!$S$25=\"순서1\",근무!D39,IF(달력!$S$25=\"순서2\",근무!E39,IF(달력!$S$25=\"순서3\",근무!F39,IF(달력!$S$25=\"순서4\",근무!G39,IF(달력!$S$25=\"순서5\",근무!H39,IF(달력!$S$25=\"순서6\",근무!I39,\"\"))))))","v":"야간"},{"$f":"IF(달력!$S$26=\"순서1\",근무!D39,IF(달력!$S$26=\"순서2\",근무!E39,IF(달력!$S$26=\"순서3\",근무!F39,IF(달력!$S$26=\"순서4\",근무!G39,IF(달력!$S$26=\"순서5\",근무!H39,IF(달력!$S$26=\"순서6\",근무!I39,\"\"))))))","v":"비번"},{"$f":"IF(달력!$S$27=\"순서1\",근무!D39,IF(달력!$S$27=\"순서2\",근무!E39,IF(달력!$S$27=\"순서3\",근무!F39,IF(달력!$S$27=\"순서4\",근무!G39,IF(달력!$S$27=\"순서5\",근무!H39,IF(달력!$S$27=\"순서6\",근무!I39,\"\"))))))","v":"비번"},{"$f":"IF(달력!$S$28=\"순서1\",근무!D39,IF(달력!$S$28=\"순서2\",근무!E39,IF(달력!$S$28=\"순서3\",근무!F39,IF(달력!$S$28=\"순서4\",근무!G39,IF(달력!$S$28=\"순서5\",근무!H39,IF(달력!$S$28=\"순서6\",근무!I39,\"\"))))))","v":"주간"},{"$f":"IF(달력!$S$29=\"순서1\",근무!D39,IF(달력!$S$29=\"순서2\",근무!E39,IF(달력!$S$29=\"순서3\",근무!F39,IF(달력!$S$29=\"순서4\",근무!G39,IF(달력!$S$29=\"순서5\",근무!H39,IF(달력!$S$29=\"순서6\",근무!I39,\"\"))))))","v":"주간"}]
[null,"2023-02-03","금",{"$f":"IF(달력!$S$24=\"순서1\",근무!D40,IF(달력!$S$24=\"순서2\",근무!E40,IF(달력!$S$24=\"순서3\",근무!F40,IF(달력!$S$24=\"순서4\",근무!G40,IF(달력!$S$24=\"순서5\",근무!H40,IF(달력!$S$24=\"순서6\",근무!I40,\"\"))))))","v":"야간"},{"$f":"IF(달력!$S$25=\"순서1\",근무!D40,IF(달력!$S$25=\"순서2\",근무!E40,IF(달력!$S$25=\"순서3\",근무!F40,IF(달력!$S$25=\"순서4\",근무!G40,IF(달력!$S$25=\"순서5\",근무!H40,IF(달력!$S$25=\"순서6\",근무!I40,\"\"))))))","v":"야간"},{"$f":"IF(달력!$S$26=\"순서1\",근무!D40,IF(달력!$S$26=\"순서2\",근무!E40,IF(달력!$S$26=\"순서3\",근무!F40,IF(달력!$S$26=\"순서4\",근무!G40,IF(달력!$S$26=\"순서5\",근무!H40,IF(달력!$S$26=\"순서6\",근무!I40,\"\"))))))","v":"비번"},{"$f":"IF(달력!$S$27=\"순서1\",근무!D40,IF(달력!$S$27=\"순서2\",근무!E40,IF(달력!$S$27=\"순서3\",근무!F40,IF(달력!$S$27=\"순서4\",근무!G40,IF(달력!$S$27=\"순서5\",근무!H40,IF(달력!$S$27=\"순서6\",근무!I40,\"\"))))))","v":"비번"},{"$f":"IF(달력!$S$28=\"순서1\",근무!D40,IF(달력!$S$28=\"순서2\",근무!E40,IF(달력!$S$28=\"순서3\",근무!F40,IF(달력!$S$28=\"순서4\",근무!G40,IF(달력!$S$28=\"순서5\",근무!H40,IF(달력!$S$28=\"순서6\",근무!I40,\"\"))))))","v":"주간"},{"$f":"IF(달력!$S$29=\"순서1\",근무!D40,IF(달력!$S$29=\"순서2\",근무!E40,IF(달력!$S$29=\"순서3\",근무!F40,IF(달력!$S$29=\"순서4\",근무!G40,IF(달력!$S$29=\"순서5\",근무!H40,IF(달력!$S$29=\"순서6\",근무!I40,\"\"))))))","v":"주간"}]
[null,"2023-02-04","토",{"$f":"IF(달력!$S$24=\"순서1\",근무!D41,IF(달력!$S$24=\"순서2\",근무!E41,IF(달력!$S$24=\"순서3\",근무!F41,IF(달력!$S$24=\"순서4\",근무!G41,IF(달력!$S$24=\"순서5\",근무!H41,IF(달력!$S$24=\"순서6\",근무!I41,\"\"))))))","v":"비번"},{"$f":"IF(달력!$S$25=\"순서1\",근무!D41,IF(달력!$S$25=\"순서2\",근무!E41,IF(달력!$S$25=\"순서3\",근무!F41,IF(달력!$S$25=\"순서4\",근무!G41,IF(달력!$S$25=\"순서5\",근무!H41,IF(달력!$S$25=\"순서6\",근무!I41,\"\"))))))","v":"비번"},{"$f":"IF(달력!$S$26=\"순서1\",근무!D41,IF(달력!$S$26=\"순서2\",근무!E41,IF(달력!$S$26=\"순서3\",근무!F41,IF(달력!$S$26=\"순서4\",근무!G41,IF(달력!$S$26=\"순서5\",근무!H41,IF(달력!$S$26=\"순서6\",근무!I41,\"\"))))))","v":"주간"},{"$f":"IF(달력!$S$27=\"순서1\",근무!D41,IF(달력!$S$27=\"순서2\",근무!E41,IF(달력!$S$27=\"순서3\",근무!F41,IF(달력!$S$27=\"순서4\",근무!G41,IF(달력!$S$27=\"순서5\",근무!H41,IF(달력!$S$27=\"순서6\",근무!I41,\"\"))))))","v":"주간"},{"$f":"IF(달력!$S$28=\"순서1\",근무!D41,IF(달력!$S$28=\"순서2\",근무!E41,IF(달력!$S$28=\"순서3\",근무!F41,IF(달력!$S$28=\"순서4\",근무!G41,IF(달력!$S$28=\"순서5\",근무!H41,IF(달력!$S$28=\"순서6\",근무!I41,\"\"))))))","v":"야간"},{"$f":"IF(달력!$S$29=\"순서1\",근무!D41,IF(달력!$S$29=\"순서2\",근무!E41,IF(달력!$S$29=\"순서3\",근무!F41,IF(달력!$S$29=\"순서4\",근무!G41,IF(달력!$S$29=\"순서5\",근무!H41,IF(달력!$S$29=\"순서6\",근무!I41,\"\"))))))","v":"야간"}]
[null,"2023-02-05","일",{"$f":"IF(달력!$S$24=\"순서1\",근무!D42,IF(달력!$S$24=\"순서2\",근무!E42,IF(달력!$S$24=\"순서3\",근무!F42,IF(달력!$S$24=\"순서4\",근무!G42,IF(달력!$S$24=\"순서5\",근무!H42,IF(달력!$S$24=\"순서6\",근무!I42,\"\"))))))","v":"비번"},{"$f":"IF(달력!$S$25=\"순서1\",근무!D42,IF(달력!$S$25=\"순서2\",근무!E42,IF(달력!$S$25=\"순서3\",근무!F42,IF(달력!$S$25=\"순서4\",근무!G42,IF(달력!$S$25=\"순서5\",근무!H42,IF(달력!$S$25=\"순서6\",근무!I42,\"\"))))))","v":"비번"},{"$f":"IF(달력!$S$26=\"순서1\",근무!D42,IF(달력!$S$26=\"순서2\",근무!E42,IF(달력!$S$26=\"순서3\",근무!F42,IF(달력!$S$26=\"순서4\",근무!G42,IF(달력!$S$26=\"순서5\",근무!H42,IF(달력!$S$26=\"순서6\",근무!I42,\"\"))))))","v":"주간"},{"$f":"IF(달력!$S$27=\"순서1\",근무!D42,IF(달력!$S$27=\"순서2\",근무!E42,IF(달력!$S$27=\"순서3\",근무!F42,IF(달력!$S$27=\"순서4\",근무!G42,IF(달력!$S$27=\"순서5\",근무!H42,IF(달력!$S$27=\"순서6\",근무!I42,\"\"))))))","v":"주간"},{"$f":"IF(달력!$S$28=\"순서1\",근무!D42,IF(달력!$S$28=\"순서2\",근무!E42,IF(달력!$S$28=\"순서3\",근무!F42,IF(달력!$S$28=\"순서4\",근무!G42,IF(달력!$S$28=\"순서5\",근무!H42,IF(달력!$S$28=\"순서6\",근무!I42,\"\"))))))","v":"야간"},{"$f":"IF(달력!$S$29=\"순서1\",근무!D42,IF(달력!$S$29=\"순서2\",근무!E42,IF(달력!$S$29=\"순서3\",근무!F42,IF(달력!$S$29=\"순서4\",근무!G42,IF(달력!$S$29=\"순서5\",근무!H42,IF(달력!$S$29=\"순서6\",근무!I42,\"\"))))))","v":"야간"}]
[null,"2023-02-06","월",{"$f":"IF(달력!$S$24=\"순서1\",근무!D43,IF(달력!$S$24=\"순서2\",근무!E43,IF(달력!$S$24=\"순서3\",근무!F43,IF(달력!$S$24=\"순서4\",근무!G43,IF(달력!$S$24=\"순서5\",근무!H43,IF(달력!$S$24=\"순서6\",근무!I43,\"\"))))))","v":"주간"},{"$f":"IF(달력!$S$25=\"순서1\",근무!D43,IF(달력!$S$25=\"순서2\",근무!E43,IF(달력!$S$25=\"순서3\",근무!F43,IF(달력!$S$25=\"순서4\",근무!G43,IF(달력!$S$25=\"순서5\",근무!H43,IF(달력!$S$25=\"순서6\",근무!I43,\"\"))))))","v":"주간"},{"$f":"IF(달력!$S$26=\"순서1\",근무!D43,IF(달력!$S$26=\"순서2\",근무!E43,IF(달력!$S$26=\"순서3\",근무!F43,IF(달력!$S$26=\"순서4\",근무!G43,IF(달력!$S$26=\"순서5\",근무!H43,IF(달력!$S$26=\"순서6\",근무!I43,\"\"))))))","v":"야간"},{"$f":"IF(달력!$S$27=\"순서1\",근무!D43,IF(달력!$S$27=\"순서2\",근무!E43,IF(달력!$S$27=\"순서3\",근무!F43,IF(달력!$S$27=\"순서4\",근무!G43,IF(달력!$S$27=\"순서5\",근무!H43,IF(달력!$S$27=\"순서6\",근무!I43,\"\"))))))","v":"야간"},{"$f":"IF(달력!$S$28=\"순서1\",근무!D43,IF(달력!$S$28=\"순서2\",근무!E43,IF(달력!$S$28=\"순서3\",근무!F43,IF(달력!$S$28=\"순서4\",근무!G43,IF(달력!$S$28=\"순서5\",근무!H43,IF(달력!$S$28=\"순서6\",근무!I43,\"\"))))))","v":"비번"},{"$f":"IF(달력!$S$29=\"순서1\",근무!D43,IF(달력!$S$29=\"순서2\",근무!E43,IF(달력!$S$29=\"순서3\",근무!F43,IF(달력!$S$29=\"순서4\",근무!G43,IF(달력!$S$29=\"순서5\",근무!H43,IF(달력!$S$29=\"순서6\",근무!I43,\"\"))))))","v":"비번"}]
[null,"2023-02-07","화",{"$f":"IF(달력!$S$24=\"순서1\",근무!D44,IF(달력!$S$24=\"순서2\",근무!E44,IF(달력!$S$24=\"순서3\",근무!F44,IF(달력!$S$24=\"순서4\",근무!G44,IF(달력!$S$24=\"순서5\",근무!H44,IF(달력!$S$24=\"순서6\",근무!I44,\"\"))))))","v":"주간"},{"$f":"IF(달력!$S$25=\"순서1\",근무!D44,IF(달력!$S$25=\"순서2\",근무!E44,IF(달력!$S$25=\"순서3\",근무!F44,IF(달력!$S$25=\"순서4\",근무!G44,IF(달력!$S$25=\"순서5\",근무!H44,IF(달력!$S$25=\"순서6\",근무!I44,\"\"))))))","v":"주간"},{"$f":"IF(달력!$S$26=\"순서1\",근무!D44,IF(달력!$S$26=\"순서2\",근무!E44,IF(달력!$S$26=\"순서3\",근무!F44,IF(달력!$S$26=\"순서4\",근무!G44,IF(달력!$S$26=\"순서5\",근무!H44,IF(달력!$S$26=\"순서6\",근무!I44,\"\"))))))","v":"야간"},{"$f":"IF(달력!$S$27=\"순서1\",근무!D44,IF(달력!$S$27=\"순서2\",근무!E44,IF(달력!$S$27=\"순서3\",근무!F44,IF(달력!$S$27=\"순서4\",근무!G44,IF(달력!$S$27=\"순서5\",근무!H44,IF(달력!$S$27=\"순서6\",근무!I44,\"\"))))))","v":"야간"},{"$f":"IF(달력!$S$28=\"순서1\",근무!D44,IF(달력!$S$28=\"순서2\",근무!E44,IF(달력!$S$28=\"순서3\",근무!F44,IF(달력!$S$28=\"순서4\",근무!G44,IF(달력!$S$28=\"순서5\",근무!H44,IF(달력!$S$28=\"순서6\",근무!I44,\"\"))))))","v":"비번"},{"$f":"IF(달력!$S$29=\"순서1\",근무!D44,IF(달력!$S$29=\"순서2\",근무!E44,IF(달력!$S$29=\"순서3\",근무!F44,IF(달력!$S$29=\"순서4\",근무!G44,IF(달력!$S$29=\"순서5\",근무!H44,IF(달력!$S$29=\"순서6\",근무!I44,\"\"))))))","v":"비번"}]
[null,"2023-02-08","수",{"$f":"IF(달력!$S$24=\"순서1\",근무!D45,IF(달력!$S$24=\"순서2\",근무!E45,IF(달력!$S$24=\"순서3\",근무!F45,IF(달력!$S$24=\"순서4\",근무!G45,IF(달력!$S$24=\"순서5\",근무!H45,IF(달력!$S$24=\"순서6\",근무!I45,\"\"))))))","v":"야간"},{"$f":"IF(달력!$S$25=\"순서1\",근무!D45,IF(달력!$S$25=\"순서2\",근무!E45,IF(달력!$S$25=\"순서3\",근무!F45,IF(달력!$S$25=\"순서4\",근무!G45,IF(달력!$S$25=\"순서5\",근무!H45,IF(달력!$S$25=\"순서6\",근무!I45,\"\"))))))","v":"야간"},{"$f":"IF(달력!$S$26=\"순서1\",근무!D45,IF(달력!$S$26=\"순서2\",근무!E45,IF(달력!$S$26=\"순서3\",근무!F45,IF(달력!$S$26=\"순서4\",근무!G45,IF(달력!$S$26=\"순서5\",근무!H45,IF(달력!$S$26=\"순서6\",근무!I45,\"\"))))))","v":"비번"},{"$f":"IF(달력!$S$27=\"순서1\",근무!D45,IF(달력!$S$27=\"순서2\",근무!E45,IF(달력!$S$27=\"순서3\",근무!F45,IF(달력!$S$27=\"순서4\",근무!G45,IF(달력!$S$27=\"순서5\",근무!H45,IF(달력!$S$27=\"순서6\",근무!I45,\"\"))))))","v":"비번"},{"$f":"IF(달력!$S$28=\"순서1\",근무!D45,IF(달력!$S$28=\"순서2\",근무!E45,IF(달력!$S$28=\"순서3\",근무!F45,IF(달력!$S$28=\"순서4\",근무!G45,IF(달력!$S$28=\"순서5\",근무!H45,IF(달력!$S$28=\"순서6\",근무!I45,\"\"))))))","v":"주간"},{"$f":"IF(달력!$S$29=\"순서1\",근무!D45,IF(달력!$S$29=\"순서2\",근무!E45,IF(달력!$S$29=\"순서3\",근무!F45,IF(달력!$S$29=\"순서4\",근무!G45,IF(달력!$S$29=\"순서5\",근무!H45,IF(달력!$S$29=\"순서6\",근무!I45,\"\"))))))","v":"주간"}]
[null,"2023-02-09","목",{"$f":"IF(달력!$S$24=\"순서1\",근무!D46,IF(달력!$S$24=\"순서2\",근무!E46,IF(달력!$S$24=\"순서3\",근무!F46,IF(달력!$S$24=\"순서4\",근무!G46,IF(달력!$S$24=\"순서5\",근무!H46,IF(달력!$S$24=\"순서6\",근무!I46,\"\"))))))","v":"야간"},{"$f":"IF(달력!$S$25=\"순서1\",근무!D46,IF(달력!$S$25=\"순서2\",근무!E46,IF(달력!$S$25=\"순서3\",근무!F46,IF(달력!$S$25=\"순서4\",근무!G46,IF(달력!$S$25=\"순서5\",근무!H46,IF(달력!$S$25=\"순서6\",근무!I46,\"\"))))))","v":"야간"},{"$f":"IF(달력!$S$26=\"순서1\",근무!D46,IF(달력!$S$26=\"순서2\",근무!E46,IF(달력!$S$26=\"순서3\",근무!F46,IF(달력!$S$26=\"순서4\",근무!G46,IF(달력!$S$26=\"순서5\",근무!H46,IF(달력!$S$26=\"순서6\",근무!I46,\"\"))))))","v":"비번"},{"$f":"IF(달력!$S$27=\"순서1\",근무!D46,IF(달력!$S$27=\"순서2\",근무!E46,IF(달력!$S$27=\"순서3\",근무!F46,IF(달력!$S$27=\"순서4\",근무!G46,IF(달력!$S$27=\"순서5\",근무!H46,IF(달력!$S$27=\"순서6\",근무!I46,\"\"))))))","v":"비번"},{"$f":"IF(달력!$S$28=\"순서1\",근무!D46,IF(달력!$S$28=\"순서2\",근무!E46,IF(달력!$S$28=\"순서3\",근무!F46,IF(달력!$S$28=\"순서4\",근무!G46,IF(달력!$S$28=\"순서5\",근무!H46,IF(달력!$S$28=\"순서6\",근무!I46,\"\"))))))","v":"주간"},{"$f":"IF(달력!$S$29=\"순서1\",근무!D46,IF(달력!$S$29=\"순서2\",근무!E46,IF(달력!$S$29=\"순서3\",근무!F46,IF(달력!$S$29=\"순서4\",근무!G46,IF(달력!$S$29=\"순서5\",근무!H46,IF(달력!$S$29=\"순서6\",근무!I46,\"\"))))))","v":"주간"}]
[null,"2023-02-10","금",{"$f":"IF(달력!$S$24=\"순서1\",근무!D47,IF(달력!$S$24=\"순서2\",근무!E47,IF(달력!$S$24=\"순서3\",근무!F47,IF(달력!$S$24=\"순서4\",근무!G47,IF(달력!$S$24=\"순서5\",근무!H47,IF(달력!$S$24=\"순서6\",근무!I47,\"\"))))))","v":"비번"},{"$f":"IF(달력!$S$25=\"순서1\",근무!D47,IF(달력!$S$25=\"순서2\",근무!E47,IF(달력!$S$25=\"순서3\",근무!F47,IF(달력!$S$25=\"순서4\",근무!G47,IF(달력!$S$25=\"순서5\",근무!H47,IF(달력!$S$25=\"순서6\",근무!I47,\"\"))))))","v":"비번"},{"$f":"IF(달력!$S$26=\"순서1\",근무!D47,IF(달력!$S$26=\"순서2\",근무!E47,IF(달력!$S$26=\"순서3\",근무!F47,IF(달력!$S$26=\"순서4\",근무!G47,IF(달력!$S$26=\"순서5\",근무!H47,IF(달력!$S$26=\"순서6\",근무!I47,\"\"))))))","v":"주간"},{"$f":"IF(달력!$S$27=\"순서1\",근무!D47,IF(달력!$S$27=\"순서2\",근무!E47,IF(달력!$S$27=\"순서3\",근무!F47,IF(달력!$S$27=\"순서4\",근무!G47,IF(달력!$S$27=\"순서5\",근무!H47,IF(달력!$S$27=\"순서6\",근무!I47,\"\"))))))","v":"주간"},{"$f":"IF(달력!$S$28=\"순서1\",근무!D47,IF(달력!$S$28=\"순서2\",근무!E47,IF(달력!$S$28=\"순서3\",근무!F47,IF(달력!$S$28=\"순서4\",근무!G47,IF(달력!$S$28=\"순서5\",근무!H47,IF(달력!$S$28=\"순서6\",근무!I47,\"\"))))))","v":"야간"},{"$f":"IF(달력!$S$29=\"순서1\",근무!D47,IF(달력!$S$29=\"순서2\",근무!E47,IF(달력!$S$29=\"순서3\",근무!F47,IF(달력!$S$29=\"순서4\",근무!G47,IF(달력!$S$29=\"순서5\",근무!H47,IF(달력!$S$29=\"순서6\",근무!I47,\"\"))))))","v":"야간"}]
[null,"2023-02-11","토",{"$f":"IF(달력!$S$24=\"순서1\",근무!D48,IF(달력!$S$24=\"순서2\",근무!E48,IF(달력!$S$24=\"순서3\",근무!F48,IF(달력!$S$24=\"순서4\",근무!G48,IF(달력!$S$24=\"순서5\",근무!H48,IF(달력!$S$24=\"순서6\",근무!I48,\"\"))))))","v":"비번"},{"$f":"IF(달력!$S$25=\"순서1\",근무!D48,IF(달력!$S$25=\"순서2\",근무!E48,IF(달력!$S$25=\"순서3\",근무!F48,IF(달력!$S$25=\"순서4\",근무!G48,IF(달력!$S$25=\"순서5\",근무!H48,IF(달력!$S$25=\"순서6\",근무!I48,\"\"))))))","v":"비번"},{"$f":"IF(달력!$S$26=\"순서1\",근무!D48,IF(달력!$S$26=\"순서2\",근무!E48,IF(달력!$S$26=\"순서3\",근무!F48,IF(달력!$S$26=\"순서4\",근무!G48,IF(달력!$S$26=\"순서5\",근무!H48,IF(달력!$S$26=\"순서6\",근무!I48,\"\"))))))","v":"주간"},{"$f":"IF(달력!$S$27=\"순서1\",근무!D48,IF(달력!$S$27=\"순서2\",근무!E48,IF(달력!$S$27=\"순서3\",근무!F48,IF(달력!$S$27=\"순서4\",근무!G48,IF(달력!$S$27=\"순서5\",근무!H48,IF(달력!$S$27=\"순서6\",근무!I48,\"\"))))))","v":"주간"},{"$f":"IF(달력!$S$28=\"순서1\",근무!D48,IF(달력!$S$28=\"순서2\",근무!E48,IF(달력!$S$28=\"순서3\",근무!F48,IF(달력!$S$28=\"순서4\",근무!G48,IF(달력!$S$28=\"순서5\",근무!H48,IF(달력!$S$28=\"순서6\",근무!I48,\"\"))))))","v":"야간"},{"$f":"IF(달력!$S$29=\"순서1\",근무!D48,IF(달력!$S$29=\"순서2\",근무!E48,IF(달력!$S$29=\"순서3\",근무!F48,IF(달력!$S$29=\"순서4\",근무!G48,IF(달력!$S$29=\"순서5\",근무!H48,IF(달력!$S$29=\"순서6\",근무!I48,\"\"))))))","v":"야간"}]
[null,"2023-02-12","일",{"$f":"IF(달력!$S$24=\"순서1\",근무!D49,IF(달력!$S$24=\"순서2\",근무!E49,IF(달력!$S$24=\"순서3\",근무!F49,IF(달력!$S$24=\"순서4\",근무!G49,IF(달력!$S$24=\"순서5\",근무!H49,IF(달력!$S$24=\"순서6\",근무!I49,\"\"))))))","v":"주간"},{"$f":"IF(달력!$S$25=\"순서1\",근무!D49,IF(달력!$S$25=\"순서2\",근무!E49,IF(달력!$S$25=\"순서3\",근무!F49,IF(달력!$S$25=\"순서4\",근무!G49,IF(달력!$S$25=\"순서5\",근무!H49,IF(달력!$S$25=\"순서6\",근무!I49,\"\"))))))","v":"주간"},{"$f":"IF(달력!$S$26=\"순서1\",근무!D49,IF(달력!$S$26=\"순서2\",근무!E49,IF(달력!$S$26=\"순서3\",근무!F49,IF(달력!$S$26=\"순서4\",근무!G49,IF(달력!$S$26=\"순서5\",근무!H49,IF(달력!$S$26=\"순서6\",근무!I49,\"\"))))))","v":"야간"},{"$f":"IF(달력!$S$27=\"순서1\",근무!D49,IF(달력!$S$27=\"순서2\",근무!E49,IF(달력!$S$27=\"순서3\",근무!F49,IF(달력!$S$27=\"순서4\",근무!G49,IF(달력!$S$27=\"순서5\",근무!H49,IF(달력!$S$27=\"순서6\",근무!I49,\"\"))))))","v":"야간"},{"$f":"IF(달력!$S$28=\"순서1\",근무!D49,IF(달력!$S$28=\"순서2\",근무!E49,IF(달력!$S$28=\"순서3\",근무!F49,IF(달력!$S$28=\"순서4\",근무!G49,IF(달력!$S$28=\"순서5\",근무!H49,IF(달력!$S$28=\"순서6\",근무!I49,\"\"))))))","v":"비번"},{"$f":"IF(달력!$S$29=\"순서1\",근무!D49,IF(달력!$S$29=\"순서2\",근무!E49,IF(달력!$S$29=\"순서3\",근무!F49,IF(달력!$S$29=\"순서4\",근무!G49,IF(달력!$S$29=\"순서5\",근무!H49,IF(달력!$S$29=\"순서6\",근무!I49,\"\"))))))","v":"비번"}]
[null,"2023-02-13","월",{"$f":"IF(달력!$S$24=\"순서1\",근무!D50,IF(달력!$S$24=\"순서2\",근무!E50,IF(달력!$S$24=\"순서3\",근무!F50,IF(달력!$S$24=\"순서4\",근무!G50,IF(달력!$S$24=\"순서5\",근무!H50,IF(달력!$S$24=\"순서6\",근무!I50,\"\"))))))","v":"주간"},{"$f":"IF(달력!$S$25=\"순서1\",근무!D50,IF(달력!$S$25=\"순서2\",근무!E50,IF(달력!$S$25=\"순서3\",근무!F50,IF(달력!$S$25=\"순서4\",근무!G50,IF(달력!$S$25=\"순서5\",근무!H50,IF(달력!$S$25=\"순서6\",근무!I50,\"\"))))))","v":"주간"},{"$f":"IF(달력!$S$26=\"순서1\",근무!D50,IF(달력!$S$26=\"순서2\",근무!E50,IF(달력!$S$26=\"순서3\",근무!F50,IF(달력!$S$26=\"순서4\",근무!G50,IF(달력!$S$26=\"순서5\",근무!H50,IF(달력!$S$26=\"순서6\",근무!I50,\"\"))))))","v":"야간"},{"$f":"IF(달력!$S$27=\"순서1\",근무!D50,IF(달력!$S$27=\"순서2\",근무!E50,IF(달력!$S$27=\"순서3\",근무!F50,IF(달력!$S$27=\"순서4\",근무!G50,IF(달력!$S$27=\"순서5\",근무!H50,IF(달력!$S$27=\"순서6\",근무!I50,\"\"))))))","v":"야간"},{"$f":"IF(달력!$S$28=\"순서1\",근무!D50,IF(달력!$S$28=\"순서2\",근무!E50,IF(달력!$S$28=\"순서3\",근무!F50,IF(달력!$S$28=\"순서4\",근무!G50,IF(달력!$S$28=\"순서5\",근무!H50,IF(달력!$S$28=\"순서6\",근무!I50,\"\"))))))","v":"비번"},{"$f":"IF(달력!$S$29=\"순서1\",근무!D50,IF(달력!$S$29=\"순서2\",근무!E50,IF(달력!$S$29=\"순서3\",근무!F50,IF(달력!$S$29=\"순서4\",근무!G50,IF(달력!$S$29=\"순서5\",근무!H50,IF(달력!$S$29=\"순서6\",근무!I50,\"\"))))))","v":"비번"}]
[null,"2023-02-14","화",{"$f":"IF(달력!$S$24=\"순서1\",근무!D51,IF(달력!$S$24=\"순서2\",근무!E51,IF(달력!$S$24=\"순서3\",근무!F51,IF(달력!$S$24=\"순서4\",근무!G51,IF(달력!$S$24=\"순서5\",근무!H51,IF(달력!$S$24=\"순서6\",근무!I51,\"\"))))))","v":"야간"},{"$f":"IF(달력!$S$25=\"순서1\",근무!D51,IF(달력!$S$25=\"순서2\",근무!E51,IF(달력!$S$25=\"순서3\",근무!F51,IF(달력!$S$25=\"순서4\",근무!G51,IF(달력!$S$25=\"순서5\",근무!H51,IF(달력!$S$25=\"순서6\",근무!I51,\"\"))))))","v":"야간"},{"$f":"IF(달력!$S$26=\"순서1\",근무!D51,IF(달력!$S$26=\"순서2\",근무!E51,IF(달력!$S$26=\"순서3\",근무!F51,IF(달력!$S$26=\"순서4\",근무!G51,IF(달력!$S$26=\"순서5\",근무!H51,IF(달력!$S$26=\"순서6\",근무!I51,\"\"))))))","v":"비번"},{"$f":"IF(달력!$S$27=\"순서1\",근무!D51,IF(달력!$S$27=\"순서2\",근무!E51,IF(달력!$S$27=\"순서3\",근무!F51,IF(달력!$S$27=\"순서4\",근무!G51,IF(달력!$S$27=\"순서5\",근무!H51,IF(달력!$S$27=\"순서6\",근무!I51,\"\"))))))","v":"비번"},{"$f":"IF(달력!$S$28=\"순서1\",근무!D51,IF(달력!$S$28=\"순서2\",근무!E51,IF(달력!$S$28=\"순서3\",근무!F51,IF(달력!$S$28=\"순서4\",근무!G51,IF(달력!$S$28=\"순서5\",근무!H51,IF(달력!$S$28=\"순서6\",근무!I51,\"\"))))))","v":"주간"},{"$f":"IF(달력!$S$29=\"순서1\",근무!D51,IF(달력!$S$29=\"순서2\",근무!E51,IF(달력!$S$29=\"순서3\",근무!F51,IF(달력!$S$29=\"순서4\",근무!G51,IF(달력!$S$29=\"순서5\",근무!H51,IF(달력!$S$29=\"순서6\",근무!I51,\"\"))))))","v":"주간"}]
[null,"2023-02-15","수",{"$f":"IF(달력!$S$24=\"순서1\",근무!D52,IF(달력!$S$24=\"순서2\",근무!E52,IF(달력!$S$24=\"순서3\",근무!F52,IF(달력!$S$24=\"순서4\",근무!G52,IF(달력!$S$24=\"순서5\",근무!H52,IF(달력!$S$24=\"순서6\",근무!I52,\"\"))))))","v":"야간"},{"$f":"IF(달력!$S$25=\"순서1\",근무!D52,IF(달력!$S$25=\"순서2\",근무!E52,IF(달력!$S$25=\"순서3\",근무!F52,IF(달력!$S$25=\"순서4\",근무!G52,IF(달력!$S$25=\"순서5\",근무!H52,IF(달력!$S$25=\"순서6\",근무!I52,\"\"))))))","v":"야간"},{"$f":"IF(달력!$S$26=\"순서1\",근무!D52,IF(달력!$S$26=\"순서2\",근무!E52,IF(달력!$S$26=\"순서3\",근무!F52,IF(달력!$S$26=\"순서4\",근무!G52,IF(달력!$S$26=\"순서5\",근무!H52,IF(달력!$S$26=\"순서6\",근무!I52,\"\"))))))","v":"비번"},{"$f":"IF(달력!$S$27=\"순서1\",근무!D52,IF(달력!$S$27=\"순서2\",근무!E52,IF(달력!$S$27=\"순서3\",근무!F52,IF(달력!$S$27=\"순서4\",근무!G52,IF(달력!$S$27=\"순서5\",근무!H52,IF(달력!$S$27=\"순서6\",근무!I52,\"\"))))))","v":"비번"},{"$f":"IF(달력!$S$28=\"순서1\",근무!D52,IF(달력!$S$28=\"순서2\",근무!E52,IF(달력!$S$28=\"순서3\",근무!F52,IF(달력!$S$28=\"순서4\",근무!G52,IF(달력!$S$28=\"순서5\",근무!H52,IF(달력!$S$28=\"순서6\",근무!I52,\"\"))))))","v":"주간"},{"$f":"IF(달력!$S$29=\"순서1\",근무!D52,IF(달력!$S$29=\"순서2\",근무!E52,IF(달력!$S$29=\"순서3\",근무!F52,IF(달력!$S$29=\"순서4\",근무!G52,IF(달력!$S$29=\"순서5\",근무!H52,IF(달력!$S$29=\"순서6\",근무!I52,\"\"))))))","v":"주간"}]
[null,"2023-02-16","목",{"$f":"IF(달력!$S$24=\"순서1\",근무!D53,IF(달력!$S$24=\"순서2\",근무!E53,IF(달력!$S$24=\"순서3\",근무!F53,IF(달력!$S$24=\"순서4\",근무!G53,IF(달력!$S$24=\"순서5\",근무!H53,IF(달력!$S$24=\"순서6\",근무!I53,\"\"))))))","v":"비번"},{"$f":"IF(달력!$S$25=\"순서1\",근무!D53,IF(달력!$S$25=\"순서2\",근무!E53,IF(달력!$S$25=\"순서3\",근무!F53,IF(달력!$S$25=\"순서4\",근무!G53,IF(달력!$S$25=\"순서5\",근무!H53,IF(달력!$S$25=\"순서6\",근무!I53,\"\"))))))","v":"비번"},{"$f":"IF(달력!$S$26=\"순서1\",근무!D53,IF(달력!$S$26=\"순서2\",근무!E53,IF(달력!$S$26=\"순서3\",근무!F53,IF(달력!$S$26=\"순서4\",근무!G53,IF(달력!$S$26=\"순서5\",근무!H53,IF(달력!$S$26=\"순서6\",근무!I53,\"\"))))))","v":"주간"},{"$f":"IF(달력!$S$27=\"순서1\",근무!D53,IF(달력!$S$27=\"순서2\",근무!E53,IF(달력!$S$27=\"순서3\",근무!F53,IF(달력!$S$27=\"순서4\",근무!G53,IF(달력!$S$27=\"순서5\",근무!H53,IF(달력!$S$27=\"순서6\",근무!I53,\"\"))))))","v":"주간"},{"$f":"IF(달력!$S$28=\"순서1\",근무!D53,IF(달력!$S$28=\"순서2\",근무!E53,IF(달력!$S$28=\"순서3\",근무!F53,IF(달력!$S$28=\"순서4\",근무!G53,IF(달력!$S$28=\"순서5\",근무!H53,IF(달력!$S$28=\"순서6\",근무!I53,\"\"))))))","v":"야간"},{"$f":"IF(달력!$S$29=\"순서1\",근무!D53,IF(달력!$S$29=\"순서2\",근무!E53,IF(달력!$S$29=\"순서3\",근무!F53,IF(달력!$S$29=\"순서4\",근무!G53,IF(달력!$S$29=\"순서5\",근무!H53,IF(달력!$S$29=\"순서6\",근무!I53,\"\"))))))","v":"야간"}]
[null,"2023-02-17","금",{"$f":"IF(달력!$S$24=\"순서1\",근무!D54,IF(달력!$S$24=\"순서2\",근무!E54,IF(달력!$S$24=\"순서3\",근무!F54,IF(달력!$S$24=\"순서4\",근무!G54,IF(달력!$S$24=\"순서5\",근무!H54,IF(달력!$S$24=\"순서6\",근무!I54,\"\"))))))","v":"비번"},{"$f":"IF(달력!$S$25=\"순서1\",근무!D54,IF(달력!$S$25=\"순서2\",근무!E54,IF(달력!$S$25=\"순서3\",근무!F54,IF(달력!$S$25=\"순서4\",근무!G54,IF(달력!$S$25=\"순서5\",근무!H54,IF(달력!$S$25=\"순서6\",근무!I54,\"\"))))))","v":"비번"},{"$f":"IF(달력!$S$26=\"순서1\",근무!D54,IF(달력!$S$26=\"순서2\",근무!E54,IF(달력!$S$26=\"순서3\",근무!F54,IF(달력!$S$26=\"순서4\",근무!G54,IF(달력!$S$26=\"순서5\",근무!H54,IF(달력!$S$26=\"순서6\",근무!I54,\"\"))))))","v":"주간"},{"$f":"IF(달력!$S$27=\"순서1\",근무!D54,IF(달력!$S$27=\"순서2\",근무!E54,IF(달력!$S$27=\"순서3\",근무!F54,IF(달력!$S$27=\"순서4\",근무!G54,IF(달력!$S$27=\"순서5\",근무!H54,IF(달력!$S$27=\"순서6\",근무!I54,\"\"))))))","v":"주간"},{"$f":"IF(달력!$S$28=\"순서1\",근무!D54,IF(달력!$S$28=\"순서2\",근무!E54,IF(달력!$S$28=\"순서3\",근무!F54,IF(달력!$S$28=\"순서4\",근무!G54,IF(달력!$S$28=\"순서5\",근무!H54,IF(달력!$S$28=\"순서6\",근무!I54,\"\"))))))","v":"야간"},{"$f":"IF(달력!$S$29=\"순서1\",근무!D54,IF(달력!$S$29=\"순서2\",근무!E54,IF(달력!$S$29=\"순서3\",근무!F54,IF(달력!$S$29=\"순서4\",근무!G54,IF(달력!$S$29=\"순서5\",근무!H54,IF(달력!$S$29=\"순서6\",근무!I54,\"\"))))))","v":"야간"}]
[null,"2023-02-18","토",{"$f":"IF(달력!$S$24=\"순서1\",근무!D55,IF(달력!$S$24=\"순서2\",근무!E55,IF(달력!$S$24=\"순서3\",근무!F55,IF(달력!$S$24=\"순서4\",근무!G55,IF(달력!$S$24=\"순서5\",근무!H55,IF(달력!$S$24=\"순서6\",근무!I55,\"\"))))))","v":"주간"},{"$f":"IF(달력!$S$25=\"순서1\",근무!D55,IF(달력!$S$25=\"순서2\",근무!E55,IF(달력!$S$25=\"순서3\",근무!F55,IF(달력!$S$25=\"순서4\",근무!G55,IF(달력!$S$25=\"순서5\",근무!H55,IF(달력!$S$25=\"순서6\",근무!I55,\"\"))))))","v":"주간"},{"$f":"IF(달력!$S$26=\"순서1\",근무!D55,IF(달력!$S$26=\"순서2\",근무!E55,IF(달력!$S$26=\"순서3\",근무!F55,IF(달력!$S$26=\"순서4\",근무!G55,IF(달력!$S$26=\"순서5\",근무!H55,IF(달력!$S$26=\"순서6\",근무!I55,\"\"))))))","v":"야간"},{"$f":"IF(달력!$S$27=\"순서1\",근무!D55,IF(달력!$S$27=\"순서2\",근무!E55,IF(달력!$S$27=\"순서3\",근무!F55,IF(달력!$S$27=\"순서4\",근무!G55,IF(달력!$S$27=\"순서5\",근무!H55,IF(달력!$S$27=\"순서6\",근무!I55,\"\"))))))","v":"야간"},{"$f":"IF(달력!$S$28=\"순서1\",근무!D55,IF(달력!$S$28=\"순서2\",근무!E55,IF(달력!$S$28=\"순서3\",근무!F55,IF(달력!$S$28=\"순서4\",근무!G55,IF(달력!$S$28=\"순서5\",근무!H55,IF(달력!$S$28=\"순서6\",근무!I55,\"\"))))))","v":"비번"},{"$f":"IF(달력!$S$29=\"순서1\",근무!D55,IF(달력!$S$29=\"순서2\",근무!E55,IF(달력!$S$29=\"순서3\",근무!F55,IF(달력!$S$29=\"순서4\",근무!G55,IF(달력!$S$29=\"순서5\",근무!H55,IF(달력!$S$29=\"순서6\",근무!I55,\"\"))))))","v":"비번"}]
[null,"2023-02-19","일",{"$f":"IF(달력!$S$24=\"순서1\",근무!D56,IF(달력!$S$24=\"순서2\",근무!E56,IF(달력!$S$24=\"순서3\",근무!F56,IF(달력!$S$24=\"순서4\",근무!G56,IF(달력!$S$24=\"순서5\",근무!H56,IF(달력!$S$24=\"순서6\",근무!I56,\"\"))))))","v":"주간"},{"$f":"IF(달력!$S$25=\"순서1\",근무!D56,IF(달력!$S$25=\"순서2\",근무!E56,IF(달력!$S$25=\"순서3\",근무!F56,IF(달력!$S$25=\"순서4\",근무!G56,IF(달력!$S$25=\"순서5\",근무!H56,IF(달력!$S$25=\"순서6\",근무!I56,\"\"))))))","v":"주간"},{"$f":"IF(달력!$S$26=\"순서1\",근무!D56,IF(달력!$S$26=\"순서2\",근무!E56,IF(달력!$S$26=\"순서3\",근무!F56,IF(달력!$S$26=\"순서4\",근무!G56,IF(달력!$S$26=\"순서5\",근무!H56,IF(달력!$S$26=\"순서6\",근무!I56,\"\"))))))","v":"야간"},{"$f":"IF(달력!$S$27=\"순서1\",근무!D56,IF(달력!$S$27=\"순서2\",근무!E56,IF(달력!$S$27=\"순서3\",근무!F56,IF(달력!$S$27=\"순서4\",근무!G56,IF(달력!$S$27=\"순서5\",근무!H56,IF(달력!$S$27=\"순서6\",근무!I56,\"\"))))))","v":"야간"},{"$f":"IF(달력!$S$28=\"순서1\",근무!D56,IF(달력!$S$28=\"순서2\",근무!E56,IF(달력!$S$28=\"순서3\",근무!F56,IF(달력!$S$28=\"순서4\",근무!G56,IF(달력!$S$28=\"순서5\",근무!H56,IF(달력!$S$28=\"순서6\",근무!I56,\"\"))))))","v":"비번"},{"$f":"IF(달력!$S$29=\"순서1\",근무!D56,IF(달력!$S$29=\"순서2\",근무!E56,IF(달력!$S$29=\"순서3\",근무!F56,IF(달력!$S$29=\"순서4\",근무!G56,IF(달력!$S$29=\"순서5\",근무!H56,IF(달력!$S$29=\"순서6\",근무!I56,\"\"))))))","v":"비번"}]
[null,"2023-02-20","월",{"$f":"IF(달력!$S$24=\"순서1\",근무!D57,IF(달력!$S$24=\"순서2\",근무!E57,IF(달력!$S$24=\"순서3\",근무!F57,IF(달력!$S$24=\"순서4\",근무!G57,IF(달력!$S$24=\"순서5\",근무!H57,IF(달력!$S$24=\"순서6\",근무!I57,\"\"))))))","v":"야간"},{"$f":"IF(달력!$S$25=\"순서1\",근무!D57,IF(달력!$S$25=\"순서2\",근무!E57,IF(달력!$S$25=\"순서3\",근무!F57,IF(달력!$S$25=\"순서4\",근무!G57,IF(달력!$S$25=\"순서5\",근무!H57,IF(달력!$S$25=\"순서6\",근무!I57,\"\"))))))","v":"야간"},{"$f":"IF(달력!$S$26=\"순서1\",근무!D57,IF(달력!$S$26=\"순서2\",근무!E57,IF(달력!$S$26=\"순서3\",근무!F57,IF(달력!$S$26=\"순서4\",근무!G57,IF(달력!$S$26=\"순서5\",근무!H57,IF(달력!$S$26=\"순서6\",근무!I57,\"\"))))))","v":"비번"},{"$f":"IF(달력!$S$27=\"순서1\",근무!D57,IF(달력!$S$27=\"순서2\",근무!E57,IF(달력!$S$27=\"순서3\",근무!F57,IF(달력!$S$27=\"순서4\",근무!G57,IF(달력!$S$27=\"순서5\",근무!H57,IF(달력!$S$27=\"순서6\",근무!I57,\"\"))))))","v":"비번"},{"$f":"IF(달력!$S$28=\"순서1\",근무!D57,IF(달력!$S$28=\"순서2\",근무!E57,IF(달력!$S$28=\"순서3\",근무!F57,IF(달력!$S$28=\"순서4\",근무!G57,IF(달력!$S$28=\"순서5\",근무!H57,IF(달력!$S$28=\"순서6\",근무!I57,\"\"))))))","v":"주간"},{"$f":"IF(달력!$S$29=\"순서1\",근무!D57,IF(달력!$S$29=\"순서2\",근무!E57,IF(달력!$S$29=\"순서3\",근무!F57,IF(달력!$S$29=\"순서4\",근무!G57,IF(달력!$S$29=\"순서5\",근무!H57,IF(달력!$S$29=\"순서6\",근무!I57,\"\"))))))","v":"주간"}]
[null,"2023-02-21","화",{"$f":"IF(달력!$S$24=\"순서1\",근무!D58,IF(달력!$S$24=\"순서2\",근무!E58,IF(달력!$S$24=\"순서3\",근무!F58,IF(달력!$S$24=\"순서4\",근무!G58,IF(달력!$S$24=\"순서5\",근무!H58,IF(달력!$S$24=\"순서6\",근무!I58,\"\"))))))","v":"야간"},{"$f":"IF(달력!$S$25=\"순서1\",근무!D58,IF(달력!$S$25=\"순서2\",근무!E58,IF(달력!$S$25=\"순서3\",근무!F58,IF(달력!$S$25=\"순서4\",근무!G58,IF(달력!$S$25=\"순서5\",근무!H58,IF(달력!$S$25=\"순서6\",근무!I58,\"\"))))))","v":"야간"},{"$f":"IF(달력!$S$26=\"순서1\",근무!D58,IF(달력!$S$26=\"순서2\",근무!E58,IF(달력!$S$26=\"순서3\",근무!F58,IF(달력!$S$26=\"순서4\",근무!G58,IF(달력!$S$26=\"순서5\",근무!H58,IF(달력!$S$26=\"순서6\",근무!I58,\"\"))))))","v":"비번"},{"$f":"IF(달력!$S$27=\"순서1\",근무!D58,IF(달력!$S$27=\"순서2\",근무!E58,IF(달력!$S$27=\"순서3\",근무!F58,IF(달력!$S$27=\"순서4\",근무!G58,IF(달력!$S$27=\"순서5\",근무!H58,IF(달력!$S$27=\"순서6\",근무!I58,\"\"))))))","v":"비번"},{"$f":"IF(달력!$S$28=\"순서1\",근무!D58,IF(달력!$S$28=\"순서2\",근무!E58,IF(달력!$S$28=\"순서3\",근무!F58,IF(달력!$S$28=\"순서4\",근무!G58,IF(달력!$S$28=\"순서5\",근무!H58,IF(달력!$S$28=\"순서6\",근무!I58,\"\"))))))","v":"주간"},{"$f":"IF(달력!$S$29=\"순서1\",근무!D58,IF(달력!$S$29=\"순서2\",근무!E58,IF(달력!$S$29=\"순서3\",근무!F58,IF(달력!$S$29=\"순서4\",근무!G58,IF(달력!$S$29=\"순서5\",근무!H58,IF(달력!$S$29=\"순서6\",근무!I58,\"\"))))))","v":"주간"}]
[null,"2023-02-22","수",{"$f":"IF(달력!$S$24=\"순서1\",근무!D59,IF(달력!$S$24=\"순서2\",근무!E59,IF(달력!$S$24=\"순서3\",근무!F59,IF(달력!$S$24=\"순서4\",근무!G59,IF(달력!$S$24=\"순서5\",근무!H59,IF(달력!$S$24=\"순서6\",근무!I59,\"\"))))))","v":"비번"},{"$f":"IF(달력!$S$25=\"순서1\",근무!D59,IF(달력!$S$25=\"순서2\",근무!E59,IF(달력!$S$25=\"순서3\",근무!F59,IF(달력!$S$25=\"순서4\",근무!G59,IF(달력!$S$25=\"순서5\",근무!H59,IF(달력!$S$25=\"순서6\",근무!I59,\"\"))))))","v":"비번"},{"$f":"IF(달력!$S$26=\"순서1\",근무!D59,IF(달력!$S$26=\"순서2\",근무!E59,IF(달력!$S$26=\"순서3\",근무!F59,IF(달력!$S$26=\"순서4\",근무!G59,IF(달력!$S$26=\"순서5\",근무!H59,IF(달력!$S$26=\"순서6\",근무!I59,\"\"))))))","v":"주간"},{"$f":"IF(달력!$S$27=\"순서1\",근무!D59,IF(달력!$S$27=\"순서2\",근무!E59,IF(달력!$S$27=\"순서3\",근무!F59,IF(달력!$S$27=\"순서4\",근무!G59,IF(달력!$S$27=\"순서5\",근무!H59,IF(달력!$S$27=\"순서6\",근무!I59,\"\"))))))","v":"주간"},{"$f":"IF(달력!$S$28=\"순서1\",근무!D59,IF(달력!$S$28=\"순서2\",근무!E59,IF(달력!$S$28=\"순서3\",근무!F59,IF(달력!$S$28=\"순서4\",근무!G59,IF(달력!$S$28=\"순서5\",근무!H59,IF(달력!$S$28=\"순서6\",근무!I59,\"\"))))))","v":"야간"},{"$f":"IF(달력!$S$29=\"순서1\",근무!D59,IF(달력!$S$29=\"순서2\",근무!E59,IF(달력!$S$29=\"순서3\",근무!F59,IF(달력!$S$29=\"순서4\",근무!G59,IF(달력!$S$29=\"순서5\",근무!H59,IF(달력!$S$29=\"순서6\",근무!I59,\"\"))))))","v":"야간"}]
[null,"2023-02-23","목",{"$f":"IF(달력!$S$24=\"순서1\",근무!D60,IF(달력!$S$24=\"순서2\",근무!E60,IF(달력!$S$24=\"순서3\",근무!F60,IF(달력!$S$24=\"순서4\",근무!G60,IF(달력!$S$24=\"순서5\",근무!H60,IF(달력!$S$24=\"순서6\",근무!I60,\"\"))))))","v":"비번"},{"$f":"IF(달력!$S$25=\"순서1\",근무!D60,IF(달력!$S$25=\"순서2\",근무!E60,IF(달력!$S$25=\"순서3\",근무!F60,IF(달력!$S$25=\"순서4\",근무!G60,IF(달력!$S$25=\"순서5\",근무!H60,IF(달력!$S$25=\"순서6\",근무!I60,\"\"))))))","v":"비번"},{"$f":"IF(달력!$S$26=\"순서1\",근무!D60,IF(달력!$S$26=\"순서2\",근무!E60,IF(달력!$S$26=\"순서3\",근무!F60,IF(달력!$S$26=\"순서4\",근무!G60,IF(달력!$S$26=\"순서5\",근무!H60,IF(달력!$S$26=\"순서6\",근무!I60,\"\"))))))","v":"주간"},{"$f":"IF(달력!$S$27=\"순서1\",근무!D60,IF(달력!$S$27=\"순서2\",근무!E60,IF(달력!$S$27=\"순서3\",근무!F60,IF(달력!$S$27=\"순서4\",근무!G60,IF(달력!$S$27=\"순서5\",근무!H60,IF(달력!$S$27=\"순서6\",근무!I60,\"\"))))))","v":"주간"},{"$f":"IF(달력!$S$28=\"순서1\",근무!D60,IF(달력!$S$28=\"순서2\",근무!E60,IF(달력!$S$28=\"순서3\",근무!F60,IF(달력!$S$28=\"순서4\",근무!G60,IF(달력!$S$28=\"순서5\",근무!H60,IF(달력!$S$28=\"순서6\",근무!I60,\"\"))))))","v":"야간"},{"$f":"IF(달력!$S$29=\"순서1\",근무!D60,IF(달력!$S$29=\"순서2\",근무!E60,IF(달력!$S$29=\"순서3\",근무!F60,IF(달력!$S$29=\"순서4\",근무!G60,IF(달력!$S$29=\"순서5\",근무!H60,IF(달력!$S$29=\"순서6\",근무!I60,\"\"))))))","v":"야간"}]
[null,"2023-02-24","금",{"$f":"IF(달력!$S$24=\"순서1\",근무!D61,IF(달력!$S$24=\"순서2\",근무!E61,IF(달력!$S$24=\"순서3\",근무!F61,IF(달력!$S$24=\"순서4\",근무!G61,IF(달력!$S$24=\"순서5\",근무!H61,IF(달력!$S$24=\"순서6\",근무!I61,\"\"))))))","v":"주간"},{"$f":"IF(달력!$S$25=\"순서1\",근무!D61,IF(달력!$S$25=\"순서2\",근무!E61,IF(달력!$S$25=\"순서3\",근무!F61,IF(달력!$S$25=\"순서4\",근무!G61,IF(달력!$S$25=\"순서5\",근무!H61,IF(달력!$S$25=\"순서6\",근무!I61,\"\"))))))","v":"주간"},{"$f":"IF(달력!$S$26=\"순서1\",근무!D61,IF(달력!$S$26=\"순서2\",근무!E61,IF(달력!$S$26=\"순서3\",근무!F61,IF(달력!$S$26=\"순서4\",근무!G61,IF(달력!$S$26=\"순서5\",근무!H61,IF(달력!$S$26=\"순서6\",근무!I61,\"\"))))))","v":"야간"},{"$f":"IF(달력!$S$27=\"순서1\",근무!D61,IF(달력!$S$27=\"순서2\",근무!E61,IF(달력!$S$27=\"순서3\",근무!F61,IF(달력!$S$27=\"순서4\",근무!G61,IF(달력!$S$27=\"순서5\",근무!H61,IF(달력!$S$27=\"순서6\",근무!I61,\"\"))))))","v":"야간"},{"$f":"IF(달력!$S$28=\"순서1\",근무!D61,IF(달력!$S$28=\"순서2\",근무!E61,IF(달력!$S$28=\"순서3\",근무!F61,IF(달력!$S$28=\"순서4\",근무!G61,IF(달력!$S$28=\"순서5\",근무!H61,IF(달력!$S$28=\"순서6\",근무!I61,\"\"))))))","v":"비번"},{"$f":"IF(달력!$S$29=\"순서1\",근무!D61,IF(달력!$S$29=\"순서2\",근무!E61,IF(달력!$S$29=\"순서3\",근무!F61,IF(달력!$S$29=\"순서4\",근무!G61,IF(달력!$S$29=\"순서5\",근무!H61,IF(달력!$S$29=\"순서6\",근무!I61,\"\"))))))","v":"비번"}]
[null,"2023-02-25","토",{"$f":"IF(달력!$S$24=\"순서1\",근무!D62,IF(달력!$S$24=\"순서2\",근무!E62,IF(달력!$S$24=\"순서3\",근무!F62,IF(달력!$S$24=\"순서4\",근무!G62,IF(달력!$S$24=\"순서5\",근무!H62,IF(달력!$S$24=\"순서6\",근무!I62,\"\"))))))","v":"주간"},{"$f":"IF(달력!$S$25=\"순서1\",근무!D62,IF(달력!$S$25=\"순서2\",근무!E62,IF(달력!$S$25=\"순서3\",근무!F62,IF(달력!$S$25=\"순서4\",근무!G62,IF(달력!$S$25=\"순서5\",근무!H62,IF(달력!$S$25=\"순서6\",근무!I62,\"\"))))))","v":"주간"},{"$f":"IF(달력!$S$26=\"순서1\",근무!D62,IF(달력!$S$26=\"순서2\",근무!E62,IF(달력!$S$26=\"순서3\",근무!F62,IF(달력!$S$26=\"순서4\",근무!G62,IF(달력!$S$26=\"순서5\",근무!H62,IF(달력!$S$26=\"순서6\",근무!I62,\"\"))))))","v":"야간"},{"$f":"IF(달력!$S$27=\"순서1\",근무!D62,IF(달력!$S$27=\"순서2\",근무!E62,IF(달력!$S$27=\"순서3\",근무!F62,IF(달력!$S$27=\"순서4\",근무!G62,IF(달력!$S$27=\"순서5\",근무!H62,IF(달력!$S$27=\"순서6\",근무!I62,\"\"))))))","v":"야간"},{"$f":"IF(달력!$S$28=\"순서1\",근무!D62,IF(달력!$S$28=\"순서2\",근무!E62,IF(달력!$S$28=\"순서3\",근무!F62,IF(달력!$S$28=\"순서4\",근무!G62,IF(달력!$S$28=\"순서5\",근무!H62,IF(달력!$S$28=\"순서6\",근무!I62,\"\"))))))","v":"비번"},{"$f":"IF(달력!$S$29=\"순서1\",근무!D62,IF(달력!$S$29=\"순서2\",근무!E62,IF(달력!$S$29=\"순서3\",근무!F62,IF(달력!$S$29=\"순서4\",근무!G62,IF(달력!$S$29=\"순서5\",근무!H62,IF(달력!$S$29=\"순서6\",근무!I62,\"\"))))))","v":"비번"}]
[null,"2023-02-26","일",{"$f":"IF(달력!$S$24=\"순서1\",근무!D63,IF(달력!$S$24=\"순서2\",근무!E63,IF(달력!$S$24=\"순서3\",근무!F63,IF(달력!$S$24=\"순서4\",근무!G63,IF(달력!$S$24=\"순서5\",근무!H63,IF(달력!$S$24=\"순서6\",근무!I63,\"\"))))))","v":"야간"},{"$f":"IF(달력!$S$25=\"순서1\",근무!D63,IF(달력!$S$25=\"순서2\",근무!E63,IF(달력!$S$25=\"순서3\",근무!F63,IF(달력!$S$25=\"순서4\",근무!G63,IF(달력!$S$25=\"순서5\",근무!H63,IF(달력!$S$25=\"순서6\",근무!I63,\"\"))))))","v":"야간"},{"$f":"IF(달력!$S$26=\"순서1\",근무!D63,IF(달력!$S$26=\"순서2\",근무!E63,IF(달력!$S$26=\"순서3\",근무!F63,IF(달력!$S$26=\"순서4\",근무!G63,IF(달력!$S$26=\"순서5\",근무!H63,IF(달력!$S$26=\"순서6\",근무!I63,\"\"))))))","v":"비번"},{"$f":"IF(달력!$S$27=\"순서1\",근무!D63,IF(달력!$S$27=\"순서2\",근무!E63,IF(달력!$S$27=\"순서3\",근무!F63,IF(달력!$S$27=\"순서4\",근무!G63,IF(달력!$S$27=\"순서5\",근무!H63,IF(달력!$S$27=\"순서6\",근무!I63,\"\"))))))","v":"비번"},{"$f":"IF(달력!$S$28=\"순서1\",근무!D63,IF(달력!$S$28=\"순서2\",근무!E63,IF(달력!$S$28=\"순서3\",근무!F63,IF(달력!$S$28=\"순서4\",근무!G63,IF(달력!$S$28=\"순서5\",근무!H63,IF(달력!$S$28=\"순서6\",근무!I63,\"\"))))))","v":"주간"},{"$f":"IF(달력!$S$29=\"순서1\",근무!D63,IF(달력!$S$29=\"순서2\",근무!E63,IF(달력!$S$29=\"순서3\",근무!F63,IF(달력!$S$29=\"순서4\",근무!G63,IF(달력!$S$29=\"순서5\",근무!H63,IF(달력!$S$29=\"순서6\",근무!I63,\"\"))))))","v":"주간"}]
[null,"2023-02-27","월",{"$f":"IF(달력!$S$24=\"순서1\",근무!D64,IF(달력!$S$24=\"순서2\",근무!E64,IF(달력!$S$24=\"순서3\",근무!F64,IF(달력!$S$24=\"순서4\",근무!G64,IF(달력!$S$24=\"순서5\",근무!H64,IF(달력!$S$24=\"순서6\",근무!I64,\"\"))))))","v":"야간"},{"$f":"IF(달력!$S$25=\"순서1\",근무!D64,IF(달력!$S$25=\"순서2\",근무!E64,IF(달력!$S$25=\"순서3\",근무!F64,IF(달력!$S$25=\"순서4\",근무!G64,IF(달력!$S$25=\"순서5\",근무!H64,IF(달력!$S$25=\"순서6\",근무!I64,\"\"))))))","v":"야간"},{"$f":"IF(달력!$S$26=\"순서1\",근무!D64,IF(달력!$S$26=\"순서2\",근무!E64,IF(달력!$S$26=\"순서3\",근무!F64,IF(달력!$S$26=\"순서4\",근무!G64,IF(달력!$S$26=\"순서5\",근무!H64,IF(달력!$S$26=\"순서6\",근무!I64,\"\"))))))","v":"비번"},{"$f":"IF(달력!$S$27=\"순서1\",근무!D64,IF(달력!$S$27=\"순서2\",근무!E64,IF(달력!$S$27=\"순서3\",근무!F64,IF(달력!$S$27=\"순서4\",근무!G64,IF(달력!$S$27=\"순서5\",근무!H64,IF(달력!$S$27=\"순서6\",근무!I64,\"\"))))))","v":"비번"},{"$f":"IF(달력!$S$28=\"순서1\",근무!D64,IF(달력!$S$28=\"순서2\",근무!E64,IF(달력!$S$28=\"순서3\",근무!F64,IF(달력!$S$28=\"순서4\",근무!G64,IF(달력!$S$28=\"순서5\",근무!H64,IF(달력!$S$28=\"순서6\",근무!I64,\"\"))))))","v":"주간"},{"$f":"IF(달력!$S$29=\"순서1\",근무!D64,IF(달력!$S$29=\"순서2\",근무!E64,IF(달력!$S$29=\"순서3\",근무!F64,IF(달력!$S$29=\"순서4\",근무!G64,IF(달력!$S$29=\"순서5\",근무!H64,IF(달력!$S$29=\"순서6\",근무!I64,\"\"))))))","v":"주간"}]
[null,"2023-02-28","화",{"$f":"IF(달력!$S$24=\"순서1\",근무!D65,IF(달력!$S$24=\"순서2\",근무!E65,IF(달력!$S$24=\"순서3\",근무!F65,IF(달력!$S$24=\"순서4\",근무!G65,IF(달력!$S$24=\"순서5\",근무!H65,IF(달력!$S$24=\"순서6\",근무!I65,\"\"))))))","v":"비번"},{"$f":"IF(달력!$S$25=\"순서1\",근무!D65,IF(달력!$S$25=\"순서2\",근무!E65,IF(달력!$S$25=\"순서3\",근무!F65,IF(달력!$S$25=\"순서4\",근무!G65,IF(달력!$S$25=\"순서5\",근무!H65,IF(달력!$S$25=\"순서6\",근무!I65,\"\"))))))","v":"비번"},{"$f":"IF(달력!$S$26=\"순서1\",근무!D65,IF(달력!$S$26=\"순서2\",근무!E65,IF(달력!$S$26=\"순서3\",근무!F65,IF(달력!$S$26=\"순서4\",근무!G65,IF(달력!$S$26=\"순서5\",근무!H65,IF(달력!$S$26=\"순서6\",근무!I65,\"\"))))))","v":"주간"},{"$f":"IF(달력!$S$27=\"순서1\",근무!D65,IF(달력!$S$27=\"순서2\",근무!E65,IF(달력!$S$27=\"순서3\",근무!F65,IF(달력!$S$27=\"순서4\",근무!G65,IF(달력!$S$27=\"순서5\",근무!H65,IF(달력!$S$27=\"순서6\",근무!I65,\"\"))))))","v":"주간"},{"$f":"IF(달력!$S$28=\"순서1\",근무!D65,IF(달력!$S$28=\"순서2\",근무!E65,IF(달력!$S$28=\"순서3\",근무!F65,IF(달력!$S$28=\"순서4\",근무!G65,IF(달력!$S$28=\"순서5\",근무!H65,IF(달력!$S$28=\"순서6\",근무!I65,\"\"))))))","v":"야간"},{"$f":"IF(달력!$S$29=\"순서1\",근무!D65,IF(달력!$S$29=\"순서2\",근무!E65,IF(달력!$S$29=\"순서3\",근무!F65,IF(달력!$S$29=\"순서4\",근무!G65,IF(달력!$S$29=\"순서5\",근무!H65,IF(달력!$S$29=\"순서6\",근무!I65,\"\"))))))","v":"야간"}]
[null,"2023-03-01","수",{"$f":"IF(달력!$S$24=\"순서1\",근무!D66,IF(달력!$S$24=\"순서2\",근무!E66,IF(달력!$S$24=\"순서3\",근무!F66,IF(달력!$S$24=\"순서4\",근무!G66,IF(달력!$S$24=\"순서5\",근무!H66,IF(달력!$S$24=\"순서6\",근무!I66,\"\"))))))","v":"비번"},{"$f":"IF(달력!$S$25=\"순서1\",근무!D66,IF(달력!$S$25=\"순서2\",근무!E66,IF(달력!$S$25=\"순서3\",근무!F66,IF(달력!$S$25=\"순서4\",근무!G66,IF(달력!$S$25=\"순서5\",근무!H66,IF(달력!$S$25=\"순서6\",근무!I66,\"\"))))))","v":"비번"},{"$f":"IF(달력!$S$26=\"순서1\",근무!D66,IF(달력!$S$26=\"순서2\",근무!E66,IF(달력!$S$26=\"순서3\",근무!F66,IF(달력!$S$26=\"순서4\",근무!G66,IF(달력!$S$26=\"순서5\",근무!H66,IF(달력!$S$26=\"순서6\",근무!I66,\"\"))))))","v":"주간"},{"$f":"IF(달력!$S$27=\"순서1\",근무!D66,IF(달력!$S$27=\"순서2\",근무!E66,IF(달력!$S$27=\"순서3\",근무!F66,IF(달력!$S$27=\"순서4\",근무!G66,IF(달력!$S$27=\"순서5\",근무!H66,IF(달력!$S$27=\"순서6\",근무!I66,\"\"))))))","v":"주간"},{"$f":"IF(달력!$S$28=\"순서1\",근무!D66,IF(달력!$S$28=\"순서2\",근무!E66,IF(달력!$S$28=\"순서3\",근무!F66,IF(달력!$S$28=\"순서4\",근무!G66,IF(달력!$S$28=\"순서5\",근무!H66,IF(달력!$S$28=\"순서6\",근무!I66,\"\"))))))","v":"야간"},{"$f":"IF(달력!$S$29=\"순서1\",근무!D66,IF(달력!$S$29=\"순서2\",근무!E66,IF(달력!$S$29=\"순서3\",근무!F66,IF(달력!$S$29=\"순서4\",근무!G66,IF(달력!$S$29=\"순서5\",근무!H66,IF(달력!$S$29=\"순서6\",근무!I66,\"\"))))))","v":"야간"}]
[null,"2023-03-02","목",{"$f":"IF(달력!$S$24=\"순서1\",근무!D67,IF(달력!$S$24=\"순서2\",근무!E67,IF(달력!$S$24=\"순서3\",근무!F67,IF(달력!$S$24=\"순서4\",근무!G67,IF(달력!$S$24=\"순서5\",근무!H67,IF(달력!$S$24=\"순서6\",근무!I67,\"\"))))))","v":"주간"},{"$f":"IF(달력!$S$25=\"순서1\",근무!D67,IF(달력!$S$25=\"순서2\",근무!E67,IF(달력!$S$25=\"순서3\",근무!F67,IF(달력!$S$25=\"순서4\",근무!G67,IF(달력!$S$25=\"순서5\",근무!H67,IF(달력!$S$25=\"순서6\",근무!I67,\"\"))))))","v":"주간"},{"$f":"IF(달력!$S$26=\"순서1\",근무!D67,IF(달력!$S$26=\"순서2\",근무!E67,IF(달력!$S$26=\"순서3\",근무!F67,IF(달력!$S$26=\"순서4\",근무!G67,IF(달력!$S$26=\"순서5\",근무!H67,IF(달력!$S$26=\"순서6\",근무!I67,\"\"))))))","v":"야간"},{"$f":"IF(달력!$S$27=\"순서1\",근무!D67,IF(달력!$S$27=\"순서2\",근무!E67,IF(달력!$S$27=\"순서3\",근무!F67,IF(달력!$S$27=\"순서4\",근무!G67,IF(달력!$S$27=\"순서5\",근무!H67,IF(달력!$S$27=\"순서6\",근무!I67,\"\"))))))","v":"야간"},{"$f":"IF(달력!$S$28=\"순서1\",근무!D67,IF(달력!$S$28=\"순서2\",근무!E67,IF(달력!$S$28=\"순서3\",근무!F67,IF(달력!$S$28=\"순서4\",근무!G67,IF(달력!$S$28=\"순서5\",근무!H67,IF(달력!$S$28=\"순서6\",근무!I67,\"\"))))))","v":"비번"},{"$f":"IF(달력!$S$29=\"순서1\",근무!D67,IF(달력!$S$29=\"순서2\",근무!E67,IF(달력!$S$29=\"순서3\",근무!F67,IF(달력!$S$29=\"순서4\",근무!G67,IF(달력!$S$29=\"순서5\",근무!H67,IF(달력!$S$29=\"순서6\",근무!I67,\"\"))))))","v":"비번"}]
[null,"2023-03-03","금",{"$f":"IF(달력!$S$24=\"순서1\",근무!D68,IF(달력!$S$24=\"순서2\",근무!E68,IF(달력!$S$24=\"순서3\",근무!F68,IF(달력!$S$24=\"순서4\",근무!G68,IF(달력!$S$24=\"순서5\",근무!H68,IF(달력!$S$24=\"순서6\",근무!I68,\"\"))))))","v":"주간"},{"$f":"IF(달력!$S$25=\"순서1\",근무!D68,IF(달력!$S$25=\"순서2\",근무!E68,IF(달력!$S$25=\"순서3\",근무!F68,IF(달력!$S$25=\"순서4\",근무!G68,IF(달력!$S$25=\"순서5\",근무!H68,IF(달력!$S$25=\"순서6\",근무!I68,\"\"))))))","v":"주간"},{"$f":"IF(달력!$S$26=\"순서1\",근무!D68,IF(달력!$S$26=\"순서2\",근무!E68,IF(달력!$S$26=\"순서3\",근무!F68,IF(달력!$S$26=\"순서4\",근무!G68,IF(달력!$S$26=\"순서5\",근무!H68,IF(달력!$S$26=\"순서6\",근무!I68,\"\"))))))","v":"야간"},{"$f":"IF(달력!$S$27=\"순서1\",근무!D68,IF(달력!$S$27=\"순서2\",근무!E68,IF(달력!$S$27=\"순서3\",근무!F68,IF(달력!$S$27=\"순서4\",근무!G68,IF(달력!$S$27=\"순서5\",근무!H68,IF(달력!$S$27=\"순서6\",근무!I68,\"\"))))))","v":"야간"},{"$f":"IF(달력!$S$28=\"순서1\",근무!D68,IF(달력!$S$28=\"순서2\",근무!E68,IF(달력!$S$28=\"순서3\",근무!F68,IF(달력!$S$28=\"순서4\",근무!G68,IF(달력!$S$28=\"순서5\",근무!H68,IF(달력!$S$28=\"순서6\",근무!I68,\"\"))))))","v":"비번"},{"$f":"IF(달력!$S$29=\"순서1\",근무!D68,IF(달력!$S$29=\"순서2\",근무!E68,IF(달력!$S$29=\"순서3\",근무!F68,IF(달력!$S$29=\"순서4\",근무!G68,IF(달력!$S$29=\"순서5\",근무!H68,IF(달력!$S$29=\"순서6\",근무!I68,\"\"))))))","v":"비번"}]
[null,"2023-03-04","토",{"$f":"IF(달력!$S$24=\"순서1\",근무!D69,IF(달력!$S$24=\"순서2\",근무!E69,IF(달력!$S$24=\"순서3\",근무!F69,IF(달력!$S$24=\"순서4\",근무!G69,IF(달력!$S$24=\"순서5\",근무!H69,IF(달력!$S$24=\"순서6\",근무!I69,\"\"))))))","v":"야간"},{"$f":"IF(달력!$S$25=\"순서1\",근무!D69,IF(달력!$S$25=\"순서2\",근무!E69,IF(달력!$S$25=\"순서3\",근무!F69,IF(달력!$S$25=\"순서4\",근무!G69,IF(달력!$S$25=\"순서5\",근무!H69,IF(달력!$S$25=\"순서6\",근무!I69,\"\"))))))","v":"야간"},{"$f":"IF(달력!$S$26=\"순서1\",근무!D69,IF(달력!$S$26=\"순서2\",근무!E69,IF(달력!$S$26=\"순서3\",근무!F69,IF(달력!$S$26=\"순서4\",근무!G69,IF(달력!$S$26=\"순서5\",근무!H69,IF(달력!$S$26=\"순서6\",근무!I69,\"\"))))))","v":"비번"},{"$f":"IF(달력!$S$27=\"순서1\",근무!D69,IF(달력!$S$27=\"순서2\",근무!E69,IF(달력!$S$27=\"순서3\",근무!F69,IF(달력!$S$27=\"순서4\",근무!G69,IF(달력!$S$27=\"순서5\",근무!H69,IF(달력!$S$27=\"순서6\",근무!I69,\"\"))))))","v":"비번"},{"$f":"IF(달력!$S$28=\"순서1\",근무!D69,IF(달력!$S$28=\"순서2\",근무!E69,IF(달력!$S$28=\"순서3\",근무!F69,IF(달력!$S$28=\"순서4\",근무!G69,IF(달력!$S$28=\"순서5\",근무!H69,IF(달력!$S$28=\"순서6\",근무!I69,\"\"))))))","v":"주간"},{"$f":"IF(달력!$S$29=\"순서1\",근무!D69,IF(달력!$S$29=\"순서2\",근무!E69,IF(달력!$S$29=\"순서3\",근무!F69,IF(달력!$S$29=\"순서4\",근무!G69,IF(달력!$S$29=\"순서5\",근무!H69,IF(달력!$S$29=\"순서6\",근무!I69,\"\"))))))","v":"주간"}]
[null,"2023-03-05","일",{"$f":"IF(달력!$S$24=\"순서1\",근무!D70,IF(달력!$S$24=\"순서2\",근무!E70,IF(달력!$S$24=\"순서3\",근무!F70,IF(달력!$S$24=\"순서4\",근무!G70,IF(달력!$S$24=\"순서5\",근무!H70,IF(달력!$S$24=\"순서6\",근무!I70,\"\"))))))","v":"야간"},{"$f":"IF(달력!$S$25=\"순서1\",근무!D70,IF(달력!$S$25=\"순서2\",근무!E70,IF(달력!$S$25=\"순서3\",근무!F70,IF(달력!$S$25=\"순서4\",근무!G70,IF(달력!$S$25=\"순서5\",근무!H70,IF(달력!$S$25=\"순서6\",근무!I70,\"\"))))))","v":"야간"},{"$f":"IF(달력!$S$26=\"순서1\",근무!D70,IF(달력!$S$26=\"순서2\",근무!E70,IF(달력!$S$26=\"순서3\",근무!F70,IF(달력!$S$26=\"순서4\",근무!G70,IF(달력!$S$26=\"순서5\",근무!H70,IF(달력!$S$26=\"순서6\",근무!I70,\"\"))))))","v":"비번"},{"$f":"IF(달력!$S$27=\"순서1\",근무!D70,IF(달력!$S$27=\"순서2\",근무!E70,IF(달력!$S$27=\"순서3\",근무!F70,IF(달력!$S$27=\"순서4\",근무!G70,IF(달력!$S$27=\"순서5\",근무!H70,IF(달력!$S$27=\"순서6\",근무!I70,\"\"))))))","v":"비번"},{"$f":"IF(달력!$S$28=\"순서1\",근무!D70,IF(달력!$S$28=\"순서2\",근무!E70,IF(달력!$S$28=\"순서3\",근무!F70,IF(달력!$S$28=\"순서4\",근무!G70,IF(달력!$S$28=\"순서5\",근무!H70,IF(달력!$S$28=\"순서6\",근무!I70,\"\"))))))","v":"주간"},{"$f":"IF(달력!$S$29=\"순서1\",근무!D70,IF(달력!$S$29=\"순서2\",근무!E70,IF(달력!$S$29=\"순서3\",근무!F70,IF(달력!$S$29=\"순서4\",근무!G70,IF(달력!$S$29=\"순서5\",근무!H70,IF(달력!$S$29=\"순서6\",근무!I70,\"\"))))))","v":"주간"}]
[null,"2023-03-06","월",{"$f":"IF(달력!$S$24=\"순서1\",근무!D71,IF(달력!$S$24=\"순서2\",근무!E71,IF(달력!$S$24=\"순서3\",근무!F71,IF(달력!$S$24=\"순서4\",근무!G71,IF(달력!$S$24=\"순서5\",근무!H71,IF(달력!$S$24=\"순서6\",근무!I71,\"\"))))))","v":"비번"},{"$f":"IF(달력!$S$25=\"순서1\",근무!D71,IF(달력!$S$25=\"순서2\",근무!E71,IF(달력!$S$25=\"순서3\",근무!F71,IF(달력!$S$25=\"순서4\",근무!G71,IF(달력!$S$25=\"순서5\",근무!H71,IF(달력!$S$25=\"순서6\",근무!I71,\"\"))))))","v":"비번"},{"$f":"IF(달력!$S$26=\"순서1\",근무!D71,IF(달력!$S$26=\"순서2\",근무!E71,IF(달력!$S$26=\"순서3\",근무!F71,IF(달력!$S$26=\"순서4\",근무!G71,IF(달력!$S$26=\"순서5\",근무!H71,IF(달력!$S$26=\"순서6\",근무!I71,\"\"))))))","v":"주간"},{"$f":"IF(달력!$S$27=\"순서1\",근무!D71,IF(달력!$S$27=\"순서2\",근무!E71,IF(달력!$S$27=\"순서3\",근무!F71,IF(달력!$S$27=\"순서4\",근무!G71,IF(달력!$S$27=\"순서5\",근무!H71,IF(달력!$S$27=\"순서6\",근무!I71,\"\"))))))","v":"주간"},{"$f":"IF(달력!$S$28=\"순서1\",근무!D71,IF(달력!$S$28=\"순서2\",근무!E71,IF(달력!$S$28=\"순서3\",근무!F71,IF(달력!$S$28=\"순서4\",근무!G71,IF(달력!$S$28=\"순서5\",근무!H71,IF(달력!$S$28=\"순서6\",근무!I71,\"\"))))))","v":"야간"},{"$f":"IF(달력!$S$29=\"순서1\",근무!D71,IF(달력!$S$29=\"순서2\",근무!E71,IF(달력!$S$29=\"순서3\",근무!F71,IF(달력!$S$29=\"순서4\",근무!G71,IF(달력!$S$29=\"순서5\",근무!H71,IF(달력!$S$29=\"순서6\",근무!I71,\"\"))))))","v":"야간"}]
[null,"2023-03-07",{"$f":"CHOOSE(WEEKDAY(B72,1),\"일\",\"월\",\"화\",\"수\",\"목\",\"금\",\"토\")","v":"화"},{"$f":"IF(달력!$S$24=\"순서1\",근무!D72,IF(달력!$S$24=\"순서2\",근무!E72,IF(달력!$S$24=\"순서3\",근무!F72,IF(달력!$S$24=\"순서4\",근무!G72,IF(달력!$S$24=\"순서5\",근무!H72,IF(달력!$S$24=\"순서6\",근무!I72,\"\"))))))","v":"비번"},{"$f":"IF(달력!$S$25=\"순서1\",근무!D72,IF(달력!$S$25=\"순서2\",근무!E72,IF(달력!$S$25=\"순서3\",근무!F72,IF(달력!$S$25=\"순서4\",근무!G72,IF(달력!$S$25=\"순서5\",근무!H72,IF(달력!$S$25=\"순서6\",근무!I72,\"\"))))))","v":"비번"},{"$f":"IF(달력!$S$26=\"순서1\",근무!D72,IF(달력!$S$26=\"순서2\",근무!E72,IF(달력!$S$26=\"순서3\",근무!F72,IF(달력!$S$26=\"순서4\",근무!G72,IF(달력!$S$26=\"순서5\",근무!H72,IF(달력!$S$26=\"순서6\",근무!I72,\"\"))))))","v":"주간"},{"$f":"IF(달력!$S$27=\"순서1\",근무!D72,IF(달력!$S$27=\"순서2\",근무!E72,IF(달력!$S$27=\"순서3\",근무!F72,IF(달력!$S$27=\"순서4\",근무!G72,IF(달력!$S$27=\"순서5\",근무!H72,IF(달력!$S$27=\"순서6\",근무!I72,\"\"))))))","v":"주간"},{"$f":"IF(달력!$S$28=\"순서1\",근무!D72,IF(달력!$S$28=\"순서2\",근무!E72,IF(달력!$S$28=\"순서3\",근무!F72,IF(달력!$S$28=\"순서4\",근무!G72,IF(달력!$S$28=\"순서5\",근무!H72,IF(달력!$S$28=\"순서6\",근무!I72,\"\"))))))","v":"야간"},{"$f":"IF(달력!$S$29=\"순서1\",근무!D72,IF(달력!$S$29=\"순서2\",근무!E72,IF(달력!$S$29=\"순서3\",근무!F72,IF(달력!$S$29=\"순서4\",근무!G72,IF(달력!$S$29=\"순서5\",근무!H72,IF(달력!$S$29=\"순서6\",근무!I72,\"\"))))))","v":"야간"}]
[null,{"$f":"B72+1","v":"2023-03-08"},"수",{"$f":"IF(달력!$S$24=\"순서1\",근무!D73,IF(달력!$S$24=\"순서2\",근무!E73,IF(달력!$S$24=\"순서3\",근무!F73,IF(달력!$S$24=\"순서4\",근무!G73,IF(달력!$S$24=\"순서5\",근무!H73,IF(달력!$S$24=\"순서6\",근무!I73,\"\"))))))","v":"주간"},{"$f":"IF(달력!$S$25=\"순서1\",근무!D73,IF(달력!$S$25=\"순서2\",근무!E73,IF(달력!$S$25=\"순서3\",근무!F73,IF(달력!$S$25=\"순서4\",근무!G73,IF(달력!$S$25=\"순서5\",근무!H73,IF(달력!$S$25=\"순서6\",근무!I73,\"\"))))))","v":"주간"},{"$f":"IF(달력!$S$26=\"순서1\",근무!D73,IF(달력!$S$26=\"순서2\",근무!E73,IF(달력!$S$26=\"순서3\",근무!F73,IF(달력!$S$26=\"순서4\",근무!G73,IF(달력!$S$26=\"순서5\",근무!H73,IF(달력!$S$26=\"순서6\",근무!I73,\"\"))))))","v":"야간"},{"$f":"IF(달력!$S$27=\"순서1\",근무!D73,IF(달력!$S$27=\"순서2\",근무!E73,IF(달력!$S$27=\"순서3\",근무!F73,IF(달력!$S$27=\"순서4\",근무!G73,IF(달력!$S$27=\"순서5\",근무!H73,IF(달력!$S$27=\"순서6\",근무!I73,\"\"))))))","v":"야간"},{"$f":"IF(달력!$S$28=\"순서1\",근무!D73,IF(달력!$S$28=\"순서2\",근무!E73,IF(달력!$S$28=\"순서3\",근무!F73,IF(달력!$S$28=\"순서4\",근무!G73,IF(달력!$S$28=\"순서5\",근무!H73,IF(달력!$S$28=\"순서6\",근무!I73,\"\"))))))","v":"비번"},{"$f":"IF(달력!$S$29=\"순서1\",근무!D73,IF(달력!$S$29=\"순서2\",근무!E73,IF(달력!$S$29=\"순서3\",근무!F73,IF(달력!$S$29=\"순서4\",근무!G73,IF(달력!$S$29=\"순서5\",근무!H73,IF(달력!$S$29=\"순서6\",근무!I73,\"\"))))))","v":"비번"}]
[null,"2023-03-09","목",{"$f":"IF(달력!$S$24=\"순서1\",근무!D74,IF(달력!$S$24=\"순서2\",근무!E74,IF(달력!$S$24=\"순서3\",근무!F74,IF(달력!$S$24=\"순서4\",근무!G74,IF(달력!$S$24=\"순서5\",근무!H74,IF(달력!$S$24=\"순서6\",근무!I74,\"\"))))))","v":"주간"},{"$f":"IF(달력!$S$25=\"순서1\",근무!D74,IF(달력!$S$25=\"순서2\",근무!E74,IF(달력!$S$25=\"순서3\",근무!F74,IF(달력!$S$25=\"순서4\",근무!G74,IF(달력!$S$25=\"순서5\",근무!H74,IF(달력!$S$25=\"순서6\",근무!I74,\"\"))))))","v":"주간"},{"$f":"IF(달력!$S$26=\"순서1\",근무!D74,IF(달력!$S$26=\"순서2\",근무!E74,IF(달력!$S$26=\"순서3\",근무!F74,IF(달력!$S$26=\"순서4\",근무!G74,IF(달력!$S$26=\"순서5\",근무!H74,IF(달력!$S$26=\"순서6\",근무!I74,\"\"))))))","v":"야간"},{"$f":"IF(달력!$S$27=\"순서1\",근무!D74,IF(달력!$S$27=\"순서2\",근무!E74,IF(달력!$S$27=\"순서3\",근무!F74,IF(달력!$S$27=\"순서4\",근무!G74,IF(달력!$S$27=\"순서5\",근무!H74,IF(달력!$S$27=\"순서6\",근무!I74,\"\"))))))","v":"야간"},{"$f":"IF(달력!$S$28=\"순서1\",근무!D74,IF(달력!$S$28=\"순서2\",근무!E74,IF(달력!$S$28=\"순서3\",근무!F74,IF(달력!$S$28=\"순서4\",근무!G74,IF(달력!$S$28=\"순서5\",근무!H74,IF(달력!$S$28=\"순서6\",근무!I74,\"\"))))))","v":"비번"},{"$f":"IF(달력!$S$29=\"순서1\",근무!D74,IF(달력!$S$29=\"순서2\",근무!E74,IF(달력!$S$29=\"순서3\",근무!F74,IF(달력!$S$29=\"순서4\",근무!G74,IF(달력!$S$29=\"순서5\",근무!H74,IF(달력!$S$29=\"순서6\",근무!I74,\"\"))))))","v":"비번"}]
[null,"2023-03-10","금",{"$f":"IF(달력!$S$24=\"순서1\",근무!D75,IF(달력!$S$24=\"순서2\",근무!E75,IF(달력!$S$24=\"순서3\",근무!F75,IF(달력!$S$24=\"순서4\",근무!G75,IF(달력!$S$24=\"순서5\",근무!H75,IF(달력!$S$24=\"순서6\",근무!I75,\"\"))))))","v":"야간"},{"$f":"IF(달력!$S$25=\"순서1\",근무!D75,IF(달력!$S$25=\"순서2\",근무!E75,IF(달력!$S$25=\"순서3\",근무!F75,IF(달력!$S$25=\"순서4\",근무!G75,IF(달력!$S$25=\"순서5\",근무!H75,IF(달력!$S$25=\"순서6\",근무!I75,\"\"))))))","v":"야간"},{"$f":"IF(달력!$S$26=\"순서1\",근무!D75,IF(달력!$S$26=\"순서2\",근무!E75,IF(달력!$S$26=\"순서3\",근무!F75,IF(달력!$S$26=\"순서4\",근무!G75,IF(달력!$S$26=\"순서5\",근무!H75,IF(달력!$S$26=\"순서6\",근무!I75,\"\"))))))","v":"비번"},{"$f":"IF(달력!$S$27=\"순서1\",근무!D75,IF(달력!$S$27=\"순서2\",근무!E75,IF(달력!$S$27=\"순서3\",근무!F75,IF(달력!$S$27=\"순서4\",근무!G75,IF(달력!$S$27=\"순서5\",근무!H75,IF(달력!$S$27=\"순서6\",근무!I75,\"\"))))))","v":"비번"},{"$f":"IF(달력!$S$28=\"순서1\",근무!D75,IF(달력!$S$28=\"순서2\",근무!E75,IF(달력!$S$28=\"순서3\",근무!F75,IF(달력!$S$28=\"순서4\",근무!G75,IF(달력!$S$28=\"순서5\",근무!H75,IF(달력!$S$28=\"순서6\",근무!I75,\"\"))))))","v":"주간"},{"$f":"IF(달력!$S$29=\"순서1\",근무!D75,IF(달력!$S$29=\"순서2\",근무!E75,IF(달력!$S$29=\"순서3\",근무!F75,IF(달력!$S$29=\"순서4\",근무!G75,IF(달력!$S$29=\"순서5\",근무!H75,IF(달력!$S$29=\"순서6\",근무!I75,\"\"))))))","v":"주간"}]
[null,"2023-03-11","토",{"$f":"IF(달력!$S$24=\"순서1\",근무!D76,IF(달력!$S$24=\"순서2\",근무!E76,IF(달력!$S$24=\"순서3\",근무!F76,IF(달력!$S$24=\"순서4\",근무!G76,IF(달력!$S$24=\"순서5\",근무!H76,IF(달력!$S$24=\"순서6\",근무!I76,\"\"))))))","v":"야간"},{"$f":"IF(달력!$S$25=\"순서1\",근무!D76,IF(달력!$S$25=\"순서2\",근무!E76,IF(달력!$S$25=\"순서3\",근무!F76,IF(달력!$S$25=\"순서4\",근무!G76,IF(달력!$S$25=\"순서5\",근무!H76,IF(달력!$S$25=\"순서6\",근무!I76,\"\"))))))","v":"야간"},{"$f":"IF(달력!$S$26=\"순서1\",근무!D76,IF(달력!$S$26=\"순서2\",근무!E76,IF(달력!$S$26=\"순서3\",근무!F76,IF(달력!$S$26=\"순서4\",근무!G76,IF(달력!$S$26=\"순서5\",근무!H76,IF(달력!$S$26=\"순서6\",근무!I76,\"\"))))))","v":"비번"},{"$f":"IF(달력!$S$27=\"순서1\",근무!D76,IF(달력!$S$27=\"순서2\",근무!E76,IF(달력!$S$27=\"순서3\",근무!F76,IF(달력!$S$27=\"순서4\",근무!G76,IF(달력!$S$27=\"순서5\",근무!H76,IF(달력!$S$27=\"순서6\",근무!I76,\"\"))))))","v":"비번"},{"$f":"IF(달력!$S$28=\"순서1\",근무!D76,IF(달력!$S$28=\"순서2\",근무!E76,IF(달력!$S$28=\"순서3\",근무!F76,IF(달력!$S$28=\"순서4\",근무!G76,IF(달력!$S$28=\"순서5\",근무!H76,IF(달력!$S$28=\"순서6\",근무!I76,\"\"))))))","v":"주간"},{"$f":"IF(달력!$S$29=\"순서1\",근무!D76,IF(달력!$S$29=\"순서2\",근무!E76,IF(달력!$S$29=\"순서3\",근무!F76,IF(달력!$S$29=\"순서4\",근무!G76,IF(달력!$S$29=\"순서5\",근무!H76,IF(달력!$S$29=\"순서6\",근무!I76,\"\"))))))","v":"주간"}]
[null,"2023-03-12","일",{"$f":"IF(달력!$S$24=\"순서1\",근무!D77,IF(달력!$S$24=\"순서2\",근무!E77,IF(달력!$S$24=\"순서3\",근무!F77,IF(달력!$S$24=\"순서4\",근무!G77,IF(달력!$S$24=\"순서5\",근무!H77,IF(달력!$S$24=\"순서6\",근무!I77,\"\"))))))","v":"비번"},{"$f":"IF(달력!$S$25=\"순서1\",근무!D77,IF(달력!$S$25=\"순서2\",근무!E77,IF(달력!$S$25=\"순서3\",근무!F77,IF(달력!$S$25=\"순서4\",근무!G77,IF(달력!$S$25=\"순서5\",근무!H77,IF(달력!$S$25=\"순서6\",근무!I77,\"\"))))))","v":"비번"},{"$f":"IF(달력!$S$26=\"순서1\",근무!D77,IF(달력!$S$26=\"순서2\",근무!E77,IF(달력!$S$26=\"순서3\",근무!F77,IF(달력!$S$26=\"순서4\",근무!G77,IF(달력!$S$26=\"순서5\",근무!H77,IF(달력!$S$26=\"순서6\",근무!I77,\"\"))))))","v":"주간"},{"$f":"IF(달력!$S$27=\"순서1\",근무!D77,IF(달력!$S$27=\"순서2\",근무!E77,IF(달력!$S$27=\"순서3\",근무!F77,IF(달력!$S$27=\"순서4\",근무!G77,IF(달력!$S$27=\"순서5\",근무!H77,IF(달력!$S$27=\"순서6\",근무!I77,\"\"))))))","v":"주간"},{"$f":"IF(달력!$S$28=\"순서1\",근무!D77,IF(달력!$S$28=\"순서2\",근무!E77,IF(달력!$S$28=\"순서3\",근무!F77,IF(달력!$S$28=\"순서4\",근무!G77,IF(달력!$S$28=\"순서5\",근무!H77,IF(달력!$S$28=\"순서6\",근무!I77,\"\"))))))","v":"야간"},{"$f":"IF(달력!$S$29=\"순서1\",근무!D77,IF(달력!$S$29=\"순서2\",근무!E77,IF(달력!$S$29=\"순서3\",근무!F77,IF(달력!$S$29=\"순서4\",근무!G77,IF(달력!$S$29=\"순서5\",근무!H77,IF(달력!$S$29=\"순서6\",근무!I77,\"\"))))))","v":"야간"}]
[null,"2023-03-13","월",{"$f":"IF(달력!$S$24=\"순서1\",근무!D78,IF(달력!$S$24=\"순서2\",근무!E78,IF(달력!$S$24=\"순서3\",근무!F78,IF(달력!$S$24=\"순서4\",근무!G78,IF(달력!$S$24=\"순서5\",근무!H78,IF(달력!$S$24=\"순서6\",근무!I78,\"\"))))))","v":"비번"},{"$f":"IF(달력!$S$25=\"순서1\",근무!D78,IF(달력!$S$25=\"순서2\",근무!E78,IF(달력!$S$25=\"순서3\",근무!F78,IF(달력!$S$25=\"순서4\",근무!G78,IF(달력!$S$25=\"순서5\",근무!H78,IF(달력!$S$25=\"순서6\",근무!I78,\"\"))))))","v":"비번"},{"$f":"IF(달력!$S$26=\"순서1\",근무!D78,IF(달력!$S$26=\"순서2\",근무!E78,IF(달력!$S$26=\"순서3\",근무!F78,IF(달력!$S$26=\"순서4\",근무!G78,IF(달력!$S$26=\"순서5\",근무!H78,IF(달력!$S$26=\"순서6\",근무!I78,\"\"))))))","v":"주간"},{"$f":"IF(달력!$S$27=\"순서1\",근무!D78,IF(달력!$S$27=\"순서2\",근무!E78,IF(달력!$S$27=\"순서3\",근무!F78,IF(달력!$S$27=\"순서4\",근무!G78,IF(달력!$S$27=\"순서5\",근무!H78,IF(달력!$S$27=\"순서6\",근무!I78,\"\"))))))","v":"주간"},{"$f":"IF(달력!$S$28=\"순서1\",근무!D78,IF(달력!$S$28=\"순서2\",근무!E78,IF(달력!$S$28=\"순서3\",근무!F78,IF(달력!$S$28=\"순서4\",근무!G78,IF(달력!$S$28=\"순서5\",근무!H78,IF(달력!$S$28=\"순서6\",근무!I78,\"\"))))))","v":"야간"},{"$f":"IF(달력!$S$29=\"순서1\",근무!D78,IF(달력!$S$29=\"순서2\",근무!E78,IF(달력!$S$29=\"순서3\",근무!F78,IF(달력!$S$29=\"순서4\",근무!G78,IF(달력!$S$29=\"순서5\",근무!H78,IF(달력!$S$29=\"순서6\",근무!I78,\"\"))))))","v":"야간"}]
[null,"2023-03-14","화",{"$f":"IF(달력!$S$24=\"순서1\",근무!D79,IF(달력!$S$24=\"순서2\",근무!E79,IF(달력!$S$24=\"순서3\",근무!F79,IF(달력!$S$24=\"순서4\",근무!G79,IF(달력!$S$24=\"순서5\",근무!H79,IF(달력!$S$24=\"순서6\",근무!I79,\"\"))))))","v":"주간"},{"$f":"IF(달력!$S$25=\"순서1\",근무!D79,IF(달력!$S$25=\"순서2\",근무!E79,IF(달력!$S$25=\"순서3\",근무!F79,IF(달력!$S$25=\"순서4\",근무!G79,IF(달력!$S$25=\"순서5\",근무!H79,IF(달력!$S$25=\"순서6\",근무!I79,\"\"))))))","v":"주간"},{"$f":"IF(달력!$S$26=\"순서1\",근무!D79,IF(달력!$S$26=\"순서2\",근무!E79,IF(달력!$S$26=\"순서3\",근무!F79,IF(달력!$S$26=\"순서4\",근무!G79,IF(달력!$S$26=\"순서5\",근무!H79,IF(달력!$S$26=\"순서6\",근무!I79,\"\"))))))","v":"야간"},{"$f":"IF(달력!$S$27=\"순서1\",근무!D79,IF(달력!$S$27=\"순서2\",근무!E79,IF(달력!$S$27=\"순서3\",근무!F79,IF(달력!$S$27=\"순서4\",근무!G79,IF(달력!$S$27=\"순서5\",근무!H79,IF(달력!$S$27=\"순서6\",근무!I79,\"\"))))))","v":"야간"},{"$f":"IF(달력!$S$28=\"순서1\",근무!D79,IF(달력!$S$28=\"순서2\",근무!E79,IF(달력!$S$28=\"순서3\",근무!F79,IF(달력!$S$28=\"순서4\",근무!G79,IF(달력!$S$28=\"순서5\",근무!H79,IF(달력!$S$28=\"순서6\",근무!I79,\"\"))))))","v":"비번"},{"$f":"IF(달력!$S$29=\"순서1\",근무!D79,IF(달력!$S$29=\"순서2\",근무!E79,IF(달력!$S$29=\"순서3\",근무!F79,IF(달력!$S$29=\"순서4\",근무!G79,IF(달력!$S$29=\"순서5\",근무!H79,IF(달력!$S$29=\"순서6\",근무!I79,\"\"))))))","v":"비번"}]
[null,"2023-03-15","수",{"$f":"IF(달력!$S$24=\"순서1\",근무!D80,IF(달력!$S$24=\"순서2\",근무!E80,IF(달력!$S$24=\"순서3\",근무!F80,IF(달력!$S$24=\"순서4\",근무!G80,IF(달력!$S$24=\"순서5\",근무!H80,IF(달력!$S$24=\"순서6\",근무!I80,\"\"))))))","v":"주간"},{"$f":"IF(달력!$S$25=\"순서1\",근무!D80,IF(달력!$S$25=\"순서2\",근무!E80,IF(달력!$S$25=\"순서3\",근무!F80,IF(달력!$S$25=\"순서4\",근무!G80,IF(달력!$S$25=\"순서5\",근무!H80,IF(달력!$S$25=\"순서6\",근무!I80,\"\"))))))","v":"주간"},{"$f":"IF(달력!$S$26=\"순서1\",근무!D80,IF(달력!$S$26=\"순서2\",근무!E80,IF(달력!$S$26=\"순서3\",근무!F80,IF(달력!$S$26=\"순서4\",근무!G80,IF(달력!$S$26=\"순서5\",근무!H80,IF(달력!$S$26=\"순서6\",근무!I80,\"\"))))))","v":"야간"},{"$f":"IF(달력!$S$27=\"순서1\",근무!D80,IF(달력!$S$27=\"순서2\",근무!E80,IF(달력!$S$27=\"순서3\",근무!F80,IF(달력!$S$27=\"순서4\",근무!G80,IF(달력!$S$27=\"순서5\",근무!H80,IF(달력!$S$27=\"순서6\",근무!I80,\"\"))))))","v":"야간"},{"$f":"IF(달력!$S$28=\"순서1\",근무!D80,IF(달력!$S$28=\"순서2\",근무!E80,IF(달력!$S$28=\"순서3\",근무!F80,IF(달력!$S$28=\"순서4\",근무!G80,IF(달력!$S$28=\"순서5\",근무!H80,IF(달력!$S$28=\"순서6\",근무!I80,\"\"))))))","v":"비번"},{"$f":"IF(달력!$S$29=\"순서1\",근무!D80,IF(달력!$S$29=\"순서2\",근무!E80,IF(달력!$S$29=\"순서3\",근무!F80,IF(달력!$S$29=\"순서4\",근무!G80,IF(달력!$S$29=\"순서5\",근무!H80,IF(달력!$S$29=\"순서6\",근무!I80,\"\"))))))","v":"비번"}]
[null,"2023-03-16","목",{"$f":"IF(달력!$S$24=\"순서1\",근무!D81,IF(달력!$S$24=\"순서2\",근무!E81,IF(달력!$S$24=\"순서3\",근무!F81,IF(달력!$S$24=\"순서4\",근무!G81,IF(달력!$S$24=\"순서5\",근무!H81,IF(달력!$S$24=\"순서6\",근무!I81,\"\"))))))","v":"야간"},{"$f":"IF(달력!$S$25=\"순서1\",근무!D81,IF(달력!$S$25=\"순서2\",근무!E81,IF(달력!$S$25=\"순서3\",근무!F81,IF(달력!$S$25=\"순서4\",근무!G81,IF(달력!$S$25=\"순서5\",근무!H81,IF(달력!$S$25=\"순서6\",근무!I81,\"\"))))))","v":"야간"},{"$f":"IF(달력!$S$26=\"순서1\",근무!D81,IF(달력!$S$26=\"순서2\",근무!E81,IF(달력!$S$26=\"순서3\",근무!F81,IF(달력!$S$26=\"순서4\",근무!G81,IF(달력!$S$26=\"순서5\",근무!H81,IF(달력!$S$26=\"순서6\",근무!I81,\"\"))))))","v":"비번"},{"$f":"IF(달력!$S$27=\"순서1\",근무!D81,IF(달력!$S$27=\"순서2\",근무!E81,IF(달력!$S$27=\"순서3\",근무!F81,IF(달력!$S$27=\"순서4\",근무!G81,IF(달력!$S$27=\"순서5\",근무!H81,IF(달력!$S$27=\"순서6\",근무!I81,\"\"))))))","v":"비번"},{"$f":"IF(달력!$S$28=\"순서1\",근무!D81,IF(달력!$S$28=\"순서2\",근무!E81,IF(달력!$S$28=\"순서3\",근무!F81,IF(달력!$S$28=\"순서4\",근무!G81,IF(달력!$S$28=\"순서5\",근무!H81,IF(달력!$S$28=\"순서6\",근무!I81,\"\"))))))","v":"주간"},{"$f":"IF(달력!$S$29=\"순서1\",근무!D81,IF(달력!$S$29=\"순서2\",근무!E81,IF(달력!$S$29=\"순서3\",근무!F81,IF(달력!$S$29=\"순서4\",근무!G81,IF(달력!$S$29=\"순서5\",근무!H81,IF(달력!$S$29=\"순서6\",근무!I81,\"\"))))))","v":"주간"}]
[null,"2023-03-17","금",{"$f":"IF(달력!$S$24=\"순서1\",근무!D82,IF(달력!$S$24=\"순서2\",근무!E82,IF(달력!$S$24=\"순서3\",근무!F82,IF(달력!$S$24=\"순서4\",근무!G82,IF(달력!$S$24=\"순서5\",근무!H82,IF(달력!$S$24=\"순서6\",근무!I82,\"\"))))))","v":"야간"},{"$f":"IF(달력!$S$25=\"순서1\",근무!D82,IF(달력!$S$25=\"순서2\",근무!E82,IF(달력!$S$25=\"순서3\",근무!F82,IF(달력!$S$25=\"순서4\",근무!G82,IF(달력!$S$25=\"순서5\",근무!H82,IF(달력!$S$25=\"순서6\",근무!I82,\"\"))))))","v":"야간"},{"$f":"IF(달력!$S$26=\"순서1\",근무!D82,IF(달력!$S$26=\"순서2\",근무!E82,IF(달력!$S$26=\"순서3\",근무!F82,IF(달력!$S$26=\"순서4\",근무!G82,IF(달력!$S$26=\"순서5\",근무!H82,IF(달력!$S$26=\"순서6\",근무!I82,\"\"))))))","v":"비번"},{"$f":"IF(달력!$S$27=\"순서1\",근무!D82,IF(달력!$S$27=\"순서2\",근무!E82,IF(달력!$S$27=\"순서3\",근무!F82,IF(달력!$S$27=\"순서4\",근무!G82,IF(달력!$S$27=\"순서5\",근무!H82,IF(달력!$S$27=\"순서6\",근무!I82,\"\"))))))","v":"비번"},{"$f":"IF(달력!$S$28=\"순서1\",근무!D82,IF(달력!$S$28=\"순서2\",근무!E82,IF(달력!$S$28=\"순서3\",근무!F82,IF(달력!$S$28=\"순서4\",근무!G82,IF(달력!$S$28=\"순서5\",근무!H82,IF(달력!$S$28=\"순서6\",근무!I82,\"\"))))))","v":"주간"},{"$f":"IF(달력!$S$29=\"순서1\",근무!D82,IF(달력!$S$29=\"순서2\",근무!E82,IF(달력!$S$29=\"순서3\",근무!F82,IF(달력!$S$29=\"순서4\",근무!G82,IF(달력!$S$29=\"순서5\",근무!H82,IF(달력!$S$29=\"순서6\",근무!I82,\"\"))))))","v":"주간"}]
[null,"2023-03-18","토",{"$f":"IF(달력!$S$24=\"순서1\",근무!D83,IF(달력!$S$24=\"순서2\",근무!E83,IF(달력!$S$24=\"순서3\",근무!F83,IF(달력!$S$24=\"순서4\",근무!G83,IF(달력!$S$24=\"순서5\",근무!H83,IF(달력!$S$24=\"순서6\",근무!I83,\"\"))))))","v":"비번"},{"$f":"IF(달력!$S$25=\"순서1\",근무!D83,IF(달력!$S$25=\"순서2\",근무!E83,IF(달력!$S$25=\"순서3\",근무!F83,IF(달력!$S$25=\"순서4\",근무!G83,IF(달력!$S$25=\"순서5\",근무!H83,IF(달력!$S$25=\"순서6\",근무!I83,\"\"))))))","v":"비번"},{"$f":"IF(달력!$S$26=\"순서1\",근무!D83,IF(달력!$S$26=\"순서2\",근무!E83,IF(달력!$S$26=\"순서3\",근무!F83,IF(달력!$S$26=\"순서4\",근무!G83,IF(달력!$S$26=\"순서5\",근무!H83,IF(달력!$S$26=\"순서6\",근무!I83,\"\"))))))","v":"주간"},{"$f":"IF(달력!$S$27=\"순서1\",근무!D83,IF(달력!$S$27=\"순서2\",근무!E83,IF(달력!$S$27=\"순서3\",근무!F83,IF(달력!$S$27=\"순서4\",근무!G83,IF(달력!$S$27=\"순서5\",근무!H83,IF(달력!$S$27=\"순서6\",근무!I83,\"\"))))))","v":"주간"},{"$f":"IF(달력!$S$28=\"순서1\",근무!D83,IF(달력!$S$28=\"순서2\",근무!E83,IF(달력!$S$28=\"순서3\",근무!F83,IF(달력!$S$28=\"순서4\",근무!G83,IF(달력!$S$28=\"순서5\",근무!H83,IF(달력!$S$28=\"순서6\",근무!I83,\"\"))))))","v":"야간"},{"$f":"IF(달력!$S$29=\"순서1\",근무!D83,IF(달력!$S$29=\"순서2\",근무!E83,IF(달력!$S$29=\"순서3\",근무!F83,IF(달력!$S$29=\"순서4\",근무!G83,IF(달력!$S$29=\"순서5\",근무!H83,IF(달력!$S$29=\"순서6\",근무!I83,\"\"))))))","v":"야간"}]
[null,"2023-03-19","일",{"$f":"IF(달력!$S$24=\"순서1\",근무!D84,IF(달력!$S$24=\"순서2\",근무!E84,IF(달력!$S$24=\"순서3\",근무!F84,IF(달력!$S$24=\"순서4\",근무!G84,IF(달력!$S$24=\"순서5\",근무!H84,IF(달력!$S$24=\"순서6\",근무!I84,\"\"))))))","v":"비번"},{"$f":"IF(달력!$S$25=\"순서1\",근무!D84,IF(달력!$S$25=\"순서2\",근무!E84,IF(달력!$S$25=\"순서3\",근무!F84,IF(달력!$S$25=\"순서4\",근무!G84,IF(달력!$S$25=\"순서5\",근무!H84,IF(달력!$S$25=\"순서6\",근무!I84,\"\"))))))","v":"비번"},{"$f":"IF(달력!$S$26=\"순서1\",근무!D84,IF(달력!$S$26=\"순서2\",근무!E84,IF(달력!$S$26=\"순서3\",근무!F84,IF(달력!$S$26=\"순서4\",근무!G84,IF(달력!$S$26=\"순서5\",근무!H84,IF(달력!$S$26=\"순서6\",근무!I84,\"\"))))))","v":"주간"},{"$f":"IF(달력!$S$27=\"순서1\",근무!D84,IF(달력!$S$27=\"순서2\",근무!E84,IF(달력!$S$27=\"순서3\",근무!F84,IF(달력!$S$27=\"순서4\",근무!G84,IF(달력!$S$27=\"순서5\",근무!H84,IF(달력!$S$27=\"순서6\",근무!I84,\"\"))))))","v":"주간"},{"$f":"IF(달력!$S$28=\"순서1\",근무!D84,IF(달력!$S$28=\"순서2\",근무!E84,IF(달력!$S$28=\"순서3\",근무!F84,IF(달력!$S$28=\"순서4\",근무!G84,IF(달력!$S$28=\"순서5\",근무!H84,IF(달력!$S$28=\"순서6\",근무!I84,\"\"))))))","v":"야간"},{"$f":"IF(달력!$S$29=\"순서1\",근무!D84,IF(달력!$S$29=\"순서2\",근무!E84,IF(달력!$S$29=\"순서3\",근무!F84,IF(달력!$S$29=\"순서4\",근무!G84,IF(달력!$S$29=\"순서5\",근무!H84,IF(달력!$S$29=\"순서6\",근무!I84,\"\"))))))","v":"야간"}]
[null,"2023-03-20","월",{"$f":"IF(달력!$S$24=\"순서1\",근무!D85,IF(달력!$S$24=\"순서2\",근무!E85,IF(달력!$S$24=\"순서3\",근무!F85,IF(달력!$S$24=\"순서4\",근무!G85,IF(달력!$S$24=\"순서5\",근무!H85,IF(달력!$S$24=\"순서6\",근무!I85,\"\"))))))","v":"주간"},{"$f":"IF(달력!$S$25=\"순서1\",근무!D85,IF(달력!$S$25=\"순서2\",근무!E85,IF(달력!$S$25=\"순서3\",근무!F85,IF(달력!$S$25=\"순서4\",근무!G85,IF(달력!$S$25=\"순서5\",근무!H85,IF(달력!$S$25=\"순서6\",근무!I85,\"\"))))))","v":"주간"},{"$f":"IF(달력!$S$26=\"순서1\",근무!D85,IF(달력!$S$26=\"순서2\",근무!E85,IF(달력!$S$26=\"순서3\",근무!F85,IF(달력!$S$26=\"순서4\",근무!G85,IF(달력!$S$26=\"순서5\",근무!H85,IF(달력!$S$26=\"순서6\",근무!I85,\"\"))))))","v":"야간"},{"$f":"IF(달력!$S$27=\"순서1\",근무!D85,IF(달력!$S$27=\"순서2\",근무!E85,IF(달력!$S$27=\"순서3\",근무!F85,IF(달력!$S$27=\"순서4\",근무!G85,IF(달력!$S$27=\"순서5\",근무!H85,IF(달력!$S$27=\"순서6\",근무!I85,\"\"))))))","v":"야간"},{"$f":"IF(달력!$S$28=\"순서1\",근무!D85,IF(달력!$S$28=\"순서2\",근무!E85,IF(달력!$S$28=\"순서3\",근무!F85,IF(달력!$S$28=\"순서4\",근무!G85,IF(달력!$S$28=\"순서5\",근무!H85,IF(달력!$S$28=\"순서6\",근무!I85,\"\"))))))","v":"비번"},{"$f":"IF(달력!$S$29=\"순서1\",근무!D85,IF(달력!$S$29=\"순서2\",근무!E85,IF(달력!$S$29=\"순서3\",근무!F85,IF(달력!$S$29=\"순서4\",근무!G85,IF(달력!$S$29=\"순서5\",근무!H85,IF(달력!$S$29=\"순서6\",근무!I85,\"\"))))))","v":"비번"}]
[null,"2023-03-21","화",{"$f":"IF(달력!$S$24=\"순서1\",근무!D86,IF(달력!$S$24=\"순서2\",근무!E86,IF(달력!$S$24=\"순서3\",근무!F86,IF(달력!$S$24=\"순서4\",근무!G86,IF(달력!$S$24=\"순서5\",근무!H86,IF(달력!$S$24=\"순서6\",근무!I86,\"\"))))))","v":"주간"},{"$f":"IF(달력!$S$25=\"순서1\",근무!D86,IF(달력!$S$25=\"순서2\",근무!E86,IF(달력!$S$25=\"순서3\",근무!F86,IF(달력!$S$25=\"순서4\",근무!G86,IF(달력!$S$25=\"순서5\",근무!H86,IF(달력!$S$25=\"순서6\",근무!I86,\"\"))))))","v":"주간"},{"$f":"IF(달력!$S$26=\"순서1\",근무!D86,IF(달력!$S$26=\"순서2\",근무!E86,IF(달력!$S$26=\"순서3\",근무!F86,IF(달력!$S$26=\"순서4\",근무!G86,IF(달력!$S$26=\"순서5\",근무!H86,IF(달력!$S$26=\"순서6\",근무!I86,\"\"))))))","v":"야간"},{"$f":"IF(달력!$S$27=\"순서1\",근무!D86,IF(달력!$S$27=\"순서2\",근무!E86,IF(달력!$S$27=\"순서3\",근무!F86,IF(달력!$S$27=\"순서4\",근무!G86,IF(달력!$S$27=\"순서5\",근무!H86,IF(달력!$S$27=\"순서6\",근무!I86,\"\"))))))","v":"야간"},{"$f":"IF(달력!$S$28=\"순서1\",근무!D86,IF(달력!$S$28=\"순서2\",근무!E86,IF(달력!$S$28=\"순서3\",근무!F86,IF(달력!$S$28=\"순서4\",근무!G86,IF(달력!$S$28=\"순서5\",근무!H86,IF(달력!$S$28=\"순서6\",근무!I86,\"\"))))))","v":"비번"},{"$f":"IF(달력!$S$29=\"순서1\",근무!D86,IF(달력!$S$29=\"순서2\",근무!E86,IF(달력!$S$29=\"순서3\",근무!F86,IF(달력!$S$29=\"순서4\",근무!G86,IF(달력!$S$29=\"순서5\",근무!H86,IF(달력!$S$29=\"순서6\",근무!I86,\"\"))))))","v":"비번"}]
[null,"2023-03-22","수",{"$f":"IF(달력!$S$24=\"순서1\",근무!D87,IF(달력!$S$24=\"순서2\",근무!E87,IF(달력!$S$24=\"순서3\",근무!F87,IF(달력!$S$24=\"순서4\",근무!G87,IF(달력!$S$24=\"순서5\",근무!H87,IF(달력!$S$24=\"순서6\",근무!I87,\"\"))))))","v":"야간"},{"$f":"IF(달력!$S$25=\"순서1\",근무!D87,IF(달력!$S$25=\"순서2\",근무!E87,IF(달력!$S$25=\"순서3\",근무!F87,IF(달력!$S$25=\"순서4\",근무!G87,IF(달력!$S$25=\"순서5\",근무!H87,IF(달력!$S$25=\"순서6\",근무!I87,\"\"))))))","v":"야간"},{"$f":"IF(달력!$S$26=\"순서1\",근무!D87,IF(달력!$S$26=\"순서2\",근무!E87,IF(달력!$S$26=\"순서3\",근무!F87,IF(달력!$S$26=\"순서4\",근무!G87,IF(달력!$S$26=\"순서5\",근무!H87,IF(달력!$S$26=\"순서6\",근무!I87,\"\"))))))","v":"비번"},{"$f":"IF(달력!$S$27=\"순서1\",근무!D87,IF(달력!$S$27=\"순서2\",근무!E87,IF(달력!$S$27=\"순서3\",근무!F87,IF(달력!$S$27=\"순서4\",근무!G87,IF(달력!$S$27=\"순서5\",근무!H87,IF(달력!$S$27=\"순서6\",근무!I87,\"\"))))))","v":"비번"},{"$f":"IF(달력!$S$28=\"순서1\",근무!D87,IF(달력!$S$28=\"순서2\",근무!E87,IF(달력!$S$28=\"순서3\",근무!F87,IF(달력!$S$28=\"순서4\",근무!G87,IF(달력!$S$28=\"순서5\",근무!H87,IF(달력!$S$28=\"순서6\",근무!I87,\"\"))))))","v":"주간"},{"$f":"IF(달력!$S$29=\"순서1\",근무!D87,IF(달력!$S$29=\"순서2\",근무!E87,IF(달력!$S$29=\"순서3\",근무!F87,IF(달력!$S$29=\"순서4\",근무!G87,IF(달력!$S$29=\"순서5\",근무!H87,IF(달력!$S$29=\"순서6\",근무!I87,\"\"))))))","v":"주간"}]
[null,"2023-03-23","목",{"$f":"IF(달력!$S$24=\"순서1\",근무!D88,IF(달력!$S$24=\"순서2\",근무!E88,IF(달력!$S$24=\"순서3\",근무!F88,IF(달력!$S$24=\"순서4\",근무!G88,IF(달력!$S$24=\"순서5\",근무!H88,IF(달력!$S$24=\"순서6\",근무!I88,\"\"))))))","v":"야간"},{"$f":"IF(달력!$S$25=\"순서1\",근무!D88,IF(달력!$S$25=\"순서2\",근무!E88,IF(달력!$S$25=\"순서3\",근무!F88,IF(달력!$S$25=\"순서4\",근무!G88,IF(달력!$S$25=\"순서5\",근무!H88,IF(달력!$S$25=\"순서6\",근무!I88,\"\"))))))","v":"야간"},{"$f":"IF(달력!$S$26=\"순서1\",근무!D88,IF(달력!$S$26=\"순서2\",근무!E88,IF(달력!$S$26=\"순서3\",근무!F88,IF(달력!$S$26=\"순서4\",근무!G88,IF(달력!$S$26=\"순서5\",근무!H88,IF(달력!$S$26=\"순서6\",근무!I88,\"\"))))))","v":"비번"},{"$f":"IF(달력!$S$27=\"순서1\",근무!D88,IF(달력!$S$27=\"순서2\",근무!E88,IF(달력!$S$27=\"순서3\",근무!F88,IF(달력!$S$27=\"순서4\",근무!G88,IF(달력!$S$27=\"순서5\",근무!H88,IF(달력!$S$27=\"순서6\",근무!I88,\"\"))))))","v":"비번"},{"$f":"IF(달력!$S$28=\"순서1\",근무!D88,IF(달력!$S$28=\"순서2\",근무!E88,IF(달력!$S$28=\"순서3\",근무!F88,IF(달력!$S$28=\"순서4\",근무!G88,IF(달력!$S$28=\"순서5\",근무!H88,IF(달력!$S$28=\"순서6\",근무!I88,\"\"))))))","v":"주간"},{"$f":"IF(달력!$S$29=\"순서1\",근무!D88,IF(달력!$S$29=\"순서2\",근무!E88,IF(달력!$S$29=\"순서3\",근무!F88,IF(달력!$S$29=\"순서4\",근무!G88,IF(달력!$S$29=\"순서5\",근무!H88,IF(달력!$S$29=\"순서6\",근무!I88,\"\"))))))","v":"주간"}]
[null,"2023-03-24","금",{"$f":"IF(달력!$S$24=\"순서1\",근무!D89,IF(달력!$S$24=\"순서2\",근무!E89,IF(달력!$S$24=\"순서3\",근무!F89,IF(달력!$S$24=\"순서4\",근무!G89,IF(달력!$S$24=\"순서5\",근무!H89,IF(달력!$S$24=\"순서6\",근무!I89,\"\"))))))","v":"비번"},{"$f":"IF(달력!$S$25=\"순서1\",근무!D89,IF(달력!$S$25=\"순서2\",근무!E89,IF(달력!$S$25=\"순서3\",근무!F89,IF(달력!$S$25=\"순서4\",근무!G89,IF(달력!$S$25=\"순서5\",근무!H89,IF(달력!$S$25=\"순서6\",근무!I89,\"\"))))))","v":"비번"},{"$f":"IF(달력!$S$26=\"순서1\",근무!D89,IF(달력!$S$26=\"순서2\",근무!E89,IF(달력!$S$26=\"순서3\",근무!F89,IF(달력!$S$26=\"순서4\",근무!G89,IF(달력!$S$26=\"순서5\",근무!H89,IF(달력!$S$26=\"순서6\",근무!I89,\"\"))))))","v":"주간"},{"$f":"IF(달력!$S$27=\"순서1\",근무!D89,IF(달력!$S$27=\"순서2\",근무!E89,IF(달력!$S$27=\"순서3\",근무!F89,IF(달력!$S$27=\"순서4\",근무!G89,IF(달력!$S$27=\"순서5\",근무!H89,IF(달력!$S$27=\"순서6\",근무!I89,\"\"))))))","v":"주간"},{"$f":"IF(달력!$S$28=\"순서1\",근무!D89,IF(달력!$S$28=\"순서2\",근무!E89,IF(달력!$S$28=\"순서3\",근무!F89,IF(달력!$S$28=\"순서4\",근무!G89,IF(달력!$S$28=\"순서5\",근무!H89,IF(달력!$S$28=\"순서6\",근무!I89,\"\"))))))","v":"야간"},{"$f":"IF(달력!$S$29=\"순서1\",근무!D89,IF(달력!$S$29=\"순서2\",근무!E89,IF(달력!$S$29=\"순서3\",근무!F89,IF(달력!$S$29=\"순서4\",근무!G89,IF(달력!$S$29=\"순서5\",근무!H89,IF(달력!$S$29=\"순서6\",근무!I89,\"\"))))))","v":"야간"}]
[null,"2023-03-25","토",{"$f":"IF(달력!$S$24=\"순서1\",근무!D90,IF(달력!$S$24=\"순서2\",근무!E90,IF(달력!$S$24=\"순서3\",근무!F90,IF(달력!$S$24=\"순서4\",근무!G90,IF(달력!$S$24=\"순서5\",근무!H90,IF(달력!$S$24=\"순서6\",근무!I90,\"\"))))))","v":"비번"},{"$f":"IF(달력!$S$25=\"순서1\",근무!D90,IF(달력!$S$25=\"순서2\",근무!E90,IF(달력!$S$25=\"순서3\",근무!F90,IF(달력!$S$25=\"순서4\",근무!G90,IF(달력!$S$25=\"순서5\",근무!H90,IF(달력!$S$25=\"순서6\",근무!I90,\"\"))))))","v":"비번"},{"$f":"IF(달력!$S$26=\"순서1\",근무!D90,IF(달력!$S$26=\"순서2\",근무!E90,IF(달력!$S$26=\"순서3\",근무!F90,IF(달력!$S$26=\"순서4\",근무!G90,IF(달력!$S$26=\"순서5\",근무!H90,IF(달력!$S$26=\"순서6\",근무!I90,\"\"))))))","v":"주간"},{"$f":"IF(달력!$S$27=\"순서1\",근무!D90,IF(달력!$S$27=\"순서2\",근무!E90,IF(달력!$S$27=\"순서3\",근무!F90,IF(달력!$S$27=\"순서4\",근무!G90,IF(달력!$S$27=\"순서5\",근무!H90,IF(달력!$S$27=\"순서6\",근무!I90,\"\"))))))","v":"주간"},{"$f":"IF(달력!$S$28=\"순서1\",근무!D90,IF(달력!$S$28=\"순서2\",근무!E90,IF(달력!$S$28=\"순서3\",근무!F90,IF(달력!$S$28=\"순서4\",근무!G90,IF(달력!$S$28=\"순서5\",근무!H90,IF(달력!$S$28=\"순서6\",근무!I90,\"\"))))))","v":"야간"},{"$f":"IF(달력!$S$29=\"순서1\",근무!D90,IF(달력!$S$29=\"순서2\",근무!E90,IF(달력!$S$29=\"순서3\",근무!F90,IF(달력!$S$29=\"순서4\",근무!G90,IF(달력!$S$29=\"순서5\",근무!H90,IF(달력!$S$29=\"순서6\",근무!I90,\"\"))))))","v":"야간"}]
[null,"2023-03-26","일",{"$f":"IF(달력!$S$24=\"순서1\",근무!D91,IF(달력!$S$24=\"순서2\",근무!E91,IF(달력!$S$24=\"순서3\",근무!F91,IF(달력!$S$24=\"순서4\",근무!G91,IF(달력!$S$24=\"순서5\",근무!H91,IF(달력!$S$24=\"순서6\",근무!I91,\"\"))))))","v":"주간"},{"$f":"IF(달력!$S$25=\"순서1\",근무!D91,IF(달력!$S$25=\"순서2\",근무!E91,IF(달력!$S$25=\"순서3\",근무!F91,IF(달력!$S$25=\"순서4\",근무!G91,IF(달력!$S$25=\"순서5\",근무!H91,IF(달력!$S$25=\"순서6\",근무!I91,\"\"))))))","v":"주간"},{"$f":"IF(달력!$S$26=\"순서1\",근무!D91,IF(달력!$S$26=\"순서2\",근무!E91,IF(달력!$S$26=\"순서3\",근무!F91,IF(달력!$S$26=\"순서4\",근무!G91,IF(달력!$S$26=\"순서5\",근무!H91,IF(달력!$S$26=\"순서6\",근무!I91,\"\"))))))","v":"야간"},{"$f":"IF(달력!$S$27=\"순서1\",근무!D91,IF(달력!$S$27=\"순서2\",근무!E91,IF(달력!$S$27=\"순서3\",근무!F91,IF(달력!$S$27=\"순서4\",근무!G91,IF(달력!$S$27=\"순서5\",근무!H91,IF(달력!$S$27=\"순서6\",근무!I91,\"\"))))))","v":"야간"},{"$f":"IF(달력!$S$28=\"순서1\",근무!D91,IF(달력!$S$28=\"순서2\",근무!E91,IF(달력!$S$28=\"순서3\",근무!F91,IF(달력!$S$28=\"순서4\",근무!G91,IF(달력!$S$28=\"순서5\",근무!H91,IF(달력!$S$28=\"순서6\",근무!I91,\"\"))))))","v":"비번"},{"$f":"IF(달력!$S$29=\"순서1\",근무!D91,IF(달력!$S$29=\"순서2\",근무!E91,IF(달력!$S$29=\"순서3\",근무!F91,IF(달력!$S$29=\"순서4\",근무!G91,IF(달력!$S$29=\"순서5\",근무!H91,IF(달력!$S$29=\"순서6\",근무!I91,\"\"))))))","v":"비번"}]
[null,"2023-03-27","월",{"$f":"IF(달력!$S$24=\"순서1\",근무!D92,IF(달력!$S$24=\"순서2\",근무!E92,IF(달력!$S$24=\"순서3\",근무!F92,IF(달력!$S$24=\"순서4\",근무!G92,IF(달력!$S$24=\"순서5\",근무!H92,IF(달력!$S$24=\"순서6\",근무!I92,\"\"))))))","v":"주간"},{"$f":"IF(달력!$S$25=\"순서1\",근무!D92,IF(달력!$S$25=\"순서2\",근무!E92,IF(달력!$S$25=\"순서3\",근무!F92,IF(달력!$S$25=\"순서4\",근무!G92,IF(달력!$S$25=\"순서5\",근무!H92,IF(달력!$S$25=\"순서6\",근무!I92,\"\"))))))","v":"주간"},{"$f":"IF(달력!$S$26=\"순서1\",근무!D92,IF(달력!$S$26=\"순서2\",근무!E92,IF(달력!$S$26=\"순서3\",근무!F92,IF(달력!$S$26=\"순서4\",근무!G92,IF(달력!$S$26=\"순서5\",근무!H92,IF(달력!$S$26=\"순서6\",근무!I92,\"\"))))))","v":"야간"},{"$f":"IF(달력!$S$27=\"순서1\",근무!D92,IF(달력!$S$27=\"순서2\",근무!E92,IF(달력!$S$27=\"순서3\",근무!F92,IF(달력!$S$27=\"순서4\",근무!G92,IF(달력!$S$27=\"순서5\",근무!H92,IF(달력!$S$27=\"순서6\",근무!I92,\"\"))))))","v":"야간"},{"$f":"IF(달력!$S$28=\"순서1\",근무!D92,IF(달력!$S$28=\"순서2\",근무!E92,IF(달력!$S$28=\"순서3\",근무!F92,IF(달력!$S$28=\"순서4\",근무!G92,IF(달력!$S$28=\"순서5\",근무!H92,IF(달력!$S$28=\"순서6\",근무!I92,\"\"))))))","v":"비번"},{"$f":"IF(달력!$S$29=\"순서1\",근무!D92,IF(달력!$S$29=\"순서2\",근무!E92,IF(달력!$S$29=\"순서3\",근무!F92,IF(달력!$S$29=\"순서4\",근무!G92,IF(달력!$S$29=\"순서5\",근무!H92,IF(달력!$S$29=\"순서6\",근무!I92,\"\"))))))","v":"비번"}]
[null,"2023-03-28","화",{"$f":"IF(달력!$S$24=\"순서1\",근무!D93,IF(달력!$S$24=\"순서2\",근무!E93,IF(달력!$S$24=\"순서3\",근무!F93,IF(달력!$S$24=\"순서4\",근무!G93,IF(달력!$S$24=\"순서5\",근무!H93,IF(달력!$S$24=\"순서6\",근무!I93,\"\"))))))","v":"야간"},{"$f":"IF(달력!$S$25=\"순서1\",근무!D93,IF(달력!$S$25=\"순서2\",근무!E93,IF(달력!$S$25=\"순서3\",근무!F93,IF(달력!$S$25=\"순서4\",근무!G93,IF(달력!$S$25=\"순서5\",근무!H93,IF(달력!$S$25=\"순서6\",근무!I93,\"\"))))))","v":"야간"},{"$f":"IF(달력!$S$26=\"순서1\",근무!D93,IF(달력!$S$26=\"순서2\",근무!E93,IF(달력!$S$26=\"순서3\",근무!F93,IF(달력!$S$26=\"순서4\",근무!G93,IF(달력!$S$26=\"순서5\",근무!H93,IF(달력!$S$26=\"순서6\",근무!I93,\"\"))))))","v":"비번"},{"$f":"IF(달력!$S$27=\"순서1\",근무!D93,IF(달력!$S$27=\"순서2\",근무!E93,IF(달력!$S$27=\"순서3\",근무!F93,IF(달력!$S$27=\"순서4\",근무!G93,IF(달력!$S$27=\"순서5\",근무!H93,IF(달력!$S$27=\"순서6\",근무!I93,\"\"))))))","v":"비번"},{"$f":"IF(달력!$S$28=\"순서1\",근무!D93,IF(달력!$S$28=\"순서2\",근무!E93,IF(달력!$S$28=\"순서3\",근무!F93,IF(달력!$S$28=\"순서4\",근무!G93,IF(달력!$S$28=\"순서5\",근무!H93,IF(달력!$S$28=\"순서6\",근무!I93,\"\"))))))","v":"주간"},{"$f":"IF(달력!$S$29=\"순서1\",근무!D93,IF(달력!$S$29=\"순서2\",근무!E93,IF(달력!$S$29=\"순서3\",근무!F93,IF(달력!$S$29=\"순서4\",근무!G93,IF(달력!$S$29=\"순서5\",근무!H93,IF(달력!$S$29=\"순서6\",근무!I93,\"\"))))))","v":"주간"}]
[null,"2023-03-29","수",{"$f":"IF(달력!$S$24=\"순서1\",근무!D94,IF(달력!$S$24=\"순서2\",근무!E94,IF(달력!$S$24=\"순서3\",근무!F94,IF(달력!$S$24=\"순서4\",근무!G94,IF(달력!$S$24=\"순서5\",근무!H94,IF(달력!$S$24=\"순서6\",근무!I94,\"\"))))))","v":"야간"},{"$f":"IF(달력!$S$25=\"순서1\",근무!D94,IF(달력!$S$25=\"순서2\",근무!E94,IF(달력!$S$25=\"순서3\",근무!F94,IF(달력!$S$25=\"순서4\",근무!G94,IF(달력!$S$25=\"순서5\",근무!H94,IF(달력!$S$25=\"순서6\",근무!I94,\"\"))))))","v":"야간"},{"$f":"IF(달력!$S$26=\"순서1\",근무!D94,IF(달력!$S$26=\"순서2\",근무!E94,IF(달력!$S$26=\"순서3\",근무!F94,IF(달력!$S$26=\"순서4\",근무!G94,IF(달력!$S$26=\"순서5\",근무!H94,IF(달력!$S$26=\"순서6\",근무!I94,\"\"))))))","v":"비번"},{"$f":"IF(달력!$S$27=\"순서1\",근무!D94,IF(달력!$S$27=\"순서2\",근무!E94,IF(달력!$S$27=\"순서3\",근무!F94,IF(달력!$S$27=\"순서4\",근무!G94,IF(달력!$S$27=\"순서5\",근무!H94,IF(달력!$S$27=\"순서6\",근무!I94,\"\"))))))","v":"비번"},{"$f":"IF(달력!$S$28=\"순서1\",근무!D94,IF(달력!$S$28=\"순서2\",근무!E94,IF(달력!$S$28=\"순서3\",근무!F94,IF(달력!$S$28=\"순서4\",근무!G94,IF(달력!$S$28=\"순서5\",근무!H94,IF(달력!$S$28=\"순서6\",근무!I94,\"\"))))))","v":"주간"},{"$f":"IF(달력!$S$29=\"순서1\",근무!D94,IF(달력!$S$29=\"순서2\",근무!E94,IF(달력!$S$29=\"순서3\",근무!F94,IF(달력!$S$29=\"순서4\",근무!G94,IF(달력!$S$29=\"순서5\",근무!H94,IF(달력!$S$29=\"순서6\",근무!I94,\"\"))))))","v":"주간"}]
[null,"2023-03-30","목",{"$f":"IF(달력!$S$24=\"순서1\",근무!D95,IF(달력!$S$24=\"순서2\",근무!E95,IF(달력!$S$24=\"순서3\",근무!F95,IF(달력!$S$24=\"순서4\",근무!G95,IF(달력!$S$24=\"순서5\",근무!H95,IF(달력!$S$24=\"순서6\",근무!I95,\"\"))))))","v":"비번"},{"$f":"IF(달력!$S$25=\"순서1\",근무!D95,IF(달력!$S$25=\"순서2\",근무!E95,IF(달력!$S$25=\"순서3\",근무!F95,IF(달력!$S$25=\"순서4\",근무!G95,IF(달력!$S$25=\"순서5\",근무!H95,IF(달력!$S$25=\"순서6\",근무!I95,\"\"))))))","v":"비번"},{"$f":"IF(달력!$S$26=\"순서1\",근무!D95,IF(달력!$S$26=\"순서2\",근무!E95,IF(달력!$S$26=\"순서3\",근무!F95,IF(달력!$S$26=\"순서4\",근무!G95,IF(달력!$S$26=\"순서5\",근무!H95,IF(달력!$S$26=\"순서6\",근무!I95,\"\"))))))","v":"주간"},{"$f":"IF(달력!$S$27=\"순서1\",근무!D95,IF(달력!$S$27=\"순서2\",근무!E95,IF(달력!$S$27=\"순서3\",근무!F95,IF(달력!$S$27=\"순서4\",근무!G95,IF(달력!$S$27=\"순서5\",근무!H95,IF(달력!$S$27=\"순서6\",근무!I95,\"\"))))))","v":"주간"},{"$f":"IF(달력!$S$28=\"순서1\",근무!D95,IF(달력!$S$28=\"순서2\",근무!E95,IF(달력!$S$28=\"순서3\",근무!F95,IF(달력!$S$28=\"순서4\",근무!G95,IF(달력!$S$28=\"순서5\",근무!H95,IF(달력!$S$28=\"순서6\",근무!I95,\"\"))))))","v":"야간"},{"$f":"IF(달력!$S$29=\"순서1\",근무!D95,IF(달력!$S$29=\"순서2\",근무!E95,IF(달력!$S$29=\"순서3\",근무!F95,IF(달력!$S$29=\"순서4\",근무!G95,IF(달력!$S$29=\"순서5\",근무!H95,IF(달력!$S$29=\"순서6\",근무!I95,\"\"))))))","v":"야간"}]
[null,"2023-03-31","금",{"$f":"IF(달력!$S$24=\"순서1\",근무!D96,IF(달력!$S$24=\"순서2\",근무!E96,IF(달력!$S$24=\"순서3\",근무!F96,IF(달력!$S$24=\"순서4\",근무!G96,IF(달력!$S$24=\"순서5\",근무!H96,IF(달력!$S$24=\"순서6\",근무!I96,\"\"))))))","v":"비번"},{"$f":"IF(달력!$S$25=\"순서1\",근무!D96,IF(달력!$S$25=\"순서2\",근무!E96,IF(달력!$S$25=\"순서3\",근무!F96,IF(달력!$S$25=\"순서4\",근무!G96,IF(달력!$S$25=\"순서5\",근무!H96,IF(달력!$S$25=\"순서6\",근무!I96,\"\"))))))","v":"비번"},{"$f":"IF(달력!$S$26=\"순서1\",근무!D96,IF(달력!$S$26=\"순서2\",근무!E96,IF(달력!$S$26=\"순서3\",근무!F96,IF(달력!$S$26=\"순서4\",근무!G96,IF(달력!$S$26=\"순서5\",근무!H96,IF(달력!$S$26=\"순서6\",근무!I96,\"\"))))))","v":"주간"},{"$f":"IF(달력!$S$27=\"순서1\",근무!D96,IF(달력!$S$27=\"순서2\",근무!E96,IF(달력!$S$27=\"순서3\",근무!F96,IF(달력!$S$27=\"순서4\",근무!G96,IF(달력!$S$27=\"순서5\",근무!H96,IF(달력!$S$27=\"순서6\",근무!I96,\"\"))))))","v":"주간"},{"$f":"IF(달력!$S$28=\"순서1\",근무!D96,IF(달력!$S$28=\"순서2\",근무!E96,IF(달력!$S$28=\"순서3\",근무!F96,IF(달력!$S$28=\"순서4\",근무!G96,IF(달력!$S$28=\"순서5\",근무!H96,IF(달력!$S$28=\"순서6\",근무!I96,\"\"))))))","v":"야간"},{"$f":"IF(달력!$S$29=\"순서1\",근무!D96,IF(달력!$S$29=\"순서2\",근무!E96,IF(달력!$S$29=\"순서3\",근무!F96,IF(달력!$S$29=\"순서4\",근무!G96,IF(달력!$S$29=\"순서5\",근무!H96,IF(달력!$S$29=\"순서6\",근무!I96,\"\"))))))","v":"야간"}]
[null,"2023-04-01","토",{"$f":"IF(달력!$S$24=\"순서1\",근무!D97,IF(달력!$S$24=\"순서2\",근무!E97,IF(달력!$S$24=\"순서3\",근무!F97,IF(달력!$S$24=\"순서4\",근무!G97,IF(달력!$S$24=\"순서5\",근무!H97,IF(달력!$S$24=\"순서6\",근무!I97,\"\"))))))","v":"주간"},{"$f":"IF(달력!$S$25=\"순서1\",근무!D97,IF(달력!$S$25=\"순서2\",근무!E97,IF(달력!$S$25=\"순서3\",근무!F97,IF(달력!$S$25=\"순서4\",근무!G97,IF(달력!$S$25=\"순서5\",근무!H97,IF(달력!$S$25=\"순서6\",근무!I97,\"\"))))))","v":"주간"},{"$f":"IF(달력!$S$26=\"순서1\",근무!D97,IF(달력!$S$26=\"순서2\",근무!E97,IF(달력!$S$26=\"순서3\",근무!F97,IF(달력!$S$26=\"순서4\",근무!G97,IF(달력!$S$26=\"순서5\",근무!H97,IF(달력!$S$26=\"순서6\",근무!I97,\"\"))))))","v":"야간"},{"$f":"IF(달력!$S$27=\"순서1\",근무!D97,IF(달력!$S$27=\"순서2\",근무!E97,IF(달력!$S$27=\"순서3\",근무!F97,IF(달력!$S$27=\"순서4\",근무!G97,IF(달력!$S$27=\"순서5\",근무!H97,IF(달력!$S$27=\"순서6\",근무!I97,\"\"))))))","v":"야간"},{"$f":"IF(달력!$S$28=\"순서1\",근무!D97,IF(달력!$S$28=\"순서2\",근무!E97,IF(달력!$S$28=\"순서3\",근무!F97,IF(달력!$S$28=\"순서4\",근무!G97,IF(달력!$S$28=\"순서5\",근무!H97,IF(달력!$S$28=\"순서6\",근무!I97,\"\"))))))","v":"비번"},{"$f":"IF(달력!$S$29=\"순서1\",근무!D97,IF(달력!$S$29=\"순서2\",근무!E97,IF(달력!$S$29=\"순서3\",근무!F97,IF(달력!$S$29=\"순서4\",근무!G97,IF(달력!$S$29=\"순서5\",근무!H97,IF(달력!$S$29=\"순서6\",근무!I97,\"\"))))))","v":"비번"}]
[null,"2023-04-02","일",{"$f":"IF(달력!$S$24=\"순서1\",근무!D98,IF(달력!$S$24=\"순서2\",근무!E98,IF(달력!$S$24=\"순서3\",근무!F98,IF(달력!$S$24=\"순서4\",근무!G98,IF(달력!$S$24=\"순서5\",근무!H98,IF(달력!$S$24=\"순서6\",근무!I98,\"\"))))))","v":"주간"},{"$f":"IF(달력!$S$25=\"순서1\",근무!D98,IF(달력!$S$25=\"순서2\",근무!E98,IF(달력!$S$25=\"순서3\",근무!F98,IF(달력!$S$25=\"순서4\",근무!G98,IF(달력!$S$25=\"순서5\",근무!H98,IF(달력!$S$25=\"순서6\",근무!I98,\"\"))))))","v":"주간"},{"$f":"IF(달력!$S$26=\"순서1\",근무!D98,IF(달력!$S$26=\"순서2\",근무!E98,IF(달력!$S$26=\"순서3\",근무!F98,IF(달력!$S$26=\"순서4\",근무!G98,IF(달력!$S$26=\"순서5\",근무!H98,IF(달력!$S$26=\"순서6\",근무!I98,\"\"))))))","v":"야간"},{"$f":"IF(달력!$S$27=\"순서1\",근무!D98,IF(달력!$S$27=\"순서2\",근무!E98,IF(달력!$S$27=\"순서3\",근무!F98,IF(달력!$S$27=\"순서4\",근무!G98,IF(달력!$S$27=\"순서5\",근무!H98,IF(달력!$S$27=\"순서6\",근무!I98,\"\"))))))","v":"야간"},{"$f":"IF(달력!$S$28=\"순서1\",근무!D98,IF(달력!$S$28=\"순서2\",근무!E98,IF(달력!$S$28=\"순서3\",근무!F98,IF(달력!$S$28=\"순서4\",근무!G98,IF(달력!$S$28=\"순서5\",근무!H98,IF(달력!$S$28=\"순서6\",근무!I98,\"\"))))))","v":"비번"},{"$f":"IF(달력!$S$29=\"순서1\",근무!D98,IF(달력!$S$29=\"순서2\",근무!E98,IF(달력!$S$29=\"순서3\",근무!F98,IF(달력!$S$29=\"순서4\",근무!G98,IF(달력!$S$29=\"순서5\",근무!H98,IF(달력!$S$29=\"순서6\",근무!I98,\"\"))))))","v":"비번"}]
[null,"2023-04-03","월",{"$f":"IF(달력!$S$24=\"순서1\",근무!D99,IF(달력!$S$24=\"순서2\",근무!E99,IF(달력!$S$24=\"순서3\",근무!F99,IF(달력!$S$24=\"순서4\",근무!G99,IF(달력!$S$24=\"순서5\",근무!H99,IF(달력!$S$24=\"순서6\",근무!I99,\"\"))))))","v":"야간"},{"$f":"IF(달력!$S$25=\"순서1\",근무!D99,IF(달력!$S$25=\"순서2\",근무!E99,IF(달력!$S$25=\"순서3\",근무!F99,IF(달력!$S$25=\"순서4\",근무!G99,IF(달력!$S$25=\"순서5\",근무!H99,IF(달력!$S$25=\"순서6\",근무!I99,\"\"))))))","v":"야간"},{"$f":"IF(달력!$S$26=\"순서1\",근무!D99,IF(달력!$S$26=\"순서2\",근무!E99,IF(달력!$S$26=\"순서3\",근무!F99,IF(달력!$S$26=\"순서4\",근무!G99,IF(달력!$S$26=\"순서5\",근무!H99,IF(달력!$S$26=\"순서6\",근무!I99,\"\"))))))","v":"비번"},{"$f":"IF(달력!$S$27=\"순서1\",근무!D99,IF(달력!$S$27=\"순서2\",근무!E99,IF(달력!$S$27=\"순서3\",근무!F99,IF(달력!$S$27=\"순서4\",근무!G99,IF(달력!$S$27=\"순서5\",근무!H99,IF(달력!$S$27=\"순서6\",근무!I99,\"\"))))))","v":"비번"},{"$f":"IF(달력!$S$28=\"순서1\",근무!D99,IF(달력!$S$28=\"순서2\",근무!E99,IF(달력!$S$28=\"순서3\",근무!F99,IF(달력!$S$28=\"순서4\",근무!G99,IF(달력!$S$28=\"순서5\",근무!H99,IF(달력!$S$28=\"순서6\",근무!I99,\"\"))))))","v":"주간"},{"$f":"IF(달력!$S$29=\"순서1\",근무!D99,IF(달력!$S$29=\"순서2\",근무!E99,IF(달력!$S$29=\"순서3\",근무!F99,IF(달력!$S$29=\"순서4\",근무!G99,IF(달력!$S$29=\"순서5\",근무!H99,IF(달력!$S$29=\"순서6\",근무!I99,\"\"))))))","v":"주간"}]
[null,"2023-04-04","화",{"$f":"IF(달력!$S$24=\"순서1\",근무!D100,IF(달력!$S$24=\"순서2\",근무!E100,IF(달력!$S$24=\"순서3\",근무!F100,IF(달력!$S$24=\"순서4\",근무!G100,IF(달력!$S$24=\"순서5\",근무!H100,IF(달력!$S$24=\"순서6\",근무!I100,\"\"))))))","v":"야간"},{"$f":"IF(달력!$S$25=\"순서1\",근무!D100,IF(달력!$S$25=\"순서2\",근무!E100,IF(달력!$S$25=\"순서3\",근무!F100,IF(달력!$S$25=\"순서4\",근무!G100,IF(달력!$S$25=\"순서5\",근무!H100,IF(달력!$S$25=\"순서6\",근무!I100,\"\"))))))","v":"야간"},{"$f":"IF(달력!$S$26=\"순서1\",근무!D100,IF(달력!$S$26=\"순서2\",근무!E100,IF(달력!$S$26=\"순서3\",근무!F100,IF(달력!$S$26=\"순서4\",근무!G100,IF(달력!$S$26=\"순서5\",근무!H100,IF(달력!$S$26=\"순서6\",근무!I100,\"\"))))))","v":"비번"},{"$f":"IF(달력!$S$27=\"순서1\",근무!D100,IF(달력!$S$27=\"순서2\",근무!E100,IF(달력!$S$27=\"순서3\",근무!F100,IF(달력!$S$27=\"순서4\",근무!G100,IF(달력!$S$27=\"순서5\",근무!H100,IF(달력!$S$27=\"순서6\",근무!I100,\"\"))))))","v":"비번"},{"$f":"IF(달력!$S$28=\"순서1\",근무!D100,IF(달력!$S$28=\"순서2\",근무!E100,IF(달력!$S$28=\"순서3\",근무!F100,IF(달력!$S$28=\"순서4\",근무!G100,IF(달력!$S$28=\"순서5\",근무!H100,IF(달력!$S$28=\"순서6\",근무!I100,\"\"))))))","v":"주간"},{"$f":"IF(달력!$S$29=\"순서1\",근무!D100,IF(달력!$S$29=\"순서2\",근무!E100,IF(달력!$S$29=\"순서3\",근무!F100,IF(달력!$S$29=\"순서4\",근무!G100,IF(달력!$S$29=\"순서5\",근무!H100,IF(달력!$S$29=\"순서6\",근무!I100,\"\"))))))","v":"주간"}]
[null,"2023-04-05","수",{"$f":"IF(달력!$S$24=\"순서1\",근무!D101,IF(달력!$S$24=\"순서2\",근무!E101,IF(달력!$S$24=\"순서3\",근무!F101,IF(달력!$S$24=\"순서4\",근무!G101,IF(달력!$S$24=\"순서5\",근무!H101,IF(달력!$S$24=\"순서6\",근무!I101,\"\"))))))","v":"비번"},{"$f":"IF(달력!$S$25=\"순서1\",근무!D101,IF(달력!$S$25=\"순서2\",근무!E101,IF(달력!$S$25=\"순서3\",근무!F101,IF(달력!$S$25=\"순서4\",근무!G101,IF(달력!$S$25=\"순서5\",근무!H101,IF(달력!$S$25=\"순서6\",근무!I101,\"\"))))))","v":"비번"},{"$f":"IF(달력!$S$26=\"순서1\",근무!D101,IF(달력!$S$26=\"순서2\",근무!E101,IF(달력!$S$26=\"순서3\",근무!F101,IF(달력!$S$26=\"순서4\",근무!G101,IF(달력!$S$26=\"순서5\",근무!H101,IF(달력!$S$26=\"순서6\",근무!I101,\"\"))))))","v":"주간"},{"$f":"IF(달력!$S$27=\"순서1\",근무!D101,IF(달력!$S$27=\"순서2\",근무!E101,IF(달력!$S$27=\"순서3\",근무!F101,IF(달력!$S$27=\"순서4\",근무!G101,IF(달력!$S$27=\"순서5\",근무!H101,IF(달력!$S$27=\"순서6\",근무!I101,\"\"))))))","v":"주간"},{"$f":"IF(달력!$S$28=\"순서1\",근무!D101,IF(달력!$S$28=\"순서2\",근무!E101,IF(달력!$S$28=\"순서3\",근무!F101,IF(달력!$S$28=\"순서4\",근무!G101,IF(달력!$S$28=\"순서5\",근무!H101,IF(달력!$S$28=\"순서6\",근무!I101,\"\"))))))","v":"야간"},{"$f":"IF(달력!$S$29=\"순서1\",근무!D101,IF(달력!$S$29=\"순서2\",근무!E101,IF(달력!$S$29=\"순서3\",근무!F101,IF(달력!$S$29=\"순서4\",근무!G101,IF(달력!$S$29=\"순서5\",근무!H101,IF(달력!$S$29=\"순서6\",근무!I101,\"\"))))))","v":"야간"}]
[null,"2023-04-06","목",{"$f":"IF(달력!$S$24=\"순서1\",근무!D102,IF(달력!$S$24=\"순서2\",근무!E102,IF(달력!$S$24=\"순서3\",근무!F102,IF(달력!$S$24=\"순서4\",근무!G102,IF(달력!$S$24=\"순서5\",근무!H102,IF(달력!$S$24=\"순서6\",근무!I102,\"\"))))))","v":"비번"},{"$f":"IF(달력!$S$25=\"순서1\",근무!D102,IF(달력!$S$25=\"순서2\",근무!E102,IF(달력!$S$25=\"순서3\",근무!F102,IF(달력!$S$25=\"순서4\",근무!G102,IF(달력!$S$25=\"순서5\",근무!H102,IF(달력!$S$25=\"순서6\",근무!I102,\"\"))))))","v":"비번"},{"$f":"IF(달력!$S$26=\"순서1\",근무!D102,IF(달력!$S$26=\"순서2\",근무!E102,IF(달력!$S$26=\"순서3\",근무!F102,IF(달력!$S$26=\"순서4\",근무!G102,IF(달력!$S$26=\"순서5\",근무!H102,IF(달력!$S$26=\"순서6\",근무!I102,\"\"))))))","v":"주간"},{"$f":"IF(달력!$S$27=\"순서1\",근무!D102,IF(달력!$S$27=\"순서2\",근무!E102,IF(달력!$S$27=\"순서3\",근무!F102,IF(달력!$S$27=\"순서4\",근무!G102,IF(달력!$S$27=\"순서5\",근무!H102,IF(달력!$S$27=\"순서6\",근무!I102,\"\"))))))","v":"주간"},{"$f":"IF(달력!$S$28=\"순서1\",근무!D102,IF(달력!$S$28=\"순서2\",근무!E102,IF(달력!$S$28=\"순서3\",근무!F102,IF(달력!$S$28=\"순서4\",근무!G102,IF(달력!$S$28=\"순서5\",근무!H102,IF(달력!$S$28=\"순서6\",근무!I102,\"\"))))))","v":"야간"},{"$f":"IF(달력!$S$29=\"순서1\",근무!D102,IF(달력!$S$29=\"순서2\",근무!E102,IF(달력!$S$29=\"순서3\",근무!F102,IF(달력!$S$29=\"순서4\",근무!G102,IF(달력!$S$29=\"순서5\",근무!H102,IF(달력!$S$29=\"순서6\",근무!I102,\"\"))))))","v":"야간"}]
[null,"2023-04-07","금",{"$f":"IF(달력!$S$24=\"순서1\",근무!D103,IF(달력!$S$24=\"순서2\",근무!E103,IF(달력!$S$24=\"순서3\",근무!F103,IF(달력!$S$24=\"순서4\",근무!G103,IF(달력!$S$24=\"순서5\",근무!H103,IF(달력!$S$24=\"순서6\",근무!I103,\"\"))))))","v":"주간"},{"$f":"IF(달력!$S$25=\"순서1\",근무!D103,IF(달력!$S$25=\"순서2\",근무!E103,IF(달력!$S$25=\"순서3\",근무!F103,IF(달력!$S$25=\"순서4\",근무!G103,IF(달력!$S$25=\"순서5\",근무!H103,IF(달력!$S$25=\"순서6\",근무!I103,\"\"))))))","v":"주간"},{"$f":"IF(달력!$S$26=\"순서1\",근무!D103,IF(달력!$S$26=\"순서2\",근무!E103,IF(달력!$S$26=\"순서3\",근무!F103,IF(달력!$S$26=\"순서4\",근무!G103,IF(달력!$S$26=\"순서5\",근무!H103,IF(달력!$S$26=\"순서6\",근무!I103,\"\"))))))","v":"야간"},{"$f":"IF(달력!$S$27=\"순서1\",근무!D103,IF(달력!$S$27=\"순서2\",근무!E103,IF(달력!$S$27=\"순서3\",근무!F103,IF(달력!$S$27=\"순서4\",근무!G103,IF(달력!$S$27=\"순서5\",근무!H103,IF(달력!$S$27=\"순서6\",근무!I103,\"\"))))))","v":"야간"},{"$f":"IF(달력!$S$28=\"순서1\",근무!D103,IF(달력!$S$28=\"순서2\",근무!E103,IF(달력!$S$28=\"순서3\",근무!F103,IF(달력!$S$28=\"순서4\",근무!G103,IF(달력!$S$28=\"순서5\",근무!H103,IF(달력!$S$28=\"순서6\",근무!I103,\"\"))))))","v":"비번"},{"$f":"IF(달력!$S$29=\"순서1\",근무!D103,IF(달력!$S$29=\"순서2\",근무!E103,IF(달력!$S$29=\"순서3\",근무!F103,IF(달력!$S$29=\"순서4\",근무!G103,IF(달력!$S$29=\"순서5\",근무!H103,IF(달력!$S$29=\"순서6\",근무!I103,\"\"))))))","v":"비번"}]
[null,"2023-04-08","토",{"$f":"IF(달력!$S$24=\"순서1\",근무!D104,IF(달력!$S$24=\"순서2\",근무!E104,IF(달력!$S$24=\"순서3\",근무!F104,IF(달력!$S$24=\"순서4\",근무!G104,IF(달력!$S$24=\"순서5\",근무!H104,IF(달력!$S$24=\"순서6\",근무!I104,\"\"))))))","v":"주간"},{"$f":"IF(달력!$S$25=\"순서1\",근무!D104,IF(달력!$S$25=\"순서2\",근무!E104,IF(달력!$S$25=\"순서3\",근무!F104,IF(달력!$S$25=\"순서4\",근무!G104,IF(달력!$S$25=\"순서5\",근무!H104,IF(달력!$S$25=\"순서6\",근무!I104,\"\"))))))","v":"주간"},{"$f":"IF(달력!$S$26=\"순서1\",근무!D104,IF(달력!$S$26=\"순서2\",근무!E104,IF(달력!$S$26=\"순서3\",근무!F104,IF(달력!$S$26=\"순서4\",근무!G104,IF(달력!$S$26=\"순서5\",근무!H104,IF(달력!$S$26=\"순서6\",근무!I104,\"\"))))))","v":"야간"},{"$f":"IF(달력!$S$27=\"순서1\",근무!D104,IF(달력!$S$27=\"순서2\",근무!E104,IF(달력!$S$27=\"순서3\",근무!F104,IF(달력!$S$27=\"순서4\",근무!G104,IF(달력!$S$27=\"순서5\",근무!H104,IF(달력!$S$27=\"순서6\",근무!I104,\"\"))))))","v":"야간"},{"$f":"IF(달력!$S$28=\"순서1\",근무!D104,IF(달력!$S$28=\"순서2\",근무!E104,IF(달력!$S$28=\"순서3\",근무!F104,IF(달력!$S$28=\"순서4\",근무!G104,IF(달력!$S$28=\"순서5\",근무!H104,IF(달력!$S$28=\"순서6\",근무!I104,\"\"))))))","v":"비번"},{"$f":"IF(달력!$S$29=\"순서1\",근무!D104,IF(달력!$S$29=\"순서2\",근무!E104,IF(달력!$S$29=\"순서3\",근무!F104,IF(달력!$S$29=\"순서4\",근무!G104,IF(달력!$S$29=\"순서5\",근무!H104,IF(달력!$S$29=\"순서6\",근무!I104,\"\"))))))","v":"비번"}]
[null,"2023-04-09","일",{"$f":"IF(달력!$S$24=\"순서1\",근무!D105,IF(달력!$S$24=\"순서2\",근무!E105,IF(달력!$S$24=\"순서3\",근무!F105,IF(달력!$S$24=\"순서4\",근무!G105,IF(달력!$S$24=\"순서5\",근무!H105,IF(달력!$S$24=\"순서6\",근무!I105,\"\"))))))","v":"야간"},{"$f":"IF(달력!$S$25=\"순서1\",근무!D105,IF(달력!$S$25=\"순서2\",근무!E105,IF(달력!$S$25=\"순서3\",근무!F105,IF(달력!$S$25=\"순서4\",근무!G105,IF(달력!$S$25=\"순서5\",근무!H105,IF(달력!$S$25=\"순서6\",근무!I105,\"\"))))))","v":"야간"},{"$f":"IF(달력!$S$26=\"순서1\",근무!D105,IF(달력!$S$26=\"순서2\",근무!E105,IF(달력!$S$26=\"순서3\",근무!F105,IF(달력!$S$26=\"순서4\",근무!G105,IF(달력!$S$26=\"순서5\",근무!H105,IF(달력!$S$26=\"순서6\",근무!I105,\"\"))))))","v":"비번"},{"$f":"IF(달력!$S$27=\"순서1\",근무!D105,IF(달력!$S$27=\"순서2\",근무!E105,IF(달력!$S$27=\"순서3\",근무!F105,IF(달력!$S$27=\"순서4\",근무!G105,IF(달력!$S$27=\"순서5\",근무!H105,IF(달력!$S$27=\"순서6\",근무!I105,\"\"))))))","v":"비번"},{"$f":"IF(달력!$S$28=\"순서1\",근무!D105,IF(달력!$S$28=\"순서2\",근무!E105,IF(달력!$S$28=\"순서3\",근무!F105,IF(달력!$S$28=\"순서4\",근무!G105,IF(달력!$S$28=\"순서5\",근무!H105,IF(달력!$S$28=\"순서6\",근무!I105,\"\"))))))","v":"주간"},{"$f":"IF(달력!$S$29=\"순서1\",근무!D105,IF(달력!$S$29=\"순서2\",근무!E105,IF(달력!$S$29=\"순서3\",근무!F105,IF(달력!$S$29=\"순서4\",근무!G105,IF(달력!$S$29=\"순서5\",근무!H105,IF(달력!$S$29=\"순서6\",근무!I105,\"\"))))))","v":"주간"}]
[null,"2023-04-10","월",{"$f":"IF(달력!$S$24=\"순서1\",근무!D106,IF(달력!$S$24=\"순서2\",근무!E106,IF(달력!$S$24=\"순서3\",근무!F106,IF(달력!$S$24=\"순서4\",근무!G106,IF(달력!$S$24=\"순서5\",근무!H106,IF(달력!$S$24=\"순서6\",근무!I106,\"\"))))))","v":"야간"},{"$f":"IF(달력!$S$25=\"순서1\",근무!D106,IF(달력!$S$25=\"순서2\",근무!E106,IF(달력!$S$25=\"순서3\",근무!F106,IF(달력!$S$25=\"순서4\",근무!G106,IF(달력!$S$25=\"순서5\",근무!H106,IF(달력!$S$25=\"순서6\",근무!I106,\"\"))))))","v":"야간"},{"$f":"IF(달력!$S$26=\"순서1\",근무!D106,IF(달력!$S$26=\"순서2\",근무!E106,IF(달력!$S$26=\"순서3\",근무!F106,IF(달력!$S$26=\"순서4\",근무!G106,IF(달력!$S$26=\"순서5\",근무!H106,IF(달력!$S$26=\"순서6\",근무!I106,\"\"))))))","v":"비번"},{"$f":"IF(달력!$S$27=\"순서1\",근무!D106,IF(달력!$S$27=\"순서2\",근무!E106,IF(달력!$S$27=\"순서3\",근무!F106,IF(달력!$S$27=\"순서4\",근무!G106,IF(달력!$S$27=\"순서5\",근무!H106,IF(달력!$S$27=\"순서6\",근무!I106,\"\"))))))","v":"비번"},{"$f":"IF(달력!$S$28=\"순서1\",근무!D106,IF(달력!$S$28=\"순서2\",근무!E106,IF(달력!$S$28=\"순서3\",근무!F106,IF(달력!$S$28=\"순서4\",근무!G106,IF(달력!$S$28=\"순서5\",근무!H106,IF(달력!$S$28=\"순서6\",근무!I106,\"\"))))))","v":"주간"},{"$f":"IF(달력!$S$29=\"순서1\",근무!D106,IF(달력!$S$29=\"순서2\",근무!E106,IF(달력!$S$29=\"순서3\",근무!F106,IF(달력!$S$29=\"순서4\",근무!G106,IF(달력!$S$29=\"순서5\",근무!H106,IF(달력!$S$29=\"순서6\",근무!I106,\"\"))))))","v":"주간"}]
[null,"2023-04-11","화",{"$f":"IF(달력!$S$24=\"순서1\",근무!D107,IF(달력!$S$24=\"순서2\",근무!E107,IF(달력!$S$24=\"순서3\",근무!F107,IF(달력!$S$24=\"순서4\",근무!G107,IF(달력!$S$24=\"순서5\",근무!H107,IF(달력!$S$24=\"순서6\",근무!I107,\"\"))))))","v":"비번"},{"$f":"IF(달력!$S$25=\"순서1\",근무!D107,IF(달력!$S$25=\"순서2\",근무!E107,IF(달력!$S$25=\"순서3\",근무!F107,IF(달력!$S$25=\"순서4\",근무!G107,IF(달력!$S$25=\"순서5\",근무!H107,IF(달력!$S$25=\"순서6\",근무!I107,\"\"))))))","v":"비번"},{"$f":"IF(달력!$S$26=\"순서1\",근무!D107,IF(달력!$S$26=\"순서2\",근무!E107,IF(달력!$S$26=\"순서3\",근무!F107,IF(달력!$S$26=\"순서4\",근무!G107,IF(달력!$S$26=\"순서5\",근무!H107,IF(달력!$S$26=\"순서6\",근무!I107,\"\"))))))","v":"주간"},{"$f":"IF(달력!$S$27=\"순서1\",근무!D107,IF(달력!$S$27=\"순서2\",근무!E107,IF(달력!$S$27=\"순서3\",근무!F107,IF(달력!$S$27=\"순서4\",근무!G107,IF(달력!$S$27=\"순서5\",근무!H107,IF(달력!$S$27=\"순서6\",근무!I107,\"\"))))))","v":"주간"},{"$f":"IF(달력!$S$28=\"순서1\",근무!D107,IF(달력!$S$28=\"순서2\",근무!E107,IF(달력!$S$28=\"순서3\",근무!F107,IF(달력!$S$28=\"순서4\",근무!G107,IF(달력!$S$28=\"순서5\",근무!H107,IF(달력!$S$28=\"순서6\",근무!I107,\"\"))))))","v":"야간"},{"$f":"IF(달력!$S$29=\"순서1\",근무!D107,IF(달력!$S$29=\"순서2\",근무!E107,IF(달력!$S$29=\"순서3\",근무!F107,IF(달력!$S$29=\"순서4\",근무!G107,IF(달력!$S$29=\"순서5\",근무!H107,IF(달력!$S$29=\"순서6\",근무!I107,\"\"))))))","v":"야간"}]
[null,"2023-04-12","수",{"$f":"IF(달력!$S$24=\"순서1\",근무!D108,IF(달력!$S$24=\"순서2\",근무!E108,IF(달력!$S$24=\"순서3\",근무!F108,IF(달력!$S$24=\"순서4\",근무!G108,IF(달력!$S$24=\"순서5\",근무!H108,IF(달력!$S$24=\"순서6\",근무!I108,\"\"))))))","v":"비번"},{"$f":"IF(달력!$S$25=\"순서1\",근무!D108,IF(달력!$S$25=\"순서2\",근무!E108,IF(달력!$S$25=\"순서3\",근무!F108,IF(달력!$S$25=\"순서4\",근무!G108,IF(달력!$S$25=\"순서5\",근무!H108,IF(달력!$S$25=\"순서6\",근무!I108,\"\"))))))","v":"비번"},{"$f":"IF(달력!$S$26=\"순서1\",근무!D108,IF(달력!$S$26=\"순서2\",근무!E108,IF(달력!$S$26=\"순서3\",근무!F108,IF(달력!$S$26=\"순서4\",근무!G108,IF(달력!$S$26=\"순서5\",근무!H108,IF(달력!$S$26=\"순서6\",근무!I108,\"\"))))))","v":"주간"},{"$f":"IF(달력!$S$27=\"순서1\",근무!D108,IF(달력!$S$27=\"순서2\",근무!E108,IF(달력!$S$27=\"순서3\",근무!F108,IF(달력!$S$27=\"순서4\",근무!G108,IF(달력!$S$27=\"순서5\",근무!H108,IF(달력!$S$27=\"순서6\",근무!I108,\"\"))))))","v":"주간"},{"$f":"IF(달력!$S$28=\"순서1\",근무!D108,IF(달력!$S$28=\"순서2\",근무!E108,IF(달력!$S$28=\"순서3\",근무!F108,IF(달력!$S$28=\"순서4\",근무!G108,IF(달력!$S$28=\"순서5\",근무!H108,IF(달력!$S$28=\"순서6\",근무!I108,\"\"))))))","v":"야간"},{"$f":"IF(달력!$S$29=\"순서1\",근무!D108,IF(달력!$S$29=\"순서2\",근무!E108,IF(달력!$S$29=\"순서3\",근무!F108,IF(달력!$S$29=\"순서4\",근무!G108,IF(달력!$S$29=\"순서5\",근무!H108,IF(달력!$S$29=\"순서6\",근무!I108,\"\"))))))","v":"야간"}]
[null,"2023-04-13","목",{"$f":"IF(달력!$S$24=\"순서1\",근무!D109,IF(달력!$S$24=\"순서2\",근무!E109,IF(달력!$S$24=\"순서3\",근무!F109,IF(달력!$S$24=\"순서4\",근무!G109,IF(달력!$S$24=\"순서5\",근무!H109,IF(달력!$S$24=\"순서6\",근무!I109,\"\"))))))","v":"주간"},{"$f":"IF(달력!$S$25=\"순서1\",근무!D109,IF(달력!$S$25=\"순서2\",근무!E109,IF(달력!$S$25=\"순서3\",근무!F109,IF(달력!$S$25=\"순서4\",근무!G109,IF(달력!$S$25=\"순서5\",근무!H109,IF(달력!$S$25=\"순서6\",근무!I109,\"\"))))))","v":"주간"},{"$f":"IF(달력!$S$26=\"순서1\",근무!D109,IF(달력!$S$26=\"순서2\",근무!E109,IF(달력!$S$26=\"순서3\",근무!F109,IF(달력!$S$26=\"순서4\",근무!G109,IF(달력!$S$26=\"순서5\",근무!H109,IF(달력!$S$26=\"순서6\",근무!I109,\"\"))))))","v":"야간"},{"$f":"IF(달력!$S$27=\"순서1\",근무!D109,IF(달력!$S$27=\"순서2\",근무!E109,IF(달력!$S$27=\"순서3\",근무!F109,IF(달력!$S$27=\"순서4\",근무!G109,IF(달력!$S$27=\"순서5\",근무!H109,IF(달력!$S$27=\"순서6\",근무!I109,\"\"))))))","v":"야간"},{"$f":"IF(달력!$S$28=\"순서1\",근무!D109,IF(달력!$S$28=\"순서2\",근무!E109,IF(달력!$S$28=\"순서3\",근무!F109,IF(달력!$S$28=\"순서4\",근무!G109,IF(달력!$S$28=\"순서5\",근무!H109,IF(달력!$S$28=\"순서6\",근무!I109,\"\"))))))","v":"비번"},{"$f":"IF(달력!$S$29=\"순서1\",근무!D109,IF(달력!$S$29=\"순서2\",근무!E109,IF(달력!$S$29=\"순서3\",근무!F109,IF(달력!$S$29=\"순서4\",근무!G109,IF(달력!$S$29=\"순서5\",근무!H109,IF(달력!$S$29=\"순서6\",근무!I109,\"\"))))))","v":"비번"}]
[null,"2023-04-14","금",{"$f":"IF(달력!$S$24=\"순서1\",근무!D110,IF(달력!$S$24=\"순서2\",근무!E110,IF(달력!$S$24=\"순서3\",근무!F110,IF(달력!$S$24=\"순서4\",근무!G110,IF(달력!$S$24=\"순서5\",근무!H110,IF(달력!$S$24=\"순서6\",근무!I110,\"\"))))))","v":"주간"},{"$f":"IF(달력!$S$25=\"순서1\",근무!D110,IF(달력!$S$25=\"순서2\",근무!E110,IF(달력!$S$25=\"순서3\",근무!F110,IF(달력!$S$25=\"순서4\",근무!G110,IF(달력!$S$25=\"순서5\",근무!H110,IF(달력!$S$25=\"순서6\",근무!I110,\"\"))))))","v":"주간"},{"$f":"IF(달력!$S$26=\"순서1\",근무!D110,IF(달력!$S$26=\"순서2\",근무!E110,IF(달력!$S$26=\"순서3\",근무!F110,IF(달력!$S$26=\"순서4\",근무!G110,IF(달력!$S$26=\"순서5\",근무!H110,IF(달력!$S$26=\"순서6\",근무!I110,\"\"))))))","v":"야간"},{"$f":"IF(달력!$S$27=\"순서1\",근무!D110,IF(달력!$S$27=\"순서2\",근무!E110,IF(달력!$S$27=\"순서3\",근무!F110,IF(달력!$S$27=\"순서4\",근무!G110,IF(달력!$S$27=\"순서5\",근무!H110,IF(달력!$S$27=\"순서6\",근무!I110,\"\"))))))","v":"야간"},{"$f":"IF(달력!$S$28=\"순서1\",근무!D110,IF(달력!$S$28=\"순서2\",근무!E110,IF(달력!$S$28=\"순서3\",근무!F110,IF(달력!$S$28=\"순서4\",근무!G110,IF(달력!$S$28=\"순서5\",근무!H110,IF(달력!$S$28=\"순서6\",근무!I110,\"\"))))))","v":"비번"},{"$f":"IF(달력!$S$29=\"순서1\",근무!D110,IF(달력!$S$29=\"순서2\",근무!E110,IF(달력!$S$29=\"순서3\",근무!F110,IF(달력!$S$29=\"순서4\",근무!G110,IF(달력!$S$29=\"순서5\",근무!H110,IF(달력!$S$29=\"순서6\",근무!I110,\"\"))))))","v":"비번"}]
[null,"2023-04-15","토",{"$f":"IF(달력!$S$24=\"순서1\",근무!D111,IF(달력!$S$24=\"순서2\",근무!E111,IF(달력!$S$24=\"순서3\",근무!F111,IF(달력!$S$24=\"순서4\",근무!G111,IF(달력!$S$24=\"순서5\",근무!H111,IF(달력!$S$24=\"순서6\",근무!I111,\"\"))))))","v":"야간"},{"$f":"IF(달력!$S$25=\"순서1\",근무!D111,IF(달력!$S$25=\"순서2\",근무!E111,IF(달력!$S$25=\"순서3\",근무!F111,IF(달력!$S$25=\"순서4\",근무!G111,IF(달력!$S$25=\"순서5\",근무!H111,IF(달력!$S$25=\"순서6\",근무!I111,\"\"))))))","v":"야간"},{"$f":"IF(달력!$S$26=\"순서1\",근무!D111,IF(달력!$S$26=\"순서2\",근무!E111,IF(달력!$S$26=\"순서3\",근무!F111,IF(달력!$S$26=\"순서4\",근무!G111,IF(달력!$S$26=\"순서5\",근무!H111,IF(달력!$S$26=\"순서6\",근무!I111,\"\"))))))","v":"비번"},{"$f":"IF(달력!$S$27=\"순서1\",근무!D111,IF(달력!$S$27=\"순서2\",근무!E111,IF(달력!$S$27=\"순서3\",근무!F111,IF(달력!$S$27=\"순서4\",근무!G111,IF(달력!$S$27=\"순서5\",근무!H111,IF(달력!$S$27=\"순서6\",근무!I111,\"\"))))))","v":"비번"},{"$f":"IF(달력!$S$28=\"순서1\",근무!D111,IF(달력!$S$28=\"순서2\",근무!E111,IF(달력!$S$28=\"순서3\",근무!F111,IF(달력!$S$28=\"순서4\",근무!G111,IF(달력!$S$28=\"순서5\",근무!H111,IF(달력!$S$28=\"순서6\",근무!I111,\"\"))))))","v":"주간"},{"$f":"IF(달력!$S$29=\"순서1\",근무!D111,IF(달력!$S$29=\"순서2\",근무!E111,IF(달력!$S$29=\"순서3\",근무!F111,IF(달력!$S$29=\"순서4\",근무!G111,IF(달력!$S$29=\"순서5\",근무!H111,IF(달력!$S$29=\"순서6\",근무!I111,\"\"))))))","v":"주간"}]
[null,"2023-04-16","일",{"$f":"IF(달력!$S$24=\"순서1\",근무!D112,IF(달력!$S$24=\"순서2\",근무!E112,IF(달력!$S$24=\"순서3\",근무!F112,IF(달력!$S$24=\"순서4\",근무!G112,IF(달력!$S$24=\"순서5\",근무!H112,IF(달력!$S$24=\"순서6\",근무!I112,\"\"))))))","v":"야간"},{"$f":"IF(달력!$S$25=\"순서1\",근무!D112,IF(달력!$S$25=\"순서2\",근무!E112,IF(달력!$S$25=\"순서3\",근무!F112,IF(달력!$S$25=\"순서4\",근무!G112,IF(달력!$S$25=\"순서5\",근무!H112,IF(달력!$S$25=\"순서6\",근무!I112,\"\"))))))","v":"야간"},{"$f":"IF(달력!$S$26=\"순서1\",근무!D112,IF(달력!$S$26=\"순서2\",근무!E112,IF(달력!$S$26=\"순서3\",근무!F112,IF(달력!$S$26=\"순서4\",근무!G112,IF(달력!$S$26=\"순서5\",근무!H112,IF(달력!$S$26=\"순서6\",근무!I112,\"\"))))))","v":"비번"},{"$f":"IF(달력!$S$27=\"순서1\",근무!D112,IF(달력!$S$27=\"순서2\",근무!E112,IF(달력!$S$27=\"순서3\",근무!F112,IF(달력!$S$27=\"순서4\",근무!G112,IF(달력!$S$27=\"순서5\",근무!H112,IF(달력!$S$27=\"순서6\",근무!I112,\"\"))))))","v":"비번"},{"$f":"IF(달력!$S$28=\"순서1\",근무!D112,IF(달력!$S$28=\"순서2\",근무!E112,IF(달력!$S$28=\"순서3\",근무!F112,IF(달력!$S$28=\"순서4\",근무!G112,IF(달력!$S$28=\"순서5\",근무!H112,IF(달력!$S$28=\"순서6\",근무!I112,\"\"))))))","v":"주간"},{"$f":"IF(달력!$S$29=\"순서1\",근무!D112,IF(달력!$S$29=\"순서2\",근무!E112,IF(달력!$S$29=\"순서3\",근무!F112,IF(달력!$S$29=\"순서4\",근무!G112,IF(달력!$S$29=\"순서5\",근무!H112,IF(달력!$S$29=\"순서6\",근무!I112,\"\"))))))","v":"주간"}]
[null,"2023-04-17","월",{"$f":"IF(달력!$S$24=\"순서1\",근무!D113,IF(달력!$S$24=\"순서2\",근무!E113,IF(달력!$S$24=\"순서3\",근무!F113,IF(달력!$S$24=\"순서4\",근무!G113,IF(달력!$S$24=\"순서5\",근무!H113,IF(달력!$S$24=\"순서6\",근무!I113,\"\"))))))","v":"비번"},{"$f":"IF(달력!$S$25=\"순서1\",근무!D113,IF(달력!$S$25=\"순서2\",근무!E113,IF(달력!$S$25=\"순서3\",근무!F113,IF(달력!$S$25=\"순서4\",근무!G113,IF(달력!$S$25=\"순서5\",근무!H113,IF(달력!$S$25=\"순서6\",근무!I113,\"\"))))))","v":"비번"},{"$f":"IF(달력!$S$26=\"순서1\",근무!D113,IF(달력!$S$26=\"순서2\",근무!E113,IF(달력!$S$26=\"순서3\",근무!F113,IF(달력!$S$26=\"순서4\",근무!G113,IF(달력!$S$26=\"순서5\",근무!H113,IF(달력!$S$26=\"순서6\",근무!I113,\"\"))))))","v":"주간"},{"$f":"IF(달력!$S$27=\"순서1\",근무!D113,IF(달력!$S$27=\"순서2\",근무!E113,IF(달력!$S$27=\"순서3\",근무!F113,IF(달력!$S$27=\"순서4\",근무!G113,IF(달력!$S$27=\"순서5\",근무!H113,IF(달력!$S$27=\"순서6\",근무!I113,\"\"))))))","v":"주간"},{"$f":"IF(달력!$S$28=\"순서1\",근무!D113,IF(달력!$S$28=\"순서2\",근무!E113,IF(달력!$S$28=\"순서3\",근무!F113,IF(달력!$S$28=\"순서4\",근무!G113,IF(달력!$S$28=\"순서5\",근무!H113,IF(달력!$S$28=\"순서6\",근무!I113,\"\"))))))","v":"야간"},{"$f":"IF(달력!$S$29=\"순서1\",근무!D113,IF(달력!$S$29=\"순서2\",근무!E113,IF(달력!$S$29=\"순서3\",근무!F113,IF(달력!$S$29=\"순서4\",근무!G113,IF(달력!$S$29=\"순서5\",근무!H113,IF(달력!$S$29=\"순서6\",근무!I113,\"\"))))))","v":"야간"}]
[null,"2023-04-18","화",{"$f":"IF(달력!$S$24=\"순서1\",근무!D114,IF(달력!$S$24=\"순서2\",근무!E114,IF(달력!$S$24=\"순서3\",근무!F114,IF(달력!$S$24=\"순서4\",근무!G114,IF(달력!$S$24=\"순서5\",근무!H114,IF(달력!$S$24=\"순서6\",근무!I114,\"\"))))))","v":"비번"},{"$f":"IF(달력!$S$25=\"순서1\",근무!D114,IF(달력!$S$25=\"순서2\",근무!E114,IF(달력!$S$25=\"순서3\",근무!F114,IF(달력!$S$25=\"순서4\",근무!G114,IF(달력!$S$25=\"순서5\",근무!H114,IF(달력!$S$25=\"순서6\",근무!I114,\"\"))))))","v":"비번"},{"$f":"IF(달력!$S$26=\"순서1\",근무!D114,IF(달력!$S$26=\"순서2\",근무!E114,IF(달력!$S$26=\"순서3\",근무!F114,IF(달력!$S$26=\"순서4\",근무!G114,IF(달력!$S$26=\"순서5\",근무!H114,IF(달력!$S$26=\"순서6\",근무!I114,\"\"))))))","v":"주간"},{"$f":"IF(달력!$S$27=\"순서1\",근무!D114,IF(달력!$S$27=\"순서2\",근무!E114,IF(달력!$S$27=\"순서3\",근무!F114,IF(달력!$S$27=\"순서4\",근무!G114,IF(달력!$S$27=\"순서5\",근무!H114,IF(달력!$S$27=\"순서6\",근무!I114,\"\"))))))","v":"주간"},{"$f":"IF(달력!$S$28=\"순서1\",근무!D114,IF(달력!$S$28=\"순서2\",근무!E114,IF(달력!$S$28=\"순서3\",근무!F114,IF(달력!$S$28=\"순서4\",근무!G114,IF(달력!$S$28=\"순서5\",근무!H114,IF(달력!$S$28=\"순서6\",근무!I114,\"\"))))))","v":"야간"},{"$f":"IF(달력!$S$29=\"순서1\",근무!D114,IF(달력!$S$29=\"순서2\",근무!E114,IF(달력!$S$29=\"순서3\",근무!F114,IF(달력!$S$29=\"순서4\",근무!G114,IF(달력!$S$29=\"순서5\",근무!H114,IF(달력!$S$29=\"순서6\",근무!I114,\"\"))))))","v":"야간"}]
[null,"2023-04-19","수",{"$f":"IF(달력!$S$24=\"순서1\",근무!D115,IF(달력!$S$24=\"순서2\",근무!E115,IF(달력!$S$24=\"순서3\",근무!F115,IF(달력!$S$24=\"순서4\",근무!G115,IF(달력!$S$24=\"순서5\",근무!H115,IF(달력!$S$24=\"순서6\",근무!I115,\"\"))))))","v":"주간"},{"$f":"IF(달력!$S$25=\"순서1\",근무!D115,IF(달력!$S$25=\"순서2\",근무!E115,IF(달력!$S$25=\"순서3\",근무!F115,IF(달력!$S$25=\"순서4\",근무!G115,IF(달력!$S$25=\"순서5\",근무!H115,IF(달력!$S$25=\"순서6\",근무!I115,\"\"))))))","v":"주간"},{"$f":"IF(달력!$S$26=\"순서1\",근무!D115,IF(달력!$S$26=\"순서2\",근무!E115,IF(달력!$S$26=\"순서3\",근무!F115,IF(달력!$S$26=\"순서4\",근무!G115,IF(달력!$S$26=\"순서5\",근무!H115,IF(달력!$S$26=\"순서6\",근무!I115,\"\"))))))","v":"야간"},{"$f":"IF(달력!$S$27=\"순서1\",근무!D115,IF(달력!$S$27=\"순서2\",근무!E115,IF(달력!$S$27=\"순서3\",근무!F115,IF(달력!$S$27=\"순서4\",근무!G115,IF(달력!$S$27=\"순서5\",근무!H115,IF(달력!$S$27=\"순서6\",근무!I115,\"\"))))))","v":"야간"},{"$f":"IF(달력!$S$28=\"순서1\",근무!D115,IF(달력!$S$28=\"순서2\",근무!E115,IF(달력!$S$28=\"순서3\",근무!F115,IF(달력!$S$28=\"순서4\",근무!G115,IF(달력!$S$28=\"순서5\",근무!H115,IF(달력!$S$28=\"순서6\",근무!I115,\"\"))))))","v":"비번"},{"$f":"IF(달력!$S$29=\"순서1\",근무!D115,IF(달력!$S$29=\"순서2\",근무!E115,IF(달력!$S$29=\"순서3\",근무!F115,IF(달력!$S$29=\"순서4\",근무!G115,IF(달력!$S$29=\"순서5\",근무!H115,IF(달력!$S$29=\"순서6\",근무!I115,\"\"))))))","v":"비번"}]
[null,"2023-04-20","목",{"$f":"IF(달력!$S$24=\"순서1\",근무!D116,IF(달력!$S$24=\"순서2\",근무!E116,IF(달력!$S$24=\"순서3\",근무!F116,IF(달력!$S$24=\"순서4\",근무!G116,IF(달력!$S$24=\"순서5\",근무!H116,IF(달력!$S$24=\"순서6\",근무!I116,\"\"))))))","v":"주간"},{"$f":"IF(달력!$S$25=\"순서1\",근무!D116,IF(달력!$S$25=\"순서2\",근무!E116,IF(달력!$S$25=\"순서3\",근무!F116,IF(달력!$S$25=\"순서4\",근무!G116,IF(달력!$S$25=\"순서5\",근무!H116,IF(달력!$S$25=\"순서6\",근무!I116,\"\"))))))","v":"주간"},{"$f":"IF(달력!$S$26=\"순서1\",근무!D116,IF(달력!$S$26=\"순서2\",근무!E116,IF(달력!$S$26=\"순서3\",근무!F116,IF(달력!$S$26=\"순서4\",근무!G116,IF(달력!$S$26=\"순서5\",근무!H116,IF(달력!$S$26=\"순서6\",근무!I116,\"\"))))))","v":"야간"},{"$f":"IF(달력!$S$27=\"순서1\",근무!D116,IF(달력!$S$27=\"순서2\",근무!E116,IF(달력!$S$27=\"순서3\",근무!F116,IF(달력!$S$27=\"순서4\",근무!G116,IF(달력!$S$27=\"순서5\",근무!H116,IF(달력!$S$27=\"순서6\",근무!I116,\"\"))))))","v":"야간"},{"$f":"IF(달력!$S$28=\"순서1\",근무!D116,IF(달력!$S$28=\"순서2\",근무!E116,IF(달력!$S$28=\"순서3\",근무!F116,IF(달력!$S$28=\"순서4\",근무!G116,IF(달력!$S$28=\"순서5\",근무!H116,IF(달력!$S$28=\"순서6\",근무!I116,\"\"))))))","v":"비번"},{"$f":"IF(달력!$S$29=\"순서1\",근무!D116,IF(달력!$S$29=\"순서2\",근무!E116,IF(달력!$S$29=\"순서3\",근무!F116,IF(달력!$S$29=\"순서4\",근무!G116,IF(달력!$S$29=\"순서5\",근무!H116,IF(달력!$S$29=\"순서6\",근무!I116,\"\"))))))","v":"비번"}]
[null,"2023-04-21","금",{"$f":"IF(달력!$S$24=\"순서1\",근무!D117,IF(달력!$S$24=\"순서2\",근무!E117,IF(달력!$S$24=\"순서3\",근무!F117,IF(달력!$S$24=\"순서4\",근무!G117,IF(달력!$S$24=\"순서5\",근무!H117,IF(달력!$S$24=\"순서6\",근무!I117,\"\"))))))","v":"야간"},{"$f":"IF(달력!$S$25=\"순서1\",근무!D117,IF(달력!$S$25=\"순서2\",근무!E117,IF(달력!$S$25=\"순서3\",근무!F117,IF(달력!$S$25=\"순서4\",근무!G117,IF(달력!$S$25=\"순서5\",근무!H117,IF(달력!$S$25=\"순서6\",근무!I117,\"\"))))))","v":"야간"},{"$f":"IF(달력!$S$26=\"순서1\",근무!D117,IF(달력!$S$26=\"순서2\",근무!E117,IF(달력!$S$26=\"순서3\",근무!F117,IF(달력!$S$26=\"순서4\",근무!G117,IF(달력!$S$26=\"순서5\",근무!H117,IF(달력!$S$26=\"순서6\",근무!I117,\"\"))))))","v":"비번"},{"$f":"IF(달력!$S$27=\"순서1\",근무!D117,IF(달력!$S$27=\"순서2\",근무!E117,IF(달력!$S$27=\"순서3\",근무!F117,IF(달력!$S$27=\"순서4\",근무!G117,IF(달력!$S$27=\"순서5\",근무!H117,IF(달력!$S$27=\"순서6\",근무!I117,\"\"))))))","v":"비번"},{"$f":"IF(달력!$S$28=\"순서1\",근무!D117,IF(달력!$S$28=\"순서2\",근무!E117,IF(달력!$S$28=\"순서3\",근무!F117,IF(달력!$S$28=\"순서4\",근무!G117,IF(달력!$S$28=\"순서5\",근무!H117,IF(달력!$S$28=\"순서6\",근무!I117,\"\"))))))","v":"주간"},{"$f":"IF(달력!$S$29=\"순서1\",근무!D117,IF(달력!$S$29=\"순서2\",근무!E117,IF(달력!$S$29=\"순서3\",근무!F117,IF(달력!$S$29=\"순서4\",근무!G117,IF(달력!$S$29=\"순서5\",근무!H117,IF(달력!$S$29=\"순서6\",근무!I117,\"\"))))))","v":"주간"}]
[null,"2023-04-22","토",{"$f":"IF(달력!$S$24=\"순서1\",근무!D118,IF(달력!$S$24=\"순서2\",근무!E118,IF(달력!$S$24=\"순서3\",근무!F118,IF(달력!$S$24=\"순서4\",근무!G118,IF(달력!$S$24=\"순서5\",근무!H118,IF(달력!$S$24=\"순서6\",근무!I118,\"\"))))))","v":"야간"},{"$f":"IF(달력!$S$25=\"순서1\",근무!D118,IF(달력!$S$25=\"순서2\",근무!E118,IF(달력!$S$25=\"순서3\",근무!F118,IF(달력!$S$25=\"순서4\",근무!G118,IF(달력!$S$25=\"순서5\",근무!H118,IF(달력!$S$25=\"순서6\",근무!I118,\"\"))))))","v":"야간"},{"$f":"IF(달력!$S$26=\"순서1\",근무!D118,IF(달력!$S$26=\"순서2\",근무!E118,IF(달력!$S$26=\"순서3\",근무!F118,IF(달력!$S$26=\"순서4\",근무!G118,IF(달력!$S$26=\"순서5\",근무!H118,IF(달력!$S$26=\"순서6\",근무!I118,\"\"))))))","v":"비번"},{"$f":"IF(달력!$S$27=\"순서1\",근무!D118,IF(달력!$S$27=\"순서2\",근무!E118,IF(달력!$S$27=\"순서3\",근무!F118,IF(달력!$S$27=\"순서4\",근무!G118,IF(달력!$S$27=\"순서5\",근무!H118,IF(달력!$S$27=\"순서6\",근무!I118,\"\"))))))","v":"비번"},{"$f":"IF(달력!$S$28=\"순서1\",근무!D118,IF(달력!$S$28=\"순서2\",근무!E118,IF(달력!$S$28=\"순서3\",근무!F118,IF(달력!$S$28=\"순서4\",근무!G118,IF(달력!$S$28=\"순서5\",근무!H118,IF(달력!$S$28=\"순서6\",근무!I118,\"\"))))))","v":"주간"},{"$f":"IF(달력!$S$29=\"순서1\",근무!D118,IF(달력!$S$29=\"순서2\",근무!E118,IF(달력!$S$29=\"순서3\",근무!F118,IF(달력!$S$29=\"순서4\",근무!G118,IF(달력!$S$29=\"순서5\",근무!H118,IF(달력!$S$29=\"순서6\",근무!I118,\"\"))))))","v":"주간"}]
[null,"2023-04-23","일",{"$f":"IF(달력!$S$24=\"순서1\",근무!D119,IF(달력!$S$24=\"순서2\",근무!E119,IF(달력!$S$24=\"순서3\",근무!F119,IF(달력!$S$24=\"순서4\",근무!G119,IF(달력!$S$24=\"순서5\",근무!H119,IF(달력!$S$24=\"순서6\",근무!I119,\"\"))))))","v":"비번"},{"$f":"IF(달력!$S$25=\"순서1\",근무!D119,IF(달력!$S$25=\"순서2\",근무!E119,IF(달력!$S$25=\"순서3\",근무!F119,IF(달력!$S$25=\"순서4\",근무!G119,IF(달력!$S$25=\"순서5\",근무!H119,IF(달력!$S$25=\"순서6\",근무!I119,\"\"))))))","v":"비번"},{"$f":"IF(달력!$S$26=\"순서1\",근무!D119,IF(달력!$S$26=\"순서2\",근무!E119,IF(달력!$S$26=\"순서3\",근무!F119,IF(달력!$S$26=\"순서4\",근무!G119,IF(달력!$S$26=\"순서5\",근무!H119,IF(달력!$S$26=\"순서6\",근무!I119,\"\"))))))","v":"주간"},{"$f":"IF(달력!$S$27=\"순서1\",근무!D119,IF(달력!$S$27=\"순서2\",근무!E119,IF(달력!$S$27=\"순서3\",근무!F119,IF(달력!$S$27=\"순서4\",근무!G119,IF(달력!$S$27=\"순서5\",근무!H119,IF(달력!$S$27=\"순서6\",근무!I119,\"\"))))))","v":"주간"},{"$f":"IF(달력!$S$28=\"순서1\",근무!D119,IF(달력!$S$28=\"순서2\",근무!E119,IF(달력!$S$28=\"순서3\",근무!F119,IF(달력!$S$28=\"순서4\",근무!G119,IF(달력!$S$28=\"순서5\",근무!H119,IF(달력!$S$28=\"순서6\",근무!I119,\"\"))))))","v":"야간"},{"$f":"IF(달력!$S$29=\"순서1\",근무!D119,IF(달력!$S$29=\"순서2\",근무!E119,IF(달력!$S$29=\"순서3\",근무!F119,IF(달력!$S$29=\"순서4\",근무!G119,IF(달력!$S$29=\"순서5\",근무!H119,IF(달력!$S$29=\"순서6\",근무!I119,\"\"))))))","v":"야간"}]
[null,"2023-04-24","월",{"$f":"IF(달력!$S$24=\"순서1\",근무!D120,IF(달력!$S$24=\"순서2\",근무!E120,IF(달력!$S$24=\"순서3\",근무!F120,IF(달력!$S$24=\"순서4\",근무!G120,IF(달력!$S$24=\"순서5\",근무!H120,IF(달력!$S$24=\"순서6\",근무!I120,\"\"))))))","v":"비번"},{"$f":"IF(달력!$S$25=\"순서1\",근무!D120,IF(달력!$S$25=\"순서2\",근무!E120,IF(달력!$S$25=\"순서3\",근무!F120,IF(달력!$S$25=\"순서4\",근무!G120,IF(달력!$S$25=\"순서5\",근무!H120,IF(달력!$S$25=\"순서6\",근무!I120,\"\"))))))","v":"비번"},{"$f":"IF(달력!$S$26=\"순서1\",근무!D120,IF(달력!$S$26=\"순서2\",근무!E120,IF(달력!$S$26=\"순서3\",근무!F120,IF(달력!$S$26=\"순서4\",근무!G120,IF(달력!$S$26=\"순서5\",근무!H120,IF(달력!$S$26=\"순서6\",근무!I120,\"\"))))))","v":"주간"},{"$f":"IF(달력!$S$27=\"순서1\",근무!D120,IF(달력!$S$27=\"순서2\",근무!E120,IF(달력!$S$27=\"순서3\",근무!F120,IF(달력!$S$27=\"순서4\",근무!G120,IF(달력!$S$27=\"순서5\",근무!H120,IF(달력!$S$27=\"순서6\",근무!I120,\"\"))))))","v":"주간"},{"$f":"IF(달력!$S$28=\"순서1\",근무!D120,IF(달력!$S$28=\"순서2\",근무!E120,IF(달력!$S$28=\"순서3\",근무!F120,IF(달력!$S$28=\"순서4\",근무!G120,IF(달력!$S$28=\"순서5\",근무!H120,IF(달력!$S$28=\"순서6\",근무!I120,\"\"))))))","v":"야간"},{"$f":"IF(달력!$S$29=\"순서1\",근무!D120,IF(달력!$S$29=\"순서2\",근무!E120,IF(달력!$S$29=\"순서3\",근무!F120,IF(달력!$S$29=\"순서4\",근무!G120,IF(달력!$S$29=\"순서5\",근무!H120,IF(달력!$S$29=\"순서6\",근무!I120,\"\"))))))","v":"야간"}]
[null,"2023-04-25","화",{"$f":"IF(달력!$S$24=\"순서1\",근무!D121,IF(달력!$S$24=\"순서2\",근무!E121,IF(달력!$S$24=\"순서3\",근무!F121,IF(달력!$S$24=\"순서4\",근무!G121,IF(달력!$S$24=\"순서5\",근무!H121,IF(달력!$S$24=\"순서6\",근무!I121,\"\"))))))","v":"주간"},{"$f":"IF(달력!$S$25=\"순서1\",근무!D121,IF(달력!$S$25=\"순서2\",근무!E121,IF(달력!$S$25=\"순서3\",근무!F121,IF(달력!$S$25=\"순서4\",근무!G121,IF(달력!$S$25=\"순서5\",근무!H121,IF(달력!$S$25=\"순서6\",근무!I121,\"\"))))))","v":"주간"},{"$f":"IF(달력!$S$26=\"순서1\",근무!D121,IF(달력!$S$26=\"순서2\",근무!E121,IF(달력!$S$26=\"순서3\",근무!F121,IF(달력!$S$26=\"순서4\",근무!G121,IF(달력!$S$26=\"순서5\",근무!H121,IF(달력!$S$26=\"순서6\",근무!I121,\"\"))))))","v":"야간"},{"$f":"IF(달력!$S$27=\"순서1\",근무!D121,IF(달력!$S$27=\"순서2\",근무!E121,IF(달력!$S$27=\"순서3\",근무!F121,IF(달력!$S$27=\"순서4\",근무!G121,IF(달력!$S$27=\"순서5\",근무!H121,IF(달력!$S$27=\"순서6\",근무!I121,\"\"))))))","v":"야간"},{"$f":"IF(달력!$S$28=\"순서1\",근무!D121,IF(달력!$S$28=\"순서2\",근무!E121,IF(달력!$S$28=\"순서3\",근무!F121,IF(달력!$S$28=\"순서4\",근무!G121,IF(달력!$S$28=\"순서5\",근무!H121,IF(달력!$S$28=\"순서6\",근무!I121,\"\"))))))","v":"비번"},{"$f":"IF(달력!$S$29=\"순서1\",근무!D121,IF(달력!$S$29=\"순서2\",근무!E121,IF(달력!$S$29=\"순서3\",근무!F121,IF(달력!$S$29=\"순서4\",근무!G121,IF(달력!$S$29=\"순서5\",근무!H121,IF(달력!$S$29=\"순서6\",근무!I121,\"\"))))))","v":"비번"}]
[null,"2023-04-26","수",{"$f":"IF(달력!$S$24=\"순서1\",근무!D122,IF(달력!$S$24=\"순서2\",근무!E122,IF(달력!$S$24=\"순서3\",근무!F122,IF(달력!$S$24=\"순서4\",근무!G122,IF(달력!$S$24=\"순서5\",근무!H122,IF(달력!$S$24=\"순서6\",근무!I122,\"\"))))))","v":"주간"},{"$f":"IF(달력!$S$25=\"순서1\",근무!D122,IF(달력!$S$25=\"순서2\",근무!E122,IF(달력!$S$25=\"순서3\",근무!F122,IF(달력!$S$25=\"순서4\",근무!G122,IF(달력!$S$25=\"순서5\",근무!H122,IF(달력!$S$25=\"순서6\",근무!I122,\"\"))))))","v":"주간"},{"$f":"IF(달력!$S$26=\"순서1\",근무!D122,IF(달력!$S$26=\"순서2\",근무!E122,IF(달력!$S$26=\"순서3\",근무!F122,IF(달력!$S$26=\"순서4\",근무!G122,IF(달력!$S$26=\"순서5\",근무!H122,IF(달력!$S$26=\"순서6\",근무!I122,\"\"))))))","v":"야간"},{"$f":"IF(달력!$S$27=\"순서1\",근무!D122,IF(달력!$S$27=\"순서2\",근무!E122,IF(달력!$S$27=\"순서3\",근무!F122,IF(달력!$S$27=\"순서4\",근무!G122,IF(달력!$S$27=\"순서5\",근무!H122,IF(달력!$S$27=\"순서6\",근무!I122,\"\"))))))","v":"야간"},{"$f":"IF(달력!$S$28=\"순서1\",근무!D122,IF(달력!$S$28=\"순서2\",근무!E122,IF(달력!$S$28=\"순서3\",근무!F122,IF(달력!$S$28=\"순서4\",근무!G122,IF(달력!$S$28=\"순서5\",근무!H122,IF(달력!$S$28=\"순서6\",근무!I122,\"\"))))))","v":"비번"},{"$f":"IF(달력!$S$29=\"순서1\",근무!D122,IF(달력!$S$29=\"순서2\",근무!E122,IF(달력!$S$29=\"순서3\",근무!F122,IF(달력!$S$29=\"순서4\",근무!G122,IF(달력!$S$29=\"순서5\",근무!H122,IF(달력!$S$29=\"순서6\",근무!I122,\"\"))))))","v":"비번"}]
[null,"2023-04-27","목",{"$f":"IF(달력!$S$24=\"순서1\",근무!D123,IF(달력!$S$24=\"순서2\",근무!E123,IF(달력!$S$24=\"순서3\",근무!F123,IF(달력!$S$24=\"순서4\",근무!G123,IF(달력!$S$24=\"순서5\",근무!H123,IF(달력!$S$24=\"순서6\",근무!I123,\"\"))))))","v":"야간"},{"$f":"IF(달력!$S$25=\"순서1\",근무!D123,IF(달력!$S$25=\"순서2\",근무!E123,IF(달력!$S$25=\"순서3\",근무!F123,IF(달력!$S$25=\"순서4\",근무!G123,IF(달력!$S$25=\"순서5\",근무!H123,IF(달력!$S$25=\"순서6\",근무!I123,\"\"))))))","v":"야간"},{"$f":"IF(달력!$S$26=\"순서1\",근무!D123,IF(달력!$S$26=\"순서2\",근무!E123,IF(달력!$S$26=\"순서3\",근무!F123,IF(달력!$S$26=\"순서4\",근무!G123,IF(달력!$S$26=\"순서5\",근무!H123,IF(달력!$S$26=\"순서6\",근무!I123,\"\"))))))","v":"비번"},{"$f":"IF(달력!$S$27=\"순서1\",근무!D123,IF(달력!$S$27=\"순서2\",근무!E123,IF(달력!$S$27=\"순서3\",근무!F123,IF(달력!$S$27=\"순서4\",근무!G123,IF(달력!$S$27=\"순서5\",근무!H123,IF(달력!$S$27=\"순서6\",근무!I123,\"\"))))))","v":"비번"},{"$f":"IF(달력!$S$28=\"순서1\",근무!D123,IF(달력!$S$28=\"순서2\",근무!E123,IF(달력!$S$28=\"순서3\",근무!F123,IF(달력!$S$28=\"순서4\",근무!G123,IF(달력!$S$28=\"순서5\",근무!H123,IF(달력!$S$28=\"순서6\",근무!I123,\"\"))))))","v":"주간"},{"$f":"IF(달력!$S$29=\"순서1\",근무!D123,IF(달력!$S$29=\"순서2\",근무!E123,IF(달력!$S$29=\"순서3\",근무!F123,IF(달력!$S$29=\"순서4\",근무!G123,IF(달력!$S$29=\"순서5\",근무!H123,IF(달력!$S$29=\"순서6\",근무!I123,\"\"))))))","v":"주간"}]
[null,"2023-04-28","금",{"$f":"IF(달력!$S$24=\"순서1\",근무!D124,IF(달력!$S$24=\"순서2\",근무!E124,IF(달력!$S$24=\"순서3\",근무!F124,IF(달력!$S$24=\"순서4\",근무!G124,IF(달력!$S$24=\"순서5\",근무!H124,IF(달력!$S$24=\"순서6\",근무!I124,\"\"))))))","v":"야간"},{"$f":"IF(달력!$S$25=\"순서1\",근무!D124,IF(달력!$S$25=\"순서2\",근무!E124,IF(달력!$S$25=\"순서3\",근무!F124,IF(달력!$S$25=\"순서4\",근무!G124,IF(달력!$S$25=\"순서5\",근무!H124,IF(달력!$S$25=\"순서6\",근무!I124,\"\"))))))","v":"야간"},{"$f":"IF(달력!$S$26=\"순서1\",근무!D124,IF(달력!$S$26=\"순서2\",근무!E124,IF(달력!$S$26=\"순서3\",근무!F124,IF(달력!$S$26=\"순서4\",근무!G124,IF(달력!$S$26=\"순서5\",근무!H124,IF(달력!$S$26=\"순서6\",근무!I124,\"\"))))))","v":"비번"},{"$f":"IF(달력!$S$27=\"순서1\",근무!D124,IF(달력!$S$27=\"순서2\",근무!E124,IF(달력!$S$27=\"순서3\",근무!F124,IF(달력!$S$27=\"순서4\",근무!G124,IF(달력!$S$27=\"순서5\",근무!H124,IF(달력!$S$27=\"순서6\",근무!I124,\"\"))))))","v":"비번"},{"$f":"IF(달력!$S$28=\"순서1\",근무!D124,IF(달력!$S$28=\"순서2\",근무!E124,IF(달력!$S$28=\"순서3\",근무!F124,IF(달력!$S$28=\"순서4\",근무!G124,IF(달력!$S$28=\"순서5\",근무!H124,IF(달력!$S$28=\"순서6\",근무!I124,\"\"))))))","v":"주간"},{"$f":"IF(달력!$S$29=\"순서1\",근무!D124,IF(달력!$S$29=\"순서2\",근무!E124,IF(달력!$S$29=\"순서3\",근무!F124,IF(달력!$S$29=\"순서4\",근무!G124,IF(달력!$S$29=\"순서5\",근무!H124,IF(달력!$S$29=\"순서6\",근무!I124,\"\"))))))","v":"주간"}]
[null,"2023-04-29","토",{"$f":"IF(달력!$S$24=\"순서1\",근무!D125,IF(달력!$S$24=\"순서2\",근무!E125,IF(달력!$S$24=\"순서3\",근무!F125,IF(달력!$S$24=\"순서4\",근무!G125,IF(달력!$S$24=\"순서5\",근무!H125,IF(달력!$S$24=\"순서6\",근무!I125,\"\"))))))","v":"비번"},{"$f":"IF(달력!$S$25=\"순서1\",근무!D125,IF(달력!$S$25=\"순서2\",근무!E125,IF(달력!$S$25=\"순서3\",근무!F125,IF(달력!$S$25=\"순서4\",근무!G125,IF(달력!$S$25=\"순서5\",근무!H125,IF(달력!$S$25=\"순서6\",근무!I125,\"\"))))))","v":"비번"},{"$f":"IF(달력!$S$26=\"순서1\",근무!D125,IF(달력!$S$26=\"순서2\",근무!E125,IF(달력!$S$26=\"순서3\",근무!F125,IF(달력!$S$26=\"순서4\",근무!G125,IF(달력!$S$26=\"순서5\",근무!H125,IF(달력!$S$26=\"순서6\",근무!I125,\"\"))))))","v":"주간"},{"$f":"IF(달력!$S$27=\"순서1\",근무!D125,IF(달력!$S$27=\"순서2\",근무!E125,IF(달력!$S$27=\"순서3\",근무!F125,IF(달력!$S$27=\"순서4\",근무!G125,IF(달력!$S$27=\"순서5\",근무!H125,IF(달력!$S$27=\"순서6\",근무!I125,\"\"))))))","v":"주간"},{"$f":"IF(달력!$S$28=\"순서1\",근무!D125,IF(달력!$S$28=\"순서2\",근무!E125,IF(달력!$S$28=\"순서3\",근무!F125,IF(달력!$S$28=\"순서4\",근무!G125,IF(달력!$S$28=\"순서5\",근무!H125,IF(달력!$S$28=\"순서6\",근무!I125,\"\"))))))","v":"야간"},{"$f":"IF(달력!$S$29=\"순서1\",근무!D125,IF(달력!$S$29=\"순서2\",근무!E125,IF(달력!$S$29=\"순서3\",근무!F125,IF(달력!$S$29=\"순서4\",근무!G125,IF(달력!$S$29=\"순서5\",근무!H125,IF(달력!$S$29=\"순서6\",근무!I125,\"\"))))))","v":"야간"}]
[null,"2023-04-30","일",{"$f":"IF(달력!$S$24=\"순서1\",근무!D126,IF(달력!$S$24=\"순서2\",근무!E126,IF(달력!$S$24=\"순서3\",근무!F126,IF(달력!$S$24=\"순서4\",근무!G126,IF(달력!$S$24=\"순서5\",근무!H126,IF(달력!$S$24=\"순서6\",근무!I126,\"\"))))))","v":"비번"},{"$f":"IF(달력!$S$25=\"순서1\",근무!D126,IF(달력!$S$25=\"순서2\",근무!E126,IF(달력!$S$25=\"순서3\",근무!F126,IF(달력!$S$25=\"순서4\",근무!G126,IF(달력!$S$25=\"순서5\",근무!H126,IF(달력!$S$25=\"순서6\",근무!I126,\"\"))))))","v":"비번"},{"$f":"IF(달력!$S$26=\"순서1\",근무!D126,IF(달력!$S$26=\"순서2\",근무!E126,IF(달력!$S$26=\"순서3\",근무!F126,IF(달력!$S$26=\"순서4\",근무!G126,IF(달력!$S$26=\"순서5\",근무!H126,IF(달력!$S$26=\"순서6\",근무!I126,\"\"))))))","v":"주간"},{"$f":"IF(달력!$S$27=\"순서1\",근무!D126,IF(달력!$S$27=\"순서2\",근무!E126,IF(달력!$S$27=\"순서3\",근무!F126,IF(달력!$S$27=\"순서4\",근무!G126,IF(달력!$S$27=\"순서5\",근무!H126,IF(달력!$S$27=\"순서6\",근무!I126,\"\"))))))","v":"주간"},{"$f":"IF(달력!$S$28=\"순서1\",근무!D126,IF(달력!$S$28=\"순서2\",근무!E126,IF(달력!$S$28=\"순서3\",근무!F126,IF(달력!$S$28=\"순서4\",근무!G126,IF(달력!$S$28=\"순서5\",근무!H126,IF(달력!$S$28=\"순서6\",근무!I126,\"\"))))))","v":"야간"},{"$f":"IF(달력!$S$29=\"순서1\",근무!D126,IF(달력!$S$29=\"순서2\",근무!E126,IF(달력!$S$29=\"순서3\",근무!F126,IF(달력!$S$29=\"순서4\",근무!G126,IF(달력!$S$29=\"순서5\",근무!H126,IF(달력!$S$29=\"순서6\",근무!I126,\"\"))))))","v":"야간"}]
[null,"2023-05-01","월",{"$f":"IF(달력!$S$24=\"순서1\",근무!D127,IF(달력!$S$24=\"순서2\",근무!E127,IF(달력!$S$24=\"순서3\",근무!F127,IF(달력!$S$24=\"순서4\",근무!G127,IF(달력!$S$24=\"순서5\",근무!H127,IF(달력!$S$24=\"순서6\",근무!I127,\"\"))))))","v":"주간"},{"$f":"IF(달력!$S$25=\"순서1\",근무!D127,IF(달력!$S$25=\"순서2\",근무!E127,IF(달력!$S$25=\"순서3\",근무!F127,IF(달력!$S$25=\"순서4\",근무!G127,IF(달력!$S$25=\"순서5\",근무!H127,IF(달력!$S$25=\"순서6\",근무!I127,\"\"))))))","v":"주간"},{"$f":"IF(달력!$S$26=\"순서1\",근무!D127,IF(달력!$S$26=\"순서2\",근무!E127,IF(달력!$S$26=\"순서3\",근무!F127,IF(달력!$S$26=\"순서4\",근무!G127,IF(달력!$S$26=\"순서5\",근무!H127,IF(달력!$S$26=\"순서6\",근무!I127,\"\"))))))","v":"야간"},{"$f":"IF(달력!$S$27=\"순서1\",근무!D127,IF(달력!$S$27=\"순서2\",근무!E127,IF(달력!$S$27=\"순서3\",근무!F127,IF(달력!$S$27=\"순서4\",근무!G127,IF(달력!$S$27=\"순서5\",근무!H127,IF(달력!$S$27=\"순서6\",근무!I127,\"\"))))))","v":"야간"},{"$f":"IF(달력!$S$28=\"순서1\",근무!D127,IF(달력!$S$28=\"순서2\",근무!E127,IF(달력!$S$28=\"순서3\",근무!F127,IF(달력!$S$28=\"순서4\",근무!G127,IF(달력!$S$28=\"순서5\",근무!H127,IF(달력!$S$28=\"순서6\",근무!I127,\"\"))))))","v":"비번"},{"$f":"IF(달력!$S$29=\"순서1\",근무!D127,IF(달력!$S$29=\"순서2\",근무!E127,IF(달력!$S$29=\"순서3\",근무!F127,IF(달력!$S$29=\"순서4\",근무!G127,IF(달력!$S$29=\"순서5\",근무!H127,IF(달력!$S$29=\"순서6\",근무!I127,\"\"))))))","v":"비번"}]
[null,"2023-05-02","화",{"$f":"IF(달력!$S$24=\"순서1\",근무!D128,IF(달력!$S$24=\"순서2\",근무!E128,IF(달력!$S$24=\"순서3\",근무!F128,IF(달력!$S$24=\"순서4\",근무!G128,IF(달력!$S$24=\"순서5\",근무!H128,IF(달력!$S$24=\"순서6\",근무!I128,\"\"))))))","v":"주간"},{"$f":"IF(달력!$S$25=\"순서1\",근무!D128,IF(달력!$S$25=\"순서2\",근무!E128,IF(달력!$S$25=\"순서3\",근무!F128,IF(달력!$S$25=\"순서4\",근무!G128,IF(달력!$S$25=\"순서5\",근무!H128,IF(달력!$S$25=\"순서6\",근무!I128,\"\"))))))","v":"주간"},{"$f":"IF(달력!$S$26=\"순서1\",근무!D128,IF(달력!$S$26=\"순서2\",근무!E128,IF(달력!$S$26=\"순서3\",근무!F128,IF(달력!$S$26=\"순서4\",근무!G128,IF(달력!$S$26=\"순서5\",근무!H128,IF(달력!$S$26=\"순서6\",근무!I128,\"\"))))))","v":"야간"},{"$f":"IF(달력!$S$27=\"순서1\",근무!D128,IF(달력!$S$27=\"순서2\",근무!E128,IF(달력!$S$27=\"순서3\",근무!F128,IF(달력!$S$27=\"순서4\",근무!G128,IF(달력!$S$27=\"순서5\",근무!H128,IF(달력!$S$27=\"순서6\",근무!I128,\"\"))))))","v":"야간"},{"$f":"IF(달력!$S$28=\"순서1\",근무!D128,IF(달력!$S$28=\"순서2\",근무!E128,IF(달력!$S$28=\"순서3\",근무!F128,IF(달력!$S$28=\"순서4\",근무!G128,IF(달력!$S$28=\"순서5\",근무!H128,IF(달력!$S$28=\"순서6\",근무!I128,\"\"))))))","v":"비번"},{"$f":"IF(달력!$S$29=\"순서1\",근무!D128,IF(달력!$S$29=\"순서2\",근무!E128,IF(달력!$S$29=\"순서3\",근무!F128,IF(달력!$S$29=\"순서4\",근무!G128,IF(달력!$S$29=\"순서5\",근무!H128,IF(달력!$S$29=\"순서6\",근무!I128,\"\"))))))","v":"비번"}]
[null,"2023-05-03","수",{"$f":"IF(달력!$S$24=\"순서1\",근무!D129,IF(달력!$S$24=\"순서2\",근무!E129,IF(달력!$S$24=\"순서3\",근무!F129,IF(달력!$S$24=\"순서4\",근무!G129,IF(달력!$S$24=\"순서5\",근무!H129,IF(달력!$S$24=\"순서6\",근무!I129,\"\"))))))","v":"야간"},{"$f":"IF(달력!$S$25=\"순서1\",근무!D129,IF(달력!$S$25=\"순서2\",근무!E129,IF(달력!$S$25=\"순서3\",근무!F129,IF(달력!$S$25=\"순서4\",근무!G129,IF(달력!$S$25=\"순서5\",근무!H129,IF(달력!$S$25=\"순서6\",근무!I129,\"\"))))))","v":"야간"},{"$f":"IF(달력!$S$26=\"순서1\",근무!D129,IF(달력!$S$26=\"순서2\",근무!E129,IF(달력!$S$26=\"순서3\",근무!F129,IF(달력!$S$26=\"순서4\",근무!G129,IF(달력!$S$26=\"순서5\",근무!H129,IF(달력!$S$26=\"순서6\",근무!I129,\"\"))))))","v":"비번"},{"$f":"IF(달력!$S$27=\"순서1\",근무!D129,IF(달력!$S$27=\"순서2\",근무!E129,IF(달력!$S$27=\"순서3\",근무!F129,IF(달력!$S$27=\"순서4\",근무!G129,IF(달력!$S$27=\"순서5\",근무!H129,IF(달력!$S$27=\"순서6\",근무!I129,\"\"))))))","v":"비번"},{"$f":"IF(달력!$S$28=\"순서1\",근무!D129,IF(달력!$S$28=\"순서2\",근무!E129,IF(달력!$S$28=\"순서3\",근무!F129,IF(달력!$S$28=\"순서4\",근무!G129,IF(달력!$S$28=\"순서5\",근무!H129,IF(달력!$S$28=\"순서6\",근무!I129,\"\"))))))","v":"주간"},{"$f":"IF(달력!$S$29=\"순서1\",근무!D129,IF(달력!$S$29=\"순서2\",근무!E129,IF(달력!$S$29=\"순서3\",근무!F129,IF(달력!$S$29=\"순서4\",근무!G129,IF(달력!$S$29=\"순서5\",근무!H129,IF(달력!$S$29=\"순서6\",근무!I129,\"\"))))))","v":"주간"}]
[null,"2023-05-04","목",{"$f":"IF(달력!$S$24=\"순서1\",근무!D130,IF(달력!$S$24=\"순서2\",근무!E130,IF(달력!$S$24=\"순서3\",근무!F130,IF(달력!$S$24=\"순서4\",근무!G130,IF(달력!$S$24=\"순서5\",근무!H130,IF(달력!$S$24=\"순서6\",근무!I130,\"\"))))))","v":"야간"},{"$f":"IF(달력!$S$25=\"순서1\",근무!D130,IF(달력!$S$25=\"순서2\",근무!E130,IF(달력!$S$25=\"순서3\",근무!F130,IF(달력!$S$25=\"순서4\",근무!G130,IF(달력!$S$25=\"순서5\",근무!H130,IF(달력!$S$25=\"순서6\",근무!I130,\"\"))))))","v":"야간"},{"$f":"IF(달력!$S$26=\"순서1\",근무!D130,IF(달력!$S$26=\"순서2\",근무!E130,IF(달력!$S$26=\"순서3\",근무!F130,IF(달력!$S$26=\"순서4\",근무!G130,IF(달력!$S$26=\"순서5\",근무!H130,IF(달력!$S$26=\"순서6\",근무!I130,\"\"))))))","v":"비번"},{"$f":"IF(달력!$S$27=\"순서1\",근무!D130,IF(달력!$S$27=\"순서2\",근무!E130,IF(달력!$S$27=\"순서3\",근무!F130,IF(달력!$S$27=\"순서4\",근무!G130,IF(달력!$S$27=\"순서5\",근무!H130,IF(달력!$S$27=\"순서6\",근무!I130,\"\"))))))","v":"비번"},{"$f":"IF(달력!$S$28=\"순서1\",근무!D130,IF(달력!$S$28=\"순서2\",근무!E130,IF(달력!$S$28=\"순서3\",근무!F130,IF(달력!$S$28=\"순서4\",근무!G130,IF(달력!$S$28=\"순서5\",근무!H130,IF(달력!$S$28=\"순서6\",근무!I130,\"\"))))))","v":"주간"},{"$f":"IF(달력!$S$29=\"순서1\",근무!D130,IF(달력!$S$29=\"순서2\",근무!E130,IF(달력!$S$29=\"순서3\",근무!F130,IF(달력!$S$29=\"순서4\",근무!G130,IF(달력!$S$29=\"순서5\",근무!H130,IF(달력!$S$29=\"순서6\",근무!I130,\"\"))))))","v":"주간"}]
[null,"2023-05-05","금",{"$f":"IF(달력!$S$24=\"순서1\",근무!D131,IF(달력!$S$24=\"순서2\",근무!E131,IF(달력!$S$24=\"순서3\",근무!F131,IF(달력!$S$24=\"순서4\",근무!G131,IF(달력!$S$24=\"순서5\",근무!H131,IF(달력!$S$24=\"순서6\",근무!I131,\"\"))))))","v":"비번"},{"$f":"IF(달력!$S$25=\"순서1\",근무!D131,IF(달력!$S$25=\"순서2\",근무!E131,IF(달력!$S$25=\"순서3\",근무!F131,IF(달력!$S$25=\"순서4\",근무!G131,IF(달력!$S$25=\"순서5\",근무!H131,IF(달력!$S$25=\"순서6\",근무!I131,\"\"))))))","v":"비번"},{"$f":"IF(달력!$S$26=\"순서1\",근무!D131,IF(달력!$S$26=\"순서2\",근무!E131,IF(달력!$S$26=\"순서3\",근무!F131,IF(달력!$S$26=\"순서4\",근무!G131,IF(달력!$S$26=\"순서5\",근무!H131,IF(달력!$S$26=\"순서6\",근무!I131,\"\"))))))","v":"주간"},{"$f":"IF(달력!$S$27=\"순서1\",근무!D131,IF(달력!$S$27=\"순서2\",근무!E131,IF(달력!$S$27=\"순서3\",근무!F131,IF(달력!$S$27=\"순서4\",근무!G131,IF(달력!$S$27=\"순서5\",근무!H131,IF(달력!$S$27=\"순서6\",근무!I131,\"\"))))))","v":"주간"},{"$f":"IF(달력!$S$28=\"순서1\",근무!D131,IF(달력!$S$28=\"순서2\",근무!E131,IF(달력!$S$28=\"순서3\",근무!F131,IF(달력!$S$28=\"순서4\",근무!G131,IF(달력!$S$28=\"순서5\",근무!H131,IF(달력!$S$28=\"순서6\",근무!I131,\"\"))))))","v":"야간"},{"$f":"IF(달력!$S$29=\"순서1\",근무!D131,IF(달력!$S$29=\"순서2\",근무!E131,IF(달력!$S$29=\"순서3\",근무!F131,IF(달력!$S$29=\"순서4\",근무!G131,IF(달력!$S$29=\"순서5\",근무!H131,IF(달력!$S$29=\"순서6\",근무!I131,\"\"))))))","v":"야간"}]
[null,"2023-05-06","토",{"$f":"IF(달력!$S$24=\"순서1\",근무!D132,IF(달력!$S$24=\"순서2\",근무!E132,IF(달력!$S$24=\"순서3\",근무!F132,IF(달력!$S$24=\"순서4\",근무!G132,IF(달력!$S$24=\"순서5\",근무!H132,IF(달력!$S$24=\"순서6\",근무!I132,\"\"))))))","v":"비번"},{"$f":"IF(달력!$S$25=\"순서1\",근무!D132,IF(달력!$S$25=\"순서2\",근무!E132,IF(달력!$S$25=\"순서3\",근무!F132,IF(달력!$S$25=\"순서4\",근무!G132,IF(달력!$S$25=\"순서5\",근무!H132,IF(달력!$S$25=\"순서6\",근무!I132,\"\"))))))","v":"비번"},{"$f":"IF(달력!$S$26=\"순서1\",근무!D132,IF(달력!$S$26=\"순서2\",근무!E132,IF(달력!$S$26=\"순서3\",근무!F132,IF(달력!$S$26=\"순서4\",근무!G132,IF(달력!$S$26=\"순서5\",근무!H132,IF(달력!$S$26=\"순서6\",근무!I132,\"\"))))))","v":"주간"},{"$f":"IF(달력!$S$27=\"순서1\",근무!D132,IF(달력!$S$27=\"순서2\",근무!E132,IF(달력!$S$27=\"순서3\",근무!F132,IF(달력!$S$27=\"순서4\",근무!G132,IF(달력!$S$27=\"순서5\",근무!H132,IF(달력!$S$27=\"순서6\",근무!I132,\"\"))))))","v":"주간"},{"$f":"IF(달력!$S$28=\"순서1\",근무!D132,IF(달력!$S$28=\"순서2\",근무!E132,IF(달력!$S$28=\"순서3\",근무!F132,IF(달력!$S$28=\"순서4\",근무!G132,IF(달력!$S$28=\"순서5\",근무!H132,IF(달력!$S$28=\"순서6\",근무!I132,\"\"))))))","v":"야간"},{"$f":"IF(달력!$S$29=\"순서1\",근무!D132,IF(달력!$S$29=\"순서2\",근무!E132,IF(달력!$S$29=\"순서3\",근무!F132,IF(달력!$S$29=\"순서4\",근무!G132,IF(달력!$S$29=\"순서5\",근무!H132,IF(달력!$S$29=\"순서6\",근무!I132,\"\"))))))","v":"야간"}]
[null,"2023-05-07","일",{"$f":"IF(달력!$S$24=\"순서1\",근무!D133,IF(달력!$S$24=\"순서2\",근무!E133,IF(달력!$S$24=\"순서3\",근무!F133,IF(달력!$S$24=\"순서4\",근무!G133,IF(달력!$S$24=\"순서5\",근무!H133,IF(달력!$S$24=\"순서6\",근무!I133,\"\"))))))","v":"주간"},{"$f":"IF(달력!$S$25=\"순서1\",근무!D133,IF(달력!$S$25=\"순서2\",근무!E133,IF(달력!$S$25=\"순서3\",근무!F133,IF(달력!$S$25=\"순서4\",근무!G133,IF(달력!$S$25=\"순서5\",근무!H133,IF(달력!$S$25=\"순서6\",근무!I133,\"\"))))))","v":"주간"},{"$f":"IF(달력!$S$26=\"순서1\",근무!D133,IF(달력!$S$26=\"순서2\",근무!E133,IF(달력!$S$26=\"순서3\",근무!F133,IF(달력!$S$26=\"순서4\",근무!G133,IF(달력!$S$26=\"순서5\",근무!H133,IF(달력!$S$26=\"순서6\",근무!I133,\"\"))))))","v":"야간"},{"$f":"IF(달력!$S$27=\"순서1\",근무!D133,IF(달력!$S$27=\"순서2\",근무!E133,IF(달력!$S$27=\"순서3\",근무!F133,IF(달력!$S$27=\"순서4\",근무!G133,IF(달력!$S$27=\"순서5\",근무!H133,IF(달력!$S$27=\"순서6\",근무!I133,\"\"))))))","v":"야간"},{"$f":"IF(달력!$S$28=\"순서1\",근무!D133,IF(달력!$S$28=\"순서2\",근무!E133,IF(달력!$S$28=\"순서3\",근무!F133,IF(달력!$S$28=\"순서4\",근무!G133,IF(달력!$S$28=\"순서5\",근무!H133,IF(달력!$S$28=\"순서6\",근무!I133,\"\"))))))","v":"비번"},{"$f":"IF(달력!$S$29=\"순서1\",근무!D133,IF(달력!$S$29=\"순서2\",근무!E133,IF(달력!$S$29=\"순서3\",근무!F133,IF(달력!$S$29=\"순서4\",근무!G133,IF(달력!$S$29=\"순서5\",근무!H133,IF(달력!$S$29=\"순서6\",근무!I133,\"\"))))))","v":"비번"}]
[null,"2023-05-08","월",{"$f":"IF(달력!$S$24=\"순서1\",근무!D134,IF(달력!$S$24=\"순서2\",근무!E134,IF(달력!$S$24=\"순서3\",근무!F134,IF(달력!$S$24=\"순서4\",근무!G134,IF(달력!$S$24=\"순서5\",근무!H134,IF(달력!$S$24=\"순서6\",근무!I134,\"\"))))))","v":"주간"},{"$f":"IF(달력!$S$25=\"순서1\",근무!D134,IF(달력!$S$25=\"순서2\",근무!E134,IF(달력!$S$25=\"순서3\",근무!F134,IF(달력!$S$25=\"순서4\",근무!G134,IF(달력!$S$25=\"순서5\",근무!H134,IF(달력!$S$25=\"순서6\",근무!I134,\"\"))))))","v":"주간"},{"$f":"IF(달력!$S$26=\"순서1\",근무!D134,IF(달력!$S$26=\"순서2\",근무!E134,IF(달력!$S$26=\"순서3\",근무!F134,IF(달력!$S$26=\"순서4\",근무!G134,IF(달력!$S$26=\"순서5\",근무!H134,IF(달력!$S$26=\"순서6\",근무!I134,\"\"))))))","v":"야간"},{"$f":"IF(달력!$S$27=\"순서1\",근무!D134,IF(달력!$S$27=\"순서2\",근무!E134,IF(달력!$S$27=\"순서3\",근무!F134,IF(달력!$S$27=\"순서4\",근무!G134,IF(달력!$S$27=\"순서5\",근무!H134,IF(달력!$S$27=\"순서6\",근무!I134,\"\"))))))","v":"야간"},{"$f":"IF(달력!$S$28=\"순서1\",근무!D134,IF(달력!$S$28=\"순서2\",근무!E134,IF(달력!$S$28=\"순서3\",근무!F134,IF(달력!$S$28=\"순서4\",근무!G134,IF(달력!$S$28=\"순서5\",근무!H134,IF(달력!$S$28=\"순서6\",근무!I134,\"\"))))))","v":"비번"},{"$f":"IF(달력!$S$29=\"순서1\",근무!D134,IF(달력!$S$29=\"순서2\",근무!E134,IF(달력!$S$29=\"순서3\",근무!F134,IF(달력!$S$29=\"순서4\",근무!G134,IF(달력!$S$29=\"순서5\",근무!H134,IF(달력!$S$29=\"순서6\",근무!I134,\"\"))))))","v":"비번"}]
[null,"2023-05-09","화",{"$f":"IF(달력!$S$24=\"순서1\",근무!D135,IF(달력!$S$24=\"순서2\",근무!E135,IF(달력!$S$24=\"순서3\",근무!F135,IF(달력!$S$24=\"순서4\",근무!G135,IF(달력!$S$24=\"순서5\",근무!H135,IF(달력!$S$24=\"순서6\",근무!I135,\"\"))))))","v":"야간"},{"$f":"IF(달력!$S$25=\"순서1\",근무!D135,IF(달력!$S$25=\"순서2\",근무!E135,IF(달력!$S$25=\"순서3\",근무!F135,IF(달력!$S$25=\"순서4\",근무!G135,IF(달력!$S$25=\"순서5\",근무!H135,IF(달력!$S$25=\"순서6\",근무!I135,\"\"))))))","v":"야간"},{"$f":"IF(달력!$S$26=\"순서1\",근무!D135,IF(달력!$S$26=\"순서2\",근무!E135,IF(달력!$S$26=\"순서3\",근무!F135,IF(달력!$S$26=\"순서4\",근무!G135,IF(달력!$S$26=\"순서5\",근무!H135,IF(달력!$S$26=\"순서6\",근무!I135,\"\"))))))","v":"비번"},{"$f":"IF(달력!$S$27=\"순서1\",근무!D135,IF(달력!$S$27=\"순서2\",근무!E135,IF(달력!$S$27=\"순서3\",근무!F135,IF(달력!$S$27=\"순서4\",근무!G135,IF(달력!$S$27=\"순서5\",근무!H135,IF(달력!$S$27=\"순서6\",근무!I135,\"\"))))))","v":"비번"},{"$f":"IF(달력!$S$28=\"순서1\",근무!D135,IF(달력!$S$28=\"순서2\",근무!E135,IF(달력!$S$28=\"순서3\",근무!F135,IF(달력!$S$28=\"순서4\",근무!G135,IF(달력!$S$28=\"순서5\",근무!H135,IF(달력!$S$28=\"순서6\",근무!I135,\"\"))))))","v":"주간"},{"$f":"IF(달력!$S$29=\"순서1\",근무!D135,IF(달력!$S$29=\"순서2\",근무!E135,IF(달력!$S$29=\"순서3\",근무!F135,IF(달력!$S$29=\"순서4\",근무!G135,IF(달력!$S$29=\"순서5\",근무!H135,IF(달력!$S$29=\"순서6\",근무!I135,\"\"))))))","v":"주간"}]
[null,"2023-05-10",{"$f":"CHOOSE(WEEKDAY(B136,1),\"일\",\"월\",\"화\",\"수\",\"목\",\"금\",\"토\")","v":"수"},{"$f":"IF(달력!$S$24=\"순서1\",근무!D136,IF(달력!$S$24=\"순서2\",근무!E136,IF(달력!$S$24=\"순서3\",근무!F136,IF(달력!$S$24=\"순서4\",근무!G136,IF(달력!$S$24=\"순서5\",근무!H136,IF(달력!$S$24=\"순서6\",근무!I136,\"\"))))))","v":"야간"},{"$f":"IF(달력!$S$25=\"순서1\",근무!D136,IF(달력!$S$25=\"순서2\",근무!E136,IF(달력!$S$25=\"순서3\",근무!F136,IF(달력!$S$25=\"순서4\",근무!G136,IF(달력!$S$25=\"순서5\",근무!H136,IF(달력!$S$25=\"순서6\",근무!I136,\"\"))))))","v":"야간"},{"$f":"IF(달력!$S$26=\"순서1\",근무!D136,IF(달력!$S$26=\"순서2\",근무!E136,IF(달력!$S$26=\"순서3\",근무!F136,IF(달력!$S$26=\"순서4\",근무!G136,IF(달력!$S$26=\"순서5\",근무!H136,IF(달력!$S$26=\"순서6\",근무!I136,\"\"))))))","v":"비번"},{"$f":"IF(달력!$S$27=\"순서1\",근무!D136,IF(달력!$S$27=\"순서2\",근무!E136,IF(달력!$S$27=\"순서3\",근무!F136,IF(달력!$S$27=\"순서4\",근무!G136,IF(달력!$S$27=\"순서5\",근무!H136,IF(달력!$S$27=\"순서6\",근무!I136,\"\"))))))","v":"비번"},{"$f":"IF(달력!$S$28=\"순서1\",근무!D136,IF(달력!$S$28=\"순서2\",근무!E136,IF(달력!$S$28=\"순서3\",근무!F136,IF(달력!$S$28=\"순서4\",근무!G136,IF(달력!$S$28=\"순서5\",근무!H136,IF(달력!$S$28=\"순서6\",근무!I136,\"\"))))))","v":"주간"},{"$f":"IF(달력!$S$29=\"순서1\",근무!D136,IF(달력!$S$29=\"순서2\",근무!E136,IF(달력!$S$29=\"순서3\",근무!F136,IF(달력!$S$29=\"순서4\",근무!G136,IF(달력!$S$29=\"순서5\",근무!H136,IF(달력!$S$29=\"순서6\",근무!I136,\"\"))))))","v":"주간"}]
[null,{"$f":"B136+1","v":"2023-05-11"},"목",{"$f":"IF(달력!$S$24=\"순서1\",근무!D137,IF(달력!$S$24=\"순서2\",근무!E137,IF(달력!$S$24=\"순서3\",근무!F137,IF(달력!$S$24=\"순서4\",근무!G137,IF(달력!$S$24=\"순서5\",근무!H137,IF(달력!$S$24=\"순서6\",근무!I137,\"\"))))))","v":"비번"},{"$f":"IF(달력!$S$25=\"순서1\",근무!D137,IF(달력!$S$25=\"순서2\",근무!E137,IF(달력!$S$25=\"순서3\",근무!F137,IF(달력!$S$25=\"순서4\",근무!G137,IF(달력!$S$25=\"순서5\",근무!H137,IF(달력!$S$25=\"순서6\",근무!I137,\"\"))))))","v":"비번"},{"$f":"IF(달력!$S$26=\"순서1\",근무!D137,IF(달력!$S$26=\"순서2\",근무!E137,IF(달력!$S$26=\"순서3\",근무!F137,IF(달력!$S$26=\"순서4\",근무!G137,IF(달력!$S$26=\"순서5\",근무!H137,IF(달력!$S$26=\"순서6\",근무!I137,\"\"))))))","v":"주간"},{"$f":"IF(달력!$S$27=\"순서1\",근무!D137,IF(달력!$S$27=\"순서2\",근무!E137,IF(달력!$S$27=\"순서3\",근무!F137,IF(달력!$S$27=\"순서4\",근무!G137,IF(달력!$S$27=\"순서5\",근무!H137,IF(달력!$S$27=\"순서6\",근무!I137,\"\"))))))","v":"주간"},{"$f":"IF(달력!$S$28=\"순서1\",근무!D137,IF(달력!$S$28=\"순서2\",근무!E137,IF(달력!$S$28=\"순서3\",근무!F137,IF(달력!$S$28=\"순서4\",근무!G137,IF(달력!$S$28=\"순서5\",근무!H137,IF(달력!$S$28=\"순서6\",근무!I137,\"\"))))))","v":"야간"},{"$f":"IF(달력!$S$29=\"순서1\",근무!D137,IF(달력!$S$29=\"순서2\",근무!E137,IF(달력!$S$29=\"순서3\",근무!F137,IF(달력!$S$29=\"순서4\",근무!G137,IF(달력!$S$29=\"순서5\",근무!H137,IF(달력!$S$29=\"순서6\",근무!I137,\"\"))))))","v":"야간"}]
[null,"2023-05-12","금",{"$f":"IF(달력!$S$24=\"순서1\",근무!D138,IF(달력!$S$24=\"순서2\",근무!E138,IF(달력!$S$24=\"순서3\",근무!F138,IF(달력!$S$24=\"순서4\",근무!G138,IF(달력!$S$24=\"순서5\",근무!H138,IF(달력!$S$24=\"순서6\",근무!I138,\"\"))))))","v":"비번"},{"$f":"IF(달력!$S$25=\"순서1\",근무!D138,IF(달력!$S$25=\"순서2\",근무!E138,IF(달력!$S$25=\"순서3\",근무!F138,IF(달력!$S$25=\"순서4\",근무!G138,IF(달력!$S$25=\"순서5\",근무!H138,IF(달력!$S$25=\"순서6\",근무!I138,\"\"))))))","v":"비번"},{"$f":"IF(달력!$S$26=\"순서1\",근무!D138,IF(달력!$S$26=\"순서2\",근무!E138,IF(달력!$S$26=\"순서3\",근무!F138,IF(달력!$S$26=\"순서4\",근무!G138,IF(달력!$S$26=\"순서5\",근무!H138,IF(달력!$S$26=\"순서6\",근무!I138,\"\"))))))","v":"주간"},{"$f":"IF(달력!$S$27=\"순서1\",근무!D138,IF(달력!$S$27=\"순서2\",근무!E138,IF(달력!$S$27=\"순서3\",근무!F138,IF(달력!$S$27=\"순서4\",근무!G138,IF(달력!$S$27=\"순서5\",근무!H138,IF(달력!$S$27=\"순서6\",근무!I138,\"\"))))))","v":"주간"},{"$f":"IF(달력!$S$28=\"순서1\",근무!D138,IF(달력!$S$28=\"순서2\",근무!E138,IF(달력!$S$28=\"순서3\",근무!F138,IF(달력!$S$28=\"순서4\",근무!G138,IF(달력!$S$28=\"순서5\",근무!H138,IF(달력!$S$28=\"순서6\",근무!I138,\"\"))))))","v":"야간"},{"$f":"IF(달력!$S$29=\"순서1\",근무!D138,IF(달력!$S$29=\"순서2\",근무!E138,IF(달력!$S$29=\"순서3\",근무!F138,IF(달력!$S$29=\"순서4\",근무!G138,IF(달력!$S$29=\"순서5\",근무!H138,IF(달력!$S$29=\"순서6\",근무!I138,\"\"))))))","v":"야간"}]
[null,"2023-05-13","토",{"$f":"IF(달력!$S$24=\"순서1\",근무!D139,IF(달력!$S$24=\"순서2\",근무!E139,IF(달력!$S$24=\"순서3\",근무!F139,IF(달력!$S$24=\"순서4\",근무!G139,IF(달력!$S$24=\"순서5\",근무!H139,IF(달력!$S$24=\"순서6\",근무!I139,\"\"))))))","v":"주간"},{"$f":"IF(달력!$S$25=\"순서1\",근무!D139,IF(달력!$S$25=\"순서2\",근무!E139,IF(달력!$S$25=\"순서3\",근무!F139,IF(달력!$S$25=\"순서4\",근무!G139,IF(달력!$S$25=\"순서5\",근무!H139,IF(달력!$S$25=\"순서6\",근무!I139,\"\"))))))","v":"주간"},{"$f":"IF(달력!$S$26=\"순서1\",근무!D139,IF(달력!$S$26=\"순서2\",근무!E139,IF(달력!$S$26=\"순서3\",근무!F139,IF(달력!$S$26=\"순서4\",근무!G139,IF(달력!$S$26=\"순서5\",근무!H139,IF(달력!$S$26=\"순서6\",근무!I139,\"\"))))))","v":"야간"},{"$f":"IF(달력!$S$27=\"순서1\",근무!D139,IF(달력!$S$27=\"순서2\",근무!E139,IF(달력!$S$27=\"순서3\",근무!F139,IF(달력!$S$27=\"순서4\",근무!G139,IF(달력!$S$27=\"순서5\",근무!H139,IF(달력!$S$27=\"순서6\",근무!I139,\"\"))))))","v":"야간"},{"$f":"IF(달력!$S$28=\"순서1\",근무!D139,IF(달력!$S$28=\"순서2\",근무!E139,IF(달력!$S$28=\"순서3\",근무!F139,IF(달력!$S$28=\"순서4\",근무!G139,IF(달력!$S$28=\"순서5\",근무!H139,IF(달력!$S$28=\"순서6\",근무!I139,\"\"))))))","v":"비번"},{"$f":"IF(달력!$S$29=\"순서1\",근무!D139,IF(달력!$S$29=\"순서2\",근무!E139,IF(달력!$S$29=\"순서3\",근무!F139,IF(달력!$S$29=\"순서4\",근무!G139,IF(달력!$S$29=\"순서5\",근무!H139,IF(달력!$S$29=\"순서6\",근무!I139,\"\"))))))","v":"비번"}]
[null,"2023-05-14","일",{"$f":"IF(달력!$S$24=\"순서1\",근무!D140,IF(달력!$S$24=\"순서2\",근무!E140,IF(달력!$S$24=\"순서3\",근무!F140,IF(달력!$S$24=\"순서4\",근무!G140,IF(달력!$S$24=\"순서5\",근무!H140,IF(달력!$S$24=\"순서6\",근무!I140,\"\"))))))","v":"주간"},{"$f":"IF(달력!$S$25=\"순서1\",근무!D140,IF(달력!$S$25=\"순서2\",근무!E140,IF(달력!$S$25=\"순서3\",근무!F140,IF(달력!$S$25=\"순서4\",근무!G140,IF(달력!$S$25=\"순서5\",근무!H140,IF(달력!$S$25=\"순서6\",근무!I140,\"\"))))))","v":"주간"},{"$f":"IF(달력!$S$26=\"순서1\",근무!D140,IF(달력!$S$26=\"순서2\",근무!E140,IF(달력!$S$26=\"순서3\",근무!F140,IF(달력!$S$26=\"순서4\",근무!G140,IF(달력!$S$26=\"순서5\",근무!H140,IF(달력!$S$26=\"순서6\",근무!I140,\"\"))))))","v":"야간"},{"$f":"IF(달력!$S$27=\"순서1\",근무!D140,IF(달력!$S$27=\"순서2\",근무!E140,IF(달력!$S$27=\"순서3\",근무!F140,IF(달력!$S$27=\"순서4\",근무!G140,IF(달력!$S$27=\"순서5\",근무!H140,IF(달력!$S$27=\"순서6\",근무!I140,\"\"))))))","v":"야간"},{"$f":"IF(달력!$S$28=\"순서1\",근무!D140,IF(달력!$S$28=\"순서2\",근무!E140,IF(달력!$S$28=\"순서3\",근무!F140,IF(달력!$S$28=\"순서4\",근무!G140,IF(달력!$S$28=\"순서5\",근무!H140,IF(달력!$S$28=\"순서6\",근무!I140,\"\"))))))","v":"비번"},{"$f":"IF(달력!$S$29=\"순서1\",근무!D140,IF(달력!$S$29=\"순서2\",근무!E140,IF(달력!$S$29=\"순서3\",근무!F140,IF(달력!$S$29=\"순서4\",근무!G140,IF(달력!$S$29=\"순서5\",근무!H140,IF(달력!$S$29=\"순서6\",근무!I140,\"\"))))))","v":"비번"}]
[null,"2023-05-15","월",{"$f":"IF(달력!$S$24=\"순서1\",근무!D141,IF(달력!$S$24=\"순서2\",근무!E141,IF(달력!$S$24=\"순서3\",근무!F141,IF(달력!$S$24=\"순서4\",근무!G141,IF(달력!$S$24=\"순서5\",근무!H141,IF(달력!$S$24=\"순서6\",근무!I141,\"\"))))))","v":"야간"},{"$f":"IF(달력!$S$25=\"순서1\",근무!D141,IF(달력!$S$25=\"순서2\",근무!E141,IF(달력!$S$25=\"순서3\",근무!F141,IF(달력!$S$25=\"순서4\",근무!G141,IF(달력!$S$25=\"순서5\",근무!H141,IF(달력!$S$25=\"순서6\",근무!I141,\"\"))))))","v":"야간"},{"$f":"IF(달력!$S$26=\"순서1\",근무!D141,IF(달력!$S$26=\"순서2\",근무!E141,IF(달력!$S$26=\"순서3\",근무!F141,IF(달력!$S$26=\"순서4\",근무!G141,IF(달력!$S$26=\"순서5\",근무!H141,IF(달력!$S$26=\"순서6\",근무!I141,\"\"))))))","v":"비번"},{"$f":"IF(달력!$S$27=\"순서1\",근무!D141,IF(달력!$S$27=\"순서2\",근무!E141,IF(달력!$S$27=\"순서3\",근무!F141,IF(달력!$S$27=\"순서4\",근무!G141,IF(달력!$S$27=\"순서5\",근무!H141,IF(달력!$S$27=\"순서6\",근무!I141,\"\"))))))","v":"비번"},{"$f":"IF(달력!$S$28=\"순서1\",근무!D141,IF(달력!$S$28=\"순서2\",근무!E141,IF(달력!$S$28=\"순서3\",근무!F141,IF(달력!$S$28=\"순서4\",근무!G141,IF(달력!$S$28=\"순서5\",근무!H141,IF(달력!$S$28=\"순서6\",근무!I141,\"\"))))))","v":"주간"},{"$f":"IF(달력!$S$29=\"순서1\",근무!D141,IF(달력!$S$29=\"순서2\",근무!E141,IF(달력!$S$29=\"순서3\",근무!F141,IF(달력!$S$29=\"순서4\",근무!G141,IF(달력!$S$29=\"순서5\",근무!H141,IF(달력!$S$29=\"순서6\",근무!I141,\"\"))))))","v":"주간"}]
[null,"2023-05-16","화",{"$f":"IF(달력!$S$24=\"순서1\",근무!D142,IF(달력!$S$24=\"순서2\",근무!E142,IF(달력!$S$24=\"순서3\",근무!F142,IF(달력!$S$24=\"순서4\",근무!G142,IF(달력!$S$24=\"순서5\",근무!H142,IF(달력!$S$24=\"순서6\",근무!I142,\"\"))))))","v":"야간"},{"$f":"IF(달력!$S$25=\"순서1\",근무!D142,IF(달력!$S$25=\"순서2\",근무!E142,IF(달력!$S$25=\"순서3\",근무!F142,IF(달력!$S$25=\"순서4\",근무!G142,IF(달력!$S$25=\"순서5\",근무!H142,IF(달력!$S$25=\"순서6\",근무!I142,\"\"))))))","v":"야간"},{"$f":"IF(달력!$S$26=\"순서1\",근무!D142,IF(달력!$S$26=\"순서2\",근무!E142,IF(달력!$S$26=\"순서3\",근무!F142,IF(달력!$S$26=\"순서4\",근무!G142,IF(달력!$S$26=\"순서5\",근무!H142,IF(달력!$S$26=\"순서6\",근무!I142,\"\"))))))","v":"비번"},{"$f":"IF(달력!$S$27=\"순서1\",근무!D142,IF(달력!$S$27=\"순서2\",근무!E142,IF(달력!$S$27=\"순서3\",근무!F142,IF(달력!$S$27=\"순서4\",근무!G142,IF(달력!$S$27=\"순서5\",근무!H142,IF(달력!$S$27=\"순서6\",근무!I142,\"\"))))))","v":"비번"},{"$f":"IF(달력!$S$28=\"순서1\",근무!D142,IF(달력!$S$28=\"순서2\",근무!E142,IF(달력!$S$28=\"순서3\",근무!F142,IF(달력!$S$28=\"순서4\",근무!G142,IF(달력!$S$28=\"순서5\",근무!H142,IF(달력!$S$28=\"순서6\",근무!I142,\"\"))))))","v":"주간"},{"$f":"IF(달력!$S$29=\"순서1\",근무!D142,IF(달력!$S$29=\"순서2\",근무!E142,IF(달력!$S$29=\"순서3\",근무!F142,IF(달력!$S$29=\"순서4\",근무!G142,IF(달력!$S$29=\"순서5\",근무!H142,IF(달력!$S$29=\"순서6\",근무!I142,\"\"))))))","v":"주간"}]
[null,"2023-05-17","수",{"$f":"IF(달력!$S$24=\"순서1\",근무!D143,IF(달력!$S$24=\"순서2\",근무!E143,IF(달력!$S$24=\"순서3\",근무!F143,IF(달력!$S$24=\"순서4\",근무!G143,IF(달력!$S$24=\"순서5\",근무!H143,IF(달력!$S$24=\"순서6\",근무!I143,\"\"))))))","v":"비번"},{"$f":"IF(달력!$S$25=\"순서1\",근무!D143,IF(달력!$S$25=\"순서2\",근무!E143,IF(달력!$S$25=\"순서3\",근무!F143,IF(달력!$S$25=\"순서4\",근무!G143,IF(달력!$S$25=\"순서5\",근무!H143,IF(달력!$S$25=\"순서6\",근무!I143,\"\"))))))","v":"비번"},{"$f":"IF(달력!$S$26=\"순서1\",근무!D143,IF(달력!$S$26=\"순서2\",근무!E143,IF(달력!$S$26=\"순서3\",근무!F143,IF(달력!$S$26=\"순서4\",근무!G143,IF(달력!$S$26=\"순서5\",근무!H143,IF(달력!$S$26=\"순서6\",근무!I143,\"\"))))))","v":"주간"},{"$f":"IF(달력!$S$27=\"순서1\",근무!D143,IF(달력!$S$27=\"순서2\",근무!E143,IF(달력!$S$27=\"순서3\",근무!F143,IF(달력!$S$27=\"순서4\",근무!G143,IF(달력!$S$27=\"순서5\",근무!H143,IF(달력!$S$27=\"순서6\",근무!I143,\"\"))))))","v":"주간"},{"$f":"IF(달력!$S$28=\"순서1\",근무!D143,IF(달력!$S$28=\"순서2\",근무!E143,IF(달력!$S$28=\"순서3\",근무!F143,IF(달력!$S$28=\"순서4\",근무!G143,IF(달력!$S$28=\"순서5\",근무!H143,IF(달력!$S$28=\"순서6\",근무!I143,\"\"))))))","v":"야간"},{"$f":"IF(달력!$S$29=\"순서1\",근무!D143,IF(달력!$S$29=\"순서2\",근무!E143,IF(달력!$S$29=\"순서3\",근무!F143,IF(달력!$S$29=\"순서4\",근무!G143,IF(달력!$S$29=\"순서5\",근무!H143,IF(달력!$S$29=\"순서6\",근무!I143,\"\"))))))","v":"야간"}]
[null,"2023-05-18","목",{"$f":"IF(달력!$S$24=\"순서1\",근무!D144,IF(달력!$S$24=\"순서2\",근무!E144,IF(달력!$S$24=\"순서3\",근무!F144,IF(달력!$S$24=\"순서4\",근무!G144,IF(달력!$S$24=\"순서5\",근무!H144,IF(달력!$S$24=\"순서6\",근무!I144,\"\"))))))","v":"비번"},{"$f":"IF(달력!$S$25=\"순서1\",근무!D144,IF(달력!$S$25=\"순서2\",근무!E144,IF(달력!$S$25=\"순서3\",근무!F144,IF(달력!$S$25=\"순서4\",근무!G144,IF(달력!$S$25=\"순서5\",근무!H144,IF(달력!$S$25=\"순서6\",근무!I144,\"\"))))))","v":"비번"},{"$f":"IF(달력!$S$26=\"순서1\",근무!D144,IF(달력!$S$26=\"순서2\",근무!E144,IF(달력!$S$26=\"순서3\",근무!F144,IF(달력!$S$26=\"순서4\",근무!G144,IF(달력!$S$26=\"순서5\",근무!H144,IF(달력!$S$26=\"순서6\",근무!I144,\"\"))))))","v":"주간"},{"$f":"IF(달력!$S$27=\"순서1\",근무!D144,IF(달력!$S$27=\"순서2\",근무!E144,IF(달력!$S$27=\"순서3\",근무!F144,IF(달력!$S$27=\"순서4\",근무!G144,IF(달력!$S$27=\"순서5\",근무!H144,IF(달력!$S$27=\"순서6\",근무!I144,\"\"))))))","v":"주간"},{"$f":"IF(달력!$S$28=\"순서1\",근무!D144,IF(달력!$S$28=\"순서2\",근무!E144,IF(달력!$S$28=\"순서3\",근무!F144,IF(달력!$S$28=\"순서4\",근무!G144,IF(달력!$S$28=\"순서5\",근무!H144,IF(달력!$S$28=\"순서6\",근무!I144,\"\"))))))","v":"야간"},{"$f":"IF(달력!$S$29=\"순서1\",근무!D144,IF(달력!$S$29=\"순서2\",근무!E144,IF(달력!$S$29=\"순서3\",근무!F144,IF(달력!$S$29=\"순서4\",근무!G144,IF(달력!$S$29=\"순서5\",근무!H144,IF(달력!$S$29=\"순서6\",근무!I144,\"\"))))))","v":"야간"}]
[null,"2023-05-19","금",{"$f":"IF(달력!$S$24=\"순서1\",근무!D145,IF(달력!$S$24=\"순서2\",근무!E145,IF(달력!$S$24=\"순서3\",근무!F145,IF(달력!$S$24=\"순서4\",근무!G145,IF(달력!$S$24=\"순서5\",근무!H145,IF(달력!$S$24=\"순서6\",근무!I145,\"\"))))))","v":"주간"},{"$f":"IF(달력!$S$25=\"순서1\",근무!D145,IF(달력!$S$25=\"순서2\",근무!E145,IF(달력!$S$25=\"순서3\",근무!F145,IF(달력!$S$25=\"순서4\",근무!G145,IF(달력!$S$25=\"순서5\",근무!H145,IF(달력!$S$25=\"순서6\",근무!I145,\"\"))))))","v":"주간"},{"$f":"IF(달력!$S$26=\"순서1\",근무!D145,IF(달력!$S$26=\"순서2\",근무!E145,IF(달력!$S$26=\"순서3\",근무!F145,IF(달력!$S$26=\"순서4\",근무!G145,IF(달력!$S$26=\"순서5\",근무!H145,IF(달력!$S$26=\"순서6\",근무!I145,\"\"))))))","v":"야간"},{"$f":"IF(달력!$S$27=\"순서1\",근무!D145,IF(달력!$S$27=\"순서2\",근무!E145,IF(달력!$S$27=\"순서3\",근무!F145,IF(달력!$S$27=\"순서4\",근무!G145,IF(달력!$S$27=\"순서5\",근무!H145,IF(달력!$S$27=\"순서6\",근무!I145,\"\"))))))","v":"야간"},{"$f":"IF(달력!$S$28=\"순서1\",근무!D145,IF(달력!$S$28=\"순서2\",근무!E145,IF(달력!$S$28=\"순서3\",근무!F145,IF(달력!$S$28=\"순서4\",근무!G145,IF(달력!$S$28=\"순서5\",근무!H145,IF(달력!$S$28=\"순서6\",근무!I145,\"\"))))))","v":"비번"},{"$f":"IF(달력!$S$29=\"순서1\",근무!D145,IF(달력!$S$29=\"순서2\",근무!E145,IF(달력!$S$29=\"순서3\",근무!F145,IF(달력!$S$29=\"순서4\",근무!G145,IF(달력!$S$29=\"순서5\",근무!H145,IF(달력!$S$29=\"순서6\",근무!I145,\"\"))))))","v":"비번"}]
[null,"2023-05-20","토",{"$f":"IF(달력!$S$24=\"순서1\",근무!D146,IF(달력!$S$24=\"순서2\",근무!E146,IF(달력!$S$24=\"순서3\",근무!F146,IF(달력!$S$24=\"순서4\",근무!G146,IF(달력!$S$24=\"순서5\",근무!H146,IF(달력!$S$24=\"순서6\",근무!I146,\"\"))))))","v":"주간"},{"$f":"IF(달력!$S$25=\"순서1\",근무!D146,IF(달력!$S$25=\"순서2\",근무!E146,IF(달력!$S$25=\"순서3\",근무!F146,IF(달력!$S$25=\"순서4\",근무!G146,IF(달력!$S$25=\"순서5\",근무!H146,IF(달력!$S$25=\"순서6\",근무!I146,\"\"))))))","v":"주간"},{"$f":"IF(달력!$S$26=\"순서1\",근무!D146,IF(달력!$S$26=\"순서2\",근무!E146,IF(달력!$S$26=\"순서3\",근무!F146,IF(달력!$S$26=\"순서4\",근무!G146,IF(달력!$S$26=\"순서5\",근무!H146,IF(달력!$S$26=\"순서6\",근무!I146,\"\"))))))","v":"야간"},{"$f":"IF(달력!$S$27=\"순서1\",근무!D146,IF(달력!$S$27=\"순서2\",근무!E146,IF(달력!$S$27=\"순서3\",근무!F146,IF(달력!$S$27=\"순서4\",근무!G146,IF(달력!$S$27=\"순서5\",근무!H146,IF(달력!$S$27=\"순서6\",근무!I146,\"\"))))))","v":"야간"},{"$f":"IF(달력!$S$28=\"순서1\",근무!D146,IF(달력!$S$28=\"순서2\",근무!E146,IF(달력!$S$28=\"순서3\",근무!F146,IF(달력!$S$28=\"순서4\",근무!G146,IF(달력!$S$28=\"순서5\",근무!H146,IF(달력!$S$28=\"순서6\",근무!I146,\"\"))))))","v":"비번"},{"$f":"IF(달력!$S$29=\"순서1\",근무!D146,IF(달력!$S$29=\"순서2\",근무!E146,IF(달력!$S$29=\"순서3\",근무!F146,IF(달력!$S$29=\"순서4\",근무!G146,IF(달력!$S$29=\"순서5\",근무!H146,IF(달력!$S$29=\"순서6\",근무!I146,\"\"))))))","v":"비번"}]
[null,"2023-05-21","일",{"$f":"IF(달력!$S$24=\"순서1\",근무!D147,IF(달력!$S$24=\"순서2\",근무!E147,IF(달력!$S$24=\"순서3\",근무!F147,IF(달력!$S$24=\"순서4\",근무!G147,IF(달력!$S$24=\"순서5\",근무!H147,IF(달력!$S$24=\"순서6\",근무!I147,\"\"))))))","v":"야간"},{"$f":"IF(달력!$S$25=\"순서1\",근무!D147,IF(달력!$S$25=\"순서2\",근무!E147,IF(달력!$S$25=\"순서3\",근무!F147,IF(달력!$S$25=\"순서4\",근무!G147,IF(달력!$S$25=\"순서5\",근무!H147,IF(달력!$S$25=\"순서6\",근무!I147,\"\"))))))","v":"야간"},{"$f":"IF(달력!$S$26=\"순서1\",근무!D147,IF(달력!$S$26=\"순서2\",근무!E147,IF(달력!$S$26=\"순서3\",근무!F147,IF(달력!$S$26=\"순서4\",근무!G147,IF(달력!$S$26=\"순서5\",근무!H147,IF(달력!$S$26=\"순서6\",근무!I147,\"\"))))))","v":"비번"},{"$f":"IF(달력!$S$27=\"순서1\",근무!D147,IF(달력!$S$27=\"순서2\",근무!E147,IF(달력!$S$27=\"순서3\",근무!F147,IF(달력!$S$27=\"순서4\",근무!G147,IF(달력!$S$27=\"순서5\",근무!H147,IF(달력!$S$27=\"순서6\",근무!I147,\"\"))))))","v":"비번"},{"$f":"IF(달력!$S$28=\"순서1\",근무!D147,IF(달력!$S$28=\"순서2\",근무!E147,IF(달력!$S$28=\"순서3\",근무!F147,IF(달력!$S$28=\"순서4\",근무!G147,IF(달력!$S$28=\"순서5\",근무!H147,IF(달력!$S$28=\"순서6\",근무!I147,\"\"))))))","v":"주간"},{"$f":"IF(달력!$S$29=\"순서1\",근무!D147,IF(달력!$S$29=\"순서2\",근무!E147,IF(달력!$S$29=\"순서3\",근무!F147,IF(달력!$S$29=\"순서4\",근무!G147,IF(달력!$S$29=\"순서5\",근무!H147,IF(달력!$S$29=\"순서6\",근무!I147,\"\"))))))","v":"주간"}]
[null,"2023-05-22","월",{"$f":"IF(달력!$S$24=\"순서1\",근무!D148,IF(달력!$S$24=\"순서2\",근무!E148,IF(달력!$S$24=\"순서3\",근무!F148,IF(달력!$S$24=\"순서4\",근무!G148,IF(달력!$S$24=\"순서5\",근무!H148,IF(달력!$S$24=\"순서6\",근무!I148,\"\"))))))","v":"야간"},{"$f":"IF(달력!$S$25=\"순서1\",근무!D148,IF(달력!$S$25=\"순서2\",근무!E148,IF(달력!$S$25=\"순서3\",근무!F148,IF(달력!$S$25=\"순서4\",근무!G148,IF(달력!$S$25=\"순서5\",근무!H148,IF(달력!$S$25=\"순서6\",근무!I148,\"\"))))))","v":"야간"},{"$f":"IF(달력!$S$26=\"순서1\",근무!D148,IF(달력!$S$26=\"순서2\",근무!E148,IF(달력!$S$26=\"순서3\",근무!F148,IF(달력!$S$26=\"순서4\",근무!G148,IF(달력!$S$26=\"순서5\",근무!H148,IF(달력!$S$26=\"순서6\",근무!I148,\"\"))))))","v":"비번"},{"$f":"IF(달력!$S$27=\"순서1\",근무!D148,IF(달력!$S$27=\"순서2\",근무!E148,IF(달력!$S$27=\"순서3\",근무!F148,IF(달력!$S$27=\"순서4\",근무!G148,IF(달력!$S$27=\"순서5\",근무!H148,IF(달력!$S$27=\"순서6\",근무!I148,\"\"))))))","v":"비번"},{"$f":"IF(달력!$S$28=\"순서1\",근무!D148,IF(달력!$S$28=\"순서2\",근무!E148,IF(달력!$S$28=\"순서3\",근무!F148,IF(달력!$S$28=\"순서4\",근무!G148,IF(달력!$S$28=\"순서5\",근무!H148,IF(달력!$S$28=\"순서6\",근무!I148,\"\"))))))","v":"주간"},{"$f":"IF(달력!$S$29=\"순서1\",근무!D148,IF(달력!$S$29=\"순서2\",근무!E148,IF(달력!$S$29=\"순서3\",근무!F148,IF(달력!$S$29=\"순서4\",근무!G148,IF(달력!$S$29=\"순서5\",근무!H148,IF(달력!$S$29=\"순서6\",근무!I148,\"\"))))))","v":"주간"}]
[null,"2023-05-23","화",{"$f":"IF(달력!$S$24=\"순서1\",근무!D149,IF(달력!$S$24=\"순서2\",근무!E149,IF(달력!$S$24=\"순서3\",근무!F149,IF(달력!$S$24=\"순서4\",근무!G149,IF(달력!$S$24=\"순서5\",근무!H149,IF(달력!$S$24=\"순서6\",근무!I149,\"\"))))))","v":"비번"},{"$f":"IF(달력!$S$25=\"순서1\",근무!D149,IF(달력!$S$25=\"순서2\",근무!E149,IF(달력!$S$25=\"순서3\",근무!F149,IF(달력!$S$25=\"순서4\",근무!G149,IF(달력!$S$25=\"순서5\",근무!H149,IF(달력!$S$25=\"순서6\",근무!I149,\"\"))))))","v":"비번"},{"$f":"IF(달력!$S$26=\"순서1\",근무!D149,IF(달력!$S$26=\"순서2\",근무!E149,IF(달력!$S$26=\"순서3\",근무!F149,IF(달력!$S$26=\"순서4\",근무!G149,IF(달력!$S$26=\"순서5\",근무!H149,IF(달력!$S$26=\"순서6\",근무!I149,\"\"))))))","v":"주간"},{"$f":"IF(달력!$S$27=\"순서1\",근무!D149,IF(달력!$S$27=\"순서2\",근무!E149,IF(달력!$S$27=\"순서3\",근무!F149,IF(달력!$S$27=\"순서4\",근무!G149,IF(달력!$S$27=\"순서5\",근무!H149,IF(달력!$S$27=\"순서6\",근무!I149,\"\"))))))","v":"주간"},{"$f":"IF(달력!$S$28=\"순서1\",근무!D149,IF(달력!$S$28=\"순서2\",근무!E149,IF(달력!$S$28=\"순서3\",근무!F149,IF(달력!$S$28=\"순서4\",근무!G149,IF(달력!$S$28=\"순서5\",근무!H149,IF(달력!$S$28=\"순서6\",근무!I149,\"\"))))))","v":"야간"},{"$f":"IF(달력!$S$29=\"순서1\",근무!D149,IF(달력!$S$29=\"순서2\",근무!E149,IF(달력!$S$29=\"순서3\",근무!F149,IF(달력!$S$29=\"순서4\",근무!G149,IF(달력!$S$29=\"순서5\",근무!H149,IF(달력!$S$29=\"순서6\",근무!I149,\"\"))))))","v":"야간"}]
[null,"2023-05-24","수",{"$f":"IF(달력!$S$24=\"순서1\",근무!D150,IF(달력!$S$24=\"순서2\",근무!E150,IF(달력!$S$24=\"순서3\",근무!F150,IF(달력!$S$24=\"순서4\",근무!G150,IF(달력!$S$24=\"순서5\",근무!H150,IF(달력!$S$24=\"순서6\",근무!I150,\"\"))))))","v":"비번"},{"$f":"IF(달력!$S$25=\"순서1\",근무!D150,IF(달력!$S$25=\"순서2\",근무!E150,IF(달력!$S$25=\"순서3\",근무!F150,IF(달력!$S$25=\"순서4\",근무!G150,IF(달력!$S$25=\"순서5\",근무!H150,IF(달력!$S$25=\"순서6\",근무!I150,\"\"))))))","v":"비번"},{"$f":"IF(달력!$S$26=\"순서1\",근무!D150,IF(달력!$S$26=\"순서2\",근무!E150,IF(달력!$S$26=\"순서3\",근무!F150,IF(달력!$S$26=\"순서4\",근무!G150,IF(달력!$S$26=\"순서5\",근무!H150,IF(달력!$S$26=\"순서6\",근무!I150,\"\"))))))","v":"주간"},{"$f":"IF(달력!$S$27=\"순서1\",근무!D150,IF(달력!$S$27=\"순서2\",근무!E150,IF(달력!$S$27=\"순서3\",근무!F150,IF(달력!$S$27=\"순서4\",근무!G150,IF(달력!$S$27=\"순서5\",근무!H150,IF(달력!$S$27=\"순서6\",근무!I150,\"\"))))))","v":"주간"},{"$f":"IF(달력!$S$28=\"순서1\",근무!D150,IF(달력!$S$28=\"순서2\",근무!E150,IF(달력!$S$28=\"순서3\",근무!F150,IF(달력!$S$28=\"순서4\",근무!G150,IF(달력!$S$28=\"순서5\",근무!H150,IF(달력!$S$28=\"순서6\",근무!I150,\"\"))))))","v":"야간"},{"$f":"IF(달력!$S$29=\"순서1\",근무!D150,IF(달력!$S$29=\"순서2\",근무!E150,IF(달력!$S$29=\"순서3\",근무!F150,IF(달력!$S$29=\"순서4\",근무!G150,IF(달력!$S$29=\"순서5\",근무!H150,IF(달력!$S$29=\"순서6\",근무!I150,\"\"))))))","v":"야간"}]
[null,"2023-05-25","목",{"$f":"IF(달력!$S$24=\"순서1\",근무!D151,IF(달력!$S$24=\"순서2\",근무!E151,IF(달력!$S$24=\"순서3\",근무!F151,IF(달력!$S$24=\"순서4\",근무!G151,IF(달력!$S$24=\"순서5\",근무!H151,IF(달력!$S$24=\"순서6\",근무!I151,\"\"))))))","v":"주간"},{"$f":"IF(달력!$S$25=\"순서1\",근무!D151,IF(달력!$S$25=\"순서2\",근무!E151,IF(달력!$S$25=\"순서3\",근무!F151,IF(달력!$S$25=\"순서4\",근무!G151,IF(달력!$S$25=\"순서5\",근무!H151,IF(달력!$S$25=\"순서6\",근무!I151,\"\"))))))","v":"주간"},{"$f":"IF(달력!$S$26=\"순서1\",근무!D151,IF(달력!$S$26=\"순서2\",근무!E151,IF(달력!$S$26=\"순서3\",근무!F151,IF(달력!$S$26=\"순서4\",근무!G151,IF(달력!$S$26=\"순서5\",근무!H151,IF(달력!$S$26=\"순서6\",근무!I151,\"\"))))))","v":"야간"},{"$f":"IF(달력!$S$27=\"순서1\",근무!D151,IF(달력!$S$27=\"순서2\",근무!E151,IF(달력!$S$27=\"순서3\",근무!F151,IF(달력!$S$27=\"순서4\",근무!G151,IF(달력!$S$27=\"순서5\",근무!H151,IF(달력!$S$27=\"순서6\",근무!I151,\"\"))))))","v":"야간"},{"$f":"IF(달력!$S$28=\"순서1\",근무!D151,IF(달력!$S$28=\"순서2\",근무!E151,IF(달력!$S$28=\"순서3\",근무!F151,IF(달력!$S$28=\"순서4\",근무!G151,IF(달력!$S$28=\"순서5\",근무!H151,IF(달력!$S$28=\"순서6\",근무!I151,\"\"))))))","v":"비번"},{"$f":"IF(달력!$S$29=\"순서1\",근무!D151,IF(달력!$S$29=\"순서2\",근무!E151,IF(달력!$S$29=\"순서3\",근무!F151,IF(달력!$S$29=\"순서4\",근무!G151,IF(달력!$S$29=\"순서5\",근무!H151,IF(달력!$S$29=\"순서6\",근무!I151,\"\"))))))","v":"비번"}]
[null,"2023-05-26","금",{"$f":"IF(달력!$S$24=\"순서1\",근무!D152,IF(달력!$S$24=\"순서2\",근무!E152,IF(달력!$S$24=\"순서3\",근무!F152,IF(달력!$S$24=\"순서4\",근무!G152,IF(달력!$S$24=\"순서5\",근무!H152,IF(달력!$S$24=\"순서6\",근무!I152,\"\"))))))","v":"주간"},{"$f":"IF(달력!$S$25=\"순서1\",근무!D152,IF(달력!$S$25=\"순서2\",근무!E152,IF(달력!$S$25=\"순서3\",근무!F152,IF(달력!$S$25=\"순서4\",근무!G152,IF(달력!$S$25=\"순서5\",근무!H152,IF(달력!$S$25=\"순서6\",근무!I152,\"\"))))))","v":"주간"},{"$f":"IF(달력!$S$26=\"순서1\",근무!D152,IF(달력!$S$26=\"순서2\",근무!E152,IF(달력!$S$26=\"순서3\",근무!F152,IF(달력!$S$26=\"순서4\",근무!G152,IF(달력!$S$26=\"순서5\",근무!H152,IF(달력!$S$26=\"순서6\",근무!I152,\"\"))))))","v":"야간"},{"$f":"IF(달력!$S$27=\"순서1\",근무!D152,IF(달력!$S$27=\"순서2\",근무!E152,IF(달력!$S$27=\"순서3\",근무!F152,IF(달력!$S$27=\"순서4\",근무!G152,IF(달력!$S$27=\"순서5\",근무!H152,IF(달력!$S$27=\"순서6\",근무!I152,\"\"))))))","v":"야간"},{"$f":"IF(달력!$S$28=\"순서1\",근무!D152,IF(달력!$S$28=\"순서2\",근무!E152,IF(달력!$S$28=\"순서3\",근무!F152,IF(달력!$S$28=\"순서4\",근무!G152,IF(달력!$S$28=\"순서5\",근무!H152,IF(달력!$S$28=\"순서6\",근무!I152,\"\"))))))","v":"비번"},{"$f":"IF(달력!$S$29=\"순서1\",근무!D152,IF(달력!$S$29=\"순서2\",근무!E152,IF(달력!$S$29=\"순서3\",근무!F152,IF(달력!$S$29=\"순서4\",근무!G152,IF(달력!$S$29=\"순서5\",근무!H152,IF(달력!$S$29=\"순서6\",근무!I152,\"\"))))))","v":"비번"}]
[null,"2023-05-27","토",{"$f":"IF(달력!$S$24=\"순서1\",근무!D153,IF(달력!$S$24=\"순서2\",근무!E153,IF(달력!$S$24=\"순서3\",근무!F153,IF(달력!$S$24=\"순서4\",근무!G153,IF(달력!$S$24=\"순서5\",근무!H153,IF(달력!$S$24=\"순서6\",근무!I153,\"\"))))))","v":"야간"},{"$f":"IF(달력!$S$25=\"순서1\",근무!D153,IF(달력!$S$25=\"순서2\",근무!E153,IF(달력!$S$25=\"순서3\",근무!F153,IF(달력!$S$25=\"순서4\",근무!G153,IF(달력!$S$25=\"순서5\",근무!H153,IF(달력!$S$25=\"순서6\",근무!I153,\"\"))))))","v":"야간"},{"$f":"IF(달력!$S$26=\"순서1\",근무!D153,IF(달력!$S$26=\"순서2\",근무!E153,IF(달력!$S$26=\"순서3\",근무!F153,IF(달력!$S$26=\"순서4\",근무!G153,IF(달력!$S$26=\"순서5\",근무!H153,IF(달력!$S$26=\"순서6\",근무!I153,\"\"))))))","v":"비번"},{"$f":"IF(달력!$S$27=\"순서1\",근무!D153,IF(달력!$S$27=\"순서2\",근무!E153,IF(달력!$S$27=\"순서3\",근무!F153,IF(달력!$S$27=\"순서4\",근무!G153,IF(달력!$S$27=\"순서5\",근무!H153,IF(달력!$S$27=\"순서6\",근무!I153,\"\"))))))","v":"비번"},{"$f":"IF(달력!$S$28=\"순서1\",근무!D153,IF(달력!$S$28=\"순서2\",근무!E153,IF(달력!$S$28=\"순서3\",근무!F153,IF(달력!$S$28=\"순서4\",근무!G153,IF(달력!$S$28=\"순서5\",근무!H153,IF(달력!$S$28=\"순서6\",근무!I153,\"\"))))))","v":"주간"},{"$f":"IF(달력!$S$29=\"순서1\",근무!D153,IF(달력!$S$29=\"순서2\",근무!E153,IF(달력!$S$29=\"순서3\",근무!F153,IF(달력!$S$29=\"순서4\",근무!G153,IF(달력!$S$29=\"순서5\",근무!H153,IF(달력!$S$29=\"순서6\",근무!I153,\"\"))))))","v":"주간"}]
[null,"2023-05-28","일",{"$f":"IF(달력!$S$24=\"순서1\",근무!D154,IF(달력!$S$24=\"순서2\",근무!E154,IF(달력!$S$24=\"순서3\",근무!F154,IF(달력!$S$24=\"순서4\",근무!G154,IF(달력!$S$24=\"순서5\",근무!H154,IF(달력!$S$24=\"순서6\",근무!I154,\"\"))))))","v":"야간"},{"$f":"IF(달력!$S$25=\"순서1\",근무!D154,IF(달력!$S$25=\"순서2\",근무!E154,IF(달력!$S$25=\"순서3\",근무!F154,IF(달력!$S$25=\"순서4\",근무!G154,IF(달력!$S$25=\"순서5\",근무!H154,IF(달력!$S$25=\"순서6\",근무!I154,\"\"))))))","v":"야간"},{"$f":"IF(달력!$S$26=\"순서1\",근무!D154,IF(달력!$S$26=\"순서2\",근무!E154,IF(달력!$S$26=\"순서3\",근무!F154,IF(달력!$S$26=\"순서4\",근무!G154,IF(달력!$S$26=\"순서5\",근무!H154,IF(달력!$S$26=\"순서6\",근무!I154,\"\"))))))","v":"비번"},{"$f":"IF(달력!$S$27=\"순서1\",근무!D154,IF(달력!$S$27=\"순서2\",근무!E154,IF(달력!$S$27=\"순서3\",근무!F154,IF(달력!$S$27=\"순서4\",근무!G154,IF(달력!$S$27=\"순서5\",근무!H154,IF(달력!$S$27=\"순서6\",근무!I154,\"\"))))))","v":"비번"},{"$f":"IF(달력!$S$28=\"순서1\",근무!D154,IF(달력!$S$28=\"순서2\",근무!E154,IF(달력!$S$28=\"순서3\",근무!F154,IF(달력!$S$28=\"순서4\",근무!G154,IF(달력!$S$28=\"순서5\",근무!H154,IF(달력!$S$28=\"순서6\",근무!I154,\"\"))))))","v":"주간"},{"$f":"IF(달력!$S$29=\"순서1\",근무!D154,IF(달력!$S$29=\"순서2\",근무!E154,IF(달력!$S$29=\"순서3\",근무!F154,IF(달력!$S$29=\"순서4\",근무!G154,IF(달력!$S$29=\"순서5\",근무!H154,IF(달력!$S$29=\"순서6\",근무!I154,\"\"))))))","v":"주간"}]
[null,"2023-05-29","월",{"$f":"IF(달력!$S$24=\"순서1\",근무!D155,IF(달력!$S$24=\"순서2\",근무!E155,IF(달력!$S$24=\"순서3\",근무!F155,IF(달력!$S$24=\"순서4\",근무!G155,IF(달력!$S$24=\"순서5\",근무!H155,IF(달력!$S$24=\"순서6\",근무!I155,\"\"))))))","v":"비번"},{"$f":"IF(달력!$S$25=\"순서1\",근무!D155,IF(달력!$S$25=\"순서2\",근무!E155,IF(달력!$S$25=\"순서3\",근무!F155,IF(달력!$S$25=\"순서4\",근무!G155,IF(달력!$S$25=\"순서5\",근무!H155,IF(달력!$S$25=\"순서6\",근무!I155,\"\"))))))","v":"비번"},{"$f":"IF(달력!$S$26=\"순서1\",근무!D155,IF(달력!$S$26=\"순서2\",근무!E155,IF(달력!$S$26=\"순서3\",근무!F155,IF(달력!$S$26=\"순서4\",근무!G155,IF(달력!$S$26=\"순서5\",근무!H155,IF(달력!$S$26=\"순서6\",근무!I155,\"\"))))))","v":"주간"},{"$f":"IF(달력!$S$27=\"순서1\",근무!D155,IF(달력!$S$27=\"순서2\",근무!E155,IF(달력!$S$27=\"순서3\",근무!F155,IF(달력!$S$27=\"순서4\",근무!G155,IF(달력!$S$27=\"순서5\",근무!H155,IF(달력!$S$27=\"순서6\",근무!I155,\"\"))))))","v":"주간"},{"$f":"IF(달력!$S$28=\"순서1\",근무!D155,IF(달력!$S$28=\"순서2\",근무!E155,IF(달력!$S$28=\"순서3\",근무!F155,IF(달력!$S$28=\"순서4\",근무!G155,IF(달력!$S$28=\"순서5\",근무!H155,IF(달력!$S$28=\"순서6\",근무!I155,\"\"))))))","v":"야간"},{"$f":"IF(달력!$S$29=\"순서1\",근무!D155,IF(달력!$S$29=\"순서2\",근무!E155,IF(달력!$S$29=\"순서3\",근무!F155,IF(달력!$S$29=\"순서4\",근무!G155,IF(달력!$S$29=\"순서5\",근무!H155,IF(달력!$S$29=\"순서6\",근무!I155,\"\"))))))","v":"야간"}]
[null,"2023-05-30","화",{"$f":"IF(달력!$S$24=\"순서1\",근무!D156,IF(달력!$S$24=\"순서2\",근무!E156,IF(달력!$S$24=\"순서3\",근무!F156,IF(달력!$S$24=\"순서4\",근무!G156,IF(달력!$S$24=\"순서5\",근무!H156,IF(달력!$S$24=\"순서6\",근무!I156,\"\"))))))","v":"비번"},{"$f":"IF(달력!$S$25=\"순서1\",근무!D156,IF(달력!$S$25=\"순서2\",근무!E156,IF(달력!$S$25=\"순서3\",근무!F156,IF(달력!$S$25=\"순서4\",근무!G156,IF(달력!$S$25=\"순서5\",근무!H156,IF(달력!$S$25=\"순서6\",근무!I156,\"\"))))))","v":"비번"},{"$f":"IF(달력!$S$26=\"순서1\",근무!D156,IF(달력!$S$26=\"순서2\",근무!E156,IF(달력!$S$26=\"순서3\",근무!F156,IF(달력!$S$26=\"순서4\",근무!G156,IF(달력!$S$26=\"순서5\",근무!H156,IF(달력!$S$26=\"순서6\",근무!I156,\"\"))))))","v":"주간"},{"$f":"IF(달력!$S$27=\"순서1\",근무!D156,IF(달력!$S$27=\"순서2\",근무!E156,IF(달력!$S$27=\"순서3\",근무!F156,IF(달력!$S$27=\"순서4\",근무!G156,IF(달력!$S$27=\"순서5\",근무!H156,IF(달력!$S$27=\"순서6\",근무!I156,\"\"))))))","v":"주간"},{"$f":"IF(달력!$S$28=\"순서1\",근무!D156,IF(달력!$S$28=\"순서2\",근무!E156,IF(달력!$S$28=\"순서3\",근무!F156,IF(달력!$S$28=\"순서4\",근무!G156,IF(달력!$S$28=\"순서5\",근무!H156,IF(달력!$S$28=\"순서6\",근무!I156,\"\"))))))","v":"야간"},{"$f":"IF(달력!$S$29=\"순서1\",근무!D156,IF(달력!$S$29=\"순서2\",근무!E156,IF(달력!$S$29=\"순서3\",근무!F156,IF(달력!$S$29=\"순서4\",근무!G156,IF(달력!$S$29=\"순서5\",근무!H156,IF(달력!$S$29=\"순서6\",근무!I156,\"\"))))))","v":"야간"}]
[null,"2023-05-31","수",{"$f":"IF(달력!$S$24=\"순서1\",근무!D157,IF(달력!$S$24=\"순서2\",근무!E157,IF(달력!$S$24=\"순서3\",근무!F157,IF(달력!$S$24=\"순서4\",근무!G157,IF(달력!$S$24=\"순서5\",근무!H157,IF(달력!$S$24=\"순서6\",근무!I157,\"\"))))))","v":"주간"},{"$f":"IF(달력!$S$25=\"순서1\",근무!D157,IF(달력!$S$25=\"순서2\",근무!E157,IF(달력!$S$25=\"순서3\",근무!F157,IF(달력!$S$25=\"순서4\",근무!G157,IF(달력!$S$25=\"순서5\",근무!H157,IF(달력!$S$25=\"순서6\",근무!I157,\"\"))))))","v":"주간"},{"$f":"IF(달력!$S$26=\"순서1\",근무!D157,IF(달력!$S$26=\"순서2\",근무!E157,IF(달력!$S$26=\"순서3\",근무!F157,IF(달력!$S$26=\"순서4\",근무!G157,IF(달력!$S$26=\"순서5\",근무!H157,IF(달력!$S$26=\"순서6\",근무!I157,\"\"))))))","v":"야간"},{"$f":"IF(달력!$S$27=\"순서1\",근무!D157,IF(달력!$S$27=\"순서2\",근무!E157,IF(달력!$S$27=\"순서3\",근무!F157,IF(달력!$S$27=\"순서4\",근무!G157,IF(달력!$S$27=\"순서5\",근무!H157,IF(달력!$S$27=\"순서6\",근무!I157,\"\"))))))","v":"야간"},{"$f":"IF(달력!$S$28=\"순서1\",근무!D157,IF(달력!$S$28=\"순서2\",근무!E157,IF(달력!$S$28=\"순서3\",근무!F157,IF(달력!$S$28=\"순서4\",근무!G157,IF(달력!$S$28=\"순서5\",근무!H157,IF(달력!$S$28=\"순서6\",근무!I157,\"\"))))))","v":"비번"},{"$f":"IF(달력!$S$29=\"순서1\",근무!D157,IF(달력!$S$29=\"순서2\",근무!E157,IF(달력!$S$29=\"순서3\",근무!F157,IF(달력!$S$29=\"순서4\",근무!G157,IF(달력!$S$29=\"순서5\",근무!H157,IF(달력!$S$29=\"순서6\",근무!I157,\"\"))))))","v":"비번"}]
[null,"2023-06-01","목",{"$f":"IF(달력!$S$24=\"순서1\",근무!D158,IF(달력!$S$24=\"순서2\",근무!E158,IF(달력!$S$24=\"순서3\",근무!F158,IF(달력!$S$24=\"순서4\",근무!G158,IF(달력!$S$24=\"순서5\",근무!H158,IF(달력!$S$24=\"순서6\",근무!I158,\"\"))))))","v":"주간"},{"$f":"IF(달력!$S$25=\"순서1\",근무!D158,IF(달력!$S$25=\"순서2\",근무!E158,IF(달력!$S$25=\"순서3\",근무!F158,IF(달력!$S$25=\"순서4\",근무!G158,IF(달력!$S$25=\"순서5\",근무!H158,IF(달력!$S$25=\"순서6\",근무!I158,\"\"))))))","v":"주간"},{"$f":"IF(달력!$S$26=\"순서1\",근무!D158,IF(달력!$S$26=\"순서2\",근무!E158,IF(달력!$S$26=\"순서3\",근무!F158,IF(달력!$S$26=\"순서4\",근무!G158,IF(달력!$S$26=\"순서5\",근무!H158,IF(달력!$S$26=\"순서6\",근무!I158,\"\"))))))","v":"야간"},{"$f":"IF(달력!$S$27=\"순서1\",근무!D158,IF(달력!$S$27=\"순서2\",근무!E158,IF(달력!$S$27=\"순서3\",근무!F158,IF(달력!$S$27=\"순서4\",근무!G158,IF(달력!$S$27=\"순서5\",근무!H158,IF(달력!$S$27=\"순서6\",근무!I158,\"\"))))))","v":"야간"},{"$f":"IF(달력!$S$28=\"순서1\",근무!D158,IF(달력!$S$28=\"순서2\",근무!E158,IF(달력!$S$28=\"순서3\",근무!F158,IF(달력!$S$28=\"순서4\",근무!G158,IF(달력!$S$28=\"순서5\",근무!H158,IF(달력!$S$28=\"순서6\",근무!I158,\"\"))))))","v":"비번"},{"$f":"IF(달력!$S$29=\"순서1\",근무!D158,IF(달력!$S$29=\"순서2\",근무!E158,IF(달력!$S$29=\"순서3\",근무!F158,IF(달력!$S$29=\"순서4\",근무!G158,IF(달력!$S$29=\"순서5\",근무!H158,IF(달력!$S$29=\"순서6\",근무!I158,\"\"))))))","v":"비번"}]
[null,"2023-06-02","금",{"$f":"IF(달력!$S$24=\"순서1\",근무!D159,IF(달력!$S$24=\"순서2\",근무!E159,IF(달력!$S$24=\"순서3\",근무!F159,IF(달력!$S$24=\"순서4\",근무!G159,IF(달력!$S$24=\"순서5\",근무!H159,IF(달력!$S$24=\"순서6\",근무!I159,\"\"))))))","v":"야간"},{"$f":"IF(달력!$S$25=\"순서1\",근무!D159,IF(달력!$S$25=\"순서2\",근무!E159,IF(달력!$S$25=\"순서3\",근무!F159,IF(달력!$S$25=\"순서4\",근무!G159,IF(달력!$S$25=\"순서5\",근무!H159,IF(달력!$S$25=\"순서6\",근무!I159,\"\"))))))","v":"야간"},{"$f":"IF(달력!$S$26=\"순서1\",근무!D159,IF(달력!$S$26=\"순서2\",근무!E159,IF(달력!$S$26=\"순서3\",근무!F159,IF(달력!$S$26=\"순서4\",근무!G159,IF(달력!$S$26=\"순서5\",근무!H159,IF(달력!$S$26=\"순서6\",근무!I159,\"\"))))))","v":"비번"},{"$f":"IF(달력!$S$27=\"순서1\",근무!D159,IF(달력!$S$27=\"순서2\",근무!E159,IF(달력!$S$27=\"순서3\",근무!F159,IF(달력!$S$27=\"순서4\",근무!G159,IF(달력!$S$27=\"순서5\",근무!H159,IF(달력!$S$27=\"순서6\",근무!I159,\"\"))))))","v":"비번"},{"$f":"IF(달력!$S$28=\"순서1\",근무!D159,IF(달력!$S$28=\"순서2\",근무!E159,IF(달력!$S$28=\"순서3\",근무!F159,IF(달력!$S$28=\"순서4\",근무!G159,IF(달력!$S$28=\"순서5\",근무!H159,IF(달력!$S$28=\"순서6\",근무!I159,\"\"))))))","v":"주간"},{"$f":"IF(달력!$S$29=\"순서1\",근무!D159,IF(달력!$S$29=\"순서2\",근무!E159,IF(달력!$S$29=\"순서3\",근무!F159,IF(달력!$S$29=\"순서4\",근무!G159,IF(달력!$S$29=\"순서5\",근무!H159,IF(달력!$S$29=\"순서6\",근무!I159,\"\"))))))","v":"주간"}]
[null,"2023-06-03","토",{"$f":"IF(달력!$S$24=\"순서1\",근무!D160,IF(달력!$S$24=\"순서2\",근무!E160,IF(달력!$S$24=\"순서3\",근무!F160,IF(달력!$S$24=\"순서4\",근무!G160,IF(달력!$S$24=\"순서5\",근무!H160,IF(달력!$S$24=\"순서6\",근무!I160,\"\"))))))","v":"야간"},{"$f":"IF(달력!$S$25=\"순서1\",근무!D160,IF(달력!$S$25=\"순서2\",근무!E160,IF(달력!$S$25=\"순서3\",근무!F160,IF(달력!$S$25=\"순서4\",근무!G160,IF(달력!$S$25=\"순서5\",근무!H160,IF(달력!$S$25=\"순서6\",근무!I160,\"\"))))))","v":"야간"},{"$f":"IF(달력!$S$26=\"순서1\",근무!D160,IF(달력!$S$26=\"순서2\",근무!E160,IF(달력!$S$26=\"순서3\",근무!F160,IF(달력!$S$26=\"순서4\",근무!G160,IF(달력!$S$26=\"순서5\",근무!H160,IF(달력!$S$26=\"순서6\",근무!I160,\"\"))))))","v":"비번"},{"$f":"IF(달력!$S$27=\"순서1\",근무!D160,IF(달력!$S$27=\"순서2\",근무!E160,IF(달력!$S$27=\"순서3\",근무!F160,IF(달력!$S$27=\"순서4\",근무!G160,IF(달력!$S$27=\"순서5\",근무!H160,IF(달력!$S$27=\"순서6\",근무!I160,\"\"))))))","v":"비번"},{"$f":"IF(달력!$S$28=\"순서1\",근무!D160,IF(달력!$S$28=\"순서2\",근무!E160,IF(달력!$S$28=\"순서3\",근무!F160,IF(달력!$S$28=\"순서4\",근무!G160,IF(달력!$S$28=\"순서5\",근무!H160,IF(달력!$S$28=\"순서6\",근무!I160,\"\"))))))","v":"주간"},{"$f":"IF(달력!$S$29=\"순서1\",근무!D160,IF(달력!$S$29=\"순서2\",근무!E160,IF(달력!$S$29=\"순서3\",근무!F160,IF(달력!$S$29=\"순서4\",근무!G160,IF(달력!$S$29=\"순서5\",근무!H160,IF(달력!$S$29=\"순서6\",근무!I160,\"\"))))))","v":"주간"}]
[null,"2023-06-04","일",{"$f":"IF(달력!$S$24=\"순서1\",근무!D161,IF(달력!$S$24=\"순서2\",근무!E161,IF(달력!$S$24=\"순서3\",근무!F161,IF(달력!$S$24=\"순서4\",근무!G161,IF(달력!$S$24=\"순서5\",근무!H161,IF(달력!$S$24=\"순서6\",근무!I161,\"\"))))))","v":"비번"},{"$f":"IF(달력!$S$25=\"순서1\",근무!D161,IF(달력!$S$25=\"순서2\",근무!E161,IF(달력!$S$25=\"순서3\",근무!F161,IF(달력!$S$25=\"순서4\",근무!G161,IF(달력!$S$25=\"순서5\",근무!H161,IF(달력!$S$25=\"순서6\",근무!I161,\"\"))))))","v":"비번"},{"$f":"IF(달력!$S$26=\"순서1\",근무!D161,IF(달력!$S$26=\"순서2\",근무!E161,IF(달력!$S$26=\"순서3\",근무!F161,IF(달력!$S$26=\"순서4\",근무!G161,IF(달력!$S$26=\"순서5\",근무!H161,IF(달력!$S$26=\"순서6\",근무!I161,\"\"))))))","v":"주간"},{"$f":"IF(달력!$S$27=\"순서1\",근무!D161,IF(달력!$S$27=\"순서2\",근무!E161,IF(달력!$S$27=\"순서3\",근무!F161,IF(달력!$S$27=\"순서4\",근무!G161,IF(달력!$S$27=\"순서5\",근무!H161,IF(달력!$S$27=\"순서6\",근무!I161,\"\"))))))","v":"주간"},{"$f":"IF(달력!$S$28=\"순서1\",근무!D161,IF(달력!$S$28=\"순서2\",근무!E161,IF(달력!$S$28=\"순서3\",근무!F161,IF(달력!$S$28=\"순서4\",근무!G161,IF(달력!$S$28=\"순서5\",근무!H161,IF(달력!$S$28=\"순서6\",근무!I161,\"\"))))))","v":"야간"},{"$f":"IF(달력!$S$29=\"순서1\",근무!D161,IF(달력!$S$29=\"순서2\",근무!E161,IF(달력!$S$29=\"순서3\",근무!F161,IF(달력!$S$29=\"순서4\",근무!G161,IF(달력!$S$29=\"순서5\",근무!H161,IF(달력!$S$29=\"순서6\",근무!I161,\"\"))))))","v":"야간"}]
[null,"2023-06-05","월",{"$f":"IF(달력!$S$24=\"순서1\",근무!D162,IF(달력!$S$24=\"순서2\",근무!E162,IF(달력!$S$24=\"순서3\",근무!F162,IF(달력!$S$24=\"순서4\",근무!G162,IF(달력!$S$24=\"순서5\",근무!H162,IF(달력!$S$24=\"순서6\",근무!I162,\"\"))))))","v":"비번"},{"$f":"IF(달력!$S$25=\"순서1\",근무!D162,IF(달력!$S$25=\"순서2\",근무!E162,IF(달력!$S$25=\"순서3\",근무!F162,IF(달력!$S$25=\"순서4\",근무!G162,IF(달력!$S$25=\"순서5\",근무!H162,IF(달력!$S$25=\"순서6\",근무!I162,\"\"))))))","v":"비번"},{"$f":"IF(달력!$S$26=\"순서1\",근무!D162,IF(달력!$S$26=\"순서2\",근무!E162,IF(달력!$S$26=\"순서3\",근무!F162,IF(달력!$S$26=\"순서4\",근무!G162,IF(달력!$S$26=\"순서5\",근무!H162,IF(달력!$S$26=\"순서6\",근무!I162,\"\"))))))","v":"주간"},{"$f":"IF(달력!$S$27=\"순서1\",근무!D162,IF(달력!$S$27=\"순서2\",근무!E162,IF(달력!$S$27=\"순서3\",근무!F162,IF(달력!$S$27=\"순서4\",근무!G162,IF(달력!$S$27=\"순서5\",근무!H162,IF(달력!$S$27=\"순서6\",근무!I162,\"\"))))))","v":"주간"},{"$f":"IF(달력!$S$28=\"순서1\",근무!D162,IF(달력!$S$28=\"순서2\",근무!E162,IF(달력!$S$28=\"순서3\",근무!F162,IF(달력!$S$28=\"순서4\",근무!G162,IF(달력!$S$28=\"순서5\",근무!H162,IF(달력!$S$28=\"순서6\",근무!I162,\"\"))))))","v":"야간"},{"$f":"IF(달력!$S$29=\"순서1\",근무!D162,IF(달력!$S$29=\"순서2\",근무!E162,IF(달력!$S$29=\"순서3\",근무!F162,IF(달력!$S$29=\"순서4\",근무!G162,IF(달력!$S$29=\"순서5\",근무!H162,IF(달력!$S$29=\"순서6\",근무!I162,\"\"))))))","v":"야간"}]
[null,"2023-06-06","화",{"$f":"IF(달력!$S$24=\"순서1\",근무!D163,IF(달력!$S$24=\"순서2\",근무!E163,IF(달력!$S$24=\"순서3\",근무!F163,IF(달력!$S$24=\"순서4\",근무!G163,IF(달력!$S$24=\"순서5\",근무!H163,IF(달력!$S$24=\"순서6\",근무!I163,\"\"))))))","v":"주간"},{"$f":"IF(달력!$S$25=\"순서1\",근무!D163,IF(달력!$S$25=\"순서2\",근무!E163,IF(달력!$S$25=\"순서3\",근무!F163,IF(달력!$S$25=\"순서4\",근무!G163,IF(달력!$S$25=\"순서5\",근무!H163,IF(달력!$S$25=\"순서6\",근무!I163,\"\"))))))","v":"주간"},{"$f":"IF(달력!$S$26=\"순서1\",근무!D163,IF(달력!$S$26=\"순서2\",근무!E163,IF(달력!$S$26=\"순서3\",근무!F163,IF(달력!$S$26=\"순서4\",근무!G163,IF(달력!$S$26=\"순서5\",근무!H163,IF(달력!$S$26=\"순서6\",근무!I163,\"\"))))))","v":"야간"},{"$f":"IF(달력!$S$27=\"순서1\",근무!D163,IF(달력!$S$27=\"순서2\",근무!E163,IF(달력!$S$27=\"순서3\",근무!F163,IF(달력!$S$27=\"순서4\",근무!G163,IF(달력!$S$27=\"순서5\",근무!H163,IF(달력!$S$27=\"순서6\",근무!I163,\"\"))))))","v":"야간"},{"$f":"IF(달력!$S$28=\"순서1\",근무!D163,IF(달력!$S$28=\"순서2\",근무!E163,IF(달력!$S$28=\"순서3\",근무!F163,IF(달력!$S$28=\"순서4\",근무!G163,IF(달력!$S$28=\"순서5\",근무!H163,IF(달력!$S$28=\"순서6\",근무!I163,\"\"))))))","v":"비번"},{"$f":"IF(달력!$S$29=\"순서1\",근무!D163,IF(달력!$S$29=\"순서2\",근무!E163,IF(달력!$S$29=\"순서3\",근무!F163,IF(달력!$S$29=\"순서4\",근무!G163,IF(달력!$S$29=\"순서5\",근무!H163,IF(달력!$S$29=\"순서6\",근무!I163,\"\"))))))","v":"비번"}]
[null,"2023-06-07","수",{"$f":"IF(달력!$S$24=\"순서1\",근무!D164,IF(달력!$S$24=\"순서2\",근무!E164,IF(달력!$S$24=\"순서3\",근무!F164,IF(달력!$S$24=\"순서4\",근무!G164,IF(달력!$S$24=\"순서5\",근무!H164,IF(달력!$S$24=\"순서6\",근무!I164,\"\"))))))","v":"주간"},{"$f":"IF(달력!$S$25=\"순서1\",근무!D164,IF(달력!$S$25=\"순서2\",근무!E164,IF(달력!$S$25=\"순서3\",근무!F164,IF(달력!$S$25=\"순서4\",근무!G164,IF(달력!$S$25=\"순서5\",근무!H164,IF(달력!$S$25=\"순서6\",근무!I164,\"\"))))))","v":"주간"},{"$f":"IF(달력!$S$26=\"순서1\",근무!D164,IF(달력!$S$26=\"순서2\",근무!E164,IF(달력!$S$26=\"순서3\",근무!F164,IF(달력!$S$26=\"순서4\",근무!G164,IF(달력!$S$26=\"순서5\",근무!H164,IF(달력!$S$26=\"순서6\",근무!I164,\"\"))))))","v":"야간"},{"$f":"IF(달력!$S$27=\"순서1\",근무!D164,IF(달력!$S$27=\"순서2\",근무!E164,IF(달력!$S$27=\"순서3\",근무!F164,IF(달력!$S$27=\"순서4\",근무!G164,IF(달력!$S$27=\"순서5\",근무!H164,IF(달력!$S$27=\"순서6\",근무!I164,\"\"))))))","v":"야간"},{"$f":"IF(달력!$S$28=\"순서1\",근무!D164,IF(달력!$S$28=\"순서2\",근무!E164,IF(달력!$S$28=\"순서3\",근무!F164,IF(달력!$S$28=\"순서4\",근무!G164,IF(달력!$S$28=\"순서5\",근무!H164,IF(달력!$S$28=\"순서6\",근무!I164,\"\"))))))","v":"비번"},{"$f":"IF(달력!$S$29=\"순서1\",근무!D164,IF(달력!$S$29=\"순서2\",근무!E164,IF(달력!$S$29=\"순서3\",근무!F164,IF(달력!$S$29=\"순서4\",근무!G164,IF(달력!$S$29=\"순서5\",근무!H164,IF(달력!$S$29=\"순서6\",근무!I164,\"\"))))))","v":"비번"}]
[null,"2023-06-08","목",{"$f":"IF(달력!$S$24=\"순서1\",근무!D165,IF(달력!$S$24=\"순서2\",근무!E165,IF(달력!$S$24=\"순서3\",근무!F165,IF(달력!$S$24=\"순서4\",근무!G165,IF(달력!$S$24=\"순서5\",근무!H165,IF(달력!$S$24=\"순서6\",근무!I165,\"\"))))))","v":"야간"},{"$f":"IF(달력!$S$25=\"순서1\",근무!D165,IF(달력!$S$25=\"순서2\",근무!E165,IF(달력!$S$25=\"순서3\",근무!F165,IF(달력!$S$25=\"순서4\",근무!G165,IF(달력!$S$25=\"순서5\",근무!H165,IF(달력!$S$25=\"순서6\",근무!I165,\"\"))))))","v":"야간"},{"$f":"IF(달력!$S$26=\"순서1\",근무!D165,IF(달력!$S$26=\"순서2\",근무!E165,IF(달력!$S$26=\"순서3\",근무!F165,IF(달력!$S$26=\"순서4\",근무!G165,IF(달력!$S$26=\"순서5\",근무!H165,IF(달력!$S$26=\"순서6\",근무!I165,\"\"))))))","v":"비번"},{"$f":"IF(달력!$S$27=\"순서1\",근무!D165,IF(달력!$S$27=\"순서2\",근무!E165,IF(달력!$S$27=\"순서3\",근무!F165,IF(달력!$S$27=\"순서4\",근무!G165,IF(달력!$S$27=\"순서5\",근무!H165,IF(달력!$S$27=\"순서6\",근무!I165,\"\"))))))","v":"비번"},{"$f":"IF(달력!$S$28=\"순서1\",근무!D165,IF(달력!$S$28=\"순서2\",근무!E165,IF(달력!$S$28=\"순서3\",근무!F165,IF(달력!$S$28=\"순서4\",근무!G165,IF(달력!$S$28=\"순서5\",근무!H165,IF(달력!$S$28=\"순서6\",근무!I165,\"\"))))))","v":"주간"},{"$f":"IF(달력!$S$29=\"순서1\",근무!D165,IF(달력!$S$29=\"순서2\",근무!E165,IF(달력!$S$29=\"순서3\",근무!F165,IF(달력!$S$29=\"순서4\",근무!G165,IF(달력!$S$29=\"순서5\",근무!H165,IF(달력!$S$29=\"순서6\",근무!I165,\"\"))))))","v":"주간"}]
[null,"2023-06-09","금",{"$f":"IF(달력!$S$24=\"순서1\",근무!D166,IF(달력!$S$24=\"순서2\",근무!E166,IF(달력!$S$24=\"순서3\",근무!F166,IF(달력!$S$24=\"순서4\",근무!G166,IF(달력!$S$24=\"순서5\",근무!H166,IF(달력!$S$24=\"순서6\",근무!I166,\"\"))))))","v":"야간"},{"$f":"IF(달력!$S$25=\"순서1\",근무!D166,IF(달력!$S$25=\"순서2\",근무!E166,IF(달력!$S$25=\"순서3\",근무!F166,IF(달력!$S$25=\"순서4\",근무!G166,IF(달력!$S$25=\"순서5\",근무!H166,IF(달력!$S$25=\"순서6\",근무!I166,\"\"))))))","v":"야간"},{"$f":"IF(달력!$S$26=\"순서1\",근무!D166,IF(달력!$S$26=\"순서2\",근무!E166,IF(달력!$S$26=\"순서3\",근무!F166,IF(달력!$S$26=\"순서4\",근무!G166,IF(달력!$S$26=\"순서5\",근무!H166,IF(달력!$S$26=\"순서6\",근무!I166,\"\"))))))","v":"비번"},{"$f":"IF(달력!$S$27=\"순서1\",근무!D166,IF(달력!$S$27=\"순서2\",근무!E166,IF(달력!$S$27=\"순서3\",근무!F166,IF(달력!$S$27=\"순서4\",근무!G166,IF(달력!$S$27=\"순서5\",근무!H166,IF(달력!$S$27=\"순서6\",근무!I166,\"\"))))))","v":"비번"},{"$f":"IF(달력!$S$28=\"순서1\",근무!D166,IF(달력!$S$28=\"순서2\",근무!E166,IF(달력!$S$28=\"순서3\",근무!F166,IF(달력!$S$28=\"순서4\",근무!G166,IF(달력!$S$28=\"순서5\",근무!H166,IF(달력!$S$28=\"순서6\",근무!I166,\"\"))))))","v":"주간"},{"$f":"IF(달력!$S$29=\"순서1\",근무!D166,IF(달력!$S$29=\"순서2\",근무!E166,IF(달력!$S$29=\"순서3\",근무!F166,IF(달력!$S$29=\"순서4\",근무!G166,IF(달력!$S$29=\"순서5\",근무!H166,IF(달력!$S$29=\"순서6\",근무!I166,\"\"))))))","v":"주간"}]
[null,"2023-06-10","토",{"$f":"IF(달력!$S$24=\"순서1\",근무!D167,IF(달력!$S$24=\"순서2\",근무!E167,IF(달력!$S$24=\"순서3\",근무!F167,IF(달력!$S$24=\"순서4\",근무!G167,IF(달력!$S$24=\"순서5\",근무!H167,IF(달력!$S$24=\"순서6\",근무!I167,\"\"))))))","v":"비번"},{"$f":"IF(달력!$S$25=\"순서1\",근무!D167,IF(달력!$S$25=\"순서2\",근무!E167,IF(달력!$S$25=\"순서3\",근무!F167,IF(달력!$S$25=\"순서4\",근무!G167,IF(달력!$S$25=\"순서5\",근무!H167,IF(달력!$S$25=\"순서6\",근무!I167,\"\"))))))","v":"비번"},{"$f":"IF(달력!$S$26=\"순서1\",근무!D167,IF(달력!$S$26=\"순서2\",근무!E167,IF(달력!$S$26=\"순서3\",근무!F167,IF(달력!$S$26=\"순서4\",근무!G167,IF(달력!$S$26=\"순서5\",근무!H167,IF(달력!$S$26=\"순서6\",근무!I167,\"\"))))))","v":"주간"},{"$f":"IF(달력!$S$27=\"순서1\",근무!D167,IF(달력!$S$27=\"순서2\",근무!E167,IF(달력!$S$27=\"순서3\",근무!F167,IF(달력!$S$27=\"순서4\",근무!G167,IF(달력!$S$27=\"순서5\",근무!H167,IF(달력!$S$27=\"순서6\",근무!I167,\"\"))))))","v":"주간"},{"$f":"IF(달력!$S$28=\"순서1\",근무!D167,IF(달력!$S$28=\"순서2\",근무!E167,IF(달력!$S$28=\"순서3\",근무!F167,IF(달력!$S$28=\"순서4\",근무!G167,IF(달력!$S$28=\"순서5\",근무!H167,IF(달력!$S$28=\"순서6\",근무!I167,\"\"))))))","v":"야간"},{"$f":"IF(달력!$S$29=\"순서1\",근무!D167,IF(달력!$S$29=\"순서2\",근무!E167,IF(달력!$S$29=\"순서3\",근무!F167,IF(달력!$S$29=\"순서4\",근무!G167,IF(달력!$S$29=\"순서5\",근무!H167,IF(달력!$S$29=\"순서6\",근무!I167,\"\"))))))","v":"야간"}]
[null,"2023-06-11","일",{"$f":"IF(달력!$S$24=\"순서1\",근무!D168,IF(달력!$S$24=\"순서2\",근무!E168,IF(달력!$S$24=\"순서3\",근무!F168,IF(달력!$S$24=\"순서4\",근무!G168,IF(달력!$S$24=\"순서5\",근무!H168,IF(달력!$S$24=\"순서6\",근무!I168,\"\"))))))","v":"비번"},{"$f":"IF(달력!$S$25=\"순서1\",근무!D168,IF(달력!$S$25=\"순서2\",근무!E168,IF(달력!$S$25=\"순서3\",근무!F168,IF(달력!$S$25=\"순서4\",근무!G168,IF(달력!$S$25=\"순서5\",근무!H168,IF(달력!$S$25=\"순서6\",근무!I168,\"\"))))))","v":"비번"},{"$f":"IF(달력!$S$26=\"순서1\",근무!D168,IF(달력!$S$26=\"순서2\",근무!E168,IF(달력!$S$26=\"순서3\",근무!F168,IF(달력!$S$26=\"순서4\",근무!G168,IF(달력!$S$26=\"순서5\",근무!H168,IF(달력!$S$26=\"순서6\",근무!I168,\"\"))))))","v":"주간"},{"$f":"IF(달력!$S$27=\"순서1\",근무!D168,IF(달력!$S$27=\"순서2\",근무!E168,IF(달력!$S$27=\"순서3\",근무!F168,IF(달력!$S$27=\"순서4\",근무!G168,IF(달력!$S$27=\"순서5\",근무!H168,IF(달력!$S$27=\"순서6\",근무!I168,\"\"))))))","v":"주간"},{"$f":"IF(달력!$S$28=\"순서1\",근무!D168,IF(달력!$S$28=\"순서2\",근무!E168,IF(달력!$S$28=\"순서3\",근무!F168,IF(달력!$S$28=\"순서4\",근무!G168,IF(달력!$S$28=\"순서5\",근무!H168,IF(달력!$S$28=\"순서6\",근무!I168,\"\"))))))","v":"야간"},{"$f":"IF(달력!$S$29=\"순서1\",근무!D168,IF(달력!$S$29=\"순서2\",근무!E168,IF(달력!$S$29=\"순서3\",근무!F168,IF(달력!$S$29=\"순서4\",근무!G168,IF(달력!$S$29=\"순서5\",근무!H168,IF(달력!$S$29=\"순서6\",근무!I168,\"\"))))))","v":"야간"}]
[null,"2023-06-12","월",{"$f":"IF(달력!$S$24=\"순서1\",근무!D169,IF(달력!$S$24=\"순서2\",근무!E169,IF(달력!$S$24=\"순서3\",근무!F169,IF(달력!$S$24=\"순서4\",근무!G169,IF(달력!$S$24=\"순서5\",근무!H169,IF(달력!$S$24=\"순서6\",근무!I169,\"\"))))))","v":"주간"},{"$f":"IF(달력!$S$25=\"순서1\",근무!D169,IF(달력!$S$25=\"순서2\",근무!E169,IF(달력!$S$25=\"순서3\",근무!F169,IF(달력!$S$25=\"순서4\",근무!G169,IF(달력!$S$25=\"순서5\",근무!H169,IF(달력!$S$25=\"순서6\",근무!I169,\"\"))))))","v":"주간"},{"$f":"IF(달력!$S$26=\"순서1\",근무!D169,IF(달력!$S$26=\"순서2\",근무!E169,IF(달력!$S$26=\"순서3\",근무!F169,IF(달력!$S$26=\"순서4\",근무!G169,IF(달력!$S$26=\"순서5\",근무!H169,IF(달력!$S$26=\"순서6\",근무!I169,\"\"))))))","v":"야간"},{"$f":"IF(달력!$S$27=\"순서1\",근무!D169,IF(달력!$S$27=\"순서2\",근무!E169,IF(달력!$S$27=\"순서3\",근무!F169,IF(달력!$S$27=\"순서4\",근무!G169,IF(달력!$S$27=\"순서5\",근무!H169,IF(달력!$S$27=\"순서6\",근무!I169,\"\"))))))","v":"야간"},{"$f":"IF(달력!$S$28=\"순서1\",근무!D169,IF(달력!$S$28=\"순서2\",근무!E169,IF(달력!$S$28=\"순서3\",근무!F169,IF(달력!$S$28=\"순서4\",근무!G169,IF(달력!$S$28=\"순서5\",근무!H169,IF(달력!$S$28=\"순서6\",근무!I169,\"\"))))))","v":"비번"},{"$f":"IF(달력!$S$29=\"순서1\",근무!D169,IF(달력!$S$29=\"순서2\",근무!E169,IF(달력!$S$29=\"순서3\",근무!F169,IF(달력!$S$29=\"순서4\",근무!G169,IF(달력!$S$29=\"순서5\",근무!H169,IF(달력!$S$29=\"순서6\",근무!I169,\"\"))))))","v":"비번"}]
[null,"2023-06-13","화",{"$f":"IF(달력!$S$24=\"순서1\",근무!D170,IF(달력!$S$24=\"순서2\",근무!E170,IF(달력!$S$24=\"순서3\",근무!F170,IF(달력!$S$24=\"순서4\",근무!G170,IF(달력!$S$24=\"순서5\",근무!H170,IF(달력!$S$24=\"순서6\",근무!I170,\"\"))))))","v":"주간"},{"$f":"IF(달력!$S$25=\"순서1\",근무!D170,IF(달력!$S$25=\"순서2\",근무!E170,IF(달력!$S$25=\"순서3\",근무!F170,IF(달력!$S$25=\"순서4\",근무!G170,IF(달력!$S$25=\"순서5\",근무!H170,IF(달력!$S$25=\"순서6\",근무!I170,\"\"))))))","v":"주간"},{"$f":"IF(달력!$S$26=\"순서1\",근무!D170,IF(달력!$S$26=\"순서2\",근무!E170,IF(달력!$S$26=\"순서3\",근무!F170,IF(달력!$S$26=\"순서4\",근무!G170,IF(달력!$S$26=\"순서5\",근무!H170,IF(달력!$S$26=\"순서6\",근무!I170,\"\"))))))","v":"야간"},{"$f":"IF(달력!$S$27=\"순서1\",근무!D170,IF(달력!$S$27=\"순서2\",근무!E170,IF(달력!$S$27=\"순서3\",근무!F170,IF(달력!$S$27=\"순서4\",근무!G170,IF(달력!$S$27=\"순서5\",근무!H170,IF(달력!$S$27=\"순서6\",근무!I170,\"\"))))))","v":"야간"},{"$f":"IF(달력!$S$28=\"순서1\",근무!D170,IF(달력!$S$28=\"순서2\",근무!E170,IF(달력!$S$28=\"순서3\",근무!F170,IF(달력!$S$28=\"순서4\",근무!G170,IF(달력!$S$28=\"순서5\",근무!H170,IF(달력!$S$28=\"순서6\",근무!I170,\"\"))))))","v":"비번"},{"$f":"IF(달력!$S$29=\"순서1\",근무!D170,IF(달력!$S$29=\"순서2\",근무!E170,IF(달력!$S$29=\"순서3\",근무!F170,IF(달력!$S$29=\"순서4\",근무!G170,IF(달력!$S$29=\"순서5\",근무!H170,IF(달력!$S$29=\"순서6\",근무!I170,\"\"))))))","v":"비번"}]
[null,"2023-06-14","수",{"$f":"IF(달력!$S$24=\"순서1\",근무!D171,IF(달력!$S$24=\"순서2\",근무!E171,IF(달력!$S$24=\"순서3\",근무!F171,IF(달력!$S$24=\"순서4\",근무!G171,IF(달력!$S$24=\"순서5\",근무!H171,IF(달력!$S$24=\"순서6\",근무!I171,\"\"))))))","v":"야간"},{"$f":"IF(달력!$S$25=\"순서1\",근무!D171,IF(달력!$S$25=\"순서2\",근무!E171,IF(달력!$S$25=\"순서3\",근무!F171,IF(달력!$S$25=\"순서4\",근무!G171,IF(달력!$S$25=\"순서5\",근무!H171,IF(달력!$S$25=\"순서6\",근무!I171,\"\"))))))","v":"야간"},{"$f":"IF(달력!$S$26=\"순서1\",근무!D171,IF(달력!$S$26=\"순서2\",근무!E171,IF(달력!$S$26=\"순서3\",근무!F171,IF(달력!$S$26=\"순서4\",근무!G171,IF(달력!$S$26=\"순서5\",근무!H171,IF(달력!$S$26=\"순서6\",근무!I171,\"\"))))))","v":"비번"},{"$f":"IF(달력!$S$27=\"순서1\",근무!D171,IF(달력!$S$27=\"순서2\",근무!E171,IF(달력!$S$27=\"순서3\",근무!F171,IF(달력!$S$27=\"순서4\",근무!G171,IF(달력!$S$27=\"순서5\",근무!H171,IF(달력!$S$27=\"순서6\",근무!I171,\"\"))))))","v":"비번"},{"$f":"IF(달력!$S$28=\"순서1\",근무!D171,IF(달력!$S$28=\"순서2\",근무!E171,IF(달력!$S$28=\"순서3\",근무!F171,IF(달력!$S$28=\"순서4\",근무!G171,IF(달력!$S$28=\"순서5\",근무!H171,IF(달력!$S$28=\"순서6\",근무!I171,\"\"))))))","v":"주간"},{"$f":"IF(달력!$S$29=\"순서1\",근무!D171,IF(달력!$S$29=\"순서2\",근무!E171,IF(달력!$S$29=\"순서3\",근무!F171,IF(달력!$S$29=\"순서4\",근무!G171,IF(달력!$S$29=\"순서5\",근무!H171,IF(달력!$S$29=\"순서6\",근무!I171,\"\"))))))","v":"주간"}]
[null,"2023-06-15","목",{"$f":"IF(달력!$S$24=\"순서1\",근무!D172,IF(달력!$S$24=\"순서2\",근무!E172,IF(달력!$S$24=\"순서3\",근무!F172,IF(달력!$S$24=\"순서4\",근무!G172,IF(달력!$S$24=\"순서5\",근무!H172,IF(달력!$S$24=\"순서6\",근무!I172,\"\"))))))","v":"야간"},{"$f":"IF(달력!$S$25=\"순서1\",근무!D172,IF(달력!$S$25=\"순서2\",근무!E172,IF(달력!$S$25=\"순서3\",근무!F172,IF(달력!$S$25=\"순서4\",근무!G172,IF(달력!$S$25=\"순서5\",근무!H172,IF(달력!$S$25=\"순서6\",근무!I172,\"\"))))))","v":"야간"},{"$f":"IF(달력!$S$26=\"순서1\",근무!D172,IF(달력!$S$26=\"순서2\",근무!E172,IF(달력!$S$26=\"순서3\",근무!F172,IF(달력!$S$26=\"순서4\",근무!G172,IF(달력!$S$26=\"순서5\",근무!H172,IF(달력!$S$26=\"순서6\",근무!I172,\"\"))))))","v":"비번"},{"$f":"IF(달력!$S$27=\"순서1\",근무!D172,IF(달력!$S$27=\"순서2\",근무!E172,IF(달력!$S$27=\"순서3\",근무!F172,IF(달력!$S$27=\"순서4\",근무!G172,IF(달력!$S$27=\"순서5\",근무!H172,IF(달력!$S$27=\"순서6\",근무!I172,\"\"))))))","v":"비번"},{"$f":"IF(달력!$S$28=\"순서1\",근무!D172,IF(달력!$S$28=\"순서2\",근무!E172,IF(달력!$S$28=\"순서3\",근무!F172,IF(달력!$S$28=\"순서4\",근무!G172,IF(달력!$S$28=\"순서5\",근무!H172,IF(달력!$S$28=\"순서6\",근무!I172,\"\"))))))","v":"주간"},{"$f":"IF(달력!$S$29=\"순서1\",근무!D172,IF(달력!$S$29=\"순서2\",근무!E172,IF(달력!$S$29=\"순서3\",근무!F172,IF(달력!$S$29=\"순서4\",근무!G172,IF(달력!$S$29=\"순서5\",근무!H172,IF(달력!$S$29=\"순서6\",근무!I172,\"\"))))))","v":"주간"}]
[null,"2023-06-16","금",{"$f":"IF(달력!$S$24=\"순서1\",근무!D173,IF(달력!$S$24=\"순서2\",근무!E173,IF(달력!$S$24=\"순서3\",근무!F173,IF(달력!$S$24=\"순서4\",근무!G173,IF(달력!$S$24=\"순서5\",근무!H173,IF(달력!$S$24=\"순서6\",근무!I173,\"\"))))))","v":"비번"},{"$f":"IF(달력!$S$25=\"순서1\",근무!D173,IF(달력!$S$25=\"순서2\",근무!E173,IF(달력!$S$25=\"순서3\",근무!F173,IF(달력!$S$25=\"순서4\",근무!G173,IF(달력!$S$25=\"순서5\",근무!H173,IF(달력!$S$25=\"순서6\",근무!I173,\"\"))))))","v":"비번"},{"$f":"IF(달력!$S$26=\"순서1\",근무!D173,IF(달력!$S$26=\"순서2\",근무!E173,IF(달력!$S$26=\"순서3\",근무!F173,IF(달력!$S$26=\"순서4\",근무!G173,IF(달력!$S$26=\"순서5\",근무!H173,IF(달력!$S$26=\"순서6\",근무!I173,\"\"))))))","v":"주간"},{"$f":"IF(달력!$S$27=\"순서1\",근무!D173,IF(달력!$S$27=\"순서2\",근무!E173,IF(달력!$S$27=\"순서3\",근무!F173,IF(달력!$S$27=\"순서4\",근무!G173,IF(달력!$S$27=\"순서5\",근무!H173,IF(달력!$S$27=\"순서6\",근무!I173,\"\"))))))","v":"주간"},{"$f":"IF(달력!$S$28=\"순서1\",근무!D173,IF(달력!$S$28=\"순서2\",근무!E173,IF(달력!$S$28=\"순서3\",근무!F173,IF(달력!$S$28=\"순서4\",근무!G173,IF(달력!$S$28=\"순서5\",근무!H173,IF(달력!$S$28=\"순서6\",근무!I173,\"\"))))))","v":"야간"},{"$f":"IF(달력!$S$29=\"순서1\",근무!D173,IF(달력!$S$29=\"순서2\",근무!E173,IF(달력!$S$29=\"순서3\",근무!F173,IF(달력!$S$29=\"순서4\",근무!G173,IF(달력!$S$29=\"순서5\",근무!H173,IF(달력!$S$29=\"순서6\",근무!I173,\"\"))))))","v":"야간"}]
[null,"2023-06-17","토",{"$f":"IF(달력!$S$24=\"순서1\",근무!D174,IF(달력!$S$24=\"순서2\",근무!E174,IF(달력!$S$24=\"순서3\",근무!F174,IF(달력!$S$24=\"순서4\",근무!G174,IF(달력!$S$24=\"순서5\",근무!H174,IF(달력!$S$24=\"순서6\",근무!I174,\"\"))))))","v":"비번"},{"$f":"IF(달력!$S$25=\"순서1\",근무!D174,IF(달력!$S$25=\"순서2\",근무!E174,IF(달력!$S$25=\"순서3\",근무!F174,IF(달력!$S$25=\"순서4\",근무!G174,IF(달력!$S$25=\"순서5\",근무!H174,IF(달력!$S$25=\"순서6\",근무!I174,\"\"))))))","v":"비번"},{"$f":"IF(달력!$S$26=\"순서1\",근무!D174,IF(달력!$S$26=\"순서2\",근무!E174,IF(달력!$S$26=\"순서3\",근무!F174,IF(달력!$S$26=\"순서4\",근무!G174,IF(달력!$S$26=\"순서5\",근무!H174,IF(달력!$S$26=\"순서6\",근무!I174,\"\"))))))","v":"주간"},{"$f":"IF(달력!$S$27=\"순서1\",근무!D174,IF(달력!$S$27=\"순서2\",근무!E174,IF(달력!$S$27=\"순서3\",근무!F174,IF(달력!$S$27=\"순서4\",근무!G174,IF(달력!$S$27=\"순서5\",근무!H174,IF(달력!$S$27=\"순서6\",근무!I174,\"\"))))))","v":"주간"},{"$f":"IF(달력!$S$28=\"순서1\",근무!D174,IF(달력!$S$28=\"순서2\",근무!E174,IF(달력!$S$28=\"순서3\",근무!F174,IF(달력!$S$28=\"순서4\",근무!G174,IF(달력!$S$28=\"순서5\",근무!H174,IF(달력!$S$28=\"순서6\",근무!I174,\"\"))))))","v":"야간"},{"$f":"IF(달력!$S$29=\"순서1\",근무!D174,IF(달력!$S$29=\"순서2\",근무!E174,IF(달력!$S$29=\"순서3\",근무!F174,IF(달력!$S$29=\"순서4\",근무!G174,IF(달력!$S$29=\"순서5\",근무!H174,IF(달력!$S$29=\"순서6\",근무!I174,\"\"))))))","v":"야간"}]
[null,"2023-06-18","일",{"$f":"IF(달력!$S$24=\"순서1\",근무!D175,IF(달력!$S$24=\"순서2\",근무!E175,IF(달력!$S$24=\"순서3\",근무!F175,IF(달력!$S$24=\"순서4\",근무!G175,IF(달력!$S$24=\"순서5\",근무!H175,IF(달력!$S$24=\"순서6\",근무!I175,\"\"))))))","v":"주간"},{"$f":"IF(달력!$S$25=\"순서1\",근무!D175,IF(달력!$S$25=\"순서2\",근무!E175,IF(달력!$S$25=\"순서3\",근무!F175,IF(달력!$S$25=\"순서4\",근무!G175,IF(달력!$S$25=\"순서5\",근무!H175,IF(달력!$S$25=\"순서6\",근무!I175,\"\"))))))","v":"주간"},{"$f":"IF(달력!$S$26=\"순서1\",근무!D175,IF(달력!$S$26=\"순서2\",근무!E175,IF(달력!$S$26=\"순서3\",근무!F175,IF(달력!$S$26=\"순서4\",근무!G175,IF(달력!$S$26=\"순서5\",근무!H175,IF(달력!$S$26=\"순서6\",근무!I175,\"\"))))))","v":"야간"},{"$f":"IF(달력!$S$27=\"순서1\",근무!D175,IF(달력!$S$27=\"순서2\",근무!E175,IF(달력!$S$27=\"순서3\",근무!F175,IF(달력!$S$27=\"순서4\",근무!G175,IF(달력!$S$27=\"순서5\",근무!H175,IF(달력!$S$27=\"순서6\",근무!I175,\"\"))))))","v":"야간"},{"$f":"IF(달력!$S$28=\"순서1\",근무!D175,IF(달력!$S$28=\"순서2\",근무!E175,IF(달력!$S$28=\"순서3\",근무!F175,IF(달력!$S$28=\"순서4\",근무!G175,IF(달력!$S$28=\"순서5\",근무!H175,IF(달력!$S$28=\"순서6\",근무!I175,\"\"))))))","v":"비번"},{"$f":"IF(달력!$S$29=\"순서1\",근무!D175,IF(달력!$S$29=\"순서2\",근무!E175,IF(달력!$S$29=\"순서3\",근무!F175,IF(달력!$S$29=\"순서4\",근무!G175,IF(달력!$S$29=\"순서5\",근무!H175,IF(달력!$S$29=\"순서6\",근무!I175,\"\"))))))","v":"비번"}]
[null,"2023-06-19","월",{"$f":"IF(달력!$S$24=\"순서1\",근무!D176,IF(달력!$S$24=\"순서2\",근무!E176,IF(달력!$S$24=\"순서3\",근무!F176,IF(달력!$S$24=\"순서4\",근무!G176,IF(달력!$S$24=\"순서5\",근무!H176,IF(달력!$S$24=\"순서6\",근무!I176,\"\"))))))","v":"주간"},{"$f":"IF(달력!$S$25=\"순서1\",근무!D176,IF(달력!$S$25=\"순서2\",근무!E176,IF(달력!$S$25=\"순서3\",근무!F176,IF(달력!$S$25=\"순서4\",근무!G176,IF(달력!$S$25=\"순서5\",근무!H176,IF(달력!$S$25=\"순서6\",근무!I176,\"\"))))))","v":"주간"},{"$f":"IF(달력!$S$26=\"순서1\",근무!D176,IF(달력!$S$26=\"순서2\",근무!E176,IF(달력!$S$26=\"순서3\",근무!F176,IF(달력!$S$26=\"순서4\",근무!G176,IF(달력!$S$26=\"순서5\",근무!H176,IF(달력!$S$26=\"순서6\",근무!I176,\"\"))))))","v":"야간"},{"$f":"IF(달력!$S$27=\"순서1\",근무!D176,IF(달력!$S$27=\"순서2\",근무!E176,IF(달력!$S$27=\"순서3\",근무!F176,IF(달력!$S$27=\"순서4\",근무!G176,IF(달력!$S$27=\"순서5\",근무!H176,IF(달력!$S$27=\"순서6\",근무!I176,\"\"))))))","v":"야간"},{"$f":"IF(달력!$S$28=\"순서1\",근무!D176,IF(달력!$S$28=\"순서2\",근무!E176,IF(달력!$S$28=\"순서3\",근무!F176,IF(달력!$S$28=\"순서4\",근무!G176,IF(달력!$S$28=\"순서5\",근무!H176,IF(달력!$S$28=\"순서6\",근무!I176,\"\"))))))","v":"비번"},{"$f":"IF(달력!$S$29=\"순서1\",근무!D176,IF(달력!$S$29=\"순서2\",근무!E176,IF(달력!$S$29=\"순서3\",근무!F176,IF(달력!$S$29=\"순서4\",근무!G176,IF(달력!$S$29=\"순서5\",근무!H176,IF(달력!$S$29=\"순서6\",근무!I176,\"\"))))))","v":"비번"}]
[null,"2023-06-20","화",{"$f":"IF(달력!$S$24=\"순서1\",근무!D177,IF(달력!$S$24=\"순서2\",근무!E177,IF(달력!$S$24=\"순서3\",근무!F177,IF(달력!$S$24=\"순서4\",근무!G177,IF(달력!$S$24=\"순서5\",근무!H177,IF(달력!$S$24=\"순서6\",근무!I177,\"\"))))))","v":"야간"},{"$f":"IF(달력!$S$25=\"순서1\",근무!D177,IF(달력!$S$25=\"순서2\",근무!E177,IF(달력!$S$25=\"순서3\",근무!F177,IF(달력!$S$25=\"순서4\",근무!G177,IF(달력!$S$25=\"순서5\",근무!H177,IF(달력!$S$25=\"순서6\",근무!I177,\"\"))))))","v":"야간"},{"$f":"IF(달력!$S$26=\"순서1\",근무!D177,IF(달력!$S$26=\"순서2\",근무!E177,IF(달력!$S$26=\"순서3\",근무!F177,IF(달력!$S$26=\"순서4\",근무!G177,IF(달력!$S$26=\"순서5\",근무!H177,IF(달력!$S$26=\"순서6\",근무!I177,\"\"))))))","v":"비번"},{"$f":"IF(달력!$S$27=\"순서1\",근무!D177,IF(달력!$S$27=\"순서2\",근무!E177,IF(달력!$S$27=\"순서3\",근무!F177,IF(달력!$S$27=\"순서4\",근무!G177,IF(달력!$S$27=\"순서5\",근무!H177,IF(달력!$S$27=\"순서6\",근무!I177,\"\"))))))","v":"비번"},{"$f":"IF(달력!$S$28=\"순서1\",근무!D177,IF(달력!$S$28=\"순서2\",근무!E177,IF(달력!$S$28=\"순서3\",근무!F177,IF(달력!$S$28=\"순서4\",근무!G177,IF(달력!$S$28=\"순서5\",근무!H177,IF(달력!$S$28=\"순서6\",근무!I177,\"\"))))))","v":"주간"},{"$f":"IF(달력!$S$29=\"순서1\",근무!D177,IF(달력!$S$29=\"순서2\",근무!E177,IF(달력!$S$29=\"순서3\",근무!F177,IF(달력!$S$29=\"순서4\",근무!G177,IF(달력!$S$29=\"순서5\",근무!H177,IF(달력!$S$29=\"순서6\",근무!I177,\"\"))))))","v":"주간"}]
[null,"2023-06-21","수",{"$f":"IF(달력!$S$24=\"순서1\",근무!D178,IF(달력!$S$24=\"순서2\",근무!E178,IF(달력!$S$24=\"순서3\",근무!F178,IF(달력!$S$24=\"순서4\",근무!G178,IF(달력!$S$24=\"순서5\",근무!H178,IF(달력!$S$24=\"순서6\",근무!I178,\"\"))))))","v":"야간"},{"$f":"IF(달력!$S$25=\"순서1\",근무!D178,IF(달력!$S$25=\"순서2\",근무!E178,IF(달력!$S$25=\"순서3\",근무!F178,IF(달력!$S$25=\"순서4\",근무!G178,IF(달력!$S$25=\"순서5\",근무!H178,IF(달력!$S$25=\"순서6\",근무!I178,\"\"))))))","v":"야간"},{"$f":"IF(달력!$S$26=\"순서1\",근무!D178,IF(달력!$S$26=\"순서2\",근무!E178,IF(달력!$S$26=\"순서3\",근무!F178,IF(달력!$S$26=\"순서4\",근무!G178,IF(달력!$S$26=\"순서5\",근무!H178,IF(달력!$S$26=\"순서6\",근무!I178,\"\"))))))","v":"비번"},{"$f":"IF(달력!$S$27=\"순서1\",근무!D178,IF(달력!$S$27=\"순서2\",근무!E178,IF(달력!$S$27=\"순서3\",근무!F178,IF(달력!$S$27=\"순서4\",근무!G178,IF(달력!$S$27=\"순서5\",근무!H178,IF(달력!$S$27=\"순서6\",근무!I178,\"\"))))))","v":"비번"},{"$f":"IF(달력!$S$28=\"순서1\",근무!D178,IF(달력!$S$28=\"순서2\",근무!E178,IF(달력!$S$28=\"순서3\",근무!F178,IF(달력!$S$28=\"순서4\",근무!G178,IF(달력!$S$28=\"순서5\",근무!H178,IF(달력!$S$28=\"순서6\",근무!I178,\"\"))))))","v":"주간"},{"$f":"IF(달력!$S$29=\"순서1\",근무!D178,IF(달력!$S$29=\"순서2\",근무!E178,IF(달력!$S$29=\"순서3\",근무!F178,IF(달력!$S$29=\"순서4\",근무!G178,IF(달력!$S$29=\"순서5\",근무!H178,IF(달력!$S$29=\"순서6\",근무!I178,\"\"))))))","v":"주간"}]
[null,"2023-06-22","목",{"$f":"IF(달력!$S$24=\"순서1\",근무!D179,IF(달력!$S$24=\"순서2\",근무!E179,IF(달력!$S$24=\"순서3\",근무!F179,IF(달력!$S$24=\"순서4\",근무!G179,IF(달력!$S$24=\"순서5\",근무!H179,IF(달력!$S$24=\"순서6\",근무!I179,\"\"))))))","v":"비번"},{"$f":"IF(달력!$S$25=\"순서1\",근무!D179,IF(달력!$S$25=\"순서2\",근무!E179,IF(달력!$S$25=\"순서3\",근무!F179,IF(달력!$S$25=\"순서4\",근무!G179,IF(달력!$S$25=\"순서5\",근무!H179,IF(달력!$S$25=\"순서6\",근무!I179,\"\"))))))","v":"비번"},{"$f":"IF(달력!$S$26=\"순서1\",근무!D179,IF(달력!$S$26=\"순서2\",근무!E179,IF(달력!$S$26=\"순서3\",근무!F179,IF(달력!$S$26=\"순서4\",근무!G179,IF(달력!$S$26=\"순서5\",근무!H179,IF(달력!$S$26=\"순서6\",근무!I179,\"\"))))))","v":"주간"},{"$f":"IF(달력!$S$27=\"순서1\",근무!D179,IF(달력!$S$27=\"순서2\",근무!E179,IF(달력!$S$27=\"순서3\",근무!F179,IF(달력!$S$27=\"순서4\",근무!G179,IF(달력!$S$27=\"순서5\",근무!H179,IF(달력!$S$27=\"순서6\",근무!I179,\"\"))))))","v":"주간"},{"$f":"IF(달력!$S$28=\"순서1\",근무!D179,IF(달력!$S$28=\"순서2\",근무!E179,IF(달력!$S$28=\"순서3\",근무!F179,IF(달력!$S$28=\"순서4\",근무!G179,IF(달력!$S$28=\"순서5\",근무!H179,IF(달력!$S$28=\"순서6\",근무!I179,\"\"))))))","v":"야간"},{"$f":"IF(달력!$S$29=\"순서1\",근무!D179,IF(달력!$S$29=\"순서2\",근무!E179,IF(달력!$S$29=\"순서3\",근무!F179,IF(달력!$S$29=\"순서4\",근무!G179,IF(달력!$S$29=\"순서5\",근무!H179,IF(달력!$S$29=\"순서6\",근무!I179,\"\"))))))","v":"야간"}]
[null,"2023-06-23","금",{"$f":"IF(달력!$S$24=\"순서1\",근무!D180,IF(달력!$S$24=\"순서2\",근무!E180,IF(달력!$S$24=\"순서3\",근무!F180,IF(달력!$S$24=\"순서4\",근무!G180,IF(달력!$S$24=\"순서5\",근무!H180,IF(달력!$S$24=\"순서6\",근무!I180,\"\"))))))","v":"비번"},{"$f":"IF(달력!$S$25=\"순서1\",근무!D180,IF(달력!$S$25=\"순서2\",근무!E180,IF(달력!$S$25=\"순서3\",근무!F180,IF(달력!$S$25=\"순서4\",근무!G180,IF(달력!$S$25=\"순서5\",근무!H180,IF(달력!$S$25=\"순서6\",근무!I180,\"\"))))))","v":"비번"},{"$f":"IF(달력!$S$26=\"순서1\",근무!D180,IF(달력!$S$26=\"순서2\",근무!E180,IF(달력!$S$26=\"순서3\",근무!F180,IF(달력!$S$26=\"순서4\",근무!G180,IF(달력!$S$26=\"순서5\",근무!H180,IF(달력!$S$26=\"순서6\",근무!I180,\"\"))))))","v":"주간"},{"$f":"IF(달력!$S$27=\"순서1\",근무!D180,IF(달력!$S$27=\"순서2\",근무!E180,IF(달력!$S$27=\"순서3\",근무!F180,IF(달력!$S$27=\"순서4\",근무!G180,IF(달력!$S$27=\"순서5\",근무!H180,IF(달력!$S$27=\"순서6\",근무!I180,\"\"))))))","v":"주간"},{"$f":"IF(달력!$S$28=\"순서1\",근무!D180,IF(달력!$S$28=\"순서2\",근무!E180,IF(달력!$S$28=\"순서3\",근무!F180,IF(달력!$S$28=\"순서4\",근무!G180,IF(달력!$S$28=\"순서5\",근무!H180,IF(달력!$S$28=\"순서6\",근무!I180,\"\"))))))","v":"야간"},{"$f":"IF(달력!$S$29=\"순서1\",근무!D180,IF(달력!$S$29=\"순서2\",근무!E180,IF(달력!$S$29=\"순서3\",근무!F180,IF(달력!$S$29=\"순서4\",근무!G180,IF(달력!$S$29=\"순서5\",근무!H180,IF(달력!$S$29=\"순서6\",근무!I180,\"\"))))))","v":"야간"}]
[null,"2023-06-24","토",{"$f":"IF(달력!$S$24=\"순서1\",근무!D181,IF(달력!$S$24=\"순서2\",근무!E181,IF(달력!$S$24=\"순서3\",근무!F181,IF(달력!$S$24=\"순서4\",근무!G181,IF(달력!$S$24=\"순서5\",근무!H181,IF(달력!$S$24=\"순서6\",근무!I181,\"\"))))))","v":"주간"},{"$f":"IF(달력!$S$25=\"순서1\",근무!D181,IF(달력!$S$25=\"순서2\",근무!E181,IF(달력!$S$25=\"순서3\",근무!F181,IF(달력!$S$25=\"순서4\",근무!G181,IF(달력!$S$25=\"순서5\",근무!H181,IF(달력!$S$25=\"순서6\",근무!I181,\"\"))))))","v":"주간"},{"$f":"IF(달력!$S$26=\"순서1\",근무!D181,IF(달력!$S$26=\"순서2\",근무!E181,IF(달력!$S$26=\"순서3\",근무!F181,IF(달력!$S$26=\"순서4\",근무!G181,IF(달력!$S$26=\"순서5\",근무!H181,IF(달력!$S$26=\"순서6\",근무!I181,\"\"))))))","v":"야간"},{"$f":"IF(달력!$S$27=\"순서1\",근무!D181,IF(달력!$S$27=\"순서2\",근무!E181,IF(달력!$S$27=\"순서3\",근무!F181,IF(달력!$S$27=\"순서4\",근무!G181,IF(달력!$S$27=\"순서5\",근무!H181,IF(달력!$S$27=\"순서6\",근무!I181,\"\"))))))","v":"야간"},{"$f":"IF(달력!$S$28=\"순서1\",근무!D181,IF(달력!$S$28=\"순서2\",근무!E181,IF(달력!$S$28=\"순서3\",근무!F181,IF(달력!$S$28=\"순서4\",근무!G181,IF(달력!$S$28=\"순서5\",근무!H181,IF(달력!$S$28=\"순서6\",근무!I181,\"\"))))))","v":"비번"},{"$f":"IF(달력!$S$29=\"순서1\",근무!D181,IF(달력!$S$29=\"순서2\",근무!E181,IF(달력!$S$29=\"순서3\",근무!F181,IF(달력!$S$29=\"순서4\",근무!G181,IF(달력!$S$29=\"순서5\",근무!H181,IF(달력!$S$29=\"순서6\",근무!I181,\"\"))))))","v":"비번"}]
[null,"2023-06-25","일",{"$f":"IF(달력!$S$24=\"순서1\",근무!D182,IF(달력!$S$24=\"순서2\",근무!E182,IF(달력!$S$24=\"순서3\",근무!F182,IF(달력!$S$24=\"순서4\",근무!G182,IF(달력!$S$24=\"순서5\",근무!H182,IF(달력!$S$24=\"순서6\",근무!I182,\"\"))))))","v":"주간"},{"$f":"IF(달력!$S$25=\"순서1\",근무!D182,IF(달력!$S$25=\"순서2\",근무!E182,IF(달력!$S$25=\"순서3\",근무!F182,IF(달력!$S$25=\"순서4\",근무!G182,IF(달력!$S$25=\"순서5\",근무!H182,IF(달력!$S$25=\"순서6\",근무!I182,\"\"))))))","v":"주간"},{"$f":"IF(달력!$S$26=\"순서1\",근무!D182,IF(달력!$S$26=\"순서2\",근무!E182,IF(달력!$S$26=\"순서3\",근무!F182,IF(달력!$S$26=\"순서4\",근무!G182,IF(달력!$S$26=\"순서5\",근무!H182,IF(달력!$S$26=\"순서6\",근무!I182,\"\"))))))","v":"야간"},{"$f":"IF(달력!$S$27=\"순서1\",근무!D182,IF(달력!$S$27=\"순서2\",근무!E182,IF(달력!$S$27=\"순서3\",근무!F182,IF(달력!$S$27=\"순서4\",근무!G182,IF(달력!$S$27=\"순서5\",근무!H182,IF(달력!$S$27=\"순서6\",근무!I182,\"\"))))))","v":"야간"},{"$f":"IF(달력!$S$28=\"순서1\",근무!D182,IF(달력!$S$28=\"순서2\",근무!E182,IF(달력!$S$28=\"순서3\",근무!F182,IF(달력!$S$28=\"순서4\",근무!G182,IF(달력!$S$28=\"순서5\",근무!H182,IF(달력!$S$28=\"순서6\",근무!I182,\"\"))))))","v":"비번"},{"$f":"IF(달력!$S$29=\"순서1\",근무!D182,IF(달력!$S$29=\"순서2\",근무!E182,IF(달력!$S$29=\"순서3\",근무!F182,IF(달력!$S$29=\"순서4\",근무!G182,IF(달력!$S$29=\"순서5\",근무!H182,IF(달력!$S$29=\"순서6\",근무!I182,\"\"))))))","v":"비번"}]
[null,"2023-06-26","월",{"$f":"IF(달력!$S$24=\"순서1\",근무!D183,IF(달력!$S$24=\"순서2\",근무!E183,IF(달력!$S$24=\"순서3\",근무!F183,IF(달력!$S$24=\"순서4\",근무!G183,IF(달력!$S$24=\"순서5\",근무!H183,IF(달력!$S$24=\"순서6\",근무!I183,\"\"))))))","v":"야간"},{"$f":"IF(달력!$S$25=\"순서1\",근무!D183,IF(달력!$S$25=\"순서2\",근무!E183,IF(달력!$S$25=\"순서3\",근무!F183,IF(달력!$S$25=\"순서4\",근무!G183,IF(달력!$S$25=\"순서5\",근무!H183,IF(달력!$S$25=\"순서6\",근무!I183,\"\"))))))","v":"야간"},{"$f":"IF(달력!$S$26=\"순서1\",근무!D183,IF(달력!$S$26=\"순서2\",근무!E183,IF(달력!$S$26=\"순서3\",근무!F183,IF(달력!$S$26=\"순서4\",근무!G183,IF(달력!$S$26=\"순서5\",근무!H183,IF(달력!$S$26=\"순서6\",근무!I183,\"\"))))))","v":"비번"},{"$f":"IF(달력!$S$27=\"순서1\",근무!D183,IF(달력!$S$27=\"순서2\",근무!E183,IF(달력!$S$27=\"순서3\",근무!F183,IF(달력!$S$27=\"순서4\",근무!G183,IF(달력!$S$27=\"순서5\",근무!H183,IF(달력!$S$27=\"순서6\",근무!I183,\"\"))))))","v":"비번"},{"$f":"IF(달력!$S$28=\"순서1\",근무!D183,IF(달력!$S$28=\"순서2\",근무!E183,IF(달력!$S$28=\"순서3\",근무!F183,IF(달력!$S$28=\"순서4\",근무!G183,IF(달력!$S$28=\"순서5\",근무!H183,IF(달력!$S$28=\"순서6\",근무!I183,\"\"))))))","v":"주간"},{"$f":"IF(달력!$S$29=\"순서1\",근무!D183,IF(달력!$S$29=\"순서2\",근무!E183,IF(달력!$S$29=\"순서3\",근무!F183,IF(달력!$S$29=\"순서4\",근무!G183,IF(달력!$S$29=\"순서5\",근무!H183,IF(달력!$S$29=\"순서6\",근무!I183,\"\"))))))","v":"주간"}]
[null,"2023-06-27","화",{"$f":"IF(달력!$S$24=\"순서1\",근무!D184,IF(달력!$S$24=\"순서2\",근무!E184,IF(달력!$S$24=\"순서3\",근무!F184,IF(달력!$S$24=\"순서4\",근무!G184,IF(달력!$S$24=\"순서5\",근무!H184,IF(달력!$S$24=\"순서6\",근무!I184,\"\"))))))","v":"야간"},{"$f":"IF(달력!$S$25=\"순서1\",근무!D184,IF(달력!$S$25=\"순서2\",근무!E184,IF(달력!$S$25=\"순서3\",근무!F184,IF(달력!$S$25=\"순서4\",근무!G184,IF(달력!$S$25=\"순서5\",근무!H184,IF(달력!$S$25=\"순서6\",근무!I184,\"\"))))))","v":"야간"},{"$f":"IF(달력!$S$26=\"순서1\",근무!D184,IF(달력!$S$26=\"순서2\",근무!E184,IF(달력!$S$26=\"순서3\",근무!F184,IF(달력!$S$26=\"순서4\",근무!G184,IF(달력!$S$26=\"순서5\",근무!H184,IF(달력!$S$26=\"순서6\",근무!I184,\"\"))))))","v":"비번"},{"$f":"IF(달력!$S$27=\"순서1\",근무!D184,IF(달력!$S$27=\"순서2\",근무!E184,IF(달력!$S$27=\"순서3\",근무!F184,IF(달력!$S$27=\"순서4\",근무!G184,IF(달력!$S$27=\"순서5\",근무!H184,IF(달력!$S$27=\"순서6\",근무!I184,\"\"))))))","v":"비번"},{"$f":"IF(달력!$S$28=\"순서1\",근무!D184,IF(달력!$S$28=\"순서2\",근무!E184,IF(달력!$S$28=\"순서3\",근무!F184,IF(달력!$S$28=\"순서4\",근무!G184,IF(달력!$S$28=\"순서5\",근무!H184,IF(달력!$S$28=\"순서6\",근무!I184,\"\"))))))","v":"주간"},{"$f":"IF(달력!$S$29=\"순서1\",근무!D184,IF(달력!$S$29=\"순서2\",근무!E184,IF(달력!$S$29=\"순서3\",근무!F184,IF(달력!$S$29=\"순서4\",근무!G184,IF(달력!$S$29=\"순서5\",근무!H184,IF(달력!$S$29=\"순서6\",근무!I184,\"\"))))))","v":"주간"}]
[null,"2023-06-28","수",{"$f":"IF(달력!$S$24=\"순서1\",근무!D185,IF(달력!$S$24=\"순서2\",근무!E185,IF(달력!$S$24=\"순서3\",근무!F185,IF(달력!$S$24=\"순서4\",근무!G185,IF(달력!$S$24=\"순서5\",근무!H185,IF(달력!$S$24=\"순서6\",근무!I185,\"\"))))))","v":"비번"},{"$f":"IF(달력!$S$25=\"순서1\",근무!D185,IF(달력!$S$25=\"순서2\",근무!E185,IF(달력!$S$25=\"순서3\",근무!F185,IF(달력!$S$25=\"순서4\",근무!G185,IF(달력!$S$25=\"순서5\",근무!H185,IF(달력!$S$25=\"순서6\",근무!I185,\"\"))))))","v":"비번"},{"$f":"IF(달력!$S$26=\"순서1\",근무!D185,IF(달력!$S$26=\"순서2\",근무!E185,IF(달력!$S$26=\"순서3\",근무!F185,IF(달력!$S$26=\"순서4\",근무!G185,IF(달력!$S$26=\"순서5\",근무!H185,IF(달력!$S$26=\"순서6\",근무!I185,\"\"))))))","v":"주간"},{"$f":"IF(달력!$S$27=\"순서1\",근무!D185,IF(달력!$S$27=\"순서2\",근무!E185,IF(달력!$S$27=\"순서3\",근무!F185,IF(달력!$S$27=\"순서4\",근무!G185,IF(달력!$S$27=\"순서5\",근무!H185,IF(달력!$S$27=\"순서6\",근무!I185,\"\"))))))","v":"주간"},{"$f":"IF(달력!$S$28=\"순서1\",근무!D185,IF(달력!$S$28=\"순서2\",근무!E185,IF(달력!$S$28=\"순서3\",근무!F185,IF(달력!$S$28=\"순서4\",근무!G185,IF(달력!$S$28=\"순서5\",근무!H185,IF(달력!$S$28=\"순서6\",근무!I185,\"\"))))))","v":"야간"},{"$f":"IF(달력!$S$29=\"순서1\",근무!D185,IF(달력!$S$29=\"순서2\",근무!E185,IF(달력!$S$29=\"순서3\",근무!F185,IF(달력!$S$29=\"순서4\",근무!G185,IF(달력!$S$29=\"순서5\",근무!H185,IF(달력!$S$29=\"순서6\",근무!I185,\"\"))))))","v":"야간"}]
[null,"2023-06-29","목",{"$f":"IF(달력!$S$24=\"순서1\",근무!D186,IF(달력!$S$24=\"순서2\",근무!E186,IF(달력!$S$24=\"순서3\",근무!F186,IF(달력!$S$24=\"순서4\",근무!G186,IF(달력!$S$24=\"순서5\",근무!H186,IF(달력!$S$24=\"순서6\",근무!I186,\"\"))))))","v":"비번"},{"$f":"IF(달력!$S$25=\"순서1\",근무!D186,IF(달력!$S$25=\"순서2\",근무!E186,IF(달력!$S$25=\"순서3\",근무!F186,IF(달력!$S$25=\"순서4\",근무!G186,IF(달력!$S$25=\"순서5\",근무!H186,IF(달력!$S$25=\"순서6\",근무!I186,\"\"))))))","v":"비번"},{"$f":"IF(달력!$S$26=\"순서1\",근무!D186,IF(달력!$S$26=\"순서2\",근무!E186,IF(달력!$S$26=\"순서3\",근무!F186,IF(달력!$S$26=\"순서4\",근무!G186,IF(달력!$S$26=\"순서5\",근무!H186,IF(달력!$S$26=\"순서6\",근무!I186,\"\"))))))","v":"주간"},{"$f":"IF(달력!$S$27=\"순서1\",근무!D186,IF(달력!$S$27=\"순서2\",근무!E186,IF(달력!$S$27=\"순서3\",근무!F186,IF(달력!$S$27=\"순서4\",근무!G186,IF(달력!$S$27=\"순서5\",근무!H186,IF(달력!$S$27=\"순서6\",근무!I186,\"\"))))))","v":"주간"},{"$f":"IF(달력!$S$28=\"순서1\",근무!D186,IF(달력!$S$28=\"순서2\",근무!E186,IF(달력!$S$28=\"순서3\",근무!F186,IF(달력!$S$28=\"순서4\",근무!G186,IF(달력!$S$28=\"순서5\",근무!H186,IF(달력!$S$28=\"순서6\",근무!I186,\"\"))))))","v":"야간"},{"$f":"IF(달력!$S$29=\"순서1\",근무!D186,IF(달력!$S$29=\"순서2\",근무!E186,IF(달력!$S$29=\"순서3\",근무!F186,IF(달력!$S$29=\"순서4\",근무!G186,IF(달력!$S$29=\"순서5\",근무!H186,IF(달력!$S$29=\"순서6\",근무!I186,\"\"))))))","v":"야간"}]
[null,"2023-06-30","금",{"$f":"IF(달력!$S$24=\"순서1\",근무!D187,IF(달력!$S$24=\"순서2\",근무!E187,IF(달력!$S$24=\"순서3\",근무!F187,IF(달력!$S$24=\"순서4\",근무!G187,IF(달력!$S$24=\"순서5\",근무!H187,IF(달력!$S$24=\"순서6\",근무!I187,\"\"))))))","v":"주간"},{"$f":"IF(달력!$S$25=\"순서1\",근무!D187,IF(달력!$S$25=\"순서2\",근무!E187,IF(달력!$S$25=\"순서3\",근무!F187,IF(달력!$S$25=\"순서4\",근무!G187,IF(달력!$S$25=\"순서5\",근무!H187,IF(달력!$S$25=\"순서6\",근무!I187,\"\"))))))","v":"주간"},{"$f":"IF(달력!$S$26=\"순서1\",근무!D187,IF(달력!$S$26=\"순서2\",근무!E187,IF(달력!$S$26=\"순서3\",근무!F187,IF(달력!$S$26=\"순서4\",근무!G187,IF(달력!$S$26=\"순서5\",근무!H187,IF(달력!$S$26=\"순서6\",근무!I187,\"\"))))))","v":"야간"},{"$f":"IF(달력!$S$27=\"순서1\",근무!D187,IF(달력!$S$27=\"순서2\",근무!E187,IF(달력!$S$27=\"순서3\",근무!F187,IF(달력!$S$27=\"순서4\",근무!G187,IF(달력!$S$27=\"순서5\",근무!H187,IF(달력!$S$27=\"순서6\",근무!I187,\"\"))))))","v":"야간"},{"$f":"IF(달력!$S$28=\"순서1\",근무!D187,IF(달력!$S$28=\"순서2\",근무!E187,IF(달력!$S$28=\"순서3\",근무!F187,IF(달력!$S$28=\"순서4\",근무!G187,IF(달력!$S$28=\"순서5\",근무!H187,IF(달력!$S$28=\"순서6\",근무!I187,\"\"))))))","v":"비번"},{"$f":"IF(달력!$S$29=\"순서1\",근무!D187,IF(달력!$S$29=\"순서2\",근무!E187,IF(달력!$S$29=\"순서3\",근무!F187,IF(달력!$S$29=\"순서4\",근무!G187,IF(달력!$S$29=\"순서5\",근무!H187,IF(달력!$S$29=\"순서6\",근무!I187,\"\"))))))","v":"비번"}]
[null,"2023-07-01","토",{"$f":"IF(달력!$S$24=\"순서1\",근무!D188,IF(달력!$S$24=\"순서2\",근무!E188,IF(달력!$S$24=\"순서3\",근무!F188,IF(달력!$S$24=\"순서4\",근무!G188,IF(달력!$S$24=\"순서5\",근무!H188,IF(달력!$S$24=\"순서6\",근무!I188,\"\"))))))","v":"주간"},{"$f":"IF(달력!$S$25=\"순서1\",근무!D188,IF(달력!$S$25=\"순서2\",근무!E188,IF(달력!$S$25=\"순서3\",근무!F188,IF(달력!$S$25=\"순서4\",근무!G188,IF(달력!$S$25=\"순서5\",근무!H188,IF(달력!$S$25=\"순서6\",근무!I188,\"\"))))))","v":"주간"},{"$f":"IF(달력!$S$26=\"순서1\",근무!D188,IF(달력!$S$26=\"순서2\",근무!E188,IF(달력!$S$26=\"순서3\",근무!F188,IF(달력!$S$26=\"순서4\",근무!G188,IF(달력!$S$26=\"순서5\",근무!H188,IF(달력!$S$26=\"순서6\",근무!I188,\"\"))))))","v":"야간"},{"$f":"IF(달력!$S$27=\"순서1\",근무!D188,IF(달력!$S$27=\"순서2\",근무!E188,IF(달력!$S$27=\"순서3\",근무!F188,IF(달력!$S$27=\"순서4\",근무!G188,IF(달력!$S$27=\"순서5\",근무!H188,IF(달력!$S$27=\"순서6\",근무!I188,\"\"))))))","v":"야간"},{"$f":"IF(달력!$S$28=\"순서1\",근무!D188,IF(달력!$S$28=\"순서2\",근무!E188,IF(달력!$S$28=\"순서3\",근무!F188,IF(달력!$S$28=\"순서4\",근무!G188,IF(달력!$S$28=\"순서5\",근무!H188,IF(달력!$S$28=\"순서6\",근무!I188,\"\"))))))","v":"비번"},{"$f":"IF(달력!$S$29=\"순서1\",근무!D188,IF(달력!$S$29=\"순서2\",근무!E188,IF(달력!$S$29=\"순서3\",근무!F188,IF(달력!$S$29=\"순서4\",근무!G188,IF(달력!$S$29=\"순서5\",근무!H188,IF(달력!$S$29=\"순서6\",근무!I188,\"\"))))))","v":"비번"}]
[null,"2023-07-02","일",{"$f":"IF(달력!$S$24=\"순서1\",근무!D189,IF(달력!$S$24=\"순서2\",근무!E189,IF(달력!$S$24=\"순서3\",근무!F189,IF(달력!$S$24=\"순서4\",근무!G189,IF(달력!$S$24=\"순서5\",근무!H189,IF(달력!$S$24=\"순서6\",근무!I189,\"\"))))))","v":"야간"},{"$f":"IF(달력!$S$25=\"순서1\",근무!D189,IF(달력!$S$25=\"순서2\",근무!E189,IF(달력!$S$25=\"순서3\",근무!F189,IF(달력!$S$25=\"순서4\",근무!G189,IF(달력!$S$25=\"순서5\",근무!H189,IF(달력!$S$25=\"순서6\",근무!I189,\"\"))))))","v":"야간"},{"$f":"IF(달력!$S$26=\"순서1\",근무!D189,IF(달력!$S$26=\"순서2\",근무!E189,IF(달력!$S$26=\"순서3\",근무!F189,IF(달력!$S$26=\"순서4\",근무!G189,IF(달력!$S$26=\"순서5\",근무!H189,IF(달력!$S$26=\"순서6\",근무!I189,\"\"))))))","v":"비번"},{"$f":"IF(달력!$S$27=\"순서1\",근무!D189,IF(달력!$S$27=\"순서2\",근무!E189,IF(달력!$S$27=\"순서3\",근무!F189,IF(달력!$S$27=\"순서4\",근무!G189,IF(달력!$S$27=\"순서5\",근무!H189,IF(달력!$S$27=\"순서6\",근무!I189,\"\"))))))","v":"비번"},{"$f":"IF(달력!$S$28=\"순서1\",근무!D189,IF(달력!$S$28=\"순서2\",근무!E189,IF(달력!$S$28=\"순서3\",근무!F189,IF(달력!$S$28=\"순서4\",근무!G189,IF(달력!$S$28=\"순서5\",근무!H189,IF(달력!$S$28=\"순서6\",근무!I189,\"\"))))))","v":"주간"},{"$f":"IF(달력!$S$29=\"순서1\",근무!D189,IF(달력!$S$29=\"순서2\",근무!E189,IF(달력!$S$29=\"순서3\",근무!F189,IF(달력!$S$29=\"순서4\",근무!G189,IF(달력!$S$29=\"순서5\",근무!H189,IF(달력!$S$29=\"순서6\",근무!I189,\"\"))))))","v":"주간"}]
[null,"2023-07-03","월",{"$f":"IF(달력!$S$24=\"순서1\",근무!D190,IF(달력!$S$24=\"순서2\",근무!E190,IF(달력!$S$24=\"순서3\",근무!F190,IF(달력!$S$24=\"순서4\",근무!G190,IF(달력!$S$24=\"순서5\",근무!H190,IF(달력!$S$24=\"순서6\",근무!I190,\"\"))))))","v":"야간"},{"$f":"IF(달력!$S$25=\"순서1\",근무!D190,IF(달력!$S$25=\"순서2\",근무!E190,IF(달력!$S$25=\"순서3\",근무!F190,IF(달력!$S$25=\"순서4\",근무!G190,IF(달력!$S$25=\"순서5\",근무!H190,IF(달력!$S$25=\"순서6\",근무!I190,\"\"))))))","v":"야간"},{"$f":"IF(달력!$S$26=\"순서1\",근무!D190,IF(달력!$S$26=\"순서2\",근무!E190,IF(달력!$S$26=\"순서3\",근무!F190,IF(달력!$S$26=\"순서4\",근무!G190,IF(달력!$S$26=\"순서5\",근무!H190,IF(달력!$S$26=\"순서6\",근무!I190,\"\"))))))","v":"비번"},{"$f":"IF(달력!$S$27=\"순서1\",근무!D190,IF(달력!$S$27=\"순서2\",근무!E190,IF(달력!$S$27=\"순서3\",근무!F190,IF(달력!$S$27=\"순서4\",근무!G190,IF(달력!$S$27=\"순서5\",근무!H190,IF(달력!$S$27=\"순서6\",근무!I190,\"\"))))))","v":"비번"},{"$f":"IF(달력!$S$28=\"순서1\",근무!D190,IF(달력!$S$28=\"순서2\",근무!E190,IF(달력!$S$28=\"순서3\",근무!F190,IF(달력!$S$28=\"순서4\",근무!G190,IF(달력!$S$28=\"순서5\",근무!H190,IF(달력!$S$28=\"순서6\",근무!I190,\"\"))))))","v":"주간"},{"$f":"IF(달력!$S$29=\"순서1\",근무!D190,IF(달력!$S$29=\"순서2\",근무!E190,IF(달력!$S$29=\"순서3\",근무!F190,IF(달력!$S$29=\"순서4\",근무!G190,IF(달력!$S$29=\"순서5\",근무!H190,IF(달력!$S$29=\"순서6\",근무!I190,\"\"))))))","v":"주간"}]
[null,"2023-07-04","화",{"$f":"IF(달력!$S$24=\"순서1\",근무!D191,IF(달력!$S$24=\"순서2\",근무!E191,IF(달력!$S$24=\"순서3\",근무!F191,IF(달력!$S$24=\"순서4\",근무!G191,IF(달력!$S$24=\"순서5\",근무!H191,IF(달력!$S$24=\"순서6\",근무!I191,\"\"))))))","v":"비번"},{"$f":"IF(달력!$S$25=\"순서1\",근무!D191,IF(달력!$S$25=\"순서2\",근무!E191,IF(달력!$S$25=\"순서3\",근무!F191,IF(달력!$S$25=\"순서4\",근무!G191,IF(달력!$S$25=\"순서5\",근무!H191,IF(달력!$S$25=\"순서6\",근무!I191,\"\"))))))","v":"비번"},{"$f":"IF(달력!$S$26=\"순서1\",근무!D191,IF(달력!$S$26=\"순서2\",근무!E191,IF(달력!$S$26=\"순서3\",근무!F191,IF(달력!$S$26=\"순서4\",근무!G191,IF(달력!$S$26=\"순서5\",근무!H191,IF(달력!$S$26=\"순서6\",근무!I191,\"\"))))))","v":"주간"},{"$f":"IF(달력!$S$27=\"순서1\",근무!D191,IF(달력!$S$27=\"순서2\",근무!E191,IF(달력!$S$27=\"순서3\",근무!F191,IF(달력!$S$27=\"순서4\",근무!G191,IF(달력!$S$27=\"순서5\",근무!H191,IF(달력!$S$27=\"순서6\",근무!I191,\"\"))))))","v":"주간"},{"$f":"IF(달력!$S$28=\"순서1\",근무!D191,IF(달력!$S$28=\"순서2\",근무!E191,IF(달력!$S$28=\"순서3\",근무!F191,IF(달력!$S$28=\"순서4\",근무!G191,IF(달력!$S$28=\"순서5\",근무!H191,IF(달력!$S$28=\"순서6\",근무!I191,\"\"))))))","v":"야간"},{"$f":"IF(달력!$S$29=\"순서1\",근무!D191,IF(달력!$S$29=\"순서2\",근무!E191,IF(달력!$S$29=\"순서3\",근무!F191,IF(달력!$S$29=\"순서4\",근무!G191,IF(달력!$S$29=\"순서5\",근무!H191,IF(달력!$S$29=\"순서6\",근무!I191,\"\"))))))","v":"야간"}]
[null,"2023-07-05","수",{"$f":"IF(달력!$S$24=\"순서1\",근무!D192,IF(달력!$S$24=\"순서2\",근무!E192,IF(달력!$S$24=\"순서3\",근무!F192,IF(달력!$S$24=\"순서4\",근무!G192,IF(달력!$S$24=\"순서5\",근무!H192,IF(달력!$S$24=\"순서6\",근무!I192,\"\"))))))","v":"비번"},{"$f":"IF(달력!$S$25=\"순서1\",근무!D192,IF(달력!$S$25=\"순서2\",근무!E192,IF(달력!$S$25=\"순서3\",근무!F192,IF(달력!$S$25=\"순서4\",근무!G192,IF(달력!$S$25=\"순서5\",근무!H192,IF(달력!$S$25=\"순서6\",근무!I192,\"\"))))))","v":"비번"},{"$f":"IF(달력!$S$26=\"순서1\",근무!D192,IF(달력!$S$26=\"순서2\",근무!E192,IF(달력!$S$26=\"순서3\",근무!F192,IF(달력!$S$26=\"순서4\",근무!G192,IF(달력!$S$26=\"순서5\",근무!H192,IF(달력!$S$26=\"순서6\",근무!I192,\"\"))))))","v":"주간"},{"$f":"IF(달력!$S$27=\"순서1\",근무!D192,IF(달력!$S$27=\"순서2\",근무!E192,IF(달력!$S$27=\"순서3\",근무!F192,IF(달력!$S$27=\"순서4\",근무!G192,IF(달력!$S$27=\"순서5\",근무!H192,IF(달력!$S$27=\"순서6\",근무!I192,\"\"))))))","v":"주간"},{"$f":"IF(달력!$S$28=\"순서1\",근무!D192,IF(달력!$S$28=\"순서2\",근무!E192,IF(달력!$S$28=\"순서3\",근무!F192,IF(달력!$S$28=\"순서4\",근무!G192,IF(달력!$S$28=\"순서5\",근무!H192,IF(달력!$S$28=\"순서6\",근무!I192,\"\"))))))","v":"야간"},{"$f":"IF(달력!$S$29=\"순서1\",근무!D192,IF(달력!$S$29=\"순서2\",근무!E192,IF(달력!$S$29=\"순서3\",근무!F192,IF(달력!$S$29=\"순서4\",근무!G192,IF(달력!$S$29=\"순서5\",근무!H192,IF(달력!$S$29=\"순서6\",근무!I192,\"\"))))))","v":"야간"}]
[null,"2023-07-06","목",{"$f":"IF(달력!$S$24=\"순서1\",근무!D193,IF(달력!$S$24=\"순서2\",근무!E193,IF(달력!$S$24=\"순서3\",근무!F193,IF(달력!$S$24=\"순서4\",근무!G193,IF(달력!$S$24=\"순서5\",근무!H193,IF(달력!$S$24=\"순서6\",근무!I193,\"\"))))))","v":"주간"},{"$f":"IF(달력!$S$25=\"순서1\",근무!D193,IF(달력!$S$25=\"순서2\",근무!E193,IF(달력!$S$25=\"순서3\",근무!F193,IF(달력!$S$25=\"순서4\",근무!G193,IF(달력!$S$25=\"순서5\",근무!H193,IF(달력!$S$25=\"순서6\",근무!I193,\"\"))))))","v":"주간"},{"$f":"IF(달력!$S$26=\"순서1\",근무!D193,IF(달력!$S$26=\"순서2\",근무!E193,IF(달력!$S$26=\"순서3\",근무!F193,IF(달력!$S$26=\"순서4\",근무!G193,IF(달력!$S$26=\"순서5\",근무!H193,IF(달력!$S$26=\"순서6\",근무!I193,\"\"))))))","v":"야간"},{"$f":"IF(달력!$S$27=\"순서1\",근무!D193,IF(달력!$S$27=\"순서2\",근무!E193,IF(달력!$S$27=\"순서3\",근무!F193,IF(달력!$S$27=\"순서4\",근무!G193,IF(달력!$S$27=\"순서5\",근무!H193,IF(달력!$S$27=\"순서6\",근무!I193,\"\"))))))","v":"야간"},{"$f":"IF(달력!$S$28=\"순서1\",근무!D193,IF(달력!$S$28=\"순서2\",근무!E193,IF(달력!$S$28=\"순서3\",근무!F193,IF(달력!$S$28=\"순서4\",근무!G193,IF(달력!$S$28=\"순서5\",근무!H193,IF(달력!$S$28=\"순서6\",근무!I193,\"\"))))))","v":"비번"},{"$f":"IF(달력!$S$29=\"순서1\",근무!D193,IF(달력!$S$29=\"순서2\",근무!E193,IF(달력!$S$29=\"순서3\",근무!F193,IF(달력!$S$29=\"순서4\",근무!G193,IF(달력!$S$29=\"순서5\",근무!H193,IF(달력!$S$29=\"순서6\",근무!I193,\"\"))))))","v":"비번"}]
[null,"2023-07-07","금",{"$f":"IF(달력!$S$24=\"순서1\",근무!D194,IF(달력!$S$24=\"순서2\",근무!E194,IF(달력!$S$24=\"순서3\",근무!F194,IF(달력!$S$24=\"순서4\",근무!G194,IF(달력!$S$24=\"순서5\",근무!H194,IF(달력!$S$24=\"순서6\",근무!I194,\"\"))))))","v":"주간"},{"$f":"IF(달력!$S$25=\"순서1\",근무!D194,IF(달력!$S$25=\"순서2\",근무!E194,IF(달력!$S$25=\"순서3\",근무!F194,IF(달력!$S$25=\"순서4\",근무!G194,IF(달력!$S$25=\"순서5\",근무!H194,IF(달력!$S$25=\"순서6\",근무!I194,\"\"))))))","v":"주간"},{"$f":"IF(달력!$S$26=\"순서1\",근무!D194,IF(달력!$S$26=\"순서2\",근무!E194,IF(달력!$S$26=\"순서3\",근무!F194,IF(달력!$S$26=\"순서4\",근무!G194,IF(달력!$S$26=\"순서5\",근무!H194,IF(달력!$S$26=\"순서6\",근무!I194,\"\"))))))","v":"야간"},{"$f":"IF(달력!$S$27=\"순서1\",근무!D194,IF(달력!$S$27=\"순서2\",근무!E194,IF(달력!$S$27=\"순서3\",근무!F194,IF(달력!$S$27=\"순서4\",근무!G194,IF(달력!$S$27=\"순서5\",근무!H194,IF(달력!$S$27=\"순서6\",근무!I194,\"\"))))))","v":"야간"},{"$f":"IF(달력!$S$28=\"순서1\",근무!D194,IF(달력!$S$28=\"순서2\",근무!E194,IF(달력!$S$28=\"순서3\",근무!F194,IF(달력!$S$28=\"순서4\",근무!G194,IF(달력!$S$28=\"순서5\",근무!H194,IF(달력!$S$28=\"순서6\",근무!I194,\"\"))))))","v":"비번"},{"$f":"IF(달력!$S$29=\"순서1\",근무!D194,IF(달력!$S$29=\"순서2\",근무!E194,IF(달력!$S$29=\"순서3\",근무!F194,IF(달력!$S$29=\"순서4\",근무!G194,IF(달력!$S$29=\"순서5\",근무!H194,IF(달력!$S$29=\"순서6\",근무!I194,\"\"))))))","v":"비번"}]
[null,"2023-07-08","토",{"$f":"IF(달력!$S$24=\"순서1\",근무!D195,IF(달력!$S$24=\"순서2\",근무!E195,IF(달력!$S$24=\"순서3\",근무!F195,IF(달력!$S$24=\"순서4\",근무!G195,IF(달력!$S$24=\"순서5\",근무!H195,IF(달력!$S$24=\"순서6\",근무!I195,\"\"))))))","v":"야간"},{"$f":"IF(달력!$S$25=\"순서1\",근무!D195,IF(달력!$S$25=\"순서2\",근무!E195,IF(달력!$S$25=\"순서3\",근무!F195,IF(달력!$S$25=\"순서4\",근무!G195,IF(달력!$S$25=\"순서5\",근무!H195,IF(달력!$S$25=\"순서6\",근무!I195,\"\"))))))","v":"야간"},{"$f":"IF(달력!$S$26=\"순서1\",근무!D195,IF(달력!$S$26=\"순서2\",근무!E195,IF(달력!$S$26=\"순서3\",근무!F195,IF(달력!$S$26=\"순서4\",근무!G195,IF(달력!$S$26=\"순서5\",근무!H195,IF(달력!$S$26=\"순서6\",근무!I195,\"\"))))))","v":"비번"},{"$f":"IF(달력!$S$27=\"순서1\",근무!D195,IF(달력!$S$27=\"순서2\",근무!E195,IF(달력!$S$27=\"순서3\",근무!F195,IF(달력!$S$27=\"순서4\",근무!G195,IF(달력!$S$27=\"순서5\",근무!H195,IF(달력!$S$27=\"순서6\",근무!I195,\"\"))))))","v":"비번"},{"$f":"IF(달력!$S$28=\"순서1\",근무!D195,IF(달력!$S$28=\"순서2\",근무!E195,IF(달력!$S$28=\"순서3\",근무!F195,IF(달력!$S$28=\"순서4\",근무!G195,IF(달력!$S$28=\"순서5\",근무!H195,IF(달력!$S$28=\"순서6\",근무!I195,\"\"))))))","v":"주간"},{"$f":"IF(달력!$S$29=\"순서1\",근무!D195,IF(달력!$S$29=\"순서2\",근무!E195,IF(달력!$S$29=\"순서3\",근무!F195,IF(달력!$S$29=\"순서4\",근무!G195,IF(달력!$S$29=\"순서5\",근무!H195,IF(달력!$S$29=\"순서6\",근무!I195,\"\"))))))","v":"주간"}]
[null,"2023-07-09","일",{"$f":"IF(달력!$S$24=\"순서1\",근무!D196,IF(달력!$S$24=\"순서2\",근무!E196,IF(달력!$S$24=\"순서3\",근무!F196,IF(달력!$S$24=\"순서4\",근무!G196,IF(달력!$S$24=\"순서5\",근무!H196,IF(달력!$S$24=\"순서6\",근무!I196,\"\"))))))","v":"야간"},{"$f":"IF(달력!$S$25=\"순서1\",근무!D196,IF(달력!$S$25=\"순서2\",근무!E196,IF(달력!$S$25=\"순서3\",근무!F196,IF(달력!$S$25=\"순서4\",근무!G196,IF(달력!$S$25=\"순서5\",근무!H196,IF(달력!$S$25=\"순서6\",근무!I196,\"\"))))))","v":"야간"},{"$f":"IF(달력!$S$26=\"순서1\",근무!D196,IF(달력!$S$26=\"순서2\",근무!E196,IF(달력!$S$26=\"순서3\",근무!F196,IF(달력!$S$26=\"순서4\",근무!G196,IF(달력!$S$26=\"순서5\",근무!H196,IF(달력!$S$26=\"순서6\",근무!I196,\"\"))))))","v":"비번"},{"$f":"IF(달력!$S$27=\"순서1\",근무!D196,IF(달력!$S$27=\"순서2\",근무!E196,IF(달력!$S$27=\"순서3\",근무!F196,IF(달력!$S$27=\"순서4\",근무!G196,IF(달력!$S$27=\"순서5\",근무!H196,IF(달력!$S$27=\"순서6\",근무!I196,\"\"))))))","v":"비번"},{"$f":"IF(달력!$S$28=\"순서1\",근무!D196,IF(달력!$S$28=\"순서2\",근무!E196,IF(달력!$S$28=\"순서3\",근무!F196,IF(달력!$S$28=\"순서4\",근무!G196,IF(달력!$S$28=\"순서5\",근무!H196,IF(달력!$S$28=\"순서6\",근무!I196,\"\"))))))","v":"주간"},{"$f":"IF(달력!$S$29=\"순서1\",근무!D196,IF(달력!$S$29=\"순서2\",근무!E196,IF(달력!$S$29=\"순서3\",근무!F196,IF(달력!$S$29=\"순서4\",근무!G196,IF(달력!$S$29=\"순서5\",근무!H196,IF(달력!$S$29=\"순서6\",근무!I196,\"\"))))))","v":"주간"}]
[null,"2023-07-10","월",{"$f":"IF(달력!$S$24=\"순서1\",근무!D197,IF(달력!$S$24=\"순서2\",근무!E197,IF(달력!$S$24=\"순서3\",근무!F197,IF(달력!$S$24=\"순서4\",근무!G197,IF(달력!$S$24=\"순서5\",근무!H197,IF(달력!$S$24=\"순서6\",근무!I197,\"\"))))))","v":"비번"},{"$f":"IF(달력!$S$25=\"순서1\",근무!D197,IF(달력!$S$25=\"순서2\",근무!E197,IF(달력!$S$25=\"순서3\",근무!F197,IF(달력!$S$25=\"순서4\",근무!G197,IF(달력!$S$25=\"순서5\",근무!H197,IF(달력!$S$25=\"순서6\",근무!I197,\"\"))))))","v":"비번"},{"$f":"IF(달력!$S$26=\"순서1\",근무!D197,IF(달력!$S$26=\"순서2\",근무!E197,IF(달력!$S$26=\"순서3\",근무!F197,IF(달력!$S$26=\"순서4\",근무!G197,IF(달력!$S$26=\"순서5\",근무!H197,IF(달력!$S$26=\"순서6\",근무!I197,\"\"))))))","v":"주간"},{"$f":"IF(달력!$S$27=\"순서1\",근무!D197,IF(달력!$S$27=\"순서2\",근무!E197,IF(달력!$S$27=\"순서3\",근무!F197,IF(달력!$S$27=\"순서4\",근무!G197,IF(달력!$S$27=\"순서5\",근무!H197,IF(달력!$S$27=\"순서6\",근무!I197,\"\"))))))","v":"주간"},{"$f":"IF(달력!$S$28=\"순서1\",근무!D197,IF(달력!$S$28=\"순서2\",근무!E197,IF(달력!$S$28=\"순서3\",근무!F197,IF(달력!$S$28=\"순서4\",근무!G197,IF(달력!$S$28=\"순서5\",근무!H197,IF(달력!$S$28=\"순서6\",근무!I197,\"\"))))))","v":"야간"},{"$f":"IF(달력!$S$29=\"순서1\",근무!D197,IF(달력!$S$29=\"순서2\",근무!E197,IF(달력!$S$29=\"순서3\",근무!F197,IF(달력!$S$29=\"순서4\",근무!G197,IF(달력!$S$29=\"순서5\",근무!H197,IF(달력!$S$29=\"순서6\",근무!I197,\"\"))))))","v":"야간"}]
[null,"2023-07-11","화",{"$f":"IF(달력!$S$24=\"순서1\",근무!D198,IF(달력!$S$24=\"순서2\",근무!E198,IF(달력!$S$24=\"순서3\",근무!F198,IF(달력!$S$24=\"순서4\",근무!G198,IF(달력!$S$24=\"순서5\",근무!H198,IF(달력!$S$24=\"순서6\",근무!I198,\"\"))))))","v":"비번"},{"$f":"IF(달력!$S$25=\"순서1\",근무!D198,IF(달력!$S$25=\"순서2\",근무!E198,IF(달력!$S$25=\"순서3\",근무!F198,IF(달력!$S$25=\"순서4\",근무!G198,IF(달력!$S$25=\"순서5\",근무!H198,IF(달력!$S$25=\"순서6\",근무!I198,\"\"))))))","v":"비번"},{"$f":"IF(달력!$S$26=\"순서1\",근무!D198,IF(달력!$S$26=\"순서2\",근무!E198,IF(달력!$S$26=\"순서3\",근무!F198,IF(달력!$S$26=\"순서4\",근무!G198,IF(달력!$S$26=\"순서5\",근무!H198,IF(달력!$S$26=\"순서6\",근무!I198,\"\"))))))","v":"주간"},{"$f":"IF(달력!$S$27=\"순서1\",근무!D198,IF(달력!$S$27=\"순서2\",근무!E198,IF(달력!$S$27=\"순서3\",근무!F198,IF(달력!$S$27=\"순서4\",근무!G198,IF(달력!$S$27=\"순서5\",근무!H198,IF(달력!$S$27=\"순서6\",근무!I198,\"\"))))))","v":"주간"},{"$f":"IF(달력!$S$28=\"순서1\",근무!D198,IF(달력!$S$28=\"순서2\",근무!E198,IF(달력!$S$28=\"순서3\",근무!F198,IF(달력!$S$28=\"순서4\",근무!G198,IF(달력!$S$28=\"순서5\",근무!H198,IF(달력!$S$28=\"순서6\",근무!I198,\"\"))))))","v":"야간"},{"$f":"IF(달력!$S$29=\"순서1\",근무!D198,IF(달력!$S$29=\"순서2\",근무!E198,IF(달력!$S$29=\"순서3\",근무!F198,IF(달력!$S$29=\"순서4\",근무!G198,IF(달력!$S$29=\"순서5\",근무!H198,IF(달력!$S$29=\"순서6\",근무!I198,\"\"))))))","v":"야간"}]
[null,"2023-07-12","수",{"$f":"IF(달력!$S$24=\"순서1\",근무!D199,IF(달력!$S$24=\"순서2\",근무!E199,IF(달력!$S$24=\"순서3\",근무!F199,IF(달력!$S$24=\"순서4\",근무!G199,IF(달력!$S$24=\"순서5\",근무!H199,IF(달력!$S$24=\"순서6\",근무!I199,\"\"))))))","v":"주간"},{"$f":"IF(달력!$S$25=\"순서1\",근무!D199,IF(달력!$S$25=\"순서2\",근무!E199,IF(달력!$S$25=\"순서3\",근무!F199,IF(달력!$S$25=\"순서4\",근무!G199,IF(달력!$S$25=\"순서5\",근무!H199,IF(달력!$S$25=\"순서6\",근무!I199,\"\"))))))","v":"주간"},{"$f":"IF(달력!$S$26=\"순서1\",근무!D199,IF(달력!$S$26=\"순서2\",근무!E199,IF(달력!$S$26=\"순서3\",근무!F199,IF(달력!$S$26=\"순서4\",근무!G199,IF(달력!$S$26=\"순서5\",근무!H199,IF(달력!$S$26=\"순서6\",근무!I199,\"\"))))))","v":"야간"},{"$f":"IF(달력!$S$27=\"순서1\",근무!D199,IF(달력!$S$27=\"순서2\",근무!E199,IF(달력!$S$27=\"순서3\",근무!F199,IF(달력!$S$27=\"순서4\",근무!G199,IF(달력!$S$27=\"순서5\",근무!H199,IF(달력!$S$27=\"순서6\",근무!I199,\"\"))))))","v":"야간"},{"$f":"IF(달력!$S$28=\"순서1\",근무!D199,IF(달력!$S$28=\"순서2\",근무!E199,IF(달력!$S$28=\"순서3\",근무!F199,IF(달력!$S$28=\"순서4\",근무!G199,IF(달력!$S$28=\"순서5\",근무!H199,IF(달력!$S$28=\"순서6\",근무!I199,\"\"))))))","v":"비번"},{"$f":"IF(달력!$S$29=\"순서1\",근무!D199,IF(달력!$S$29=\"순서2\",근무!E199,IF(달력!$S$29=\"순서3\",근무!F199,IF(달력!$S$29=\"순서4\",근무!G199,IF(달력!$S$29=\"순서5\",근무!H199,IF(달력!$S$29=\"순서6\",근무!I199,\"\"))))))","v":"비번"}]
[null,"2023-07-13",{"$f":"CHOOSE(WEEKDAY(B200,1),\"일\",\"월\",\"화\",\"수\",\"목\",\"금\",\"토\")","v":"목"},{"$f":"IF(달력!$S$24=\"순서1\",근무!D200,IF(달력!$S$24=\"순서2\",근무!E200,IF(달력!$S$24=\"순서3\",근무!F200,IF(달력!$S$24=\"순서4\",근무!G200,IF(달력!$S$24=\"순서5\",근무!H200,IF(달력!$S$24=\"순서6\",근무!I200,\"\"))))))","v":"주간"},{"$f":"IF(달력!$S$25=\"순서1\",근무!D200,IF(달력!$S$25=\"순서2\",근무!E200,IF(달력!$S$25=\"순서3\",근무!F200,IF(달력!$S$25=\"순서4\",근무!G200,IF(달력!$S$25=\"순서5\",근무!H200,IF(달력!$S$25=\"순서6\",근무!I200,\"\"))))))","v":"주간"},{"$f":"IF(달력!$S$26=\"순서1\",근무!D200,IF(달력!$S$26=\"순서2\",근무!E200,IF(달력!$S$26=\"순서3\",근무!F200,IF(달력!$S$26=\"순서4\",근무!G200,IF(달력!$S$26=\"순서5\",근무!H200,IF(달력!$S$26=\"순서6\",근무!I200,\"\"))))))","v":"야간"},{"$f":"IF(달력!$S$27=\"순서1\",근무!D200,IF(달력!$S$27=\"순서2\",근무!E200,IF(달력!$S$27=\"순서3\",근무!F200,IF(달력!$S$27=\"순서4\",근무!G200,IF(달력!$S$27=\"순서5\",근무!H200,IF(달력!$S$27=\"순서6\",근무!I200,\"\"))))))","v":"야간"},{"$f":"IF(달력!$S$28=\"순서1\",근무!D200,IF(달력!$S$28=\"순서2\",근무!E200,IF(달력!$S$28=\"순서3\",근무!F200,IF(달력!$S$28=\"순서4\",근무!G200,IF(달력!$S$28=\"순서5\",근무!H200,IF(달력!$S$28=\"순서6\",근무!I200,\"\"))))))","v":"비번"},{"$f":"IF(달력!$S$29=\"순서1\",근무!D200,IF(달력!$S$29=\"순서2\",근무!E200,IF(달력!$S$29=\"순서3\",근무!F200,IF(달력!$S$29=\"순서4\",근무!G200,IF(달력!$S$29=\"순서5\",근무!H200,IF(달력!$S$29=\"순서6\",근무!I200,\"\"))))))","v":"비번"}]
[null,{"$f":"B200+1","v":"2023-07-14"},"금",{"$f":"IF(달력!$S$24=\"순서1\",근무!D201,IF(달력!$S$24=\"순서2\",근무!E201,IF(달력!$S$24=\"순서3\",근무!F201,IF(달력!$S$24=\"순서4\",근무!G201,IF(달력!$S$24=\"순서5\",근무!H201,IF(달력!$S$24=\"순서6\",근무!I201,\"\"))))))","v":"야간"},{"$f":"IF(달력!$S$25=\"순서1\",근무!D201,IF(달력!$S$25=\"순서2\",근무!E201,IF(달력!$S$25=\"순서3\",근무!F201,IF(달력!$S$25=\"순서4\",근무!G201,IF(달력!$S$25=\"순서5\",근무!H201,IF(달력!$S$25=\"순서6\",근무!I201,\"\"))))))","v":"야간"},{"$f":"IF(달력!$S$26=\"순서1\",근무!D201,IF(달력!$S$26=\"순서2\",근무!E201,IF(달력!$S$26=\"순서3\",근무!F201,IF(달력!$S$26=\"순서4\",근무!G201,IF(달력!$S$26=\"순서5\",근무!H201,IF(달력!$S$26=\"순서6\",근무!I201,\"\"))))))","v":"비번"},{"$f":"IF(달력!$S$27=\"순서1\",근무!D201,IF(달력!$S$27=\"순서2\",근무!E201,IF(달력!$S$27=\"순서3\",근무!F201,IF(달력!$S$27=\"순서4\",근무!G201,IF(달력!$S$27=\"순서5\",근무!H201,IF(달력!$S$27=\"순서6\",근무!I201,\"\"))))))","v":"비번"},{"$f":"IF(달력!$S$28=\"순서1\",근무!D201,IF(달력!$S$28=\"순서2\",근무!E201,IF(달력!$S$28=\"순서3\",근무!F201,IF(달력!$S$28=\"순서4\",근무!G201,IF(달력!$S$28=\"순서5\",근무!H201,IF(달력!$S$28=\"순서6\",근무!I201,\"\"))))))","v":"주간"},{"$f":"IF(달력!$S$29=\"순서1\",근무!D201,IF(달력!$S$29=\"순서2\",근무!E201,IF(달력!$S$29=\"순서3\",근무!F201,IF(달력!$S$29=\"순서4\",근무!G201,IF(달력!$S$29=\"순서5\",근무!H201,IF(달력!$S$29=\"순서6\",근무!I201,\"\"))))))","v":"주간"}]
[null,"2023-07-15","토",{"$f":"IF(달력!$S$24=\"순서1\",근무!D202,IF(달력!$S$24=\"순서2\",근무!E202,IF(달력!$S$24=\"순서3\",근무!F202,IF(달력!$S$24=\"순서4\",근무!G202,IF(달력!$S$24=\"순서5\",근무!H202,IF(달력!$S$24=\"순서6\",근무!I202,\"\"))))))","v":"야간"},{"$f":"IF(달력!$S$25=\"순서1\",근무!D202,IF(달력!$S$25=\"순서2\",근무!E202,IF(달력!$S$25=\"순서3\",근무!F202,IF(달력!$S$25=\"순서4\",근무!G202,IF(달력!$S$25=\"순서5\",근무!H202,IF(달력!$S$25=\"순서6\",근무!I202,\"\"))))))","v":"야간"},{"$f":"IF(달력!$S$26=\"순서1\",근무!D202,IF(달력!$S$26=\"순서2\",근무!E202,IF(달력!$S$26=\"순서3\",근무!F202,IF(달력!$S$26=\"순서4\",근무!G202,IF(달력!$S$26=\"순서5\",근무!H202,IF(달력!$S$26=\"순서6\",근무!I202,\"\"))))))","v":"비번"},{"$f":"IF(달력!$S$27=\"순서1\",근무!D202,IF(달력!$S$27=\"순서2\",근무!E202,IF(달력!$S$27=\"순서3\",근무!F202,IF(달력!$S$27=\"순서4\",근무!G202,IF(달력!$S$27=\"순서5\",근무!H202,IF(달력!$S$27=\"순서6\",근무!I202,\"\"))))))","v":"비번"},{"$f":"IF(달력!$S$28=\"순서1\",근무!D202,IF(달력!$S$28=\"순서2\",근무!E202,IF(달력!$S$28=\"순서3\",근무!F202,IF(달력!$S$28=\"순서4\",근무!G202,IF(달력!$S$28=\"순서5\",근무!H202,IF(달력!$S$28=\"순서6\",근무!I202,\"\"))))))","v":"주간"},{"$f":"IF(달력!$S$29=\"순서1\",근무!D202,IF(달력!$S$29=\"순서2\",근무!E202,IF(달력!$S$29=\"순서3\",근무!F202,IF(달력!$S$29=\"순서4\",근무!G202,IF(달력!$S$29=\"순서5\",근무!H202,IF(달력!$S$29=\"순서6\",근무!I202,\"\"))))))","v":"주간"}]
[null,"2023-07-16","일",{"$f":"IF(달력!$S$24=\"순서1\",근무!D203,IF(달력!$S$24=\"순서2\",근무!E203,IF(달력!$S$24=\"순서3\",근무!F203,IF(달력!$S$24=\"순서4\",근무!G203,IF(달력!$S$24=\"순서5\",근무!H203,IF(달력!$S$24=\"순서6\",근무!I203,\"\"))))))","v":"비번"},{"$f":"IF(달력!$S$25=\"순서1\",근무!D203,IF(달력!$S$25=\"순서2\",근무!E203,IF(달력!$S$25=\"순서3\",근무!F203,IF(달력!$S$25=\"순서4\",근무!G203,IF(달력!$S$25=\"순서5\",근무!H203,IF(달력!$S$25=\"순서6\",근무!I203,\"\"))))))","v":"비번"},{"$f":"IF(달력!$S$26=\"순서1\",근무!D203,IF(달력!$S$26=\"순서2\",근무!E203,IF(달력!$S$26=\"순서3\",근무!F203,IF(달력!$S$26=\"순서4\",근무!G203,IF(달력!$S$26=\"순서5\",근무!H203,IF(달력!$S$26=\"순서6\",근무!I203,\"\"))))))","v":"주간"},{"$f":"IF(달력!$S$27=\"순서1\",근무!D203,IF(달력!$S$27=\"순서2\",근무!E203,IF(달력!$S$27=\"순서3\",근무!F203,IF(달력!$S$27=\"순서4\",근무!G203,IF(달력!$S$27=\"순서5\",근무!H203,IF(달력!$S$27=\"순서6\",근무!I203,\"\"))))))","v":"주간"},{"$f":"IF(달력!$S$28=\"순서1\",근무!D203,IF(달력!$S$28=\"순서2\",근무!E203,IF(달력!$S$28=\"순서3\",근무!F203,IF(달력!$S$28=\"순서4\",근무!G203,IF(달력!$S$28=\"순서5\",근무!H203,IF(달력!$S$28=\"순서6\",근무!I203,\"\"))))))","v":"야간"},{"$f":"IF(달력!$S$29=\"순서1\",근무!D203,IF(달력!$S$29=\"순서2\",근무!E203,IF(달력!$S$29=\"순서3\",근무!F203,IF(달력!$S$29=\"순서4\",근무!G203,IF(달력!$S$29=\"순서5\",근무!H203,IF(달력!$S$29=\"순서6\",근무!I203,\"\"))))))","v":"야간"}]
[null,"2023-07-17","월",{"$f":"IF(달력!$S$24=\"순서1\",근무!D204,IF(달력!$S$24=\"순서2\",근무!E204,IF(달력!$S$24=\"순서3\",근무!F204,IF(달력!$S$24=\"순서4\",근무!G204,IF(달력!$S$24=\"순서5\",근무!H204,IF(달력!$S$24=\"순서6\",근무!I204,\"\"))))))","v":"비번"},{"$f":"IF(달력!$S$25=\"순서1\",근무!D204,IF(달력!$S$25=\"순서2\",근무!E204,IF(달력!$S$25=\"순서3\",근무!F204,IF(달력!$S$25=\"순서4\",근무!G204,IF(달력!$S$25=\"순서5\",근무!H204,IF(달력!$S$25=\"순서6\",근무!I204,\"\"))))))","v":"비번"},{"$f":"IF(달력!$S$26=\"순서1\",근무!D204,IF(달력!$S$26=\"순서2\",근무!E204,IF(달력!$S$26=\"순서3\",근무!F204,IF(달력!$S$26=\"순서4\",근무!G204,IF(달력!$S$26=\"순서5\",근무!H204,IF(달력!$S$26=\"순서6\",근무!I204,\"\"))))))","v":"주간"},{"$f":"IF(달력!$S$27=\"순서1\",근무!D204,IF(달력!$S$27=\"순서2\",근무!E204,IF(달력!$S$27=\"순서3\",근무!F204,IF(달력!$S$27=\"순서4\",근무!G204,IF(달력!$S$27=\"순서5\",근무!H204,IF(달력!$S$27=\"순서6\",근무!I204,\"\"))))))","v":"주간"},{"$f":"IF(달력!$S$28=\"순서1\",근무!D204,IF(달력!$S$28=\"순서2\",근무!E204,IF(달력!$S$28=\"순서3\",근무!F204,IF(달력!$S$28=\"순서4\",근무!G204,IF(달력!$S$28=\"순서5\",근무!H204,IF(달력!$S$28=\"순서6\",근무!I204,\"\"))))))","v":"야간"},{"$f":"IF(달력!$S$29=\"순서1\",근무!D204,IF(달력!$S$29=\"순서2\",근무!E204,IF(달력!$S$29=\"순서3\",근무!F204,IF(달력!$S$29=\"순서4\",근무!G204,IF(달력!$S$29=\"순서5\",근무!H204,IF(달력!$S$29=\"순서6\",근무!I204,\"\"))))))","v":"야간"}]
[null,"2023-07-18","화",{"$f":"IF(달력!$S$24=\"순서1\",근무!D205,IF(달력!$S$24=\"순서2\",근무!E205,IF(달력!$S$24=\"순서3\",근무!F205,IF(달력!$S$24=\"순서4\",근무!G205,IF(달력!$S$24=\"순서5\",근무!H205,IF(달력!$S$24=\"순서6\",근무!I205,\"\"))))))","v":"주간"},{"$f":"IF(달력!$S$25=\"순서1\",근무!D205,IF(달력!$S$25=\"순서2\",근무!E205,IF(달력!$S$25=\"순서3\",근무!F205,IF(달력!$S$25=\"순서4\",근무!G205,IF(달력!$S$25=\"순서5\",근무!H205,IF(달력!$S$25=\"순서6\",근무!I205,\"\"))))))","v":"주간"},{"$f":"IF(달력!$S$26=\"순서1\",근무!D205,IF(달력!$S$26=\"순서2\",근무!E205,IF(달력!$S$26=\"순서3\",근무!F205,IF(달력!$S$26=\"순서4\",근무!G205,IF(달력!$S$26=\"순서5\",근무!H205,IF(달력!$S$26=\"순서6\",근무!I205,\"\"))))))","v":"야간"},{"$f":"IF(달력!$S$27=\"순서1\",근무!D205,IF(달력!$S$27=\"순서2\",근무!E205,IF(달력!$S$27=\"순서3\",근무!F205,IF(달력!$S$27=\"순서4\",근무!G205,IF(달력!$S$27=\"순서5\",근무!H205,IF(달력!$S$27=\"순서6\",근무!I205,\"\"))))))","v":"야간"},{"$f":"IF(달력!$S$28=\"순서1\",근무!D205,IF(달력!$S$28=\"순서2\",근무!E205,IF(달력!$S$28=\"순서3\",근무!F205,IF(달력!$S$28=\"순서4\",근무!G205,IF(달력!$S$28=\"순서5\",근무!H205,IF(달력!$S$28=\"순서6\",근무!I205,\"\"))))))","v":"비번"},{"$f":"IF(달력!$S$29=\"순서1\",근무!D205,IF(달력!$S$29=\"순서2\",근무!E205,IF(달력!$S$29=\"순서3\",근무!F205,IF(달력!$S$29=\"순서4\",근무!G205,IF(달력!$S$29=\"순서5\",근무!H205,IF(달력!$S$29=\"순서6\",근무!I205,\"\"))))))","v":"비번"}]
[null,"2023-07-19","수",{"$f":"IF(달력!$S$24=\"순서1\",근무!D206,IF(달력!$S$24=\"순서2\",근무!E206,IF(달력!$S$24=\"순서3\",근무!F206,IF(달력!$S$24=\"순서4\",근무!G206,IF(달력!$S$24=\"순서5\",근무!H206,IF(달력!$S$24=\"순서6\",근무!I206,\"\"))))))","v":"주간"},{"$f":"IF(달력!$S$25=\"순서1\",근무!D206,IF(달력!$S$25=\"순서2\",근무!E206,IF(달력!$S$25=\"순서3\",근무!F206,IF(달력!$S$25=\"순서4\",근무!G206,IF(달력!$S$25=\"순서5\",근무!H206,IF(달력!$S$25=\"순서6\",근무!I206,\"\"))))))","v":"주간"},{"$f":"IF(달력!$S$26=\"순서1\",근무!D206,IF(달력!$S$26=\"순서2\",근무!E206,IF(달력!$S$26=\"순서3\",근무!F206,IF(달력!$S$26=\"순서4\",근무!G206,IF(달력!$S$26=\"순서5\",근무!H206,IF(달력!$S$26=\"순서6\",근무!I206,\"\"))))))","v":"야간"},{"$f":"IF(달력!$S$27=\"순서1\",근무!D206,IF(달력!$S$27=\"순서2\",근무!E206,IF(달력!$S$27=\"순서3\",근무!F206,IF(달력!$S$27=\"순서4\",근무!G206,IF(달력!$S$27=\"순서5\",근무!H206,IF(달력!$S$27=\"순서6\",근무!I206,\"\"))))))","v":"야간"},{"$f":"IF(달력!$S$28=\"순서1\",근무!D206,IF(달력!$S$28=\"순서2\",근무!E206,IF(달력!$S$28=\"순서3\",근무!F206,IF(달력!$S$28=\"순서4\",근무!G206,IF(달력!$S$28=\"순서5\",근무!H206,IF(달력!$S$28=\"순서6\",근무!I206,\"\"))))))","v":"비번"},{"$f":"IF(달력!$S$29=\"순서1\",근무!D206,IF(달력!$S$29=\"순서2\",근무!E206,IF(달력!$S$29=\"순서3\",근무!F206,IF(달력!$S$29=\"순서4\",근무!G206,IF(달력!$S$29=\"순서5\",근무!H206,IF(달력!$S$29=\"순서6\",근무!I206,\"\"))))))","v":"비번"}]
[null,"2023-07-20","목",{"$f":"IF(달력!$S$24=\"순서1\",근무!D207,IF(달력!$S$24=\"순서2\",근무!E207,IF(달력!$S$24=\"순서3\",근무!F207,IF(달력!$S$24=\"순서4\",근무!G207,IF(달력!$S$24=\"순서5\",근무!H207,IF(달력!$S$24=\"순서6\",근무!I207,\"\"))))))","v":"야간"},{"$f":"IF(달력!$S$25=\"순서1\",근무!D207,IF(달력!$S$25=\"순서2\",근무!E207,IF(달력!$S$25=\"순서3\",근무!F207,IF(달력!$S$25=\"순서4\",근무!G207,IF(달력!$S$25=\"순서5\",근무!H207,IF(달력!$S$25=\"순서6\",근무!I207,\"\"))))))","v":"야간"},{"$f":"IF(달력!$S$26=\"순서1\",근무!D207,IF(달력!$S$26=\"순서2\",근무!E207,IF(달력!$S$26=\"순서3\",근무!F207,IF(달력!$S$26=\"순서4\",근무!G207,IF(달력!$S$26=\"순서5\",근무!H207,IF(달력!$S$26=\"순서6\",근무!I207,\"\"))))))","v":"비번"},{"$f":"IF(달력!$S$27=\"순서1\",근무!D207,IF(달력!$S$27=\"순서2\",근무!E207,IF(달력!$S$27=\"순서3\",근무!F207,IF(달력!$S$27=\"순서4\",근무!G207,IF(달력!$S$27=\"순서5\",근무!H207,IF(달력!$S$27=\"순서6\",근무!I207,\"\"))))))","v":"비번"},{"$f":"IF(달력!$S$28=\"순서1\",근무!D207,IF(달력!$S$28=\"순서2\",근무!E207,IF(달력!$S$28=\"순서3\",근무!F207,IF(달력!$S$28=\"순서4\",근무!G207,IF(달력!$S$28=\"순서5\",근무!H207,IF(달력!$S$28=\"순서6\",근무!I207,\"\"))))))","v":"주간"},{"$f":"IF(달력!$S$29=\"순서1\",근무!D207,IF(달력!$S$29=\"순서2\",근무!E207,IF(달력!$S$29=\"순서3\",근무!F207,IF(달력!$S$29=\"순서4\",근무!G207,IF(달력!$S$29=\"순서5\",근무!H207,IF(달력!$S$29=\"순서6\",근무!I207,\"\"))))))","v":"주간"}]
[null,"2023-07-21","금",{"$f":"IF(달력!$S$24=\"순서1\",근무!D208,IF(달력!$S$24=\"순서2\",근무!E208,IF(달력!$S$24=\"순서3\",근무!F208,IF(달력!$S$24=\"순서4\",근무!G208,IF(달력!$S$24=\"순서5\",근무!H208,IF(달력!$S$24=\"순서6\",근무!I208,\"\"))))))","v":"야간"},{"$f":"IF(달력!$S$25=\"순서1\",근무!D208,IF(달력!$S$25=\"순서2\",근무!E208,IF(달력!$S$25=\"순서3\",근무!F208,IF(달력!$S$25=\"순서4\",근무!G208,IF(달력!$S$25=\"순서5\",근무!H208,IF(달력!$S$25=\"순서6\",근무!I208,\"\"))))))","v":"야간"},{"$f":"IF(달력!$S$26=\"순서1\",근무!D208,IF(달력!$S$26=\"순서2\",근무!E208,IF(달력!$S$26=\"순서3\",근무!F208,IF(달력!$S$26=\"순서4\",근무!G208,IF(달력!$S$26=\"순서5\",근무!H208,IF(달력!$S$26=\"순서6\",근무!I208,\"\"))))))","v":"비번"},{"$f":"IF(달력!$S$27=\"순서1\",근무!D208,IF(달력!$S$27=\"순서2\",근무!E208,IF(달력!$S$27=\"순서3\",근무!F208,IF(달력!$S$27=\"순서4\",근무!G208,IF(달력!$S$27=\"순서5\",근무!H208,IF(달력!$S$27=\"순서6\",근무!I208,\"\"))))))","v":"비번"},{"$f":"IF(달력!$S$28=\"순서1\",근무!D208,IF(달력!$S$28=\"순서2\",근무!E208,IF(달력!$S$28=\"순서3\",근무!F208,IF(달력!$S$28=\"순서4\",근무!G208,IF(달력!$S$28=\"순서5\",근무!H208,IF(달력!$S$28=\"순서6\",근무!I208,\"\"))))))","v":"주간"},{"$f":"IF(달력!$S$29=\"순서1\",근무!D208,IF(달력!$S$29=\"순서2\",근무!E208,IF(달력!$S$29=\"순서3\",근무!F208,IF(달력!$S$29=\"순서4\",근무!G208,IF(달력!$S$29=\"순서5\",근무!H208,IF(달력!$S$29=\"순서6\",근무!I208,\"\"))))))","v":"주간"}]
[null,"2023-07-22","토",{"$f":"IF(달력!$S$24=\"순서1\",근무!D209,IF(달력!$S$24=\"순서2\",근무!E209,IF(달력!$S$24=\"순서3\",근무!F209,IF(달력!$S$24=\"순서4\",근무!G209,IF(달력!$S$24=\"순서5\",근무!H209,IF(달력!$S$24=\"순서6\",근무!I209,\"\"))))))","v":"비번"},{"$f":"IF(달력!$S$25=\"순서1\",근무!D209,IF(달력!$S$25=\"순서2\",근무!E209,IF(달력!$S$25=\"순서3\",근무!F209,IF(달력!$S$25=\"순서4\",근무!G209,IF(달력!$S$25=\"순서5\",근무!H209,IF(달력!$S$25=\"순서6\",근무!I209,\"\"))))))","v":"비번"},{"$f":"IF(달력!$S$26=\"순서1\",근무!D209,IF(달력!$S$26=\"순서2\",근무!E209,IF(달력!$S$26=\"순서3\",근무!F209,IF(달력!$S$26=\"순서4\",근무!G209,IF(달력!$S$26=\"순서5\",근무!H209,IF(달력!$S$26=\"순서6\",근무!I209,\"\"))))))","v":"주간"},{"$f":"IF(달력!$S$27=\"순서1\",근무!D209,IF(달력!$S$27=\"순서2\",근무!E209,IF(달력!$S$27=\"순서3\",근무!F209,IF(달력!$S$27=\"순서4\",근무!G209,IF(달력!$S$27=\"순서5\",근무!H209,IF(달력!$S$27=\"순서6\",근무!I209,\"\"))))))","v":"주간"},{"$f":"IF(달력!$S$28=\"순서1\",근무!D209,IF(달력!$S$28=\"순서2\",근무!E209,IF(달력!$S$28=\"순서3\",근무!F209,IF(달력!$S$28=\"순서4\",근무!G209,IF(달력!$S$28=\"순서5\",근무!H209,IF(달력!$S$28=\"순서6\",근무!I209,\"\"))))))","v":"야간"},{"$f":"IF(달력!$S$29=\"순서1\",근무!D209,IF(달력!$S$29=\"순서2\",근무!E209,IF(달력!$S$29=\"순서3\",근무!F209,IF(달력!$S$29=\"순서4\",근무!G209,IF(달력!$S$29=\"순서5\",근무!H209,IF(달력!$S$29=\"순서6\",근무!I209,\"\"))))))","v":"야간"}]
[null,"2023-07-23","일",{"$f":"IF(달력!$S$24=\"순서1\",근무!D210,IF(달력!$S$24=\"순서2\",근무!E210,IF(달력!$S$24=\"순서3\",근무!F210,IF(달력!$S$24=\"순서4\",근무!G210,IF(달력!$S$24=\"순서5\",근무!H210,IF(달력!$S$24=\"순서6\",근무!I210,\"\"))))))","v":"비번"},{"$f":"IF(달력!$S$25=\"순서1\",근무!D210,IF(달력!$S$25=\"순서2\",근무!E210,IF(달력!$S$25=\"순서3\",근무!F210,IF(달력!$S$25=\"순서4\",근무!G210,IF(달력!$S$25=\"순서5\",근무!H210,IF(달력!$S$25=\"순서6\",근무!I210,\"\"))))))","v":"비번"},{"$f":"IF(달력!$S$26=\"순서1\",근무!D210,IF(달력!$S$26=\"순서2\",근무!E210,IF(달력!$S$26=\"순서3\",근무!F210,IF(달력!$S$26=\"순서4\",근무!G210,IF(달력!$S$26=\"순서5\",근무!H210,IF(달력!$S$26=\"순서6\",근무!I210,\"\"))))))","v":"주간"},{"$f":"IF(달력!$S$27=\"순서1\",근무!D210,IF(달력!$S$27=\"순서2\",근무!E210,IF(달력!$S$27=\"순서3\",근무!F210,IF(달력!$S$27=\"순서4\",근무!G210,IF(달력!$S$27=\"순서5\",근무!H210,IF(달력!$S$27=\"순서6\",근무!I210,\"\"))))))","v":"주간"},{"$f":"IF(달력!$S$28=\"순서1\",근무!D210,IF(달력!$S$28=\"순서2\",근무!E210,IF(달력!$S$28=\"순서3\",근무!F210,IF(달력!$S$28=\"순서4\",근무!G210,IF(달력!$S$28=\"순서5\",근무!H210,IF(달력!$S$28=\"순서6\",근무!I210,\"\"))))))","v":"야간"},{"$f":"IF(달력!$S$29=\"순서1\",근무!D210,IF(달력!$S$29=\"순서2\",근무!E210,IF(달력!$S$29=\"순서3\",근무!F210,IF(달력!$S$29=\"순서4\",근무!G210,IF(달력!$S$29=\"순서5\",근무!H210,IF(달력!$S$29=\"순서6\",근무!I210,\"\"))))))","v":"야간"}]
[null,"2023-07-24","월",{"$f":"IF(달력!$S$24=\"순서1\",근무!D211,IF(달력!$S$24=\"순서2\",근무!E211,IF(달력!$S$24=\"순서3\",근무!F211,IF(달력!$S$24=\"순서4\",근무!G211,IF(달력!$S$24=\"순서5\",근무!H211,IF(달력!$S$24=\"순서6\",근무!I211,\"\"))))))","v":"주간"},{"$f":"IF(달력!$S$25=\"순서1\",근무!D211,IF(달력!$S$25=\"순서2\",근무!E211,IF(달력!$S$25=\"순서3\",근무!F211,IF(달력!$S$25=\"순서4\",근무!G211,IF(달력!$S$25=\"순서5\",근무!H211,IF(달력!$S$25=\"순서6\",근무!I211,\"\"))))))","v":"주간"},{"$f":"IF(달력!$S$26=\"순서1\",근무!D211,IF(달력!$S$26=\"순서2\",근무!E211,IF(달력!$S$26=\"순서3\",근무!F211,IF(달력!$S$26=\"순서4\",근무!G211,IF(달력!$S$26=\"순서5\",근무!H211,IF(달력!$S$26=\"순서6\",근무!I211,\"\"))))))","v":"야간"},{"$f":"IF(달력!$S$27=\"순서1\",근무!D211,IF(달력!$S$27=\"순서2\",근무!E211,IF(달력!$S$27=\"순서3\",근무!F211,IF(달력!$S$27=\"순서4\",근무!G211,IF(달력!$S$27=\"순서5\",근무!H211,IF(달력!$S$27=\"순서6\",근무!I211,\"\"))))))","v":"야간"},{"$f":"IF(달력!$S$28=\"순서1\",근무!D211,IF(달력!$S$28=\"순서2\",근무!E211,IF(달력!$S$28=\"순서3\",근무!F211,IF(달력!$S$28=\"순서4\",근무!G211,IF(달력!$S$28=\"순서5\",근무!H211,IF(달력!$S$28=\"순서6\",근무!I211,\"\"))))))","v":"비번"},{"$f":"IF(달력!$S$29=\"순서1\",근무!D211,IF(달력!$S$29=\"순서2\",근무!E211,IF(달력!$S$29=\"순서3\",근무!F211,IF(달력!$S$29=\"순서4\",근무!G211,IF(달력!$S$29=\"순서5\",근무!H211,IF(달력!$S$29=\"순서6\",근무!I211,\"\"))))))","v":"비번"}]
[null,"2023-07-25","화",{"$f":"IF(달력!$S$24=\"순서1\",근무!D212,IF(달력!$S$24=\"순서2\",근무!E212,IF(달력!$S$24=\"순서3\",근무!F212,IF(달력!$S$24=\"순서4\",근무!G212,IF(달력!$S$24=\"순서5\",근무!H212,IF(달력!$S$24=\"순서6\",근무!I212,\"\"))))))","v":"주간"},{"$f":"IF(달력!$S$25=\"순서1\",근무!D212,IF(달력!$S$25=\"순서2\",근무!E212,IF(달력!$S$25=\"순서3\",근무!F212,IF(달력!$S$25=\"순서4\",근무!G212,IF(달력!$S$25=\"순서5\",근무!H212,IF(달력!$S$25=\"순서6\",근무!I212,\"\"))))))","v":"주간"},{"$f":"IF(달력!$S$26=\"순서1\",근무!D212,IF(달력!$S$26=\"순서2\",근무!E212,IF(달력!$S$26=\"순서3\",근무!F212,IF(달력!$S$26=\"순서4\",근무!G212,IF(달력!$S$26=\"순서5\",근무!H212,IF(달력!$S$26=\"순서6\",근무!I212,\"\"))))))","v":"야간"},{"$f":"IF(달력!$S$27=\"순서1\",근무!D212,IF(달력!$S$27=\"순서2\",근무!E212,IF(달력!$S$27=\"순서3\",근무!F212,IF(달력!$S$27=\"순서4\",근무!G212,IF(달력!$S$27=\"순서5\",근무!H212,IF(달력!$S$27=\"순서6\",근무!I212,\"\"))))))","v":"야간"},{"$f":"IF(달력!$S$28=\"순서1\",근무!D212,IF(달력!$S$28=\"순서2\",근무!E212,IF(달력!$S$28=\"순서3\",근무!F212,IF(달력!$S$28=\"순서4\",근무!G212,IF(달력!$S$28=\"순서5\",근무!H212,IF(달력!$S$28=\"순서6\",근무!I212,\"\"))))))","v":"비번"},{"$f":"IF(달력!$S$29=\"순서1\",근무!D212,IF(달력!$S$29=\"순서2\",근무!E212,IF(달력!$S$29=\"순서3\",근무!F212,IF(달력!$S$29=\"순서4\",근무!G212,IF(달력!$S$29=\"순서5\",근무!H212,IF(달력!$S$29=\"순서6\",근무!I212,\"\"))))))","v":"비번"}]
[null,"2023-07-26","수",{"$f":"IF(달력!$S$24=\"순서1\",근무!D213,IF(달력!$S$24=\"순서2\",근무!E213,IF(달력!$S$24=\"순서3\",근무!F213,IF(달력!$S$24=\"순서4\",근무!G213,IF(달력!$S$24=\"순서5\",근무!H213,IF(달력!$S$24=\"순서6\",근무!I213,\"\"))))))","v":"야간"},{"$f":"IF(달력!$S$25=\"순서1\",근무!D213,IF(달력!$S$25=\"순서2\",근무!E213,IF(달력!$S$25=\"순서3\",근무!F213,IF(달력!$S$25=\"순서4\",근무!G213,IF(달력!$S$25=\"순서5\",근무!H213,IF(달력!$S$25=\"순서6\",근무!I213,\"\"))))))","v":"야간"},{"$f":"IF(달력!$S$26=\"순서1\",근무!D213,IF(달력!$S$26=\"순서2\",근무!E213,IF(달력!$S$26=\"순서3\",근무!F213,IF(달력!$S$26=\"순서4\",근무!G213,IF(달력!$S$26=\"순서5\",근무!H213,IF(달력!$S$26=\"순서6\",근무!I213,\"\"))))))","v":"비번"},{"$f":"IF(달력!$S$27=\"순서1\",근무!D213,IF(달력!$S$27=\"순서2\",근무!E213,IF(달력!$S$27=\"순서3\",근무!F213,IF(달력!$S$27=\"순서4\",근무!G213,IF(달력!$S$27=\"순서5\",근무!H213,IF(달력!$S$27=\"순서6\",근무!I213,\"\"))))))","v":"비번"},{"$f":"IF(달력!$S$28=\"순서1\",근무!D213,IF(달력!$S$28=\"순서2\",근무!E213,IF(달력!$S$28=\"순서3\",근무!F213,IF(달력!$S$28=\"순서4\",근무!G213,IF(달력!$S$28=\"순서5\",근무!H213,IF(달력!$S$28=\"순서6\",근무!I213,\"\"))))))","v":"주간"},{"$f":"IF(달력!$S$29=\"순서1\",근무!D213,IF(달력!$S$29=\"순서2\",근무!E213,IF(달력!$S$29=\"순서3\",근무!F213,IF(달력!$S$29=\"순서4\",근무!G213,IF(달력!$S$29=\"순서5\",근무!H213,IF(달력!$S$29=\"순서6\",근무!I213,\"\"))))))","v":"주간"}]
[null,"2023-07-27","목",{"$f":"IF(달력!$S$24=\"순서1\",근무!D214,IF(달력!$S$24=\"순서2\",근무!E214,IF(달력!$S$24=\"순서3\",근무!F214,IF(달력!$S$24=\"순서4\",근무!G214,IF(달력!$S$24=\"순서5\",근무!H214,IF(달력!$S$24=\"순서6\",근무!I214,\"\"))))))","v":"야간"},{"$f":"IF(달력!$S$25=\"순서1\",근무!D214,IF(달력!$S$25=\"순서2\",근무!E214,IF(달력!$S$25=\"순서3\",근무!F214,IF(달력!$S$25=\"순서4\",근무!G214,IF(달력!$S$25=\"순서5\",근무!H214,IF(달력!$S$25=\"순서6\",근무!I214,\"\"))))))","v":"야간"},{"$f":"IF(달력!$S$26=\"순서1\",근무!D214,IF(달력!$S$26=\"순서2\",근무!E214,IF(달력!$S$26=\"순서3\",근무!F214,IF(달력!$S$26=\"순서4\",근무!G214,IF(달력!$S$26=\"순서5\",근무!H214,IF(달력!$S$26=\"순서6\",근무!I214,\"\"))))))","v":"비번"},{"$f":"IF(달력!$S$27=\"순서1\",근무!D214,IF(달력!$S$27=\"순서2\",근무!E214,IF(달력!$S$27=\"순서3\",근무!F214,IF(달력!$S$27=\"순서4\",근무!G214,IF(달력!$S$27=\"순서5\",근무!H214,IF(달력!$S$27=\"순서6\",근무!I214,\"\"))))))","v":"비번"},{"$f":"IF(달력!$S$28=\"순서1\",근무!D214,IF(달력!$S$28=\"순서2\",근무!E214,IF(달력!$S$28=\"순서3\",근무!F214,IF(달력!$S$28=\"순서4\",근무!G214,IF(달력!$S$28=\"순서5\",근무!H214,IF(달력!$S$28=\"순서6\",근무!I214,\"\"))))))","v":"주간"},{"$f":"IF(달력!$S$29=\"순서1\",근무!D214,IF(달력!$S$29=\"순서2\",근무!E214,IF(달력!$S$29=\"순서3\",근무!F214,IF(달력!$S$29=\"순서4\",근무!G214,IF(달력!$S$29=\"순서5\",근무!H214,IF(달력!$S$29=\"순서6\",근무!I214,\"\"))))))","v":"주간"}]
[null,"2023-07-28","금",{"$f":"IF(달력!$S$24=\"순서1\",근무!D215,IF(달력!$S$24=\"순서2\",근무!E215,IF(달력!$S$24=\"순서3\",근무!F215,IF(달력!$S$24=\"순서4\",근무!G215,IF(달력!$S$24=\"순서5\",근무!H215,IF(달력!$S$24=\"순서6\",근무!I215,\"\"))))))","v":"비번"},{"$f":"IF(달력!$S$25=\"순서1\",근무!D215,IF(달력!$S$25=\"순서2\",근무!E215,IF(달력!$S$25=\"순서3\",근무!F215,IF(달력!$S$25=\"순서4\",근무!G215,IF(달력!$S$25=\"순서5\",근무!H215,IF(달력!$S$25=\"순서6\",근무!I215,\"\"))))))","v":"비번"},{"$f":"IF(달력!$S$26=\"순서1\",근무!D215,IF(달력!$S$26=\"순서2\",근무!E215,IF(달력!$S$26=\"순서3\",근무!F215,IF(달력!$S$26=\"순서4\",근무!G215,IF(달력!$S$26=\"순서5\",근무!H215,IF(달력!$S$26=\"순서6\",근무!I215,\"\"))))))","v":"주간"},{"$f":"IF(달력!$S$27=\"순서1\",근무!D215,IF(달력!$S$27=\"순서2\",근무!E215,IF(달력!$S$27=\"순서3\",근무!F215,IF(달력!$S$27=\"순서4\",근무!G215,IF(달력!$S$27=\"순서5\",근무!H215,IF(달력!$S$27=\"순서6\",근무!I215,\"\"))))))","v":"주간"},{"$f":"IF(달력!$S$28=\"순서1\",근무!D215,IF(달력!$S$28=\"순서2\",근무!E215,IF(달력!$S$28=\"순서3\",근무!F215,IF(달력!$S$28=\"순서4\",근무!G215,IF(달력!$S$28=\"순서5\",근무!H215,IF(달력!$S$28=\"순서6\",근무!I215,\"\"))))))","v":"야간"},{"$f":"IF(달력!$S$29=\"순서1\",근무!D215,IF(달력!$S$29=\"순서2\",근무!E215,IF(달력!$S$29=\"순서3\",근무!F215,IF(달력!$S$29=\"순서4\",근무!G215,IF(달력!$S$29=\"순서5\",근무!H215,IF(달력!$S$29=\"순서6\",근무!I215,\"\"))))))","v":"야간"}]
[null,"2023-07-29","토",{"$f":"IF(달력!$S$24=\"순서1\",근무!D216,IF(달력!$S$24=\"순서2\",근무!E216,IF(달력!$S$24=\"순서3\",근무!F216,IF(달력!$S$24=\"순서4\",근무!G216,IF(달력!$S$24=\"순서5\",근무!H216,IF(달력!$S$24=\"순서6\",근무!I216,\"\"))))))","v":"비번"},{"$f":"IF(달력!$S$25=\"순서1\",근무!D216,IF(달력!$S$25=\"순서2\",근무!E216,IF(달력!$S$25=\"순서3\",근무!F216,IF(달력!$S$25=\"순서4\",근무!G216,IF(달력!$S$25=\"순서5\",근무!H216,IF(달력!$S$25=\"순서6\",근무!I216,\"\"))))))","v":"비번"},{"$f":"IF(달력!$S$26=\"순서1\",근무!D216,IF(달력!$S$26=\"순서2\",근무!E216,IF(달력!$S$26=\"순서3\",근무!F216,IF(달력!$S$26=\"순서4\",근무!G216,IF(달력!$S$26=\"순서5\",근무!H216,IF(달력!$S$26=\"순서6\",근무!I216,\"\"))))))","v":"주간"},{"$f":"IF(달력!$S$27=\"순서1\",근무!D216,IF(달력!$S$27=\"순서2\",근무!E216,IF(달력!$S$27=\"순서3\",근무!F216,IF(달력!$S$27=\"순서4\",근무!G216,IF(달력!$S$27=\"순서5\",근무!H216,IF(달력!$S$27=\"순서6\",근무!I216,\"\"))))))","v":"주간"},{"$f":"IF(달력!$S$28=\"순서1\",근무!D216,IF(달력!$S$28=\"순서2\",근무!E216,IF(달력!$S$28=\"순서3\",근무!F216,IF(달력!$S$28=\"순서4\",근무!G216,IF(달력!$S$28=\"순서5\",근무!H216,IF(달력!$S$28=\"순서6\",근무!I216,\"\"))))))","v":"야간"},{"$f":"IF(달력!$S$29=\"순서1\",근무!D216,IF(달력!$S$29=\"순서2\",근무!E216,IF(달력!$S$29=\"순서3\",근무!F216,IF(달력!$S$29=\"순서4\",근무!G216,IF(달력!$S$29=\"순서5\",근무!H216,IF(달력!$S$29=\"순서6\",근무!I216,\"\"))))))","v":"야간"}]
[null,"2023-07-30","일",{"$f":"IF(달력!$S$24=\"순서1\",근무!D217,IF(달력!$S$24=\"순서2\",근무!E217,IF(달력!$S$24=\"순서3\",근무!F217,IF(달력!$S$24=\"순서4\",근무!G217,IF(달력!$S$24=\"순서5\",근무!H217,IF(달력!$S$24=\"순서6\",근무!I217,\"\"))))))","v":"주간"},{"$f":"IF(달력!$S$25=\"순서1\",근무!D217,IF(달력!$S$25=\"순서2\",근무!E217,IF(달력!$S$25=\"순서3\",근무!F217,IF(달력!$S$25=\"순서4\",근무!G217,IF(달력!$S$25=\"순서5\",근무!H217,IF(달력!$S$25=\"순서6\",근무!I217,\"\"))))))","v":"주간"},{"$f":"IF(달력!$S$26=\"순서1\",근무!D217,IF(달력!$S$26=\"순서2\",근무!E217,IF(달력!$S$26=\"순서3\",근무!F217,IF(달력!$S$26=\"순서4\",근무!G217,IF(달력!$S$26=\"순서5\",근무!H217,IF(달력!$S$26=\"순서6\",근무!I217,\"\"))))))","v":"야간"},{"$f":"IF(달력!$S$27=\"순서1\",근무!D217,IF(달력!$S$27=\"순서2\",근무!E217,IF(달력!$S$27=\"순서3\",근무!F217,IF(달력!$S$27=\"순서4\",근무!G217,IF(달력!$S$27=\"순서5\",근무!H217,IF(달력!$S$27=\"순서6\",근무!I217,\"\"))))))","v":"야간"},{"$f":"IF(달력!$S$28=\"순서1\",근무!D217,IF(달력!$S$28=\"순서2\",근무!E217,IF(달력!$S$28=\"순서3\",근무!F217,IF(달력!$S$28=\"순서4\",근무!G217,IF(달력!$S$28=\"순서5\",근무!H217,IF(달력!$S$28=\"순서6\",근무!I217,\"\"))))))","v":"비번"},{"$f":"IF(달력!$S$29=\"순서1\",근무!D217,IF(달력!$S$29=\"순서2\",근무!E217,IF(달력!$S$29=\"순서3\",근무!F217,IF(달력!$S$29=\"순서4\",근무!G217,IF(달력!$S$29=\"순서5\",근무!H217,IF(달력!$S$29=\"순서6\",근무!I217,\"\"))))))","v":"비번"}]
[null,"2023-07-31","월",{"$f":"IF(달력!$S$24=\"순서1\",근무!D218,IF(달력!$S$24=\"순서2\",근무!E218,IF(달력!$S$24=\"순서3\",근무!F218,IF(달력!$S$24=\"순서4\",근무!G218,IF(달력!$S$24=\"순서5\",근무!H218,IF(달력!$S$24=\"순서6\",근무!I218,\"\"))))))","v":"주간"},{"$f":"IF(달력!$S$25=\"순서1\",근무!D218,IF(달력!$S$25=\"순서2\",근무!E218,IF(달력!$S$25=\"순서3\",근무!F218,IF(달력!$S$25=\"순서4\",근무!G218,IF(달력!$S$25=\"순서5\",근무!H218,IF(달력!$S$25=\"순서6\",근무!I218,\"\"))))))","v":"주간"},{"$f":"IF(달력!$S$26=\"순서1\",근무!D218,IF(달력!$S$26=\"순서2\",근무!E218,IF(달력!$S$26=\"순서3\",근무!F218,IF(달력!$S$26=\"순서4\",근무!G218,IF(달력!$S$26=\"순서5\",근무!H218,IF(달력!$S$26=\"순서6\",근무!I218,\"\"))))))","v":"야간"},{"$f":"IF(달력!$S$27=\"순서1\",근무!D218,IF(달력!$S$27=\"순서2\",근무!E218,IF(달력!$S$27=\"순서3\",근무!F218,IF(달력!$S$27=\"순서4\",근무!G218,IF(달력!$S$27=\"순서5\",근무!H218,IF(달력!$S$27=\"순서6\",근무!I218,\"\"))))))","v":"야간"},{"$f":"IF(달력!$S$28=\"순서1\",근무!D218,IF(달력!$S$28=\"순서2\",근무!E218,IF(달력!$S$28=\"순서3\",근무!F218,IF(달력!$S$28=\"순서4\",근무!G218,IF(달력!$S$28=\"순서5\",근무!H218,IF(달력!$S$28=\"순서6\",근무!I218,\"\"))))))","v":"비번"},{"$f":"IF(달력!$S$29=\"순서1\",근무!D218,IF(달력!$S$29=\"순서2\",근무!E218,IF(달력!$S$29=\"순서3\",근무!F218,IF(달력!$S$29=\"순서4\",근무!G218,IF(달력!$S$29=\"순서5\",근무!H218,IF(달력!$S$29=\"순서6\",근무!I218,\"\"))))))","v":"비번"}]
[null,"2023-08-01","화",{"$f":"IF(달력!$S$24=\"순서1\",근무!D219,IF(달력!$S$24=\"순서2\",근무!E219,IF(달력!$S$24=\"순서3\",근무!F219,IF(달력!$S$24=\"순서4\",근무!G219,IF(달력!$S$24=\"순서5\",근무!H219,IF(달력!$S$24=\"순서6\",근무!I219,\"\"))))))","v":"야간"},{"$f":"IF(달력!$S$25=\"순서1\",근무!D219,IF(달력!$S$25=\"순서2\",근무!E219,IF(달력!$S$25=\"순서3\",근무!F219,IF(달력!$S$25=\"순서4\",근무!G219,IF(달력!$S$25=\"순서5\",근무!H219,IF(달력!$S$25=\"순서6\",근무!I219,\"\"))))))","v":"야간"},{"$f":"IF(달력!$S$26=\"순서1\",근무!D219,IF(달력!$S$26=\"순서2\",근무!E219,IF(달력!$S$26=\"순서3\",근무!F219,IF(달력!$S$26=\"순서4\",근무!G219,IF(달력!$S$26=\"순서5\",근무!H219,IF(달력!$S$26=\"순서6\",근무!I219,\"\"))))))","v":"비번"},{"$f":"IF(달력!$S$27=\"순서1\",근무!D219,IF(달력!$S$27=\"순서2\",근무!E219,IF(달력!$S$27=\"순서3\",근무!F219,IF(달력!$S$27=\"순서4\",근무!G219,IF(달력!$S$27=\"순서5\",근무!H219,IF(달력!$S$27=\"순서6\",근무!I219,\"\"))))))","v":"비번"},{"$f":"IF(달력!$S$28=\"순서1\",근무!D219,IF(달력!$S$28=\"순서2\",근무!E219,IF(달력!$S$28=\"순서3\",근무!F219,IF(달력!$S$28=\"순서4\",근무!G219,IF(달력!$S$28=\"순서5\",근무!H219,IF(달력!$S$28=\"순서6\",근무!I219,\"\"))))))","v":"주간"},{"$f":"IF(달력!$S$29=\"순서1\",근무!D219,IF(달력!$S$29=\"순서2\",근무!E219,IF(달력!$S$29=\"순서3\",근무!F219,IF(달력!$S$29=\"순서4\",근무!G219,IF(달력!$S$29=\"순서5\",근무!H219,IF(달력!$S$29=\"순서6\",근무!I219,\"\"))))))","v":"주간"}]
[null,"2023-08-02","수",{"$f":"IF(달력!$S$24=\"순서1\",근무!D220,IF(달력!$S$24=\"순서2\",근무!E220,IF(달력!$S$24=\"순서3\",근무!F220,IF(달력!$S$24=\"순서4\",근무!G220,IF(달력!$S$24=\"순서5\",근무!H220,IF(달력!$S$24=\"순서6\",근무!I220,\"\"))))))","v":"야간"},{"$f":"IF(달력!$S$25=\"순서1\",근무!D220,IF(달력!$S$25=\"순서2\",근무!E220,IF(달력!$S$25=\"순서3\",근무!F220,IF(달력!$S$25=\"순서4\",근무!G220,IF(달력!$S$25=\"순서5\",근무!H220,IF(달력!$S$25=\"순서6\",근무!I220,\"\"))))))","v":"야간"},{"$f":"IF(달력!$S$26=\"순서1\",근무!D220,IF(달력!$S$26=\"순서2\",근무!E220,IF(달력!$S$26=\"순서3\",근무!F220,IF(달력!$S$26=\"순서4\",근무!G220,IF(달력!$S$26=\"순서5\",근무!H220,IF(달력!$S$26=\"순서6\",근무!I220,\"\"))))))","v":"비번"},{"$f":"IF(달력!$S$27=\"순서1\",근무!D220,IF(달력!$S$27=\"순서2\",근무!E220,IF(달력!$S$27=\"순서3\",근무!F220,IF(달력!$S$27=\"순서4\",근무!G220,IF(달력!$S$27=\"순서5\",근무!H220,IF(달력!$S$27=\"순서6\",근무!I220,\"\"))))))","v":"비번"},{"$f":"IF(달력!$S$28=\"순서1\",근무!D220,IF(달력!$S$28=\"순서2\",근무!E220,IF(달력!$S$28=\"순서3\",근무!F220,IF(달력!$S$28=\"순서4\",근무!G220,IF(달력!$S$28=\"순서5\",근무!H220,IF(달력!$S$28=\"순서6\",근무!I220,\"\"))))))","v":"주간"},{"$f":"IF(달력!$S$29=\"순서1\",근무!D220,IF(달력!$S$29=\"순서2\",근무!E220,IF(달력!$S$29=\"순서3\",근무!F220,IF(달력!$S$29=\"순서4\",근무!G220,IF(달력!$S$29=\"순서5\",근무!H220,IF(달력!$S$29=\"순서6\",근무!I220,\"\"))))))","v":"주간"}]
[null,"2023-08-03","목",{"$f":"IF(달력!$S$24=\"순서1\",근무!D221,IF(달력!$S$24=\"순서2\",근무!E221,IF(달력!$S$24=\"순서3\",근무!F221,IF(달력!$S$24=\"순서4\",근무!G221,IF(달력!$S$24=\"순서5\",근무!H221,IF(달력!$S$24=\"순서6\",근무!I221,\"\"))))))","v":"비번"},{"$f":"IF(달력!$S$25=\"순서1\",근무!D221,IF(달력!$S$25=\"순서2\",근무!E221,IF(달력!$S$25=\"순서3\",근무!F221,IF(달력!$S$25=\"순서4\",근무!G221,IF(달력!$S$25=\"순서5\",근무!H221,IF(달력!$S$25=\"순서6\",근무!I221,\"\"))))))","v":"비번"},{"$f":"IF(달력!$S$26=\"순서1\",근무!D221,IF(달력!$S$26=\"순서2\",근무!E221,IF(달력!$S$26=\"순서3\",근무!F221,IF(달력!$S$26=\"순서4\",근무!G221,IF(달력!$S$26=\"순서5\",근무!H221,IF(달력!$S$26=\"순서6\",근무!I221,\"\"))))))","v":"주간"},{"$f":"IF(달력!$S$27=\"순서1\",근무!D221,IF(달력!$S$27=\"순서2\",근무!E221,IF(달력!$S$27=\"순서3\",근무!F221,IF(달력!$S$27=\"순서4\",근무!G221,IF(달력!$S$27=\"순서5\",근무!H221,IF(달력!$S$27=\"순서6\",근무!I221,\"\"))))))","v":"주간"},{"$f":"IF(달력!$S$28=\"순서1\",근무!D221,IF(달력!$S$28=\"순서2\",근무!E221,IF(달력!$S$28=\"순서3\",근무!F221,IF(달력!$S$28=\"순서4\",근무!G221,IF(달력!$S$28=\"순서5\",근무!H221,IF(달력!$S$28=\"순서6\",근무!I221,\"\"))))))","v":"야간"},{"$f":"IF(달력!$S$29=\"순서1\",근무!D221,IF(달력!$S$29=\"순서2\",근무!E221,IF(달력!$S$29=\"순서3\",근무!F221,IF(달력!$S$29=\"순서4\",근무!G221,IF(달력!$S$29=\"순서5\",근무!H221,IF(달력!$S$29=\"순서6\",근무!I221,\"\"))))))","v":"야간"}]
[null,"2023-08-04","금",{"$f":"IF(달력!$S$24=\"순서1\",근무!D222,IF(달력!$S$24=\"순서2\",근무!E222,IF(달력!$S$24=\"순서3\",근무!F222,IF(달력!$S$24=\"순서4\",근무!G222,IF(달력!$S$24=\"순서5\",근무!H222,IF(달력!$S$24=\"순서6\",근무!I222,\"\"))))))","v":"비번"},{"$f":"IF(달력!$S$25=\"순서1\",근무!D222,IF(달력!$S$25=\"순서2\",근무!E222,IF(달력!$S$25=\"순서3\",근무!F222,IF(달력!$S$25=\"순서4\",근무!G222,IF(달력!$S$25=\"순서5\",근무!H222,IF(달력!$S$25=\"순서6\",근무!I222,\"\"))))))","v":"비번"},{"$f":"IF(달력!$S$26=\"순서1\",근무!D222,IF(달력!$S$26=\"순서2\",근무!E222,IF(달력!$S$26=\"순서3\",근무!F222,IF(달력!$S$26=\"순서4\",근무!G222,IF(달력!$S$26=\"순서5\",근무!H222,IF(달력!$S$26=\"순서6\",근무!I222,\"\"))))))","v":"주간"},{"$f":"IF(달력!$S$27=\"순서1\",근무!D222,IF(달력!$S$27=\"순서2\",근무!E222,IF(달력!$S$27=\"순서3\",근무!F222,IF(달력!$S$27=\"순서4\",근무!G222,IF(달력!$S$27=\"순서5\",근무!H222,IF(달력!$S$27=\"순서6\",근무!I222,\"\"))))))","v":"주간"},{"$f":"IF(달력!$S$28=\"순서1\",근무!D222,IF(달력!$S$28=\"순서2\",근무!E222,IF(달력!$S$28=\"순서3\",근무!F222,IF(달력!$S$28=\"순서4\",근무!G222,IF(달력!$S$28=\"순서5\",근무!H222,IF(달력!$S$28=\"순서6\",근무!I222,\"\"))))))","v":"야간"},{"$f":"IF(달력!$S$29=\"순서1\",근무!D222,IF(달력!$S$29=\"순서2\",근무!E222,IF(달력!$S$29=\"순서3\",근무!F222,IF(달력!$S$29=\"순서4\",근무!G222,IF(달력!$S$29=\"순서5\",근무!H222,IF(달력!$S$29=\"순서6\",근무!I222,\"\"))))))","v":"야간"}]
[null,"2023-08-05","토",{"$f":"IF(달력!$S$24=\"순서1\",근무!D223,IF(달력!$S$24=\"순서2\",근무!E223,IF(달력!$S$24=\"순서3\",근무!F223,IF(달력!$S$24=\"순서4\",근무!G223,IF(달력!$S$24=\"순서5\",근무!H223,IF(달력!$S$24=\"순서6\",근무!I223,\"\"))))))","v":"주간"},{"$f":"IF(달력!$S$25=\"순서1\",근무!D223,IF(달력!$S$25=\"순서2\",근무!E223,IF(달력!$S$25=\"순서3\",근무!F223,IF(달력!$S$25=\"순서4\",근무!G223,IF(달력!$S$25=\"순서5\",근무!H223,IF(달력!$S$25=\"순서6\",근무!I223,\"\"))))))","v":"주간"},{"$f":"IF(달력!$S$26=\"순서1\",근무!D223,IF(달력!$S$26=\"순서2\",근무!E223,IF(달력!$S$26=\"순서3\",근무!F223,IF(달력!$S$26=\"순서4\",근무!G223,IF(달력!$S$26=\"순서5\",근무!H223,IF(달력!$S$26=\"순서6\",근무!I223,\"\"))))))","v":"야간"},{"$f":"IF(달력!$S$27=\"순서1\",근무!D223,IF(달력!$S$27=\"순서2\",근무!E223,IF(달력!$S$27=\"순서3\",근무!F223,IF(달력!$S$27=\"순서4\",근무!G223,IF(달력!$S$27=\"순서5\",근무!H223,IF(달력!$S$27=\"순서6\",근무!I223,\"\"))))))","v":"야간"},{"$f":"IF(달력!$S$28=\"순서1\",근무!D223,IF(달력!$S$28=\"순서2\",근무!E223,IF(달력!$S$28=\"순서3\",근무!F223,IF(달력!$S$28=\"순서4\",근무!G223,IF(달력!$S$28=\"순서5\",근무!H223,IF(달력!$S$28=\"순서6\",근무!I223,\"\"))))))","v":"비번"},{"$f":"IF(달력!$S$29=\"순서1\",근무!D223,IF(달력!$S$29=\"순서2\",근무!E223,IF(달력!$S$29=\"순서3\",근무!F223,IF(달력!$S$29=\"순서4\",근무!G223,IF(달력!$S$29=\"순서5\",근무!H223,IF(달력!$S$29=\"순서6\",근무!I223,\"\"))))))","v":"비번"}]
[null,"2023-08-06","일",{"$f":"IF(달력!$S$24=\"순서1\",근무!D224,IF(달력!$S$24=\"순서2\",근무!E224,IF(달력!$S$24=\"순서3\",근무!F224,IF(달력!$S$24=\"순서4\",근무!G224,IF(달력!$S$24=\"순서5\",근무!H224,IF(달력!$S$24=\"순서6\",근무!I224,\"\"))))))","v":"주간"},{"$f":"IF(달력!$S$25=\"순서1\",근무!D224,IF(달력!$S$25=\"순서2\",근무!E224,IF(달력!$S$25=\"순서3\",근무!F224,IF(달력!$S$25=\"순서4\",근무!G224,IF(달력!$S$25=\"순서5\",근무!H224,IF(달력!$S$25=\"순서6\",근무!I224,\"\"))))))","v":"주간"},{"$f":"IF(달력!$S$26=\"순서1\",근무!D224,IF(달력!$S$26=\"순서2\",근무!E224,IF(달력!$S$26=\"순서3\",근무!F224,IF(달력!$S$26=\"순서4\",근무!G224,IF(달력!$S$26=\"순서5\",근무!H224,IF(달력!$S$26=\"순서6\",근무!I224,\"\"))))))","v":"야간"},{"$f":"IF(달력!$S$27=\"순서1\",근무!D224,IF(달력!$S$27=\"순서2\",근무!E224,IF(달력!$S$27=\"순서3\",근무!F224,IF(달력!$S$27=\"순서4\",근무!G224,IF(달력!$S$27=\"순서5\",근무!H224,IF(달력!$S$27=\"순서6\",근무!I224,\"\"))))))","v":"야간"},{"$f":"IF(달력!$S$28=\"순서1\",근무!D224,IF(달력!$S$28=\"순서2\",근무!E224,IF(달력!$S$28=\"순서3\",근무!F224,IF(달력!$S$28=\"순서4\",근무!G224,IF(달력!$S$28=\"순서5\",근무!H224,IF(달력!$S$28=\"순서6\",근무!I224,\"\"))))))","v":"비번"},{"$f":"IF(달력!$S$29=\"순서1\",근무!D224,IF(달력!$S$29=\"순서2\",근무!E224,IF(달력!$S$29=\"순서3\",근무!F224,IF(달력!$S$29=\"순서4\",근무!G224,IF(달력!$S$29=\"순서5\",근무!H224,IF(달력!$S$29=\"순서6\",근무!I224,\"\"))))))","v":"비번"}]
[null,"2023-08-07","월",{"$f":"IF(달력!$S$24=\"순서1\",근무!D225,IF(달력!$S$24=\"순서2\",근무!E225,IF(달력!$S$24=\"순서3\",근무!F225,IF(달력!$S$24=\"순서4\",근무!G225,IF(달력!$S$24=\"순서5\",근무!H225,IF(달력!$S$24=\"순서6\",근무!I225,\"\"))))))","v":"야간"},{"$f":"IF(달력!$S$25=\"순서1\",근무!D225,IF(달력!$S$25=\"순서2\",근무!E225,IF(달력!$S$25=\"순서3\",근무!F225,IF(달력!$S$25=\"순서4\",근무!G225,IF(달력!$S$25=\"순서5\",근무!H225,IF(달력!$S$25=\"순서6\",근무!I225,\"\"))))))","v":"야간"},{"$f":"IF(달력!$S$26=\"순서1\",근무!D225,IF(달력!$S$26=\"순서2\",근무!E225,IF(달력!$S$26=\"순서3\",근무!F225,IF(달력!$S$26=\"순서4\",근무!G225,IF(달력!$S$26=\"순서5\",근무!H225,IF(달력!$S$26=\"순서6\",근무!I225,\"\"))))))","v":"비번"},{"$f":"IF(달력!$S$27=\"순서1\",근무!D225,IF(달력!$S$27=\"순서2\",근무!E225,IF(달력!$S$27=\"순서3\",근무!F225,IF(달력!$S$27=\"순서4\",근무!G225,IF(달력!$S$27=\"순서5\",근무!H225,IF(달력!$S$27=\"순서6\",근무!I225,\"\"))))))","v":"비번"},{"$f":"IF(달력!$S$28=\"순서1\",근무!D225,IF(달력!$S$28=\"순서2\",근무!E225,IF(달력!$S$28=\"순서3\",근무!F225,IF(달력!$S$28=\"순서4\",근무!G225,IF(달력!$S$28=\"순서5\",근무!H225,IF(달력!$S$28=\"순서6\",근무!I225,\"\"))))))","v":"주간"},{"$f":"IF(달력!$S$29=\"순서1\",근무!D225,IF(달력!$S$29=\"순서2\",근무!E225,IF(달력!$S$29=\"순서3\",근무!F225,IF(달력!$S$29=\"순서4\",근무!G225,IF(달력!$S$29=\"순서5\",근무!H225,IF(달력!$S$29=\"순서6\",근무!I225,\"\"))))))","v":"주간"}]
[null,"2023-08-08","화",{"$f":"IF(달력!$S$24=\"순서1\",근무!D226,IF(달력!$S$24=\"순서2\",근무!E226,IF(달력!$S$24=\"순서3\",근무!F226,IF(달력!$S$24=\"순서4\",근무!G226,IF(달력!$S$24=\"순서5\",근무!H226,IF(달력!$S$24=\"순서6\",근무!I226,\"\"))))))","v":"야간"},{"$f":"IF(달력!$S$25=\"순서1\",근무!D226,IF(달력!$S$25=\"순서2\",근무!E226,IF(달력!$S$25=\"순서3\",근무!F226,IF(달력!$S$25=\"순서4\",근무!G226,IF(달력!$S$25=\"순서5\",근무!H226,IF(달력!$S$25=\"순서6\",근무!I226,\"\"))))))","v":"야간"},{"$f":"IF(달력!$S$26=\"순서1\",근무!D226,IF(달력!$S$26=\"순서2\",근무!E226,IF(달력!$S$26=\"순서3\",근무!F226,IF(달력!$S$26=\"순서4\",근무!G226,IF(달력!$S$26=\"순서5\",근무!H226,IF(달력!$S$26=\"순서6\",근무!I226,\"\"))))))","v":"비번"},{"$f":"IF(달력!$S$27=\"순서1\",근무!D226,IF(달력!$S$27=\"순서2\",근무!E226,IF(달력!$S$27=\"순서3\",근무!F226,IF(달력!$S$27=\"순서4\",근무!G226,IF(달력!$S$27=\"순서5\",근무!H226,IF(달력!$S$27=\"순서6\",근무!I226,\"\"))))))","v":"비번"},{"$f":"IF(달력!$S$28=\"순서1\",근무!D226,IF(달력!$S$28=\"순서2\",근무!E226,IF(달력!$S$28=\"순서3\",근무!F226,IF(달력!$S$28=\"순서4\",근무!G226,IF(달력!$S$28=\"순서5\",근무!H226,IF(달력!$S$28=\"순서6\",근무!I226,\"\"))))))","v":"주간"},{"$f":"IF(달력!$S$29=\"순서1\",근무!D226,IF(달력!$S$29=\"순서2\",근무!E226,IF(달력!$S$29=\"순서3\",근무!F226,IF(달력!$S$29=\"순서4\",근무!G226,IF(달력!$S$29=\"순서5\",근무!H226,IF(달력!$S$29=\"순서6\",근무!I226,\"\"))))))","v":"주간"}]
[null,"2023-08-09","수",{"$f":"IF(달력!$S$24=\"순서1\",근무!D227,IF(달력!$S$24=\"순서2\",근무!E227,IF(달력!$S$24=\"순서3\",근무!F227,IF(달력!$S$24=\"순서4\",근무!G227,IF(달력!$S$24=\"순서5\",근무!H227,IF(달력!$S$24=\"순서6\",근무!I227,\"\"))))))","v":"비번"},{"$f":"IF(달력!$S$25=\"순서1\",근무!D227,IF(달력!$S$25=\"순서2\",근무!E227,IF(달력!$S$25=\"순서3\",근무!F227,IF(달력!$S$25=\"순서4\",근무!G227,IF(달력!$S$25=\"순서5\",근무!H227,IF(달력!$S$25=\"순서6\",근무!I227,\"\"))))))","v":"비번"},{"$f":"IF(달력!$S$26=\"순서1\",근무!D227,IF(달력!$S$26=\"순서2\",근무!E227,IF(달력!$S$26=\"순서3\",근무!F227,IF(달력!$S$26=\"순서4\",근무!G227,IF(달력!$S$26=\"순서5\",근무!H227,IF(달력!$S$26=\"순서6\",근무!I227,\"\"))))))","v":"주간"},{"$f":"IF(달력!$S$27=\"순서1\",근무!D227,IF(달력!$S$27=\"순서2\",근무!E227,IF(달력!$S$27=\"순서3\",근무!F227,IF(달력!$S$27=\"순서4\",근무!G227,IF(달력!$S$27=\"순서5\",근무!H227,IF(달력!$S$27=\"순서6\",근무!I227,\"\"))))))","v":"주간"},{"$f":"IF(달력!$S$28=\"순서1\",근무!D227,IF(달력!$S$28=\"순서2\",근무!E227,IF(달력!$S$28=\"순서3\",근무!F227,IF(달력!$S$28=\"순서4\",근무!G227,IF(달력!$S$28=\"순서5\",근무!H227,IF(달력!$S$28=\"순서6\",근무!I227,\"\"))))))","v":"야간"},{"$f":"IF(달력!$S$29=\"순서1\",근무!D227,IF(달력!$S$29=\"순서2\",근무!E227,IF(달력!$S$29=\"순서3\",근무!F227,IF(달력!$S$29=\"순서4\",근무!G227,IF(달력!$S$29=\"순서5\",근무!H227,IF(달력!$S$29=\"순서6\",근무!I227,\"\"))))))","v":"야간"}]
[null,"2023-08-10","목",{"$f":"IF(달력!$S$24=\"순서1\",근무!D228,IF(달력!$S$24=\"순서2\",근무!E228,IF(달력!$S$24=\"순서3\",근무!F228,IF(달력!$S$24=\"순서4\",근무!G228,IF(달력!$S$24=\"순서5\",근무!H228,IF(달력!$S$24=\"순서6\",근무!I228,\"\"))))))","v":"비번"},{"$f":"IF(달력!$S$25=\"순서1\",근무!D228,IF(달력!$S$25=\"순서2\",근무!E228,IF(달력!$S$25=\"순서3\",근무!F228,IF(달력!$S$25=\"순서4\",근무!G228,IF(달력!$S$25=\"순서5\",근무!H228,IF(달력!$S$25=\"순서6\",근무!I228,\"\"))))))","v":"비번"},{"$f":"IF(달력!$S$26=\"순서1\",근무!D228,IF(달력!$S$26=\"순서2\",근무!E228,IF(달력!$S$26=\"순서3\",근무!F228,IF(달력!$S$26=\"순서4\",근무!G228,IF(달력!$S$26=\"순서5\",근무!H228,IF(달력!$S$26=\"순서6\",근무!I228,\"\"))))))","v":"주간"},{"$f":"IF(달력!$S$27=\"순서1\",근무!D228,IF(달력!$S$27=\"순서2\",근무!E228,IF(달력!$S$27=\"순서3\",근무!F228,IF(달력!$S$27=\"순서4\",근무!G228,IF(달력!$S$27=\"순서5\",근무!H228,IF(달력!$S$27=\"순서6\",근무!I228,\"\"))))))","v":"주간"},{"$f":"IF(달력!$S$28=\"순서1\",근무!D228,IF(달력!$S$28=\"순서2\",근무!E228,IF(달력!$S$28=\"순서3\",근무!F228,IF(달력!$S$28=\"순서4\",근무!G228,IF(달력!$S$28=\"순서5\",근무!H228,IF(달력!$S$28=\"순서6\",근무!I228,\"\"))))))","v":"야간"},{"$f":"IF(달력!$S$29=\"순서1\",근무!D228,IF(달력!$S$29=\"순서2\",근무!E228,IF(달력!$S$29=\"순서3\",근무!F228,IF(달력!$S$29=\"순서4\",근무!G228,IF(달력!$S$29=\"순서5\",근무!H228,IF(달력!$S$29=\"순서6\",근무!I228,\"\"))))))","v":"야간"}]
[null,"2023-08-11","금",{"$f":"IF(달력!$S$24=\"순서1\",근무!D229,IF(달력!$S$24=\"순서2\",근무!E229,IF(달력!$S$24=\"순서3\",근무!F229,IF(달력!$S$24=\"순서4\",근무!G229,IF(달력!$S$24=\"순서5\",근무!H229,IF(달력!$S$24=\"순서6\",근무!I229,\"\"))))))","v":"주간"},{"$f":"IF(달력!$S$25=\"순서1\",근무!D229,IF(달력!$S$25=\"순서2\",근무!E229,IF(달력!$S$25=\"순서3\",근무!F229,IF(달력!$S$25=\"순서4\",근무!G229,IF(달력!$S$25=\"순서5\",근무!H229,IF(달력!$S$25=\"순서6\",근무!I229,\"\"))))))","v":"주간"},{"$f":"IF(달력!$S$26=\"순서1\",근무!D229,IF(달력!$S$26=\"순서2\",근무!E229,IF(달력!$S$26=\"순서3\",근무!F229,IF(달력!$S$26=\"순서4\",근무!G229,IF(달력!$S$26=\"순서5\",근무!H229,IF(달력!$S$26=\"순서6\",근무!I229,\"\"))))))","v":"야간"},{"$f":"IF(달력!$S$27=\"순서1\",근무!D229,IF(달력!$S$27=\"순서2\",근무!E229,IF(달력!$S$27=\"순서3\",근무!F229,IF(달력!$S$27=\"순서4\",근무!G229,IF(달력!$S$27=\"순서5\",근무!H229,IF(달력!$S$27=\"순서6\",근무!I229,\"\"))))))","v":"야간"},{"$f":"IF(달력!$S$28=\"순서1\",근무!D229,IF(달력!$S$28=\"순서2\",근무!E229,IF(달력!$S$28=\"순서3\",근무!F229,IF(달력!$S$28=\"순서4\",근무!G229,IF(달력!$S$28=\"순서5\",근무!H229,IF(달력!$S$28=\"순서6\",근무!I229,\"\"))))))","v":"비번"},{"$f":"IF(달력!$S$29=\"순서1\",근무!D229,IF(달력!$S$29=\"순서2\",근무!E229,IF(달력!$S$29=\"순서3\",근무!F229,IF(달력!$S$29=\"순서4\",근무!G229,IF(달력!$S$29=\"순서5\",근무!H229,IF(달력!$S$29=\"순서6\",근무!I229,\"\"))))))","v":"비번"}]
[null,"2023-08-12","토",{"$f":"IF(달력!$S$24=\"순서1\",근무!D230,IF(달력!$S$24=\"순서2\",근무!E230,IF(달력!$S$24=\"순서3\",근무!F230,IF(달력!$S$24=\"순서4\",근무!G230,IF(달력!$S$24=\"순서5\",근무!H230,IF(달력!$S$24=\"순서6\",근무!I230,\"\"))))))","v":"주간"},{"$f":"IF(달력!$S$25=\"순서1\",근무!D230,IF(달력!$S$25=\"순서2\",근무!E230,IF(달력!$S$25=\"순서3\",근무!F230,IF(달력!$S$25=\"순서4\",근무!G230,IF(달력!$S$25=\"순서5\",근무!H230,IF(달력!$S$25=\"순서6\",근무!I230,\"\"))))))","v":"주간"},{"$f":"IF(달력!$S$26=\"순서1\",근무!D230,IF(달력!$S$26=\"순서2\",근무!E230,IF(달력!$S$26=\"순서3\",근무!F230,IF(달력!$S$26=\"순서4\",근무!G230,IF(달력!$S$26=\"순서5\",근무!H230,IF(달력!$S$26=\"순서6\",근무!I230,\"\"))))))","v":"야간"},{"$f":"IF(달력!$S$27=\"순서1\",근무!D230,IF(달력!$S$27=\"순서2\",근무!E230,IF(달력!$S$27=\"순서3\",근무!F230,IF(달력!$S$27=\"순서4\",근무!G230,IF(달력!$S$27=\"순서5\",근무!H230,IF(달력!$S$27=\"순서6\",근무!I230,\"\"))))))","v":"야간"},{"$f":"IF(달력!$S$28=\"순서1\",근무!D230,IF(달력!$S$28=\"순서2\",근무!E230,IF(달력!$S$28=\"순서3\",근무!F230,IF(달력!$S$28=\"순서4\",근무!G230,IF(달력!$S$28=\"순서5\",근무!H230,IF(달력!$S$28=\"순서6\",근무!I230,\"\"))))))","v":"비번"},{"$f":"IF(달력!$S$29=\"순서1\",근무!D230,IF(달력!$S$29=\"순서2\",근무!E230,IF(달력!$S$29=\"순서3\",근무!F230,IF(달력!$S$29=\"순서4\",근무!G230,IF(달력!$S$29=\"순서5\",근무!H230,IF(달력!$S$29=\"순서6\",근무!I230,\"\"))))))","v":"비번"}]
[null,"2023-08-13","일",{"$f":"IF(달력!$S$24=\"순서1\",근무!D231,IF(달력!$S$24=\"순서2\",근무!E231,IF(달력!$S$24=\"순서3\",근무!F231,IF(달력!$S$24=\"순서4\",근무!G231,IF(달력!$S$24=\"순서5\",근무!H231,IF(달력!$S$24=\"순서6\",근무!I231,\"\"))))))","v":"야간"},{"$f":"IF(달력!$S$25=\"순서1\",근무!D231,IF(달력!$S$25=\"순서2\",근무!E231,IF(달력!$S$25=\"순서3\",근무!F231,IF(달력!$S$25=\"순서4\",근무!G231,IF(달력!$S$25=\"순서5\",근무!H231,IF(달력!$S$25=\"순서6\",근무!I231,\"\"))))))","v":"야간"},{"$f":"IF(달력!$S$26=\"순서1\",근무!D231,IF(달력!$S$26=\"순서2\",근무!E231,IF(달력!$S$26=\"순서3\",근무!F231,IF(달력!$S$26=\"순서4\",근무!G231,IF(달력!$S$26=\"순서5\",근무!H231,IF(달력!$S$26=\"순서6\",근무!I231,\"\"))))))","v":"비번"},{"$f":"IF(달력!$S$27=\"순서1\",근무!D231,IF(달력!$S$27=\"순서2\",근무!E231,IF(달력!$S$27=\"순서3\",근무!F231,IF(달력!$S$27=\"순서4\",근무!G231,IF(달력!$S$27=\"순서5\",근무!H231,IF(달력!$S$27=\"순서6\",근무!I231,\"\"))))))","v":"비번"},{"$f":"IF(달력!$S$28=\"순서1\",근무!D231,IF(달력!$S$28=\"순서2\",근무!E231,IF(달력!$S$28=\"순서3\",근무!F231,IF(달력!$S$28=\"순서4\",근무!G231,IF(달력!$S$28=\"순서5\",근무!H231,IF(달력!$S$28=\"순서6\",근무!I231,\"\"))))))","v":"주간"},{"$f":"IF(달력!$S$29=\"순서1\",근무!D231,IF(달력!$S$29=\"순서2\",근무!E231,IF(달력!$S$29=\"순서3\",근무!F231,IF(달력!$S$29=\"순서4\",근무!G231,IF(달력!$S$29=\"순서5\",근무!H231,IF(달력!$S$29=\"순서6\",근무!I231,\"\"))))))","v":"주간"}]
[null,"2023-08-14","월",{"$f":"IF(달력!$S$24=\"순서1\",근무!D232,IF(달력!$S$24=\"순서2\",근무!E232,IF(달력!$S$24=\"순서3\",근무!F232,IF(달력!$S$24=\"순서4\",근무!G232,IF(달력!$S$24=\"순서5\",근무!H232,IF(달력!$S$24=\"순서6\",근무!I232,\"\"))))))","v":"야간"},{"$f":"IF(달력!$S$25=\"순서1\",근무!D232,IF(달력!$S$25=\"순서2\",근무!E232,IF(달력!$S$25=\"순서3\",근무!F232,IF(달력!$S$25=\"순서4\",근무!G232,IF(달력!$S$25=\"순서5\",근무!H232,IF(달력!$S$25=\"순서6\",근무!I232,\"\"))))))","v":"야간"},{"$f":"IF(달력!$S$26=\"순서1\",근무!D232,IF(달력!$S$26=\"순서2\",근무!E232,IF(달력!$S$26=\"순서3\",근무!F232,IF(달력!$S$26=\"순서4\",근무!G232,IF(달력!$S$26=\"순서5\",근무!H232,IF(달력!$S$26=\"순서6\",근무!I232,\"\"))))))","v":"비번"},{"$f":"IF(달력!$S$27=\"순서1\",근무!D232,IF(달력!$S$27=\"순서2\",근무!E232,IF(달력!$S$27=\"순서3\",근무!F232,IF(달력!$S$27=\"순서4\",근무!G232,IF(달력!$S$27=\"순서5\",근무!H232,IF(달력!$S$27=\"순서6\",근무!I232,\"\"))))))","v":"비번"},{"$f":"IF(달력!$S$28=\"순서1\",근무!D232,IF(달력!$S$28=\"순서2\",근무!E232,IF(달력!$S$28=\"순서3\",근무!F232,IF(달력!$S$28=\"순서4\",근무!G232,IF(달력!$S$28=\"순서5\",근무!H232,IF(달력!$S$28=\"순서6\",근무!I232,\"\"))))))","v":"주간"},{"$f":"IF(달력!$S$29=\"순서1\",근무!D232,IF(달력!$S$29=\"순서2\",근무!E232,IF(달력!$S$29=\"순서3\",근무!F232,IF(달력!$S$29=\"순서4\",근무!G232,IF(달력!$S$29=\"순서5\",근무!H232,IF(달력!$S$29=\"순서6\",근무!I232,\"\"))))))","v":"주간"}]
[null,"2023-08-15","화",{"$f":"IF(달력!$S$24=\"순서1\",근무!D233,IF(달력!$S$24=\"순서2\",근무!E233,IF(달력!$S$24=\"순서3\",근무!F233,IF(달력!$S$24=\"순서4\",근무!G233,IF(달력!$S$24=\"순서5\",근무!H233,IF(달력!$S$24=\"순서6\",근무!I233,\"\"))))))","v":"비번"},{"$f":"IF(달력!$S$25=\"순서1\",근무!D233,IF(달력!$S$25=\"순서2\",근무!E233,IF(달력!$S$25=\"순서3\",근무!F233,IF(달력!$S$25=\"순서4\",근무!G233,IF(달력!$S$25=\"순서5\",근무!H233,IF(달력!$S$25=\"순서6\",근무!I233,\"\"))))))","v":"비번"},{"$f":"IF(달력!$S$26=\"순서1\",근무!D233,IF(달력!$S$26=\"순서2\",근무!E233,IF(달력!$S$26=\"순서3\",근무!F233,IF(달력!$S$26=\"순서4\",근무!G233,IF(달력!$S$26=\"순서5\",근무!H233,IF(달력!$S$26=\"순서6\",근무!I233,\"\"))))))","v":"주간"},{"$f":"IF(달력!$S$27=\"순서1\",근무!D233,IF(달력!$S$27=\"순서2\",근무!E233,IF(달력!$S$27=\"순서3\",근무!F233,IF(달력!$S$27=\"순서4\",근무!G233,IF(달력!$S$27=\"순서5\",근무!H233,IF(달력!$S$27=\"순서6\",근무!I233,\"\"))))))","v":"주간"},{"$f":"IF(달력!$S$28=\"순서1\",근무!D233,IF(달력!$S$28=\"순서2\",근무!E233,IF(달력!$S$28=\"순서3\",근무!F233,IF(달력!$S$28=\"순서4\",근무!G233,IF(달력!$S$28=\"순서5\",근무!H233,IF(달력!$S$28=\"순서6\",근무!I233,\"\"))))))","v":"야간"},{"$f":"IF(달력!$S$29=\"순서1\",근무!D233,IF(달력!$S$29=\"순서2\",근무!E233,IF(달력!$S$29=\"순서3\",근무!F233,IF(달력!$S$29=\"순서4\",근무!G233,IF(달력!$S$29=\"순서5\",근무!H233,IF(달력!$S$29=\"순서6\",근무!I233,\"\"))))))","v":"야간"}]
[null,"2023-08-16","수",{"$f":"IF(달력!$S$24=\"순서1\",근무!D234,IF(달력!$S$24=\"순서2\",근무!E234,IF(달력!$S$24=\"순서3\",근무!F234,IF(달력!$S$24=\"순서4\",근무!G234,IF(달력!$S$24=\"순서5\",근무!H234,IF(달력!$S$24=\"순서6\",근무!I234,\"\"))))))","v":"비번"},{"$f":"IF(달력!$S$25=\"순서1\",근무!D234,IF(달력!$S$25=\"순서2\",근무!E234,IF(달력!$S$25=\"순서3\",근무!F234,IF(달력!$S$25=\"순서4\",근무!G234,IF(달력!$S$25=\"순서5\",근무!H234,IF(달력!$S$25=\"순서6\",근무!I234,\"\"))))))","v":"비번"},{"$f":"IF(달력!$S$26=\"순서1\",근무!D234,IF(달력!$S$26=\"순서2\",근무!E234,IF(달력!$S$26=\"순서3\",근무!F234,IF(달력!$S$26=\"순서4\",근무!G234,IF(달력!$S$26=\"순서5\",근무!H234,IF(달력!$S$26=\"순서6\",근무!I234,\"\"))))))","v":"주간"},{"$f":"IF(달력!$S$27=\"순서1\",근무!D234,IF(달력!$S$27=\"순서2\",근무!E234,IF(달력!$S$27=\"순서3\",근무!F234,IF(달력!$S$27=\"순서4\",근무!G234,IF(달력!$S$27=\"순서5\",근무!H234,IF(달력!$S$27=\"순서6\",근무!I234,\"\"))))))","v":"주간"},{"$f":"IF(달력!$S$28=\"순서1\",근무!D234,IF(달력!$S$28=\"순서2\",근무!E234,IF(달력!$S$28=\"순서3\",근무!F234,IF(달력!$S$28=\"순서4\",근무!G234,IF(달력!$S$28=\"순서5\",근무!H234,IF(달력!$S$28=\"순서6\",근무!I234,\"\"))))))","v":"야간"},{"$f":"IF(달력!$S$29=\"순서1\",근무!D234,IF(달력!$S$29=\"순서2\",근무!E234,IF(달력!$S$29=\"순서3\",근무!F234,IF(달력!$S$29=\"순서4\",근무!G234,IF(달력!$S$29=\"순서5\",근무!H234,IF(달력!$S$29=\"순서6\",근무!I234,\"\"))))))","v":"야간"}]
[null,"2023-08-17","목",{"$f":"IF(달력!$S$24=\"순서1\",근무!D235,IF(달력!$S$24=\"순서2\",근무!E235,IF(달력!$S$24=\"순서3\",근무!F235,IF(달력!$S$24=\"순서4\",근무!G235,IF(달력!$S$24=\"순서5\",근무!H235,IF(달력!$S$24=\"순서6\",근무!I235,\"\"))))))","v":"주간"},{"$f":"IF(달력!$S$25=\"순서1\",근무!D235,IF(달력!$S$25=\"순서2\",근무!E235,IF(달력!$S$25=\"순서3\",근무!F235,IF(달력!$S$25=\"순서4\",근무!G235,IF(달력!$S$25=\"순서5\",근무!H235,IF(달력!$S$25=\"순서6\",근무!I235,\"\"))))))","v":"주간"},{"$f":"IF(달력!$S$26=\"순서1\",근무!D235,IF(달력!$S$26=\"순서2\",근무!E235,IF(달력!$S$26=\"순서3\",근무!F235,IF(달력!$S$26=\"순서4\",근무!G235,IF(달력!$S$26=\"순서5\",근무!H235,IF(달력!$S$26=\"순서6\",근무!I235,\"\"))))))","v":"야간"},{"$f":"IF(달력!$S$27=\"순서1\",근무!D235,IF(달력!$S$27=\"순서2\",근무!E235,IF(달력!$S$27=\"순서3\",근무!F235,IF(달력!$S$27=\"순서4\",근무!G235,IF(달력!$S$27=\"순서5\",근무!H235,IF(달력!$S$27=\"순서6\",근무!I235,\"\"))))))","v":"야간"},{"$f":"IF(달력!$S$28=\"순서1\",근무!D235,IF(달력!$S$28=\"순서2\",근무!E235,IF(달력!$S$28=\"순서3\",근무!F235,IF(달력!$S$28=\"순서4\",근무!G235,IF(달력!$S$28=\"순서5\",근무!H235,IF(달력!$S$28=\"순서6\",근무!I235,\"\"))))))","v":"비번"},{"$f":"IF(달력!$S$29=\"순서1\",근무!D235,IF(달력!$S$29=\"순서2\",근무!E235,IF(달력!$S$29=\"순서3\",근무!F235,IF(달력!$S$29=\"순서4\",근무!G235,IF(달력!$S$29=\"순서5\",근무!H235,IF(달력!$S$29=\"순서6\",근무!I235,\"\"))))))","v":"비번"}]
[null,"2023-08-18","금",{"$f":"IF(달력!$S$24=\"순서1\",근무!D236,IF(달력!$S$24=\"순서2\",근무!E236,IF(달력!$S$24=\"순서3\",근무!F236,IF(달력!$S$24=\"순서4\",근무!G236,IF(달력!$S$24=\"순서5\",근무!H236,IF(달력!$S$24=\"순서6\",근무!I236,\"\"))))))","v":"주간"},{"$f":"IF(달력!$S$25=\"순서1\",근무!D236,IF(달력!$S$25=\"순서2\",근무!E236,IF(달력!$S$25=\"순서3\",근무!F236,IF(달력!$S$25=\"순서4\",근무!G236,IF(달력!$S$25=\"순서5\",근무!H236,IF(달력!$S$25=\"순서6\",근무!I236,\"\"))))))","v":"주간"},{"$f":"IF(달력!$S$26=\"순서1\",근무!D236,IF(달력!$S$26=\"순서2\",근무!E236,IF(달력!$S$26=\"순서3\",근무!F236,IF(달력!$S$26=\"순서4\",근무!G236,IF(달력!$S$26=\"순서5\",근무!H236,IF(달력!$S$26=\"순서6\",근무!I236,\"\"))))))","v":"야간"},{"$f":"IF(달력!$S$27=\"순서1\",근무!D236,IF(달력!$S$27=\"순서2\",근무!E236,IF(달력!$S$27=\"순서3\",근무!F236,IF(달력!$S$27=\"순서4\",근무!G236,IF(달력!$S$27=\"순서5\",근무!H236,IF(달력!$S$27=\"순서6\",근무!I236,\"\"))))))","v":"야간"},{"$f":"IF(달력!$S$28=\"순서1\",근무!D236,IF(달력!$S$28=\"순서2\",근무!E236,IF(달력!$S$28=\"순서3\",근무!F236,IF(달력!$S$28=\"순서4\",근무!G236,IF(달력!$S$28=\"순서5\",근무!H236,IF(달력!$S$28=\"순서6\",근무!I236,\"\"))))))","v":"비번"},{"$f":"IF(달력!$S$29=\"순서1\",근무!D236,IF(달력!$S$29=\"순서2\",근무!E236,IF(달력!$S$29=\"순서3\",근무!F236,IF(달력!$S$29=\"순서4\",근무!G236,IF(달력!$S$29=\"순서5\",근무!H236,IF(달력!$S$29=\"순서6\",근무!I236,\"\"))))))","v":"비번"}]
[null,"2023-08-19","토",{"$f":"IF(달력!$S$24=\"순서1\",근무!D237,IF(달력!$S$24=\"순서2\",근무!E237,IF(달력!$S$24=\"순서3\",근무!F237,IF(달력!$S$24=\"순서4\",근무!G237,IF(달력!$S$24=\"순서5\",근무!H237,IF(달력!$S$24=\"순서6\",근무!I237,\"\"))))))","v":"야간"},{"$f":"IF(달력!$S$25=\"순서1\",근무!D237,IF(달력!$S$25=\"순서2\",근무!E237,IF(달력!$S$25=\"순서3\",근무!F237,IF(달력!$S$25=\"순서4\",근무!G237,IF(달력!$S$25=\"순서5\",근무!H237,IF(달력!$S$25=\"순서6\",근무!I237,\"\"))))))","v":"야간"},{"$f":"IF(달력!$S$26=\"순서1\",근무!D237,IF(달력!$S$26=\"순서2\",근무!E237,IF(달력!$S$26=\"순서3\",근무!F237,IF(달력!$S$26=\"순서4\",근무!G237,IF(달력!$S$26=\"순서5\",근무!H237,IF(달력!$S$26=\"순서6\",근무!I237,\"\"))))))","v":"비번"},{"$f":"IF(달력!$S$27=\"순서1\",근무!D237,IF(달력!$S$27=\"순서2\",근무!E237,IF(달력!$S$27=\"순서3\",근무!F237,IF(달력!$S$27=\"순서4\",근무!G237,IF(달력!$S$27=\"순서5\",근무!H237,IF(달력!$S$27=\"순서6\",근무!I237,\"\"))))))","v":"비번"},{"$f":"IF(달력!$S$28=\"순서1\",근무!D237,IF(달력!$S$28=\"순서2\",근무!E237,IF(달력!$S$28=\"순서3\",근무!F237,IF(달력!$S$28=\"순서4\",근무!G237,IF(달력!$S$28=\"순서5\",근무!H237,IF(달력!$S$28=\"순서6\",근무!I237,\"\"))))))","v":"주간"},{"$f":"IF(달력!$S$29=\"순서1\",근무!D237,IF(달력!$S$29=\"순서2\",근무!E237,IF(달력!$S$29=\"순서3\",근무!F237,IF(달력!$S$29=\"순서4\",근무!G237,IF(달력!$S$29=\"순서5\",근무!H237,IF(달력!$S$29=\"순서6\",근무!I237,\"\"))))))","v":"주간"}]
[null,"2023-08-20","일",{"$f":"IF(달력!$S$24=\"순서1\",근무!D238,IF(달력!$S$24=\"순서2\",근무!E238,IF(달력!$S$24=\"순서3\",근무!F238,IF(달력!$S$24=\"순서4\",근무!G238,IF(달력!$S$24=\"순서5\",근무!H238,IF(달력!$S$24=\"순서6\",근무!I238,\"\"))))))","v":"야간"},{"$f":"IF(달력!$S$25=\"순서1\",근무!D238,IF(달력!$S$25=\"순서2\",근무!E238,IF(달력!$S$25=\"순서3\",근무!F238,IF(달력!$S$25=\"순서4\",근무!G238,IF(달력!$S$25=\"순서5\",근무!H238,IF(달력!$S$25=\"순서6\",근무!I238,\"\"))))))","v":"야간"},{"$f":"IF(달력!$S$26=\"순서1\",근무!D238,IF(달력!$S$26=\"순서2\",근무!E238,IF(달력!$S$26=\"순서3\",근무!F238,IF(달력!$S$26=\"순서4\",근무!G238,IF(달력!$S$26=\"순서5\",근무!H238,IF(달력!$S$26=\"순서6\",근무!I238,\"\"))))))","v":"비번"},{"$f":"IF(달력!$S$27=\"순서1\",근무!D238,IF(달력!$S$27=\"순서2\",근무!E238,IF(달력!$S$27=\"순서3\",근무!F238,IF(달력!$S$27=\"순서4\",근무!G238,IF(달력!$S$27=\"순서5\",근무!H238,IF(달력!$S$27=\"순서6\",근무!I238,\"\"))))))","v":"비번"},{"$f":"IF(달력!$S$28=\"순서1\",근무!D238,IF(달력!$S$28=\"순서2\",근무!E238,IF(달력!$S$28=\"순서3\",근무!F238,IF(달력!$S$28=\"순서4\",근무!G238,IF(달력!$S$28=\"순서5\",근무!H238,IF(달력!$S$28=\"순서6\",근무!I238,\"\"))))))","v":"주간"},{"$f":"IF(달력!$S$29=\"순서1\",근무!D238,IF(달력!$S$29=\"순서2\",근무!E238,IF(달력!$S$29=\"순서3\",근무!F238,IF(달력!$S$29=\"순서4\",근무!G238,IF(달력!$S$29=\"순서5\",근무!H238,IF(달력!$S$29=\"순서6\",근무!I238,\"\"))))))","v":"주간"}]
[null,"2023-08-21","월",{"$f":"IF(달력!$S$24=\"순서1\",근무!D239,IF(달력!$S$24=\"순서2\",근무!E239,IF(달력!$S$24=\"순서3\",근무!F239,IF(달력!$S$24=\"순서4\",근무!G239,IF(달력!$S$24=\"순서5\",근무!H239,IF(달력!$S$24=\"순서6\",근무!I239,\"\"))))))","v":"비번"},{"$f":"IF(달력!$S$25=\"순서1\",근무!D239,IF(달력!$S$25=\"순서2\",근무!E239,IF(달력!$S$25=\"순서3\",근무!F239,IF(달력!$S$25=\"순서4\",근무!G239,IF(달력!$S$25=\"순서5\",근무!H239,IF(달력!$S$25=\"순서6\",근무!I239,\"\"))))))","v":"비번"},{"$f":"IF(달력!$S$26=\"순서1\",근무!D239,IF(달력!$S$26=\"순서2\",근무!E239,IF(달력!$S$26=\"순서3\",근무!F239,IF(달력!$S$26=\"순서4\",근무!G239,IF(달력!$S$26=\"순서5\",근무!H239,IF(달력!$S$26=\"순서6\",근무!I239,\"\"))))))","v":"주간"},{"$f":"IF(달력!$S$27=\"순서1\",근무!D239,IF(달력!$S$27=\"순서2\",근무!E239,IF(달력!$S$27=\"순서3\",근무!F239,IF(달력!$S$27=\"순서4\",근무!G239,IF(달력!$S$27=\"순서5\",근무!H239,IF(달력!$S$27=\"순서6\",근무!I239,\"\"))))))","v":"주간"},{"$f":"IF(달력!$S$28=\"순서1\",근무!D239,IF(달력!$S$28=\"순서2\",근무!E239,IF(달력!$S$28=\"순서3\",근무!F239,IF(달력!$S$28=\"순서4\",근무!G239,IF(달력!$S$28=\"순서5\",근무!H239,IF(달력!$S$28=\"순서6\",근무!I239,\"\"))))))","v":"야간"},{"$f":"IF(달력!$S$29=\"순서1\",근무!D239,IF(달력!$S$29=\"순서2\",근무!E239,IF(달력!$S$29=\"순서3\",근무!F239,IF(달력!$S$29=\"순서4\",근무!G239,IF(달력!$S$29=\"순서5\",근무!H239,IF(달력!$S$29=\"순서6\",근무!I239,\"\"))))))","v":"야간"}]
[null,"2023-08-22","화",{"$f":"IF(달력!$S$24=\"순서1\",근무!D240,IF(달력!$S$24=\"순서2\",근무!E240,IF(달력!$S$24=\"순서3\",근무!F240,IF(달력!$S$24=\"순서4\",근무!G240,IF(달력!$S$24=\"순서5\",근무!H240,IF(달력!$S$24=\"순서6\",근무!I240,\"\"))))))","v":"비번"},{"$f":"IF(달력!$S$25=\"순서1\",근무!D240,IF(달력!$S$25=\"순서2\",근무!E240,IF(달력!$S$25=\"순서3\",근무!F240,IF(달력!$S$25=\"순서4\",근무!G240,IF(달력!$S$25=\"순서5\",근무!H240,IF(달력!$S$25=\"순서6\",근무!I240,\"\"))))))","v":"비번"},{"$f":"IF(달력!$S$26=\"순서1\",근무!D240,IF(달력!$S$26=\"순서2\",근무!E240,IF(달력!$S$26=\"순서3\",근무!F240,IF(달력!$S$26=\"순서4\",근무!G240,IF(달력!$S$26=\"순서5\",근무!H240,IF(달력!$S$26=\"순서6\",근무!I240,\"\"))))))","v":"주간"},{"$f":"IF(달력!$S$27=\"순서1\",근무!D240,IF(달력!$S$27=\"순서2\",근무!E240,IF(달력!$S$27=\"순서3\",근무!F240,IF(달력!$S$27=\"순서4\",근무!G240,IF(달력!$S$27=\"순서5\",근무!H240,IF(달력!$S$27=\"순서6\",근무!I240,\"\"))))))","v":"주간"},{"$f":"IF(달력!$S$28=\"순서1\",근무!D240,IF(달력!$S$28=\"순서2\",근무!E240,IF(달력!$S$28=\"순서3\",근무!F240,IF(달력!$S$28=\"순서4\",근무!G240,IF(달력!$S$28=\"순서5\",근무!H240,IF(달력!$S$28=\"순서6\",근무!I240,\"\"))))))","v":"야간"},{"$f":"IF(달력!$S$29=\"순서1\",근무!D240,IF(달력!$S$29=\"순서2\",근무!E240,IF(달력!$S$29=\"순서3\",근무!F240,IF(달력!$S$29=\"순서4\",근무!G240,IF(달력!$S$29=\"순서5\",근무!H240,IF(달력!$S$29=\"순서6\",근무!I240,\"\"))))))","v":"야간"}]
[null,"2023-08-23","수",{"$f":"IF(달력!$S$24=\"순서1\",근무!D241,IF(달력!$S$24=\"순서2\",근무!E241,IF(달력!$S$24=\"순서3\",근무!F241,IF(달력!$S$24=\"순서4\",근무!G241,IF(달력!$S$24=\"순서5\",근무!H241,IF(달력!$S$24=\"순서6\",근무!I241,\"\"))))))","v":"주간"},{"$f":"IF(달력!$S$25=\"순서1\",근무!D241,IF(달력!$S$25=\"순서2\",근무!E241,IF(달력!$S$25=\"순서3\",근무!F241,IF(달력!$S$25=\"순서4\",근무!G241,IF(달력!$S$25=\"순서5\",근무!H241,IF(달력!$S$25=\"순서6\",근무!I241,\"\"))))))","v":"주간"},{"$f":"IF(달력!$S$26=\"순서1\",근무!D241,IF(달력!$S$26=\"순서2\",근무!E241,IF(달력!$S$26=\"순서3\",근무!F241,IF(달력!$S$26=\"순서4\",근무!G241,IF(달력!$S$26=\"순서5\",근무!H241,IF(달력!$S$26=\"순서6\",근무!I241,\"\"))))))","v":"야간"},{"$f":"IF(달력!$S$27=\"순서1\",근무!D241,IF(달력!$S$27=\"순서2\",근무!E241,IF(달력!$S$27=\"순서3\",근무!F241,IF(달력!$S$27=\"순서4\",근무!G241,IF(달력!$S$27=\"순서5\",근무!H241,IF(달력!$S$27=\"순서6\",근무!I241,\"\"))))))","v":"야간"},{"$f":"IF(달력!$S$28=\"순서1\",근무!D241,IF(달력!$S$28=\"순서2\",근무!E241,IF(달력!$S$28=\"순서3\",근무!F241,IF(달력!$S$28=\"순서4\",근무!G241,IF(달력!$S$28=\"순서5\",근무!H241,IF(달력!$S$28=\"순서6\",근무!I241,\"\"))))))","v":"비번"},{"$f":"IF(달력!$S$29=\"순서1\",근무!D241,IF(달력!$S$29=\"순서2\",근무!E241,IF(달력!$S$29=\"순서3\",근무!F241,IF(달력!$S$29=\"순서4\",근무!G241,IF(달력!$S$29=\"순서5\",근무!H241,IF(달력!$S$29=\"순서6\",근무!I241,\"\"))))))","v":"비번"}]
[null,"2023-08-24","목",{"$f":"IF(달력!$S$24=\"순서1\",근무!D242,IF(달력!$S$24=\"순서2\",근무!E242,IF(달력!$S$24=\"순서3\",근무!F242,IF(달력!$S$24=\"순서4\",근무!G242,IF(달력!$S$24=\"순서5\",근무!H242,IF(달력!$S$24=\"순서6\",근무!I242,\"\"))))))","v":"주간"},{"$f":"IF(달력!$S$25=\"순서1\",근무!D242,IF(달력!$S$25=\"순서2\",근무!E242,IF(달력!$S$25=\"순서3\",근무!F242,IF(달력!$S$25=\"순서4\",근무!G242,IF(달력!$S$25=\"순서5\",근무!H242,IF(달력!$S$25=\"순서6\",근무!I242,\"\"))))))","v":"주간"},{"$f":"IF(달력!$S$26=\"순서1\",근무!D242,IF(달력!$S$26=\"순서2\",근무!E242,IF(달력!$S$26=\"순서3\",근무!F242,IF(달력!$S$26=\"순서4\",근무!G242,IF(달력!$S$26=\"순서5\",근무!H242,IF(달력!$S$26=\"순서6\",근무!I242,\"\"))))))","v":"야간"},{"$f":"IF(달력!$S$27=\"순서1\",근무!D242,IF(달력!$S$27=\"순서2\",근무!E242,IF(달력!$S$27=\"순서3\",근무!F242,IF(달력!$S$27=\"순서4\",근무!G242,IF(달력!$S$27=\"순서5\",근무!H242,IF(달력!$S$27=\"순서6\",근무!I242,\"\"))))))","v":"야간"},{"$f":"IF(달력!$S$28=\"순서1\",근무!D242,IF(달력!$S$28=\"순서2\",근무!E242,IF(달력!$S$28=\"순서3\",근무!F242,IF(달력!$S$28=\"순서4\",근무!G242,IF(달력!$S$28=\"순서5\",근무!H242,IF(달력!$S$28=\"순서6\",근무!I242,\"\"))))))","v":"비번"},{"$f":"IF(달력!$S$29=\"순서1\",근무!D242,IF(달력!$S$29=\"순서2\",근무!E242,IF(달력!$S$29=\"순서3\",근무!F242,IF(달력!$S$29=\"순서4\",근무!G242,IF(달력!$S$29=\"순서5\",근무!H242,IF(달력!$S$29=\"순서6\",근무!I242,\"\"))))))","v":"비번"}]
[null,"2023-08-25","금",{"$f":"IF(달력!$S$24=\"순서1\",근무!D243,IF(달력!$S$24=\"순서2\",근무!E243,IF(달력!$S$24=\"순서3\",근무!F243,IF(달력!$S$24=\"순서4\",근무!G243,IF(달력!$S$24=\"순서5\",근무!H243,IF(달력!$S$24=\"순서6\",근무!I243,\"\"))))))","v":"야간"},{"$f":"IF(달력!$S$25=\"순서1\",근무!D243,IF(달력!$S$25=\"순서2\",근무!E243,IF(달력!$S$25=\"순서3\",근무!F243,IF(달력!$S$25=\"순서4\",근무!G243,IF(달력!$S$25=\"순서5\",근무!H243,IF(달력!$S$25=\"순서6\",근무!I243,\"\"))))))","v":"야간"},{"$f":"IF(달력!$S$26=\"순서1\",근무!D243,IF(달력!$S$26=\"순서2\",근무!E243,IF(달력!$S$26=\"순서3\",근무!F243,IF(달력!$S$26=\"순서4\",근무!G243,IF(달력!$S$26=\"순서5\",근무!H243,IF(달력!$S$26=\"순서6\",근무!I243,\"\"))))))","v":"비번"},{"$f":"IF(달력!$S$27=\"순서1\",근무!D243,IF(달력!$S$27=\"순서2\",근무!E243,IF(달력!$S$27=\"순서3\",근무!F243,IF(달력!$S$27=\"순서4\",근무!G243,IF(달력!$S$27=\"순서5\",근무!H243,IF(달력!$S$27=\"순서6\",근무!I243,\"\"))))))","v":"비번"},{"$f":"IF(달력!$S$28=\"순서1\",근무!D243,IF(달력!$S$28=\"순서2\",근무!E243,IF(달력!$S$28=\"순서3\",근무!F243,IF(달력!$S$28=\"순서4\",근무!G243,IF(달력!$S$28=\"순서5\",근무!H243,IF(달력!$S$28=\"순서6\",근무!I243,\"\"))))))","v":"주간"},{"$f":"IF(달력!$S$29=\"순서1\",근무!D243,IF(달력!$S$29=\"순서2\",근무!E243,IF(달력!$S$29=\"순서3\",근무!F243,IF(달력!$S$29=\"순서4\",근무!G243,IF(달력!$S$29=\"순서5\",근무!H243,IF(달력!$S$29=\"순서6\",근무!I243,\"\"))))))","v":"주간"}]
[null,"2023-08-26","토",{"$f":"IF(달력!$S$24=\"순서1\",근무!D244,IF(달력!$S$24=\"순서2\",근무!E244,IF(달력!$S$24=\"순서3\",근무!F244,IF(달력!$S$24=\"순서4\",근무!G244,IF(달력!$S$24=\"순서5\",근무!H244,IF(달력!$S$24=\"순서6\",근무!I244,\"\"))))))","v":"야간"},{"$f":"IF(달력!$S$25=\"순서1\",근무!D244,IF(달력!$S$25=\"순서2\",근무!E244,IF(달력!$S$25=\"순서3\",근무!F244,IF(달력!$S$25=\"순서4\",근무!G244,IF(달력!$S$25=\"순서5\",근무!H244,IF(달력!$S$25=\"순서6\",근무!I244,\"\"))))))","v":"야간"},{"$f":"IF(달력!$S$26=\"순서1\",근무!D244,IF(달력!$S$26=\"순서2\",근무!E244,IF(달력!$S$26=\"순서3\",근무!F244,IF(달력!$S$26=\"순서4\",근무!G244,IF(달력!$S$26=\"순서5\",근무!H244,IF(달력!$S$26=\"순서6\",근무!I244,\"\"))))))","v":"비번"},{"$f":"IF(달력!$S$27=\"순서1\",근무!D244,IF(달력!$S$27=\"순서2\",근무!E244,IF(달력!$S$27=\"순서3\",근무!F244,IF(달력!$S$27=\"순서4\",근무!G244,IF(달력!$S$27=\"순서5\",근무!H244,IF(달력!$S$27=\"순서6\",근무!I244,\"\"))))))","v":"비번"},{"$f":"IF(달력!$S$28=\"순서1\",근무!D244,IF(달력!$S$28=\"순서2\",근무!E244,IF(달력!$S$28=\"순서3\",근무!F244,IF(달력!$S$28=\"순서4\",근무!G244,IF(달력!$S$28=\"순서5\",근무!H244,IF(달력!$S$28=\"순서6\",근무!I244,\"\"))))))","v":"주간"},{"$f":"IF(달력!$S$29=\"순서1\",근무!D244,IF(달력!$S$29=\"순서2\",근무!E244,IF(달력!$S$29=\"순서3\",근무!F244,IF(달력!$S$29=\"순서4\",근무!G244,IF(달력!$S$29=\"순서5\",근무!H244,IF(달력!$S$29=\"순서6\",근무!I244,\"\"))))))","v":"주간"}]
[null,"2023-08-27","일",{"$f":"IF(달력!$S$24=\"순서1\",근무!D245,IF(달력!$S$24=\"순서2\",근무!E245,IF(달력!$S$24=\"순서3\",근무!F245,IF(달력!$S$24=\"순서4\",근무!G245,IF(달력!$S$24=\"순서5\",근무!H245,IF(달력!$S$24=\"순서6\",근무!I245,\"\"))))))","v":"비번"},{"$f":"IF(달력!$S$25=\"순서1\",근무!D245,IF(달력!$S$25=\"순서2\",근무!E245,IF(달력!$S$25=\"순서3\",근무!F245,IF(달력!$S$25=\"순서4\",근무!G245,IF(달력!$S$25=\"순서5\",근무!H245,IF(달력!$S$25=\"순서6\",근무!I245,\"\"))))))","v":"비번"},{"$f":"IF(달력!$S$26=\"순서1\",근무!D245,IF(달력!$S$26=\"순서2\",근무!E245,IF(달력!$S$26=\"순서3\",근무!F245,IF(달력!$S$26=\"순서4\",근무!G245,IF(달력!$S$26=\"순서5\",근무!H245,IF(달력!$S$26=\"순서6\",근무!I245,\"\"))))))","v":"주간"},{"$f":"IF(달력!$S$27=\"순서1\",근무!D245,IF(달력!$S$27=\"순서2\",근무!E245,IF(달력!$S$27=\"순서3\",근무!F245,IF(달력!$S$27=\"순서4\",근무!G245,IF(달력!$S$27=\"순서5\",근무!H245,IF(달력!$S$27=\"순서6\",근무!I245,\"\"))))))","v":"주간"},{"$f":"IF(달력!$S$28=\"순서1\",근무!D245,IF(달력!$S$28=\"순서2\",근무!E245,IF(달력!$S$28=\"순서3\",근무!F245,IF(달력!$S$28=\"순서4\",근무!G245,IF(달력!$S$28=\"순서5\",근무!H245,IF(달력!$S$28=\"순서6\",근무!I245,\"\"))))))","v":"야간"},{"$f":"IF(달력!$S$29=\"순서1\",근무!D245,IF(달력!$S$29=\"순서2\",근무!E245,IF(달력!$S$29=\"순서3\",근무!F245,IF(달력!$S$29=\"순서4\",근무!G245,IF(달력!$S$29=\"순서5\",근무!H245,IF(달력!$S$29=\"순서6\",근무!I245,\"\"))))))","v":"야간"}]
[null,"2023-08-28","월",{"$f":"IF(달력!$S$24=\"순서1\",근무!D246,IF(달력!$S$24=\"순서2\",근무!E246,IF(달력!$S$24=\"순서3\",근무!F246,IF(달력!$S$24=\"순서4\",근무!G246,IF(달력!$S$24=\"순서5\",근무!H246,IF(달력!$S$24=\"순서6\",근무!I246,\"\"))))))","v":"비번"},{"$f":"IF(달력!$S$25=\"순서1\",근무!D246,IF(달력!$S$25=\"순서2\",근무!E246,IF(달력!$S$25=\"순서3\",근무!F246,IF(달력!$S$25=\"순서4\",근무!G246,IF(달력!$S$25=\"순서5\",근무!H246,IF(달력!$S$25=\"순서6\",근무!I246,\"\"))))))","v":"비번"},{"$f":"IF(달력!$S$26=\"순서1\",근무!D246,IF(달력!$S$26=\"순서2\",근무!E246,IF(달력!$S$26=\"순서3\",근무!F246,IF(달력!$S$26=\"순서4\",근무!G246,IF(달력!$S$26=\"순서5\",근무!H246,IF(달력!$S$26=\"순서6\",근무!I246,\"\"))))))","v":"주간"},{"$f":"IF(달력!$S$27=\"순서1\",근무!D246,IF(달력!$S$27=\"순서2\",근무!E246,IF(달력!$S$27=\"순서3\",근무!F246,IF(달력!$S$27=\"순서4\",근무!G246,IF(달력!$S$27=\"순서5\",근무!H246,IF(달력!$S$27=\"순서6\",근무!I246,\"\"))))))","v":"주간"},{"$f":"IF(달력!$S$28=\"순서1\",근무!D246,IF(달력!$S$28=\"순서2\",근무!E246,IF(달력!$S$28=\"순서3\",근무!F246,IF(달력!$S$28=\"순서4\",근무!G246,IF(달력!$S$28=\"순서5\",근무!H246,IF(달력!$S$28=\"순서6\",근무!I246,\"\"))))))","v":"야간"},{"$f":"IF(달력!$S$29=\"순서1\",근무!D246,IF(달력!$S$29=\"순서2\",근무!E246,IF(달력!$S$29=\"순서3\",근무!F246,IF(달력!$S$29=\"순서4\",근무!G246,IF(달력!$S$29=\"순서5\",근무!H246,IF(달력!$S$29=\"순서6\",근무!I246,\"\"))))))","v":"야간"}]
[null,"2023-08-29","화",{"$f":"IF(달력!$S$24=\"순서1\",근무!D247,IF(달력!$S$24=\"순서2\",근무!E247,IF(달력!$S$24=\"순서3\",근무!F247,IF(달력!$S$24=\"순서4\",근무!G247,IF(달력!$S$24=\"순서5\",근무!H247,IF(달력!$S$24=\"순서6\",근무!I247,\"\"))))))","v":"주간"},{"$f":"IF(달력!$S$25=\"순서1\",근무!D247,IF(달력!$S$25=\"순서2\",근무!E247,IF(달력!$S$25=\"순서3\",근무!F247,IF(달력!$S$25=\"순서4\",근무!G247,IF(달력!$S$25=\"순서5\",근무!H247,IF(달력!$S$25=\"순서6\",근무!I247,\"\"))))))","v":"주간"},{"$f":"IF(달력!$S$26=\"순서1\",근무!D247,IF(달력!$S$26=\"순서2\",근무!E247,IF(달력!$S$26=\"순서3\",근무!F247,IF(달력!$S$26=\"순서4\",근무!G247,IF(달력!$S$26=\"순서5\",근무!H247,IF(달력!$S$26=\"순서6\",근무!I247,\"\"))))))","v":"야간"},{"$f":"IF(달력!$S$27=\"순서1\",근무!D247,IF(달력!$S$27=\"순서2\",근무!E247,IF(달력!$S$27=\"순서3\",근무!F247,IF(달력!$S$27=\"순서4\",근무!G247,IF(달력!$S$27=\"순서5\",근무!H247,IF(달력!$S$27=\"순서6\",근무!I247,\"\"))))))","v":"야간"},{"$f":"IF(달력!$S$28=\"순서1\",근무!D247,IF(달력!$S$28=\"순서2\",근무!E247,IF(달력!$S$28=\"순서3\",근무!F247,IF(달력!$S$28=\"순서4\",근무!G247,IF(달력!$S$28=\"순서5\",근무!H247,IF(달력!$S$28=\"순서6\",근무!I247,\"\"))))))","v":"비번"},{"$f":"IF(달력!$S$29=\"순서1\",근무!D247,IF(달력!$S$29=\"순서2\",근무!E247,IF(달력!$S$29=\"순서3\",근무!F247,IF(달력!$S$29=\"순서4\",근무!G247,IF(달력!$S$29=\"순서5\",근무!H247,IF(달력!$S$29=\"순서6\",근무!I247,\"\"))))))","v":"비번"}]
[null,"2023-08-30","수",{"$f":"IF(달력!$S$24=\"순서1\",근무!D248,IF(달력!$S$24=\"순서2\",근무!E248,IF(달력!$S$24=\"순서3\",근무!F248,IF(달력!$S$24=\"순서4\",근무!G248,IF(달력!$S$24=\"순서5\",근무!H248,IF(달력!$S$24=\"순서6\",근무!I248,\"\"))))))","v":"주간"},{"$f":"IF(달력!$S$25=\"순서1\",근무!D248,IF(달력!$S$25=\"순서2\",근무!E248,IF(달력!$S$25=\"순서3\",근무!F248,IF(달력!$S$25=\"순서4\",근무!G248,IF(달력!$S$25=\"순서5\",근무!H248,IF(달력!$S$25=\"순서6\",근무!I248,\"\"))))))","v":"주간"},{"$f":"IF(달력!$S$26=\"순서1\",근무!D248,IF(달력!$S$26=\"순서2\",근무!E248,IF(달력!$S$26=\"순서3\",근무!F248,IF(달력!$S$26=\"순서4\",근무!G248,IF(달력!$S$26=\"순서5\",근무!H248,IF(달력!$S$26=\"순서6\",근무!I248,\"\"))))))","v":"야간"},{"$f":"IF(달력!$S$27=\"순서1\",근무!D248,IF(달력!$S$27=\"순서2\",근무!E248,IF(달력!$S$27=\"순서3\",근무!F248,IF(달력!$S$27=\"순서4\",근무!G248,IF(달력!$S$27=\"순서5\",근무!H248,IF(달력!$S$27=\"순서6\",근무!I248,\"\"))))))","v":"야간"},{"$f":"IF(달력!$S$28=\"순서1\",근무!D248,IF(달력!$S$28=\"순서2\",근무!E248,IF(달력!$S$28=\"순서3\",근무!F248,IF(달력!$S$28=\"순서4\",근무!G248,IF(달력!$S$28=\"순서5\",근무!H248,IF(달력!$S$28=\"순서6\",근무!I248,\"\"))))))","v":"비번"},{"$f":"IF(달력!$S$29=\"순서1\",근무!D248,IF(달력!$S$29=\"순서2\",근무!E248,IF(달력!$S$29=\"순서3\",근무!F248,IF(달력!$S$29=\"순서4\",근무!G248,IF(달력!$S$29=\"순서5\",근무!H248,IF(달력!$S$29=\"순서6\",근무!I248,\"\"))))))","v":"비번"}]
[null,"2023-08-31","목",{"$f":"IF(달력!$S$24=\"순서1\",근무!D249,IF(달력!$S$24=\"순서2\",근무!E249,IF(달력!$S$24=\"순서3\",근무!F249,IF(달력!$S$24=\"순서4\",근무!G249,IF(달력!$S$24=\"순서5\",근무!H249,IF(달력!$S$24=\"순서6\",근무!I249,\"\"))))))","v":"야간"},{"$f":"IF(달력!$S$25=\"순서1\",근무!D249,IF(달력!$S$25=\"순서2\",근무!E249,IF(달력!$S$25=\"순서3\",근무!F249,IF(달력!$S$25=\"순서4\",근무!G249,IF(달력!$S$25=\"순서5\",근무!H249,IF(달력!$S$25=\"순서6\",근무!I249,\"\"))))))","v":"야간"},{"$f":"IF(달력!$S$26=\"순서1\",근무!D249,IF(달력!$S$26=\"순서2\",근무!E249,IF(달력!$S$26=\"순서3\",근무!F249,IF(달력!$S$26=\"순서4\",근무!G249,IF(달력!$S$26=\"순서5\",근무!H249,IF(달력!$S$26=\"순서6\",근무!I249,\"\"))))))","v":"비번"},{"$f":"IF(달력!$S$27=\"순서1\",근무!D249,IF(달력!$S$27=\"순서2\",근무!E249,IF(달력!$S$27=\"순서3\",근무!F249,IF(달력!$S$27=\"순서4\",근무!G249,IF(달력!$S$27=\"순서5\",근무!H249,IF(달력!$S$27=\"순서6\",근무!I249,\"\"))))))","v":"비번"},{"$f":"IF(달력!$S$28=\"순서1\",근무!D249,IF(달력!$S$28=\"순서2\",근무!E249,IF(달력!$S$28=\"순서3\",근무!F249,IF(달력!$S$28=\"순서4\",근무!G249,IF(달력!$S$28=\"순서5\",근무!H249,IF(달력!$S$28=\"순서6\",근무!I249,\"\"))))))","v":"주간"},{"$f":"IF(달력!$S$29=\"순서1\",근무!D249,IF(달력!$S$29=\"순서2\",근무!E249,IF(달력!$S$29=\"순서3\",근무!F249,IF(달력!$S$29=\"순서4\",근무!G249,IF(달력!$S$29=\"순서5\",근무!H249,IF(달력!$S$29=\"순서6\",근무!I249,\"\"))))))","v":"주간"}]
[null,"2023-09-01","금",{"$f":"IF(달력!$S$24=\"순서1\",근무!D250,IF(달력!$S$24=\"순서2\",근무!E250,IF(달력!$S$24=\"순서3\",근무!F250,IF(달력!$S$24=\"순서4\",근무!G250,IF(달력!$S$24=\"순서5\",근무!H250,IF(달력!$S$24=\"순서6\",근무!I250,\"\"))))))","v":"야간"},{"$f":"IF(달력!$S$25=\"순서1\",근무!D250,IF(달력!$S$25=\"순서2\",근무!E250,IF(달력!$S$25=\"순서3\",근무!F250,IF(달력!$S$25=\"순서4\",근무!G250,IF(달력!$S$25=\"순서5\",근무!H250,IF(달력!$S$25=\"순서6\",근무!I250,\"\"))))))","v":"야간"},{"$f":"IF(달력!$S$26=\"순서1\",근무!D250,IF(달력!$S$26=\"순서2\",근무!E250,IF(달력!$S$26=\"순서3\",근무!F250,IF(달력!$S$26=\"순서4\",근무!G250,IF(달력!$S$26=\"순서5\",근무!H250,IF(달력!$S$26=\"순서6\",근무!I250,\"\"))))))","v":"비번"},{"$f":"IF(달력!$S$27=\"순서1\",근무!D250,IF(달력!$S$27=\"순서2\",근무!E250,IF(달력!$S$27=\"순서3\",근무!F250,IF(달력!$S$27=\"순서4\",근무!G250,IF(달력!$S$27=\"순서5\",근무!H250,IF(달력!$S$27=\"순서6\",근무!I250,\"\"))))))","v":"비번"},{"$f":"IF(달력!$S$28=\"순서1\",근무!D250,IF(달력!$S$28=\"순서2\",근무!E250,IF(달력!$S$28=\"순서3\",근무!F250,IF(달력!$S$28=\"순서4\",근무!G250,IF(달력!$S$28=\"순서5\",근무!H250,IF(달력!$S$28=\"순서6\",근무!I250,\"\"))))))","v":"주간"},{"$f":"IF(달력!$S$29=\"순서1\",근무!D250,IF(달력!$S$29=\"순서2\",근무!E250,IF(달력!$S$29=\"순서3\",근무!F250,IF(달력!$S$29=\"순서4\",근무!G250,IF(달력!$S$29=\"순서5\",근무!H250,IF(달력!$S$29=\"순서6\",근무!I250,\"\"))))))","v":"주간"}]
[null,"2023-09-02","토",{"$f":"IF(달력!$S$24=\"순서1\",근무!D251,IF(달력!$S$24=\"순서2\",근무!E251,IF(달력!$S$24=\"순서3\",근무!F251,IF(달력!$S$24=\"순서4\",근무!G251,IF(달력!$S$24=\"순서5\",근무!H251,IF(달력!$S$24=\"순서6\",근무!I251,\"\"))))))","v":"비번"},{"$f":"IF(달력!$S$25=\"순서1\",근무!D251,IF(달력!$S$25=\"순서2\",근무!E251,IF(달력!$S$25=\"순서3\",근무!F251,IF(달력!$S$25=\"순서4\",근무!G251,IF(달력!$S$25=\"순서5\",근무!H251,IF(달력!$S$25=\"순서6\",근무!I251,\"\"))))))","v":"비번"},{"$f":"IF(달력!$S$26=\"순서1\",근무!D251,IF(달력!$S$26=\"순서2\",근무!E251,IF(달력!$S$26=\"순서3\",근무!F251,IF(달력!$S$26=\"순서4\",근무!G251,IF(달력!$S$26=\"순서5\",근무!H251,IF(달력!$S$26=\"순서6\",근무!I251,\"\"))))))","v":"주간"},{"$f":"IF(달력!$S$27=\"순서1\",근무!D251,IF(달력!$S$27=\"순서2\",근무!E251,IF(달력!$S$27=\"순서3\",근무!F251,IF(달력!$S$27=\"순서4\",근무!G251,IF(달력!$S$27=\"순서5\",근무!H251,IF(달력!$S$27=\"순서6\",근무!I251,\"\"))))))","v":"주간"},{"$f":"IF(달력!$S$28=\"순서1\",근무!D251,IF(달력!$S$28=\"순서2\",근무!E251,IF(달력!$S$28=\"순서3\",근무!F251,IF(달력!$S$28=\"순서4\",근무!G251,IF(달력!$S$28=\"순서5\",근무!H251,IF(달력!$S$28=\"순서6\",근무!I251,\"\"))))))","v":"야간"},{"$f":"IF(달력!$S$29=\"순서1\",근무!D251,IF(달력!$S$29=\"순서2\",근무!E251,IF(달력!$S$29=\"순서3\",근무!F251,IF(달력!$S$29=\"순서4\",근무!G251,IF(달력!$S$29=\"순서5\",근무!H251,IF(달력!$S$29=\"순서6\",근무!I251,\"\"))))))","v":"야간"}]
[null,"2023-09-03","일",{"$f":"IF(달력!$S$24=\"순서1\",근무!D252,IF(달력!$S$24=\"순서2\",근무!E252,IF(달력!$S$24=\"순서3\",근무!F252,IF(달력!$S$24=\"순서4\",근무!G252,IF(달력!$S$24=\"순서5\",근무!H252,IF(달력!$S$24=\"순서6\",근무!I252,\"\"))))))","v":"비번"},{"$f":"IF(달력!$S$25=\"순서1\",근무!D252,IF(달력!$S$25=\"순서2\",근무!E252,IF(달력!$S$25=\"순서3\",근무!F252,IF(달력!$S$25=\"순서4\",근무!G252,IF(달력!$S$25=\"순서5\",근무!H252,IF(달력!$S$25=\"순서6\",근무!I252,\"\"))))))","v":"비번"},{"$f":"IF(달력!$S$26=\"순서1\",근무!D252,IF(달력!$S$26=\"순서2\",근무!E252,IF(달력!$S$26=\"순서3\",근무!F252,IF(달력!$S$26=\"순서4\",근무!G252,IF(달력!$S$26=\"순서5\",근무!H252,IF(달력!$S$26=\"순서6\",근무!I252,\"\"))))))","v":"주간"},{"$f":"IF(달력!$S$27=\"순서1\",근무!D252,IF(달력!$S$27=\"순서2\",근무!E252,IF(달력!$S$27=\"순서3\",근무!F252,IF(달력!$S$27=\"순서4\",근무!G252,IF(달력!$S$27=\"순서5\",근무!H252,IF(달력!$S$27=\"순서6\",근무!I252,\"\"))))))","v":"주간"},{"$f":"IF(달력!$S$28=\"순서1\",근무!D252,IF(달력!$S$28=\"순서2\",근무!E252,IF(달력!$S$28=\"순서3\",근무!F252,IF(달력!$S$28=\"순서4\",근무!G252,IF(달력!$S$28=\"순서5\",근무!H252,IF(달력!$S$28=\"순서6\",근무!I252,\"\"))))))","v":"야간"},{"$f":"IF(달력!$S$29=\"순서1\",근무!D252,IF(달력!$S$29=\"순서2\",근무!E252,IF(달력!$S$29=\"순서3\",근무!F252,IF(달력!$S$29=\"순서4\",근무!G252,IF(달력!$S$29=\"순서5\",근무!H252,IF(달력!$S$29=\"순서6\",근무!I252,\"\"))))))","v":"야간"}]
[null,"2023-09-04","월",{"$f":"IF(달력!$S$24=\"순서1\",근무!D253,IF(달력!$S$24=\"순서2\",근무!E253,IF(달력!$S$24=\"순서3\",근무!F253,IF(달력!$S$24=\"순서4\",근무!G253,IF(달력!$S$24=\"순서5\",근무!H253,IF(달력!$S$24=\"순서6\",근무!I253,\"\"))))))","v":"주간"},{"$f":"IF(달력!$S$25=\"순서1\",근무!D253,IF(달력!$S$25=\"순서2\",근무!E253,IF(달력!$S$25=\"순서3\",근무!F253,IF(달력!$S$25=\"순서4\",근무!G253,IF(달력!$S$25=\"순서5\",근무!H253,IF(달력!$S$25=\"순서6\",근무!I253,\"\"))))))","v":"주간"},{"$f":"IF(달력!$S$26=\"순서1\",근무!D253,IF(달력!$S$26=\"순서2\",근무!E253,IF(달력!$S$26=\"순서3\",근무!F253,IF(달력!$S$26=\"순서4\",근무!G253,IF(달력!$S$26=\"순서5\",근무!H253,IF(달력!$S$26=\"순서6\",근무!I253,\"\"))))))","v":"야간"},{"$f":"IF(달력!$S$27=\"순서1\",근무!D253,IF(달력!$S$27=\"순서2\",근무!E253,IF(달력!$S$27=\"순서3\",근무!F253,IF(달력!$S$27=\"순서4\",근무!G253,IF(달력!$S$27=\"순서5\",근무!H253,IF(달력!$S$27=\"순서6\",근무!I253,\"\"))))))","v":"야간"},{"$f":"IF(달력!$S$28=\"순서1\",근무!D253,IF(달력!$S$28=\"순서2\",근무!E253,IF(달력!$S$28=\"순서3\",근무!F253,IF(달력!$S$28=\"순서4\",근무!G253,IF(달력!$S$28=\"순서5\",근무!H253,IF(달력!$S$28=\"순서6\",근무!I253,\"\"))))))","v":"비번"},{"$f":"IF(달력!$S$29=\"순서1\",근무!D253,IF(달력!$S$29=\"순서2\",근무!E253,IF(달력!$S$29=\"순서3\",근무!F253,IF(달력!$S$29=\"순서4\",근무!G253,IF(달력!$S$29=\"순서5\",근무!H253,IF(달력!$S$29=\"순서6\",근무!I253,\"\"))))))","v":"비번"}]
[null,"2023-09-05","화",{"$f":"IF(달력!$S$24=\"순서1\",근무!D254,IF(달력!$S$24=\"순서2\",근무!E254,IF(달력!$S$24=\"순서3\",근무!F254,IF(달력!$S$24=\"순서4\",근무!G254,IF(달력!$S$24=\"순서5\",근무!H254,IF(달력!$S$24=\"순서6\",근무!I254,\"\"))))))","v":"주간"},{"$f":"IF(달력!$S$25=\"순서1\",근무!D254,IF(달력!$S$25=\"순서2\",근무!E254,IF(달력!$S$25=\"순서3\",근무!F254,IF(달력!$S$25=\"순서4\",근무!G254,IF(달력!$S$25=\"순서5\",근무!H254,IF(달력!$S$25=\"순서6\",근무!I254,\"\"))))))","v":"주간"},{"$f":"IF(달력!$S$26=\"순서1\",근무!D254,IF(달력!$S$26=\"순서2\",근무!E254,IF(달력!$S$26=\"순서3\",근무!F254,IF(달력!$S$26=\"순서4\",근무!G254,IF(달력!$S$26=\"순서5\",근무!H254,IF(달력!$S$26=\"순서6\",근무!I254,\"\"))))))","v":"야간"},{"$f":"IF(달력!$S$27=\"순서1\",근무!D254,IF(달력!$S$27=\"순서2\",근무!E254,IF(달력!$S$27=\"순서3\",근무!F254,IF(달력!$S$27=\"순서4\",근무!G254,IF(달력!$S$27=\"순서5\",근무!H254,IF(달력!$S$27=\"순서6\",근무!I254,\"\"))))))","v":"야간"},{"$f":"IF(달력!$S$28=\"순서1\",근무!D254,IF(달력!$S$28=\"순서2\",근무!E254,IF(달력!$S$28=\"순서3\",근무!F254,IF(달력!$S$28=\"순서4\",근무!G254,IF(달력!$S$28=\"순서5\",근무!H254,IF(달력!$S$28=\"순서6\",근무!I254,\"\"))))))","v":"비번"},{"$f":"IF(달력!$S$29=\"순서1\",근무!D254,IF(달력!$S$29=\"순서2\",근무!E254,IF(달력!$S$29=\"순서3\",근무!F254,IF(달력!$S$29=\"순서4\",근무!G254,IF(달력!$S$29=\"순서5\",근무!H254,IF(달력!$S$29=\"순서6\",근무!I254,\"\"))))))","v":"비번"}]
[null,"2023-09-06","수",{"$f":"IF(달력!$S$24=\"순서1\",근무!D255,IF(달력!$S$24=\"순서2\",근무!E255,IF(달력!$S$24=\"순서3\",근무!F255,IF(달력!$S$24=\"순서4\",근무!G255,IF(달력!$S$24=\"순서5\",근무!H255,IF(달력!$S$24=\"순서6\",근무!I255,\"\"))))))","v":"야간"},{"$f":"IF(달력!$S$25=\"순서1\",근무!D255,IF(달력!$S$25=\"순서2\",근무!E255,IF(달력!$S$25=\"순서3\",근무!F255,IF(달력!$S$25=\"순서4\",근무!G255,IF(달력!$S$25=\"순서5\",근무!H255,IF(달력!$S$25=\"순서6\",근무!I255,\"\"))))))","v":"야간"},{"$f":"IF(달력!$S$26=\"순서1\",근무!D255,IF(달력!$S$26=\"순서2\",근무!E255,IF(달력!$S$26=\"순서3\",근무!F255,IF(달력!$S$26=\"순서4\",근무!G255,IF(달력!$S$26=\"순서5\",근무!H255,IF(달력!$S$26=\"순서6\",근무!I255,\"\"))))))","v":"비번"},{"$f":"IF(달력!$S$27=\"순서1\",근무!D255,IF(달력!$S$27=\"순서2\",근무!E255,IF(달력!$S$27=\"순서3\",근무!F255,IF(달력!$S$27=\"순서4\",근무!G255,IF(달력!$S$27=\"순서5\",근무!H255,IF(달력!$S$27=\"순서6\",근무!I255,\"\"))))))","v":"비번"},{"$f":"IF(달력!$S$28=\"순서1\",근무!D255,IF(달력!$S$28=\"순서2\",근무!E255,IF(달력!$S$28=\"순서3\",근무!F255,IF(달력!$S$28=\"순서4\",근무!G255,IF(달력!$S$28=\"순서5\",근무!H255,IF(달력!$S$28=\"순서6\",근무!I255,\"\"))))))","v":"주간"},{"$f":"IF(달력!$S$29=\"순서1\",근무!D255,IF(달력!$S$29=\"순서2\",근무!E255,IF(달력!$S$29=\"순서3\",근무!F255,IF(달력!$S$29=\"순서4\",근무!G255,IF(달력!$S$29=\"순서5\",근무!H255,IF(달력!$S$29=\"순서6\",근무!I255,\"\"))))))","v":"주간"}]
[null,"2023-09-07","목",{"$f":"IF(달력!$S$24=\"순서1\",근무!D256,IF(달력!$S$24=\"순서2\",근무!E256,IF(달력!$S$24=\"순서3\",근무!F256,IF(달력!$S$24=\"순서4\",근무!G256,IF(달력!$S$24=\"순서5\",근무!H256,IF(달력!$S$24=\"순서6\",근무!I256,\"\"))))))","v":"야간"},{"$f":"IF(달력!$S$25=\"순서1\",근무!D256,IF(달력!$S$25=\"순서2\",근무!E256,IF(달력!$S$25=\"순서3\",근무!F256,IF(달력!$S$25=\"순서4\",근무!G256,IF(달력!$S$25=\"순서5\",근무!H256,IF(달력!$S$25=\"순서6\",근무!I256,\"\"))))))","v":"야간"},{"$f":"IF(달력!$S$26=\"순서1\",근무!D256,IF(달력!$S$26=\"순서2\",근무!E256,IF(달력!$S$26=\"순서3\",근무!F256,IF(달력!$S$26=\"순서4\",근무!G256,IF(달력!$S$26=\"순서5\",근무!H256,IF(달력!$S$26=\"순서6\",근무!I256,\"\"))))))","v":"비번"},{"$f":"IF(달력!$S$27=\"순서1\",근무!D256,IF(달력!$S$27=\"순서2\",근무!E256,IF(달력!$S$27=\"순서3\",근무!F256,IF(달력!$S$27=\"순서4\",근무!G256,IF(달력!$S$27=\"순서5\",근무!H256,IF(달력!$S$27=\"순서6\",근무!I256,\"\"))))))","v":"비번"},{"$f":"IF(달력!$S$28=\"순서1\",근무!D256,IF(달력!$S$28=\"순서2\",근무!E256,IF(달력!$S$28=\"순서3\",근무!F256,IF(달력!$S$28=\"순서4\",근무!G256,IF(달력!$S$28=\"순서5\",근무!H256,IF(달력!$S$28=\"순서6\",근무!I256,\"\"))))))","v":"주간"},{"$f":"IF(달력!$S$29=\"순서1\",근무!D256,IF(달력!$S$29=\"순서2\",근무!E256,IF(달력!$S$29=\"순서3\",근무!F256,IF(달력!$S$29=\"순서4\",근무!G256,IF(달력!$S$29=\"순서5\",근무!H256,IF(달력!$S$29=\"순서6\",근무!I256,\"\"))))))","v":"주간"}]
[null,"2023-09-08","금",{"$f":"IF(달력!$S$24=\"순서1\",근무!D257,IF(달력!$S$24=\"순서2\",근무!E257,IF(달력!$S$24=\"순서3\",근무!F257,IF(달력!$S$24=\"순서4\",근무!G257,IF(달력!$S$24=\"순서5\",근무!H257,IF(달력!$S$24=\"순서6\",근무!I257,\"\"))))))","v":"비번"},{"$f":"IF(달력!$S$25=\"순서1\",근무!D257,IF(달력!$S$25=\"순서2\",근무!E257,IF(달력!$S$25=\"순서3\",근무!F257,IF(달력!$S$25=\"순서4\",근무!G257,IF(달력!$S$25=\"순서5\",근무!H257,IF(달력!$S$25=\"순서6\",근무!I257,\"\"))))))","v":"비번"},{"$f":"IF(달력!$S$26=\"순서1\",근무!D257,IF(달력!$S$26=\"순서2\",근무!E257,IF(달력!$S$26=\"순서3\",근무!F257,IF(달력!$S$26=\"순서4\",근무!G257,IF(달력!$S$26=\"순서5\",근무!H257,IF(달력!$S$26=\"순서6\",근무!I257,\"\"))))))","v":"주간"},{"$f":"IF(달력!$S$27=\"순서1\",근무!D257,IF(달력!$S$27=\"순서2\",근무!E257,IF(달력!$S$27=\"순서3\",근무!F257,IF(달력!$S$27=\"순서4\",근무!G257,IF(달력!$S$27=\"순서5\",근무!H257,IF(달력!$S$27=\"순서6\",근무!I257,\"\"))))))","v":"주간"},{"$f":"IF(달력!$S$28=\"순서1\",근무!D257,IF(달력!$S$28=\"순서2\",근무!E257,IF(달력!$S$28=\"순서3\",근무!F257,IF(달력!$S$28=\"순서4\",근무!G257,IF(달력!$S$28=\"순서5\",근무!H257,IF(달력!$S$28=\"순서6\",근무!I257,\"\"))))))","v":"야간"},{"$f":"IF(달력!$S$29=\"순서1\",근무!D257,IF(달력!$S$29=\"순서2\",근무!E257,IF(달력!$S$29=\"순서3\",근무!F257,IF(달력!$S$29=\"순서4\",근무!G257,IF(달력!$S$29=\"순서5\",근무!H257,IF(달력!$S$29=\"순서6\",근무!I257,\"\"))))))","v":"야간"}]
[null,"2023-09-09","토",{"$f":"IF(달력!$S$24=\"순서1\",근무!D258,IF(달력!$S$24=\"순서2\",근무!E258,IF(달력!$S$24=\"순서3\",근무!F258,IF(달력!$S$24=\"순서4\",근무!G258,IF(달력!$S$24=\"순서5\",근무!H258,IF(달력!$S$24=\"순서6\",근무!I258,\"\"))))))","v":"비번"},{"$f":"IF(달력!$S$25=\"순서1\",근무!D258,IF(달력!$S$25=\"순서2\",근무!E258,IF(달력!$S$25=\"순서3\",근무!F258,IF(달력!$S$25=\"순서4\",근무!G258,IF(달력!$S$25=\"순서5\",근무!H258,IF(달력!$S$25=\"순서6\",근무!I258,\"\"))))))","v":"비번"},{"$f":"IF(달력!$S$26=\"순서1\",근무!D258,IF(달력!$S$26=\"순서2\",근무!E258,IF(달력!$S$26=\"순서3\",근무!F258,IF(달력!$S$26=\"순서4\",근무!G258,IF(달력!$S$26=\"순서5\",근무!H258,IF(달력!$S$26=\"순서6\",근무!I258,\"\"))))))","v":"주간"},{"$f":"IF(달력!$S$27=\"순서1\",근무!D258,IF(달력!$S$27=\"순서2\",근무!E258,IF(달력!$S$27=\"순서3\",근무!F258,IF(달력!$S$27=\"순서4\",근무!G258,IF(달력!$S$27=\"순서5\",근무!H258,IF(달력!$S$27=\"순서6\",근무!I258,\"\"))))))","v":"주간"},{"$f":"IF(달력!$S$28=\"순서1\",근무!D258,IF(달력!$S$28=\"순서2\",근무!E258,IF(달력!$S$28=\"순서3\",근무!F258,IF(달력!$S$28=\"순서4\",근무!G258,IF(달력!$S$28=\"순서5\",근무!H258,IF(달력!$S$28=\"순서6\",근무!I258,\"\"))))))","v":"야간"},{"$f":"IF(달력!$S$29=\"순서1\",근무!D258,IF(달력!$S$29=\"순서2\",근무!E258,IF(달력!$S$29=\"순서3\",근무!F258,IF(달력!$S$29=\"순서4\",근무!G258,IF(달력!$S$29=\"순서5\",근무!H258,IF(달력!$S$29=\"순서6\",근무!I258,\"\"))))))","v":"야간"}]
[null,"2023-09-10","일",{"$f":"IF(달력!$S$24=\"순서1\",근무!D259,IF(달력!$S$24=\"순서2\",근무!E259,IF(달력!$S$24=\"순서3\",근무!F259,IF(달력!$S$24=\"순서4\",근무!G259,IF(달력!$S$24=\"순서5\",근무!H259,IF(달력!$S$24=\"순서6\",근무!I259,\"\"))))))","v":"주간"},{"$f":"IF(달력!$S$25=\"순서1\",근무!D259,IF(달력!$S$25=\"순서2\",근무!E259,IF(달력!$S$25=\"순서3\",근무!F259,IF(달력!$S$25=\"순서4\",근무!G259,IF(달력!$S$25=\"순서5\",근무!H259,IF(달력!$S$25=\"순서6\",근무!I259,\"\"))))))","v":"주간"},{"$f":"IF(달력!$S$26=\"순서1\",근무!D259,IF(달력!$S$26=\"순서2\",근무!E259,IF(달력!$S$26=\"순서3\",근무!F259,IF(달력!$S$26=\"순서4\",근무!G259,IF(달력!$S$26=\"순서5\",근무!H259,IF(달력!$S$26=\"순서6\",근무!I259,\"\"))))))","v":"야간"},{"$f":"IF(달력!$S$27=\"순서1\",근무!D259,IF(달력!$S$27=\"순서2\",근무!E259,IF(달력!$S$27=\"순서3\",근무!F259,IF(달력!$S$27=\"순서4\",근무!G259,IF(달력!$S$27=\"순서5\",근무!H259,IF(달력!$S$27=\"순서6\",근무!I259,\"\"))))))","v":"야간"},{"$f":"IF(달력!$S$28=\"순서1\",근무!D259,IF(달력!$S$28=\"순서2\",근무!E259,IF(달력!$S$28=\"순서3\",근무!F259,IF(달력!$S$28=\"순서4\",근무!G259,IF(달력!$S$28=\"순서5\",근무!H259,IF(달력!$S$28=\"순서6\",근무!I259,\"\"))))))","v":"비번"},{"$f":"IF(달력!$S$29=\"순서1\",근무!D259,IF(달력!$S$29=\"순서2\",근무!E259,IF(달력!$S$29=\"순서3\",근무!F259,IF(달력!$S$29=\"순서4\",근무!G259,IF(달력!$S$29=\"순서5\",근무!H259,IF(달력!$S$29=\"순서6\",근무!I259,\"\"))))))","v":"비번"}]
[null,"2023-09-11","월",{"$f":"IF(달력!$S$24=\"순서1\",근무!D260,IF(달력!$S$24=\"순서2\",근무!E260,IF(달력!$S$24=\"순서3\",근무!F260,IF(달력!$S$24=\"순서4\",근무!G260,IF(달력!$S$24=\"순서5\",근무!H260,IF(달력!$S$24=\"순서6\",근무!I260,\"\"))))))","v":"주간"},{"$f":"IF(달력!$S$25=\"순서1\",근무!D260,IF(달력!$S$25=\"순서2\",근무!E260,IF(달력!$S$25=\"순서3\",근무!F260,IF(달력!$S$25=\"순서4\",근무!G260,IF(달력!$S$25=\"순서5\",근무!H260,IF(달력!$S$25=\"순서6\",근무!I260,\"\"))))))","v":"주간"},{"$f":"IF(달력!$S$26=\"순서1\",근무!D260,IF(달력!$S$26=\"순서2\",근무!E260,IF(달력!$S$26=\"순서3\",근무!F260,IF(달력!$S$26=\"순서4\",근무!G260,IF(달력!$S$26=\"순서5\",근무!H260,IF(달력!$S$26=\"순서6\",근무!I260,\"\"))))))","v":"야간"},{"$f":"IF(달력!$S$27=\"순서1\",근무!D260,IF(달력!$S$27=\"순서2\",근무!E260,IF(달력!$S$27=\"순서3\",근무!F260,IF(달력!$S$27=\"순서4\",근무!G260,IF(달력!$S$27=\"순서5\",근무!H260,IF(달력!$S$27=\"순서6\",근무!I260,\"\"))))))","v":"야간"},{"$f":"IF(달력!$S$28=\"순서1\",근무!D260,IF(달력!$S$28=\"순서2\",근무!E260,IF(달력!$S$28=\"순서3\",근무!F260,IF(달력!$S$28=\"순서4\",근무!G260,IF(달력!$S$28=\"순서5\",근무!H260,IF(달력!$S$28=\"순서6\",근무!I260,\"\"))))))","v":"비번"},{"$f":"IF(달력!$S$29=\"순서1\",근무!D260,IF(달력!$S$29=\"순서2\",근무!E260,IF(달력!$S$29=\"순서3\",근무!F260,IF(달력!$S$29=\"순서4\",근무!G260,IF(달력!$S$29=\"순서5\",근무!H260,IF(달력!$S$29=\"순서6\",근무!I260,\"\"))))))","v":"비번"}]
[null,"2023-09-12","화",{"$f":"IF(달력!$S$24=\"순서1\",근무!D261,IF(달력!$S$24=\"순서2\",근무!E261,IF(달력!$S$24=\"순서3\",근무!F261,IF(달력!$S$24=\"순서4\",근무!G261,IF(달력!$S$24=\"순서5\",근무!H261,IF(달력!$S$24=\"순서6\",근무!I261,\"\"))))))","v":"야간"},{"$f":"IF(달력!$S$25=\"순서1\",근무!D261,IF(달력!$S$25=\"순서2\",근무!E261,IF(달력!$S$25=\"순서3\",근무!F261,IF(달력!$S$25=\"순서4\",근무!G261,IF(달력!$S$25=\"순서5\",근무!H261,IF(달력!$S$25=\"순서6\",근무!I261,\"\"))))))","v":"야간"},{"$f":"IF(달력!$S$26=\"순서1\",근무!D261,IF(달력!$S$26=\"순서2\",근무!E261,IF(달력!$S$26=\"순서3\",근무!F261,IF(달력!$S$26=\"순서4\",근무!G261,IF(달력!$S$26=\"순서5\",근무!H261,IF(달력!$S$26=\"순서6\",근무!I261,\"\"))))))","v":"비번"},{"$f":"IF(달력!$S$27=\"순서1\",근무!D261,IF(달력!$S$27=\"순서2\",근무!E261,IF(달력!$S$27=\"순서3\",근무!F261,IF(달력!$S$27=\"순서4\",근무!G261,IF(달력!$S$27=\"순서5\",근무!H261,IF(달력!$S$27=\"순서6\",근무!I261,\"\"))))))","v":"비번"},{"$f":"IF(달력!$S$28=\"순서1\",근무!D261,IF(달력!$S$28=\"순서2\",근무!E261,IF(달력!$S$28=\"순서3\",근무!F261,IF(달력!$S$28=\"순서4\",근무!G261,IF(달력!$S$28=\"순서5\",근무!H261,IF(달력!$S$28=\"순서6\",근무!I261,\"\"))))))","v":"주간"},{"$f":"IF(달력!$S$29=\"순서1\",근무!D261,IF(달력!$S$29=\"순서2\",근무!E261,IF(달력!$S$29=\"순서3\",근무!F261,IF(달력!$S$29=\"순서4\",근무!G261,IF(달력!$S$29=\"순서5\",근무!H261,IF(달력!$S$29=\"순서6\",근무!I261,\"\"))))))","v":"주간"}]
[null,"2023-09-13","수",{"$f":"IF(달력!$S$24=\"순서1\",근무!D262,IF(달력!$S$24=\"순서2\",근무!E262,IF(달력!$S$24=\"순서3\",근무!F262,IF(달력!$S$24=\"순서4\",근무!G262,IF(달력!$S$24=\"순서5\",근무!H262,IF(달력!$S$24=\"순서6\",근무!I262,\"\"))))))","v":"야간"},{"$f":"IF(달력!$S$25=\"순서1\",근무!D262,IF(달력!$S$25=\"순서2\",근무!E262,IF(달력!$S$25=\"순서3\",근무!F262,IF(달력!$S$25=\"순서4\",근무!G262,IF(달력!$S$25=\"순서5\",근무!H262,IF(달력!$S$25=\"순서6\",근무!I262,\"\"))))))","v":"야간"},{"$f":"IF(달력!$S$26=\"순서1\",근무!D262,IF(달력!$S$26=\"순서2\",근무!E262,IF(달력!$S$26=\"순서3\",근무!F262,IF(달력!$S$26=\"순서4\",근무!G262,IF(달력!$S$26=\"순서5\",근무!H262,IF(달력!$S$26=\"순서6\",근무!I262,\"\"))))))","v":"비번"},{"$f":"IF(달력!$S$27=\"순서1\",근무!D262,IF(달력!$S$27=\"순서2\",근무!E262,IF(달력!$S$27=\"순서3\",근무!F262,IF(달력!$S$27=\"순서4\",근무!G262,IF(달력!$S$27=\"순서5\",근무!H262,IF(달력!$S$27=\"순서6\",근무!I262,\"\"))))))","v":"비번"},{"$f":"IF(달력!$S$28=\"순서1\",근무!D262,IF(달력!$S$28=\"순서2\",근무!E262,IF(달력!$S$28=\"순서3\",근무!F262,IF(달력!$S$28=\"순서4\",근무!G262,IF(달력!$S$28=\"순서5\",근무!H262,IF(달력!$S$28=\"순서6\",근무!I262,\"\"))))))","v":"주간"},{"$f":"IF(달력!$S$29=\"순서1\",근무!D262,IF(달력!$S$29=\"순서2\",근무!E262,IF(달력!$S$29=\"순서3\",근무!F262,IF(달력!$S$29=\"순서4\",근무!G262,IF(달력!$S$29=\"순서5\",근무!H262,IF(달력!$S$29=\"순서6\",근무!I262,\"\"))))))","v":"주간"}]
[null,"2023-09-14","목",{"$f":"IF(달력!$S$24=\"순서1\",근무!D263,IF(달력!$S$24=\"순서2\",근무!E263,IF(달력!$S$24=\"순서3\",근무!F263,IF(달력!$S$24=\"순서4\",근무!G263,IF(달력!$S$24=\"순서5\",근무!H263,IF(달력!$S$24=\"순서6\",근무!I263,\"\"))))))","v":"비번"},{"$f":"IF(달력!$S$25=\"순서1\",근무!D263,IF(달력!$S$25=\"순서2\",근무!E263,IF(달력!$S$25=\"순서3\",근무!F263,IF(달력!$S$25=\"순서4\",근무!G263,IF(달력!$S$25=\"순서5\",근무!H263,IF(달력!$S$25=\"순서6\",근무!I263,\"\"))))))","v":"비번"},{"$f":"IF(달력!$S$26=\"순서1\",근무!D263,IF(달력!$S$26=\"순서2\",근무!E263,IF(달력!$S$26=\"순서3\",근무!F263,IF(달력!$S$26=\"순서4\",근무!G263,IF(달력!$S$26=\"순서5\",근무!H263,IF(달력!$S$26=\"순서6\",근무!I263,\"\"))))))","v":"주간"},{"$f":"IF(달력!$S$27=\"순서1\",근무!D263,IF(달력!$S$27=\"순서2\",근무!E263,IF(달력!$S$27=\"순서3\",근무!F263,IF(달력!$S$27=\"순서4\",근무!G263,IF(달력!$S$27=\"순서5\",근무!H263,IF(달력!$S$27=\"순서6\",근무!I263,\"\"))))))","v":"주간"},{"$f":"IF(달력!$S$28=\"순서1\",근무!D263,IF(달력!$S$28=\"순서2\",근무!E263,IF(달력!$S$28=\"순서3\",근무!F263,IF(달력!$S$28=\"순서4\",근무!G263,IF(달력!$S$28=\"순서5\",근무!H263,IF(달력!$S$28=\"순서6\",근무!I263,\"\"))))))","v":"야간"},{"$f":"IF(달력!$S$29=\"순서1\",근무!D263,IF(달력!$S$29=\"순서2\",근무!E263,IF(달력!$S$29=\"순서3\",근무!F263,IF(달력!$S$29=\"순서4\",근무!G263,IF(달력!$S$29=\"순서5\",근무!H263,IF(달력!$S$29=\"순서6\",근무!I263,\"\"))))))","v":"야간"}]
[null,"2023-09-15",{"$f":"CHOOSE(WEEKDAY(B264,1),\"일\",\"월\",\"화\",\"수\",\"목\",\"금\",\"토\")","v":"금"},{"$f":"IF(달력!$S$24=\"순서1\",근무!D264,IF(달력!$S$24=\"순서2\",근무!E264,IF(달력!$S$24=\"순서3\",근무!F264,IF(달력!$S$24=\"순서4\",근무!G264,IF(달력!$S$24=\"순서5\",근무!H264,IF(달력!$S$24=\"순서6\",근무!I264,\"\"))))))","v":"비번"},{"$f":"IF(달력!$S$25=\"순서1\",근무!D264,IF(달력!$S$25=\"순서2\",근무!E264,IF(달력!$S$25=\"순서3\",근무!F264,IF(달력!$S$25=\"순서4\",근무!G264,IF(달력!$S$25=\"순서5\",근무!H264,IF(달력!$S$25=\"순서6\",근무!I264,\"\"))))))","v":"비번"},{"$f":"IF(달력!$S$26=\"순서1\",근무!D264,IF(달력!$S$26=\"순서2\",근무!E264,IF(달력!$S$26=\"순서3\",근무!F264,IF(달력!$S$26=\"순서4\",근무!G264,IF(달력!$S$26=\"순서5\",근무!H264,IF(달력!$S$26=\"순서6\",근무!I264,\"\"))))))","v":"주간"},{"$f":"IF(달력!$S$27=\"순서1\",근무!D264,IF(달력!$S$27=\"순서2\",근무!E264,IF(달력!$S$27=\"순서3\",근무!F264,IF(달력!$S$27=\"순서4\",근무!G264,IF(달력!$S$27=\"순서5\",근무!H264,IF(달력!$S$27=\"순서6\",근무!I264,\"\"))))))","v":"주간"},{"$f":"IF(달력!$S$28=\"순서1\",근무!D264,IF(달력!$S$28=\"순서2\",근무!E264,IF(달력!$S$28=\"순서3\",근무!F264,IF(달력!$S$28=\"순서4\",근무!G264,IF(달력!$S$28=\"순서5\",근무!H264,IF(달력!$S$28=\"순서6\",근무!I264,\"\"))))))","v":"야간"},{"$f":"IF(달력!$S$29=\"순서1\",근무!D264,IF(달력!$S$29=\"순서2\",근무!E264,IF(달력!$S$29=\"순서3\",근무!F264,IF(달력!$S$29=\"순서4\",근무!G264,IF(달력!$S$29=\"순서5\",근무!H264,IF(달력!$S$29=\"순서6\",근무!I264,\"\"))))))","v":"야간"}]
[null,{"$f":"B264+1","v":"2023-09-16"},"토",{"$f":"IF(달력!$S$24=\"순서1\",근무!D265,IF(달력!$S$24=\"순서2\",근무!E265,IF(달력!$S$24=\"순서3\",근무!F265,IF(달력!$S$24=\"순서4\",근무!G265,IF(달력!$S$24=\"순서5\",근무!H265,IF(달력!$S$24=\"순서6\",근무!I265,\"\"))))))","v":"주간"},{"$f":"IF(달력!$S$25=\"순서1\",근무!D265,IF(달력!$S$25=\"순서2\",근무!E265,IF(달력!$S$25=\"순서3\",근무!F265,IF(달력!$S$25=\"순서4\",근무!G265,IF(달력!$S$25=\"순서5\",근무!H265,IF(달력!$S$25=\"순서6\",근무!I265,\"\"))))))","v":"주간"},{"$f":"IF(달력!$S$26=\"순서1\",근무!D265,IF(달력!$S$26=\"순서2\",근무!E265,IF(달력!$S$26=\"순서3\",근무!F265,IF(달력!$S$26=\"순서4\",근무!G265,IF(달력!$S$26=\"순서5\",근무!H265,IF(달력!$S$26=\"순서6\",근무!I265,\"\"))))))","v":"야간"},{"$f":"IF(달력!$S$27=\"순서1\",근무!D265,IF(달력!$S$27=\"순서2\",근무!E265,IF(달력!$S$27=\"순서3\",근무!F265,IF(달력!$S$27=\"순서4\",근무!G265,IF(달력!$S$27=\"순서5\",근무!H265,IF(달력!$S$27=\"순서6\",근무!I265,\"\"))))))","v":"야간"},{"$f":"IF(달력!$S$28=\"순서1\",근무!D265,IF(달력!$S$28=\"순서2\",근무!E265,IF(달력!$S$28=\"순서3\",근무!F265,IF(달력!$S$28=\"순서4\",근무!G265,IF(달력!$S$28=\"순서5\",근무!H265,IF(달력!$S$28=\"순서6\",근무!I265,\"\"))))))","v":"비번"},{"$f":"IF(달력!$S$29=\"순서1\",근무!D265,IF(달력!$S$29=\"순서2\",근무!E265,IF(달력!$S$29=\"순서3\",근무!F265,IF(달력!$S$29=\"순서4\",근무!G265,IF(달력!$S$29=\"순서5\",근무!H265,IF(달력!$S$29=\"순서6\",근무!I265,\"\"))))))","v":"비번"}]
[null,"2023-09-17","일",{"$f":"IF(달력!$S$24=\"순서1\",근무!D266,IF(달력!$S$24=\"순서2\",근무!E266,IF(달력!$S$24=\"순서3\",근무!F266,IF(달력!$S$24=\"순서4\",근무!G266,IF(달력!$S$24=\"순서5\",근무!H266,IF(달력!$S$24=\"순서6\",근무!I266,\"\"))))))","v":"주간"},{"$f":"IF(달력!$S$25=\"순서1\",근무!D266,IF(달력!$S$25=\"순서2\",근무!E266,IF(달력!$S$25=\"순서3\",근무!F266,IF(달력!$S$25=\"순서4\",근무!G266,IF(달력!$S$25=\"순서5\",근무!H266,IF(달력!$S$25=\"순서6\",근무!I266,\"\"))))))","v":"주간"},{"$f":"IF(달력!$S$26=\"순서1\",근무!D266,IF(달력!$S$26=\"순서2\",근무!E266,IF(달력!$S$26=\"순서3\",근무!F266,IF(달력!$S$26=\"순서4\",근무!G266,IF(달력!$S$26=\"순서5\",근무!H266,IF(달력!$S$26=\"순서6\",근무!I266,\"\"))))))","v":"야간"},{"$f":"IF(달력!$S$27=\"순서1\",근무!D266,IF(달력!$S$27=\"순서2\",근무!E266,IF(달력!$S$27=\"순서3\",근무!F266,IF(달력!$S$27=\"순서4\",근무!G266,IF(달력!$S$27=\"순서5\",근무!H266,IF(달력!$S$27=\"순서6\",근무!I266,\"\"))))))","v":"야간"},{"$f":"IF(달력!$S$28=\"순서1\",근무!D266,IF(달력!$S$28=\"순서2\",근무!E266,IF(달력!$S$28=\"순서3\",근무!F266,IF(달력!$S$28=\"순서4\",근무!G266,IF(달력!$S$28=\"순서5\",근무!H266,IF(달력!$S$28=\"순서6\",근무!I266,\"\"))))))","v":"비번"},{"$f":"IF(달력!$S$29=\"순서1\",근무!D266,IF(달력!$S$29=\"순서2\",근무!E266,IF(달력!$S$29=\"순서3\",근무!F266,IF(달력!$S$29=\"순서4\",근무!G266,IF(달력!$S$29=\"순서5\",근무!H266,IF(달력!$S$29=\"순서6\",근무!I266,\"\"))))))","v":"비번"}]
[null,"2023-09-18","월",{"$f":"IF(달력!$S$24=\"순서1\",근무!D267,IF(달력!$S$24=\"순서2\",근무!E267,IF(달력!$S$24=\"순서3\",근무!F267,IF(달력!$S$24=\"순서4\",근무!G267,IF(달력!$S$24=\"순서5\",근무!H267,IF(달력!$S$24=\"순서6\",근무!I267,\"\"))))))","v":"야간"},{"$f":"IF(달력!$S$25=\"순서1\",근무!D267,IF(달력!$S$25=\"순서2\",근무!E267,IF(달력!$S$25=\"순서3\",근무!F267,IF(달력!$S$25=\"순서4\",근무!G267,IF(달력!$S$25=\"순서5\",근무!H267,IF(달력!$S$25=\"순서6\",근무!I267,\"\"))))))","v":"야간"},{"$f":"IF(달력!$S$26=\"순서1\",근무!D267,IF(달력!$S$26=\"순서2\",근무!E267,IF(달력!$S$26=\"순서3\",근무!F267,IF(달력!$S$26=\"순서4\",근무!G267,IF(달력!$S$26=\"순서5\",근무!H267,IF(달력!$S$26=\"순서6\",근무!I267,\"\"))))))","v":"비번"},{"$f":"IF(달력!$S$27=\"순서1\",근무!D267,IF(달력!$S$27=\"순서2\",근무!E267,IF(달력!$S$27=\"순서3\",근무!F267,IF(달력!$S$27=\"순서4\",근무!G267,IF(달력!$S$27=\"순서5\",근무!H267,IF(달력!$S$27=\"순서6\",근무!I267,\"\"))))))","v":"비번"},{"$f":"IF(달력!$S$28=\"순서1\",근무!D267,IF(달력!$S$28=\"순서2\",근무!E267,IF(달력!$S$28=\"순서3\",근무!F267,IF(달력!$S$28=\"순서4\",근무!G267,IF(달력!$S$28=\"순서5\",근무!H267,IF(달력!$S$28=\"순서6\",근무!I267,\"\"))))))","v":"주간"},{"$f":"IF(달력!$S$29=\"순서1\",근무!D267,IF(달력!$S$29=\"순서2\",근무!E267,IF(달력!$S$29=\"순서3\",근무!F267,IF(달력!$S$29=\"순서4\",근무!G267,IF(달력!$S$29=\"순서5\",근무!H267,IF(달력!$S$29=\"순서6\",근무!I267,\"\"))))))","v":"주간"}]
[null,"2023-09-19","화",{"$f":"IF(달력!$S$24=\"순서1\",근무!D268,IF(달력!$S$24=\"순서2\",근무!E268,IF(달력!$S$24=\"순서3\",근무!F268,IF(달력!$S$24=\"순서4\",근무!G268,IF(달력!$S$24=\"순서5\",근무!H268,IF(달력!$S$24=\"순서6\",근무!I268,\"\"))))))","v":"야간"},{"$f":"IF(달력!$S$25=\"순서1\",근무!D268,IF(달력!$S$25=\"순서2\",근무!E268,IF(달력!$S$25=\"순서3\",근무!F268,IF(달력!$S$25=\"순서4\",근무!G268,IF(달력!$S$25=\"순서5\",근무!H268,IF(달력!$S$25=\"순서6\",근무!I268,\"\"))))))","v":"야간"},{"$f":"IF(달력!$S$26=\"순서1\",근무!D268,IF(달력!$S$26=\"순서2\",근무!E268,IF(달력!$S$26=\"순서3\",근무!F268,IF(달력!$S$26=\"순서4\",근무!G268,IF(달력!$S$26=\"순서5\",근무!H268,IF(달력!$S$26=\"순서6\",근무!I268,\"\"))))))","v":"비번"},{"$f":"IF(달력!$S$27=\"순서1\",근무!D268,IF(달력!$S$27=\"순서2\",근무!E268,IF(달력!$S$27=\"순서3\",근무!F268,IF(달력!$S$27=\"순서4\",근무!G268,IF(달력!$S$27=\"순서5\",근무!H268,IF(달력!$S$27=\"순서6\",근무!I268,\"\"))))))","v":"비번"},{"$f":"IF(달력!$S$28=\"순서1\",근무!D268,IF(달력!$S$28=\"순서2\",근무!E268,IF(달력!$S$28=\"순서3\",근무!F268,IF(달력!$S$28=\"순서4\",근무!G268,IF(달력!$S$28=\"순서5\",근무!H268,IF(달력!$S$28=\"순서6\",근무!I268,\"\"))))))","v":"주간"},{"$f":"IF(달력!$S$29=\"순서1\",근무!D268,IF(달력!$S$29=\"순서2\",근무!E268,IF(달력!$S$29=\"순서3\",근무!F268,IF(달력!$S$29=\"순서4\",근무!G268,IF(달력!$S$29=\"순서5\",근무!H268,IF(달력!$S$29=\"순서6\",근무!I268,\"\"))))))","v":"주간"}]
[null,"2023-09-20","수",{"$f":"IF(달력!$S$24=\"순서1\",근무!D269,IF(달력!$S$24=\"순서2\",근무!E269,IF(달력!$S$24=\"순서3\",근무!F269,IF(달력!$S$24=\"순서4\",근무!G269,IF(달력!$S$24=\"순서5\",근무!H269,IF(달력!$S$24=\"순서6\",근무!I269,\"\"))))))","v":"비번"},{"$f":"IF(달력!$S$25=\"순서1\",근무!D269,IF(달력!$S$25=\"순서2\",근무!E269,IF(달력!$S$25=\"순서3\",근무!F269,IF(달력!$S$25=\"순서4\",근무!G269,IF(달력!$S$25=\"순서5\",근무!H269,IF(달력!$S$25=\"순서6\",근무!I269,\"\"))))))","v":"비번"},{"$f":"IF(달력!$S$26=\"순서1\",근무!D269,IF(달력!$S$26=\"순서2\",근무!E269,IF(달력!$S$26=\"순서3\",근무!F269,IF(달력!$S$26=\"순서4\",근무!G269,IF(달력!$S$26=\"순서5\",근무!H269,IF(달력!$S$26=\"순서6\",근무!I269,\"\"))))))","v":"주간"},{"$f":"IF(달력!$S$27=\"순서1\",근무!D269,IF(달력!$S$27=\"순서2\",근무!E269,IF(달력!$S$27=\"순서3\",근무!F269,IF(달력!$S$27=\"순서4\",근무!G269,IF(달력!$S$27=\"순서5\",근무!H269,IF(달력!$S$27=\"순서6\",근무!I269,\"\"))))))","v":"주간"},{"$f":"IF(달력!$S$28=\"순서1\",근무!D269,IF(달력!$S$28=\"순서2\",근무!E269,IF(달력!$S$28=\"순서3\",근무!F269,IF(달력!$S$28=\"순서4\",근무!G269,IF(달력!$S$28=\"순서5\",근무!H269,IF(달력!$S$28=\"순서6\",근무!I269,\"\"))))))","v":"야간"},{"$f":"IF(달력!$S$29=\"순서1\",근무!D269,IF(달력!$S$29=\"순서2\",근무!E269,IF(달력!$S$29=\"순서3\",근무!F269,IF(달력!$S$29=\"순서4\",근무!G269,IF(달력!$S$29=\"순서5\",근무!H269,IF(달력!$S$29=\"순서6\",근무!I269,\"\"))))))","v":"야간"}]
[null,"2023-09-21","목",{"$f":"IF(달력!$S$24=\"순서1\",근무!D270,IF(달력!$S$24=\"순서2\",근무!E270,IF(달력!$S$24=\"순서3\",근무!F270,IF(달력!$S$24=\"순서4\",근무!G270,IF(달력!$S$24=\"순서5\",근무!H270,IF(달력!$S$24=\"순서6\",근무!I270,\"\"))))))","v":"비번"},{"$f":"IF(달력!$S$25=\"순서1\",근무!D270,IF(달력!$S$25=\"순서2\",근무!E270,IF(달력!$S$25=\"순서3\",근무!F270,IF(달력!$S$25=\"순서4\",근무!G270,IF(달력!$S$25=\"순서5\",근무!H270,IF(달력!$S$25=\"순서6\",근무!I270,\"\"))))))","v":"비번"},{"$f":"IF(달력!$S$26=\"순서1\",근무!D270,IF(달력!$S$26=\"순서2\",근무!E270,IF(달력!$S$26=\"순서3\",근무!F270,IF(달력!$S$26=\"순서4\",근무!G270,IF(달력!$S$26=\"순서5\",근무!H270,IF(달력!$S$26=\"순서6\",근무!I270,\"\"))))))","v":"주간"},{"$f":"IF(달력!$S$27=\"순서1\",근무!D270,IF(달력!$S$27=\"순서2\",근무!E270,IF(달력!$S$27=\"순서3\",근무!F270,IF(달력!$S$27=\"순서4\",근무!G270,IF(달력!$S$27=\"순서5\",근무!H270,IF(달력!$S$27=\"순서6\",근무!I270,\"\"))))))","v":"주간"},{"$f":"IF(달력!$S$28=\"순서1\",근무!D270,IF(달력!$S$28=\"순서2\",근무!E270,IF(달력!$S$28=\"순서3\",근무!F270,IF(달력!$S$28=\"순서4\",근무!G270,IF(달력!$S$28=\"순서5\",근무!H270,IF(달력!$S$28=\"순서6\",근무!I270,\"\"))))))","v":"야간"},{"$f":"IF(달력!$S$29=\"순서1\",근무!D270,IF(달력!$S$29=\"순서2\",근무!E270,IF(달력!$S$29=\"순서3\",근무!F270,IF(달력!$S$29=\"순서4\",근무!G270,IF(달력!$S$29=\"순서5\",근무!H270,IF(달력!$S$29=\"순서6\",근무!I270,\"\"))))))","v":"야간"}]
[null,"2023-09-22","금",{"$f":"IF(달력!$S$24=\"순서1\",근무!D271,IF(달력!$S$24=\"순서2\",근무!E271,IF(달력!$S$24=\"순서3\",근무!F271,IF(달력!$S$24=\"순서4\",근무!G271,IF(달력!$S$24=\"순서5\",근무!H271,IF(달력!$S$24=\"순서6\",근무!I271,\"\"))))))","v":"주간"},{"$f":"IF(달력!$S$25=\"순서1\",근무!D271,IF(달력!$S$25=\"순서2\",근무!E271,IF(달력!$S$25=\"순서3\",근무!F271,IF(달력!$S$25=\"순서4\",근무!G271,IF(달력!$S$25=\"순서5\",근무!H271,IF(달력!$S$25=\"순서6\",근무!I271,\"\"))))))","v":"주간"},{"$f":"IF(달력!$S$26=\"순서1\",근무!D271,IF(달력!$S$26=\"순서2\",근무!E271,IF(달력!$S$26=\"순서3\",근무!F271,IF(달력!$S$26=\"순서4\",근무!G271,IF(달력!$S$26=\"순서5\",근무!H271,IF(달력!$S$26=\"순서6\",근무!I271,\"\"))))))","v":"야간"},{"$f":"IF(달력!$S$27=\"순서1\",근무!D271,IF(달력!$S$27=\"순서2\",근무!E271,IF(달력!$S$27=\"순서3\",근무!F271,IF(달력!$S$27=\"순서4\",근무!G271,IF(달력!$S$27=\"순서5\",근무!H271,IF(달력!$S$27=\"순서6\",근무!I271,\"\"))))))","v":"야간"},{"$f":"IF(달력!$S$28=\"순서1\",근무!D271,IF(달력!$S$28=\"순서2\",근무!E271,IF(달력!$S$28=\"순서3\",근무!F271,IF(달력!$S$28=\"순서4\",근무!G271,IF(달력!$S$28=\"순서5\",근무!H271,IF(달력!$S$28=\"순서6\",근무!I271,\"\"))))))","v":"비번"},{"$f":"IF(달력!$S$29=\"순서1\",근무!D271,IF(달력!$S$29=\"순서2\",근무!E271,IF(달력!$S$29=\"순서3\",근무!F271,IF(달력!$S$29=\"순서4\",근무!G271,IF(달력!$S$29=\"순서5\",근무!H271,IF(달력!$S$29=\"순서6\",근무!I271,\"\"))))))","v":"비번"}]
[null,"2023-09-23","토",{"$f":"IF(달력!$S$24=\"순서1\",근무!D272,IF(달력!$S$24=\"순서2\",근무!E272,IF(달력!$S$24=\"순서3\",근무!F272,IF(달력!$S$24=\"순서4\",근무!G272,IF(달력!$S$24=\"순서5\",근무!H272,IF(달력!$S$24=\"순서6\",근무!I272,\"\"))))))","v":"주간"},{"$f":"IF(달력!$S$25=\"순서1\",근무!D272,IF(달력!$S$25=\"순서2\",근무!E272,IF(달력!$S$25=\"순서3\",근무!F272,IF(달력!$S$25=\"순서4\",근무!G272,IF(달력!$S$25=\"순서5\",근무!H272,IF(달력!$S$25=\"순서6\",근무!I272,\"\"))))))","v":"주간"},{"$f":"IF(달력!$S$26=\"순서1\",근무!D272,IF(달력!$S$26=\"순서2\",근무!E272,IF(달력!$S$26=\"순서3\",근무!F272,IF(달력!$S$26=\"순서4\",근무!G272,IF(달력!$S$26=\"순서5\",근무!H272,IF(달력!$S$26=\"순서6\",근무!I272,\"\"))))))","v":"야간"},{"$f":"IF(달력!$S$27=\"순서1\",근무!D272,IF(달력!$S$27=\"순서2\",근무!E272,IF(달력!$S$27=\"순서3\",근무!F272,IF(달력!$S$27=\"순서4\",근무!G272,IF(달력!$S$27=\"순서5\",근무!H272,IF(달력!$S$27=\"순서6\",근무!I272,\"\"))))))","v":"야간"},{"$f":"IF(달력!$S$28=\"순서1\",근무!D272,IF(달력!$S$28=\"순서2\",근무!E272,IF(달력!$S$28=\"순서3\",근무!F272,IF(달력!$S$28=\"순서4\",근무!G272,IF(달력!$S$28=\"순서5\",근무!H272,IF(달력!$S$28=\"순서6\",근무!I272,\"\"))))))","v":"비번"},{"$f":"IF(달력!$S$29=\"순서1\",근무!D272,IF(달력!$S$29=\"순서2\",근무!E272,IF(달력!$S$29=\"순서3\",근무!F272,IF(달력!$S$29=\"순서4\",근무!G272,IF(달력!$S$29=\"순서5\",근무!H272,IF(달력!$S$29=\"순서6\",근무!I272,\"\"))))))","v":"비번"}]
[null,"2023-09-24","일",{"$f":"IF(달력!$S$24=\"순서1\",근무!D273,IF(달력!$S$24=\"순서2\",근무!E273,IF(달력!$S$24=\"순서3\",근무!F273,IF(달력!$S$24=\"순서4\",근무!G273,IF(달력!$S$24=\"순서5\",근무!H273,IF(달력!$S$24=\"순서6\",근무!I273,\"\"))))))","v":"야간"},{"$f":"IF(달력!$S$25=\"순서1\",근무!D273,IF(달력!$S$25=\"순서2\",근무!E273,IF(달력!$S$25=\"순서3\",근무!F273,IF(달력!$S$25=\"순서4\",근무!G273,IF(달력!$S$25=\"순서5\",근무!H273,IF(달력!$S$25=\"순서6\",근무!I273,\"\"))))))","v":"야간"},{"$f":"IF(달력!$S$26=\"순서1\",근무!D273,IF(달력!$S$26=\"순서2\",근무!E273,IF(달력!$S$26=\"순서3\",근무!F273,IF(달력!$S$26=\"순서4\",근무!G273,IF(달력!$S$26=\"순서5\",근무!H273,IF(달력!$S$26=\"순서6\",근무!I273,\"\"))))))","v":"비번"},{"$f":"IF(달력!$S$27=\"순서1\",근무!D273,IF(달력!$S$27=\"순서2\",근무!E273,IF(달력!$S$27=\"순서3\",근무!F273,IF(달력!$S$27=\"순서4\",근무!G273,IF(달력!$S$27=\"순서5\",근무!H273,IF(달력!$S$27=\"순서6\",근무!I273,\"\"))))))","v":"비번"},{"$f":"IF(달력!$S$28=\"순서1\",근무!D273,IF(달력!$S$28=\"순서2\",근무!E273,IF(달력!$S$28=\"순서3\",근무!F273,IF(달력!$S$28=\"순서4\",근무!G273,IF(달력!$S$28=\"순서5\",근무!H273,IF(달력!$S$28=\"순서6\",근무!I273,\"\"))))))","v":"주간"},{"$f":"IF(달력!$S$29=\"순서1\",근무!D273,IF(달력!$S$29=\"순서2\",근무!E273,IF(달력!$S$29=\"순서3\",근무!F273,IF(달력!$S$29=\"순서4\",근무!G273,IF(달력!$S$29=\"순서5\",근무!H273,IF(달력!$S$29=\"순서6\",근무!I273,\"\"))))))","v":"주간"}]
[null,"2023-09-25","월",{"$f":"IF(달력!$S$24=\"순서1\",근무!D274,IF(달력!$S$24=\"순서2\",근무!E274,IF(달력!$S$24=\"순서3\",근무!F274,IF(달력!$S$24=\"순서4\",근무!G274,IF(달력!$S$24=\"순서5\",근무!H274,IF(달력!$S$24=\"순서6\",근무!I274,\"\"))))))","v":"야간"},{"$f":"IF(달력!$S$25=\"순서1\",근무!D274,IF(달력!$S$25=\"순서2\",근무!E274,IF(달력!$S$25=\"순서3\",근무!F274,IF(달력!$S$25=\"순서4\",근무!G274,IF(달력!$S$25=\"순서5\",근무!H274,IF(달력!$S$25=\"순서6\",근무!I274,\"\"))))))","v":"야간"},{"$f":"IF(달력!$S$26=\"순서1\",근무!D274,IF(달력!$S$26=\"순서2\",근무!E274,IF(달력!$S$26=\"순서3\",근무!F274,IF(달력!$S$26=\"순서4\",근무!G274,IF(달력!$S$26=\"순서5\",근무!H274,IF(달력!$S$26=\"순서6\",근무!I274,\"\"))))))","v":"비번"},{"$f":"IF(달력!$S$27=\"순서1\",근무!D274,IF(달력!$S$27=\"순서2\",근무!E274,IF(달력!$S$27=\"순서3\",근무!F274,IF(달력!$S$27=\"순서4\",근무!G274,IF(달력!$S$27=\"순서5\",근무!H274,IF(달력!$S$27=\"순서6\",근무!I274,\"\"))))))","v":"비번"},{"$f":"IF(달력!$S$28=\"순서1\",근무!D274,IF(달력!$S$28=\"순서2\",근무!E274,IF(달력!$S$28=\"순서3\",근무!F274,IF(달력!$S$28=\"순서4\",근무!G274,IF(달력!$S$28=\"순서5\",근무!H274,IF(달력!$S$28=\"순서6\",근무!I274,\"\"))))))","v":"주간"},{"$f":"IF(달력!$S$29=\"순서1\",근무!D274,IF(달력!$S$29=\"순서2\",근무!E274,IF(달력!$S$29=\"순서3\",근무!F274,IF(달력!$S$29=\"순서4\",근무!G274,IF(달력!$S$29=\"순서5\",근무!H274,IF(달력!$S$29=\"순서6\",근무!I274,\"\"))))))","v":"주간"}]
[null,"2023-09-26","화",{"$f":"IF(달력!$S$24=\"순서1\",근무!D275,IF(달력!$S$24=\"순서2\",근무!E275,IF(달력!$S$24=\"순서3\",근무!F275,IF(달력!$S$24=\"순서4\",근무!G275,IF(달력!$S$24=\"순서5\",근무!H275,IF(달력!$S$24=\"순서6\",근무!I275,\"\"))))))","v":"비번"},{"$f":"IF(달력!$S$25=\"순서1\",근무!D275,IF(달력!$S$25=\"순서2\",근무!E275,IF(달력!$S$25=\"순서3\",근무!F275,IF(달력!$S$25=\"순서4\",근무!G275,IF(달력!$S$25=\"순서5\",근무!H275,IF(달력!$S$25=\"순서6\",근무!I275,\"\"))))))","v":"비번"},{"$f":"IF(달력!$S$26=\"순서1\",근무!D275,IF(달력!$S$26=\"순서2\",근무!E275,IF(달력!$S$26=\"순서3\",근무!F275,IF(달력!$S$26=\"순서4\",근무!G275,IF(달력!$S$26=\"순서5\",근무!H275,IF(달력!$S$26=\"순서6\",근무!I275,\"\"))))))","v":"주간"},{"$f":"IF(달력!$S$27=\"순서1\",근무!D275,IF(달력!$S$27=\"순서2\",근무!E275,IF(달력!$S$27=\"순서3\",근무!F275,IF(달력!$S$27=\"순서4\",근무!G275,IF(달력!$S$27=\"순서5\",근무!H275,IF(달력!$S$27=\"순서6\",근무!I275,\"\"))))))","v":"주간"},{"$f":"IF(달력!$S$28=\"순서1\",근무!D275,IF(달력!$S$28=\"순서2\",근무!E275,IF(달력!$S$28=\"순서3\",근무!F275,IF(달력!$S$28=\"순서4\",근무!G275,IF(달력!$S$28=\"순서5\",근무!H275,IF(달력!$S$28=\"순서6\",근무!I275,\"\"))))))","v":"야간"},{"$f":"IF(달력!$S$29=\"순서1\",근무!D275,IF(달력!$S$29=\"순서2\",근무!E275,IF(달력!$S$29=\"순서3\",근무!F275,IF(달력!$S$29=\"순서4\",근무!G275,IF(달력!$S$29=\"순서5\",근무!H275,IF(달력!$S$29=\"순서6\",근무!I275,\"\"))))))","v":"야간"}]
[null,"2023-09-27","수",{"$f":"IF(달력!$S$24=\"순서1\",근무!D276,IF(달력!$S$24=\"순서2\",근무!E276,IF(달력!$S$24=\"순서3\",근무!F276,IF(달력!$S$24=\"순서4\",근무!G276,IF(달력!$S$24=\"순서5\",근무!H276,IF(달력!$S$24=\"순서6\",근무!I276,\"\"))))))","v":"비번"},{"$f":"IF(달력!$S$25=\"순서1\",근무!D276,IF(달력!$S$25=\"순서2\",근무!E276,IF(달력!$S$25=\"순서3\",근무!F276,IF(달력!$S$25=\"순서4\",근무!G276,IF(달력!$S$25=\"순서5\",근무!H276,IF(달력!$S$25=\"순서6\",근무!I276,\"\"))))))","v":"비번"},{"$f":"IF(달력!$S$26=\"순서1\",근무!D276,IF(달력!$S$26=\"순서2\",근무!E276,IF(달력!$S$26=\"순서3\",근무!F276,IF(달력!$S$26=\"순서4\",근무!G276,IF(달력!$S$26=\"순서5\",근무!H276,IF(달력!$S$26=\"순서6\",근무!I276,\"\"))))))","v":"주간"},{"$f":"IF(달력!$S$27=\"순서1\",근무!D276,IF(달력!$S$27=\"순서2\",근무!E276,IF(달력!$S$27=\"순서3\",근무!F276,IF(달력!$S$27=\"순서4\",근무!G276,IF(달력!$S$27=\"순서5\",근무!H276,IF(달력!$S$27=\"순서6\",근무!I276,\"\"))))))","v":"주간"},{"$f":"IF(달력!$S$28=\"순서1\",근무!D276,IF(달력!$S$28=\"순서2\",근무!E276,IF(달력!$S$28=\"순서3\",근무!F276,IF(달력!$S$28=\"순서4\",근무!G276,IF(달력!$S$28=\"순서5\",근무!H276,IF(달력!$S$28=\"순서6\",근무!I276,\"\"))))))","v":"야간"},{"$f":"IF(달력!$S$29=\"순서1\",근무!D276,IF(달력!$S$29=\"순서2\",근무!E276,IF(달력!$S$29=\"순서3\",근무!F276,IF(달력!$S$29=\"순서4\",근무!G276,IF(달력!$S$29=\"순서5\",근무!H276,IF(달력!$S$29=\"순서6\",근무!I276,\"\"))))))","v":"야간"}]
[null,"2023-09-28","목",{"$f":"IF(달력!$S$24=\"순서1\",근무!D277,IF(달력!$S$24=\"순서2\",근무!E277,IF(달력!$S$24=\"순서3\",근무!F277,IF(달력!$S$24=\"순서4\",근무!G277,IF(달력!$S$24=\"순서5\",근무!H277,IF(달력!$S$24=\"순서6\",근무!I277,\"\"))))))","v":"주간"},{"$f":"IF(달력!$S$25=\"순서1\",근무!D277,IF(달력!$S$25=\"순서2\",근무!E277,IF(달력!$S$25=\"순서3\",근무!F277,IF(달력!$S$25=\"순서4\",근무!G277,IF(달력!$S$25=\"순서5\",근무!H277,IF(달력!$S$25=\"순서6\",근무!I277,\"\"))))))","v":"주간"},{"$f":"IF(달력!$S$26=\"순서1\",근무!D277,IF(달력!$S$26=\"순서2\",근무!E277,IF(달력!$S$26=\"순서3\",근무!F277,IF(달력!$S$26=\"순서4\",근무!G277,IF(달력!$S$26=\"순서5\",근무!H277,IF(달력!$S$26=\"순서6\",근무!I277,\"\"))))))","v":"야간"},{"$f":"IF(달력!$S$27=\"순서1\",근무!D277,IF(달력!$S$27=\"순서2\",근무!E277,IF(달력!$S$27=\"순서3\",근무!F277,IF(달력!$S$27=\"순서4\",근무!G277,IF(달력!$S$27=\"순서5\",근무!H277,IF(달력!$S$27=\"순서6\",근무!I277,\"\"))))))","v":"야간"},{"$f":"IF(달력!$S$28=\"순서1\",근무!D277,IF(달력!$S$28=\"순서2\",근무!E277,IF(달력!$S$28=\"순서3\",근무!F277,IF(달력!$S$28=\"순서4\",근무!G277,IF(달력!$S$28=\"순서5\",근무!H277,IF(달력!$S$28=\"순서6\",근무!I277,\"\"))))))","v":"비번"},{"$f":"IF(달력!$S$29=\"순서1\",근무!D277,IF(달력!$S$29=\"순서2\",근무!E277,IF(달력!$S$29=\"순서3\",근무!F277,IF(달력!$S$29=\"순서4\",근무!G277,IF(달력!$S$29=\"순서5\",근무!H277,IF(달력!$S$29=\"순서6\",근무!I277,\"\"))))))","v":"비번"}]
[null,"2023-09-29","금",{"$f":"IF(달력!$S$24=\"순서1\",근무!D278,IF(달력!$S$24=\"순서2\",근무!E278,IF(달력!$S$24=\"순서3\",근무!F278,IF(달력!$S$24=\"순서4\",근무!G278,IF(달력!$S$24=\"순서5\",근무!H278,IF(달력!$S$24=\"순서6\",근무!I278,\"\"))))))","v":"주간"},{"$f":"IF(달력!$S$25=\"순서1\",근무!D278,IF(달력!$S$25=\"순서2\",근무!E278,IF(달력!$S$25=\"순서3\",근무!F278,IF(달력!$S$25=\"순서4\",근무!G278,IF(달력!$S$25=\"순서5\",근무!H278,IF(달력!$S$25=\"순서6\",근무!I278,\"\"))))))","v":"주간"},{"$f":"IF(달력!$S$26=\"순서1\",근무!D278,IF(달력!$S$26=\"순서2\",근무!E278,IF(달력!$S$26=\"순서3\",근무!F278,IF(달력!$S$26=\"순서4\",근무!G278,IF(달력!$S$26=\"순서5\",근무!H278,IF(달력!$S$26=\"순서6\",근무!I278,\"\"))))))","v":"야간"},{"$f":"IF(달력!$S$27=\"순서1\",근무!D278,IF(달력!$S$27=\"순서2\",근무!E278,IF(달력!$S$27=\"순서3\",근무!F278,IF(달력!$S$27=\"순서4\",근무!G278,IF(달력!$S$27=\"순서5\",근무!H278,IF(달력!$S$27=\"순서6\",근무!I278,\"\"))))))","v":"야간"},{"$f":"IF(달력!$S$28=\"순서1\",근무!D278,IF(달력!$S$28=\"순서2\",근무!E278,IF(달력!$S$28=\"순서3\",근무!F278,IF(달력!$S$28=\"순서4\",근무!G278,IF(달력!$S$28=\"순서5\",근무!H278,IF(달력!$S$28=\"순서6\",근무!I278,\"\"))))))","v":"비번"},{"$f":"IF(달력!$S$29=\"순서1\",근무!D278,IF(달력!$S$29=\"순서2\",근무!E278,IF(달력!$S$29=\"순서3\",근무!F278,IF(달력!$S$29=\"순서4\",근무!G278,IF(달력!$S$29=\"순서5\",근무!H278,IF(달력!$S$29=\"순서6\",근무!I278,\"\"))))))","v":"비번"}]
[null,"2023-09-30","토",{"$f":"IF(달력!$S$24=\"순서1\",근무!D279,IF(달력!$S$24=\"순서2\",근무!E279,IF(달력!$S$24=\"순서3\",근무!F279,IF(달력!$S$24=\"순서4\",근무!G279,IF(달력!$S$24=\"순서5\",근무!H279,IF(달력!$S$24=\"순서6\",근무!I279,\"\"))))))","v":"야간"},{"$f":"IF(달력!$S$25=\"순서1\",근무!D279,IF(달력!$S$25=\"순서2\",근무!E279,IF(달력!$S$25=\"순서3\",근무!F279,IF(달력!$S$25=\"순서4\",근무!G279,IF(달력!$S$25=\"순서5\",근무!H279,IF(달력!$S$25=\"순서6\",근무!I279,\"\"))))))","v":"야간"},{"$f":"IF(달력!$S$26=\"순서1\",근무!D279,IF(달력!$S$26=\"순서2\",근무!E279,IF(달력!$S$26=\"순서3\",근무!F279,IF(달력!$S$26=\"순서4\",근무!G279,IF(달력!$S$26=\"순서5\",근무!H279,IF(달력!$S$26=\"순서6\",근무!I279,\"\"))))))","v":"비번"},{"$f":"IF(달력!$S$27=\"순서1\",근무!D279,IF(달력!$S$27=\"순서2\",근무!E279,IF(달력!$S$27=\"순서3\",근무!F279,IF(달력!$S$27=\"순서4\",근무!G279,IF(달력!$S$27=\"순서5\",근무!H279,IF(달력!$S$27=\"순서6\",근무!I279,\"\"))))))","v":"비번"},{"$f":"IF(달력!$S$28=\"순서1\",근무!D279,IF(달력!$S$28=\"순서2\",근무!E279,IF(달력!$S$28=\"순서3\",근무!F279,IF(달력!$S$28=\"순서4\",근무!G279,IF(달력!$S$28=\"순서5\",근무!H279,IF(달력!$S$28=\"순서6\",근무!I279,\"\"))))))","v":"주간"},{"$f":"IF(달력!$S$29=\"순서1\",근무!D279,IF(달력!$S$29=\"순서2\",근무!E279,IF(달력!$S$29=\"순서3\",근무!F279,IF(달력!$S$29=\"순서4\",근무!G279,IF(달력!$S$29=\"순서5\",근무!H279,IF(달력!$S$29=\"순서6\",근무!I279,\"\"))))))","v":"주간"}]
[null,"2023-10-01","일",{"$f":"IF(달력!$S$24=\"순서1\",근무!D280,IF(달력!$S$24=\"순서2\",근무!E280,IF(달력!$S$24=\"순서3\",근무!F280,IF(달력!$S$24=\"순서4\",근무!G280,IF(달력!$S$24=\"순서5\",근무!H280,IF(달력!$S$24=\"순서6\",근무!I280,\"\"))))))","v":"야간"},{"$f":"IF(달력!$S$25=\"순서1\",근무!D280,IF(달력!$S$25=\"순서2\",근무!E280,IF(달력!$S$25=\"순서3\",근무!F280,IF(달력!$S$25=\"순서4\",근무!G280,IF(달력!$S$25=\"순서5\",근무!H280,IF(달력!$S$25=\"순서6\",근무!I280,\"\"))))))","v":"야간"},{"$f":"IF(달력!$S$26=\"순서1\",근무!D280,IF(달력!$S$26=\"순서2\",근무!E280,IF(달력!$S$26=\"순서3\",근무!F280,IF(달력!$S$26=\"순서4\",근무!G280,IF(달력!$S$26=\"순서5\",근무!H280,IF(달력!$S$26=\"순서6\",근무!I280,\"\"))))))","v":"비번"},{"$f":"IF(달력!$S$27=\"순서1\",근무!D280,IF(달력!$S$27=\"순서2\",근무!E280,IF(달력!$S$27=\"순서3\",근무!F280,IF(달력!$S$27=\"순서4\",근무!G280,IF(달력!$S$27=\"순서5\",근무!H280,IF(달력!$S$27=\"순서6\",근무!I280,\"\"))))))","v":"비번"},{"$f":"IF(달력!$S$28=\"순서1\",근무!D280,IF(달력!$S$28=\"순서2\",근무!E280,IF(달력!$S$28=\"순서3\",근무!F280,IF(달력!$S$28=\"순서4\",근무!G280,IF(달력!$S$28=\"순서5\",근무!H280,IF(달력!$S$28=\"순서6\",근무!I280,\"\"))))))","v":"주간"},{"$f":"IF(달력!$S$29=\"순서1\",근무!D280,IF(달력!$S$29=\"순서2\",근무!E280,IF(달력!$S$29=\"순서3\",근무!F280,IF(달력!$S$29=\"순서4\",근무!G280,IF(달력!$S$29=\"순서5\",근무!H280,IF(달력!$S$29=\"순서6\",근무!I280,\"\"))))))","v":"주간"}]
[null,"2023-10-02","월",{"$f":"IF(달력!$S$24=\"순서1\",근무!D281,IF(달력!$S$24=\"순서2\",근무!E281,IF(달력!$S$24=\"순서3\",근무!F281,IF(달력!$S$24=\"순서4\",근무!G281,IF(달력!$S$24=\"순서5\",근무!H281,IF(달력!$S$24=\"순서6\",근무!I281,\"\"))))))","v":"비번"},{"$f":"IF(달력!$S$25=\"순서1\",근무!D281,IF(달력!$S$25=\"순서2\",근무!E281,IF(달력!$S$25=\"순서3\",근무!F281,IF(달력!$S$25=\"순서4\",근무!G281,IF(달력!$S$25=\"순서5\",근무!H281,IF(달력!$S$25=\"순서6\",근무!I281,\"\"))))))","v":"비번"},{"$f":"IF(달력!$S$26=\"순서1\",근무!D281,IF(달력!$S$26=\"순서2\",근무!E281,IF(달력!$S$26=\"순서3\",근무!F281,IF(달력!$S$26=\"순서4\",근무!G281,IF(달력!$S$26=\"순서5\",근무!H281,IF(달력!$S$26=\"순서6\",근무!I281,\"\"))))))","v":"주간"},{"$f":"IF(달력!$S$27=\"순서1\",근무!D281,IF(달력!$S$27=\"순서2\",근무!E281,IF(달력!$S$27=\"순서3\",근무!F281,IF(달력!$S$27=\"순서4\",근무!G281,IF(달력!$S$27=\"순서5\",근무!H281,IF(달력!$S$27=\"순서6\",근무!I281,\"\"))))))","v":"주간"},{"$f":"IF(달력!$S$28=\"순서1\",근무!D281,IF(달력!$S$28=\"순서2\",근무!E281,IF(달력!$S$28=\"순서3\",근무!F281,IF(달력!$S$28=\"순서4\",근무!G281,IF(달력!$S$28=\"순서5\",근무!H281,IF(달력!$S$28=\"순서6\",근무!I281,\"\"))))))","v":"야간"},{"$f":"IF(달력!$S$29=\"순서1\",근무!D281,IF(달력!$S$29=\"순서2\",근무!E281,IF(달력!$S$29=\"순서3\",근무!F281,IF(달력!$S$29=\"순서4\",근무!G281,IF(달력!$S$29=\"순서5\",근무!H281,IF(달력!$S$29=\"순서6\",근무!I281,\"\"))))))","v":"야간"}]
[null,"2023-10-03","화",{"$f":"IF(달력!$S$24=\"순서1\",근무!D282,IF(달력!$S$24=\"순서2\",근무!E282,IF(달력!$S$24=\"순서3\",근무!F282,IF(달력!$S$24=\"순서4\",근무!G282,IF(달력!$S$24=\"순서5\",근무!H282,IF(달력!$S$24=\"순서6\",근무!I282,\"\"))))))","v":"비번"},{"$f":"IF(달력!$S$25=\"순서1\",근무!D282,IF(달력!$S$25=\"순서2\",근무!E282,IF(달력!$S$25=\"순서3\",근무!F282,IF(달력!$S$25=\"순서4\",근무!G282,IF(달력!$S$25=\"순서5\",근무!H282,IF(달력!$S$25=\"순서6\",근무!I282,\"\"))))))","v":"비번"},{"$f":"IF(달력!$S$26=\"순서1\",근무!D282,IF(달력!$S$26=\"순서2\",근무!E282,IF(달력!$S$26=\"순서3\",근무!F282,IF(달력!$S$26=\"순서4\",근무!G282,IF(달력!$S$26=\"순서5\",근무!H282,IF(달력!$S$26=\"순서6\",근무!I282,\"\"))))))","v":"주간"},{"$f":"IF(달력!$S$27=\"순서1\",근무!D282,IF(달력!$S$27=\"순서2\",근무!E282,IF(달력!$S$27=\"순서3\",근무!F282,IF(달력!$S$27=\"순서4\",근무!G282,IF(달력!$S$27=\"순서5\",근무!H282,IF(달력!$S$27=\"순서6\",근무!I282,\"\"))))))","v":"주간"},{"$f":"IF(달력!$S$28=\"순서1\",근무!D282,IF(달력!$S$28=\"순서2\",근무!E282,IF(달력!$S$28=\"순서3\",근무!F282,IF(달력!$S$28=\"순서4\",근무!G282,IF(달력!$S$28=\"순서5\",근무!H282,IF(달력!$S$28=\"순서6\",근무!I282,\"\"))))))","v":"야간"},{"$f":"IF(달력!$S$29=\"순서1\",근무!D282,IF(달력!$S$29=\"순서2\",근무!E282,IF(달력!$S$29=\"순서3\",근무!F282,IF(달력!$S$29=\"순서4\",근무!G282,IF(달력!$S$29=\"순서5\",근무!H282,IF(달력!$S$29=\"순서6\",근무!I282,\"\"))))))","v":"야간"}]
[null,"2023-10-04","수",{"$f":"IF(달력!$S$24=\"순서1\",근무!D283,IF(달력!$S$24=\"순서2\",근무!E283,IF(달력!$S$24=\"순서3\",근무!F283,IF(달력!$S$24=\"순서4\",근무!G283,IF(달력!$S$24=\"순서5\",근무!H283,IF(달력!$S$24=\"순서6\",근무!I283,\"\"))))))","v":"주간"},{"$f":"IF(달력!$S$25=\"순서1\",근무!D283,IF(달력!$S$25=\"순서2\",근무!E283,IF(달력!$S$25=\"순서3\",근무!F283,IF(달력!$S$25=\"순서4\",근무!G283,IF(달력!$S$25=\"순서5\",근무!H283,IF(달력!$S$25=\"순서6\",근무!I283,\"\"))))))","v":"주간"},{"$f":"IF(달력!$S$26=\"순서1\",근무!D283,IF(달력!$S$26=\"순서2\",근무!E283,IF(달력!$S$26=\"순서3\",근무!F283,IF(달력!$S$26=\"순서4\",근무!G283,IF(달력!$S$26=\"순서5\",근무!H283,IF(달력!$S$26=\"순서6\",근무!I283,\"\"))))))","v":"야간"},{"$f":"IF(달력!$S$27=\"순서1\",근무!D283,IF(달력!$S$27=\"순서2\",근무!E283,IF(달력!$S$27=\"순서3\",근무!F283,IF(달력!$S$27=\"순서4\",근무!G283,IF(달력!$S$27=\"순서5\",근무!H283,IF(달력!$S$27=\"순서6\",근무!I283,\"\"))))))","v":"야간"},{"$f":"IF(달력!$S$28=\"순서1\",근무!D283,IF(달력!$S$28=\"순서2\",근무!E283,IF(달력!$S$28=\"순서3\",근무!F283,IF(달력!$S$28=\"순서4\",근무!G283,IF(달력!$S$28=\"순서5\",근무!H283,IF(달력!$S$28=\"순서6\",근무!I283,\"\"))))))","v":"비번"},{"$f":"IF(달력!$S$29=\"순서1\",근무!D283,IF(달력!$S$29=\"순서2\",근무!E283,IF(달력!$S$29=\"순서3\",근무!F283,IF(달력!$S$29=\"순서4\",근무!G283,IF(달력!$S$29=\"순서5\",근무!H283,IF(달력!$S$29=\"순서6\",근무!I283,\"\"))))))","v":"비번"}]
[null,"2023-10-05","목",{"$f":"IF(달력!$S$24=\"순서1\",근무!D284,IF(달력!$S$24=\"순서2\",근무!E284,IF(달력!$S$24=\"순서3\",근무!F284,IF(달력!$S$24=\"순서4\",근무!G284,IF(달력!$S$24=\"순서5\",근무!H284,IF(달력!$S$24=\"순서6\",근무!I284,\"\"))))))","v":"주간"},{"$f":"IF(달력!$S$25=\"순서1\",근무!D284,IF(달력!$S$25=\"순서2\",근무!E284,IF(달력!$S$25=\"순서3\",근무!F284,IF(달력!$S$25=\"순서4\",근무!G284,IF(달력!$S$25=\"순서5\",근무!H284,IF(달력!$S$25=\"순서6\",근무!I284,\"\"))))))","v":"주간"},{"$f":"IF(달력!$S$26=\"순서1\",근무!D284,IF(달력!$S$26=\"순서2\",근무!E284,IF(달력!$S$26=\"순서3\",근무!F284,IF(달력!$S$26=\"순서4\",근무!G284,IF(달력!$S$26=\"순서5\",근무!H284,IF(달력!$S$26=\"순서6\",근무!I284,\"\"))))))","v":"야간"},{"$f":"IF(달력!$S$27=\"순서1\",근무!D284,IF(달력!$S$27=\"순서2\",근무!E284,IF(달력!$S$27=\"순서3\",근무!F284,IF(달력!$S$27=\"순서4\",근무!G284,IF(달력!$S$27=\"순서5\",근무!H284,IF(달력!$S$27=\"순서6\",근무!I284,\"\"))))))","v":"야간"},{"$f":"IF(달력!$S$28=\"순서1\",근무!D284,IF(달력!$S$28=\"순서2\",근무!E284,IF(달력!$S$28=\"순서3\",근무!F284,IF(달력!$S$28=\"순서4\",근무!G284,IF(달력!$S$28=\"순서5\",근무!H284,IF(달력!$S$28=\"순서6\",근무!I284,\"\"))))))","v":"비번"},{"$f":"IF(달력!$S$29=\"순서1\",근무!D284,IF(달력!$S$29=\"순서2\",근무!E284,IF(달력!$S$29=\"순서3\",근무!F284,IF(달력!$S$29=\"순서4\",근무!G284,IF(달력!$S$29=\"순서5\",근무!H284,IF(달력!$S$29=\"순서6\",근무!I284,\"\"))))))","v":"비번"}]
[null,"2023-10-06","금",{"$f":"IF(달력!$S$24=\"순서1\",근무!D285,IF(달력!$S$24=\"순서2\",근무!E285,IF(달력!$S$24=\"순서3\",근무!F285,IF(달력!$S$24=\"순서4\",근무!G285,IF(달력!$S$24=\"순서5\",근무!H285,IF(달력!$S$24=\"순서6\",근무!I285,\"\"))))))","v":"야간"},{"$f":"IF(달력!$S$25=\"순서1\",근무!D285,IF(달력!$S$25=\"순서2\",근무!E285,IF(달력!$S$25=\"순서3\",근무!F285,IF(달력!$S$25=\"순서4\",근무!G285,IF(달력!$S$25=\"순서5\",근무!H285,IF(달력!$S$25=\"순서6\",근무!I285,\"\"))))))","v":"야간"},{"$f":"IF(달력!$S$26=\"순서1\",근무!D285,IF(달력!$S$26=\"순서2\",근무!E285,IF(달력!$S$26=\"순서3\",근무!F285,IF(달력!$S$26=\"순서4\",근무!G285,IF(달력!$S$26=\"순서5\",근무!H285,IF(달력!$S$26=\"순서6\",근무!I285,\"\"))))))","v":"비번"},{"$f":"IF(달력!$S$27=\"순서1\",근무!D285,IF(달력!$S$27=\"순서2\",근무!E285,IF(달력!$S$27=\"순서3\",근무!F285,IF(달력!$S$27=\"순서4\",근무!G285,IF(달력!$S$27=\"순서5\",근무!H285,IF(달력!$S$27=\"순서6\",근무!I285,\"\"))))))","v":"비번"},{"$f":"IF(달력!$S$28=\"순서1\",근무!D285,IF(달력!$S$28=\"순서2\",근무!E285,IF(달력!$S$28=\"순서3\",근무!F285,IF(달력!$S$28=\"순서4\",근무!G285,IF(달력!$S$28=\"순서5\",근무!H285,IF(달력!$S$28=\"순서6\",근무!I285,\"\"))))))","v":"주간"},{"$f":"IF(달력!$S$29=\"순서1\",근무!D285,IF(달력!$S$29=\"순서2\",근무!E285,IF(달력!$S$29=\"순서3\",근무!F285,IF(달력!$S$29=\"순서4\",근무!G285,IF(달력!$S$29=\"순서5\",근무!H285,IF(달력!$S$29=\"순서6\",근무!I285,\"\"))))))","v":"주간"}]
[null,"2023-10-07","토",{"$f":"IF(달력!$S$24=\"순서1\",근무!D286,IF(달력!$S$24=\"순서2\",근무!E286,IF(달력!$S$24=\"순서3\",근무!F286,IF(달력!$S$24=\"순서4\",근무!G286,IF(달력!$S$24=\"순서5\",근무!H286,IF(달력!$S$24=\"순서6\",근무!I286,\"\"))))))","v":"야간"},{"$f":"IF(달력!$S$25=\"순서1\",근무!D286,IF(달력!$S$25=\"순서2\",근무!E286,IF(달력!$S$25=\"순서3\",근무!F286,IF(달력!$S$25=\"순서4\",근무!G286,IF(달력!$S$25=\"순서5\",근무!H286,IF(달력!$S$25=\"순서6\",근무!I286,\"\"))))))","v":"야간"},{"$f":"IF(달력!$S$26=\"순서1\",근무!D286,IF(달력!$S$26=\"순서2\",근무!E286,IF(달력!$S$26=\"순서3\",근무!F286,IF(달력!$S$26=\"순서4\",근무!G286,IF(달력!$S$26=\"순서5\",근무!H286,IF(달력!$S$26=\"순서6\",근무!I286,\"\"))))))","v":"비번"},{"$f":"IF(달력!$S$27=\"순서1\",근무!D286,IF(달력!$S$27=\"순서2\",근무!E286,IF(달력!$S$27=\"순서3\",근무!F286,IF(달력!$S$27=\"순서4\",근무!G286,IF(달력!$S$27=\"순서5\",근무!H286,IF(달력!$S$27=\"순서6\",근무!I286,\"\"))))))","v":"비번"},{"$f":"IF(달력!$S$28=\"순서1\",근무!D286,IF(달력!$S$28=\"순서2\",근무!E286,IF(달력!$S$28=\"순서3\",근무!F286,IF(달력!$S$28=\"순서4\",근무!G286,IF(달력!$S$28=\"순서5\",근무!H286,IF(달력!$S$28=\"순서6\",근무!I286,\"\"))))))","v":"주간"},{"$f":"IF(달력!$S$29=\"순서1\",근무!D286,IF(달력!$S$29=\"순서2\",근무!E286,IF(달력!$S$29=\"순서3\",근무!F286,IF(달력!$S$29=\"순서4\",근무!G286,IF(달력!$S$29=\"순서5\",근무!H286,IF(달력!$S$29=\"순서6\",근무!I286,\"\"))))))","v":"주간"}]
[null,"2023-10-08","일",{"$f":"IF(달력!$S$24=\"순서1\",근무!D287,IF(달력!$S$24=\"순서2\",근무!E287,IF(달력!$S$24=\"순서3\",근무!F287,IF(달력!$S$24=\"순서4\",근무!G287,IF(달력!$S$24=\"순서5\",근무!H287,IF(달력!$S$24=\"순서6\",근무!I287,\"\"))))))","v":"비번"},{"$f":"IF(달력!$S$25=\"순서1\",근무!D287,IF(달력!$S$25=\"순서2\",근무!E287,IF(달력!$S$25=\"순서3\",근무!F287,IF(달력!$S$25=\"순서4\",근무!G287,IF(달력!$S$25=\"순서5\",근무!H287,IF(달력!$S$25=\"순서6\",근무!I287,\"\"))))))","v":"비번"},{"$f":"IF(달력!$S$26=\"순서1\",근무!D287,IF(달력!$S$26=\"순서2\",근무!E287,IF(달력!$S$26=\"순서3\",근무!F287,IF(달력!$S$26=\"순서4\",근무!G287,IF(달력!$S$26=\"순서5\",근무!H287,IF(달력!$S$26=\"순서6\",근무!I287,\"\"))))))","v":"주간"},{"$f":"IF(달력!$S$27=\"순서1\",근무!D287,IF(달력!$S$27=\"순서2\",근무!E287,IF(달력!$S$27=\"순서3\",근무!F287,IF(달력!$S$27=\"순서4\",근무!G287,IF(달력!$S$27=\"순서5\",근무!H287,IF(달력!$S$27=\"순서6\",근무!I287,\"\"))))))","v":"주간"},{"$f":"IF(달력!$S$28=\"순서1\",근무!D287,IF(달력!$S$28=\"순서2\",근무!E287,IF(달력!$S$28=\"순서3\",근무!F287,IF(달력!$S$28=\"순서4\",근무!G287,IF(달력!$S$28=\"순서5\",근무!H287,IF(달력!$S$28=\"순서6\",근무!I287,\"\"))))))","v":"야간"},{"$f":"IF(달력!$S$29=\"순서1\",근무!D287,IF(달력!$S$29=\"순서2\",근무!E287,IF(달력!$S$29=\"순서3\",근무!F287,IF(달력!$S$29=\"순서4\",근무!G287,IF(달력!$S$29=\"순서5\",근무!H287,IF(달력!$S$29=\"순서6\",근무!I287,\"\"))))))","v":"야간"}]
[null,"2023-10-09","월",{"$f":"IF(달력!$S$24=\"순서1\",근무!D288,IF(달력!$S$24=\"순서2\",근무!E288,IF(달력!$S$24=\"순서3\",근무!F288,IF(달력!$S$24=\"순서4\",근무!G288,IF(달력!$S$24=\"순서5\",근무!H288,IF(달력!$S$24=\"순서6\",근무!I288,\"\"))))))","v":"비번"},{"$f":"IF(달력!$S$25=\"순서1\",근무!D288,IF(달력!$S$25=\"순서2\",근무!E288,IF(달력!$S$25=\"순서3\",근무!F288,IF(달력!$S$25=\"순서4\",근무!G288,IF(달력!$S$25=\"순서5\",근무!H288,IF(달력!$S$25=\"순서6\",근무!I288,\"\"))))))","v":"비번"},{"$f":"IF(달력!$S$26=\"순서1\",근무!D288,IF(달력!$S$26=\"순서2\",근무!E288,IF(달력!$S$26=\"순서3\",근무!F288,IF(달력!$S$26=\"순서4\",근무!G288,IF(달력!$S$26=\"순서5\",근무!H288,IF(달력!$S$26=\"순서6\",근무!I288,\"\"))))))","v":"주간"},{"$f":"IF(달력!$S$27=\"순서1\",근무!D288,IF(달력!$S$27=\"순서2\",근무!E288,IF(달력!$S$27=\"순서3\",근무!F288,IF(달력!$S$27=\"순서4\",근무!G288,IF(달력!$S$27=\"순서5\",근무!H288,IF(달력!$S$27=\"순서6\",근무!I288,\"\"))))))","v":"주간"},{"$f":"IF(달력!$S$28=\"순서1\",근무!D288,IF(달력!$S$28=\"순서2\",근무!E288,IF(달력!$S$28=\"순서3\",근무!F288,IF(달력!$S$28=\"순서4\",근무!G288,IF(달력!$S$28=\"순서5\",근무!H288,IF(달력!$S$28=\"순서6\",근무!I288,\"\"))))))","v":"야간"},{"$f":"IF(달력!$S$29=\"순서1\",근무!D288,IF(달력!$S$29=\"순서2\",근무!E288,IF(달력!$S$29=\"순서3\",근무!F288,IF(달력!$S$29=\"순서4\",근무!G288,IF(달력!$S$29=\"순서5\",근무!H288,IF(달력!$S$29=\"순서6\",근무!I288,\"\"))))))","v":"야간"}]
[null,"2023-10-10","화",{"$f":"IF(달력!$S$24=\"순서1\",근무!D289,IF(달력!$S$24=\"순서2\",근무!E289,IF(달력!$S$24=\"순서3\",근무!F289,IF(달력!$S$24=\"순서4\",근무!G289,IF(달력!$S$24=\"순서5\",근무!H289,IF(달력!$S$24=\"순서6\",근무!I289,\"\"))))))","v":"주간"},{"$f":"IF(달력!$S$25=\"순서1\",근무!D289,IF(달력!$S$25=\"순서2\",근무!E289,IF(달력!$S$25=\"순서3\",근무!F289,IF(달력!$S$25=\"순서4\",근무!G289,IF(달력!$S$25=\"순서5\",근무!H289,IF(달력!$S$25=\"순서6\",근무!I289,\"\"))))))","v":"주간"},{"$f":"IF(달력!$S$26=\"순서1\",근무!D289,IF(달력!$S$26=\"순서2\",근무!E289,IF(달력!$S$26=\"순서3\",근무!F289,IF(달력!$S$26=\"순서4\",근무!G289,IF(달력!$S$26=\"순서5\",근무!H289,IF(달력!$S$26=\"순서6\",근무!I289,\"\"))))))","v":"야간"},{"$f":"IF(달력!$S$27=\"순서1\",근무!D289,IF(달력!$S$27=\"순서2\",근무!E289,IF(달력!$S$27=\"순서3\",근무!F289,IF(달력!$S$27=\"순서4\",근무!G289,IF(달력!$S$27=\"순서5\",근무!H289,IF(달력!$S$27=\"순서6\",근무!I289,\"\"))))))","v":"야간"},{"$f":"IF(달력!$S$28=\"순서1\",근무!D289,IF(달력!$S$28=\"순서2\",근무!E289,IF(달력!$S$28=\"순서3\",근무!F289,IF(달력!$S$28=\"순서4\",근무!G289,IF(달력!$S$28=\"순서5\",근무!H289,IF(달력!$S$28=\"순서6\",근무!I289,\"\"))))))","v":"비번"},{"$f":"IF(달력!$S$29=\"순서1\",근무!D289,IF(달력!$S$29=\"순서2\",근무!E289,IF(달력!$S$29=\"순서3\",근무!F289,IF(달력!$S$29=\"순서4\",근무!G289,IF(달력!$S$29=\"순서5\",근무!H289,IF(달력!$S$29=\"순서6\",근무!I289,\"\"))))))","v":"비번"}]
[null,"2023-10-11","수",{"$f":"IF(달력!$S$24=\"순서1\",근무!D290,IF(달력!$S$24=\"순서2\",근무!E290,IF(달력!$S$24=\"순서3\",근무!F290,IF(달력!$S$24=\"순서4\",근무!G290,IF(달력!$S$24=\"순서5\",근무!H290,IF(달력!$S$24=\"순서6\",근무!I290,\"\"))))))","v":"주간"},{"$f":"IF(달력!$S$25=\"순서1\",근무!D290,IF(달력!$S$25=\"순서2\",근무!E290,IF(달력!$S$25=\"순서3\",근무!F290,IF(달력!$S$25=\"순서4\",근무!G290,IF(달력!$S$25=\"순서5\",근무!H290,IF(달력!$S$25=\"순서6\",근무!I290,\"\"))))))","v":"주간"},{"$f":"IF(달력!$S$26=\"순서1\",근무!D290,IF(달력!$S$26=\"순서2\",근무!E290,IF(달력!$S$26=\"순서3\",근무!F290,IF(달력!$S$26=\"순서4\",근무!G290,IF(달력!$S$26=\"순서5\",근무!H290,IF(달력!$S$26=\"순서6\",근무!I290,\"\"))))))","v":"야간"},{"$f":"IF(달력!$S$27=\"순서1\",근무!D290,IF(달력!$S$27=\"순서2\",근무!E290,IF(달력!$S$27=\"순서3\",근무!F290,IF(달력!$S$27=\"순서4\",근무!G290,IF(달력!$S$27=\"순서5\",근무!H290,IF(달력!$S$27=\"순서6\",근무!I290,\"\"))))))","v":"야간"},{"$f":"IF(달력!$S$28=\"순서1\",근무!D290,IF(달력!$S$28=\"순서2\",근무!E290,IF(달력!$S$28=\"순서3\",근무!F290,IF(달력!$S$28=\"순서4\",근무!G290,IF(달력!$S$28=\"순서5\",근무!H290,IF(달력!$S$28=\"순서6\",근무!I290,\"\"))))))","v":"비번"},{"$f":"IF(달력!$S$29=\"순서1\",근무!D290,IF(달력!$S$29=\"순서2\",근무!E290,IF(달력!$S$29=\"순서3\",근무!F290,IF(달력!$S$29=\"순서4\",근무!G290,IF(달력!$S$29=\"순서5\",근무!H290,IF(달력!$S$29=\"순서6\",근무!I290,\"\"))))))","v":"비번"}]
[null,"2023-10-12","목",{"$f":"IF(달력!$S$24=\"순서1\",근무!D291,IF(달력!$S$24=\"순서2\",근무!E291,IF(달력!$S$24=\"순서3\",근무!F291,IF(달력!$S$24=\"순서4\",근무!G291,IF(달력!$S$24=\"순서5\",근무!H291,IF(달력!$S$24=\"순서6\",근무!I291,\"\"))))))","v":"야간"},{"$f":"IF(달력!$S$25=\"순서1\",근무!D291,IF(달력!$S$25=\"순서2\",근무!E291,IF(달력!$S$25=\"순서3\",근무!F291,IF(달력!$S$25=\"순서4\",근무!G291,IF(달력!$S$25=\"순서5\",근무!H291,IF(달력!$S$25=\"순서6\",근무!I291,\"\"))))))","v":"야간"},{"$f":"IF(달력!$S$26=\"순서1\",근무!D291,IF(달력!$S$26=\"순서2\",근무!E291,IF(달력!$S$26=\"순서3\",근무!F291,IF(달력!$S$26=\"순서4\",근무!G291,IF(달력!$S$26=\"순서5\",근무!H291,IF(달력!$S$26=\"순서6\",근무!I291,\"\"))))))","v":"비번"},{"$f":"IF(달력!$S$27=\"순서1\",근무!D291,IF(달력!$S$27=\"순서2\",근무!E291,IF(달력!$S$27=\"순서3\",근무!F291,IF(달력!$S$27=\"순서4\",근무!G291,IF(달력!$S$27=\"순서5\",근무!H291,IF(달력!$S$27=\"순서6\",근무!I291,\"\"))))))","v":"비번"},{"$f":"IF(달력!$S$28=\"순서1\",근무!D291,IF(달력!$S$28=\"순서2\",근무!E291,IF(달력!$S$28=\"순서3\",근무!F291,IF(달력!$S$28=\"순서4\",근무!G291,IF(달력!$S$28=\"순서5\",근무!H291,IF(달력!$S$28=\"순서6\",근무!I291,\"\"))))))","v":"주간"},{"$f":"IF(달력!$S$29=\"순서1\",근무!D291,IF(달력!$S$29=\"순서2\",근무!E291,IF(달력!$S$29=\"순서3\",근무!F291,IF(달력!$S$29=\"순서4\",근무!G291,IF(달력!$S$29=\"순서5\",근무!H291,IF(달력!$S$29=\"순서6\",근무!I291,\"\"))))))","v":"주간"}]
[null,"2023-10-13","금",{"$f":"IF(달력!$S$24=\"순서1\",근무!D292,IF(달력!$S$24=\"순서2\",근무!E292,IF(달력!$S$24=\"순서3\",근무!F292,IF(달력!$S$24=\"순서4\",근무!G292,IF(달력!$S$24=\"순서5\",근무!H292,IF(달력!$S$24=\"순서6\",근무!I292,\"\"))))))","v":"야간"},{"$f":"IF(달력!$S$25=\"순서1\",근무!D292,IF(달력!$S$25=\"순서2\",근무!E292,IF(달력!$S$25=\"순서3\",근무!F292,IF(달력!$S$25=\"순서4\",근무!G292,IF(달력!$S$25=\"순서5\",근무!H292,IF(달력!$S$25=\"순서6\",근무!I292,\"\"))))))","v":"야간"},{"$f":"IF(달력!$S$26=\"순서1\",근무!D292,IF(달력!$S$26=\"순서2\",근무!E292,IF(달력!$S$26=\"순서3\",근무!F292,IF(달력!$S$26=\"순서4\",근무!G292,IF(달력!$S$26=\"순서5\",근무!H292,IF(달력!$S$26=\"순서6\",근무!I292,\"\"))))))","v":"비번"},{"$f":"IF(달력!$S$27=\"순서1\",근무!D292,IF(달력!$S$27=\"순서2\",근무!E292,IF(달력!$S$27=\"순서3\",근무!F292,IF(달력!$S$27=\"순서4\",근무!G292,IF(달력!$S$27=\"순서5\",근무!H292,IF(달력!$S$27=\"순서6\",근무!I292,\"\"))))))","v":"비번"},{"$f":"IF(달력!$S$28=\"순서1\",근무!D292,IF(달력!$S$28=\"순서2\",근무!E292,IF(달력!$S$28=\"순서3\",근무!F292,IF(달력!$S$28=\"순서4\",근무!G292,IF(달력!$S$28=\"순서5\",근무!H292,IF(달력!$S$28=\"순서6\",근무!I292,\"\"))))))","v":"주간"},{"$f":"IF(달력!$S$29=\"순서1\",근무!D292,IF(달력!$S$29=\"순서2\",근무!E292,IF(달력!$S$29=\"순서3\",근무!F292,IF(달력!$S$29=\"순서4\",근무!G292,IF(달력!$S$29=\"순서5\",근무!H292,IF(달력!$S$29=\"순서6\",근무!I292,\"\"))))))","v":"주간"}]
[null,"2023-10-14","토",{"$f":"IF(달력!$S$24=\"순서1\",근무!D293,IF(달력!$S$24=\"순서2\",근무!E293,IF(달력!$S$24=\"순서3\",근무!F293,IF(달력!$S$24=\"순서4\",근무!G293,IF(달력!$S$24=\"순서5\",근무!H293,IF(달력!$S$24=\"순서6\",근무!I293,\"\"))))))","v":"비번"},{"$f":"IF(달력!$S$25=\"순서1\",근무!D293,IF(달력!$S$25=\"순서2\",근무!E293,IF(달력!$S$25=\"순서3\",근무!F293,IF(달력!$S$25=\"순서4\",근무!G293,IF(달력!$S$25=\"순서5\",근무!H293,IF(달력!$S$25=\"순서6\",근무!I293,\"\"))))))","v":"비번"},{"$f":"IF(달력!$S$26=\"순서1\",근무!D293,IF(달력!$S$26=\"순서2\",근무!E293,IF(달력!$S$26=\"순서3\",근무!F293,IF(달력!$S$26=\"순서4\",근무!G293,IF(달력!$S$26=\"순서5\",근무!H293,IF(달력!$S$26=\"순서6\",근무!I293,\"\"))))))","v":"주간"},{"$f":"IF(달력!$S$27=\"순서1\",근무!D293,IF(달력!$S$27=\"순서2\",근무!E293,IF(달력!$S$27=\"순서3\",근무!F293,IF(달력!$S$27=\"순서4\",근무!G293,IF(달력!$S$27=\"순서5\",근무!H293,IF(달력!$S$27=\"순서6\",근무!I293,\"\"))))))","v":"주간"},{"$f":"IF(달력!$S$28=\"순서1\",근무!D293,IF(달력!$S$28=\"순서2\",근무!E293,IF(달력!$S$28=\"순서3\",근무!F293,IF(달력!$S$28=\"순서4\",근무!G293,IF(달력!$S$28=\"순서5\",근무!H293,IF(달력!$S$28=\"순서6\",근무!I293,\"\"))))))","v":"야간"},{"$f":"IF(달력!$S$29=\"순서1\",근무!D293,IF(달력!$S$29=\"순서2\",근무!E293,IF(달력!$S$29=\"순서3\",근무!F293,IF(달력!$S$29=\"순서4\",근무!G293,IF(달력!$S$29=\"순서5\",근무!H293,IF(달력!$S$29=\"순서6\",근무!I293,\"\"))))))","v":"야간"}]
[null,"2023-10-15","일",{"$f":"IF(달력!$S$24=\"순서1\",근무!D294,IF(달력!$S$24=\"순서2\",근무!E294,IF(달력!$S$24=\"순서3\",근무!F294,IF(달력!$S$24=\"순서4\",근무!G294,IF(달력!$S$24=\"순서5\",근무!H294,IF(달력!$S$24=\"순서6\",근무!I294,\"\"))))))","v":"비번"},{"$f":"IF(달력!$S$25=\"순서1\",근무!D294,IF(달력!$S$25=\"순서2\",근무!E294,IF(달력!$S$25=\"순서3\",근무!F294,IF(달력!$S$25=\"순서4\",근무!G294,IF(달력!$S$25=\"순서5\",근무!H294,IF(달력!$S$25=\"순서6\",근무!I294,\"\"))))))","v":"비번"},{"$f":"IF(달력!$S$26=\"순서1\",근무!D294,IF(달력!$S$26=\"순서2\",근무!E294,IF(달력!$S$26=\"순서3\",근무!F294,IF(달력!$S$26=\"순서4\",근무!G294,IF(달력!$S$26=\"순서5\",근무!H294,IF(달력!$S$26=\"순서6\",근무!I294,\"\"))))))","v":"주간"},{"$f":"IF(달력!$S$27=\"순서1\",근무!D294,IF(달력!$S$27=\"순서2\",근무!E294,IF(달력!$S$27=\"순서3\",근무!F294,IF(달력!$S$27=\"순서4\",근무!G294,IF(달력!$S$27=\"순서5\",근무!H294,IF(달력!$S$27=\"순서6\",근무!I294,\"\"))))))","v":"주간"},{"$f":"IF(달력!$S$28=\"순서1\",근무!D294,IF(달력!$S$28=\"순서2\",근무!E294,IF(달력!$S$28=\"순서3\",근무!F294,IF(달력!$S$28=\"순서4\",근무!G294,IF(달력!$S$28=\"순서5\",근무!H294,IF(달력!$S$28=\"순서6\",근무!I294,\"\"))))))","v":"야간"},{"$f":"IF(달력!$S$29=\"순서1\",근무!D294,IF(달력!$S$29=\"순서2\",근무!E294,IF(달력!$S$29=\"순서3\",근무!F294,IF(달력!$S$29=\"순서4\",근무!G294,IF(달력!$S$29=\"순서5\",근무!H294,IF(달력!$S$29=\"순서6\",근무!I294,\"\"))))))","v":"야간"}]
[null,"2023-10-16","월",{"$f":"IF(달력!$S$24=\"순서1\",근무!D295,IF(달력!$S$24=\"순서2\",근무!E295,IF(달력!$S$24=\"순서3\",근무!F295,IF(달력!$S$24=\"순서4\",근무!G295,IF(달력!$S$24=\"순서5\",근무!H295,IF(달력!$S$24=\"순서6\",근무!I295,\"\"))))))","v":"주간"},{"$f":"IF(달력!$S$25=\"순서1\",근무!D295,IF(달력!$S$25=\"순서2\",근무!E295,IF(달력!$S$25=\"순서3\",근무!F295,IF(달력!$S$25=\"순서4\",근무!G295,IF(달력!$S$25=\"순서5\",근무!H295,IF(달력!$S$25=\"순서6\",근무!I295,\"\"))))))","v":"주간"},{"$f":"IF(달력!$S$26=\"순서1\",근무!D295,IF(달력!$S$26=\"순서2\",근무!E295,IF(달력!$S$26=\"순서3\",근무!F295,IF(달력!$S$26=\"순서4\",근무!G295,IF(달력!$S$26=\"순서5\",근무!H295,IF(달력!$S$26=\"순서6\",근무!I295,\"\"))))))","v":"야간"},{"$f":"IF(달력!$S$27=\"순서1\",근무!D295,IF(달력!$S$27=\"순서2\",근무!E295,IF(달력!$S$27=\"순서3\",근무!F295,IF(달력!$S$27=\"순서4\",근무!G295,IF(달력!$S$27=\"순서5\",근무!H295,IF(달력!$S$27=\"순서6\",근무!I295,\"\"))))))","v":"야간"},{"$f":"IF(달력!$S$28=\"순서1\",근무!D295,IF(달력!$S$28=\"순서2\",근무!E295,IF(달력!$S$28=\"순서3\",근무!F295,IF(달력!$S$28=\"순서4\",근무!G295,IF(달력!$S$28=\"순서5\",근무!H295,IF(달력!$S$28=\"순서6\",근무!I295,\"\"))))))","v":"비번"},{"$f":"IF(달력!$S$29=\"순서1\",근무!D295,IF(달력!$S$29=\"순서2\",근무!E295,IF(달력!$S$29=\"순서3\",근무!F295,IF(달력!$S$29=\"순서4\",근무!G295,IF(달력!$S$29=\"순서5\",근무!H295,IF(달력!$S$29=\"순서6\",근무!I295,\"\"))))))","v":"비번"}]
[null,"2023-10-17","화",{"$f":"IF(달력!$S$24=\"순서1\",근무!D296,IF(달력!$S$24=\"순서2\",근무!E296,IF(달력!$S$24=\"순서3\",근무!F296,IF(달력!$S$24=\"순서4\",근무!G296,IF(달력!$S$24=\"순서5\",근무!H296,IF(달력!$S$24=\"순서6\",근무!I296,\"\"))))))","v":"주간"},{"$f":"IF(달력!$S$25=\"순서1\",근무!D296,IF(달력!$S$25=\"순서2\",근무!E296,IF(달력!$S$25=\"순서3\",근무!F296,IF(달력!$S$25=\"순서4\",근무!G296,IF(달력!$S$25=\"순서5\",근무!H296,IF(달력!$S$25=\"순서6\",근무!I296,\"\"))))))","v":"주간"},{"$f":"IF(달력!$S$26=\"순서1\",근무!D296,IF(달력!$S$26=\"순서2\",근무!E296,IF(달력!$S$26=\"순서3\",근무!F296,IF(달력!$S$26=\"순서4\",근무!G296,IF(달력!$S$26=\"순서5\",근무!H296,IF(달력!$S$26=\"순서6\",근무!I296,\"\"))))))","v":"야간"},{"$f":"IF(달력!$S$27=\"순서1\",근무!D296,IF(달력!$S$27=\"순서2\",근무!E296,IF(달력!$S$27=\"순서3\",근무!F296,IF(달력!$S$27=\"순서4\",근무!G296,IF(달력!$S$27=\"순서5\",근무!H296,IF(달력!$S$27=\"순서6\",근무!I296,\"\"))))))","v":"야간"},{"$f":"IF(달력!$S$28=\"순서1\",근무!D296,IF(달력!$S$28=\"순서2\",근무!E296,IF(달력!$S$28=\"순서3\",근무!F296,IF(달력!$S$28=\"순서4\",근무!G296,IF(달력!$S$28=\"순서5\",근무!H296,IF(달력!$S$28=\"순서6\",근무!I296,\"\"))))))","v":"비번"},{"$f":"IF(달력!$S$29=\"순서1\",근무!D296,IF(달력!$S$29=\"순서2\",근무!E296,IF(달력!$S$29=\"순서3\",근무!F296,IF(달력!$S$29=\"순서4\",근무!G296,IF(달력!$S$29=\"순서5\",근무!H296,IF(달력!$S$29=\"순서6\",근무!I296,\"\"))))))","v":"비번"}]
[null,"2023-10-18","수",{"$f":"IF(달력!$S$24=\"순서1\",근무!D297,IF(달력!$S$24=\"순서2\",근무!E297,IF(달력!$S$24=\"순서3\",근무!F297,IF(달력!$S$24=\"순서4\",근무!G297,IF(달력!$S$24=\"순서5\",근무!H297,IF(달력!$S$24=\"순서6\",근무!I297,\"\"))))))","v":"야간"},{"$f":"IF(달력!$S$25=\"순서1\",근무!D297,IF(달력!$S$25=\"순서2\",근무!E297,IF(달력!$S$25=\"순서3\",근무!F297,IF(달력!$S$25=\"순서4\",근무!G297,IF(달력!$S$25=\"순서5\",근무!H297,IF(달력!$S$25=\"순서6\",근무!I297,\"\"))))))","v":"야간"},{"$f":"IF(달력!$S$26=\"순서1\",근무!D297,IF(달력!$S$26=\"순서2\",근무!E297,IF(달력!$S$26=\"순서3\",근무!F297,IF(달력!$S$26=\"순서4\",근무!G297,IF(달력!$S$26=\"순서5\",근무!H297,IF(달력!$S$26=\"순서6\",근무!I297,\"\"))))))","v":"비번"},{"$f":"IF(달력!$S$27=\"순서1\",근무!D297,IF(달력!$S$27=\"순서2\",근무!E297,IF(달력!$S$27=\"순서3\",근무!F297,IF(달력!$S$27=\"순서4\",근무!G297,IF(달력!$S$27=\"순서5\",근무!H297,IF(달력!$S$27=\"순서6\",근무!I297,\"\"))))))","v":"비번"},{"$f":"IF(달력!$S$28=\"순서1\",근무!D297,IF(달력!$S$28=\"순서2\",근무!E297,IF(달력!$S$28=\"순서3\",근무!F297,IF(달력!$S$28=\"순서4\",근무!G297,IF(달력!$S$28=\"순서5\",근무!H297,IF(달력!$S$28=\"순서6\",근무!I297,\"\"))))))","v":"주간"},{"$f":"IF(달력!$S$29=\"순서1\",근무!D297,IF(달력!$S$29=\"순서2\",근무!E297,IF(달력!$S$29=\"순서3\",근무!F297,IF(달력!$S$29=\"순서4\",근무!G297,IF(달력!$S$29=\"순서5\",근무!H297,IF(달력!$S$29=\"순서6\",근무!I297,\"\"))))))","v":"주간"}]
[null,"2023-10-19","목",{"$f":"IF(달력!$S$24=\"순서1\",근무!D298,IF(달력!$S$24=\"순서2\",근무!E298,IF(달력!$S$24=\"순서3\",근무!F298,IF(달력!$S$24=\"순서4\",근무!G298,IF(달력!$S$24=\"순서5\",근무!H298,IF(달력!$S$24=\"순서6\",근무!I298,\"\"))))))","v":"야간"},{"$f":"IF(달력!$S$25=\"순서1\",근무!D298,IF(달력!$S$25=\"순서2\",근무!E298,IF(달력!$S$25=\"순서3\",근무!F298,IF(달력!$S$25=\"순서4\",근무!G298,IF(달력!$S$25=\"순서5\",근무!H298,IF(달력!$S$25=\"순서6\",근무!I298,\"\"))))))","v":"야간"},{"$f":"IF(달력!$S$26=\"순서1\",근무!D298,IF(달력!$S$26=\"순서2\",근무!E298,IF(달력!$S$26=\"순서3\",근무!F298,IF(달력!$S$26=\"순서4\",근무!G298,IF(달력!$S$26=\"순서5\",근무!H298,IF(달력!$S$26=\"순서6\",근무!I298,\"\"))))))","v":"비번"},{"$f":"IF(달력!$S$27=\"순서1\",근무!D298,IF(달력!$S$27=\"순서2\",근무!E298,IF(달력!$S$27=\"순서3\",근무!F298,IF(달력!$S$27=\"순서4\",근무!G298,IF(달력!$S$27=\"순서5\",근무!H298,IF(달력!$S$27=\"순서6\",근무!I298,\"\"))))))","v":"비번"},{"$f":"IF(달력!$S$28=\"순서1\",근무!D298,IF(달력!$S$28=\"순서2\",근무!E298,IF(달력!$S$28=\"순서3\",근무!F298,IF(달력!$S$28=\"순서4\",근무!G298,IF(달력!$S$28=\"순서5\",근무!H298,IF(달력!$S$28=\"순서6\",근무!I298,\"\"))))))","v":"주간"},{"$f":"IF(달력!$S$29=\"순서1\",근무!D298,IF(달력!$S$29=\"순서2\",근무!E298,IF(달력!$S$29=\"순서3\",근무!F298,IF(달력!$S$29=\"순서4\",근무!G298,IF(달력!$S$29=\"순서5\",근무!H298,IF(달력!$S$29=\"순서6\",근무!I298,\"\"))))))","v":"주간"}]
[null,"2023-10-20","금",{"$f":"IF(달력!$S$24=\"순서1\",근무!D299,IF(달력!$S$24=\"순서2\",근무!E299,IF(달력!$S$24=\"순서3\",근무!F299,IF(달력!$S$24=\"순서4\",근무!G299,IF(달력!$S$24=\"순서5\",근무!H299,IF(달력!$S$24=\"순서6\",근무!I299,\"\"))))))","v":"비번"},{"$f":"IF(달력!$S$25=\"순서1\",근무!D299,IF(달력!$S$25=\"순서2\",근무!E299,IF(달력!$S$25=\"순서3\",근무!F299,IF(달력!$S$25=\"순서4\",근무!G299,IF(달력!$S$25=\"순서5\",근무!H299,IF(달력!$S$25=\"순서6\",근무!I299,\"\"))))))","v":"비번"},{"$f":"IF(달력!$S$26=\"순서1\",근무!D299,IF(달력!$S$26=\"순서2\",근무!E299,IF(달력!$S$26=\"순서3\",근무!F299,IF(달력!$S$26=\"순서4\",근무!G299,IF(달력!$S$26=\"순서5\",근무!H299,IF(달력!$S$26=\"순서6\",근무!I299,\"\"))))))","v":"주간"},{"$f":"IF(달력!$S$27=\"순서1\",근무!D299,IF(달력!$S$27=\"순서2\",근무!E299,IF(달력!$S$27=\"순서3\",근무!F299,IF(달력!$S$27=\"순서4\",근무!G299,IF(달력!$S$27=\"순서5\",근무!H299,IF(달력!$S$27=\"순서6\",근무!I299,\"\"))))))","v":"주간"},{"$f":"IF(달력!$S$28=\"순서1\",근무!D299,IF(달력!$S$28=\"순서2\",근무!E299,IF(달력!$S$28=\"순서3\",근무!F299,IF(달력!$S$28=\"순서4\",근무!G299,IF(달력!$S$28=\"순서5\",근무!H299,IF(달력!$S$28=\"순서6\",근무!I299,\"\"))))))","v":"야간"},{"$f":"IF(달력!$S$29=\"순서1\",근무!D299,IF(달력!$S$29=\"순서2\",근무!E299,IF(달력!$S$29=\"순서3\",근무!F299,IF(달력!$S$29=\"순서4\",근무!G299,IF(달력!$S$29=\"순서5\",근무!H299,IF(달력!$S$29=\"순서6\",근무!I299,\"\"))))))","v":"야간"}]
[null,"2023-10-21","토",{"$f":"IF(달력!$S$24=\"순서1\",근무!D300,IF(달력!$S$24=\"순서2\",근무!E300,IF(달력!$S$24=\"순서3\",근무!F300,IF(달력!$S$24=\"순서4\",근무!G300,IF(달력!$S$24=\"순서5\",근무!H300,IF(달력!$S$24=\"순서6\",근무!I300,\"\"))))))","v":"비번"},{"$f":"IF(달력!$S$25=\"순서1\",근무!D300,IF(달력!$S$25=\"순서2\",근무!E300,IF(달력!$S$25=\"순서3\",근무!F300,IF(달력!$S$25=\"순서4\",근무!G300,IF(달력!$S$25=\"순서5\",근무!H300,IF(달력!$S$25=\"순서6\",근무!I300,\"\"))))))","v":"비번"},{"$f":"IF(달력!$S$26=\"순서1\",근무!D300,IF(달력!$S$26=\"순서2\",근무!E300,IF(달력!$S$26=\"순서3\",근무!F300,IF(달력!$S$26=\"순서4\",근무!G300,IF(달력!$S$26=\"순서5\",근무!H300,IF(달력!$S$26=\"순서6\",근무!I300,\"\"))))))","v":"주간"},{"$f":"IF(달력!$S$27=\"순서1\",근무!D300,IF(달력!$S$27=\"순서2\",근무!E300,IF(달력!$S$27=\"순서3\",근무!F300,IF(달력!$S$27=\"순서4\",근무!G300,IF(달력!$S$27=\"순서5\",근무!H300,IF(달력!$S$27=\"순서6\",근무!I300,\"\"))))))","v":"주간"},{"$f":"IF(달력!$S$28=\"순서1\",근무!D300,IF(달력!$S$28=\"순서2\",근무!E300,IF(달력!$S$28=\"순서3\",근무!F300,IF(달력!$S$28=\"순서4\",근무!G300,IF(달력!$S$28=\"순서5\",근무!H300,IF(달력!$S$28=\"순서6\",근무!I300,\"\"))))))","v":"야간"},{"$f":"IF(달력!$S$29=\"순서1\",근무!D300,IF(달력!$S$29=\"순서2\",근무!E300,IF(달력!$S$29=\"순서3\",근무!F300,IF(달력!$S$29=\"순서4\",근무!G300,IF(달력!$S$29=\"순서5\",근무!H300,IF(달력!$S$29=\"순서6\",근무!I300,\"\"))))))","v":"야간"}]
[null,"2023-10-22","일",{"$f":"IF(달력!$S$24=\"순서1\",근무!D301,IF(달력!$S$24=\"순서2\",근무!E301,IF(달력!$S$24=\"순서3\",근무!F301,IF(달력!$S$24=\"순서4\",근무!G301,IF(달력!$S$24=\"순서5\",근무!H301,IF(달력!$S$24=\"순서6\",근무!I301,\"\"))))))","v":"주간"},{"$f":"IF(달력!$S$25=\"순서1\",근무!D301,IF(달력!$S$25=\"순서2\",근무!E301,IF(달력!$S$25=\"순서3\",근무!F301,IF(달력!$S$25=\"순서4\",근무!G301,IF(달력!$S$25=\"순서5\",근무!H301,IF(달력!$S$25=\"순서6\",근무!I301,\"\"))))))","v":"주간"},{"$f":"IF(달력!$S$26=\"순서1\",근무!D301,IF(달력!$S$26=\"순서2\",근무!E301,IF(달력!$S$26=\"순서3\",근무!F301,IF(달력!$S$26=\"순서4\",근무!G301,IF(달력!$S$26=\"순서5\",근무!H301,IF(달력!$S$26=\"순서6\",근무!I301,\"\"))))))","v":"야간"},{"$f":"IF(달력!$S$27=\"순서1\",근무!D301,IF(달력!$S$27=\"순서2\",근무!E301,IF(달력!$S$27=\"순서3\",근무!F301,IF(달력!$S$27=\"순서4\",근무!G301,IF(달력!$S$27=\"순서5\",근무!H301,IF(달력!$S$27=\"순서6\",근무!I301,\"\"))))))","v":"야간"},{"$f":"IF(달력!$S$28=\"순서1\",근무!D301,IF(달력!$S$28=\"순서2\",근무!E301,IF(달력!$S$28=\"순서3\",근무!F301,IF(달력!$S$28=\"순서4\",근무!G301,IF(달력!$S$28=\"순서5\",근무!H301,IF(달력!$S$28=\"순서6\",근무!I301,\"\"))))))","v":"비번"},{"$f":"IF(달력!$S$29=\"순서1\",근무!D301,IF(달력!$S$29=\"순서2\",근무!E301,IF(달력!$S$29=\"순서3\",근무!F301,IF(달력!$S$29=\"순서4\",근무!G301,IF(달력!$S$29=\"순서5\",근무!H301,IF(달력!$S$29=\"순서6\",근무!I301,\"\"))))))","v":"비번"}]
[null,"2023-10-23","월",{"$f":"IF(달력!$S$24=\"순서1\",근무!D302,IF(달력!$S$24=\"순서2\",근무!E302,IF(달력!$S$24=\"순서3\",근무!F302,IF(달력!$S$24=\"순서4\",근무!G302,IF(달력!$S$24=\"순서5\",근무!H302,IF(달력!$S$24=\"순서6\",근무!I302,\"\"))))))","v":"주간"},{"$f":"IF(달력!$S$25=\"순서1\",근무!D302,IF(달력!$S$25=\"순서2\",근무!E302,IF(달력!$S$25=\"순서3\",근무!F302,IF(달력!$S$25=\"순서4\",근무!G302,IF(달력!$S$25=\"순서5\",근무!H302,IF(달력!$S$25=\"순서6\",근무!I302,\"\"))))))","v":"주간"},{"$f":"IF(달력!$S$26=\"순서1\",근무!D302,IF(달력!$S$26=\"순서2\",근무!E302,IF(달력!$S$26=\"순서3\",근무!F302,IF(달력!$S$26=\"순서4\",근무!G302,IF(달력!$S$26=\"순서5\",근무!H302,IF(달력!$S$26=\"순서6\",근무!I302,\"\"))))))","v":"야간"},{"$f":"IF(달력!$S$27=\"순서1\",근무!D302,IF(달력!$S$27=\"순서2\",근무!E302,IF(달력!$S$27=\"순서3\",근무!F302,IF(달력!$S$27=\"순서4\",근무!G302,IF(달력!$S$27=\"순서5\",근무!H302,IF(달력!$S$27=\"순서6\",근무!I302,\"\"))))))","v":"야간"},{"$f":"IF(달력!$S$28=\"순서1\",근무!D302,IF(달력!$S$28=\"순서2\",근무!E302,IF(달력!$S$28=\"순서3\",근무!F302,IF(달력!$S$28=\"순서4\",근무!G302,IF(달력!$S$28=\"순서5\",근무!H302,IF(달력!$S$28=\"순서6\",근무!I302,\"\"))))))","v":"비번"},{"$f":"IF(달력!$S$29=\"순서1\",근무!D302,IF(달력!$S$29=\"순서2\",근무!E302,IF(달력!$S$29=\"순서3\",근무!F302,IF(달력!$S$29=\"순서4\",근무!G302,IF(달력!$S$29=\"순서5\",근무!H302,IF(달력!$S$29=\"순서6\",근무!I302,\"\"))))))","v":"비번"}]
[null,"2023-10-24","화",{"$f":"IF(달력!$S$24=\"순서1\",근무!D303,IF(달력!$S$24=\"순서2\",근무!E303,IF(달력!$S$24=\"순서3\",근무!F303,IF(달력!$S$24=\"순서4\",근무!G303,IF(달력!$S$24=\"순서5\",근무!H303,IF(달력!$S$24=\"순서6\",근무!I303,\"\"))))))","v":"야간"},{"$f":"IF(달력!$S$25=\"순서1\",근무!D303,IF(달력!$S$25=\"순서2\",근무!E303,IF(달력!$S$25=\"순서3\",근무!F303,IF(달력!$S$25=\"순서4\",근무!G303,IF(달력!$S$25=\"순서5\",근무!H303,IF(달력!$S$25=\"순서6\",근무!I303,\"\"))))))","v":"야간"},{"$f":"IF(달력!$S$26=\"순서1\",근무!D303,IF(달력!$S$26=\"순서2\",근무!E303,IF(달력!$S$26=\"순서3\",근무!F303,IF(달력!$S$26=\"순서4\",근무!G303,IF(달력!$S$26=\"순서5\",근무!H303,IF(달력!$S$26=\"순서6\",근무!I303,\"\"))))))","v":"비번"},{"$f":"IF(달력!$S$27=\"순서1\",근무!D303,IF(달력!$S$27=\"순서2\",근무!E303,IF(달력!$S$27=\"순서3\",근무!F303,IF(달력!$S$27=\"순서4\",근무!G303,IF(달력!$S$27=\"순서5\",근무!H303,IF(달력!$S$27=\"순서6\",근무!I303,\"\"))))))","v":"비번"},{"$f":"IF(달력!$S$28=\"순서1\",근무!D303,IF(달력!$S$28=\"순서2\",근무!E303,IF(달력!$S$28=\"순서3\",근무!F303,IF(달력!$S$28=\"순서4\",근무!G303,IF(달력!$S$28=\"순서5\",근무!H303,IF(달력!$S$28=\"순서6\",근무!I303,\"\"))))))","v":"주간"},{"$f":"IF(달력!$S$29=\"순서1\",근무!D303,IF(달력!$S$29=\"순서2\",근무!E303,IF(달력!$S$29=\"순서3\",근무!F303,IF(달력!$S$29=\"순서4\",근무!G303,IF(달력!$S$29=\"순서5\",근무!H303,IF(달력!$S$29=\"순서6\",근무!I303,\"\"))))))","v":"주간"}]
[null,"2023-10-25","수",{"$f":"IF(달력!$S$24=\"순서1\",근무!D304,IF(달력!$S$24=\"순서2\",근무!E304,IF(달력!$S$24=\"순서3\",근무!F304,IF(달력!$S$24=\"순서4\",근무!G304,IF(달력!$S$24=\"순서5\",근무!H304,IF(달력!$S$24=\"순서6\",근무!I304,\"\"))))))","v":"야간"},{"$f":"IF(달력!$S$25=\"순서1\",근무!D304,IF(달력!$S$25=\"순서2\",근무!E304,IF(달력!$S$25=\"순서3\",근무!F304,IF(달력!$S$25=\"순서4\",근무!G304,IF(달력!$S$25=\"순서5\",근무!H304,IF(달력!$S$25=\"순서6\",근무!I304,\"\"))))))","v":"야간"},{"$f":"IF(달력!$S$26=\"순서1\",근무!D304,IF(달력!$S$26=\"순서2\",근무!E304,IF(달력!$S$26=\"순서3\",근무!F304,IF(달력!$S$26=\"순서4\",근무!G304,IF(달력!$S$26=\"순서5\",근무!H304,IF(달력!$S$26=\"순서6\",근무!I304,\"\"))))))","v":"비번"},{"$f":"IF(달력!$S$27=\"순서1\",근무!D304,IF(달력!$S$27=\"순서2\",근무!E304,IF(달력!$S$27=\"순서3\",근무!F304,IF(달력!$S$27=\"순서4\",근무!G304,IF(달력!$S$27=\"순서5\",근무!H304,IF(달력!$S$27=\"순서6\",근무!I304,\"\"))))))","v":"비번"},{"$f":"IF(달력!$S$28=\"순서1\",근무!D304,IF(달력!$S$28=\"순서2\",근무!E304,IF(달력!$S$28=\"순서3\",근무!F304,IF(달력!$S$28=\"순서4\",근무!G304,IF(달력!$S$28=\"순서5\",근무!H304,IF(달력!$S$28=\"순서6\",근무!I304,\"\"))))))","v":"주간"},{"$f":"IF(달력!$S$29=\"순서1\",근무!D304,IF(달력!$S$29=\"순서2\",근무!E304,IF(달력!$S$29=\"순서3\",근무!F304,IF(달력!$S$29=\"순서4\",근무!G304,IF(달력!$S$29=\"순서5\",근무!H304,IF(달력!$S$29=\"순서6\",근무!I304,\"\"))))))","v":"주간"}]
[null,"2023-10-26","목",{"$f":"IF(달력!$S$24=\"순서1\",근무!D305,IF(달력!$S$24=\"순서2\",근무!E305,IF(달력!$S$24=\"순서3\",근무!F305,IF(달력!$S$24=\"순서4\",근무!G305,IF(달력!$S$24=\"순서5\",근무!H305,IF(달력!$S$24=\"순서6\",근무!I305,\"\"))))))","v":"비번"},{"$f":"IF(달력!$S$25=\"순서1\",근무!D305,IF(달력!$S$25=\"순서2\",근무!E305,IF(달력!$S$25=\"순서3\",근무!F305,IF(달력!$S$25=\"순서4\",근무!G305,IF(달력!$S$25=\"순서5\",근무!H305,IF(달력!$S$25=\"순서6\",근무!I305,\"\"))))))","v":"비번"},{"$f":"IF(달력!$S$26=\"순서1\",근무!D305,IF(달력!$S$26=\"순서2\",근무!E305,IF(달력!$S$26=\"순서3\",근무!F305,IF(달력!$S$26=\"순서4\",근무!G305,IF(달력!$S$26=\"순서5\",근무!H305,IF(달력!$S$26=\"순서6\",근무!I305,\"\"))))))","v":"주간"},{"$f":"IF(달력!$S$27=\"순서1\",근무!D305,IF(달력!$S$27=\"순서2\",근무!E305,IF(달력!$S$27=\"순서3\",근무!F305,IF(달력!$S$27=\"순서4\",근무!G305,IF(달력!$S$27=\"순서5\",근무!H305,IF(달력!$S$27=\"순서6\",근무!I305,\"\"))))))","v":"주간"},{"$f":"IF(달력!$S$28=\"순서1\",근무!D305,IF(달력!$S$28=\"순서2\",근무!E305,IF(달력!$S$28=\"순서3\",근무!F305,IF(달력!$S$28=\"순서4\",근무!G305,IF(달력!$S$28=\"순서5\",근무!H305,IF(달력!$S$28=\"순서6\",근무!I305,\"\"))))))","v":"야간"},{"$f":"IF(달력!$S$29=\"순서1\",근무!D305,IF(달력!$S$29=\"순서2\",근무!E305,IF(달력!$S$29=\"순서3\",근무!F305,IF(달력!$S$29=\"순서4\",근무!G305,IF(달력!$S$29=\"순서5\",근무!H305,IF(달력!$S$29=\"순서6\",근무!I305,\"\"))))))","v":"야간"}]
[null,"2023-10-27","금",{"$f":"IF(달력!$S$24=\"순서1\",근무!D306,IF(달력!$S$24=\"순서2\",근무!E306,IF(달력!$S$24=\"순서3\",근무!F306,IF(달력!$S$24=\"순서4\",근무!G306,IF(달력!$S$24=\"순서5\",근무!H306,IF(달력!$S$24=\"순서6\",근무!I306,\"\"))))))","v":"비번"},{"$f":"IF(달력!$S$25=\"순서1\",근무!D306,IF(달력!$S$25=\"순서2\",근무!E306,IF(달력!$S$25=\"순서3\",근무!F306,IF(달력!$S$25=\"순서4\",근무!G306,IF(달력!$S$25=\"순서5\",근무!H306,IF(달력!$S$25=\"순서6\",근무!I306,\"\"))))))","v":"비번"},{"$f":"IF(달력!$S$26=\"순서1\",근무!D306,IF(달력!$S$26=\"순서2\",근무!E306,IF(달력!$S$26=\"순서3\",근무!F306,IF(달력!$S$26=\"순서4\",근무!G306,IF(달력!$S$26=\"순서5\",근무!H306,IF(달력!$S$26=\"순서6\",근무!I306,\"\"))))))","v":"주간"},{"$f":"IF(달력!$S$27=\"순서1\",근무!D306,IF(달력!$S$27=\"순서2\",근무!E306,IF(달력!$S$27=\"순서3\",근무!F306,IF(달력!$S$27=\"순서4\",근무!G306,IF(달력!$S$27=\"순서5\",근무!H306,IF(달력!$S$27=\"순서6\",근무!I306,\"\"))))))","v":"주간"},{"$f":"IF(달력!$S$28=\"순서1\",근무!D306,IF(달력!$S$28=\"순서2\",근무!E306,IF(달력!$S$28=\"순서3\",근무!F306,IF(달력!$S$28=\"순서4\",근무!G306,IF(달력!$S$28=\"순서5\",근무!H306,IF(달력!$S$28=\"순서6\",근무!I306,\"\"))))))","v":"야간"},{"$f":"IF(달력!$S$29=\"순서1\",근무!D306,IF(달력!$S$29=\"순서2\",근무!E306,IF(달력!$S$29=\"순서3\",근무!F306,IF(달력!$S$29=\"순서4\",근무!G306,IF(달력!$S$29=\"순서5\",근무!H306,IF(달력!$S$29=\"순서6\",근무!I306,\"\"))))))","v":"야간"}]
[null,"2023-10-28","토",{"$f":"IF(달력!$S$24=\"순서1\",근무!D307,IF(달력!$S$24=\"순서2\",근무!E307,IF(달력!$S$24=\"순서3\",근무!F307,IF(달력!$S$24=\"순서4\",근무!G307,IF(달력!$S$24=\"순서5\",근무!H307,IF(달력!$S$24=\"순서6\",근무!I307,\"\"))))))","v":"주간"},{"$f":"IF(달력!$S$25=\"순서1\",근무!D307,IF(달력!$S$25=\"순서2\",근무!E307,IF(달력!$S$25=\"순서3\",근무!F307,IF(달력!$S$25=\"순서4\",근무!G307,IF(달력!$S$25=\"순서5\",근무!H307,IF(달력!$S$25=\"순서6\",근무!I307,\"\"))))))","v":"주간"},{"$f":"IF(달력!$S$26=\"순서1\",근무!D307,IF(달력!$S$26=\"순서2\",근무!E307,IF(달력!$S$26=\"순서3\",근무!F307,IF(달력!$S$26=\"순서4\",근무!G307,IF(달력!$S$26=\"순서5\",근무!H307,IF(달력!$S$26=\"순서6\",근무!I307,\"\"))))))","v":"야간"},{"$f":"IF(달력!$S$27=\"순서1\",근무!D307,IF(달력!$S$27=\"순서2\",근무!E307,IF(달력!$S$27=\"순서3\",근무!F307,IF(달력!$S$27=\"순서4\",근무!G307,IF(달력!$S$27=\"순서5\",근무!H307,IF(달력!$S$27=\"순서6\",근무!I307,\"\"))))))","v":"야간"},{"$f":"IF(달력!$S$28=\"순서1\",근무!D307,IF(달력!$S$28=\"순서2\",근무!E307,IF(달력!$S$28=\"순서3\",근무!F307,IF(달력!$S$28=\"순서4\",근무!G307,IF(달력!$S$28=\"순서5\",근무!H307,IF(달력!$S$28=\"순서6\",근무!I307,\"\"))))))","v":"비번"},{"$f":"IF(달력!$S$29=\"순서1\",근무!D307,IF(달력!$S$29=\"순서2\",근무!E307,IF(달력!$S$29=\"순서3\",근무!F307,IF(달력!$S$29=\"순서4\",근무!G307,IF(달력!$S$29=\"순서5\",근무!H307,IF(달력!$S$29=\"순서6\",근무!I307,\"\"))))))","v":"비번"}]
[null,"2023-10-29","일",{"$f":"IF(달력!$S$24=\"순서1\",근무!D308,IF(달력!$S$24=\"순서2\",근무!E308,IF(달력!$S$24=\"순서3\",근무!F308,IF(달력!$S$24=\"순서4\",근무!G308,IF(달력!$S$24=\"순서5\",근무!H308,IF(달력!$S$24=\"순서6\",근무!I308,\"\"))))))","v":"주간"},{"$f":"IF(달력!$S$25=\"순서1\",근무!D308,IF(달력!$S$25=\"순서2\",근무!E308,IF(달력!$S$25=\"순서3\",근무!F308,IF(달력!$S$25=\"순서4\",근무!G308,IF(달력!$S$25=\"순서5\",근무!H308,IF(달력!$S$25=\"순서6\",근무!I308,\"\"))))))","v":"주간"},{"$f":"IF(달력!$S$26=\"순서1\",근무!D308,IF(달력!$S$26=\"순서2\",근무!E308,IF(달력!$S$26=\"순서3\",근무!F308,IF(달력!$S$26=\"순서4\",근무!G308,IF(달력!$S$26=\"순서5\",근무!H308,IF(달력!$S$26=\"순서6\",근무!I308,\"\"))))))","v":"야간"},{"$f":"IF(달력!$S$27=\"순서1\",근무!D308,IF(달력!$S$27=\"순서2\",근무!E308,IF(달력!$S$27=\"순서3\",근무!F308,IF(달력!$S$27=\"순서4\",근무!G308,IF(달력!$S$27=\"순서5\",근무!H308,IF(달력!$S$27=\"순서6\",근무!I308,\"\"))))))","v":"야간"},{"$f":"IF(달력!$S$28=\"순서1\",근무!D308,IF(달력!$S$28=\"순서2\",근무!E308,IF(달력!$S$28=\"순서3\",근무!F308,IF(달력!$S$28=\"순서4\",근무!G308,IF(달력!$S$28=\"순서5\",근무!H308,IF(달력!$S$28=\"순서6\",근무!I308,\"\"))))))","v":"비번"},{"$f":"IF(달력!$S$29=\"순서1\",근무!D308,IF(달력!$S$29=\"순서2\",근무!E308,IF(달력!$S$29=\"순서3\",근무!F308,IF(달력!$S$29=\"순서4\",근무!G308,IF(달력!$S$29=\"순서5\",근무!H308,IF(달력!$S$29=\"순서6\",근무!I308,\"\"))))))","v":"비번"}]
[null,"2023-10-30","월",{"$f":"IF(달력!$S$24=\"순서1\",근무!D309,IF(달력!$S$24=\"순서2\",근무!E309,IF(달력!$S$24=\"순서3\",근무!F309,IF(달력!$S$24=\"순서4\",근무!G309,IF(달력!$S$24=\"순서5\",근무!H309,IF(달력!$S$24=\"순서6\",근무!I309,\"\"))))))","v":"야간"},{"$f":"IF(달력!$S$25=\"순서1\",근무!D309,IF(달력!$S$25=\"순서2\",근무!E309,IF(달력!$S$25=\"순서3\",근무!F309,IF(달력!$S$25=\"순서4\",근무!G309,IF(달력!$S$25=\"순서5\",근무!H309,IF(달력!$S$25=\"순서6\",근무!I309,\"\"))))))","v":"야간"},{"$f":"IF(달력!$S$26=\"순서1\",근무!D309,IF(달력!$S$26=\"순서2\",근무!E309,IF(달력!$S$26=\"순서3\",근무!F309,IF(달력!$S$26=\"순서4\",근무!G309,IF(달력!$S$26=\"순서5\",근무!H309,IF(달력!$S$26=\"순서6\",근무!I309,\"\"))))))","v":"비번"},{"$f":"IF(달력!$S$27=\"순서1\",근무!D309,IF(달력!$S$27=\"순서2\",근무!E309,IF(달력!$S$27=\"순서3\",근무!F309,IF(달력!$S$27=\"순서4\",근무!G309,IF(달력!$S$27=\"순서5\",근무!H309,IF(달력!$S$27=\"순서6\",근무!I309,\"\"))))))","v":"비번"},{"$f":"IF(달력!$S$28=\"순서1\",근무!D309,IF(달력!$S$28=\"순서2\",근무!E309,IF(달력!$S$28=\"순서3\",근무!F309,IF(달력!$S$28=\"순서4\",근무!G309,IF(달력!$S$28=\"순서5\",근무!H309,IF(달력!$S$28=\"순서6\",근무!I309,\"\"))))))","v":"주간"},{"$f":"IF(달력!$S$29=\"순서1\",근무!D309,IF(달력!$S$29=\"순서2\",근무!E309,IF(달력!$S$29=\"순서3\",근무!F309,IF(달력!$S$29=\"순서4\",근무!G309,IF(달력!$S$29=\"순서5\",근무!H309,IF(달력!$S$29=\"순서6\",근무!I309,\"\"))))))","v":"주간"}]
[null,"2023-10-31","화",{"$f":"IF(달력!$S$24=\"순서1\",근무!D310,IF(달력!$S$24=\"순서2\",근무!E310,IF(달력!$S$24=\"순서3\",근무!F310,IF(달력!$S$24=\"순서4\",근무!G310,IF(달력!$S$24=\"순서5\",근무!H310,IF(달력!$S$24=\"순서6\",근무!I310,\"\"))))))","v":"야간"},{"$f":"IF(달력!$S$25=\"순서1\",근무!D310,IF(달력!$S$25=\"순서2\",근무!E310,IF(달력!$S$25=\"순서3\",근무!F310,IF(달력!$S$25=\"순서4\",근무!G310,IF(달력!$S$25=\"순서5\",근무!H310,IF(달력!$S$25=\"순서6\",근무!I310,\"\"))))))","v":"야간"},{"$f":"IF(달력!$S$26=\"순서1\",근무!D310,IF(달력!$S$26=\"순서2\",근무!E310,IF(달력!$S$26=\"순서3\",근무!F310,IF(달력!$S$26=\"순서4\",근무!G310,IF(달력!$S$26=\"순서5\",근무!H310,IF(달력!$S$26=\"순서6\",근무!I310,\"\"))))))","v":"비번"},{"$f":"IF(달력!$S$27=\"순서1\",근무!D310,IF(달력!$S$27=\"순서2\",근무!E310,IF(달력!$S$27=\"순서3\",근무!F310,IF(달력!$S$27=\"순서4\",근무!G310,IF(달력!$S$27=\"순서5\",근무!H310,IF(달력!$S$27=\"순서6\",근무!I310,\"\"))))))","v":"비번"},{"$f":"IF(달력!$S$28=\"순서1\",근무!D310,IF(달력!$S$28=\"순서2\",근무!E310,IF(달력!$S$28=\"순서3\",근무!F310,IF(달력!$S$28=\"순서4\",근무!G310,IF(달력!$S$28=\"순서5\",근무!H310,IF(달력!$S$28=\"순서6\",근무!I310,\"\"))))))","v":"주간"},{"$f":"IF(달력!$S$29=\"순서1\",근무!D310,IF(달력!$S$29=\"순서2\",근무!E310,IF(달력!$S$29=\"순서3\",근무!F310,IF(달력!$S$29=\"순서4\",근무!G310,IF(달력!$S$29=\"순서5\",근무!H310,IF(달력!$S$29=\"순서6\",근무!I310,\"\"))))))","v":"주간"}]
[null,"2023-11-01","수",{"$f":"IF(달력!$S$24=\"순서1\",근무!D311,IF(달력!$S$24=\"순서2\",근무!E311,IF(달력!$S$24=\"순서3\",근무!F311,IF(달력!$S$24=\"순서4\",근무!G311,IF(달력!$S$24=\"순서5\",근무!H311,IF(달력!$S$24=\"순서6\",근무!I311,\"\"))))))","v":"비번"},{"$f":"IF(달력!$S$25=\"순서1\",근무!D311,IF(달력!$S$25=\"순서2\",근무!E311,IF(달력!$S$25=\"순서3\",근무!F311,IF(달력!$S$25=\"순서4\",근무!G311,IF(달력!$S$25=\"순서5\",근무!H311,IF(달력!$S$25=\"순서6\",근무!I311,\"\"))))))","v":"비번"},{"$f":"IF(달력!$S$26=\"순서1\",근무!D311,IF(달력!$S$26=\"순서2\",근무!E311,IF(달력!$S$26=\"순서3\",근무!F311,IF(달력!$S$26=\"순서4\",근무!G311,IF(달력!$S$26=\"순서5\",근무!H311,IF(달력!$S$26=\"순서6\",근무!I311,\"\"))))))","v":"주간"},{"$f":"IF(달력!$S$27=\"순서1\",근무!D311,IF(달력!$S$27=\"순서2\",근무!E311,IF(달력!$S$27=\"순서3\",근무!F311,IF(달력!$S$27=\"순서4\",근무!G311,IF(달력!$S$27=\"순서5\",근무!H311,IF(달력!$S$27=\"순서6\",근무!I311,\"\"))))))","v":"주간"},{"$f":"IF(달력!$S$28=\"순서1\",근무!D311,IF(달력!$S$28=\"순서2\",근무!E311,IF(달력!$S$28=\"순서3\",근무!F311,IF(달력!$S$28=\"순서4\",근무!G311,IF(달력!$S$28=\"순서5\",근무!H311,IF(달력!$S$28=\"순서6\",근무!I311,\"\"))))))","v":"야간"},{"$f":"IF(달력!$S$29=\"순서1\",근무!D311,IF(달력!$S$29=\"순서2\",근무!E311,IF(달력!$S$29=\"순서3\",근무!F311,IF(달력!$S$29=\"순서4\",근무!G311,IF(달력!$S$29=\"순서5\",근무!H311,IF(달력!$S$29=\"순서6\",근무!I311,\"\"))))))","v":"야간"}]
[null,"2023-11-02","목",{"$f":"IF(달력!$S$24=\"순서1\",근무!D312,IF(달력!$S$24=\"순서2\",근무!E312,IF(달력!$S$24=\"순서3\",근무!F312,IF(달력!$S$24=\"순서4\",근무!G312,IF(달력!$S$24=\"순서5\",근무!H312,IF(달력!$S$24=\"순서6\",근무!I312,\"\"))))))","v":"비번"},{"$f":"IF(달력!$S$25=\"순서1\",근무!D312,IF(달력!$S$25=\"순서2\",근무!E312,IF(달력!$S$25=\"순서3\",근무!F312,IF(달력!$S$25=\"순서4\",근무!G312,IF(달력!$S$25=\"순서5\",근무!H312,IF(달력!$S$25=\"순서6\",근무!I312,\"\"))))))","v":"비번"},{"$f":"IF(달력!$S$26=\"순서1\",근무!D312,IF(달력!$S$26=\"순서2\",근무!E312,IF(달력!$S$26=\"순서3\",근무!F312,IF(달력!$S$26=\"순서4\",근무!G312,IF(달력!$S$26=\"순서5\",근무!H312,IF(달력!$S$26=\"순서6\",근무!I312,\"\"))))))","v":"주간"},{"$f":"IF(달력!$S$27=\"순서1\",근무!D312,IF(달력!$S$27=\"순서2\",근무!E312,IF(달력!$S$27=\"순서3\",근무!F312,IF(달력!$S$27=\"순서4\",근무!G312,IF(달력!$S$27=\"순서5\",근무!H312,IF(달력!$S$27=\"순서6\",근무!I312,\"\"))))))","v":"주간"},{"$f":"IF(달력!$S$28=\"순서1\",근무!D312,IF(달력!$S$28=\"순서2\",근무!E312,IF(달력!$S$28=\"순서3\",근무!F312,IF(달력!$S$28=\"순서4\",근무!G312,IF(달력!$S$28=\"순서5\",근무!H312,IF(달력!$S$28=\"순서6\",근무!I312,\"\"))))))","v":"야간"},{"$f":"IF(달력!$S$29=\"순서1\",근무!D312,IF(달력!$S$29=\"순서2\",근무!E312,IF(달력!$S$29=\"순서3\",근무!F312,IF(달력!$S$29=\"순서4\",근무!G312,IF(달력!$S$29=\"순서5\",근무!H312,IF(달력!$S$29=\"순서6\",근무!I312,\"\"))))))","v":"야간"}]
[null,"2023-11-03","금",{"$f":"IF(달력!$S$24=\"순서1\",근무!D313,IF(달력!$S$24=\"순서2\",근무!E313,IF(달력!$S$24=\"순서3\",근무!F313,IF(달력!$S$24=\"순서4\",근무!G313,IF(달력!$S$24=\"순서5\",근무!H313,IF(달력!$S$24=\"순서6\",근무!I313,\"\"))))))","v":"주간"},{"$f":"IF(달력!$S$25=\"순서1\",근무!D313,IF(달력!$S$25=\"순서2\",근무!E313,IF(달력!$S$25=\"순서3\",근무!F313,IF(달력!$S$25=\"순서4\",근무!G313,IF(달력!$S$25=\"순서5\",근무!H313,IF(달력!$S$25=\"순서6\",근무!I313,\"\"))))))","v":"주간"},{"$f":"IF(달력!$S$26=\"순서1\",근무!D313,IF(달력!$S$26=\"순서2\",근무!E313,IF(달력!$S$26=\"순서3\",근무!F313,IF(달력!$S$26=\"순서4\",근무!G313,IF(달력!$S$26=\"순서5\",근무!H313,IF(달력!$S$26=\"순서6\",근무!I313,\"\"))))))","v":"야간"},{"$f":"IF(달력!$S$27=\"순서1\",근무!D313,IF(달력!$S$27=\"순서2\",근무!E313,IF(달력!$S$27=\"순서3\",근무!F313,IF(달력!$S$27=\"순서4\",근무!G313,IF(달력!$S$27=\"순서5\",근무!H313,IF(달력!$S$27=\"순서6\",근무!I313,\"\"))))))","v":"야간"},{"$f":"IF(달력!$S$28=\"순서1\",근무!D313,IF(달력!$S$28=\"순서2\",근무!E313,IF(달력!$S$28=\"순서3\",근무!F313,IF(달력!$S$28=\"순서4\",근무!G313,IF(달력!$S$28=\"순서5\",근무!H313,IF(달력!$S$28=\"순서6\",근무!I313,\"\"))))))","v":"비번"},{"$f":"IF(달력!$S$29=\"순서1\",근무!D313,IF(달력!$S$29=\"순서2\",근무!E313,IF(달력!$S$29=\"순서3\",근무!F313,IF(달력!$S$29=\"순서4\",근무!G313,IF(달력!$S$29=\"순서5\",근무!H313,IF(달력!$S$29=\"순서6\",근무!I313,\"\"))))))","v":"비번"}]
[null,"2023-11-04","토",{"$f":"IF(달력!$S$24=\"순서1\",근무!D314,IF(달력!$S$24=\"순서2\",근무!E314,IF(달력!$S$24=\"순서3\",근무!F314,IF(달력!$S$24=\"순서4\",근무!G314,IF(달력!$S$24=\"순서5\",근무!H314,IF(달력!$S$24=\"순서6\",근무!I314,\"\"))))))","v":"주간"},{"$f":"IF(달력!$S$25=\"순서1\",근무!D314,IF(달력!$S$25=\"순서2\",근무!E314,IF(달력!$S$25=\"순서3\",근무!F314,IF(달력!$S$25=\"순서4\",근무!G314,IF(달력!$S$25=\"순서5\",근무!H314,IF(달력!$S$25=\"순서6\",근무!I314,\"\"))))))","v":"주간"},{"$f":"IF(달력!$S$26=\"순서1\",근무!D314,IF(달력!$S$26=\"순서2\",근무!E314,IF(달력!$S$26=\"순서3\",근무!F314,IF(달력!$S$26=\"순서4\",근무!G314,IF(달력!$S$26=\"순서5\",근무!H314,IF(달력!$S$26=\"순서6\",근무!I314,\"\"))))))","v":"야간"},{"$f":"IF(달력!$S$27=\"순서1\",근무!D314,IF(달력!$S$27=\"순서2\",근무!E314,IF(달력!$S$27=\"순서3\",근무!F314,IF(달력!$S$27=\"순서4\",근무!G314,IF(달력!$S$27=\"순서5\",근무!H314,IF(달력!$S$27=\"순서6\",근무!I314,\"\"))))))","v":"야간"},{"$f":"IF(달력!$S$28=\"순서1\",근무!D314,IF(달력!$S$28=\"순서2\",근무!E314,IF(달력!$S$28=\"순서3\",근무!F314,IF(달력!$S$28=\"순서4\",근무!G314,IF(달력!$S$28=\"순서5\",근무!H314,IF(달력!$S$28=\"순서6\",근무!I314,\"\"))))))","v":"비번"},{"$f":"IF(달력!$S$29=\"순서1\",근무!D314,IF(달력!$S$29=\"순서2\",근무!E314,IF(달력!$S$29=\"순서3\",근무!F314,IF(달력!$S$29=\"순서4\",근무!G314,IF(달력!$S$29=\"순서5\",근무!H314,IF(달력!$S$29=\"순서6\",근무!I314,\"\"))))))","v":"비번"}]
[null,"2023-11-05","일",{"$f":"IF(달력!$S$24=\"순서1\",근무!D315,IF(달력!$S$24=\"순서2\",근무!E315,IF(달력!$S$24=\"순서3\",근무!F315,IF(달력!$S$24=\"순서4\",근무!G315,IF(달력!$S$24=\"순서5\",근무!H315,IF(달력!$S$24=\"순서6\",근무!I315,\"\"))))))","v":"야간"},{"$f":"IF(달력!$S$25=\"순서1\",근무!D315,IF(달력!$S$25=\"순서2\",근무!E315,IF(달력!$S$25=\"순서3\",근무!F315,IF(달력!$S$25=\"순서4\",근무!G315,IF(달력!$S$25=\"순서5\",근무!H315,IF(달력!$S$25=\"순서6\",근무!I315,\"\"))))))","v":"야간"},{"$f":"IF(달력!$S$26=\"순서1\",근무!D315,IF(달력!$S$26=\"순서2\",근무!E315,IF(달력!$S$26=\"순서3\",근무!F315,IF(달력!$S$26=\"순서4\",근무!G315,IF(달력!$S$26=\"순서5\",근무!H315,IF(달력!$S$26=\"순서6\",근무!I315,\"\"))))))","v":"비번"},{"$f":"IF(달력!$S$27=\"순서1\",근무!D315,IF(달력!$S$27=\"순서2\",근무!E315,IF(달력!$S$27=\"순서3\",근무!F315,IF(달력!$S$27=\"순서4\",근무!G315,IF(달력!$S$27=\"순서5\",근무!H315,IF(달력!$S$27=\"순서6\",근무!I315,\"\"))))))","v":"비번"},{"$f":"IF(달력!$S$28=\"순서1\",근무!D315,IF(달력!$S$28=\"순서2\",근무!E315,IF(달력!$S$28=\"순서3\",근무!F315,IF(달력!$S$28=\"순서4\",근무!G315,IF(달력!$S$28=\"순서5\",근무!H315,IF(달력!$S$28=\"순서6\",근무!I315,\"\"))))))","v":"주간"},{"$f":"IF(달력!$S$29=\"순서1\",근무!D315,IF(달력!$S$29=\"순서2\",근무!E315,IF(달력!$S$29=\"순서3\",근무!F315,IF(달력!$S$29=\"순서4\",근무!G315,IF(달력!$S$29=\"순서5\",근무!H315,IF(달력!$S$29=\"순서6\",근무!I315,\"\"))))))","v":"주간"}]
[null,"2023-11-06","월",{"$f":"IF(달력!$S$24=\"순서1\",근무!D316,IF(달력!$S$24=\"순서2\",근무!E316,IF(달력!$S$24=\"순서3\",근무!F316,IF(달력!$S$24=\"순서4\",근무!G316,IF(달력!$S$24=\"순서5\",근무!H316,IF(달력!$S$24=\"순서6\",근무!I316,\"\"))))))","v":"야간"},{"$f":"IF(달력!$S$25=\"순서1\",근무!D316,IF(달력!$S$25=\"순서2\",근무!E316,IF(달력!$S$25=\"순서3\",근무!F316,IF(달력!$S$25=\"순서4\",근무!G316,IF(달력!$S$25=\"순서5\",근무!H316,IF(달력!$S$25=\"순서6\",근무!I316,\"\"))))))","v":"야간"},{"$f":"IF(달력!$S$26=\"순서1\",근무!D316,IF(달력!$S$26=\"순서2\",근무!E316,IF(달력!$S$26=\"순서3\",근무!F316,IF(달력!$S$26=\"순서4\",근무!G316,IF(달력!$S$26=\"순서5\",근무!H316,IF(달력!$S$26=\"순서6\",근무!I316,\"\"))))))","v":"비번"},{"$f":"IF(달력!$S$27=\"순서1\",근무!D316,IF(달력!$S$27=\"순서2\",근무!E316,IF(달력!$S$27=\"순서3\",근무!F316,IF(달력!$S$27=\"순서4\",근무!G316,IF(달력!$S$27=\"순서5\",근무!H316,IF(달력!$S$27=\"순서6\",근무!I316,\"\"))))))","v":"비번"},{"$f":"IF(달력!$S$28=\"순서1\",근무!D316,IF(달력!$S$28=\"순서2\",근무!E316,IF(달력!$S$28=\"순서3\",근무!F316,IF(달력!$S$28=\"순서4\",근무!G316,IF(달력!$S$28=\"순서5\",근무!H316,IF(달력!$S$28=\"순서6\",근무!I316,\"\"))))))","v":"주간"},{"$f":"IF(달력!$S$29=\"순서1\",근무!D316,IF(달력!$S$29=\"순서2\",근무!E316,IF(달력!$S$29=\"순서3\",근무!F316,IF(달력!$S$29=\"순서4\",근무!G316,IF(달력!$S$29=\"순서5\",근무!H316,IF(달력!$S$29=\"순서6\",근무!I316,\"\"))))))","v":"주간"}]
[null,"2023-11-07","화",{"$f":"IF(달력!$S$24=\"순서1\",근무!D317,IF(달력!$S$24=\"순서2\",근무!E317,IF(달력!$S$24=\"순서3\",근무!F317,IF(달력!$S$24=\"순서4\",근무!G317,IF(달력!$S$24=\"순서5\",근무!H317,IF(달력!$S$24=\"순서6\",근무!I317,\"\"))))))","v":"비번"},{"$f":"IF(달력!$S$25=\"순서1\",근무!D317,IF(달력!$S$25=\"순서2\",근무!E317,IF(달력!$S$25=\"순서3\",근무!F317,IF(달력!$S$25=\"순서4\",근무!G317,IF(달력!$S$25=\"순서5\",근무!H317,IF(달력!$S$25=\"순서6\",근무!I317,\"\"))))))","v":"비번"},{"$f":"IF(달력!$S$26=\"순서1\",근무!D317,IF(달력!$S$26=\"순서2\",근무!E317,IF(달력!$S$26=\"순서3\",근무!F317,IF(달력!$S$26=\"순서4\",근무!G317,IF(달력!$S$26=\"순서5\",근무!H317,IF(달력!$S$26=\"순서6\",근무!I317,\"\"))))))","v":"주간"},{"$f":"IF(달력!$S$27=\"순서1\",근무!D317,IF(달력!$S$27=\"순서2\",근무!E317,IF(달력!$S$27=\"순서3\",근무!F317,IF(달력!$S$27=\"순서4\",근무!G317,IF(달력!$S$27=\"순서5\",근무!H317,IF(달력!$S$27=\"순서6\",근무!I317,\"\"))))))","v":"주간"},{"$f":"IF(달력!$S$28=\"순서1\",근무!D317,IF(달력!$S$28=\"순서2\",근무!E317,IF(달력!$S$28=\"순서3\",근무!F317,IF(달력!$S$28=\"순서4\",근무!G317,IF(달력!$S$28=\"순서5\",근무!H317,IF(달력!$S$28=\"순서6\",근무!I317,\"\"))))))","v":"야간"},{"$f":"IF(달력!$S$29=\"순서1\",근무!D317,IF(달력!$S$29=\"순서2\",근무!E317,IF(달력!$S$29=\"순서3\",근무!F317,IF(달력!$S$29=\"순서4\",근무!G317,IF(달력!$S$29=\"순서5\",근무!H317,IF(달력!$S$29=\"순서6\",근무!I317,\"\"))))))","v":"야간"}]
[null,"2023-11-08","수",{"$f":"IF(달력!$S$24=\"순서1\",근무!D318,IF(달력!$S$24=\"순서2\",근무!E318,IF(달력!$S$24=\"순서3\",근무!F318,IF(달력!$S$24=\"순서4\",근무!G318,IF(달력!$S$24=\"순서5\",근무!H318,IF(달력!$S$24=\"순서6\",근무!I318,\"\"))))))","v":"비번"},{"$f":"IF(달력!$S$25=\"순서1\",근무!D318,IF(달력!$S$25=\"순서2\",근무!E318,IF(달력!$S$25=\"순서3\",근무!F318,IF(달력!$S$25=\"순서4\",근무!G318,IF(달력!$S$25=\"순서5\",근무!H318,IF(달력!$S$25=\"순서6\",근무!I318,\"\"))))))","v":"비번"},{"$f":"IF(달력!$S$26=\"순서1\",근무!D318,IF(달력!$S$26=\"순서2\",근무!E318,IF(달력!$S$26=\"순서3\",근무!F318,IF(달력!$S$26=\"순서4\",근무!G318,IF(달력!$S$26=\"순서5\",근무!H318,IF(달력!$S$26=\"순서6\",근무!I318,\"\"))))))","v":"주간"},{"$f":"IF(달력!$S$27=\"순서1\",근무!D318,IF(달력!$S$27=\"순서2\",근무!E318,IF(달력!$S$27=\"순서3\",근무!F318,IF(달력!$S$27=\"순서4\",근무!G318,IF(달력!$S$27=\"순서5\",근무!H318,IF(달력!$S$27=\"순서6\",근무!I318,\"\"))))))","v":"주간"},{"$f":"IF(달력!$S$28=\"순서1\",근무!D318,IF(달력!$S$28=\"순서2\",근무!E318,IF(달력!$S$28=\"순서3\",근무!F318,IF(달력!$S$28=\"순서4\",근무!G318,IF(달력!$S$28=\"순서5\",근무!H318,IF(달력!$S$28=\"순서6\",근무!I318,\"\"))))))","v":"야간"},{"$f":"IF(달력!$S$29=\"순서1\",근무!D318,IF(달력!$S$29=\"순서2\",근무!E318,IF(달력!$S$29=\"순서3\",근무!F318,IF(달력!$S$29=\"순서4\",근무!G318,IF(달력!$S$29=\"순서5\",근무!H318,IF(달력!$S$29=\"순서6\",근무!I318,\"\"))))))","v":"야간"}]
[null,"2023-11-09","목",{"$f":"IF(달력!$S$24=\"순서1\",근무!D319,IF(달력!$S$24=\"순서2\",근무!E319,IF(달력!$S$24=\"순서3\",근무!F319,IF(달력!$S$24=\"순서4\",근무!G319,IF(달력!$S$24=\"순서5\",근무!H319,IF(달력!$S$24=\"순서6\",근무!I319,\"\"))))))","v":"주간"},{"$f":"IF(달력!$S$25=\"순서1\",근무!D319,IF(달력!$S$25=\"순서2\",근무!E319,IF(달력!$S$25=\"순서3\",근무!F319,IF(달력!$S$25=\"순서4\",근무!G319,IF(달력!$S$25=\"순서5\",근무!H319,IF(달력!$S$25=\"순서6\",근무!I319,\"\"))))))","v":"주간"},{"$f":"IF(달력!$S$26=\"순서1\",근무!D319,IF(달력!$S$26=\"순서2\",근무!E319,IF(달력!$S$26=\"순서3\",근무!F319,IF(달력!$S$26=\"순서4\",근무!G319,IF(달력!$S$26=\"순서5\",근무!H319,IF(달력!$S$26=\"순서6\",근무!I319,\"\"))))))","v":"야간"},{"$f":"IF(달력!$S$27=\"순서1\",근무!D319,IF(달력!$S$27=\"순서2\",근무!E319,IF(달력!$S$27=\"순서3\",근무!F319,IF(달력!$S$27=\"순서4\",근무!G319,IF(달력!$S$27=\"순서5\",근무!H319,IF(달력!$S$27=\"순서6\",근무!I319,\"\"))))))","v":"야간"},{"$f":"IF(달력!$S$28=\"순서1\",근무!D319,IF(달력!$S$28=\"순서2\",근무!E319,IF(달력!$S$28=\"순서3\",근무!F319,IF(달력!$S$28=\"순서4\",근무!G319,IF(달력!$S$28=\"순서5\",근무!H319,IF(달력!$S$28=\"순서6\",근무!I319,\"\"))))))","v":"비번"},{"$f":"IF(달력!$S$29=\"순서1\",근무!D319,IF(달력!$S$29=\"순서2\",근무!E319,IF(달력!$S$29=\"순서3\",근무!F319,IF(달력!$S$29=\"순서4\",근무!G319,IF(달력!$S$29=\"순서5\",근무!H319,IF(달력!$S$29=\"순서6\",근무!I319,\"\"))))))","v":"비번"}]
[null,"2023-11-10","금",{"$f":"IF(달력!$S$24=\"순서1\",근무!D320,IF(달력!$S$24=\"순서2\",근무!E320,IF(달력!$S$24=\"순서3\",근무!F320,IF(달력!$S$24=\"순서4\",근무!G320,IF(달력!$S$24=\"순서5\",근무!H320,IF(달력!$S$24=\"순서6\",근무!I320,\"\"))))))","v":"주간"},{"$f":"IF(달력!$S$25=\"순서1\",근무!D320,IF(달력!$S$25=\"순서2\",근무!E320,IF(달력!$S$25=\"순서3\",근무!F320,IF(달력!$S$25=\"순서4\",근무!G320,IF(달력!$S$25=\"순서5\",근무!H320,IF(달력!$S$25=\"순서6\",근무!I320,\"\"))))))","v":"주간"},{"$f":"IF(달력!$S$26=\"순서1\",근무!D320,IF(달력!$S$26=\"순서2\",근무!E320,IF(달력!$S$26=\"순서3\",근무!F320,IF(달력!$S$26=\"순서4\",근무!G320,IF(달력!$S$26=\"순서5\",근무!H320,IF(달력!$S$26=\"순서6\",근무!I320,\"\"))))))","v":"야간"},{"$f":"IF(달력!$S$27=\"순서1\",근무!D320,IF(달력!$S$27=\"순서2\",근무!E320,IF(달력!$S$27=\"순서3\",근무!F320,IF(달력!$S$27=\"순서4\",근무!G320,IF(달력!$S$27=\"순서5\",근무!H320,IF(달력!$S$27=\"순서6\",근무!I320,\"\"))))))","v":"야간"},{"$f":"IF(달력!$S$28=\"순서1\",근무!D320,IF(달력!$S$28=\"순서2\",근무!E320,IF(달력!$S$28=\"순서3\",근무!F320,IF(달력!$S$28=\"순서4\",근무!G320,IF(달력!$S$28=\"순서5\",근무!H320,IF(달력!$S$28=\"순서6\",근무!I320,\"\"))))))","v":"비번"},{"$f":"IF(달력!$S$29=\"순서1\",근무!D320,IF(달력!$S$29=\"순서2\",근무!E320,IF(달력!$S$29=\"순서3\",근무!F320,IF(달력!$S$29=\"순서4\",근무!G320,IF(달력!$S$29=\"순서5\",근무!H320,IF(달력!$S$29=\"순서6\",근무!I320,\"\"))))))","v":"비번"}]
[null,"2023-11-11","토",{"$f":"IF(달력!$S$24=\"순서1\",근무!D321,IF(달력!$S$24=\"순서2\",근무!E321,IF(달력!$S$24=\"순서3\",근무!F321,IF(달력!$S$24=\"순서4\",근무!G321,IF(달력!$S$24=\"순서5\",근무!H321,IF(달력!$S$24=\"순서6\",근무!I321,\"\"))))))","v":"야간"},{"$f":"IF(달력!$S$25=\"순서1\",근무!D321,IF(달력!$S$25=\"순서2\",근무!E321,IF(달력!$S$25=\"순서3\",근무!F321,IF(달력!$S$25=\"순서4\",근무!G321,IF(달력!$S$25=\"순서5\",근무!H321,IF(달력!$S$25=\"순서6\",근무!I321,\"\"))))))","v":"야간"},{"$f":"IF(달력!$S$26=\"순서1\",근무!D321,IF(달력!$S$26=\"순서2\",근무!E321,IF(달력!$S$26=\"순서3\",근무!F321,IF(달력!$S$26=\"순서4\",근무!G321,IF(달력!$S$26=\"순서5\",근무!H321,IF(달력!$S$26=\"순서6\",근무!I321,\"\"))))))","v":"비번"},{"$f":"IF(달력!$S$27=\"순서1\",근무!D321,IF(달력!$S$27=\"순서2\",근무!E321,IF(달력!$S$27=\"순서3\",근무!F321,IF(달력!$S$27=\"순서4\",근무!G321,IF(달력!$S$27=\"순서5\",근무!H321,IF(달력!$S$27=\"순서6\",근무!I321,\"\"))))))","v":"비번"},{"$f":"IF(달력!$S$28=\"순서1\",근무!D321,IF(달력!$S$28=\"순서2\",근무!E321,IF(달력!$S$28=\"순서3\",근무!F321,IF(달력!$S$28=\"순서4\",근무!G321,IF(달력!$S$28=\"순서5\",근무!H321,IF(달력!$S$28=\"순서6\",근무!I321,\"\"))))))","v":"주간"},{"$f":"IF(달력!$S$29=\"순서1\",근무!D321,IF(달력!$S$29=\"순서2\",근무!E321,IF(달력!$S$29=\"순서3\",근무!F321,IF(달력!$S$29=\"순서4\",근무!G321,IF(달력!$S$29=\"순서5\",근무!H321,IF(달력!$S$29=\"순서6\",근무!I321,\"\"))))))","v":"주간"}]
[null,"2023-11-12","일",{"$f":"IF(달력!$S$24=\"순서1\",근무!D322,IF(달력!$S$24=\"순서2\",근무!E322,IF(달력!$S$24=\"순서3\",근무!F322,IF(달력!$S$24=\"순서4\",근무!G322,IF(달력!$S$24=\"순서5\",근무!H322,IF(달력!$S$24=\"순서6\",근무!I322,\"\"))))))","v":"야간"},{"$f":"IF(달력!$S$25=\"순서1\",근무!D322,IF(달력!$S$25=\"순서2\",근무!E322,IF(달력!$S$25=\"순서3\",근무!F322,IF(달력!$S$25=\"순서4\",근무!G322,IF(달력!$S$25=\"순서5\",근무!H322,IF(달력!$S$25=\"순서6\",근무!I322,\"\"))))))","v":"야간"},{"$f":"IF(달력!$S$26=\"순서1\",근무!D322,IF(달력!$S$26=\"순서2\",근무!E322,IF(달력!$S$26=\"순서3\",근무!F322,IF(달력!$S$26=\"순서4\",근무!G322,IF(달력!$S$26=\"순서5\",근무!H322,IF(달력!$S$26=\"순서6\",근무!I322,\"\"))))))","v":"비번"},{"$f":"IF(달력!$S$27=\"순서1\",근무!D322,IF(달력!$S$27=\"순서2\",근무!E322,IF(달력!$S$27=\"순서3\",근무!F322,IF(달력!$S$27=\"순서4\",근무!G322,IF(달력!$S$27=\"순서5\",근무!H322,IF(달력!$S$27=\"순서6\",근무!I322,\"\"))))))","v":"비번"},{"$f":"IF(달력!$S$28=\"순서1\",근무!D322,IF(달력!$S$28=\"순서2\",근무!E322,IF(달력!$S$28=\"순서3\",근무!F322,IF(달력!$S$28=\"순서4\",근무!G322,IF(달력!$S$28=\"순서5\",근무!H322,IF(달력!$S$28=\"순서6\",근무!I322,\"\"))))))","v":"주간"},{"$f":"IF(달력!$S$29=\"순서1\",근무!D322,IF(달력!$S$29=\"순서2\",근무!E322,IF(달력!$S$29=\"순서3\",근무!F322,IF(달력!$S$29=\"순서4\",근무!G322,IF(달력!$S$29=\"순서5\",근무!H322,IF(달력!$S$29=\"순서6\",근무!I322,\"\"))))))","v":"주간"}]
[null,"2023-11-13","월",{"$f":"IF(달력!$S$24=\"순서1\",근무!D323,IF(달력!$S$24=\"순서2\",근무!E323,IF(달력!$S$24=\"순서3\",근무!F323,IF(달력!$S$24=\"순서4\",근무!G323,IF(달력!$S$24=\"순서5\",근무!H323,IF(달력!$S$24=\"순서6\",근무!I323,\"\"))))))","v":"비번"},{"$f":"IF(달력!$S$25=\"순서1\",근무!D323,IF(달력!$S$25=\"순서2\",근무!E323,IF(달력!$S$25=\"순서3\",근무!F323,IF(달력!$S$25=\"순서4\",근무!G323,IF(달력!$S$25=\"순서5\",근무!H323,IF(달력!$S$25=\"순서6\",근무!I323,\"\"))))))","v":"비번"},{"$f":"IF(달력!$S$26=\"순서1\",근무!D323,IF(달력!$S$26=\"순서2\",근무!E323,IF(달력!$S$26=\"순서3\",근무!F323,IF(달력!$S$26=\"순서4\",근무!G323,IF(달력!$S$26=\"순서5\",근무!H323,IF(달력!$S$26=\"순서6\",근무!I323,\"\"))))))","v":"주간"},{"$f":"IF(달력!$S$27=\"순서1\",근무!D323,IF(달력!$S$27=\"순서2\",근무!E323,IF(달력!$S$27=\"순서3\",근무!F323,IF(달력!$S$27=\"순서4\",근무!G323,IF(달력!$S$27=\"순서5\",근무!H323,IF(달력!$S$27=\"순서6\",근무!I323,\"\"))))))","v":"주간"},{"$f":"IF(달력!$S$28=\"순서1\",근무!D323,IF(달력!$S$28=\"순서2\",근무!E323,IF(달력!$S$28=\"순서3\",근무!F323,IF(달력!$S$28=\"순서4\",근무!G323,IF(달력!$S$28=\"순서5\",근무!H323,IF(달력!$S$28=\"순서6\",근무!I323,\"\"))))))","v":"야간"},{"$f":"IF(달력!$S$29=\"순서1\",근무!D323,IF(달력!$S$29=\"순서2\",근무!E323,IF(달력!$S$29=\"순서3\",근무!F323,IF(달력!$S$29=\"순서4\",근무!G323,IF(달력!$S$29=\"순서5\",근무!H323,IF(달력!$S$29=\"순서6\",근무!I323,\"\"))))))","v":"야간"}]
[null,"2023-11-14","화",{"$f":"IF(달력!$S$24=\"순서1\",근무!D324,IF(달력!$S$24=\"순서2\",근무!E324,IF(달력!$S$24=\"순서3\",근무!F324,IF(달력!$S$24=\"순서4\",근무!G324,IF(달력!$S$24=\"순서5\",근무!H324,IF(달력!$S$24=\"순서6\",근무!I324,\"\"))))))","v":"비번"},{"$f":"IF(달력!$S$25=\"순서1\",근무!D324,IF(달력!$S$25=\"순서2\",근무!E324,IF(달력!$S$25=\"순서3\",근무!F324,IF(달력!$S$25=\"순서4\",근무!G324,IF(달력!$S$25=\"순서5\",근무!H324,IF(달력!$S$25=\"순서6\",근무!I324,\"\"))))))","v":"비번"},{"$f":"IF(달력!$S$26=\"순서1\",근무!D324,IF(달력!$S$26=\"순서2\",근무!E324,IF(달력!$S$26=\"순서3\",근무!F324,IF(달력!$S$26=\"순서4\",근무!G324,IF(달력!$S$26=\"순서5\",근무!H324,IF(달력!$S$26=\"순서6\",근무!I324,\"\"))))))","v":"주간"},{"$f":"IF(달력!$S$27=\"순서1\",근무!D324,IF(달력!$S$27=\"순서2\",근무!E324,IF(달력!$S$27=\"순서3\",근무!F324,IF(달력!$S$27=\"순서4\",근무!G324,IF(달력!$S$27=\"순서5\",근무!H324,IF(달력!$S$27=\"순서6\",근무!I324,\"\"))))))","v":"주간"},{"$f":"IF(달력!$S$28=\"순서1\",근무!D324,IF(달력!$S$28=\"순서2\",근무!E324,IF(달력!$S$28=\"순서3\",근무!F324,IF(달력!$S$28=\"순서4\",근무!G324,IF(달력!$S$28=\"순서5\",근무!H324,IF(달력!$S$28=\"순서6\",근무!I324,\"\"))))))","v":"야간"},{"$f":"IF(달력!$S$29=\"순서1\",근무!D324,IF(달력!$S$29=\"순서2\",근무!E324,IF(달력!$S$29=\"순서3\",근무!F324,IF(달력!$S$29=\"순서4\",근무!G324,IF(달력!$S$29=\"순서5\",근무!H324,IF(달력!$S$29=\"순서6\",근무!I324,\"\"))))))","v":"야간"}]
[null,"2023-11-15","수",{"$f":"IF(달력!$S$24=\"순서1\",근무!D325,IF(달력!$S$24=\"순서2\",근무!E325,IF(달력!$S$24=\"순서3\",근무!F325,IF(달력!$S$24=\"순서4\",근무!G325,IF(달력!$S$24=\"순서5\",근무!H325,IF(달력!$S$24=\"순서6\",근무!I325,\"\"))))))","v":"주간"},{"$f":"IF(달력!$S$25=\"순서1\",근무!D325,IF(달력!$S$25=\"순서2\",근무!E325,IF(달력!$S$25=\"순서3\",근무!F325,IF(달력!$S$25=\"순서4\",근무!G325,IF(달력!$S$25=\"순서5\",근무!H325,IF(달력!$S$25=\"순서6\",근무!I325,\"\"))))))","v":"주간"},{"$f":"IF(달력!$S$26=\"순서1\",근무!D325,IF(달력!$S$26=\"순서2\",근무!E325,IF(달력!$S$26=\"순서3\",근무!F325,IF(달력!$S$26=\"순서4\",근무!G325,IF(달력!$S$26=\"순서5\",근무!H325,IF(달력!$S$26=\"순서6\",근무!I325,\"\"))))))","v":"야간"},{"$f":"IF(달력!$S$27=\"순서1\",근무!D325,IF(달력!$S$27=\"순서2\",근무!E325,IF(달력!$S$27=\"순서3\",근무!F325,IF(달력!$S$27=\"순서4\",근무!G325,IF(달력!$S$27=\"순서5\",근무!H325,IF(달력!$S$27=\"순서6\",근무!I325,\"\"))))))","v":"야간"},{"$f":"IF(달력!$S$28=\"순서1\",근무!D325,IF(달력!$S$28=\"순서2\",근무!E325,IF(달력!$S$28=\"순서3\",근무!F325,IF(달력!$S$28=\"순서4\",근무!G325,IF(달력!$S$28=\"순서5\",근무!H325,IF(달력!$S$28=\"순서6\",근무!I325,\"\"))))))","v":"비번"},{"$f":"IF(달력!$S$29=\"순서1\",근무!D325,IF(달력!$S$29=\"순서2\",근무!E325,IF(달력!$S$29=\"순서3\",근무!F325,IF(달력!$S$29=\"순서4\",근무!G325,IF(달력!$S$29=\"순서5\",근무!H325,IF(달력!$S$29=\"순서6\",근무!I325,\"\"))))))","v":"비번"}]
[null,"2023-11-16","목",{"$f":"IF(달력!$S$24=\"순서1\",근무!D326,IF(달력!$S$24=\"순서2\",근무!E326,IF(달력!$S$24=\"순서3\",근무!F326,IF(달력!$S$24=\"순서4\",근무!G326,IF(달력!$S$24=\"순서5\",근무!H326,IF(달력!$S$24=\"순서6\",근무!I326,\"\"))))))","v":"주간"},{"$f":"IF(달력!$S$25=\"순서1\",근무!D326,IF(달력!$S$25=\"순서2\",근무!E326,IF(달력!$S$25=\"순서3\",근무!F326,IF(달력!$S$25=\"순서4\",근무!G326,IF(달력!$S$25=\"순서5\",근무!H326,IF(달력!$S$25=\"순서6\",근무!I326,\"\"))))))","v":"주간"},{"$f":"IF(달력!$S$26=\"순서1\",근무!D326,IF(달력!$S$26=\"순서2\",근무!E326,IF(달력!$S$26=\"순서3\",근무!F326,IF(달력!$S$26=\"순서4\",근무!G326,IF(달력!$S$26=\"순서5\",근무!H326,IF(달력!$S$26=\"순서6\",근무!I326,\"\"))))))","v":"야간"},{"$f":"IF(달력!$S$27=\"순서1\",근무!D326,IF(달력!$S$27=\"순서2\",근무!E326,IF(달력!$S$27=\"순서3\",근무!F326,IF(달력!$S$27=\"순서4\",근무!G326,IF(달력!$S$27=\"순서5\",근무!H326,IF(달력!$S$27=\"순서6\",근무!I326,\"\"))))))","v":"야간"},{"$f":"IF(달력!$S$28=\"순서1\",근무!D326,IF(달력!$S$28=\"순서2\",근무!E326,IF(달력!$S$28=\"순서3\",근무!F326,IF(달력!$S$28=\"순서4\",근무!G326,IF(달력!$S$28=\"순서5\",근무!H326,IF(달력!$S$28=\"순서6\",근무!I326,\"\"))))))","v":"비번"},{"$f":"IF(달력!$S$29=\"순서1\",근무!D326,IF(달력!$S$29=\"순서2\",근무!E326,IF(달력!$S$29=\"순서3\",근무!F326,IF(달력!$S$29=\"순서4\",근무!G326,IF(달력!$S$29=\"순서5\",근무!H326,IF(달력!$S$29=\"순서6\",근무!I326,\"\"))))))","v":"비번"}]
[null,"2023-11-17","금",{"$f":"IF(달력!$S$24=\"순서1\",근무!D327,IF(달력!$S$24=\"순서2\",근무!E327,IF(달력!$S$24=\"순서3\",근무!F327,IF(달력!$S$24=\"순서4\",근무!G327,IF(달력!$S$24=\"순서5\",근무!H327,IF(달력!$S$24=\"순서6\",근무!I327,\"\"))))))","v":"야간"},{"$f":"IF(달력!$S$25=\"순서1\",근무!D327,IF(달력!$S$25=\"순서2\",근무!E327,IF(달력!$S$25=\"순서3\",근무!F327,IF(달력!$S$25=\"순서4\",근무!G327,IF(달력!$S$25=\"순서5\",근무!H327,IF(달력!$S$25=\"순서6\",근무!I327,\"\"))))))","v":"야간"},{"$f":"IF(달력!$S$26=\"순서1\",근무!D327,IF(달력!$S$26=\"순서2\",근무!E327,IF(달력!$S$26=\"순서3\",근무!F327,IF(달력!$S$26=\"순서4\",근무!G327,IF(달력!$S$26=\"순서5\",근무!H327,IF(달력!$S$26=\"순서6\",근무!I327,\"\"))))))","v":"비번"},{"$f":"IF(달력!$S$27=\"순서1\",근무!D327,IF(달력!$S$27=\"순서2\",근무!E327,IF(달력!$S$27=\"순서3\",근무!F327,IF(달력!$S$27=\"순서4\",근무!G327,IF(달력!$S$27=\"순서5\",근무!H327,IF(달력!$S$27=\"순서6\",근무!I327,\"\"))))))","v":"비번"},{"$f":"IF(달력!$S$28=\"순서1\",근무!D327,IF(달력!$S$28=\"순서2\",근무!E327,IF(달력!$S$28=\"순서3\",근무!F327,IF(달력!$S$28=\"순서4\",근무!G327,IF(달력!$S$28=\"순서5\",근무!H327,IF(달력!$S$28=\"순서6\",근무!I327,\"\"))))))","v":"주간"},{"$f":"IF(달력!$S$29=\"순서1\",근무!D327,IF(달력!$S$29=\"순서2\",근무!E327,IF(달력!$S$29=\"순서3\",근무!F327,IF(달력!$S$29=\"순서4\",근무!G327,IF(달력!$S$29=\"순서5\",근무!H327,IF(달력!$S$29=\"순서6\",근무!I327,\"\"))))))","v":"주간"}]
[null,"2023-11-18",{"$f":"CHOOSE(WEEKDAY(B328,1),\"일\",\"월\",\"화\",\"수\",\"목\",\"금\",\"토\")","v":"토"},{"$f":"IF(달력!$S$24=\"순서1\",근무!D328,IF(달력!$S$24=\"순서2\",근무!E328,IF(달력!$S$24=\"순서3\",근무!F328,IF(달력!$S$24=\"순서4\",근무!G328,IF(달력!$S$24=\"순서5\",근무!H328,IF(달력!$S$24=\"순서6\",근무!I328,\"\"))))))","v":"야간"},{"$f":"IF(달력!$S$25=\"순서1\",근무!D328,IF(달력!$S$25=\"순서2\",근무!E328,IF(달력!$S$25=\"순서3\",근무!F328,IF(달력!$S$25=\"순서4\",근무!G328,IF(달력!$S$25=\"순서5\",근무!H328,IF(달력!$S$25=\"순서6\",근무!I328,\"\"))))))","v":"야간"},{"$f":"IF(달력!$S$26=\"순서1\",근무!D328,IF(달력!$S$26=\"순서2\",근무!E328,IF(달력!$S$26=\"순서3\",근무!F328,IF(달력!$S$26=\"순서4\",근무!G328,IF(달력!$S$26=\"순서5\",근무!H328,IF(달력!$S$26=\"순서6\",근무!I328,\"\"))))))","v":"비번"},{"$f":"IF(달력!$S$27=\"순서1\",근무!D328,IF(달력!$S$27=\"순서2\",근무!E328,IF(달력!$S$27=\"순서3\",근무!F328,IF(달력!$S$27=\"순서4\",근무!G328,IF(달력!$S$27=\"순서5\",근무!H328,IF(달력!$S$27=\"순서6\",근무!I328,\"\"))))))","v":"비번"},{"$f":"IF(달력!$S$28=\"순서1\",근무!D328,IF(달력!$S$28=\"순서2\",근무!E328,IF(달력!$S$28=\"순서3\",근무!F328,IF(달력!$S$28=\"순서4\",근무!G328,IF(달력!$S$28=\"순서5\",근무!H328,IF(달력!$S$28=\"순서6\",근무!I328,\"\"))))))","v":"주간"},{"$f":"IF(달력!$S$29=\"순서1\",근무!D328,IF(달력!$S$29=\"순서2\",근무!E328,IF(달력!$S$29=\"순서3\",근무!F328,IF(달력!$S$29=\"순서4\",근무!G328,IF(달력!$S$29=\"순서5\",근무!H328,IF(달력!$S$29=\"순서6\",근무!I328,\"\"))))))","v":"주간"}]
[null,{"$f":"B328+1","v":"2023-11-19"},"일",{"$f":"IF(달력!$S$24=\"순서1\",근무!D329,IF(달력!$S$24=\"순서2\",근무!E329,IF(달력!$S$24=\"순서3\",근무!F329,IF(달력!$S$24=\"순서4\",근무!G329,IF(달력!$S$24=\"순서5\",근무!H329,IF(달력!$S$24=\"순서6\",근무!I329,\"\"))))))","v":"비번"},{"$f":"IF(달력!$S$25=\"순서1\",근무!D329,IF(달력!$S$25=\"순서2\",근무!E329,IF(달력!$S$25=\"순서3\",근무!F329,IF(달력!$S$25=\"순서4\",근무!G329,IF(달력!$S$25=\"순서5\",근무!H329,IF(달력!$S$25=\"순서6\",근무!I329,\"\"))))))","v":"비번"},{"$f":"IF(달력!$S$26=\"순서1\",근무!D329,IF(달력!$S$26=\"순서2\",근무!E329,IF(달력!$S$26=\"순서3\",근무!F329,IF(달력!$S$26=\"순서4\",근무!G329,IF(달력!$S$26=\"순서5\",근무!H329,IF(달력!$S$26=\"순서6\",근무!I329,\"\"))))))","v":"주간"},{"$f":"IF(달력!$S$27=\"순서1\",근무!D329,IF(달력!$S$27=\"순서2\",근무!E329,IF(달력!$S$27=\"순서3\",근무!F329,IF(달력!$S$27=\"순서4\",근무!G329,IF(달력!$S$27=\"순서5\",근무!H329,IF(달력!$S$27=\"순서6\",근무!I329,\"\"))))))","v":"주간"},{"$f":"IF(달력!$S$28=\"순서1\",근무!D329,IF(달력!$S$28=\"순서2\",근무!E329,IF(달력!$S$28=\"순서3\",근무!F329,IF(달력!$S$28=\"순서4\",근무!G329,IF(달력!$S$28=\"순서5\",근무!H329,IF(달력!$S$28=\"순서6\",근무!I329,\"\"))))))","v":"야간"},{"$f":"IF(달력!$S$29=\"순서1\",근무!D329,IF(달력!$S$29=\"순서2\",근무!E329,IF(달력!$S$29=\"순서3\",근무!F329,IF(달력!$S$29=\"순서4\",근무!G329,IF(달력!$S$29=\"순서5\",근무!H329,IF(달력!$S$29=\"순서6\",근무!I329,\"\"))))))","v":"야간"}]
[null,"2023-11-20","월",{"$f":"IF(달력!$S$24=\"순서1\",근무!D330,IF(달력!$S$24=\"순서2\",근무!E330,IF(달력!$S$24=\"순서3\",근무!F330,IF(달력!$S$24=\"순서4\",근무!G330,IF(달력!$S$24=\"순서5\",근무!H330,IF(달력!$S$24=\"순서6\",근무!I330,\"\"))))))","v":"비번"},{"$f":"IF(달력!$S$25=\"순서1\",근무!D330,IF(달력!$S$25=\"순서2\",근무!E330,IF(달력!$S$25=\"순서3\",근무!F330,IF(달력!$S$25=\"순서4\",근무!G330,IF(달력!$S$25=\"순서5\",근무!H330,IF(달력!$S$25=\"순서6\",근무!I330,\"\"))))))","v":"비번"},{"$f":"IF(달력!$S$26=\"순서1\",근무!D330,IF(달력!$S$26=\"순서2\",근무!E330,IF(달력!$S$26=\"순서3\",근무!F330,IF(달력!$S$26=\"순서4\",근무!G330,IF(달력!$S$26=\"순서5\",근무!H330,IF(달력!$S$26=\"순서6\",근무!I330,\"\"))))))","v":"주간"},{"$f":"IF(달력!$S$27=\"순서1\",근무!D330,IF(달력!$S$27=\"순서2\",근무!E330,IF(달력!$S$27=\"순서3\",근무!F330,IF(달력!$S$27=\"순서4\",근무!G330,IF(달력!$S$27=\"순서5\",근무!H330,IF(달력!$S$27=\"순서6\",근무!I330,\"\"))))))","v":"주간"},{"$f":"IF(달력!$S$28=\"순서1\",근무!D330,IF(달력!$S$28=\"순서2\",근무!E330,IF(달력!$S$28=\"순서3\",근무!F330,IF(달력!$S$28=\"순서4\",근무!G330,IF(달력!$S$28=\"순서5\",근무!H330,IF(달력!$S$28=\"순서6\",근무!I330,\"\"))))))","v":"야간"},{"$f":"IF(달력!$S$29=\"순서1\",근무!D330,IF(달력!$S$29=\"순서2\",근무!E330,IF(달력!$S$29=\"순서3\",근무!F330,IF(달력!$S$29=\"순서4\",근무!G330,IF(달력!$S$29=\"순서5\",근무!H330,IF(달력!$S$29=\"순서6\",근무!I330,\"\"))))))","v":"야간"}]
[null,"2023-11-21","화",{"$f":"IF(달력!$S$24=\"순서1\",근무!D331,IF(달력!$S$24=\"순서2\",근무!E331,IF(달력!$S$24=\"순서3\",근무!F331,IF(달력!$S$24=\"순서4\",근무!G331,IF(달력!$S$24=\"순서5\",근무!H331,IF(달력!$S$24=\"순서6\",근무!I331,\"\"))))))","v":"주간"},{"$f":"IF(달력!$S$25=\"순서1\",근무!D331,IF(달력!$S$25=\"순서2\",근무!E331,IF(달력!$S$25=\"순서3\",근무!F331,IF(달력!$S$25=\"순서4\",근무!G331,IF(달력!$S$25=\"순서5\",근무!H331,IF(달력!$S$25=\"순서6\",근무!I331,\"\"))))))","v":"주간"},{"$f":"IF(달력!$S$26=\"순서1\",근무!D331,IF(달력!$S$26=\"순서2\",근무!E331,IF(달력!$S$26=\"순서3\",근무!F331,IF(달력!$S$26=\"순서4\",근무!G331,IF(달력!$S$26=\"순서5\",근무!H331,IF(달력!$S$26=\"순서6\",근무!I331,\"\"))))))","v":"야간"},{"$f":"IF(달력!$S$27=\"순서1\",근무!D331,IF(달력!$S$27=\"순서2\",근무!E331,IF(달력!$S$27=\"순서3\",근무!F331,IF(달력!$S$27=\"순서4\",근무!G331,IF(달력!$S$27=\"순서5\",근무!H331,IF(달력!$S$27=\"순서6\",근무!I331,\"\"))))))","v":"야간"},{"$f":"IF(달력!$S$28=\"순서1\",근무!D331,IF(달력!$S$28=\"순서2\",근무!E331,IF(달력!$S$28=\"순서3\",근무!F331,IF(달력!$S$28=\"순서4\",근무!G331,IF(달력!$S$28=\"순서5\",근무!H331,IF(달력!$S$28=\"순서6\",근무!I331,\"\"))))))","v":"비번"},{"$f":"IF(달력!$S$29=\"순서1\",근무!D331,IF(달력!$S$29=\"순서2\",근무!E331,IF(달력!$S$29=\"순서3\",근무!F331,IF(달력!$S$29=\"순서4\",근무!G331,IF(달력!$S$29=\"순서5\",근무!H331,IF(달력!$S$29=\"순서6\",근무!I331,\"\"))))))","v":"비번"}]
[null,"2023-11-22","수",{"$f":"IF(달력!$S$24=\"순서1\",근무!D332,IF(달력!$S$24=\"순서2\",근무!E332,IF(달력!$S$24=\"순서3\",근무!F332,IF(달력!$S$24=\"순서4\",근무!G332,IF(달력!$S$24=\"순서5\",근무!H332,IF(달력!$S$24=\"순서6\",근무!I332,\"\"))))))","v":"주간"},{"$f":"IF(달력!$S$25=\"순서1\",근무!D332,IF(달력!$S$25=\"순서2\",근무!E332,IF(달력!$S$25=\"순서3\",근무!F332,IF(달력!$S$25=\"순서4\",근무!G332,IF(달력!$S$25=\"순서5\",근무!H332,IF(달력!$S$25=\"순서6\",근무!I332,\"\"))))))","v":"주간"},{"$f":"IF(달력!$S$26=\"순서1\",근무!D332,IF(달력!$S$26=\"순서2\",근무!E332,IF(달력!$S$26=\"순서3\",근무!F332,IF(달력!$S$26=\"순서4\",근무!G332,IF(달력!$S$26=\"순서5\",근무!H332,IF(달력!$S$26=\"순서6\",근무!I332,\"\"))))))","v":"야간"},{"$f":"IF(달력!$S$27=\"순서1\",근무!D332,IF(달력!$S$27=\"순서2\",근무!E332,IF(달력!$S$27=\"순서3\",근무!F332,IF(달력!$S$27=\"순서4\",근무!G332,IF(달력!$S$27=\"순서5\",근무!H332,IF(달력!$S$27=\"순서6\",근무!I332,\"\"))))))","v":"야간"},{"$f":"IF(달력!$S$28=\"순서1\",근무!D332,IF(달력!$S$28=\"순서2\",근무!E332,IF(달력!$S$28=\"순서3\",근무!F332,IF(달력!$S$28=\"순서4\",근무!G332,IF(달력!$S$28=\"순서5\",근무!H332,IF(달력!$S$28=\"순서6\",근무!I332,\"\"))))))","v":"비번"},{"$f":"IF(달력!$S$29=\"순서1\",근무!D332,IF(달력!$S$29=\"순서2\",근무!E332,IF(달력!$S$29=\"순서3\",근무!F332,IF(달력!$S$29=\"순서4\",근무!G332,IF(달력!$S$29=\"순서5\",근무!H332,IF(달력!$S$29=\"순서6\",근무!I332,\"\"))))))","v":"비번"}]
[null,"2023-11-23","목",{"$f":"IF(달력!$S$24=\"순서1\",근무!D333,IF(달력!$S$24=\"순서2\",근무!E333,IF(달력!$S$24=\"순서3\",근무!F333,IF(달력!$S$24=\"순서4\",근무!G333,IF(달력!$S$24=\"순서5\",근무!H333,IF(달력!$S$24=\"순서6\",근무!I333,\"\"))))))","v":"야간"},{"$f":"IF(달력!$S$25=\"순서1\",근무!D333,IF(달력!$S$25=\"순서2\",근무!E333,IF(달력!$S$25=\"순서3\",근무!F333,IF(달력!$S$25=\"순서4\",근무!G333,IF(달력!$S$25=\"순서5\",근무!H333,IF(달력!$S$25=\"순서6\",근무!I333,\"\"))))))","v":"야간"},{"$f":"IF(달력!$S$26=\"순서1\",근무!D333,IF(달력!$S$26=\"순서2\",근무!E333,IF(달력!$S$26=\"순서3\",근무!F333,IF(달력!$S$26=\"순서4\",근무!G333,IF(달력!$S$26=\"순서5\",근무!H333,IF(달력!$S$26=\"순서6\",근무!I333,\"\"))))))","v":"비번"},{"$f":"IF(달력!$S$27=\"순서1\",근무!D333,IF(달력!$S$27=\"순서2\",근무!E333,IF(달력!$S$27=\"순서3\",근무!F333,IF(달력!$S$27=\"순서4\",근무!G333,IF(달력!$S$27=\"순서5\",근무!H333,IF(달력!$S$27=\"순서6\",근무!I333,\"\"))))))","v":"비번"},{"$f":"IF(달력!$S$28=\"순서1\",근무!D333,IF(달력!$S$28=\"순서2\",근무!E333,IF(달력!$S$28=\"순서3\",근무!F333,IF(달력!$S$28=\"순서4\",근무!G333,IF(달력!$S$28=\"순서5\",근무!H333,IF(달력!$S$28=\"순서6\",근무!I333,\"\"))))))","v":"주간"},{"$f":"IF(달력!$S$29=\"순서1\",근무!D333,IF(달력!$S$29=\"순서2\",근무!E333,IF(달력!$S$29=\"순서3\",근무!F333,IF(달력!$S$29=\"순서4\",근무!G333,IF(달력!$S$29=\"순서5\",근무!H333,IF(달력!$S$29=\"순서6\",근무!I333,\"\"))))))","v":"주간"}]
[null,"2023-11-24","금",{"$f":"IF(달력!$S$24=\"순서1\",근무!D334,IF(달력!$S$24=\"순서2\",근무!E334,IF(달력!$S$24=\"순서3\",근무!F334,IF(달력!$S$24=\"순서4\",근무!G334,IF(달력!$S$24=\"순서5\",근무!H334,IF(달력!$S$24=\"순서6\",근무!I334,\"\"))))))","v":"야간"},{"$f":"IF(달력!$S$25=\"순서1\",근무!D334,IF(달력!$S$25=\"순서2\",근무!E334,IF(달력!$S$25=\"순서3\",근무!F334,IF(달력!$S$25=\"순서4\",근무!G334,IF(달력!$S$25=\"순서5\",근무!H334,IF(달력!$S$25=\"순서6\",근무!I334,\"\"))))))","v":"야간"},{"$f":"IF(달력!$S$26=\"순서1\",근무!D334,IF(달력!$S$26=\"순서2\",근무!E334,IF(달력!$S$26=\"순서3\",근무!F334,IF(달력!$S$26=\"순서4\",근무!G334,IF(달력!$S$26=\"순서5\",근무!H334,IF(달력!$S$26=\"순서6\",근무!I334,\"\"))))))","v":"비번"},{"$f":"IF(달력!$S$27=\"순서1\",근무!D334,IF(달력!$S$27=\"순서2\",근무!E334,IF(달력!$S$27=\"순서3\",근무!F334,IF(달력!$S$27=\"순서4\",근무!G334,IF(달력!$S$27=\"순서5\",근무!H334,IF(달력!$S$27=\"순서6\",근무!I334,\"\"))))))","v":"비번"},{"$f":"IF(달력!$S$28=\"순서1\",근무!D334,IF(달력!$S$28=\"순서2\",근무!E334,IF(달력!$S$28=\"순서3\",근무!F334,IF(달력!$S$28=\"순서4\",근무!G334,IF(달력!$S$28=\"순서5\",근무!H334,IF(달력!$S$28=\"순서6\",근무!I334,\"\"))))))","v":"주간"},{"$f":"IF(달력!$S$29=\"순서1\",근무!D334,IF(달력!$S$29=\"순서2\",근무!E334,IF(달력!$S$29=\"순서3\",근무!F334,IF(달력!$S$29=\"순서4\",근무!G334,IF(달력!$S$29=\"순서5\",근무!H334,IF(달력!$S$29=\"순서6\",근무!I334,\"\"))))))","v":"주간"}]
[null,"2023-11-25","토",{"$f":"IF(달력!$S$24=\"순서1\",근무!D335,IF(달력!$S$24=\"순서2\",근무!E335,IF(달력!$S$24=\"순서3\",근무!F335,IF(달력!$S$24=\"순서4\",근무!G335,IF(달력!$S$24=\"순서5\",근무!H335,IF(달력!$S$24=\"순서6\",근무!I335,\"\"))))))","v":"비번"},{"$f":"IF(달력!$S$25=\"순서1\",근무!D335,IF(달력!$S$25=\"순서2\",근무!E335,IF(달력!$S$25=\"순서3\",근무!F335,IF(달력!$S$25=\"순서4\",근무!G335,IF(달력!$S$25=\"순서5\",근무!H335,IF(달력!$S$25=\"순서6\",근무!I335,\"\"))))))","v":"비번"},{"$f":"IF(달력!$S$26=\"순서1\",근무!D335,IF(달력!$S$26=\"순서2\",근무!E335,IF(달력!$S$26=\"순서3\",근무!F335,IF(달력!$S$26=\"순서4\",근무!G335,IF(달력!$S$26=\"순서5\",근무!H335,IF(달력!$S$26=\"순서6\",근무!I335,\"\"))))))","v":"주간"},{"$f":"IF(달력!$S$27=\"순서1\",근무!D335,IF(달력!$S$27=\"순서2\",근무!E335,IF(달력!$S$27=\"순서3\",근무!F335,IF(달력!$S$27=\"순서4\",근무!G335,IF(달력!$S$27=\"순서5\",근무!H335,IF(달력!$S$27=\"순서6\",근무!I335,\"\"))))))","v":"주간"},{"$f":"IF(달력!$S$28=\"순서1\",근무!D335,IF(달력!$S$28=\"순서2\",근무!E335,IF(달력!$S$28=\"순서3\",근무!F335,IF(달력!$S$28=\"순서4\",근무!G335,IF(달력!$S$28=\"순서5\",근무!H335,IF(달력!$S$28=\"순서6\",근무!I335,\"\"))))))","v":"야간"},{"$f":"IF(달력!$S$29=\"순서1\",근무!D335,IF(달력!$S$29=\"순서2\",근무!E335,IF(달력!$S$29=\"순서3\",근무!F335,IF(달력!$S$29=\"순서4\",근무!G335,IF(달력!$S$29=\"순서5\",근무!H335,IF(달력!$S$29=\"순서6\",근무!I335,\"\"))))))","v":"야간"}]
[null,"2023-11-26","일",{"$f":"IF(달력!$S$24=\"순서1\",근무!D336,IF(달력!$S$24=\"순서2\",근무!E336,IF(달력!$S$24=\"순서3\",근무!F336,IF(달력!$S$24=\"순서4\",근무!G336,IF(달력!$S$24=\"순서5\",근무!H336,IF(달력!$S$24=\"순서6\",근무!I336,\"\"))))))","v":"비번"},{"$f":"IF(달력!$S$25=\"순서1\",근무!D336,IF(달력!$S$25=\"순서2\",근무!E336,IF(달력!$S$25=\"순서3\",근무!F336,IF(달력!$S$25=\"순서4\",근무!G336,IF(달력!$S$25=\"순서5\",근무!H336,IF(달력!$S$25=\"순서6\",근무!I336,\"\"))))))","v":"비번"},{"$f":"IF(달력!$S$26=\"순서1\",근무!D336,IF(달력!$S$26=\"순서2\",근무!E336,IF(달력!$S$26=\"순서3\",근무!F336,IF(달력!$S$26=\"순서4\",근무!G336,IF(달력!$S$26=\"순서5\",근무!H336,IF(달력!$S$26=\"순서6\",근무!I336,\"\"))))))","v":"주간"},{"$f":"IF(달력!$S$27=\"순서1\",근무!D336,IF(달력!$S$27=\"순서2\",근무!E336,IF(달력!$S$27=\"순서3\",근무!F336,IF(달력!$S$27=\"순서4\",근무!G336,IF(달력!$S$27=\"순서5\",근무!H336,IF(달력!$S$27=\"순서6\",근무!I336,\"\"))))))","v":"주간"},{"$f":"IF(달력!$S$28=\"순서1\",근무!D336,IF(달력!$S$28=\"순서2\",근무!E336,IF(달력!$S$28=\"순서3\",근무!F336,IF(달력!$S$28=\"순서4\",근무!G336,IF(달력!$S$28=\"순서5\",근무!H336,IF(달력!$S$28=\"순서6\",근무!I336,\"\"))))))","v":"야간"},{"$f":"IF(달력!$S$29=\"순서1\",근무!D336,IF(달력!$S$29=\"순서2\",근무!E336,IF(달력!$S$29=\"순서3\",근무!F336,IF(달력!$S$29=\"순서4\",근무!G336,IF(달력!$S$29=\"순서5\",근무!H336,IF(달력!$S$29=\"순서6\",근무!I336,\"\"))))))","v":"야간"}]
[null,"2023-11-27","월",{"$f":"IF(달력!$S$24=\"순서1\",근무!D337,IF(달력!$S$24=\"순서2\",근무!E337,IF(달력!$S$24=\"순서3\",근무!F337,IF(달력!$S$24=\"순서4\",근무!G337,IF(달력!$S$24=\"순서5\",근무!H337,IF(달력!$S$24=\"순서6\",근무!I337,\"\"))))))","v":"주간"},{"$f":"IF(달력!$S$25=\"순서1\",근무!D337,IF(달력!$S$25=\"순서2\",근무!E337,IF(달력!$S$25=\"순서3\",근무!F337,IF(달력!$S$25=\"순서4\",근무!G337,IF(달력!$S$25=\"순서5\",근무!H337,IF(달력!$S$25=\"순서6\",근무!I337,\"\"))))))","v":"주간"},{"$f":"IF(달력!$S$26=\"순서1\",근무!D337,IF(달력!$S$26=\"순서2\",근무!E337,IF(달력!$S$26=\"순서3\",근무!F337,IF(달력!$S$26=\"순서4\",근무!G337,IF(달력!$S$26=\"순서5\",근무!H337,IF(달력!$S$26=\"순서6\",근무!I337,\"\"))))))","v":"야간"},{"$f":"IF(달력!$S$27=\"순서1\",근무!D337,IF(달력!$S$27=\"순서2\",근무!E337,IF(달력!$S$27=\"순서3\",근무!F337,IF(달력!$S$27=\"순서4\",근무!G337,IF(달력!$S$27=\"순서5\",근무!H337,IF(달력!$S$27=\"순서6\",근무!I337,\"\"))))))","v":"야간"},{"$f":"IF(달력!$S$28=\"순서1\",근무!D337,IF(달력!$S$28=\"순서2\",근무!E337,IF(달력!$S$28=\"순서3\",근무!F337,IF(달력!$S$28=\"순서4\",근무!G337,IF(달력!$S$28=\"순서5\",근무!H337,IF(달력!$S$28=\"순서6\",근무!I337,\"\"))))))","v":"비번"},{"$f":"IF(달력!$S$29=\"순서1\",근무!D337,IF(달력!$S$29=\"순서2\",근무!E337,IF(달력!$S$29=\"순서3\",근무!F337,IF(달력!$S$29=\"순서4\",근무!G337,IF(달력!$S$29=\"순서5\",근무!H337,IF(달력!$S$29=\"순서6\",근무!I337,\"\"))))))","v":"비번"}]
[null,"2023-11-28","화",{"$f":"IF(달력!$S$24=\"순서1\",근무!D338,IF(달력!$S$24=\"순서2\",근무!E338,IF(달력!$S$24=\"순서3\",근무!F338,IF(달력!$S$24=\"순서4\",근무!G338,IF(달력!$S$24=\"순서5\",근무!H338,IF(달력!$S$24=\"순서6\",근무!I338,\"\"))))))","v":"주간"},{"$f":"IF(달력!$S$25=\"순서1\",근무!D338,IF(달력!$S$25=\"순서2\",근무!E338,IF(달력!$S$25=\"순서3\",근무!F338,IF(달력!$S$25=\"순서4\",근무!G338,IF(달력!$S$25=\"순서5\",근무!H338,IF(달력!$S$25=\"순서6\",근무!I338,\"\"))))))","v":"주간"},{"$f":"IF(달력!$S$26=\"순서1\",근무!D338,IF(달력!$S$26=\"순서2\",근무!E338,IF(달력!$S$26=\"순서3\",근무!F338,IF(달력!$S$26=\"순서4\",근무!G338,IF(달력!$S$26=\"순서5\",근무!H338,IF(달력!$S$26=\"순서6\",근무!I338,\"\"))))))","v":"야간"},{"$f":"IF(달력!$S$27=\"순서1\",근무!D338,IF(달력!$S$27=\"순서2\",근무!E338,IF(달력!$S$27=\"순서3\",근무!F338,IF(달력!$S$27=\"순서4\",근무!G338,IF(달력!$S$27=\"순서5\",근무!H338,IF(달력!$S$27=\"순서6\",근무!I338,\"\"))))))","v":"야간"},{"$f":"IF(달력!$S$28=\"순서1\",근무!D338,IF(달력!$S$28=\"순서2\",근무!E338,IF(달력!$S$28=\"순서3\",근무!F338,IF(달력!$S$28=\"순서4\",근무!G338,IF(달력!$S$28=\"순서5\",근무!H338,IF(달력!$S$28=\"순서6\",근무!I338,\"\"))))))","v":"비번"},{"$f":"IF(달력!$S$29=\"순서1\",근무!D338,IF(달력!$S$29=\"순서2\",근무!E338,IF(달력!$S$29=\"순서3\",근무!F338,IF(달력!$S$29=\"순서4\",근무!G338,IF(달력!$S$29=\"순서5\",근무!H338,IF(달력!$S$29=\"순서6\",근무!I338,\"\"))))))","v":"비번"}]
[null,"2023-11-29","수",{"$f":"IF(달력!$S$24=\"순서1\",근무!D339,IF(달력!$S$24=\"순서2\",근무!E339,IF(달력!$S$24=\"순서3\",근무!F339,IF(달력!$S$24=\"순서4\",근무!G339,IF(달력!$S$24=\"순서5\",근무!H339,IF(달력!$S$24=\"순서6\",근무!I339,\"\"))))))","v":"야간"},{"$f":"IF(달력!$S$25=\"순서1\",근무!D339,IF(달력!$S$25=\"순서2\",근무!E339,IF(달력!$S$25=\"순서3\",근무!F339,IF(달력!$S$25=\"순서4\",근무!G339,IF(달력!$S$25=\"순서5\",근무!H339,IF(달력!$S$25=\"순서6\",근무!I339,\"\"))))))","v":"야간"},{"$f":"IF(달력!$S$26=\"순서1\",근무!D339,IF(달력!$S$26=\"순서2\",근무!E339,IF(달력!$S$26=\"순서3\",근무!F339,IF(달력!$S$26=\"순서4\",근무!G339,IF(달력!$S$26=\"순서5\",근무!H339,IF(달력!$S$26=\"순서6\",근무!I339,\"\"))))))","v":"비번"},{"$f":"IF(달력!$S$27=\"순서1\",근무!D339,IF(달력!$S$27=\"순서2\",근무!E339,IF(달력!$S$27=\"순서3\",근무!F339,IF(달력!$S$27=\"순서4\",근무!G339,IF(달력!$S$27=\"순서5\",근무!H339,IF(달력!$S$27=\"순서6\",근무!I339,\"\"))))))","v":"비번"},{"$f":"IF(달력!$S$28=\"순서1\",근무!D339,IF(달력!$S$28=\"순서2\",근무!E339,IF(달력!$S$28=\"순서3\",근무!F339,IF(달력!$S$28=\"순서4\",근무!G339,IF(달력!$S$28=\"순서5\",근무!H339,IF(달력!$S$28=\"순서6\",근무!I339,\"\"))))))","v":"주간"},{"$f":"IF(달력!$S$29=\"순서1\",근무!D339,IF(달력!$S$29=\"순서2\",근무!E339,IF(달력!$S$29=\"순서3\",근무!F339,IF(달력!$S$29=\"순서4\",근무!G339,IF(달력!$S$29=\"순서5\",근무!H339,IF(달력!$S$29=\"순서6\",근무!I339,\"\"))))))","v":"주간"}]
[null,"2023-11-30","목",{"$f":"IF(달력!$S$24=\"순서1\",근무!D340,IF(달력!$S$24=\"순서2\",근무!E340,IF(달력!$S$24=\"순서3\",근무!F340,IF(달력!$S$24=\"순서4\",근무!G340,IF(달력!$S$24=\"순서5\",근무!H340,IF(달력!$S$24=\"순서6\",근무!I340,\"\"))))))","v":"야간"},{"$f":"IF(달력!$S$25=\"순서1\",근무!D340,IF(달력!$S$25=\"순서2\",근무!E340,IF(달력!$S$25=\"순서3\",근무!F340,IF(달력!$S$25=\"순서4\",근무!G340,IF(달력!$S$25=\"순서5\",근무!H340,IF(달력!$S$25=\"순서6\",근무!I340,\"\"))))))","v":"야간"},{"$f":"IF(달력!$S$26=\"순서1\",근무!D340,IF(달력!$S$26=\"순서2\",근무!E340,IF(달력!$S$26=\"순서3\",근무!F340,IF(달력!$S$26=\"순서4\",근무!G340,IF(달력!$S$26=\"순서5\",근무!H340,IF(달력!$S$26=\"순서6\",근무!I340,\"\"))))))","v":"비번"},{"$f":"IF(달력!$S$27=\"순서1\",근무!D340,IF(달력!$S$27=\"순서2\",근무!E340,IF(달력!$S$27=\"순서3\",근무!F340,IF(달력!$S$27=\"순서4\",근무!G340,IF(달력!$S$27=\"순서5\",근무!H340,IF(달력!$S$27=\"순서6\",근무!I340,\"\"))))))","v":"비번"},{"$f":"IF(달력!$S$28=\"순서1\",근무!D340,IF(달력!$S$28=\"순서2\",근무!E340,IF(달력!$S$28=\"순서3\",근무!F340,IF(달력!$S$28=\"순서4\",근무!G340,IF(달력!$S$28=\"순서5\",근무!H340,IF(달력!$S$28=\"순서6\",근무!I340,\"\"))))))","v":"주간"},{"$f":"IF(달력!$S$29=\"순서1\",근무!D340,IF(달력!$S$29=\"순서2\",근무!E340,IF(달력!$S$29=\"순서3\",근무!F340,IF(달력!$S$29=\"순서4\",근무!G340,IF(달력!$S$29=\"순서5\",근무!H340,IF(달력!$S$29=\"순서6\",근무!I340,\"\"))))))","v":"주간"}]
[null,"2023-12-01","금",{"$f":"IF(달력!$S$24=\"순서1\",근무!D341,IF(달력!$S$24=\"순서2\",근무!E341,IF(달력!$S$24=\"순서3\",근무!F341,IF(달력!$S$24=\"순서4\",근무!G341,IF(달력!$S$24=\"순서5\",근무!H341,IF(달력!$S$24=\"순서6\",근무!I341,\"\"))))))","v":"비번"},{"$f":"IF(달력!$S$25=\"순서1\",근무!D341,IF(달력!$S$25=\"순서2\",근무!E341,IF(달력!$S$25=\"순서3\",근무!F341,IF(달력!$S$25=\"순서4\",근무!G341,IF(달력!$S$25=\"순서5\",근무!H341,IF(달력!$S$25=\"순서6\",근무!I341,\"\"))))))","v":"비번"},{"$f":"IF(달력!$S$26=\"순서1\",근무!D341,IF(달력!$S$26=\"순서2\",근무!E341,IF(달력!$S$26=\"순서3\",근무!F341,IF(달력!$S$26=\"순서4\",근무!G341,IF(달력!$S$26=\"순서5\",근무!H341,IF(달력!$S$26=\"순서6\",근무!I341,\"\"))))))","v":"주간"},{"$f":"IF(달력!$S$27=\"순서1\",근무!D341,IF(달력!$S$27=\"순서2\",근무!E341,IF(달력!$S$27=\"순서3\",근무!F341,IF(달력!$S$27=\"순서4\",근무!G341,IF(달력!$S$27=\"순서5\",근무!H341,IF(달력!$S$27=\"순서6\",근무!I341,\"\"))))))","v":"주간"},{"$f":"IF(달력!$S$28=\"순서1\",근무!D341,IF(달력!$S$28=\"순서2\",근무!E341,IF(달력!$S$28=\"순서3\",근무!F341,IF(달력!$S$28=\"순서4\",근무!G341,IF(달력!$S$28=\"순서5\",근무!H341,IF(달력!$S$28=\"순서6\",근무!I341,\"\"))))))","v":"야간"},{"$f":"IF(달력!$S$29=\"순서1\",근무!D341,IF(달력!$S$29=\"순서2\",근무!E341,IF(달력!$S$29=\"순서3\",근무!F341,IF(달력!$S$29=\"순서4\",근무!G341,IF(달력!$S$29=\"순서5\",근무!H341,IF(달력!$S$29=\"순서6\",근무!I341,\"\"))))))","v":"야간"}]
[null,"2023-12-02","토",{"$f":"IF(달력!$S$24=\"순서1\",근무!D342,IF(달력!$S$24=\"순서2\",근무!E342,IF(달력!$S$24=\"순서3\",근무!F342,IF(달력!$S$24=\"순서4\",근무!G342,IF(달력!$S$24=\"순서5\",근무!H342,IF(달력!$S$24=\"순서6\",근무!I342,\"\"))))))","v":"비번"},{"$f":"IF(달력!$S$25=\"순서1\",근무!D342,IF(달력!$S$25=\"순서2\",근무!E342,IF(달력!$S$25=\"순서3\",근무!F342,IF(달력!$S$25=\"순서4\",근무!G342,IF(달력!$S$25=\"순서5\",근무!H342,IF(달력!$S$25=\"순서6\",근무!I342,\"\"))))))","v":"비번"},{"$f":"IF(달력!$S$26=\"순서1\",근무!D342,IF(달력!$S$26=\"순서2\",근무!E342,IF(달력!$S$26=\"순서3\",근무!F342,IF(달력!$S$26=\"순서4\",근무!G342,IF(달력!$S$26=\"순서5\",근무!H342,IF(달력!$S$26=\"순서6\",근무!I342,\"\"))))))","v":"주간"},{"$f":"IF(달력!$S$27=\"순서1\",근무!D342,IF(달력!$S$27=\"순서2\",근무!E342,IF(달력!$S$27=\"순서3\",근무!F342,IF(달력!$S$27=\"순서4\",근무!G342,IF(달력!$S$27=\"순서5\",근무!H342,IF(달력!$S$27=\"순서6\",근무!I342,\"\"))))))","v":"주간"},{"$f":"IF(달력!$S$28=\"순서1\",근무!D342,IF(달력!$S$28=\"순서2\",근무!E342,IF(달력!$S$28=\"순서3\",근무!F342,IF(달력!$S$28=\"순서4\",근무!G342,IF(달력!$S$28=\"순서5\",근무!H342,IF(달력!$S$28=\"순서6\",근무!I342,\"\"))))))","v":"야간"},{"$f":"IF(달력!$S$29=\"순서1\",근무!D342,IF(달력!$S$29=\"순서2\",근무!E342,IF(달력!$S$29=\"순서3\",근무!F342,IF(달력!$S$29=\"순서4\",근무!G342,IF(달력!$S$29=\"순서5\",근무!H342,IF(달력!$S$29=\"순서6\",근무!I342,\"\"))))))","v":"야간"}]
[null,"2023-12-03","일",{"$f":"IF(달력!$S$24=\"순서1\",근무!D343,IF(달력!$S$24=\"순서2\",근무!E343,IF(달력!$S$24=\"순서3\",근무!F343,IF(달력!$S$24=\"순서4\",근무!G343,IF(달력!$S$24=\"순서5\",근무!H343,IF(달력!$S$24=\"순서6\",근무!I343,\"\"))))))","v":"주간"},{"$f":"IF(달력!$S$25=\"순서1\",근무!D343,IF(달력!$S$25=\"순서2\",근무!E343,IF(달력!$S$25=\"순서3\",근무!F343,IF(달력!$S$25=\"순서4\",근무!G343,IF(달력!$S$25=\"순서5\",근무!H343,IF(달력!$S$25=\"순서6\",근무!I343,\"\"))))))","v":"주간"},{"$f":"IF(달력!$S$26=\"순서1\",근무!D343,IF(달력!$S$26=\"순서2\",근무!E343,IF(달력!$S$26=\"순서3\",근무!F343,IF(달력!$S$26=\"순서4\",근무!G343,IF(달력!$S$26=\"순서5\",근무!H343,IF(달력!$S$26=\"순서6\",근무!I343,\"\"))))))","v":"야간"},{"$f":"IF(달력!$S$27=\"순서1\",근무!D343,IF(달력!$S$27=\"순서2\",근무!E343,IF(달력!$S$27=\"순서3\",근무!F343,IF(달력!$S$27=\"순서4\",근무!G343,IF(달력!$S$27=\"순서5\",근무!H343,IF(달력!$S$27=\"순서6\",근무!I343,\"\"))))))","v":"야간"},{"$f":"IF(달력!$S$28=\"순서1\",근무!D343,IF(달력!$S$28=\"순서2\",근무!E343,IF(달력!$S$28=\"순서3\",근무!F343,IF(달력!$S$28=\"순서4\",근무!G343,IF(달력!$S$28=\"순서5\",근무!H343,IF(달력!$S$28=\"순서6\",근무!I343,\"\"))))))","v":"비번"},{"$f":"IF(달력!$S$29=\"순서1\",근무!D343,IF(달력!$S$29=\"순서2\",근무!E343,IF(달력!$S$29=\"순서3\",근무!F343,IF(달력!$S$29=\"순서4\",근무!G343,IF(달력!$S$29=\"순서5\",근무!H343,IF(달력!$S$29=\"순서6\",근무!I343,\"\"))))))","v":"비번"}]
[null,"2023-12-04","월",{"$f":"IF(달력!$S$24=\"순서1\",근무!D344,IF(달력!$S$24=\"순서2\",근무!E344,IF(달력!$S$24=\"순서3\",근무!F344,IF(달력!$S$24=\"순서4\",근무!G344,IF(달력!$S$24=\"순서5\",근무!H344,IF(달력!$S$24=\"순서6\",근무!I344,\"\"))))))","v":"주간"},{"$f":"IF(달력!$S$25=\"순서1\",근무!D344,IF(달력!$S$25=\"순서2\",근무!E344,IF(달력!$S$25=\"순서3\",근무!F344,IF(달력!$S$25=\"순서4\",근무!G344,IF(달력!$S$25=\"순서5\",근무!H344,IF(달력!$S$25=\"순서6\",근무!I344,\"\"))))))","v":"주간"},{"$f":"IF(달력!$S$26=\"순서1\",근무!D344,IF(달력!$S$26=\"순서2\",근무!E344,IF(달력!$S$26=\"순서3\",근무!F344,IF(달력!$S$26=\"순서4\",근무!G344,IF(달력!$S$26=\"순서5\",근무!H344,IF(달력!$S$26=\"순서6\",근무!I344,\"\"))))))","v":"야간"},{"$f":"IF(달력!$S$27=\"순서1\",근무!D344,IF(달력!$S$27=\"순서2\",근무!E344,IF(달력!$S$27=\"순서3\",근무!F344,IF(달력!$S$27=\"순서4\",근무!G344,IF(달력!$S$27=\"순서5\",근무!H344,IF(달력!$S$27=\"순서6\",근무!I344,\"\"))))))","v":"야간"},{"$f":"IF(달력!$S$28=\"순서1\",근무!D344,IF(달력!$S$28=\"순서2\",근무!E344,IF(달력!$S$28=\"순서3\",근무!F344,IF(달력!$S$28=\"순서4\",근무!G344,IF(달력!$S$28=\"순서5\",근무!H344,IF(달력!$S$28=\"순서6\",근무!I344,\"\"))))))","v":"비번"},{"$f":"IF(달력!$S$29=\"순서1\",근무!D344,IF(달력!$S$29=\"순서2\",근무!E344,IF(달력!$S$29=\"순서3\",근무!F344,IF(달력!$S$29=\"순서4\",근무!G344,IF(달력!$S$29=\"순서5\",근무!H344,IF(달력!$S$29=\"순서6\",근무!I344,\"\"))))))","v":"비번"}]
[null,"2023-12-05","화",{"$f":"IF(달력!$S$24=\"순서1\",근무!D345,IF(달력!$S$24=\"순서2\",근무!E345,IF(달력!$S$24=\"순서3\",근무!F345,IF(달력!$S$24=\"순서4\",근무!G345,IF(달력!$S$24=\"순서5\",근무!H345,IF(달력!$S$24=\"순서6\",근무!I345,\"\"))))))","v":"야간"},{"$f":"IF(달력!$S$25=\"순서1\",근무!D345,IF(달력!$S$25=\"순서2\",근무!E345,IF(달력!$S$25=\"순서3\",근무!F345,IF(달력!$S$25=\"순서4\",근무!G345,IF(달력!$S$25=\"순서5\",근무!H345,IF(달력!$S$25=\"순서6\",근무!I345,\"\"))))))","v":"야간"},{"$f":"IF(달력!$S$26=\"순서1\",근무!D345,IF(달력!$S$26=\"순서2\",근무!E345,IF(달력!$S$26=\"순서3\",근무!F345,IF(달력!$S$26=\"순서4\",근무!G345,IF(달력!$S$26=\"순서5\",근무!H345,IF(달력!$S$26=\"순서6\",근무!I345,\"\"))))))","v":"비번"},{"$f":"IF(달력!$S$27=\"순서1\",근무!D345,IF(달력!$S$27=\"순서2\",근무!E345,IF(달력!$S$27=\"순서3\",근무!F345,IF(달력!$S$27=\"순서4\",근무!G345,IF(달력!$S$27=\"순서5\",근무!H345,IF(달력!$S$27=\"순서6\",근무!I345,\"\"))))))","v":"비번"},{"$f":"IF(달력!$S$28=\"순서1\",근무!D345,IF(달력!$S$28=\"순서2\",근무!E345,IF(달력!$S$28=\"순서3\",근무!F345,IF(달력!$S$28=\"순서4\",근무!G345,IF(달력!$S$28=\"순서5\",근무!H345,IF(달력!$S$28=\"순서6\",근무!I345,\"\"))))))","v":"주간"},{"$f":"IF(달력!$S$29=\"순서1\",근무!D345,IF(달력!$S$29=\"순서2\",근무!E345,IF(달력!$S$29=\"순서3\",근무!F345,IF(달력!$S$29=\"순서4\",근무!G345,IF(달력!$S$29=\"순서5\",근무!H345,IF(달력!$S$29=\"순서6\",근무!I345,\"\"))))))","v":"주간"}]
[null,"2023-12-06","수",{"$f":"IF(달력!$S$24=\"순서1\",근무!D346,IF(달력!$S$24=\"순서2\",근무!E346,IF(달력!$S$24=\"순서3\",근무!F346,IF(달력!$S$24=\"순서4\",근무!G346,IF(달력!$S$24=\"순서5\",근무!H346,IF(달력!$S$24=\"순서6\",근무!I346,\"\"))))))","v":"야간"},{"$f":"IF(달력!$S$25=\"순서1\",근무!D346,IF(달력!$S$25=\"순서2\",근무!E346,IF(달력!$S$25=\"순서3\",근무!F346,IF(달력!$S$25=\"순서4\",근무!G346,IF(달력!$S$25=\"순서5\",근무!H346,IF(달력!$S$25=\"순서6\",근무!I346,\"\"))))))","v":"야간"},{"$f":"IF(달력!$S$26=\"순서1\",근무!D346,IF(달력!$S$26=\"순서2\",근무!E346,IF(달력!$S$26=\"순서3\",근무!F346,IF(달력!$S$26=\"순서4\",근무!G346,IF(달력!$S$26=\"순서5\",근무!H346,IF(달력!$S$26=\"순서6\",근무!I346,\"\"))))))","v":"비번"},{"$f":"IF(달력!$S$27=\"순서1\",근무!D346,IF(달력!$S$27=\"순서2\",근무!E346,IF(달력!$S$27=\"순서3\",근무!F346,IF(달력!$S$27=\"순서4\",근무!G346,IF(달력!$S$27=\"순서5\",근무!H346,IF(달력!$S$27=\"순서6\",근무!I346,\"\"))))))","v":"비번"},{"$f":"IF(달력!$S$28=\"순서1\",근무!D346,IF(달력!$S$28=\"순서2\",근무!E346,IF(달력!$S$28=\"순서3\",근무!F346,IF(달력!$S$28=\"순서4\",근무!G346,IF(달력!$S$28=\"순서5\",근무!H346,IF(달력!$S$28=\"순서6\",근무!I346,\"\"))))))","v":"주간"},{"$f":"IF(달력!$S$29=\"순서1\",근무!D346,IF(달력!$S$29=\"순서2\",근무!E346,IF(달력!$S$29=\"순서3\",근무!F346,IF(달력!$S$29=\"순서4\",근무!G346,IF(달력!$S$29=\"순서5\",근무!H346,IF(달력!$S$29=\"순서6\",근무!I346,\"\"))))))","v":"주간"}]
[null,"2023-12-07","목",{"$f":"IF(달력!$S$24=\"순서1\",근무!D347,IF(달력!$S$24=\"순서2\",근무!E347,IF(달력!$S$24=\"순서3\",근무!F347,IF(달력!$S$24=\"순서4\",근무!G347,IF(달력!$S$24=\"순서5\",근무!H347,IF(달력!$S$24=\"순서6\",근무!I347,\"\"))))))","v":"비번"},{"$f":"IF(달력!$S$25=\"순서1\",근무!D347,IF(달력!$S$25=\"순서2\",근무!E347,IF(달력!$S$25=\"순서3\",근무!F347,IF(달력!$S$25=\"순서4\",근무!G347,IF(달력!$S$25=\"순서5\",근무!H347,IF(달력!$S$25=\"순서6\",근무!I347,\"\"))))))","v":"비번"},{"$f":"IF(달력!$S$26=\"순서1\",근무!D347,IF(달력!$S$26=\"순서2\",근무!E347,IF(달력!$S$26=\"순서3\",근무!F347,IF(달력!$S$26=\"순서4\",근무!G347,IF(달력!$S$26=\"순서5\",근무!H347,IF(달력!$S$26=\"순서6\",근무!I347,\"\"))))))","v":"주간"},{"$f":"IF(달력!$S$27=\"순서1\",근무!D347,IF(달력!$S$27=\"순서2\",근무!E347,IF(달력!$S$27=\"순서3\",근무!F347,IF(달력!$S$27=\"순서4\",근무!G347,IF(달력!$S$27=\"순서5\",근무!H347,IF(달력!$S$27=\"순서6\",근무!I347,\"\"))))))","v":"주간"},{"$f":"IF(달력!$S$28=\"순서1\",근무!D347,IF(달력!$S$28=\"순서2\",근무!E347,IF(달력!$S$28=\"순서3\",근무!F347,IF(달력!$S$28=\"순서4\",근무!G347,IF(달력!$S$28=\"순서5\",근무!H347,IF(달력!$S$28=\"순서6\",근무!I347,\"\"))))))","v":"야간"},{"$f":"IF(달력!$S$29=\"순서1\",근무!D347,IF(달력!$S$29=\"순서2\",근무!E347,IF(달력!$S$29=\"순서3\",근무!F347,IF(달력!$S$29=\"순서4\",근무!G347,IF(달력!$S$29=\"순서5\",근무!H347,IF(달력!$S$29=\"순서6\",근무!I347,\"\"))))))","v":"야간"}]
[null,"2023-12-08","금",{"$f":"IF(달력!$S$24=\"순서1\",근무!D348,IF(달력!$S$24=\"순서2\",근무!E348,IF(달력!$S$24=\"순서3\",근무!F348,IF(달력!$S$24=\"순서4\",근무!G348,IF(달력!$S$24=\"순서5\",근무!H348,IF(달력!$S$24=\"순서6\",근무!I348,\"\"))))))","v":"비번"},{"$f":"IF(달력!$S$25=\"순서1\",근무!D348,IF(달력!$S$25=\"순서2\",근무!E348,IF(달력!$S$25=\"순서3\",근무!F348,IF(달력!$S$25=\"순서4\",근무!G348,IF(달력!$S$25=\"순서5\",근무!H348,IF(달력!$S$25=\"순서6\",근무!I348,\"\"))))))","v":"비번"},{"$f":"IF(달력!$S$26=\"순서1\",근무!D348,IF(달력!$S$26=\"순서2\",근무!E348,IF(달력!$S$26=\"순서3\",근무!F348,IF(달력!$S$26=\"순서4\",근무!G348,IF(달력!$S$26=\"순서5\",근무!H348,IF(달력!$S$26=\"순서6\",근무!I348,\"\"))))))","v":"주간"},{"$f":"IF(달력!$S$27=\"순서1\",근무!D348,IF(달력!$S$27=\"순서2\",근무!E348,IF(달력!$S$27=\"순서3\",근무!F348,IF(달력!$S$27=\"순서4\",근무!G348,IF(달력!$S$27=\"순서5\",근무!H348,IF(달력!$S$27=\"순서6\",근무!I348,\"\"))))))","v":"주간"},{"$f":"IF(달력!$S$28=\"순서1\",근무!D348,IF(달력!$S$28=\"순서2\",근무!E348,IF(달력!$S$28=\"순서3\",근무!F348,IF(달력!$S$28=\"순서4\",근무!G348,IF(달력!$S$28=\"순서5\",근무!H348,IF(달력!$S$28=\"순서6\",근무!I348,\"\"))))))","v":"야간"},{"$f":"IF(달력!$S$29=\"순서1\",근무!D348,IF(달력!$S$29=\"순서2\",근무!E348,IF(달력!$S$29=\"순서3\",근무!F348,IF(달력!$S$29=\"순서4\",근무!G348,IF(달력!$S$29=\"순서5\",근무!H348,IF(달력!$S$29=\"순서6\",근무!I348,\"\"))))))","v":"야간"}]
[null,"2023-12-09","토",{"$f":"IF(달력!$S$24=\"순서1\",근무!D349,IF(달력!$S$24=\"순서2\",근무!E349,IF(달력!$S$24=\"순서3\",근무!F349,IF(달력!$S$24=\"순서4\",근무!G349,IF(달력!$S$24=\"순서5\",근무!H349,IF(달력!$S$24=\"순서6\",근무!I349,\"\"))))))","v":"주간"},{"$f":"IF(달력!$S$25=\"순서1\",근무!D349,IF(달력!$S$25=\"순서2\",근무!E349,IF(달력!$S$25=\"순서3\",근무!F349,IF(달력!$S$25=\"순서4\",근무!G349,IF(달력!$S$25=\"순서5\",근무!H349,IF(달력!$S$25=\"순서6\",근무!I349,\"\"))))))","v":"주간"},{"$f":"IF(달력!$S$26=\"순서1\",근무!D349,IF(달력!$S$26=\"순서2\",근무!E349,IF(달력!$S$26=\"순서3\",근무!F349,IF(달력!$S$26=\"순서4\",근무!G349,IF(달력!$S$26=\"순서5\",근무!H349,IF(달력!$S$26=\"순서6\",근무!I349,\"\"))))))","v":"야간"},{"$f":"IF(달력!$S$27=\"순서1\",근무!D349,IF(달력!$S$27=\"순서2\",근무!E349,IF(달력!$S$27=\"순서3\",근무!F349,IF(달력!$S$27=\"순서4\",근무!G349,IF(달력!$S$27=\"순서5\",근무!H349,IF(달력!$S$27=\"순서6\",근무!I349,\"\"))))))","v":"야간"},{"$f":"IF(달력!$S$28=\"순서1\",근무!D349,IF(달력!$S$28=\"순서2\",근무!E349,IF(달력!$S$28=\"순서3\",근무!F349,IF(달력!$S$28=\"순서4\",근무!G349,IF(달력!$S$28=\"순서5\",근무!H349,IF(달력!$S$28=\"순서6\",근무!I349,\"\"))))))","v":"비번"},{"$f":"IF(달력!$S$29=\"순서1\",근무!D349,IF(달력!$S$29=\"순서2\",근무!E349,IF(달력!$S$29=\"순서3\",근무!F349,IF(달력!$S$29=\"순서4\",근무!G349,IF(달력!$S$29=\"순서5\",근무!H349,IF(달력!$S$29=\"순서6\",근무!I349,\"\"))))))","v":"비번"}]
[null,"2023-12-10","일",{"$f":"IF(달력!$S$24=\"순서1\",근무!D350,IF(달력!$S$24=\"순서2\",근무!E350,IF(달력!$S$24=\"순서3\",근무!F350,IF(달력!$S$24=\"순서4\",근무!G350,IF(달력!$S$24=\"순서5\",근무!H350,IF(달력!$S$24=\"순서6\",근무!I350,\"\"))))))","v":"주간"},{"$f":"IF(달력!$S$25=\"순서1\",근무!D350,IF(달력!$S$25=\"순서2\",근무!E350,IF(달력!$S$25=\"순서3\",근무!F350,IF(달력!$S$25=\"순서4\",근무!G350,IF(달력!$S$25=\"순서5\",근무!H350,IF(달력!$S$25=\"순서6\",근무!I350,\"\"))))))","v":"주간"},{"$f":"IF(달력!$S$26=\"순서1\",근무!D350,IF(달력!$S$26=\"순서2\",근무!E350,IF(달력!$S$26=\"순서3\",근무!F350,IF(달력!$S$26=\"순서4\",근무!G350,IF(달력!$S$26=\"순서5\",근무!H350,IF(달력!$S$26=\"순서6\",근무!I350,\"\"))))))","v":"야간"},{"$f":"IF(달력!$S$27=\"순서1\",근무!D350,IF(달력!$S$27=\"순서2\",근무!E350,IF(달력!$S$27=\"순서3\",근무!F350,IF(달력!$S$27=\"순서4\",근무!G350,IF(달력!$S$27=\"순서5\",근무!H350,IF(달력!$S$27=\"순서6\",근무!I350,\"\"))))))","v":"야간"},{"$f":"IF(달력!$S$28=\"순서1\",근무!D350,IF(달력!$S$28=\"순서2\",근무!E350,IF(달력!$S$28=\"순서3\",근무!F350,IF(달력!$S$28=\"순서4\",근무!G350,IF(달력!$S$28=\"순서5\",근무!H350,IF(달력!$S$28=\"순서6\",근무!I350,\"\"))))))","v":"비번"},{"$f":"IF(달력!$S$29=\"순서1\",근무!D350,IF(달력!$S$29=\"순서2\",근무!E350,IF(달력!$S$29=\"순서3\",근무!F350,IF(달력!$S$29=\"순서4\",근무!G350,IF(달력!$S$29=\"순서5\",근무!H350,IF(달력!$S$29=\"순서6\",근무!I350,\"\"))))))","v":"비번"}]
[null,"2023-12-11","월",{"$f":"IF(달력!$S$24=\"순서1\",근무!D351,IF(달력!$S$24=\"순서2\",근무!E351,IF(달력!$S$24=\"순서3\",근무!F351,IF(달력!$S$24=\"순서4\",근무!G351,IF(달력!$S$24=\"순서5\",근무!H351,IF(달력!$S$24=\"순서6\",근무!I351,\"\"))))))","v":"야간"},{"$f":"IF(달력!$S$25=\"순서1\",근무!D351,IF(달력!$S$25=\"순서2\",근무!E351,IF(달력!$S$25=\"순서3\",근무!F351,IF(달력!$S$25=\"순서4\",근무!G351,IF(달력!$S$25=\"순서5\",근무!H351,IF(달력!$S$25=\"순서6\",근무!I351,\"\"))))))","v":"야간"},{"$f":"IF(달력!$S$26=\"순서1\",근무!D351,IF(달력!$S$26=\"순서2\",근무!E351,IF(달력!$S$26=\"순서3\",근무!F351,IF(달력!$S$26=\"순서4\",근무!G351,IF(달력!$S$26=\"순서5\",근무!H351,IF(달력!$S$26=\"순서6\",근무!I351,\"\"))))))","v":"비번"},{"$f":"IF(달력!$S$27=\"순서1\",근무!D351,IF(달력!$S$27=\"순서2\",근무!E351,IF(달력!$S$27=\"순서3\",근무!F351,IF(달력!$S$27=\"순서4\",근무!G351,IF(달력!$S$27=\"순서5\",근무!H351,IF(달력!$S$27=\"순서6\",근무!I351,\"\"))))))","v":"비번"},{"$f":"IF(달력!$S$28=\"순서1\",근무!D351,IF(달력!$S$28=\"순서2\",근무!E351,IF(달력!$S$28=\"순서3\",근무!F351,IF(달력!$S$28=\"순서4\",근무!G351,IF(달력!$S$28=\"순서5\",근무!H351,IF(달력!$S$28=\"순서6\",근무!I351,\"\"))))))","v":"주간"},{"$f":"IF(달력!$S$29=\"순서1\",근무!D351,IF(달력!$S$29=\"순서2\",근무!E351,IF(달력!$S$29=\"순서3\",근무!F351,IF(달력!$S$29=\"순서4\",근무!G351,IF(달력!$S$29=\"순서5\",근무!H351,IF(달력!$S$29=\"순서6\",근무!I351,\"\"))))))","v":"주간"}]
[null,"2023-12-12","화",{"$f":"IF(달력!$S$24=\"순서1\",근무!D352,IF(달력!$S$24=\"순서2\",근무!E352,IF(달력!$S$24=\"순서3\",근무!F352,IF(달력!$S$24=\"순서4\",근무!G352,IF(달력!$S$24=\"순서5\",근무!H352,IF(달력!$S$24=\"순서6\",근무!I352,\"\"))))))","v":"야간"},{"$f":"IF(달력!$S$25=\"순서1\",근무!D352,IF(달력!$S$25=\"순서2\",근무!E352,IF(달력!$S$25=\"순서3\",근무!F352,IF(달력!$S$25=\"순서4\",근무!G352,IF(달력!$S$25=\"순서5\",근무!H352,IF(달력!$S$25=\"순서6\",근무!I352,\"\"))))))","v":"야간"},{"$f":"IF(달력!$S$26=\"순서1\",근무!D352,IF(달력!$S$26=\"순서2\",근무!E352,IF(달력!$S$26=\"순서3\",근무!F352,IF(달력!$S$26=\"순서4\",근무!G352,IF(달력!$S$26=\"순서5\",근무!H352,IF(달력!$S$26=\"순서6\",근무!I352,\"\"))))))","v":"비번"},{"$f":"IF(달력!$S$27=\"순서1\",근무!D352,IF(달력!$S$27=\"순서2\",근무!E352,IF(달력!$S$27=\"순서3\",근무!F352,IF(달력!$S$27=\"순서4\",근무!G352,IF(달력!$S$27=\"순서5\",근무!H352,IF(달력!$S$27=\"순서6\",근무!I352,\"\"))))))","v":"비번"},{"$f":"IF(달력!$S$28=\"순서1\",근무!D352,IF(달력!$S$28=\"순서2\",근무!E352,IF(달력!$S$28=\"순서3\",근무!F352,IF(달력!$S$28=\"순서4\",근무!G352,IF(달력!$S$28=\"순서5\",근무!H352,IF(달력!$S$28=\"순서6\",근무!I352,\"\"))))))","v":"주간"},{"$f":"IF(달력!$S$29=\"순서1\",근무!D352,IF(달력!$S$29=\"순서2\",근무!E352,IF(달력!$S$29=\"순서3\",근무!F352,IF(달력!$S$29=\"순서4\",근무!G352,IF(달력!$S$29=\"순서5\",근무!H352,IF(달력!$S$29=\"순서6\",근무!I352,\"\"))))))","v":"주간"}]
[null,"2023-12-13","수",{"$f":"IF(달력!$S$24=\"순서1\",근무!D353,IF(달력!$S$24=\"순서2\",근무!E353,IF(달력!$S$24=\"순서3\",근무!F353,IF(달력!$S$24=\"순서4\",근무!G353,IF(달력!$S$24=\"순서5\",근무!H353,IF(달력!$S$24=\"순서6\",근무!I353,\"\"))))))","v":"비번"},{"$f":"IF(달력!$S$25=\"순서1\",근무!D353,IF(달력!$S$25=\"순서2\",근무!E353,IF(달력!$S$25=\"순서3\",근무!F353,IF(달력!$S$25=\"순서4\",근무!G353,IF(달력!$S$25=\"순서5\",근무!H353,IF(달력!$S$25=\"순서6\",근무!I353,\"\"))))))","v":"비번"},{"$f":"IF(달력!$S$26=\"순서1\",근무!D353,IF(달력!$S$26=\"순서2\",근무!E353,IF(달력!$S$26=\"순서3\",근무!F353,IF(달력!$S$26=\"순서4\",근무!G353,IF(달력!$S$26=\"순서5\",근무!H353,IF(달력!$S$26=\"순서6\",근무!I353,\"\"))))))","v":"주간"},{"$f":"IF(달력!$S$27=\"순서1\",근무!D353,IF(달력!$S$27=\"순서2\",근무!E353,IF(달력!$S$27=\"순서3\",근무!F353,IF(달력!$S$27=\"순서4\",근무!G353,IF(달력!$S$27=\"순서5\",근무!H353,IF(달력!$S$27=\"순서6\",근무!I353,\"\"))))))","v":"주간"},{"$f":"IF(달력!$S$28=\"순서1\",근무!D353,IF(달력!$S$28=\"순서2\",근무!E353,IF(달력!$S$28=\"순서3\",근무!F353,IF(달력!$S$28=\"순서4\",근무!G353,IF(달력!$S$28=\"순서5\",근무!H353,IF(달력!$S$28=\"순서6\",근무!I353,\"\"))))))","v":"야간"},{"$f":"IF(달력!$S$29=\"순서1\",근무!D353,IF(달력!$S$29=\"순서2\",근무!E353,IF(달력!$S$29=\"순서3\",근무!F353,IF(달력!$S$29=\"순서4\",근무!G353,IF(달력!$S$29=\"순서5\",근무!H353,IF(달력!$S$29=\"순서6\",근무!I353,\"\"))))))","v":"야간"}]
[null,"2023-12-14","목",{"$f":"IF(달력!$S$24=\"순서1\",근무!D354,IF(달력!$S$24=\"순서2\",근무!E354,IF(달력!$S$24=\"순서3\",근무!F354,IF(달력!$S$24=\"순서4\",근무!G354,IF(달력!$S$24=\"순서5\",근무!H354,IF(달력!$S$24=\"순서6\",근무!I354,\"\"))))))","v":"비번"},{"$f":"IF(달력!$S$25=\"순서1\",근무!D354,IF(달력!$S$25=\"순서2\",근무!E354,IF(달력!$S$25=\"순서3\",근무!F354,IF(달력!$S$25=\"순서4\",근무!G354,IF(달력!$S$25=\"순서5\",근무!H354,IF(달력!$S$25=\"순서6\",근무!I354,\"\"))))))","v":"비번"},{"$f":"IF(달력!$S$26=\"순서1\",근무!D354,IF(달력!$S$26=\"순서2\",근무!E354,IF(달력!$S$26=\"순서3\",근무!F354,IF(달력!$S$26=\"순서4\",근무!G354,IF(달력!$S$26=\"순서5\",근무!H354,IF(달력!$S$26=\"순서6\",근무!I354,\"\"))))))","v":"주간"},{"$f":"IF(달력!$S$27=\"순서1\",근무!D354,IF(달력!$S$27=\"순서2\",근무!E354,IF(달력!$S$27=\"순서3\",근무!F354,IF(달력!$S$27=\"순서4\",근무!G354,IF(달력!$S$27=\"순서5\",근무!H354,IF(달력!$S$27=\"순서6\",근무!I354,\"\"))))))","v":"주간"},{"$f":"IF(달력!$S$28=\"순서1\",근무!D354,IF(달력!$S$28=\"순서2\",근무!E354,IF(달력!$S$28=\"순서3\",근무!F354,IF(달력!$S$28=\"순서4\",근무!G354,IF(달력!$S$28=\"순서5\",근무!H354,IF(달력!$S$28=\"순서6\",근무!I354,\"\"))))))","v":"야간"},{"$f":"IF(달력!$S$29=\"순서1\",근무!D354,IF(달력!$S$29=\"순서2\",근무!E354,IF(달력!$S$29=\"순서3\",근무!F354,IF(달력!$S$29=\"순서4\",근무!G354,IF(달력!$S$29=\"순서5\",근무!H354,IF(달력!$S$29=\"순서6\",근무!I354,\"\"))))))","v":"야간"}]
[null,"2023-12-15","금",{"$f":"IF(달력!$S$24=\"순서1\",근무!D355,IF(달력!$S$24=\"순서2\",근무!E355,IF(달력!$S$24=\"순서3\",근무!F355,IF(달력!$S$24=\"순서4\",근무!G355,IF(달력!$S$24=\"순서5\",근무!H355,IF(달력!$S$24=\"순서6\",근무!I355,\"\"))))))","v":"주간"},{"$f":"IF(달력!$S$25=\"순서1\",근무!D355,IF(달력!$S$25=\"순서2\",근무!E355,IF(달력!$S$25=\"순서3\",근무!F355,IF(달력!$S$25=\"순서4\",근무!G355,IF(달력!$S$25=\"순서5\",근무!H355,IF(달력!$S$25=\"순서6\",근무!I355,\"\"))))))","v":"주간"},{"$f":"IF(달력!$S$26=\"순서1\",근무!D355,IF(달력!$S$26=\"순서2\",근무!E355,IF(달력!$S$26=\"순서3\",근무!F355,IF(달력!$S$26=\"순서4\",근무!G355,IF(달력!$S$26=\"순서5\",근무!H355,IF(달력!$S$26=\"순서6\",근무!I355,\"\"))))))","v":"야간"},{"$f":"IF(달력!$S$27=\"순서1\",근무!D355,IF(달력!$S$27=\"순서2\",근무!E355,IF(달력!$S$27=\"순서3\",근무!F355,IF(달력!$S$27=\"순서4\",근무!G355,IF(달력!$S$27=\"순서5\",근무!H355,IF(달력!$S$27=\"순서6\",근무!I355,\"\"))))))","v":"야간"},{"$f":"IF(달력!$S$28=\"순서1\",근무!D355,IF(달력!$S$28=\"순서2\",근무!E355,IF(달력!$S$28=\"순서3\",근무!F355,IF(달력!$S$28=\"순서4\",근무!G355,IF(달력!$S$28=\"순서5\",근무!H355,IF(달력!$S$28=\"순서6\",근무!I355,\"\"))))))","v":"비번"},{"$f":"IF(달력!$S$29=\"순서1\",근무!D355,IF(달력!$S$29=\"순서2\",근무!E355,IF(달력!$S$29=\"순서3\",근무!F355,IF(달력!$S$29=\"순서4\",근무!G355,IF(달력!$S$29=\"순서5\",근무!H355,IF(달력!$S$29=\"순서6\",근무!I355,\"\"))))))","v":"비번"}]
[null,"2023-12-16","토",{"$f":"IF(달력!$S$24=\"순서1\",근무!D356,IF(달력!$S$24=\"순서2\",근무!E356,IF(달력!$S$24=\"순서3\",근무!F356,IF(달력!$S$24=\"순서4\",근무!G356,IF(달력!$S$24=\"순서5\",근무!H356,IF(달력!$S$24=\"순서6\",근무!I356,\"\"))))))","v":"주간"},{"$f":"IF(달력!$S$25=\"순서1\",근무!D356,IF(달력!$S$25=\"순서2\",근무!E356,IF(달력!$S$25=\"순서3\",근무!F356,IF(달력!$S$25=\"순서4\",근무!G356,IF(달력!$S$25=\"순서5\",근무!H356,IF(달력!$S$25=\"순서6\",근무!I356,\"\"))))))","v":"주간"},{"$f":"IF(달력!$S$26=\"순서1\",근무!D356,IF(달력!$S$26=\"순서2\",근무!E356,IF(달력!$S$26=\"순서3\",근무!F356,IF(달력!$S$26=\"순서4\",근무!G356,IF(달력!$S$26=\"순서5\",근무!H356,IF(달력!$S$26=\"순서6\",근무!I356,\"\"))))))","v":"야간"},{"$f":"IF(달력!$S$27=\"순서1\",근무!D356,IF(달력!$S$27=\"순서2\",근무!E356,IF(달력!$S$27=\"순서3\",근무!F356,IF(달력!$S$27=\"순서4\",근무!G356,IF(달력!$S$27=\"순서5\",근무!H356,IF(달력!$S$27=\"순서6\",근무!I356,\"\"))))))","v":"야간"},{"$f":"IF(달력!$S$28=\"순서1\",근무!D356,IF(달력!$S$28=\"순서2\",근무!E356,IF(달력!$S$28=\"순서3\",근무!F356,IF(달력!$S$28=\"순서4\",근무!G356,IF(달력!$S$28=\"순서5\",근무!H356,IF(달력!$S$28=\"순서6\",근무!I356,\"\"))))))","v":"비번"},{"$f":"IF(달력!$S$29=\"순서1\",근무!D356,IF(달력!$S$29=\"순서2\",근무!E356,IF(달력!$S$29=\"순서3\",근무!F356,IF(달력!$S$29=\"순서4\",근무!G356,IF(달력!$S$29=\"순서5\",근무!H356,IF(달력!$S$29=\"순서6\",근무!I356,\"\"))))))","v":"비번"}]
[null,"2023-12-17","일",{"$f":"IF(달력!$S$24=\"순서1\",근무!D357,IF(달력!$S$24=\"순서2\",근무!E357,IF(달력!$S$24=\"순서3\",근무!F357,IF(달력!$S$24=\"순서4\",근무!G357,IF(달력!$S$24=\"순서5\",근무!H357,IF(달력!$S$24=\"순서6\",근무!I357,\"\"))))))","v":"야간"},{"$f":"IF(달력!$S$25=\"순서1\",근무!D357,IF(달력!$S$25=\"순서2\",근무!E357,IF(달력!$S$25=\"순서3\",근무!F357,IF(달력!$S$25=\"순서4\",근무!G357,IF(달력!$S$25=\"순서5\",근무!H357,IF(달력!$S$25=\"순서6\",근무!I357,\"\"))))))","v":"야간"},{"$f":"IF(달력!$S$26=\"순서1\",근무!D357,IF(달력!$S$26=\"순서2\",근무!E357,IF(달력!$S$26=\"순서3\",근무!F357,IF(달력!$S$26=\"순서4\",근무!G357,IF(달력!$S$26=\"순서5\",근무!H357,IF(달력!$S$26=\"순서6\",근무!I357,\"\"))))))","v":"비번"},{"$f":"IF(달력!$S$27=\"순서1\",근무!D357,IF(달력!$S$27=\"순서2\",근무!E357,IF(달력!$S$27=\"순서3\",근무!F357,IF(달력!$S$27=\"순서4\",근무!G357,IF(달력!$S$27=\"순서5\",근무!H357,IF(달력!$S$27=\"순서6\",근무!I357,\"\"))))))","v":"비번"},{"$f":"IF(달력!$S$28=\"순서1\",근무!D357,IF(달력!$S$28=\"순서2\",근무!E357,IF(달력!$S$28=\"순서3\",근무!F357,IF(달력!$S$28=\"순서4\",근무!G357,IF(달력!$S$28=\"순서5\",근무!H357,IF(달력!$S$28=\"순서6\",근무!I357,\"\"))))))","v":"주간"},{"$f":"IF(달력!$S$29=\"순서1\",근무!D357,IF(달력!$S$29=\"순서2\",근무!E357,IF(달력!$S$29=\"순서3\",근무!F357,IF(달력!$S$29=\"순서4\",근무!G357,IF(달력!$S$29=\"순서5\",근무!H357,IF(달력!$S$29=\"순서6\",근무!I357,\"\"))))))","v":"주간"}]
[null,"2023-12-18","월",{"$f":"IF(달력!$S$24=\"순서1\",근무!D358,IF(달력!$S$24=\"순서2\",근무!E358,IF(달력!$S$24=\"순서3\",근무!F358,IF(달력!$S$24=\"순서4\",근무!G358,IF(달력!$S$24=\"순서5\",근무!H358,IF(달력!$S$24=\"순서6\",근무!I358,\"\"))))))","v":"야간"},{"$f":"IF(달력!$S$25=\"순서1\",근무!D358,IF(달력!$S$25=\"순서2\",근무!E358,IF(달력!$S$25=\"순서3\",근무!F358,IF(달력!$S$25=\"순서4\",근무!G358,IF(달력!$S$25=\"순서5\",근무!H358,IF(달력!$S$25=\"순서6\",근무!I358,\"\"))))))","v":"야간"},{"$f":"IF(달력!$S$26=\"순서1\",근무!D358,IF(달력!$S$26=\"순서2\",근무!E358,IF(달력!$S$26=\"순서3\",근무!F358,IF(달력!$S$26=\"순서4\",근무!G358,IF(달력!$S$26=\"순서5\",근무!H358,IF(달력!$S$26=\"순서6\",근무!I358,\"\"))))))","v":"비번"},{"$f":"IF(달력!$S$27=\"순서1\",근무!D358,IF(달력!$S$27=\"순서2\",근무!E358,IF(달력!$S$27=\"순서3\",근무!F358,IF(달력!$S$27=\"순서4\",근무!G358,IF(달력!$S$27=\"순서5\",근무!H358,IF(달력!$S$27=\"순서6\",근무!I358,\"\"))))))","v":"비번"},{"$f":"IF(달력!$S$28=\"순서1\",근무!D358,IF(달력!$S$28=\"순서2\",근무!E358,IF(달력!$S$28=\"순서3\",근무!F358,IF(달력!$S$28=\"순서4\",근무!G358,IF(달력!$S$28=\"순서5\",근무!H358,IF(달력!$S$28=\"순서6\",근무!I358,\"\"))))))","v":"주간"},{"$f":"IF(달력!$S$29=\"순서1\",근무!D358,IF(달력!$S$29=\"순서2\",근무!E358,IF(달력!$S$29=\"순서3\",근무!F358,IF(달력!$S$29=\"순서4\",근무!G358,IF(달력!$S$29=\"순서5\",근무!H358,IF(달력!$S$29=\"순서6\",근무!I358,\"\"))))))","v":"주간"}]
[null,"2023-12-19","화",{"$f":"IF(달력!$S$24=\"순서1\",근무!D359,IF(달력!$S$24=\"순서2\",근무!E359,IF(달력!$S$24=\"순서3\",근무!F359,IF(달력!$S$24=\"순서4\",근무!G359,IF(달력!$S$24=\"순서5\",근무!H359,IF(달력!$S$24=\"순서6\",근무!I359,\"\"))))))","v":"비번"},{"$f":"IF(달력!$S$25=\"순서1\",근무!D359,IF(달력!$S$25=\"순서2\",근무!E359,IF(달력!$S$25=\"순서3\",근무!F359,IF(달력!$S$25=\"순서4\",근무!G359,IF(달력!$S$25=\"순서5\",근무!H359,IF(달력!$S$25=\"순서6\",근무!I359,\"\"))))))","v":"비번"},{"$f":"IF(달력!$S$26=\"순서1\",근무!D359,IF(달력!$S$26=\"순서2\",근무!E359,IF(달력!$S$26=\"순서3\",근무!F359,IF(달력!$S$26=\"순서4\",근무!G359,IF(달력!$S$26=\"순서5\",근무!H359,IF(달력!$S$26=\"순서6\",근무!I359,\"\"))))))","v":"주간"},{"$f":"IF(달력!$S$27=\"순서1\",근무!D359,IF(달력!$S$27=\"순서2\",근무!E359,IF(달력!$S$27=\"순서3\",근무!F359,IF(달력!$S$27=\"순서4\",근무!G359,IF(달력!$S$27=\"순서5\",근무!H359,IF(달력!$S$27=\"순서6\",근무!I359,\"\"))))))","v":"주간"},{"$f":"IF(달력!$S$28=\"순서1\",근무!D359,IF(달력!$S$28=\"순서2\",근무!E359,IF(달력!$S$28=\"순서3\",근무!F359,IF(달력!$S$28=\"순서4\",근무!G359,IF(달력!$S$28=\"순서5\",근무!H359,IF(달력!$S$28=\"순서6\",근무!I359,\"\"))))))","v":"야간"},{"$f":"IF(달력!$S$29=\"순서1\",근무!D359,IF(달력!$S$29=\"순서2\",근무!E359,IF(달력!$S$29=\"순서3\",근무!F359,IF(달력!$S$29=\"순서4\",근무!G359,IF(달력!$S$29=\"순서5\",근무!H359,IF(달력!$S$29=\"순서6\",근무!I359,\"\"))))))","v":"야간"}]
[null,"2023-12-20","수",{"$f":"IF(달력!$S$24=\"순서1\",근무!D360,IF(달력!$S$24=\"순서2\",근무!E360,IF(달력!$S$24=\"순서3\",근무!F360,IF(달력!$S$24=\"순서4\",근무!G360,IF(달력!$S$24=\"순서5\",근무!H360,IF(달력!$S$24=\"순서6\",근무!I360,\"\"))))))","v":"비번"},{"$f":"IF(달력!$S$25=\"순서1\",근무!D360,IF(달력!$S$25=\"순서2\",근무!E360,IF(달력!$S$25=\"순서3\",근무!F360,IF(달력!$S$25=\"순서4\",근무!G360,IF(달력!$S$25=\"순서5\",근무!H360,IF(달력!$S$25=\"순서6\",근무!I360,\"\"))))))","v":"비번"},{"$f":"IF(달력!$S$26=\"순서1\",근무!D360,IF(달력!$S$26=\"순서2\",근무!E360,IF(달력!$S$26=\"순서3\",근무!F360,IF(달력!$S$26=\"순서4\",근무!G360,IF(달력!$S$26=\"순서5\",근무!H360,IF(달력!$S$26=\"순서6\",근무!I360,\"\"))))))","v":"주간"},{"$f":"IF(달력!$S$27=\"순서1\",근무!D360,IF(달력!$S$27=\"순서2\",근무!E360,IF(달력!$S$27=\"순서3\",근무!F360,IF(달력!$S$27=\"순서4\",근무!G360,IF(달력!$S$27=\"순서5\",근무!H360,IF(달력!$S$27=\"순서6\",근무!I360,\"\"))))))","v":"주간"},{"$f":"IF(달력!$S$28=\"순서1\",근무!D360,IF(달력!$S$28=\"순서2\",근무!E360,IF(달력!$S$28=\"순서3\",근무!F360,IF(달력!$S$28=\"순서4\",근무!G360,IF(달력!$S$28=\"순서5\",근무!H360,IF(달력!$S$28=\"순서6\",근무!I360,\"\"))))))","v":"야간"},{"$f":"IF(달력!$S$29=\"순서1\",근무!D360,IF(달력!$S$29=\"순서2\",근무!E360,IF(달력!$S$29=\"순서3\",근무!F360,IF(달력!$S$29=\"순서4\",근무!G360,IF(달력!$S$29=\"순서5\",근무!H360,IF(달력!$S$29=\"순서6\",근무!I360,\"\"))))))","v":"야간"}]
[null,"2023-12-21","목",{"$f":"IF(달력!$S$24=\"순서1\",근무!D361,IF(달력!$S$24=\"순서2\",근무!E361,IF(달력!$S$24=\"순서3\",근무!F361,IF(달력!$S$24=\"순서4\",근무!G361,IF(달력!$S$24=\"순서5\",근무!H361,IF(달력!$S$24=\"순서6\",근무!I361,\"\"))))))","v":"주간"},{"$f":"IF(달력!$S$25=\"순서1\",근무!D361,IF(달력!$S$25=\"순서2\",근무!E361,IF(달력!$S$25=\"순서3\",근무!F361,IF(달력!$S$25=\"순서4\",근무!G361,IF(달력!$S$25=\"순서5\",근무!H361,IF(달력!$S$25=\"순서6\",근무!I361,\"\"))))))","v":"주간"},{"$f":"IF(달력!$S$26=\"순서1\",근무!D361,IF(달력!$S$26=\"순서2\",근무!E361,IF(달력!$S$26=\"순서3\",근무!F361,IF(달력!$S$26=\"순서4\",근무!G361,IF(달력!$S$26=\"순서5\",근무!H361,IF(달력!$S$26=\"순서6\",근무!I361,\"\"))))))","v":"야간"},{"$f":"IF(달력!$S$27=\"순서1\",근무!D361,IF(달력!$S$27=\"순서2\",근무!E361,IF(달력!$S$27=\"순서3\",근무!F361,IF(달력!$S$27=\"순서4\",근무!G361,IF(달력!$S$27=\"순서5\",근무!H361,IF(달력!$S$27=\"순서6\",근무!I361,\"\"))))))","v":"야간"},{"$f":"IF(달력!$S$28=\"순서1\",근무!D361,IF(달력!$S$28=\"순서2\",근무!E361,IF(달력!$S$28=\"순서3\",근무!F361,IF(달력!$S$28=\"순서4\",근무!G361,IF(달력!$S$28=\"순서5\",근무!H361,IF(달력!$S$28=\"순서6\",근무!I361,\"\"))))))","v":"비번"},{"$f":"IF(달력!$S$29=\"순서1\",근무!D361,IF(달력!$S$29=\"순서2\",근무!E361,IF(달력!$S$29=\"순서3\",근무!F361,IF(달력!$S$29=\"순서4\",근무!G361,IF(달력!$S$29=\"순서5\",근무!H361,IF(달력!$S$29=\"순서6\",근무!I361,\"\"))))))","v":"비번"}]
[null,"2023-12-22","금",{"$f":"IF(달력!$S$24=\"순서1\",근무!D362,IF(달력!$S$24=\"순서2\",근무!E362,IF(달력!$S$24=\"순서3\",근무!F362,IF(달력!$S$24=\"순서4\",근무!G362,IF(달력!$S$24=\"순서5\",근무!H362,IF(달력!$S$24=\"순서6\",근무!I362,\"\"))))))","v":"주간"},{"$f":"IF(달력!$S$25=\"순서1\",근무!D362,IF(달력!$S$25=\"순서2\",근무!E362,IF(달력!$S$25=\"순서3\",근무!F362,IF(달력!$S$25=\"순서4\",근무!G362,IF(달력!$S$25=\"순서5\",근무!H362,IF(달력!$S$25=\"순서6\",근무!I362,\"\"))))))","v":"주간"},{"$f":"IF(달력!$S$26=\"순서1\",근무!D362,IF(달력!$S$26=\"순서2\",근무!E362,IF(달력!$S$26=\"순서3\",근무!F362,IF(달력!$S$26=\"순서4\",근무!G362,IF(달력!$S$26=\"순서5\",근무!H362,IF(달력!$S$26=\"순서6\",근무!I362,\"\"))))))","v":"야간"},{"$f":"IF(달력!$S$27=\"순서1\",근무!D362,IF(달력!$S$27=\"순서2\",근무!E362,IF(달력!$S$27=\"순서3\",근무!F362,IF(달력!$S$27=\"순서4\",근무!G362,IF(달력!$S$27=\"순서5\",근무!H362,IF(달력!$S$27=\"순서6\",근무!I362,\"\"))))))","v":"야간"},{"$f":"IF(달력!$S$28=\"순서1\",근무!D362,IF(달력!$S$28=\"순서2\",근무!E362,IF(달력!$S$28=\"순서3\",근무!F362,IF(달력!$S$28=\"순서4\",근무!G362,IF(달력!$S$28=\"순서5\",근무!H362,IF(달력!$S$28=\"순서6\",근무!I362,\"\"))))))","v":"비번"},{"$f":"IF(달력!$S$29=\"순서1\",근무!D362,IF(달력!$S$29=\"순서2\",근무!E362,IF(달력!$S$29=\"순서3\",근무!F362,IF(달력!$S$29=\"순서4\",근무!G362,IF(달력!$S$29=\"순서5\",근무!H362,IF(달력!$S$29=\"순서6\",근무!I362,\"\"))))))","v":"비번"}]
[null,"2023-12-23","토",{"$f":"IF(달력!$S$24=\"순서1\",근무!D363,IF(달력!$S$24=\"순서2\",근무!E363,IF(달력!$S$24=\"순서3\",근무!F363,IF(달력!$S$24=\"순서4\",근무!G363,IF(달력!$S$24=\"순서5\",근무!H363,IF(달력!$S$24=\"순서6\",근무!I363,\"\"))))))","v":"야간"},{"$f":"IF(달력!$S$25=\"순서1\",근무!D363,IF(달력!$S$25=\"순서2\",근무!E363,IF(달력!$S$25=\"순서3\",근무!F363,IF(달력!$S$25=\"순서4\",근무!G363,IF(달력!$S$25=\"순서5\",근무!H363,IF(달력!$S$25=\"순서6\",근무!I363,\"\"))))))","v":"야간"},{"$f":"IF(달력!$S$26=\"순서1\",근무!D363,IF(달력!$S$26=\"순서2\",근무!E363,IF(달력!$S$26=\"순서3\",근무!F363,IF(달력!$S$26=\"순서4\",근무!G363,IF(달력!$S$26=\"순서5\",근무!H363,IF(달력!$S$26=\"순서6\",근무!I363,\"\"))))))","v":"비번"},{"$f":"IF(달력!$S$27=\"순서1\",근무!D363,IF(달력!$S$27=\"순서2\",근무!E363,IF(달력!$S$27=\"순서3\",근무!F363,IF(달력!$S$27=\"순서4\",근무!G363,IF(달력!$S$27=\"순서5\",근무!H363,IF(달력!$S$27=\"순서6\",근무!I363,\"\"))))))","v":"비번"},{"$f":"IF(달력!$S$28=\"순서1\",근무!D363,IF(달력!$S$28=\"순서2\",근무!E363,IF(달력!$S$28=\"순서3\",근무!F363,IF(달력!$S$28=\"순서4\",근무!G363,IF(달력!$S$28=\"순서5\",근무!H363,IF(달력!$S$28=\"순서6\",근무!I363,\"\"))))))","v":"주간"},{"$f":"IF(달력!$S$29=\"순서1\",근무!D363,IF(달력!$S$29=\"순서2\",근무!E363,IF(달력!$S$29=\"순서3\",근무!F363,IF(달력!$S$29=\"순서4\",근무!G363,IF(달력!$S$29=\"순서5\",근무!H363,IF(달력!$S$29=\"순서6\",근무!I363,\"\"))))))","v":"주간"}]
[null,"2023-12-24","일",{"$f":"IF(달력!$S$24=\"순서1\",근무!D364,IF(달력!$S$24=\"순서2\",근무!E364,IF(달력!$S$24=\"순서3\",근무!F364,IF(달력!$S$24=\"순서4\",근무!G364,IF(달력!$S$24=\"순서5\",근무!H364,IF(달력!$S$24=\"순서6\",근무!I364,\"\"))))))","v":"야간"},{"$f":"IF(달력!$S$25=\"순서1\",근무!D364,IF(달력!$S$25=\"순서2\",근무!E364,IF(달력!$S$25=\"순서3\",근무!F364,IF(달력!$S$25=\"순서4\",근무!G364,IF(달력!$S$25=\"순서5\",근무!H364,IF(달력!$S$25=\"순서6\",근무!I364,\"\"))))))","v":"야간"},{"$f":"IF(달력!$S$26=\"순서1\",근무!D364,IF(달력!$S$26=\"순서2\",근무!E364,IF(달력!$S$26=\"순서3\",근무!F364,IF(달력!$S$26=\"순서4\",근무!G364,IF(달력!$S$26=\"순서5\",근무!H364,IF(달력!$S$26=\"순서6\",근무!I364,\"\"))))))","v":"비번"},{"$f":"IF(달력!$S$27=\"순서1\",근무!D364,IF(달력!$S$27=\"순서2\",근무!E364,IF(달력!$S$27=\"순서3\",근무!F364,IF(달력!$S$27=\"순서4\",근무!G364,IF(달력!$S$27=\"순서5\",근무!H364,IF(달력!$S$27=\"순서6\",근무!I364,\"\"))))))","v":"비번"},{"$f":"IF(달력!$S$28=\"순서1\",근무!D364,IF(달력!$S$28=\"순서2\",근무!E364,IF(달력!$S$28=\"순서3\",근무!F364,IF(달력!$S$28=\"순서4\",근무!G364,IF(달력!$S$28=\"순서5\",근무!H364,IF(달력!$S$28=\"순서6\",근무!I364,\"\"))))))","v":"주간"},{"$f":"IF(달력!$S$29=\"순서1\",근무!D364,IF(달력!$S$29=\"순서2\",근무!E364,IF(달력!$S$29=\"순서3\",근무!F364,IF(달력!$S$29=\"순서4\",근무!G364,IF(달력!$S$29=\"순서5\",근무!H364,IF(달력!$S$29=\"순서6\",근무!I364,\"\"))))))","v":"주간"}]
[null,"2023-12-25","월",{"$f":"IF(달력!$S$24=\"순서1\",근무!D365,IF(달력!$S$24=\"순서2\",근무!E365,IF(달력!$S$24=\"순서3\",근무!F365,IF(달력!$S$24=\"순서4\",근무!G365,IF(달력!$S$24=\"순서5\",근무!H365,IF(달력!$S$24=\"순서6\",근무!I365,\"\"))))))","v":"비번"},{"$f":"IF(달력!$S$25=\"순서1\",근무!D365,IF(달력!$S$25=\"순서2\",근무!E365,IF(달력!$S$25=\"순서3\",근무!F365,IF(달력!$S$25=\"순서4\",근무!G365,IF(달력!$S$25=\"순서5\",근무!H365,IF(달력!$S$25=\"순서6\",근무!I365,\"\"))))))","v":"비번"},{"$f":"IF(달력!$S$26=\"순서1\",근무!D365,IF(달력!$S$26=\"순서2\",근무!E365,IF(달력!$S$26=\"순서3\",근무!F365,IF(달력!$S$26=\"순서4\",근무!G365,IF(달력!$S$26=\"순서5\",근무!H365,IF(달력!$S$26=\"순서6\",근무!I365,\"\"))))))","v":"주간"},{"$f":"IF(달력!$S$27=\"순서1\",근무!D365,IF(달력!$S$27=\"순서2\",근무!E365,IF(달력!$S$27=\"순서3\",근무!F365,IF(달력!$S$27=\"순서4\",근무!G365,IF(달력!$S$27=\"순서5\",근무!H365,IF(달력!$S$27=\"순서6\",근무!I365,\"\"))))))","v":"주간"},{"$f":"IF(달력!$S$28=\"순서1\",근무!D365,IF(달력!$S$28=\"순서2\",근무!E365,IF(달력!$S$28=\"순서3\",근무!F365,IF(달력!$S$28=\"순서4\",근무!G365,IF(달력!$S$28=\"순서5\",근무!H365,IF(달력!$S$28=\"순서6\",근무!I365,\"\"))))))","v":"야간"},{"$f":"IF(달력!$S$29=\"순서1\",근무!D365,IF(달력!$S$29=\"순서2\",근무!E365,IF(달력!$S$29=\"순서3\",근무!F365,IF(달력!$S$29=\"순서4\",근무!G365,IF(달력!$S$29=\"순서5\",근무!H365,IF(달력!$S$29=\"순서6\",근무!I365,\"\"))))))","v":"야간"}]
[null,"2023-12-26","화",{"$f":"IF(달력!$S$24=\"순서1\",근무!D366,IF(달력!$S$24=\"순서2\",근무!E366,IF(달력!$S$24=\"순서3\",근무!F366,IF(달력!$S$24=\"순서4\",근무!G366,IF(달력!$S$24=\"순서5\",근무!H366,IF(달력!$S$24=\"순서6\",근무!I366,\"\"))))))","v":"비번"},{"$f":"IF(달력!$S$25=\"순서1\",근무!D366,IF(달력!$S$25=\"순서2\",근무!E366,IF(달력!$S$25=\"순서3\",근무!F366,IF(달력!$S$25=\"순서4\",근무!G366,IF(달력!$S$25=\"순서5\",근무!H366,IF(달력!$S$25=\"순서6\",근무!I366,\"\"))))))","v":"비번"},{"$f":"IF(달력!$S$26=\"순서1\",근무!D366,IF(달력!$S$26=\"순서2\",근무!E366,IF(달력!$S$26=\"순서3\",근무!F366,IF(달력!$S$26=\"순서4\",근무!G366,IF(달력!$S$26=\"순서5\",근무!H366,IF(달력!$S$26=\"순서6\",근무!I366,\"\"))))))","v":"주간"},{"$f":"IF(달력!$S$27=\"순서1\",근무!D366,IF(달력!$S$27=\"순서2\",근무!E366,IF(달력!$S$27=\"순서3\",근무!F366,IF(달력!$S$27=\"순서4\",근무!G366,IF(달력!$S$27=\"순서5\",근무!H366,IF(달력!$S$27=\"순서6\",근무!I366,\"\"))))))","v":"주간"},{"$f":"IF(달력!$S$28=\"순서1\",근무!D366,IF(달력!$S$28=\"순서2\",근무!E366,IF(달력!$S$28=\"순서3\",근무!F366,IF(달력!$S$28=\"순서4\",근무!G366,IF(달력!$S$28=\"순서5\",근무!H366,IF(달력!$S$28=\"순서6\",근무!I366,\"\"))))))","v":"야간"},{"$f":"IF(달력!$S$29=\"순서1\",근무!D366,IF(달력!$S$29=\"순서2\",근무!E366,IF(달력!$S$29=\"순서3\",근무!F366,IF(달력!$S$29=\"순서4\",근무!G366,IF(달력!$S$29=\"순서5\",근무!H366,IF(달력!$S$29=\"순서6\",근무!I366,\"\"))))))","v":"야간"}]
[null,"2023-12-27","수",{"$f":"IF(달력!$S$24=\"순서1\",근무!D367,IF(달력!$S$24=\"순서2\",근무!E367,IF(달력!$S$24=\"순서3\",근무!F367,IF(달력!$S$24=\"순서4\",근무!G367,IF(달력!$S$24=\"순서5\",근무!H367,IF(달력!$S$24=\"순서6\",근무!I367,\"\"))))))","v":"주간"},{"$f":"IF(달력!$S$25=\"순서1\",근무!D367,IF(달력!$S$25=\"순서2\",근무!E367,IF(달력!$S$25=\"순서3\",근무!F367,IF(달력!$S$25=\"순서4\",근무!G367,IF(달력!$S$25=\"순서5\",근무!H367,IF(달력!$S$25=\"순서6\",근무!I367,\"\"))))))","v":"주간"},{"$f":"IF(달력!$S$26=\"순서1\",근무!D367,IF(달력!$S$26=\"순서2\",근무!E367,IF(달력!$S$26=\"순서3\",근무!F367,IF(달력!$S$26=\"순서4\",근무!G367,IF(달력!$S$26=\"순서5\",근무!H367,IF(달력!$S$26=\"순서6\",근무!I367,\"\"))))))","v":"야간"},{"$f":"IF(달력!$S$27=\"순서1\",근무!D367,IF(달력!$S$27=\"순서2\",근무!E367,IF(달력!$S$27=\"순서3\",근무!F367,IF(달력!$S$27=\"순서4\",근무!G367,IF(달력!$S$27=\"순서5\",근무!H367,IF(달력!$S$27=\"순서6\",근무!I367,\"\"))))))","v":"야간"},{"$f":"IF(달력!$S$28=\"순서1\",근무!D367,IF(달력!$S$28=\"순서2\",근무!E367,IF(달력!$S$28=\"순서3\",근무!F367,IF(달력!$S$28=\"순서4\",근무!G367,IF(달력!$S$28=\"순서5\",근무!H367,IF(달력!$S$28=\"순서6\",근무!I367,\"\"))))))","v":"비번"},{"$f":"IF(달력!$S$29=\"순서1\",근무!D367,IF(달력!$S$29=\"순서2\",근무!E367,IF(달력!$S$29=\"순서3\",근무!F367,IF(달력!$S$29=\"순서4\",근무!G367,IF(달력!$S$29=\"순서5\",근무!H367,IF(달력!$S$29=\"순서6\",근무!I367,\"\"))))))","v":"비번"}]
[null,"2023-12-28","목",{"$f":"IF(달력!$S$24=\"순서1\",근무!D368,IF(달력!$S$24=\"순서2\",근무!E368,IF(달력!$S$24=\"순서3\",근무!F368,IF(달력!$S$24=\"순서4\",근무!G368,IF(달력!$S$24=\"순서5\",근무!H368,IF(달력!$S$24=\"순서6\",근무!I368,\"\"))))))","v":"주간"},{"$f":"IF(달력!$S$25=\"순서1\",근무!D368,IF(달력!$S$25=\"순서2\",근무!E368,IF(달력!$S$25=\"순서3\",근무!F368,IF(달력!$S$25=\"순서4\",근무!G368,IF(달력!$S$25=\"순서5\",근무!H368,IF(달력!$S$25=\"순서6\",근무!I368,\"\"))))))","v":"주간"},{"$f":"IF(달력!$S$26=\"순서1\",근무!D368,IF(달력!$S$26=\"순서2\",근무!E368,IF(달력!$S$26=\"순서3\",근무!F368,IF(달력!$S$26=\"순서4\",근무!G368,IF(달력!$S$26=\"순서5\",근무!H368,IF(달력!$S$26=\"순서6\",근무!I368,\"\"))))))","v":"야간"},{"$f":"IF(달력!$S$27=\"순서1\",근무!D368,IF(달력!$S$27=\"순서2\",근무!E368,IF(달력!$S$27=\"순서3\",근무!F368,IF(달력!$S$27=\"순서4\",근무!G368,IF(달력!$S$27=\"순서5\",근무!H368,IF(달력!$S$27=\"순서6\",근무!I368,\"\"))))))","v":"야간"},{"$f":"IF(달력!$S$28=\"순서1\",근무!D368,IF(달력!$S$28=\"순서2\",근무!E368,IF(달력!$S$28=\"순서3\",근무!F368,IF(달력!$S$28=\"순서4\",근무!G368,IF(달력!$S$28=\"순서5\",근무!H368,IF(달력!$S$28=\"순서6\",근무!I368,\"\"))))))","v":"비번"},{"$f":"IF(달력!$S$29=\"순서1\",근무!D368,IF(달력!$S$29=\"순서2\",근무!E368,IF(달력!$S$29=\"순서3\",근무!F368,IF(달력!$S$29=\"순서4\",근무!G368,IF(달력!$S$29=\"순서5\",근무!H368,IF(달력!$S$29=\"순서6\",근무!I368,\"\"))))))","v":"비번"}]
[null,"2023-12-29","금",{"$f":"IF(달력!$S$24=\"순서1\",근무!D369,IF(달력!$S$24=\"순서2\",근무!E369,IF(달력!$S$24=\"순서3\",근무!F369,IF(달력!$S$24=\"순서4\",근무!G369,IF(달력!$S$24=\"순서5\",근무!H369,IF(달력!$S$24=\"순서6\",근무!I369,\"\"))))))","v":"야간"},{"$f":"IF(달력!$S$25=\"순서1\",근무!D369,IF(달력!$S$25=\"순서2\",근무!E369,IF(달력!$S$25=\"순서3\",근무!F369,IF(달력!$S$25=\"순서4\",근무!G369,IF(달력!$S$25=\"순서5\",근무!H369,IF(달력!$S$25=\"순서6\",근무!I369,\"\"))))))","v":"야간"},{"$f":"IF(달력!$S$26=\"순서1\",근무!D369,IF(달력!$S$26=\"순서2\",근무!E369,IF(달력!$S$26=\"순서3\",근무!F369,IF(달력!$S$26=\"순서4\",근무!G369,IF(달력!$S$26=\"순서5\",근무!H369,IF(달력!$S$26=\"순서6\",근무!I369,\"\"))))))","v":"비번"},{"$f":"IF(달력!$S$27=\"순서1\",근무!D369,IF(달력!$S$27=\"순서2\",근무!E369,IF(달력!$S$27=\"순서3\",근무!F369,IF(달력!$S$27=\"순서4\",근무!G369,IF(달력!$S$27=\"순서5\",근무!H369,IF(달력!$S$27=\"순서6\",근무!I369,\"\"))))))","v":"비번"},{"$f":"IF(달력!$S$28=\"순서1\",근무!D369,IF(달력!$S$28=\"순서2\",근무!E369,IF(달력!$S$28=\"순서3\",근무!F369,IF(달력!$S$28=\"순서4\",근무!G369,IF(달력!$S$28=\"순서5\",근무!H369,IF(달력!$S$28=\"순서6\",근무!I369,\"\"))))))","v":"주간"},{"$f":"IF(달력!$S$29=\"순서1\",근무!D369,IF(달력!$S$29=\"순서2\",근무!E369,IF(달력!$S$29=\"순서3\",근무!F369,IF(달력!$S$29=\"순서4\",근무!G369,IF(달력!$S$29=\"순서5\",근무!H369,IF(달력!$S$29=\"순서6\",근무!I369,\"\"))))))","v":"주간"}]
[null,"2023-12-30","토",{"$f":"IF(달력!$S$24=\"순서1\",근무!D370,IF(달력!$S$24=\"순서2\",근무!E370,IF(달력!$S$24=\"순서3\",근무!F370,IF(달력!$S$24=\"순서4\",근무!G370,IF(달력!$S$24=\"순서5\",근무!H370,IF(달력!$S$24=\"순서6\",근무!I370,\"\"))))))","v":"야간"},{"$f":"IF(달력!$S$25=\"순서1\",근무!D370,IF(달력!$S$25=\"순서2\",근무!E370,IF(달력!$S$25=\"순서3\",근무!F370,IF(달력!$S$25=\"순서4\",근무!G370,IF(달력!$S$25=\"순서5\",근무!H370,IF(달력!$S$25=\"순서6\",근무!I370,\"\"))))))","v":"야간"},{"$f":"IF(달력!$S$26=\"순서1\",근무!D370,IF(달력!$S$26=\"순서2\",근무!E370,IF(달력!$S$26=\"순서3\",근무!F370,IF(달력!$S$26=\"순서4\",근무!G370,IF(달력!$S$26=\"순서5\",근무!H370,IF(달력!$S$26=\"순서6\",근무!I370,\"\"))))))","v":"비번"},{"$f":"IF(달력!$S$27=\"순서1\",근무!D370,IF(달력!$S$27=\"순서2\",근무!E370,IF(달력!$S$27=\"순서3\",근무!F370,IF(달력!$S$27=\"순서4\",근무!G370,IF(달력!$S$27=\"순서5\",근무!H370,IF(달력!$S$27=\"순서6\",근무!I370,\"\"))))))","v":"비번"},{"$f":"IF(달력!$S$28=\"순서1\",근무!D370,IF(달력!$S$28=\"순서2\",근무!E370,IF(달력!$S$28=\"순서3\",근무!F370,IF(달력!$S$28=\"순서4\",근무!G370,IF(달력!$S$28=\"순서5\",근무!H370,IF(달력!$S$28=\"순서6\",근무!I370,\"\"))))))","v":"주간"},{"$f":"IF(달력!$S$29=\"순서1\",근무!D370,IF(달력!$S$29=\"순서2\",근무!E370,IF(달력!$S$29=\"순서3\",근무!F370,IF(달력!$S$29=\"순서4\",근무!G370,IF(달력!$S$29=\"순서5\",근무!H370,IF(달력!$S$29=\"순서6\",근무!I370,\"\"))))))","v":"주간"}]
[null,"2023-12-31","일",{"$f":"IF(달력!$S$24=\"순서1\",근무!D371,IF(달력!$S$24=\"순서2\",근무!E371,IF(달력!$S$24=\"순서3\",근무!F371,IF(달력!$S$24=\"순서4\",근무!G371,IF(달력!$S$24=\"순서5\",근무!H371,IF(달력!$S$24=\"순서6\",근무!I371,\"\"))))))","v":"비번"},{"$f":"IF(달력!$S$25=\"순서1\",근무!D371,IF(달력!$S$25=\"순서2\",근무!E371,IF(달력!$S$25=\"순서3\",근무!F371,IF(달력!$S$25=\"순서4\",근무!G371,IF(달력!$S$25=\"순서5\",근무!H371,IF(달력!$S$25=\"순서6\",근무!I371,\"\"))))))","v":"비번"},{"$f":"IF(달력!$S$26=\"순서1\",근무!D371,IF(달력!$S$26=\"순서2\",근무!E371,IF(달력!$S$26=\"순서3\",근무!F371,IF(달력!$S$26=\"순서4\",근무!G371,IF(달력!$S$26=\"순서5\",근무!H371,IF(달력!$S$26=\"순서6\",근무!I371,\"\"))))))","v":"주간"},{"$f":"IF(달력!$S$27=\"순서1\",근무!D371,IF(달력!$S$27=\"순서2\",근무!E371,IF(달력!$S$27=\"순서3\",근무!F371,IF(달력!$S$27=\"순서4\",근무!G371,IF(달력!$S$27=\"순서5\",근무!H371,IF(달력!$S$27=\"순서6\",근무!I371,\"\"))))))","v":"주간"},{"$f":"IF(달력!$S$28=\"순서1\",근무!D371,IF(달력!$S$28=\"순서2\",근무!E371,IF(달력!$S$28=\"순서3\",근무!F371,IF(달력!$S$28=\"순서4\",근무!G371,IF(달력!$S$28=\"순서5\",근무!H371,IF(달력!$S$28=\"순서6\",근무!I371,\"\"))))))","v":"야간"},{"$f":"IF(달력!$S$29=\"순서1\",근무!D371,IF(달력!$S$29=\"순서2\",근무!E371,IF(달력!$S$29=\"순서3\",근무!F371,IF(달력!$S$29=\"순서4\",근무!G371,IF(달력!$S$29=\"순서5\",근무!H371,IF(달력!$S$29=\"순서6\",근무!I371,\"\"))))))","v":"야간"}]

{"sheet":"이름지정","index":8,"n_rows":637,"n_cols":5,"rows_kept":637,"cut":false,"hidden":true,"merged":[]}
["년도","월","연도","날짜","휴일명"]
[2010,1,{"$f":"YEAR(D2)","v":2010},"2010-02-13","설날"]
[2011,2,{"$f":"YEAR(D3)","v":2010},"2010-02-14","설날"]
[2012,3,2010,"2010-02-15","설날"]
[2013,4,2010,"2010-05-21","석가탄신일"]
[2014,5,2010,"2010-09-21","추석"]
[2015,6,2010,"2010-09-22","추석"]
[2016,7,2010,"2010-09-23","추석"]
[2017,8,2011,"2011-02-02","설날"]
[2018,9,2011,"2011-02-03","설날"]
[2019,10,2011,"2011-02-04","설날"]
[2020,11,2011,"2011-05-10","석가탄신일"]
[2021,12,2011,"2011-09-11","추석"]
[2022,null,2011,"2011-09-12","추석"]
[2023,null,2011,"2011-09-13","추석"]
[2024,null,2012,"2012-01-22","설날"]
[2025,null,2012,"2012-01-23","설날"]
[2026,null,2012,"2012-01-24","설날"]
[2027,null,2012,"2012-05-28","석가탄신일"]
[2028,null,2012,"2012-09-29","추석"]
[2029,null,2012,"2012-09-30","추석"]
[2030,null,2012,"2012-10-01","추석"]
[2031,null,2013,"2013-02-09","설날"]
[2032,null,2013,"2013-02-10","설날"]
[2033,null,2013,"2013-02-11","설날"]
[2034,null,2013,"2013-05-17","석가탄신일"]
[2035,null,2013,"2013-09-18","추석"]
[2036,null,2013,"2013-09-19","추석"]
[2037,null,2013,"2013-09-20","추석"]
[2038,null,2014,"2014-01-30","설날"]
[2039,null,2014,"2014-01-31","설날"]
[2040,null,2014,"2014-02-01","설날"]
[2041,null,2014,"2014-05-06","석가탄신일"]
[2042,null,2014,"2014-09-07","추석"]
[2043,null,2014,"2014-09-08","추석"]
[2044,null,2014,"2014-09-09","추석"]
[2045,null,2015,"2015-02-18","설날"]
[2046,null,2015,"2015-02-19","설날"]
[2047,null,2015,"2015-02-20","설날"]
[2048,null,2015,"2015-05-25","석가탄신일"]
[2049,null,2015,"2015-09-26","추석"]
[2050,null,2015,"2015-09-27","추석"]
[2051,null,2015,"2015-09-28","추석"]
[2052,null,2016,"2016-02-08","설날"]
[2053,null,2016,"2016-02-09","설날"]
[2054,null,2016,"2016-02-10","설날"]
[2055,null,2016,"2016-05-14","석가탄신일"]
[2056,null,2016,"2016-09-14","추석"]
[2057,null,2016,"2016-09-15","추석"]
[2058,null,2016,"2016-09-16","추석"]
[2059,null,2017,"2017-01-27","설날"]
[2060,null,2017,"2017-01-28","설날"]
[2061,null,2017,"2017-01-29","설날"]
[2062,null,2017,"2017-05-03","석가탄신일"]
[2063,null,2017,"2017-10-03","추석"]
[2064,null,2017,"2017-10-04","추석"]
[2065,null,2017,"2017-10-05","추석"]
[2066,null,2018,"2018-02-15","설날"]
[2067,null,2018,"2018-02-16","설날"]
[2068,null,2018,"2018-02-17","설날"]
[2069,null,2018,"2018-05-22","석가탄신일"]
[2070,null,2018,"2018-09-23","추석"]
[2071,null,2018,"2018-09-24","추석"]
[2072,null,2018,"2018-09-25","추석"]
[2073,null,2019,"2019-02-04","설날"]
[2074,null,2019,"2019-02-05","설날"]
[2075,null,{"$f":"YEAR(D67)","v":2019},"2019-02-06","설날"]
[2076,null,2019,"2019-05-12","석가탄신일"]
[2077,null,2019,"2019-09-12","추석"]
[2078,null,2019,"2019-09-13","추석"]
[2079,null,2019,"2019-09-14","추석"]
[2080,null,2020,"2020-01-24","설날"]
[2081,null,2020,"2020-01-25","설날"]
[2082,null,2020,"2020-01-26","설날"]
[2083,null,2020,"2020-04-30","석가탄신일"]
[2084,null,2020,"2020-09-30","추석"]
[2085,null,2020,"2020-10-01","추석"]
[2086,null,2020,"2020-10-02","추석"]
[2087,null,2021,"2021-02-11","설날"]
[2088,null,2021,"2021-02-12","설날"]
[2089,null,2021,"2021-02-13","설날"]
[2090,null,2021,"2021-05-19","석가탄신일"]
[2091,null,2021,"2021-09-20","추석"]
[2092,null,2021,"2021-09-21","추석"]
[2093,null,2021,"2021-09-22","추석"]
[2094,null,2022,"2022-01-31","설날"]
[2095,null,2022,"2022-02-01","설날"]
[2096,null,2022,"2022-02-02","설날"]
[2097,null,2022,"2022-05-08","석가탄신일"]
[2098,null,2022,"2022-09-09","추석"]
[2099,null,2022,"2022-09-10","추석"]
[2100,null,2022,"2022-09-11","추석"]
[null,null,2023,"2023-01-21","설날"]
[null,null,2023,"2023-01-22","설날"]
[null,null,2023,"2023-01-23","설날"]
[null,null,2023,"2023-05-27","석가탄신일"]
[null,null,2023,"2023-09-28","추석"]
[null,null,2023,"2023-09-29","추석"]
[null,null,2023,"2023-09-30","추석"]
[null,null,2024,"2024-02-09","설날"]
[null,null,2024,"2024-02-10","설날"]
[null,null,2024,"2024-02-11","설날"]
[null,null,2024,"2024-05-15","석가탄신일"]
[null,null,2024,"2024-09-16","추석"]
[null,null,2024,"2024-09-17","추석"]
[null,null,2024,"2024-09-18","추석"]
[null,null,2025,"2025-01-28","설날"]
[null,null,2025,"2025-01-29","설날"]
[null,null,2025,"2025-01-30","설날"]
[null,null,2025,"2025-05-05","석가탄신일"]
[null,null,2025,"2025-10-05","추석"]
[null,null,2025,"2025-10-06","추석"]
[null,null,2025,"2025-10-07","추석"]
[null,null,2026,"2026-02-16","설날"]
[null,null,2026,"2026-02-17","설날"]
[null,null,2026,"2026-02-18","설날"]
[null,null,2026,"2026-05-24","석가탄신일"]
[null,null,2026,"2026-09-24","추석"]
[null,null,2026,"2026-09-25","추석"]
[null,null,2026,"2026-09-26","추석"]
[null,null,2027,"2027-02-06","설날"]
[null,null,2027,"2027-02-07","설날"]
[null,null,2027,"2027-02-08","설날"]
[null,null,2027,"2027-05-13","석가탄신일"]
[null,null,2027,"2027-09-14","추석"]
[null,null,2027,"2027-09-15","추석"]
[null,null,2027,"2027-09-16","추석"]
[null,null,2028,"2028-01-26","설날"]
[null,null,2028,"2028-01-27","설날"]
[null,null,2028,"2028-01-28","설날"]
[null,null,{"$f":"YEAR(D131)","v":2028},"2028-05-02","석가탄신일"]
[null,null,2028,"2028-10-02","추석"]
[null,null,2028,"2028-10-03","추석"]
[null,null,2028,"2028-10-04","추석"]
[null,null,2029,"2029-02-12","설날"]
[null,null,2029,"2029-02-13","설날"]
[null,null,2029,"2029-02-14","설날"]
[null,null,2029,"2029-05-20","석가탄신일"]
[null,null,2029,"2029-09-21","추석"]
[null,null,2029,"2029-09-22","추석"]
[null,null,2029,"2029-09-23","추석"]
[null,null,2030,"2030-02-02","설날"]
[null,null,2030,"2030-02-03","설날"]
[null,null,2030,"2030-02-04","설날"]
[null,null,2030,"2030-05-09","석가탄신일"]
[null,null,2030,"2030-09-11","추석"]
[null,null,2030,"2030-09-12","추석"]
[null,null,2030,"2030-09-13","추석"]
[null,null,2031,"2031-01-22","설날"]
[null,null,2031,"2031-01-23","설날"]
[null,null,2031,"2031-01-24","설날"]
[null,null,2031,"2031-05-28","석가탄신일"]
[null,null,2031,"2031-09-30","추석"]
[null,null,2031,"2031-10-01","추석"]
[null,null,2031,"2031-10-02","추석"]
[null,null,2032,"2032-02-10","설날"]
[null,null,2032,"2032-02-11","설날"]
[null,null,2032,"2032-02-12","설날"]
[null,null,2032,"2032-05-16","석가탄신일"]
[null,null,2032,"2032-09-18","추석"]
[null,null,2032,"2032-09-19","추석"]
[null,null,2032,"2032-09-20","추석"]
[null,null,2033,"2033-01-30","설날"]
[null,null,2033,"2033-01-31","설날"]
[null,null,2033,"2033-02-01","설날"]
[null,null,2033,"2033-05-06","석가탄신일"]
[null,null,2033,"2033-10-06","추석"]
[null,null,2033,"2033-10-07","추석"]
[null,null,2033,"2033-10-08","추석"]
[null,null,2034,"2034-02-18","설날"]
[null,null,2034,"2034-02-19","설날"]
[null,null,2034,"2034-02-20","설날"]
[null,null,2034,"2034-05-25","석가탄신일"]
[null,null,2034,"2034-09-26","추석"]
[null,null,2034,"2034-09-27","추석"]
[null,null,2034,"2034-09-28","추석"]
[null,null,2035,"2035-02-07","설날"]
[null,null,2035,"2035-02-08","설날"]
[null,null,2035,"2035-02-09","설날"]
[null,null,2035,"2035-05-15","석가탄신일"]
[null,null,2035,"2035-09-15","추석"]
[null,null,2035,"2035-09-16","추석"]
[null,null,2035,"2035-09-17","추석"]
[null,null,2036,"2036-01-27","설날"]
[null,null,2036,"2036-01-28","설날"]
[null,null,2036,"2036-01-29","설날"]
[null,null,2036,"2036-05-03","석가탄신일"]
[null,null,2036,"2036-10-03","추석"]
[null,null,2036,"2036-10-04","추석"]
[null,null,2036,"2036-10-05","추석"]
[null,null,2037,"2037-02-14","설날"]
[null,null,2037,"2037-02-15","설날"]
[null,null,2037,"2037-02-16","설날"]
[null,null,2037,"2037-05-22","석가탄신일"]
[null,null,{"$f":"YEAR(D195)","v":2037},"2037-09-23","추석"]
[null,null,2037,"2037-09-24","추석"]
[null,null,2037,"2037-09-25","추석"]
[null,null,2038,"2038-02-03","설날"]
[null,null,2038,"2038-02-04","설날"]
[null,null,2038,"2038-02-05","설날"]
[null,null,2038,"2038-05-11","석가탄신일"]
[null,null,2038,"2038-09-12","추석"]
[null,null,2038,"2038-09-13","추석"]
[null,null,2038,"2038-09-14","추석"]
[null,null,2039,"2039-01-23","설날"]
[null,null,2039,"2039-01-24","설날"]
[null,null,2039,"2039-01-25","설날"]
[null,null,2039,"2039-04-30","석가탄신일"]
[null,null,2039,"2039-10-01","추석"]
[null,null,2039,"2039-10-02","추석"]
[null,null,2039,"2039-10-03","추석"]
[null,null,2040,"2040-02-11","설날"]
[null,null,2040,"2040-02-12","설날"]
[null,null,2040,"2040-02-13","설날"]
[null,null,2040,"2040-05-18","석가탄신일"]
[null,null,2040,"2040-09-20","추석"]
[null,null,2040,"2040-09-21","추석"]
[null,null,2040,"2040-09-22","추석"]
[null,null,2041,"2041-01-31","설날"]
[null,null,2041,"2041-02-01","설날"]
[null,null,2041,"2041-02-02","설날"]
[null,null,2041,"2041-05-07","석가탄신일"]
[null,null,2041,"2041-09-09","추석"]
[null,null,2041,"2041-09-10","추석"]
[null,null,2041,"2041-09-11","추석"]
[null,null,2042,"2042-01-21","설날"]
[null,null,2042,"2042-01-22","설날"]
[null,null,2042,"2042-01-23","설날"]
[null,null,2042,"2042-05-26","석가탄신일"]
[null,null,2042,"2042-09-27","추석"]
[null,null,2042,"2042-09-28","추석"]
[null,null,2042,"2042-09-29","추석"]
[null,null,2043,"2043-02-09","설날"]
[null,null,2043,"2043-02-10","설날"]
[null,null,2043,"2043-02-11","설날"]
[null,null,2043,"2043-05-16","석가탄신일"]
[null,null,2043,"2043-09-16","추석"]
[null,null,2043,"2043-09-17","추석"]
[null,null,2043,"2043-09-18","추석"]
[null,null,2044,"2044-01-29","설날"]
[null,null,2044,"2044-01-30","설날"]
[null,null,2044,"2044-01-31","설날"]
[null,null,2044,"2044-05-05","석가탄신일"]
[null,null,2044,"2044-10-04","추석"]
[null,null,2044,"2044-10-05","추석"]
[null,null,2044,"2044-10-06","추석"]
[null,null,2045,"2045-02-16","설날"]
[null,null,2045,"2045-02-17","설날"]
[null,null,2045,"2045-02-18","설날"]
[null,null,2045,"2045-05-24","석가탄신일"]
[null,null,2045,"2045-09-24","추석"]
[null,null,2045,"2045-09-25","추석"]
[null,null,2045,"2045-09-26","추석"]
[null,null,2046,"2046-02-05","설날"]
[null,null,2046,"2046-02-06","설날"]
[null,null,2046,"2046-02-07","설날"]
[null,null,2046,"2046-05-13","석가탄신일"]
[null,null,2046,"2046-09-14","추석"]
[null,null,{"$f":"YEAR(D259)","v":2046},"2046-09-15","추석"]
[null,null,2046,"2046-09-16","추석"]
[null,null,2047,"2047-01-25","설날"]
[null,null,2047,"2047-01-26","설날"]
[null,null,2047,"2047-01-27","설날"]
[null,null,2047,"2047-05-02","석가탄신일"]
[null,null,2047,"2047-10-04","추석"]
[null,null,2047,"2047-10-05","추석"]
[null,null,2048,"2048-02-13","설날"]
[null,null,2048,"2048-02-14","설날"]
[null,null,2048,"2048-02-15","설날"]
[null,null,2048,"2048-05-20","석가탄신일"]
[null,null,2048,"2048-09-21","추석"]
[null,null,2048,"2048-09-22","추석"]
[null,null,2048,"2048-09-23","추석"]
[null,null,2049,"2049-02-01","설날"]
[null,null,2049,"2049-02-02","설날"]
[null,null,2049,"2049-02-03","설날"]
[null,null,2049,"2049-05-09","석가탄신일"]
[null,null,2049,"2049-09-10","추석"]
[null,null,2049,"2049-09-11","추석"]
[null,null,2049,"2049-09-12","추석"]
[null,null,2050,"2050-01-22","설날"]
[null,null,2050,"2050-01-23","설날"]
[null,null,2050,"2050-01-24","설날"]
[null,null,2050,"2050-05-28","석가탄신일"]
[null,null,2050,"2050-09-29","추석"]
[null,null,2050,"2050-09-30","추석"]
[null,null,2050,"2050-10-01","추석"]
[null,null,2051,"2051-02-10","설날"]
[null,null,2051,"2051-02-11","설날"]
[null,null,2051,"2051-02-12","설날"]
[null,null,2051,"2051-05-17","석가탄신일"]
[null,null,2051,"2051-09-18","추석"]
[null,null,2051,"2051-09-19","추석"]
[null,null,2051,"2051-09-20","추석"]
[null,null,2052,"2052-01-31","설날"]
[null,null,2052,"2052-02-01","설날"]
[null,null,2052,"2052-02-02","설날"]
[null,null,2052,"2052-05-06","석가탄신일"]
[null,null,2052,"2052-09-06","추석"]
[null,null,2052,"2052-09-07","추석"]
[null,null,2052,"2052-09-08","추석"]
[null,null,2053,"2053-02-18","설날"]
[null,null,2053,"2053-02-19","설날"]
[null,null,2053,"2053-02-20","설날"]
[null,null,2053,"2053-05-25","석가탄신일"]
[null,null,2053,"2053-09-25","추석"]
[null,null,2053,"2053-09-26","추석"]
[null,null,2053,"2053-09-27","추석"]
[null,null,2054,"2054-02-07","설날"]
[null,null,2054,"2054-02-08","설날"]
[null,null,2054,"2054-02-09","설날"]
[null,null,2054,"2054-05-15","석가탄신일"]
[null,null,2054,"2054-09-15","추석"]
[null,null,2054,"2054-09-16","추석"]
[null,null,2054,"2054-09-17","추석"]
[null,null,2055,"2055-01-27","설날"]
[null,null,2055,"2055-01-28","설날"]
[null,null,2055,"2055-01-29","설날"]
[null,null,2055,"2055-05-04","석가탄신일"]
[null,null,2055,"2055-10-04","추석"]
[null,null,2055,"2055-10-05","추석"]
[null,null,2055,"2055-10-06","추석"]
[null,null,{"$f":"YEAR(D323)","v":2056},"2056-02-14","설날"]
[null,null,2056,"2056-02-15","설날"]
[null,null,2056,"2056-02-16","설날"]
[null,null,2056,"2056-05-22","석가탄신일"]
[null,null,2056,"2056-09-23","추석"]
[null,null,2056,"2056-09-24","추석"]
[null,null,2056,"2056-09-25","추석"]
[null,null,2057,"2057-02-03","설날"]
[null,null,2057,"2057-02-04","설날"]
[null,null,2057,"2057-02-05","설날"]
[null,null,2057,"2057-05-11","석가탄신일"]
[null,null,2057,"2057-09-12","추석"]
[null,null,2057,"2057-09-13","추석"]
[null,null,2057,"2057-09-14","추석"]
[null,null,2058,"2058-01-23","설날"]
[null,null,2058,"2058-01-24","설날"]
[null,null,2058,"2058-01-25","설날"]
[null,null,2058,"2058-04-30","석가탄신일"]
[null,null,2058,"2058-10-01","추석"]
[null,null,2058,"2058-10-02","추석"]
[null,null,2058,"2058-10-03","추석"]
[null,null,2059,"2059-02-11","설날"]
[null,null,2059,"2059-02-12","설날"]
[null,null,2059,"2059-02-13","설날"]
[null,null,2059,"2059-05-19","석가탄신일"]
[null,null,2059,"2059-09-20","추석"]
[null,null,2059,"2059-09-21","추석"]
[null,null,2059,"2059-09-22","추석"]
[null,null,2060,"2060-02-01","설날"]
[null,null,2060,"2060-02-02","설날"]
[null,null,2060,"2060-02-03","설날"]
[null,null,2060,"2060-05-07","석가탄신일"]
[null,null,2060,"2060-09-08","추석"]
[null,null,2060,"2060-09-09","추석"]
[null,null,2060,"2060-09-10","추석"]
[null,null,2061,"2061-01-21","설날"]
[null,null,2061,"2061-01-22","설날"]
[null,null,2061,"2061-01-23","설날"]
[null,null,2061,"2061-05-26","석가탄신일"]
[null,null,2061,"2061-09-27","추석"]
[null,null,2061,"2061-09-28","추석"]
[null,null,2061,"2061-09-29","추석"]
[null,null,2062,"2062-02-08","설날"]
[null,null,2062,"2062-02-09","설날"]
[null,null,2062,"2062-02-10","설날"]
[null,null,2062,"2062-05-16","석가탄신일"]
[null,null,2062,"2062-09-16","추석"]
[null,null,2062,"2062-09-17","추석"]
[null,null,2062,"2062-09-18","추석"]
[null,null,2063,"2063-01-28","설날"]
[null,null,2063,"2063-01-29","설날"]
[null,null,2063,"2063-01-30","설날"]
[null,null,2063,"2063-05-06","석가탄신일"]
[null,null,2063,"2063-10-05","추석"]
[null,null,2063,"2063-10-06","추석"]
[null,null,2063,"2063-10-07","추석"]
[null,null,2064,"2064-02-16","설날"]
[null,null,2064,"2064-02-17","설날"]
[null,null,2064,"2064-02-18","설날"]
[null,null,2064,"2064-05-23","석가탄신일"]
[null,null,2064,"2064-09-24","추석"]
[null,null,2064,"2064-09-25","추석"]
[null,null,2064,"2064-09-26","추석"]
[null,null,2065,"2065-02-04","설날"]
[null,null,{"$f":"YEAR(D387)","v":2065},"2065-02-05","설날"]
[null,null,2065,"2065-02-06","설날"]
[null,null,2065,"2065-05-12","석가탄신일"]
[null,null,2065,"2065-09-14","추석"]
[null,null,2065,"2065-09-15","추석"]
[null,null,2065,"2065-09-16","추석"]
[null,null,2066,"2066-01-25","설날"]
[null,null,2066,"2066-01-26","설날"]
[null,null,2066,"2066-01-27","설날"]
[null,null,2066,"2066-05-01","석가탄신일"]
[null,null,2066,"2066-10-02","추석"]
[null,null,2066,"2066-10-03","추석"]
[null,null,2066,"2066-10-04","추석"]
[null,null,2067,"2067-02-13","설날"]
[null,null,2067,"2067-02-14","설날"]
[null,null,2067,"2067-02-15","설날"]
[null,null,2067,"2067-05-20","석가탄신일"]
[null,null,2067,"2067-09-22","추석"]
[null,null,2067,"2067-09-23","추석"]
[null,null,2067,"2067-09-24","추석"]
[null,null,2068,"2068-02-02","설날"]
[null,null,2068,"2068-02-03","설날"]
[null,null,2068,"2068-02-04","설날"]
[null,null,2068,"2068-05-09","석가탄신일"]
[null,null,2068,"2068-09-10","추석"]
[null,null,2068,"2068-09-11","추석"]
[null,null,2068,"2068-09-12","추석"]
[null,null,2069,"2069-01-22","설날"]
[null,null,2069,"2069-01-23","설날"]
[null,null,2069,"2069-01-24","설날"]
[null,null,2069,"2069-04-28","석가탄신일"]
[null,null,2069,"2069-09-28","추석"]
[null,null,2069,"2069-09-29","추석"]
[null,null,2069,"2069-09-30","추석"]
[null,null,2070,"2070-02-10","설날"]
[null,null,2070,"2070-02-11","설날"]
[null,null,2070,"2070-02-12","설날"]
[null,null,2070,"2070-05-17","석가탄신일"]
[null,null,2070,"2070-09-18","추석"]
[null,null,2070,"2070-09-19","추석"]
[null,null,2070,"2070-09-20","추석"]
[null,null,2071,"2071-01-30","설날"]
[null,null,2071,"2071-01-31","설날"]
[null,null,2071,"2071-02-01","설날"]
[null,null,2071,"2071-05-07","석가탄신일"]
[null,null,2071,"2071-09-07","추석"]
[null,null,2071,"2071-09-08","추석"]
[null,null,2071,"2071-09-09","추석"]
[null,null,2072,"2072-02-18","설날"]
[null,null,2072,"2072-02-19","설날"]
[null,null,2072,"2072-02-20","설날"]
[null,null,2072,"2072-05-25","석가탄신일"]
[null,null,2072,"2072-09-25","추석"]
[null,null,2072,"2072-09-26","추석"]
[null,null,2072,"2072-09-27","추석"]
[null,null,2073,"2073-02-06","설날"]
[null,null,2073,"2073-02-07","설날"]
[null,null,2073,"2073-02-08","설날"]
[null,null,2073,"2073-05-14","석가탄신일"]
[null,null,2073,"2073-09-15","추석"]
[null,null,2073,"2073-09-16","추석"]
[null,null,2073,"2073-09-17","추석"]
[null,null,2074,"2074-01-26","설날"]
[null,null,2074,"2074-01-27","설날"]
[null,null,{"$f":"YEAR(D451)","v":2074},"2074-01-28","설날"]
[null,null,2074,"2074-05-03","석가탄신일"]
[null,null,2074,"2074-10-04","추석"]
[null,null,2074,"2074-10-05","추석"]
[null,null,2074,"2074-10-06","추석"]
[null,null,2075,"2075-02-14","설날"]
[null,null,2075,"2075-02-15","설날"]
[null,null,2075,"2075-02-16","설날"]
[null,null,2075,"2075-05-22","석가탄신일"]
[null,null,2075,"2075-09-23","추석"]
[null,null,2075,"2075-09-24","추석"]
[null,null,2075,"2075-09-25","추석"]
[null,null,2076,"2076-02-04","설날"]
[null,null,2076,"2076-02-05","설날"]
[null,null,2076,"2076-02-06","설날"]
[null,null,2076,"2076-05-10","석가탄신일"]
[null,null,2076,"2076-09-11","추석"]
[null,null,2076,"2076-09-12","추석"]
[null,null,2076,"2076-09-13","추석"]
[null,null,2077,"2077-01-23","설날"]
[null,null,2077,"2077-01-24","설날"]
[null,null,2077,"2077-01-25","설날"]
[null,null,2077,"2077-04-30","석가탄신일"]
[null,null,2077,"2077-09-30","추석"]
[null,null,2077,"2077-10-01","추석"]
[null,null,2077,"2077-10-02","추석"]
[null,null,2078,"2078-02-11","설날"]
[null,null,2078,"2078-02-12","설날"]
[null,null,2078,"2078-02-13","설날"]
[null,null,2078,"2078-05-19","석가탄신일"]
[null,null,2078,"2078-09-19","추석"]
[null,null,2078,"2078-09-20","추석"]
[null,null,2078,"2078-09-21","추석"]
[null,null,2079,"2079-02-01","설날"]
[null,null,2079,"2079-02-02","설날"]
[null,null,2079,"2079-02-03","설날"]
[null,null,2079,"2079-05-08","석가탄신일"]
[null,null,2079,"2079-09-09","추석"]
[null,null,2079,"2079-09-10","추석"]
[null,null,2079,"2079-09-11","추석"]
[null,null,2080,"2080-01-21","설날"]
[null,null,2080,"2080-01-22","설날"]
[null,null,2080,"2080-01-23","설날"]
[null,null,2080,"2080-05-26","석가탄신일"]
[null,null,2080,"2080-09-27","추석"]
[null,null,2080,"2080-09-28","추석"]
[null,null,2080,"2080-09-29","추석"]
[null,null,2081,"2081-02-08","설날"]
[null,null,2081,"2081-02-09","설날"]
[null,null,2081,"2081-02-10","설날"]
[null,null,2081,"2081-05-16","석가탄신일"]
[null,null,2081,"2081-09-16","추석"]
[null,null,2081,"2081-09-17","추석"]
[null,null,2081,"2081-09-18","추석"]
[null,null,2082,"2082-01-28","설날"]
[null,null,2082,"2082-01-29","설날"]
[null,null,2082,"2082-01-30","설날"]
[null,null,2082,"2082-05-05","석가탄신일"]
[null,null,2082,"2082-10-05","추석"]
[null,null,2082,"2082-10-06","추석"]
[null,null,2082,"2082-10-07","추석"]
[null,null,2083,"2083-02-16","설날"]
[null,null,2083,"2083-02-17","설날"]
[null,null,2083,"2083-02-18","설날"]
[null,null,{"$f":"YEAR(D515)","v":2083},"2083-05-24","석가탄신일"]
[null,null,2083,"2083-09-25","추석"]
[null,null,2083,"2083-09-26","추석"]
[null,null,2083,"2083-09-27","추석"]
[null,null,2084,"2084-02-05","설날"]
[null,null,2084,"2084-02-06","설날"]
[null,null,2084,"2084-02-07","설날"]
[null,null,2084,"2084-05-12","석가탄신일"]
[null,null,2084,"2084-09-13","추석"]
[null,null,2084,"2084-09-14","추석"]
[null,null,2084,"2084-09-15","추석"]
[null,null,2085,"2085-01-25","설날"]
[null,null,2085,"2085-01-26","설날"]
[null,null,2085,"2085-01-27","설날"]
[null,null,2085,"2085-05-01","석가탄신일"]
[null,null,2085,"2085-10-02","추석"]
[null,null,2085,"2085-10-03","추석"]
[null,null,2085,"2085-10-04","추석"]
[null,null,2086,"2086-02-13","설날"]
[null,null,2086,"2086-02-14","설날"]
[null,null,2086,"2086-02-15","설날"]
[null,null,2086,"2086-05-20","석가탄신일"]
[null,null,2086,"2086-09-21","추석"]
[null,null,2086,"2086-09-22","추석"]
[null,null,2086,"2086-09-23","추석"]
[null,null,2087,"2087-02-02","설날"]
[null,null,2087,"2087-02-03","설날"]
[null,null,2087,"2087-02-04","설날"]
[null,null,2087,"2087-05-10","석가탄신일"]
[null,null,2087,"2087-09-10","추석"]
[null,null,2087,"2087-09-11","추석"]
[null,null,2087,"2087-09-12","추석"]
[null,null,2088,"2088-01-23","설날"]
[null,null,2088,"2088-01-24","설날"]
[null,null,2088,"2088-01-25","설날"]
[null,null,2088,"2088-04-28","석가탄신일"]
[null,null,2088,"2088-09-28","추석"]
[null,null,2088,"2088-09-29","추석"]
[null,null,2088,"2088-09-30","추석"]
[null,null,2089,"2089-02-10","설날"]
[null,null,2089,"2089-02-11","설날"]
[null,null,2089,"2089-02-12","설날"]
[null,null,2089,"2089-05-17","석가탄신일"]
[null,null,2089,"2089-09-18","추석"]
[null,null,2089,"2089-09-19","추석"]
[null,null,2089,"2089-09-20","추석"]
[null,null,2090,"2090-01-29","설날"]
[null,null,2090,"2090-01-30","설날"]
[null,null,2090,"2090-01-31","설날"]
[null,null,2090,"2090-05-07","석가탄신일"]
[null,null,2090,"2090-09-07","추석"]
[null,null,2090,"2090-09-08","추석"]
[null,null,2090,"2090-09-09","추석"]
[null,null,2091,"2091-02-17","설날"]
[null,null,2091,"2091-02-18","설날"]
[null,null,2091,"2091-02-19","설날"]
[null,null,2091,"2091-05-25","석가탄신일"]
[null,null,2091,"2091-09-26","추석"]
[null,null,2091,"2091-09-27","추석"]
[null,null,2091,"2091-09-28","추석"]
[null,null,2092,"2092-02-06","설날"]
[null,null,2092,"2092-02-07","설날"]
[null,null,2092,"2092-02-08","설날"]
[null,null,2092,"2092-05-13","석가탄신일"]
[null,null,{"$f":"YEAR(D579)","v":2092},"2092-09-15","추석"]
[null,null,2092,"2092-09-16","추석"]
[null,null,2092,"2092-09-17","추석"]
[null,null,2093,"2093-01-26","설날"]
[null,null,2093,"2093-01-27","설날"]
[null,null,2093,"2093-01-28","설날"]
[null,null,2093,"2093-05-03","석가탄신일"]
[null,null,2093,"2093-10-04","추석"]
[null,null,2093,"2093-10-05","추석"]
[null,null,2093,"2093-10-06","추석"]
[null,null,2094,"2094-02-14","설날"]
[null,null,2094,"2094-02-15","설날"]
[null,null,2094,"2094-02-16","설날"]
[null,null,2094,"2094-05-21","석가탄신일"]
[null,null,2094,"2094-09-23","추석"]
[null,null,2094,"2094-09-24","추석"]
[null,null,2094,"2094-09-25","추석"]
[null,null,2095,"2095-02-04","설날"]
[null,null,2095,"2095-02-05","설날"]
[null,null,2095,"2095-02-06","설날"]
[null,null,2095,"2095-05-11","석가탄신일"]
[null,null,2095,"2095-09-12","추석"]
[null,null,2095,"2095-09-13","추석"]
[null,null,2095,"2095-09-14","추석"]
[null,null,2096,"2096-01-24","설날"]
[null,null,2096,"2096-01-25","설날"]
[null,null,2096,"2096-01-26","설날"]
[null,null,2096,"2096-04-30","석가탄신일"]
[null,null,2096,"2096-09-30","추석"]
[null,null,2096,"2096-10-01","추석"]
[null,null,2096,"2096-10-02","추석"]
[null,null,2097,"2097-02-11","설날"]
[null,null,2097,"2097-02-12","설날"]
[null,null,2097,"2097-02-13","설날"]
[null,null,2097,"2097-05-19","석가탄신일"]
[null,null,2097,"2097-09-19","추석"]
[null,null,2097,"2097-09-20","추석"]
[null,null,2097,"2097-09-21","추석"]
[null,null,2098,"2098-01-31","설날"]
[null,null,2098,"2098-02-01","설날"]
[null,null,2098,"2098-02-02","설날"]
[null,null,2098,"2098-05-08","석가탄신일"]
[null,null,2098,"2098-09-09","추석"]
[null,null,2098,"2098-09-10","추석"]
[null,null,2098,"2098-09-11","추석"]
[null,null,2099,"2099-01-20","설날"]
[null,null,2099,"2099-01-21","설날"]
[null,null,2099,"2099-01-22","설날"]
[null,null,2099,"2099-05-27","석가탄신일"]
[null,null,2099,"2099-09-28","추석"]
[null,null,2099,"2099-09-29","추석"]
[null,null,2099,"2099-09-30","추석"]
[null,null,2100,"2100-02-08","설날"]
[null,null,2100,"2100-02-09","설날"]
[null,null,2100,"2100-02-10","설날"]
[null,null,2100,"2100-05-16","석가탄신일"]
[null,null,2100,"2100-09-17","추석"]
[null,null,2100,"2100-09-18","추석"]
[null,null,2100,"2100-09-19","추석"]