{"text_format":"1","workbook":"xlsx","n_sheets":15,"sheets":["00000000","표지","인증","1-1 사업장 공정 정보","1-2 업종 및 산업재해-","1-3 추정기준","2 사전준비","3-1 유해위험요인 파악","3-2 유해위험요인 파악현황","3-3 위험성평가","3-4 감소대책 수립","3-5 위험요소 감소조치 실행결과","3-6.TBM일지(자동)","3-8.TBM일지(수동)","DB자료실"],"not_rendered":{"charts":2,"images":5,"macros":1,"external_links":0,"defined_names":60,"comments":0,"pivot_tables":0},"unopened":[],"bounds":{"document_bytes":16777216,"sheet_cells":100000,"rows_first":2000,"rows_last":500,"rows_between":2000,"halvings":0,"cell_chars":16384,"cell_head_chars":4096},"cells_cut":0,"cells_raw":0,"read":"whole","date_system":"1900"}

{"sheet":"00000000","index":0,"n_rows":0,"n_cols":0,"rows_kept":0,"cut":false,"hidden":true,"merged":[]}

{"sheet":"표지","index":1,"n_rows":39,"n_cols":8,"rows_kept":39,"cut":false,"hidden":false,"merged":[[2,2,4,4],[5,1,11,5],[31,3,31,4],[32,3,32,4],[38,1,39,5],[20,2,20,4],[23,3,23,4]]}
[]
[]
[null,null,"위험성평가 모델(KRA-06,9,10)"]
[]
[]
[null,"철콘작업(거푸집,철근,타설)"]
[]
[]
[]
[]
[]
[]
[]
[]
[]
[]
[]
[]
[]
[]
[]
[]
[]
[null,null,"작성일자 :","2025-01-10"]
[]
[]
[]
[]
[]
[]
[]
[null,null,"현장명 :","서초동1342-15"]
[null,null,"협력업체 :","시원건설",null,null,null,"본사 직영 일경우 \"직영\", 면허 사업자인 경우 협력업체 명"]
[null,null,null,"안전관리자(반장) :","김길동4"]
[null,null,null,"연 락 처 :","010-0000-0000"]
[]
[]
[]
[null,"㈜시에너건설"]

{"sheet":"인증","index":2,"n_rows":1,"n_cols":2,"rows_kept":1,"cut":false,"hidden":true,"merged":[]}
[null,"2025-07-01"]

{"sheet":"1-1 사업장 공정 정보","index":3,"n_rows":34,"n_cols":39,"rows_kept":34,"cut":false,"hidden":false,"merged":[[29,38,29,45],[27,38,27,45],[28,3,28,6],[28,7,28,15],[28,16,28,28],[28,29,28,37],[28,38,28,45],[31,3,31,6],[31,7,31,15],[31,16,31,28],[31,29,31,37],[31,38,31,45],[29,3,29,6],[29,7,29,15],[29,16,29,28],[29,29,29,37],[30,3,30,6],[30,7,30,15],[30,16,30,28],[30,29,30,37],[30,38,30,45],[26,3,26,6],[26,7,26,15],[26,16,26,28],[26,29,26,37],[26,38,26,45],[27,3,27,6],[27,7,27,15],[27,16,27,28],[27,29,27,37],[24,3,24,6],[24,7,24,15],[24,16,24,28],[24,29,24,37],[24,38,24,45],[25,3,25,6],[25,7,25,15],[25,16,25,28],[25,29,25,37],[25,38,25,45],[22,3,22,6],[22,7,22,15],[22,16,22,28],[22,29,22,37],[22,38,22,45],[23,3,23,6],[23,7,23,15],[23,16,23,28],[23,29,23,37],[23,38,23,45],[21,3,21,6],[21,7,21,15],[21,16,21,28],[21,29,21,37],[21,38,21,45],[19,3,19,6],[19,7,19,15],[19,16,19,28],[19,29,19,37],[19,38,19,45],[20,3,20,6],[20,7,20,15],[20,16,20,28],[20,29,20,37],[20,38,20,45],[0,1,1,47],[9,15,9,45],[4,33,4,45],[5,10,5,25],[5,33,5,45],[5,26,5,32],[6,3,6,9],[6,10,6,45],[4,3,4,9],[5,3,5,9],[4,26,4,32],[4,10,4,25],[7,3,7,9],[7,10,7,45],[9,3,9,14],[33,3,36,45],[13,38,13,45],[10,29,11,45],[10,10,10,25],[11,3,11,9],[10,26,11,28],[10,3,10,9],[13,16,13,28],[13,7,13,15],[13,3,13,6],[11,10,11,25],[12,3,12,45],[13,29,13,37],[14,3,14,6],[15,3,15,6],[16,3,16,6],[18,3,18,6],[14,7,14,15],[14,16,14,28],[14,29,14,37],[18,7,18,15],[18,16,18,28],[18,29,18,37],[18,38,18,45],[17,3,17,6],[17,7,17,15],[17,16,17,28],[17,29,17,37],[17,38,17,45],[14,38,14,45],[15,7,15,15],[15,16,15,28],[15,29,15,37],[15,38,15,45],[16,7,16,15],[16,16,16,28],[16,29,16,37],[16,38,16,45]]}
[null,"사업장 / 공정 정보"]
[]
[]
[]
[null,null,null,"사업장명",null,null,null,null,null,null,{"$f":"표지!D32","v":"서초동1342-15"},null,null,null,null,null,null,null,null,null,null,null,null,null,null,null,"사업주명",null,null,null,null,null,null,{"$f":"표지!D33","v":"시원건설"}]
[null,null,null,"업종",null,null,null,null,null,null,"건설업",null,null,null,null,null,null,null,null,null,null,null,null,null,null,null,"근로자수",null,null,null,null,null,null,"30명"]
[null,null,null,"주소"]
[null,null,null,"참여자",null,null,null,null,null,null,"대표: 안전관리총괄책임자, 안전관리책임자, 안전관리자, 반장, 작업자"]
[]
[null,null,null,"평가진행기간",null,null,null,null,null,null,null,null,null,null,null,"2025.1.1 ~ 2025.07.31"]
[null,null,null,"업종 중분류",null,null,null,null,null,null,"-",null,null,null,null,null,null,null,null,null,null,null,null,null,null,null,"공정\n대분류",null,null,{"$f":"표지!B6","v":"철콘작업(거푸집,철근,타설)"}]
[null,null,null,"업종 소분류",null,null,null,null,null,null,"-"]
[null,null,null,"공정 분석"]
[null,null,null,"No.",null,null,null,"공정명",null,null,null,null,null,null,null,null,"공정설명",null,null,null,null,null,null,null,null,null,null,null,null,"설비",null,null,null,null,null,null,null,null,"물질"]
[null,null,null,1,null,null,null,"자재반입, 가공·운반",null,null,null,null,null,null,null,null,"철근 및 거푸집 등 자재 반입",null,null,null,null,null,null,null,null,null,null,null,null,"카고크레인, 목재가공용 둥근톱",null,null,null,null,null,null,null,null,"-"]
[null,null,null,2,null,null,null,"거푸집 작업",null,null,null,null,null,null,null,null,"거푸집 조립,해체",null,null,null,null,null,null,null,null,null,null,null,null,"작업발판",null,null,null,null,null,null,null,null,"-"]
[null,null,null,3,null,null,null,"철근 작업",null,null,null,null,null,null,null,null,"철근 가공 및 배근 작업",null,null,null,null,null,null,null,null,null,null,null,null,"철근절곡기",null,null,null,null,null,null,null,null,"-"]
[null,null,null,4,null,null,null,"콘크리트 타설",null,null,null,null,null,null,null,null,"콘크리트 타설 및 양생",null,null,null,null,null,null,null,null,null,null,null,null,"레미콘차량 및 타설차량",null,null,null,null,null,null,null,null,"-"]
[null,null,null,5,null,null,null,"작업장 정리 및 자재 반출",null,null,null,null,null,null,null,null,"거푸집 반출, 타설현장 정리",null,null,null,null,null,null,null,null,null,null,null,null,"양중기",null,null,null,null,null,null,null,null,"-"]
[]
[]
[]
[]
[]
[]
[]
[]
[]
[]
[]
[]
[]
[]
[null,null,null,"  비고"]

{"sheet":"1-2 업종 및 산업재해-","index":4,"n_rows":75,"n_cols":10,"rows_kept":75,"cut":false,"hidden":false,"merged":[[77,0,77,9],[79,0,79,9],[80,0,80,9],[72,5,72,6],[72,7,72,8],[73,5,73,6],[73,7,73,8],[74,5,74,6],[74,7,74,8],[69,1,69,9],[70,0,71,0],[70,1,71,1],[70,2,71,2],[70,3,71,3],[70,4,71,4],[70,5,71,6],[70,7,71,8],[70,9,71,9],[64,5,64,6],[64,7,64,8],[65,5,65,6],[65,7,65,8],[66,5,66,6],[66,7,66,8],[40,0,56,9],[61,1,61,9],[62,0,63,0],[62,1,63,1],[62,2,63,2],[62,3,63,3],[62,4,63,4],[62,5,63,6],[62,7,63,8],[62,9,63,9],[39,2,39,3],[12,0,12,3],[12,4,12,6],[12,7,12,9],[13,0,13,3],[13,4,13,6],[13,7,13,9],[14,0,14,3],[14,4,14,6],[14,7,14,9],[18,2,18,3],[19,0,35,9],[10,0,10,3],[10,4,10,6],[10,7,10,9],[11,0,11,3],[11,4,11,6],[11,7,11,9],[8,0,8,3],[8,4,8,6],[8,7,8,9],[9,0,9,3],[9,4,9,6],[9,7,9,9],[6,0,6,3],[6,4,6,6],[6,7,6,9],[7,0,7,3],[7,4,7,6],[7,7,7,9],[4,0,4,3],[4,4,4,6],[4,7,4,9],[5,0,5,3],[5,4,5,6],[5,7,5,9],[2,0,2,3],[2,4,2,6],[2,7,2,9],[3,0,3,3],[3,4,3,6],[3,7,3,9]]}
["1) 사업장 및 근로자 수 현황"]
[]
["구 분",null,null,null,"사업장 수(개)",null,null,"근로자 수(명)"]
["건설업",null,null,null,{"$f":"SUM(E5:G15)","v":283861},null,null,{"$f":"SUM(H5:J15)","v":3087131}]
["1,000만원 미만",null,null,null,80061,null,null,84178]
["1,000만 ~ 2,000만원 미만",null,null,null,33388,null,null,34660]
["2,000만 ~ 4,000만원 미만",null,null,null,22394,null,null,32640]
["4,000만 ~ 1억원 미만",null,null,null,35488,null,null,86702]
["1억~3억원미만",null,null,null,44894,null,null,218061]
["3억~20억원미만",null,null,null,40773,null,null,464516]
["20억~120억원미만",null,null,null,13739,null,null,509059]
["120억~300억원미만",null,null,null,3056,null,null,320050]
["300억원~1000억원미만",null,null,null,2390,null,null,555730]
["1,000억원 이상",null,null,null,1031,null,null,760332]
["분류불능",null,null,null,6647,null,null,21203]
[]
["2) 공사금액별 사업장 수"]
[]
["사업장 수 : ","총",{"$f":"IF($E4=\"\",\"\",$E4)","v":283861},null,"개"]
[]
[]
[]
[]
[]
[]
[]
[]
[]
[]
[]
[]
[]
[]
[]
[]
[]
[]
["3) 공사금액별 근로자 수"]
[]
["근로자 수 : ","총",{"$f":"IF($H4=\"\",\"\",$H4)","v":3087131},null,"명"]
[]
[]
[]
[]
[]
[]
[]
[]
[]
[]
[]
[]
[]
[]
[]
[]
[]
[]
["4) 공사금액별 재해발생"]
[]
[null,null,null,null,null,null,null,null,null,"[단위: %]"]
["구 분","재 해 율"]
["           금 액\n년 도","1억원 \n미만","1억~3억원 미만","3억~20억 미만","20억~120억 미만","120억~300억 \n미만",null,"300억~1,000억원 미만",null,"1,000억원 이상"]
[]
[2009,1.97,1.6,1.1599999999999999,0.97,0.21,null,0.15,null,7.0000000000000007E-2]
[2010,2.7,2.15,1.28,0.59,0.17,null,0.13,null,0.06]
[2011,2.1,2.23,1.51,0.64,0.21,null,0.12,null,0.05]
[]
[null,null,null,null,null,null,null,null,null,"[단위: 명]"]
["구 분","사 망 자 수"]
["           금 액\n년 도","1억원 \n미만","1억~3억원 미만","3억~20억 미만","20억~120억 미만","120억~300억 \n미만",null,"300억~1,000억원 미만",null,"1,000억원 이상"]
["년 도"]
[2009,96,78,100,111,45,null,84,null,60]
[2010,97,76,135,97,48,null,62,null,60]
[2011,108,88,131,109,44,null,59,null,45]

{"sheet":"1-3 추정기준","index":5,"n_rows":11,"n_cols":6,"rows_kept":11,"cut":false,"hidden":false,"merged":[[1,1,1,5],[3,1,3,2],[3,3,3,4],[8,1,10,2],[8,3,8,5],[10,3,10,5],[9,3,9,5],[4,3,4,4],[5,3,5,4],[6,3,6,4],[5,1,5,2],[4,1,4,2],[6,1,6,2]]}
[]
[null,"위험성 결정 기준 (상, 중, 하 3단계)"]
[]
[null,"위험성 수준",null,"판단기준",null,"허용 가능여부"]
[null,"상",null,"사고 발생 시 사망 또는 장애가 남을 수 있는 위험",null,"허용 불가\n(즉시개선)"]
[null,"중",null,"사고 발생 시 요양이 필요한 위험\n산업안전보건법위반이 있을 경우 (아차사고포함)",null,"허용 불가\n(즉시개선)"]
[null,"하",null,"현상유지 밀 필요할 경우 개선방샹제시(자율적 조치토록)",null,"허용 가능"]
[]
[null,"위험성결정 방법",null,"①근로자들이 참여하는 전체 위험성평가 회의를 개최하여 관리할 유해·위험요인을 선정"]
[null,null,null,"②근로자의 경험과 재해사례 등을 반영하여 위험성 결정 "]
[null,null,null,"③‘상’과 ‘중’등급은 중점관리, ‘하’등급은 일상관리"]

{"sheet":"2 사전준비","index":6,"n_rows":41,"n_cols":3,"rows_kept":41,"cut":false,"hidden":false,"merged":[[18,0,23,0],[18,1,23,1],[33,0,33,1],[35,0,40,0],[35,1,40,1],[34,0,34,2],[24,0,24,1],[26,0,26,2],[27,0,32,0],[27,1,32,1],[10,0,15,0],[10,1,15,1],[16,0,16,1],[9,0,9,2],[17,0,17,2],[2,0,7,0],[2,1,7,1],[8,0,8,1],[0,0,0,2],[1,0,1,2]]}
["사전준비"]
[{"$f":"'1-1 사업장 공정 정보'!H15","v":"자재반입, 가공·운반"}]
[null,null,"세부공정설명"]
[null,null,{"$f":"'1-1 사업장 공정 정보'!Q15","v":"철근 및 거푸집 등 자재 반입"}]
[null,null,"유해위험설비/도구"]
[null,null,{"$f":"'1-1 사업장 공정 정보'!AD15","v":"카고크레인, 목재가공용 둥근톱"}]
[null,null,"유해위험물질"]
[null,null,{"$f":"'1-1 사업장 공정 정보'!AM15","v":"-"}]
[]
[{"$f":"'1-1 사업장 공정 정보'!H16","v":"거푸집 작업"}]
[null,null,"세부공정설명"]
[null,null,{"$f":"'1-1 사업장 공정 정보'!Q16","v":"거푸집 조립,해체"}]
[null,null,"유해위험설비/도구"]
[null,null,{"$f":"'1-1 사업장 공정 정보'!AD16","v":"작업발판"}]
[null,null,"유해위험물질"]
[null,null,{"$f":"'1-1 사업장 공정 정보'!AM16","v":"-"}]
[]
[{"$f":"'1-1 사업장 공정 정보'!H17","v":"철근 작업"}]
[null,null,"세부공정설명"]
[null,null,{"$f":"'1-1 사업장 공정 정보'!Q17","v":"철근 가공 및 배근 작업"}]
[null,null,"유해위험설비/도구"]
[null,null,{"$f":"'1-1 사업장 공정 정보'!AD17","v":"철근절곡기"}]
[null,null,"유해위험물질"]
[null,null,{"$f":"'1-1 사업장 공정 정보'!AM17","v":"-"}]
[]
[]
[{"$f":"'1-1 사업장 공정 정보'!H18","v":"콘크리트 타설"}]
[null,null,"세부공정설명"]
[null,null,{"$f":"'1-1 사업장 공정 정보'!Q18","v":"콘크리트 타설 및 양생"}]
[null,null,"유해위험설비/도구"]
[null,null,{"$f":"'1-1 사업장 공정 정보'!AD18","v":"레미콘차량 및 타설차량"}]
[null,null,"유해위험물질"]
[null,null,{"$f":"'1-1 사업장 공정 정보'!AM11","v":0}]
[]
[{"$f":"'1-1 사업장 공정 정보'!H19","v":"작업장 정리 및 자재 반출"}]
[null,null,"세부공정설명"]
[null,null,{"$f":"'1-1 사업장 공정 정보'!Q19","v":"거푸집 반출, 타설현장 정리"}]
[null,null,"유해위험설비/도구"]
[null,null,{"$f":"'1-1 사업장 공정 정보'!AD19","v":"양중기"}]
[null,null,"유해위험물질"]
[null,null,{"$f":"'1-1 사업장 공정 정보'!AM19","v":"-"}]

{"sheet":"3-1 유해위험요인 파악","index":7,"n_rows":80,"n_cols":17,"rows_kept":80,"cut":false,"hidden":false,"merged":[[78,0,79,0],[78,1,79,1],[69,0,71,0],[69,1,71,1],[72,0,73,0],[72,1,73,1],[74,0,77,0],[74,1,77,1],[64,0,64,10],[65,2,65,3],[65,5,65,6],[65,8,65,9],[66,0,67,0],[66,1,67,1],[0,0,0,10],[2,0,3,0],[2,1,3,1],[5,0,7,0],[5,1,7,1],[1,2,1,3],[1,5,1,6],[1,8,1,9],[8,1,9,1],[8,0,9,0],[18,0,19,0],[16,0,16,10],[17,5,17,6],[17,8,17,9],[17,2,17,3],[30,1,31,1],[24,1,25,1],[30,0,31,0],[10,0,13,0],[10,1,13,1],[14,0,15,0],[14,1,15,1],[18,1,19,1],[21,0,23,0],[21,1,23,1],[24,0,25,0],[26,0,29,0],[26,1,29,1],[32,0,32,10],[33,2,33,3],[33,5,33,6],[33,8,33,9],[34,0,35,0],[34,1,35,1],[37,0,39,0],[37,1,39,1],[40,0,41,0],[40,1,41,1],[42,0,45,0],[42,1,45,1],[46,0,47,0],[46,1,47,1],[48,0,48,10],[49,2,49,3],[49,5,49,6],[49,8,49,9],[58,0,61,0],[58,1,61,1],[62,0,63,0],[62,1,63,1],[50,0,51,0],[50,1,51,1],[53,0,55,0],[53,1,55,1],[56,0,57,0],[56,1,57,1]]}
["유해위험요인 파악"]
["공\n정","거푸집 작업","세부\n분류",null,{"$f":"'2 사전준비'!C4","v":"철근 및 거푸집 등 자재 반입"},"설비",null,{"$f":"'2 사전준비'!C6","v":"카고크레인, 목재가공용 둥근톱"},"물질",null,"-"]
["1.","기계(설비)적 요인","▣",1.1000000000000001,"협착위험 부분(감김, 끼임)","□",1.2,"위험한 표면\n(절단, 베임,긁힘)","▣",1.3,"기계(설비)의 낙하, 비래, 전복, 붕괴, 전도위험 부분",null,"1.1 협착위험 부분(감김, 끼임)",1.1000000000000001]
[null,null,"□",1.4,"충돌위험 부분 ","□",1.5,"넘어짐\n(미끄러짐, 걸림, 헛디딤)","▣",1.6,"추락위험 부분(개구부 등)",null,"1.2 위험한 표면(절단, 베임,긁힘)",1.2]
["2.","전기적 요인","▣",2.1,"감전(안전전압초과)","□",2.2000000000000002,"아크","□",2.2999999999999998,"정전기",null,"1.3 기계(설비)의 낙하, 비래, 전복, 붕괴, 전도위험 부분",1.3]
["3.","화학(물질)적 요인","□",3.1,"가스","□",3.2,"증기","□",3.3,"에어로졸·흄",null,"1.4 충돌위험 부분",1.4]
[null,null,"□",3.4,"액체·미스트","□",3.5,"고체(분진)","□",3.6,"반응성 물질",null,"1.5 넘어짐(미끄러짐, 걸림, 헛디딤)",1.5]
[null,null,"□",3.7,"방사선","□",3.8,"화재 / 폭발 위험","□",3.9,"복사열 / 폭발과압",null,"1.6 추락위험 부분(개구부 등)",1.6]
["4.","생물학적 요인","□",4.0999999999999996,"병원성 미생물, 바이러스에 의한 감염","□",4.2,"유전자 변형물질(GMO)","□",4.3,"알러지 및 미생물",null,"2.1 감전(안전전압초과)",2.1]
[null,null,"□",4.4000000000000004,"동물","□",4.5,"식물",null,null,null,null,"2.2 아크",2.2000000000000002]
["5.","작업특성요인","□",5.0999999999999996,"소음","□",5.2,"초음파·초저주파음","□",5.3,"진동",null,"2.3 정전기",2.2999999999999998]
[null,null,"▣",5.4,"근로자 실수(휴먼에러)","□",5.5,"저압 또는 고압상태","□",5.6,"질식위험·산소결핍",null,"3.1 가스",3.1]
[null,null,"□",5.7,"중량물 취급작업","□",5.8,"반복작업","□",5.9,"불안정한 작업자세",null,"3.2 증기",3.2,null,null," "]
[null,null,"□",5.0999999999999996,"작업(조작)도구",null,null,null,null,null,null,null,"3.3 에어로졸·흄",3.3]
["6.","작업환경요인","□",6.1,"기후 / 고온 / 한랭","□",6.2,"조명","□",6.3,"공간 및 이동통로",null,"3.4 액체·미스트",3.4]
[null,null,"□",6.4,"주변 근로자","□",6.5,"장시간/맞교대 작업","□",6.6,"조직 안전문화",null,"3.5 고체(분진)",3.5]
["유해위험요인 파악",null,null,null,null,null,null,null,null,null,null,null,"3.6 반응성 물질",3.6]
["공\n정","거푸집 작업","세부\n분류",null,{"$f":"'2 사전준비'!C12","v":"거푸집 조립,해체"},"설비",null,{"$f":"'2 사전준비'!C14","v":"작업발판"},"물질",null,"-",null,"3.7 방사선",3.7]
["1.","기계(설비)적 요인","▣",1.1000000000000001,"협착위험 부분(감김, 끼임)","□",1.2,"위험한 표면\n(절단, 베임,긁힘)","▣",1.3,"기계(설비)의 낙하, 비래, 전복, 붕괴, 전도위험 부분",null,"3.8 화재 / 폭발 위험",3.8]
[null,null,"▣",1.4,"충돌위험 부분 ","▣",1.5,"넘어짐\n(미끄러짐, 걸림, 헛디딤)","▣",1.6,"추락위험 부분(개구부 등)",null,"3.9 복사열 / 폭발과압",3.9]
["2.","전기적 요인","□",2.1,"감전(안전전압초과)","□",2.2000000000000002,"아크","□",2.2999999999999998,"정전기",null,"4.1 병원성 미생물, 바이러스에 의한 감염",4.0999999999999996]
["3.","화학(물질)적 요인","□",3.1,"가스","□",3.2,"증기","□",3.3,"에어로졸·흄",null,"4.2 유전자 변형물질(GMO)",4.2]
[null,null,"□",3.4,"액체·미스트","□",3.5,"고체(분진)","□",3.6,"반응성 물질",null,"4.3 알러지 및 미생물",4.3]
[null,null,"□",3.7,"방사선","□",3.8,"화재 / 폭발 위험","□",3.9,"복사열 / 폭발과압",null,"4.4 동물",4.4000000000000004]
["4.","생물학적 요인","□",4.0999999999999996,"병원성 미생물, 바이러스에 의한 감염","□",4.2,"유전자 변형물질(GMO)","□",4.3,"알러지 및 미생물",null,"4.5 식물",4.5]
[null,null,"□",4.4000000000000004,"동물","□",4.5,"식물",null,null,null,null,"5.1 소음",5.0999999999999996]
["5.","작업특성요인","□",5.0999999999999996,"소음","□",5.2,"초음파·초저주파음","□",5.3,"진동",null,"5.2 초음파·초저주파음",5.2]
[null,null,"□",5.4,"근로자 실수(휴먼에러)","□",5.5,"저압 또는 고압상태","□",5.6,"질식위험·산소결핍",null,"5.3 진동",5.3]
[null,null,"□",5.7,"중량물 취급작업","□",5.8,"반복작업","□",5.9,"불안정한 작업자세",null,"5.4 근로자 실수(휴먼에러)",5.4]
[null,null,"□",5.0999999999999996,"작업(조작)도구",null,null,null,null,null,null,null,"5.5 저압 또는 고압상태",5.5]
["6.","작업환경요인","□",6.1,"기후 / 고온 / 한랭","□",6.2,"조명","□",6.3,"공간 및 이동통로",null,"5.6 질식위험·산소결핍",5.6]
[null,null,"▣",6.4,"주변 근로자","□",6.5,"장시간/맞교대 작업","▣",6.6,"조직 안전문화",null,"5.7 중량물 취급작업",5.7]
["유해위험요인 파악",null,null,null,null,null,null,null,null,null,null,null,"5.8 반복작업",5.8]
["공\n정","거푸집 작업","세부\n분류",null,{"$f":"'2 사전준비'!C20","v":"철근 가공 및 배근 작업"},"설비",null,{"$f":"'2 사전준비'!C22","v":"철근절곡기"},"물질",null,"-",null,"5.9 불안정한 작업자세",5.9]
["1.","기계(설비)적 요인","□",1.1000000000000001,"협착위험 부분(감김, 끼임)","▣",1.2,"위험한 표면\n(절단, 베임,긁힘)","▣",1.3,"기계(설비)의 낙하, 비래, 전복, 붕괴, 전도위험 부분","`","5.10 작업(조작)도구",5.0999999999999996]
[null,null,"▣",1.4,"충돌위험 부분 ","▣",1.5,"넘어짐\n(미끄러짐, 걸림, 헛디딤)","▣",1.6,"추락위험 부분(개구부 등)",null,"6.1 기후 / 고온 / 한랭",6.1]
["2.","전기적 요인","▣",2.1,"감전(안전전압초과)","□",2.2000000000000002,"아크","□",2.2999999999999998,"정전기",null,"6.2 조명",6.2]
["3.","화학(물질)적 요인","□",3.1,"가스","□",3.2,"증기","□",3.3,"에어로졸·흄",null,"6.3 공간 및 이동통로",6.3]
[null,null,"□",3.4,"액체·미스트","▣",3.5,"고체(분진)","□",3.6,"반응성 물질",null,"6.4 주변 근로자",6.4]
[null,null,"□",3.7,"방사선","□",3.8,"화재 / 폭발 위험","□",3.9,"복사열 / 폭발과압",null,"6.5 장시간/맞교대 작업",6.5]
["4.","생물학적 요인","□",4.0999999999999996,"병원성 미생물, 바이러스에 의한 감염","□",4.2,"유전자 변형물질(GMO)","□",4.3,"알러지 및 미생물",null,"6.6 조직 안전문화",6.6]
[null,null,"□",4.4000000000000004,"동물","□",4.5,"식물"]
["5.","작업특성요인","□",5.0999999999999996,"소음","□",5.2,"초음파·초저주파음","□",5.3,"진동"]
[null,null,"□",5.4,"근로자 실수(휴먼에러)","□",5.5,"저압 또는 고압상태","□",5.6,"질식위험·산소결핍"]
[null,null,"□",5.7,"중량물 취급작업","□",5.8,"반복작업","□",5.9,"불안정한 작업자세"]
[null,null,"□",5.0999999999999996,"작업(조작)도구"]
["6.","작업환경요인","□",6.1,"기후 / 고온 / 한랭","□",6.2,"조명","▣",6.3,"공간 및 이동통로"]
[null,null,"□",6.4,"주변 근로자","□",6.5,"장시간/맞교대 작업","□",6.6,"조직 안전문화"]
["유해위험요인 파악"]
["공\n정","거푸집 작업","세부\n분류",null,{"$f":"'2 사전준비'!C29","v":"콘크리트 타설 및 양생"},"설비",null,{"$f":"'2 사전준비'!C31","v":"레미콘차량 및 타설차량"},"물질",null,"-"]
["1.","기계(설비)적 요인","▣",1.1000000000000001,"협착위험 부분(감김, 끼임)",null,1.2,"위험한 표면\n(절단, 베임,긁힘)","▣",1.3,"기계(설비)의 낙하, 비래, 전복, 붕괴, 전도위험 부분"]
[null,null,"▣",1.4,"충돌위험 부분 ","▣",1.5,"넘어짐\n(미끄러짐, 걸림, 헛디딤)","▣",1.6,"추락위험 부분(개구부 등)"]
["2.","전기적 요인","▣",2.1,"감전(안전전압초과)","□",2.2000000000000002,"아크","□",2.2999999999999998,"정전기"]
["3.","화학(물질)적 요인","□",3.1,"가스","□",3.2,"증기","□",3.3,"에어로졸·흄"]
[null,null,"□",3.4,"액체·미스트","▣",3.5,"고체(분진)","□",3.6,"반응성 물질"]
[null,null,"□",3.7,"방사선","▣",3.8,"화재 / 폭발 위험","□",3.9,"복사열 / 폭발과압"]
["4.","생물학적 요인","□",4.0999999999999996,"병원성 미생물, 바이러스에 의한 감염","□",4.2,"유전자 변형물질(GMO)","□",4.3,"알러지 및 미생물"]
[null,null,"□",4.4000000000000004,"동물","□",4.5,"식물"]
["5.","작업특성요인","□",5.0999999999999996,"소음","□",5.2,"초음파·초저주파음","□",5.3,"진동"]
[null,null,"□",5.4,"근로자 실수(휴먼에러)","□",5.5,"저압 또는 고압상태","▣",5.6,"질식위험·산소결핍"]
[null,null,"□",5.7,"중량물 취급작업","□",5.8,"반복작업","□",5.9,"불안정한 작업자세"]
[null,null,"□",5.0999999999999996,"작업(조작)도구"]
["6.","작업환경요인","□",6.1,"기후 / 고온 / 한랭","□",6.2,"조명","▣",6.3,"공간 및 이동통로"]
[null,null,"□",6.4,"주변 근로자","□",6.5,"장시간/맞교대 작업","□",6.6,"조직 안전문화"]
["유해위험요인 파악"]
["공\n정","거푸집 작업","세부\n분류",null,{"$f":"'2 사전준비'!C37","v":"거푸집 반출, 타설현장 정리"},"설비",null,{"$f":"'2 사전준비'!C39","v":"양중기"},"물질",null,"-"]
["1.","기계(설비)적 요인","□",1.1000000000000001,"협착위험 부분(감김, 끼임)","▣",1.2,"위험한 표면\n(절단, 베임,긁힘)","▣",1.3,"기계(설비)의 낙하, 비래, 전복, 붕괴, 전도위험 부분"]
[null,null,"□",1.4,"충돌위험 부분 ","▣",1.5,"넘어짐\n(미끄러짐, 걸림, 헛디딤)","▣",1.6,"추락위험 부분(개구부 등)"]
["2.","전기적 요인","□",2.1,"감전(안전전압초과)","□",2.2000000000000002,"아크","□",2.2999999999999998,"정전기"]
["3.","화학(물질)적 요인","□",3.1,"가스","□",3.2,"증기","□",3.3,"에어로졸·흄"]
[null,null,"□",3.4,"액체·미스트","□",3.5,"고체(분진)","□",3.6,"반응성 물질"]
[null,null,"□",3.7,"방사선","□",3.8,"화재 / 폭발 위험","□",3.9,"복사열 / 폭발과압"]
["4.","생물학적 요인","□",4.0999999999999996,"병원성 미생물, 바이러스에 의한 감염","□",4.2,"유전자 변형물질(GMO)","□",4.3,"알러지 및 미생물"]
[null,null,"□",4.4000000000000004,"동물","□",4.5,"식물"]
["5.","작업특성요인","□",5.0999999999999996,"소음","□",5.2,"초음파·초저주파음","□",5.3,"진동"]
[null,null,"□",5.4,"근로자 실수(휴먼에러)","□",5.5,"저압 또는 고압상태","□",5.6,"질식위험·산소결핍"]
[null,null,"□",5.7,"중량물 취급작업","□",5.8,"반복작업","□",5.9,"불안정한 작업자세"]
[null,null,"□",5.0999999999999996,"작업(조작)도구"]
["6.","작업환경요인","□",6.1,"기후 / 고온 / 한랭","□",6.2,"조명","□",6.3,"공간 및 이동통로"]
[null,null,"□",6.4,"주변 근로자","□",6.5,"장시간/맞교대 작업","□",6.6,"조직 안전문화"]

{"sheet":"3-2 유해위험요인 파악현황","index":8,"n_rows":13,"n_cols":28,"rows_kept":13,"cut":false,"hidden":false,"merged":[[11,0,12,0],[11,2,12,2],[11,26,12,26],[11,27,12,27],[5,27,6,27],[7,27,8,27],[9,0,10,0],[9,2,10,2],[9,26,10,26],[9,27,10,27],[3,1,10,1],[7,0,8,0],[7,2,8,2],[7,26,8,26],[3,0,4,0],[3,2,4,2],[0,0,0,27],[1,0,2,0],[1,1,1,2],[1,3,2,25],[1,26,1,27],[3,26,4,26],[3,27,4,27],[5,0,6,0],[5,2,6,2],[5,26,6,26]]}
["유해위험요인 파악현황"]
["구분","공정",null,"유해위험요인",null,null,null,null,null,null,null,null,null,null,null,null,null,null,null,null,null,null,null,null,null,null,"기타정보"]
[null,"대분류","세부분류",null,null,null,null,null,null,null,null,null,null,null,null,null,null,null,null,null,null,null,null,null,null,null,"설비","물질"]
["1",{"$f":"표지!B6","v":"철콘작업(거푸집,철근,타설)"},{"$f":"'1-1 사업장 공정 정보'!H15","v":"자재반입, 가공·운반"},1.1000000000000001,1.2,1.3,1.4,1.5,1.6,2.1,2.2000000000000002,2.2999999999999998,3.1,3.2,3.3,3.4,3.5,3.6,3.7,3.8,3.9,4.0999999999999996,4.2,4.3,4.4000000000000004,4.5,{"$f":"'1-1 사업장 공정 정보'!AD15","v":"카고크레인, 목재가공용 둥근톱"},{"$f":"'1-1 사업장 공정 정보'!AM15","v":"-"}]
[null,null,null,5.0999999999999996,5.2,5.3,5.4,5.5,5.6,5.7,5.8,5.9,5.0999999999999996,6.1,6.2,6.3,6.4,6.5,6.6]
["2",null,{"$f":"'1-1 사업장 공정 정보'!H16","v":"거푸집 작업"},1.1000000000000001,1.2,1.3,1.4,1.5,1.6,2.1,2.2000000000000002,2.2999999999999998,3.1,3.2,3.3,3.4,3.5,3.6,3.7,3.8,3.9,4.0999999999999996,4.2,4.3,4.4000000000000004,4.5,{"$f":"'1-1 사업장 공정 정보'!AD16","v":"작업발판"},{"$f":"'1-1 사업장 공정 정보'!AM16","v":"-"}]
[null,null,null,5.0999999999999996,5.2,5.3,5.4,5.5,5.6,5.7,5.8,5.9,5.0999999999999996,6.1,6.2,6.3,6.4,6.5,6.6]
["3",null,{"$f":"'1-1 사업장 공정 정보'!H17","v":"철근 작업"},1.1000000000000001,1.2,1.3,1.4,1.5,1.6,2.1,2.2000000000000002,2.2999999999999998,3.1,3.2,3.3,3.4,3.5,3.6,3.7,3.8,3.9,4.0999999999999996,4.2,4.3,4.4000000000000004,4.5,{"$f":"'1-1 사업장 공정 정보'!AD17","v":"철근절곡기"},{"$f":"'1-1 사업장 공정 정보'!AM17","v":"-"}]
[null,null,null,5.0999999999999996,5.2,5.3,5.4,5.5,5.6,5.7,5.8,5.9,5.0999999999999996,6.1,6.2,6.3,6.4,6.5,6.6]
["4",null,{"$f":"'1-1 사업장 공정 정보'!H19","v":"작업장 정리 및 자재 반출"},1.1000000000000001,1.2,1.3,1.4,1.5,1.6,2.1,2.2000000000000002,2.2999999999999998,3.1,3.2,3.3,3.4,3.5,3.6,3.7,3.8,3.9,4.0999999999999996,4.2,4.3,4.4000000000000004,4.5,{"$f":"'1-1 사업장 공정 정보'!AD18","v":"레미콘차량 및 타설차량"},{"$f":"'1-1 사업장 공정 정보'!AM18","v":"-"}]
[null,null,null,5.0999999999999996,5.2,5.3,5.4,5.5,5.6,5.7,5.8,5.9,5.0999999999999996,6.1,6.2,6.3,6.4,6.5,6.6]
["4",null,{"$f":"'1-1 사업장 공정 정보'!H21","v":0},1.1000000000000001,1.2,1.3,1.4,1.5,1.6,2.1,2.2000000000000002,2.2999999999999998,3.1,3.2,3.3,3.4,3.5,3.6,3.7,3.8,3.9,4.0999999999999996,4.2,4.3,4.4000000000000004,4.5,{"$f":"'1-1 사업장 공정 정보'!AD19","v":"양중기"},{"$f":"'1-1 사업장 공정 정보'!AM19","v":"-"}]
[null,null,null,5.0999999999999996,5.2,5.3,5.4,5.5,5.6,5.7,5.8,5.9,5.0999999999999996,6.1,6.2,6.3,6.4,6.5,6.6]

{"sheet":"3-3 위험성평가","index":9,"n_rows":106,"n_cols":18,"rows_kept":106,"cut":false,"hidden":false,"merged":[[24,8,24,10],[8,8,8,10],[9,8,9,10],[11,8,11,10],[26,8,26,10],[104,8,104,10],[94,1,95,1],[94,2,94,4],[94,6,94,7],[25,8,25,10],[27,8,27,10],[28,8,28,10],[29,8,29,10],[30,8,30,10],[31,8,31,10],[32,8,32,10],[33,8,33,10],[93,1,93,2],[93,3,93,5],[34,8,34,10],[35,8,35,10],[36,8,36,10],[37,8,37,10],[38,8,38,10],[94,11,94,12],[94,8,95,10],[105,8,105,10],[41,8,41,10],[42,8,42,10],[43,8,43,10],[44,8,44,10],[96,8,96,10],[97,8,97,10],[98,8,98,10],[99,8,99,10],[100,8,100,10],[101,8,101,10],[102,8,102,10],[93,11,93,12],[103,8,103,10],[93,7,93,9],[69,8,69,10],[70,8,70,10],[71,8,71,10],[72,8,72,10],[73,8,73,10],[64,8,64,10],[65,8,65,10],[39,8,39,10],[45,1,45,2],[45,3,45,5],[45,7,45,9],[60,8,60,10],[61,8,61,10],[62,8,62,10],[63,8,63,10],[48,8,48,10],[49,8,49,10],[50,8,50,10],[51,8,51,10],[52,8,52,10],[53,8,53,10],[54,8,54,10],[55,8,55,10],[56,8,56,10],[57,8,57,10],[58,8,58,10],[59,8,59,10],[40,8,40,10],[18,8,18,10],[19,8,19,10],[20,8,20,10],[4,8,4,10],[5,8,5,10],[6,8,6,10],[7,8,7,10],[17,8,17,10],[12,8,12,10],[13,8,13,10],[10,8,10,10],[14,8,14,10],[15,8,15,10],[16,8,16,10],[21,16,22,16],[21,17,22,17],[22,1,23,1],[22,2,22,4],[22,6,22,7],[22,8,23,10],[22,11,22,12],[21,15,22,15],[21,1,21,2],[21,3,21,5],[21,7,21,9],[21,11,21,12],[21,13,22,13],[21,14,22,14],[0,1,0,12],[1,1,1,2],[1,3,1,5],[1,7,1,9],[1,11,1,12],[1,15,2,15],[1,16,2,16],[1,17,2,17],[2,1,3,1],[2,2,2,4],[2,6,2,7],[2,8,3,10],[2,11,2,12],[1,14,2,14],[1,13,2,13],[45,17,46,17],[46,1,47,1],[46,2,46,4],[46,6,46,7],[46,8,47,10],[46,11,46,12],[45,11,45,12],[45,13,46,13],[45,14,46,14],[45,15,46,15],[45,16,46,16],[66,8,66,10],[67,8,67,10],[68,8,68,10],[80,8,80,10],[81,8,81,10],[82,8,82,10],[75,1,75,2],[75,3,75,5],[75,7,75,9],[78,8,78,10],[79,8,79,10],[74,8,74,10],[75,17,76,17],[76,1,77,1],[76,2,76,4],[76,6,76,7],[76,8,77,10],[76,11,76,12],[75,11,75,12],[75,13,76,13],[75,14,76,14],[75,15,76,15],[75,16,76,16],[88,8,88,10],[89,8,89,10],[90,8,90,10],[91,8,91,10],[92,8,92,10],[83,8,83,10],[84,8,84,10],[85,8,85,10],[86,8,86,10],[87,8,87,10]]}
[null,"위험성평가 회의록"]
[null,"공정대분류 :",null,{"$f":"표지!B6","v":"철콘작업(거푸집,철근,타설)"},null,null,"위험성\n결정","세부분류 :",null,null,1,{"$f":"'1-1 사업장 공정 정보'!H15","v":"자재반입, 가공·운반"},null,"조치계획","남아 있는 위험","현재 조치사항을 기록하세요","주간안전점검회의 시 사전조치사항\n(내용 변경하여 사용하세요)","TBM전달내용"]
[null,"구분","유해위험요인 파악",null,null,"관련근거","현재안전보건조치",null,"현재위험성\n(상,중,하)",null,null,"감소대책"]
[0,null,"분류","원인","유해위험요인","법규/노출기준 등","현재상태","조치내용",null,null,null,"NO","세부내용","현재 위험(상)\n(수정 가능합니다.)","현재위험\"중\" 또는\n \"현장확인\" 시\n(이부분 수정하지 마세요)","(수정 가능합니다)","수정가능합니다.","수정가능합니다."]
[{"$f":"IF(OR(I5=\"상\",I5=\"중\"),A4+1,A4)","v":1},1,"1. 기계(설비)적 요인","1.3 기계(설비)의 낙하, 비래, 전복, 붕괴, 전도위험 부분","인양 중 양중기 와이어로프 파단으로 자재가 낙하하여 충격 및 중상 위험","산업안전보건기준에 관한 규칙 제169조 (꼬임이 끊어진 섬유로프 등의 사용금지)","조치예정(중)",{"$f":"IF(OR(G5=\"조치완료\",G5=\"조치완료(중)\"),P5,IF(G5=\"현장확인필요\",\"조치내용 현장확인 필요\",IF(G5=\"해당없음\",\"작업 진행 하지 않음\",\"\")))","v":""},{"$f":"IF(G5=\"조치예정(상)\",\"상\",IF(G5=\"조치예정(중)\",\"중\",IF(G5=\"조치완료\",\"하\",IF(G5=\"현장확인필요\",\"중\",IF(G5=\"조치완료(중)\",\"중\",G5)))))","v":"중"},null,null,{"$f":"IF(I5=\"상\",B5&\"-\"&VLOOKUP(D5,'3-1 유해위험요인 파악'!$M$3:$N$41,2,0),IF(I5=\"중\",B5&\"-\"&VLOOKUP(D5,'3-1 유해위험요인 파악'!$M$3:$N$41,2,0),\"\"))","v":"1-1.3"},{"$f":"IF(OR(G5=\"조치예정(상)\",G5=\"조치예정(중)\"),N5,IF(G5=\"조치완료(중)\",O5,IF(G5=\"현장확인필요\",N5&\" 등 실시 내용 현장에서 직접 확인한다\",\"\")))","v":"1. 와이어로프 작업 전 손상, 마모, 변형 여부 점검\n2. 꼬임이나 손상된 와이어로프 사용 금지\n3. 인양 작업 전 안전한 결속 여부 확인"},"1. 와이어로프 작업 전 손상, 마모, 변형 여부 점검\n2. 꼬임이나 손상된 와이어로프 사용 금지\n3. 인양 작업 전 안전한 결속 여부 확인","와이어로프의 미세한 손상에 의한 돌발 사고 가능","와이어로프 주기적 교체 및 이상 발견 시 즉시 교체","와이어로프 관리 방법 및 점검 기준 마련","작업 전 와이어로프 손상 여부 점검 및 교체"]
[{"$f":"IF(OR(I6=\"상\",I6=\"중\"),A5+1,A5)","v":1},1,"1. 기계(설비)적 요인","1.3 기계(설비)의 낙하, 비래, 전복, 붕괴, 전도위험 부분","인양 중 보조로프 절단으로 인해 인양 물체가 낙하하여 작업자 충돌 위험","산업안전보건기준에 관한 규칙 제35조 (관리감독자의 유해위험방지 업무 등)","해당없음","작업 진행 하지 않음",{"$f":"IF(G6=\"조치예정(상)\",\"상\",IF(G6=\"조치예정(중)\",\"중\",IF(G6=\"조치완료\",\"하\",IF(G6=\"현장확인필요\",\"중\",IF(G6=\"조치완료(중)\",\"중\",G6)))))","v":"해당없음"},null,null,{"$f":"IF(I6=\"상\",B6&\"-\"&VLOOKUP(D6,'3-1 유해위험요인 파악'!$M$3:$N$41,2,0),IF(I6=\"중\",B6&\"-\"&VLOOKUP(D6,'3-1 유해위험요인 파악'!$M$3:$N$41,2,0),\"\"))","v":""},"","1. 관리감독자 점검 실시 (별표3의 작업)\n2. 관리감독자의 점검 및 이상 발견 시 즉각 조치","보조로프의 내구성 저하로 인한 사고 가능","보조로프의 주기적 검사 및 교체","인양 작업 전 보조로프 상태 점검 및 작업자 안전교육","작업 전 보조로프 점검 및 결속 확인"]
[2,1,"1. 기계(설비)적 요인","1.3 기계(설비)의 낙하, 비래, 전복, 붕괴, 전도위험 부분","거푸집 자재를 불안정하게 적재하여 외부 충격이나 편심 하중으로 인해 붕괴 위험","산업안전보건기준에 관한 규칙 제339조 (토석붕괴 위험 방지)","조치예정(상)","",{"$f":"IF(G7=\"조치예정(상)\",\"상\",IF(G7=\"조치예정(중)\",\"중\",IF(G7=\"조치완료\",\"하\",IF(G7=\"현장확인필요\",\"중\",IF(G7=\"조치완료(중)\",\"중\",G7)))))","v":"상"},null,null,{"$f":"IF(I7=\"상\",B7&\"-\"&VLOOKUP(D7,'3-1 유해위험요인 파악'!$M$3:$N$41,2,0),IF(I7=\"중\",B7&\"-\"&VLOOKUP(D7,'3-1 유해위험요인 파악'!$M$3:$N$41,2,0),\"\"))","v":"1-1.3"},"1. 거푸집 자재 적재 시 붕괴 방지 조치 실시\n2. 작업 시작 전 관리감독자 점검","1. 거푸집 자재 적재 시 붕괴 방지 조치 실시\n2. 작업 시작 전 관리감독자 점검","작업 도중 외부 요인(진동, 충격)으로 인해 붕괴 가능성 존재","적재 방법 개선 및 안전 적재 기준 준수","거푸집 자재 적재 시 안전 확보 및 작업자 교육 실시","작업 전 적재된 자재 점검 및 안전조치 확인"]
[3,1,"기계(설비)적 요인","1.3 기계(설비)의 낙하, 비래, 전복, 붕괴, 전도위험 부분","철근 적재용 받침대가 부러지면서 철근 낙하","안전보건규칙 제35조 [관리감독자의 유해위험방지 업무 등]","현장확인필요","조치내용 현장확인 필요","중",null,null,{"$f":"IF(I8=\"상\",B8&\"-\"&VLOOKUP(D8,'3-1 유해위험요인 파악'!$M$3:$N$41,2,0),IF(I8=\"중\",B8&\"-\"&VLOOKUP(D8,'3-1 유해위험요인 파악'!$M$3:$N$41,2,0),\"\"))","v":"1-1.3"},"1. 관리감독자 점검(별표3의 작업에 대해) 2. 관리감독자의 점검 및 이상 조치 등 실시 내용 현장에서 직접 확인한다","1. 관리감독자 점검(별표3의 작업에 대해) 2. 관리감독자의 점검 및 이상 조치","받침대 파손으로 인한 예기치 못한 낙하 가능","철근 적재용 받침대 점검 및 불량품 교체","(사전준비) 작업 전 관리감독자는 철근 받침대의 상태를 점검하고 불량품은 즉시 교체하도록 한다.","철근 적재 작업 전 받침대 강도 점검 및 강화 조치"]
[3,1,"기계(설비)적 요인","1.3 기계(설비)의 낙하, 비래, 전복, 붕괴, 전도위험 부분","철근 하역 중 철근이 주변 구조물에 부딪히면서 낙하","안전보건규칙 제197조 [전조등의 설치]","하","","하",null,null,{"$f":"IF(I9=\"상\",B9&\"-\"&VLOOKUP(D9,'3-1 유해위험요인 파악'!$M$3:$N$41,2,0),IF(I9=\"중\",B9&\"-\"&VLOOKUP(D9,'3-1 유해위험요인 파악'!$M$3:$N$41,2,0),\"\"))","v":""},"","1. 차량계 건설기계 전조등 설치 2. 적합한 하역 장소 사전 마련","구조물과의 충돌로 인한 낙하 가능","하역 작업 시 사전 안전점검 및 충돌 방지 조치 시행","(사전준비) 하역 위치를 사전 조정하고, 구조물 근접 작업 시 충돌 방지 가이드라인을 설치한다.","하역 작업 시 신호 확인 및 안전거리 확보"]
[{"$f":"IF(OR(I10=\"상\",I10=\"중\"),A8+1,A8)","v":3},"1","기계(설비)적 요인","1.1 협착위험 부분(감김, 끼임)","콘크리트 하차 시 부재가 협착될 위험","안전보건규칙 제171조 [전도 등의 방지]","하",{"$f":"IF(OR(G10=\"조치완료\",G10=\"조치완료(중)\"),P10,IF(G10=\"현장확인필요\",\"조치내용 현장확인 필요\",IF(G10=\"해당없음\",\"작업 진행 하지 않음\",\"\")))","v":""},{"$f":"IF(G10=\"조치예정(상)\",\"상\",IF(G10=\"조치예정(중)\",\"중\",IF(G10=\"조치완료\",\"하\",IF(G10=\"현장확인필요\",\"중\",IF(G10=\"조치완료(중)\",\"중\",G10)))))","v":"하"},null,null,{"$f":"IF(I10=\"상\",B10&\"-\"&VLOOKUP(D10,'3-1 유해위험요인 파악'!$M$3:$N$41,2,0),IF(I10=\"중\",B10&\"-\"&VLOOKUP(D10,'3-1 유해위험요인 파악'!$M$3:$N$41,2,0),\"\"))","v":""},{"$f":"IF(OR(G10=\"조치예정(상)\",G10=\"조치예정(중)\"),N10,IF(G10=\"조치완료(중)\",O10,IF(G10=\"현장확인필요\",N10&CHAR(10)&\"등 실시 내용 현장에서 직접 확인한다\",\"\")))","v":""},"유도자 배치, 지반의 부동침하 방지","콘크리트 하차 시 유도자 배치 및 지반 점검","유도자 배치 완료 및 지반 침하 방지 완료","하차 작업 전 유도자 및 지반 상태 점검","유도자 배치 및 지반 안정성 점검 후 작업 진행"]
[{"$f":"IF(OR(I11=\"상\",I11=\"중\"),A10+1,A10)","v":3},"1","기계(설비)적 요인","1.1 협착위험 부분(감김, 끼임)","콘크리트 운반차량 회전부에 신체 접촉","안전보건규칙 제87조 [원동기·회전축 등의 위험 방지]","해당없음",{"$f":"IF(OR(G11=\"조치완료\",G11=\"조치완료(중)\"),P11,IF(G11=\"현장확인필요\",\"조치내용 현장확인 필요\",IF(G11=\"해당없음\",\"작업 진행 하지 않음\",\"\")))","v":"작업 진행 하지 않음"},"해당없음",null,null,{"$f":"IF(I11=\"상\",B11&\"-\"&VLOOKUP(D11,'3-1 유해위험요인 파악'!$M$3:$N$41,2,0),IF(I11=\"중\",B11&\"-\"&VLOOKUP(D11,'3-1 유해위험요인 파악'!$M$3:$N$41,2,0),\"\"))","v":""},{"$f":"IF(OR(G11=\"조치예정(상)\",G11=\"조치예정(중)\"),N11,IF(G11=\"조치완료(중)\",O11,IF(G11=\"현장확인필요\",N11&CHAR(10)&\"등 실시 내용 현장에서 직접 확인한다\",\"\")))","v":""},"안전덮개 설치, 접근거리 통제","작업 전 회전부 안전덮개 설치 및 근로자와의 접근 거리 점검","안전덮개 설치 완료 및 접근거리 통제 완료","회전부에 접근 시 안전조치 협의","회전부에 접근 시 덮개 설치 및 안전통제 사항 점검"]
[4,"1","기계(설비)적 요인","1.2 위험한 표면(절단, 베임,긁힘)","콘크리트 운반차량 주변 작업 중 부딪히거나 찔림 발생","안전보건규칙 제32조 [보호구의 지급 등]","조치예정(중)","","중",null,null,{"$f":"IF(I12=\"상\",B12&\"-\"&VLOOKUP(D12,'3-1 유해위험요인 파악'!$M$3:$N$41,2,0),IF(I12=\"중\",B12&\"-\"&VLOOKUP(D12,'3-1 유해위험요인 파악'!$M$3:$N$41,2,0),\"\"))","v":"1-1.2"},"보호구 제공 및 착용 (안전모, 안전벨트, 안전화 등)","보호구 제공 및 착용 (안전모, 안전벨트, 안전화 등)","작업 전 차량 주변 점검 및 근로자 보호구 착용 여부 확인","근로자 보호구 착용 완료","작업 전 안전장비 착용 점검 및 차량 주변 작업 시 보호구 착용 확인","작업 중 차량과 근로자의 접촉 가능성 차단 확인"]
[5,"1","기계(설비)적 요인","1.3 기계(설비)의 낙하, 비래, 전복, 붕괴, 전도위험 부분","콘크리트 반입 시 크레인 붐이나 자재가 낙하하여 협착될 위험","안전보건규칙 제89조 [운전 시작 전 조치]","조치예정(중)","","중",null,null,{"$f":"IF(I13=\"상\",B13&\"-\"&VLOOKUP(D13,'3-1 유해위험요인 파악'!$M$3:$N$41,2,0),IF(I13=\"중\",B13&\"-\"&VLOOKUP(D13,'3-1 유해위험요인 파악'!$M$3:$N$41,2,0),\"\"))","v":"1-1.3"},"근로자 배치 및 교육, 작업방법 확인 후 위험방지 조치, 일정한 신호방법 지정","근로자 배치 및 교육, 작업방법 확인 후 위험방지 조치, 일정한 신호방법 지정","작업 전 크레인 붐 점검 후 안전장치 작동 확인","붐 낙하 위험 방지 완료","크레인 점검 후 신호방법 및 근로자 배치 계획 협의","크레인 붐 낙하 방지 여부 확인 및 신호방법 검토"]
[5,"1","기계(설비)적 요인","1.3 기계(설비)의 낙하, 비래, 전복, 붕괴, 전도위험 부분","이동식크레인으로 자재를 인양할 때 자재가 낙하하거나 크레인 붐이 전도될 위험","안전보건규칙 제134조 [방호장치의 조정]","해당없음","작업 진행 하지 않음","해당없음",null,null,{"$f":"IF(I14=\"상\",B14&\"-\"&VLOOKUP(D14,'3-1 유해위험요인 파악'!$M$3:$N$41,2,0),IF(I14=\"중\",B14&\"-\"&VLOOKUP(D14,'3-1 유해위험요인 파악'!$M$3:$N$41,2,0),\"\"))","v":""},"","양중기 과부하장치 및 권과방지장치 조정, 비상정지장치 조정","이동식 크레인 붐 및 자재 하중 점검 후 작업 진행","크레인 작업 전 하중 점검 완료","크레인 운전 전 안전점검 사항 협의","크레인 해지장치 및 비상정지장치 점검 완료"]
[5,"1","전기적 요인","2.1 감전(안전전압초과)","콘크리트 반입 시 전기설비 작업 중 감전 위험","안전보건규칙 제335조 [전기설비 작업 안전]","하","","하",null,null,{"$f":"IF(I15=\"상\",B15&\"-\"&VLOOKUP(D15,'3-1 유해위험요인 파악'!$M$3:$N$41,2,0),IF(I15=\"중\",B15&\"-\"&VLOOKUP(D15,'3-1 유해위험요인 파악'!$M$3:$N$41,2,0),\"\"))","v":""},"","작업시 전기설비 접지상태 점검, 감전 방지 장치 점검","전기설비 작업 전 접지상태 점검 및 감전 방지 장치 점검 완료","전기설비 점검 및 감전 방지 장치 작동 완료","전기설비 작업 시 감전 예방 조치 사항 확인","전기설비 접지상태 및 방지장치 작동 확인"]
[{"$f":"IF(OR(I16=\"상\",I16=\"중\"),A6+1,A6)","v":2},1,"1. 기계(설비)적 요인","1.3 기계(설비)의 낙하, 비래, 전복, 붕괴, 전도위험 부분","자재 인양 시 1줄걸이로 결속하여 불안정하게 인양함으로 인해 낙하 위험","-","조치예정(중)","","중",null,null,{"$f":"IF(I16=\"상\",B16&\"-\"&VLOOKUP(D16,'3-1 유해위험요인 파악'!$M$3:$N$41,2,0),IF(I16=\"중\",B16&\"-\"&VLOOKUP(D16,'3-1 유해위험요인 파악'!$M$3:$N$41,2,0),\"\"))","v":"1-1.3"},{"$f":"IF(OR(G16=\"조치예정(상)\",G16=\"조치예정(중)\"),N16,IF(G16=\"조치완료(중)\",O16,IF(G16=\"현장확인필요\",N16&\" 등 실시 내용 현장에서 직접 확인한다\",\"\")))","v":"1. 2줄걸이 결속 및 수평 인양"},"1. 2줄걸이 결속 및 수평 인양","작업 중 예상치 못한 충격으로 인해 결속 풀림 가능성 존재","2줄걸이 사용 철저 및 결속 상태 점검","인양 전 결속 상태 확인 및 작업자 교육","인양 작업 전 결속 상태 점검 및 작업자 주의사항 안내"]
[{"$f":"IF(OR(I17=\"상\",I17=\"중\"),A16+1,A16)","v":2},1,"1. 기계(설비)적 요인","1.3 기계(설비)의 낙하, 비래, 전복, 붕괴, 전도위험 부분","양중기 기계장치 이상으로 인해 조작 중 갑작스러운 회전 또는 자재 낙하 발생 가능","산업안전보건기준에 관한 규칙 제89조 (운전 시작 전 조치)","해당없음","작업 진행 하지 않음","해당없음",null,null,{"$f":"IF(I17=\"상\",B17&\"-\"&VLOOKUP(D17,'3-1 유해위험요인 파악'!$M$3:$N$41,2,0),IF(I17=\"중\",B17&\"-\"&VLOOKUP(D17,'3-1 유해위험요인 파악'!$M$3:$N$41,2,0),\"\"))","v":""},"","1. 근로자 배치 및 교육, 작업방법 및 방호장치 확인\n2. 일정한 신호방법 및 신호자 지정","기계장치의 예측 불가한 고장으로 인한 위험 존재","양중기 정기 점검 및 작업 전 기능 확인","양중기 운전 전 철저한 점검 및 작업자 안전교육","양중기 운전 전 안전장치 및 신호 체계 점검"]
[2,1,"1. 기계(설비)적 요인","1.3 기계(설비)의 낙하, 비래, 전복, 붕괴, 전도위험 부분","후크 해지장치 미설치로 인해 자재 인양 중 로프가 탈락하여 자재 낙하 위험","산업안전보건기준에 관한 규칙 제149조 (해지장치의 사용)","하","","하",null,null,{"$f":"IF(I18=\"상\",B18&\"-\"&VLOOKUP(D18,'3-1 유해위험요인 파악'!$M$3:$N$41,2,0),IF(I18=\"중\",B18&\"-\"&VLOOKUP(D18,'3-1 유해위험요인 파악'!$M$3:$N$41,2,0),\"\"))","v":""},"","1. 이동식 크레인 후크 해지장치 사용\n2. 작업 전 해지장치 작동 여부 확인","해지장치의 노후화로 인한 돌발 탈락 가능성","해지장치의 정기적인 점검 및 교체 시행","해지장치 설치 및 유지보수 기준 마련","작업 전 해지장치 점검 및 안전 확보"]
[2,1,"1. 기계(설비)적 요인","1.3 기계(설비)의 낙하, 비래, 전복, 붕괴, 전도위험 부분","자재 인양 중 카고크레인의 붐대가 꺾이면서 자재와 함께 낙하","산업안전보건기준에 관한 규칙 제89조 (운전 시작 전 조치)","해당없음","작업 진행 하지 않음","해당없음",null,null,{"$f":"IF(I19=\"상\",B19&\"-\"&VLOOKUP(D19,'3-1 유해위험요인 파악'!$M$3:$N$41,2,0),IF(I19=\"중\",B19&\"-\"&VLOOKUP(D19,'3-1 유해위험요인 파악'!$M$3:$N$41,2,0),\"\"))","v":""},"","1. 근로자 배치 및 교육, 작업방법 및 방호장치 확인 후 위험방지 조치\n2. 일정한 신호방법 및 신호자 지정","예상치 못한 기계 결함으로 인한 붐대 꺾임 가능성","크레인 붐대의 정기적인 점검 및 유지보수 강화","작업 전 크레인 점검 및 신호자 배치 철저","작업 전 크레인 상태 점검 및 신호자 지정 확인"]
[2,1,"1. 기계(설비)적 요인","1.6 추락위험 부분(개구부 등)","관리감독자 미배치 상태에서 근로자가 무리하게 차량에 올라가다가 추락","산업안전보건기준에 관한 규칙 제35조 (관리감독자의 유해위험방지 업무 등)","하","","하",null,null,{"$f":"IF(I20=\"상\",B20&\"-\"&VLOOKUP(D20,'3-1 유해위험요인 파악'!$M$3:$N$41,2,0),IF(I20=\"중\",B20&\"-\"&VLOOKUP(D20,'3-1 유해위험요인 파악'!$M$3:$N$41,2,0),\"\"))","v":""},"","1. 관리감독자 점검 실시 (별표3의 작업)\n2. 관리감독자의 점검 및 이상 발견 시 즉각 조치","근로자의 부주의로 인한 사고 가능","작업 전 관리감독자의 점검 철저 시행","관리감독자 배치 의무화 및 추락 방지 교육 강화","근로자의 차량 승하차 시 주의사항 교육"]
[3,1,"5. 작업특성요인","5.4 근로자 실수(휴먼에러)","카고크레인 등 양중기 조작 중 조작 미숙으로 인해 자재 낙하","산업안전보건기준에 관한 규칙 - 운전원의 자격유무, 경력 확인","현장확인필요","조치내용 현장확인 필요","중",null,null,{"$f":"IF(I21=\"상\",B21&\"-\"&VLOOKUP(D21,'3-1 유해위험요인 파악'!$M$3:$N$41,2,0),IF(I21=\"중\",B21&\"-\"&VLOOKUP(D21,'3-1 유해위험요인 파악'!$M$3:$N$41,2,0),\"\"))","v":"1-5.4"},"1. 카고크레인 등 양중기 운전원의 자격 및 경력 확인\n2. 작업 반경 내 출입 제한 조치 등 실시 내용 현장에서 직접 확인한다","1. 카고크레인 등 양중기 운전원의 자격 및 경력 확인\n2. 작업 반경 내 출입 제한 조치","조작자의 실수로 인한 사고 발생 가능성","운전원 교육 강화 및 작업 반경 내 출입 통제 철저 시행","양중기 조작자 대상 정기 교육 및 평가","조작자 숙련도 확인 및 작업 반경 통제 점검"]
[3,"공정대분류 :",null,{"$f":"D2","v":"철콘작업(거푸집,철근,타설)"},null,null,null,"세부분류 :",null,null,2,{"$f":"'1-1 사업장 공정 정보'!H16","v":"거푸집 작업"},null,"조치계획","남아 있는 위험","현재 조치사항을 기록하세요","주간안전점검회의 시 사전조치사항\n(내용 변경하여 사용하세요)","TBM전달내용"]
[3,"구분","유해위험요인 파악",null,null,"관련근거","현재안전보건조치",null,"현재위험성\n(상,중,하)",null,null,"감소대책"]
[3,null,"분류","원인","유해위험요인","법규/노출기준 등","현재상태","조치내용",null,null,null,"NO","세부내용","현재 위험(상)\n(수정 가능합니다.)","현재위험\"중\" 또는\n \"현장확인\" 시\n(이부분 수정하지 마세요)","(수정 가능합니다)","수정가능합니다.","수정가능합니다."]
[4,2,"1. 기계(설비)적 요인","1.1 협착위험 부분(감김, 끼임)","목재가공용 둥근톱 사용 중 톱날에 접촉하여 절단 및 심각한 상해 발생 가능","산업안전보건기준에 관한 규칙 제101조 (원형톱기계의 톱날접촉예방장치)","조치예정(상)",{"$f":"IF(OR(G25=\"조치완료\",G25=\"조치완료(중)\"),P25,IF(G25=\"현장확인필요\",\"조치내용 현장확인 필요\",IF(G25=\"해당없음\",\"작업 진행 하지 않음\",\"\")))","v":""},{"$f":"IF(G25=\"조치예정(상)\",\"상\",IF(G25=\"조치예정(중)\",\"중\",IF(G25=\"조치완료\",\"하\",IF(G25=\"현장확인필요\",\"중\",IF(G25=\"조치완료(중)\",\"중\",G25)))))","v":"상"},null,null,{"$f":"IF(I25=\"상\",B25&\"-\"&VLOOKUP(D25,'3-1 유해위험요인 파악'!$M$3:$N$41,2,0),IF(I25=\"중\",B25&\"-\"&VLOOKUP(D25,'3-1 유해위험요인 파악'!$M$3:$N$41,2,0),\"\"))","v":"2-1.1"},{"$f":"IF(OR(G25=\"조치예정(상)\",G25=\"조치예정(중)\"),N25,IF(G25=\"조치완료(중)\",O25,IF(G25=\"현장확인필요\",N25&\" 등 실시 내용 현장에서 직접 확인한다\",\"\")))","v":"1. 톱날접촉예방장치 설치\n2. 작업 전 보호구 착용 확인\n3. 작업자 교육 및 안전수칙 준수"},"1. 톱날접촉예방장치 설치\n2. 작업 전 보호구 착용 확인\n3. 작업자 교육 및 안전수칙 준수","일부 잔류 위험 있음 (작업 중 방심으로 인한 사고 가능)","톱날접촉예방장치 확인 및 보호구 착용 후 작업 시행","둥근톱 사용 시 방어장치 작동 여부 점검 및 작업자 안전교육 실시","작업 전 원형톱 방어장치 확인 및 보호구 착용 점검"]
[4,2,"1. 기계(설비)적 요인","1.3 기계(설비)의 낙하, 비래, 전복, 붕괴, 전도위험 부분","불안전하게 적재된 자재가 작업 중 또는 이동 중에 무너짐","산업안전보건기준에 관한 규칙 제339조 (토석붕괴 위험 방지)","하",{"$f":"IF(OR(G26=\"조치완료\",G26=\"조치완료(중)\"),P26,IF(G26=\"현장확인필요\",\"조치내용 현장확인 필요\",IF(G26=\"해당없음\",\"작업 진행 하지 않음\",\"\")))","v":""},{"$f":"IF(G26=\"조치예정(상)\",\"상\",IF(G26=\"조치예정(중)\",\"중\",IF(G26=\"조치완료\",\"하\",IF(G26=\"현장확인필요\",\"중\",IF(G26=\"조치완료(중)\",\"중\",G26)))))","v":"하"},null,null,{"$f":"IF(I26=\"상\",B26&\"-\"&VLOOKUP(D26,'3-1 유해위험요인 파악'!$M$3:$N$41,2,0),IF(I26=\"중\",B26&\"-\"&VLOOKUP(D26,'3-1 유해위험요인 파악'!$M$3:$N$41,2,0),\"\"))","v":""},{"$f":"IF(OR(G26=\"조치예정(상)\",G26=\"조치예정(중)\"),N26,IF(G26=\"조치완료(중)\",O26,IF(G26=\"현장확인필요\",N26&\" 등 실시 내용 현장에서 직접 확인한다\",\"\")))","v":""},"1. 작업 시작 전 관리감독자가 작업장소 및 주변 점검\n2. 자재 적재 시 균형 유지 및 붕괴 방지 조치","외부 충격 및 환경 변화로 인해 붕괴 위험 존재","적재 방법 개선 및 관리감독자의 점검 강화","작업 전 적재 상태 점검 및 안정적인 적재 확보","작업장 내 자재 정리정돈 및 안전 확보"]
[5,2,"1. 기계(설비)적 요인","1.3 기계(설비)의 낙하, 비래, 전복, 붕괴, 전도위험 부분","해체 중인 거푸집이 근로자에게 낙하하여 충돌 및 중상 위험","산업안전보건기준에 관한 규칙 제336조 (조립 등 작업 시의 준수사항)","조치예정(상)",{"$f":"IF(OR(G27=\"조치완료\",G27=\"조치완료(중)\"),P27,IF(G27=\"현장확인필요\",\"조치내용 현장확인 필요\",IF(G27=\"해당없음\",\"작업 진행 하지 않음\",\"\")))","v":""},"상",null,null,{"$f":"IF(I27=\"상\",B27&\"-\"&VLOOKUP(D27,'3-1 유해위험요인 파악'!$M$3:$N$41,2,0),IF(I27=\"중\",B27&\"-\"&VLOOKUP(D27,'3-1 유해위험요인 파악'!$M$3:$N$41,2,0),\"\"))","v":"2-1.3"},{"$f":"IF(OR(G27=\"조치예정(상)\",G27=\"조치예정(중)\"),N27,IF(G27=\"조치완료(중)\",O27,IF(G27=\"현장확인필요\",N27&\" 등 실시 내용 현장에서 직접 확인한다\",\"\")))","v":"1. 관계근로자 외 출입금지\n2. 날씨가 몹시 나쁜 경우 작업 중지\n3. 재료 및 기구를 올리거나 내릴 때 달줄·달포대 사용\n4. 거푸집 해체 시 버팀목 및 인양장비 사용\n5. 작업위치가 2m 이상일 경우 작업발판 설치 또는 안전대 착용"},"1. 관계근로자 외 출입금지\n2. 날씨가 몹시 나쁜 경우 작업 중지\n3. 재료 및 기구를 올리거나 내릴 때 달줄·달포대 사용\n4. 거푸집 해체 시 버팀목 및 인양장비 사용\n5. 작업위치가 2m 이상일 경우 작업발판 설치 또는 안전대 착용","해체 과정에서 돌발 상황 발생 가능","거푸집 해체 전 안전조치 확인 후 작업 시행","작업 전 해체 순서 점검 및 근로자 교육","거푸집 해체 시 보호구 착용 및 작업자 배치 점검"]
[6,2,"1. 기계(설비)적 요인","1.3 기계(설비)의 낙하, 비래, 전복, 붕괴, 전도위험 부분","거푸집 동바리 해체 절차 미준수로 인해 무리한 작업 중 동바리 및 해체 자재 낙하","산업안전보건기준에 관한 규칙 제331조 (조립도)","조치예정(상)","","상",null,null,{"$f":"IF(I28=\"상\",B28&\"-\"&VLOOKUP(D28,'3-1 유해위험요인 파악'!$M$3:$N$41,2,0),IF(I28=\"중\",B28&\"-\"&VLOOKUP(D28,'3-1 유해위험요인 파악'!$M$3:$N$41,2,0),\"\"))","v":"2-1.3"},"1. 거푸집 동바리 해체 전 작업 절차 수립 및 준수\n2. 해체 순서 준수 및 특별교육 시행\n3. 해체구간 내 작업자 출입 통제","1. 거푸집 동바리 해체 전 작업 절차 수립 및 준수\n2. 해체 순서 준수 및 특별교육 시행\n3. 해체구간 내 작업자 출입 통제","해체 과정에서 돌발 상황 발생 가능","해체 작업 전 안전 교육 및 절차 준수 확인","거푸집 해체 시 안전조치 점검 및 작업자 교육","해체 작업 시 작업순서 확인 및 출입 통제 철저"]
[{"$f":"IF(OR(I29=\"상\",I29=\"중\"),A28+1,A28)","v":6},2,"1. 기계(설비)적 요인","1.3 기계(설비)의 낙하, 비래, 전복, 붕괴, 전도위험 부분","거푸집 해체 중 불안정하게 매달려 낙하하여 근로자 부상 위험","산업안전보건기준에 관한 규칙 제331조 (조립도)","하","","하",null,null,{"$f":"IF(I29=\"상\",B29&\"-\"&VLOOKUP(D29,'3-1 유해위험요인 파악'!$M$3:$N$41,2,0),IF(I29=\"중\",B29&\"-\"&VLOOKUP(D29,'3-1 유해위험요인 파악'!$M$3:$N$41,2,0),\"\"))","v":""},"","1. 해체 순서를 사전 계획하여 작업 진행\n2. 해체 완료 후 잔존물 완전히 제거\n3. 해체 구간 내 작업자 출입 통제","해체 작업 중 균형이 무너질 가능성 존재","해체 작업 전 안전 조치 철저 시행","해체 작업 시 작업자 배치 및 안전수칙 점검","작업 전 해체 구간 확인 및 안전 확보"]
[6,2,"1. 기계(설비)적 요인","1.5 넘어짐(미끄러짐, 걸림, 헛디딤)","해체된 자재 위를 지나던 중 걸려 넘어짐","산업안전보건기준에 관한 규칙 제3조 (전도의 방지)","하","","하",null,null,{"$f":"IF(I30=\"상\",B30&\"-\"&VLOOKUP(D30,'3-1 유해위험요인 파악'!$M$3:$N$41,2,0),IF(I30=\"중\",B30&\"-\"&VLOOKUP(D30,'3-1 유해위험요인 파악'!$M$3:$N$41,2,0),\"\"))","v":""},"","1. 해체된 자재는 즉시 정리정돈하여 이동 시 걸려 넘어지지 않도록 조치\n2. 작업장 정리정돈 철저 시행","자재 미정리로 인한 우발적 사고 가능","작업 후 즉시 자재 정리 및 이동 경로 확보","작업장 정리정돈 점검 및 작업자 교육","이동 중 걸림 방지 및 통로 정리 상태 확인"]
[6,2,"1. 기계(설비)적 요인","1.6 추락위험 부분(개구부 등)","거푸집을 떼어내기 위해 무리한 힘을 가하다가 추락","산업안전보건기준에 관한 규칙 제336조 (조립 등 작업 시의 준수사항)","하","",{"$f":"IF(G31=\"조치예정(상)\",\"상\",IF(G31=\"조치예정(중)\",\"중\",IF(G31=\"조치완료\",\"하\",IF(G31=\"현장확인필요\",\"중\",IF(G31=\"조치완료(중)\",\"중\",G31)))))","v":"하"},null,null,{"$f":"IF(I31=\"상\",B31&\"-\"&VLOOKUP(D31,'3-1 유해위험요인 파악'!$M$3:$N$41,2,0),IF(I31=\"중\",B31&\"-\"&VLOOKUP(D31,'3-1 유해위험요인 파악'!$M$3:$N$41,2,0),\"\"))","v":""},"","1. 관계근로자 외 출입금지\n2. 높이 2m 이상인 작업장소에서는 작업발판 설치 또는 안전대 착용","높은 곳에서의 균형 상실 가능성","작업 전 안전장치 설치 및 보호구 착용 확인","작업 시 추락방지 조치 철저 시행","안전대 착용 및 작업발판 설치 여부 점검"]
[7,2,"1. 기계(설비)적 요인","1.6 추락위험 부분(개구부 등)","개구부 또는 슬라브 단부로 이동 중 추락","산업안전보건기준에 관한 규칙 제43조 (개구부 등의 방호 조치)","조치예정(상)","","상",null,null,{"$f":"IF(I32=\"상\",B32&\"-\"&VLOOKUP(D32,'3-1 유해위험요인 파악'!$M$3:$N$41,2,0),IF(I32=\"중\",B32&\"-\"&VLOOKUP(D32,'3-1 유해위험요인 파악'!$M$3:$N$41,2,0),\"\"))","v":"2-1.6"},"1. 개구부에 난간 및 보호 장치 설치\n2. 개구부 표시 및 경고 문구 부착\n3. 안전방망 설치 및 근로자 안전대 착용","1. 개구부에 난간 및 보호 장치 설치\n2. 개구부 표시 및 경고 문구 부착\n3. 안전방망 설치 및 근로자 안전대 착용","작업자의 부주의로 인한 추락 가능성","개구부 주변 안전조치 및 표시 강화","개구부 보호 장치 설치 및 안전교육 시행","개구부 주변 접근 금지 및 안전조치 점검"]
[7,2,"1. 기계(설비)적 요인","1.6 추락위험 부분(개구부 등)","높은 장소에서 거푸집 해체 시 작업발판 미설치하고 작업 중 추락","산업안전보건기준에 관한 규칙 제336조 (조립 등 작업 시의 준수사항)","하","",{"$f":"IF(G33=\"조치예정(상)\",\"상\",IF(G33=\"조치예정(중)\",\"중\",IF(G33=\"조치완료\",\"하\",IF(G33=\"현장확인필요\",\"중\",IF(G33=\"조치완료(중)\",\"중\",G33)))))","v":"하"},null,null,{"$f":"IF(I33=\"상\",B33&\"-\"&VLOOKUP(D33,'3-1 유해위험요인 파악'!$M$3:$N$41,2,0),IF(I33=\"중\",B33&\"-\"&VLOOKUP(D33,'3-1 유해위험요인 파악'!$M$3:$N$41,2,0),\"\"))","v":""},"","1. 관계 근로자 외 출입 금지\n2. 날씨가 몹시 나쁜 경우 작업 중지\n3. 재료, 기구 또는 공구를 올리거나 내릴 때 달줄·달포대 사용\n4. 버팀목 설치 및 거푸집 동바리 등을 인양 장비에 매단 후 작업\n5. 양중기로 철근 운반 시 두 군데 이상 묶어서 수평으로 운반\n6. 작업 위치가 높이 2m 이상일 경우 작업발판 설치 또는 안전대 착용","작업자의 실수 또는 보호장치 미설치로 인한 추락 위험 존재","작업발판 및 안전대 설치 여부 점검 및 유지보수 강화","거푸집 해체 작업 전 작업발판 설치 및 안전대 착용 의무화","작업 전 작업발판 설치 상태 점검 및 근로자 안전 확보 조치"]
[7,2,"6. 작업환경요인","6.6 조직 안전문화","안전모, 안전화 등 보호구 미착용으로 인해 부딪히거나 찔림","산업안전보건기준에 관한 규칙 제32조 (보호구의 지급 등)","조치완료","작업 전 보호구 착용 확인 및 미착용 시 조치",{"$f":"IF(G34=\"조치예정(상)\",\"상\",IF(G34=\"조치예정(중)\",\"중\",IF(G34=\"조치완료\",\"하\",IF(G34=\"현장확인필요\",\"중\",IF(G34=\"조치완료(중)\",\"중\",G34)))))","v":"하"},null,null,{"$f":"IF(I34=\"상\",B34&\"-\"&VLOOKUP(D34,'3-1 유해위험요인 파악'!$M$3:$N$41,2,0),IF(I34=\"중\",B34&\"-\"&VLOOKUP(D34,'3-1 유해위험요인 파악'!$M$3:$N$41,2,0),\"\"))","v":""},"","1. 보호구(안전모, 안전대, 안전화 등) 지급 및 착용 의무화\n2. 보호구 착용 여부 점검 및 미착용 시 작업 중지","보호구 착용 미흡으로 인한 부상 가능","작업 전 보호구 착용 확인 및 미착용 시 조치","보호구 지급 및 착용 여부 철저 점검","작업 전 보호구 착용 확인 및 필요 시 추가 지급"]
[8,2,"1. 기계(설비)적 요인","1.6 추락위험 부분(개구부 등)","높은 장소에서 거푸집 해체 시 작업발판 미설치하고 작업 중 추락","산업안전보건기준에 관한 규칙 제336조 (조립 등 작업 시의 준수사항)","조치예정(중)",{"$f":"IF(OR(G35=\"조치완료\",G35=\"조치완료(중)\"),P35,IF(G35=\"현장확인필요\",\"조치내용 현장확인 필요\",IF(G35=\"해당없음\",\"작업 진행 하지 않음\",\"\")))","v":""},{"$f":"IF(G35=\"조치예정(상)\",\"상\",IF(G35=\"조치예정(중)\",\"중\",IF(G35=\"조치완료\",\"하\",IF(G35=\"현장확인필요\",\"중\",IF(G35=\"조치완료(중)\",\"중\",G35)))))","v":"중"},null,null,{"$f":"IF(I35=\"상\",B35&\"-\"&VLOOKUP(D35,'3-1 유해위험요인 파악'!$M$3:$N$41,2,0),IF(I35=\"중\",B35&\"-\"&VLOOKUP(D35,'3-1 유해위험요인 파악'!$M$3:$N$41,2,0),\"\"))","v":"2-1.6"},{"$f":"IF(OR(G35=\"조치예정(상)\",G35=\"조치예정(중)\"),N35,IF(G35=\"조치완료(중)\",O35,IF(G35=\"현장확인필요\",N35&\" 등 실시 내용 현장에서 직접 확인한다\",\"\")))","v":"1. 관계 근로자 외 출입 금지\n2. 날씨가 몹시 나쁜 경우 작업 중지\n3. 재료, 기구 또는 공구를 올리거나 내릴 때 달줄·달포대 사용\n4. 버팀목 설치 및 거푸집 동바리 등을 인양 장비에 매단 후 작업\n5. 양중기로 철근 운반 시 두 군데 이상 묶어서 수평으로 운반\n6. 작업 위치가 높이 2m 이상일 경우 작업발판 설치 또는 안전대 착용"},"1. 관계 근로자 외 출입 금지\n2. 날씨가 몹시 나쁜 경우 작업 중지\n3. 재료, 기구 또는 공구를 올리거나 내릴 때 달줄·달포대 사용\n4. 버팀목 설치 및 거푸집 동바리 등을 인양 장비에 매단 후 작업\n5. 양중기로 철근 운반 시 두 군데 이상 묶어서 수평으로 운반\n6. 작업 위치가 높이 2m 이상일 경우 작업발판 설치 또는 안전대 착용","작업자의 실수 또는 보호장치 미설치로 인한 추락 위험 존재","작업발판 및 안전대 설치 여부 점검 및 유지보수 강화","거푸집 해체 작업 전 작업발판 설치 및 안전대 착용 의무화","작업 전 작업발판 설치 상태 점검 및 근로자 안전 확보 조치"]
[8,2,"1. 기계(설비)적 요인","1.3 기계(설비)의 낙하, 비래, 전복, 붕괴, 전도위험 부분","H-BEAM을 1줄걸이로 결속하여 인양 중 갑작스런 흔들림으로 낙하","산업안전보건기준에 관한 규칙 제393조 (화물의 적재)","해당없음","작업 진행 하지 않음","해당없음",null,null,{"$f":"IF(I36=\"상\",B36&\"-\"&VLOOKUP(D36,'3-1 유해위험요인 파악'!$M$3:$N$41,2,0),IF(I36=\"중\",B36&\"-\"&VLOOKUP(D36,'3-1 유해위험요인 파악'!$M$3:$N$41,2,0),\"\"))","v":""},"","1. 튼튼한 기반 위에 적재\n2. 불안정한 높이로 적재 금지\n3. 편하중이 생기지 않도록 조치","크레인 조작 중 예기치 못한 충격으로 흔들림 발생 가능","2줄걸이 결속 및 수평 인양 철저 시행","인양 전 결속 상태 확인 및 작업자 교육","인양 작업 시 결속 상태 확인 및 작업자 주의사항 전달"]
[8,2,"1. 기계(설비)적 요인","1.3 기계(설비)의 낙하, 비래, 전복, 붕괴, 전도위험 부분","와이어로프 후크에 해지장치 미설치로 자재 인양 중 와이어로프 탈락","산업안전보건기준에 관한 규칙 - 복공판 상부 적재 시 군조 검토 실시","하","","하",null,null,{"$f":"IF(I37=\"상\",B37&\"-\"&VLOOKUP(D37,'3-1 유해위험요인 파악'!$M$3:$N$41,2,0),IF(I37=\"중\",B37&\"-\"&VLOOKUP(D37,'3-1 유해위험요인 파악'!$M$3:$N$41,2,0),\"\"))","v":""},"","1. 와이어로프 후크 체결 시 후크 해지장치 설치하여 탈락 방지\n2. 이동식 크레인 해지장치 사용","해지장치의 미설치 또는 노후화로 인한 사고 가능","해지장치 정기 점검 및 유지보수 강화","인양 작업 전 해지장치 확인 및 점검 철저","인양 작업 전 해지장치 설치 여부 점검"]
[8,2,"1. 기계(설비)적 요인","1.3 기계(설비)의 낙하, 비래, 전복, 붕괴, 전도위험 부분","해체된 자재를 불안전하게 적재하여 붕괴 위험","산업안전보건기준에 관한 규칙 제149조 (해지장치의 사용)","하","","하",null,null,{"$f":"IF(I38=\"상\",B38&\"-\"&VLOOKUP(D38,'3-1 유해위험요인 파악'!$M$3:$N$41,2,0),IF(I38=\"중\",B38&\"-\"&VLOOKUP(D38,'3-1 유해위험요인 파악'!$M$3:$N$41,2,0),\"\"))","v":""},"","1. 적재 시 적정 높이 이내로 적재\n2. 적재 장소 하부 근로자 출입 통제","작업 도중 외부 요인(진동, 충격)으로 인해 붕괴 가능성 존재","적재 방법 개선 및 하부 안전 확보","적재 상태 점검 및 하부 출입 제한 조치","적재된 자재 상태 점검 및 적절한 적재 방법 적용"]
[8,2,"1. 기계(설비)적 요인","1.3 기계(설비)의 낙하, 비래, 전복, 붕괴, 전도위험 부분","해체된 파일 하부 받침대가 부러지면서 적재 파일 붕괴","산업안전보건기준에 관한 규칙 - 충돌위험 부위 접근금지 표지 설치","하","","하",null,null,{"$f":"IF(I39=\"상\",B39&\"-\"&VLOOKUP(D39,'3-1 유해위험요인 파악'!$M$3:$N$41,2,0),IF(I39=\"중\",B39&\"-\"&VLOOKUP(D39,'3-1 유해위험요인 파악'!$M$3:$N$41,2,0),\"\"))","v":""},"","1. H-Pile 적재 시 하부 받침대는 견고한 것으로 사용","받침대의 예상치 못한 파손으로 인한 붕괴 가능","받침대 재질 및 상태 점검 후 적재","하부 받침대 상태 확인 및 안전 확보","파일 적재 전 하부 구조물 상태 점검 및 확인"]
[8,2,"1. 기계(설비)적 요인","1.3 기계(설비)의 낙하, 비래, 전복, 붕괴, 전도위험 부분","이동식 크레인, 자재 등을 복공판 상부에 과적재하여 흙막이 붕괴 위험","산업안전보건기준에 관한 규칙 - 2줄걸이 결속, 수평 인양","하","",{"$f":"IF(G40=\"조치예정(상)\",\"상\",IF(G40=\"조치예정(중)\",\"중\",IF(G40=\"조치완료\",\"하\",IF(G40=\"현장확인필요\",\"중\",IF(G40=\"조치완료(중)\",\"중\",G40)))))","v":"하"},null,null,{"$f":"IF(I40=\"상\",B40&\"-\"&VLOOKUP(D40,'3-1 유해위험요인 파악'!$M$3:$N$41,2,0),IF(I40=\"중\",B40&\"-\"&VLOOKUP(D40,'3-1 유해위험요인 파악'!$M$3:$N$41,2,0),\"\"))","v":""},"","1. 복공판 허용하중 준수\n2. 분산 적재 실시\n3. 구조 보강 시행","과적재로 인한 하중 초과 가능성 존재","복공판 하중 계산 후 적정 하중 유지","복공판 하중 준수 및 분산 적재 여부 점검","복공판 위 적재 하중 확인 및 허용 하중 초과 방지"]
[8,2,"1. 기계(설비)적 요인","1.3 기계(설비)의 낙하, 비래, 전복, 붕괴, 전도위험 부분","H-Pipe 적재 시 하부 받침대 불량으로 부재 전도","-","하","","하",null,null,{"$f":"IF(I41=\"상\",B41&\"-\"&VLOOKUP(D41,'3-1 유해위험요인 파악'!$M$3:$N$41,2,0),IF(I41=\"중\",B41&\"-\"&VLOOKUP(D41,'3-1 유해위험요인 파악'!$M$3:$N$41,2,0),\"\"))","v":""},"","1. 안전한 위치에서 작업 지휘","하부 받침대의 예상치 못한 변형 가능","견고한 받침대 사용 및 상태 점검","작업 지휘자의 위치 설정 및 안전 확보 조치","작업 전 적재 위치 확인 및 받침대 상태 점검"]
[8,2,"1. 기계(설비)적 요인","1.4 충돌위험 부분","이동식크레인 회전 중 후면부에 근로자 충돌","산업안전보건기준에 관한 규칙 - 복공판 상부 적재 시 군조 검토 실시","하","","하",null,null,{"$f":"IF(I42=\"상\",B42&\"-\"&VLOOKUP(D42,'3-1 유해위험요인 파악'!$M$3:$N$41,2,0),IF(I42=\"중\",B42&\"-\"&VLOOKUP(D42,'3-1 유해위험요인 파악'!$M$3:$N$41,2,0),\"\"))","v":""},"","1. 이동식크레인 후면부 등 충돌 위험 부위에 접근 금지 표지 설치","작업자의 부주의로 인한 사고 가능성","이동식크레인 작업 반경 내 출입 제한 강화","크레인 작업구역 설정 및 근로자 교육","크레인 회전 반경 내 작업자 접근 금지"]
[8,2,"1. 기계(설비)적 요인","1.6 추락위험 부분(개구부 등)","H-BEAM 상에서 작업 시 실족하여 추락","산업안전보건기준에 관한 규칙 제13조 (안전난간의 구조 및 설치요건)","하","","하",null,null,{"$f":"IF(I43=\"상\",B43&\"-\"&VLOOKUP(D43,'3-1 유해위험요인 파악'!$M$3:$N$41,2,0),IF(I43=\"중\",B43&\"-\"&VLOOKUP(D43,'3-1 유해위험요인 파악'!$M$3:$N$41,2,0),\"\"))","v":""},"","1. 안전난간 설치","균형 상실로 인한 돌발 추락 가능","H-BEAM 상 작업 전 안전장치 확인","안전난간 설치 여부 점검 및 작업자 교육","안전장치 확인 및 실족 방지 교육 시행"]
[8,2,"1. 기계(설비)적 요인","1.6 추락위험 부분(개구부 등)","복공판 단부에서 작업 중 추락","산업안전보건기준에 관한 규칙 제44조 (안전대의 부착설비 등)","하","","하",null,null,{"$f":"IF(I44=\"상\",B44&\"-\"&VLOOKUP(D44,'3-1 유해위험요인 파악'!$M$3:$N$41,2,0),IF(I44=\"중\",B44&\"-\"&VLOOKUP(D44,'3-1 유해위험요인 파악'!$M$3:$N$41,2,0),\"\"))","v":""},"","1. 2m 이상 높이에서 작업 시 안전대 부착설비 설치\n2. 안전대 및 부속설비 이상 유무 작업 전 점검","작업자의 부주의로 인한 추락 가능성","작업 전 안전대 및 부속설비 점검 철저 시행","작업 전 보호구 착용 및 안전장치 확인","안전대 사용 여부 점검 및 추락 방지 조치 확인"]
[8,2,"6. 작업환경요인","6.4 주변 근로자","작업지휘자가 불안전한 위치에서 작업지휘 중 충돌","산업안전보건기준에 관한 규칙 - 운전원 자격유무, 경력 확인","하","","하",null,null,{"$f":"IF(I45=\"상\",B45&\"-\"&VLOOKUP(D45,'3-1 유해위험요인 파악'!$M$3:$N$41,2,0),IF(I45=\"중\",B45&\"-\"&VLOOKUP(D45,'3-1 유해위험요인 파악'!$M$3:$N$41,2,0),\"\"))","v":""},"","1. 작업지휘자는 안전한 위치에서 작업지휘","작업지휘자의 순간적인 판단 실수로 인한 사고 가능","안전한 지휘 위치 설정 및 작업 계획 수립","작업지휘자의 위치 설정 및 안전 확보 조치","작업지휘자의 위치 확인 및 안전 수칙 준수"]
[8,"공정대분류 :",null,{"$f":"D2","v":"철콘작업(거푸집,철근,타설)"},null,null,null,"세부분류 :",null,null,3,{"$f":"'2 사전준비'!C20","v":"철근 가공 및 배근 작업"},null,"조치계획","남아 있는 위험","현재 조치사항을 기록하세요","주간안전점검회의 시 사전조치사항\n(내용 변경하여 사용하세요)","TBM전달내용"]
[8,"구분","유해위험요인 파악",null,null,"관련근거","현재안전보건조치",null,"현재위험성\n(상,중,하)",null,null,"감소대책"]
[8,null,"분류","원인","유해위험요인","법규/노출기준 등","현재상태","조치내용",null,null,null,"NO","세부내용","현재 위험(상)\n(수정 가능합니다.)","현재위험\"중\" 또는\n \"현장확인\" 시\n(이부분 수정하지 마세요)","(수정 가능합니다)","수정가능합니다.","수정가능합니다."]
[8,3,"기계(설비)적 요인","1.2 위험한 표면(절단, 베임,긁힘)","개인보호구 미착용하고 작업 중 철근에 부딪히거나 찔림","안전보건규칙 제32조 [보호구의 지급 등]","조치완료",{"$f":"IF(OR(G49=\"조치완료\",G49=\"조치완료(중)\"),P49,IF(G49=\"현장확인필요\",\"조치내용 현장확인 필요\",IF(G49=\"해당없음\",\"작업 진행 하지 않음\",\"\")))","v":"보호구 착용 점검 및 미착용 시 경고 조치"},{"$f":"IF(G49=\"조치예정(상)\",\"상\",IF(G49=\"조치예정(중)\",\"중\",IF(G49=\"조치완료\",\"하\",IF(G49=\"현장확인필요\",\"중\",IF(G49=\"조치완료(중)\",\"중\",G49)))))","v":"하"},null,null,{"$f":"IF(I49=\"상\",B49&\"-\"&VLOOKUP(D49,'3-1 유해위험요인 파악'!$M$3:$N$41,2,0),IF(I49=\"중\",B49&\"-\"&VLOOKUP(D49,'3-1 유해위험요인 파악'!$M$3:$N$41,2,0),\"\"))","v":""},{"$f":"IF(OR(G49=\"조치예정(상)\",G49=\"조치예정(중)\"),N49,IF(G49=\"조치완료(중)\",O49,IF(G49=\"현장확인필요\",N49&\" 등 실시 내용 현장에서 직접 확인한다\",\"\")))","v":""},"1. 보호구(안전모, 안전대, 안전화, 보안면, 절연용 보호구, 방열복, 방진마스크 등) 지급 2. 보호구 착용 의무화 및 미착용 시 작업 금지","작업자의 개인적인 거부로 인한 미착용 가능","보호구 착용 점검 및 미착용 시 경고 조치","(사전준비) 작업 시작 전 근로자의 보호구 착용 여부를 관리자가 점검하고 미착용자는 작업에서 제외한다.","보호구 착용 여부 확인 후 작업 진행"]
[8,3,"기계(설비)적 요인","1.3 기계(설비)의 낙하, 비래, 전복, 붕괴, 전도위험 부분","철근 인양 중 인양로프 파단으로 철근 낙하","안전보건규칙 제177조 [싣거나 내리는 작업]","해당없음","작업 진행 하지 않음","해당없음",null,null,{"$f":"IF(I50=\"상\",B50&\"-\"&VLOOKUP(D50,'3-1 유해위험요인 파악'!$M$3:$N$41,2,0),IF(I50=\"중\",B50&\"-\"&VLOOKUP(D50,'3-1 유해위험요인 파악'!$M$3:$N$41,2,0),\"\"))","v":""},"","1. 작업순서 및 작업방법 결정 및 지휘 2. 기구 및 공구 점검 및 불량품 제거 3. 관계 근로자 외 출입 금지","예상치 못한 장비 결함으로 인한 추가 위험","로프 점검 후 인양, 파손된 로프 사용 금지","(사전준비) 인양 작업 전 모든 로프의 이상 여부를 확인하고, 불량품은 즉시 폐기 후 교체한다.","인양 작업 시 신호수 확인 및 장비 점검 후 진행"]
[8,3,"기계(설비)적 요인","1.3 기계(설비)의 낙하, 비래, 전복, 붕괴, 전도위험 부분","철근 인양용 후크에 해지장치 미설치로 철근 인양 중 로프가 탈락되면서 철근 낙하","안전보건규칙 제149조 [해지장치의 사용]","해당없음","작업 진행 하지 않음","해당없음",null,null,{"$f":"IF(I51=\"상\",B51&\"-\"&VLOOKUP(D51,'3-1 유해위험요인 파악'!$M$3:$N$41,2,0),IF(I51=\"중\",B51&\"-\"&VLOOKUP(D51,'3-1 유해위험요인 파악'!$M$3:$N$41,2,0),\"\"))","v":""},"","1. 이동식 크레인 해지장치 사용 2. 안전 점검 후 크레인 사용 3. 작업 반경 내 근로자 접근 금지","해지장치 점검 미흡 시 사고 가능","해지장치 장착 여부 확인 및 사용 전 점검","(사전준비) 해지장치가 정상적으로 작동하는지 사전 점검 후 작업을 진행한다.","해지장치 점검 후 인양 작업 수행"]
[8,3,"기계(설비)적 요인","1.3 기계(설비)의 낙하, 비래, 전복, 붕괴, 전도위험 부분","적재된 철근이 충격 또는 불균형으로 무너져 내림","안전보건규칙 제393조 [화물의 적재]","해당없음","작업 진행 하지 않음","해당없음",null,null,{"$f":"IF(I52=\"상\",B52&\"-\"&VLOOKUP(D52,'3-1 유해위험요인 파악'!$M$3:$N$41,2,0),IF(I52=\"중\",B52&\"-\"&VLOOKUP(D52,'3-1 유해위험요인 파악'!$M$3:$N$41,2,0),\"\"))","v":""},"","1. 튼튼한 기반 위에 적재 2. 불안정한 높이로 적재 금지 3. 편하중이 생기지 않도록 적재","외부 충격으로 인해 철근 무너질 가능성","철근 적재 방법 개선 및 주변 안전 확인","(사전준비) 철근 적재 전 적재 높이 및 균형 유지 상태를 점검하고, 하중 분산을 위해 적재 방식을 조정한다.","철근 적재 후 균형 유지 점검 및 필요 시 보강 조치"]
[8,3,"기계(설비)적 요인","1.4 충돌위험 부분","유도자 미배치 상태에서 철근 인양 중 철근에 주변 근로자 충돌","안전보건규칙 제172조 [접촉의 방지]","해당없음","작업 진행 하지 않음","해당없음",null,null,{"$f":"IF(I53=\"상\",B53&\"-\"&VLOOKUP(D53,'3-1 유해위험요인 파악'!$M$3:$N$41,2,0),IF(I53=\"중\",B53&\"-\"&VLOOKUP(D53,'3-1 유해위험요인 파악'!$M$3:$N$41,2,0),\"\"))","v":""},"","1. 작업구역 출입금지 2. 작업지휘자 또는 유도자 배치 후 작업 3. 작업 반경 내 근로자 접근 금지","예상치 못한 근로자의 접근으로 인한 위험","유도자 배치 후 작업 수행 및 신호체계 준수","(사전준비) 철근 인양 작업 시 유도자를 지정하여 배치하고, 근로자들에게 유도자의 신호를 준수하도록 교육한다.","유도자의 신호 확인 후 철근 인양 작업 수행"]
[8,3,"기계(설비)적 요인","1.4 충돌위험 부분","철근을 1줄걸이로 인양 작업 중 철근의 요동에 의해 충돌","-","해당없음","작업 진행 하지 않음","해당없음",null,null,{"$f":"IF(I54=\"상\",B54&\"-\"&VLOOKUP(D54,'3-1 유해위험요인 파악'!$M$3:$N$41,2,0),IF(I54=\"중\",B54&\"-\"&VLOOKUP(D54,'3-1 유해위험요인 파악'!$M$3:$N$41,2,0),\"\"))","v":""},"","1. 2줄걸이로 결속하여 수평으로 인양 2. 인양 중 철근 요동 방지 조치 3. 신호수 배치하여 작업 유도","인양 중 예상치 못한 충격 가능","2줄걸이 사용 및 인양 시 균형 유지 점검","(사전준비) 작업 전 인양 방법을 결정하고, 2줄걸이 적용 여부를 확인한 후 신호수를 배치하여 철근 요동을 방지한다.","인양 작업 전 균형 점검 및 신호 확인 후 인양 진행"]
[9,3,"전기적 요인","2.1 감전(안전전압초과)","철근 가공기로 철근 절단, 절곡 작업 중 감전","안전보건규칙 제302조 [전기 기계 · 기구의 접지]","조치예정(중)","","중",null,null,{"$f":"IF(I55=\"상\",B55&\"-\"&VLOOKUP(D55,'3-1 유해위험요인 파악'!$M$3:$N$41,2,0),IF(I55=\"중\",B55&\"-\"&VLOOKUP(D55,'3-1 유해위험요인 파악'!$M$3:$N$41,2,0),\"\"))","v":"3-2.1"},"1. 전기 기계 · 기구의 금속제 외함 및 금속제 외피 접지 2. 이중 절연 구조 적용 3. 작업 전 절연 상태 점검","1. 전기 기계 · 기구의 금속제 외함 및 금속제 외피 접지 2. 이중 절연 구조 적용 3. 작업 전 절연 상태 점검","전기 설비 점검이 미흡할 경우 감전 가능","철근 가공기 절연 상태 및 접지 상태 확인","(사전준비) 철근 가공기 사용 전 절연 상태를 점검하고, 접지 여부를 확인한 후 작업을 수행한다.","절연 보호구 착용 후 작업, 장비 접지 확인 후 사용"]
[9,3,"작업환경 요인","6.3 공간 및 이동통로","철근 가공장 울타리 미설치로 철근 밴딩 작업 중 주변 근로자 충돌","안전보건규칙 제20조 [출입의 금지 등]","해당없음","작업 진행 하지 않음","해당없음",null,null,{"$f":"IF(I56=\"상\",B56&\"-\"&VLOOKUP(D56,'3-1 유해위험요인 파악'!$M$3:$N$41,2,0),IF(I56=\"중\",B56&\"-\"&VLOOKUP(D56,'3-1 유해위험요인 파악'!$M$3:$N$41,2,0),\"\"))","v":""},"","1. 출입금지구역 설정 및 관리 2. 작업장 구획 및 식별 조치 3. 충돌 방지를 위한 이동 통로 확보","작업자의 부주의로 인한 출입 가능","울타리 설치 및 출입 제한 조치","(사전준비) 철근 가공 작업장이 명확히 구획될 수 있도록 울타리를 설치하고, 출입금지 표지판을 부착한다.","작업장 경계 명확화, 작업 구획 구분 후 출입 제한"]
[9,3,"기계(설비)적 요인","1.3 기계(설비)의 낙하, 비래, 전복, 붕괴, 전도위험 부분","항타기 붐대와 리더의 연결부 탈락에 의한 붐대 및 리더 전도","안전보건규칙 제207조 [조립시 점검]","해당없음","작업 진행 하지 않음","해당없음",null,null,{"$f":"IF(I57=\"상\",B57&\"-\"&VLOOKUP(D57,'3-1 유해위험요인 파악'!$M$3:$N$41,2,0),IF(I57=\"중\",B57&\"-\"&VLOOKUP(D57,'3-1 유해위험요인 파악'!$M$3:$N$41,2,0),\"\"))","v":""},"","1. 본체 연결부의 풀림 또는 손상의 유무 점검 2. 권상용 와이어로프 · 드럼 및 도르래 부착상태 점검 3. 권상장치의 브레이크 및 쐐기장치 기능 점검 4. 권상기의 설치상태 점검 5. 버팀 방법 및 고정상태 확인","작업 중 연결부의 미세한 손상으로 인한 위험 가능","항타기 조립 및 점검 후 정상 여부 확인","(사전준비) 항타기 조립 후 모든 연결부의 조임 상태를 재확인하고, 이상 발견 시 즉시 보수 후 작업을 수행한다.","조립 후 최종 점검 및 이상 발견 시 즉시 조치 후 작업 진행"]
[9,3,"기계(설비)적 요인","1.3 기계(설비)의 낙하, 비래, 전복, 붕괴, 전도위험 부분","항타 작업 중 항타기 붐대가 부러지면서 항타기 리더 전도","안전보건규칙 제207조 [조립시 점검]","해당없음","작업 진행 하지 않음","해당없음",null,null,{"$f":"IF(I58=\"상\",B58&\"-\"&VLOOKUP(D58,'3-1 유해위험요인 파악'!$M$3:$N$41,2,0),IF(I58=\"중\",B58&\"-\"&VLOOKUP(D58,'3-1 유해위험요인 파악'!$M$3:$N$41,2,0),\"\"))","v":""},"","1. 붐대 및 리더 연결부 점검 2. 작업 전 장비의 구조적 결함 여부 확인 3. 작업 중 하중 초과 여부 점검 4. 긴급 대피 절차 마련","장비 노후화로 인한 추가 위험 가능","작업 전 구조적 이상 확인 후 이상 발견 시 보수 작업 진행","(사전준비) 항타기 사용 전 붐대 및 리더의 구조적 상태를 정밀 점검하고, 이상 발생 시 즉시 교체 또는 보강 조치를 수행한다.","항타기 붐대의 균열 및 결함 확인 후 작업 진행"]
[9,3,"기계(설비)적 요인","1.3 기계(설비)의 낙하, 비래, 전복, 붕괴, 전도위험 부분","항타기 회전 중 후면부에 작업자 충돌, 협착","안전보건규칙 제200조 [접촉 방지]","해당없음","작업 진행 하지 않음","해당없음",null,null,{"$f":"IF(I59=\"상\",B59&\"-\"&VLOOKUP(D59,'3-1 유해위험요인 파악'!$M$3:$N$41,2,0),IF(I59=\"중\",B59&\"-\"&VLOOKUP(D59,'3-1 유해위험요인 파악'!$M$3:$N$41,2,0),\"\"))","v":""},"","1. 근로자 출입 제한 2. 유도자 배치 3. 작업 반경 내 접근 금지 4. 유도자의 신호 체계 구축","예상치 못한 근로자의 접근 가능","유도자 배치 및 신호체계 준수하여 작업 수행","(사전준비) 작업 전에 유도자를 배치하고, 작업자들에게 유도자의 신호체계를 숙지하도록 교육한다.","유도자의 신호 확인 후 작업 진행, 근로자 출입 제한"]
[9,3,"기계(설비)적 요인","1.3 기계(설비)의 낙하, 비래, 전복, 붕괴, 전도위험 부분","해머를 인상시켜 놓고 하부에서 점검 중 해머 낙하","안전보건규칙 제206조 [수리 등의 작업시 조치]","해당없음","작업 진행 하지 않음","해당없음",null,null,{"$f":"IF(I60=\"상\",B60&\"-\"&VLOOKUP(D60,'3-1 유해위험요인 파악'!$M$3:$N$41,2,0),IF(I60=\"중\",B60&\"-\"&VLOOKUP(D60,'3-1 유해위험요인 파악'!$M$3:$N$41,2,0),\"\"))","v":""},"","1. 작업지휘자 지정 2. 작업순서 결정 및 지휘 3. 안전지주 또는 안전블록 사용 여부 점검 4. 작업 전 고정장치 확인","예상치 못한 고정장치 풀림으로 인한 위험 가능","점검 작업 시 추가 고정장치 설치 및 안전 확보","(사전준비) 작업 전 해머 고정 상태를 철저히 점검하고, 추가 안전장치를 설치하여 낙하를 방지한다.","점검 작업 시 2차 안전장치 확인 후 진행"]
[9,3,"기계(설비)적 요인","1.3 기계(설비)의 낙하, 비래, 전복, 붕괴, 전도위험 부분","항타기 작업 유도자 미배치로 주변 작업자 파일 및 항타장비에 충돌, 협착","안전보건규칙 제200조 [접촉 방지]","해당없음","작업 진행 하지 않음","해당없음",null,null,{"$f":"IF(I61=\"상\",B61&\"-\"&VLOOKUP(D61,'3-1 유해위험요인 파악'!$M$3:$N$41,2,0),IF(I61=\"중\",B61&\"-\"&VLOOKUP(D61,'3-1 유해위험요인 파악'!$M$3:$N$41,2,0),\"\"))","v":""},"","1. 근로자 출입 제한 2. 유도자 배치 3. 작업 반경 내 작업자 접근 금지","예상치 못한 근로자의 접근으로 인한 충돌 위험","유도자 배치 후 작업 수행 및 작업 반경 표시","(사전준비) 작업 시작 전 작업 구역을 명확히 구획하고, 유도자를 지정하여 배치한 후 작업을 수행한다.","작업 반경 내 접근 통제 및 유도자의 신호 확인 후 작업 수행"]
[9,3,"기계(설비)적 요인","1.3 기계(설비)의 낙하, 비래, 전복, 붕괴, 전도위험 부분","항타기 작업 유도자 미배치로 주변 작업자 파일 및 항타장비에 충돌, 협착","안전보건규칙 제32조 [보호구의 지급 등]","해당없음","작업 진행 하지 않음","해당없음",null,null,{"$f":"IF(I62=\"상\",B62&\"-\"&VLOOKUP(D62,'3-1 유해위험요인 파악'!$M$3:$N$41,2,0),IF(I62=\"중\",B62&\"-\"&VLOOKUP(D62,'3-1 유해위험요인 파악'!$M$3:$N$41,2,0),\"\"))","v":""},"","1. 보호구(안전모, 안전대, 안전화, 보안면, 절연용 보호구, 방열복, 방진마스크 등) 지급 2. 보호구 착용 의무화 및 미착용 시 작업 금지","작업자의 개인적인 거부로 인한 미착용 가능","보호구 착용 점검 및 미착용 시 경고 조치","(사전준비) 모든 근로자가 보호구를 착용하도록 점검하고, 미착용자는 작업에서 제외한다.","작업 시작 전 보호구 착용 확인 및 미착용 근로자 작업 배제"]
[9,3,"기계(설비)적 요인","1.3 기계(설비)의 낙하, 비래, 전복, 붕괴, 전도위험 부분","항타 작업 중 아웃트리거 미설치에 의한 전도 및 협착","안전보건규칙 제209조 [도괴의 방지]","해당없음","작업 진행 하지 않음","해당없음",null,null,{"$f":"IF(I63=\"상\",B63&\"-\"&VLOOKUP(D63,'3-1 유해위험요인 파악'!$M$3:$N$41,2,0),IF(I63=\"중\",B63&\"-\"&VLOOKUP(D63,'3-1 유해위험요인 파악'!$M$3:$N$41,2,0),\"\"))","v":""},"","1. 연약 지반 설치 시 깔판 · 깔목 등 사용 2. 내력 확인 후 부족 시 보강 3. 말뚝 또는 쐐기 등을 사용하여 각부나 가대 고정 4. 레일클램프(rail clamp) 및 쐐기 등으로 고정 5. 버팀대는 3개 이상, 하단 부분은 버팀 · 말뚝 또는 철골 등으로 고정 6. 버팀줄을 3개 이상, 같은 간격으로 배치 7. 평형추의 이동 방지를 위해 가대에 부착","연약지반으로 인한 장비 불안정 가능","작업 전 지반 조사 및 보강 조치 수행","(사전준비) 항타기 설치 전에 지반의 내력을 점검하고, 부족할 경우 보강 조치를 완료한 후 작업을 수행한다.","항타기 설치 후 안정성 확인 및 작업 반경 내 안전 조치 실시"]
[9,3,"기계(설비)적 요인","1.3 기계(설비)의 낙하, 비래, 전복, 붕괴, 전도위험 부분","항타기 붐대와 리더의 연결부 탈락에 의한 붐대 및 리더 전도","안전보건규칙 제207조 [조립시 점검]","해당없음","작업 진행 하지 않음","해당없음",null,null,{"$f":"IF(I64=\"상\",B64&\"-\"&VLOOKUP(D64,'3-1 유해위험요인 파악'!$M$3:$N$41,2,0),IF(I64=\"중\",B64&\"-\"&VLOOKUP(D64,'3-1 유해위험요인 파악'!$M$3:$N$41,2,0),\"\"))","v":""},"","1. 본체 연결부의 풀림 또는 손상의 유무 점검 2. 권상용 와이어로프 · 드럼 및 도르래 부착상태 점검 3. 권상장치의 브레이크 및 쐐기장치 기능 점검 4. 권상기의 설치상태 점검 5. 버팀 방법 및 고정상태 확인","작업 중 연결부의 미세한 손상으로 인한 위험 가능","항타기 조립 및 점검 후 정상 여부 확인","(사전준비) 항타기 조립 후 모든 연결부의 조임 상태를 재확인하고, 이상 발견 시 즉시 보수 후 작업을 수행한다.","조립 후 최종 점검 및 이상 발견 시 즉시 조치 후 작업 진행"]
[9,3,"기계(설비)적 요인","1.3 기계(설비)의 낙하, 비래, 전복, 붕괴, 전도위험 부분","항타 작업 중 항타기 붐대가 부러지면서 항타기 리더 전도","안전보건규칙 제207조 [조립시 점검]","해당없음","작업 진행 하지 않음","해당없음",null,null,{"$f":"IF(I65=\"상\",B65&\"-\"&VLOOKUP(D65,'3-1 유해위험요인 파악'!$M$3:$N$41,2,0),IF(I65=\"중\",B65&\"-\"&VLOOKUP(D65,'3-1 유해위험요인 파악'!$M$3:$N$41,2,0),\"\"))","v":""},"","1. 붐대 및 리더 연결부 점검 2. 작업 전 장비의 구조적 결함 여부 확인 3. 작업 중 하중 초과 여부 점검 4. 긴급 대피 절차 마련","장비 노후화로 인한 추가 위험 가능","작업 전 구조적 이상 확인 후 이상 발견 시 보수 작업 진행","(사전준비) 항타기 사용 전 붐대 및 리더의 구조적 상태를 정밀 점검하고, 이상 발생 시 즉시 교체 또는 보강 조치를 수행한다.","항타기 붐대의 균열 및 결함 확인 후 작업 진행"]
[9,3,"기계(설비)적 요인","1.3 기계(설비)의 낙하, 비래, 전복, 붕괴, 전도위험 부분","항타기 회전 중 후면부에 작업자 충돌, 협착","안전보건규칙 제200조 [접촉 방지]","해당없음","작업 진행 하지 않음","해당없음",null,null,{"$f":"IF(I66=\"상\",B66&\"-\"&VLOOKUP(D66,'3-1 유해위험요인 파악'!$M$3:$N$41,2,0),IF(I66=\"중\",B66&\"-\"&VLOOKUP(D66,'3-1 유해위험요인 파악'!$M$3:$N$41,2,0),\"\"))","v":""},"","1. 근로자 출입 제한 2. 유도자 배치 3. 작업 반경 내 접근 금지 4. 유도자의 신호 체계 구축","예상치 못한 근로자의 접근 가능","유도자 배치 및 신호체계 준수하여 작업 수행","(사전준비) 작업 전에 유도자를 배치하고, 작업자들에게 유도자의 신호체계를 숙지하도록 교육한다.","유도자의 신호 확인 후 작업 진행, 근로자 출입 제한"]
[9,3,"기계(설비)적 요인","1.3 기계(설비)의 낙하, 비래, 전복, 붕괴, 전도위험 부분","해머를 인상시켜 놓고 하부에서 점검 중 해머 낙하","안전보건규칙 제206조 [수리 등의 작업시 조치]","해당없음","작업 진행 하지 않음","해당없음",null,null,{"$f":"IF(I67=\"상\",B67&\"-\"&VLOOKUP(D67,'3-1 유해위험요인 파악'!$M$3:$N$41,2,0),IF(I67=\"중\",B67&\"-\"&VLOOKUP(D67,'3-1 유해위험요인 파악'!$M$3:$N$41,2,0),\"\"))","v":""},"","1. 작업지휘자 지정 2. 작업순서 결정 및 지휘 3. 안전지주 또는 안전블록 사용 여부 점검 4. 작업 전 고정장치 확인","예상치 못한 고정장치 풀림으로 인한 위험 가능","점검 작업 시 추가 고정장치 설치 및 안전 확보","(사전준비) 작업 전 해머 고정 상태를 철저히 점검하고, 추가 안전장치를 설치하여 낙하를 방지한다.","점검 작업 시 2차 안전장치 확인 후 진행"]
[9,3,"기계(설비)적 요인","1.4 충돌위험 부분","적재된 파일이 굴러내리면서 협착","안전보건규칙 제386조 [경사면에서의 중량물 취급]","해당없음","작업 진행 하지 않음","해당없음",null,null,{"$f":"IF(I68=\"상\",B68&\"-\"&VLOOKUP(D68,'3-1 유해위험요인 파악'!$M$3:$N$41,2,0),IF(I68=\"중\",B68&\"-\"&VLOOKUP(D68,'3-1 유해위험요인 파악'!$M$3:$N$41,2,0),\"\"))","v":""},"","1. 구름멈춤대, 쐐기 등을 이용하여 중량물의 동요나 이동 조절 2. 경사면 아래로 근로자 출입 제한 3. 파일 적재 후 추가 고정 조치","파일이 적재 상태에서 미세한 움직임으로 인한 협착 위험","파일 적재 후 고정 여부 확인 및 추가 조치","(사전준비) 작업 전 적재된 파일의 고정 상태를 점검하고, 필요시 구름멈춤대 및 쐐기 추가 설치 후 작업 진행","적재된 파일 이동 가능성 확인 및 추가 고정 조치 후 작업 수행"]
[9,3,"기계(설비)적 요인","1.4 충돌위험 부분","파일 과적재에 따른 적재된 파일 붕괴","안전보건규칙 제393조 [화물의 적재]","해당없음","작업 진행 하지 않음","해당없음",null,null,{"$f":"IF(I69=\"상\",B69&\"-\"&VLOOKUP(D69,'3-1 유해위험요인 파악'!$M$3:$N$41,2,0),IF(I69=\"중\",B69&\"-\"&VLOOKUP(D69,'3-1 유해위험요인 파악'!$M$3:$N$41,2,0),\"\"))","v":""},"","1. 튼튼한 기반 위에 적재 2. 불안정한 높이로 적재 금지 3. 편하중이 생기지 않도록 조치 4. 과적 금지","예상치 못한 적재물 무너짐으로 인한 위험 가능","과적 금지 조치 후 균형 점검 및 파일 적재 방식 개선","(사전준비) 파일 적재 전 적재량과 균형을 점검하여 과적을 방지하고, 불균형 상태 발생 시 즉시 재배치 후 진행","파일 적재 상태 점검 후 균형 유지 여부 확인 후 작업 진행"]
[9,3,"기계(설비)적 요인","1.4 충돌위험 부분","항타기 운행 또는 파일 항타 중 지반 침하에 의한 장비 전도","안전보건규칙 제199조 [전도 등의 방지]","해당없음","작업 진행 하지 않음","해당없음",null,null,{"$f":"IF(I70=\"상\",B70&\"-\"&VLOOKUP(D70,'3-1 유해위험요인 파악'!$M$3:$N$41,2,0),IF(I70=\"중\",B70&\"-\"&VLOOKUP(D70,'3-1 유해위험요인 파악'!$M$3:$N$41,2,0),\"\"))","v":""},"","1. 유도자 배치 2. 지반의 부동침하 방지 조치 3. 갓길의 붕괴 방지 4. 도로 폭 유지 5. 철판 등으로 지반 보강 조치","예상치 못한 지반 약화로 인한 침하 가능","작업 전 지반 내력 점검 후 지반 보강 및 안정화","(사전준비) 작업 시작 전 지반 내력을 확인하고, 필요시 철판 등을 이용한 보강 조치를 수행한 후 장비를 배치한다.","작업 전 지반 안정성 점검 및 보강 후 장비 운행"]
[9,3,"기계(설비)적 요인","1.4 충돌위험 부분","해머의 타격 강도가 과하여 파일 파손에 의한 파편 낙하","-","해당없음","작업 진행 하지 않음","해당없음",null,null,{"$f":"IF(I71=\"상\",B71&\"-\"&VLOOKUP(D71,'3-1 유해위험요인 파악'!$M$3:$N$41,2,0),IF(I71=\"중\",B71&\"-\"&VLOOKUP(D71,'3-1 유해위험요인 파악'!$M$3:$N$41,2,0),\"\"))","v":""},"","1. 해머의 항타고 및 항타강도를 적정하게 유지 2. 파일 재질 및 상태 확인 후 작업 진행 3. 작업 반경 내 근로자 접근 통제","예상치 못한 파편 비산으로 인한 근로자 위험 가능","항타 강도 조절 후 테스트 진행 및 파일 상태 점검","(사전준비) 항타기 사용 전 파일의 강도와 해머 타격 설정을 사전 점검하여 적절한 강도로 조정 후 작업 수행","해머의 타격 강도 및 파일 상태 점검 후 작업 진행"]
[10,3,"기계(설비)적 요인","1.6 추락위험 부분(개구부 등)","근로자가 안전모 등 개인보호구 미착용에 의한 충돌, 추락","안전보건규칙 제32조 [보호구의 지급 등]","조치예정(상)","","상",null,null,{"$f":"IF(I72=\"상\",B72&\"-\"&VLOOKUP(D72,'3-1 유해위험요인 파악'!$M$3:$N$41,2,0),IF(I72=\"중\",B72&\"-\"&VLOOKUP(D72,'3-1 유해위험요인 파악'!$M$3:$N$41,2,0),\"\"))","v":"3-1.6"},"1. 보호구(안전모, 안전대, 안전화 등) 지급 2. 보호구 착용 의무화 및 미착용 시 작업 금지 3. 보호구 착용 여부 사전 점검","1. 보호구(안전모, 안전대, 안전화 등) 지급 2. 보호구 착용 의무화 및 미착용 시 작업 금지 3. 보호구 착용 여부 사전 점검","작업자의 개인적인 거부로 인한 미착용 가능","보호구 착용 점검 및 미착용 시 경고 조치","(사전준비) 작업 시작 전 근로자의 보호구 착용 여부를 관리자가 점검하고, 미착용자는 작업에서 제외한다.","작업 시작 전 보호구 착용 확인 및 미착용 근로자 작업 배제"]
[10,3,"기계(설비)적 요인","1.6 추락위험 부분(개구부 등)","항타기 해머 수리 작업 시 추락","안전보건규칙 제44조 [안전대의 부착설비 등]","해당없음","작업 진행 하지 않음","해당없음",null,null,{"$f":"IF(I73=\"상\",B73&\"-\"&VLOOKUP(D73,'3-1 유해위험요인 파악'!$M$3:$N$41,2,0),IF(I73=\"중\",B73&\"-\"&VLOOKUP(D73,'3-1 유해위험요인 파악'!$M$3:$N$41,2,0),\"\"))","v":""},"","1. 높이 2m 이상 작업 시 안전대 부착설비 설치 2. 안전대 및 부속설비 이상 유무 작업 전 점검 3. 작업 발판 및 보호망 설치","예상치 못한 안전대 미설치로 인한 추락 가능","안전대 착용 여부 및 안전시설 점검 후 작업 진행","(사전준비) 해머 수리 작업 전 안전대 설치 여부를 확인하고, 미설치 시 즉시 설치 후 작업을 진행한다.","안전시설 및 보호구 점검 후 작업 진행"]
[10,3,"기계(설비)적 요인","1.6 추락위험 부분(개구부 등)","항타기 해머 수리 작업 시 추락","안전보건규칙 제206조 [수리 등의 작업 시 조치]","해당없음","작업 진행 하지 않음","해당없음",null,null,{"$f":"IF(I74=\"상\",B74&\"-\"&VLOOKUP(D74,'3-1 유해위험요인 파악'!$M$3:$N$41,2,0),IF(I74=\"중\",B74&\"-\"&VLOOKUP(D74,'3-1 유해위험요인 파악'!$M$3:$N$41,2,0),\"\"))","v":""},"","1. 작업지휘자 지정 2. 작업순서 결정 및 지휘 3. 안전지주 또는 안전블록 사용 여부 점검 4. 추락 방지 보호시설 설치","예상치 못한 보호시설 불량으로 인한 위험 가능","작업 전 안전시설 설치 및 이상 여부 확인","(사전준비) 수리 작업 전 안전시설 및 안전지주 설치를 완료하고, 작업지휘자가 점검 후 진행한다.","작업 시작 전 작업지휘자의 점검 후 진행"]
[10,3,"화학(물질)적 요인","3.5 고체(분진)","파일 항타 중 파일 파괴에 의한 파일 파편 비산","안전보건규칙 제200조 [접촉 방지]","해당없음","작업 진행 하지 않음","해당없음",null,null,{"$f":"IF(I75=\"상\",B75&\"-\"&VLOOKUP(D75,'3-1 유해위험요인 파악'!$M$3:$N$41,2,0),IF(I75=\"중\",B75&\"-\"&VLOOKUP(D75,'3-1 유해위험요인 파악'!$M$3:$N$41,2,0),\"\"))","v":""},"","1. 근로자 출입 제한 2. 유도자 배치 3. 보안경(면) 지급 및 착용 4. 파일 상태 점검 후 작업 진행","파일 재질의 예기치 않은 결함으로 인한 위험 가능","항타 작업 전 파일 상태 점검 및 보호구 착용 점검","(사전준비) 항타 작업 전 파일의 재질과 손상 여부를 점검하고, 작업자는 반드시 보안경을 착용 후 진행한다.","항타 작업 전 보호구 착용 및 파일 상태 확인 후 진행"]
[10,"공정대분류 :",null,{"$f":"D2","v":"철콘작업(거푸집,철근,타설)"},null,null,null,"세부분류 :",null,null,4,{"$f":"'2 사전준비'!C29","v":"콘크리트 타설 및 양생"},null,"조치계획","남아 있는 위험","현재 조치사항을 기록하세요","주간안전점검회의 시 사전조치사항\n(내용 변경하여 사용하세요)","TBM전달내용"]
[10,"구분","유해위험요인 파악",null,null,"관련근거","현재안전보건조치",null,"현재위험성\n(상,중,하)",null,null,"감소대책"]
[10,null,"위험요인분류","위험요인","유해위험내용","법규/노출기준 등","현재상태","조치내용",null,null,null,"NO","세부내용","현재 위험(상)\n(수정 가능합니다.)","현재위험\"중\" 또는\n \"현장확인\" 시\n(이부분 수정하지 마세요)","(수정 가능합니다)","수정가능합니다.","수정가능합니다."]
[10,"4","기계(설비)적 요인","1.1 협착위험 부분(감김, 끼임)","콘크리트 피니셔 회전부에 접촉하여 협착 발생","안전보건규칙 제87조 [원동기·회전축 등의 위험 방지]","조치완료",{"$f":"IF(OR(G79=\"조치완료\",G79=\"조치완료(중)\"),P79,IF(G79=\"현장확인필요\",\"조치내용 현장확인 필요\",IF(G79=\"해당없음\",\"작업 진행 하지 않음\",\"\")))","v":"안전덮개 설치 및 보호구 착용 완료"},{"$f":"IF(G79=\"조치예정(상)\",\"상\",IF(G79=\"조치예정(중)\",\"중\",IF(G79=\"조치완료\",\"하\",IF(G79=\"현장확인필요\",\"중\",IF(G79=\"조치완료(중)\",\"중\",G79)))))","v":"하"},null,null,{"$f":"IF(I79=\"상\",B79&\"-\"&VLOOKUP(D79,'3-1 유해위험요인 파악'!$M$3:$N$41,2,0),IF(I79=\"중\",B79&\"-\"&VLOOKUP(D79,'3-1 유해위험요인 파악'!$M$3:$N$41,2,0),\"\"))","v":""},{"$f":"IF(OR(G79=\"조치예정(상)\",G79=\"조치예정(중)\"),N79,IF(G79=\"조치완료(중)\",O79,IF(G79=\"현장확인필요\",N79&CHAR(10)&\"등 실시 내용 현장에서 직접 확인한다\",\"\")))","v":""},"안전덮개 설치, 접근거리 통제 및 보호구 착용","회전부 안전덮개 설치 및 근로자 보호구 착용 여부 확인","안전덮개 설치 및 보호구 착용 완료","회전부 작업 전 안전장치 점검 및 보호구 착용 협의","회전부에 접근 시 덮개 설치 및 접근 거리 통제 점검"]
[10,"4","기계(설비)적 요인","1.3 기계(설비)의 낙하, 비래, 전복, 붕괴, 전도위험 부분","타워크레인으로 호퍼를 사용하여 타설 중 호퍼가 떨어져 자재 낙하","안전보건규칙 제137조 [취소장치 사용]","해당없음","작업 진행 하지 않음",{"$f":"IF(G80=\"조치예정(상)\",\"상\",IF(G80=\"조치예정(중)\",\"중\",IF(G80=\"조치완료\",\"하\",IF(G80=\"현장확인필요\",\"중\",IF(G80=\"조치완료(중)\",\"중\",G80)))))","v":"해당없음"},null,null,{"$f":"IF(I80=\"상\",B80&\"-\"&VLOOKUP(D80,'3-1 유해위험요인 파악'!$M$3:$N$41,2,0),IF(I80=\"중\",B80&\"-\"&VLOOKUP(D80,'3-1 유해위험요인 파악'!$M$3:$N$41,2,0),\"\"))","v":""},"","타워크레인 해지장치 점검, 호퍼 고정장치 점검 및 비상 상황 시 대처 절차 확인","타워크레인 점검 후 해지장치 및 호퍼 고정장치 확인","타워크레인 점검 완료, 호퍼 고정 완료","타워크레인 점검 전 후 신호 및 근로자 배치 협의","타워크레인 해지장치 점검 및 호퍼 고정 상태 점검"]
[11,"4","기계(설비)적 요인","1.3 기계(설비)의 낙하, 비래, 전복, 붕괴, 전도위험 부분","콘크리트 펌프카 붐 파손으로 인한 타설 중 붐 낙하","안전보건규칙 제335조 [콘크리트 펌프 등 사용 시 주의사항]","조치예정(중)","","중",null,null,{"$f":"IF(I81=\"상\",B81&\"-\"&VLOOKUP(D81,'3-1 유해위험요인 파악'!$M$3:$N$41,2,0),IF(I81=\"중\",B81&\"-\"&VLOOKUP(D81,'3-1 유해위험요인 파악'!$M$3:$N$41,2,0),\"\"))","v":"4-1.3"},"펌프카 붐 및 호스 점검, 붐 고정 및 운전 전 작업자 교육","펌프카 붐 및 호스 점검, 붐 고정 및 운전 전 작업자 교육","펌프카 점검 후 붐 및 호스 상태 확인 및 작업자 교육","붐 점검 완료 및 붐 고정 상태 점검 완료","붐 점검 후 안전교육 및 작업자 배치 협의","펌프카 붐 점검 및 작업자 교육 완료"]
[12,"4","기계(설비)적 요인","1.4 충돌위험 부분","콘크리트 호스와 파이프 연결부 미비로 인한 파손 사고","-","현장확인필요","조치내용 현장확인 필요","중",null,null,{"$f":"IF(I82=\"상\",B82&\"-\"&VLOOKUP(D82,'3-1 유해위험요인 파악'!$M$3:$N$41,2,0),IF(I82=\"중\",B82&\"-\"&VLOOKUP(D82,'3-1 유해위험요인 파악'!$M$3:$N$41,2,0),\"\"))","v":"4-1.4"},"연결부 고정장치 설치, 작업 전 연결 상태 점검\n등 실시 내용 현장에서 직접 확인한다","연결부 고정장치 설치, 작업 전 연결 상태 점검","작업 전 호스와 파이프 연결 상태 점검, 고정장치 설치 확인","연결부 점검 완료 및 고정장치 설치 완료","호스 연결 시 고정장치 확인 및 점검 협의","호스 및 파이프 연결 상태 점검 및 고정장치 설치 확인"]
[13,"4","기계(설비)적 요인","1.6 추락위험 부분(개구부 등)","타설 작업 중 개구부 주변에서의 추락 위험","안전보건규칙 제43조 [개구부 등 보호조치]","조치예정(중)","","중",null,null,{"$f":"IF(I83=\"상\",B83&\"-\"&VLOOKUP(D83,'3-1 유해위험요인 파악'!$M$3:$N$41,2,0),IF(I83=\"중\",B83&\"-\"&VLOOKUP(D83,'3-1 유해위험요인 파악'!$M$3:$N$41,2,0),\"\"))","v":"4-1.6"},"안전난간 설치, 개구부에 덮개 설치 및 출입금지구역 설정","안전난간 설치, 개구부에 덮개 설치 및 출입금지구역 설정","작업 전 개구부 주변 안전 점검 및 난간, 덮개 설치 확인","개구부 보호조치 완료 및 난간, 덮개 설치 완료","개구부 주변 작업 시 안전난간 및 덮개 설치 협의","개구부 및 주변 안전 점검 및 출입금지구역 설정"]
[13,"4","전기적 요인","2.1 감전(안전전압초과)","진동기 사용 중 전기 충격으로 인한 감전 위험","안전보건규칙 제304조 [누전차단기 등을 이용한 감전 방지]","하","","하",null,null,{"$f":"IF(I84=\"상\",B84&\"-\"&VLOOKUP(D84,'3-1 유해위험요인 파악'!$M$3:$N$41,2,0),IF(I84=\"중\",B84&\"-\"&VLOOKUP(D84,'3-1 유해위험요인 파악'!$M$3:$N$41,2,0),\"\"))","v":""},"","전기설비 접지 상태 점검, 누전차단기 사용 및 전기설비 점검","작업 전 전기설비 점검 및 누전차단기 작동 상태 확인","누전차단기 점검 완료 및 접지 상태 점검 완료","전기설비 점검 시 감전 예방 및 누전차단기 확인","전기설비 및 누전차단기 점검 완료"]
[13,"4","화학(물질)적 요인","3.5 고체(분진)","콘크리트 다짐 작업 시 피부와 접촉하여 발생할 수 있는 질병 (피부염 등)","안전보건규칙 제32조 [보호구의 지급 등]","하","","하",null,null,{"$f":"IF(I85=\"상\",B85&\"-\"&VLOOKUP(D85,'3-1 유해위험요인 파악'!$M$3:$N$41,2,0),IF(I85=\"중\",B85&\"-\"&VLOOKUP(D85,'3-1 유해위험요인 파악'!$M$3:$N$41,2,0),\"\"))","v":""},"","장갑, 보호복 제공 및 착용, 작업 전 후 손 씻기 및 피부 보호 관리","작업 전 후 손 씻기, 장갑 및 보호복 착용 여부 확인","장갑 및 보호복 착용 완료, 손 씻기 확인","작업 전 후 보호구 착용 및 위생 관리 협의","피부 보호 및 위생 관리 지침 전달"]
[13,"4","작업환경 요인","6.3 공간 및 이동통로","콘크리트 작업 시 이동 통로 협소로 인한 근로자 간 충돌 및 중량물 전도 위험","안전보건규칙 제22조 [통로 설치]","하","","하",null,null,{"$f":"IF(I86=\"상\",B86&\"-\"&VLOOKUP(D86,'3-1 유해위험요인 파악'!$M$3:$N$41,2,0),IF(I86=\"중\",B86&\"-\"&VLOOKUP(D86,'3-1 유해위험요인 파악'!$M$3:$N$41,2,0),\"\"))","v":""},"","이동통로 확보, 중량물 이동 시 안전구역 설정, 작업자 배치","이동통로 확보 후 작업구역 설정 및 근로자 배치 확인","이동통로 확보 완료 및 중량물 구역 설정 완료","이동통로 확보 및 작업구역 배치 협의","이동통로 및 작업구역 확인 후 작업 시작"]
[14,"4","기계(설비)적 요인","1.6 추락위험 부분(개구부 등)","콘크리트 양생장소 주변 계단 및 작업 플랫폼에서의 추락 위험","안전보건규칙 제43조 [개구부 등의 보호조치]","조치예정(중)","","중",null,null,{"$f":"IF(I87=\"상\",B87&\"-\"&VLOOKUP(D87,'3-1 유해위험요인 파악'!$M$3:$N$41,2,0),IF(I87=\"중\",B87&\"-\"&VLOOKUP(D87,'3-1 유해위험요인 파악'!$M$3:$N$41,2,0),\"\"))","v":"4-1.6"},"작업 전 안전난간 설치 및 개구부 보호덮개 설치, 출입금지구역 설정","작업 전 안전난간 설치 및 개구부 보호덮개 설치, 출입금지구역 설정","작업 전 계단 및 개구부 주변 보호 조치 점검 후 작업 시작","안전난간 및 덮개 설치 완료, 출입금지구역 설정 완료","양생작업 전 계단 및 개구부 보호조치 협의","계단 및 개구부 점검 후 작업 시작"]
[14,"4","전기적 요인","2.1 감전(안전전압초과)","양생 작업 중 전기설비 점검 시 감전 위험 발생","안전보건규칙 제304조 [누전차단기 등을 이용한 감전 방지]","하","","하",null,null,{"$f":"IF(I88=\"상\",B88&\"-\"&VLOOKUP(D88,'3-1 유해위험요인 파악'!$M$3:$N$41,2,0),IF(I88=\"중\",B88&\"-\"&VLOOKUP(D88,'3-1 유해위험요인 파악'!$M$3:$N$41,2,0),\"\"))","v":""},"","전기설비 점검 및 누전차단기 설치, 접지 상태 점검","작업 전 전기설비 점검 및 누전차단기 설치 상태 점검","누전차단기 점검 완료 및 접지 상태 점검 완료","전기설비 점검 전 후 누전차단기 및 접지상태 협의","전기설비 점검 완료 후 작업 시작"]
[15,"4","기계(설비)적 요인","3.8 화재 / 폭발 위험","양생작업에 사용되는 가열기 및 열풍기 사용 중 발생하는 화재 위험","안전보건규칙 제50조 [고온작업에서의 화재 예방]","조치예정(중)","","중",null,null,{"$f":"IF(I89=\"상\",B89&\"-\"&VLOOKUP(D89,'3-1 유해위험요인 파악'!$M$3:$N$41,2,0),IF(I89=\"중\",B89&\"-\"&VLOOKUP(D89,'3-1 유해위험요인 파악'!$M$3:$N$41,2,0),\"\"))","v":"4-3.8"},"가열기 및 열풍기 점검, 화재감지기 및 소화기 배치","가열기 및 열풍기 점검, 화재감지기 및 소화기 배치","작업 전 가열기 및 열풍기 점검, 화재 예방 조치 점검","화재감지기 및 소화기 배치 완료","가열기 및 열풍기 점검 후 화재 예방 조치 사항 협의","화재감지기 점검 및 소화기 배치 확인"]
[15,"4","기계(설비)적 요인","5.6 질식위험·산소결핍","양생작업 시 가열기 사용으로 인한 산소 결핍 위험","안전보건규칙 제450조 [산소결핍 환경에서의 안전 조치]","해당없음","작업 진행 하지 않음","해당없음",null,null,{"$f":"IF(I90=\"상\",B90&\"-\"&VLOOKUP(D90,'3-1 유해위험요인 파악'!$M$3:$N$41,2,0),IF(I90=\"중\",B90&\"-\"&VLOOKUP(D90,'3-1 유해위험요인 파악'!$M$3:$N$41,2,0),\"\"))","v":""},"","공기 순환 시스템 점검 및 산소 농도 모니터링 장치 설치","작업 전 공기 순환 시스템 점검 및 산소 농도 확인","산소 농도 모니터링 장치 점검 완료 및 공기 순환 시스템 점검 완료","산소 농도 점검 후 공기 순환 시스템 및 안전 조치 협의","공기 순환 시스템 점검 후 작업 시작"]
[15,"4","화학(물질)적 요인","5.6 질식위험·산소결핍","양생작업 시 작업장 내부 공기질 저하로 인한 질식 위험","안전보건규칙 제450조 [산소결핍 환경에서의 안전 조치]","하","","하",null,null,{"$f":"IF(I91=\"상\",B91&\"-\"&VLOOKUP(D91,'3-1 유해위험요인 파악'!$M$3:$N$41,2,0),IF(I91=\"중\",B91&\"-\"&VLOOKUP(D91,'3-1 유해위험요인 파악'!$M$3:$N$41,2,0),\"\"))","v":""},"","환기 시스템 설치 및 작업 전 공기질 점검","작업 전 공기질 점검 및 환기 시스템 상태 확인","공기질 점검 완료 및 환기 시스템 점검 완료","작업 전 후 공기질 점검 및 환기 시스템 확인 협의","공기질 점검 및 환기 시스템 확인 후 작업 시작"]
[15,"4","화학(물질)적 요인","5.6 질식위험·산소결핍","양생작업 중 화학물질 사용으로 인한 유해가스 발생 및 질식 위험","안전보건규칙 제450조 [산소결핍 환경에서의 안전 조치]","하","","하",null,null,{"$f":"IF(I92=\"상\",B92&\"-\"&VLOOKUP(D92,'3-1 유해위험요인 파악'!$M$3:$N$41,2,0),IF(I92=\"중\",B92&\"-\"&VLOOKUP(D92,'3-1 유해위험요인 파악'!$M$3:$N$41,2,0),\"\"))","v":""},"","유해가스 감지기 설치 및 환기 시스템 점검, 근로자 보호구 착용","작업 전 유해가스 감지기 및 환기 시스템 점검","유해가스 감지기 설치 및 환기 시스템 점검 완료","유해가스 감지기 점검 후 보호구 착용 및 작업 환경 점검 협의","유해가스 감지기 점검 후 작업 시작"]
[15,"4","작업환경 요인","6.3 공간 및 이동통로","양생 작업 중 중량물 운반 시 공간 협소로 인한 충돌 위험 및 장애물 전도 위험","안전보건규칙 제22조 [통로 설치]","하","","하",null,null,{"$f":"IF(I93=\"상\",B93&\"-\"&VLOOKUP(D93,'3-1 유해위험요인 파악'!$M$3:$N$41,2,0),IF(I93=\"중\",B93&\"-\"&VLOOKUP(D93,'3-1 유해위험요인 파악'!$M$3:$N$41,2,0),\"\"))","v":""},"","이동통로 확보, 작업 시 비상경로 설정 및 근로자 배치","작업 전 이동통로 확보 및 작업구역 설정 확인","이동통로 및 비상경로 확보 완료, 근로자 배치 완료","이동통로 확보 및 작업 구역 설정 협의","이동통로 점검 후 작업 시작"]
[15,"공정대분류 :",null,{"$f":"D2","v":"철콘작업(거푸집,철근,타설)"},null,null,null,"세부분류 :",null,null,5,{"$f":"'1-1 사업장 공정 정보'!H19","v":"작업장 정리 및 자재 반출"},null,"조치계획",null,"현재 조치사항을 기록하세요","주간안전점검회의 시 사전조치사항\n(내용 변경하여 사용하세요)","TBM전달내용"]
[15,"구분","유해위험요인 파악",null,null,"관련근거","현재안전보건조치",null,"현재위험성\n(상,중,하)",null,null,"감소대책"]
[15,null,"분류","원인","유해위험요인","법규/노출기준 등","현재상태","조치내용",null,null,null,"NO","세부내용","현재 위험(상)\n(수정 가능합니다.)","현재위험\"중\" 또는\n \"현장확인\" 시\n(이부분 수정하지 마세요)","(수정 가능합니다)","수정가능합니다.","수정가능합니다."]
[16,5,"1. 기계(설비)적 요인","1.2 위험한 표면(절단, 베임,긁힘)","개인보호구 미착용하고 작업 중 부딪히거나 찔림","산업안전보건기준에 관한 규칙 제32조 (보호구의 지급 등)","조치예정(중)",{"$f":"IF(OR(G97=\"조치완료\",G97=\"조치완료(중)\"),P97,IF(G97=\"현장확인필요\",\"조치내용 현장확인 필요\",IF(G97=\"해당없음\",\"작업 진행 하지 않음\",\"\")))","v":""},{"$f":"IF(G97=\"조치예정(상)\",\"상\",IF(G97=\"조치예정(중)\",\"중\",IF(G97=\"조치완료\",\"하\",IF(G97=\"현장확인필요\",\"중\",IF(G97=\"조치완료(중)\",\"중\",G97)))))","v":"중"},null,null,{"$f":"IF(I97=\"상\",B97&\"-\"&VLOOKUP(D97,'3-1 유해위험요인 파악'!$M$3:$N$41,2,0),IF(I97=\"중\",B97&\"-\"&VLOOKUP(D97,'3-1 유해위험요인 파악'!$M$3:$N$41,2,0),\"\"))","v":"5-1.2"},{"$f":"IF(OR(G97=\"조치예정(상)\",G97=\"조치예정(중)\"),N97,IF(G97=\"조치완료(중)\",O97,IF(G97=\"현장확인필요\",N97&\" 등 실시 내용 현장에서 직접 확인한다\",\"\")))","v":"1. 보호구(안전모, 안전대, 안전화 등) 지급 및 착용 의무화\n2. 보호구 착용 여부 점검 및 미착용 시 작업 중지"},"1. 보호구(안전모, 안전대, 안전화 등) 지급 및 착용 의무화\n2. 보호구 착용 여부 점검 및 미착용 시 작업 중지","보호구 미착용으로 인한 부상 가능","작업 전 보호구 착용 확인 및 미착용 시 조치","보호구 지급 및 착용 여부 철저 점검","작업 전 보호구 착용 확인 및 필요 시 추가 지급"]
[16,5,"1. 기계(설비)적 요인","1.3 기계(설비)의 낙하, 비래, 전복, 붕괴, 전도위험 부분","손상된 로프를 사용하여 자재 인양 중 로프가 끊어지면서 자재 낙하","산업안전보건기준에 관한 규칙 제168조 (변형되어 있는 훅·샤클 등의 사용금지 등)","하","","하",null,null,{"$f":"IF(I98=\"상\",B98&\"-\"&VLOOKUP(D98,'3-1 유해위험요인 파악'!$M$3:$N$41,2,0),IF(I98=\"중\",B98&\"-\"&VLOOKUP(D98,'3-1 유해위험요인 파악'!$M$3:$N$41,2,0),\"\"))","v":""},"","1. 인양용 로프는 손상되거나 부식되지 않는 견고한 로프 사용\n2. 변형된 후크·샤클 등 사용 금지","손상된 로프 사용으로 인한 돌발 사고 가능","작업 전 로프 상태 점검 및 교체 철저 시행","크레인 사용 전 로프 점검 및 관리","작업 전 로프 상태 확인 및 이상 여부 점검"]
[16,5,"1. 기계(설비)적 요인","1.3 기계(설비)의 낙하, 비래, 전복, 붕괴, 전도위험 부분","자재가 불안전하게 적재되어 근로자에게 무너짐","산업안전보건기준에 관한 규칙 제339조 (토석붕괴 위험 방지)","하","","하",null,null,{"$f":"IF(I99=\"상\",B99&\"-\"&VLOOKUP(D99,'3-1 유해위험요인 파악'!$M$3:$N$41,2,0),IF(I99=\"중\",B99&\"-\"&VLOOKUP(D99,'3-1 유해위험요인 파악'!$M$3:$N$41,2,0),\"\"))","v":""},"","1. 자재 적재 시 무너지지 않도록 안정되게 적재\n2. 관리감독자가 작업 전 작업장소 및 주변 상태 점검","적재 상태 변형으로 인한 붕괴 가능성 존재","적재 방법 개선 및 하부 안전 확보","작업장 내 자재 정리정돈 및 안전 확보","자재 적재 시 균형 유지 및 안전 확보 점검"]
[16,5,"1. 기계(설비)적 요인","1.3 기계(설비)의 낙하, 비래, 전복, 붕괴, 전도위험 부분","길이가 긴 자재를 1줄걸이로 결속하여 인양 중 흔들림으로 낙하","-","하","","하",null,null,{"$f":"IF(I100=\"상\",B100&\"-\"&VLOOKUP(D100,'3-1 유해위험요인 파악'!$M$3:$N$41,2,0),IF(I100=\"중\",B100&\"-\"&VLOOKUP(D100,'3-1 유해위험요인 파악'!$M$3:$N$41,2,0),\"\"))","v":""},"","1. 2줄걸이 견고하게 결속 및 수평 인양 실시","인양 작업 중 흔들림으로 인한 낙하 가능성","2줄걸이 사용 철저 및 결속 상태 점검","인양 작업 전 결속 상태 확인 및 작업자 교육","인양 작업 전 결속 상태 점검 및 작업자 주의사항 안내"]
[16,5,"1. 기계(설비)적 요인","1.3 기계(설비)의 낙하, 비래, 전복, 붕괴, 전도위험 부분","크램프 등 소형 부속자재를 로프로 묶은 긴 자재 위에 얹어서 인양 중 낙하","산업안전보건기준에 관한 규칙 제336조 (조립 등 작업 시의 준수사항)","하","",{"$f":"IF(G101=\"조치예정(상)\",\"상\",IF(G101=\"조치예정(중)\",\"중\",IF(G101=\"조치완료\",\"하\",IF(G101=\"현장확인필요\",\"중\",IF(G101=\"조치완료(중)\",\"중\",G101)))))","v":"하"},null,null,{"$f":"IF(I101=\"상\",B101&\"-\"&VLOOKUP(D101,'3-1 유해위험요인 파악'!$M$3:$N$41,2,0),IF(I101=\"중\",B101&\"-\"&VLOOKUP(D101,'3-1 유해위험요인 파악'!$M$3:$N$41,2,0),\"\"))","v":""},"","1. 크램프 등 소형 자재는 인양박스, 달포대 등에 담아 인양\n2. 관계 근로자 외 출입 금지\n3. 작업 위치가 2m 이상일 경우 작업발판 설치 또는 안전대 착용","부속자재의 결속 불량으로 인한 낙하 가능","인양 전 소형 자재 적절한 보관 및 고정","인양 작업 전 부속자재 정리 및 안전 확보","부속자재 정리 및 고정 상태 점검 철저 시행"]
[16,5,"1. 기계(설비)적 요인","1.3 기계(설비)의 낙하, 비래, 전복, 붕괴, 전도위험 부분","양중기 후크에 해지장치가 없어 자재 인양 중 로프 탈락","산업안전보건기준에 관한 규칙 제149조 (해지장치의 사용)","하","","하",null,null,{"$f":"IF(I102=\"상\",B102&\"-\"&VLOOKUP(D102,'3-1 유해위험요인 파악'!$M$3:$N$41,2,0),IF(I102=\"중\",B102&\"-\"&VLOOKUP(D102,'3-1 유해위험요인 파악'!$M$3:$N$41,2,0),\"\"))","v":""},"","1. 이동식 크레인 해지장치 사용\n2. 작업 전 해지장치의 정상 작동 여부 점검\n3. 작업 전 해지장치 미설치 장비 사용 금지\n4. 해지장치 정기점검 및 유지보수 실시","해지장치의 미설치 또는 기능 저하로 인한 돌발 사고 가능","해지장치 정기 점검 및 유지보수 강화","크레인 인양 작업 전 해지장치 확인 및 점검 철저","작업 전 해지장치 설치 여부 점검 및 작업자 교육"]
[16,5,"1. 기계(설비)적 요인","1.5 넘어짐(미끄러짐, 걸림, 헛디딤)","인양된 자재를 정리하지 않아 이동 중 걸려 넘어짐","산업안전보건기준에 관한 규칙 제3조 (전도의 방지)","하","","하",null,null,{"$f":"IF(I103=\"상\",B103&\"-\"&VLOOKUP(D103,'3-1 유해위험요인 파악'!$M$3:$N$41,2,0),IF(I103=\"중\",B103&\"-\"&VLOOKUP(D103,'3-1 유해위험요인 파악'!$M$3:$N$41,2,0),\"\"))","v":""},"","1. 인양된 자재는 정리정돈하여 근로자 통행로 확보\n2. 작업장 정리정돈 철저 시행","작업장 내 자재로 인한 걸림 사고 가능","작업 후 즉시 자재 정리 및 이동 경로 확보","작업장 정리정돈 점검 및 작업자 교육","이동 중 걸림 방지 및 통로 정리 상태 확인"]
[16,5,"1. 기계(설비)적 요인","1.6 추락위험 부분(개구부 등)","자재를 상부층으로 인력 인양 시 작업발판이 부러지면서 근로자 추락","산업안전보건기준에 관한 규칙 제56조 (작업발판의 구조)","하","","하",null,null,{"$f":"IF(I104=\"상\",B104&\"-\"&VLOOKUP(D104,'3-1 유해위험요인 파악'!$M$3:$N$41,2,0),IF(I104=\"중\",B104&\"-\"&VLOOKUP(D104,'3-1 유해위험요인 파악'!$M$3:$N$41,2,0),\"\"))","v":""},"","1. 자재 인양용 작업발판은 견고하게 설치하고 안전난간대 설치\n2. 비계 높이가 2m 이상일 경우 작업발판 설치","작업발판의 손상 및 설치 불량으로 인한 추락 가능","작업발판 정기 점검 및 허용하중 준수","작업발판 설치 상태 점검 및 보강 조치","작업발판 사용 전 설치 상태 점검 및 안전 확보"]
[16,5,"1. 기계(설비)적 요인","1.6 추락위험 부분(개구부 등)","엘리베이터 피트 등 자재를 상부층으로 인력 인양 시 작업발판 설치 상태 불량으로 추락","산업안전보건기준에 관한 규칙 제42조 (추락의 방지)","하","","하",null,null,{"$f":"IF(I105=\"상\",B105&\"-\"&VLOOKUP(D105,'3-1 유해위험요인 파악'!$M$3:$N$41,2,0),IF(I105=\"중\",B105&\"-\"&VLOOKUP(D105,'3-1 유해위험요인 파악'!$M$3:$N$41,2,0),\"\"))","v":""},"","1. 엘리베이터 피트 내 적합한 작업발판 설치 및 인양 작업 시 안전벨트 착용\n2. 작업발판 설치 계획 수립 및 반영","작업발판의 미설치 또는 설치 불량으로 인한 사고 가능","작업발판 설치 상태 점검 및 보강 조치","작업 전 안전벨트 착용 및 작업발판 점검","엘리베이터 피트 작업 시 안전장치 점검"]
[16,5,"1. 기계(설비)적 요인","1.6 추락위험 부분(개구부 등)","자재 인양 후 개구부를 덮지 않아 이동 중 근로자가 개구부로 추락","산업안전보건기준에 관한 규칙 제43조 (개구부 등의 방호 조치)","조치완료","개구부 주변 안전조치 및 표시 강화","하",null,null,{"$f":"IF(I106=\"상\",B106&\"-\"&VLOOKUP(D106,'3-1 유해위험요인 파악'!$M$3:$N$41,2,0),IF(I106=\"중\",B106&\"-\"&VLOOKUP(D106,'3-1 유해위험요인 파악'!$M$3:$N$41,2,0),\"\"))","v":""},"","1. 개구부 난간 등 설치\n2. 개구부 표시 및 경고 문구 부착\n3. 안전방망 설치 및 근로자 안전대 착용","작업자의 부주의로 인한 추락 가능성","개구부 주변 안전조치 및 표시 강화","개구부 보호 장치 설치 및 안전교육 시행","개구부 주변 접근 금지 및 안전조치 점검"]

{"sheet":"3-4 감소대책 수립","index":10,"n_rows":505,"n_cols":31,"rows_kept":505,"cut":false,"hidden":false,"merged":[[14,15,14,16],[4,5,4,6],[5,15,6,16],[5,21,5,22],[8,15,8,16],[9,15,9,16],[20,15,20,16],[5,5,6,5],[5,6,5,9],[5,12,5,13],[5,11,6,11],[2,7,4,7],[3,15,4,16],[3,17,4,18],[3,19,4,20],[3,21,4,22],[10,15,10,16],[11,15,11,16],[12,15,12,16],[13,15,13,16],[5,18,5,20],[5,17,6,17],[7,15,7,22],[7,9,7,13],[23,15,23,16],[24,15,24,16],[15,15,15,16],[16,15,16,16],[17,15,17,16],[18,15,18,16],[19,15,19,16],[30,15,30,16],[31,15,31,16],[21,15,21,16],[22,15,22,16],[32,15,32,16],[33,15,33,16],[34,15,34,16],[25,15,25,16],[26,15,26,16],[27,15,27,16],[28,15,28,16],[29,15,29,16],[40,15,40,16],[41,15,41,16],[42,15,42,16],[43,15,43,16],[44,15,44,16],[35,15,35,16],[36,15,36,16],[37,15,37,16],[38,15,38,16],[39,15,39,16],[50,15,50,16],[51,15,51,16],[52,15,52,16],[53,15,53,16],[54,15,54,16],[45,15,45,16],[46,15,46,16],[47,15,47,16],[48,15,48,16],[49,15,49,16],[60,15,60,16],[61,15,61,16],[62,15,62,16],[63,15,63,16],[64,15,64,16],[55,15,55,16],[56,15,56,16],[57,15,57,16],[58,15,58,16],[59,15,59,16],[70,15,70,16],[71,15,71,16],[72,15,72,16],[73,15,73,16],[74,15,74,16],[65,15,65,16],[66,15,66,16],[67,15,67,16],[68,15,68,16],[69,15,69,16],[80,15,80,16],[81,15,81,16],[82,15,82,16],[83,15,83,16],[84,15,84,16],[75,15,75,16],[76,15,76,16],[77,15,77,16],[78,15,78,16],[79,15,79,16],[90,15,90,16],[91,15,91,16],[92,15,92,16],[93,15,93,16],[94,15,94,16],[85,15,85,16],[86,15,86,16],[87,15,87,16],[88,15,88,16],[89,15,89,16],[100,15,100,16],[101,15,101,16],[102,15,102,16],[103,15,103,16],[104,15,104,16],[95,15,95,16],[96,15,96,16],[97,15,97,16],[98,15,98,16],[99,15,99,16],[110,15,110,16],[111,15,111,16],[112,15,112,16],[113,15,113,16],[114,15,114,16],[105,15,105,16],[106,15,106,16],[107,15,107,16],[108,15,108,16],[109,15,109,16],[120,15,120,16],[121,15,121,16],[122,15,122,16],[123,15,123,16],[124,15,124,16],[115,15,115,16],[116,15,116,16],[117,15,117,16],[118,15,118,16],[119,15,119,16],[130,15,130,16],[131,15,131,16],[132,15,132,16],[133,15,133,16],[134,15,134,16],[125,15,125,16],[126,15,126,16],[127,15,127,16],[128,15,128,16],[129,15,129,16],[140,15,140,16],[141,15,141,16],[142,15,142,16],[143,15,143,16],[144,15,144,16],[135,15,135,16],[136,15,136,16],[137,15,137,16],[138,15,138,16],[139,15,139,16],[150,15,150,16],[151,15,151,16],[152,15,152,16],[153,15,153,16],[154,15,154,16],[145,15,145,16],[146,15,146,16],[147,15,147,16],[148,15,148,16],[149,15,149,16],[160,15,160,16],[161,15,161,16],[162,15,162,16],[163,15,163,16],[164,15,164,16],[155,15,155,16],[156,15,156,16],[157,15,157,16],[158,15,158,16],[159,15,159,16],[170,15,170,16],[171,15,171,16],[172,15,172,16],[173,15,173,16],[174,15,174,16],[165,15,165,16],[166,15,166,16],[167,15,167,16],[168,15,168,16],[169,15,169,16],[180,15,180,16],[181,15,181,16],[182,15,182,16],[183,15,183,16],[184,15,184,16],[175,15,175,16],[176,15,176,16],[177,15,177,16],[178,15,178,16],[179,15,179,16],[190,15,190,16],[191,15,191,16],[192,15,192,16],[193,15,193,16],[194,15,194,16],[185,15,185,16],[186,15,186,16],[187,15,187,16],[188,15,188,16],[189,15,189,16],[200,15,200,16],[201,15,201,16],[202,15,202,16],[203,15,203,16],[204,15,204,16],[195,15,195,16],[196,15,196,16],[197,15,197,16],[198,15,198,16],[199,15,199,16],[210,15,210,16],[211,15,211,16],[212,15,212,16],[213,15,213,16],[214,15,214,16],[205,15,205,16],[206,15,206,16],[207,15,207,16],[208,15,208,16],[209,15,209,16],[220,15,220,16],[221,15,221,16],[222,15,222,16],[223,15,223,16],[224,15,224,16],[215,15,215,16],[216,15,216,16],[217,15,217,16],[218,15,218,16],[219,15,219,16],[230,15,230,16],[231,15,231,16],[232,15,232,16],[233,15,233,16],[234,15,234,16],[225,15,225,16],[226,15,226,16],[227,15,227,16],[228,15,228,16],[229,15,229,16],[240,15,240,16],[241,15,241,16],[242,15,242,16],[243,15,243,16],[244,15,244,16],[235,15,235,16],[236,15,236,16],[237,15,237,16],[238,15,238,16],[239,15,239,16],[250,15,250,16],[251,15,251,16],[252,15,252,16],[253,15,253,16],[254,15,254,16],[245,15,245,16],[246,15,246,16],[247,15,247,16],[248,15,248,16],[249,15,249,16],[260,15,260,16],[261,15,261,16],[262,15,262,16],[263,15,263,16],[264,15,264,16],[255,15,255,16],[256,15,256,16],[257,15,257,16],[258,15,258,16],[259,15,259,16],[270,15,270,16],[271,15,271,16],[272,15,272,16],[273,15,273,16],[274,15,274,16],[265,15,265,16],[266,15,266,16],[267,15,267,16],[268,15,268,16],[269,15,269,16],[280,15,280,16],[281,15,281,16],[282,15,282,16],[283,15,283,16],[284,15,284,16],[275,15,275,16],[276,15,276,16],[277,15,277,16],[278,15,278,16],[279,15,279,16],[290,15,290,16],[291,15,291,16],[292,15,292,16],[293,15,293,16],[294,15,294,16],[285,15,285,16],[286,15,286,16],[287,15,287,16],[288,15,288,16],[289,15,289,16],[300,15,300,16],[301,15,301,16],[302,15,302,16],[303,15,303,16],[304,15,304,16],[295,15,295,16],[296,15,296,16],[297,15,297,16],[298,15,298,16],[299,15,299,16],[310,15,310,16],[311,15,311,16],[312,15,312,16],[313,15,313,16],[314,15,314,16],[305,15,305,16],[306,15,306,16],[307,15,307,16],[308,15,308,16],[309,15,309,16],[320,15,320,16],[321,15,321,16],[322,15,322,16],[323,15,323,16],[324,15,324,16],[315,15,315,16],[316,15,316,16],[317,15,317,16],[318,15,318,16],[319,15,319,16],[330,15,330,16],[331,15,331,16],[332,15,332,16],[333,15,333,16],[334,15,334,16],[325,15,325,16],[326,15,326,16],[327,15,327,16],[328,15,328,16],[329,15,329,16],[340,15,340,16],[341,15,341,16],[342,15,342,16],[343,15,343,16],[344,15,344,16],[335,15,335,16],[336,15,336,16],[337,15,337,16],[338,15,338,16],[339,15,339,16],[350,15,350,16],[351,15,351,16],[352,15,352,16],[353,15,353,16],[354,15,354,16],[345,15,345,16],[346,15,346,16],[347,15,347,16],[348,15,348,16],[349,15,349,16],[360,15,360,16],[361,15,361,16],[362,15,362,16],[363,15,363,16],[364,15,364,16],[355,15,355,16],[356,15,356,16],[357,15,357,16],[358,15,358,16],[359,15,359,16],[370,15,370,16],[371,15,371,16],[372,15,372,16],[373,15,373,16],[374,15,374,16],[365,15,365,16],[366,15,366,16],[367,15,367,16],[368,15,368,16],[369,15,369,16],[380,15,380,16],[381,15,381,16],[382,15,382,16],[383,15,383,16],[384,15,384,16],[375,15,375,16],[376,15,376,16],[377,15,377,16],[378,15,378,16],[379,15,379,16],[390,15,390,16],[391,15,391,16],[392,15,392,16],[393,15,393,16],[394,15,394,16],[385,15,385,16],[386,15,386,16],[387,15,387,16],[388,15,388,16],[389,15,389,16],[400,15,400,16],[401,15,401,16],[402,15,402,16],[403,15,403,16],[404,15,404,16],[395,15,395,16],[396,15,396,16],[397,15,397,16],[398,15,398,16],[399,15,399,16],[410,15,410,16],[411,15,411,16],[412,15,412,16],[413,15,413,16],[414,15,414,16],[405,15,405,16],[406,15,406,16],[407,15,407,16],[408,15,408,16],[409,15,409,16],[420,15,420,16],[421,15,421,16],[422,15,422,16],[423,15,423,16],[424,15,424,16],[415,15,415,16],[416,15,416,16],[417,15,417,16],[418,15,418,16],[419,15,419,16],[430,15,430,16],[431,15,431,16],[432,15,432,16],[433,15,433,16],[434,15,434,16],[425,15,425,16],[426,15,426,16],[427,15,427,16],[428,15,428,16],[429,15,429,16],[440,15,440,16],[441,15,441,16],[442,15,442,16],[443,15,443,16],[444,15,444,16],[435,15,435,16],[436,15,436,16],[437,15,437,16],[438,15,438,16],[439,15,439,16],[450,15,450,16],[451,15,451,16],[452,15,452,16],[453,15,453,16],[454,15,454,16],[445,15,445,16],[446,15,446,16],[447,15,447,16],[448,15,448,16],[449,15,449,16],[460,15,460,16],[461,15,461,16],[462,15,462,16],[463,15,463,16],[464,15,464,16],[455,15,455,16],[456,15,456,16],[457,15,457,16],[458,15,458,16],[459,15,459,16],[470,15,470,16],[471,15,471,16],[472,15,472,16],[473,15,473,16],[474,15,474,16],[465,15,465,16],[466,15,466,16],[467,15,467,16],[468,15,468,16],[469,15,469,16],[504,15,504,16],[495,15,495,16],[496,15,496,16],[497,15,497,16],[498,15,498,16],[499,15,499,16],[490,15,490,16],[491,15,491,16],[492,15,492,16],[493,15,493,16],[494,15,494,16],[5,3,6,3],[5,27,6,27],[5,28,6,28],[0,25,4,30],[5,29,6,29],[500,15,500,16],[501,15,501,16],[502,15,502,16],[503,15,503,16],[485,15,485,16],[486,15,486,16],[487,15,487,16],[488,15,488,16],[489,15,489,16],[480,15,480,16],[481,15,481,16],[482,15,482,16],[483,15,483,16],[484,15,484,16],[475,15,475,16],[476,15,476,16],[477,15,477,16],[478,15,478,16],[479,15,479,16],[5,26,6,26],[5,14,6,14],[1,9,1,14],[2,9,2,14],[3,10,4,14],[0,23,4,24],[5,25,6,25],[5,23,6,23],[5,1,6,1],[0,10,0,13],[1,5,1,6],[0,5,0,6],[1,15,1,22],[2,5,2,6],[2,15,2,16],[2,17,2,18],[2,19,2,20],[2,21,2,22],[3,5,3,6],[3,9,4,9],[5,4,6,4],[0,4,4,4],[0,0,4,1],[0,2,4,3]]}
["TBM선택",null,"주간안전회의 선택",null,"순번","(",null,4,{"$f":"IF(H1=\"최초\",\")\",\"월)\")","v":"월)"},"위험성평가 회의록 :",{"$f":"\"감소대책 수립 및 실행\"&\"[\"&표지!B6&\"]\"","v":"감소대책 수립 및 실행[철콘작업(거푸집,철근,타설)]"},null,null,null,null,null,null,null,null,null,null,null,null,"TBM선택\n\"0\"또는\n\"선택\"\n(4개까지선택)",null,"주간안전점검 회의록 작성시 사전협의사항\n(0또는 '선택'으로 4개까지 선택)"]
[null,null,null,null,null,"업체명(원청,협력)",null,"작성일자","관리기간","       [위험성평가 => 위험성평가회의 => 이행확인 => 교육TBM 전파]",null,null,null,null,null,"위험성 결정, 감소대책 수립 및 실행계획 확인"]
[null,null,null,null,null,{"$f":"표지!D33","v":"시원건설"},null,{"$f":"IF(H1=\"최초\",\"\",IF(H1-1=0,\"12월 27일\",H1-1&\"월 27일\"))","v":"3월 27일"},{"$f":"IF(H1=\"최초\",\"\",H1&\"월 1일\")","v":"4월 1일"},"          (유해위험요인 파악)  (위험성 결정, 감소대책 수립)   (감소대책 실행)        (위험성평가의 공유)",null,null,null,null,null,"담당자\n(공사담당자)",null,"검토자\n(평가 담당자)",null,"근로자 대표\n(작업반장 등)",null,"승인자 \n(현장소장)"]
[null,null,null,null,null,"현장명",null,null,"부터","주요 작업 내용","콘크리트를 원하는 형상으로 유지하기 위해 틀(거푸집)을 제작하는 작업입니다. "]
[null,null,null,null,null,{"$f":"표지!D32","v":"서초동1342-15"},null,null,{"$f":"IF(H1=\"최초\",\"\",IF(OR(H1=1,H1=3,H1=5,H1=7,H1=8,H1=10,H1=12),H1&\"월 31일\",IF(OR(H1=4,H1=6,H1=9,H1=11),H1&\"월 30일\",\"2월 29일\")))","v":"4월 30일"}]
["위치","순서","위치","순서","인련\n번호","구분","유해위험요인 파악",null,null,null,"관련근거","현재\n위험성\n(상,중,하)","감소대책",null,"소요 예산(원)","조치 후 \n위험성\n(상,중,하)",null,"조치\n요구일","조치 완료일",null,null,"완료확인",null,"선택 결정","선택","상호 협의사항","회의방법","업체명","담당","선택 결정","선택"]
[0,null,0,null,null,null,"작업 분류","분류","원인","유해위험요인","법규/노출기준 등",null,"NO","세부내용",null,null,null,null,"1회","2회","3회","반장","담당",null,"결과",null,null,null,null,null,"결과"]
[null,null,null,null,null,null,null,null,null,"합계 :",null,null,null,null,{"$f":"SUM(O9:O505)","v":0}]
[{"$f":"\"T\"&B9&IF(OR(X9=\"선택\",X9=1),1,0)","v":"T11"},{"$f":"IF(OR(X9=\"선택\",X9=1),1,0)","v":1},{"$f":"\"S\"&D9&IF(OR(AD9=\"선택\",AD9=1),1,0)","v":"S11"},{"$f":"IF(OR(AD9=\"선택\",AD9=1),1,0)","v":1},1,{"$f":"IF(MAX('3-3 위험성평가'!$A$4:$A$470)+1>E9,VLOOKUP(E9,'3-3 위험성평가'!$A$5:$P$470,2,0),\"\")","v":1},{"$f":"IF(F9=\"\",\"\",VLOOKUP(VALUE(F9),'1-1 사업장 공정 정보'!$D$15:$P$32,5,0))","v":"자재반입, 가공·운반"},{"$f":"IF(MAX('3-3 위험성평가'!$A$4:$A$470)+1>E9,VLOOKUP(E9,'3-3 위험성평가'!$A$5:$P$470,3,0),\"\")","v":"1. 기계(설비)적 요인"},{"$f":"IF(MAX('3-3 위험성평가'!$A$4:$A$470)+1>E9,VLOOKUP(E9,'3-3 위험성평가'!$A$5:$P$470,4,0),\"\")","v":"1.3 기계(설비)의 낙하, 비래, 전복, 붕괴, 전도위험 부분"},{"$f":"IF(MAX('3-3 위험성평가'!$A$4:$A$470)+1>E9,VLOOKUP(E9,'3-3 위험성평가'!$A$5:$P$470,5,0),\"\")","v":"인양 중 양중기 와이어로프 파단으로 자재가 낙하하여 충격 및 중상 위험"},{"$f":"IF(MAX('3-3 위험성평가'!$A$4:$A$470)+1>E9,VLOOKUP(E9,'3-3 위험성평가'!$A$5:$P$470,6,0),\"\")","v":"산업안전보건기준에 관한 규칙 제169조 (꼬임이 끊어진 섬유로프 등의 사용금지)"},{"$f":"IF(MAX('3-3 위험성평가'!$A$4:$A$470)+1>E9,VLOOKUP(E9,'3-3 위험성평가'!$A$5:$P$470,9,0),\"\")","v":"중"},{"$f":"IF(MAX('3-3 위험성평가'!$A$4:$A$536)+1>E9,VLOOKUP(E9,'3-3 위험성평가'!$A$5:$P$536,12,0),\"\")&IF(L9>\"\",\".\"&E9,\"\")","v":"1-1.3.1"},{"$f":"IF(MAX('3-3 위험성평가'!$A$4:$A$470)+1>E9,VLOOKUP(E9,'3-3 위험성평가'!$A$5:$P$470,13,0),\"\")","v":"1. 와이어로프 작업 전 손상, 마모, 변형 여부 점검\n2. 꼬임이나 손상된 와이어로프 사용 금지\n3. 인양 작업 전 안전한 결속 여부 확인"},0,"하",null,null,null,null,null,null,null,1,{"$f":"IF(OR(X9=\"선택\",X9=1),1,0)","v":1},{"$f":"IF(MAX('3-3 위험성평가'!$A$4:$A$470)+1>E9,VLOOKUP(E9,'3-3 위험성평가'!$A$5:$Q$470,17,0),\"\")","v":"와이어로프 관리 방법 및 점검 기준 마련"},"SNS",{"$f":"표지!$D$33","v":"시원건설"},{"$f":"표지!$E$34","v":"김길동4"},"선택",{"$f":"IF(OR(AD9=\"선택\",AD9=1),1,0)","v":1}]
["T10",{"$f":"B9+Y10","v":1},{"$f":"\"S\"&D10&IF(OR(AD10=\"선택\",AD10=1),1,0)","v":"S21"},{"$f":"D9+1","v":2},2,{"$f":"IF(MAX('3-3 위험성평가'!$A$4:$A$470)+1>E10,VLOOKUP(E10,'3-3 위험성평가'!$A$5:$P$470,2,0),\"\")","v":1},{"$f":"IF(F10=\"\",\"\",VLOOKUP(VALUE(F10),'1-1 사업장 공정 정보'!$D$15:$P$32,5,0))","v":"자재반입, 가공·운반"},{"$f":"IF(MAX('3-3 위험성평가'!$A$4:$A$470)+1>E10,VLOOKUP(E10,'3-3 위험성평가'!$A$5:$P$470,3,0),\"\")","v":"1. 기계(설비)적 요인"},{"$f":"IF(MAX('3-3 위험성평가'!$A$4:$A$470)+1>E10,VLOOKUP(E10,'3-3 위험성평가'!$A$5:$P$470,4,0),\"\")","v":"1.3 기계(설비)의 낙하, 비래, 전복, 붕괴, 전도위험 부분"},{"$f":"IF(MAX('3-3 위험성평가'!$A$4:$A$470)+1>E10,VLOOKUP(E10,'3-3 위험성평가'!$A$5:$P$470,5,0),\"\")","v":"거푸집 자재를 불안정하게 적재하여 외부 충격이나 편심 하중으로 인해 붕괴 위험"},{"$f":"IF(MAX('3-3 위험성평가'!$A$4:$A$470)+1>E10,VLOOKUP(E10,'3-3 위험성평가'!$A$5:$P$470,6,0),\"\")","v":"산업안전보건기준에 관한 규칙 제339조 (토석붕괴 위험 방지)"},{"$f":"IF(MAX('3-3 위험성평가'!$A$4:$A$470)+1>E10,VLOOKUP(E10,'3-3 위험성평가'!$A$5:$P$470,9,0),\"\")","v":"상"},{"$f":"IF(MAX('3-3 위험성평가'!$A$4:$A$536)+1>E10,VLOOKUP(E10,'3-3 위험성평가'!$A$5:$P$536,12,0),\"\")&IF(L10>\"\",\".\"&E10,\"\")","v":"1-1.3.2"},{"$f":"IF(MAX('3-3 위험성평가'!$A$4:$A$470)+1>E10,VLOOKUP(E10,'3-3 위험성평가'!$A$5:$P$470,13,0),\"\")","v":"1. 거푸집 자재 적재 시 붕괴 방지 조치 실시\n2. 작업 시작 전 관리감독자 점검"},0,"하",null,null,null,null,null,null,null,0,{"$f":"IF(OR(X10=\"선택\",X10=1),1,0)","v":0},{"$f":"IF(MAX('3-3 위험성평가'!$A$4:$A$470)+1>E10,VLOOKUP(E10,'3-3 위험성평가'!$A$5:$Q$470,17,0),\"\")","v":"거푸집 자재 적재 시 안전 확보 및 작업자 교육 실시"},"현장회의",{"$f":"표지!$D$33","v":"시원건설"},{"$f":"표지!$E$34","v":"김길동4"},"선택",{"$f":"IF(OR(AD10=\"선택\",AD10=1),1,0)","v":1}]
["T10",{"$f":"B10+Y11","v":1},"S31",{"$f":"D10+AE11","v":3},3,{"$f":"IF(MAX('3-3 위험성평가'!$A$4:$A$470)+1>E11,VLOOKUP(E11,'3-3 위험성평가'!$A$5:$P$470,2,0),\"\")","v":1},{"$f":"IF(F11=\"\",\"\",VLOOKUP(VALUE(F11),'1-1 사업장 공정 정보'!$D$15:$P$32,5,0))","v":"자재반입, 가공·운반"},{"$f":"IF(MAX('3-3 위험성평가'!$A$4:$A$470)+1>E11,VLOOKUP(E11,'3-3 위험성평가'!$A$5:$P$470,3,0),\"\")","v":"기계(설비)적 요인"},{"$f":"IF(MAX('3-3 위험성평가'!$A$4:$A$470)+1>E11,VLOOKUP(E11,'3-3 위험성평가'!$A$5:$P$470,4,0),\"\")","v":"1.3 기계(설비)의 낙하, 비래, 전복, 붕괴, 전도위험 부분"},{"$f":"IF(MAX('3-3 위험성평가'!$A$4:$A$470)+1>E11,VLOOKUP(E11,'3-3 위험성평가'!$A$5:$P$470,5,0),\"\")","v":"철근 적재용 받침대가 부러지면서 철근 낙하"},{"$f":"IF(MAX('3-3 위험성평가'!$A$4:$A$470)+1>E11,VLOOKUP(E11,'3-3 위험성평가'!$A$5:$P$470,6,0),\"\")","v":"안전보건규칙 제35조 [관리감독자의 유해위험방지 업무 등]"},{"$f":"IF(MAX('3-3 위험성평가'!$A$4:$A$470)+1>E11,VLOOKUP(E11,'3-3 위험성평가'!$A$5:$P$470,9,0),\"\")","v":"중"},{"$f":"IF(MAX('3-3 위험성평가'!$A$4:$A$536)+1>E11,VLOOKUP(E11,'3-3 위험성평가'!$A$5:$P$536,12,0),\"\")&IF(L11>\"\",\".\"&E11,\"\")","v":"1-1.3.3"},{"$f":"IF(MAX('3-3 위험성평가'!$A$4:$A$470)+1>E11,VLOOKUP(E11,'3-3 위험성평가'!$A$5:$P$470,13,0),\"\")","v":"1. 관리감독자 점검(별표3의 작업에 대해) 2. 관리감독자의 점검 및 이상 조치 등 실시 내용 현장에서 직접 확인한다"},0,"하",null,null,null,null,null,null,null,0,0,{"$f":"IF(MAX('3-3 위험성평가'!$A$4:$A$470)+1>E11,VLOOKUP(E11,'3-3 위험성평가'!$A$5:$Q$470,17,0),\"\")","v":"(사전준비) 작업 전 관리감독자는 철근 받침대의 상태를 점검하고 불량품은 즉시 교체하도록 한다."},"선택",{"$f":"표지!$D$33","v":"시원건설"},{"$f":"표지!$E$34","v":"김길동4"},"선택",1]
["T10",1,"S41",{"$f":"D11+AE12","v":4},4,{"$f":"IF(MAX('3-3 위험성평가'!$A$4:$A$470)+1>E12,VLOOKUP(E12,'3-3 위험성평가'!$A$5:$P$470,2,0),\"\")","v":"1"},{"$f":"IF(F12=\"\",\"\",VLOOKUP(VALUE(F12),'1-1 사업장 공정 정보'!$D$15:$P$32,5,0))","v":"자재반입, 가공·운반"},{"$f":"IF(MAX('3-3 위험성평가'!$A$4:$A$470)+1>E12,VLOOKUP(E12,'3-3 위험성평가'!$A$5:$P$470,3,0),\"\")","v":"기계(설비)적 요인"},{"$f":"IF(MAX('3-3 위험성평가'!$A$4:$A$470)+1>E12,VLOOKUP(E12,'3-3 위험성평가'!$A$5:$P$470,4,0),\"\")","v":"1.2 위험한 표면(절단, 베임,긁힘)"},{"$f":"IF(MAX('3-3 위험성평가'!$A$4:$A$470)+1>E12,VLOOKUP(E12,'3-3 위험성평가'!$A$5:$P$470,5,0),\"\")","v":"콘크리트 운반차량 주변 작업 중 부딪히거나 찔림 발생"},{"$f":"IF(MAX('3-3 위험성평가'!$A$4:$A$470)+1>E12,VLOOKUP(E12,'3-3 위험성평가'!$A$5:$P$470,6,0),\"\")","v":"안전보건규칙 제32조 [보호구의 지급 등]"},{"$f":"IF(MAX('3-3 위험성평가'!$A$4:$A$470)+1>E12,VLOOKUP(E12,'3-3 위험성평가'!$A$5:$P$470,9,0),\"\")","v":"중"},{"$f":"IF(MAX('3-3 위험성평가'!$A$4:$A$536)+1>E12,VLOOKUP(E12,'3-3 위험성평가'!$A$5:$P$536,12,0),\"\")&IF(L12>\"\",\".\"&E12,\"\")","v":"1-1.2.4"},{"$f":"IF(MAX('3-3 위험성평가'!$A$4:$A$470)+1>E12,VLOOKUP(E12,'3-3 위험성평가'!$A$5:$P$470,13,0),\"\")","v":"보호구 제공 및 착용 (안전모, 안전벨트, 안전화 등)"},0,"하",null,null,null,null,null,null,null,0,0,{"$f":"IF(MAX('3-3 위험성평가'!$A$4:$A$470)+1>E12,VLOOKUP(E12,'3-3 위험성평가'!$A$5:$Q$470,17,0),\"\")","v":"작업 전 안전장비 착용 점검 및 차량 주변 작업 시 보호구 착용 확인"},"선택",{"$f":"표지!$D$33","v":"시원건설"},{"$f":"표지!$E$34","v":"김길동4"},"선택",1]
["T21",2,"S40",4,5,{"$f":"IF(MAX('3-3 위험성평가'!$A$4:$A$470)+1>E13,VLOOKUP(E13,'3-3 위험성평가'!$A$5:$P$470,2,0),\"\")","v":"1"},{"$f":"IF(F13=\"\",\"\",VLOOKUP(VALUE(F13),'1-1 사업장 공정 정보'!$D$15:$P$32,5,0))","v":"자재반입, 가공·운반"},{"$f":"IF(MAX('3-3 위험성평가'!$A$4:$A$470)+1>E13,VLOOKUP(E13,'3-3 위험성평가'!$A$5:$P$470,3,0),\"\")","v":"기계(설비)적 요인"},{"$f":"IF(MAX('3-3 위험성평가'!$A$4:$A$470)+1>E13,VLOOKUP(E13,'3-3 위험성평가'!$A$5:$P$470,4,0),\"\")","v":"1.3 기계(설비)의 낙하, 비래, 전복, 붕괴, 전도위험 부분"},{"$f":"IF(MAX('3-3 위험성평가'!$A$4:$A$470)+1>E13,VLOOKUP(E13,'3-3 위험성평가'!$A$5:$P$470,5,0),\"\")","v":"콘크리트 반입 시 크레인 붐이나 자재가 낙하하여 협착될 위험"},{"$f":"IF(MAX('3-3 위험성평가'!$A$4:$A$470)+1>E13,VLOOKUP(E13,'3-3 위험성평가'!$A$5:$P$470,6,0),\"\")","v":"안전보건규칙 제89조 [운전 시작 전 조치]"},{"$f":"IF(MAX('3-3 위험성평가'!$A$4:$A$470)+1>E13,VLOOKUP(E13,'3-3 위험성평가'!$A$5:$P$470,9,0),\"\")","v":"중"},{"$f":"IF(MAX('3-3 위험성평가'!$A$4:$A$536)+1>E13,VLOOKUP(E13,'3-3 위험성평가'!$A$5:$P$536,12,0),\"\")&IF(L13>\"\",\".\"&E13,\"\")","v":"1-1.3.5"},{"$f":"IF(MAX('3-3 위험성평가'!$A$4:$A$470)+1>E13,VLOOKUP(E13,'3-3 위험성평가'!$A$5:$P$470,13,0),\"\")","v":"근로자 배치 및 교육, 작업방법 확인 후 위험방지 조치, 일정한 신호방법 지정"},null,"하",null,null,null,null,null,null,null,1,1,{"$f":"IF(MAX('3-3 위험성평가'!$A$4:$A$470)+1>E13,VLOOKUP(E13,'3-3 위험성평가'!$A$5:$Q$470,17,0),\"\")","v":"크레인 점검 후 신호방법 및 근로자 배치 계획 협의"},"선택",{"$f":"표지!$D$33","v":"시원건설"},{"$f":"표지!$E$34","v":"김길동4"},"선택안함",0]
["T20",2,"S40",4,6,{"$f":"IF(MAX('3-3 위험성평가'!$A$4:$A$470)+1>E14,VLOOKUP(E14,'3-3 위험성평가'!$A$5:$P$470,2,0),\"\")","v":2},{"$f":"IF(F14=\"\",\"\",VLOOKUP(VALUE(F14),'1-1 사업장 공정 정보'!$D$15:$P$32,5,0))","v":"거푸집 작업"},{"$f":"IF(MAX('3-3 위험성평가'!$A$4:$A$470)+1>E14,VLOOKUP(E14,'3-3 위험성평가'!$A$5:$P$470,3,0),\"\")","v":"1. 기계(설비)적 요인"},{"$f":"IF(MAX('3-3 위험성평가'!$A$4:$A$470)+1>E14,VLOOKUP(E14,'3-3 위험성평가'!$A$5:$P$470,4,0),\"\")","v":"1.3 기계(설비)의 낙하, 비래, 전복, 붕괴, 전도위험 부분"},{"$f":"IF(MAX('3-3 위험성평가'!$A$4:$A$470)+1>E14,VLOOKUP(E14,'3-3 위험성평가'!$A$5:$P$470,5,0),\"\")","v":"거푸집 동바리 해체 절차 미준수로 인해 무리한 작업 중 동바리 및 해체 자재 낙하"},{"$f":"IF(MAX('3-3 위험성평가'!$A$4:$A$470)+1>E14,VLOOKUP(E14,'3-3 위험성평가'!$A$5:$P$470,6,0),\"\")","v":"산업안전보건기준에 관한 규칙 제331조 (조립도)"},{"$f":"IF(MAX('3-3 위험성평가'!$A$4:$A$470)+1>E14,VLOOKUP(E14,'3-3 위험성평가'!$A$5:$P$470,9,0),\"\")","v":"상"},{"$f":"IF(MAX('3-3 위험성평가'!$A$4:$A$536)+1>E14,VLOOKUP(E14,'3-3 위험성평가'!$A$5:$P$536,12,0),\"\")&IF(L14>\"\",\".\"&E14,\"\")","v":"2-1.3.6"},{"$f":"IF(MAX('3-3 위험성평가'!$A$4:$A$470)+1>E14,VLOOKUP(E14,'3-3 위험성평가'!$A$5:$P$470,13,0),\"\")","v":"1. 거푸집 동바리 해체 전 작업 절차 수립 및 준수\n2. 해체 순서 준수 및 특별교육 시행\n3. 해체구간 내 작업자 출입 통제"},null,"하",null,null,null,null,null,null,null,"선택안함",0,{"$f":"IF(MAX('3-3 위험성평가'!$A$4:$A$470)+1>E14,VLOOKUP(E14,'3-3 위험성평가'!$A$5:$Q$470,17,0),\"\")","v":"거푸집 해체 시 안전조치 점검 및 작업자 교육"},"선택",{"$f":"표지!$D$33","v":"시원건설"},{"$f":"표지!$E$34","v":"김길동4"},"선택안함",0]
["T20",2,"S40",4,7,{"$f":"IF(MAX('3-3 위험성평가'!$A$4:$A$470)+1>E15,VLOOKUP(E15,'3-3 위험성평가'!$A$5:$P$470,2,0),\"\")","v":2},{"$f":"IF(F15=\"\",\"\",VLOOKUP(VALUE(F15),'1-1 사업장 공정 정보'!$D$15:$P$32,5,0))","v":"거푸집 작업"},{"$f":"IF(MAX('3-3 위험성평가'!$A$4:$A$470)+1>E15,VLOOKUP(E15,'3-3 위험성평가'!$A$5:$P$470,3,0),\"\")","v":"1. 기계(설비)적 요인"},{"$f":"IF(MAX('3-3 위험성평가'!$A$4:$A$470)+1>E15,VLOOKUP(E15,'3-3 위험성평가'!$A$5:$P$470,4,0),\"\")","v":"1.6 추락위험 부분(개구부 등)"},{"$f":"IF(MAX('3-3 위험성평가'!$A$4:$A$470)+1>E15,VLOOKUP(E15,'3-3 위험성평가'!$A$5:$P$470,5,0),\"\")","v":"개구부 또는 슬라브 단부로 이동 중 추락"},{"$f":"IF(MAX('3-3 위험성평가'!$A$4:$A$470)+1>E15,VLOOKUP(E15,'3-3 위험성평가'!$A$5:$P$470,6,0),\"\")","v":"산업안전보건기준에 관한 규칙 제43조 (개구부 등의 방호 조치)"},{"$f":"IF(MAX('3-3 위험성평가'!$A$4:$A$470)+1>E15,VLOOKUP(E15,'3-3 위험성평가'!$A$5:$P$470,9,0),\"\")","v":"상"},{"$f":"IF(MAX('3-3 위험성평가'!$A$4:$A$536)+1>E15,VLOOKUP(E15,'3-3 위험성평가'!$A$5:$P$536,12,0),\"\")&IF(L15>\"\",\".\"&E15,\"\")","v":"2-1.6.7"},{"$f":"IF(MAX('3-3 위험성평가'!$A$4:$A$470)+1>E15,VLOOKUP(E15,'3-3 위험성평가'!$A$5:$P$470,13,0),\"\")","v":"1. 개구부에 난간 및 보호 장치 설치\n2. 개구부 표시 및 경고 문구 부착\n3. 안전방망 설치 및 근로자 안전대 착용"},null,"하",null,null,null,null,null,null,null,"선택안함",0,{"$f":"IF(MAX('3-3 위험성평가'!$A$4:$A$470)+1>E15,VLOOKUP(E15,'3-3 위험성평가'!$A$5:$Q$470,17,0),\"\")","v":"개구부 보호 장치 설치 및 안전교육 시행"},"선택",{"$f":"표지!$D$33","v":"시원건설"},{"$f":"표지!$E$34","v":"김길동4"},"선택안함",0]
["T31",3,"S40",4,8,{"$f":"IF(MAX('3-3 위험성평가'!$A$4:$A$470)+1>E16,VLOOKUP(E16,'3-3 위험성평가'!$A$5:$P$470,2,0),\"\")","v":2},{"$f":"IF(F16=\"\",\"\",VLOOKUP(VALUE(F16),'1-1 사업장 공정 정보'!$D$15:$P$32,5,0))","v":"거푸집 작업"},{"$f":"IF(MAX('3-3 위험성평가'!$A$4:$A$470)+1>E16,VLOOKUP(E16,'3-3 위험성평가'!$A$5:$P$470,3,0),\"\")","v":"1. 기계(설비)적 요인"},{"$f":"IF(MAX('3-3 위험성평가'!$A$4:$A$470)+1>E16,VLOOKUP(E16,'3-3 위험성평가'!$A$5:$P$470,4,0),\"\")","v":"1.6 추락위험 부분(개구부 등)"},{"$f":"IF(MAX('3-3 위험성평가'!$A$4:$A$470)+1>E16,VLOOKUP(E16,'3-3 위험성평가'!$A$5:$P$470,5,0),\"\")","v":"높은 장소에서 거푸집 해체 시 작업발판 미설치하고 작업 중 추락"},{"$f":"IF(MAX('3-3 위험성평가'!$A$4:$A$470)+1>E16,VLOOKUP(E16,'3-3 위험성평가'!$A$5:$P$470,6,0),\"\")","v":"산업안전보건기준에 관한 규칙 제336조 (조립 등 작업 시의 준수사항)"},{"$f":"IF(MAX('3-3 위험성평가'!$A$4:$A$470)+1>E16,VLOOKUP(E16,'3-3 위험성평가'!$A$5:$P$470,9,0),\"\")","v":"중"},{"$f":"IF(MAX('3-3 위험성평가'!$A$4:$A$536)+1>E16,VLOOKUP(E16,'3-3 위험성평가'!$A$5:$P$536,12,0),\"\")&IF(L16>\"\",\".\"&E16,\"\")","v":"2-1.6.8"},{"$f":"IF(MAX('3-3 위험성평가'!$A$4:$A$470)+1>E16,VLOOKUP(E16,'3-3 위험성평가'!$A$5:$P$470,13,0),\"\")","v":"1. 관계 근로자 외 출입 금지\n2. 날씨가 몹시 나쁜 경우 작업 중지\n3. 재료, 기구 또는 공구를 올리거나 내릴 때 달줄·달포대 사용\n4. 버팀목 설치 및 거푸집 동바리 등을 인양 장비에 매단 후 작업\n5. 양중기로 철근 운반 시 두 군데 이상 묶어서 수평으로 운반\n6. 작업 위치가 높이 2m 이상일 경우 작업발판 설치 또는 안전대 착용"},null,"하",null,null,null,null,null,null,null,1,1,{"$f":"IF(MAX('3-3 위험성평가'!$A$4:$A$470)+1>E16,VLOOKUP(E16,'3-3 위험성평가'!$A$5:$Q$470,17,0),\"\")","v":"거푸집 해체 작업 전 작업발판 설치 및 안전대 착용 의무화"},"선택",{"$f":"표지!$D$33","v":"시원건설"},{"$f":"표지!$E$34","v":"김길동4"},"선택안함",0]
["T30",3,"S40",4,9,{"$f":"IF(MAX('3-3 위험성평가'!$A$4:$A$470)+1>E17,VLOOKUP(E17,'3-3 위험성평가'!$A$5:$P$470,2,0),\"\")","v":3},{"$f":"IF(F17=\"\",\"\",VLOOKUP(VALUE(F17),'1-1 사업장 공정 정보'!$D$15:$P$32,5,0))","v":"철근 작업"},{"$f":"IF(MAX('3-3 위험성평가'!$A$4:$A$470)+1>E17,VLOOKUP(E17,'3-3 위험성평가'!$A$5:$P$470,3,0),\"\")","v":"전기적 요인"},{"$f":"IF(MAX('3-3 위험성평가'!$A$4:$A$470)+1>E17,VLOOKUP(E17,'3-3 위험성평가'!$A$5:$P$470,4,0),\"\")","v":"2.1 감전(안전전압초과)"},{"$f":"IF(MAX('3-3 위험성평가'!$A$4:$A$470)+1>E17,VLOOKUP(E17,'3-3 위험성평가'!$A$5:$P$470,5,0),\"\")","v":"철근 가공기로 철근 절단, 절곡 작업 중 감전"},{"$f":"IF(MAX('3-3 위험성평가'!$A$4:$A$470)+1>E17,VLOOKUP(E17,'3-3 위험성평가'!$A$5:$P$470,6,0),\"\")","v":"안전보건규칙 제302조 [전기 기계 · 기구의 접지]"},{"$f":"IF(MAX('3-3 위험성평가'!$A$4:$A$470)+1>E17,VLOOKUP(E17,'3-3 위험성평가'!$A$5:$P$470,9,0),\"\")","v":"중"},{"$f":"IF(MAX('3-3 위험성평가'!$A$4:$A$536)+1>E17,VLOOKUP(E17,'3-3 위험성평가'!$A$5:$P$536,12,0),\"\")&IF(L17>\"\",\".\"&E17,\"\")","v":"3-2.1.9"},{"$f":"IF(MAX('3-3 위험성평가'!$A$4:$A$470)+1>E17,VLOOKUP(E17,'3-3 위험성평가'!$A$5:$P$470,13,0),\"\")","v":"1. 전기 기계 · 기구의 금속제 외함 및 금속제 외피 접지 2. 이중 절연 구조 적용 3. 작업 전 절연 상태 점검"},null,"하",null,null,null,null,null,null,null,"선택안함",0,{"$f":"IF(MAX('3-3 위험성평가'!$A$4:$A$470)+1>E17,VLOOKUP(E17,'3-3 위험성평가'!$A$5:$Q$470,17,0),\"\")","v":"(사전준비) 철근 가공기 사용 전 절연 상태를 점검하고, 접지 여부를 확인한 후 작업을 수행한다."},"선택",{"$f":"표지!$D$33","v":"시원건설"},{"$f":"표지!$E$34","v":"김길동4"},"선택안함",0]
["T41",4,"S40",4,10,{"$f":"IF(MAX('3-3 위험성평가'!$A$4:$A$470)+1>E18,VLOOKUP(E18,'3-3 위험성평가'!$A$5:$P$470,2,0),\"\")","v":3},{"$f":"IF(F18=\"\",\"\",VLOOKUP(VALUE(F18),'1-1 사업장 공정 정보'!$D$15:$P$32,5,0))","v":"철근 작업"},{"$f":"IF(MAX('3-3 위험성평가'!$A$4:$A$470)+1>E18,VLOOKUP(E18,'3-3 위험성평가'!$A$5:$P$470,3,0),\"\")","v":"기계(설비)적 요인"},{"$f":"IF(MAX('3-3 위험성평가'!$A$4:$A$470)+1>E18,VLOOKUP(E18,'3-3 위험성평가'!$A$5:$P$470,4,0),\"\")","v":"1.6 추락위험 부분(개구부 등)"},{"$f":"IF(MAX('3-3 위험성평가'!$A$4:$A$470)+1>E18,VLOOKUP(E18,'3-3 위험성평가'!$A$5:$P$470,5,0),\"\")","v":"근로자가 안전모 등 개인보호구 미착용에 의한 충돌, 추락"},{"$f":"IF(MAX('3-3 위험성평가'!$A$4:$A$470)+1>E18,VLOOKUP(E18,'3-3 위험성평가'!$A$5:$P$470,6,0),\"\")","v":"안전보건규칙 제32조 [보호구의 지급 등]"},{"$f":"IF(MAX('3-3 위험성평가'!$A$4:$A$470)+1>E18,VLOOKUP(E18,'3-3 위험성평가'!$A$5:$P$470,9,0),\"\")","v":"상"},{"$f":"IF(MAX('3-3 위험성평가'!$A$4:$A$536)+1>E18,VLOOKUP(E18,'3-3 위험성평가'!$A$5:$P$536,12,0),\"\")&IF(L18>\"\",\".\"&E18,\"\")","v":"3-1.6.10"},{"$f":"IF(MAX('3-3 위험성평가'!$A$4:$A$470)+1>E18,VLOOKUP(E18,'3-3 위험성평가'!$A$5:$P$470,13,0),\"\")","v":"1. 보호구(안전모, 안전대, 안전화 등) 지급 2. 보호구 착용 의무화 및 미착용 시 작업 금지 3. 보호구 착용 여부 사전 점검"},null,"하",null,null,null,null,null,null,null,1,1,{"$f":"IF(MAX('3-3 위험성평가'!$A$4:$A$470)+1>E18,VLOOKUP(E18,'3-3 위험성평가'!$A$5:$Q$470,17,0),\"\")","v":"(사전준비) 작업 시작 전 근로자의 보호구 착용 여부를 관리자가 점검하고, 미착용자는 작업에서 제외한다."},"선택",{"$f":"표지!$D$33","v":"시원건설"},{"$f":"표지!$E$34","v":"김길동4"},"선택안함",0]
["T40",4,"S40",4,11,{"$f":"IF(MAX('3-3 위험성평가'!$A$4:$A$470)+1>E19,VLOOKUP(E19,'3-3 위험성평가'!$A$5:$P$470,2,0),\"\")","v":"4"},{"$f":"IF(F19=\"\",\"\",VLOOKUP(VALUE(F19),'1-1 사업장 공정 정보'!$D$15:$P$32,5,0))","v":"콘크리트 타설"},{"$f":"IF(MAX('3-3 위험성평가'!$A$4:$A$470)+1>E19,VLOOKUP(E19,'3-3 위험성평가'!$A$5:$P$470,3,0),\"\")","v":"기계(설비)적 요인"},{"$f":"IF(MAX('3-3 위험성평가'!$A$4:$A$470)+1>E19,VLOOKUP(E19,'3-3 위험성평가'!$A$5:$P$470,4,0),\"\")","v":"1.3 기계(설비)의 낙하, 비래, 전복, 붕괴, 전도위험 부분"},{"$f":"IF(MAX('3-3 위험성평가'!$A$4:$A$470)+1>E19,VLOOKUP(E19,'3-3 위험성평가'!$A$5:$P$470,5,0),\"\")","v":"콘크리트 펌프카 붐 파손으로 인한 타설 중 붐 낙하"},{"$f":"IF(MAX('3-3 위험성평가'!$A$4:$A$470)+1>E19,VLOOKUP(E19,'3-3 위험성평가'!$A$5:$P$470,6,0),\"\")","v":"안전보건규칙 제335조 [콘크리트 펌프 등 사용 시 주의사항]"},{"$f":"IF(MAX('3-3 위험성평가'!$A$4:$A$470)+1>E19,VLOOKUP(E19,'3-3 위험성평가'!$A$5:$P$470,9,0),\"\")","v":"중"},{"$f":"IF(MAX('3-3 위험성평가'!$A$4:$A$536)+1>E19,VLOOKUP(E19,'3-3 위험성평가'!$A$5:$P$536,12,0),\"\")&IF(L19>\"\",\".\"&E19,\"\")","v":"4-1.3.11"},{"$f":"IF(MAX('3-3 위험성평가'!$A$4:$A$470)+1>E19,VLOOKUP(E19,'3-3 위험성평가'!$A$5:$P$470,13,0),\"\")","v":"펌프카 붐 및 호스 점검, 붐 고정 및 운전 전 작업자 교육"},null,"하",null,null,null,null,null,null,null,"선택안함",0,{"$f":"IF(MAX('3-3 위험성평가'!$A$4:$A$470)+1>E19,VLOOKUP(E19,'3-3 위험성평가'!$A$5:$Q$470,17,0),\"\")","v":"붐 점검 후 안전교육 및 작업자 배치 협의"},"선택",{"$f":"표지!$D$33","v":"시원건설"},{"$f":"표지!$E$34","v":"김길동4"},"선택안함",0]
["T40",4,"S40",4,12,{"$f":"IF(MAX('3-3 위험성평가'!$A$4:$A$470)+1>E20,VLOOKUP(E20,'3-3 위험성평가'!$A$5:$P$470,2,0),\"\")","v":"4"},{"$f":"IF(F20=\"\",\"\",VLOOKUP(VALUE(F20),'1-1 사업장 공정 정보'!$D$15:$P$32,5,0))","v":"콘크리트 타설"},{"$f":"IF(MAX('3-3 위험성평가'!$A$4:$A$470)+1>E20,VLOOKUP(E20,'3-3 위험성평가'!$A$5:$P$470,3,0),\"\")","v":"기계(설비)적 요인"},{"$f":"IF(MAX('3-3 위험성평가'!$A$4:$A$470)+1>E20,VLOOKUP(E20,'3-3 위험성평가'!$A$5:$P$470,4,0),\"\")","v":"1.4 충돌위험 부분"},{"$f":"IF(MAX('3-3 위험성평가'!$A$4:$A$470)+1>E20,VLOOKUP(E20,'3-3 위험성평가'!$A$5:$P$470,5,0),\"\")","v":"콘크리트 호스와 파이프 연결부 미비로 인한 파손 사고"},{"$f":"IF(MAX('3-3 위험성평가'!$A$4:$A$470)+1>E20,VLOOKUP(E20,'3-3 위험성평가'!$A$5:$P$470,6,0),\"\")","v":"-"},{"$f":"IF(MAX('3-3 위험성평가'!$A$4:$A$470)+1>E20,VLOOKUP(E20,'3-3 위험성평가'!$A$5:$P$470,9,0),\"\")","v":"중"},{"$f":"IF(MAX('3-3 위험성평가'!$A$4:$A$536)+1>E20,VLOOKUP(E20,'3-3 위험성평가'!$A$5:$P$536,12,0),\"\")&IF(L20>\"\",\".\"&E20,\"\")","v":"4-1.4.12"},{"$f":"IF(MAX('3-3 위험성평가'!$A$4:$A$470)+1>E20,VLOOKUP(E20,'3-3 위험성평가'!$A$5:$P$470,13,0),\"\")","v":"연결부 고정장치 설치, 작업 전 연결 상태 점검\n등 실시 내용 현장에서 직접 확인한다"},null,"하",null,null,null,null,null,null,null,"선택안함",0,{"$f":"IF(MAX('3-3 위험성평가'!$A$4:$A$470)+1>E20,VLOOKUP(E20,'3-3 위험성평가'!$A$5:$Q$470,17,0),\"\")","v":"호스 연결 시 고정장치 확인 및 점검 협의"},"선택",{"$f":"표지!$D$33","v":"시원건설"},{"$f":"표지!$E$34","v":"김길동4"},"선택안함",0]
["T40",4,"S40",4,13,{"$f":"IF(MAX('3-3 위험성평가'!$A$4:$A$470)+1>E21,VLOOKUP(E21,'3-3 위험성평가'!$A$5:$P$470,2,0),\"\")","v":"4"},{"$f":"IF(F21=\"\",\"\",VLOOKUP(VALUE(F21),'1-1 사업장 공정 정보'!$D$15:$P$32,5,0))","v":"콘크리트 타설"},{"$f":"IF(MAX('3-3 위험성평가'!$A$4:$A$470)+1>E21,VLOOKUP(E21,'3-3 위험성평가'!$A$5:$P$470,3,0),\"\")","v":"기계(설비)적 요인"},{"$f":"IF(MAX('3-3 위험성평가'!$A$4:$A$470)+1>E21,VLOOKUP(E21,'3-3 위험성평가'!$A$5:$P$470,4,0),\"\")","v":"1.6 추락위험 부분(개구부 등)"},{"$f":"IF(MAX('3-3 위험성평가'!$A$4:$A$470)+1>E21,VLOOKUP(E21,'3-3 위험성평가'!$A$5:$P$470,5,0),\"\")","v":"타설 작업 중 개구부 주변에서의 추락 위험"},{"$f":"IF(MAX('3-3 위험성평가'!$A$4:$A$470)+1>E21,VLOOKUP(E21,'3-3 위험성평가'!$A$5:$P$470,6,0),\"\")","v":"안전보건규칙 제43조 [개구부 등 보호조치]"},{"$f":"IF(MAX('3-3 위험성평가'!$A$4:$A$470)+1>E21,VLOOKUP(E21,'3-3 위험성평가'!$A$5:$P$470,9,0),\"\")","v":"중"},{"$f":"IF(MAX('3-3 위험성평가'!$A$4:$A$536)+1>E21,VLOOKUP(E21,'3-3 위험성평가'!$A$5:$P$536,12,0),\"\")&IF(L21>\"\",\".\"&E21,\"\")","v":"4-1.6.13"},{"$f":"IF(MAX('3-3 위험성평가'!$A$4:$A$470)+1>E21,VLOOKUP(E21,'3-3 위험성평가'!$A$5:$P$470,13,0),\"\")","v":"안전난간 설치, 개구부에 덮개 설치 및 출입금지구역 설정"},null,"하",null,null,null,null,null,null,null,"선택안함",0,{"$f":"IF(MAX('3-3 위험성평가'!$A$4:$A$470)+1>E21,VLOOKUP(E21,'3-3 위험성평가'!$A$5:$Q$470,17,0),\"\")","v":"개구부 주변 작업 시 안전난간 및 덮개 설치 협의"},"선택",{"$f":"표지!$D$33","v":"시원건설"},{"$f":"표지!$E$34","v":"김길동4"},"선택안함",0]
["T40",4,"S40",4,14,{"$f":"IF(MAX('3-3 위험성평가'!$A$4:$A$470)+1>E22,VLOOKUP(E22,'3-3 위험성평가'!$A$5:$P$470,2,0),\"\")","v":"4"},{"$f":"IF(F22=\"\",\"\",VLOOKUP(VALUE(F22),'1-1 사업장 공정 정보'!$D$15:$P$32,5,0))","v":"콘크리트 타설"},{"$f":"IF(MAX('3-3 위험성평가'!$A$4:$A$470)+1>E22,VLOOKUP(E22,'3-3 위험성평가'!$A$5:$P$470,3,0),\"\")","v":"기계(설비)적 요인"},{"$f":"IF(MAX('3-3 위험성평가'!$A$4:$A$470)+1>E22,VLOOKUP(E22,'3-3 위험성평가'!$A$5:$P$470,4,0),\"\")","v":"1.6 추락위험 부분(개구부 등)"},{"$f":"IF(MAX('3-3 위험성평가'!$A$4:$A$470)+1>E22,VLOOKUP(E22,'3-3 위험성평가'!$A$5:$P$470,5,0),\"\")","v":"콘크리트 양생장소 주변 계단 및 작업 플랫폼에서의 추락 위험"},{"$f":"IF(MAX('3-3 위험성평가'!$A$4:$A$470)+1>E22,VLOOKUP(E22,'3-3 위험성평가'!$A$5:$P$470,6,0),\"\")","v":"안전보건규칙 제43조 [개구부 등의 보호조치]"},{"$f":"IF(MAX('3-3 위험성평가'!$A$4:$A$470)+1>E22,VLOOKUP(E22,'3-3 위험성평가'!$A$5:$P$470,9,0),\"\")","v":"중"},{"$f":"IF(MAX('3-3 위험성평가'!$A$4:$A$536)+1>E22,VLOOKUP(E22,'3-3 위험성평가'!$A$5:$P$536,12,0),\"\")&IF(L22>\"\",\".\"&E22,\"\")","v":"4-1.6.14"},{"$f":"IF(MAX('3-3 위험성평가'!$A$4:$A$470)+1>E22,VLOOKUP(E22,'3-3 위험성평가'!$A$5:$P$470,13,0),\"\")","v":"작업 전 안전난간 설치 및 개구부 보호덮개 설치, 출입금지구역 설정"},null,"하",null,null,null,null,null,null,null,"선택안함",0,{"$f":"IF(MAX('3-3 위험성평가'!$A$4:$A$470)+1>E22,VLOOKUP(E22,'3-3 위험성평가'!$A$5:$Q$470,17,0),\"\")","v":"양생작업 전 계단 및 개구부 보호조치 협의"},"선택",{"$f":"표지!$D$33","v":"시원건설"},{"$f":"표지!$E$34","v":"김길동4"},"선택안함",0]
["T40",4,"S40",4,15,{"$f":"IF(MAX('3-3 위험성평가'!$A$4:$A$470)+1>E23,VLOOKUP(E23,'3-3 위험성평가'!$A$5:$P$470,2,0),\"\")","v":"4"},{"$f":"IF(F23=\"\",\"\",VLOOKUP(VALUE(F23),'1-1 사업장 공정 정보'!$D$15:$P$32,5,0))","v":"콘크리트 타설"},{"$f":"IF(MAX('3-3 위험성평가'!$A$4:$A$470)+1>E23,VLOOKUP(E23,'3-3 위험성평가'!$A$5:$P$470,3,0),\"\")","v":"기계(설비)적 요인"},{"$f":"IF(MAX('3-3 위험성평가'!$A$4:$A$470)+1>E23,VLOOKUP(E23,'3-3 위험성평가'!$A$5:$P$470,4,0),\"\")","v":"3.8 화재 / 폭발 위험"},{"$f":"IF(MAX('3-3 위험성평가'!$A$4:$A$470)+1>E23,VLOOKUP(E23,'3-3 위험성평가'!$A$5:$P$470,5,0),\"\")","v":"양생작업에 사용되는 가열기 및 열풍기 사용 중 발생하는 화재 위험"},{"$f":"IF(MAX('3-3 위험성평가'!$A$4:$A$470)+1>E23,VLOOKUP(E23,'3-3 위험성평가'!$A$5:$P$470,6,0),\"\")","v":"안전보건규칙 제50조 [고온작업에서의 화재 예방]"},{"$f":"IF(MAX('3-3 위험성평가'!$A$4:$A$470)+1>E23,VLOOKUP(E23,'3-3 위험성평가'!$A$5:$P$470,9,0),\"\")","v":"중"},{"$f":"IF(MAX('3-3 위험성평가'!$A$4:$A$536)+1>E23,VLOOKUP(E23,'3-3 위험성평가'!$A$5:$P$536,12,0),\"\")&IF(L23>\"\",\".\"&E23,\"\")","v":"4-3.8.15"},{"$f":"IF(MAX('3-3 위험성평가'!$A$4:$A$470)+1>E23,VLOOKUP(E23,'3-3 위험성평가'!$A$5:$P$470,13,0),\"\")","v":"가열기 및 열풍기 점검, 화재감지기 및 소화기 배치"},null,"하",null,null,null,null,null,null,null,"선택안함",0,{"$f":"IF(MAX('3-3 위험성평가'!$A$4:$A$470)+1>E23,VLOOKUP(E23,'3-3 위험성평가'!$A$5:$Q$470,17,0),\"\")","v":"가열기 및 열풍기 점검 후 화재 예방 조치 사항 협의"},"선택",{"$f":"표지!$D$33","v":"시원건설"},{"$f":"표지!$E$34","v":"김길동4"},"선택안함",0]
["T40",4,"S40",4,16,{"$f":"IF(MAX('3-3 위험성평가'!$A$4:$A$470)+1>E24,VLOOKUP(E24,'3-3 위험성평가'!$A$5:$P$470,2,0),\"\")","v":5},{"$f":"IF(F24=\"\",\"\",VLOOKUP(VALUE(F24),'1-1 사업장 공정 정보'!$D$15:$P$32,5,0))","v":"작업장 정리 및 자재 반출"},{"$f":"IF(MAX('3-3 위험성평가'!$A$4:$A$470)+1>E24,VLOOKUP(E24,'3-3 위험성평가'!$A$5:$P$470,3,0),\"\")","v":"1. 기계(설비)적 요인"},{"$f":"IF(MAX('3-3 위험성평가'!$A$4:$A$470)+1>E24,VLOOKUP(E24,'3-3 위험성평가'!$A$5:$P$470,4,0),\"\")","v":"1.2 위험한 표면(절단, 베임,긁힘)"},{"$f":"IF(MAX('3-3 위험성평가'!$A$4:$A$470)+1>E24,VLOOKUP(E24,'3-3 위험성평가'!$A$5:$P$470,5,0),\"\")","v":"개인보호구 미착용하고 작업 중 부딪히거나 찔림"},{"$f":"IF(MAX('3-3 위험성평가'!$A$4:$A$470)+1>E24,VLOOKUP(E24,'3-3 위험성평가'!$A$5:$P$470,6,0),\"\")","v":"산업안전보건기준에 관한 규칙 제32조 (보호구의 지급 등)"},{"$f":"IF(MAX('3-3 위험성평가'!$A$4:$A$470)+1>E24,VLOOKUP(E24,'3-3 위험성평가'!$A$5:$P$470,9,0),\"\")","v":"중"},{"$f":"IF(MAX('3-3 위험성평가'!$A$4:$A$536)+1>E24,VLOOKUP(E24,'3-3 위험성평가'!$A$5:$P$536,12,0),\"\")&IF(L24>\"\",\".\"&E24,\"\")","v":"5-1.2.16"},{"$f":"IF(MAX('3-3 위험성평가'!$A$4:$A$470)+1>E24,VLOOKUP(E24,'3-3 위험성평가'!$A$5:$P$470,13,0),\"\")","v":"1. 보호구(안전모, 안전대, 안전화 등) 지급 및 착용 의무화\n2. 보호구 착용 여부 점검 및 미착용 시 작업 중지"},null,"하",null,null,null,null,null,null,null,"선택안함",0,{"$f":"IF(MAX('3-3 위험성평가'!$A$4:$A$470)+1>E24,VLOOKUP(E24,'3-3 위험성평가'!$A$5:$Q$470,17,0),\"\")","v":"보호구 지급 및 착용 여부 철저 점검"},"선택",{"$f":"표지!$D$33","v":"시원건설"},{"$f":"표지!$E$34","v":"김길동4"},"선택안함",0]
["T40",4,"S40",4,17,{"$f":"IF(MAX('3-3 위험성평가'!$A$4:$A$470)+1>E25,VLOOKUP(E25,'3-3 위험성평가'!$A$5:$P$470,2,0),\"\")","v":""},{"$f":"IF(F25=\"\",\"\",VLOOKUP(VALUE(F25),'1-1 사업장 공정 정보'!$D$15:$P$32,5,0))","v":""},{"$f":"IF(MAX('3-3 위험성평가'!$A$4:$A$470)+1>E25,VLOOKUP(E25,'3-3 위험성평가'!$A$5:$P$470,3,0),\"\")","v":""},{"$f":"IF(MAX('3-3 위험성평가'!$A$4:$A$470)+1>E25,VLOOKUP(E25,'3-3 위험성평가'!$A$5:$P$470,4,0),\"\")","v":""},{"$f":"IF(MAX('3-3 위험성평가'!$A$4:$A$470)+1>E25,VLOOKUP(E25,'3-3 위험성평가'!$A$5:$P$470,5,0),\"\")","v":""},{"$f":"IF(MAX('3-3 위험성평가'!$A$4:$A$470)+1>E25,VLOOKUP(E25,'3-3 위험성평가'!$A$5:$P$470,6,0),\"\")","v":""},{"$f":"IF(MAX('3-3 위험성평가'!$A$4:$A$470)+1>E25,VLOOKUP(E25,'3-3 위험성평가'!$A$5:$P$470,9,0),\"\")","v":""},{"$f":"IF(MAX('3-3 위험성평가'!$A$4:$A$536)+1>E25,VLOOKUP(E25,'3-3 위험성평가'!$A$5:$P$536,12,0),\"\")&IF(L25>\"\",\".\"&E25,\"\")","v":""},{"$f":"IF(MAX('3-3 위험성평가'!$A$4:$A$470)+1>E25,VLOOKUP(E25,'3-3 위험성평가'!$A$5:$P$470,13,0),\"\")","v":""},null,"하",null,null,null,null,null,null,null,"선택안함",0,{"$f":"IF(MAX('3-3 위험성평가'!$A$4:$A$470)+1>E25,VLOOKUP(E25,'3-3 위험성평가'!$A$5:$Q$470,17,0),\"\")","v":""},"선택",{"$f":"표지!$D$33","v":"시원건설"},{"$f":"표지!$E$34","v":"김길동4"},"선택안함",0]
["T40",4,"S40",4,18,{"$f":"IF(MAX('3-3 위험성평가'!$A$4:$A$470)+1>E26,VLOOKUP(E26,'3-3 위험성평가'!$A$5:$P$470,2,0),\"\")","v":""},{"$f":"IF(F26=\"\",\"\",VLOOKUP(VALUE(F26),'1-1 사업장 공정 정보'!$D$15:$P$32,5,0))","v":""},{"$f":"IF(MAX('3-3 위험성평가'!$A$4:$A$470)+1>E26,VLOOKUP(E26,'3-3 위험성평가'!$A$5:$P$470,3,0),\"\")","v":""},{"$f":"IF(MAX('3-3 위험성평가'!$A$4:$A$470)+1>E26,VLOOKUP(E26,'3-3 위험성평가'!$A$5:$P$470,4,0),\"\")","v":""},{"$f":"IF(MAX('3-3 위험성평가'!$A$4:$A$470)+1>E26,VLOOKUP(E26,'3-3 위험성평가'!$A$5:$P$470,5,0),\"\")","v":""},{"$f":"IF(MAX('3-3 위험성평가'!$A$4:$A$470)+1>E26,VLOOKUP(E26,'3-3 위험성평가'!$A$5:$P$470,6,0),\"\")","v":""},{"$f":"IF(MAX('3-3 위험성평가'!$A$4:$A$470)+1>E26,VLOOKUP(E26,'3-3 위험성평가'!$A$5:$P$470,9,0),\"\")","v":""},{"$f":"IF(MAX('3-3 위험성평가'!$A$4:$A$536)+1>E26,VLOOKUP(E26,'3-3 위험성평가'!$A$5:$P$536,12,0),\"\")&IF(L26>\"\",\".\"&E26,\"\")","v":""},{"$f":"IF(MAX('3-3 위험성평가'!$A$4:$A$470)+1>E26,VLOOKUP(E26,'3-3 위험성평가'!$A$5:$P$470,13,0),\"\")","v":""},null,"하",null,null,null,null,null,null,null,"선택안함",0,{"$f":"IF(MAX('3-3 위험성평가'!$A$4:$A$470)+1>E26,VLOOKUP(E26,'3-3 위험성평가'!$A$5:$Q$470,17,0),\"\")","v":""},"선택",{"$f":"표지!$D$33","v":"시원건설"},{"$f":"표지!$E$34","v":"김길동4"},"선택안함",0]
["T40",4,"S40",4,19,{"$f":"IF(MAX('3-3 위험성평가'!$A$4:$A$470)+1>E27,VLOOKUP(E27,'3-3 위험성평가'!$A$5:$P$470,2,0),\"\")","v":""},{"$f":"IF(F27=\"\",\"\",VLOOKUP(VALUE(F27),'1-1 사업장 공정 정보'!$D$15:$P$32,5,0))","v":""},{"$f":"IF(MAX('3-3 위험성평가'!$A$4:$A$470)+1>E27,VLOOKUP(E27,'3-3 위험성평가'!$A$5:$P$470,3,0),\"\")","v":""},{"$f":"IF(MAX('3-3 위험성평가'!$A$4:$A$470)+1>E27,VLOOKUP(E27,'3-3 위험성평가'!$A$5:$P$470,4,0),\"\")","v":""},{"$f":"IF(MAX('3-3 위험성평가'!$A$4:$A$470)+1>E27,VLOOKUP(E27,'3-3 위험성평가'!$A$5:$P$470,5,0),\"\")","v":""},{"$f":"IF(MAX('3-3 위험성평가'!$A$4:$A$470)+1>E27,VLOOKUP(E27,'3-3 위험성평가'!$A$5:$P$470,6,0),\"\")","v":""},{"$f":"IF(MAX('3-3 위험성평가'!$A$4:$A$470)+1>E27,VLOOKUP(E27,'3-3 위험성평가'!$A$5:$P$470,9,0),\"\")","v":""},{"$f":"IF(MAX('3-3 위험성평가'!$A$4:$A$536)+1>E27,VLOOKUP(E27,'3-3 위험성평가'!$A$5:$P$536,12,0),\"\")&IF(L27>\"\",\".\"&E27,\"\")","v":""},{"$f":"IF(MAX('3-3 위험성평가'!$A$4:$A$470)+1>E27,VLOOKUP(E27,'3-3 위험성평가'!$A$5:$P$470,13,0),\"\")","v":""},null,"하",null,null,null,null,null,null,null,"선택안함",0,{"$f":"IF(MAX('3-3 위험성평가'!$A$4:$A$470)+1>E27,VLOOKUP(E27,'3-3 위험성평가'!$A$5:$Q$470,17,0),\"\")","v":""},"선택",{"$f":"표지!$D$33","v":"시원건설"},{"$f":"표지!$E$34","v":"김길동4"},"선택안함",0]
["T40",4,"S40",4,20,{"$f":"IF(MAX('3-3 위험성평가'!$A$4:$A$470)+1>E28,VLOOKUP(E28,'3-3 위험성평가'!$A$5:$P$470,2,0),\"\")","v":""},{"$f":"IF(F28=\"\",\"\",VLOOKUP(VALUE(F28),'1-1 사업장 공정 정보'!$D$15:$P$32,5,0))","v":""},{"$f":"IF(MAX('3-3 위험성평가'!$A$4:$A$470)+1>E28,VLOOKUP(E28,'3-3 위험성평가'!$A$5:$P$470,3,0),\"\")","v":""},{"$f":"IF(MAX('3-3 위험성평가'!$A$4:$A$470)+1>E28,VLOOKUP(E28,'3-3 위험성평가'!$A$5:$P$470,4,0),\"\")","v":""},{"$f":"IF(MAX('3-3 위험성평가'!$A$4:$A$470)+1>E28,VLOOKUP(E28,'3-3 위험성평가'!$A$5:$P$470,5,0),\"\")","v":""},{"$f":"IF(MAX('3-3 위험성평가'!$A$4:$A$470)+1>E28,VLOOKUP(E28,'3-3 위험성평가'!$A$5:$P$470,6,0),\"\")","v":""},{"$f":"IF(MAX('3-3 위험성평가'!$A$4:$A$470)+1>E28,VLOOKUP(E28,'3-3 위험성평가'!$A$5:$P$470,9,0),\"\")","v":""},{"$f":"IF(MAX('3-3 위험성평가'!$A$4:$A$536)+1>E28,VLOOKUP(E28,'3-3 위험성평가'!$A$5:$P$536,12,0),\"\")&IF(L28>\"\",\".\"&E28,\"\")","v":""},{"$f":"IF(MAX('3-3 위험성평가'!$A$4:$A$470)+1>E28,VLOOKUP(E28,'3-3 위험성평가'!$A$5:$P$470,13,0),\"\")","v":""},null,"하",null,null,null,null,null,null,null,"선택안함",0,{"$f":"IF(MAX('3-3 위험성평가'!$A$4:$A$470)+1>E28,VLOOKUP(E28,'3-3 위험성평가'!$A$5:$Q$470,17,0),\"\")","v":""},"선택",{"$f":"표지!$D$33","v":"시원건설"},{"$f":"표지!$E$34","v":"김길동4"},"선택안함",0]
["T40",4,"S40",4,21,{"$f":"IF(MAX('3-3 위험성평가'!$A$4:$A$470)+1>E29,VLOOKUP(E29,'3-3 위험성평가'!$A$5:$P$470,2,0),\"\")","v":""},{"$f":"IF(F29=\"\",\"\",VLOOKUP(VALUE(F29),'1-1 사업장 공정 정보'!$D$15:$P$32,5,0))","v":""},{"$f":"IF(MAX('3-3 위험성평가'!$A$4:$A$470)+1>E29,VLOOKUP(E29,'3-3 위험성평가'!$A$5:$P$470,3,0),\"\")","v":""},{"$f":"IF(MAX('3-3 위험성평가'!$A$4:$A$470)+1>E29,VLOOKUP(E29,'3-3 위험성평가'!$A$5:$P$470,4,0),\"\")","v":""},{"$f":"IF(MAX('3-3 위험성평가'!$A$4:$A$470)+1>E29,VLOOKUP(E29,'3-3 위험성평가'!$A$5:$P$470,5,0),\"\")","v":""},{"$f":"IF(MAX('3-3 위험성평가'!$A$4:$A$470)+1>E29,VLOOKUP(E29,'3-3 위험성평가'!$A$5:$P$470,6,0),\"\")","v":""},{"$f":"IF(MAX('3-3 위험성평가'!$A$4:$A$470)+1>E29,VLOOKUP(E29,'3-3 위험성평가'!$A$5:$P$470,9,0),\"\")","v":""},{"$f":"IF(MAX('3-3 위험성평가'!$A$4:$A$536)+1>E29,VLOOKUP(E29,'3-3 위험성평가'!$A$5:$P$536,12,0),\"\")&IF(L29>\"\",\".\"&E29,\"\")","v":""},{"$f":"IF(MAX('3-3 위험성평가'!$A$4:$A$470)+1>E29,VLOOKUP(E29,'3-3 위험성평가'!$A$5:$P$470,13,0),\"\")","v":""},null,"하",null,null,null,null,null,null,null,"선택안함",0,{"$f":"IF(MAX('3-3 위험성평가'!$A$4:$A$470)+1>E29,VLOOKUP(E29,'3-3 위험성평가'!$A$5:$Q$470,17,0),\"\")","v":""},"선택",{"$f":"표지!$D$33","v":"시원건설"},{"$f":"표지!$E$34","v":"김길동4"},"선택안함",0]
["T40",4,"S40",4,22,{"$f":"IF(MAX('3-3 위험성평가'!$A$4:$A$470)+1>E30,VLOOKUP(E30,'3-3 위험성평가'!$A$5:$P$470,2,0),\"\")","v":""},{"$f":"IF(F30=\"\",\"\",VLOOKUP(VALUE(F30),'1-1 사업장 공정 정보'!$D$15:$P$32,5,0))","v":""},{"$f":"IF(MAX('3-3 위험성평가'!$A$4:$A$470)+1>E30,VLOOKUP(E30,'3-3 위험성평가'!$A$5:$P$470,3,0),\"\")","v":""},{"$f":"IF(MAX('3-3 위험성평가'!$A$4:$A$470)+1>E30,VLOOKUP(E30,'3-3 위험성평가'!$A$5:$P$470,4,0),\"\")","v":""},{"$f":"IF(MAX('3-3 위험성평가'!$A$4:$A$470)+1>E30,VLOOKUP(E30,'3-3 위험성평가'!$A$5:$P$470,5,0),\"\")","v":""},{"$f":"IF(MAX('3-3 위험성평가'!$A$4:$A$470)+1>E30,VLOOKUP(E30,'3-3 위험성평가'!$A$5:$P$470,6,0),\"\")","v":""},{"$f":"IF(MAX('3-3 위험성평가'!$A$4:$A$470)+1>E30,VLOOKUP(E30,'3-3 위험성평가'!$A$5:$P$470,9,0),\"\")","v":""},{"$f":"IF(MAX('3-3 위험성평가'!$A$4:$A$536)+1>E30,VLOOKUP(E30,'3-3 위험성평가'!$A$5:$P$536,12,0),\"\")&IF(L30>\"\",\".\"&E30,\"\")","v":""},{"$f":"IF(MAX('3-3 위험성평가'!$A$4:$A$470)+1>E30,VLOOKUP(E30,'3-3 위험성평가'!$A$5:$P$470,13,0),\"\")","v":""},null,"하",null,null,null,null,null,null,null,"선택안함",0,{"$f":"IF(MAX('3-3 위험성평가'!$A$4:$A$470)+1>E30,VLOOKUP(E30,'3-3 위험성평가'!$A$5:$Q$470,17,0),\"\")","v":""},"선택",{"$f":"표지!$D$33","v":"시원건설"},{"$f":"표지!$E$34","v":"김길동4"},"선택안함",0]
["T40",4,"S40",4,23,{"$f":"IF(MAX('3-3 위험성평가'!$A$4:$A$470)+1>E31,VLOOKUP(E31,'3-3 위험성평가'!$A$5:$P$470,2,0),\"\")","v":""},{"$f":"IF(F31=\"\",\"\",VLOOKUP(VALUE(F31),'1-1 사업장 공정 정보'!$D$15:$P$32,5,0))","v":""},{"$f":"IF(MAX('3-3 위험성평가'!$A$4:$A$470)+1>E31,VLOOKUP(E31,'3-3 위험성평가'!$A$5:$P$470,3,0),\"\")","v":""},{"$f":"IF(MAX('3-3 위험성평가'!$A$4:$A$470)+1>E31,VLOOKUP(E31,'3-3 위험성평가'!$A$5:$P$470,4,0),\"\")","v":""},{"$f":"IF(MAX('3-3 위험성평가'!$A$4:$A$470)+1>E31,VLOOKUP(E31,'3-3 위험성평가'!$A$5:$P$470,5,0),\"\")","v":""},{"$f":"IF(MAX('3-3 위험성평가'!$A$4:$A$470)+1>E31,VLOOKUP(E31,'3-3 위험성평가'!$A$5:$P$470,6,0),\"\")","v":""},{"$f":"IF(MAX('3-3 위험성평가'!$A$4:$A$470)+1>E31,VLOOKUP(E31,'3-3 위험성평가'!$A$5:$P$470,9,0),\"\")","v":""},{"$f":"IF(MAX('3-3 위험성평가'!$A$4:$A$536)+1>E31,VLOOKUP(E31,'3-3 위험성평가'!$A$5:$P$536,12,0),\"\")&IF(L31>\"\",\".\"&E31,\"\")","v":""},{"$f":"IF(MAX('3-3 위험성평가'!$A$4:$A$470)+1>E31,VLOOKUP(E31,'3-3 위험성평가'!$A$5:$P$470,13,0),\"\")","v":""},null,"하",null,null,null,null,null,null,null,"선택안함",0,{"$f":"IF(MAX('3-3 위험성평가'!$A$4:$A$470)+1>E31,VLOOKUP(E31,'3-3 위험성평가'!$A$5:$Q$470,17,0),\"\")","v":""},"선택",{"$f":"표지!$D$33","v":"시원건설"},{"$f":"표지!$E$34","v":"김길동4"},"선택안함",0]
["T40",4,"S40",4,24,{"$f":"IF(MAX('3-3 위험성평가'!$A$4:$A$470)+1>E32,VLOOKUP(E32,'3-3 위험성평가'!$A$5:$P$470,2,0),\"\")","v":""},{"$f":"IF(F32=\"\",\"\",VLOOKUP(VALUE(F32),'1-1 사업장 공정 정보'!$D$15:$P$32,5,0))","v":""},{"$f":"IF(MAX('3-3 위험성평가'!$A$4:$A$470)+1>E32,VLOOKUP(E32,'3-3 위험성평가'!$A$5:$P$470,3,0),\"\")","v":""},{"$f":"IF(MAX('3-3 위험성평가'!$A$4:$A$470)+1>E32,VLOOKUP(E32,'3-3 위험성평가'!$A$5:$P$470,4,0),\"\")","v":""},{"$f":"IF(MAX('3-3 위험성평가'!$A$4:$A$470)+1>E32,VLOOKUP(E32,'3-3 위험성평가'!$A$5:$P$470,5,0),\"\")","v":""},{"$f":"IF(MAX('3-3 위험성평가'!$A$4:$A$470)+1>E32,VLOOKUP(E32,'3-3 위험성평가'!$A$5:$P$470,6,0),\"\")","v":""},{"$f":"IF(MAX('3-3 위험성평가'!$A$4:$A$470)+1>E32,VLOOKUP(E32,'3-3 위험성평가'!$A$5:$P$470,9,0),\"\")","v":""},{"$f":"IF(MAX('3-3 위험성평가'!$A$4:$A$536)+1>E32,VLOOKUP(E32,'3-3 위험성평가'!$A$5:$P$536,12,0),\"\")&IF(L32>\"\",\".\"&E32,\"\")","v":""},{"$f":"IF(MAX('3-3 위험성평가'!$A$4:$A$470)+1>E32,VLOOKUP(E32,'3-3 위험성평가'!$A$5:$P$470,13,0),\"\")","v":""},null,"하",null,null,null,null,null,null,null,"선택안함",0,{"$f":"IF(MAX('3-3 위험성평가'!$A$4:$A$470)+1>E32,VLOOKUP(E32,'3-3 위험성평가'!$A$5:$Q$470,17,0),\"\")","v":""},"선택",{"$f":"표지!$D$33","v":"시원건설"},{"$f":"표지!$E$34","v":"김길동4"},"선택안함",0]
["T40",4,"S40",4,25,{"$f":"IF(MAX('3-3 위험성평가'!$A$4:$A$470)+1>E33,VLOOKUP(E33,'3-3 위험성평가'!$A$5:$P$470,2,0),\"\")","v":""},{"$f":"IF(F33=\"\",\"\",VLOOKUP(VALUE(F33),'1-1 사업장 공정 정보'!$D$15:$P$32,5,0))","v":""},{"$f":"IF(MAX('3-3 위험성평가'!$A$4:$A$470)+1>E33,VLOOKUP(E33,'3-3 위험성평가'!$A$5:$P$470,3,0),\"\")","v":""},{"$f":"IF(MAX('3-3 위험성평가'!$A$4:$A$470)+1>E33,VLOOKUP(E33,'3-3 위험성평가'!$A$5:$P$470,4,0),\"\")","v":""},{"$f":"IF(MAX('3-3 위험성평가'!$A$4:$A$470)+1>E33,VLOOKUP(E33,'3-3 위험성평가'!$A$5:$P$470,5,0),\"\")","v":""},{"$f":"IF(MAX('3-3 위험성평가'!$A$4:$A$470)+1>E33,VLOOKUP(E33,'3-3 위험성평가'!$A$5:$P$470,6,0),\"\")","v":""},{"$f":"IF(MAX('3-3 위험성평가'!$A$4:$A$470)+1>E33,VLOOKUP(E33,'3-3 위험성평가'!$A$5:$P$470,9,0),\"\")","v":""},{"$f":"IF(MAX('3-3 위험성평가'!$A$4:$A$536)+1>E33,VLOOKUP(E33,'3-3 위험성평가'!$A$5:$P$536,12,0),\"\")&IF(L33>\"\",\".\"&E33,\"\")","v":""},{"$f":"IF(MAX('3-3 위험성평가'!$A$4:$A$470)+1>E33,VLOOKUP(E33,'3-3 위험성평가'!$A$5:$P$470,13,0),\"\")","v":""},null,"하",null,null,null,null,null,null,null,"선택안함",0,{"$f":"IF(MAX('3-3 위험성평가'!$A$4:$A$470)+1>E33,VLOOKUP(E33,'3-3 위험성평가'!$A$5:$Q$470,17,0),\"\")","v":""},"선택",{"$f":"표지!$D$33","v":"시원건설"},{"$f":"표지!$E$34","v":"김길동4"},"선택안함",0]
["T40",4,"S40",4,26,{"$f":"IF(MAX('3-3 위험성평가'!$A$4:$A$470)+1>E34,VLOOKUP(E34,'3-3 위험성평가'!$A$5:$P$470,2,0),\"\")","v":""},{"$f":"IF(F34=\"\",\"\",VLOOKUP(VALUE(F34),'1-1 사업장 공정 정보'!$D$15:$P$32,5,0))","v":""},{"$f":"IF(MAX('3-3 위험성평가'!$A$4:$A$470)+1>E34,VLOOKUP(E34,'3-3 위험성평가'!$A$5:$P$470,3,0),\"\")","v":""},{"$f":"IF(MAX('3-3 위험성평가'!$A$4:$A$470)+1>E34,VLOOKUP(E34,'3-3 위험성평가'!$A$5:$P$470,4,0),\"\")","v":""},{"$f":"IF(MAX('3-3 위험성평가'!$A$4:$A$470)+1>E34,VLOOKUP(E34,'3-3 위험성평가'!$A$5:$P$470,5,0),\"\")","v":""},{"$f":"IF(MAX('3-3 위험성평가'!$A$4:$A$470)+1>E34,VLOOKUP(E34,'3-3 위험성평가'!$A$5:$P$470,6,0),\"\")","v":""},{"$f":"IF(MAX('3-3 위험성평가'!$A$4:$A$470)+1>E34,VLOOKUP(E34,'3-3 위험성평가'!$A$5:$P$470,9,0),\"\")","v":""},{"$f":"IF(MAX('3-3 위험성평가'!$A$4:$A$536)+1>E34,VLOOKUP(E34,'3-3 위험성평가'!$A$5:$P$536,12,0),\"\")&IF(L34>\"\",\".\"&E34,\"\")","v":""},{"$f":"IF(MAX('3-3 위험성평가'!$A$4:$A$470)+1>E34,VLOOKUP(E34,'3-3 위험성평가'!$A$5:$P$470,13,0),\"\")","v":""},null,"하",null,null,null,null,null,null,null,"선택안함",0,{"$f":"IF(MAX('3-3 위험성평가'!$A$4:$A$470)+1>E34,VLOOKUP(E34,'3-3 위험성평가'!$A$5:$Q$470,17,0),\"\")","v":""},"선택",{"$f":"표지!$D$33","v":"시원건설"},{"$f":"표지!$E$34","v":"김길동4"},"선택안함",0]
["T40",4,"S40",4,27,{"$f":"IF(MAX('3-3 위험성평가'!$A$4:$A$470)+1>E35,VLOOKUP(E35,'3-3 위험성평가'!$A$5:$P$470,2,0),\"\")","v":""},{"$f":"IF(F35=\"\",\"\",VLOOKUP(VALUE(F35),'1-1 사업장 공정 정보'!$D$15:$P$32,5,0))","v":""},{"$f":"IF(MAX('3-3 위험성평가'!$A$4:$A$470)+1>E35,VLOOKUP(E35,'3-3 위험성평가'!$A$5:$P$470,3,0),\"\")","v":""},{"$f":"IF(MAX('3-3 위험성평가'!$A$4:$A$470)+1>E35,VLOOKUP(E35,'3-3 위험성평가'!$A$5:$P$470,4,0),\"\")","v":""},{"$f":"IF(MAX('3-3 위험성평가'!$A$4:$A$470)+1>E35,VLOOKUP(E35,'3-3 위험성평가'!$A$5:$P$470,5,0),\"\")","v":""},{"$f":"IF(MAX('3-3 위험성평가'!$A$4:$A$470)+1>E35,VLOOKUP(E35,'3-3 위험성평가'!$A$5:$P$470,6,0),\"\")","v":""},{"$f":"IF(MAX('3-3 위험성평가'!$A$4:$A$470)+1>E35,VLOOKUP(E35,'3-3 위험성평가'!$A$5:$P$470,9,0),\"\")","v":""},{"$f":"IF(MAX('3-3 위험성평가'!$A$4:$A$536)+1>E35,VLOOKUP(E35,'3-3 위험성평가'!$A$5:$P$536,12,0),\"\")&IF(L35>\"\",\".\"&E35,\"\")","v":""},{"$f":"IF(MAX('3-3 위험성평가'!$A$4:$A$470)+1>E35,VLOOKUP(E35,'3-3 위험성평가'!$A$5:$P$470,13,0),\"\")","v":""},null,"하",null,null,null,null,null,null,null,"선택안함",0,{"$f":"IF(MAX('3-3 위험성평가'!$A$4:$A$470)+1>E35,VLOOKUP(E35,'3-3 위험성평가'!$A$5:$Q$470,17,0),\"\")","v":""},"선택",{"$f":"표지!$D$33","v":"시원건설"},{"$f":"표지!$E$34","v":"김길동4"},"선택안함",0]
["T40",4,"S40",4,28,{"$f":"IF(MAX('3-3 위험성평가'!$A$4:$A$470)+1>E36,VLOOKUP(E36,'3-3 위험성평가'!$A$5:$P$470,2,0),\"\")","v":""},{"$f":"IF(F36=\"\",\"\",VLOOKUP(VALUE(F36),'1-1 사업장 공정 정보'!$D$15:$P$32,5,0))","v":""},{"$f":"IF(MAX('3-3 위험성평가'!$A$4:$A$470)+1>E36,VLOOKUP(E36,'3-3 위험성평가'!$A$5:$P$470,3,0),\"\")","v":""},{"$f":"IF(MAX('3-3 위험성평가'!$A$4:$A$470)+1>E36,VLOOKUP(E36,'3-3 위험성평가'!$A$5:$P$470,4,0),\"\")","v":""},{"$f":"IF(MAX('3-3 위험성평가'!$A$4:$A$470)+1>E36,VLOOKUP(E36,'3-3 위험성평가'!$A$5:$P$470,5,0),\"\")","v":""},{"$f":"IF(MAX('3-3 위험성평가'!$A$4:$A$470)+1>E36,VLOOKUP(E36,'3-3 위험성평가'!$A$5:$P$470,6,0),\"\")","v":""},{"$f":"IF(MAX('3-3 위험성평가'!$A$4:$A$470)+1>E36,VLOOKUP(E36,'3-3 위험성평가'!$A$5:$P$470,9,0),\"\")","v":""},{"$f":"IF(MAX('3-3 위험성평가'!$A$4:$A$536)+1>E36,VLOOKUP(E36,'3-3 위험성평가'!$A$5:$P$536,12,0),\"\")&IF(L36>\"\",\".\"&E36,\"\")","v":""},{"$f":"IF(MAX('3-3 위험성평가'!$A$4:$A$470)+1>E36,VLOOKUP(E36,'3-3 위험성평가'!$A$5:$P$470,13,0),\"\")","v":""},null,"하",null,null,null,null,null,null,null,"선택안함",0,{"$f":"IF(MAX('3-3 위험성평가'!$A$4:$A$470)+1>E36,VLOOKUP(E36,'3-3 위험성평가'!$A$5:$Q$470,17,0),\"\")","v":""},"선택",{"$f":"표지!$D$33","v":"시원건설"},{"$f":"표지!$E$34","v":"김길동4"},"선택안함",0]
["T40",4,"S40",4,29,{"$f":"IF(MAX('3-3 위험성평가'!$A$4:$A$470)+1>E37,VLOOKUP(E37,'3-3 위험성평가'!$A$5:$P$470,2,0),\"\")","v":""},{"$f":"IF(F37=\"\",\"\",VLOOKUP(VALUE(F37),'1-1 사업장 공정 정보'!$D$15:$P$32,5,0))","v":""},{"$f":"IF(MAX('3-3 위험성평가'!$A$4:$A$470)+1>E37,VLOOKUP(E37,'3-3 위험성평가'!$A$5:$P$470,3,0),\"\")","v":""},{"$f":"IF(MAX('3-3 위험성평가'!$A$4:$A$470)+1>E37,VLOOKUP(E37,'3-3 위험성평가'!$A$5:$P$470,4,0),\"\")","v":""},{"$f":"IF(MAX('3-3 위험성평가'!$A$4:$A$470)+1>E37,VLOOKUP(E37,'3-3 위험성평가'!$A$5:$P$470,5,0),\"\")","v":""},{"$f":"IF(MAX('3-3 위험성평가'!$A$4:$A$470)+1>E37,VLOOKUP(E37,'3-3 위험성평가'!$A$5:$P$470,6,0),\"\")","v":""},{"$f":"IF(MAX('3-3 위험성평가'!$A$4:$A$470)+1>E37,VLOOKUP(E37,'3-3 위험성평가'!$A$5:$P$470,9,0),\"\")","v":""},{"$f":"IF(MAX('3-3 위험성평가'!$A$4:$A$536)+1>E37,VLOOKUP(E37,'3-3 위험성평가'!$A$5:$P$536,12,0),\"\")&IF(L37>\"\",\".\"&E37,\"\")","v":""},{"$f":"IF(MAX('3-3 위험성평가'!$A$4:$A$470)+1>E37,VLOOKUP(E37,'3-3 위험성평가'!$A$5:$P$470,13,0),\"\")","v":""},null,"하",null,null,null,null,null,null,null,"선택안함",0,{"$f":"IF(MAX('3-3 위험성평가'!$A$4:$A$470)+1>E37,VLOOKUP(E37,'3-3 위험성평가'!$A$5:$Q$470,17,0),\"\")","v":""},"선택",{"$f":"표지!$D$33","v":"시원건설"},{"$f":"표지!$E$34","v":"김길동4"},"선택안함",0]
["T40",4,"S40",4,30,{"$f":"IF(MAX('3-3 위험성평가'!$A$4:$A$470)+1>E38,VLOOKUP(E38,'3-3 위험성평가'!$A$5:$P$470,2,0),\"\")","v":""},{"$f":"IF(F38=\"\",\"\",VLOOKUP(VALUE(F38),'1-1 사업장 공정 정보'!$D$15:$P$32,5,0))","v":""},{"$f":"IF(MAX('3-3 위험성평가'!$A$4:$A$470)+1>E38,VLOOKUP(E38,'3-3 위험성평가'!$A$5:$P$470,3,0),\"\")","v":""},{"$f":"IF(MAX('3-3 위험성평가'!$A$4:$A$470)+1>E38,VLOOKUP(E38,'3-3 위험성평가'!$A$5:$P$470,4,0),\"\")","v":""},{"$f":"IF(MAX('3-3 위험성평가'!$A$4:$A$470)+1>E38,VLOOKUP(E38,'3-3 위험성평가'!$A$5:$P$470,5,0),\"\")","v":""},{"$f":"IF(MAX('3-3 위험성평가'!$A$4:$A$470)+1>E38,VLOOKUP(E38,'3-3 위험성평가'!$A$5:$P$470,6,0),\"\")","v":""},{"$f":"IF(MAX('3-3 위험성평가'!$A$4:$A$470)+1>E38,VLOOKUP(E38,'3-3 위험성평가'!$A$5:$P$470,9,0),\"\")","v":""},{"$f":"IF(MAX('3-3 위험성평가'!$A$4:$A$536)+1>E38,VLOOKUP(E38,'3-3 위험성평가'!$A$5:$P$536,12,0),\"\")&IF(L38>\"\",\".\"&E38,\"\")","v":""},{"$f":"IF(MAX('3-3 위험성평가'!$A$4:$A$470)+1>E38,VLOOKUP(E38,'3-3 위험성평가'!$A$5:$P$470,13,0),\"\")","v":""},null,"하",null,null,null,null,null,null,null,"선택안함",0,{"$f":"IF(MAX('3-3 위험성평가'!$A$4:$A$470)+1>E38,VLOOKUP(E38,'3-3 위험성평가'!$A$5:$Q$470,17,0),\"\")","v":""},"선택",{"$f":"표지!$D$33","v":"시원건설"},{"$f":"표지!$E$34","v":"김길동4"},"선택안함",0]
["T40",4,"S40",4,31,{"$f":"IF(MAX('3-3 위험성평가'!$A$4:$A$470)+1>E39,VLOOKUP(E39,'3-3 위험성평가'!$A$5:$P$470,2,0),\"\")","v":""},{"$f":"IF(F39=\"\",\"\",VLOOKUP(VALUE(F39),'1-1 사업장 공정 정보'!$D$15:$P$32,5,0))","v":""},{"$f":"IF(MAX('3-3 위험성평가'!$A$4:$A$470)+1>E39,VLOOKUP(E39,'3-3 위험성평가'!$A$5:$P$470,3,0),\"\")","v":""},{"$f":"IF(MAX('3-3 위험성평가'!$A$4:$A$470)+1>E39,VLOOKUP(E39,'3-3 위험성평가'!$A$5:$P$470,4,0),\"\")","v":""},{"$f":"IF(MAX('3-3 위험성평가'!$A$4:$A$470)+1>E39,VLOOKUP(E39,'3-3 위험성평가'!$A$5:$P$470,5,0),\"\")","v":""},{"$f":"IF(MAX('3-3 위험성평가'!$A$4:$A$470)+1>E39,VLOOKUP(E39,'3-3 위험성평가'!$A$5:$P$470,6,0),\"\")","v":""},{"$f":"IF(MAX('3-3 위험성평가'!$A$4:$A$470)+1>E39,VLOOKUP(E39,'3-3 위험성평가'!$A$5:$P$470,9,0),\"\")","v":""},{"$f":"IF(MAX('3-3 위험성평가'!$A$4:$A$536)+1>E39,VLOOKUP(E39,'3-3 위험성평가'!$A$5:$P$536,12,0),\"\")&IF(L39>\"\",\".\"&E39,\"\")","v":""},{"$f":"IF(MAX('3-3 위험성평가'!$A$4:$A$470)+1>E39,VLOOKUP(E39,'3-3 위험성평가'!$A$5:$P$470,13,0),\"\")","v":""},null,"하",null,null,null,null,null,null,null,"선택안함",0,{"$f":"IF(MAX('3-3 위험성평가'!$A$4:$A$470)+1>E39,VLOOKUP(E39,'3-3 위험성평가'!$A$5:$Q$470,17,0),\"\")","v":""},"선택",{"$f":"표지!$D$33","v":"시원건설"},{"$f":"표지!$E$34","v":"김길동4"},"선택안함",0]
["T40",4,"S40",4,32,{"$f":"IF(MAX('3-3 위험성평가'!$A$4:$A$470)+1>E40,VLOOKUP(E40,'3-3 위험성평가'!$A$5:$P$470,2,0),\"\")","v":""},{"$f":"IF(F40=\"\",\"\",VLOOKUP(VALUE(F40),'1-1 사업장 공정 정보'!$D$15:$P$32,5,0))","v":""},{"$f":"IF(MAX('3-3 위험성평가'!$A$4:$A$470)+1>E40,VLOOKUP(E40,'3-3 위험성평가'!$A$5:$P$470,3,0),\"\")","v":""},{"$f":"IF(MAX('3-3 위험성평가'!$A$4:$A$470)+1>E40,VLOOKUP(E40,'3-3 위험성평가'!$A$5:$P$470,4,0),\"\")","v":""},{"$f":"IF(MAX('3-3 위험성평가'!$A$4:$A$470)+1>E40,VLOOKUP(E40,'3-3 위험성평가'!$A$5:$P$470,5,0),\"\")","v":""},{"$f":"IF(MAX('3-3 위험성평가'!$A$4:$A$470)+1>E40,VLOOKUP(E40,'3-3 위험성평가'!$A$5:$P$470,6,0),\"\")","v":""},{"$f":"IF(MAX('3-3 위험성평가'!$A$4:$A$470)+1>E40,VLOOKUP(E40,'3-3 위험성평가'!$A$5:$P$470,9,0),\"\")","v":""},{"$f":"IF(MAX('3-3 위험성평가'!$A$4:$A$536)+1>E40,VLOOKUP(E40,'3-3 위험성평가'!$A$5:$P$536,12,0),\"\")&IF(L40>\"\",\".\"&E40,\"\")","v":""},{"$f":"IF(MAX('3-3 위험성평가'!$A$4:$A$470)+1>E40,VLOOKUP(E40,'3-3 위험성평가'!$A$5:$P$470,13,0),\"\")","v":""},null,"하",null,null,null,null,null,null,null,"선택안함",0,{"$f":"IF(MAX('3-3 위험성평가'!$A$4:$A$470)+1>E40,VLOOKUP(E40,'3-3 위험성평가'!$A$5:$Q$470,17,0),\"\")","v":""},"선택",{"$f":"표지!$D$33","v":"시원건설"},{"$f":"표지!$E$34","v":"김길동4"},"선택안함",0]
["T40",4,"S40",4,33,{"$f":"IF(MAX('3-3 위험성평가'!$A$4:$A$470)+1>E41,VLOOKUP(E41,'3-3 위험성평가'!$A$5:$P$470,2,0),\"\")","v":""},{"$f":"IF(F41=\"\",\"\",VLOOKUP(VALUE(F41),'1-1 사업장 공정 정보'!$D$15:$P$32,5,0))","v":""},{"$f":"IF(MAX('3-3 위험성평가'!$A$4:$A$470)+1>E41,VLOOKUP(E41,'3-3 위험성평가'!$A$5:$P$470,3,0),\"\")","v":""},{"$f":"IF(MAX('3-3 위험성평가'!$A$4:$A$470)+1>E41,VLOOKUP(E41,'3-3 위험성평가'!$A$5:$P$470,4,0),\"\")","v":""},{"$f":"IF(MAX('3-3 위험성평가'!$A$4:$A$470)+1>E41,VLOOKUP(E41,'3-3 위험성평가'!$A$5:$P$470,5,0),\"\")","v":""},{"$f":"IF(MAX('3-3 위험성평가'!$A$4:$A$470)+1>E41,VLOOKUP(E41,'3-3 위험성평가'!$A$5:$P$470,6,0),\"\")","v":""},{"$f":"IF(MAX('3-3 위험성평가'!$A$4:$A$470)+1>E41,VLOOKUP(E41,'3-3 위험성평가'!$A$5:$P$470,9,0),\"\")","v":""},{"$f":"IF(MAX('3-3 위험성평가'!$A$4:$A$536)+1>E41,VLOOKUP(E41,'3-3 위험성평가'!$A$5:$P$536,12,0),\"\")&IF(L41>\"\",\".\"&E41,\"\")","v":""},{"$f":"IF(MAX('3-3 위험성평가'!$A$4:$A$470)+1>E41,VLOOKUP(E41,'3-3 위험성평가'!$A$5:$P$470,13,0),\"\")","v":""},null,"하",null,null,null,null,null,null,null,"선택안함",0,{"$f":"IF(MAX('3-3 위험성평가'!$A$4:$A$470)+1>E41,VLOOKUP(E41,'3-3 위험성평가'!$A$5:$Q$470,17,0),\"\")","v":""},"선택",{"$f":"표지!$D$33","v":"시원건설"},{"$f":"표지!$E$34","v":"김길동4"},"선택안함",0]
["T40",4,"S40",4,34,{"$f":"IF(MAX('3-3 위험성평가'!$A$4:$A$470)+1>E42,VLOOKUP(E42,'3-3 위험성평가'!$A$5:$P$470,2,0),\"\")","v":""},{"$f":"IF(F42=\"\",\"\",VLOOKUP(VALUE(F42),'1-1 사업장 공정 정보'!$D$15:$P$32,5,0))","v":""},{"$f":"IF(MAX('3-3 위험성평가'!$A$4:$A$470)+1>E42,VLOOKUP(E42,'3-3 위험성평가'!$A$5:$P$470,3,0),\"\")","v":""},{"$f":"IF(MAX('3-3 위험성평가'!$A$4:$A$470)+1>E42,VLOOKUP(E42,'3-3 위험성평가'!$A$5:$P$470,4,0),\"\")","v":""},{"$f":"IF(MAX('3-3 위험성평가'!$A$4:$A$470)+1>E42,VLOOKUP(E42,'3-3 위험성평가'!$A$5:$P$470,5,0),\"\")","v":""},{"$f":"IF(MAX('3-3 위험성평가'!$A$4:$A$470)+1>E42,VLOOKUP(E42,'3-3 위험성평가'!$A$5:$P$470,6,0),\"\")","v":""},{"$f":"IF(MAX('3-3 위험성평가'!$A$4:$A$470)+1>E42,VLOOKUP(E42,'3-3 위험성평가'!$A$5:$P$470,9,0),\"\")","v":""},{"$f":"IF(MAX('3-3 위험성평가'!$A$4:$A$536)+1>E42,VLOOKUP(E42,'3-3 위험성평가'!$A$5:$P$536,12,0),\"\")&IF(L42>\"\",\".\"&E42,\"\")","v":""},{"$f":"IF(MAX('3-3 위험성평가'!$A$4:$A$470)+1>E42,VLOOKUP(E42,'3-3 위험성평가'!$A$5:$P$470,13,0),\"\")","v":""},null,"하",null,null,null,null,null,null,null,"선택안함",0,{"$f":"IF(MAX('3-3 위험성평가'!$A$4:$A$470)+1>E42,VLOOKUP(E42,'3-3 위험성평가'!$A$5:$Q$470,17,0),\"\")","v":""},"선택",{"$f":"표지!$D$33","v":"시원건설"},{"$f":"표지!$E$34","v":"김길동4"},"선택안함",0]
["T40",{"$f":"B42+Y43","v":4},"S40",4,35,{"$f":"IF(MAX('3-3 위험성평가'!$A$4:$A$470)+1>E43,VLOOKUP(E43,'3-3 위험성평가'!$A$5:$P$470,2,0),\"\")","v":""},{"$f":"IF(F43=\"\",\"\",VLOOKUP(VALUE(F43),'1-1 사업장 공정 정보'!$D$15:$P$32,5,0))","v":""},{"$f":"IF(MAX('3-3 위험성평가'!$A$4:$A$470)+1>E43,VLOOKUP(E43,'3-3 위험성평가'!$A$5:$P$470,3,0),\"\")","v":""},{"$f":"IF(MAX('3-3 위험성평가'!$A$4:$A$470)+1>E43,VLOOKUP(E43,'3-3 위험성평가'!$A$5:$P$470,4,0),\"\")","v":""},{"$f":"IF(MAX('3-3 위험성평가'!$A$4:$A$470)+1>E43,VLOOKUP(E43,'3-3 위험성평가'!$A$5:$P$470,5,0),\"\")","v":""},{"$f":"IF(MAX('3-3 위험성평가'!$A$4:$A$470)+1>E43,VLOOKUP(E43,'3-3 위험성평가'!$A$5:$P$470,6,0),\"\")","v":""},{"$f":"IF(MAX('3-3 위험성평가'!$A$4:$A$470)+1>E43,VLOOKUP(E43,'3-3 위험성평가'!$A$5:$P$470,9,0),\"\")","v":""},{"$f":"IF(MAX('3-3 위험성평가'!$A$4:$A$536)+1>E43,VLOOKUP(E43,'3-3 위험성평가'!$A$5:$P$536,12,0),\"\")&IF(L43>\"\",\".\"&E43,\"\")","v":""},{"$f":"IF(MAX('3-3 위험성평가'!$A$4:$A$470)+1>E43,VLOOKUP(E43,'3-3 위험성평가'!$A$5:$P$470,13,0),\"\")","v":""},null,"하",null,null,null,null,null,null,null,"선택안함",0,{"$f":"IF(MAX('3-3 위험성평가'!$A$4:$A$470)+1>E43,VLOOKUP(E43,'3-3 위험성평가'!$A$5:$Q$470,17,0),\"\")","v":""},"선택",{"$f":"표지!$D$33","v":"시원건설"},{"$f":"표지!$E$34","v":"김길동4"},"선택안함",0]
["T40",4,"S40",4,36,{"$f":"IF(MAX('3-3 위험성평가'!$A$4:$A$470)+1>E44,VLOOKUP(E44,'3-3 위험성평가'!$A$5:$P$470,2,0),\"\")","v":""},{"$f":"IF(F44=\"\",\"\",VLOOKUP(VALUE(F44),'1-1 사업장 공정 정보'!$D$15:$P$32,5,0))","v":""},{"$f":"IF(MAX('3-3 위험성평가'!$A$4:$A$470)+1>E44,VLOOKUP(E44,'3-3 위험성평가'!$A$5:$P$470,3,0),\"\")","v":""},{"$f":"IF(MAX('3-3 위험성평가'!$A$4:$A$470)+1>E44,VLOOKUP(E44,'3-3 위험성평가'!$A$5:$P$470,4,0),\"\")","v":""},{"$f":"IF(MAX('3-3 위험성평가'!$A$4:$A$470)+1>E44,VLOOKUP(E44,'3-3 위험성평가'!$A$5:$P$470,5,0),\"\")","v":""},{"$f":"IF(MAX('3-3 위험성평가'!$A$4:$A$470)+1>E44,VLOOKUP(E44,'3-3 위험성평가'!$A$5:$P$470,6,0),\"\")","v":""},{"$f":"IF(MAX('3-3 위험성평가'!$A$4:$A$470)+1>E44,VLOOKUP(E44,'3-3 위험성평가'!$A$5:$P$470,9,0),\"\")","v":""},{"$f":"IF(MAX('3-3 위험성평가'!$A$4:$A$536)+1>E44,VLOOKUP(E44,'3-3 위험성평가'!$A$5:$P$536,12,0),\"\")&IF(L44>\"\",\".\"&E44,\"\")","v":""},{"$f":"IF(MAX('3-3 위험성평가'!$A$4:$A$470)+1>E44,VLOOKUP(E44,'3-3 위험성평가'!$A$5:$P$470,13,0),\"\")","v":""},null,"하",null,null,null,null,null,null,null,"선택안함",0,{"$f":"IF(MAX('3-3 위험성평가'!$A$4:$A$470)+1>E44,VLOOKUP(E44,'3-3 위험성평가'!$A$5:$Q$470,17,0),\"\")","v":""},"선택",{"$f":"표지!$D$33","v":"시원건설"},{"$f":"표지!$E$34","v":"김길동4"},"선택안함",0]
["T40",4,"S40",4,37,{"$f":"IF(MAX('3-3 위험성평가'!$A$4:$A$470)+1>E45,VLOOKUP(E45,'3-3 위험성평가'!$A$5:$P$470,2,0),\"\")","v":""},{"$f":"IF(F45=\"\",\"\",VLOOKUP(VALUE(F45),'1-1 사업장 공정 정보'!$D$15:$P$32,5,0))","v":""},{"$f":"IF(MAX('3-3 위험성평가'!$A$4:$A$470)+1>E45,VLOOKUP(E45,'3-3 위험성평가'!$A$5:$P$470,3,0),\"\")","v":""},{"$f":"IF(MAX('3-3 위험성평가'!$A$4:$A$470)+1>E45,VLOOKUP(E45,'3-3 위험성평가'!$A$5:$P$470,4,0),\"\")","v":""},{"$f":"IF(MAX('3-3 위험성평가'!$A$4:$A$470)+1>E45,VLOOKUP(E45,'3-3 위험성평가'!$A$5:$P$470,5,0),\"\")","v":""},{"$f":"IF(MAX('3-3 위험성평가'!$A$4:$A$470)+1>E45,VLOOKUP(E45,'3-3 위험성평가'!$A$5:$P$470,6,0),\"\")","v":""},{"$f":"IF(MAX('3-3 위험성평가'!$A$4:$A$470)+1>E45,VLOOKUP(E45,'3-3 위험성평가'!$A$5:$P$470,9,0),\"\")","v":""},{"$f":"IF(MAX('3-3 위험성평가'!$A$4:$A$536)+1>E45,VLOOKUP(E45,'3-3 위험성평가'!$A$5:$P$536,12,0),\"\")&IF(L45>\"\",\".\"&E45,\"\")","v":""},{"$f":"IF(MAX('3-3 위험성평가'!$A$4:$A$470)+1>E45,VLOOKUP(E45,'3-3 위험성평가'!$A$5:$P$470,13,0),\"\")","v":""},null,"하",null,null,null,null,null,null,null,"선택안함",0,{"$f":"IF(MAX('3-3 위험성평가'!$A$4:$A$470)+1>E45,VLOOKUP(E45,'3-3 위험성평가'!$A$5:$Q$470,17,0),\"\")","v":""},"선택",{"$f":"표지!$D$33","v":"시원건설"},{"$f":"표지!$E$34","v":"김길동4"},"선택안함",0]
["T40",4,"S40",4,38,{"$f":"IF(MAX('3-3 위험성평가'!$A$4:$A$470)+1>E46,VLOOKUP(E46,'3-3 위험성평가'!$A$5:$P$470,2,0),\"\")","v":""},{"$f":"IF(F46=\"\",\"\",VLOOKUP(VALUE(F46),'1-1 사업장 공정 정보'!$D$15:$P$32,5,0))","v":""},{"$f":"IF(MAX('3-3 위험성평가'!$A$4:$A$470)+1>E46,VLOOKUP(E46,'3-3 위험성평가'!$A$5:$P$470,3,0),\"\")","v":""},{"$f":"IF(MAX('3-3 위험성평가'!$A$4:$A$470)+1>E46,VLOOKUP(E46,'3-3 위험성평가'!$A$5:$P$470,4,0),\"\")","v":""},{"$f":"IF(MAX('3-3 위험성평가'!$A$4:$A$470)+1>E46,VLOOKUP(E46,'3-3 위험성평가'!$A$5:$P$470,5,0),\"\")","v":""},{"$f":"IF(MAX('3-3 위험성평가'!$A$4:$A$470)+1>E46,VLOOKUP(E46,'3-3 위험성평가'!$A$5:$P$470,6,0),\"\")","v":""},{"$f":"IF(MAX('3-3 위험성평가'!$A$4:$A$470)+1>E46,VLOOKUP(E46,'3-3 위험성평가'!$A$5:$P$470,9,0),\"\")","v":""},{"$f":"IF(MAX('3-3 위험성평가'!$A$4:$A$536)+1>E46,VLOOKUP(E46,'3-3 위험성평가'!$A$5:$P$536,12,0),\"\")&IF(L46>\"\",\".\"&E46,\"\")","v":""},{"$f":"IF(MAX('3-3 위험성평가'!$A$4:$A$470)+1>E46,VLOOKUP(E46,'3-3 위험성평가'!$A$5:$P$470,13,0),\"\")","v":""},null,"하",null,null,null,null,null,null,null,"선택안함",0,{"$f":"IF(MAX('3-3 위험성평가'!$A$4:$A$470)+1>E46,VLOOKUP(E46,'3-3 위험성평가'!$A$5:$Q$470,17,0),\"\")","v":""},"선택",{"$f":"표지!$D$33","v":"시원건설"},{"$f":"표지!$E$34","v":"김길동4"},"선택안함",0]
["T40",4,"S40",4,39,{"$f":"IF(MAX('3-3 위험성평가'!$A$4:$A$470)+1>E47,VLOOKUP(E47,'3-3 위험성평가'!$A$5:$P$470,2,0),\"\")","v":""},{"$f":"IF(F47=\"\",\"\",VLOOKUP(VALUE(F47),'1-1 사업장 공정 정보'!$D$15:$P$32,5,0))","v":""},{"$f":"IF(MAX('3-3 위험성평가'!$A$4:$A$470)+1>E47,VLOOKUP(E47,'3-3 위험성평가'!$A$5:$P$470,3,0),\"\")","v":""},{"$f":"IF(MAX('3-3 위험성평가'!$A$4:$A$470)+1>E47,VLOOKUP(E47,'3-3 위험성평가'!$A$5:$P$470,4,0),\"\")","v":""},{"$f":"IF(MAX('3-3 위험성평가'!$A$4:$A$470)+1>E47,VLOOKUP(E47,'3-3 위험성평가'!$A$5:$P$470,5,0),\"\")","v":""},{"$f":"IF(MAX('3-3 위험성평가'!$A$4:$A$470)+1>E47,VLOOKUP(E47,'3-3 위험성평가'!$A$5:$P$470,6,0),\"\")","v":""},{"$f":"IF(MAX('3-3 위험성평가'!$A$4:$A$470)+1>E47,VLOOKUP(E47,'3-3 위험성평가'!$A$5:$P$470,9,0),\"\")","v":""},{"$f":"IF(MAX('3-3 위험성평가'!$A$4:$A$536)+1>E47,VLOOKUP(E47,'3-3 위험성평가'!$A$5:$P$536,12,0),\"\")&IF(L47>\"\",\".\"&E47,\"\")","v":""},{"$f":"IF(MAX('3-3 위험성평가'!$A$4:$A$470)+1>E47,VLOOKUP(E47,'3-3 위험성평가'!$A$5:$P$470,13,0),\"\")","v":""},null,"하",null,null,null,null,null,null,null,"선택안함",0,{"$f":"IF(MAX('3-3 위험성평가'!$A$4:$A$470)+1>E47,VLOOKUP(E47,'3-3 위험성평가'!$A$5:$Q$470,17,0),\"\")","v":""},"선택",{"$f":"표지!$D$33","v":"시원건설"},{"$f":"표지!$E$34","v":"김길동4"},"선택안함",0]
["T40",4,"S40",4,40,{"$f":"IF(MAX('3-3 위험성평가'!$A$4:$A$470)+1>E48,VLOOKUP(E48,'3-3 위험성평가'!$A$5:$P$470,2,0),\"\")","v":""},{"$f":"IF(F48=\"\",\"\",VLOOKUP(VALUE(F48),'1-1 사업장 공정 정보'!$D$15:$P$32,5,0))","v":""},{"$f":"IF(MAX('3-3 위험성평가'!$A$4:$A$470)+1>E48,VLOOKUP(E48,'3-3 위험성평가'!$A$5:$P$470,3,0),\"\")","v":""},{"$f":"IF(MAX('3-3 위험성평가'!$A$4:$A$470)+1>E48,VLOOKUP(E48,'3-3 위험성평가'!$A$5:$P$470,4,0),\"\")","v":""},{"$f":"IF(MAX('3-3 위험성평가'!$A$4:$A$470)+1>E48,VLOOKUP(E48,'3-3 위험성평가'!$A$5:$P$470,5,0),\"\")","v":""},{"$f":"IF(MAX('3-3 위험성평가'!$A$4:$A$470)+1>E48,VLOOKUP(E48,'3-3 위험성평가'!$A$5:$P$470,6,0),\"\")","v":""},{"$f":"IF(MAX('3-3 위험성평가'!$A$4:$A$470)+1>E48,VLOOKUP(E48,'3-3 위험성평가'!$A$5:$P$470,9,0),\"\")","v":""},{"$f":"IF(MAX('3-3 위험성평가'!$A$4:$A$536)+1>E48,VLOOKUP(E48,'3-3 위험성평가'!$A$5:$P$536,12,0),\"\")&IF(L48>\"\",\".\"&E48,\"\")","v":""},{"$f":"IF(MAX('3-3 위험성평가'!$A$4:$A$470)+1>E48,VLOOKUP(E48,'3-3 위험성평가'!$A$5:$P$470,13,0),\"\")","v":""},null,"하",null,null,null,null,null,null,null,"선택안함",0,{"$f":"IF(MAX('3-3 위험성평가'!$A$4:$A$470)+1>E48,VLOOKUP(E48,'3-3 위험성평가'!$A$5:$Q$470,17,0),\"\")","v":""},"선택",{"$f":"표지!$D$33","v":"시원건설"},{"$f":"표지!$E$34","v":"김길동4"},"선택안함",0]
["T40",4,"S40",4,41,{"$f":"IF(MAX('3-3 위험성평가'!$A$4:$A$470)+1>E49,VLOOKUP(E49,'3-3 위험성평가'!$A$5:$P$470,2,0),\"\")","v":""},{"$f":"IF(F49=\"\",\"\",VLOOKUP(VALUE(F49),'1-1 사업장 공정 정보'!$D$15:$P$32,5,0))","v":""},{"$f":"IF(MAX('3-3 위험성평가'!$A$4:$A$470)+1>E49,VLOOKUP(E49,'3-3 위험성평가'!$A$5:$P$470,3,0),\"\")","v":""},{"$f":"IF(MAX('3-3 위험성평가'!$A$4:$A$470)+1>E49,VLOOKUP(E49,'3-3 위험성평가'!$A$5:$P$470,4,0),\"\")","v":""},{"$f":"IF(MAX('3-3 위험성평가'!$A$4:$A$470)+1>E49,VLOOKUP(E49,'3-3 위험성평가'!$A$5:$P$470,5,0),\"\")","v":""},{"$f":"IF(MAX('3-3 위험성평가'!$A$4:$A$470)+1>E49,VLOOKUP(E49,'3-3 위험성평가'!$A$5:$P$470,6,0),\"\")","v":""},{"$f":"IF(MAX('3-3 위험성평가'!$A$4:$A$470)+1>E49,VLOOKUP(E49,'3-3 위험성평가'!$A$5:$P$470,9,0),\"\")","v":""},{"$f":"IF(MAX('3-3 위험성평가'!$A$4:$A$536)+1>E49,VLOOKUP(E49,'3-3 위험성평가'!$A$5:$P$536,12,0),\"\")&IF(L49>\"\",\".\"&E49,\"\")","v":""},{"$f":"IF(MAX('3-3 위험성평가'!$A$4:$A$470)+1>E49,VLOOKUP(E49,'3-3 위험성평가'!$A$5:$P$470,13,0),\"\")","v":""},null,"하",null,null,null,null,null,null,null,"선택안함",0,{"$f":"IF(MAX('3-3 위험성평가'!$A$4:$A$470)+1>E49,VLOOKUP(E49,'3-3 위험성평가'!$A$5:$Q$470,17,0),\"\")","v":""},"선택",{"$f":"표지!$D$33","v":"시원건설"},{"$f":"표지!$E$34","v":"김길동4"},"선택안함",0]
["T40",4,"S40",4,42,{"$f":"IF(MAX('3-3 위험성평가'!$A$4:$A$470)+1>E50,VLOOKUP(E50,'3-3 위험성평가'!$A$5:$P$470,2,0),\"\")","v":""},{"$f":"IF(F50=\"\",\"\",VLOOKUP(VALUE(F50),'1-1 사업장 공정 정보'!$D$15:$P$32,5,0))","v":""},{"$f":"IF(MAX('3-3 위험성평가'!$A$4:$A$470)+1>E50,VLOOKUP(E50,'3-3 위험성평가'!$A$5:$P$470,3,0),\"\")","v":""},{"$f":"IF(MAX('3-3 위험성평가'!$A$4:$A$470)+1>E50,VLOOKUP(E50,'3-3 위험성평가'!$A$5:$P$470,4,0),\"\")","v":""},{"$f":"IF(MAX('3-3 위험성평가'!$A$4:$A$470)+1>E50,VLOOKUP(E50,'3-3 위험성평가'!$A$5:$P$470,5,0),\"\")","v":""},{"$f":"IF(MAX('3-3 위험성평가'!$A$4:$A$470)+1>E50,VLOOKUP(E50,'3-3 위험성평가'!$A$5:$P$470,6,0),\"\")","v":""},{"$f":"IF(MAX('3-3 위험성평가'!$A$4:$A$470)+1>E50,VLOOKUP(E50,'3-3 위험성평가'!$A$5:$P$470,9,0),\"\")","v":""},{"$f":"IF(MAX('3-3 위험성평가'!$A$4:$A$536)+1>E50,VLOOKUP(E50,'3-3 위험성평가'!$A$5:$P$536,12,0),\"\")&IF(L50>\"\",\".\"&E50,\"\")","v":""},{"$f":"IF(MAX('3-3 위험성평가'!$A$4:$A$470)+1>E50,VLOOKUP(E50,'3-3 위험성평가'!$A$5:$P$470,13,0),\"\")","v":""},null,"하",null,null,null,null,null,null,null,"선택안함",0,{"$f":"IF(MAX('3-3 위험성평가'!$A$4:$A$470)+1>E50,VLOOKUP(E50,'3-3 위험성평가'!$A$5:$Q$470,17,0),\"\")","v":""},"선택",{"$f":"표지!$D$33","v":"시원건설"},{"$f":"표지!$E$34","v":"김길동4"},"선택안함",0]
["T40",4,"S40",4,43,{"$f":"IF(MAX('3-3 위험성평가'!$A$4:$A$470)+1>E51,VLOOKUP(E51,'3-3 위험성평가'!$A$5:$P$470,2,0),\"\")","v":""},{"$f":"IF(F51=\"\",\"\",VLOOKUP(VALUE(F51),'1-1 사업장 공정 정보'!$D$15:$P$32,5,0))","v":""},{"$f":"IF(MAX('3-3 위험성평가'!$A$4:$A$470)+1>E51,VLOOKUP(E51,'3-3 위험성평가'!$A$5:$P$470,3,0),\"\")","v":""},{"$f":"IF(MAX('3-3 위험성평가'!$A$4:$A$470)+1>E51,VLOOKUP(E51,'3-3 위험성평가'!$A$5:$P$470,4,0),\"\")","v":""},{"$f":"IF(MAX('3-3 위험성평가'!$A$4:$A$470)+1>E51,VLOOKUP(E51,'3-3 위험성평가'!$A$5:$P$470,5,0),\"\")","v":""},{"$f":"IF(MAX('3-3 위험성평가'!$A$4:$A$470)+1>E51,VLOOKUP(E51,'3-3 위험성평가'!$A$5:$P$470,6,0),\"\")","v":""},{"$f":"IF(MAX('3-3 위험성평가'!$A$4:$A$470)+1>E51,VLOOKUP(E51,'3-3 위험성평가'!$A$5:$P$470,9,0),\"\")","v":""},{"$f":"IF(MAX('3-3 위험성평가'!$A$4:$A$536)+1>E51,VLOOKUP(E51,'3-3 위험성평가'!$A$5:$P$536,12,0),\"\")&IF(L51>\"\",\".\"&E51,\"\")","v":""},{"$f":"IF(MAX('3-3 위험성평가'!$A$4:$A$470)+1>E51,VLOOKUP(E51,'3-3 위험성평가'!$A$5:$P$470,13,0),\"\")","v":""},null,"하",null,null,null,null,null,null,null,"선택안함",0,{"$f":"IF(MAX('3-3 위험성평가'!$A$4:$A$470)+1>E51,VLOOKUP(E51,'3-3 위험성평가'!$A$5:$Q$470,17,0),\"\")","v":""},"선택",{"$f":"표지!$D$33","v":"시원건설"},{"$f":"표지!$E$34","v":"김길동4"},"선택안함",0]
["T40",4,"S40",4,44,{"$f":"IF(MAX('3-3 위험성평가'!$A$4:$A$470)+1>E52,VLOOKUP(E52,'3-3 위험성평가'!$A$5:$P$470,2,0),\"\")","v":""},{"$f":"IF(F52=\"\",\"\",VLOOKUP(VALUE(F52),'1-1 사업장 공정 정보'!$D$15:$P$32,5,0))","v":""},{"$f":"IF(MAX('3-3 위험성평가'!$A$4:$A$470)+1>E52,VLOOKUP(E52,'3-3 위험성평가'!$A$5:$P$470,3,0),\"\")","v":""},{"$f":"IF(MAX('3-3 위험성평가'!$A$4:$A$470)+1>E52,VLOOKUP(E52,'3-3 위험성평가'!$A$5:$P$470,4,0),\"\")","v":""},{"$f":"IF(MAX('3-3 위험성평가'!$A$4:$A$470)+1>E52,VLOOKUP(E52,'3-3 위험성평가'!$A$5:$P$470,5,0),\"\")","v":""},{"$f":"IF(MAX('3-3 위험성평가'!$A$4:$A$470)+1>E52,VLOOKUP(E52,'3-3 위험성평가'!$A$5:$P$470,6,0),\"\")","v":""},{"$f":"IF(MAX('3-3 위험성평가'!$A$4:$A$470)+1>E52,VLOOKUP(E52,'3-3 위험성평가'!$A$5:$P$470,9,0),\"\")","v":""},{"$f":"IF(MAX('3-3 위험성평가'!$A$4:$A$536)+1>E52,VLOOKUP(E52,'3-3 위험성평가'!$A$5:$P$536,12,0),\"\")&IF(L52>\"\",\".\"&E52,\"\")","v":""},{"$f":"IF(MAX('3-3 위험성평가'!$A$4:$A$470)+1>E52,VLOOKUP(E52,'3-3 위험성평가'!$A$5:$P$470,13,0),\"\")","v":""},null,"하",null,null,null,null,null,null,null,"선택안함",0,{"$f":"IF(MAX('3-3 위험성평가'!$A$4:$A$470)+1>E52,VLOOKUP(E52,'3-3 위험성평가'!$A$5:$Q$470,17,0),\"\")","v":""},"선택",{"$f":"표지!$D$33","v":"시원건설"},{"$f":"표지!$E$34","v":"김길동4"},"선택안함",0]
["T40",4,"S40",4,45,{"$f":"IF(MAX('3-3 위험성평가'!$A$4:$A$470)+1>E53,VLOOKUP(E53,'3-3 위험성평가'!$A$5:$P$470,2,0),\"\")","v":""},{"$f":"IF(F53=\"\",\"\",VLOOKUP(VALUE(F53),'1-1 사업장 공정 정보'!$D$15:$P$32,5,0))","v":""},{"$f":"IF(MAX('3-3 위험성평가'!$A$4:$A$470)+1>E53,VLOOKUP(E53,'3-3 위험성평가'!$A$5:$P$470,3,0),\"\")","v":""},{"$f":"IF(MAX('3-3 위험성평가'!$A$4:$A$470)+1>E53,VLOOKUP(E53,'3-3 위험성평가'!$A$5:$P$470,4,0),\"\")","v":""},{"$f":"IF(MAX('3-3 위험성평가'!$A$4:$A$470)+1>E53,VLOOKUP(E53,'3-3 위험성평가'!$A$5:$P$470,5,0),\"\")","v":""},{"$f":"IF(MAX('3-3 위험성평가'!$A$4:$A$470)+1>E53,VLOOKUP(E53,'3-3 위험성평가'!$A$5:$P$470,6,0),\"\")","v":""},{"$f":"IF(MAX('3-3 위험성평가'!$A$4:$A$470)+1>E53,VLOOKUP(E53,'3-3 위험성평가'!$A$5:$P$470,9,0),\"\")","v":""},{"$f":"IF(MAX('3-3 위험성평가'!$A$4:$A$536)+1>E53,VLOOKUP(E53,'3-3 위험성평가'!$A$5:$P$536,12,0),\"\")&IF(L53>\"\",\".\"&E53,\"\")","v":""},{"$f":"IF(MAX('3-3 위험성평가'!$A$4:$A$470)+1>E53,VLOOKUP(E53,'3-3 위험성평가'!$A$5:$P$470,13,0),\"\")","v":""},null,"하",null,null,null,null,null,null,null,"선택안함",0,{"$f":"IF(MAX('3-3 위험성평가'!$A$4:$A$470)+1>E53,VLOOKUP(E53,'3-3 위험성평가'!$A$5:$Q$470,17,0),\"\")","v":""},"선택",{"$f":"표지!$D$33","v":"시원건설"},{"$f":"표지!$E$34","v":"김길동4"},"선택안함",0]
["T40",4,"S40",4,46,{"$f":"IF(MAX('3-3 위험성평가'!$A$4:$A$470)+1>E54,VLOOKUP(E54,'3-3 위험성평가'!$A$5:$P$470,2,0),\"\")","v":""},{"$f":"IF(F54=\"\",\"\",VLOOKUP(VALUE(F54),'1-1 사업장 공정 정보'!$D$15:$P$32,5,0))","v":""},{"$f":"IF(MAX('3-3 위험성평가'!$A$4:$A$470)+1>E54,VLOOKUP(E54,'3-3 위험성평가'!$A$5:$P$470,3,0),\"\")","v":""},{"$f":"IF(MAX('3-3 위험성평가'!$A$4:$A$470)+1>E54,VLOOKUP(E54,'3-3 위험성평가'!$A$5:$P$470,4,0),\"\")","v":""},{"$f":"IF(MAX('3-3 위험성평가'!$A$4:$A$470)+1>E54,VLOOKUP(E54,'3-3 위험성평가'!$A$5:$P$470,5,0),\"\")","v":""},{"$f":"IF(MAX('3-3 위험성평가'!$A$4:$A$470)+1>E54,VLOOKUP(E54,'3-3 위험성평가'!$A$5:$P$470,6,0),\"\")","v":""},{"$f":"IF(MAX('3-3 위험성평가'!$A$4:$A$470)+1>E54,VLOOKUP(E54,'3-3 위험성평가'!$A$5:$P$470,9,0),\"\")","v":""},{"$f":"IF(MAX('3-3 위험성평가'!$A$4:$A$536)+1>E54,VLOOKUP(E54,'3-3 위험성평가'!$A$5:$P$536,12,0),\"\")&IF(L54>\"\",\".\"&E54,\"\")","v":""},{"$f":"IF(MAX('3-3 위험성평가'!$A$4:$A$470)+1>E54,VLOOKUP(E54,'3-3 위험성평가'!$A$5:$P$470,13,0),\"\")","v":""},null,"하",null,null,null,null,null,null,null,"선택안함",0,{"$f":"IF(MAX('3-3 위험성평가'!$A$4:$A$470)+1>E54,VLOOKUP(E54,'3-3 위험성평가'!$A$5:$Q$470,17,0),\"\")","v":""},"선택",{"$f":"표지!$D$33","v":"시원건설"},{"$f":"표지!$E$34","v":"김길동4"},"선택안함",0]
["T40",4,"S40",4,47,{"$f":"IF(MAX('3-3 위험성평가'!$A$4:$A$470)+1>E55,VLOOKUP(E55,'3-3 위험성평가'!$A$5:$P$470,2,0),\"\")","v":""},{"$f":"IF(F55=\"\",\"\",VLOOKUP(VALUE(F55),'1-1 사업장 공정 정보'!$D$15:$P$32,5,0))","v":""},{"$f":"IF(MAX('3-3 위험성평가'!$A$4:$A$470)+1>E55,VLOOKUP(E55,'3-3 위험성평가'!$A$5:$P$470,3,0),\"\")","v":""},{"$f":"IF(MAX('3-3 위험성평가'!$A$4:$A$470)+1>E55,VLOOKUP(E55,'3-3 위험성평가'!$A$5:$P$470,4,0),\"\")","v":""},{"$f":"IF(MAX('3-3 위험성평가'!$A$4:$A$470)+1>E55,VLOOKUP(E55,'3-3 위험성평가'!$A$5:$P$470,5,0),\"\")","v":""},{"$f":"IF(MAX('3-3 위험성평가'!$A$4:$A$470)+1>E55,VLOOKUP(E55,'3-3 위험성평가'!$A$5:$P$470,6,0),\"\")","v":""},{"$f":"IF(MAX('3-3 위험성평가'!$A$4:$A$470)+1>E55,VLOOKUP(E55,'3-3 위험성평가'!$A$5:$P$470,9,0),\"\")","v":""},{"$f":"IF(MAX('3-3 위험성평가'!$A$4:$A$536)+1>E55,VLOOKUP(E55,'3-3 위험성평가'!$A$5:$P$536,12,0),\"\")&IF(L55>\"\",\".\"&E55,\"\")","v":""},{"$f":"IF(MAX('3-3 위험성평가'!$A$4:$A$470)+1>E55,VLOOKUP(E55,'3-3 위험성평가'!$A$5:$P$470,13,0),\"\")","v":""},null,"하",null,null,null,null,null,null,null,"선택안함",0,{"$f":"IF(MAX('3-3 위험성평가'!$A$4:$A$470)+1>E55,VLOOKUP(E55,'3-3 위험성평가'!$A$5:$Q$470,17,0),\"\")","v":""},"선택",{"$f":"표지!$D$33","v":"시원건설"},{"$f":"표지!$E$34","v":"김길동4"},"선택안함",0]
["T40",4,"S40",4,48,{"$f":"IF(MAX('3-3 위험성평가'!$A$4:$A$470)+1>E56,VLOOKUP(E56,'3-3 위험성평가'!$A$5:$P$470,2,0),\"\")","v":""},{"$f":"IF(F56=\"\",\"\",VLOOKUP(VALUE(F56),'1-1 사업장 공정 정보'!$D$15:$P$32,5,0))","v":""},{"$f":"IF(MAX('3-3 위험성평가'!$A$4:$A$470)+1>E56,VLOOKUP(E56,'3-3 위험성평가'!$A$5:$P$470,3,0),\"\")","v":""},{"$f":"IF(MAX('3-3 위험성평가'!$A$4:$A$470)+1>E56,VLOOKUP(E56,'3-3 위험성평가'!$A$5:$P$470,4,0),\"\")","v":""},{"$f":"IF(MAX('3-3 위험성평가'!$A$4:$A$470)+1>E56,VLOOKUP(E56,'3-3 위험성평가'!$A$5:$P$470,5,0),\"\")","v":""},{"$f":"IF(MAX('3-3 위험성평가'!$A$4:$A$470)+1>E56,VLOOKUP(E56,'3-3 위험성평가'!$A$5:$P$470,6,0),\"\")","v":""},{"$f":"IF(MAX('3-3 위험성평가'!$A$4:$A$470)+1>E56,VLOOKUP(E56,'3-3 위험성평가'!$A$5:$P$470,9,0),\"\")","v":""},{"$f":"IF(MAX('3-3 위험성평가'!$A$4:$A$536)+1>E56,VLOOKUP(E56,'3-3 위험성평가'!$A$5:$P$536,12,0),\"\")&IF(L56>\"\",\".\"&E56,\"\")","v":""},{"$f":"IF(MAX('3-3 위험성평가'!$A$4:$A$470)+1>E56,VLOOKUP(E56,'3-3 위험성평가'!$A$5:$P$470,13,0),\"\")","v":""},null,"하",null,null,null,null,null,null,null,"선택안함",0,{"$f":"IF(MAX('3-3 위험성평가'!$A$4:$A$470)+1>E56,VLOOKUP(E56,'3-3 위험성평가'!$A$5:$Q$470,17,0),\"\")","v":""},"선택",{"$f":"표지!$D$33","v":"시원건설"},{"$f":"표지!$E$34","v":"김길동4"},"선택안함",0]
["T40",4,"S40",4,49,{"$f":"IF(MAX('3-3 위험성평가'!$A$4:$A$470)+1>E57,VLOOKUP(E57,'3-3 위험성평가'!$A$5:$P$470,2,0),\"\")","v":""},{"$f":"IF(F57=\"\",\"\",VLOOKUP(VALUE(F57),'1-1 사업장 공정 정보'!$D$15:$P$32,5,0))","v":""},{"$f":"IF(MAX('3-3 위험성평가'!$A$4:$A$470)+1>E57,VLOOKUP(E57,'3-3 위험성평가'!$A$5:$P$470,3,0),\"\")","v":""},{"$f":"IF(MAX('3-3 위험성평가'!$A$4:$A$470)+1>E57,VLOOKUP(E57,'3-3 위험성평가'!$A$5:$P$470,4,0),\"\")","v":""},{"$f":"IF(MAX('3-3 위험성평가'!$A$4:$A$470)+1>E57,VLOOKUP(E57,'3-3 위험성평가'!$A$5:$P$470,5,0),\"\")","v":""},{"$f":"IF(MAX('3-3 위험성평가'!$A$4:$A$470)+1>E57,VLOOKUP(E57,'3-3 위험성평가'!$A$5:$P$470,6,0),\"\")","v":""},{"$f":"IF(MAX('3-3 위험성평가'!$A$4:$A$470)+1>E57,VLOOKUP(E57,'3-3 위험성평가'!$A$5:$P$470,9,0),\"\")","v":""},{"$f":"IF(MAX('3-3 위험성평가'!$A$4:$A$536)+1>E57,VLOOKUP(E57,'3-3 위험성평가'!$A$5:$P$536,12,0),\"\")&IF(L57>\"\",\".\"&E57,\"\")","v":""},{"$f":"IF(MAX('3-3 위험성평가'!$A$4:$A$470)+1>E57,VLOOKUP(E57,'3-3 위험성평가'!$A$5:$P$470,13,0),\"\")","v":""},null,"하",null,null,null,null,null,null,null,"선택안함",0,{"$f":"IF(MAX('3-3 위험성평가'!$A$4:$A$470)+1>E57,VLOOKUP(E57,'3-3 위험성평가'!$A$5:$Q$470,17,0),\"\")","v":""},"선택",{"$f":"표지!$D$33","v":"시원건설"},{"$f":"표지!$E$34","v":"김길동4"},"선택안함",0]
["T40",4,"S40",4,50,{"$f":"IF(MAX('3-3 위험성평가'!$A$4:$A$470)+1>E58,VLOOKUP(E58,'3-3 위험성평가'!$A$5:$P$470,2,0),\"\")","v":""},{"$f":"IF(F58=\"\",\"\",VLOOKUP(VALUE(F58),'1-1 사업장 공정 정보'!$D$15:$P$32,5,0))","v":""},{"$f":"IF(MAX('3-3 위험성평가'!$A$4:$A$470)+1>E58,VLOOKUP(E58,'3-3 위험성평가'!$A$5:$P$470,3,0),\"\")","v":""},{"$f":"IF(MAX('3-3 위험성평가'!$A$4:$A$470)+1>E58,VLOOKUP(E58,'3-3 위험성평가'!$A$5:$P$470,4,0),\"\")","v":""},{"$f":"IF(MAX('3-3 위험성평가'!$A$4:$A$470)+1>E58,VLOOKUP(E58,'3-3 위험성평가'!$A$5:$P$470,5,0),\"\")","v":""},{"$f":"IF(MAX('3-3 위험성평가'!$A$4:$A$470)+1>E58,VLOOKUP(E58,'3-3 위험성평가'!$A$5:$P$470,6,0),\"\")","v":""},{"$f":"IF(MAX('3-3 위험성평가'!$A$4:$A$470)+1>E58,VLOOKUP(E58,'3-3 위험성평가'!$A$5:$P$470,9,0),\"\")","v":""},{"$f":"IF(MAX('3-3 위험성평가'!$A$4:$A$536)+1>E58,VLOOKUP(E58,'3-3 위험성평가'!$A$5:$P$536,12,0),\"\")&IF(L58>\"\",\".\"&E58,\"\")","v":""},{"$f":"IF(MAX('3-3 위험성평가'!$A$4:$A$470)+1>E58,VLOOKUP(E58,'3-3 위험성평가'!$A$5:$P$470,13,0),\"\")","v":""},null,"하",null,null,null,null,null,null,null,"선택안함",0,{"$f":"IF(MAX('3-3 위험성평가'!$A$4:$A$470)+1>E58,VLOOKUP(E58,'3-3 위험성평가'!$A$5:$Q$470,17,0),\"\")","v":""},"선택",{"$f":"표지!$D$33","v":"시원건설"},{"$f":"표지!$E$34","v":"김길동4"},"선택안함",0]
["T40",4,"S40",4,51,{"$f":"IF(MAX('3-3 위험성평가'!$A$4:$A$470)+1>E59,VLOOKUP(E59,'3-3 위험성평가'!$A$5:$P$470,2,0),\"\")","v":""},{"$f":"IF(F59=\"\",\"\",VLOOKUP(VALUE(F59),'1-1 사업장 공정 정보'!$D$15:$P$32,5,0))","v":""},{"$f":"IF(MAX('3-3 위험성평가'!$A$4:$A$470)+1>E59,VLOOKUP(E59,'3-3 위험성평가'!$A$5:$P$470,3,0),\"\")","v":""},{"$f":"IF(MAX('3-3 위험성평가'!$A$4:$A$470)+1>E59,VLOOKUP(E59,'3-3 위험성평가'!$A$5:$P$470,4,0),\"\")","v":""},{"$f":"IF(MAX('3-3 위험성평가'!$A$4:$A$470)+1>E59,VLOOKUP(E59,'3-3 위험성평가'!$A$5:$P$470,5,0),\"\")","v":""},{"$f":"IF(MAX('3-3 위험성평가'!$A$4:$A$470)+1>E59,VLOOKUP(E59,'3-3 위험성평가'!$A$5:$P$470,6,0),\"\")","v":""},{"$f":"IF(MAX('3-3 위험성평가'!$A$4:$A$470)+1>E59,VLOOKUP(E59,'3-3 위험성평가'!$A$5:$P$470,9,0),\"\")","v":""},{"$f":"IF(MAX('3-3 위험성평가'!$A$4:$A$536)+1>E59,VLOOKUP(E59,'3-3 위험성평가'!$A$5:$P$536,12,0),\"\")&IF(L59>\"\",\".\"&E59,\"\")","v":""},{"$f":"IF(MAX('3-3 위험성평가'!$A$4:$A$470)+1>E59,VLOOKUP(E59,'3-3 위험성평가'!$A$5:$P$470,13,0),\"\")","v":""},null,"하",null,null,null,null,null,null,null,"선택안함",0,{"$f":"IF(MAX('3-3 위험성평가'!$A$4:$A$470)+1>E59,VLOOKUP(E59,'3-3 위험성평가'!$A$5:$Q$470,17,0),\"\")","v":""},"선택",{"$f":"표지!$D$33","v":"시원건설"},{"$f":"표지!$E$34","v":"김길동4"},"선택안함",0]
["T40",4,"S40",4,52,{"$f":"IF(MAX('3-3 위험성평가'!$A$4:$A$470)+1>E60,VLOOKUP(E60,'3-3 위험성평가'!$A$5:$P$470,2,0),\"\")","v":""},{"$f":"IF(F60=\"\",\"\",VLOOKUP(VALUE(F60),'1-1 사업장 공정 정보'!$D$15:$P$32,5,0))","v":""},{"$f":"IF(MAX('3-3 위험성평가'!$A$4:$A$470)+1>E60,VLOOKUP(E60,'3-3 위험성평가'!$A$5:$P$470,3,0),\"\")","v":""},{"$f":"IF(MAX('3-3 위험성평가'!$A$4:$A$470)+1>E60,VLOOKUP(E60,'3-3 위험성평가'!$A$5:$P$470,4,0),\"\")","v":""},{"$f":"IF(MAX('3-3 위험성평가'!$A$4:$A$470)+1>E60,VLOOKUP(E60,'3-3 위험성평가'!$A$5:$P$470,5,0),\"\")","v":""},{"$f":"IF(MAX('3-3 위험성평가'!$A$4:$A$470)+1>E60,VLOOKUP(E60,'3-3 위험성평가'!$A$5:$P$470,6,0),\"\")","v":""},{"$f":"IF(MAX('3-3 위험성평가'!$A$4:$A$470)+1>E60,VLOOKUP(E60,'3-3 위험성평가'!$A$5:$P$470,9,0),\"\")","v":""},{"$f":"IF(MAX('3-3 위험성평가'!$A$4:$A$536)+1>E60,VLOOKUP(E60,'3-3 위험성평가'!$A$5:$P$536,12,0),\"\")&IF(L60>\"\",\".\"&E60,\"\")","v":""},{"$f":"IF(MAX('3-3 위험성평가'!$A$4:$A$470)+1>E60,VLOOKUP(E60,'3-3 위험성평가'!$A$5:$P$470,13,0),\"\")","v":""},null,"하",null,null,null,null,null,null,null,"선택안함",0,{"$f":"IF(MAX('3-3 위험성평가'!$A$4:$A$470)+1>E60,VLOOKUP(E60,'3-3 위험성평가'!$A$5:$Q$470,17,0),\"\")","v":""},"선택",{"$f":"표지!$D$33","v":"시원건설"},{"$f":"표지!$E$34","v":"김길동4"},"선택안함",0]
["T40",4,"S40",4,53,{"$f":"IF(MAX('3-3 위험성평가'!$A$4:$A$470)+1>E61,VLOOKUP(E61,'3-3 위험성평가'!$A$5:$P$470,2,0),\"\")","v":""},{"$f":"IF(F61=\"\",\"\",VLOOKUP(VALUE(F61),'1-1 사업장 공정 정보'!$D$15:$P$32,5,0))","v":""},{"$f":"IF(MAX('3-3 위험성평가'!$A$4:$A$470)+1>E61,VLOOKUP(E61,'3-3 위험성평가'!$A$5:$P$470,3,0),\"\")","v":""},{"$f":"IF(MAX('3-3 위험성평가'!$A$4:$A$470)+1>E61,VLOOKUP(E61,'3-3 위험성평가'!$A$5:$P$470,4,0),\"\")","v":""},{"$f":"IF(MAX('3-3 위험성평가'!$A$4:$A$470)+1>E61,VLOOKUP(E61,'3-3 위험성평가'!$A$5:$P$470,5,0),\"\")","v":""},{"$f":"IF(MAX('3-3 위험성평가'!$A$4:$A$470)+1>E61,VLOOKUP(E61,'3-3 위험성평가'!$A$5:$P$470,6,0),\"\")","v":""},{"$f":"IF(MAX('3-3 위험성평가'!$A$4:$A$470)+1>E61,VLOOKUP(E61,'3-3 위험성평가'!$A$5:$P$470,9,0),\"\")","v":""},{"$f":"IF(MAX('3-3 위험성평가'!$A$4:$A$536)+1>E61,VLOOKUP(E61,'3-3 위험성평가'!$A$5:$P$536,12,0),\"\")&IF(L61>\"\",\".\"&E61,\"\")","v":""},{"$f":"IF(MAX('3-3 위험성평가'!$A$4:$A$470)+1>E61,VLOOKUP(E61,'3-3 위험성평가'!$A$5:$P$470,13,0),\"\")","v":""},null,"하",null,null,null,null,null,null,null,"선택안함",0,{"$f":"IF(MAX('3-3 위험성평가'!$A$4:$A$470)+1>E61,VLOOKUP(E61,'3-3 위험성평가'!$A$5:$Q$470,17,0),\"\")","v":""},"선택",{"$f":"표지!$D$33","v":"시원건설"},{"$f":"표지!$E$34","v":"김길동4"},"선택안함",0]
["T40",4,"S40",4,54,{"$f":"IF(MAX('3-3 위험성평가'!$A$4:$A$470)+1>E62,VLOOKUP(E62,'3-3 위험성평가'!$A$5:$P$470,2,0),\"\")","v":""},{"$f":"IF(F62=\"\",\"\",VLOOKUP(VALUE(F62),'1-1 사업장 공정 정보'!$D$15:$P$32,5,0))","v":""},{"$f":"IF(MAX('3-3 위험성평가'!$A$4:$A$470)+1>E62,VLOOKUP(E62,'3-3 위험성평가'!$A$5:$P$470,3,0),\"\")","v":""},{"$f":"IF(MAX('3-3 위험성평가'!$A$4:$A$470)+1>E62,VLOOKUP(E62,'3-3 위험성평가'!$A$5:$P$470,4,0),\"\")","v":""},{"$f":"IF(MAX('3-3 위험성평가'!$A$4:$A$470)+1>E62,VLOOKUP(E62,'3-3 위험성평가'!$A$5:$P$470,5,0),\"\")","v":""},{"$f":"IF(MAX('3-3 위험성평가'!$A$4:$A$470)+1>E62,VLOOKUP(E62,'3-3 위험성평가'!$A$5:$P$470,6,0),\"\")","v":""},{"$f":"IF(MAX('3-3 위험성평가'!$A$4:$A$470)+1>E62,VLOOKUP(E62,'3-3 위험성평가'!$A$5:$P$470,9,0),\"\")","v":""},{"$f":"IF(MAX('3-3 위험성평가'!$A$4:$A$536)+1>E62,VLOOKUP(E62,'3-3 위험성평가'!$A$5:$P$536,12,0),\"\")&IF(L62>\"\",\".\"&E62,\"\")","v":""},{"$f":"IF(MAX('3-3 위험성평가'!$A$4:$A$470)+1>E62,VLOOKUP(E62,'3-3 위험성평가'!$A$5:$P$470,13,0),\"\")","v":""},null,"하",null,null,null,null,null,null,null,"선택안함",0,{"$f":"IF(MAX('3-3 위험성평가'!$A$4:$A$470)+1>E62,VLOOKUP(E62,'3-3 위험성평가'!$A$5:$Q$470,17,0),\"\")","v":""},"선택",{"$f":"표지!$D$33","v":"시원건설"},{"$f":"표지!$E$34","v":"김길동4"},"선택안함",0]
["T40",4,"S40",4,55,{"$f":"IF(MAX('3-3 위험성평가'!$A$4:$A$470)+1>E63,VLOOKUP(E63,'3-3 위험성평가'!$A$5:$P$470,2,0),\"\")","v":""},{"$f":"IF(F63=\"\",\"\",VLOOKUP(VALUE(F63),'1-1 사업장 공정 정보'!$D$15:$P$32,5,0))","v":""},{"$f":"IF(MAX('3-3 위험성평가'!$A$4:$A$470)+1>E63,VLOOKUP(E63,'3-3 위험성평가'!$A$5:$P$470,3,0),\"\")","v":""},{"$f":"IF(MAX('3-3 위험성평가'!$A$4:$A$470)+1>E63,VLOOKUP(E63,'3-3 위험성평가'!$A$5:$P$470,4,0),\"\")","v":""},{"$f":"IF(MAX('3-3 위험성평가'!$A$4:$A$470)+1>E63,VLOOKUP(E63,'3-3 위험성평가'!$A$5:$P$470,5,0),\"\")","v":""},{"$f":"IF(MAX('3-3 위험성평가'!$A$4:$A$470)+1>E63,VLOOKUP(E63,'3-3 위험성평가'!$A$5:$P$470,6,0),\"\")","v":""},{"$f":"IF(MAX('3-3 위험성평가'!$A$4:$A$470)+1>E63,VLOOKUP(E63,'3-3 위험성평가'!$A$5:$P$470,9,0),\"\")","v":""},{"$f":"IF(MAX('3-3 위험성평가'!$A$4:$A$536)+1>E63,VLOOKUP(E63,'3-3 위험성평가'!$A$5:$P$536,12,0),\"\")&IF(L63>\"\",\".\"&E63,\"\")","v":""},{"$f":"IF(MAX('3-3 위험성평가'!$A$4:$A$470)+1>E63,VLOOKUP(E63,'3-3 위험성평가'!$A$5:$P$470,13,0),\"\")","v":""},null,"하",null,null,null,null,null,null,null,"선택안함",0,{"$f":"IF(MAX('3-3 위험성평가'!$A$4:$A$470)+1>E63,VLOOKUP(E63,'3-3 위험성평가'!$A$5:$Q$470,17,0),\"\")","v":""},"선택",{"$f":"표지!$D$33","v":"시원건설"},{"$f":"표지!$E$34","v":"김길동4"},"선택안함",0]
["T40",4,"S40",4,56,{"$f":"IF(MAX('3-3 위험성평가'!$A$4:$A$470)+1>E64,VLOOKUP(E64,'3-3 위험성평가'!$A$5:$P$470,2,0),\"\")","v":""},{"$f":"IF(F64=\"\",\"\",VLOOKUP(VALUE(F64),'1-1 사업장 공정 정보'!$D$15:$P$32,5,0))","v":""},{"$f":"IF(MAX('3-3 위험성평가'!$A$4:$A$470)+1>E64,VLOOKUP(E64,'3-3 위험성평가'!$A$5:$P$470,3,0),\"\")","v":""},{"$f":"IF(MAX('3-3 위험성평가'!$A$4:$A$470)+1>E64,VLOOKUP(E64,'3-3 위험성평가'!$A$5:$P$470,4,0),\"\")","v":""},{"$f":"IF(MAX('3-3 위험성평가'!$A$4:$A$470)+1>E64,VLOOKUP(E64,'3-3 위험성평가'!$A$5:$P$470,5,0),\"\")","v":""},{"$f":"IF(MAX('3-3 위험성평가'!$A$4:$A$470)+1>E64,VLOOKUP(E64,'3-3 위험성평가'!$A$5:$P$470,6,0),\"\")","v":""},{"$f":"IF(MAX('3-3 위험성평가'!$A$4:$A$470)+1>E64,VLOOKUP(E64,'3-3 위험성평가'!$A$5:$P$470,9,0),\"\")","v":""},{"$f":"IF(MAX('3-3 위험성평가'!$A$4:$A$536)+1>E64,VLOOKUP(E64,'3-3 위험성평가'!$A$5:$P$536,12,0),\"\")&IF(L64>\"\",\".\"&E64,\"\")","v":""},{"$f":"IF(MAX('3-3 위험성평가'!$A$4:$A$470)+1>E64,VLOOKUP(E64,'3-3 위험성평가'!$A$5:$P$470,13,0),\"\")","v":""},null,"하",null,null,null,null,null,null,null,"선택안함",0,{"$f":"IF(MAX('3-3 위험성평가'!$A$4:$A$470)+1>E64,VLOOKUP(E64,'3-3 위험성평가'!$A$5:$Q$470,17,0),\"\")","v":""},"선택",{"$f":"표지!$D$33","v":"시원건설"},{"$f":"표지!$E$34","v":"김길동4"},"선택안함",0]
["T40",4,"S40",4,57,{"$f":"IF(MAX('3-3 위험성평가'!$A$4:$A$470)+1>E65,VLOOKUP(E65,'3-3 위험성평가'!$A$5:$P$470,2,0),\"\")","v":""},{"$f":"IF(F65=\"\",\"\",VLOOKUP(VALUE(F65),'1-1 사업장 공정 정보'!$D$15:$P$32,5,0))","v":""},{"$f":"IF(MAX('3-3 위험성평가'!$A$4:$A$470)+1>E65,VLOOKUP(E65,'3-3 위험성평가'!$A$5:$P$470,3,0),\"\")","v":""},{"$f":"IF(MAX('3-3 위험성평가'!$A$4:$A$470)+1>E65,VLOOKUP(E65,'3-3 위험성평가'!$A$5:$P$470,4,0),\"\")","v":""},{"$f":"IF(MAX('3-3 위험성평가'!$A$4:$A$470)+1>E65,VLOOKUP(E65,'3-3 위험성평가'!$A$5:$P$470,5,0),\"\")","v":""},{"$f":"IF(MAX('3-3 위험성평가'!$A$4:$A$470)+1>E65,VLOOKUP(E65,'3-3 위험성평가'!$A$5:$P$470,6,0),\"\")","v":""},{"$f":"IF(MAX('3-3 위험성평가'!$A$4:$A$470)+1>E65,VLOOKUP(E65,'3-3 위험성평가'!$A$5:$P$470,9,0),\"\")","v":""},{"$f":"IF(MAX('3-3 위험성평가'!$A$4:$A$536)+1>E65,VLOOKUP(E65,'3-3 위험성평가'!$A$5:$P$536,12,0),\"\")&IF(L65>\"\",\".\"&E65,\"\")","v":""},{"$f":"IF(MAX('3-3 위험성평가'!$A$4:$A$470)+1>E65,VLOOKUP(E65,'3-3 위험성평가'!$A$5:$P$470,13,0),\"\")","v":""},null,"하",null,null,null,null,null,null,null,"선택안함",0,{"$f":"IF(MAX('3-3 위험성평가'!$A$4:$A$470)+1>E65,VLOOKUP(E65,'3-3 위험성평가'!$A$5:$Q$470,17,0),\"\")","v":""},"선택",{"$f":"표지!$D$33","v":"시원건설"},{"$f":"표지!$E$34","v":"김길동4"},"선택안함",0]
["T40",4,"S40",4,58,{"$f":"IF(MAX('3-3 위험성평가'!$A$4:$A$470)+1>E66,VLOOKUP(E66,'3-3 위험성평가'!$A$5:$P$470,2,0),\"\")","v":""},{"$f":"IF(F66=\"\",\"\",VLOOKUP(VALUE(F66),'1-1 사업장 공정 정보'!$D$15:$P$32,5,0))","v":""},{"$f":"IF(MAX('3-3 위험성평가'!$A$4:$A$470)+1>E66,VLOOKUP(E66,'3-3 위험성평가'!$A$5:$P$470,3,0),\"\")","v":""},{"$f":"IF(MAX('3-3 위험성평가'!$A$4:$A$470)+1>E66,VLOOKUP(E66,'3-3 위험성평가'!$A$5:$P$470,4,0),\"\")","v":""},{"$f":"IF(MAX('3-3 위험성평가'!$A$4:$A$470)+1>E66,VLOOKUP(E66,'3-3 위험성평가'!$A$5:$P$470,5,0),\"\")","v":""},{"$f":"IF(MAX('3-3 위험성평가'!$A$4:$A$470)+1>E66,VLOOKUP(E66,'3-3 위험성평가'!$A$5:$P$470,6,0),\"\")","v":""},{"$f":"IF(MAX('3-3 위험성평가'!$A$4:$A$470)+1>E66,VLOOKUP(E66,'3-3 위험성평가'!$A$5:$P$470,9,0),\"\")","v":""},{"$f":"IF(MAX('3-3 위험성평가'!$A$4:$A$536)+1>E66,VLOOKUP(E66,'3-3 위험성평가'!$A$5:$P$536,12,0),\"\")&IF(L66>\"\",\".\"&E66,\"\")","v":""},{"$f":"IF(MAX('3-3 위험성평가'!$A$4:$A$470)+1>E66,VLOOKUP(E66,'3-3 위험성평가'!$A$5:$P$470,13,0),\"\")","v":""},null,"하",null,null,null,null,null,null,null,"선택안함",0,{"$f":"IF(MAX('3-3 위험성평가'!$A$4:$A$470)+1>E66,VLOOKUP(E66,'3-3 위험성평가'!$A$5:$Q$470,17,0),\"\")","v":""},"선택",{"$f":"표지!$D$33","v":"시원건설"},{"$f":"표지!$E$34","v":"김길동4"},"선택안함",0]
["T40",4,"S40",4,59,{"$f":"IF(MAX('3-3 위험성평가'!$A$4:$A$470)+1>E67,VLOOKUP(E67,'3-3 위험성평가'!$A$5:$P$470,2,0),\"\")","v":""},{"$f":"IF(F67=\"\",\"\",VLOOKUP(VALUE(F67),'1-1 사업장 공정 정보'!$D$15:$P$32,5,0))","v":""},{"$f":"IF(MAX('3-3 위험성평가'!$A$4:$A$470)+1>E67,VLOOKUP(E67,'3-3 위험성평가'!$A$5:$P$470,3,0),\"\")","v":""},{"$f":"IF(MAX('3-3 위험성평가'!$A$4:$A$470)+1>E67,VLOOKUP(E67,'3-3 위험성평가'!$A$5:$P$470,4,0),\"\")","v":""},{"$f":"IF(MAX('3-3 위험성평가'!$A$4:$A$470)+1>E67,VLOOKUP(E67,'3-3 위험성평가'!$A$5:$P$470,5,0),\"\")","v":""},{"$f":"IF(MAX('3-3 위험성평가'!$A$4:$A$470)+1>E67,VLOOKUP(E67,'3-3 위험성평가'!$A$5:$P$470,6,0),\"\")","v":""},{"$f":"IF(MAX('3-3 위험성평가'!$A$4:$A$470)+1>E67,VLOOKUP(E67,'3-3 위험성평가'!$A$5:$P$470,9,0),\"\")","v":""},{"$f":"IF(MAX('3-3 위험성평가'!$A$4:$A$536)+1>E67,VLOOKUP(E67,'3-3 위험성평가'!$A$5:$P$536,12,0),\"\")&IF(L67>\"\",\".\"&E67,\"\")","v":""},{"$f":"IF(MAX('3-3 위험성평가'!$A$4:$A$470)+1>E67,VLOOKUP(E67,'3-3 위험성평가'!$A$5:$P$470,13,0),\"\")","v":""},null,"하",null,null,null,null,null,null,null,"선택안함",0,{"$f":"IF(MAX('3-3 위험성평가'!$A$4:$A$470)+1>E67,VLOOKUP(E67,'3-3 위험성평가'!$A$5:$Q$470,17,0),\"\")","v":""},"선택",{"$f":"표지!$D$33","v":"시원건설"},{"$f":"표지!$E$34","v":"김길동4"},"선택안함",0]
["T40",4,"S40",4,60,{"$f":"IF(MAX('3-3 위험성평가'!$A$4:$A$470)+1>E68,VLOOKUP(E68,'3-3 위험성평가'!$A$5:$P$470,2,0),\"\")","v":""},{"$f":"IF(F68=\"\",\"\",VLOOKUP(VALUE(F68),'1-1 사업장 공정 정보'!$D$15:$P$32,5,0))","v":""},{"$f":"IF(MAX('3-3 위험성평가'!$A$4:$A$470)+1>E68,VLOOKUP(E68,'3-3 위험성평가'!$A$5:$P$470,3,0),\"\")","v":""},{"$f":"IF(MAX('3-3 위험성평가'!$A$4:$A$470)+1>E68,VLOOKUP(E68,'3-3 위험성평가'!$A$5:$P$470,4,0),\"\")","v":""},{"$f":"IF(MAX('3-3 위험성평가'!$A$4:$A$470)+1>E68,VLOOKUP(E68,'3-3 위험성평가'!$A$5:$P$470,5,0),\"\")","v":""},{"$f":"IF(MAX('3-3 위험성평가'!$A$4:$A$470)+1>E68,VLOOKUP(E68,'3-3 위험성평가'!$A$5:$P$470,6,0),\"\")","v":""},{"$f":"IF(MAX('3-3 위험성평가'!$A$4:$A$470)+1>E68,VLOOKUP(E68,'3-3 위험성평가'!$A$5:$P$470,9,0),\"\")","v":""},{"$f":"IF(MAX('3-3 위험성평가'!$A$4:$A$536)+1>E68,VLOOKUP(E68,'3-3 위험성평가'!$A$5:$P$536,12,0),\"\")&IF(L68>\"\",\".\"&E68,\"\")","v":""},{"$f":"IF(MAX('3-3 위험성평가'!$A$4:$A$470)+1>E68,VLOOKUP(E68,'3-3 위험성평가'!$A$5:$P$470,13,0),\"\")","v":""},null,"하",null,null,null,null,null,null,null,"선택안함",0,{"$f":"IF(MAX('3-3 위험성평가'!$A$4:$A$470)+1>E68,VLOOKUP(E68,'3-3 위험성평가'!$A$5:$Q$470,17,0),\"\")","v":""},"선택",{"$f":"표지!$D$33","v":"시원건설"},{"$f":"표지!$E$34","v":"김길동4"},"선택안함",0]
["T40",4,"S40",4,61,{"$f":"IF(MAX('3-3 위험성평가'!$A$4:$A$470)+1>E69,VLOOKUP(E69,'3-3 위험성평가'!$A$5:$P$470,2,0),\"\")","v":""},{"$f":"IF(F69=\"\",\"\",VLOOKUP(VALUE(F69),'1-1 사업장 공정 정보'!$D$15:$P$32,5,0))","v":""},{"$f":"IF(MAX('3-3 위험성평가'!$A$4:$A$470)+1>E69,VLOOKUP(E69,'3-3 위험성평가'!$A$5:$P$470,3,0),\"\")","v":""},{"$f":"IF(MAX('3-3 위험성평가'!$A$4:$A$470)+1>E69,VLOOKUP(E69,'3-3 위험성평가'!$A$5:$P$470,4,0),\"\")","v":""},{"$f":"IF(MAX('3-3 위험성평가'!$A$4:$A$470)+1>E69,VLOOKUP(E69,'3-3 위험성평가'!$A$5:$P$470,5,0),\"\")","v":""},{"$f":"IF(MAX('3-3 위험성평가'!$A$4:$A$470)+1>E69,VLOOKUP(E69,'3-3 위험성평가'!$A$5:$P$470,6,0),\"\")","v":""},{"$f":"IF(MAX('3-3 위험성평가'!$A$4:$A$470)+1>E69,VLOOKUP(E69,'3-3 위험성평가'!$A$5:$P$470,9,0),\"\")","v":""},{"$f":"IF(MAX('3-3 위험성평가'!$A$4:$A$536)+1>E69,VLOOKUP(E69,'3-3 위험성평가'!$A$5:$P$536,12,0),\"\")&IF(L69>\"\",\".\"&E69,\"\")","v":""},{"$f":"IF(MAX('3-3 위험성평가'!$A$4:$A$470)+1>E69,VLOOKUP(E69,'3-3 위험성평가'!$A$5:$P$470,13,0),\"\")","v":""},null,"하",null,null,null,null,null,null,null,"선택안함",0,{"$f":"IF(MAX('3-3 위험성평가'!$A$4:$A$470)+1>E69,VLOOKUP(E69,'3-3 위험성평가'!$A$5:$Q$470,17,0),\"\")","v":""},"선택",{"$f":"표지!$D$33","v":"시원건설"},{"$f":"표지!$E$34","v":"김길동4"},"선택안함",0]
["T40",4,"S40",4,62,{"$f":"IF(MAX('3-3 위험성평가'!$A$4:$A$470)+1>E70,VLOOKUP(E70,'3-3 위험성평가'!$A$5:$P$470,2,0),\"\")","v":""},{"$f":"IF(F70=\"\",\"\",VLOOKUP(VALUE(F70),'1-1 사업장 공정 정보'!$D$15:$P$32,5,0))","v":""},{"$f":"IF(MAX('3-3 위험성평가'!$A$4:$A$470)+1>E70,VLOOKUP(E70,'3-3 위험성평가'!$A$5:$P$470,3,0),\"\")","v":""},{"$f":"IF(MAX('3-3 위험성평가'!$A$4:$A$470)+1>E70,VLOOKUP(E70,'3-3 위험성평가'!$A$5:$P$470,4,0),\"\")","v":""},{"$f":"IF(MAX('3-3 위험성평가'!$A$4:$A$470)+1>E70,VLOOKUP(E70,'3-3 위험성평가'!$A$5:$P$470,5,0),\"\")","v":""},{"$f":"IF(MAX('3-3 위험성평가'!$A$4:$A$470)+1>E70,VLOOKUP(E70,'3-3 위험성평가'!$A$5:$P$470,6,0),\"\")","v":""},{"$f":"IF(MAX('3-3 위험성평가'!$A$4:$A$470)+1>E70,VLOOKUP(E70,'3-3 위험성평가'!$A$5:$P$470,9,0),\"\")","v":""},{"$f":"IF(MAX('3-3 위험성평가'!$A$4:$A$536)+1>E70,VLOOKUP(E70,'3-3 위험성평가'!$A$5:$P$536,12,0),\"\")&IF(L70>\"\",\".\"&E70,\"\")","v":""},{"$f":"IF(MAX('3-3 위험성평가'!$A$4:$A$470)+1>E70,VLOOKUP(E70,'3-3 위험성평가'!$A$5:$P$470,13,0),\"\")","v":""},null,"하",null,null,null,null,null,null,null,"선택안함",0,{"$f":"IF(MAX('3-3 위험성평가'!$A$4:$A$470)+1>E70,VLOOKUP(E70,'3-3 위험성평가'!$A$5:$Q$470,17,0),\"\")","v":""},"선택",{"$f":"표지!$D$33","v":"시원건설"},{"$f":"표지!$E$34","v":"김길동4"},"선택안함",0]
["T40",4,"S40",4,63,{"$f":"IF(MAX('3-3 위험성평가'!$A$4:$A$470)+1>E71,VLOOKUP(E71,'3-3 위험성평가'!$A$5:$P$470,2,0),\"\")","v":""},{"$f":"IF(F71=\"\",\"\",VLOOKUP(VALUE(F71),'1-1 사업장 공정 정보'!$D$15:$P$32,5,0))","v":""},{"$f":"IF(MAX('3-3 위험성평가'!$A$4:$A$470)+1>E71,VLOOKUP(E71,'3-3 위험성평가'!$A$5:$P$470,3,0),\"\")","v":""},{"$f":"IF(MAX('3-3 위험성평가'!$A$4:$A$470)+1>E71,VLOOKUP(E71,'3-3 위험성평가'!$A$5:$P$470,4,0),\"\")","v":""},{"$f":"IF(MAX('3-3 위험성평가'!$A$4:$A$470)+1>E71,VLOOKUP(E71,'3-3 위험성평가'!$A$5:$P$470,5,0),\"\")","v":""},{"$f":"IF(MAX('3-3 위험성평가'!$A$4:$A$470)+1>E71,VLOOKUP(E71,'3-3 위험성평가'!$A$5:$P$470,6,0),\"\")","v":""},{"$f":"IF(MAX('3-3 위험성평가'!$A$4:$A$470)+1>E71,VLOOKUP(E71,'3-3 위험성평가'!$A$5:$P$470,9,0),\"\")","v":""},{"$f":"IF(MAX('3-3 위험성평가'!$A$4:$A$536)+1>E71,VLOOKUP(E71,'3-3 위험성평가'!$A$5:$P$536,12,0),\"\")&IF(L71>\"\",\".\"&E71,\"\")","v":""},{"$f":"IF(MAX('3-3 위험성평가'!$A$4:$A$470)+1>E71,VLOOKUP(E71,'3-3 위험성평가'!$A$5:$P$470,13,0),\"\")","v":""},null,"하",null,null,null,null,null,null,null,"선택안함",0,{"$f":"IF(MAX('3-3 위험성평가'!$A$4:$A$470)+1>E71,VLOOKUP(E71,'3-3 위험성평가'!$A$5:$Q$470,17,0),\"\")","v":""},"선택",{"$f":"표지!$D$33","v":"시원건설"},{"$f":"표지!$E$34","v":"김길동4"},"선택안함",0]
["T40",4,"S40",4,64,{"$f":"IF(MAX('3-3 위험성평가'!$A$4:$A$470)+1>E72,VLOOKUP(E72,'3-3 위험성평가'!$A$5:$P$470,2,0),\"\")","v":""},{"$f":"IF(F72=\"\",\"\",VLOOKUP(VALUE(F72),'1-1 사업장 공정 정보'!$D$15:$P$32,5,0))","v":""},{"$f":"IF(MAX('3-3 위험성평가'!$A$4:$A$470)+1>E72,VLOOKUP(E72,'3-3 위험성평가'!$A$5:$P$470,3,0),\"\")","v":""},{"$f":"IF(MAX('3-3 위험성평가'!$A$4:$A$470)+1>E72,VLOOKUP(E72,'3-3 위험성평가'!$A$5:$P$470,4,0),\"\")","v":""},{"$f":"IF(MAX('3-3 위험성평가'!$A$4:$A$470)+1>E72,VLOOKUP(E72,'3-3 위험성평가'!$A$5:$P$470,5,0),\"\")","v":""},{"$f":"IF(MAX('3-3 위험성평가'!$A$4:$A$470)+1>E72,VLOOKUP(E72,'3-3 위험성평가'!$A$5:$P$470,6,0),\"\")","v":""},{"$f":"IF(MAX('3-3 위험성평가'!$A$4:$A$470)+1>E72,VLOOKUP(E72,'3-3 위험성평가'!$A$5:$P$470,9,0),\"\")","v":""},{"$f":"IF(MAX('3-3 위험성평가'!$A$4:$A$536)+1>E72,VLOOKUP(E72,'3-3 위험성평가'!$A$5:$P$536,12,0),\"\")&IF(L72>\"\",\".\"&E72,\"\")","v":""},{"$f":"IF(MAX('3-3 위험성평가'!$A$4:$A$470)+1>E72,VLOOKUP(E72,'3-3 위험성평가'!$A$5:$P$470,13,0),\"\")","v":""},null,"하",null,null,null,null,null,null,null,"선택안함",0,{"$f":"IF(MAX('3-3 위험성평가'!$A$4:$A$470)+1>E72,VLOOKUP(E72,'3-3 위험성평가'!$A$5:$Q$470,17,0),\"\")","v":""},"선택",{"$f":"표지!$D$33","v":"시원건설"},{"$f":"표지!$E$34","v":"김길동4"},"선택안함",0]
[{"$f":"\"T\"&B73&IF(OR(X73=\"선택\",X73=1),1,0)","v":"T40"},4,"S40",4,65,{"$f":"IF(MAX('3-3 위험성평가'!$A$4:$A$470)+1>E73,VLOOKUP(E73,'3-3 위험성평가'!$A$5:$P$470,2,0),\"\")","v":""},{"$f":"IF(F73=\"\",\"\",VLOOKUP(VALUE(F73),'1-1 사업장 공정 정보'!$D$15:$P$32,5,0))","v":""},{"$f":"IF(MAX('3-3 위험성평가'!$A$4:$A$470)+1>E73,VLOOKUP(E73,'3-3 위험성평가'!$A$5:$P$470,3,0),\"\")","v":""},{"$f":"IF(MAX('3-3 위험성평가'!$A$4:$A$470)+1>E73,VLOOKUP(E73,'3-3 위험성평가'!$A$5:$P$470,4,0),\"\")","v":""},{"$f":"IF(MAX('3-3 위험성평가'!$A$4:$A$470)+1>E73,VLOOKUP(E73,'3-3 위험성평가'!$A$5:$P$470,5,0),\"\")","v":""},{"$f":"IF(MAX('3-3 위험성평가'!$A$4:$A$470)+1>E73,VLOOKUP(E73,'3-3 위험성평가'!$A$5:$P$470,6,0),\"\")","v":""},{"$f":"IF(MAX('3-3 위험성평가'!$A$4:$A$470)+1>E73,VLOOKUP(E73,'3-3 위험성평가'!$A$5:$P$470,9,0),\"\")","v":""},{"$f":"IF(MAX('3-3 위험성평가'!$A$4:$A$536)+1>E73,VLOOKUP(E73,'3-3 위험성평가'!$A$5:$P$536,12,0),\"\")&IF(L73>\"\",\".\"&E73,\"\")","v":""},{"$f":"IF(MAX('3-3 위험성평가'!$A$4:$A$470)+1>E73,VLOOKUP(E73,'3-3 위험성평가'!$A$5:$P$470,13,0),\"\")","v":""},null,"하",null,null,null,null,null,null,null,"선택안함",0,{"$f":"IF(MAX('3-3 위험성평가'!$A$4:$A$470)+1>E73,VLOOKUP(E73,'3-3 위험성평가'!$A$5:$Q$470,17,0),\"\")","v":""},"선택",{"$f":"표지!$D$33","v":"시원건설"},{"$f":"표지!$E$34","v":"김길동4"},"선택안함",0]
["T40",4,{"$f":"\"S\"&D74&IF(OR(AD74=\"선택\",AD74=1),1,0)","v":"S40"},4,66,{"$f":"IF(MAX('3-3 위험성평가'!$A$4:$A$470)+1>E74,VLOOKUP(E74,'3-3 위험성평가'!$A$5:$P$470,2,0),\"\")","v":""},{"$f":"IF(F74=\"\",\"\",VLOOKUP(VALUE(F74),'1-1 사업장 공정 정보'!$D$15:$P$32,5,0))","v":""},{"$f":"IF(MAX('3-3 위험성평가'!$A$4:$A$470)+1>E74,VLOOKUP(E74,'3-3 위험성평가'!$A$5:$P$470,3,0),\"\")","v":""},{"$f":"IF(MAX('3-3 위험성평가'!$A$4:$A$470)+1>E74,VLOOKUP(E74,'3-3 위험성평가'!$A$5:$P$470,4,0),\"\")","v":""},{"$f":"IF(MAX('3-3 위험성평가'!$A$4:$A$470)+1>E74,VLOOKUP(E74,'3-3 위험성평가'!$A$5:$P$470,5,0),\"\")","v":""},{"$f":"IF(MAX('3-3 위험성평가'!$A$4:$A$470)+1>E74,VLOOKUP(E74,'3-3 위험성평가'!$A$5:$P$470,6,0),\"\")","v":""},{"$f":"IF(MAX('3-3 위험성평가'!$A$4:$A$470)+1>E74,VLOOKUP(E74,'3-3 위험성평가'!$A$5:$P$470,9,0),\"\")","v":""},{"$f":"IF(MAX('3-3 위험성평가'!$A$4:$A$536)+1>E74,VLOOKUP(E74,'3-3 위험성평가'!$A$5:$P$536,12,0),\"\")&IF(L74>\"\",\".\"&E74,\"\")","v":""},{"$f":"IF(MAX('3-3 위험성평가'!$A$4:$A$470)+1>E74,VLOOKUP(E74,'3-3 위험성평가'!$A$5:$P$470,13,0),\"\")","v":""},null,"하",null,null,null,null,null,null,null,"선택안함",{"$f":"IF(OR(X74=\"선택\",X74=1),1,0)","v":0},{"$f":"IF(MAX('3-3 위험성평가'!$A$4:$A$470)+1>E74,VLOOKUP(E74,'3-3 위험성평가'!$A$5:$Q$470,17,0),\"\")","v":""},"선택",{"$f":"표지!$D$33","v":"시원건설"},{"$f":"표지!$E$34","v":"김길동4"},"선택안함",{"$f":"IF(OR(AD74=\"선택\",AD74=1),1,0)","v":0}]
["T40",{"$f":"B74+Y75","v":4},"S40",4,67,{"$f":"IF(MAX('3-3 위험성평가'!$A$4:$A$470)+1>E75,VLOOKUP(E75,'3-3 위험성평가'!$A$5:$P$470,2,0),\"\")","v":""},{"$f":"IF(F75=\"\",\"\",VLOOKUP(VALUE(F75),'1-1 사업장 공정 정보'!$D$15:$P$32,5,0))","v":""},{"$f":"IF(MAX('3-3 위험성평가'!$A$4:$A$470)+1>E75,VLOOKUP(E75,'3-3 위험성평가'!$A$5:$P$470,3,0),\"\")","v":""},{"$f":"IF(MAX('3-3 위험성평가'!$A$4:$A$470)+1>E75,VLOOKUP(E75,'3-3 위험성평가'!$A$5:$P$470,4,0),\"\")","v":""},{"$f":"IF(MAX('3-3 위험성평가'!$A$4:$A$470)+1>E75,VLOOKUP(E75,'3-3 위험성평가'!$A$5:$P$470,5,0),\"\")","v":""},{"$f":"IF(MAX('3-3 위험성평가'!$A$4:$A$470)+1>E75,VLOOKUP(E75,'3-3 위험성평가'!$A$5:$P$470,6,0),\"\")","v":""},{"$f":"IF(MAX('3-3 위험성평가'!$A$4:$A$470)+1>E75,VLOOKUP(E75,'3-3 위험성평가'!$A$5:$P$470,9,0),\"\")","v":""},{"$f":"IF(MAX('3-3 위험성평가'!$A$4:$A$536)+1>E75,VLOOKUP(E75,'3-3 위험성평가'!$A$5:$P$536,12,0),\"\")&IF(L75>\"\",\".\"&E75,\"\")","v":""},{"$f":"IF(MAX('3-3 위험성평가'!$A$4:$A$470)+1>E75,VLOOKUP(E75,'3-3 위험성평가'!$A$5:$P$470,13,0),\"\")","v":""},null,"하",null,null,null,null,null,null,null,"선택안함",0,{"$f":"IF(MAX('3-3 위험성평가'!$A$4:$A$470)+1>E75,VLOOKUP(E75,'3-3 위험성평가'!$A$5:$Q$470,17,0),\"\")","v":""},"선택",{"$f":"표지!$D$33","v":"시원건설"},{"$f":"표지!$E$34","v":"김길동4"},"선택안함",0]
["T40",4,"S40",{"$f":"D75+AE76","v":4},68,{"$f":"IF(MAX('3-3 위험성평가'!$A$4:$A$470)+1>E76,VLOOKUP(E76,'3-3 위험성평가'!$A$5:$P$470,2,0),\"\")","v":""},{"$f":"IF(F76=\"\",\"\",VLOOKUP(VALUE(F76),'1-1 사업장 공정 정보'!$D$15:$P$32,5,0))","v":""},{"$f":"IF(MAX('3-3 위험성평가'!$A$4:$A$470)+1>E76,VLOOKUP(E76,'3-3 위험성평가'!$A$5:$P$470,3,0),\"\")","v":""},{"$f":"IF(MAX('3-3 위험성평가'!$A$4:$A$470)+1>E76,VLOOKUP(E76,'3-3 위험성평가'!$A$5:$P$470,4,0),\"\")","v":""},{"$f":"IF(MAX('3-3 위험성평가'!$A$4:$A$470)+1>E76,VLOOKUP(E76,'3-3 위험성평가'!$A$5:$P$470,5,0),\"\")","v":""},{"$f":"IF(MAX('3-3 위험성평가'!$A$4:$A$470)+1>E76,VLOOKUP(E76,'3-3 위험성평가'!$A$5:$P$470,6,0),\"\")","v":""},{"$f":"IF(MAX('3-3 위험성평가'!$A$4:$A$470)+1>E76,VLOOKUP(E76,'3-3 위험성평가'!$A$5:$P$470,9,0),\"\")","v":""},{"$f":"IF(MAX('3-3 위험성평가'!$A$4:$A$536)+1>E76,VLOOKUP(E76,'3-3 위험성평가'!$A$5:$P$536,12,0),\"\")&IF(L76>\"\",\".\"&E76,\"\")","v":""},{"$f":"IF(MAX('3-3 위험성평가'!$A$4:$A$470)+1>E76,VLOOKUP(E76,'3-3 위험성평가'!$A$5:$P$470,13,0),\"\")","v":""},null,"하",null,null,null,null,null,null,null,"선택안함",0,{"$f":"IF(MAX('3-3 위험성평가'!$A$4:$A$470)+1>E76,VLOOKUP(E76,'3-3 위험성평가'!$A$5:$Q$470,17,0),\"\")","v":""},"선택",{"$f":"표지!$D$33","v":"시원건설"},{"$f":"표지!$E$34","v":"김길동4"},"선택안함",0]
["T40",4,"S40",4,69,{"$f":"IF(MAX('3-3 위험성평가'!$A$4:$A$470)+1>E77,VLOOKUP(E77,'3-3 위험성평가'!$A$5:$P$470,2,0),\"\")","v":""},{"$f":"IF(F77=\"\",\"\",VLOOKUP(VALUE(F77),'1-1 사업장 공정 정보'!$D$15:$P$32,5,0))","v":""},{"$f":"IF(MAX('3-3 위험성평가'!$A$4:$A$470)+1>E77,VLOOKUP(E77,'3-3 위험성평가'!$A$5:$P$470,3,0),\"\")","v":""},{"$f":"IF(MAX('3-3 위험성평가'!$A$4:$A$470)+1>E77,VLOOKUP(E77,'3-3 위험성평가'!$A$5:$P$470,4,0),\"\")","v":""},{"$f":"IF(MAX('3-3 위험성평가'!$A$4:$A$470)+1>E77,VLOOKUP(E77,'3-3 위험성평가'!$A$5:$P$470,5,0),\"\")","v":""},{"$f":"IF(MAX('3-3 위험성평가'!$A$4:$A$470)+1>E77,VLOOKUP(E77,'3-3 위험성평가'!$A$5:$P$470,6,0),\"\")","v":""},{"$f":"IF(MAX('3-3 위험성평가'!$A$4:$A$470)+1>E77,VLOOKUP(E77,'3-3 위험성평가'!$A$5:$P$470,9,0),\"\")","v":""},{"$f":"IF(MAX('3-3 위험성평가'!$A$4:$A$536)+1>E77,VLOOKUP(E77,'3-3 위험성평가'!$A$5:$P$536,12,0),\"\")&IF(L77>\"\",\".\"&E77,\"\")","v":""},{"$f":"IF(MAX('3-3 위험성평가'!$A$4:$A$470)+1>E77,VLOOKUP(E77,'3-3 위험성평가'!$A$5:$P$470,13,0),\"\")","v":""},null,"하",null,null,null,null,null,null,null,"선택안함",0,{"$f":"IF(MAX('3-3 위험성평가'!$A$4:$A$470)+1>E77,VLOOKUP(E77,'3-3 위험성평가'!$A$5:$Q$470,17,0),\"\")","v":""},"선택",{"$f":"표지!$D$33","v":"시원건설"},{"$f":"표지!$E$34","v":"김길동4"},"선택안함",0]
["T40",4,"S40",4,70,{"$f":"IF(MAX('3-3 위험성평가'!$A$4:$A$470)+1>E78,VLOOKUP(E78,'3-3 위험성평가'!$A$5:$P$470,2,0),\"\")","v":""},{"$f":"IF(F78=\"\",\"\",VLOOKUP(VALUE(F78),'1-1 사업장 공정 정보'!$D$15:$P$32,5,0))","v":""},{"$f":"IF(MAX('3-3 위험성평가'!$A$4:$A$470)+1>E78,VLOOKUP(E78,'3-3 위험성평가'!$A$5:$P$470,3,0),\"\")","v":""},{"$f":"IF(MAX('3-3 위험성평가'!$A$4:$A$470)+1>E78,VLOOKUP(E78,'3-3 위험성평가'!$A$5:$P$470,4,0),\"\")","v":""},{"$f":"IF(MAX('3-3 위험성평가'!$A$4:$A$470)+1>E78,VLOOKUP(E78,'3-3 위험성평가'!$A$5:$P$470,5,0),\"\")","v":""},{"$f":"IF(MAX('3-3 위험성평가'!$A$4:$A$470)+1>E78,VLOOKUP(E78,'3-3 위험성평가'!$A$5:$P$470,6,0),\"\")","v":""},{"$f":"IF(MAX('3-3 위험성평가'!$A$4:$A$470)+1>E78,VLOOKUP(E78,'3-3 위험성평가'!$A$5:$P$470,9,0),\"\")","v":""},{"$f":"IF(MAX('3-3 위험성평가'!$A$4:$A$536)+1>E78,VLOOKUP(E78,'3-3 위험성평가'!$A$5:$P$536,12,0),\"\")&IF(L78>\"\",\".\"&E78,\"\")","v":""},{"$f":"IF(MAX('3-3 위험성평가'!$A$4:$A$470)+1>E78,VLOOKUP(E78,'3-3 위험성평가'!$A$5:$P$470,13,0),\"\")","v":""},null,"하",null,null,null,null,null,null,null,"선택안함",0,{"$f":"IF(MAX('3-3 위험성평가'!$A$4:$A$470)+1>E78,VLOOKUP(E78,'3-3 위험성평가'!$A$5:$Q$470,17,0),\"\")","v":""},"선택",{"$f":"표지!$D$33","v":"시원건설"},{"$f":"표지!$E$34","v":"김길동4"},"선택안함",0]
["T40",4,"S40",4,71,{"$f":"IF(MAX('3-3 위험성평가'!$A$4:$A$470)+1>E79,VLOOKUP(E79,'3-3 위험성평가'!$A$5:$P$470,2,0),\"\")","v":""},{"$f":"IF(F79=\"\",\"\",VLOOKUP(VALUE(F79),'1-1 사업장 공정 정보'!$D$15:$P$32,5,0))","v":""},{"$f":"IF(MAX('3-3 위험성평가'!$A$4:$A$470)+1>E79,VLOOKUP(E79,'3-3 위험성평가'!$A$5:$P$470,3,0),\"\")","v":""},{"$f":"IF(MAX('3-3 위험성평가'!$A$4:$A$470)+1>E79,VLOOKUP(E79,'3-3 위험성평가'!$A$5:$P$470,4,0),\"\")","v":""},{"$f":"IF(MAX('3-3 위험성평가'!$A$4:$A$470)+1>E79,VLOOKUP(E79,'3-3 위험성평가'!$A$5:$P$470,5,0),\"\")","v":""},{"$f":"IF(MAX('3-3 위험성평가'!$A$4:$A$470)+1>E79,VLOOKUP(E79,'3-3 위험성평가'!$A$5:$P$470,6,0),\"\")","v":""},{"$f":"IF(MAX('3-3 위험성평가'!$A$4:$A$470)+1>E79,VLOOKUP(E79,'3-3 위험성평가'!$A$5:$P$470,9,0),\"\")","v":""},{"$f":"IF(MAX('3-3 위험성평가'!$A$4:$A$536)+1>E79,VLOOKUP(E79,'3-3 위험성평가'!$A$5:$P$536,12,0),\"\")&IF(L79>\"\",\".\"&E79,\"\")","v":""},{"$f":"IF(MAX('3-3 위험성평가'!$A$4:$A$470)+1>E79,VLOOKUP(E79,'3-3 위험성평가'!$A$5:$P$470,13,0),\"\")","v":""},null,"하",null,null,null,null,null,null,null,"선택안함",0,{"$f":"IF(MAX('3-3 위험성평가'!$A$4:$A$470)+1>E79,VLOOKUP(E79,'3-3 위험성평가'!$A$5:$Q$470,17,0),\"\")","v":""},"선택",{"$f":"표지!$D$33","v":"시원건설"},{"$f":"표지!$E$34","v":"김길동4"},"선택안함",0]
["T40",4,"S40",4,72,{"$f":"IF(MAX('3-3 위험성평가'!$A$4:$A$470)+1>E80,VLOOKUP(E80,'3-3 위험성평가'!$A$5:$P$470,2,0),\"\")","v":""},{"$f":"IF(F80=\"\",\"\",VLOOKUP(VALUE(F80),'1-1 사업장 공정 정보'!$D$15:$P$32,5,0))","v":""},{"$f":"IF(MAX('3-3 위험성평가'!$A$4:$A$470)+1>E80,VLOOKUP(E80,'3-3 위험성평가'!$A$5:$P$470,3,0),\"\")","v":""},{"$f":"IF(MAX('3-3 위험성평가'!$A$4:$A$470)+1>E80,VLOOKUP(E80,'3-3 위험성평가'!$A$5:$P$470,4,0),\"\")","v":""},{"$f":"IF(MAX('3-3 위험성평가'!$A$4:$A$470)+1>E80,VLOOKUP(E80,'3-3 위험성평가'!$A$5:$P$470,5,0),\"\")","v":""},{"$f":"IF(MAX('3-3 위험성평가'!$A$4:$A$470)+1>E80,VLOOKUP(E80,'3-3 위험성평가'!$A$5:$P$470,6,0),\"\")","v":""},{"$f":"IF(MAX('3-3 위험성평가'!$A$4:$A$470)+1>E80,VLOOKUP(E80,'3-3 위험성평가'!$A$5:$P$470,9,0),\"\")","v":""},{"$f":"IF(MAX('3-3 위험성평가'!$A$4:$A$536)+1>E80,VLOOKUP(E80,'3-3 위험성평가'!$A$5:$P$536,12,0),\"\")&IF(L80>\"\",\".\"&E80,\"\")","v":""},{"$f":"IF(MAX('3-3 위험성평가'!$A$4:$A$470)+1>E80,VLOOKUP(E80,'3-3 위험성평가'!$A$5:$P$470,13,0),\"\")","v":""},null,"하",null,null,null,null,null,null,null,"선택안함",0,{"$f":"IF(MAX('3-3 위험성평가'!$A$4:$A$470)+1>E80,VLOOKUP(E80,'3-3 위험성평가'!$A$5:$Q$470,17,0),\"\")","v":""},"선택",{"$f":"표지!$D$33","v":"시원건설"},{"$f":"표지!$E$34","v":"김길동4"},"선택안함",0]
["T40",4,"S40",4,73,{"$f":"IF(MAX('3-3 위험성평가'!$A$4:$A$470)+1>E81,VLOOKUP(E81,'3-3 위험성평가'!$A$5:$P$470,2,0),\"\")","v":""},{"$f":"IF(F81=\"\",\"\",VLOOKUP(VALUE(F81),'1-1 사업장 공정 정보'!$D$15:$P$32,5,0))","v":""},{"$f":"IF(MAX('3-3 위험성평가'!$A$4:$A$470)+1>E81,VLOOKUP(E81,'3-3 위험성평가'!$A$5:$P$470,3,0),\"\")","v":""},{"$f":"IF(MAX('3-3 위험성평가'!$A$4:$A$470)+1>E81,VLOOKUP(E81,'3-3 위험성평가'!$A$5:$P$470,4,0),\"\")","v":""},{"$f":"IF(MAX('3-3 위험성평가'!$A$4:$A$470)+1>E81,VLOOKUP(E81,'3-3 위험성평가'!$A$5:$P$470,5,0),\"\")","v":""},{"$f":"IF(MAX('3-3 위험성평가'!$A$4:$A$470)+1>E81,VLOOKUP(E81,'3-3 위험성평가'!$A$5:$P$470,6,0),\"\")","v":""},{"$f":"IF(MAX('3-3 위험성평가'!$A$4:$A$470)+1>E81,VLOOKUP(E81,'3-3 위험성평가'!$A$5:$P$470,9,0),\"\")","v":""},{"$f":"IF(MAX('3-3 위험성평가'!$A$4:$A$536)+1>E81,VLOOKUP(E81,'3-3 위험성평가'!$A$5:$P$536,12,0),\"\")&IF(L81>\"\",\".\"&E81,\"\")","v":""},{"$f":"IF(MAX('3-3 위험성평가'!$A$4:$A$470)+1>E81,VLOOKUP(E81,'3-3 위험성평가'!$A$5:$P$470,13,0),\"\")","v":""},null,"하",null,null,null,null,null,null,null,"선택안함",0,{"$f":"IF(MAX('3-3 위험성평가'!$A$4:$A$470)+1>E81,VLOOKUP(E81,'3-3 위험성평가'!$A$5:$Q$470,17,0),\"\")","v":""},"선택",{"$f":"표지!$D$33","v":"시원건설"},{"$f":"표지!$E$34","v":"김길동4"},"선택안함",0]
["T40",4,"S40",4,74,{"$f":"IF(MAX('3-3 위험성평가'!$A$4:$A$470)+1>E82,VLOOKUP(E82,'3-3 위험성평가'!$A$5:$P$470,2,0),\"\")","v":""},{"$f":"IF(F82=\"\",\"\",VLOOKUP(VALUE(F82),'1-1 사업장 공정 정보'!$D$15:$P$32,5,0))","v":""},{"$f":"IF(MAX('3-3 위험성평가'!$A$4:$A$470)+1>E82,VLOOKUP(E82,'3-3 위험성평가'!$A$5:$P$470,3,0),\"\")","v":""},{"$f":"IF(MAX('3-3 위험성평가'!$A$4:$A$470)+1>E82,VLOOKUP(E82,'3-3 위험성평가'!$A$5:$P$470,4,0),\"\")","v":""},{"$f":"IF(MAX('3-3 위험성평가'!$A$4:$A$470)+1>E82,VLOOKUP(E82,'3-3 위험성평가'!$A$5:$P$470,5,0),\"\")","v":""},{"$f":"IF(MAX('3-3 위험성평가'!$A$4:$A$470)+1>E82,VLOOKUP(E82,'3-3 위험성평가'!$A$5:$P$470,6,0),\"\")","v":""},{"$f":"IF(MAX('3-3 위험성평가'!$A$4:$A$470)+1>E82,VLOOKUP(E82,'3-3 위험성평가'!$A$5:$P$470,9,0),\"\")","v":""},{"$f":"IF(MAX('3-3 위험성평가'!$A$4:$A$536)+1>E82,VLOOKUP(E82,'3-3 위험성평가'!$A$5:$P$536,12,0),\"\")&IF(L82>\"\",\".\"&E82,\"\")","v":""},{"$f":"IF(MAX('3-3 위험성평가'!$A$4:$A$470)+1>E82,VLOOKUP(E82,'3-3 위험성평가'!$A$5:$P$470,13,0),\"\")","v":""},null,"하",null,null,null,null,null,null,null,"선택안함",0,{"$f":"IF(MAX('3-3 위험성평가'!$A$4:$A$470)+1>E82,VLOOKUP(E82,'3-3 위험성평가'!$A$5:$Q$470,17,0),\"\")","v":""},"선택",{"$f":"표지!$D$33","v":"시원건설"},{"$f":"표지!$E$34","v":"김길동4"},"선택안함",0]
["T40",4,"S40",4,75,{"$f":"IF(MAX('3-3 위험성평가'!$A$4:$A$470)+1>E83,VLOOKUP(E83,'3-3 위험성평가'!$A$5:$P$470,2,0),\"\")","v":""},{"$f":"IF(F83=\"\",\"\",VLOOKUP(VALUE(F83),'1-1 사업장 공정 정보'!$D$15:$P$32,5,0))","v":""},{"$f":"IF(MAX('3-3 위험성평가'!$A$4:$A$470)+1>E83,VLOOKUP(E83,'3-3 위험성평가'!$A$5:$P$470,3,0),\"\")","v":""},{"$f":"IF(MAX('3-3 위험성평가'!$A$4:$A$470)+1>E83,VLOOKUP(E83,'3-3 위험성평가'!$A$5:$P$470,4,0),\"\")","v":""},{"$f":"IF(MAX('3-3 위험성평가'!$A$4:$A$470)+1>E83,VLOOKUP(E83,'3-3 위험성평가'!$A$5:$P$470,5,0),\"\")","v":""},{"$f":"IF(MAX('3-3 위험성평가'!$A$4:$A$470)+1>E83,VLOOKUP(E83,'3-3 위험성평가'!$A$5:$P$470,6,0),\"\")","v":""},{"$f":"IF(MAX('3-3 위험성평가'!$A$4:$A$470)+1>E83,VLOOKUP(E83,'3-3 위험성평가'!$A$5:$P$470,9,0),\"\")","v":""},{"$f":"IF(MAX('3-3 위험성평가'!$A$4:$A$536)+1>E83,VLOOKUP(E83,'3-3 위험성평가'!$A$5:$P$536,12,0),\"\")&IF(L83>\"\",\".\"&E83,\"\")","v":""},{"$f":"IF(MAX('3-3 위험성평가'!$A$4:$A$470)+1>E83,VLOOKUP(E83,'3-3 위험성평가'!$A$5:$P$470,13,0),\"\")","v":""},null,"하",null,null,null,null,null,null,null,"선택안함",0,{"$f":"IF(MAX('3-3 위험성평가'!$A$4:$A$470)+1>E83,VLOOKUP(E83,'3-3 위험성평가'!$A$5:$Q$470,17,0),\"\")","v":""},"선택",{"$f":"표지!$D$33","v":"시원건설"},{"$f":"표지!$E$34","v":"김길동4"},"선택안함",0]
["T40",4,"S40",4,76,{"$f":"IF(MAX('3-3 위험성평가'!$A$4:$A$470)+1>E84,VLOOKUP(E84,'3-3 위험성평가'!$A$5:$P$470,2,0),\"\")","v":""},{"$f":"IF(F84=\"\",\"\",VLOOKUP(VALUE(F84),'1-1 사업장 공정 정보'!$D$15:$P$32,5,0))","v":""},{"$f":"IF(MAX('3-3 위험성평가'!$A$4:$A$470)+1>E84,VLOOKUP(E84,'3-3 위험성평가'!$A$5:$P$470,3,0),\"\")","v":""},{"$f":"IF(MAX('3-3 위험성평가'!$A$4:$A$470)+1>E84,VLOOKUP(E84,'3-3 위험성평가'!$A$5:$P$470,4,0),\"\")","v":""},{"$f":"IF(MAX('3-3 위험성평가'!$A$4:$A$470)+1>E84,VLOOKUP(E84,'3-3 위험성평가'!$A$5:$P$470,5,0),\"\")","v":""},{"$f":"IF(MAX('3-3 위험성평가'!$A$4:$A$470)+1>E84,VLOOKUP(E84,'3-3 위험성평가'!$A$5:$P$470,6,0),\"\")","v":""},{"$f":"IF(MAX('3-3 위험성평가'!$A$4:$A$470)+1>E84,VLOOKUP(E84,'3-3 위험성평가'!$A$5:$P$470,9,0),\"\")","v":""},{"$f":"IF(MAX('3-3 위험성평가'!$A$4:$A$536)+1>E84,VLOOKUP(E84,'3-3 위험성평가'!$A$5:$P$536,12,0),\"\")&IF(L84>\"\",\".\"&E84,\"\")","v":""},{"$f":"IF(MAX('3-3 위험성평가'!$A$4:$A$470)+1>E84,VLOOKUP(E84,'3-3 위험성평가'!$A$5:$P$470,13,0),\"\")","v":""},null,"하",null,null,null,null,null,null,null,"선택안함",0,{"$f":"IF(MAX('3-3 위험성평가'!$A$4:$A$470)+1>E84,VLOOKUP(E84,'3-3 위험성평가'!$A$5:$Q$470,17,0),\"\")","v":""},"선택",{"$f":"표지!$D$33","v":"시원건설"},{"$f":"표지!$E$34","v":"김길동4"},"선택안함",0]
["T40",4,"S40",4,77,{"$f":"IF(MAX('3-3 위험성평가'!$A$4:$A$470)+1>E85,VLOOKUP(E85,'3-3 위험성평가'!$A$5:$P$470,2,0),\"\")","v":""},{"$f":"IF(F85=\"\",\"\",VLOOKUP(VALUE(F85),'1-1 사업장 공정 정보'!$D$15:$P$32,5,0))","v":""},{"$f":"IF(MAX('3-3 위험성평가'!$A$4:$A$470)+1>E85,VLOOKUP(E85,'3-3 위험성평가'!$A$5:$P$470,3,0),\"\")","v":""},{"$f":"IF(MAX('3-3 위험성평가'!$A$4:$A$470)+1>E85,VLOOKUP(E85,'3-3 위험성평가'!$A$5:$P$470,4,0),\"\")","v":""},{"$f":"IF(MAX('3-3 위험성평가'!$A$4:$A$470)+1>E85,VLOOKUP(E85,'3-3 위험성평가'!$A$5:$P$470,5,0),\"\")","v":""},{"$f":"IF(MAX('3-3 위험성평가'!$A$4:$A$470)+1>E85,VLOOKUP(E85,'3-3 위험성평가'!$A$5:$P$470,6,0),\"\")","v":""},{"$f":"IF(MAX('3-3 위험성평가'!$A$4:$A$470)+1>E85,VLOOKUP(E85,'3-3 위험성평가'!$A$5:$P$470,9,0),\"\")","v":""},{"$f":"IF(MAX('3-3 위험성평가'!$A$4:$A$536)+1>E85,VLOOKUP(E85,'3-3 위험성평가'!$A$5:$P$536,12,0),\"\")&IF(L85>\"\",\".\"&E85,\"\")","v":""},{"$f":"IF(MAX('3-3 위험성평가'!$A$4:$A$470)+1>E85,VLOOKUP(E85,'3-3 위험성평가'!$A$5:$P$470,13,0),\"\")","v":""},null,"하",null,null,null,null,null,null,null,"선택안함",0,{"$f":"IF(MAX('3-3 위험성평가'!$A$4:$A$470)+1>E85,VLOOKUP(E85,'3-3 위험성평가'!$A$5:$Q$470,17,0),\"\")","v":""},"선택",{"$f":"표지!$D$33","v":"시원건설"},{"$f":"표지!$E$34","v":"김길동4"},"선택안함",0]
["T40",4,"S40",4,78,{"$f":"IF(MAX('3-3 위험성평가'!$A$4:$A$470)+1>E86,VLOOKUP(E86,'3-3 위험성평가'!$A$5:$P$470,2,0),\"\")","v":""},{"$f":"IF(F86=\"\",\"\",VLOOKUP(VALUE(F86),'1-1 사업장 공정 정보'!$D$15:$P$32,5,0))","v":""},{"$f":"IF(MAX('3-3 위험성평가'!$A$4:$A$470)+1>E86,VLOOKUP(E86,'3-3 위험성평가'!$A$5:$P$470,3,0),\"\")","v":""},{"$f":"IF(MAX('3-3 위험성평가'!$A$4:$A$470)+1>E86,VLOOKUP(E86,'3-3 위험성평가'!$A$5:$P$470,4,0),\"\")","v":""},{"$f":"IF(MAX('3-3 위험성평가'!$A$4:$A$470)+1>E86,VLOOKUP(E86,'3-3 위험성평가'!$A$5:$P$470,5,0),\"\")","v":""},{"$f":"IF(MAX('3-3 위험성평가'!$A$4:$A$470)+1>E86,VLOOKUP(E86,'3-3 위험성평가'!$A$5:$P$470,6,0),\"\")","v":""},{"$f":"IF(MAX('3-3 위험성평가'!$A$4:$A$470)+1>E86,VLOOKUP(E86,'3-3 위험성평가'!$A$5:$P$470,9,0),\"\")","v":""},{"$f":"IF(MAX('3-3 위험성평가'!$A$4:$A$536)+1>E86,VLOOKUP(E86,'3-3 위험성평가'!$A$5:$P$536,12,0),\"\")&IF(L86>\"\",\".\"&E86,\"\")","v":""},{"$f":"IF(MAX('3-3 위험성평가'!$A$4:$A$470)+1>E86,VLOOKUP(E86,'3-3 위험성평가'!$A$5:$P$470,13,0),\"\")","v":""},null,"하",null,null,null,null,null,null,null,"선택안함",0,{"$f":"IF(MAX('3-3 위험성평가'!$A$4:$A$470)+1>E86,VLOOKUP(E86,'3-3 위험성평가'!$A$5:$Q$470,17,0),\"\")","v":""},"선택",{"$f":"표지!$D$33","v":"시원건설"},{"$f":"표지!$E$34","v":"김길동4"},"선택안함",0]
["T40",4,"S40",4,79,{"$f":"IF(MAX('3-3 위험성평가'!$A$4:$A$470)+1>E87,VLOOKUP(E87,'3-3 위험성평가'!$A$5:$P$470,2,0),\"\")","v":""},{"$f":"IF(F87=\"\",\"\",VLOOKUP(VALUE(F87),'1-1 사업장 공정 정보'!$D$15:$P$32,5,0))","v":""},{"$f":"IF(MAX('3-3 위험성평가'!$A$4:$A$470)+1>E87,VLOOKUP(E87,'3-3 위험성평가'!$A$5:$P$470,3,0),\"\")","v":""},{"$f":"IF(MAX('3-3 위험성평가'!$A$4:$A$470)+1>E87,VLOOKUP(E87,'3-3 위험성평가'!$A$5:$P$470,4,0),\"\")","v":""},{"$f":"IF(MAX('3-3 위험성평가'!$A$4:$A$470)+1>E87,VLOOKUP(E87,'3-3 위험성평가'!$A$5:$P$470,5,0),\"\")","v":""},{"$f":"IF(MAX('3-3 위험성평가'!$A$4:$A$470)+1>E87,VLOOKUP(E87,'3-3 위험성평가'!$A$5:$P$470,6,0),\"\")","v":""},{"$f":"IF(MAX('3-3 위험성평가'!$A$4:$A$470)+1>E87,VLOOKUP(E87,'3-3 위험성평가'!$A$5:$P$470,9,0),\"\")","v":""},{"$f":"IF(MAX('3-3 위험성평가'!$A$4:$A$536)+1>E87,VLOOKUP(E87,'3-3 위험성평가'!$A$5:$P$536,12,0),\"\")&IF(L87>\"\",\".\"&E87,\"\")","v":""},{"$f":"IF(MAX('3-3 위험성평가'!$A$4:$A$470)+1>E87,VLOOKUP(E87,'3-3 위험성평가'!$A$5:$P$470,13,0),\"\")","v":""},null,"하",null,null,null,null,null,null,null,"선택안함",0,{"$f":"IF(MAX('3-3 위험성평가'!$A$4:$A$470)+1>E87,VLOOKUP(E87,'3-3 위험성평가'!$A$5:$Q$470,17,0),\"\")","v":""},"선택",{"$f":"표지!$D$33","v":"시원건설"},{"$f":"표지!$E$34","v":"김길동4"},"선택안함",0]
["T40",4,"S40",4,80,{"$f":"IF(MAX('3-3 위험성평가'!$A$4:$A$470)+1>E88,VLOOKUP(E88,'3-3 위험성평가'!$A$5:$P$470,2,0),\"\")","v":""},{"$f":"IF(F88=\"\",\"\",VLOOKUP(VALUE(F88),'1-1 사업장 공정 정보'!$D$15:$P$32,5,0))","v":""},{"$f":"IF(MAX('3-3 위험성평가'!$A$4:$A$470)+1>E88,VLOOKUP(E88,'3-3 위험성평가'!$A$5:$P$470,3,0),\"\")","v":""},{"$f":"IF(MAX('3-3 위험성평가'!$A$4:$A$470)+1>E88,VLOOKUP(E88,'3-3 위험성평가'!$A$5:$P$470,4,0),\"\")","v":""},{"$f":"IF(MAX('3-3 위험성평가'!$A$4:$A$470)+1>E88,VLOOKUP(E88,'3-3 위험성평가'!$A$5:$P$470,5,0),\"\")","v":""},{"$f":"IF(MAX('3-3 위험성평가'!$A$4:$A$470)+1>E88,VLOOKUP(E88,'3-3 위험성평가'!$A$5:$P$470,6,0),\"\")","v":""},{"$f":"IF(MAX('3-3 위험성평가'!$A$4:$A$470)+1>E88,VLOOKUP(E88,'3-3 위험성평가'!$A$5:$P$470,9,0),\"\")","v":""},{"$f":"IF(MAX('3-3 위험성평가'!$A$4:$A$536)+1>E88,VLOOKUP(E88,'3-3 위험성평가'!$A$5:$P$536,12,0),\"\")&IF(L88>\"\",\".\"&E88,\"\")","v":""},{"$f":"IF(MAX('3-3 위험성평가'!$A$4:$A$470)+1>E88,VLOOKUP(E88,'3-3 위험성평가'!$A$5:$P$470,13,0),\"\")","v":""},null,"하",null,null,null,null,null,null,null,"선택안함",0,{"$f":"IF(MAX('3-3 위험성평가'!$A$4:$A$470)+1>E88,VLOOKUP(E88,'3-3 위험성평가'!$A$5:$Q$470,17,0),\"\")","v":""},"선택",{"$f":"표지!$D$33","v":"시원건설"},{"$f":"표지!$E$34","v":"김길동4"},"선택안함",0]
["T40",4,"S40",4,81,{"$f":"IF(MAX('3-3 위험성평가'!$A$4:$A$470)+1>E89,VLOOKUP(E89,'3-3 위험성평가'!$A$5:$P$470,2,0),\"\")","v":""},{"$f":"IF(F89=\"\",\"\",VLOOKUP(VALUE(F89),'1-1 사업장 공정 정보'!$D$15:$P$32,5,0))","v":""},{"$f":"IF(MAX('3-3 위험성평가'!$A$4:$A$470)+1>E89,VLOOKUP(E89,'3-3 위험성평가'!$A$5:$P$470,3,0),\"\")","v":""},{"$f":"IF(MAX('3-3 위험성평가'!$A$4:$A$470)+1>E89,VLOOKUP(E89,'3-3 위험성평가'!$A$5:$P$470,4,0),\"\")","v":""},{"$f":"IF(MAX('3-3 위험성평가'!$A$4:$A$470)+1>E89,VLOOKUP(E89,'3-3 위험성평가'!$A$5:$P$470,5,0),\"\")","v":""},{"$f":"IF(MAX('3-3 위험성평가'!$A$4:$A$470)+1>E89,VLOOKUP(E89,'3-3 위험성평가'!$A$5:$P$470,6,0),\"\")","v":""},{"$f":"IF(MAX('3-3 위험성평가'!$A$4:$A$470)+1>E89,VLOOKUP(E89,'3-3 위험성평가'!$A$5:$P$470,9,0),\"\")","v":""},{"$f":"IF(MAX('3-3 위험성평가'!$A$4:$A$536)+1>E89,VLOOKUP(E89,'3-3 위험성평가'!$A$5:$P$536,12,0),\"\")&IF(L89>\"\",\".\"&E89,\"\")","v":""},{"$f":"IF(MAX('3-3 위험성평가'!$A$4:$A$470)+1>E89,VLOOKUP(E89,'3-3 위험성평가'!$A$5:$P$470,13,0),\"\")","v":""},null,"하",null,null,null,null,null,null,null,"선택안함",0,{"$f":"IF(MAX('3-3 위험성평가'!$A$4:$A$470)+1>E89,VLOOKUP(E89,'3-3 위험성평가'!$A$5:$Q$470,17,0),\"\")","v":""},"선택",{"$f":"표지!$D$33","v":"시원건설"},{"$f":"표지!$E$34","v":"김길동4"},"선택안함",0]
["T40",4,"S40",4,82,{"$f":"IF(MAX('3-3 위험성평가'!$A$4:$A$470)+1>E90,VLOOKUP(E90,'3-3 위험성평가'!$A$5:$P$470,2,0),\"\")","v":""},{"$f":"IF(F90=\"\",\"\",VLOOKUP(VALUE(F90),'1-1 사업장 공정 정보'!$D$15:$P$32,5,0))","v":""},{"$f":"IF(MAX('3-3 위험성평가'!$A$4:$A$470)+1>E90,VLOOKUP(E90,'3-3 위험성평가'!$A$5:$P$470,3,0),\"\")","v":""},{"$f":"IF(MAX('3-3 위험성평가'!$A$4:$A$470)+1>E90,VLOOKUP(E90,'3-3 위험성평가'!$A$5:$P$470,4,0),\"\")","v":""},{"$f":"IF(MAX('3-3 위험성평가'!$A$4:$A$470)+1>E90,VLOOKUP(E90,'3-3 위험성평가'!$A$5:$P$470,5,0),\"\")","v":""},{"$f":"IF(MAX('3-3 위험성평가'!$A$4:$A$470)+1>E90,VLOOKUP(E90,'3-3 위험성평가'!$A$5:$P$470,6,0),\"\")","v":""},{"$f":"IF(MAX('3-3 위험성평가'!$A$4:$A$470)+1>E90,VLOOKUP(E90,'3-3 위험성평가'!$A$5:$P$470,9,0),\"\")","v":""},{"$f":"IF(MAX('3-3 위험성평가'!$A$4:$A$536)+1>E90,VLOOKUP(E90,'3-3 위험성평가'!$A$5:$P$536,12,0),\"\")&IF(L90>\"\",\".\"&E90,\"\")","v":""},{"$f":"IF(MAX('3-3 위험성평가'!$A$4:$A$470)+1>E90,VLOOKUP(E90,'3-3 위험성평가'!$A$5:$P$470,13,0),\"\")","v":""},null,"하",null,null,null,null,null,null,null,"선택안함",0,{"$f":"IF(MAX('3-3 위험성평가'!$A$4:$A$470)+1>E90,VLOOKUP(E90,'3-3 위험성평가'!$A$5:$Q$470,17,0),\"\")","v":""},"선택",{"$f":"표지!$D$33","v":"시원건설"},{"$f":"표지!$E$34","v":"김길동4"},"선택안함",0]
["T40",4,"S40",4,83,{"$f":"IF(MAX('3-3 위험성평가'!$A$4:$A$470)+1>E91,VLOOKUP(E91,'3-3 위험성평가'!$A$5:$P$470,2,0),\"\")","v":""},{"$f":"IF(F91=\"\",\"\",VLOOKUP(VALUE(F91),'1-1 사업장 공정 정보'!$D$15:$P$32,5,0))","v":""},{"$f":"IF(MAX('3-3 위험성평가'!$A$4:$A$470)+1>E91,VLOOKUP(E91,'3-3 위험성평가'!$A$5:$P$470,3,0),\"\")","v":""},{"$f":"IF(MAX('3-3 위험성평가'!$A$4:$A$470)+1>E91,VLOOKUP(E91,'3-3 위험성평가'!$A$5:$P$470,4,0),\"\")","v":""},{"$f":"IF(MAX('3-3 위험성평가'!$A$4:$A$470)+1>E91,VLOOKUP(E91,'3-3 위험성평가'!$A$5:$P$470,5,0),\"\")","v":""},{"$f":"IF(MAX('3-3 위험성평가'!$A$4:$A$470)+1>E91,VLOOKUP(E91,'3-3 위험성평가'!$A$5:$P$470,6,0),\"\")","v":""},{"$f":"IF(MAX('3-3 위험성평가'!$A$4:$A$470)+1>E91,VLOOKUP(E91,'3-3 위험성평가'!$A$5:$P$470,9,0),\"\")","v":""},{"$f":"IF(MAX('3-3 위험성평가'!$A$4:$A$536)+1>E91,VLOOKUP(E91,'3-3 위험성평가'!$A$5:$P$536,12,0),\"\")&IF(L91>\"\",\".\"&E91,\"\")","v":""},{"$f":"IF(MAX('3-3 위험성평가'!$A$4:$A$470)+1>E91,VLOOKUP(E91,'3-3 위험성평가'!$A$5:$P$470,13,0),\"\")","v":""},null,"하",null,null,null,null,null,null,null,"선택안함",0,{"$f":"IF(MAX('3-3 위험성평가'!$A$4:$A$470)+1>E91,VLOOKUP(E91,'3-3 위험성평가'!$A$5:$Q$470,17,0),\"\")","v":""},"선택",{"$f":"표지!$D$33","v":"시원건설"},{"$f":"표지!$E$34","v":"김길동4"},"선택안함",0]
["T40",4,"S40",4,84,{"$f":"IF(MAX('3-3 위험성평가'!$A$4:$A$470)+1>E92,VLOOKUP(E92,'3-3 위험성평가'!$A$5:$P$470,2,0),\"\")","v":""},{"$f":"IF(F92=\"\",\"\",VLOOKUP(VALUE(F92),'1-1 사업장 공정 정보'!$D$15:$P$32,5,0))","v":""},{"$f":"IF(MAX('3-3 위험성평가'!$A$4:$A$470)+1>E92,VLOOKUP(E92,'3-3 위험성평가'!$A$5:$P$470,3,0),\"\")","v":""},{"$f":"IF(MAX('3-3 위험성평가'!$A$4:$A$470)+1>E92,VLOOKUP(E92,'3-3 위험성평가'!$A$5:$P$470,4,0),\"\")","v":""},{"$f":"IF(MAX('3-3 위험성평가'!$A$4:$A$470)+1>E92,VLOOKUP(E92,'3-3 위험성평가'!$A$5:$P$470,5,0),\"\")","v":""},{"$f":"IF(MAX('3-3 위험성평가'!$A$4:$A$470)+1>E92,VLOOKUP(E92,'3-3 위험성평가'!$A$5:$P$470,6,0),\"\")","v":""},{"$f":"IF(MAX('3-3 위험성평가'!$A$4:$A$470)+1>E92,VLOOKUP(E92,'3-3 위험성평가'!$A$5:$P$470,9,0),\"\")","v":""},{"$f":"IF(MAX('3-3 위험성평가'!$A$4:$A$536)+1>E92,VLOOKUP(E92,'3-3 위험성평가'!$A$5:$P$536,12,0),\"\")&IF(L92>\"\",\".\"&E92,\"\")","v":""},{"$f":"IF(MAX('3-3 위험성평가'!$A$4:$A$470)+1>E92,VLOOKUP(E92,'3-3 위험성평가'!$A$5:$P$470,13,0),\"\")","v":""},null,"하",null,null,null,null,null,null,null,"선택안함",0,{"$f":"IF(MAX('3-3 위험성평가'!$A$4:$A$470)+1>E92,VLOOKUP(E92,'3-3 위험성평가'!$A$5:$Q$470,17,0),\"\")","v":""},"선택",{"$f":"표지!$D$33","v":"시원건설"},{"$f":"표지!$E$34","v":"김길동4"},"선택안함",0]
["T40",4,"S40",4,85,{"$f":"IF(MAX('3-3 위험성평가'!$A$4:$A$470)+1>E93,VLOOKUP(E93,'3-3 위험성평가'!$A$5:$P$470,2,0),\"\")","v":""},{"$f":"IF(F93=\"\",\"\",VLOOKUP(VALUE(F93),'1-1 사업장 공정 정보'!$D$15:$P$32,5,0))","v":""},{"$f":"IF(MAX('3-3 위험성평가'!$A$4:$A$470)+1>E93,VLOOKUP(E93,'3-3 위험성평가'!$A$5:$P$470,3,0),\"\")","v":""},{"$f":"IF(MAX('3-3 위험성평가'!$A$4:$A$470)+1>E93,VLOOKUP(E93,'3-3 위험성평가'!$A$5:$P$470,4,0),\"\")","v":""},{"$f":"IF(MAX('3-3 위험성평가'!$A$4:$A$470)+1>E93,VLOOKUP(E93,'3-3 위험성평가'!$A$5:$P$470,5,0),\"\")","v":""},{"$f":"IF(MAX('3-3 위험성평가'!$A$4:$A$470)+1>E93,VLOOKUP(E93,'3-3 위험성평가'!$A$5:$P$470,6,0),\"\")","v":""},{"$f":"IF(MAX('3-3 위험성평가'!$A$4:$A$470)+1>E93,VLOOKUP(E93,'3-3 위험성평가'!$A$5:$P$470,9,0),\"\")","v":""},{"$f":"IF(MAX('3-3 위험성평가'!$A$4:$A$536)+1>E93,VLOOKUP(E93,'3-3 위험성평가'!$A$5:$P$536,12,0),\"\")&IF(L93>\"\",\".\"&E93,\"\")","v":""},{"$f":"IF(MAX('3-3 위험성평가'!$A$4:$A$470)+1>E93,VLOOKUP(E93,'3-3 위험성평가'!$A$5:$P$470,13,0),\"\")","v":""},null,"하",null,null,null,null,null,null,null,"선택안함",0,{"$f":"IF(MAX('3-3 위험성평가'!$A$4:$A$470)+1>E93,VLOOKUP(E93,'3-3 위험성평가'!$A$5:$Q$470,17,0),\"\")","v":""},"선택",{"$f":"표지!$D$33","v":"시원건설"},{"$f":"표지!$E$34","v":"김길동4"},"선택안함",0]
["T40",4,"S40",4,86,{"$f":"IF(MAX('3-3 위험성평가'!$A$4:$A$470)+1>E94,VLOOKUP(E94,'3-3 위험성평가'!$A$5:$P$470,2,0),\"\")","v":""},{"$f":"IF(F94=\"\",\"\",VLOOKUP(VALUE(F94),'1-1 사업장 공정 정보'!$D$15:$P$32,5,0))","v":""},{"$f":"IF(MAX('3-3 위험성평가'!$A$4:$A$470)+1>E94,VLOOKUP(E94,'3-3 위험성평가'!$A$5:$P$470,3,0),\"\")","v":""},{"$f":"IF(MAX('3-3 위험성평가'!$A$4:$A$470)+1>E94,VLOOKUP(E94,'3-3 위험성평가'!$A$5:$P$470,4,0),\"\")","v":""},{"$f":"IF(MAX('3-3 위험성평가'!$A$4:$A$470)+1>E94,VLOOKUP(E94,'3-3 위험성평가'!$A$5:$P$470,5,0),\"\")","v":""},{"$f":"IF(MAX('3-3 위험성평가'!$A$4:$A$470)+1>E94,VLOOKUP(E94,'3-3 위험성평가'!$A$5:$P$470,6,0),\"\")","v":""},{"$f":"IF(MAX('3-3 위험성평가'!$A$4:$A$470)+1>E94,VLOOKUP(E94,'3-3 위험성평가'!$A$5:$P$470,9,0),\"\")","v":""},{"$f":"IF(MAX('3-3 위험성평가'!$A$4:$A$536)+1>E94,VLOOKUP(E94,'3-3 위험성평가'!$A$5:$P$536,12,0),\"\")&IF(L94>\"\",\".\"&E94,\"\")","v":""},{"$f":"IF(MAX('3-3 위험성평가'!$A$4:$A$470)+1>E94,VLOOKUP(E94,'3-3 위험성평가'!$A$5:$P$470,13,0),\"\")","v":""},null,"하",null,null,null,null,null,null,null,"선택안함",0,{"$f":"IF(MAX('3-3 위험성평가'!$A$4:$A$470)+1>E94,VLOOKUP(E94,'3-3 위험성평가'!$A$5:$Q$470,17,0),\"\")","v":""},"선택",{"$f":"표지!$D$33","v":"시원건설"},{"$f":"표지!$E$34","v":"김길동4"},"선택안함",0]
["T40",4,"S40",4,87,{"$f":"IF(MAX('3-3 위험성평가'!$A$4:$A$470)+1>E95,VLOOKUP(E95,'3-3 위험성평가'!$A$5:$P$470,2,0),\"\")","v":""},{"$f":"IF(F95=\"\",\"\",VLOOKUP(VALUE(F95),'1-1 사업장 공정 정보'!$D$15:$P$32,5,0))","v":""},{"$f":"IF(MAX('3-3 위험성평가'!$A$4:$A$470)+1>E95,VLOOKUP(E95,'3-3 위험성평가'!$A$5:$P$470,3,0),\"\")","v":""},{"$f":"IF(MAX('3-3 위험성평가'!$A$4:$A$470)+1>E95,VLOOKUP(E95,'3-3 위험성평가'!$A$5:$P$470,4,0),\"\")","v":""},{"$f":"IF(MAX('3-3 위험성평가'!$A$4:$A$470)+1>E95,VLOOKUP(E95,'3-3 위험성평가'!$A$5:$P$470,5,0),\"\")","v":""},{"$f":"IF(MAX('3-3 위험성평가'!$A$4:$A$470)+1>E95,VLOOKUP(E95,'3-3 위험성평가'!$A$5:$P$470,6,0),\"\")","v":""},{"$f":"IF(MAX('3-3 위험성평가'!$A$4:$A$470)+1>E95,VLOOKUP(E95,'3-3 위험성평가'!$A$5:$P$470,9,0),\"\")","v":""},{"$f":"IF(MAX('3-3 위험성평가'!$A$4:$A$536)+1>E95,VLOOKUP(E95,'3-3 위험성평가'!$A$5:$P$536,12,0),\"\")&IF(L95>\"\",\".\"&E95,\"\")","v":""},{"$f":"IF(MAX('3-3 위험성평가'!$A$4:$A$470)+1>E95,VLOOKUP(E95,'3-3 위험성평가'!$A$5:$P$470,13,0),\"\")","v":""},null,"하",null,null,null,null,null,null,null,"선택안함",0,{"$f":"IF(MAX('3-3 위험성평가'!$A$4:$A$470)+1>E95,VLOOKUP(E95,'3-3 위험성평가'!$A$5:$Q$470,17,0),\"\")","v":""},"선택",{"$f":"표지!$D$33","v":"시원건설"},{"$f":"표지!$E$34","v":"김길동4"},"선택안함",0]
["T40",4,"S40",4,88,{"$f":"IF(MAX('3-3 위험성평가'!$A$4:$A$470)+1>E96,VLOOKUP(E96,'3-3 위험성평가'!$A$5:$P$470,2,0),\"\")","v":""},{"$f":"IF(F96=\"\",\"\",VLOOKUP(VALUE(F96),'1-1 사업장 공정 정보'!$D$15:$P$32,5,0))","v":""},{"$f":"IF(MAX('3-3 위험성평가'!$A$4:$A$470)+1>E96,VLOOKUP(E96,'3-3 위험성평가'!$A$5:$P$470,3,0),\"\")","v":""},{"$f":"IF(MAX('3-3 위험성평가'!$A$4:$A$470)+1>E96,VLOOKUP(E96,'3-3 위험성평가'!$A$5:$P$470,4,0),\"\")","v":""},{"$f":"IF(MAX('3-3 위험성평가'!$A$4:$A$470)+1>E96,VLOOKUP(E96,'3-3 위험성평가'!$A$5:$P$470,5,0),\"\")","v":""},{"$f":"IF(MAX('3-3 위험성평가'!$A$4:$A$470)+1>E96,VLOOKUP(E96,'3-3 위험성평가'!$A$5:$P$470,6,0),\"\")","v":""},{"$f":"IF(MAX('3-3 위험성평가'!$A$4:$A$470)+1>E96,VLOOKUP(E96,'3-3 위험성평가'!$A$5:$P$470,9,0),\"\")","v":""},{"$f":"IF(MAX('3-3 위험성평가'!$A$4:$A$536)+1>E96,VLOOKUP(E96,'3-3 위험성평가'!$A$5:$P$536,12,0),\"\")&IF(L96>\"\",\".\"&E96,\"\")","v":""},{"$f":"IF(MAX('3-3 위험성평가'!$A$4:$A$470)+1>E96,VLOOKUP(E96,'3-3 위험성평가'!$A$5:$P$470,13,0),\"\")","v":""},null,"하",null,null,null,null,null,null,null,"선택안함",0,{"$f":"IF(MAX('3-3 위험성평가'!$A$4:$A$470)+1>E96,VLOOKUP(E96,'3-3 위험성평가'!$A$5:$Q$470,17,0),\"\")","v":""},"선택",{"$f":"표지!$D$33","v":"시원건설"},{"$f":"표지!$E$34","v":"김길동4"},"선택안함",0]
["T40",4,"S40",4,89,{"$f":"IF(MAX('3-3 위험성평가'!$A$4:$A$470)+1>E97,VLOOKUP(E97,'3-3 위험성평가'!$A$5:$P$470,2,0),\"\")","v":""},{"$f":"IF(F97=\"\",\"\",VLOOKUP(VALUE(F97),'1-1 사업장 공정 정보'!$D$15:$P$32,5,0))","v":""},{"$f":"IF(MAX('3-3 위험성평가'!$A$4:$A$470)+1>E97,VLOOKUP(E97,'3-3 위험성평가'!$A$5:$P$470,3,0),\"\")","v":""},{"$f":"IF(MAX('3-3 위험성평가'!$A$4:$A$470)+1>E97,VLOOKUP(E97,'3-3 위험성평가'!$A$5:$P$470,4,0),\"\")","v":""},{"$f":"IF(MAX('3-3 위험성평가'!$A$4:$A$470)+1>E97,VLOOKUP(E97,'3-3 위험성평가'!$A$5:$P$470,5,0),\"\")","v":""},{"$f":"IF(MAX('3-3 위험성평가'!$A$4:$A$470)+1>E97,VLOOKUP(E97,'3-3 위험성평가'!$A$5:$P$470,6,0),\"\")","v":""},{"$f":"IF(MAX('3-3 위험성평가'!$A$4:$A$470)+1>E97,VLOOKUP(E97,'3-3 위험성평가'!$A$5:$P$470,9,0),\"\")","v":""},{"$f":"IF(MAX('3-3 위험성평가'!$A$4:$A$536)+1>E97,VLOOKUP(E97,'3-3 위험성평가'!$A$5:$P$536,12,0),\"\")&IF(L97>\"\",\".\"&E97,\"\")","v":""},{"$f":"IF(MAX('3-3 위험성평가'!$A$4:$A$470)+1>E97,VLOOKUP(E97,'3-3 위험성평가'!$A$5:$P$470,13,0),\"\")","v":""},null,"하",null,null,null,null,null,null,null,"선택안함",0,{"$f":"IF(MAX('3-3 위험성평가'!$A$4:$A$470)+1>E97,VLOOKUP(E97,'3-3 위험성평가'!$A$5:$Q$470,17,0),\"\")","v":""},"선택",{"$f":"표지!$D$33","v":"시원건설"},{"$f":"표지!$E$34","v":"김길동4"},"선택안함",0]
["T40",4,"S40",4,90,{"$f":"IF(MAX('3-3 위험성평가'!$A$4:$A$470)+1>E98,VLOOKUP(E98,'3-3 위험성평가'!$A$5:$P$470,2,0),\"\")","v":""},{"$f":"IF(F98=\"\",\"\",VLOOKUP(VALUE(F98),'1-1 사업장 공정 정보'!$D$15:$P$32,5,0))","v":""},{"$f":"IF(MAX('3-3 위험성평가'!$A$4:$A$470)+1>E98,VLOOKUP(E98,'3-3 위험성평가'!$A$5:$P$470,3,0),\"\")","v":""},{"$f":"IF(MAX('3-3 위험성평가'!$A$4:$A$470)+1>E98,VLOOKUP(E98,'3-3 위험성평가'!$A$5:$P$470,4,0),\"\")","v":""},{"$f":"IF(MAX('3-3 위험성평가'!$A$4:$A$470)+1>E98,VLOOKUP(E98,'3-3 위험성평가'!$A$5:$P$470,5,0),\"\")","v":""},{"$f":"IF(MAX('3-3 위험성평가'!$A$4:$A$470)+1>E98,VLOOKUP(E98,'3-3 위험성평가'!$A$5:$P$470,6,0),\"\")","v":""},{"$f":"IF(MAX('3-3 위험성평가'!$A$4:$A$470)+1>E98,VLOOKUP(E98,'3-3 위험성평가'!$A$5:$P$470,9,0),\"\")","v":""},{"$f":"IF(MAX('3-3 위험성평가'!$A$4:$A$536)+1>E98,VLOOKUP(E98,'3-3 위험성평가'!$A$5:$P$536,12,0),\"\")&IF(L98>\"\",\".\"&E98,\"\")","v":""},{"$f":"IF(MAX('3-3 위험성평가'!$A$4:$A$470)+1>E98,VLOOKUP(E98,'3-3 위험성평가'!$A$5:$P$470,13,0),\"\")","v":""},null,"하",null,null,null,null,null,null,null,"선택안함",0,{"$f":"IF(MAX('3-3 위험성평가'!$A$4:$A$470)+1>E98,VLOOKUP(E98,'3-3 위험성평가'!$A$5:$Q$470,17,0),\"\")","v":""},"선택",{"$f":"표지!$D$33","v":"시원건설"},{"$f":"표지!$E$34","v":"김길동4"},"선택안함",0]
["T40",4,"S40",4,91,{"$f":"IF(MAX('3-3 위험성평가'!$A$4:$A$470)+1>E99,VLOOKUP(E99,'3-3 위험성평가'!$A$5:$P$470,2,0),\"\")","v":""},{"$f":"IF(F99=\"\",\"\",VLOOKUP(VALUE(F99),'1-1 사업장 공정 정보'!$D$15:$P$32,5,0))","v":""},{"$f":"IF(MAX('3-3 위험성평가'!$A$4:$A$470)+1>E99,VLOOKUP(E99,'3-3 위험성평가'!$A$5:$P$470,3,0),\"\")","v":""},{"$f":"IF(MAX('3-3 위험성평가'!$A$4:$A$470)+1>E99,VLOOKUP(E99,'3-3 위험성평가'!$A$5:$P$470,4,0),\"\")","v":""},{"$f":"IF(MAX('3-3 위험성평가'!$A$4:$A$470)+1>E99,VLOOKUP(E99,'3-3 위험성평가'!$A$5:$P$470,5,0),\"\")","v":""},{"$f":"IF(MAX('3-3 위험성평가'!$A$4:$A$470)+1>E99,VLOOKUP(E99,'3-3 위험성평가'!$A$5:$P$470,6,0),\"\")","v":""},{"$f":"IF(MAX('3-3 위험성평가'!$A$4:$A$470)+1>E99,VLOOKUP(E99,'3-3 위험성평가'!$A$5:$P$470,9,0),\"\")","v":""},{"$f":"IF(MAX('3-3 위험성평가'!$A$4:$A$536)+1>E99,VLOOKUP(E99,'3-3 위험성평가'!$A$5:$P$536,12,0),\"\")&IF(L99>\"\",\".\"&E99,\"\")","v":""},{"$f":"IF(MAX('3-3 위험성평가'!$A$4:$A$470)+1>E99,VLOOKUP(E99,'3-3 위험성평가'!$A$5:$P$470,13,0),\"\")","v":""},null,"하",null,null,null,null,null,null,null,"선택안함",0,{"$f":"IF(MAX('3-3 위험성평가'!$A$4:$A$470)+1>E99,VLOOKUP(E99,'3-3 위험성평가'!$A$5:$Q$470,17,0),\"\")","v":""},"선택",{"$f":"표지!$D$33","v":"시원건설"},{"$f":"표지!$E$34","v":"김길동4"},"선택안함",0]
["T40",4,"S40",4,92,{"$f":"IF(MAX('3-3 위험성평가'!$A$4:$A$470)+1>E100,VLOOKUP(E100,'3-3 위험성평가'!$A$5:$P$470,2,0),\"\")","v":""},{"$f":"IF(F100=\"\",\"\",VLOOKUP(VALUE(F100),'1-1 사업장 공정 정보'!$D$15:$P$32,5,0))","v":""},{"$f":"IF(MAX('3-3 위험성평가'!$A$4:$A$470)+1>E100,VLOOKUP(E100,'3-3 위험성평가'!$A$5:$P$470,3,0),\"\")","v":""},{"$f":"IF(MAX('3-3 위험성평가'!$A$4:$A$470)+1>E100,VLOOKUP(E100,'3-3 위험성평가'!$A$5:$P$470,4,0),\"\")","v":""},{"$f":"IF(MAX('3-3 위험성평가'!$A$4:$A$470)+1>E100,VLOOKUP(E100,'3-3 위험성평가'!$A$5:$P$470,5,0),\"\")","v":""},{"$f":"IF(MAX('3-3 위험성평가'!$A$4:$A$470)+1>E100,VLOOKUP(E100,'3-3 위험성평가'!$A$5:$P$470,6,0),\"\")","v":""},{"$f":"IF(MAX('3-3 위험성평가'!$A$4:$A$470)+1>E100,VLOOKUP(E100,'3-3 위험성평가'!$A$5:$P$470,9,0),\"\")","v":""},{"$f":"IF(MAX('3-3 위험성평가'!$A$4:$A$536)+1>E100,VLOOKUP(E100,'3-3 위험성평가'!$A$5:$P$536,12,0),\"\")&IF(L100>\"\",\".\"&E100,\"\")","v":""},{"$f":"IF(MAX('3-3 위험성평가'!$A$4:$A$470)+1>E100,VLOOKUP(E100,'3-3 위험성평가'!$A$5:$P$470,13,0),\"\")","v":""},null,"하",null,null,null,null,null,null,null,"선택안함",0,{"$f":"IF(MAX('3-3 위험성평가'!$A$4:$A$470)+1>E100,VLOOKUP(E100,'3-3 위험성평가'!$A$5:$Q$470,17,0),\"\")","v":""},"선택",{"$f":"표지!$D$33","v":"시원건설"},{"$f":"표지!$E$34","v":"김길동4"},"선택안함",0]
["T40",4,"S40",4,93,{"$f":"IF(MAX('3-3 위험성평가'!$A$4:$A$470)+1>E101,VLOOKUP(E101,'3-3 위험성평가'!$A$5:$P$470,2,0),\"\")","v":""},{"$f":"IF(F101=\"\",\"\",VLOOKUP(VALUE(F101),'1-1 사업장 공정 정보'!$D$15:$P$32,5,0))","v":""},{"$f":"IF(MAX('3-3 위험성평가'!$A$4:$A$470)+1>E101,VLOOKUP(E101,'3-3 위험성평가'!$A$5:$P$470,3,0),\"\")","v":""},{"$f":"IF(MAX('3-3 위험성평가'!$A$4:$A$470)+1>E101,VLOOKUP(E101,'3-3 위험성평가'!$A$5:$P$470,4,0),\"\")","v":""},{"$f":"IF(MAX('3-3 위험성평가'!$A$4:$A$470)+1>E101,VLOOKUP(E101,'3-3 위험성평가'!$A$5:$P$470,5,0),\"\")","v":""},{"$f":"IF(MAX('3-3 위험성평가'!$A$4:$A$470)+1>E101,VLOOKUP(E101,'3-3 위험성평가'!$A$5:$P$470,6,0),\"\")","v":""},{"$f":"IF(MAX('3-3 위험성평가'!$A$4:$A$470)+1>E101,VLOOKUP(E101,'3-3 위험성평가'!$A$5:$P$470,9,0),\"\")","v":""},{"$f":"IF(MAX('3-3 위험성평가'!$A$4:$A$536)+1>E101,VLOOKUP(E101,'3-3 위험성평가'!$A$5:$P$536,12,0),\"\")&IF(L101>\"\",\".\"&E101,\"\")","v":""},{"$f":"IF(MAX('3-3 위험성평가'!$A$4:$A$470)+1>E101,VLOOKUP(E101,'3-3 위험성평가'!$A$5:$P$470,13,0),\"\")","v":""},null,"하",null,null,null,null,null,null,null,"선택안함",0,{"$f":"IF(MAX('3-3 위험성평가'!$A$4:$A$470)+1>E101,VLOOKUP(E101,'3-3 위험성평가'!$A$5:$Q$470,17,0),\"\")","v":""},"선택",{"$f":"표지!$D$33","v":"시원건설"},{"$f":"표지!$E$34","v":"김길동4"},"선택안함",0]
["T40",4,"S40",4,94,{"$f":"IF(MAX('3-3 위험성평가'!$A$4:$A$470)+1>E102,VLOOKUP(E102,'3-3 위험성평가'!$A$5:$P$470,2,0),\"\")","v":""},{"$f":"IF(F102=\"\",\"\",VLOOKUP(VALUE(F102),'1-1 사업장 공정 정보'!$D$15:$P$32,5,0))","v":""},{"$f":"IF(MAX('3-3 위험성평가'!$A$4:$A$470)+1>E102,VLOOKUP(E102,'3-3 위험성평가'!$A$5:$P$470,3,0),\"\")","v":""},{"$f":"IF(MAX('3-3 위험성평가'!$A$4:$A$470)+1>E102,VLOOKUP(E102,'3-3 위험성평가'!$A$5:$P$470,4,0),\"\")","v":""},{"$f":"IF(MAX('3-3 위험성평가'!$A$4:$A$470)+1>E102,VLOOKUP(E102,'3-3 위험성평가'!$A$5:$P$470,5,0),\"\")","v":""},{"$f":"IF(MAX('3-3 위험성평가'!$A$4:$A$470)+1>E102,VLOOKUP(E102,'3-3 위험성평가'!$A$5:$P$470,6,0),\"\")","v":""},{"$f":"IF(MAX('3-3 위험성평가'!$A$4:$A$470)+1>E102,VLOOKUP(E102,'3-3 위험성평가'!$A$5:$P$470,9,0),\"\")","v":""},{"$f":"IF(MAX('3-3 위험성평가'!$A$4:$A$536)+1>E102,VLOOKUP(E102,'3-3 위험성평가'!$A$5:$P$536,12,0),\"\")&IF(L102>\"\",\".\"&E102,\"\")","v":""},{"$f":"IF(MAX('3-3 위험성평가'!$A$4:$A$470)+1>E102,VLOOKUP(E102,'3-3 위험성평가'!$A$5:$P$470,13,0),\"\")","v":""},null,"하",null,null,null,null,null,null,null,"선택안함",0,{"$f":"IF(MAX('3-3 위험성평가'!$A$4:$A$470)+1>E102,VLOOKUP(E102,'3-3 위험성평가'!$A$5:$Q$470,17,0),\"\")","v":""},"선택",{"$f":"표지!$D$33","v":"시원건설"},{"$f":"표지!$E$34","v":"김길동4"},"선택안함",0]
["T40",4,"S40",4,95,{"$f":"IF(MAX('3-3 위험성평가'!$A$4:$A$470)+1>E103,VLOOKUP(E103,'3-3 위험성평가'!$A$5:$P$470,2,0),\"\")","v":""},{"$f":"IF(F103=\"\",\"\",VLOOKUP(VALUE(F103),'1-1 사업장 공정 정보'!$D$15:$P$32,5,0))","v":""},{"$f":"IF(MAX('3-3 위험성평가'!$A$4:$A$470)+1>E103,VLOOKUP(E103,'3-3 위험성평가'!$A$5:$P$470,3,0),\"\")","v":""},{"$f":"IF(MAX('3-3 위험성평가'!$A$4:$A$470)+1>E103,VLOOKUP(E103,'3-3 위험성평가'!$A$5:$P$470,4,0),\"\")","v":""},{"$f":"IF(MAX('3-3 위험성평가'!$A$4:$A$470)+1>E103,VLOOKUP(E103,'3-3 위험성평가'!$A$5:$P$470,5,0),\"\")","v":""},{"$f":"IF(MAX('3-3 위험성평가'!$A$4:$A$470)+1>E103,VLOOKUP(E103,'3-3 위험성평가'!$A$5:$P$470,6,0),\"\")","v":""},{"$f":"IF(MAX('3-3 위험성평가'!$A$4:$A$470)+1>E103,VLOOKUP(E103,'3-3 위험성평가'!$A$5:$P$470,9,0),\"\")","v":""},{"$f":"IF(MAX('3-3 위험성평가'!$A$4:$A$536)+1>E103,VLOOKUP(E103,'3-3 위험성평가'!$A$5:$P$536,12,0),\"\")&IF(L103>\"\",\".\"&E103,\"\")","v":""},{"$f":"IF(MAX('3-3 위험성평가'!$A$4:$A$470)+1>E103,VLOOKUP(E103,'3-3 위험성평가'!$A$5:$P$470,13,0),\"\")","v":""},null,"하",null,null,null,null,null,null,null,"선택안함",0,{"$f":"IF(MAX('3-3 위험성평가'!$A$4:$A$470)+1>E103,VLOOKUP(E103,'3-3 위험성평가'!$A$5:$Q$470,17,0),\"\")","v":""},"선택",{"$f":"표지!$D$33","v":"시원건설"},{"$f":"표지!$E$34","v":"김길동4"},"선택안함",0]
["T40",4,"S40",4,96,{"$f":"IF(MAX('3-3 위험성평가'!$A$4:$A$470)+1>E104,VLOOKUP(E104,'3-3 위험성평가'!$A$5:$P$470,2,0),\"\")","v":""},{"$f":"IF(F104=\"\",\"\",VLOOKUP(VALUE(F104),'1-1 사업장 공정 정보'!$D$15:$P$32,5,0))","v":""},{"$f":"IF(MAX('3-3 위험성평가'!$A$4:$A$470)+1>E104,VLOOKUP(E104,'3-3 위험성평가'!$A$5:$P$470,3,0),\"\")","v":""},{"$f":"IF(MAX('3-3 위험성평가'!$A$4:$A$470)+1>E104,VLOOKUP(E104,'3-3 위험성평가'!$A$5:$P$470,4,0),\"\")","v":""},{"$f":"IF(MAX('3-3 위험성평가'!$A$4:$A$470)+1>E104,VLOOKUP(E104,'3-3 위험성평가'!$A$5:$P$470,5,0),\"\")","v":""},{"$f":"IF(MAX('3-3 위험성평가'!$A$4:$A$470)+1>E104,VLOOKUP(E104,'3-3 위험성평가'!$A$5:$P$470,6,0),\"\")","v":""},{"$f":"IF(MAX('3-3 위험성평가'!$A$4:$A$470)+1>E104,VLOOKUP(E104,'3-3 위험성평가'!$A$5:$P$470,9,0),\"\")","v":""},{"$f":"IF(MAX('3-3 위험성평가'!$A$4:$A$536)+1>E104,VLOOKUP(E104,'3-3 위험성평가'!$A$5:$P$536,12,0),\"\")&IF(L104>\"\",\".\"&E104,\"\")","v":""},{"$f":"IF(MAX('3-3 위험성평가'!$A$4:$A$470)+1>E104,VLOOKUP(E104,'3-3 위험성평가'!$A$5:$P$470,13,0),\"\")","v":""},null,"하",null,null,null,null,null,null,null,"선택안함",0,{"$f":"IF(MAX('3-3 위험성평가'!$A$4:$A$470)+1>E104,VLOOKUP(E104,'3-3 위험성평가'!$A$5:$Q$470,17,0),\"\")","v":""},"선택",{"$f":"표지!$D$33","v":"시원건설"},{"$f":"표지!$E$34","v":"김길동4"},"선택안함",0]
["T40",4,"S40",4,97,{"$f":"IF(MAX('3-3 위험성평가'!$A$4:$A$470)+1>E105,VLOOKUP(E105,'3-3 위험성평가'!$A$5:$P$470,2,0),\"\")","v":""},{"$f":"IF(F105=\"\",\"\",VLOOKUP(VALUE(F105),'1-1 사업장 공정 정보'!$D$15:$P$32,5,0))","v":""},{"$f":"IF(MAX('3-3 위험성평가'!$A$4:$A$470)+1>E105,VLOOKUP(E105,'3-3 위험성평가'!$A$5:$P$470,3,0),\"\")","v":""},{"$f":"IF(MAX('3-3 위험성평가'!$A$4:$A$470)+1>E105,VLOOKUP(E105,'3-3 위험성평가'!$A$5:$P$470,4,0),\"\")","v":""},{"$f":"IF(MAX('3-3 위험성평가'!$A$4:$A$470)+1>E105,VLOOKUP(E105,'3-3 위험성평가'!$A$5:$P$470,5,0),\"\")","v":""},{"$f":"IF(MAX('3-3 위험성평가'!$A$4:$A$470)+1>E105,VLOOKUP(E105,'3-3 위험성평가'!$A$5:$P$470,6,0),\"\")","v":""},{"$f":"IF(MAX('3-3 위험성평가'!$A$4:$A$470)+1>E105,VLOOKUP(E105,'3-3 위험성평가'!$A$5:$P$470,9,0),\"\")","v":""},{"$f":"IF(MAX('3-3 위험성평가'!$A$4:$A$536)+1>E105,VLOOKUP(E105,'3-3 위험성평가'!$A$5:$P$536,12,0),\"\")&IF(L105>\"\",\".\"&E105,\"\")","v":""},{"$f":"IF(MAX('3-3 위험성평가'!$A$4:$A$470)+1>E105,VLOOKUP(E105,'3-3 위험성평가'!$A$5:$P$470,13,0),\"\")","v":""},null,"하",null,null,null,null,null,null,null,"선택안함",0,{"$f":"IF(MAX('3-3 위험성평가'!$A$4:$A$470)+1>E105,VLOOKUP(E105,'3-3 위험성평가'!$A$5:$Q$470,17,0),\"\")","v":""},"선택",{"$f":"표지!$D$33","v":"시원건설"},{"$f":"표지!$E$34","v":"김길동4"},"선택안함",0]
["T40",4,"S40",4,98,{"$f":"IF(MAX('3-3 위험성평가'!$A$4:$A$470)+1>E106,VLOOKUP(E106,'3-3 위험성평가'!$A$5:$P$470,2,0),\"\")","v":""},{"$f":"IF(F106=\"\",\"\",VLOOKUP(VALUE(F106),'1-1 사업장 공정 정보'!$D$15:$P$32,5,0))","v":""},{"$f":"IF(MAX('3-3 위험성평가'!$A$4:$A$470)+1>E106,VLOOKUP(E106,'3-3 위험성평가'!$A$5:$P$470,3,0),\"\")","v":""},{"$f":"IF(MAX('3-3 위험성평가'!$A$4:$A$470)+1>E106,VLOOKUP(E106,'3-3 위험성평가'!$A$5:$P$470,4,0),\"\")","v":""},{"$f":"IF(MAX('3-3 위험성평가'!$A$4:$A$470)+1>E106,VLOOKUP(E106,'3-3 위험성평가'!$A$5:$P$470,5,0),\"\")","v":""},{"$f":"IF(MAX('3-3 위험성평가'!$A$4:$A$470)+1>E106,VLOOKUP(E106,'3-3 위험성평가'!$A$5:$P$470,6,0),\"\")","v":""},{"$f":"IF(MAX('3-3 위험성평가'!$A$4:$A$470)+1>E106,VLOOKUP(E106,'3-3 위험성평가'!$A$5:$P$470,9,0),\"\")","v":""},{"$f":"IF(MAX('3-3 위험성평가'!$A$4:$A$536)+1>E106,VLOOKUP(E106,'3-3 위험성평가'!$A$5:$P$536,12,0),\"\")&IF(L106>\"\",\".\"&E106,\"\")","v":""},{"$f":"IF(MAX('3-3 위험성평가'!$A$4:$A$470)+1>E106,VLOOKUP(E106,'3-3 위험성평가'!$A$5:$P$470,13,0),\"\")","v":""},null,"하",null,null,null,null,null,null,null,"선택안함",0,{"$f":"IF(MAX('3-3 위험성평가'!$A$4:$A$470)+1>E106,VLOOKUP(E106,'3-3 위험성평가'!$A$5:$Q$470,17,0),\"\")","v":""},"선택",{"$f":"표지!$D$33","v":"시원건설"},{"$f":"표지!$E$34","v":"김길동4"},"선택안함",0]
["T40",{"$f":"B106+Y107","v":4},"S40",4,99,{"$f":"IF(MAX('3-3 위험성평가'!$A$4:$A$470)+1>E107,VLOOKUP(E107,'3-3 위험성평가'!$A$5:$P$470,2,0),\"\")","v":""},{"$f":"IF(F107=\"\",\"\",VLOOKUP(VALUE(F107),'1-1 사업장 공정 정보'!$D$15:$P$32,5,0))","v":""},{"$f":"IF(MAX('3-3 위험성평가'!$A$4:$A$470)+1>E107,VLOOKUP(E107,'3-3 위험성평가'!$A$5:$P$470,3,0),\"\")","v":""},{"$f":"IF(MAX('3-3 위험성평가'!$A$4:$A$470)+1>E107,VLOOKUP(E107,'3-3 위험성평가'!$A$5:$P$470,4,0),\"\")","v":""},{"$f":"IF(MAX('3-3 위험성평가'!$A$4:$A$470)+1>E107,VLOOKUP(E107,'3-3 위험성평가'!$A$5:$P$470,5,0),\"\")","v":""},{"$f":"IF(MAX('3-3 위험성평가'!$A$4:$A$470)+1>E107,VLOOKUP(E107,'3-3 위험성평가'!$A$5:$P$470,6,0),\"\")","v":""},{"$f":"IF(MAX('3-3 위험성평가'!$A$4:$A$470)+1>E107,VLOOKUP(E107,'3-3 위험성평가'!$A$5:$P$470,9,0),\"\")","v":""},{"$f":"IF(MAX('3-3 위험성평가'!$A$4:$A$536)+1>E107,VLOOKUP(E107,'3-3 위험성평가'!$A$5:$P$536,12,0),\"\")&IF(L107>\"\",\".\"&E107,\"\")","v":""},{"$f":"IF(MAX('3-3 위험성평가'!$A$4:$A$470)+1>E107,VLOOKUP(E107,'3-3 위험성평가'!$A$5:$P$470,13,0),\"\")","v":""},null,"하",null,null,null,null,null,null,null,"선택안함",0,{"$f":"IF(MAX('3-3 위험성평가'!$A$4:$A$470)+1>E107,VLOOKUP(E107,'3-3 위험성평가'!$A$5:$Q$470,17,0),\"\")","v":""},"선택",{"$f":"표지!$D$33","v":"시원건설"},{"$f":"표지!$E$34","v":"김길동4"},"선택안함",0]
["T40",4,"S40",4,100,{"$f":"IF(MAX('3-3 위험성평가'!$A$4:$A$470)+1>E108,VLOOKUP(E108,'3-3 위험성평가'!$A$5:$P$470,2,0),\"\")","v":""},{"$f":"IF(F108=\"\",\"\",VLOOKUP(VALUE(F108),'1-1 사업장 공정 정보'!$D$15:$P$32,5,0))","v":""},{"$f":"IF(MAX('3-3 위험성평가'!$A$4:$A$470)+1>E108,VLOOKUP(E108,'3-3 위험성평가'!$A$5:$P$470,3,0),\"\")","v":""},{"$f":"IF(MAX('3-3 위험성평가'!$A$4:$A$470)+1>E108,VLOOKUP(E108,'3-3 위험성평가'!$A$5:$P$470,4,0),\"\")","v":""},{"$f":"IF(MAX('3-3 위험성평가'!$A$4:$A$470)+1>E108,VLOOKUP(E108,'3-3 위험성평가'!$A$5:$P$470,5,0),\"\")","v":""},{"$f":"IF(MAX('3-3 위험성평가'!$A$4:$A$470)+1>E108,VLOOKUP(E108,'3-3 위험성평가'!$A$5:$P$470,6,0),\"\")","v":""},{"$f":"IF(MAX('3-3 위험성평가'!$A$4:$A$470)+1>E108,VLOOKUP(E108,'3-3 위험성평가'!$A$5:$P$470,9,0),\"\")","v":""},{"$f":"IF(MAX('3-3 위험성평가'!$A$4:$A$536)+1>E108,VLOOKUP(E108,'3-3 위험성평가'!$A$5:$P$536,12,0),\"\")&IF(L108>\"\",\".\"&E108,\"\")","v":""},{"$f":"IF(MAX('3-3 위험성평가'!$A$4:$A$470)+1>E108,VLOOKUP(E108,'3-3 위험성평가'!$A$5:$P$470,13,0),\"\")","v":""},null,"하",null,null,null,null,null,null,null,"선택안함",0,{"$f":"IF(MAX('3-3 위험성평가'!$A$4:$A$470)+1>E108,VLOOKUP(E108,'3-3 위험성평가'!$A$5:$Q$470,17,0),\"\")","v":""},"선택",{"$f":"표지!$D$33","v":"시원건설"},{"$f":"표지!$E$34","v":"김길동4"},"선택안함",0]
["T40",4,"S40",4,101,{"$f":"IF(MAX('3-3 위험성평가'!$A$4:$A$470)+1>E109,VLOOKUP(E109,'3-3 위험성평가'!$A$5:$P$470,2,0),\"\")","v":""},{"$f":"IF(F109=\"\",\"\",VLOOKUP(VALUE(F109),'1-1 사업장 공정 정보'!$D$15:$P$32,5,0))","v":""},{"$f":"IF(MAX('3-3 위험성평가'!$A$4:$A$470)+1>E109,VLOOKUP(E109,'3-3 위험성평가'!$A$5:$P$470,3,0),\"\")","v":""},{"$f":"IF(MAX('3-3 위험성평가'!$A$4:$A$470)+1>E109,VLOOKUP(E109,'3-3 위험성평가'!$A$5:$P$470,4,0),\"\")","v":""},{"$f":"IF(MAX('3-3 위험성평가'!$A$4:$A$470)+1>E109,VLOOKUP(E109,'3-3 위험성평가'!$A$5:$P$470,5,0),\"\")","v":""},{"$f":"IF(MAX('3-3 위험성평가'!$A$4:$A$470)+1>E109,VLOOKUP(E109,'3-3 위험성평가'!$A$5:$P$470,6,0),\"\")","v":""},{"$f":"IF(MAX('3-3 위험성평가'!$A$4:$A$470)+1>E109,VLOOKUP(E109,'3-3 위험성평가'!$A$5:$P$470,9,0),\"\")","v":""},{"$f":"IF(MAX('3-3 위험성평가'!$A$4:$A$536)+1>E109,VLOOKUP(E109,'3-3 위험성평가'!$A$5:$P$536,12,0),\"\")&IF(L109>\"\",\".\"&E109,\"\")","v":""},{"$f":"IF(MAX('3-3 위험성평가'!$A$4:$A$470)+1>E109,VLOOKUP(E109,'3-3 위험성평가'!$A$5:$P$470,13,0),\"\")","v":""},null,"하",null,null,null,null,null,null,null,"선택안함",0,{"$f":"IF(MAX('3-3 위험성평가'!$A$4:$A$470)+1>E109,VLOOKUP(E109,'3-3 위험성평가'!$A$5:$Q$470,17,0),\"\")","v":""},"선택",{"$f":"표지!$D$33","v":"시원건설"},{"$f":"표지!$E$34","v":"김길동4"},"선택안함",0]
["T40",4,"S40",4,102,{"$f":"IF(MAX('3-3 위험성평가'!$A$4:$A$470)+1>E110,VLOOKUP(E110,'3-3 위험성평가'!$A$5:$P$470,2,0),\"\")","v":""},{"$f":"IF(F110=\"\",\"\",VLOOKUP(VALUE(F110),'1-1 사업장 공정 정보'!$D$15:$P$32,5,0))","v":""},{"$f":"IF(MAX('3-3 위험성평가'!$A$4:$A$470)+1>E110,VLOOKUP(E110,'3-3 위험성평가'!$A$5:$P$470,3,0),\"\")","v":""},{"$f":"IF(MAX('3-3 위험성평가'!$A$4:$A$470)+1>E110,VLOOKUP(E110,'3-3 위험성평가'!$A$5:$P$470,4,0),\"\")","v":""},{"$f":"IF(MAX('3-3 위험성평가'!$A$4:$A$470)+1>E110,VLOOKUP(E110,'3-3 위험성평가'!$A$5:$P$470,5,0),\"\")","v":""},{"$f":"IF(MAX('3-3 위험성평가'!$A$4:$A$470)+1>E110,VLOOKUP(E110,'3-3 위험성평가'!$A$5:$P$470,6,0),\"\")","v":""},{"$f":"IF(MAX('3-3 위험성평가'!$A$4:$A$470)+1>E110,VLOOKUP(E110,'3-3 위험성평가'!$A$5:$P$470,9,0),\"\")","v":""},{"$f":"IF(MAX('3-3 위험성평가'!$A$4:$A$536)+1>E110,VLOOKUP(E110,'3-3 위험성평가'!$A$5:$P$536,12,0),\"\")&IF(L110>\"\",\".\"&E110,\"\")","v":""},{"$f":"IF(MAX('3-3 위험성평가'!$A$4:$A$470)+1>E110,VLOOKUP(E110,'3-3 위험성평가'!$A$5:$P$470,13,0),\"\")","v":""},null,"하",null,null,null,null,null,null,null,"선택안함",0,{"$f":"IF(MAX('3-3 위험성평가'!$A$4:$A$470)+1>E110,VLOOKUP(E110,'3-3 위험성평가'!$A$5:$Q$470,17,0),\"\")","v":""},"선택",{"$f":"표지!$D$33","v":"시원건설"},{"$f":"표지!$E$34","v":"김길동4"},"선택안함",0]
["T40",4,"S40",4,103,{"$f":"IF(MAX('3-3 위험성평가'!$A$4:$A$470)+1>E111,VLOOKUP(E111,'3-3 위험성평가'!$A$5:$P$470,2,0),\"\")","v":""},{"$f":"IF(F111=\"\",\"\",VLOOKUP(VALUE(F111),'1-1 사업장 공정 정보'!$D$15:$P$32,5,0))","v":""},{"$f":"IF(MAX('3-3 위험성평가'!$A$4:$A$470)+1>E111,VLOOKUP(E111,'3-3 위험성평가'!$A$5:$P$470,3,0),\"\")","v":""},{"$f":"IF(MAX('3-3 위험성평가'!$A$4:$A$470)+1>E111,VLOOKUP(E111,'3-3 위험성평가'!$A$5:$P$470,4,0),\"\")","v":""},{"$f":"IF(MAX('3-3 위험성평가'!$A$4:$A$470)+1>E111,VLOOKUP(E111,'3-3 위험성평가'!$A$5:$P$470,5,0),\"\")","v":""},{"$f":"IF(MAX('3-3 위험성평가'!$A$4:$A$470)+1>E111,VLOOKUP(E111,'3-3 위험성평가'!$A$5:$P$470,6,0),\"\")","v":""},{"$f":"IF(MAX('3-3 위험성평가'!$A$4:$A$470)+1>E111,VLOOKUP(E111,'3-3 위험성평가'!$A$5:$P$470,9,0),\"\")","v":""},{"$f":"IF(MAX('3-3 위험성평가'!$A$4:$A$536)+1>E111,VLOOKUP(E111,'3-3 위험성평가'!$A$5:$P$536,12,0),\"\")&IF(L111>\"\",\".\"&E111,\"\")","v":""},{"$f":"IF(MAX('3-3 위험성평가'!$A$4:$A$470)+1>E111,VLOOKUP(E111,'3-3 위험성평가'!$A$5:$P$470,13,0),\"\")","v":""},null,"하",null,null,null,null,null,null,null,"선택안함",0,{"$f":"IF(MAX('3-3 위험성평가'!$A$4:$A$470)+1>E111,VLOOKUP(E111,'3-3 위험성평가'!$A$5:$Q$470,17,0),\"\")","v":""},"선택",{"$f":"표지!$D$33","v":"시원건설"},{"$f":"표지!$E$34","v":"김길동4"},"선택안함",0]
["T40",4,"S40",4,104,{"$f":"IF(MAX('3-3 위험성평가'!$A$4:$A$470)+1>E112,VLOOKUP(E112,'3-3 위험성평가'!$A$5:$P$470,2,0),\"\")","v":""},{"$f":"IF(F112=\"\",\"\",VLOOKUP(VALUE(F112),'1-1 사업장 공정 정보'!$D$15:$P$32,5,0))","v":""},{"$f":"IF(MAX('3-3 위험성평가'!$A$4:$A$470)+1>E112,VLOOKUP(E112,'3-3 위험성평가'!$A$5:$P$470,3,0),\"\")","v":""},{"$f":"IF(MAX('3-3 위험성평가'!$A$4:$A$470)+1>E112,VLOOKUP(E112,'3-3 위험성평가'!$A$5:$P$470,4,0),\"\")","v":""},{"$f":"IF(MAX('3-3 위험성평가'!$A$4:$A$470)+1>E112,VLOOKUP(E112,'3-3 위험성평가'!$A$5:$P$470,5,0),\"\")","v":""},{"$f":"IF(MAX('3-3 위험성평가'!$A$4:$A$470)+1>E112,VLOOKUP(E112,'3-3 위험성평가'!$A$5:$P$470,6,0),\"\")","v":""},{"$f":"IF(MAX('3-3 위험성평가'!$A$4:$A$470)+1>E112,VLOOKUP(E112,'3-3 위험성평가'!$A$5:$P$470,9,0),\"\")","v":""},{"$f":"IF(MAX('3-3 위험성평가'!$A$4:$A$536)+1>E112,VLOOKUP(E112,'3-3 위험성평가'!$A$5:$P$536,12,0),\"\")&IF(L112>\"\",\".\"&E112,\"\")","v":""},{"$f":"IF(MAX('3-3 위험성평가'!$A$4:$A$470)+1>E112,VLOOKUP(E112,'3-3 위험성평가'!$A$5:$P$470,13,0),\"\")","v":""},null,"하",null,null,null,null,null,null,null,"선택안함",0,{"$f":"IF(MAX('3-3 위험성평가'!$A$4:$A$470)+1>E112,VLOOKUP(E112,'3-3 위험성평가'!$A$5:$Q$470,17,0),\"\")","v":""},"선택",{"$f":"표지!$D$33","v":"시원건설"},{"$f":"표지!$E$34","v":"김길동4"},"선택안함",0]
["T40",4,"S40",4,105,{"$f":"IF(MAX('3-3 위험성평가'!$A$4:$A$470)+1>E113,VLOOKUP(E113,'3-3 위험성평가'!$A$5:$P$470,2,0),\"\")","v":""},{"$f":"IF(F113=\"\",\"\",VLOOKUP(VALUE(F113),'1-1 사업장 공정 정보'!$D$15:$P$32,5,0))","v":""},{"$f":"IF(MAX('3-3 위험성평가'!$A$4:$A$470)+1>E113,VLOOKUP(E113,'3-3 위험성평가'!$A$5:$P$470,3,0),\"\")","v":""},{"$f":"IF(MAX('3-3 위험성평가'!$A$4:$A$470)+1>E113,VLOOKUP(E113,'3-3 위험성평가'!$A$5:$P$470,4,0),\"\")","v":""},{"$f":"IF(MAX('3-3 위험성평가'!$A$4:$A$470)+1>E113,VLOOKUP(E113,'3-3 위험성평가'!$A$5:$P$470,5,0),\"\")","v":""},{"$f":"IF(MAX('3-3 위험성평가'!$A$4:$A$470)+1>E113,VLOOKUP(E113,'3-3 위험성평가'!$A$5:$P$470,6,0),\"\")","v":""},{"$f":"IF(MAX('3-3 위험성평가'!$A$4:$A$470)+1>E113,VLOOKUP(E113,'3-3 위험성평가'!$A$5:$P$470,9,0),\"\")","v":""},{"$f":"IF(MAX('3-3 위험성평가'!$A$4:$A$536)+1>E113,VLOOKUP(E113,'3-3 위험성평가'!$A$5:$P$536,12,0),\"\")&IF(L113>\"\",\".\"&E113,\"\")","v":""},{"$f":"IF(MAX('3-3 위험성평가'!$A$4:$A$470)+1>E113,VLOOKUP(E113,'3-3 위험성평가'!$A$5:$P$470,13,0),\"\")","v":""},null,"하",null,null,null,null,null,null,null,"선택안함",0,{"$f":"IF(MAX('3-3 위험성평가'!$A$4:$A$470)+1>E113,VLOOKUP(E113,'3-3 위험성평가'!$A$5:$Q$470,17,0),\"\")","v":""},"선택",{"$f":"표지!$D$33","v":"시원건설"},{"$f":"표지!$E$34","v":"김길동4"},"선택안함",0]
["T40",4,"S40",4,106,{"$f":"IF(MAX('3-3 위험성평가'!$A$4:$A$470)+1>E114,VLOOKUP(E114,'3-3 위험성평가'!$A$5:$P$470,2,0),\"\")","v":""},{"$f":"IF(F114=\"\",\"\",VLOOKUP(VALUE(F114),'1-1 사업장 공정 정보'!$D$15:$P$32,5,0))","v":""},{"$f":"IF(MAX('3-3 위험성평가'!$A$4:$A$470)+1>E114,VLOOKUP(E114,'3-3 위험성평가'!$A$5:$P$470,3,0),\"\")","v":""},{"$f":"IF(MAX('3-3 위험성평가'!$A$4:$A$470)+1>E114,VLOOKUP(E114,'3-3 위험성평가'!$A$5:$P$470,4,0),\"\")","v":""},{"$f":"IF(MAX('3-3 위험성평가'!$A$4:$A$470)+1>E114,VLOOKUP(E114,'3-3 위험성평가'!$A$5:$P$470,5,0),\"\")","v":""},{"$f":"IF(MAX('3-3 위험성평가'!$A$4:$A$470)+1>E114,VLOOKUP(E114,'3-3 위험성평가'!$A$5:$P$470,6,0),\"\")","v":""},{"$f":"IF(MAX('3-3 위험성평가'!$A$4:$A$470)+1>E114,VLOOKUP(E114,'3-3 위험성평가'!$A$5:$P$470,9,0),\"\")","v":""},{"$f":"IF(MAX('3-3 위험성평가'!$A$4:$A$536)+1>E114,VLOOKUP(E114,'3-3 위험성평가'!$A$5:$P$536,12,0),\"\")&IF(L114>\"\",\".\"&E114,\"\")","v":""},{"$f":"IF(MAX('3-3 위험성평가'!$A$4:$A$470)+1>E114,VLOOKUP(E114,'3-3 위험성평가'!$A$5:$P$470,13,0),\"\")","v":""},null,"하",null,null,null,null,null,null,null,"선택안함",0,{"$f":"IF(MAX('3-3 위험성평가'!$A$4:$A$470)+1>E114,VLOOKUP(E114,'3-3 위험성평가'!$A$5:$Q$470,17,0),\"\")","v":""},"선택",{"$f":"표지!$D$33","v":"시원건설"},{"$f":"표지!$E$34","v":"김길동4"},"선택안함",0]
["T40",4,"S40",4,107,{"$f":"IF(MAX('3-3 위험성평가'!$A$4:$A$470)+1>E115,VLOOKUP(E115,'3-3 위험성평가'!$A$5:$P$470,2,0),\"\")","v":""},{"$f":"IF(F115=\"\",\"\",VLOOKUP(VALUE(F115),'1-1 사업장 공정 정보'!$D$15:$P$32,5,0))","v":""},{"$f":"IF(MAX('3-3 위험성평가'!$A$4:$A$470)+1>E115,VLOOKUP(E115,'3-3 위험성평가'!$A$5:$P$470,3,0),\"\")","v":""},{"$f":"IF(MAX('3-3 위험성평가'!$A$4:$A$470)+1>E115,VLOOKUP(E115,'3-3 위험성평가'!$A$5:$P$470,4,0),\"\")","v":""},{"$f":"IF(MAX('3-3 위험성평가'!$A$4:$A$470)+1>E115,VLOOKUP(E115,'3-3 위험성평가'!$A$5:$P$470,5,0),\"\")","v":""},{"$f":"IF(MAX('3-3 위험성평가'!$A$4:$A$470)+1>E115,VLOOKUP(E115,'3-3 위험성평가'!$A$5:$P$470,6,0),\"\")","v":""},{"$f":"IF(MAX('3-3 위험성평가'!$A$4:$A$470)+1>E115,VLOOKUP(E115,'3-3 위험성평가'!$A$5:$P$470,9,0),\"\")","v":""},{"$f":"IF(MAX('3-3 위험성평가'!$A$4:$A$536)+1>E115,VLOOKUP(E115,'3-3 위험성평가'!$A$5:$P$536,12,0),\"\")&IF(L115>\"\",\".\"&E115,\"\")","v":""},{"$f":"IF(MAX('3-3 위험성평가'!$A$4:$A$470)+1>E115,VLOOKUP(E115,'3-3 위험성평가'!$A$5:$P$470,13,0),\"\")","v":""},null,"하",null,null,null,null,null,null,null,"선택안함",0,{"$f":"IF(MAX('3-3 위험성평가'!$A$4:$A$470)+1>E115,VLOOKUP(E115,'3-3 위험성평가'!$A$5:$Q$470,17,0),\"\")","v":""},"선택",{"$f":"표지!$D$33","v":"시원건설"},{"$f":"표지!$E$34","v":"김길동4"},"선택안함",0]
["T40",4,"S40",4,108,{"$f":"IF(MAX('3-3 위험성평가'!$A$4:$A$470)+1>E116,VLOOKUP(E116,'3-3 위험성평가'!$A$5:$P$470,2,0),\"\")","v":""},{"$f":"IF(F116=\"\",\"\",VLOOKUP(VALUE(F116),'1-1 사업장 공정 정보'!$D$15:$P$32,5,0))","v":""},{"$f":"IF(MAX('3-3 위험성평가'!$A$4:$A$470)+1>E116,VLOOKUP(E116,'3-3 위험성평가'!$A$5:$P$470,3,0),\"\")","v":""},{"$f":"IF(MAX('3-3 위험성평가'!$A$4:$A$470)+1>E116,VLOOKUP(E116,'3-3 위험성평가'!$A$5:$P$470,4,0),\"\")","v":""},{"$f":"IF(MAX('3-3 위험성평가'!$A$4:$A$470)+1>E116,VLOOKUP(E116,'3-3 위험성평가'!$A$5:$P$470,5,0),\"\")","v":""},{"$f":"IF(MAX('3-3 위험성평가'!$A$4:$A$470)+1>E116,VLOOKUP(E116,'3-3 위험성평가'!$A$5:$P$470,6,0),\"\")","v":""},{"$f":"IF(MAX('3-3 위험성평가'!$A$4:$A$470)+1>E116,VLOOKUP(E116,'3-3 위험성평가'!$A$5:$P$470,9,0),\"\")","v":""},{"$f":"IF(MAX('3-3 위험성평가'!$A$4:$A$536)+1>E116,VLOOKUP(E116,'3-3 위험성평가'!$A$5:$P$536,12,0),\"\")&IF(L116>\"\",\".\"&E116,\"\")","v":""},{"$f":"IF(MAX('3-3 위험성평가'!$A$4:$A$470)+1>E116,VLOOKUP(E116,'3-3 위험성평가'!$A$5:$P$470,13,0),\"\")","v":""},null,"하",null,null,null,null,null,null,null,"선택안함",0,{"$f":"IF(MAX('3-3 위험성평가'!$A$4:$A$470)+1>E116,VLOOKUP(E116,'3-3 위험성평가'!$A$5:$Q$470,17,0),\"\")","v":""},"선택",{"$f":"표지!$D$33","v":"시원건설"},{"$f":"표지!$E$34","v":"김길동4"},"선택안함",0]
["T40",4,"S40",4,109,{"$f":"IF(MAX('3-3 위험성평가'!$A$4:$A$470)+1>E117,VLOOKUP(E117,'3-3 위험성평가'!$A$5:$P$470,2,0),\"\")","v":""},{"$f":"IF(F117=\"\",\"\",VLOOKUP(VALUE(F117),'1-1 사업장 공정 정보'!$D$15:$P$32,5,0))","v":""},{"$f":"IF(MAX('3-3 위험성평가'!$A$4:$A$470)+1>E117,VLOOKUP(E117,'3-3 위험성평가'!$A$5:$P$470,3,0),\"\")","v":""},{"$f":"IF(MAX('3-3 위험성평가'!$A$4:$A$470)+1>E117,VLOOKUP(E117,'3-3 위험성평가'!$A$5:$P$470,4,0),\"\")","v":""},{"$f":"IF(MAX('3-3 위험성평가'!$A$4:$A$470)+1>E117,VLOOKUP(E117,'3-3 위험성평가'!$A$5:$P$470,5,0),\"\")","v":""},{"$f":"IF(MAX('3-3 위험성평가'!$A$4:$A$470)+1>E117,VLOOKUP(E117,'3-3 위험성평가'!$A$5:$P$470,6,0),\"\")","v":""},{"$f":"IF(MAX('3-3 위험성평가'!$A$4:$A$470)+1>E117,VLOOKUP(E117,'3-3 위험성평가'!$A$5:$P$470,9,0),\"\")","v":""},{"$f":"IF(MAX('3-3 위험성평가'!$A$4:$A$536)+1>E117,VLOOKUP(E117,'3-3 위험성평가'!$A$5:$P$536,12,0),\"\")&IF(L117>\"\",\".\"&E117,\"\")","v":""},{"$f":"IF(MAX('3-3 위험성평가'!$A$4:$A$470)+1>E117,VLOOKUP(E117,'3-3 위험성평가'!$A$5:$P$470,13,0),\"\")","v":""},null,"하",null,null,null,null,null,null,null,"선택안함",0,{"$f":"IF(MAX('3-3 위험성평가'!$A$4:$A$470)+1>E117,VLOOKUP(E117,'3-3 위험성평가'!$A$5:$Q$470,17,0),\"\")","v":""},"선택",{"$f":"표지!$D$33","v":"시원건설"},{"$f":"표지!$E$34","v":"김길동4"},"선택안함",0]
["T40",4,"S40",4,110,{"$f":"IF(MAX('3-3 위험성평가'!$A$4:$A$470)+1>E118,VLOOKUP(E118,'3-3 위험성평가'!$A$5:$P$470,2,0),\"\")","v":""},{"$f":"IF(F118=\"\",\"\",VLOOKUP(VALUE(F118),'1-1 사업장 공정 정보'!$D$15:$P$32,5,0))","v":""},{"$f":"IF(MAX('3-3 위험성평가'!$A$4:$A$470)+1>E118,VLOOKUP(E118,'3-3 위험성평가'!$A$5:$P$470,3,0),\"\")","v":""},{"$f":"IF(MAX('3-3 위험성평가'!$A$4:$A$470)+1>E118,VLOOKUP(E118,'3-3 위험성평가'!$A$5:$P$470,4,0),\"\")","v":""},{"$f":"IF(MAX('3-3 위험성평가'!$A$4:$A$470)+1>E118,VLOOKUP(E118,'3-3 위험성평가'!$A$5:$P$470,5,0),\"\")","v":""},{"$f":"IF(MAX('3-3 위험성평가'!$A$4:$A$470)+1>E118,VLOOKUP(E118,'3-3 위험성평가'!$A$5:$P$470,6,0),\"\")","v":""},{"$f":"IF(MAX('3-3 위험성평가'!$A$4:$A$470)+1>E118,VLOOKUP(E118,'3-3 위험성평가'!$A$5:$P$470,9,0),\"\")","v":""},{"$f":"IF(MAX('3-3 위험성평가'!$A$4:$A$536)+1>E118,VLOOKUP(E118,'3-3 위험성평가'!$A$5:$P$536,12,0),\"\")&IF(L118>\"\",\".\"&E118,\"\")","v":""},{"$f":"IF(MAX('3-3 위험성평가'!$A$4:$A$470)+1>E118,VLOOKUP(E118,'3-3 위험성평가'!$A$5:$P$470,13,0),\"\")","v":""},null,"하",null,null,null,null,null,null,null,"선택안함",0,{"$f":"IF(MAX('3-3 위험성평가'!$A$4:$A$470)+1>E118,VLOOKUP(E118,'3-3 위험성평가'!$A$5:$Q$470,17,0),\"\")","v":""},"선택",{"$f":"표지!$D$33","v":"시원건설"},{"$f":"표지!$E$34","v":"김길동4"},"선택안함",0]
["T40",4,"S40",4,111,{"$f":"IF(MAX('3-3 위험성평가'!$A$4:$A$470)+1>E119,VLOOKUP(E119,'3-3 위험성평가'!$A$5:$P$470,2,0),\"\")","v":""},{"$f":"IF(F119=\"\",\"\",VLOOKUP(VALUE(F119),'1-1 사업장 공정 정보'!$D$15:$P$32,5,0))","v":""},{"$f":"IF(MAX('3-3 위험성평가'!$A$4:$A$470)+1>E119,VLOOKUP(E119,'3-3 위험성평가'!$A$5:$P$470,3,0),\"\")","v":""},{"$f":"IF(MAX('3-3 위험성평가'!$A$4:$A$470)+1>E119,VLOOKUP(E119,'3-3 위험성평가'!$A$5:$P$470,4,0),\"\")","v":""},{"$f":"IF(MAX('3-3 위험성평가'!$A$4:$A$470)+1>E119,VLOOKUP(E119,'3-3 위험성평가'!$A$5:$P$470,5,0),\"\")","v":""},{"$f":"IF(MAX('3-3 위험성평가'!$A$4:$A$470)+1>E119,VLOOKUP(E119,'3-3 위험성평가'!$A$5:$P$470,6,0),\"\")","v":""},{"$f":"IF(MAX('3-3 위험성평가'!$A$4:$A$470)+1>E119,VLOOKUP(E119,'3-3 위험성평가'!$A$5:$P$470,9,0),\"\")","v":""},{"$f":"IF(MAX('3-3 위험성평가'!$A$4:$A$536)+1>E119,VLOOKUP(E119,'3-3 위험성평가'!$A$5:$P$536,12,0),\"\")&IF(L119>\"\",\".\"&E119,\"\")","v":""},{"$f":"IF(MAX('3-3 위험성평가'!$A$4:$A$470)+1>E119,VLOOKUP(E119,'3-3 위험성평가'!$A$5:$P$470,13,0),\"\")","v":""},null,"하",null,null,null,null,null,null,null,"선택안함",0,{"$f":"IF(MAX('3-3 위험성평가'!$A$4:$A$470)+1>E119,VLOOKUP(E119,'3-3 위험성평가'!$A$5:$Q$470,17,0),\"\")","v":""},"선택",{"$f":"표지!$D$33","v":"시원건설"},{"$f":"표지!$E$34","v":"김길동4"},"선택안함",0]
["T40",4,"S40",4,112,{"$f":"IF(MAX('3-3 위험성평가'!$A$4:$A$470)+1>E120,VLOOKUP(E120,'3-3 위험성평가'!$A$5:$P$470,2,0),\"\")","v":""},{"$f":"IF(F120=\"\",\"\",VLOOKUP(VALUE(F120),'1-1 사업장 공정 정보'!$D$15:$P$32,5,0))","v":""},{"$f":"IF(MAX('3-3 위험성평가'!$A$4:$A$470)+1>E120,VLOOKUP(E120,'3-3 위험성평가'!$A$5:$P$470,3,0),\"\")","v":""},{"$f":"IF(MAX('3-3 위험성평가'!$A$4:$A$470)+1>E120,VLOOKUP(E120,'3-3 위험성평가'!$A$5:$P$470,4,0),\"\")","v":""},{"$f":"IF(MAX('3-3 위험성평가'!$A$4:$A$470)+1>E120,VLOOKUP(E120,'3-3 위험성평가'!$A$5:$P$470,5,0),\"\")","v":""},{"$f":"IF(MAX('3-3 위험성평가'!$A$4:$A$470)+1>E120,VLOOKUP(E120,'3-3 위험성평가'!$A$5:$P$470,6,0),\"\")","v":""},{"$f":"IF(MAX('3-3 위험성평가'!$A$4:$A$470)+1>E120,VLOOKUP(E120,'3-3 위험성평가'!$A$5:$P$470,9,0),\"\")","v":""},{"$f":"IF(MAX('3-3 위험성평가'!$A$4:$A$536)+1>E120,VLOOKUP(E120,'3-3 위험성평가'!$A$5:$P$536,12,0),\"\")&IF(L120>\"\",\".\"&E120,\"\")","v":""},{"$f":"IF(MAX('3-3 위험성평가'!$A$4:$A$470)+1>E120,VLOOKUP(E120,'3-3 위험성평가'!$A$5:$P$470,13,0),\"\")","v":""},null,"하",null,null,null,null,null,null,null,"선택안함",0,{"$f":"IF(MAX('3-3 위험성평가'!$A$4:$A$470)+1>E120,VLOOKUP(E120,'3-3 위험성평가'!$A$5:$Q$470,17,0),\"\")","v":""},"선택",{"$f":"표지!$D$33","v":"시원건설"},{"$f":"표지!$E$34","v":"김길동4"},"선택안함",0]
["T40",4,"S40",4,113,{"$f":"IF(MAX('3-3 위험성평가'!$A$4:$A$470)+1>E121,VLOOKUP(E121,'3-3 위험성평가'!$A$5:$P$470,2,0),\"\")","v":""},{"$f":"IF(F121=\"\",\"\",VLOOKUP(VALUE(F121),'1-1 사업장 공정 정보'!$D$15:$P$32,5,0))","v":""},{"$f":"IF(MAX('3-3 위험성평가'!$A$4:$A$470)+1>E121,VLOOKUP(E121,'3-3 위험성평가'!$A$5:$P$470,3,0),\"\")","v":""},{"$f":"IF(MAX('3-3 위험성평가'!$A$4:$A$470)+1>E121,VLOOKUP(E121,'3-3 위험성평가'!$A$5:$P$470,4,0),\"\")","v":""},{"$f":"IF(MAX('3-3 위험성평가'!$A$4:$A$470)+1>E121,VLOOKUP(E121,'3-3 위험성평가'!$A$5:$P$470,5,0),\"\")","v":""},{"$f":"IF(MAX('3-3 위험성평가'!$A$4:$A$470)+1>E121,VLOOKUP(E121,'3-3 위험성평가'!$A$5:$P$470,6,0),\"\")","v":""},{"$f":"IF(MAX('3-3 위험성평가'!$A$4:$A$470)+1>E121,VLOOKUP(E121,'3-3 위험성평가'!$A$5:$P$470,9,0),\"\")","v":""},{"$f":"IF(MAX('3-3 위험성평가'!$A$4:$A$536)+1>E121,VLOOKUP(E121,'3-3 위험성평가'!$A$5:$P$536,12,0),\"\")&IF(L121>\"\",\".\"&E121,\"\")","v":""},{"$f":"IF(MAX('3-3 위험성평가'!$A$4:$A$470)+1>E121,VLOOKUP(E121,'3-3 위험성평가'!$A$5:$P$470,13,0),\"\")","v":""},null,"하",null,null,null,null,null,null,null,"선택안함",0,{"$f":"IF(MAX('3-3 위험성평가'!$A$4:$A$470)+1>E121,VLOOKUP(E121,'3-3 위험성평가'!$A$5:$Q$470,17,0),\"\")","v":""},"선택",{"$f":"표지!$D$33","v":"시원건설"},{"$f":"표지!$E$34","v":"김길동4"},"선택안함",0]
["T40",4,"S40",4,114,{"$f":"IF(MAX('3-3 위험성평가'!$A$4:$A$470)+1>E122,VLOOKUP(E122,'3-3 위험성평가'!$A$5:$P$470,2,0),\"\")","v":""},{"$f":"IF(F122=\"\",\"\",VLOOKUP(VALUE(F122),'1-1 사업장 공정 정보'!$D$15:$P$32,5,0))","v":""},{"$f":"IF(MAX('3-3 위험성평가'!$A$4:$A$470)+1>E122,VLOOKUP(E122,'3-3 위험성평가'!$A$5:$P$470,3,0),\"\")","v":""},{"$f":"IF(MAX('3-3 위험성평가'!$A$4:$A$470)+1>E122,VLOOKUP(E122,'3-3 위험성평가'!$A$5:$P$470,4,0),\"\")","v":""},{"$f":"IF(MAX('3-3 위험성평가'!$A$4:$A$470)+1>E122,VLOOKUP(E122,'3-3 위험성평가'!$A$5:$P$470,5,0),\"\")","v":""},{"$f":"IF(MAX('3-3 위험성평가'!$A$4:$A$470)+1>E122,VLOOKUP(E122,'3-3 위험성평가'!$A$5:$P$470,6,0),\"\")","v":""},{"$f":"IF(MAX('3-3 위험성평가'!$A$4:$A$470)+1>E122,VLOOKUP(E122,'3-3 위험성평가'!$A$5:$P$470,9,0),\"\")","v":""},{"$f":"IF(MAX('3-3 위험성평가'!$A$4:$A$536)+1>E122,VLOOKUP(E122,'3-3 위험성평가'!$A$5:$P$536,12,0),\"\")&IF(L122>\"\",\".\"&E122,\"\")","v":""},{"$f":"IF(MAX('3-3 위험성평가'!$A$4:$A$470)+1>E122,VLOOKUP(E122,'3-3 위험성평가'!$A$5:$P$470,13,0),\"\")","v":""},null,"하",null,null,null,null,null,null,null,"선택안함",0,{"$f":"IF(MAX('3-3 위험성평가'!$A$4:$A$470)+1>E122,VLOOKUP(E122,'3-3 위험성평가'!$A$5:$Q$470,17,0),\"\")","v":""},"선택",{"$f":"표지!$D$33","v":"시원건설"},{"$f":"표지!$E$34","v":"김길동4"},"선택안함",0]
["T40",4,"S40",4,115,{"$f":"IF(MAX('3-3 위험성평가'!$A$4:$A$470)+1>E123,VLOOKUP(E123,'3-3 위험성평가'!$A$5:$P$470,2,0),\"\")","v":""},{"$f":"IF(F123=\"\",\"\",VLOOKUP(VALUE(F123),'1-1 사업장 공정 정보'!$D$15:$P$32,5,0))","v":""},{"$f":"IF(MAX('3-3 위험성평가'!$A$4:$A$470)+1>E123,VLOOKUP(E123,'3-3 위험성평가'!$A$5:$P$470,3,0),\"\")","v":""},{"$f":"IF(MAX('3-3 위험성평가'!$A$4:$A$470)+1>E123,VLOOKUP(E123,'3-3 위험성평가'!$A$5:$P$470,4,0),\"\")","v":""},{"$f":"IF(MAX('3-3 위험성평가'!$A$4:$A$470)+1>E123,VLOOKUP(E123,'3-3 위험성평가'!$A$5:$P$470,5,0),\"\")","v":""},{"$f":"IF(MAX('3-3 위험성평가'!$A$4:$A$470)+1>E123,VLOOKUP(E123,'3-3 위험성평가'!$A$5:$P$470,6,0),\"\")","v":""},{"$f":"IF(MAX('3-3 위험성평가'!$A$4:$A$470)+1>E123,VLOOKUP(E123,'3-3 위험성평가'!$A$5:$P$470,9,0),\"\")","v":""},{"$f":"IF(MAX('3-3 위험성평가'!$A$4:$A$536)+1>E123,VLOOKUP(E123,'3-3 위험성평가'!$A$5:$P$536,12,0),\"\")&IF(L123>\"\",\".\"&E123,\"\")","v":""},{"$f":"IF(MAX('3-3 위험성평가'!$A$4:$A$470)+1>E123,VLOOKUP(E123,'3-3 위험성평가'!$A$5:$P$470,13,0),\"\")","v":""},null,"하",null,null,null,null,null,null,null,"선택안함",0,{"$f":"IF(MAX('3-3 위험성평가'!$A$4:$A$470)+1>E123,VLOOKUP(E123,'3-3 위험성평가'!$A$5:$Q$470,17,0),\"\")","v":""},"선택",{"$f":"표지!$D$33","v":"시원건설"},{"$f":"표지!$E$34","v":"김길동4"},"선택안함",0]
["T40",4,"S40",4,116,{"$f":"IF(MAX('3-3 위험성평가'!$A$4:$A$470)+1>E124,VLOOKUP(E124,'3-3 위험성평가'!$A$5:$P$470,2,0),\"\")","v":""},{"$f":"IF(F124=\"\",\"\",VLOOKUP(VALUE(F124),'1-1 사업장 공정 정보'!$D$15:$P$32,5,0))","v":""},{"$f":"IF(MAX('3-3 위험성평가'!$A$4:$A$470)+1>E124,VLOOKUP(E124,'3-3 위험성평가'!$A$5:$P$470,3,0),\"\")","v":""},{"$f":"IF(MAX('3-3 위험성평가'!$A$4:$A$470)+1>E124,VLOOKUP(E124,'3-3 위험성평가'!$A$5:$P$470,4,0),\"\")","v":""},{"$f":"IF(MAX('3-3 위험성평가'!$A$4:$A$470)+1>E124,VLOOKUP(E124,'3-3 위험성평가'!$A$5:$P$470,5,0),\"\")","v":""},{"$f":"IF(MAX('3-3 위험성평가'!$A$4:$A$470)+1>E124,VLOOKUP(E124,'3-3 위험성평가'!$A$5:$P$470,6,0),\"\")","v":""},{"$f":"IF(MAX('3-3 위험성평가'!$A$4:$A$470)+1>E124,VLOOKUP(E124,'3-3 위험성평가'!$A$5:$P$470,9,0),\"\")","v":""},{"$f":"IF(MAX('3-3 위험성평가'!$A$4:$A$536)+1>E124,VLOOKUP(E124,'3-3 위험성평가'!$A$5:$P$536,12,0),\"\")&IF(L124>\"\",\".\"&E124,\"\")","v":""},{"$f":"IF(MAX('3-3 위험성평가'!$A$4:$A$470)+1>E124,VLOOKUP(E124,'3-3 위험성평가'!$A$5:$P$470,13,0),\"\")","v":""},null,"하",null,null,null,null,null,null,null,"선택안함",0,{"$f":"IF(MAX('3-3 위험성평가'!$A$4:$A$470)+1>E124,VLOOKUP(E124,'3-3 위험성평가'!$A$5:$Q$470,17,0),\"\")","v":""},"선택",{"$f":"표지!$D$33","v":"시원건설"},{"$f":"표지!$E$34","v":"김길동4"},"선택안함",0]
["T40",4,"S40",4,117,{"$f":"IF(MAX('3-3 위험성평가'!$A$4:$A$470)+1>E125,VLOOKUP(E125,'3-3 위험성평가'!$A$5:$P$470,2,0),\"\")","v":""},{"$f":"IF(F125=\"\",\"\",VLOOKUP(VALUE(F125),'1-1 사업장 공정 정보'!$D$15:$P$32,5,0))","v":""},{"$f":"IF(MAX('3-3 위험성평가'!$A$4:$A$470)+1>E125,VLOOKUP(E125,'3-3 위험성평가'!$A$5:$P$470,3,0),\"\")","v":""},{"$f":"IF(MAX('3-3 위험성평가'!$A$4:$A$470)+1>E125,VLOOKUP(E125,'3-3 위험성평가'!$A$5:$P$470,4,0),\"\")","v":""},{"$f":"IF(MAX('3-3 위험성평가'!$A$4:$A$470)+1>E125,VLOOKUP(E125,'3-3 위험성평가'!$A$5:$P$470,5,0),\"\")","v":""},{"$f":"IF(MAX('3-3 위험성평가'!$A$4:$A$470)+1>E125,VLOOKUP(E125,'3-3 위험성평가'!$A$5:$P$470,6,0),\"\")","v":""},{"$f":"IF(MAX('3-3 위험성평가'!$A$4:$A$470)+1>E125,VLOOKUP(E125,'3-3 위험성평가'!$A$5:$P$470,9,0),\"\")","v":""},{"$f":"IF(MAX('3-3 위험성평가'!$A$4:$A$536)+1>E125,VLOOKUP(E125,'3-3 위험성평가'!$A$5:$P$536,12,0),\"\")&IF(L125>\"\",\".\"&E125,\"\")","v":""},{"$f":"IF(MAX('3-3 위험성평가'!$A$4:$A$470)+1>E125,VLOOKUP(E125,'3-3 위험성평가'!$A$5:$P$470,13,0),\"\")","v":""},null,"하",null,null,null,null,null,null,null,"선택안함",0,{"$f":"IF(MAX('3-3 위험성평가'!$A$4:$A$470)+1>E125,VLOOKUP(E125,'3-3 위험성평가'!$A$5:$Q$470,17,0),\"\")","v":""},"선택",{"$f":"표지!$D$33","v":"시원건설"},{"$f":"표지!$E$34","v":"김길동4"},"선택안함",0]
["T40",4,"S40",4,118,{"$f":"IF(MAX('3-3 위험성평가'!$A$4:$A$470)+1>E126,VLOOKUP(E126,'3-3 위험성평가'!$A$5:$P$470,2,0),\"\")","v":""},{"$f":"IF(F126=\"\",\"\",VLOOKUP(VALUE(F126),'1-1 사업장 공정 정보'!$D$15:$P$32,5,0))","v":""},{"$f":"IF(MAX('3-3 위험성평가'!$A$4:$A$470)+1>E126,VLOOKUP(E126,'3-3 위험성평가'!$A$5:$P$470,3,0),\"\")","v":""},{"$f":"IF(MAX('3-3 위험성평가'!$A$4:$A$470)+1>E126,VLOOKUP(E126,'3-3 위험성평가'!$A$5:$P$470,4,0),\"\")","v":""},{"$f":"IF(MAX('3-3 위험성평가'!$A$4:$A$470)+1>E126,VLOOKUP(E126,'3-3 위험성평가'!$A$5:$P$470,5,0),\"\")","v":""},{"$f":"IF(MAX('3-3 위험성평가'!$A$4:$A$470)+1>E126,VLOOKUP(E126,'3-3 위험성평가'!$A$5:$P$470,6,0),\"\")","v":""},{"$f":"IF(MAX('3-3 위험성평가'!$A$4:$A$470)+1>E126,VLOOKUP(E126,'3-3 위험성평가'!$A$5:$P$470,9,0),\"\")","v":""},{"$f":"IF(MAX('3-3 위험성평가'!$A$4:$A$536)+1>E126,VLOOKUP(E126,'3-3 위험성평가'!$A$5:$P$536,12,0),\"\")&IF(L126>\"\",\".\"&E126,\"\")","v":""},{"$f":"IF(MAX('3-3 위험성평가'!$A$4:$A$470)+1>E126,VLOOKUP(E126,'3-3 위험성평가'!$A$5:$P$470,13,0),\"\")","v":""},null,"하",null,null,null,null,null,null,null,"선택안함",0,{"$f":"IF(MAX('3-3 위험성평가'!$A$4:$A$470)+1>E126,VLOOKUP(E126,'3-3 위험성평가'!$A$5:$Q$470,17,0),\"\")","v":""},"선택",{"$f":"표지!$D$33","v":"시원건설"},{"$f":"표지!$E$34","v":"김길동4"},"선택안함",0]
["T40",4,"S40",4,119,{"$f":"IF(MAX('3-3 위험성평가'!$A$4:$A$470)+1>E127,VLOOKUP(E127,'3-3 위험성평가'!$A$5:$P$470,2,0),\"\")","v":""},{"$f":"IF(F127=\"\",\"\",VLOOKUP(VALUE(F127),'1-1 사업장 공정 정보'!$D$15:$P$32,5,0))","v":""},{"$f":"IF(MAX('3-3 위험성평가'!$A$4:$A$470)+1>E127,VLOOKUP(E127,'3-3 위험성평가'!$A$5:$P$470,3,0),\"\")","v":""},{"$f":"IF(MAX('3-3 위험성평가'!$A$4:$A$470)+1>E127,VLOOKUP(E127,'3-3 위험성평가'!$A$5:$P$470,4,0),\"\")","v":""},{"$f":"IF(MAX('3-3 위험성평가'!$A$4:$A$470)+1>E127,VLOOKUP(E127,'3-3 위험성평가'!$A$5:$P$470,5,0),\"\")","v":""},{"$f":"IF(MAX('3-3 위험성평가'!$A$4:$A$470)+1>E127,VLOOKUP(E127,'3-3 위험성평가'!$A$5:$P$470,6,0),\"\")","v":""},{"$f":"IF(MAX('3-3 위험성평가'!$A$4:$A$470)+1>E127,VLOOKUP(E127,'3-3 위험성평가'!$A$5:$P$470,9,0),\"\")","v":""},{"$f":"IF(MAX('3-3 위험성평가'!$A$4:$A$536)+1>E127,VLOOKUP(E127,'3-3 위험성평가'!$A$5:$P$536,12,0),\"\")&IF(L127>\"\",\".\"&E127,\"\")","v":""},{"$f":"IF(MAX('3-3 위험성평가'!$A$4:$A$470)+1>E127,VLOOKUP(E127,'3-3 위험성평가'!$A$5:$P$470,13,0),\"\")","v":""},null,"하",null,null,null,null,null,null,null,"선택안함",0,{"$f":"IF(MAX('3-3 위험성평가'!$A$4:$A$470)+1>E127,VLOOKUP(E127,'3-3 위험성평가'!$A$5:$Q$470,17,0),\"\")","v":""},"선택",{"$f":"표지!$D$33","v":"시원건설"},{"$f":"표지!$E$34","v":"김길동4"},"선택안함",0]
["T40",4,"S40",4,120,{"$f":"IF(MAX('3-3 위험성평가'!$A$4:$A$470)+1>E128,VLOOKUP(E128,'3-3 위험성평가'!$A$5:$P$470,2,0),\"\")","v":""},{"$f":"IF(F128=\"\",\"\",VLOOKUP(VALUE(F128),'1-1 사업장 공정 정보'!$D$15:$P$32,5,0))","v":""},{"$f":"IF(MAX('3-3 위험성평가'!$A$4:$A$470)+1>E128,VLOOKUP(E128,'3-3 위험성평가'!$A$5:$P$470,3,0),\"\")","v":""},{"$f":"IF(MAX('3-3 위험성평가'!$A$4:$A$470)+1>E128,VLOOKUP(E128,'3-3 위험성평가'!$A$5:$P$470,4,0),\"\")","v":""},{"$f":"IF(MAX('3-3 위험성평가'!$A$4:$A$470)+1>E128,VLOOKUP(E128,'3-3 위험성평가'!$A$5:$P$470,5,0),\"\")","v":""},{"$f":"IF(MAX('3-3 위험성평가'!$A$4:$A$470)+1>E128,VLOOKUP(E128,'3-3 위험성평가'!$A$5:$P$470,6,0),\"\")","v":""},{"$f":"IF(MAX('3-3 위험성평가'!$A$4:$A$470)+1>E128,VLOOKUP(E128,'3-3 위험성평가'!$A$5:$P$470,9,0),\"\")","v":""},{"$f":"IF(MAX('3-3 위험성평가'!$A$4:$A$536)+1>E128,VLOOKUP(E128,'3-3 위험성평가'!$A$5:$P$536,12,0),\"\")&IF(L128>\"\",\".\"&E128,\"\")","v":""},{"$f":"IF(MAX('3-3 위험성평가'!$A$4:$A$470)+1>E128,VLOOKUP(E128,'3-3 위험성평가'!$A$5:$P$470,13,0),\"\")","v":""},null,"하",null,null,null,null,null,null,null,"선택안함",0,{"$f":"IF(MAX('3-3 위험성평가'!$A$4:$A$470)+1>E128,VLOOKUP(E128,'3-3 위험성평가'!$A$5:$Q$470,17,0),\"\")","v":""},"선택",{"$f":"표지!$D$33","v":"시원건설"},{"$f":"표지!$E$34","v":"김길동4"},"선택안함",0]
["T40",4,"S40",4,121,{"$f":"IF(MAX('3-3 위험성평가'!$A$4:$A$470)+1>E129,VLOOKUP(E129,'3-3 위험성평가'!$A$5:$P$470,2,0),\"\")","v":""},{"$f":"IF(F129=\"\",\"\",VLOOKUP(VALUE(F129),'1-1 사업장 공정 정보'!$D$15:$P$32,5,0))","v":""},{"$f":"IF(MAX('3-3 위험성평가'!$A$4:$A$470)+1>E129,VLOOKUP(E129,'3-3 위험성평가'!$A$5:$P$470,3,0),\"\")","v":""},{"$f":"IF(MAX('3-3 위험성평가'!$A$4:$A$470)+1>E129,VLOOKUP(E129,'3-3 위험성평가'!$A$5:$P$470,4,0),\"\")","v":""},{"$f":"IF(MAX('3-3 위험성평가'!$A$4:$A$470)+1>E129,VLOOKUP(E129,'3-3 위험성평가'!$A$5:$P$470,5,0),\"\")","v":""},{"$f":"IF(MAX('3-3 위험성평가'!$A$4:$A$470)+1>E129,VLOOKUP(E129,'3-3 위험성평가'!$A$5:$P$470,6,0),\"\")","v":""},{"$f":"IF(MAX('3-3 위험성평가'!$A$4:$A$470)+1>E129,VLOOKUP(E129,'3-3 위험성평가'!$A$5:$P$470,9,0),\"\")","v":""},{"$f":"IF(MAX('3-3 위험성평가'!$A$4:$A$536)+1>E129,VLOOKUP(E129,'3-3 위험성평가'!$A$5:$P$536,12,0),\"\")&IF(L129>\"\",\".\"&E129,\"\")","v":""},{"$f":"IF(MAX('3-3 위험성평가'!$A$4:$A$470)+1>E129,VLOOKUP(E129,'3-3 위험성평가'!$A$5:$P$470,13,0),\"\")","v":""},null,"하",null,null,null,null,null,null,null,"선택안함",0,{"$f":"IF(MAX('3-3 위험성평가'!$A$4:$A$470)+1>E129,VLOOKUP(E129,'3-3 위험성평가'!$A$5:$Q$470,17,0),\"\")","v":""},"선택",{"$f":"표지!$D$33","v":"시원건설"},{"$f":"표지!$E$34","v":"김길동4"},"선택안함",0]
["T40",4,"S40",4,122,{"$f":"IF(MAX('3-3 위험성평가'!$A$4:$A$470)+1>E130,VLOOKUP(E130,'3-3 위험성평가'!$A$5:$P$470,2,0),\"\")","v":""},{"$f":"IF(F130=\"\",\"\",VLOOKUP(VALUE(F130),'1-1 사업장 공정 정보'!$D$15:$P$32,5,0))","v":""},{"$f":"IF(MAX('3-3 위험성평가'!$A$4:$A$470)+1>E130,VLOOKUP(E130,'3-3 위험성평가'!$A$5:$P$470,3,0),\"\")","v":""},{"$f":"IF(MAX('3-3 위험성평가'!$A$4:$A$470)+1>E130,VLOOKUP(E130,'3-3 위험성평가'!$A$5:$P$470,4,0),\"\")","v":""},{"$f":"IF(MAX('3-3 위험성평가'!$A$4:$A$470)+1>E130,VLOOKUP(E130,'3-3 위험성평가'!$A$5:$P$470,5,0),\"\")","v":""},{"$f":"IF(MAX('3-3 위험성평가'!$A$4:$A$470)+1>E130,VLOOKUP(E130,'3-3 위험성평가'!$A$5:$P$470,6,0),\"\")","v":""},{"$f":"IF(MAX('3-3 위험성평가'!$A$4:$A$470)+1>E130,VLOOKUP(E130,'3-3 위험성평가'!$A$5:$P$470,9,0),\"\")","v":""},{"$f":"IF(MAX('3-3 위험성평가'!$A$4:$A$536)+1>E130,VLOOKUP(E130,'3-3 위험성평가'!$A$5:$P$536,12,0),\"\")&IF(L130>\"\",\".\"&E130,\"\")","v":""},{"$f":"IF(MAX('3-3 위험성평가'!$A$4:$A$470)+1>E130,VLOOKUP(E130,'3-3 위험성평가'!$A$5:$P$470,13,0),\"\")","v":""},null,"하",null,null,null,null,null,null,null,"선택안함",0,{"$f":"IF(MAX('3-3 위험성평가'!$A$4:$A$470)+1>E130,VLOOKUP(E130,'3-3 위험성평가'!$A$5:$Q$470,17,0),\"\")","v":""},"선택",{"$f":"표지!$D$33","v":"시원건설"},{"$f":"표지!$E$34","v":"김길동4"},"선택안함",0]
["T40",4,"S40",4,123,{"$f":"IF(MAX('3-3 위험성평가'!$A$4:$A$470)+1>E131,VLOOKUP(E131,'3-3 위험성평가'!$A$5:$P$470,2,0),\"\")","v":""},{"$f":"IF(F131=\"\",\"\",VLOOKUP(VALUE(F131),'1-1 사업장 공정 정보'!$D$15:$P$32,5,0))","v":""},{"$f":"IF(MAX('3-3 위험성평가'!$A$4:$A$470)+1>E131,VLOOKUP(E131,'3-3 위험성평가'!$A$5:$P$470,3,0),\"\")","v":""},{"$f":"IF(MAX('3-3 위험성평가'!$A$4:$A$470)+1>E131,VLOOKUP(E131,'3-3 위험성평가'!$A$5:$P$470,4,0),\"\")","v":""},{"$f":"IF(MAX('3-3 위험성평가'!$A$4:$A$470)+1>E131,VLOOKUP(E131,'3-3 위험성평가'!$A$5:$P$470,5,0),\"\")","v":""},{"$f":"IF(MAX('3-3 위험성평가'!$A$4:$A$470)+1>E131,VLOOKUP(E131,'3-3 위험성평가'!$A$5:$P$470,6,0),\"\")","v":""},{"$f":"IF(MAX('3-3 위험성평가'!$A$4:$A$470)+1>E131,VLOOKUP(E131,'3-3 위험성평가'!$A$5:$P$470,9,0),\"\")","v":""},{"$f":"IF(MAX('3-3 위험성평가'!$A$4:$A$536)+1>E131,VLOOKUP(E131,'3-3 위험성평가'!$A$5:$P$536,12,0),\"\")&IF(L131>\"\",\".\"&E131,\"\")","v":""},{"$f":"IF(MAX('3-3 위험성평가'!$A$4:$A$470)+1>E131,VLOOKUP(E131,'3-3 위험성평가'!$A$5:$P$470,13,0),\"\")","v":""},null,"하",null,null,null,null,null,null,null,"선택안함",0,{"$f":"IF(MAX('3-3 위험성평가'!$A$4:$A$470)+1>E131,VLOOKUP(E131,'3-3 위험성평가'!$A$5:$Q$470,17,0),\"\")","v":""},"선택",{"$f":"표지!$D$33","v":"시원건설"},{"$f":"표지!$E$34","v":"김길동4"},"선택안함",0]
["T40",4,"S40",4,124,{"$f":"IF(MAX('3-3 위험성평가'!$A$4:$A$470)+1>E132,VLOOKUP(E132,'3-3 위험성평가'!$A$5:$P$470,2,0),\"\")","v":""},{"$f":"IF(F132=\"\",\"\",VLOOKUP(VALUE(F132),'1-1 사업장 공정 정보'!$D$15:$P$32,5,0))","v":""},{"$f":"IF(MAX('3-3 위험성평가'!$A$4:$A$470)+1>E132,VLOOKUP(E132,'3-3 위험성평가'!$A$5:$P$470,3,0),\"\")","v":""},{"$f":"IF(MAX('3-3 위험성평가'!$A$4:$A$470)+1>E132,VLOOKUP(E132,'3-3 위험성평가'!$A$5:$P$470,4,0),\"\")","v":""},{"$f":"IF(MAX('3-3 위험성평가'!$A$4:$A$470)+1>E132,VLOOKUP(E132,'3-3 위험성평가'!$A$5:$P$470,5,0),\"\")","v":""},{"$f":"IF(MAX('3-3 위험성평가'!$A$4:$A$470)+1>E132,VLOOKUP(E132,'3-3 위험성평가'!$A$5:$P$470,6,0),\"\")","v":""},{"$f":"IF(MAX('3-3 위험성평가'!$A$4:$A$470)+1>E132,VLOOKUP(E132,'3-3 위험성평가'!$A$5:$P$470,9,0),\"\")","v":""},{"$f":"IF(MAX('3-3 위험성평가'!$A$4:$A$536)+1>E132,VLOOKUP(E132,'3-3 위험성평가'!$A$5:$P$536,12,0),\"\")&IF(L132>\"\",\".\"&E132,\"\")","v":""},{"$f":"IF(MAX('3-3 위험성평가'!$A$4:$A$470)+1>E132,VLOOKUP(E132,'3-3 위험성평가'!$A$5:$P$470,13,0),\"\")","v":""},null,"하",null,null,null,null,null,null,null,"선택안함",0,{"$f":"IF(MAX('3-3 위험성평가'!$A$4:$A$470)+1>E132,VLOOKUP(E132,'3-3 위험성평가'!$A$5:$Q$470,17,0),\"\")","v":""},"선택",{"$f":"표지!$D$33","v":"시원건설"},{"$f":"표지!$E$34","v":"김길동4"},"선택안함",0]
["T40",4,"S40",4,125,{"$f":"IF(MAX('3-3 위험성평가'!$A$4:$A$470)+1>E133,VLOOKUP(E133,'3-3 위험성평가'!$A$5:$P$470,2,0),\"\")","v":""},{"$f":"IF(F133=\"\",\"\",VLOOKUP(VALUE(F133),'1-1 사업장 공정 정보'!$D$15:$P$32,5,0))","v":""},{"$f":"IF(MAX('3-3 위험성평가'!$A$4:$A$470)+1>E133,VLOOKUP(E133,'3-3 위험성평가'!$A$5:$P$470,3,0),\"\")","v":""},{"$f":"IF(MAX('3-3 위험성평가'!$A$4:$A$470)+1>E133,VLOOKUP(E133,'3-3 위험성평가'!$A$5:$P$470,4,0),\"\")","v":""},{"$f":"IF(MAX('3-3 위험성평가'!$A$4:$A$470)+1>E133,VLOOKUP(E133,'3-3 위험성평가'!$A$5:$P$470,5,0),\"\")","v":""},{"$f":"IF(MAX('3-3 위험성평가'!$A$4:$A$470)+1>E133,VLOOKUP(E133,'3-3 위험성평가'!$A$5:$P$470,6,0),\"\")","v":""},{"$f":"IF(MAX('3-3 위험성평가'!$A$4:$A$470)+1>E133,VLOOKUP(E133,'3-3 위험성평가'!$A$5:$P$470,9,0),\"\")","v":""},{"$f":"IF(MAX('3-3 위험성평가'!$A$4:$A$536)+1>E133,VLOOKUP(E133,'3-3 위험성평가'!$A$5:$P$536,12,0),\"\")&IF(L133>\"\",\".\"&E133,\"\")","v":""},{"$f":"IF(MAX('3-3 위험성평가'!$A$4:$A$470)+1>E133,VLOOKUP(E133,'3-3 위험성평가'!$A$5:$P$470,13,0),\"\")","v":""},null,"하",null,null,null,null,null,null,null,"선택안함",0,{"$f":"IF(MAX('3-3 위험성평가'!$A$4:$A$470)+1>E133,VLOOKUP(E133,'3-3 위험성평가'!$A$5:$Q$470,17,0),\"\")","v":""},"선택",{"$f":"표지!$D$33","v":"시원건설"},{"$f":"표지!$E$34","v":"김길동4"},"선택안함",0]
["T40",4,"S40",4,126,{"$f":"IF(MAX('3-3 위험성평가'!$A$4:$A$470)+1>E134,VLOOKUP(E134,'3-3 위험성평가'!$A$5:$P$470,2,0),\"\")","v":""},{"$f":"IF(F134=\"\",\"\",VLOOKUP(VALUE(F134),'1-1 사업장 공정 정보'!$D$15:$P$32,5,0))","v":""},{"$f":"IF(MAX('3-3 위험성평가'!$A$4:$A$470)+1>E134,VLOOKUP(E134,'3-3 위험성평가'!$A$5:$P$470,3,0),\"\")","v":""},{"$f":"IF(MAX('3-3 위험성평가'!$A$4:$A$470)+1>E134,VLOOKUP(E134,'3-3 위험성평가'!$A$5:$P$470,4,0),\"\")","v":""},{"$f":"IF(MAX('3-3 위험성평가'!$A$4:$A$470)+1>E134,VLOOKUP(E134,'3-3 위험성평가'!$A$5:$P$470,5,0),\"\")","v":""},{"$f":"IF(MAX('3-3 위험성평가'!$A$4:$A$470)+1>E134,VLOOKUP(E134,'3-3 위험성평가'!$A$5:$P$470,6,0),\"\")","v":""},{"$f":"IF(MAX('3-3 위험성평가'!$A$4:$A$470)+1>E134,VLOOKUP(E134,'3-3 위험성평가'!$A$5:$P$470,9,0),\"\")","v":""},{"$f":"IF(MAX('3-3 위험성평가'!$A$4:$A$536)+1>E134,VLOOKUP(E134,'3-3 위험성평가'!$A$5:$P$536,12,0),\"\")&IF(L134>\"\",\".\"&E134,\"\")","v":""},{"$f":"IF(MAX('3-3 위험성평가'!$A$4:$A$470)+1>E134,VLOOKUP(E134,'3-3 위험성평가'!$A$5:$P$470,13,0),\"\")","v":""},null,"하",null,null,null,null,null,null,null,"선택안함",0,{"$f":"IF(MAX('3-3 위험성평가'!$A$4:$A$470)+1>E134,VLOOKUP(E134,'3-3 위험성평가'!$A$5:$Q$470,17,0),\"\")","v":""},"선택",{"$f":"표지!$D$33","v":"시원건설"},{"$f":"표지!$E$34","v":"김길동4"},"선택안함",0]
["T40",4,"S40",4,127,{"$f":"IF(MAX('3-3 위험성평가'!$A$4:$A$470)+1>E135,VLOOKUP(E135,'3-3 위험성평가'!$A$5:$P$470,2,0),\"\")","v":""},{"$f":"IF(F135=\"\",\"\",VLOOKUP(VALUE(F135),'1-1 사업장 공정 정보'!$D$15:$P$32,5,0))","v":""},{"$f":"IF(MAX('3-3 위험성평가'!$A$4:$A$470)+1>E135,VLOOKUP(E135,'3-3 위험성평가'!$A$5:$P$470,3,0),\"\")","v":""},{"$f":"IF(MAX('3-3 위험성평가'!$A$4:$A$470)+1>E135,VLOOKUP(E135,'3-3 위험성평가'!$A$5:$P$470,4,0),\"\")","v":""},{"$f":"IF(MAX('3-3 위험성평가'!$A$4:$A$470)+1>E135,VLOOKUP(E135,'3-3 위험성평가'!$A$5:$P$470,5,0),\"\")","v":""},{"$f":"IF(MAX('3-3 위험성평가'!$A$4:$A$470)+1>E135,VLOOKUP(E135,'3-3 위험성평가'!$A$5:$P$470,6,0),\"\")","v":""},{"$f":"IF(MAX('3-3 위험성평가'!$A$4:$A$470)+1>E135,VLOOKUP(E135,'3-3 위험성평가'!$A$5:$P$470,9,0),\"\")","v":""},{"$f":"IF(MAX('3-3 위험성평가'!$A$4:$A$536)+1>E135,VLOOKUP(E135,'3-3 위험성평가'!$A$5:$P$536,12,0),\"\")&IF(L135>\"\",\".\"&E135,\"\")","v":""},{"$f":"IF(MAX('3-3 위험성평가'!$A$4:$A$470)+1>E135,VLOOKUP(E135,'3-3 위험성평가'!$A$5:$P$470,13,0),\"\")","v":""},null,"하",null,null,null,null,null,null,null,"선택안함",0,{"$f":"IF(MAX('3-3 위험성평가'!$A$4:$A$470)+1>E135,VLOOKUP(E135,'3-3 위험성평가'!$A$5:$Q$470,17,0),\"\")","v":""},"선택",{"$f":"표지!$D$33","v":"시원건설"},{"$f":"표지!$E$34","v":"김길동4"},"선택안함",0]
["T40",4,"S40",4,128,{"$f":"IF(MAX('3-3 위험성평가'!$A$4:$A$470)+1>E136,VLOOKUP(E136,'3-3 위험성평가'!$A$5:$P$470,2,0),\"\")","v":""},{"$f":"IF(F136=\"\",\"\",VLOOKUP(VALUE(F136),'1-1 사업장 공정 정보'!$D$15:$P$32,5,0))","v":""},{"$f":"IF(MAX('3-3 위험성평가'!$A$4:$A$470)+1>E136,VLOOKUP(E136,'3-3 위험성평가'!$A$5:$P$470,3,0),\"\")","v":""},{"$f":"IF(MAX('3-3 위험성평가'!$A$4:$A$470)+1>E136,VLOOKUP(E136,'3-3 위험성평가'!$A$5:$P$470,4,0),\"\")","v":""},{"$f":"IF(MAX('3-3 위험성평가'!$A$4:$A$470)+1>E136,VLOOKUP(E136,'3-3 위험성평가'!$A$5:$P$470,5,0),\"\")","v":""},{"$f":"IF(MAX('3-3 위험성평가'!$A$4:$A$470)+1>E136,VLOOKUP(E136,'3-3 위험성평가'!$A$5:$P$470,6,0),\"\")","v":""},{"$f":"IF(MAX('3-3 위험성평가'!$A$4:$A$470)+1>E136,VLOOKUP(E136,'3-3 위험성평가'!$A$5:$P$470,9,0),\"\")","v":""},{"$f":"IF(MAX('3-3 위험성평가'!$A$4:$A$536)+1>E136,VLOOKUP(E136,'3-3 위험성평가'!$A$5:$P$536,12,0),\"\")&IF(L136>\"\",\".\"&E136,\"\")","v":""},{"$f":"IF(MAX('3-3 위험성평가'!$A$4:$A$470)+1>E136,VLOOKUP(E136,'3-3 위험성평가'!$A$5:$P$470,13,0),\"\")","v":""},null,"하",null,null,null,null,null,null,null,"선택안함",0,{"$f":"IF(MAX('3-3 위험성평가'!$A$4:$A$470)+1>E136,VLOOKUP(E136,'3-3 위험성평가'!$A$5:$Q$470,17,0),\"\")","v":""},"선택",{"$f":"표지!$D$33","v":"시원건설"},{"$f":"표지!$E$34","v":"김길동4"},"선택안함",0]
[{"$f":"\"T\"&B137&IF(OR(X137=\"선택\",X137=1),1,0)","v":"T40"},4,"S40",4,129,{"$f":"IF(MAX('3-3 위험성평가'!$A$4:$A$470)+1>E137,VLOOKUP(E137,'3-3 위험성평가'!$A$5:$P$470,2,0),\"\")","v":""},{"$f":"IF(F137=\"\",\"\",VLOOKUP(VALUE(F137),'1-1 사업장 공정 정보'!$D$15:$P$32,5,0))","v":""},{"$f":"IF(MAX('3-3 위험성평가'!$A$4:$A$470)+1>E137,VLOOKUP(E137,'3-3 위험성평가'!$A$5:$P$470,3,0),\"\")","v":""},{"$f":"IF(MAX('3-3 위험성평가'!$A$4:$A$470)+1>E137,VLOOKUP(E137,'3-3 위험성평가'!$A$5:$P$470,4,0),\"\")","v":""},{"$f":"IF(MAX('3-3 위험성평가'!$A$4:$A$470)+1>E137,VLOOKUP(E137,'3-3 위험성평가'!$A$5:$P$470,5,0),\"\")","v":""},{"$f":"IF(MAX('3-3 위험성평가'!$A$4:$A$470)+1>E137,VLOOKUP(E137,'3-3 위험성평가'!$A$5:$P$470,6,0),\"\")","v":""},{"$f":"IF(MAX('3-3 위험성평가'!$A$4:$A$470)+1>E137,VLOOKUP(E137,'3-3 위험성평가'!$A$5:$P$470,9,0),\"\")","v":""},{"$f":"IF(MAX('3-3 위험성평가'!$A$4:$A$536)+1>E137,VLOOKUP(E137,'3-3 위험성평가'!$A$5:$P$536,12,0),\"\")&IF(L137>\"\",\".\"&E137,\"\")","v":""},{"$f":"IF(MAX('3-3 위험성평가'!$A$4:$A$470)+1>E137,VLOOKUP(E137,'3-3 위험성평가'!$A$5:$P$470,13,0),\"\")","v":""},null,"하",null,null,null,null,null,null,null,"선택안함",0,{"$f":"IF(MAX('3-3 위험성평가'!$A$4:$A$470)+1>E137,VLOOKUP(E137,'3-3 위험성평가'!$A$5:$Q$470,17,0),\"\")","v":""},"선택",{"$f":"표지!$D$33","v":"시원건설"},{"$f":"표지!$E$34","v":"김길동4"},"선택안함",0]
["T40",4,{"$f":"\"S\"&D138&IF(OR(AD138=\"선택\",AD138=1),1,0)","v":"S40"},4,130,{"$f":"IF(MAX('3-3 위험성평가'!$A$4:$A$470)+1>E138,VLOOKUP(E138,'3-3 위험성평가'!$A$5:$P$470,2,0),\"\")","v":""},{"$f":"IF(F138=\"\",\"\",VLOOKUP(VALUE(F138),'1-1 사업장 공정 정보'!$D$15:$P$32,5,0))","v":""},{"$f":"IF(MAX('3-3 위험성평가'!$A$4:$A$470)+1>E138,VLOOKUP(E138,'3-3 위험성평가'!$A$5:$P$470,3,0),\"\")","v":""},{"$f":"IF(MAX('3-3 위험성평가'!$A$4:$A$470)+1>E138,VLOOKUP(E138,'3-3 위험성평가'!$A$5:$P$470,4,0),\"\")","v":""},{"$f":"IF(MAX('3-3 위험성평가'!$A$4:$A$470)+1>E138,VLOOKUP(E138,'3-3 위험성평가'!$A$5:$P$470,5,0),\"\")","v":""},{"$f":"IF(MAX('3-3 위험성평가'!$A$4:$A$470)+1>E138,VLOOKUP(E138,'3-3 위험성평가'!$A$5:$P$470,6,0),\"\")","v":""},{"$f":"IF(MAX('3-3 위험성평가'!$A$4:$A$470)+1>E138,VLOOKUP(E138,'3-3 위험성평가'!$A$5:$P$470,9,0),\"\")","v":""},{"$f":"IF(MAX('3-3 위험성평가'!$A$4:$A$536)+1>E138,VLOOKUP(E138,'3-3 위험성평가'!$A$5:$P$536,12,0),\"\")&IF(L138>\"\",\".\"&E138,\"\")","v":""},{"$f":"IF(MAX('3-3 위험성평가'!$A$4:$A$470)+1>E138,VLOOKUP(E138,'3-3 위험성평가'!$A$5:$P$470,13,0),\"\")","v":""},null,"하",null,null,null,null,null,null,null,"선택안함",{"$f":"IF(OR(X138=\"선택\",X138=1),1,0)","v":0},{"$f":"IF(MAX('3-3 위험성평가'!$A$4:$A$470)+1>E138,VLOOKUP(E138,'3-3 위험성평가'!$A$5:$Q$470,17,0),\"\")","v":""},"선택",{"$f":"표지!$D$33","v":"시원건설"},{"$f":"표지!$E$34","v":"김길동4"},"선택안함",{"$f":"IF(OR(AD138=\"선택\",AD138=1),1,0)","v":0}]
["T40",{"$f":"B138+Y139","v":4},"S40",4,131,{"$f":"IF(MAX('3-3 위험성평가'!$A$4:$A$470)+1>E139,VLOOKUP(E139,'3-3 위험성평가'!$A$5:$P$470,2,0),\"\")","v":""},{"$f":"IF(F139=\"\",\"\",VLOOKUP(VALUE(F139),'1-1 사업장 공정 정보'!$D$15:$P$32,5,0))","v":""},{"$f":"IF(MAX('3-3 위험성평가'!$A$4:$A$470)+1>E139,VLOOKUP(E139,'3-3 위험성평가'!$A$5:$P$470,3,0),\"\")","v":""},{"$f":"IF(MAX('3-3 위험성평가'!$A$4:$A$470)+1>E139,VLOOKUP(E139,'3-3 위험성평가'!$A$5:$P$470,4,0),\"\")","v":""},{"$f":"IF(MAX('3-3 위험성평가'!$A$4:$A$470)+1>E139,VLOOKUP(E139,'3-3 위험성평가'!$A$5:$P$470,5,0),\"\")","v":""},{"$f":"IF(MAX('3-3 위험성평가'!$A$4:$A$470)+1>E139,VLOOKUP(E139,'3-3 위험성평가'!$A$5:$P$470,6,0),\"\")","v":""},{"$f":"IF(MAX('3-3 위험성평가'!$A$4:$A$470)+1>E139,VLOOKUP(E139,'3-3 위험성평가'!$A$5:$P$470,9,0),\"\")","v":""},{"$f":"IF(MAX('3-3 위험성평가'!$A$4:$A$536)+1>E139,VLOOKUP(E139,'3-3 위험성평가'!$A$5:$P$536,12,0),\"\")&IF(L139>\"\",\".\"&E139,\"\")","v":""},{"$f":"IF(MAX('3-3 위험성평가'!$A$4:$A$470)+1>E139,VLOOKUP(E139,'3-3 위험성평가'!$A$5:$P$470,13,0),\"\")","v":""},null,"하",null,null,null,null,null,null,null,"선택안함",0,{"$f":"IF(MAX('3-3 위험성평가'!$A$4:$A$470)+1>E139,VLOOKUP(E139,'3-3 위험성평가'!$A$5:$Q$470,17,0),\"\")","v":""},"선택",{"$f":"표지!$D$33","v":"시원건설"},{"$f":"표지!$E$34","v":"김길동4"},"선택안함",0]
["T40",4,"S40",{"$f":"D139+AE140","v":4},132,{"$f":"IF(MAX('3-3 위험성평가'!$A$4:$A$470)+1>E140,VLOOKUP(E140,'3-3 위험성평가'!$A$5:$P$470,2,0),\"\")","v":""},{"$f":"IF(F140=\"\",\"\",VLOOKUP(VALUE(F140),'1-1 사업장 공정 정보'!$D$15:$P$32,5,0))","v":""},{"$f":"IF(MAX('3-3 위험성평가'!$A$4:$A$470)+1>E140,VLOOKUP(E140,'3-3 위험성평가'!$A$5:$P$470,3,0),\"\")","v":""},{"$f":"IF(MAX('3-3 위험성평가'!$A$4:$A$470)+1>E140,VLOOKUP(E140,'3-3 위험성평가'!$A$5:$P$470,4,0),\"\")","v":""},{"$f":"IF(MAX('3-3 위험성평가'!$A$4:$A$470)+1>E140,VLOOKUP(E140,'3-3 위험성평가'!$A$5:$P$470,5,0),\"\")","v":""},{"$f":"IF(MAX('3-3 위험성평가'!$A$4:$A$470)+1>E140,VLOOKUP(E140,'3-3 위험성평가'!$A$5:$P$470,6,0),\"\")","v":""},{"$f":"IF(MAX('3-3 위험성평가'!$A$4:$A$470)+1>E140,VLOOKUP(E140,'3-3 위험성평가'!$A$5:$P$470,9,0),\"\")","v":""},{"$f":"IF(MAX('3-3 위험성평가'!$A$4:$A$536)+1>E140,VLOOKUP(E140,'3-3 위험성평가'!$A$5:$P$536,12,0),\"\")&IF(L140>\"\",\".\"&E140,\"\")","v":""},{"$f":"IF(MAX('3-3 위험성평가'!$A$4:$A$470)+1>E140,VLOOKUP(E140,'3-3 위험성평가'!$A$5:$P$470,13,0),\"\")","v":""},null,"하",null,null,null,null,null,null,null,"선택안함",0,{"$f":"IF(MAX('3-3 위험성평가'!$A$4:$A$470)+1>E140,VLOOKUP(E140,'3-3 위험성평가'!$A$5:$Q$470,17,0),\"\")","v":""},"선택",{"$f":"표지!$D$33","v":"시원건설"},{"$f":"표지!$E$34","v":"김길동4"},"선택안함",0]
["T40",4,"S40",4,133,{"$f":"IF(MAX('3-3 위험성평가'!$A$4:$A$470)+1>E141,VLOOKUP(E141,'3-3 위험성평가'!$A$5:$P$470,2,0),\"\")","v":""},{"$f":"IF(F141=\"\",\"\",VLOOKUP(VALUE(F141),'1-1 사업장 공정 정보'!$D$15:$P$32,5,0))","v":""},{"$f":"IF(MAX('3-3 위험성평가'!$A$4:$A$470)+1>E141,VLOOKUP(E141,'3-3 위험성평가'!$A$5:$P$470,3,0),\"\")","v":""},{"$f":"IF(MAX('3-3 위험성평가'!$A$4:$A$470)+1>E141,VLOOKUP(E141,'3-3 위험성평가'!$A$5:$P$470,4,0),\"\")","v":""},{"$f":"IF(MAX('3-3 위험성평가'!$A$4:$A$470)+1>E141,VLOOKUP(E141,'3-3 위험성평가'!$A$5:$P$470,5,0),\"\")","v":""},{"$f":"IF(MAX('3-3 위험성평가'!$A$4:$A$470)+1>E141,VLOOKUP(E141,'3-3 위험성평가'!$A$5:$P$470,6,0),\"\")","v":""},{"$f":"IF(MAX('3-3 위험성평가'!$A$4:$A$470)+1>E141,VLOOKUP(E141,'3-3 위험성평가'!$A$5:$P$470,9,0),\"\")","v":""},{"$f":"IF(MAX('3-3 위험성평가'!$A$4:$A$536)+1>E141,VLOOKUP(E141,'3-3 위험성평가'!$A$5:$P$536,12,0),\"\")&IF(L141>\"\",\".\"&E141,\"\")","v":""},{"$f":"IF(MAX('3-3 위험성평가'!$A$4:$A$470)+1>E141,VLOOKUP(E141,'3-3 위험성평가'!$A$5:$P$470,13,0),\"\")","v":""},null,"하",null,null,null,null,null,null,null,"선택안함",0,{"$f":"IF(MAX('3-3 위험성평가'!$A$4:$A$470)+1>E141,VLOOKUP(E141,'3-3 위험성평가'!$A$5:$Q$470,17,0),\"\")","v":""},"선택",{"$f":"표지!$D$33","v":"시원건설"},{"$f":"표지!$E$34","v":"김길동4"},"선택안함",0]
["T40",4,"S40",4,134,{"$f":"IF(MAX('3-3 위험성평가'!$A$4:$A$470)+1>E142,VLOOKUP(E142,'3-3 위험성평가'!$A$5:$P$470,2,0),\"\")","v":""},{"$f":"IF(F142=\"\",\"\",VLOOKUP(VALUE(F142),'1-1 사업장 공정 정보'!$D$15:$P$32,5,0))","v":""},{"$f":"IF(MAX('3-3 위험성평가'!$A$4:$A$470)+1>E142,VLOOKUP(E142,'3-3 위험성평가'!$A$5:$P$470,3,0),\"\")","v":""},{"$f":"IF(MAX('3-3 위험성평가'!$A$4:$A$470)+1>E142,VLOOKUP(E142,'3-3 위험성평가'!$A$5:$P$470,4,0),\"\")","v":""},{"$f":"IF(MAX('3-3 위험성평가'!$A$4:$A$470)+1>E142,VLOOKUP(E142,'3-3 위험성평가'!$A$5:$P$470,5,0),\"\")","v":""},{"$f":"IF(MAX('3-3 위험성평가'!$A$4:$A$470)+1>E142,VLOOKUP(E142,'3-3 위험성평가'!$A$5:$P$470,6,0),\"\")","v":""},{"$f":"IF(MAX('3-3 위험성평가'!$A$4:$A$470)+1>E142,VLOOKUP(E142,'3-3 위험성평가'!$A$5:$P$470,9,0),\"\")","v":""},{"$f":"IF(MAX('3-3 위험성평가'!$A$4:$A$536)+1>E142,VLOOKUP(E142,'3-3 위험성평가'!$A$5:$P$536,12,0),\"\")&IF(L142>\"\",\".\"&E142,\"\")","v":""},{"$f":"IF(MAX('3-3 위험성평가'!$A$4:$A$470)+1>E142,VLOOKUP(E142,'3-3 위험성평가'!$A$5:$P$470,13,0),\"\")","v":""},null,"하",null,null,null,null,null,null,null,"선택안함",0,{"$f":"IF(MAX('3-3 위험성평가'!$A$4:$A$470)+1>E142,VLOOKUP(E142,'3-3 위험성평가'!$A$5:$Q$470,17,0),\"\")","v":""},"선택",{"$f":"표지!$D$33","v":"시원건설"},{"$f":"표지!$E$34","v":"김길동4"},"선택안함",0]
["T40",4,"S40",4,135,{"$f":"IF(MAX('3-3 위험성평가'!$A$4:$A$470)+1>E143,VLOOKUP(E143,'3-3 위험성평가'!$A$5:$P$470,2,0),\"\")","v":""},{"$f":"IF(F143=\"\",\"\",VLOOKUP(VALUE(F143),'1-1 사업장 공정 정보'!$D$15:$P$32,5,0))","v":""},{"$f":"IF(MAX('3-3 위험성평가'!$A$4:$A$470)+1>E143,VLOOKUP(E143,'3-3 위험성평가'!$A$5:$P$470,3,0),\"\")","v":""},{"$f":"IF(MAX('3-3 위험성평가'!$A$4:$A$470)+1>E143,VLOOKUP(E143,'3-3 위험성평가'!$A$5:$P$470,4,0),\"\")","v":""},{"$f":"IF(MAX('3-3 위험성평가'!$A$4:$A$470)+1>E143,VLOOKUP(E143,'3-3 위험성평가'!$A$5:$P$470,5,0),\"\")","v":""},{"$f":"IF(MAX('3-3 위험성평가'!$A$4:$A$470)+1>E143,VLOOKUP(E143,'3-3 위험성평가'!$A$5:$P$470,6,0),\"\")","v":""},{"$f":"IF(MAX('3-3 위험성평가'!$A$4:$A$470)+1>E143,VLOOKUP(E143,'3-3 위험성평가'!$A$5:$P$470,9,0),\"\")","v":""},{"$f":"IF(MAX('3-3 위험성평가'!$A$4:$A$536)+1>E143,VLOOKUP(E143,'3-3 위험성평가'!$A$5:$P$536,12,0),\"\")&IF(L143>\"\",\".\"&E143,\"\")","v":""},{"$f":"IF(MAX('3-3 위험성평가'!$A$4:$A$470)+1>E143,VLOOKUP(E143,'3-3 위험성평가'!$A$5:$P$470,13,0),\"\")","v":""},null,"하",null,null,null,null,null,null,null,"선택안함",0,{"$f":"IF(MAX('3-3 위험성평가'!$A$4:$A$470)+1>E143,VLOOKUP(E143,'3-3 위험성평가'!$A$5:$Q$470,17,0),\"\")","v":""},"선택",{"$f":"표지!$D$33","v":"시원건설"},{"$f":"표지!$E$34","v":"김길동4"},"선택안함",0]
["T40",4,"S40",4,136,{"$f":"IF(MAX('3-3 위험성평가'!$A$4:$A$470)+1>E144,VLOOKUP(E144,'3-3 위험성평가'!$A$5:$P$470,2,0),\"\")","v":""},{"$f":"IF(F144=\"\",\"\",VLOOKUP(VALUE(F144),'1-1 사업장 공정 정보'!$D$15:$P$32,5,0))","v":""},{"$f":"IF(MAX('3-3 위험성평가'!$A$4:$A$470)+1>E144,VLOOKUP(E144,'3-3 위험성평가'!$A$5:$P$470,3,0),\"\")","v":""},{"$f":"IF(MAX('3-3 위험성평가'!$A$4:$A$470)+1>E144,VLOOKUP(E144,'3-3 위험성평가'!$A$5:$P$470,4,0),\"\")","v":""},{"$f":"IF(MAX('3-3 위험성평가'!$A$4:$A$470)+1>E144,VLOOKUP(E144,'3-3 위험성평가'!$A$5:$P$470,5,0),\"\")","v":""},{"$f":"IF(MAX('3-3 위험성평가'!$A$4:$A$470)+1>E144,VLOOKUP(E144,'3-3 위험성평가'!$A$5:$P$470,6,0),\"\")","v":""},{"$f":"IF(MAX('3-3 위험성평가'!$A$4:$A$470)+1>E144,VLOOKUP(E144,'3-3 위험성평가'!$A$5:$P$470,9,0),\"\")","v":""},{"$f":"IF(MAX('3-3 위험성평가'!$A$4:$A$536)+1>E144,VLOOKUP(E144,'3-3 위험성평가'!$A$5:$P$536,12,0),\"\")&IF(L144>\"\",\".\"&E144,\"\")","v":""},{"$f":"IF(MAX('3-3 위험성평가'!$A$4:$A$470)+1>E144,VLOOKUP(E144,'3-3 위험성평가'!$A$5:$P$470,13,0),\"\")","v":""},null,"하",null,null,null,null,null,null,null,"선택안함",0,{"$f":"IF(MAX('3-3 위험성평가'!$A$4:$A$470)+1>E144,VLOOKUP(E144,'3-3 위험성평가'!$A$5:$Q$470,17,0),\"\")","v":""},"선택",{"$f":"표지!$D$33","v":"시원건설"},{"$f":"표지!$E$34","v":"김길동4"},"선택안함",0]
["T40",4,"S40",4,137,{"$f":"IF(MAX('3-3 위험성평가'!$A$4:$A$470)+1>E145,VLOOKUP(E145,'3-3 위험성평가'!$A$5:$P$470,2,0),\"\")","v":""},{"$f":"IF(F145=\"\",\"\",VLOOKUP(VALUE(F145),'1-1 사업장 공정 정보'!$D$15:$P$32,5,0))","v":""},{"$f":"IF(MAX('3-3 위험성평가'!$A$4:$A$470)+1>E145,VLOOKUP(E145,'3-3 위험성평가'!$A$5:$P$470,3,0),\"\")","v":""},{"$f":"IF(MAX('3-3 위험성평가'!$A$4:$A$470)+1>E145,VLOOKUP(E145,'3-3 위험성평가'!$A$5:$P$470,4,0),\"\")","v":""},{"$f":"IF(MAX('3-3 위험성평가'!$A$4:$A$470)+1>E145,VLOOKUP(E145,'3-3 위험성평가'!$A$5:$P$470,5,0),\"\")","v":""},{"$f":"IF(MAX('3-3 위험성평가'!$A$4:$A$470)+1>E145,VLOOKUP(E145,'3-3 위험성평가'!$A$5:$P$470,6,0),\"\")","v":""},{"$f":"IF(MAX('3-3 위험성평가'!$A$4:$A$470)+1>E145,VLOOKUP(E145,'3-3 위험성평가'!$A$5:$P$470,9,0),\"\")","v":""},{"$f":"IF(MAX('3-3 위험성평가'!$A$4:$A$536)+1>E145,VLOOKUP(E145,'3-3 위험성평가'!$A$5:$P$536,12,0),\"\")&IF(L145>\"\",\".\"&E145,\"\")","v":""},{"$f":"IF(MAX('3-3 위험성평가'!$A$4:$A$470)+1>E145,VLOOKUP(E145,'3-3 위험성평가'!$A$5:$P$470,13,0),\"\")","v":""},null,"하",null,null,null,null,null,null,null,"선택안함",0,{"$f":"IF(MAX('3-3 위험성평가'!$A$4:$A$470)+1>E145,VLOOKUP(E145,'3-3 위험성평가'!$A$5:$Q$470,17,0),\"\")","v":""},"선택",{"$f":"표지!$D$33","v":"시원건설"},{"$f":"표지!$E$34","v":"김길동4"},"선택안함",0]
["T40",4,"S40",4,138,{"$f":"IF(MAX('3-3 위험성평가'!$A$4:$A$470)+1>E146,VLOOKUP(E146,'3-3 위험성평가'!$A$5:$P$470,2,0),\"\")","v":""},{"$f":"IF(F146=\"\",\"\",VLOOKUP(VALUE(F146),'1-1 사업장 공정 정보'!$D$15:$P$32,5,0))","v":""},{"$f":"IF(MAX('3-3 위험성평가'!$A$4:$A$470)+1>E146,VLOOKUP(E146,'3-3 위험성평가'!$A$5:$P$470,3,0),\"\")","v":""},{"$f":"IF(MAX('3-3 위험성평가'!$A$4:$A$470)+1>E146,VLOOKUP(E146,'3-3 위험성평가'!$A$5:$P$470,4,0),\"\")","v":""},{"$f":"IF(MAX('3-3 위험성평가'!$A$4:$A$470)+1>E146,VLOOKUP(E146,'3-3 위험성평가'!$A$5:$P$470,5,0),\"\")","v":""},{"$f":"IF(MAX('3-3 위험성평가'!$A$4:$A$470)+1>E146,VLOOKUP(E146,'3-3 위험성평가'!$A$5:$P$470,6,0),\"\")","v":""},{"$f":"IF(MAX('3-3 위험성평가'!$A$4:$A$470)+1>E146,VLOOKUP(E146,'3-3 위험성평가'!$A$5:$P$470,9,0),\"\")","v":""},{"$f":"IF(MAX('3-3 위험성평가'!$A$4:$A$536)+1>E146,VLOOKUP(E146,'3-3 위험성평가'!$A$5:$P$536,12,0),\"\")&IF(L146>\"\",\".\"&E146,\"\")","v":""},{"$f":"IF(MAX('3-3 위험성평가'!$A$4:$A$470)+1>E146,VLOOKUP(E146,'3-3 위험성평가'!$A$5:$P$470,13,0),\"\")","v":""},null,"하",null,null,null,null,null,null,null,"선택안함",0,{"$f":"IF(MAX('3-3 위험성평가'!$A$4:$A$470)+1>E146,VLOOKUP(E146,'3-3 위험성평가'!$A$5:$Q$470,17,0),\"\")","v":""},"선택",{"$f":"표지!$D$33","v":"시원건설"},{"$f":"표지!$E$34","v":"김길동4"},"선택안함",0]
["T40",4,"S40",4,139,{"$f":"IF(MAX('3-3 위험성평가'!$A$4:$A$470)+1>E147,VLOOKUP(E147,'3-3 위험성평가'!$A$5:$P$470,2,0),\"\")","v":""},{"$f":"IF(F147=\"\",\"\",VLOOKUP(VALUE(F147),'1-1 사업장 공정 정보'!$D$15:$P$32,5,0))","v":""},{"$f":"IF(MAX('3-3 위험성평가'!$A$4:$A$470)+1>E147,VLOOKUP(E147,'3-3 위험성평가'!$A$5:$P$470,3,0),\"\")","v":""},{"$f":"IF(MAX('3-3 위험성평가'!$A$4:$A$470)+1>E147,VLOOKUP(E147,'3-3 위험성평가'!$A$5:$P$470,4,0),\"\")","v":""},{"$f":"IF(MAX('3-3 위험성평가'!$A$4:$A$470)+1>E147,VLOOKUP(E147,'3-3 위험성평가'!$A$5:$P$470,5,0),\"\")","v":""},{"$f":"IF(MAX('3-3 위험성평가'!$A$4:$A$470)+1>E147,VLOOKUP(E147,'3-3 위험성평가'!$A$5:$P$470,6,0),\"\")","v":""},{"$f":"IF(MAX('3-3 위험성평가'!$A$4:$A$470)+1>E147,VLOOKUP(E147,'3-3 위험성평가'!$A$5:$P$470,9,0),\"\")","v":""},{"$f":"IF(MAX('3-3 위험성평가'!$A$4:$A$536)+1>E147,VLOOKUP(E147,'3-3 위험성평가'!$A$5:$P$536,12,0),\"\")&IF(L147>\"\",\".\"&E147,\"\")","v":""},{"$f":"IF(MAX('3-3 위험성평가'!$A$4:$A$470)+1>E147,VLOOKUP(E147,'3-3 위험성평가'!$A$5:$P$470,13,0),\"\")","v":""},null,"하",null,null,null,null,null,null,null,"선택안함",0,{"$f":"IF(MAX('3-3 위험성평가'!$A$4:$A$470)+1>E147,VLOOKUP(E147,'3-3 위험성평가'!$A$5:$Q$470,17,0),\"\")","v":""},"선택",{"$f":"표지!$D$33","v":"시원건설"},{"$f":"표지!$E$34","v":"김길동4"},"선택안함",0]
["T40",4,"S40",4,140,{"$f":"IF(MAX('3-3 위험성평가'!$A$4:$A$470)+1>E148,VLOOKUP(E148,'3-3 위험성평가'!$A$5:$P$470,2,0),\"\")","v":""},{"$f":"IF(F148=\"\",\"\",VLOOKUP(VALUE(F148),'1-1 사업장 공정 정보'!$D$15:$P$32,5,0))","v":""},{"$f":"IF(MAX('3-3 위험성평가'!$A$4:$A$470)+1>E148,VLOOKUP(E148,'3-3 위험성평가'!$A$5:$P$470,3,0),\"\")","v":""},{"$f":"IF(MAX('3-3 위험성평가'!$A$4:$A$470)+1>E148,VLOOKUP(E148,'3-3 위험성평가'!$A$5:$P$470,4,0),\"\")","v":""},{"$f":"IF(MAX('3-3 위험성평가'!$A$4:$A$470)+1>E148,VLOOKUP(E148,'3-3 위험성평가'!$A$5:$P$470,5,0),\"\")","v":""},{"$f":"IF(MAX('3-3 위험성평가'!$A$4:$A$470)+1>E148,VLOOKUP(E148,'3-3 위험성평가'!$A$5:$P$470,6,0),\"\")","v":""},{"$f":"IF(MAX('3-3 위험성평가'!$A$4:$A$470)+1>E148,VLOOKUP(E148,'3-3 위험성평가'!$A$5:$P$470,9,0),\"\")","v":""},{"$f":"IF(MAX('3-3 위험성평가'!$A$4:$A$536)+1>E148,VLOOKUP(E148,'3-3 위험성평가'!$A$5:$P$536,12,0),\"\")&IF(L148>\"\",\".\"&E148,\"\")","v":""},{"$f":"IF(MAX('3-3 위험성평가'!$A$4:$A$470)+1>E148,VLOOKUP(E148,'3-3 위험성평가'!$A$5:$P$470,13,0),\"\")","v":""},null,"하",null,null,null,null,null,null,null,"선택안함",0,{"$f":"IF(MAX('3-3 위험성평가'!$A$4:$A$470)+1>E148,VLOOKUP(E148,'3-3 위험성평가'!$A$5:$Q$470,17,0),\"\")","v":""},"선택",{"$f":"표지!$D$33","v":"시원건설"},{"$f":"표지!$E$34","v":"김길동4"},"선택안함",0]
["T40",4,"S40",4,141,{"$f":"IF(MAX('3-3 위험성평가'!$A$4:$A$470)+1>E149,VLOOKUP(E149,'3-3 위험성평가'!$A$5:$P$470,2,0),\"\")","v":""},{"$f":"IF(F149=\"\",\"\",VLOOKUP(VALUE(F149),'1-1 사업장 공정 정보'!$D$15:$P$32,5,0))","v":""},{"$f":"IF(MAX('3-3 위험성평가'!$A$4:$A$470)+1>E149,VLOOKUP(E149,'3-3 위험성평가'!$A$5:$P$470,3,0),\"\")","v":""},{"$f":"IF(MAX('3-3 위험성평가'!$A$4:$A$470)+1>E149,VLOOKUP(E149,'3-3 위험성평가'!$A$5:$P$470,4,0),\"\")","v":""},{"$f":"IF(MAX('3-3 위험성평가'!$A$4:$A$470)+1>E149,VLOOKUP(E149,'3-3 위험성평가'!$A$5:$P$470,5,0),\"\")","v":""},{"$f":"IF(MAX('3-3 위험성평가'!$A$4:$A$470)+1>E149,VLOOKUP(E149,'3-3 위험성평가'!$A$5:$P$470,6,0),\"\")","v":""},{"$f":"IF(MAX('3-3 위험성평가'!$A$4:$A$470)+1>E149,VLOOKUP(E149,'3-3 위험성평가'!$A$5:$P$470,9,0),\"\")","v":""},{"$f":"IF(MAX('3-3 위험성평가'!$A$4:$A$536)+1>E149,VLOOKUP(E149,'3-3 위험성평가'!$A$5:$P$536,12,0),\"\")&IF(L149>\"\",\".\"&E149,\"\")","v":""},{"$f":"IF(MAX('3-3 위험성평가'!$A$4:$A$470)+1>E149,VLOOKUP(E149,'3-3 위험성평가'!$A$5:$P$470,13,0),\"\")","v":""},null,"하",null,null,null,null,null,null,null,"선택안함",0,{"$f":"IF(MAX('3-3 위험성평가'!$A$4:$A$470)+1>E149,VLOOKUP(E149,'3-3 위험성평가'!$A$5:$Q$470,17,0),\"\")","v":""},"선택",{"$f":"표지!$D$33","v":"시원건설"},{"$f":"표지!$E$34","v":"김길동4"},"선택안함",0]
["T40",4,"S40",4,142,{"$f":"IF(MAX('3-3 위험성평가'!$A$4:$A$470)+1>E150,VLOOKUP(E150,'3-3 위험성평가'!$A$5:$P$470,2,0),\"\")","v":""},{"$f":"IF(F150=\"\",\"\",VLOOKUP(VALUE(F150),'1-1 사업장 공정 정보'!$D$15:$P$32,5,0))","v":""},{"$f":"IF(MAX('3-3 위험성평가'!$A$4:$A$470)+1>E150,VLOOKUP(E150,'3-3 위험성평가'!$A$5:$P$470,3,0),\"\")","v":""},{"$f":"IF(MAX('3-3 위험성평가'!$A$4:$A$470)+1>E150,VLOOKUP(E150,'3-3 위험성평가'!$A$5:$P$470,4,0),\"\")","v":""},{"$f":"IF(MAX('3-3 위험성평가'!$A$4:$A$470)+1>E150,VLOOKUP(E150,'3-3 위험성평가'!$A$5:$P$470,5,0),\"\")","v":""},{"$f":"IF(MAX('3-3 위험성평가'!$A$4:$A$470)+1>E150,VLOOKUP(E150,'3-3 위험성평가'!$A$5:$P$470,6,0),\"\")","v":""},{"$f":"IF(MAX('3-3 위험성평가'!$A$4:$A$470)+1>E150,VLOOKUP(E150,'3-3 위험성평가'!$A$5:$P$470,9,0),\"\")","v":""},{"$f":"IF(MAX('3-3 위험성평가'!$A$4:$A$536)+1>E150,VLOOKUP(E150,'3-3 위험성평가'!$A$5:$P$536,12,0),\"\")&IF(L150>\"\",\".\"&E150,\"\")","v":""},{"$f":"IF(MAX('3-3 위험성평가'!$A$4:$A$470)+1>E150,VLOOKUP(E150,'3-3 위험성평가'!$A$5:$P$470,13,0),\"\")","v":""},null,"하",null,null,null,null,null,null,null,"선택안함",0,{"$f":"IF(MAX('3-3 위험성평가'!$A$4:$A$470)+1>E150,VLOOKUP(E150,'3-3 위험성평가'!$A$5:$Q$470,17,0),\"\")","v":""},"선택",{"$f":"표지!$D$33","v":"시원건설"},{"$f":"표지!$E$34","v":"김길동4"},"선택안함",0]
["T40",4,"S40",4,143,{"$f":"IF(MAX('3-3 위험성평가'!$A$4:$A$470)+1>E151,VLOOKUP(E151,'3-3 위험성평가'!$A$5:$P$470,2,0),\"\")","v":""},{"$f":"IF(F151=\"\",\"\",VLOOKUP(VALUE(F151),'1-1 사업장 공정 정보'!$D$15:$P$32,5,0))","v":""},{"$f":"IF(MAX('3-3 위험성평가'!$A$4:$A$470)+1>E151,VLOOKUP(E151,'3-3 위험성평가'!$A$5:$P$470,3,0),\"\")","v":""},{"$f":"IF(MAX('3-3 위험성평가'!$A$4:$A$470)+1>E151,VLOOKUP(E151,'3-3 위험성평가'!$A$5:$P$470,4,0),\"\")","v":""},{"$f":"IF(MAX('3-3 위험성평가'!$A$4:$A$470)+1>E151,VLOOKUP(E151,'3-3 위험성평가'!$A$5:$P$470,5,0),\"\")","v":""},{"$f":"IF(MAX('3-3 위험성평가'!$A$4:$A$470)+1>E151,VLOOKUP(E151,'3-3 위험성평가'!$A$5:$P$470,6,0),\"\")","v":""},{"$f":"IF(MAX('3-3 위험성평가'!$A$4:$A$470)+1>E151,VLOOKUP(E151,'3-3 위험성평가'!$A$5:$P$470,9,0),\"\")","v":""},{"$f":"IF(MAX('3-3 위험성평가'!$A$4:$A$536)+1>E151,VLOOKUP(E151,'3-3 위험성평가'!$A$5:$P$536,12,0),\"\")&IF(L151>\"\",\".\"&E151,\"\")","v":""},{"$f":"IF(MAX('3-3 위험성평가'!$A$4:$A$470)+1>E151,VLOOKUP(E151,'3-3 위험성평가'!$A$5:$P$470,13,0),\"\")","v":""},null,"하",null,null,null,null,null,null,null,"선택안함",0,{"$f":"IF(MAX('3-3 위험성평가'!$A$4:$A$470)+1>E151,VLOOKUP(E151,'3-3 위험성평가'!$A$5:$Q$470,17,0),\"\")","v":""},"선택",{"$f":"표지!$D$33","v":"시원건설"},{"$f":"표지!$E$34","v":"김길동4"},"선택안함",0]
["T40",4,"S40",4,144,{"$f":"IF(MAX('3-3 위험성평가'!$A$4:$A$470)+1>E152,VLOOKUP(E152,'3-3 위험성평가'!$A$5:$P$470,2,0),\"\")","v":""},{"$f":"IF(F152=\"\",\"\",VLOOKUP(VALUE(F152),'1-1 사업장 공정 정보'!$D$15:$P$32,5,0))","v":""},{"$f":"IF(MAX('3-3 위험성평가'!$A$4:$A$470)+1>E152,VLOOKUP(E152,'3-3 위험성평가'!$A$5:$P$470,3,0),\"\")","v":""},{"$f":"IF(MAX('3-3 위험성평가'!$A$4:$A$470)+1>E152,VLOOKUP(E152,'3-3 위험성평가'!$A$5:$P$470,4,0),\"\")","v":""},{"$f":"IF(MAX('3-3 위험성평가'!$A$4:$A$470)+1>E152,VLOOKUP(E152,'3-3 위험성평가'!$A$5:$P$470,5,0),\"\")","v":""},{"$f":"IF(MAX('3-3 위험성평가'!$A$4:$A$470)+1>E152,VLOOKUP(E152,'3-3 위험성평가'!$A$5:$P$470,6,0),\"\")","v":""},{"$f":"IF(MAX('3-3 위험성평가'!$A$4:$A$470)+1>E152,VLOOKUP(E152,'3-3 위험성평가'!$A$5:$P$470,9,0),\"\")","v":""},{"$f":"IF(MAX('3-3 위험성평가'!$A$4:$A$536)+1>E152,VLOOKUP(E152,'3-3 위험성평가'!$A$5:$P$536,12,0),\"\")&IF(L152>\"\",\".\"&E152,\"\")","v":""},{"$f":"IF(MAX('3-3 위험성평가'!$A$4:$A$470)+1>E152,VLOOKUP(E152,'3-3 위험성평가'!$A$5:$P$470,13,0),\"\")","v":""},null,"하",null,null,null,null,null,null,null,"선택안함",0,{"$f":"IF(MAX('3-3 위험성평가'!$A$4:$A$470)+1>E152,VLOOKUP(E152,'3-3 위험성평가'!$A$5:$Q$470,17,0),\"\")","v":""},"선택",{"$f":"표지!$D$33","v":"시원건설"},{"$f":"표지!$E$34","v":"김길동4"},"선택안함",0]
["T40",4,"S40",4,145,{"$f":"IF(MAX('3-3 위험성평가'!$A$4:$A$470)+1>E153,VLOOKUP(E153,'3-3 위험성평가'!$A$5:$P$470,2,0),\"\")","v":""},{"$f":"IF(F153=\"\",\"\",VLOOKUP(VALUE(F153),'1-1 사업장 공정 정보'!$D$15:$P$32,5,0))","v":""},{"$f":"IF(MAX('3-3 위험성평가'!$A$4:$A$470)+1>E153,VLOOKUP(E153,'3-3 위험성평가'!$A$5:$P$470,3,0),\"\")","v":""},{"$f":"IF(MAX('3-3 위험성평가'!$A$4:$A$470)+1>E153,VLOOKUP(E153,'3-3 위험성평가'!$A$5:$P$470,4,0),\"\")","v":""},{"$f":"IF(MAX('3-3 위험성평가'!$A$4:$A$470)+1>E153,VLOOKUP(E153,'3-3 위험성평가'!$A$5:$P$470,5,0),\"\")","v":""},{"$f":"IF(MAX('3-3 위험성평가'!$A$4:$A$470)+1>E153,VLOOKUP(E153,'3-3 위험성평가'!$A$5:$P$470,6,0),\"\")","v":""},{"$f":"IF(MAX('3-3 위험성평가'!$A$4:$A$470)+1>E153,VLOOKUP(E153,'3-3 위험성평가'!$A$5:$P$470,9,0),\"\")","v":""},{"$f":"IF(MAX('3-3 위험성평가'!$A$4:$A$536)+1>E153,VLOOKUP(E153,'3-3 위험성평가'!$A$5:$P$536,12,0),\"\")&IF(L153>\"\",\".\"&E153,\"\")","v":""},{"$f":"IF(MAX('3-3 위험성평가'!$A$4:$A$470)+1>E153,VLOOKUP(E153,'3-3 위험성평가'!$A$5:$P$470,13,0),\"\")","v":""},null,"하",null,null,null,null,null,null,null,"선택안함",0,{"$f":"IF(MAX('3-3 위험성평가'!$A$4:$A$470)+1>E153,VLOOKUP(E153,'3-3 위험성평가'!$A$5:$Q$470,17,0),\"\")","v":""},"선택",{"$f":"표지!$D$33","v":"시원건설"},{"$f":"표지!$E$34","v":"김길동4"},"선택안함",0]
["T40",{"$f":"B153+Y154","v":4},"S40",4,146,{"$f":"IF(MAX('3-3 위험성평가'!$A$4:$A$470)+1>E154,VLOOKUP(E154,'3-3 위험성평가'!$A$5:$P$470,2,0),\"\")","v":""},{"$f":"IF(F154=\"\",\"\",VLOOKUP(VALUE(F154),'1-1 사업장 공정 정보'!$D$15:$P$32,5,0))","v":""},{"$f":"IF(MAX('3-3 위험성평가'!$A$4:$A$470)+1>E154,VLOOKUP(E154,'3-3 위험성평가'!$A$5:$P$470,3,0),\"\")","v":""},{"$f":"IF(MAX('3-3 위험성평가'!$A$4:$A$470)+1>E154,VLOOKUP(E154,'3-3 위험성평가'!$A$5:$P$470,4,0),\"\")","v":""},{"$f":"IF(MAX('3-3 위험성평가'!$A$4:$A$470)+1>E154,VLOOKUP(E154,'3-3 위험성평가'!$A$5:$P$470,5,0),\"\")","v":""},{"$f":"IF(MAX('3-3 위험성평가'!$A$4:$A$470)+1>E154,VLOOKUP(E154,'3-3 위험성평가'!$A$5:$P$470,6,0),\"\")","v":""},{"$f":"IF(MAX('3-3 위험성평가'!$A$4:$A$470)+1>E154,VLOOKUP(E154,'3-3 위험성평가'!$A$5:$P$470,9,0),\"\")","v":""},{"$f":"IF(MAX('3-3 위험성평가'!$A$4:$A$536)+1>E154,VLOOKUP(E154,'3-3 위험성평가'!$A$5:$P$536,12,0),\"\")&IF(L154>\"\",\".\"&E154,\"\")","v":""},{"$f":"IF(MAX('3-3 위험성평가'!$A$4:$A$470)+1>E154,VLOOKUP(E154,'3-3 위험성평가'!$A$5:$P$470,13,0),\"\")","v":""},null,"하",null,null,null,null,null,null,null,"선택안함",0,{"$f":"IF(MAX('3-3 위험성평가'!$A$4:$A$470)+1>E154,VLOOKUP(E154,'3-3 위험성평가'!$A$5:$Q$470,17,0),\"\")","v":""},"선택",{"$f":"표지!$D$33","v":"시원건설"},{"$f":"표지!$E$34","v":"김길동4"},"선택안함",0]
["T40",4,"S40",4,147,{"$f":"IF(MAX('3-3 위험성평가'!$A$4:$A$470)+1>E155,VLOOKUP(E155,'3-3 위험성평가'!$A$5:$P$470,2,0),\"\")","v":""},{"$f":"IF(F155=\"\",\"\",VLOOKUP(VALUE(F155),'1-1 사업장 공정 정보'!$D$15:$P$32,5,0))","v":""},{"$f":"IF(MAX('3-3 위험성평가'!$A$4:$A$470)+1>E155,VLOOKUP(E155,'3-3 위험성평가'!$A$5:$P$470,3,0),\"\")","v":""},{"$f":"IF(MAX('3-3 위험성평가'!$A$4:$A$470)+1>E155,VLOOKUP(E155,'3-3 위험성평가'!$A$5:$P$470,4,0),\"\")","v":""},{"$f":"IF(MAX('3-3 위험성평가'!$A$4:$A$470)+1>E155,VLOOKUP(E155,'3-3 위험성평가'!$A$5:$P$470,5,0),\"\")","v":""},{"$f":"IF(MAX('3-3 위험성평가'!$A$4:$A$470)+1>E155,VLOOKUP(E155,'3-3 위험성평가'!$A$5:$P$470,6,0),\"\")","v":""},{"$f":"IF(MAX('3-3 위험성평가'!$A$4:$A$470)+1>E155,VLOOKUP(E155,'3-3 위험성평가'!$A$5:$P$470,9,0),\"\")","v":""},{"$f":"IF(MAX('3-3 위험성평가'!$A$4:$A$536)+1>E155,VLOOKUP(E155,'3-3 위험성평가'!$A$5:$P$536,12,0),\"\")&IF(L155>\"\",\".\"&E155,\"\")","v":""},{"$f":"IF(MAX('3-3 위험성평가'!$A$4:$A$470)+1>E155,VLOOKUP(E155,'3-3 위험성평가'!$A$5:$P$470,13,0),\"\")","v":""},null,"하",null,null,null,null,null,null,null,"선택안함",0,{"$f":"IF(MAX('3-3 위험성평가'!$A$4:$A$470)+1>E155,VLOOKUP(E155,'3-3 위험성평가'!$A$5:$Q$470,17,0),\"\")","v":""},"선택",{"$f":"표지!$D$33","v":"시원건설"},{"$f":"표지!$E$34","v":"김길동4"},"선택안함",0]
["T40",4,"S40",4,148,{"$f":"IF(MAX('3-3 위험성평가'!$A$4:$A$470)+1>E156,VLOOKUP(E156,'3-3 위험성평가'!$A$5:$P$470,2,0),\"\")","v":""},{"$f":"IF(F156=\"\",\"\",VLOOKUP(VALUE(F156),'1-1 사업장 공정 정보'!$D$15:$P$32,5,0))","v":""},{"$f":"IF(MAX('3-3 위험성평가'!$A$4:$A$470)+1>E156,VLOOKUP(E156,'3-3 위험성평가'!$A$5:$P$470,3,0),\"\")","v":""},{"$f":"IF(MAX('3-3 위험성평가'!$A$4:$A$470)+1>E156,VLOOKUP(E156,'3-3 위험성평가'!$A$5:$P$470,4,0),\"\")","v":""},{"$f":"IF(MAX('3-3 위험성평가'!$A$4:$A$470)+1>E156,VLOOKUP(E156,'3-3 위험성평가'!$A$5:$P$470,5,0),\"\")","v":""},{"$f":"IF(MAX('3-3 위험성평가'!$A$4:$A$470)+1>E156,VLOOKUP(E156,'3-3 위험성평가'!$A$5:$P$470,6,0),\"\")","v":""},{"$f":"IF(MAX('3-3 위험성평가'!$A$4:$A$470)+1>E156,VLOOKUP(E156,'3-3 위험성평가'!$A$5:$P$470,9,0),\"\")","v":""},{"$f":"IF(MAX('3-3 위험성평가'!$A$4:$A$536)+1>E156,VLOOKUP(E156,'3-3 위험성평가'!$A$5:$P$536,12,0),\"\")&IF(L156>\"\",\".\"&E156,\"\")","v":""},{"$f":"IF(MAX('3-3 위험성평가'!$A$4:$A$470)+1>E156,VLOOKUP(E156,'3-3 위험성평가'!$A$5:$P$470,13,0),\"\")","v":""},null,"하",null,null,null,null,null,null,null,"선택안함",0,{"$f":"IF(MAX('3-3 위험성평가'!$A$4:$A$470)+1>E156,VLOOKUP(E156,'3-3 위험성평가'!$A$5:$Q$470,17,0),\"\")","v":""},"선택",{"$f":"표지!$D$33","v":"시원건설"},{"$f":"표지!$E$34","v":"김길동4"},"선택안함",0]
["T40",4,"S40",4,149,{"$f":"IF(MAX('3-3 위험성평가'!$A$4:$A$470)+1>E157,VLOOKUP(E157,'3-3 위험성평가'!$A$5:$P$470,2,0),\"\")","v":""},{"$f":"IF(F157=\"\",\"\",VLOOKUP(VALUE(F157),'1-1 사업장 공정 정보'!$D$15:$P$32,5,0))","v":""},{"$f":"IF(MAX('3-3 위험성평가'!$A$4:$A$470)+1>E157,VLOOKUP(E157,'3-3 위험성평가'!$A$5:$P$470,3,0),\"\")","v":""},{"$f":"IF(MAX('3-3 위험성평가'!$A$4:$A$470)+1>E157,VLOOKUP(E157,'3-3 위험성평가'!$A$5:$P$470,4,0),\"\")","v":""},{"$f":"IF(MAX('3-3 위험성평가'!$A$4:$A$470)+1>E157,VLOOKUP(E157,'3-3 위험성평가'!$A$5:$P$470,5,0),\"\")","v":""},{"$f":"IF(MAX('3-3 위험성평가'!$A$4:$A$470)+1>E157,VLOOKUP(E157,'3-3 위험성평가'!$A$5:$P$470,6,0),\"\")","v":""},{"$f":"IF(MAX('3-3 위험성평가'!$A$4:$A$470)+1>E157,VLOOKUP(E157,'3-3 위험성평가'!$A$5:$P$470,9,0),\"\")","v":""},{"$f":"IF(MAX('3-3 위험성평가'!$A$4:$A$536)+1>E157,VLOOKUP(E157,'3-3 위험성평가'!$A$5:$P$536,12,0),\"\")&IF(L157>\"\",\".\"&E157,\"\")","v":""},{"$f":"IF(MAX('3-3 위험성평가'!$A$4:$A$470)+1>E157,VLOOKUP(E157,'3-3 위험성평가'!$A$5:$P$470,13,0),\"\")","v":""},null,"하",null,null,null,null,null,null,null,"선택안함",0,{"$f":"IF(MAX('3-3 위험성평가'!$A$4:$A$470)+1>E157,VLOOKUP(E157,'3-3 위험성평가'!$A$5:$Q$470,17,0),\"\")","v":""},"선택",{"$f":"표지!$D$33","v":"시원건설"},{"$f":"표지!$E$34","v":"김길동4"},"선택안함",0]
["T40",4,"S40",4,150,{"$f":"IF(MAX('3-3 위험성평가'!$A$4:$A$470)+1>E158,VLOOKUP(E158,'3-3 위험성평가'!$A$5:$P$470,2,0),\"\")","v":""},{"$f":"IF(F158=\"\",\"\",VLOOKUP(VALUE(F158),'1-1 사업장 공정 정보'!$D$15:$P$32,5,0))","v":""},{"$f":"IF(MAX('3-3 위험성평가'!$A$4:$A$470)+1>E158,VLOOKUP(E158,'3-3 위험성평가'!$A$5:$P$470,3,0),\"\")","v":""},{"$f":"IF(MAX('3-3 위험성평가'!$A$4:$A$470)+1>E158,VLOOKUP(E158,'3-3 위험성평가'!$A$5:$P$470,4,0),\"\")","v":""},{"$f":"IF(MAX('3-3 위험성평가'!$A$4:$A$470)+1>E158,VLOOKUP(E158,'3-3 위험성평가'!$A$5:$P$470,5,0),\"\")","v":""},{"$f":"IF(MAX('3-3 위험성평가'!$A$4:$A$470)+1>E158,VLOOKUP(E158,'3-3 위험성평가'!$A$5:$P$470,6,0),\"\")","v":""},{"$f":"IF(MAX('3-3 위험성평가'!$A$4:$A$470)+1>E158,VLOOKUP(E158,'3-3 위험성평가'!$A$5:$P$470,9,0),\"\")","v":""},{"$f":"IF(MAX('3-3 위험성평가'!$A$4:$A$536)+1>E158,VLOOKUP(E158,'3-3 위험성평가'!$A$5:$P$536,12,0),\"\")&IF(L158>\"\",\".\"&E158,\"\")","v":""},{"$f":"IF(MAX('3-3 위험성평가'!$A$4:$A$470)+1>E158,VLOOKUP(E158,'3-3 위험성평가'!$A$5:$P$470,13,0),\"\")","v":""},null,"하",null,null,null,null,null,null,null,"선택안함",0,{"$f":"IF(MAX('3-3 위험성평가'!$A$4:$A$470)+1>E158,VLOOKUP(E158,'3-3 위험성평가'!$A$5:$Q$470,17,0),\"\")","v":""},"선택",{"$f":"표지!$D$33","v":"시원건설"},{"$f":"표지!$E$34","v":"김길동4"},"선택안함",0]
["T40",4,"S40",4,151,{"$f":"IF(MAX('3-3 위험성평가'!$A$4:$A$470)+1>E159,VLOOKUP(E159,'3-3 위험성평가'!$A$5:$P$470,2,0),\"\")","v":""},{"$f":"IF(F159=\"\",\"\",VLOOKUP(VALUE(F159),'1-1 사업장 공정 정보'!$D$15:$P$32,5,0))","v":""},{"$f":"IF(MAX('3-3 위험성평가'!$A$4:$A$470)+1>E159,VLOOKUP(E159,'3-3 위험성평가'!$A$5:$P$470,3,0),\"\")","v":""},{"$f":"IF(MAX('3-3 위험성평가'!$A$4:$A$470)+1>E159,VLOOKUP(E159,'3-3 위험성평가'!$A$5:$P$470,4,0),\"\")","v":""},{"$f":"IF(MAX('3-3 위험성평가'!$A$4:$A$470)+1>E159,VLOOKUP(E159,'3-3 위험성평가'!$A$5:$P$470,5,0),\"\")","v":""},{"$f":"IF(MAX('3-3 위험성평가'!$A$4:$A$470)+1>E159,VLOOKUP(E159,'3-3 위험성평가'!$A$5:$P$470,6,0),\"\")","v":""},{"$f":"IF(MAX('3-3 위험성평가'!$A$4:$A$470)+1>E159,VLOOKUP(E159,'3-3 위험성평가'!$A$5:$P$470,9,0),\"\")","v":""},{"$f":"IF(MAX('3-3 위험성평가'!$A$4:$A$536)+1>E159,VLOOKUP(E159,'3-3 위험성평가'!$A$5:$P$536,12,0),\"\")&IF(L159>\"\",\".\"&E159,\"\")","v":""},{"$f":"IF(MAX('3-3 위험성평가'!$A$4:$A$470)+1>E159,VLOOKUP(E159,'3-3 위험성평가'!$A$5:$P$470,13,0),\"\")","v":""},null,"하",null,null,null,null,null,null,null,"선택안함",0,{"$f":"IF(MAX('3-3 위험성평가'!$A$4:$A$470)+1>E159,VLOOKUP(E159,'3-3 위험성평가'!$A$5:$Q$470,17,0),\"\")","v":""},"선택",{"$f":"표지!$D$33","v":"시원건설"},{"$f":"표지!$E$34","v":"김길동4"},"선택안함",0]
["T40",4,"S40",4,152,{"$f":"IF(MAX('3-3 위험성평가'!$A$4:$A$470)+1>E160,VLOOKUP(E160,'3-3 위험성평가'!$A$5:$P$470,2,0),\"\")","v":""},{"$f":"IF(F160=\"\",\"\",VLOOKUP(VALUE(F160),'1-1 사업장 공정 정보'!$D$15:$P$32,5,0))","v":""},{"$f":"IF(MAX('3-3 위험성평가'!$A$4:$A$470)+1>E160,VLOOKUP(E160,'3-3 위험성평가'!$A$5:$P$470,3,0),\"\")","v":""},{"$f":"IF(MAX('3-3 위험성평가'!$A$4:$A$470)+1>E160,VLOOKUP(E160,'3-3 위험성평가'!$A$5:$P$470,4,0),\"\")","v":""},{"$f":"IF(MAX('3-3 위험성평가'!$A$4:$A$470)+1>E160,VLOOKUP(E160,'3-3 위험성평가'!$A$5:$P$470,5,0),\"\")","v":""},{"$f":"IF(MAX('3-3 위험성평가'!$A$4:$A$470)+1>E160,VLOOKUP(E160,'3-3 위험성평가'!$A$5:$P$470,6,0),\"\")","v":""},{"$f":"IF(MAX('3-3 위험성평가'!$A$4:$A$470)+1>E160,VLOOKUP(E160,'3-3 위험성평가'!$A$5:$P$470,9,0),\"\")","v":""},{"$f":"IF(MAX('3-3 위험성평가'!$A$4:$A$536)+1>E160,VLOOKUP(E160,'3-3 위험성평가'!$A$5:$P$536,12,0),\"\")&IF(L160>\"\",\".\"&E160,\"\")","v":""},{"$f":"IF(MAX('3-3 위험성평가'!$A$4:$A$470)+1>E160,VLOOKUP(E160,'3-3 위험성평가'!$A$5:$P$470,13,0),\"\")","v":""},null,"하",null,null,null,null,null,null,null,"선택안함",0,{"$f":"IF(MAX('3-3 위험성평가'!$A$4:$A$470)+1>E160,VLOOKUP(E160,'3-3 위험성평가'!$A$5:$Q$470,17,0),\"\")","v":""},"선택",{"$f":"표지!$D$33","v":"시원건설"},{"$f":"표지!$E$34","v":"김길동4"},"선택안함",0]
["T40",4,"S40",4,153,{"$f":"IF(MAX('3-3 위험성평가'!$A$4:$A$470)+1>E161,VLOOKUP(E161,'3-3 위험성평가'!$A$5:$P$470,2,0),\"\")","v":""},{"$f":"IF(F161=\"\",\"\",VLOOKUP(VALUE(F161),'1-1 사업장 공정 정보'!$D$15:$P$32,5,0))","v":""},{"$f":"IF(MAX('3-3 위험성평가'!$A$4:$A$470)+1>E161,VLOOKUP(E161,'3-3 위험성평가'!$A$5:$P$470,3,0),\"\")","v":""},{"$f":"IF(MAX('3-3 위험성평가'!$A$4:$A$470)+1>E161,VLOOKUP(E161,'3-3 위험성평가'!$A$5:$P$470,4,0),\"\")","v":""},{"$f":"IF(MAX('3-3 위험성평가'!$A$4:$A$470)+1>E161,VLOOKUP(E161,'3-3 위험성평가'!$A$5:$P$470,5,0),\"\")","v":""},{"$f":"IF(MAX('3-3 위험성평가'!$A$4:$A$470)+1>E161,VLOOKUP(E161,'3-3 위험성평가'!$A$5:$P$470,6,0),\"\")","v":""},{"$f":"IF(MAX('3-3 위험성평가'!$A$4:$A$470)+1>E161,VLOOKUP(E161,'3-3 위험성평가'!$A$5:$P$470,9,0),\"\")","v":""},{"$f":"IF(MAX('3-3 위험성평가'!$A$4:$A$536)+1>E161,VLOOKUP(E161,'3-3 위험성평가'!$A$5:$P$536,12,0),\"\")&IF(L161>\"\",\".\"&E161,\"\")","v":""},{"$f":"IF(MAX('3-3 위험성평가'!$A$4:$A$470)+1>E161,VLOOKUP(E161,'3-3 위험성평가'!$A$5:$P$470,13,0),\"\")","v":""},null,"하",null,null,null,null,null,null,null,"선택안함",0,{"$f":"IF(MAX('3-3 위험성평가'!$A$4:$A$470)+1>E161,VLOOKUP(E161,'3-3 위험성평가'!$A$5:$Q$470,17,0),\"\")","v":""},"선택",{"$f":"표지!$D$33","v":"시원건설"},{"$f":"표지!$E$34","v":"김길동4"},"선택안함",0]
["T40",4,"S40",4,154,{"$f":"IF(MAX('3-3 위험성평가'!$A$4:$A$470)+1>E162,VLOOKUP(E162,'3-3 위험성평가'!$A$5:$P$470,2,0),\"\")","v":""},{"$f":"IF(F162=\"\",\"\",VLOOKUP(VALUE(F162),'1-1 사업장 공정 정보'!$D$15:$P$32,5,0))","v":""},{"$f":"IF(MAX('3-3 위험성평가'!$A$4:$A$470)+1>E162,VLOOKUP(E162,'3-3 위험성평가'!$A$5:$P$470,3,0),\"\")","v":""},{"$f":"IF(MAX('3-3 위험성평가'!$A$4:$A$470)+1>E162,VLOOKUP(E162,'3-3 위험성평가'!$A$5:$P$470,4,0),\"\")","v":""},{"$f":"IF(MAX('3-3 위험성평가'!$A$4:$A$470)+1>E162,VLOOKUP(E162,'3-3 위험성평가'!$A$5:$P$470,5,0),\"\")","v":""},{"$f":"IF(MAX('3-3 위험성평가'!$A$4:$A$470)+1>E162,VLOOKUP(E162,'3-3 위험성평가'!$A$5:$P$470,6,0),\"\")","v":""},{"$f":"IF(MAX('3-3 위험성평가'!$A$4:$A$470)+1>E162,VLOOKUP(E162,'3-3 위험성평가'!$A$5:$P$470,9,0),\"\")","v":""},{"$f":"IF(MAX('3-3 위험성평가'!$A$4:$A$536)+1>E162,VLOOKUP(E162,'3-3 위험성평가'!$A$5:$P$536,12,0),\"\")&IF(L162>\"\",\".\"&E162,\"\")","v":""},{"$f":"IF(MAX('3-3 위험성평가'!$A$4:$A$470)+1>E162,VLOOKUP(E162,'3-3 위험성평가'!$A$5:$P$470,13,0),\"\")","v":""},null,"하",null,null,null,null,null,null,null,"선택안함",0,{"$f":"IF(MAX('3-3 위험성평가'!$A$4:$A$470)+1>E162,VLOOKUP(E162,'3-3 위험성평가'!$A$5:$Q$470,17,0),\"\")","v":""},"선택",{"$f":"표지!$D$33","v":"시원건설"},{"$f":"표지!$E$34","v":"김길동4"},"선택안함",0]
["T40",4,"S40",4,155,{"$f":"IF(MAX('3-3 위험성평가'!$A$4:$A$470)+1>E163,VLOOKUP(E163,'3-3 위험성평가'!$A$5:$P$470,2,0),\"\")","v":""},{"$f":"IF(F163=\"\",\"\",VLOOKUP(VALUE(F163),'1-1 사업장 공정 정보'!$D$15:$P$32,5,0))","v":""},{"$f":"IF(MAX('3-3 위험성평가'!$A$4:$A$470)+1>E163,VLOOKUP(E163,'3-3 위험성평가'!$A$5:$P$470,3,0),\"\")","v":""},{"$f":"IF(MAX('3-3 위험성평가'!$A$4:$A$470)+1>E163,VLOOKUP(E163,'3-3 위험성평가'!$A$5:$P$470,4,0),\"\")","v":""},{"$f":"IF(MAX('3-3 위험성평가'!$A$4:$A$470)+1>E163,VLOOKUP(E163,'3-3 위험성평가'!$A$5:$P$470,5,0),\"\")","v":""},{"$f":"IF(MAX('3-3 위험성평가'!$A$4:$A$470)+1>E163,VLOOKUP(E163,'3-3 위험성평가'!$A$5:$P$470,6,0),\"\")","v":""},{"$f":"IF(MAX('3-3 위험성평가'!$A$4:$A$470)+1>E163,VLOOKUP(E163,'3-3 위험성평가'!$A$5:$P$470,9,0),\"\")","v":""},{"$f":"IF(MAX('3-3 위험성평가'!$A$4:$A$536)+1>E163,VLOOKUP(E163,'3-3 위험성평가'!$A$5:$P$536,12,0),\"\")&IF(L163>\"\",\".\"&E163,\"\")","v":""},{"$f":"IF(MAX('3-3 위험성평가'!$A$4:$A$470)+1>E163,VLOOKUP(E163,'3-3 위험성평가'!$A$5:$P$470,13,0),\"\")","v":""},null,"하",null,null,null,null,null,null,null,"선택안함",0,{"$f":"IF(MAX('3-3 위험성평가'!$A$4:$A$470)+1>E163,VLOOKUP(E163,'3-3 위험성평가'!$A$5:$Q$470,17,0),\"\")","v":""},"선택",{"$f":"표지!$D$33","v":"시원건설"},{"$f":"표지!$E$34","v":"김길동4"},"선택안함",0]
["T40",4,"S40",4,156,{"$f":"IF(MAX('3-3 위험성평가'!$A$4:$A$470)+1>E164,VLOOKUP(E164,'3-3 위험성평가'!$A$5:$P$470,2,0),\"\")","v":""},{"$f":"IF(F164=\"\",\"\",VLOOKUP(VALUE(F164),'1-1 사업장 공정 정보'!$D$15:$P$32,5,0))","v":""},{"$f":"IF(MAX('3-3 위험성평가'!$A$4:$A$470)+1>E164,VLOOKUP(E164,'3-3 위험성평가'!$A$5:$P$470,3,0),\"\")","v":""},{"$f":"IF(MAX('3-3 위험성평가'!$A$4:$A$470)+1>E164,VLOOKUP(E164,'3-3 위험성평가'!$A$5:$P$470,4,0),\"\")","v":""},{"$f":"IF(MAX('3-3 위험성평가'!$A$4:$A$470)+1>E164,VLOOKUP(E164,'3-3 위험성평가'!$A$5:$P$470,5,0),\"\")","v":""},{"$f":"IF(MAX('3-3 위험성평가'!$A$4:$A$470)+1>E164,VLOOKUP(E164,'3-3 위험성평가'!$A$5:$P$470,6,0),\"\")","v":""},{"$f":"IF(MAX('3-3 위험성평가'!$A$4:$A$470)+1>E164,VLOOKUP(E164,'3-3 위험성평가'!$A$5:$P$470,9,0),\"\")","v":""},{"$f":"IF(MAX('3-3 위험성평가'!$A$4:$A$536)+1>E164,VLOOKUP(E164,'3-3 위험성평가'!$A$5:$P$536,12,0),\"\")&IF(L164>\"\",\".\"&E164,\"\")","v":""},{"$f":"IF(MAX('3-3 위험성평가'!$A$4:$A$470)+1>E164,VLOOKUP(E164,'3-3 위험성평가'!$A$5:$P$470,13,0),\"\")","v":""},null,"하",null,null,null,null,null,null,null,"선택안함",0,{"$f":"IF(MAX('3-3 위험성평가'!$A$4:$A$470)+1>E164,VLOOKUP(E164,'3-3 위험성평가'!$A$5:$Q$470,17,0),\"\")","v":""},"선택",{"$f":"표지!$D$33","v":"시원건설"},{"$f":"표지!$E$34","v":"김길동4"},"선택안함",0]
["T40",4,"S40",4,157,{"$f":"IF(MAX('3-3 위험성평가'!$A$4:$A$470)+1>E165,VLOOKUP(E165,'3-3 위험성평가'!$A$5:$P$470,2,0),\"\")","v":""},{"$f":"IF(F165=\"\",\"\",VLOOKUP(VALUE(F165),'1-1 사업장 공정 정보'!$D$15:$P$32,5,0))","v":""},{"$f":"IF(MAX('3-3 위험성평가'!$A$4:$A$470)+1>E165,VLOOKUP(E165,'3-3 위험성평가'!$A$5:$P$470,3,0),\"\")","v":""},{"$f":"IF(MAX('3-3 위험성평가'!$A$4:$A$470)+1>E165,VLOOKUP(E165,'3-3 위험성평가'!$A$5:$P$470,4,0),\"\")","v":""},{"$f":"IF(MAX('3-3 위험성평가'!$A$4:$A$470)+1>E165,VLOOKUP(E165,'3-3 위험성평가'!$A$5:$P$470,5,0),\"\")","v":""},{"$f":"IF(MAX('3-3 위험성평가'!$A$4:$A$470)+1>E165,VLOOKUP(E165,'3-3 위험성평가'!$A$5:$P$470,6,0),\"\")","v":""},{"$f":"IF(MAX('3-3 위험성평가'!$A$4:$A$470)+1>E165,VLOOKUP(E165,'3-3 위험성평가'!$A$5:$P$470,9,0),\"\")","v":""},{"$f":"IF(MAX('3-3 위험성평가'!$A$4:$A$536)+1>E165,VLOOKUP(E165,'3-3 위험성평가'!$A$5:$P$536,12,0),\"\")&IF(L165>\"\",\".\"&E165,\"\")","v":""},{"$f":"IF(MAX('3-3 위험성평가'!$A$4:$A$470)+1>E165,VLOOKUP(E165,'3-3 위험성평가'!$A$5:$P$470,13,0),\"\")","v":""},null,"하",null,null,null,null,null,null,null,"선택안함",0,{"$f":"IF(MAX('3-3 위험성평가'!$A$4:$A$470)+1>E165,VLOOKUP(E165,'3-3 위험성평가'!$A$5:$Q$470,17,0),\"\")","v":""},"선택",{"$f":"표지!$D$33","v":"시원건설"},{"$f":"표지!$E$34","v":"김길동4"},"선택안함",0]
["T40",4,"S40",4,158,{"$f":"IF(MAX('3-3 위험성평가'!$A$4:$A$470)+1>E166,VLOOKUP(E166,'3-3 위험성평가'!$A$5:$P$470,2,0),\"\")","v":""},{"$f":"IF(F166=\"\",\"\",VLOOKUP(VALUE(F166),'1-1 사업장 공정 정보'!$D$15:$P$32,5,0))","v":""},{"$f":"IF(MAX('3-3 위험성평가'!$A$4:$A$470)+1>E166,VLOOKUP(E166,'3-3 위험성평가'!$A$5:$P$470,3,0),\"\")","v":""},{"$f":"IF(MAX('3-3 위험성평가'!$A$4:$A$470)+1>E166,VLOOKUP(E166,'3-3 위험성평가'!$A$5:$P$470,4,0),\"\")","v":""},{"$f":"IF(MAX('3-3 위험성평가'!$A$4:$A$470)+1>E166,VLOOKUP(E166,'3-3 위험성평가'!$A$5:$P$470,5,0),\"\")","v":""},{"$f":"IF(MAX('3-3 위험성평가'!$A$4:$A$470)+1>E166,VLOOKUP(E166,'3-3 위험성평가'!$A$5:$P$470,6,0),\"\")","v":""},{"$f":"IF(MAX('3-3 위험성평가'!$A$4:$A$470)+1>E166,VLOOKUP(E166,'3-3 위험성평가'!$A$5:$P$470,9,0),\"\")","v":""},{"$f":"IF(MAX('3-3 위험성평가'!$A$4:$A$536)+1>E166,VLOOKUP(E166,'3-3 위험성평가'!$A$5:$P$536,12,0),\"\")&IF(L166>\"\",\".\"&E166,\"\")","v":""},{"$f":"IF(MAX('3-3 위험성평가'!$A$4:$A$470)+1>E166,VLOOKUP(E166,'3-3 위험성평가'!$A$5:$P$470,13,0),\"\")","v":""},null,"하",null,null,null,null,null,null,null,"선택안함",0,{"$f":"IF(MAX('3-3 위험성평가'!$A$4:$A$470)+1>E166,VLOOKUP(E166,'3-3 위험성평가'!$A$5:$Q$470,17,0),\"\")","v":""},"선택",{"$f":"표지!$D$33","v":"시원건설"},{"$f":"표지!$E$34","v":"김길동4"},"선택안함",0]
["T40",4,"S40",4,159,{"$f":"IF(MAX('3-3 위험성평가'!$A$4:$A$470)+1>E167,VLOOKUP(E167,'3-3 위험성평가'!$A$5:$P$470,2,0),\"\")","v":""},{"$f":"IF(F167=\"\",\"\",VLOOKUP(VALUE(F167),'1-1 사업장 공정 정보'!$D$15:$P$32,5,0))","v":""},{"$f":"IF(MAX('3-3 위험성평가'!$A$4:$A$470)+1>E167,VLOOKUP(E167,'3-3 위험성평가'!$A$5:$P$470,3,0),\"\")","v":""},{"$f":"IF(MAX('3-3 위험성평가'!$A$4:$A$470)+1>E167,VLOOKUP(E167,'3-3 위험성평가'!$A$5:$P$470,4,0),\"\")","v":""},{"$f":"IF(MAX('3-3 위험성평가'!$A$4:$A$470)+1>E167,VLOOKUP(E167,'3-3 위험성평가'!$A$5:$P$470,5,0),\"\")","v":""},{"$f":"IF(MAX('3-3 위험성평가'!$A$4:$A$470)+1>E167,VLOOKUP(E167,'3-3 위험성평가'!$A$5:$P$470,6,0),\"\")","v":""},{"$f":"IF(MAX('3-3 위험성평가'!$A$4:$A$470)+1>E167,VLOOKUP(E167,'3-3 위험성평가'!$A$5:$P$470,9,0),\"\")","v":""},{"$f":"IF(MAX('3-3 위험성평가'!$A$4:$A$536)+1>E167,VLOOKUP(E167,'3-3 위험성평가'!$A$5:$P$536,12,0),\"\")&IF(L167>\"\",\".\"&E167,\"\")","v":""},{"$f":"IF(MAX('3-3 위험성평가'!$A$4:$A$470)+1>E167,VLOOKUP(E167,'3-3 위험성평가'!$A$5:$P$470,13,0),\"\")","v":""},null,"하",null,null,null,null,null,null,null,"선택안함",0,{"$f":"IF(MAX('3-3 위험성평가'!$A$4:$A$470)+1>E167,VLOOKUP(E167,'3-3 위험성평가'!$A$5:$Q$470,17,0),\"\")","v":""},"선택",{"$f":"표지!$D$33","v":"시원건설"},{"$f":"표지!$E$34","v":"김길동4"},"선택안함",0]
["T40",4,"S40",4,160,{"$f":"IF(MAX('3-3 위험성평가'!$A$4:$A$470)+1>E168,VLOOKUP(E168,'3-3 위험성평가'!$A$5:$P$470,2,0),\"\")","v":""},{"$f":"IF(F168=\"\",\"\",VLOOKUP(VALUE(F168),'1-1 사업장 공정 정보'!$D$15:$P$32,5,0))","v":""},{"$f":"IF(MAX('3-3 위험성평가'!$A$4:$A$470)+1>E168,VLOOKUP(E168,'3-3 위험성평가'!$A$5:$P$470,3,0),\"\")","v":""},{"$f":"IF(MAX('3-3 위험성평가'!$A$4:$A$470)+1>E168,VLOOKUP(E168,'3-3 위험성평가'!$A$5:$P$470,4,0),\"\")","v":""},{"$f":"IF(MAX('3-3 위험성평가'!$A$4:$A$470)+1>E168,VLOOKUP(E168,'3-3 위험성평가'!$A$5:$P$470,5,0),\"\")","v":""},{"$f":"IF(MAX('3-3 위험성평가'!$A$4:$A$470)+1>E168,VLOOKUP(E168,'3-3 위험성평가'!$A$5:$P$470,6,0),\"\")","v":""},{"$f":"IF(MAX('3-3 위험성평가'!$A$4:$A$470)+1>E168,VLOOKUP(E168,'3-3 위험성평가'!$A$5:$P$470,9,0),\"\")","v":""},{"$f":"IF(MAX('3-3 위험성평가'!$A$4:$A$536)+1>E168,VLOOKUP(E168,'3-3 위험성평가'!$A$5:$P$536,12,0),\"\")&IF(L168>\"\",\".\"&E168,\"\")","v":""},{"$f":"IF(MAX('3-3 위험성평가'!$A$4:$A$470)+1>E168,VLOOKUP(E168,'3-3 위험성평가'!$A$5:$P$470,13,0),\"\")","v":""},null,"하",null,null,null,null,null,null,null,"선택안함",0,{"$f":"IF(MAX('3-3 위험성평가'!$A$4:$A$470)+1>E168,VLOOKUP(E168,'3-3 위험성평가'!$A$5:$Q$470,17,0),\"\")","v":""},"선택",{"$f":"표지!$D$33","v":"시원건설"},{"$f":"표지!$E$34","v":"김길동4"},"선택안함",0]
["T40",4,"S40",4,161,{"$f":"IF(MAX('3-3 위험성평가'!$A$4:$A$470)+1>E169,VLOOKUP(E169,'3-3 위험성평가'!$A$5:$P$470,2,0),\"\")","v":""},{"$f":"IF(F169=\"\",\"\",VLOOKUP(VALUE(F169),'1-1 사업장 공정 정보'!$D$15:$P$32,5,0))","v":""},{"$f":"IF(MAX('3-3 위험성평가'!$A$4:$A$470)+1>E169,VLOOKUP(E169,'3-3 위험성평가'!$A$5:$P$470,3,0),\"\")","v":""},{"$f":"IF(MAX('3-3 위험성평가'!$A$4:$A$470)+1>E169,VLOOKUP(E169,'3-3 위험성평가'!$A$5:$P$470,4,0),\"\")","v":""},{"$f":"IF(MAX('3-3 위험성평가'!$A$4:$A$470)+1>E169,VLOOKUP(E169,'3-3 위험성평가'!$A$5:$P$470,5,0),\"\")","v":""},{"$f":"IF(MAX('3-3 위험성평가'!$A$4:$A$470)+1>E169,VLOOKUP(E169,'3-3 위험성평가'!$A$5:$P$470,6,0),\"\")","v":""},{"$f":"IF(MAX('3-3 위험성평가'!$A$4:$A$470)+1>E169,VLOOKUP(E169,'3-3 위험성평가'!$A$5:$P$470,9,0),\"\")","v":""},{"$f":"IF(MAX('3-3 위험성평가'!$A$4:$A$536)+1>E169,VLOOKUP(E169,'3-3 위험성평가'!$A$5:$P$536,12,0),\"\")&IF(L169>\"\",\".\"&E169,\"\")","v":""},{"$f":"IF(MAX('3-3 위험성평가'!$A$4:$A$470)+1>E169,VLOOKUP(E169,'3-3 위험성평가'!$A$5:$P$470,13,0),\"\")","v":""},null,"하",null,null,null,null,null,null,null,"선택안함",0,{"$f":"IF(MAX('3-3 위험성평가'!$A$4:$A$470)+1>E169,VLOOKUP(E169,'3-3 위험성평가'!$A$5:$Q$470,17,0),\"\")","v":""},"선택",{"$f":"표지!$D$33","v":"시원건설"},{"$f":"표지!$E$34","v":"김길동4"},"선택안함",0]
["T40",4,"S40",4,162,{"$f":"IF(MAX('3-3 위험성평가'!$A$4:$A$470)+1>E170,VLOOKUP(E170,'3-3 위험성평가'!$A$5:$P$470,2,0),\"\")","v":""},{"$f":"IF(F170=\"\",\"\",VLOOKUP(VALUE(F170),'1-1 사업장 공정 정보'!$D$15:$P$32,5,0))","v":""},{"$f":"IF(MAX('3-3 위험성평가'!$A$4:$A$470)+1>E170,VLOOKUP(E170,'3-3 위험성평가'!$A$5:$P$470,3,0),\"\")","v":""},{"$f":"IF(MAX('3-3 위험성평가'!$A$4:$A$470)+1>E170,VLOOKUP(E170,'3-3 위험성평가'!$A$5:$P$470,4,0),\"\")","v":""},{"$f":"IF(MAX('3-3 위험성평가'!$A$4:$A$470)+1>E170,VLOOKUP(E170,'3-3 위험성평가'!$A$5:$P$470,5,0),\"\")","v":""},{"$f":"IF(MAX('3-3 위험성평가'!$A$4:$A$470)+1>E170,VLOOKUP(E170,'3-3 위험성평가'!$A$5:$P$470,6,0),\"\")","v":""},{"$f":"IF(MAX('3-3 위험성평가'!$A$4:$A$470)+1>E170,VLOOKUP(E170,'3-3 위험성평가'!$A$5:$P$470,9,0),\"\")","v":""},{"$f":"IF(MAX('3-3 위험성평가'!$A$4:$A$536)+1>E170,VLOOKUP(E170,'3-3 위험성평가'!$A$5:$P$536,12,0),\"\")&IF(L170>\"\",\".\"&E170,\"\")","v":""},{"$f":"IF(MAX('3-3 위험성평가'!$A$4:$A$470)+1>E170,VLOOKUP(E170,'3-3 위험성평가'!$A$5:$P$470,13,0),\"\")","v":""},null,"하",null,null,null,null,null,null,null,"선택안함",0,{"$f":"IF(MAX('3-3 위험성평가'!$A$4:$A$470)+1>E170,VLOOKUP(E170,'3-3 위험성평가'!$A$5:$Q$470,17,0),\"\")","v":""},"선택",{"$f":"표지!$D$33","v":"시원건설"},{"$f":"표지!$E$34","v":"김길동4"},"선택안함",0]
["T40",4,"S40",4,163,{"$f":"IF(MAX('3-3 위험성평가'!$A$4:$A$470)+1>E171,VLOOKUP(E171,'3-3 위험성평가'!$A$5:$P$470,2,0),\"\")","v":""},{"$f":"IF(F171=\"\",\"\",VLOOKUP(VALUE(F171),'1-1 사업장 공정 정보'!$D$15:$P$32,5,0))","v":""},{"$f":"IF(MAX('3-3 위험성평가'!$A$4:$A$470)+1>E171,VLOOKUP(E171,'3-3 위험성평가'!$A$5:$P$470,3,0),\"\")","v":""},{"$f":"IF(MAX('3-3 위험성평가'!$A$4:$A$470)+1>E171,VLOOKUP(E171,'3-3 위험성평가'!$A$5:$P$470,4,0),\"\")","v":""},{"$f":"IF(MAX('3-3 위험성평가'!$A$4:$A$470)+1>E171,VLOOKUP(E171,'3-3 위험성평가'!$A$5:$P$470,5,0),\"\")","v":""},{"$f":"IF(MAX('3-3 위험성평가'!$A$4:$A$470)+1>E171,VLOOKUP(E171,'3-3 위험성평가'!$A$5:$P$470,6,0),\"\")","v":""},{"$f":"IF(MAX('3-3 위험성평가'!$A$4:$A$470)+1>E171,VLOOKUP(E171,'3-3 위험성평가'!$A$5:$P$470,9,0),\"\")","v":""},{"$f":"IF(MAX('3-3 위험성평가'!$A$4:$A$536)+1>E171,VLOOKUP(E171,'3-3 위험성평가'!$A$5:$P$536,12,0),\"\")&IF(L171>\"\",\".\"&E171,\"\")","v":""},{"$f":"IF(MAX('3-3 위험성평가'!$A$4:$A$470)+1>E171,VLOOKUP(E171,'3-3 위험성평가'!$A$5:$P$470,13,0),\"\")","v":""},null,"하",null,null,null,null,null,null,null,"선택안함",0,{"$f":"IF(MAX('3-3 위험성평가'!$A$4:$A$470)+1>E171,VLOOKUP(E171,'3-3 위험성평가'!$A$5:$Q$470,17,0),\"\")","v":""},"선택",{"$f":"표지!$D$33","v":"시원건설"},{"$f":"표지!$E$34","v":"김길동4"},"선택안함",0]
["T40",4,"S40",4,164,{"$f":"IF(MAX('3-3 위험성평가'!$A$4:$A$470)+1>E172,VLOOKUP(E172,'3-3 위험성평가'!$A$5:$P$470,2,0),\"\")","v":""},{"$f":"IF(F172=\"\",\"\",VLOOKUP(VALUE(F172),'1-1 사업장 공정 정보'!$D$15:$P$32,5,0))","v":""},{"$f":"IF(MAX('3-3 위험성평가'!$A$4:$A$470)+1>E172,VLOOKUP(E172,'3-3 위험성평가'!$A$5:$P$470,3,0),\"\")","v":""},{"$f":"IF(MAX('3-3 위험성평가'!$A$4:$A$470)+1>E172,VLOOKUP(E172,'3-3 위험성평가'!$A$5:$P$470,4,0),\"\")","v":""},{"$f":"IF(MAX('3-3 위험성평가'!$A$4:$A$470)+1>E172,VLOOKUP(E172,'3-3 위험성평가'!$A$5:$P$470,5,0),\"\")","v":""},{"$f":"IF(MAX('3-3 위험성평가'!$A$4:$A$470)+1>E172,VLOOKUP(E172,'3-3 위험성평가'!$A$5:$P$470,6,0),\"\")","v":""},{"$f":"IF(MAX('3-3 위험성평가'!$A$4:$A$470)+1>E172,VLOOKUP(E172,'3-3 위험성평가'!$A$5:$P$470,9,0),\"\")","v":""},{"$f":"IF(MAX('3-3 위험성평가'!$A$4:$A$536)+1>E172,VLOOKUP(E172,'3-3 위험성평가'!$A$5:$P$536,12,0),\"\")&IF(L172>\"\",\".\"&E172,\"\")","v":""},{"$f":"IF(MAX('3-3 위험성평가'!$A$4:$A$470)+1>E172,VLOOKUP(E172,'3-3 위험성평가'!$A$5:$P$470,13,0),\"\")","v":""},null,"하",null,null,null,null,null,null,null,"선택안함",0,{"$f":"IF(MAX('3-3 위험성평가'!$A$4:$A$470)+1>E172,VLOOKUP(E172,'3-3 위험성평가'!$A$5:$Q$470,17,0),\"\")","v":""},"선택",{"$f":"표지!$D$33","v":"시원건설"},{"$f":"표지!$E$34","v":"김길동4"},"선택안함",0]
["T40",4,"S40",4,165,{"$f":"IF(MAX('3-3 위험성평가'!$A$4:$A$470)+1>E173,VLOOKUP(E173,'3-3 위험성평가'!$A$5:$P$470,2,0),\"\")","v":""},{"$f":"IF(F173=\"\",\"\",VLOOKUP(VALUE(F173),'1-1 사업장 공정 정보'!$D$15:$P$32,5,0))","v":""},{"$f":"IF(MAX('3-3 위험성평가'!$A$4:$A$470)+1>E173,VLOOKUP(E173,'3-3 위험성평가'!$A$5:$P$470,3,0),\"\")","v":""},{"$f":"IF(MAX('3-3 위험성평가'!$A$4:$A$470)+1>E173,VLOOKUP(E173,'3-3 위험성평가'!$A$5:$P$470,4,0),\"\")","v":""},{"$f":"IF(MAX('3-3 위험성평가'!$A$4:$A$470)+1>E173,VLOOKUP(E173,'3-3 위험성평가'!$A$5:$P$470,5,0),\"\")","v":""},{"$f":"IF(MAX('3-3 위험성평가'!$A$4:$A$470)+1>E173,VLOOKUP(E173,'3-3 위험성평가'!$A$5:$P$470,6,0),\"\")","v":""},{"$f":"IF(MAX('3-3 위험성평가'!$A$4:$A$470)+1>E173,VLOOKUP(E173,'3-3 위험성평가'!$A$5:$P$470,9,0),\"\")","v":""},{"$f":"IF(MAX('3-3 위험성평가'!$A$4:$A$536)+1>E173,VLOOKUP(E173,'3-3 위험성평가'!$A$5:$P$536,12,0),\"\")&IF(L173>\"\",\".\"&E173,\"\")","v":""},{"$f":"IF(MAX('3-3 위험성평가'!$A$4:$A$470)+1>E173,VLOOKUP(E173,'3-3 위험성평가'!$A$5:$P$470,13,0),\"\")","v":""},null,"하",null,null,null,null,null,null,null,"선택안함",0,{"$f":"IF(MAX('3-3 위험성평가'!$A$4:$A$470)+1>E173,VLOOKUP(E173,'3-3 위험성평가'!$A$5:$Q$470,17,0),\"\")","v":""},"선택",{"$f":"표지!$D$33","v":"시원건설"},{"$f":"표지!$E$34","v":"김길동4"},"선택안함",0]
["T40",4,"S40",4,166,{"$f":"IF(MAX('3-3 위험성평가'!$A$4:$A$470)+1>E174,VLOOKUP(E174,'3-3 위험성평가'!$A$5:$P$470,2,0),\"\")","v":""},{"$f":"IF(F174=\"\",\"\",VLOOKUP(VALUE(F174),'1-1 사업장 공정 정보'!$D$15:$P$32,5,0))","v":""},{"$f":"IF(MAX('3-3 위험성평가'!$A$4:$A$470)+1>E174,VLOOKUP(E174,'3-3 위험성평가'!$A$5:$P$470,3,0),\"\")","v":""},{"$f":"IF(MAX('3-3 위험성평가'!$A$4:$A$470)+1>E174,VLOOKUP(E174,'3-3 위험성평가'!$A$5:$P$470,4,0),\"\")","v":""},{"$f":"IF(MAX('3-3 위험성평가'!$A$4:$A$470)+1>E174,VLOOKUP(E174,'3-3 위험성평가'!$A$5:$P$470,5,0),\"\")","v":""},{"$f":"IF(MAX('3-3 위험성평가'!$A$4:$A$470)+1>E174,VLOOKUP(E174,'3-3 위험성평가'!$A$5:$P$470,6,0),\"\")","v":""},{"$f":"IF(MAX('3-3 위험성평가'!$A$4:$A$470)+1>E174,VLOOKUP(E174,'3-3 위험성평가'!$A$5:$P$470,9,0),\"\")","v":""},{"$f":"IF(MAX('3-3 위험성평가'!$A$4:$A$536)+1>E174,VLOOKUP(E174,'3-3 위험성평가'!$A$5:$P$536,12,0),\"\")&IF(L174>\"\",\".\"&E174,\"\")","v":""},{"$f":"IF(MAX('3-3 위험성평가'!$A$4:$A$470)+1>E174,VLOOKUP(E174,'3-3 위험성평가'!$A$5:$P$470,13,0),\"\")","v":""},null,"하",null,null,null,null,null,null,null,"선택안함",0,{"$f":"IF(MAX('3-3 위험성평가'!$A$4:$A$470)+1>E174,VLOOKUP(E174,'3-3 위험성평가'!$A$5:$Q$470,17,0),\"\")","v":""},"선택",{"$f":"표지!$D$33","v":"시원건설"},{"$f":"표지!$E$34","v":"김길동4"},"선택안함",0]
["T40",4,"S40",4,167,{"$f":"IF(MAX('3-3 위험성평가'!$A$4:$A$470)+1>E175,VLOOKUP(E175,'3-3 위험성평가'!$A$5:$P$470,2,0),\"\")","v":""},{"$f":"IF(F175=\"\",\"\",VLOOKUP(VALUE(F175),'1-1 사업장 공정 정보'!$D$15:$P$32,5,0))","v":""},{"$f":"IF(MAX('3-3 위험성평가'!$A$4:$A$470)+1>E175,VLOOKUP(E175,'3-3 위험성평가'!$A$5:$P$470,3,0),\"\")","v":""},{"$f":"IF(MAX('3-3 위험성평가'!$A$4:$A$470)+1>E175,VLOOKUP(E175,'3-3 위험성평가'!$A$5:$P$470,4,0),\"\")","v":""},{"$f":"IF(MAX('3-3 위험성평가'!$A$4:$A$470)+1>E175,VLOOKUP(E175,'3-3 위험성평가'!$A$5:$P$470,5,0),\"\")","v":""},{"$f":"IF(MAX('3-3 위험성평가'!$A$4:$A$470)+1>E175,VLOOKUP(E175,'3-3 위험성평가'!$A$5:$P$470,6,0),\"\")","v":""},{"$f":"IF(MAX('3-3 위험성평가'!$A$4:$A$470)+1>E175,VLOOKUP(E175,'3-3 위험성평가'!$A$5:$P$470,9,0),\"\")","v":""},{"$f":"IF(MAX('3-3 위험성평가'!$A$4:$A$536)+1>E175,VLOOKUP(E175,'3-3 위험성평가'!$A$5:$P$536,12,0),\"\")&IF(L175>\"\",\".\"&E175,\"\")","v":""},{"$f":"IF(MAX('3-3 위험성평가'!$A$4:$A$470)+1>E175,VLOOKUP(E175,'3-3 위험성평가'!$A$5:$P$470,13,0),\"\")","v":""},null,"하",null,null,null,null,null,null,null,"선택안함",0,{"$f":"IF(MAX('3-3 위험성평가'!$A$4:$A$470)+1>E175,VLOOKUP(E175,'3-3 위험성평가'!$A$5:$Q$470,17,0),\"\")","v":""},"선택",{"$f":"표지!$D$33","v":"시원건설"},{"$f":"표지!$E$34","v":"김길동4"},"선택안함",0]
["T40",4,"S40",4,168,{"$f":"IF(MAX('3-3 위험성평가'!$A$4:$A$470)+1>E176,VLOOKUP(E176,'3-3 위험성평가'!$A$5:$P$470,2,0),\"\")","v":""},{"$f":"IF(F176=\"\",\"\",VLOOKUP(VALUE(F176),'1-1 사업장 공정 정보'!$D$15:$P$32,5,0))","v":""},{"$f":"IF(MAX('3-3 위험성평가'!$A$4:$A$470)+1>E176,VLOOKUP(E176,'3-3 위험성평가'!$A$5:$P$470,3,0),\"\")","v":""},{"$f":"IF(MAX('3-3 위험성평가'!$A$4:$A$470)+1>E176,VLOOKUP(E176,'3-3 위험성평가'!$A$5:$P$470,4,0),\"\")","v":""},{"$f":"IF(MAX('3-3 위험성평가'!$A$4:$A$470)+1>E176,VLOOKUP(E176,'3-3 위험성평가'!$A$5:$P$470,5,0),\"\")","v":""},{"$f":"IF(MAX('3-3 위험성평가'!$A$4:$A$470)+1>E176,VLOOKUP(E176,'3-3 위험성평가'!$A$5:$P$470,6,0),\"\")","v":""},{"$f":"IF(MAX('3-3 위험성평가'!$A$4:$A$470)+1>E176,VLOOKUP(E176,'3-3 위험성평가'!$A$5:$P$470,9,0),\"\")","v":""},{"$f":"IF(MAX('3-3 위험성평가'!$A$4:$A$536)+1>E176,VLOOKUP(E176,'3-3 위험성평가'!$A$5:$P$536,12,0),\"\")&IF(L176>\"\",\".\"&E176,\"\")","v":""},{"$f":"IF(MAX('3-3 위험성평가'!$A$4:$A$470)+1>E176,VLOOKUP(E176,'3-3 위험성평가'!$A$5:$P$470,13,0),\"\")","v":""},null,"하",null,null,null,null,null,null,null,"선택안함",0,{"$f":"IF(MAX('3-3 위험성평가'!$A$4:$A$470)+1>E176,VLOOKUP(E176,'3-3 위험성평가'!$A$5:$Q$470,17,0),\"\")","v":""},"선택",{"$f":"표지!$D$33","v":"시원건설"},{"$f":"표지!$E$34","v":"김길동4"},"선택안함",0]
["T40",4,"S40",4,169,{"$f":"IF(MAX('3-3 위험성평가'!$A$4:$A$470)+1>E177,VLOOKUP(E177,'3-3 위험성평가'!$A$5:$P$470,2,0),\"\")","v":""},{"$f":"IF(F177=\"\",\"\",VLOOKUP(VALUE(F177),'1-1 사업장 공정 정보'!$D$15:$P$32,5,0))","v":""},{"$f":"IF(MAX('3-3 위험성평가'!$A$4:$A$470)+1>E177,VLOOKUP(E177,'3-3 위험성평가'!$A$5:$P$470,3,0),\"\")","v":""},{"$f":"IF(MAX('3-3 위험성평가'!$A$4:$A$470)+1>E177,VLOOKUP(E177,'3-3 위험성평가'!$A$5:$P$470,4,0),\"\")","v":""},{"$f":"IF(MAX('3-3 위험성평가'!$A$4:$A$470)+1>E177,VLOOKUP(E177,'3-3 위험성평가'!$A$5:$P$470,5,0),\"\")","v":""},{"$f":"IF(MAX('3-3 위험성평가'!$A$4:$A$470)+1>E177,VLOOKUP(E177,'3-3 위험성평가'!$A$5:$P$470,6,0),\"\")","v":""},{"$f":"IF(MAX('3-3 위험성평가'!$A$4:$A$470)+1>E177,VLOOKUP(E177,'3-3 위험성평가'!$A$5:$P$470,9,0),\"\")","v":""},{"$f":"IF(MAX('3-3 위험성평가'!$A$4:$A$536)+1>E177,VLOOKUP(E177,'3-3 위험성평가'!$A$5:$P$536,12,0),\"\")&IF(L177>\"\",\".\"&E177,\"\")","v":""},{"$f":"IF(MAX('3-3 위험성평가'!$A$4:$A$470)+1>E177,VLOOKUP(E177,'3-3 위험성평가'!$A$5:$P$470,13,0),\"\")","v":""},null,"하",null,null,null,null,null,null,null,"선택안함",0,{"$f":"IF(MAX('3-3 위험성평가'!$A$4:$A$470)+1>E177,VLOOKUP(E177,'3-3 위험성평가'!$A$5:$Q$470,17,0),\"\")","v":""},"선택",{"$f":"표지!$D$33","v":"시원건설"},{"$f":"표지!$E$34","v":"김길동4"},"선택안함",0]
["T40",4,"S40",4,170,{"$f":"IF(MAX('3-3 위험성평가'!$A$4:$A$470)+1>E178,VLOOKUP(E178,'3-3 위험성평가'!$A$5:$P$470,2,0),\"\")","v":""},{"$f":"IF(F178=\"\",\"\",VLOOKUP(VALUE(F178),'1-1 사업장 공정 정보'!$D$15:$P$32,5,0))","v":""},{"$f":"IF(MAX('3-3 위험성평가'!$A$4:$A$470)+1>E178,VLOOKUP(E178,'3-3 위험성평가'!$A$5:$P$470,3,0),\"\")","v":""},{"$f":"IF(MAX('3-3 위험성평가'!$A$4:$A$470)+1>E178,VLOOKUP(E178,'3-3 위험성평가'!$A$5:$P$470,4,0),\"\")","v":""},{"$f":"IF(MAX('3-3 위험성평가'!$A$4:$A$470)+1>E178,VLOOKUP(E178,'3-3 위험성평가'!$A$5:$P$470,5,0),\"\")","v":""},{"$f":"IF(MAX('3-3 위험성평가'!$A$4:$A$470)+1>E178,VLOOKUP(E178,'3-3 위험성평가'!$A$5:$P$470,6,0),\"\")","v":""},{"$f":"IF(MAX('3-3 위험성평가'!$A$4:$A$470)+1>E178,VLOOKUP(E178,'3-3 위험성평가'!$A$5:$P$470,9,0),\"\")","v":""},{"$f":"IF(MAX('3-3 위험성평가'!$A$4:$A$536)+1>E178,VLOOKUP(E178,'3-3 위험성평가'!$A$5:$P$536,12,0),\"\")&IF(L178>\"\",\".\"&E178,\"\")","v":""},{"$f":"IF(MAX('3-3 위험성평가'!$A$4:$A$470)+1>E178,VLOOKUP(E178,'3-3 위험성평가'!$A$5:$P$470,13,0),\"\")","v":""},null,"하",null,null,null,null,null,null,null,"선택안함",0,{"$f":"IF(MAX('3-3 위험성평가'!$A$4:$A$470)+1>E178,VLOOKUP(E178,'3-3 위험성평가'!$A$5:$Q$470,17,0),\"\")","v":""},"선택",{"$f":"표지!$D$33","v":"시원건설"},{"$f":"표지!$E$34","v":"김길동4"},"선택안함",0]
["T40",4,"S40",4,171,{"$f":"IF(MAX('3-3 위험성평가'!$A$4:$A$470)+1>E179,VLOOKUP(E179,'3-3 위험성평가'!$A$5:$P$470,2,0),\"\")","v":""},{"$f":"IF(F179=\"\",\"\",VLOOKUP(VALUE(F179),'1-1 사업장 공정 정보'!$D$15:$P$32,5,0))","v":""},{"$f":"IF(MAX('3-3 위험성평가'!$A$4:$A$470)+1>E179,VLOOKUP(E179,'3-3 위험성평가'!$A$5:$P$470,3,0),\"\")","v":""},{"$f":"IF(MAX('3-3 위험성평가'!$A$4:$A$470)+1>E179,VLOOKUP(E179,'3-3 위험성평가'!$A$5:$P$470,4,0),\"\")","v":""},{"$f":"IF(MAX('3-3 위험성평가'!$A$4:$A$470)+1>E179,VLOOKUP(E179,'3-3 위험성평가'!$A$5:$P$470,5,0),\"\")","v":""},{"$f":"IF(MAX('3-3 위험성평가'!$A$4:$A$470)+1>E179,VLOOKUP(E179,'3-3 위험성평가'!$A$5:$P$470,6,0),\"\")","v":""},{"$f":"IF(MAX('3-3 위험성평가'!$A$4:$A$470)+1>E179,VLOOKUP(E179,'3-3 위험성평가'!$A$5:$P$470,9,0),\"\")","v":""},{"$f":"IF(MAX('3-3 위험성평가'!$A$4:$A$536)+1>E179,VLOOKUP(E179,'3-3 위험성평가'!$A$5:$P$536,12,0),\"\")&IF(L179>\"\",\".\"&E179,\"\")","v":""},{"$f":"IF(MAX('3-3 위험성평가'!$A$4:$A$470)+1>E179,VLOOKUP(E179,'3-3 위험성평가'!$A$5:$P$470,13,0),\"\")","v":""},null,"하",null,null,null,null,null,null,null,"선택안함",0,{"$f":"IF(MAX('3-3 위험성평가'!$A$4:$A$470)+1>E179,VLOOKUP(E179,'3-3 위험성평가'!$A$5:$Q$470,17,0),\"\")","v":""},"선택",{"$f":"표지!$D$33","v":"시원건설"},{"$f":"표지!$E$34","v":"김길동4"},"선택안함",0]
["T40",4,"S40",4,172,{"$f":"IF(MAX('3-3 위험성평가'!$A$4:$A$470)+1>E180,VLOOKUP(E180,'3-3 위험성평가'!$A$5:$P$470,2,0),\"\")","v":""},{"$f":"IF(F180=\"\",\"\",VLOOKUP(VALUE(F180),'1-1 사업장 공정 정보'!$D$15:$P$32,5,0))","v":""},{"$f":"IF(MAX('3-3 위험성평가'!$A$4:$A$470)+1>E180,VLOOKUP(E180,'3-3 위험성평가'!$A$5:$P$470,3,0),\"\")","v":""},{"$f":"IF(MAX('3-3 위험성평가'!$A$4:$A$470)+1>E180,VLOOKUP(E180,'3-3 위험성평가'!$A$5:$P$470,4,0),\"\")","v":""},{"$f":"IF(MAX('3-3 위험성평가'!$A$4:$A$470)+1>E180,VLOOKUP(E180,'3-3 위험성평가'!$A$5:$P$470,5,0),\"\")","v":""},{"$f":"IF(MAX('3-3 위험성평가'!$A$4:$A$470)+1>E180,VLOOKUP(E180,'3-3 위험성평가'!$A$5:$P$470,6,0),\"\")","v":""},{"$f":"IF(MAX('3-3 위험성평가'!$A$4:$A$470)+1>E180,VLOOKUP(E180,'3-3 위험성평가'!$A$5:$P$470,9,0),\"\")","v":""},{"$f":"IF(MAX('3-3 위험성평가'!$A$4:$A$536)+1>E180,VLOOKUP(E180,'3-3 위험성평가'!$A$5:$P$536,12,0),\"\")&IF(L180>\"\",\".\"&E180,\"\")","v":""},{"$f":"IF(MAX('3-3 위험성평가'!$A$4:$A$470)+1>E180,VLOOKUP(E180,'3-3 위험성평가'!$A$5:$P$470,13,0),\"\")","v":""},null,"하",null,null,null,null,null,null,null,"선택안함",0,{"$f":"IF(MAX('3-3 위험성평가'!$A$4:$A$470)+1>E180,VLOOKUP(E180,'3-3 위험성평가'!$A$5:$Q$470,17,0),\"\")","v":""},"선택",{"$f":"표지!$D$33","v":"시원건설"},{"$f":"표지!$E$34","v":"김길동4"},"선택안함",0]
["T40",4,"S40",4,173,{"$f":"IF(MAX('3-3 위험성평가'!$A$4:$A$470)+1>E181,VLOOKUP(E181,'3-3 위험성평가'!$A$5:$P$470,2,0),\"\")","v":""},{"$f":"IF(F181=\"\",\"\",VLOOKUP(VALUE(F181),'1-1 사업장 공정 정보'!$D$15:$P$32,5,0))","v":""},{"$f":"IF(MAX('3-3 위험성평가'!$A$4:$A$470)+1>E181,VLOOKUP(E181,'3-3 위험성평가'!$A$5:$P$470,3,0),\"\")","v":""},{"$f":"IF(MAX('3-3 위험성평가'!$A$4:$A$470)+1>E181,VLOOKUP(E181,'3-3 위험성평가'!$A$5:$P$470,4,0),\"\")","v":""},{"$f":"IF(MAX('3-3 위험성평가'!$A$4:$A$470)+1>E181,VLOOKUP(E181,'3-3 위험성평가'!$A$5:$P$470,5,0),\"\")","v":""},{"$f":"IF(MAX('3-3 위험성평가'!$A$4:$A$470)+1>E181,VLOOKUP(E181,'3-3 위험성평가'!$A$5:$P$470,6,0),\"\")","v":""},{"$f":"IF(MAX('3-3 위험성평가'!$A$4:$A$470)+1>E181,VLOOKUP(E181,'3-3 위험성평가'!$A$5:$P$470,9,0),\"\")","v":""},{"$f":"IF(MAX('3-3 위험성평가'!$A$4:$A$536)+1>E181,VLOOKUP(E181,'3-3 위험성평가'!$A$5:$P$536,12,0),\"\")&IF(L181>\"\",\".\"&E181,\"\")","v":""},{"$f":"IF(MAX('3-3 위험성평가'!$A$4:$A$470)+1>E181,VLOOKUP(E181,'3-3 위험성평가'!$A$5:$P$470,13,0),\"\")","v":""},null,"하",null,null,null,null,null,null,null,"선택안함",0,{"$f":"IF(MAX('3-3 위험성평가'!$A$4:$A$470)+1>E181,VLOOKUP(E181,'3-3 위험성평가'!$A$5:$Q$470,17,0),\"\")","v":""},"선택",{"$f":"표지!$D$33","v":"시원건설"},{"$f":"표지!$E$34","v":"김길동4"},"선택안함",0]
["T40",4,"S40",4,174,{"$f":"IF(MAX('3-3 위험성평가'!$A$4:$A$470)+1>E182,VLOOKUP(E182,'3-3 위험성평가'!$A$5:$P$470,2,0),\"\")","v":""},{"$f":"IF(F182=\"\",\"\",VLOOKUP(VALUE(F182),'1-1 사업장 공정 정보'!$D$15:$P$32,5,0))","v":""},{"$f":"IF(MAX('3-3 위험성평가'!$A$4:$A$470)+1>E182,VLOOKUP(E182,'3-3 위험성평가'!$A$5:$P$470,3,0),\"\")","v":""},{"$f":"IF(MAX('3-3 위험성평가'!$A$4:$A$470)+1>E182,VLOOKUP(E182,'3-3 위험성평가'!$A$5:$P$470,4,0),\"\")","v":""},{"$f":"IF(MAX('3-3 위험성평가'!$A$4:$A$470)+1>E182,VLOOKUP(E182,'3-3 위험성평가'!$A$5:$P$470,5,0),\"\")","v":""},{"$f":"IF(MAX('3-3 위험성평가'!$A$4:$A$470)+1>E182,VLOOKUP(E182,'3-3 위험성평가'!$A$5:$P$470,6,0),\"\")","v":""},{"$f":"IF(MAX('3-3 위험성평가'!$A$4:$A$470)+1>E182,VLOOKUP(E182,'3-3 위험성평가'!$A$5:$P$470,9,0),\"\")","v":""},{"$f":"IF(MAX('3-3 위험성평가'!$A$4:$A$536)+1>E182,VLOOKUP(E182,'3-3 위험성평가'!$A$5:$P$536,12,0),\"\")&IF(L182>\"\",\".\"&E182,\"\")","v":""},{"$f":"IF(MAX('3-3 위험성평가'!$A$4:$A$470)+1>E182,VLOOKUP(E182,'3-3 위험성평가'!$A$5:$P$470,13,0),\"\")","v":""},null,"하",null,null,null,null,null,null,null,"선택안함",0,{"$f":"IF(MAX('3-3 위험성평가'!$A$4:$A$470)+1>E182,VLOOKUP(E182,'3-3 위험성평가'!$A$5:$Q$470,17,0),\"\")","v":""},"선택",{"$f":"표지!$D$33","v":"시원건설"},{"$f":"표지!$E$34","v":"김길동4"},"선택안함",0]
["T40",4,"S40",4,175,{"$f":"IF(MAX('3-3 위험성평가'!$A$4:$A$470)+1>E183,VLOOKUP(E183,'3-3 위험성평가'!$A$5:$P$470,2,0),\"\")","v":""},{"$f":"IF(F183=\"\",\"\",VLOOKUP(VALUE(F183),'1-1 사업장 공정 정보'!$D$15:$P$32,5,0))","v":""},{"$f":"IF(MAX('3-3 위험성평가'!$A$4:$A$470)+1>E183,VLOOKUP(E183,'3-3 위험성평가'!$A$5:$P$470,3,0),\"\")","v":""},{"$f":"IF(MAX('3-3 위험성평가'!$A$4:$A$470)+1>E183,VLOOKUP(E183,'3-3 위험성평가'!$A$5:$P$470,4,0),\"\")","v":""},{"$f":"IF(MAX('3-3 위험성평가'!$A$4:$A$470)+1>E183,VLOOKUP(E183,'3-3 위험성평가'!$A$5:$P$470,5,0),\"\")","v":""},{"$f":"IF(MAX('3-3 위험성평가'!$A$4:$A$470)+1>E183,VLOOKUP(E183,'3-3 위험성평가'!$A$5:$P$470,6,0),\"\")","v":""},{"$f":"IF(MAX('3-3 위험성평가'!$A$4:$A$470)+1>E183,VLOOKUP(E183,'3-3 위험성평가'!$A$5:$P$470,9,0),\"\")","v":""},{"$f":"IF(MAX('3-3 위험성평가'!$A$4:$A$536)+1>E183,VLOOKUP(E183,'3-3 위험성평가'!$A$5:$P$536,12,0),\"\")&IF(L183>\"\",\".\"&E183,\"\")","v":""},{"$f":"IF(MAX('3-3 위험성평가'!$A$4:$A$470)+1>E183,VLOOKUP(E183,'3-3 위험성평가'!$A$5:$P$470,13,0),\"\")","v":""},null,"하",null,null,null,null,null,null,null,"선택안함",0,{"$f":"IF(MAX('3-3 위험성평가'!$A$4:$A$470)+1>E183,VLOOKUP(E183,'3-3 위험성평가'!$A$5:$Q$470,17,0),\"\")","v":""},"선택",{"$f":"표지!$D$33","v":"시원건설"},{"$f":"표지!$E$34","v":"김길동4"},"선택안함",0]
["T40",4,"S40",4,176,{"$f":"IF(MAX('3-3 위험성평가'!$A$4:$A$470)+1>E184,VLOOKUP(E184,'3-3 위험성평가'!$A$5:$P$470,2,0),\"\")","v":""},{"$f":"IF(F184=\"\",\"\",VLOOKUP(VALUE(F184),'1-1 사업장 공정 정보'!$D$15:$P$32,5,0))","v":""},{"$f":"IF(MAX('3-3 위험성평가'!$A$4:$A$470)+1>E184,VLOOKUP(E184,'3-3 위험성평가'!$A$5:$P$470,3,0),\"\")","v":""},{"$f":"IF(MAX('3-3 위험성평가'!$A$4:$A$470)+1>E184,VLOOKUP(E184,'3-3 위험성평가'!$A$5:$P$470,4,0),\"\")","v":""},{"$f":"IF(MAX('3-3 위험성평가'!$A$4:$A$470)+1>E184,VLOOKUP(E184,'3-3 위험성평가'!$A$5:$P$470,5,0),\"\")","v":""},{"$f":"IF(MAX('3-3 위험성평가'!$A$4:$A$470)+1>E184,VLOOKUP(E184,'3-3 위험성평가'!$A$5:$P$470,6,0),\"\")","v":""},{"$f":"IF(MAX('3-3 위험성평가'!$A$4:$A$470)+1>E184,VLOOKUP(E184,'3-3 위험성평가'!$A$5:$P$470,9,0),\"\")","v":""},{"$f":"IF(MAX('3-3 위험성평가'!$A$4:$A$536)+1>E184,VLOOKUP(E184,'3-3 위험성평가'!$A$5:$P$536,12,0),\"\")&IF(L184>\"\",\".\"&E184,\"\")","v":""},{"$f":"IF(MAX('3-3 위험성평가'!$A$4:$A$470)+1>E184,VLOOKUP(E184,'3-3 위험성평가'!$A$5:$P$470,13,0),\"\")","v":""},null,"하",null,null,null,null,null,null,null,"선택안함",0,{"$f":"IF(MAX('3-3 위험성평가'!$A$4:$A$470)+1>E184,VLOOKUP(E184,'3-3 위험성평가'!$A$5:$Q$470,17,0),\"\")","v":""},"선택",{"$f":"표지!$D$33","v":"시원건설"},{"$f":"표지!$E$34","v":"김길동4"},"선택안함",0]
["T40",4,"S40",4,177,{"$f":"IF(MAX('3-3 위험성평가'!$A$4:$A$470)+1>E185,VLOOKUP(E185,'3-3 위험성평가'!$A$5:$P$470,2,0),\"\")","v":""},{"$f":"IF(F185=\"\",\"\",VLOOKUP(VALUE(F185),'1-1 사업장 공정 정보'!$D$15:$P$32,5,0))","v":""},{"$f":"IF(MAX('3-3 위험성평가'!$A$4:$A$470)+1>E185,VLOOKUP(E185,'3-3 위험성평가'!$A$5:$P$470,3,0),\"\")","v":""},{"$f":"IF(MAX('3-3 위험성평가'!$A$4:$A$470)+1>E185,VLOOKUP(E185,'3-3 위험성평가'!$A$5:$P$470,4,0),\"\")","v":""},{"$f":"IF(MAX('3-3 위험성평가'!$A$4:$A$470)+1>E185,VLOOKUP(E185,'3-3 위험성평가'!$A$5:$P$470,5,0),\"\")","v":""},{"$f":"IF(MAX('3-3 위험성평가'!$A$4:$A$470)+1>E185,VLOOKUP(E185,'3-3 위험성평가'!$A$5:$P$470,6,0),\"\")","v":""},{"$f":"IF(MAX('3-3 위험성평가'!$A$4:$A$470)+1>E185,VLOOKUP(E185,'3-3 위험성평가'!$A$5:$P$470,9,0),\"\")","v":""},{"$f":"IF(MAX('3-3 위험성평가'!$A$4:$A$536)+1>E185,VLOOKUP(E185,'3-3 위험성평가'!$A$5:$P$536,12,0),\"\")&IF(L185>\"\",\".\"&E185,\"\")","v":""},{"$f":"IF(MAX('3-3 위험성평가'!$A$4:$A$470)+1>E185,VLOOKUP(E185,'3-3 위험성평가'!$A$5:$P$470,13,0),\"\")","v":""},null,"하",null,null,null,null,null,null,null,"선택안함",0,{"$f":"IF(MAX('3-3 위험성평가'!$A$4:$A$470)+1>E185,VLOOKUP(E185,'3-3 위험성평가'!$A$5:$Q$470,17,0),\"\")","v":""},"선택",{"$f":"표지!$D$33","v":"시원건설"},{"$f":"표지!$E$34","v":"김길동4"},"선택안함",0]
["T40",4,"S40",4,178,{"$f":"IF(MAX('3-3 위험성평가'!$A$4:$A$470)+1>E186,VLOOKUP(E186,'3-3 위험성평가'!$A$5:$P$470,2,0),\"\")","v":""},{"$f":"IF(F186=\"\",\"\",VLOOKUP(VALUE(F186),'1-1 사업장 공정 정보'!$D$15:$P$32,5,0))","v":""},{"$f":"IF(MAX('3-3 위험성평가'!$A$4:$A$470)+1>E186,VLOOKUP(E186,'3-3 위험성평가'!$A$5:$P$470,3,0),\"\")","v":""},{"$f":"IF(MAX('3-3 위험성평가'!$A$4:$A$470)+1>E186,VLOOKUP(E186,'3-3 위험성평가'!$A$5:$P$470,4,0),\"\")","v":""},{"$f":"IF(MAX('3-3 위험성평가'!$A$4:$A$470)+1>E186,VLOOKUP(E186,'3-3 위험성평가'!$A$5:$P$470,5,0),\"\")","v":""},{"$f":"IF(MAX('3-3 위험성평가'!$A$4:$A$470)+1>E186,VLOOKUP(E186,'3-3 위험성평가'!$A$5:$P$470,6,0),\"\")","v":""},{"$f":"IF(MAX('3-3 위험성평가'!$A$4:$A$470)+1>E186,VLOOKUP(E186,'3-3 위험성평가'!$A$5:$P$470,9,0),\"\")","v":""},{"$f":"IF(MAX('3-3 위험성평가'!$A$4:$A$536)+1>E186,VLOOKUP(E186,'3-3 위험성평가'!$A$5:$P$536,12,0),\"\")&IF(L186>\"\",\".\"&E186,\"\")","v":""},{"$f":"IF(MAX('3-3 위험성평가'!$A$4:$A$470)+1>E186,VLOOKUP(E186,'3-3 위험성평가'!$A$5:$P$470,13,0),\"\")","v":""},null,"하",null,null,null,null,null,null,null,"선택안함",0,{"$f":"IF(MAX('3-3 위험성평가'!$A$4:$A$470)+1>E186,VLOOKUP(E186,'3-3 위험성평가'!$A$5:$Q$470,17,0),\"\")","v":""},"선택",{"$f":"표지!$D$33","v":"시원건설"},{"$f":"표지!$E$34","v":"김길동4"},"선택안함",0]
["T40",4,"S40",4,179,{"$f":"IF(MAX('3-3 위험성평가'!$A$4:$A$470)+1>E187,VLOOKUP(E187,'3-3 위험성평가'!$A$5:$P$470,2,0),\"\")","v":""},{"$f":"IF(F187=\"\",\"\",VLOOKUP(VALUE(F187),'1-1 사업장 공정 정보'!$D$15:$P$32,5,0))","v":""},{"$f":"IF(MAX('3-3 위험성평가'!$A$4:$A$470)+1>E187,VLOOKUP(E187,'3-3 위험성평가'!$A$5:$P$470,3,0),\"\")","v":""},{"$f":"IF(MAX('3-3 위험성평가'!$A$4:$A$470)+1>E187,VLOOKUP(E187,'3-3 위험성평가'!$A$5:$P$470,4,0),\"\")","v":""},{"$f":"IF(MAX('3-3 위험성평가'!$A$4:$A$470)+1>E187,VLOOKUP(E187,'3-3 위험성평가'!$A$5:$P$470,5,0),\"\")","v":""},{"$f":"IF(MAX('3-3 위험성평가'!$A$4:$A$470)+1>E187,VLOOKUP(E187,'3-3 위험성평가'!$A$5:$P$470,6,0),\"\")","v":""},{"$f":"IF(MAX('3-3 위험성평가'!$A$4:$A$470)+1>E187,VLOOKUP(E187,'3-3 위험성평가'!$A$5:$P$470,9,0),\"\")","v":""},{"$f":"IF(MAX('3-3 위험성평가'!$A$4:$A$536)+1>E187,VLOOKUP(E187,'3-3 위험성평가'!$A$5:$P$536,12,0),\"\")&IF(L187>\"\",\".\"&E187,\"\")","v":""},{"$f":"IF(MAX('3-3 위험성평가'!$A$4:$A$470)+1>E187,VLOOKUP(E187,'3-3 위험성평가'!$A$5:$P$470,13,0),\"\")","v":""},null,"하",null,null,null,null,null,null,null,"선택안함",0,{"$f":"IF(MAX('3-3 위험성평가'!$A$4:$A$470)+1>E187,VLOOKUP(E187,'3-3 위험성평가'!$A$5:$Q$470,17,0),\"\")","v":""},"선택",{"$f":"표지!$D$33","v":"시원건설"},{"$f":"표지!$E$34","v":"김길동4"},"선택안함",0]
["T40",4,"S40",4,180,{"$f":"IF(MAX('3-3 위험성평가'!$A$4:$A$470)+1>E188,VLOOKUP(E188,'3-3 위험성평가'!$A$5:$P$470,2,0),\"\")","v":""},{"$f":"IF(F188=\"\",\"\",VLOOKUP(VALUE(F188),'1-1 사업장 공정 정보'!$D$15:$P$32,5,0))","v":""},{"$f":"IF(MAX('3-3 위험성평가'!$A$4:$A$470)+1>E188,VLOOKUP(E188,'3-3 위험성평가'!$A$5:$P$470,3,0),\"\")","v":""},{"$f":"IF(MAX('3-3 위험성평가'!$A$4:$A$470)+1>E188,VLOOKUP(E188,'3-3 위험성평가'!$A$5:$P$470,4,0),\"\")","v":""},{"$f":"IF(MAX('3-3 위험성평가'!$A$4:$A$470)+1>E188,VLOOKUP(E188,'3-3 위험성평가'!$A$5:$P$470,5,0),\"\")","v":""},{"$f":"IF(MAX('3-3 위험성평가'!$A$4:$A$470)+1>E188,VLOOKUP(E188,'3-3 위험성평가'!$A$5:$P$470,6,0),\"\")","v":""},{"$f":"IF(MAX('3-3 위험성평가'!$A$4:$A$470)+1>E188,VLOOKUP(E188,'3-3 위험성평가'!$A$5:$P$470,9,0),\"\")","v":""},{"$f":"IF(MAX('3-3 위험성평가'!$A$4:$A$536)+1>E188,VLOOKUP(E188,'3-3 위험성평가'!$A$5:$P$536,12,0),\"\")&IF(L188>\"\",\".\"&E188,\"\")","v":""},{"$f":"IF(MAX('3-3 위험성평가'!$A$4:$A$470)+1>E188,VLOOKUP(E188,'3-3 위험성평가'!$A$5:$P$470,13,0),\"\")","v":""},null,"하",null,null,null,null,null,null,null,"선택안함",0,{"$f":"IF(MAX('3-3 위험성평가'!$A$4:$A$470)+1>E188,VLOOKUP(E188,'3-3 위험성평가'!$A$5:$Q$470,17,0),\"\")","v":""},"선택",{"$f":"표지!$D$33","v":"시원건설"},{"$f":"표지!$E$34","v":"김길동4"},"선택안함",0]
["T40",4,"S40",4,181,{"$f":"IF(MAX('3-3 위험성평가'!$A$4:$A$470)+1>E189,VLOOKUP(E189,'3-3 위험성평가'!$A$5:$P$470,2,0),\"\")","v":""},{"$f":"IF(F189=\"\",\"\",VLOOKUP(VALUE(F189),'1-1 사업장 공정 정보'!$D$15:$P$32,5,0))","v":""},{"$f":"IF(MAX('3-3 위험성평가'!$A$4:$A$470)+1>E189,VLOOKUP(E189,'3-3 위험성평가'!$A$5:$P$470,3,0),\"\")","v":""},{"$f":"IF(MAX('3-3 위험성평가'!$A$4:$A$470)+1>E189,VLOOKUP(E189,'3-3 위험성평가'!$A$5:$P$470,4,0),\"\")","v":""},{"$f":"IF(MAX('3-3 위험성평가'!$A$4:$A$470)+1>E189,VLOOKUP(E189,'3-3 위험성평가'!$A$5:$P$470,5,0),\"\")","v":""},{"$f":"IF(MAX('3-3 위험성평가'!$A$4:$A$470)+1>E189,VLOOKUP(E189,'3-3 위험성평가'!$A$5:$P$470,6,0),\"\")","v":""},{"$f":"IF(MAX('3-3 위험성평가'!$A$4:$A$470)+1>E189,VLOOKUP(E189,'3-3 위험성평가'!$A$5:$P$470,9,0),\"\")","v":""},{"$f":"IF(MAX('3-3 위험성평가'!$A$4:$A$536)+1>E189,VLOOKUP(E189,'3-3 위험성평가'!$A$5:$P$536,12,0),\"\")&IF(L189>\"\",\".\"&E189,\"\")","v":""},{"$f":"IF(MAX('3-3 위험성평가'!$A$4:$A$470)+1>E189,VLOOKUP(E189,'3-3 위험성평가'!$A$5:$P$470,13,0),\"\")","v":""},null,"하",null,null,null,null,null,null,null,"선택안함",0,{"$f":"IF(MAX('3-3 위험성평가'!$A$4:$A$470)+1>E189,VLOOKUP(E189,'3-3 위험성평가'!$A$5:$Q$470,17,0),\"\")","v":""},"선택",{"$f":"표지!$D$33","v":"시원건설"},{"$f":"표지!$E$34","v":"김길동4"},"선택안함",0]
["T40",4,"S40",4,182,{"$f":"IF(MAX('3-3 위험성평가'!$A$4:$A$470)+1>E190,VLOOKUP(E190,'3-3 위험성평가'!$A$5:$P$470,2,0),\"\")","v":""},{"$f":"IF(F190=\"\",\"\",VLOOKUP(VALUE(F190),'1-1 사업장 공정 정보'!$D$15:$P$32,5,0))","v":""},{"$f":"IF(MAX('3-3 위험성평가'!$A$4:$A$470)+1>E190,VLOOKUP(E190,'3-3 위험성평가'!$A$5:$P$470,3,0),\"\")","v":""},{"$f":"IF(MAX('3-3 위험성평가'!$A$4:$A$470)+1>E190,VLOOKUP(E190,'3-3 위험성평가'!$A$5:$P$470,4,0),\"\")","v":""},{"$f":"IF(MAX('3-3 위험성평가'!$A$4:$A$470)+1>E190,VLOOKUP(E190,'3-3 위험성평가'!$A$5:$P$470,5,0),\"\")","v":""},{"$f":"IF(MAX('3-3 위험성평가'!$A$4:$A$470)+1>E190,VLOOKUP(E190,'3-3 위험성평가'!$A$5:$P$470,6,0),\"\")","v":""},{"$f":"IF(MAX('3-3 위험성평가'!$A$4:$A$470)+1>E190,VLOOKUP(E190,'3-3 위험성평가'!$A$5:$P$470,9,0),\"\")","v":""},{"$f":"IF(MAX('3-3 위험성평가'!$A$4:$A$536)+1>E190,VLOOKUP(E190,'3-3 위험성평가'!$A$5:$P$536,12,0),\"\")&IF(L190>\"\",\".\"&E190,\"\")","v":""},{"$f":"IF(MAX('3-3 위험성평가'!$A$4:$A$470)+1>E190,VLOOKUP(E190,'3-3 위험성평가'!$A$5:$P$470,13,0),\"\")","v":""},null,"하",null,null,null,null,null,null,null,"선택안함",0,{"$f":"IF(MAX('3-3 위험성평가'!$A$4:$A$470)+1>E190,VLOOKUP(E190,'3-3 위험성평가'!$A$5:$Q$470,17,0),\"\")","v":""},"선택",{"$f":"표지!$D$33","v":"시원건설"},{"$f":"표지!$E$34","v":"김길동4"},"선택안함",0]
["T40",4,"S40",4,183,{"$f":"IF(MAX('3-3 위험성평가'!$A$4:$A$470)+1>E191,VLOOKUP(E191,'3-3 위험성평가'!$A$5:$P$470,2,0),\"\")","v":""},{"$f":"IF(F191=\"\",\"\",VLOOKUP(VALUE(F191),'1-1 사업장 공정 정보'!$D$15:$P$32,5,0))","v":""},{"$f":"IF(MAX('3-3 위험성평가'!$A$4:$A$470)+1>E191,VLOOKUP(E191,'3-3 위험성평가'!$A$5:$P$470,3,0),\"\")","v":""},{"$f":"IF(MAX('3-3 위험성평가'!$A$4:$A$470)+1>E191,VLOOKUP(E191,'3-3 위험성평가'!$A$5:$P$470,4,0),\"\")","v":""},{"$f":"IF(MAX('3-3 위험성평가'!$A$4:$A$470)+1>E191,VLOOKUP(E191,'3-3 위험성평가'!$A$5:$P$470,5,0),\"\")","v":""},{"$f":"IF(MAX('3-3 위험성평가'!$A$4:$A$470)+1>E191,VLOOKUP(E191,'3-3 위험성평가'!$A$5:$P$470,6,0),\"\")","v":""},{"$f":"IF(MAX('3-3 위험성평가'!$A$4:$A$470)+1>E191,VLOOKUP(E191,'3-3 위험성평가'!$A$5:$P$470,9,0),\"\")","v":""},{"$f":"IF(MAX('3-3 위험성평가'!$A$4:$A$536)+1>E191,VLOOKUP(E191,'3-3 위험성평가'!$A$5:$P$536,12,0),\"\")&IF(L191>\"\",\".\"&E191,\"\")","v":""},{"$f":"IF(MAX('3-3 위험성평가'!$A$4:$A$470)+1>E191,VLOOKUP(E191,'3-3 위험성평가'!$A$5:$P$470,13,0),\"\")","v":""},null,"하",null,null,null,null,null,null,null,"선택안함",0,{"$f":"IF(MAX('3-3 위험성평가'!$A$4:$A$470)+1>E191,VLOOKUP(E191,'3-3 위험성평가'!$A$5:$Q$470,17,0),\"\")","v":""},"선택",{"$f":"표지!$D$33","v":"시원건설"},{"$f":"표지!$E$34","v":"김길동4"},"선택안함",0]
["T40",4,"S40",4,184,{"$f":"IF(MAX('3-3 위험성평가'!$A$4:$A$470)+1>E192,VLOOKUP(E192,'3-3 위험성평가'!$A$5:$P$470,2,0),\"\")","v":""},{"$f":"IF(F192=\"\",\"\",VLOOKUP(VALUE(F192),'1-1 사업장 공정 정보'!$D$15:$P$32,5,0))","v":""},{"$f":"IF(MAX('3-3 위험성평가'!$A$4:$A$470)+1>E192,VLOOKUP(E192,'3-3 위험성평가'!$A$5:$P$470,3,0),\"\")","v":""},{"$f":"IF(MAX('3-3 위험성평가'!$A$4:$A$470)+1>E192,VLOOKUP(E192,'3-3 위험성평가'!$A$5:$P$470,4,0),\"\")","v":""},{"$f":"IF(MAX('3-3 위험성평가'!$A$4:$A$470)+1>E192,VLOOKUP(E192,'3-3 위험성평가'!$A$5:$P$470,5,0),\"\")","v":""},{"$f":"IF(MAX('3-3 위험성평가'!$A$4:$A$470)+1>E192,VLOOKUP(E192,'3-3 위험성평가'!$A$5:$P$470,6,0),\"\")","v":""},{"$f":"IF(MAX('3-3 위험성평가'!$A$4:$A$470)+1>E192,VLOOKUP(E192,'3-3 위험성평가'!$A$5:$P$470,9,0),\"\")","v":""},{"$f":"IF(MAX('3-3 위험성평가'!$A$4:$A$536)+1>E192,VLOOKUP(E192,'3-3 위험성평가'!$A$5:$P$536,12,0),\"\")&IF(L192>\"\",\".\"&E192,\"\")","v":""},{"$f":"IF(MAX('3-3 위험성평가'!$A$4:$A$470)+1>E192,VLOOKUP(E192,'3-3 위험성평가'!$A$5:$P$470,13,0),\"\")","v":""},null,"하",null,null,null,null,null,null,null,"선택안함",0,{"$f":"IF(MAX('3-3 위험성평가'!$A$4:$A$470)+1>E192,VLOOKUP(E192,'3-3 위험성평가'!$A$5:$Q$470,17,0),\"\")","v":""},"선택",{"$f":"표지!$D$33","v":"시원건설"},{"$f":"표지!$E$34","v":"김길동4"},"선택안함",0]
["T40",4,"S40",4,185,{"$f":"IF(MAX('3-3 위험성평가'!$A$4:$A$470)+1>E193,VLOOKUP(E193,'3-3 위험성평가'!$A$5:$P$470,2,0),\"\")","v":""},{"$f":"IF(F193=\"\",\"\",VLOOKUP(VALUE(F193),'1-1 사업장 공정 정보'!$D$15:$P$32,5,0))","v":""},{"$f":"IF(MAX('3-3 위험성평가'!$A$4:$A$470)+1>E193,VLOOKUP(E193,'3-3 위험성평가'!$A$5:$P$470,3,0),\"\")","v":""},{"$f":"IF(MAX('3-3 위험성평가'!$A$4:$A$470)+1>E193,VLOOKUP(E193,'3-3 위험성평가'!$A$5:$P$470,4,0),\"\")","v":""},{"$f":"IF(MAX('3-3 위험성평가'!$A$4:$A$470)+1>E193,VLOOKUP(E193,'3-3 위험성평가'!$A$5:$P$470,5,0),\"\")","v":""},{"$f":"IF(MAX('3-3 위험성평가'!$A$4:$A$470)+1>E193,VLOOKUP(E193,'3-3 위험성평가'!$A$5:$P$470,6,0),\"\")","v":""},{"$f":"IF(MAX('3-3 위험성평가'!$A$4:$A$470)+1>E193,VLOOKUP(E193,'3-3 위험성평가'!$A$5:$P$470,9,0),\"\")","v":""},{"$f":"IF(MAX('3-3 위험성평가'!$A$4:$A$536)+1>E193,VLOOKUP(E193,'3-3 위험성평가'!$A$5:$P$536,12,0),\"\")&IF(L193>\"\",\".\"&E193,\"\")","v":""},{"$f":"IF(MAX('3-3 위험성평가'!$A$4:$A$470)+1>E193,VLOOKUP(E193,'3-3 위험성평가'!$A$5:$P$470,13,0),\"\")","v":""},null,"하",null,null,null,null,null,null,null,"선택안함",0,{"$f":"IF(MAX('3-3 위험성평가'!$A$4:$A$470)+1>E193,VLOOKUP(E193,'3-3 위험성평가'!$A$5:$Q$470,17,0),\"\")","v":""},"선택",{"$f":"표지!$D$33","v":"시원건설"},{"$f":"표지!$E$34","v":"김길동4"},"선택안함",0]
["T40",4,"S40",4,186,{"$f":"IF(MAX('3-3 위험성평가'!$A$4:$A$470)+1>E194,VLOOKUP(E194,'3-3 위험성평가'!$A$5:$P$470,2,0),\"\")","v":""},{"$f":"IF(F194=\"\",\"\",VLOOKUP(VALUE(F194),'1-1 사업장 공정 정보'!$D$15:$P$32,5,0))","v":""},{"$f":"IF(MAX('3-3 위험성평가'!$A$4:$A$470)+1>E194,VLOOKUP(E194,'3-3 위험성평가'!$A$5:$P$470,3,0),\"\")","v":""},{"$f":"IF(MAX('3-3 위험성평가'!$A$4:$A$470)+1>E194,VLOOKUP(E194,'3-3 위험성평가'!$A$5:$P$470,4,0),\"\")","v":""},{"$f":"IF(MAX('3-3 위험성평가'!$A$4:$A$470)+1>E194,VLOOKUP(E194,'3-3 위험성평가'!$A$5:$P$470,5,0),\"\")","v":""},{"$f":"IF(MAX('3-3 위험성평가'!$A$4:$A$470)+1>E194,VLOOKUP(E194,'3-3 위험성평가'!$A$5:$P$470,6,0),\"\")","v":""},{"$f":"IF(MAX('3-3 위험성평가'!$A$4:$A$470)+1>E194,VLOOKUP(E194,'3-3 위험성평가'!$A$5:$P$470,9,0),\"\")","v":""},{"$f":"IF(MAX('3-3 위험성평가'!$A$4:$A$536)+1>E194,VLOOKUP(E194,'3-3 위험성평가'!$A$5:$P$536,12,0),\"\")&IF(L194>\"\",\".\"&E194,\"\")","v":""},{"$f":"IF(MAX('3-3 위험성평가'!$A$4:$A$470)+1>E194,VLOOKUP(E194,'3-3 위험성평가'!$A$5:$P$470,13,0),\"\")","v":""},null,"하",null,null,null,null,null,null,null,"선택안함",0,{"$f":"IF(MAX('3-3 위험성평가'!$A$4:$A$470)+1>E194,VLOOKUP(E194,'3-3 위험성평가'!$A$5:$Q$470,17,0),\"\")","v":""},"선택",{"$f":"표지!$D$33","v":"시원건설"},{"$f":"표지!$E$34","v":"김길동4"},"선택안함",0]
["T40",4,"S40",4,187,{"$f":"IF(MAX('3-3 위험성평가'!$A$4:$A$470)+1>E195,VLOOKUP(E195,'3-3 위험성평가'!$A$5:$P$470,2,0),\"\")","v":""},{"$f":"IF(F195=\"\",\"\",VLOOKUP(VALUE(F195),'1-1 사업장 공정 정보'!$D$15:$P$32,5,0))","v":""},{"$f":"IF(MAX('3-3 위험성평가'!$A$4:$A$470)+1>E195,VLOOKUP(E195,'3-3 위험성평가'!$A$5:$P$470,3,0),\"\")","v":""},{"$f":"IF(MAX('3-3 위험성평가'!$A$4:$A$470)+1>E195,VLOOKUP(E195,'3-3 위험성평가'!$A$5:$P$470,4,0),\"\")","v":""},{"$f":"IF(MAX('3-3 위험성평가'!$A$4:$A$470)+1>E195,VLOOKUP(E195,'3-3 위험성평가'!$A$5:$P$470,5,0),\"\")","v":""},{"$f":"IF(MAX('3-3 위험성평가'!$A$4:$A$470)+1>E195,VLOOKUP(E195,'3-3 위험성평가'!$A$5:$P$470,6,0),\"\")","v":""},{"$f":"IF(MAX('3-3 위험성평가'!$A$4:$A$470)+1>E195,VLOOKUP(E195,'3-3 위험성평가'!$A$5:$P$470,9,0),\"\")","v":""},{"$f":"IF(MAX('3-3 위험성평가'!$A$4:$A$536)+1>E195,VLOOKUP(E195,'3-3 위험성평가'!$A$5:$P$536,12,0),\"\")&IF(L195>\"\",\".\"&E195,\"\")","v":""},{"$f":"IF(MAX('3-3 위험성평가'!$A$4:$A$470)+1>E195,VLOOKUP(E195,'3-3 위험성평가'!$A$5:$P$470,13,0),\"\")","v":""},null,"하",null,null,null,null,null,null,null,"선택안함",0,{"$f":"IF(MAX('3-3 위험성평가'!$A$4:$A$470)+1>E195,VLOOKUP(E195,'3-3 위험성평가'!$A$5:$Q$470,17,0),\"\")","v":""},"선택",{"$f":"표지!$D$33","v":"시원건설"},{"$f":"표지!$E$34","v":"김길동4"},"선택안함",0]
["T40",4,"S40",4,188,{"$f":"IF(MAX('3-3 위험성평가'!$A$4:$A$470)+1>E196,VLOOKUP(E196,'3-3 위험성평가'!$A$5:$P$470,2,0),\"\")","v":""},{"$f":"IF(F196=\"\",\"\",VLOOKUP(VALUE(F196),'1-1 사업장 공정 정보'!$D$15:$P$32,5,0))","v":""},{"$f":"IF(MAX('3-3 위험성평가'!$A$4:$A$470)+1>E196,VLOOKUP(E196,'3-3 위험성평가'!$A$5:$P$470,3,0),\"\")","v":""},{"$f":"IF(MAX('3-3 위험성평가'!$A$4:$A$470)+1>E196,VLOOKUP(E196,'3-3 위험성평가'!$A$5:$P$470,4,0),\"\")","v":""},{"$f":"IF(MAX('3-3 위험성평가'!$A$4:$A$470)+1>E196,VLOOKUP(E196,'3-3 위험성평가'!$A$5:$P$470,5,0),\"\")","v":""},{"$f":"IF(MAX('3-3 위험성평가'!$A$4:$A$470)+1>E196,VLOOKUP(E196,'3-3 위험성평가'!$A$5:$P$470,6,0),\"\")","v":""},{"$f":"IF(MAX('3-3 위험성평가'!$A$4:$A$470)+1>E196,VLOOKUP(E196,'3-3 위험성평가'!$A$5:$P$470,9,0),\"\")","v":""},{"$f":"IF(MAX('3-3 위험성평가'!$A$4:$A$536)+1>E196,VLOOKUP(E196,'3-3 위험성평가'!$A$5:$P$536,12,0),\"\")&IF(L196>\"\",\".\"&E196,\"\")","v":""},{"$f":"IF(MAX('3-3 위험성평가'!$A$4:$A$470)+1>E196,VLOOKUP(E196,'3-3 위험성평가'!$A$5:$P$470,13,0),\"\")","v":""},null,"하",null,null,null,null,null,null,null,"선택안함",0,{"$f":"IF(MAX('3-3 위험성평가'!$A$4:$A$470)+1>E196,VLOOKUP(E196,'3-3 위험성평가'!$A$5:$Q$470,17,0),\"\")","v":""},"선택",{"$f":"표지!$D$33","v":"시원건설"},{"$f":"표지!$E$34","v":"김길동4"},"선택안함",0]
["T40",4,"S40",4,189,{"$f":"IF(MAX('3-3 위험성평가'!$A$4:$A$470)+1>E197,VLOOKUP(E197,'3-3 위험성평가'!$A$5:$P$470,2,0),\"\")","v":""},{"$f":"IF(F197=\"\",\"\",VLOOKUP(VALUE(F197),'1-1 사업장 공정 정보'!$D$15:$P$32,5,0))","v":""},{"$f":"IF(MAX('3-3 위험성평가'!$A$4:$A$470)+1>E197,VLOOKUP(E197,'3-3 위험성평가'!$A$5:$P$470,3,0),\"\")","v":""},{"$f":"IF(MAX('3-3 위험성평가'!$A$4:$A$470)+1>E197,VLOOKUP(E197,'3-3 위험성평가'!$A$5:$P$470,4,0),\"\")","v":""},{"$f":"IF(MAX('3-3 위험성평가'!$A$4:$A$470)+1>E197,VLOOKUP(E197,'3-3 위험성평가'!$A$5:$P$470,5,0),\"\")","v":""},{"$f":"IF(MAX('3-3 위험성평가'!$A$4:$A$470)+1>E197,VLOOKUP(E197,'3-3 위험성평가'!$A$5:$P$470,6,0),\"\")","v":""},{"$f":"IF(MAX('3-3 위험성평가'!$A$4:$A$470)+1>E197,VLOOKUP(E197,'3-3 위험성평가'!$A$5:$P$470,9,0),\"\")","v":""},{"$f":"IF(MAX('3-3 위험성평가'!$A$4:$A$536)+1>E197,VLOOKUP(E197,'3-3 위험성평가'!$A$5:$P$536,12,0),\"\")&IF(L197>\"\",\".\"&E197,\"\")","v":""},{"$f":"IF(MAX('3-3 위험성평가'!$A$4:$A$470)+1>E197,VLOOKUP(E197,'3-3 위험성평가'!$A$5:$P$470,13,0),\"\")","v":""},null,"하",null,null,null,null,null,null,null,"선택안함",0,{"$f":"IF(MAX('3-3 위험성평가'!$A$4:$A$470)+1>E197,VLOOKUP(E197,'3-3 위험성평가'!$A$5:$Q$470,17,0),\"\")","v":""},"선택",{"$f":"표지!$D$33","v":"시원건설"},{"$f":"표지!$E$34","v":"김길동4"},"선택안함",0]
["T40",4,"S40",4,190,{"$f":"IF(MAX('3-3 위험성평가'!$A$4:$A$470)+1>E198,VLOOKUP(E198,'3-3 위험성평가'!$A$5:$P$470,2,0),\"\")","v":""},{"$f":"IF(F198=\"\",\"\",VLOOKUP(VALUE(F198),'1-1 사업장 공정 정보'!$D$15:$P$32,5,0))","v":""},{"$f":"IF(MAX('3-3 위험성평가'!$A$4:$A$470)+1>E198,VLOOKUP(E198,'3-3 위험성평가'!$A$5:$P$470,3,0),\"\")","v":""},{"$f":"IF(MAX('3-3 위험성평가'!$A$4:$A$470)+1>E198,VLOOKUP(E198,'3-3 위험성평가'!$A$5:$P$470,4,0),\"\")","v":""},{"$f":"IF(MAX('3-3 위험성평가'!$A$4:$A$470)+1>E198,VLOOKUP(E198,'3-3 위험성평가'!$A$5:$P$470,5,0),\"\")","v":""},{"$f":"IF(MAX('3-3 위험성평가'!$A$4:$A$470)+1>E198,VLOOKUP(E198,'3-3 위험성평가'!$A$5:$P$470,6,0),\"\")","v":""},{"$f":"IF(MAX('3-3 위험성평가'!$A$4:$A$470)+1>E198,VLOOKUP(E198,'3-3 위험성평가'!$A$5:$P$470,9,0),\"\")","v":""},{"$f":"IF(MAX('3-3 위험성평가'!$A$4:$A$536)+1>E198,VLOOKUP(E198,'3-3 위험성평가'!$A$5:$P$536,12,0),\"\")&IF(L198>\"\",\".\"&E198,\"\")","v":""},{"$f":"IF(MAX('3-3 위험성평가'!$A$4:$A$470)+1>E198,VLOOKUP(E198,'3-3 위험성평가'!$A$5:$P$470,13,0),\"\")","v":""},null,"하",null,null,null,null,null,null,null,"선택안함",0,{"$f":"IF(MAX('3-3 위험성평가'!$A$4:$A$470)+1>E198,VLOOKUP(E198,'3-3 위험성평가'!$A$5:$Q$470,17,0),\"\")","v":""},"선택",{"$f":"표지!$D$33","v":"시원건설"},{"$f":"표지!$E$34","v":"김길동4"},"선택안함",0]
["T40",4,"S40",4,191,{"$f":"IF(MAX('3-3 위험성평가'!$A$4:$A$470)+1>E199,VLOOKUP(E199,'3-3 위험성평가'!$A$5:$P$470,2,0),\"\")","v":""},{"$f":"IF(F199=\"\",\"\",VLOOKUP(VALUE(F199),'1-1 사업장 공정 정보'!$D$15:$P$32,5,0))","v":""},{"$f":"IF(MAX('3-3 위험성평가'!$A$4:$A$470)+1>E199,VLOOKUP(E199,'3-3 위험성평가'!$A$5:$P$470,3,0),\"\")","v":""},{"$f":"IF(MAX('3-3 위험성평가'!$A$4:$A$470)+1>E199,VLOOKUP(E199,'3-3 위험성평가'!$A$5:$P$470,4,0),\"\")","v":""},{"$f":"IF(MAX('3-3 위험성평가'!$A$4:$A$470)+1>E199,VLOOKUP(E199,'3-3 위험성평가'!$A$5:$P$470,5,0),\"\")","v":""},{"$f":"IF(MAX('3-3 위험성평가'!$A$4:$A$470)+1>E199,VLOOKUP(E199,'3-3 위험성평가'!$A$5:$P$470,6,0),\"\")","v":""},{"$f":"IF(MAX('3-3 위험성평가'!$A$4:$A$470)+1>E199,VLOOKUP(E199,'3-3 위험성평가'!$A$5:$P$470,9,0),\"\")","v":""},{"$f":"IF(MAX('3-3 위험성평가'!$A$4:$A$536)+1>E199,VLOOKUP(E199,'3-3 위험성평가'!$A$5:$P$536,12,0),\"\")&IF(L199>\"\",\".\"&E199,\"\")","v":""},{"$f":"IF(MAX('3-3 위험성평가'!$A$4:$A$470)+1>E199,VLOOKUP(E199,'3-3 위험성평가'!$A$5:$P$470,13,0),\"\")","v":""},null,"하",null,null,null,null,null,null,null,"선택안함",0,{"$f":"IF(MAX('3-3 위험성평가'!$A$4:$A$470)+1>E199,VLOOKUP(E199,'3-3 위험성평가'!$A$5:$Q$470,17,0),\"\")","v":""},"선택",{"$f":"표지!$D$33","v":"시원건설"},{"$f":"표지!$E$34","v":"김길동4"},"선택안함",0]
["T40",4,"S40",4,192,{"$f":"IF(MAX('3-3 위험성평가'!$A$4:$A$470)+1>E200,VLOOKUP(E200,'3-3 위험성평가'!$A$5:$P$470,2,0),\"\")","v":""},{"$f":"IF(F200=\"\",\"\",VLOOKUP(VALUE(F200),'1-1 사업장 공정 정보'!$D$15:$P$32,5,0))","v":""},{"$f":"IF(MAX('3-3 위험성평가'!$A$4:$A$470)+1>E200,VLOOKUP(E200,'3-3 위험성평가'!$A$5:$P$470,3,0),\"\")","v":""},{"$f":"IF(MAX('3-3 위험성평가'!$A$4:$A$470)+1>E200,VLOOKUP(E200,'3-3 위험성평가'!$A$5:$P$470,4,0),\"\")","v":""},{"$f":"IF(MAX('3-3 위험성평가'!$A$4:$A$470)+1>E200,VLOOKUP(E200,'3-3 위험성평가'!$A$5:$P$470,5,0),\"\")","v":""},{"$f":"IF(MAX('3-3 위험성평가'!$A$4:$A$470)+1>E200,VLOOKUP(E200,'3-3 위험성평가'!$A$5:$P$470,6,0),\"\")","v":""},{"$f":"IF(MAX('3-3 위험성평가'!$A$4:$A$470)+1>E200,VLOOKUP(E200,'3-3 위험성평가'!$A$5:$P$470,9,0),\"\")","v":""},{"$f":"IF(MAX('3-3 위험성평가'!$A$4:$A$536)+1>E200,VLOOKUP(E200,'3-3 위험성평가'!$A$5:$P$536,12,0),\"\")&IF(L200>\"\",\".\"&E200,\"\")","v":""},{"$f":"IF(MAX('3-3 위험성평가'!$A$4:$A$470)+1>E200,VLOOKUP(E200,'3-3 위험성평가'!$A$5:$P$470,13,0),\"\")","v":""},null,"하",null,null,null,null,null,null,null,"선택안함",0,{"$f":"IF(MAX('3-3 위험성평가'!$A$4:$A$470)+1>E200,VLOOKUP(E200,'3-3 위험성평가'!$A$5:$Q$470,17,0),\"\")","v":""},"선택",{"$f":"표지!$D$33","v":"시원건설"},{"$f":"표지!$E$34","v":"김길동4"},"선택안함",0]
[{"$f":"\"T\"&B201&IF(OR(X201=\"선택\",X201=1),1,0)","v":"T40"},4,"S40",4,193,{"$f":"IF(MAX('3-3 위험성평가'!$A$4:$A$470)+1>E201,VLOOKUP(E201,'3-3 위험성평가'!$A$5:$P$470,2,0),\"\")","v":""},{"$f":"IF(F201=\"\",\"\",VLOOKUP(VALUE(F201),'1-1 사업장 공정 정보'!$D$15:$P$32,5,0))","v":""},{"$f":"IF(MAX('3-3 위험성평가'!$A$4:$A$470)+1>E201,VLOOKUP(E201,'3-3 위험성평가'!$A$5:$P$470,3,0),\"\")","v":""},{"$f":"IF(MAX('3-3 위험성평가'!$A$4:$A$470)+1>E201,VLOOKUP(E201,'3-3 위험성평가'!$A$5:$P$470,4,0),\"\")","v":""},{"$f":"IF(MAX('3-3 위험성평가'!$A$4:$A$470)+1>E201,VLOOKUP(E201,'3-3 위험성평가'!$A$5:$P$470,5,0),\"\")","v":""},{"$f":"IF(MAX('3-3 위험성평가'!$A$4:$A$470)+1>E201,VLOOKUP(E201,'3-3 위험성평가'!$A$5:$P$470,6,0),\"\")","v":""},{"$f":"IF(MAX('3-3 위험성평가'!$A$4:$A$470)+1>E201,VLOOKUP(E201,'3-3 위험성평가'!$A$5:$P$470,9,0),\"\")","v":""},{"$f":"IF(MAX('3-3 위험성평가'!$A$4:$A$536)+1>E201,VLOOKUP(E201,'3-3 위험성평가'!$A$5:$P$536,12,0),\"\")&IF(L201>\"\",\".\"&E201,\"\")","v":""},{"$f":"IF(MAX('3-3 위험성평가'!$A$4:$A$470)+1>E201,VLOOKUP(E201,'3-3 위험성평가'!$A$5:$P$470,13,0),\"\")","v":""},null,"하",null,null,null,null,null,null,null,"선택안함",0,{"$f":"IF(MAX('3-3 위험성평가'!$A$4:$A$470)+1>E201,VLOOKUP(E201,'3-3 위험성평가'!$A$5:$Q$470,17,0),\"\")","v":""},"선택",{"$f":"표지!$D$33","v":"시원건설"},{"$f":"표지!$E$34","v":"김길동4"},"선택안함",0]
["T40",4,{"$f":"\"S\"&D202&IF(OR(AD202=\"선택\",AD202=1),1,0)","v":"S40"},4,194,{"$f":"IF(MAX('3-3 위험성평가'!$A$4:$A$470)+1>E202,VLOOKUP(E202,'3-3 위험성평가'!$A$5:$P$470,2,0),\"\")","v":""},{"$f":"IF(F202=\"\",\"\",VLOOKUP(VALUE(F202),'1-1 사업장 공정 정보'!$D$15:$P$32,5,0))","v":""},{"$f":"IF(MAX('3-3 위험성평가'!$A$4:$A$470)+1>E202,VLOOKUP(E202,'3-3 위험성평가'!$A$5:$P$470,3,0),\"\")","v":""},{"$f":"IF(MAX('3-3 위험성평가'!$A$4:$A$470)+1>E202,VLOOKUP(E202,'3-3 위험성평가'!$A$5:$P$470,4,0),\"\")","v":""},{"$f":"IF(MAX('3-3 위험성평가'!$A$4:$A$470)+1>E202,VLOOKUP(E202,'3-3 위험성평가'!$A$5:$P$470,5,0),\"\")","v":""},{"$f":"IF(MAX('3-3 위험성평가'!$A$4:$A$470)+1>E202,VLOOKUP(E202,'3-3 위험성평가'!$A$5:$P$470,6,0),\"\")","v":""},{"$f":"IF(MAX('3-3 위험성평가'!$A$4:$A$470)+1>E202,VLOOKUP(E202,'3-3 위험성평가'!$A$5:$P$470,9,0),\"\")","v":""},{"$f":"IF(MAX('3-3 위험성평가'!$A$4:$A$536)+1>E202,VLOOKUP(E202,'3-3 위험성평가'!$A$5:$P$536,12,0),\"\")&IF(L202>\"\",\".\"&E202,\"\")","v":""},{"$f":"IF(MAX('3-3 위험성평가'!$A$4:$A$470)+1>E202,VLOOKUP(E202,'3-3 위험성평가'!$A$5:$P$470,13,0),\"\")","v":""},null,"하",null,null,null,null,null,null,null,"선택안함",{"$f":"IF(OR(X202=\"선택\",X202=1),1,0)","v":0},{"$f":"IF(MAX('3-3 위험성평가'!$A$4:$A$470)+1>E202,VLOOKUP(E202,'3-3 위험성평가'!$A$5:$Q$470,17,0),\"\")","v":""},"선택",{"$f":"표지!$D$33","v":"시원건설"},{"$f":"표지!$E$34","v":"김길동4"},"선택안함",{"$f":"IF(OR(AD202=\"선택\",AD202=1),1,0)","v":0}]
["T40",4,"S40",4,195,{"$f":"IF(MAX('3-3 위험성평가'!$A$4:$A$470)+1>E203,VLOOKUP(E203,'3-3 위험성평가'!$A$5:$P$470,2,0),\"\")","v":""},{"$f":"IF(F203=\"\",\"\",VLOOKUP(VALUE(F203),'1-1 사업장 공정 정보'!$D$15:$P$32,5,0))","v":""},{"$f":"IF(MAX('3-3 위험성평가'!$A$4:$A$470)+1>E203,VLOOKUP(E203,'3-3 위험성평가'!$A$5:$P$470,3,0),\"\")","v":""},{"$f":"IF(MAX('3-3 위험성평가'!$A$4:$A$470)+1>E203,VLOOKUP(E203,'3-3 위험성평가'!$A$5:$P$470,4,0),\"\")","v":""},{"$f":"IF(MAX('3-3 위험성평가'!$A$4:$A$470)+1>E203,VLOOKUP(E203,'3-3 위험성평가'!$A$5:$P$470,5,0),\"\")","v":""},{"$f":"IF(MAX('3-3 위험성평가'!$A$4:$A$470)+1>E203,VLOOKUP(E203,'3-3 위험성평가'!$A$5:$P$470,6,0),\"\")","v":""},{"$f":"IF(MAX('3-3 위험성평가'!$A$4:$A$470)+1>E203,VLOOKUP(E203,'3-3 위험성평가'!$A$5:$P$470,9,0),\"\")","v":""},{"$f":"IF(MAX('3-3 위험성평가'!$A$4:$A$536)+1>E203,VLOOKUP(E203,'3-3 위험성평가'!$A$5:$P$536,12,0),\"\")&IF(L203>\"\",\".\"&E203,\"\")","v":""},{"$f":"IF(MAX('3-3 위험성평가'!$A$4:$A$470)+1>E203,VLOOKUP(E203,'3-3 위험성평가'!$A$5:$P$470,13,0),\"\")","v":""},null,"하",null,null,null,null,null,null,null,"선택안함",0,{"$f":"IF(MAX('3-3 위험성평가'!$A$4:$A$470)+1>E203,VLOOKUP(E203,'3-3 위험성평가'!$A$5:$Q$470,17,0),\"\")","v":""},"선택",{"$f":"표지!$D$33","v":"시원건설"},{"$f":"표지!$E$34","v":"김길동4"},"선택안함",0]
["T40",4,"S40",{"$f":"D203+AE204","v":4},196,{"$f":"IF(MAX('3-3 위험성평가'!$A$4:$A$470)+1>E204,VLOOKUP(E204,'3-3 위험성평가'!$A$5:$P$470,2,0),\"\")","v":""},{"$f":"IF(F204=\"\",\"\",VLOOKUP(VALUE(F204),'1-1 사업장 공정 정보'!$D$15:$P$32,5,0))","v":""},{"$f":"IF(MAX('3-3 위험성평가'!$A$4:$A$470)+1>E204,VLOOKUP(E204,'3-3 위험성평가'!$A$5:$P$470,3,0),\"\")","v":""},{"$f":"IF(MAX('3-3 위험성평가'!$A$4:$A$470)+1>E204,VLOOKUP(E204,'3-3 위험성평가'!$A$5:$P$470,4,0),\"\")","v":""},{"$f":"IF(MAX('3-3 위험성평가'!$A$4:$A$470)+1>E204,VLOOKUP(E204,'3-3 위험성평가'!$A$5:$P$470,5,0),\"\")","v":""},{"$f":"IF(MAX('3-3 위험성평가'!$A$4:$A$470)+1>E204,VLOOKUP(E204,'3-3 위험성평가'!$A$5:$P$470,6,0),\"\")","v":""},{"$f":"IF(MAX('3-3 위험성평가'!$A$4:$A$470)+1>E204,VLOOKUP(E204,'3-3 위험성평가'!$A$5:$P$470,9,0),\"\")","v":""},{"$f":"IF(MAX('3-3 위험성평가'!$A$4:$A$536)+1>E204,VLOOKUP(E204,'3-3 위험성평가'!$A$5:$P$536,12,0),\"\")&IF(L204>\"\",\".\"&E204,\"\")","v":""},{"$f":"IF(MAX('3-3 위험성평가'!$A$4:$A$470)+1>E204,VLOOKUP(E204,'3-3 위험성평가'!$A$5:$P$470,13,0),\"\")","v":""},null,"하",null,null,null,null,null,null,null,"선택안함",0,{"$f":"IF(MAX('3-3 위험성평가'!$A$4:$A$470)+1>E204,VLOOKUP(E204,'3-3 위험성평가'!$A$5:$Q$470,17,0),\"\")","v":""},"선택",{"$f":"표지!$D$33","v":"시원건설"},{"$f":"표지!$E$34","v":"김길동4"},"선택안함",0]
["T40",4,"S40",4,197,{"$f":"IF(MAX('3-3 위험성평가'!$A$4:$A$470)+1>E205,VLOOKUP(E205,'3-3 위험성평가'!$A$5:$P$470,2,0),\"\")","v":""},{"$f":"IF(F205=\"\",\"\",VLOOKUP(VALUE(F205),'1-1 사업장 공정 정보'!$D$15:$P$32,5,0))","v":""},{"$f":"IF(MAX('3-3 위험성평가'!$A$4:$A$470)+1>E205,VLOOKUP(E205,'3-3 위험성평가'!$A$5:$P$470,3,0),\"\")","v":""},{"$f":"IF(MAX('3-3 위험성평가'!$A$4:$A$470)+1>E205,VLOOKUP(E205,'3-3 위험성평가'!$A$5:$P$470,4,0),\"\")","v":""},{"$f":"IF(MAX('3-3 위험성평가'!$A$4:$A$470)+1>E205,VLOOKUP(E205,'3-3 위험성평가'!$A$5:$P$470,5,0),\"\")","v":""},{"$f":"IF(MAX('3-3 위험성평가'!$A$4:$A$470)+1>E205,VLOOKUP(E205,'3-3 위험성평가'!$A$5:$P$470,6,0),\"\")","v":""},{"$f":"IF(MAX('3-3 위험성평가'!$A$4:$A$470)+1>E205,VLOOKUP(E205,'3-3 위험성평가'!$A$5:$P$470,9,0),\"\")","v":""},{"$f":"IF(MAX('3-3 위험성평가'!$A$4:$A$536)+1>E205,VLOOKUP(E205,'3-3 위험성평가'!$A$5:$P$536,12,0),\"\")&IF(L205>\"\",\".\"&E205,\"\")","v":""},{"$f":"IF(MAX('3-3 위험성평가'!$A$4:$A$470)+1>E205,VLOOKUP(E205,'3-3 위험성평가'!$A$5:$P$470,13,0),\"\")","v":""},null,"하",null,null,null,null,null,null,null,"선택안함",0,{"$f":"IF(MAX('3-3 위험성평가'!$A$4:$A$470)+1>E205,VLOOKUP(E205,'3-3 위험성평가'!$A$5:$Q$470,17,0),\"\")","v":""},"선택",{"$f":"표지!$D$33","v":"시원건설"},{"$f":"표지!$E$34","v":"김길동4"},"선택안함",0]
["T40",4,"S40",4,198,{"$f":"IF(MAX('3-3 위험성평가'!$A$4:$A$470)+1>E206,VLOOKUP(E206,'3-3 위험성평가'!$A$5:$P$470,2,0),\"\")","v":""},{"$f":"IF(F206=\"\",\"\",VLOOKUP(VALUE(F206),'1-1 사업장 공정 정보'!$D$15:$P$32,5,0))","v":""},{"$f":"IF(MAX('3-3 위험성평가'!$A$4:$A$470)+1>E206,VLOOKUP(E206,'3-3 위험성평가'!$A$5:$P$470,3,0),\"\")","v":""},{"$f":"IF(MAX('3-3 위험성평가'!$A$4:$A$470)+1>E206,VLOOKUP(E206,'3-3 위험성평가'!$A$5:$P$470,4,0),\"\")","v":""},{"$f":"IF(MAX('3-3 위험성평가'!$A$4:$A$470)+1>E206,VLOOKUP(E206,'3-3 위험성평가'!$A$5:$P$470,5,0),\"\")","v":""},{"$f":"IF(MAX('3-3 위험성평가'!$A$4:$A$470)+1>E206,VLOOKUP(E206,'3-3 위험성평가'!$A$5:$P$470,6,0),\"\")","v":""},{"$f":"IF(MAX('3-3 위험성평가'!$A$4:$A$470)+1>E206,VLOOKUP(E206,'3-3 위험성평가'!$A$5:$P$470,9,0),\"\")","v":""},{"$f":"IF(MAX('3-3 위험성평가'!$A$4:$A$536)+1>E206,VLOOKUP(E206,'3-3 위험성평가'!$A$5:$P$536,12,0),\"\")&IF(L206>\"\",\".\"&E206,\"\")","v":""},{"$f":"IF(MAX('3-3 위험성평가'!$A$4:$A$470)+1>E206,VLOOKUP(E206,'3-3 위험성평가'!$A$5:$P$470,13,0),\"\")","v":""},null,"하",null,null,null,null,null,null,null,"선택안함",0,{"$f":"IF(MAX('3-3 위험성평가'!$A$4:$A$470)+1>E206,VLOOKUP(E206,'3-3 위험성평가'!$A$5:$Q$470,17,0),\"\")","v":""},"선택",{"$f":"표지!$D$33","v":"시원건설"},{"$f":"표지!$E$34","v":"김길동4"},"선택안함",0]
["T40",4,"S40",4,199,{"$f":"IF(MAX('3-3 위험성평가'!$A$4:$A$470)+1>E207,VLOOKUP(E207,'3-3 위험성평가'!$A$5:$P$470,2,0),\"\")","v":""},{"$f":"IF(F207=\"\",\"\",VLOOKUP(VALUE(F207),'1-1 사업장 공정 정보'!$D$15:$P$32,5,0))","v":""},{"$f":"IF(MAX('3-3 위험성평가'!$A$4:$A$470)+1>E207,VLOOKUP(E207,'3-3 위험성평가'!$A$5:$P$470,3,0),\"\")","v":""},{"$f":"IF(MAX('3-3 위험성평가'!$A$4:$A$470)+1>E207,VLOOKUP(E207,'3-3 위험성평가'!$A$5:$P$470,4,0),\"\")","v":""},{"$f":"IF(MAX('3-3 위험성평가'!$A$4:$A$470)+1>E207,VLOOKUP(E207,'3-3 위험성평가'!$A$5:$P$470,5,0),\"\")","v":""},{"$f":"IF(MAX('3-3 위험성평가'!$A$4:$A$470)+1>E207,VLOOKUP(E207,'3-3 위험성평가'!$A$5:$P$470,6,0),\"\")","v":""},{"$f":"IF(MAX('3-3 위험성평가'!$A$4:$A$470)+1>E207,VLOOKUP(E207,'3-3 위험성평가'!$A$5:$P$470,9,0),\"\")","v":""},{"$f":"IF(MAX('3-3 위험성평가'!$A$4:$A$536)+1>E207,VLOOKUP(E207,'3-3 위험성평가'!$A$5:$P$536,12,0),\"\")&IF(L207>\"\",\".\"&E207,\"\")","v":""},{"$f":"IF(MAX('3-3 위험성평가'!$A$4:$A$470)+1>E207,VLOOKUP(E207,'3-3 위험성평가'!$A$5:$P$470,13,0),\"\")","v":""},null,"하",null,null,null,null,null,null,null,"선택안함",0,{"$f":"IF(MAX('3-3 위험성평가'!$A$4:$A$470)+1>E207,VLOOKUP(E207,'3-3 위험성평가'!$A$5:$Q$470,17,0),\"\")","v":""},"선택",{"$f":"표지!$D$33","v":"시원건설"},{"$f":"표지!$E$34","v":"김길동4"},"선택안함",0]
["T40",4,"S40",4,200,{"$f":"IF(MAX('3-3 위험성평가'!$A$4:$A$470)+1>E208,VLOOKUP(E208,'3-3 위험성평가'!$A$5:$P$470,2,0),\"\")","v":""},{"$f":"IF(F208=\"\",\"\",VLOOKUP(VALUE(F208),'1-1 사업장 공정 정보'!$D$15:$P$32,5,0))","v":""},{"$f":"IF(MAX('3-3 위험성평가'!$A$4:$A$470)+1>E208,VLOOKUP(E208,'3-3 위험성평가'!$A$5:$P$470,3,0),\"\")","v":""},{"$f":"IF(MAX('3-3 위험성평가'!$A$4:$A$470)+1>E208,VLOOKUP(E208,'3-3 위험성평가'!$A$5:$P$470,4,0),\"\")","v":""},{"$f":"IF(MAX('3-3 위험성평가'!$A$4:$A$470)+1>E208,VLOOKUP(E208,'3-3 위험성평가'!$A$5:$P$470,5,0),\"\")","v":""},{"$f":"IF(MAX('3-3 위험성평가'!$A$4:$A$470)+1>E208,VLOOKUP(E208,'3-3 위험성평가'!$A$5:$P$470,6,0),\"\")","v":""},{"$f":"IF(MAX('3-3 위험성평가'!$A$4:$A$470)+1>E208,VLOOKUP(E208,'3-3 위험성평가'!$A$5:$P$470,9,0),\"\")","v":""},{"$f":"IF(MAX('3-3 위험성평가'!$A$4:$A$536)+1>E208,VLOOKUP(E208,'3-3 위험성평가'!$A$5:$P$536,12,0),\"\")&IF(L208>\"\",\".\"&E208,\"\")","v":""},{"$f":"IF(MAX('3-3 위험성평가'!$A$4:$A$470)+1>E208,VLOOKUP(E208,'3-3 위험성평가'!$A$5:$P$470,13,0),\"\")","v":""},null,"하",null,null,null,null,null,null,null,"선택안함",0,{"$f":"IF(MAX('3-3 위험성평가'!$A$4:$A$470)+1>E208,VLOOKUP(E208,'3-3 위험성평가'!$A$5:$Q$470,17,0),\"\")","v":""},"선택",{"$f":"표지!$D$33","v":"시원건설"},{"$f":"표지!$E$34","v":"김길동4"},"선택안함",0]
["T40",4,"S40",4,201,{"$f":"IF(MAX('3-3 위험성평가'!$A$4:$A$470)+1>E209,VLOOKUP(E209,'3-3 위험성평가'!$A$5:$P$470,2,0),\"\")","v":""},{"$f":"IF(F209=\"\",\"\",VLOOKUP(VALUE(F209),'1-1 사업장 공정 정보'!$D$15:$P$32,5,0))","v":""},{"$f":"IF(MAX('3-3 위험성평가'!$A$4:$A$470)+1>E209,VLOOKUP(E209,'3-3 위험성평가'!$A$5:$P$470,3,0),\"\")","v":""},{"$f":"IF(MAX('3-3 위험성평가'!$A$4:$A$470)+1>E209,VLOOKUP(E209,'3-3 위험성평가'!$A$5:$P$470,4,0),\"\")","v":""},{"$f":"IF(MAX('3-3 위험성평가'!$A$4:$A$470)+1>E209,VLOOKUP(E209,'3-3 위험성평가'!$A$5:$P$470,5,0),\"\")","v":""},{"$f":"IF(MAX('3-3 위험성평가'!$A$4:$A$470)+1>E209,VLOOKUP(E209,'3-3 위험성평가'!$A$5:$P$470,6,0),\"\")","v":""},{"$f":"IF(MAX('3-3 위험성평가'!$A$4:$A$470)+1>E209,VLOOKUP(E209,'3-3 위험성평가'!$A$5:$P$470,9,0),\"\")","v":""},{"$f":"IF(MAX('3-3 위험성평가'!$A$4:$A$536)+1>E209,VLOOKUP(E209,'3-3 위험성평가'!$A$5:$P$536,12,0),\"\")&IF(L209>\"\",\".\"&E209,\"\")","v":""},{"$f":"IF(MAX('3-3 위험성평가'!$A$4:$A$470)+1>E209,VLOOKUP(E209,'3-3 위험성평가'!$A$5:$P$470,13,0),\"\")","v":""},null,"하",null,null,null,null,null,null,null,"선택안함",0,{"$f":"IF(MAX('3-3 위험성평가'!$A$4:$A$470)+1>E209,VLOOKUP(E209,'3-3 위험성평가'!$A$5:$Q$470,17,0),\"\")","v":""},"선택",{"$f":"표지!$D$33","v":"시원건설"},{"$f":"표지!$E$34","v":"김길동4"},"선택안함",0]
["T40",4,"S40",4,202,{"$f":"IF(MAX('3-3 위험성평가'!$A$4:$A$470)+1>E210,VLOOKUP(E210,'3-3 위험성평가'!$A$5:$P$470,2,0),\"\")","v":""},{"$f":"IF(F210=\"\",\"\",VLOOKUP(VALUE(F210),'1-1 사업장 공정 정보'!$D$15:$P$32,5,0))","v":""},{"$f":"IF(MAX('3-3 위험성평가'!$A$4:$A$470)+1>E210,VLOOKUP(E210,'3-3 위험성평가'!$A$5:$P$470,3,0),\"\")","v":""},{"$f":"IF(MAX('3-3 위험성평가'!$A$4:$A$470)+1>E210,VLOOKUP(E210,'3-3 위험성평가'!$A$5:$P$470,4,0),\"\")","v":""},{"$f":"IF(MAX('3-3 위험성평가'!$A$4:$A$470)+1>E210,VLOOKUP(E210,'3-3 위험성평가'!$A$5:$P$470,5,0),\"\")","v":""},{"$f":"IF(MAX('3-3 위험성평가'!$A$4:$A$470)+1>E210,VLOOKUP(E210,'3-3 위험성평가'!$A$5:$P$470,6,0),\"\")","v":""},{"$f":"IF(MAX('3-3 위험성평가'!$A$4:$A$470)+1>E210,VLOOKUP(E210,'3-3 위험성평가'!$A$5:$P$470,9,0),\"\")","v":""},{"$f":"IF(MAX('3-3 위험성평가'!$A$4:$A$536)+1>E210,VLOOKUP(E210,'3-3 위험성평가'!$A$5:$P$536,12,0),\"\")&IF(L210>\"\",\".\"&E210,\"\")","v":""},{"$f":"IF(MAX('3-3 위험성평가'!$A$4:$A$470)+1>E210,VLOOKUP(E210,'3-3 위험성평가'!$A$5:$P$470,13,0),\"\")","v":""},null,"하",null,null,null,null,null,null,null,"선택안함",0,{"$f":"IF(MAX('3-3 위험성평가'!$A$4:$A$470)+1>E210,VLOOKUP(E210,'3-3 위험성평가'!$A$5:$Q$470,17,0),\"\")","v":""},"선택",{"$f":"표지!$D$33","v":"시원건설"},{"$f":"표지!$E$34","v":"김길동4"},"선택안함",0]
["T40",4,"S40",4,203,{"$f":"IF(MAX('3-3 위험성평가'!$A$4:$A$470)+1>E211,VLOOKUP(E211,'3-3 위험성평가'!$A$5:$P$470,2,0),\"\")","v":""},{"$f":"IF(F211=\"\",\"\",VLOOKUP(VALUE(F211),'1-1 사업장 공정 정보'!$D$15:$P$32,5,0))","v":""},{"$f":"IF(MAX('3-3 위험성평가'!$A$4:$A$470)+1>E211,VLOOKUP(E211,'3-3 위험성평가'!$A$5:$P$470,3,0),\"\")","v":""},{"$f":"IF(MAX('3-3 위험성평가'!$A$4:$A$470)+1>E211,VLOOKUP(E211,'3-3 위험성평가'!$A$5:$P$470,4,0),\"\")","v":""},{"$f":"IF(MAX('3-3 위험성평가'!$A$4:$A$470)+1>E211,VLOOKUP(E211,'3-3 위험성평가'!$A$5:$P$470,5,0),\"\")","v":""},{"$f":"IF(MAX('3-3 위험성평가'!$A$4:$A$470)+1>E211,VLOOKUP(E211,'3-3 위험성평가'!$A$5:$P$470,6,0),\"\")","v":""},{"$f":"IF(MAX('3-3 위험성평가'!$A$4:$A$470)+1>E211,VLOOKUP(E211,'3-3 위험성평가'!$A$5:$P$470,9,0),\"\")","v":""},{"$f":"IF(MAX('3-3 위험성평가'!$A$4:$A$536)+1>E211,VLOOKUP(E211,'3-3 위험성평가'!$A$5:$P$536,12,0),\"\")&IF(L211>\"\",\".\"&E211,\"\")","v":""},{"$f":"IF(MAX('3-3 위험성평가'!$A$4:$A$470)+1>E211,VLOOKUP(E211,'3-3 위험성평가'!$A$5:$P$470,13,0),\"\")","v":""},null,"하",null,null,null,null,null,null,null,"선택안함",0,{"$f":"IF(MAX('3-3 위험성평가'!$A$4:$A$470)+1>E211,VLOOKUP(E211,'3-3 위험성평가'!$A$5:$Q$470,17,0),\"\")","v":""},"선택",{"$f":"표지!$D$33","v":"시원건설"},{"$f":"표지!$E$34","v":"김길동4"},"선택안함",0]
["T40",4,"S40",4,204,{"$f":"IF(MAX('3-3 위험성평가'!$A$4:$A$470)+1>E212,VLOOKUP(E212,'3-3 위험성평가'!$A$5:$P$470,2,0),\"\")","v":""},{"$f":"IF(F212=\"\",\"\",VLOOKUP(VALUE(F212),'1-1 사업장 공정 정보'!$D$15:$P$32,5,0))","v":""},{"$f":"IF(MAX('3-3 위험성평가'!$A$4:$A$470)+1>E212,VLOOKUP(E212,'3-3 위험성평가'!$A$5:$P$470,3,0),\"\")","v":""},{"$f":"IF(MAX('3-3 위험성평가'!$A$4:$A$470)+1>E212,VLOOKUP(E212,'3-3 위험성평가'!$A$5:$P$470,4,0),\"\")","v":""},{"$f":"IF(MAX('3-3 위험성평가'!$A$4:$A$470)+1>E212,VLOOKUP(E212,'3-3 위험성평가'!$A$5:$P$470,5,0),\"\")","v":""},{"$f":"IF(MAX('3-3 위험성평가'!$A$4:$A$470)+1>E212,VLOOKUP(E212,'3-3 위험성평가'!$A$5:$P$470,6,0),\"\")","v":""},{"$f":"IF(MAX('3-3 위험성평가'!$A$4:$A$470)+1>E212,VLOOKUP(E212,'3-3 위험성평가'!$A$5:$P$470,9,0),\"\")","v":""},{"$f":"IF(MAX('3-3 위험성평가'!$A$4:$A$536)+1>E212,VLOOKUP(E212,'3-3 위험성평가'!$A$5:$P$536,12,0),\"\")&IF(L212>\"\",\".\"&E212,\"\")","v":""},{"$f":"IF(MAX('3-3 위험성평가'!$A$4:$A$470)+1>E212,VLOOKUP(E212,'3-3 위험성평가'!$A$5:$P$470,13,0),\"\")","v":""},null,"하",null,null,null,null,null,null,null,"선택안함",0,{"$f":"IF(MAX('3-3 위험성평가'!$A$4:$A$470)+1>E212,VLOOKUP(E212,'3-3 위험성평가'!$A$5:$Q$470,17,0),\"\")","v":""},"선택",{"$f":"표지!$D$33","v":"시원건설"},{"$f":"표지!$E$34","v":"김길동4"},"선택안함",0]
["T40",4,"S40",4,205,{"$f":"IF(MAX('3-3 위험성평가'!$A$4:$A$470)+1>E213,VLOOKUP(E213,'3-3 위험성평가'!$A$5:$P$470,2,0),\"\")","v":""},{"$f":"IF(F213=\"\",\"\",VLOOKUP(VALUE(F213),'1-1 사업장 공정 정보'!$D$15:$P$32,5,0))","v":""},{"$f":"IF(MAX('3-3 위험성평가'!$A$4:$A$470)+1>E213,VLOOKUP(E213,'3-3 위험성평가'!$A$5:$P$470,3,0),\"\")","v":""},{"$f":"IF(MAX('3-3 위험성평가'!$A$4:$A$470)+1>E213,VLOOKUP(E213,'3-3 위험성평가'!$A$5:$P$470,4,0),\"\")","v":""},{"$f":"IF(MAX('3-3 위험성평가'!$A$4:$A$470)+1>E213,VLOOKUP(E213,'3-3 위험성평가'!$A$5:$P$470,5,0),\"\")","v":""},{"$f":"IF(MAX('3-3 위험성평가'!$A$4:$A$470)+1>E213,VLOOKUP(E213,'3-3 위험성평가'!$A$5:$P$470,6,0),\"\")","v":""},{"$f":"IF(MAX('3-3 위험성평가'!$A$4:$A$470)+1>E213,VLOOKUP(E213,'3-3 위험성평가'!$A$5:$P$470,9,0),\"\")","v":""},{"$f":"IF(MAX('3-3 위험성평가'!$A$4:$A$536)+1>E213,VLOOKUP(E213,'3-3 위험성평가'!$A$5:$P$536,12,0),\"\")&IF(L213>\"\",\".\"&E213,\"\")","v":""},{"$f":"IF(MAX('3-3 위험성평가'!$A$4:$A$470)+1>E213,VLOOKUP(E213,'3-3 위험성평가'!$A$5:$P$470,13,0),\"\")","v":""},null,"하",null,null,null,null,null,null,null,"선택안함",0,{"$f":"IF(MAX('3-3 위험성평가'!$A$4:$A$470)+1>E213,VLOOKUP(E213,'3-3 위험성평가'!$A$5:$Q$470,17,0),\"\")","v":""},"선택",{"$f":"표지!$D$33","v":"시원건설"},{"$f":"표지!$E$34","v":"김길동4"},"선택안함",0]
["T40",4,"S40",4,206,{"$f":"IF(MAX('3-3 위험성평가'!$A$4:$A$470)+1>E214,VLOOKUP(E214,'3-3 위험성평가'!$A$5:$P$470,2,0),\"\")","v":""},{"$f":"IF(F214=\"\",\"\",VLOOKUP(VALUE(F214),'1-1 사업장 공정 정보'!$D$15:$P$32,5,0))","v":""},{"$f":"IF(MAX('3-3 위험성평가'!$A$4:$A$470)+1>E214,VLOOKUP(E214,'3-3 위험성평가'!$A$5:$P$470,3,0),\"\")","v":""},{"$f":"IF(MAX('3-3 위험성평가'!$A$4:$A$470)+1>E214,VLOOKUP(E214,'3-3 위험성평가'!$A$5:$P$470,4,0),\"\")","v":""},{"$f":"IF(MAX('3-3 위험성평가'!$A$4:$A$470)+1>E214,VLOOKUP(E214,'3-3 위험성평가'!$A$5:$P$470,5,0),\"\")","v":""},{"$f":"IF(MAX('3-3 위험성평가'!$A$4:$A$470)+1>E214,VLOOKUP(E214,'3-3 위험성평가'!$A$5:$P$470,6,0),\"\")","v":""},{"$f":"IF(MAX('3-3 위험성평가'!$A$4:$A$470)+1>E214,VLOOKUP(E214,'3-3 위험성평가'!$A$5:$P$470,9,0),\"\")","v":""},{"$f":"IF(MAX('3-3 위험성평가'!$A$4:$A$536)+1>E214,VLOOKUP(E214,'3-3 위험성평가'!$A$5:$P$536,12,0),\"\")&IF(L214>\"\",\".\"&E214,\"\")","v":""},{"$f":"IF(MAX('3-3 위험성평가'!$A$4:$A$470)+1>E214,VLOOKUP(E214,'3-3 위험성평가'!$A$5:$P$470,13,0),\"\")","v":""},null,"하",null,null,null,null,null,null,null,"선택안함",0,{"$f":"IF(MAX('3-3 위험성평가'!$A$4:$A$470)+1>E214,VLOOKUP(E214,'3-3 위험성평가'!$A$5:$Q$470,17,0),\"\")","v":""},"선택",{"$f":"표지!$D$33","v":"시원건설"},{"$f":"표지!$E$34","v":"김길동4"},"선택안함",0]
["T40",4,"S40",4,207,{"$f":"IF(MAX('3-3 위험성평가'!$A$4:$A$470)+1>E215,VLOOKUP(E215,'3-3 위험성평가'!$A$5:$P$470,2,0),\"\")","v":""},{"$f":"IF(F215=\"\",\"\",VLOOKUP(VALUE(F215),'1-1 사업장 공정 정보'!$D$15:$P$32,5,0))","v":""},{"$f":"IF(MAX('3-3 위험성평가'!$A$4:$A$470)+1>E215,VLOOKUP(E215,'3-3 위험성평가'!$A$5:$P$470,3,0),\"\")","v":""},{"$f":"IF(MAX('3-3 위험성평가'!$A$4:$A$470)+1>E215,VLOOKUP(E215,'3-3 위험성평가'!$A$5:$P$470,4,0),\"\")","v":""},{"$f":"IF(MAX('3-3 위험성평가'!$A$4:$A$470)+1>E215,VLOOKUP(E215,'3-3 위험성평가'!$A$5:$P$470,5,0),\"\")","v":""},{"$f":"IF(MAX('3-3 위험성평가'!$A$4:$A$470)+1>E215,VLOOKUP(E215,'3-3 위험성평가'!$A$5:$P$470,6,0),\"\")","v":""},{"$f":"IF(MAX('3-3 위험성평가'!$A$4:$A$470)+1>E215,VLOOKUP(E215,'3-3 위험성평가'!$A$5:$P$470,9,0),\"\")","v":""},{"$f":"IF(MAX('3-3 위험성평가'!$A$4:$A$536)+1>E215,VLOOKUP(E215,'3-3 위험성평가'!$A$5:$P$536,12,0),\"\")&IF(L215>\"\",\".\"&E215,\"\")","v":""},{"$f":"IF(MAX('3-3 위험성평가'!$A$4:$A$470)+1>E215,VLOOKUP(E215,'3-3 위험성평가'!$A$5:$P$470,13,0),\"\")","v":""},null,"하",null,null,null,null,null,null,null,"선택안함",0,{"$f":"IF(MAX('3-3 위험성평가'!$A$4:$A$470)+1>E215,VLOOKUP(E215,'3-3 위험성평가'!$A$5:$Q$470,17,0),\"\")","v":""},"선택",{"$f":"표지!$D$33","v":"시원건설"},{"$f":"표지!$E$34","v":"김길동4"},"선택안함",0]
["T40",4,"S40",4,208,{"$f":"IF(MAX('3-3 위험성평가'!$A$4:$A$470)+1>E216,VLOOKUP(E216,'3-3 위험성평가'!$A$5:$P$470,2,0),\"\")","v":""},{"$f":"IF(F216=\"\",\"\",VLOOKUP(VALUE(F216),'1-1 사업장 공정 정보'!$D$15:$P$32,5,0))","v":""},{"$f":"IF(MAX('3-3 위험성평가'!$A$4:$A$470)+1>E216,VLOOKUP(E216,'3-3 위험성평가'!$A$5:$P$470,3,0),\"\")","v":""},{"$f":"IF(MAX('3-3 위험성평가'!$A$4:$A$470)+1>E216,VLOOKUP(E216,'3-3 위험성평가'!$A$5:$P$470,4,0),\"\")","v":""},{"$f":"IF(MAX('3-3 위험성평가'!$A$4:$A$470)+1>E216,VLOOKUP(E216,'3-3 위험성평가'!$A$5:$P$470,5,0),\"\")","v":""},{"$f":"IF(MAX('3-3 위험성평가'!$A$4:$A$470)+1>E216,VLOOKUP(E216,'3-3 위험성평가'!$A$5:$P$470,6,0),\"\")","v":""},{"$f":"IF(MAX('3-3 위험성평가'!$A$4:$A$470)+1>E216,VLOOKUP(E216,'3-3 위험성평가'!$A$5:$P$470,9,0),\"\")","v":""},{"$f":"IF(MAX('3-3 위험성평가'!$A$4:$A$536)+1>E216,VLOOKUP(E216,'3-3 위험성평가'!$A$5:$P$536,12,0),\"\")&IF(L216>\"\",\".\"&E216,\"\")","v":""},{"$f":"IF(MAX('3-3 위험성평가'!$A$4:$A$470)+1>E216,VLOOKUP(E216,'3-3 위험성평가'!$A$5:$P$470,13,0),\"\")","v":""},null,"하",null,null,null,null,null,null,null,"선택안함",0,{"$f":"IF(MAX('3-3 위험성평가'!$A$4:$A$470)+1>E216,VLOOKUP(E216,'3-3 위험성평가'!$A$5:$Q$470,17,0),\"\")","v":""},"선택",{"$f":"표지!$D$33","v":"시원건설"},{"$f":"표지!$E$34","v":"김길동4"},"선택안함",0]
["T40",4,"S40",4,209,{"$f":"IF(MAX('3-3 위험성평가'!$A$4:$A$470)+1>E217,VLOOKUP(E217,'3-3 위험성평가'!$A$5:$P$470,2,0),\"\")","v":""},{"$f":"IF(F217=\"\",\"\",VLOOKUP(VALUE(F217),'1-1 사업장 공정 정보'!$D$15:$P$32,5,0))","v":""},{"$f":"IF(MAX('3-3 위험성평가'!$A$4:$A$470)+1>E217,VLOOKUP(E217,'3-3 위험성평가'!$A$5:$P$470,3,0),\"\")","v":""},{"$f":"IF(MAX('3-3 위험성평가'!$A$4:$A$470)+1>E217,VLOOKUP(E217,'3-3 위험성평가'!$A$5:$P$470,4,0),\"\")","v":""},{"$f":"IF(MAX('3-3 위험성평가'!$A$4:$A$470)+1>E217,VLOOKUP(E217,'3-3 위험성평가'!$A$5:$P$470,5,0),\"\")","v":""},{"$f":"IF(MAX('3-3 위험성평가'!$A$4:$A$470)+1>E217,VLOOKUP(E217,'3-3 위험성평가'!$A$5:$P$470,6,0),\"\")","v":""},{"$f":"IF(MAX('3-3 위험성평가'!$A$4:$A$470)+1>E217,VLOOKUP(E217,'3-3 위험성평가'!$A$5:$P$470,9,0),\"\")","v":""},{"$f":"IF(MAX('3-3 위험성평가'!$A$4:$A$536)+1>E217,VLOOKUP(E217,'3-3 위험성평가'!$A$5:$P$536,12,0),\"\")&IF(L217>\"\",\".\"&E217,\"\")","v":""},{"$f":"IF(MAX('3-3 위험성평가'!$A$4:$A$470)+1>E217,VLOOKUP(E217,'3-3 위험성평가'!$A$5:$P$470,13,0),\"\")","v":""},null,"하",null,null,null,null,null,null,null,"선택안함",0,{"$f":"IF(MAX('3-3 위험성평가'!$A$4:$A$470)+1>E217,VLOOKUP(E217,'3-3 위험성평가'!$A$5:$Q$470,17,0),\"\")","v":""},"선택",{"$f":"표지!$D$33","v":"시원건설"},{"$f":"표지!$E$34","v":"김길동4"},"선택안함",0]
["T40",{"$f":"B217+Y218","v":4},"S40",4,210,{"$f":"IF(MAX('3-3 위험성평가'!$A$4:$A$470)+1>E218,VLOOKUP(E218,'3-3 위험성평가'!$A$5:$P$470,2,0),\"\")","v":""},{"$f":"IF(F218=\"\",\"\",VLOOKUP(VALUE(F218),'1-1 사업장 공정 정보'!$D$15:$P$32,5,0))","v":""},{"$f":"IF(MAX('3-3 위험성평가'!$A$4:$A$470)+1>E218,VLOOKUP(E218,'3-3 위험성평가'!$A$5:$P$470,3,0),\"\")","v":""},{"$f":"IF(MAX('3-3 위험성평가'!$A$4:$A$470)+1>E218,VLOOKUP(E218,'3-3 위험성평가'!$A$5:$P$470,4,0),\"\")","v":""},{"$f":"IF(MAX('3-3 위험성평가'!$A$4:$A$470)+1>E218,VLOOKUP(E218,'3-3 위험성평가'!$A$5:$P$470,5,0),\"\")","v":""},{"$f":"IF(MAX('3-3 위험성평가'!$A$4:$A$470)+1>E218,VLOOKUP(E218,'3-3 위험성평가'!$A$5:$P$470,6,0),\"\")","v":""},{"$f":"IF(MAX('3-3 위험성평가'!$A$4:$A$470)+1>E218,VLOOKUP(E218,'3-3 위험성평가'!$A$5:$P$470,9,0),\"\")","v":""},{"$f":"IF(MAX('3-3 위험성평가'!$A$4:$A$536)+1>E218,VLOOKUP(E218,'3-3 위험성평가'!$A$5:$P$536,12,0),\"\")&IF(L218>\"\",\".\"&E218,\"\")","v":""},{"$f":"IF(MAX('3-3 위험성평가'!$A$4:$A$470)+1>E218,VLOOKUP(E218,'3-3 위험성평가'!$A$5:$P$470,13,0),\"\")","v":""},null,"하",null,null,null,null,null,null,null,"선택안함",0,{"$f":"IF(MAX('3-3 위험성평가'!$A$4:$A$470)+1>E218,VLOOKUP(E218,'3-3 위험성평가'!$A$5:$Q$470,17,0),\"\")","v":""},"선택",{"$f":"표지!$D$33","v":"시원건설"},{"$f":"표지!$E$34","v":"김길동4"},"선택안함",0]
["T40",4,"S40",4,211,{"$f":"IF(MAX('3-3 위험성평가'!$A$4:$A$470)+1>E219,VLOOKUP(E219,'3-3 위험성평가'!$A$5:$P$470,2,0),\"\")","v":""},{"$f":"IF(F219=\"\",\"\",VLOOKUP(VALUE(F219),'1-1 사업장 공정 정보'!$D$15:$P$32,5,0))","v":""},{"$f":"IF(MAX('3-3 위험성평가'!$A$4:$A$470)+1>E219,VLOOKUP(E219,'3-3 위험성평가'!$A$5:$P$470,3,0),\"\")","v":""},{"$f":"IF(MAX('3-3 위험성평가'!$A$4:$A$470)+1>E219,VLOOKUP(E219,'3-3 위험성평가'!$A$5:$P$470,4,0),\"\")","v":""},{"$f":"IF(MAX('3-3 위험성평가'!$A$4:$A$470)+1>E219,VLOOKUP(E219,'3-3 위험성평가'!$A$5:$P$470,5,0),\"\")","v":""},{"$f":"IF(MAX('3-3 위험성평가'!$A$4:$A$470)+1>E219,VLOOKUP(E219,'3-3 위험성평가'!$A$5:$P$470,6,0),\"\")","v":""},{"$f":"IF(MAX('3-3 위험성평가'!$A$4:$A$470)+1>E219,VLOOKUP(E219,'3-3 위험성평가'!$A$5:$P$470,9,0),\"\")","v":""},{"$f":"IF(MAX('3-3 위험성평가'!$A$4:$A$536)+1>E219,VLOOKUP(E219,'3-3 위험성평가'!$A$5:$P$536,12,0),\"\")&IF(L219>\"\",\".\"&E219,\"\")","v":""},{"$f":"IF(MAX('3-3 위험성평가'!$A$4:$A$470)+1>E219,VLOOKUP(E219,'3-3 위험성평가'!$A$5:$P$470,13,0),\"\")","v":""},null,"하",null,null,null,null,null,null,null,"선택안함",0,{"$f":"IF(MAX('3-3 위험성평가'!$A$4:$A$470)+1>E219,VLOOKUP(E219,'3-3 위험성평가'!$A$5:$Q$470,17,0),\"\")","v":""},"선택",{"$f":"표지!$D$33","v":"시원건설"},{"$f":"표지!$E$34","v":"김길동4"},"선택안함",0]
["T40",4,"S40",4,212,{"$f":"IF(MAX('3-3 위험성평가'!$A$4:$A$470)+1>E220,VLOOKUP(E220,'3-3 위험성평가'!$A$5:$P$470,2,0),\"\")","v":""},{"$f":"IF(F220=\"\",\"\",VLOOKUP(VALUE(F220),'1-1 사업장 공정 정보'!$D$15:$P$32,5,0))","v":""},{"$f":"IF(MAX('3-3 위험성평가'!$A$4:$A$470)+1>E220,VLOOKUP(E220,'3-3 위험성평가'!$A$5:$P$470,3,0),\"\")","v":""},{"$f":"IF(MAX('3-3 위험성평가'!$A$4:$A$470)+1>E220,VLOOKUP(E220,'3-3 위험성평가'!$A$5:$P$470,4,0),\"\")","v":""},{"$f":"IF(MAX('3-3 위험성평가'!$A$4:$A$470)+1>E220,VLOOKUP(E220,'3-3 위험성평가'!$A$5:$P$470,5,0),\"\")","v":""},{"$f":"IF(MAX('3-3 위험성평가'!$A$4:$A$470)+1>E220,VLOOKUP(E220,'3-3 위험성평가'!$A$5:$P$470,6,0),\"\")","v":""},{"$f":"IF(MAX('3-3 위험성평가'!$A$4:$A$470)+1>E220,VLOOKUP(E220,'3-3 위험성평가'!$A$5:$P$470,9,0),\"\")","v":""},{"$f":"IF(MAX('3-3 위험성평가'!$A$4:$A$536)+1>E220,VLOOKUP(E220,'3-3 위험성평가'!$A$5:$P$536,12,0),\"\")&IF(L220>\"\",\".\"&E220,\"\")","v":""},{"$f":"IF(MAX('3-3 위험성평가'!$A$4:$A$470)+1>E220,VLOOKUP(E220,'3-3 위험성평가'!$A$5:$P$470,13,0),\"\")","v":""},null,"하",null,null,null,null,null,null,null,"선택안함",0,{"$f":"IF(MAX('3-3 위험성평가'!$A$4:$A$470)+1>E220,VLOOKUP(E220,'3-3 위험성평가'!$A$5:$Q$470,17,0),\"\")","v":""},"선택",{"$f":"표지!$D$33","v":"시원건설"},{"$f":"표지!$E$34","v":"김길동4"},"선택안함",0]
["T40",4,"S40",4,213,{"$f":"IF(MAX('3-3 위험성평가'!$A$4:$A$470)+1>E221,VLOOKUP(E221,'3-3 위험성평가'!$A$5:$P$470,2,0),\"\")","v":""},{"$f":"IF(F221=\"\",\"\",VLOOKUP(VALUE(F221),'1-1 사업장 공정 정보'!$D$15:$P$32,5,0))","v":""},{"$f":"IF(MAX('3-3 위험성평가'!$A$4:$A$470)+1>E221,VLOOKUP(E221,'3-3 위험성평가'!$A$5:$P$470,3,0),\"\")","v":""},{"$f":"IF(MAX('3-3 위험성평가'!$A$4:$A$470)+1>E221,VLOOKUP(E221,'3-3 위험성평가'!$A$5:$P$470,4,0),\"\")","v":""},{"$f":"IF(MAX('3-3 위험성평가'!$A$4:$A$470)+1>E221,VLOOKUP(E221,'3-3 위험성평가'!$A$5:$P$470,5,0),\"\")","v":""},{"$f":"IF(MAX('3-3 위험성평가'!$A$4:$A$470)+1>E221,VLOOKUP(E221,'3-3 위험성평가'!$A$5:$P$470,6,0),\"\")","v":""},{"$f":"IF(MAX('3-3 위험성평가'!$A$4:$A$470)+1>E221,VLOOKUP(E221,'3-3 위험성평가'!$A$5:$P$470,9,0),\"\")","v":""},{"$f":"IF(MAX('3-3 위험성평가'!$A$4:$A$536)+1>E221,VLOOKUP(E221,'3-3 위험성평가'!$A$5:$P$536,12,0),\"\")&IF(L221>\"\",\".\"&E221,\"\")","v":""},{"$f":"IF(MAX('3-3 위험성평가'!$A$4:$A$470)+1>E221,VLOOKUP(E221,'3-3 위험성평가'!$A$5:$P$470,13,0),\"\")","v":""},null,"하",null,null,null,null,null,null,null,"선택안함",0,{"$f":"IF(MAX('3-3 위험성평가'!$A$4:$A$470)+1>E221,VLOOKUP(E221,'3-3 위험성평가'!$A$5:$Q$470,17,0),\"\")","v":""},"선택",{"$f":"표지!$D$33","v":"시원건설"},{"$f":"표지!$E$34","v":"김길동4"},"선택안함",0]
["T40",4,"S40",4,214,{"$f":"IF(MAX('3-3 위험성평가'!$A$4:$A$470)+1>E222,VLOOKUP(E222,'3-3 위험성평가'!$A$5:$P$470,2,0),\"\")","v":""},{"$f":"IF(F222=\"\",\"\",VLOOKUP(VALUE(F222),'1-1 사업장 공정 정보'!$D$15:$P$32,5,0))","v":""},{"$f":"IF(MAX('3-3 위험성평가'!$A$4:$A$470)+1>E222,VLOOKUP(E222,'3-3 위험성평가'!$A$5:$P$470,3,0),\"\")","v":""},{"$f":"IF(MAX('3-3 위험성평가'!$A$4:$A$470)+1>E222,VLOOKUP(E222,'3-3 위험성평가'!$A$5:$P$470,4,0),\"\")","v":""},{"$f":"IF(MAX('3-3 위험성평가'!$A$4:$A$470)+1>E222,VLOOKUP(E222,'3-3 위험성평가'!$A$5:$P$470,5,0),\"\")","v":""},{"$f":"IF(MAX('3-3 위험성평가'!$A$4:$A$470)+1>E222,VLOOKUP(E222,'3-3 위험성평가'!$A$5:$P$470,6,0),\"\")","v":""},{"$f":"IF(MAX('3-3 위험성평가'!$A$4:$A$470)+1>E222,VLOOKUP(E222,'3-3 위험성평가'!$A$5:$P$470,9,0),\"\")","v":""},{"$f":"IF(MAX('3-3 위험성평가'!$A$4:$A$536)+1>E222,VLOOKUP(E222,'3-3 위험성평가'!$A$5:$P$536,12,0),\"\")&IF(L222>\"\",\".\"&E222,\"\")","v":""},{"$f":"IF(MAX('3-3 위험성평가'!$A$4:$A$470)+1>E222,VLOOKUP(E222,'3-3 위험성평가'!$A$5:$P$470,13,0),\"\")","v":""},null,"하",null,null,null,null,null,null,null,"선택안함",0,{"$f":"IF(MAX('3-3 위험성평가'!$A$4:$A$470)+1>E222,VLOOKUP(E222,'3-3 위험성평가'!$A$5:$Q$470,17,0),\"\")","v":""},"선택",{"$f":"표지!$D$33","v":"시원건설"},{"$f":"표지!$E$34","v":"김길동4"},"선택안함",0]
["T40",4,"S40",4,215,{"$f":"IF(MAX('3-3 위험성평가'!$A$4:$A$470)+1>E223,VLOOKUP(E223,'3-3 위험성평가'!$A$5:$P$470,2,0),\"\")","v":""},{"$f":"IF(F223=\"\",\"\",VLOOKUP(VALUE(F223),'1-1 사업장 공정 정보'!$D$15:$P$32,5,0))","v":""},{"$f":"IF(MAX('3-3 위험성평가'!$A$4:$A$470)+1>E223,VLOOKUP(E223,'3-3 위험성평가'!$A$5:$P$470,3,0),\"\")","v":""},{"$f":"IF(MAX('3-3 위험성평가'!$A$4:$A$470)+1>E223,VLOOKUP(E223,'3-3 위험성평가'!$A$5:$P$470,4,0),\"\")","v":""},{"$f":"IF(MAX('3-3 위험성평가'!$A$4:$A$470)+1>E223,VLOOKUP(E223,'3-3 위험성평가'!$A$5:$P$470,5,0),\"\")","v":""},{"$f":"IF(MAX('3-3 위험성평가'!$A$4:$A$470)+1>E223,VLOOKUP(E223,'3-3 위험성평가'!$A$5:$P$470,6,0),\"\")","v":""},{"$f":"IF(MAX('3-3 위험성평가'!$A$4:$A$470)+1>E223,VLOOKUP(E223,'3-3 위험성평가'!$A$5:$P$470,9,0),\"\")","v":""},{"$f":"IF(MAX('3-3 위험성평가'!$A$4:$A$536)+1>E223,VLOOKUP(E223,'3-3 위험성평가'!$A$5:$P$536,12,0),\"\")&IF(L223>\"\",\".\"&E223,\"\")","v":""},{"$f":"IF(MAX('3-3 위험성평가'!$A$4:$A$470)+1>E223,VLOOKUP(E223,'3-3 위험성평가'!$A$5:$P$470,13,0),\"\")","v":""},null,"하",null,null,null,null,null,null,null,"선택안함",0,{"$f":"IF(MAX('3-3 위험성평가'!$A$4:$A$470)+1>E223,VLOOKUP(E223,'3-3 위험성평가'!$A$5:$Q$470,17,0),\"\")","v":""},"선택",{"$f":"표지!$D$33","v":"시원건설"},{"$f":"표지!$E$34","v":"김길동4"},"선택안함",0]
["T40",4,"S40",4,216,{"$f":"IF(MAX('3-3 위험성평가'!$A$4:$A$470)+1>E224,VLOOKUP(E224,'3-3 위험성평가'!$A$5:$P$470,2,0),\"\")","v":""},{"$f":"IF(F224=\"\",\"\",VLOOKUP(VALUE(F224),'1-1 사업장 공정 정보'!$D$15:$P$32,5,0))","v":""},{"$f":"IF(MAX('3-3 위험성평가'!$A$4:$A$470)+1>E224,VLOOKUP(E224,'3-3 위험성평가'!$A$5:$P$470,3,0),\"\")","v":""},{"$f":"IF(MAX('3-3 위험성평가'!$A$4:$A$470)+1>E224,VLOOKUP(E224,'3-3 위험성평가'!$A$5:$P$470,4,0),\"\")","v":""},{"$f":"IF(MAX('3-3 위험성평가'!$A$4:$A$470)+1>E224,VLOOKUP(E224,'3-3 위험성평가'!$A$5:$P$470,5,0),\"\")","v":""},{"$f":"IF(MAX('3-3 위험성평가'!$A$4:$A$470)+1>E224,VLOOKUP(E224,'3-3 위험성평가'!$A$5:$P$470,6,0),\"\")","v":""},{"$f":"IF(MAX('3-3 위험성평가'!$A$4:$A$470)+1>E224,VLOOKUP(E224,'3-3 위험성평가'!$A$5:$P$470,9,0),\"\")","v":""},{"$f":"IF(MAX('3-3 위험성평가'!$A$4:$A$536)+1>E224,VLOOKUP(E224,'3-3 위험성평가'!$A$5:$P$536,12,0),\"\")&IF(L224>\"\",\".\"&E224,\"\")","v":""},{"$f":"IF(MAX('3-3 위험성평가'!$A$4:$A$470)+1>E224,VLOOKUP(E224,'3-3 위험성평가'!$A$5:$P$470,13,0),\"\")","v":""},null,"하",null,null,null,null,null,null,null,"선택안함",0,{"$f":"IF(MAX('3-3 위험성평가'!$A$4:$A$470)+1>E224,VLOOKUP(E224,'3-3 위험성평가'!$A$5:$Q$470,17,0),\"\")","v":""},"선택",{"$f":"표지!$D$33","v":"시원건설"},{"$f":"표지!$E$34","v":"김길동4"},"선택안함",0]
["T40",4,"S40",4,217,{"$f":"IF(MAX('3-3 위험성평가'!$A$4:$A$470)+1>E225,VLOOKUP(E225,'3-3 위험성평가'!$A$5:$P$470,2,0),\"\")","v":""},{"$f":"IF(F225=\"\",\"\",VLOOKUP(VALUE(F225),'1-1 사업장 공정 정보'!$D$15:$P$32,5,0))","v":""},{"$f":"IF(MAX('3-3 위험성평가'!$A$4:$A$470)+1>E225,VLOOKUP(E225,'3-3 위험성평가'!$A$5:$P$470,3,0),\"\")","v":""},{"$f":"IF(MAX('3-3 위험성평가'!$A$4:$A$470)+1>E225,VLOOKUP(E225,'3-3 위험성평가'!$A$5:$P$470,4,0),\"\")","v":""},{"$f":"IF(MAX('3-3 위험성평가'!$A$4:$A$470)+1>E225,VLOOKUP(E225,'3-3 위험성평가'!$A$5:$P$470,5,0),\"\")","v":""},{"$f":"IF(MAX('3-3 위험성평가'!$A$4:$A$470)+1>E225,VLOOKUP(E225,'3-3 위험성평가'!$A$5:$P$470,6,0),\"\")","v":""},{"$f":"IF(MAX('3-3 위험성평가'!$A$4:$A$470)+1>E225,VLOOKUP(E225,'3-3 위험성평가'!$A$5:$P$470,9,0),\"\")","v":""},{"$f":"IF(MAX('3-3 위험성평가'!$A$4:$A$536)+1>E225,VLOOKUP(E225,'3-3 위험성평가'!$A$5:$P$536,12,0),\"\")&IF(L225>\"\",\".\"&E225,\"\")","v":""},{"$f":"IF(MAX('3-3 위험성평가'!$A$4:$A$470)+1>E225,VLOOKUP(E225,'3-3 위험성평가'!$A$5:$P$470,13,0),\"\")","v":""},null,"하",null,null,null,null,null,null,null,"선택안함",0,{"$f":"IF(MAX('3-3 위험성평가'!$A$4:$A$470)+1>E225,VLOOKUP(E225,'3-3 위험성평가'!$A$5:$Q$470,17,0),\"\")","v":""},"선택",{"$f":"표지!$D$33","v":"시원건설"},{"$f":"표지!$E$34","v":"김길동4"},"선택안함",0]
["T40",4,"S40",4,218,{"$f":"IF(MAX('3-3 위험성평가'!$A$4:$A$470)+1>E226,VLOOKUP(E226,'3-3 위험성평가'!$A$5:$P$470,2,0),\"\")","v":""},{"$f":"IF(F226=\"\",\"\",VLOOKUP(VALUE(F226),'1-1 사업장 공정 정보'!$D$15:$P$32,5,0))","v":""},{"$f":"IF(MAX('3-3 위험성평가'!$A$4:$A$470)+1>E226,VLOOKUP(E226,'3-3 위험성평가'!$A$5:$P$470,3,0),\"\")","v":""},{"$f":"IF(MAX('3-3 위험성평가'!$A$4:$A$470)+1>E226,VLOOKUP(E226,'3-3 위험성평가'!$A$5:$P$470,4,0),\"\")","v":""},{"$f":"IF(MAX('3-3 위험성평가'!$A$4:$A$470)+1>E226,VLOOKUP(E226,'3-3 위험성평가'!$A$5:$P$470,5,0),\"\")","v":""},{"$f":"IF(MAX('3-3 위험성평가'!$A$4:$A$470)+1>E226,VLOOKUP(E226,'3-3 위험성평가'!$A$5:$P$470,6,0),\"\")","v":""},{"$f":"IF(MAX('3-3 위험성평가'!$A$4:$A$470)+1>E226,VLOOKUP(E226,'3-3 위험성평가'!$A$5:$P$470,9,0),\"\")","v":""},{"$f":"IF(MAX('3-3 위험성평가'!$A$4:$A$536)+1>E226,VLOOKUP(E226,'3-3 위험성평가'!$A$5:$P$536,12,0),\"\")&IF(L226>\"\",\".\"&E226,\"\")","v":""},{"$f":"IF(MAX('3-3 위험성평가'!$A$4:$A$470)+1>E226,VLOOKUP(E226,'3-3 위험성평가'!$A$5:$P$470,13,0),\"\")","v":""},null,"하",null,null,null,null,null,null,null,"선택안함",0,{"$f":"IF(MAX('3-3 위험성평가'!$A$4:$A$470)+1>E226,VLOOKUP(E226,'3-3 위험성평가'!$A$5:$Q$470,17,0),\"\")","v":""},"선택",{"$f":"표지!$D$33","v":"시원건설"},{"$f":"표지!$E$34","v":"김길동4"},"선택안함",0]
["T40",4,"S40",4,219,{"$f":"IF(MAX('3-3 위험성평가'!$A$4:$A$470)+1>E227,VLOOKUP(E227,'3-3 위험성평가'!$A$5:$P$470,2,0),\"\")","v":""},{"$f":"IF(F227=\"\",\"\",VLOOKUP(VALUE(F227),'1-1 사업장 공정 정보'!$D$15:$P$32,5,0))","v":""},{"$f":"IF(MAX('3-3 위험성평가'!$A$4:$A$470)+1>E227,VLOOKUP(E227,'3-3 위험성평가'!$A$5:$P$470,3,0),\"\")","v":""},{"$f":"IF(MAX('3-3 위험성평가'!$A$4:$A$470)+1>E227,VLOOKUP(E227,'3-3 위험성평가'!$A$5:$P$470,4,0),\"\")","v":""},{"$f":"IF(MAX('3-3 위험성평가'!$A$4:$A$470)+1>E227,VLOOKUP(E227,'3-3 위험성평가'!$A$5:$P$470,5,0),\"\")","v":""},{"$f":"IF(MAX('3-3 위험성평가'!$A$4:$A$470)+1>E227,VLOOKUP(E227,'3-3 위험성평가'!$A$5:$P$470,6,0),\"\")","v":""},{"$f":"IF(MAX('3-3 위험성평가'!$A$4:$A$470)+1>E227,VLOOKUP(E227,'3-3 위험성평가'!$A$5:$P$470,9,0),\"\")","v":""},{"$f":"IF(MAX('3-3 위험성평가'!$A$4:$A$536)+1>E227,VLOOKUP(E227,'3-3 위험성평가'!$A$5:$P$536,12,0),\"\")&IF(L227>\"\",\".\"&E227,\"\")","v":""},{"$f":"IF(MAX('3-3 위험성평가'!$A$4:$A$470)+1>E227,VLOOKUP(E227,'3-3 위험성평가'!$A$5:$P$470,13,0),\"\")","v":""},null,"하",null,null,null,null,null,null,null,"선택안함",0,{"$f":"IF(MAX('3-3 위험성평가'!$A$4:$A$470)+1>E227,VLOOKUP(E227,'3-3 위험성평가'!$A$5:$Q$470,17,0),\"\")","v":""},"선택",{"$f":"표지!$D$33","v":"시원건설"},{"$f":"표지!$E$34","v":"김길동4"},"선택안함",0]
["T40",4,"S40",4,220,{"$f":"IF(MAX('3-3 위험성평가'!$A$4:$A$470)+1>E228,VLOOKUP(E228,'3-3 위험성평가'!$A$5:$P$470,2,0),\"\")","v":""},{"$f":"IF(F228=\"\",\"\",VLOOKUP(VALUE(F228),'1-1 사업장 공정 정보'!$D$15:$P$32,5,0))","v":""},{"$f":"IF(MAX('3-3 위험성평가'!$A$4:$A$470)+1>E228,VLOOKUP(E228,'3-3 위험성평가'!$A$5:$P$470,3,0),\"\")","v":""},{"$f":"IF(MAX('3-3 위험성평가'!$A$4:$A$470)+1>E228,VLOOKUP(E228,'3-3 위험성평가'!$A$5:$P$470,4,0),\"\")","v":""},{"$f":"IF(MAX('3-3 위험성평가'!$A$4:$A$470)+1>E228,VLOOKUP(E228,'3-3 위험성평가'!$A$5:$P$470,5,0),\"\")","v":""},{"$f":"IF(MAX('3-3 위험성평가'!$A$4:$A$470)+1>E228,VLOOKUP(E228,'3-3 위험성평가'!$A$5:$P$470,6,0),\"\")","v":""},{"$f":"IF(MAX('3-3 위험성평가'!$A$4:$A$470)+1>E228,VLOOKUP(E228,'3-3 위험성평가'!$A$5:$P$470,9,0),\"\")","v":""},{"$f":"IF(MAX('3-3 위험성평가'!$A$4:$A$536)+1>E228,VLOOKUP(E228,'3-3 위험성평가'!$A$5:$P$536,12,0),\"\")&IF(L228>\"\",\".\"&E228,\"\")","v":""},{"$f":"IF(MAX('3-3 위험성평가'!$A$4:$A$470)+1>E228,VLOOKUP(E228,'3-3 위험성평가'!$A$5:$P$470,13,0),\"\")","v":""},null,"하",null,null,null,null,null,null,null,"선택안함",0,{"$f":"IF(MAX('3-3 위험성평가'!$A$4:$A$470)+1>E228,VLOOKUP(E228,'3-3 위험성평가'!$A$5:$Q$470,17,0),\"\")","v":""},"선택",{"$f":"표지!$D$33","v":"시원건설"},{"$f":"표지!$E$34","v":"김길동4"},"선택안함",0]
["T40",4,"S40",4,221,{"$f":"IF(MAX('3-3 위험성평가'!$A$4:$A$470)+1>E229,VLOOKUP(E229,'3-3 위험성평가'!$A$5:$P$470,2,0),\"\")","v":""},{"$f":"IF(F229=\"\",\"\",VLOOKUP(VALUE(F229),'1-1 사업장 공정 정보'!$D$15:$P$32,5,0))","v":""},{"$f":"IF(MAX('3-3 위험성평가'!$A$4:$A$470)+1>E229,VLOOKUP(E229,'3-3 위험성평가'!$A$5:$P$470,3,0),\"\")","v":""},{"$f":"IF(MAX('3-3 위험성평가'!$A$4:$A$470)+1>E229,VLOOKUP(E229,'3-3 위험성평가'!$A$5:$P$470,4,0),\"\")","v":""},{"$f":"IF(MAX('3-3 위험성평가'!$A$4:$A$470)+1>E229,VLOOKUP(E229,'3-3 위험성평가'!$A$5:$P$470,5,0),\"\")","v":""},{"$f":"IF(MAX('3-3 위험성평가'!$A$4:$A$470)+1>E229,VLOOKUP(E229,'3-3 위험성평가'!$A$5:$P$470,6,0),\"\")","v":""},{"$f":"IF(MAX('3-3 위험성평가'!$A$4:$A$470)+1>E229,VLOOKUP(E229,'3-3 위험성평가'!$A$5:$P$470,9,0),\"\")","v":""},{"$f":"IF(MAX('3-3 위험성평가'!$A$4:$A$536)+1>E229,VLOOKUP(E229,'3-3 위험성평가'!$A$5:$P$536,12,0),\"\")&IF(L229>\"\",\".\"&E229,\"\")","v":""},{"$f":"IF(MAX('3-3 위험성평가'!$A$4:$A$470)+1>E229,VLOOKUP(E229,'3-3 위험성평가'!$A$5:$P$470,13,0),\"\")","v":""},null,"하",null,null,null,null,null,null,null,"선택안함",0,{"$f":"IF(MAX('3-3 위험성평가'!$A$4:$A$470)+1>E229,VLOOKUP(E229,'3-3 위험성평가'!$A$5:$Q$470,17,0),\"\")","v":""},"선택",{"$f":"표지!$D$33","v":"시원건설"},{"$f":"표지!$E$34","v":"김길동4"},"선택안함",0]
["T40",4,"S40",4,222,{"$f":"IF(MAX('3-3 위험성평가'!$A$4:$A$470)+1>E230,VLOOKUP(E230,'3-3 위험성평가'!$A$5:$P$470,2,0),\"\")","v":""},{"$f":"IF(F230=\"\",\"\",VLOOKUP(VALUE(F230),'1-1 사업장 공정 정보'!$D$15:$P$32,5,0))","v":""},{"$f":"IF(MAX('3-3 위험성평가'!$A$4:$A$470)+1>E230,VLOOKUP(E230,'3-3 위험성평가'!$A$5:$P$470,3,0),\"\")","v":""},{"$f":"IF(MAX('3-3 위험성평가'!$A$4:$A$470)+1>E230,VLOOKUP(E230,'3-3 위험성평가'!$A$5:$P$470,4,0),\"\")","v":""},{"$f":"IF(MAX('3-3 위험성평가'!$A$4:$A$470)+1>E230,VLOOKUP(E230,'3-3 위험성평가'!$A$5:$P$470,5,0),\"\")","v":""},{"$f":"IF(MAX('3-3 위험성평가'!$A$4:$A$470)+1>E230,VLOOKUP(E230,'3-3 위험성평가'!$A$5:$P$470,6,0),\"\")","v":""},{"$f":"IF(MAX('3-3 위험성평가'!$A$4:$A$470)+1>E230,VLOOKUP(E230,'3-3 위험성평가'!$A$5:$P$470,9,0),\"\")","v":""},{"$f":"IF(MAX('3-3 위험성평가'!$A$4:$A$536)+1>E230,VLOOKUP(E230,'3-3 위험성평가'!$A$5:$P$536,12,0),\"\")&IF(L230>\"\",\".\"&E230,\"\")","v":""},{"$f":"IF(MAX('3-3 위험성평가'!$A$4:$A$470)+1>E230,VLOOKUP(E230,'3-3 위험성평가'!$A$5:$P$470,13,0),\"\")","v":""},null,"하",null,null,null,null,null,null,null,"선택안함",0,{"$f":"IF(MAX('3-3 위험성평가'!$A$4:$A$470)+1>E230,VLOOKUP(E230,'3-3 위험성평가'!$A$5:$Q$470,17,0),\"\")","v":""},"선택",{"$f":"표지!$D$33","v":"시원건설"},{"$f":"표지!$E$34","v":"김길동4"},"선택안함",0]
["T40",4,"S40",4,223,{"$f":"IF(MAX('3-3 위험성평가'!$A$4:$A$470)+1>E231,VLOOKUP(E231,'3-3 위험성평가'!$A$5:$P$470,2,0),\"\")","v":""},{"$f":"IF(F231=\"\",\"\",VLOOKUP(VALUE(F231),'1-1 사업장 공정 정보'!$D$15:$P$32,5,0))","v":""},{"$f":"IF(MAX('3-3 위험성평가'!$A$4:$A$470)+1>E231,VLOOKUP(E231,'3-3 위험성평가'!$A$5:$P$470,3,0),\"\")","v":""},{"$f":"IF(MAX('3-3 위험성평가'!$A$4:$A$470)+1>E231,VLOOKUP(E231,'3-3 위험성평가'!$A$5:$P$470,4,0),\"\")","v":""},{"$f":"IF(MAX('3-3 위험성평가'!$A$4:$A$470)+1>E231,VLOOKUP(E231,'3-3 위험성평가'!$A$5:$P$470,5,0),\"\")","v":""},{"$f":"IF(MAX('3-3 위험성평가'!$A$4:$A$470)+1>E231,VLOOKUP(E231,'3-3 위험성평가'!$A$5:$P$470,6,0),\"\")","v":""},{"$f":"IF(MAX('3-3 위험성평가'!$A$4:$A$470)+1>E231,VLOOKUP(E231,'3-3 위험성평가'!$A$5:$P$470,9,0),\"\")","v":""},{"$f":"IF(MAX('3-3 위험성평가'!$A$4:$A$536)+1>E231,VLOOKUP(E231,'3-3 위험성평가'!$A$5:$P$536,12,0),\"\")&IF(L231>\"\",\".\"&E231,\"\")","v":""},{"$f":"IF(MAX('3-3 위험성평가'!$A$4:$A$470)+1>E231,VLOOKUP(E231,'3-3 위험성평가'!$A$5:$P$470,13,0),\"\")","v":""},null,"하",null,null,null,null,null,null,null,"선택안함",0,{"$f":"IF(MAX('3-3 위험성평가'!$A$4:$A$470)+1>E231,VLOOKUP(E231,'3-3 위험성평가'!$A$5:$Q$470,17,0),\"\")","v":""},"선택",{"$f":"표지!$D$33","v":"시원건설"},{"$f":"표지!$E$34","v":"김길동4"},"선택안함",0]
["T40",4,"S40",4,224,{"$f":"IF(MAX('3-3 위험성평가'!$A$4:$A$470)+1>E232,VLOOKUP(E232,'3-3 위험성평가'!$A$5:$P$470,2,0),\"\")","v":""},{"$f":"IF(F232=\"\",\"\",VLOOKUP(VALUE(F232),'1-1 사업장 공정 정보'!$D$15:$P$32,5,0))","v":""},{"$f":"IF(MAX('3-3 위험성평가'!$A$4:$A$470)+1>E232,VLOOKUP(E232,'3-3 위험성평가'!$A$5:$P$470,3,0),\"\")","v":""},{"$f":"IF(MAX('3-3 위험성평가'!$A$4:$A$470)+1>E232,VLOOKUP(E232,'3-3 위험성평가'!$A$5:$P$470,4,0),\"\")","v":""},{"$f":"IF(MAX('3-3 위험성평가'!$A$4:$A$470)+1>E232,VLOOKUP(E232,'3-3 위험성평가'!$A$5:$P$470,5,0),\"\")","v":""},{"$f":"IF(MAX('3-3 위험성평가'!$A$4:$A$470)+1>E232,VLOOKUP(E232,'3-3 위험성평가'!$A$5:$P$470,6,0),\"\")","v":""},{"$f":"IF(MAX('3-3 위험성평가'!$A$4:$A$470)+1>E232,VLOOKUP(E232,'3-3 위험성평가'!$A$5:$P$470,9,0),\"\")","v":""},{"$f":"IF(MAX('3-3 위험성평가'!$A$4:$A$536)+1>E232,VLOOKUP(E232,'3-3 위험성평가'!$A$5:$P$536,12,0),\"\")&IF(L232>\"\",\".\"&E232,\"\")","v":""},{"$f":"IF(MAX('3-3 위험성평가'!$A$4:$A$470)+1>E232,VLOOKUP(E232,'3-3 위험성평가'!$A$5:$P$470,13,0),\"\")","v":""},null,"하",null,null,null,null,null,null,null,"선택안함",0,{"$f":"IF(MAX('3-3 위험성평가'!$A$4:$A$470)+1>E232,VLOOKUP(E232,'3-3 위험성평가'!$A$5:$Q$470,17,0),\"\")","v":""},"선택",{"$f":"표지!$D$33","v":"시원건설"},{"$f":"표지!$E$34","v":"김길동4"},"선택안함",0]
["T40",4,"S40",4,225,{"$f":"IF(MAX('3-3 위험성평가'!$A$4:$A$470)+1>E233,VLOOKUP(E233,'3-3 위험성평가'!$A$5:$P$470,2,0),\"\")","v":""},{"$f":"IF(F233=\"\",\"\",VLOOKUP(VALUE(F233),'1-1 사업장 공정 정보'!$D$15:$P$32,5,0))","v":""},{"$f":"IF(MAX('3-3 위험성평가'!$A$4:$A$470)+1>E233,VLOOKUP(E233,'3-3 위험성평가'!$A$5:$P$470,3,0),\"\")","v":""},{"$f":"IF(MAX('3-3 위험성평가'!$A$4:$A$470)+1>E233,VLOOKUP(E233,'3-3 위험성평가'!$A$5:$P$470,4,0),\"\")","v":""},{"$f":"IF(MAX('3-3 위험성평가'!$A$4:$A$470)+1>E233,VLOOKUP(E233,'3-3 위험성평가'!$A$5:$P$470,5,0),\"\")","v":""},{"$f":"IF(MAX('3-3 위험성평가'!$A$4:$A$470)+1>E233,VLOOKUP(E233,'3-3 위험성평가'!$A$5:$P$470,6,0),\"\")","v":""},{"$f":"IF(MAX('3-3 위험성평가'!$A$4:$A$470)+1>E233,VLOOKUP(E233,'3-3 위험성평가'!$A$5:$P$470,9,0),\"\")","v":""},{"$f":"IF(MAX('3-3 위험성평가'!$A$4:$A$536)+1>E233,VLOOKUP(E233,'3-3 위험성평가'!$A$5:$P$536,12,0),\"\")&IF(L233>\"\",\".\"&E233,\"\")","v":""},{"$f":"IF(MAX('3-3 위험성평가'!$A$4:$A$470)+1>E233,VLOOKUP(E233,'3-3 위험성평가'!$A$5:$P$470,13,0),\"\")","v":""},null,"하",null,null,null,null,null,null,null,"선택안함",0,{"$f":"IF(MAX('3-3 위험성평가'!$A$4:$A$470)+1>E233,VLOOKUP(E233,'3-3 위험성평가'!$A$5:$Q$470,17,0),\"\")","v":""},"선택",{"$f":"표지!$D$33","v":"시원건설"},{"$f":"표지!$E$34","v":"김길동4"},"선택안함",0]
["T40",4,"S40",4,226,{"$f":"IF(MAX('3-3 위험성평가'!$A$4:$A$470)+1>E234,VLOOKUP(E234,'3-3 위험성평가'!$A$5:$P$470,2,0),\"\")","v":""},{"$f":"IF(F234=\"\",\"\",VLOOKUP(VALUE(F234),'1-1 사업장 공정 정보'!$D$15:$P$32,5,0))","v":""},{"$f":"IF(MAX('3-3 위험성평가'!$A$4:$A$470)+1>E234,VLOOKUP(E234,'3-3 위험성평가'!$A$5:$P$470,3,0),\"\")","v":""},{"$f":"IF(MAX('3-3 위험성평가'!$A$4:$A$470)+1>E234,VLOOKUP(E234,'3-3 위험성평가'!$A$5:$P$470,4,0),\"\")","v":""},{"$f":"IF(MAX('3-3 위험성평가'!$A$4:$A$470)+1>E234,VLOOKUP(E234,'3-3 위험성평가'!$A$5:$P$470,5,0),\"\")","v":""},{"$f":"IF(MAX('3-3 위험성평가'!$A$4:$A$470)+1>E234,VLOOKUP(E234,'3-3 위험성평가'!$A$5:$P$470,6,0),\"\")","v":""},{"$f":"IF(MAX('3-3 위험성평가'!$A$4:$A$470)+1>E234,VLOOKUP(E234,'3-3 위험성평가'!$A$5:$P$470,9,0),\"\")","v":""},{"$f":"IF(MAX('3-3 위험성평가'!$A$4:$A$536)+1>E234,VLOOKUP(E234,'3-3 위험성평가'!$A$5:$P$536,12,0),\"\")&IF(L234>\"\",\".\"&E234,\"\")","v":""},{"$f":"IF(MAX('3-3 위험성평가'!$A$4:$A$470)+1>E234,VLOOKUP(E234,'3-3 위험성평가'!$A$5:$P$470,13,0),\"\")","v":""},null,"하",null,null,null,null,null,null,null,"선택안함",0,{"$f":"IF(MAX('3-3 위험성평가'!$A$4:$A$470)+1>E234,VLOOKUP(E234,'3-3 위험성평가'!$A$5:$Q$470,17,0),\"\")","v":""},"선택",{"$f":"표지!$D$33","v":"시원건설"},{"$f":"표지!$E$34","v":"김길동4"},"선택안함",0]
["T40",4,"S40",4,227,{"$f":"IF(MAX('3-3 위험성평가'!$A$4:$A$470)+1>E235,VLOOKUP(E235,'3-3 위험성평가'!$A$5:$P$470,2,0),\"\")","v":""},{"$f":"IF(F235=\"\",\"\",VLOOKUP(VALUE(F235),'1-1 사업장 공정 정보'!$D$15:$P$32,5,0))","v":""},{"$f":"IF(MAX('3-3 위험성평가'!$A$4:$A$470)+1>E235,VLOOKUP(E235,'3-3 위험성평가'!$A$5:$P$470,3,0),\"\")","v":""},{"$f":"IF(MAX('3-3 위험성평가'!$A$4:$A$470)+1>E235,VLOOKUP(E235,'3-3 위험성평가'!$A$5:$P$470,4,0),\"\")","v":""},{"$f":"IF(MAX('3-3 위험성평가'!$A$4:$A$470)+1>E235,VLOOKUP(E235,'3-3 위험성평가'!$A$5:$P$470,5,0),\"\")","v":""},{"$f":"IF(MAX('3-3 위험성평가'!$A$4:$A$470)+1>E235,VLOOKUP(E235,'3-3 위험성평가'!$A$5:$P$470,6,0),\"\")","v":""},{"$f":"IF(MAX('3-3 위험성평가'!$A$4:$A$470)+1>E235,VLOOKUP(E235,'3-3 위험성평가'!$A$5:$P$470,9,0),\"\")","v":""},{"$f":"IF(MAX('3-3 위험성평가'!$A$4:$A$536)+1>E235,VLOOKUP(E235,'3-3 위험성평가'!$A$5:$P$536,12,0),\"\")&IF(L235>\"\",\".\"&E235,\"\")","v":""},{"$f":"IF(MAX('3-3 위험성평가'!$A$4:$A$470)+1>E235,VLOOKUP(E235,'3-3 위험성평가'!$A$5:$P$470,13,0),\"\")","v":""},null,"하",null,null,null,null,null,null,null,"선택안함",0,{"$f":"IF(MAX('3-3 위험성평가'!$A$4:$A$470)+1>E235,VLOOKUP(E235,'3-3 위험성평가'!$A$5:$Q$470,17,0),\"\")","v":""},"선택",{"$f":"표지!$D$33","v":"시원건설"},{"$f":"표지!$E$34","v":"김길동4"},"선택안함",0]
["T40",4,"S40",4,228,{"$f":"IF(MAX('3-3 위험성평가'!$A$4:$A$470)+1>E236,VLOOKUP(E236,'3-3 위험성평가'!$A$5:$P$470,2,0),\"\")","v":""},{"$f":"IF(F236=\"\",\"\",VLOOKUP(VALUE(F236),'1-1 사업장 공정 정보'!$D$15:$P$32,5,0))","v":""},{"$f":"IF(MAX('3-3 위험성평가'!$A$4:$A$470)+1>E236,VLOOKUP(E236,'3-3 위험성평가'!$A$5:$P$470,3,0),\"\")","v":""},{"$f":"IF(MAX('3-3 위험성평가'!$A$4:$A$470)+1>E236,VLOOKUP(E236,'3-3 위험성평가'!$A$5:$P$470,4,0),\"\")","v":""},{"$f":"IF(MAX('3-3 위험성평가'!$A$4:$A$470)+1>E236,VLOOKUP(E236,'3-3 위험성평가'!$A$5:$P$470,5,0),\"\")","v":""},{"$f":"IF(MAX('3-3 위험성평가'!$A$4:$A$470)+1>E236,VLOOKUP(E236,'3-3 위험성평가'!$A$5:$P$470,6,0),\"\")","v":""},{"$f":"IF(MAX('3-3 위험성평가'!$A$4:$A$470)+1>E236,VLOOKUP(E236,'3-3 위험성평가'!$A$5:$P$470,9,0),\"\")","v":""},{"$f":"IF(MAX('3-3 위험성평가'!$A$4:$A$536)+1>E236,VLOOKUP(E236,'3-3 위험성평가'!$A$5:$P$536,12,0),\"\")&IF(L236>\"\",\".\"&E236,\"\")","v":""},{"$f":"IF(MAX('3-3 위험성평가'!$A$4:$A$470)+1>E236,VLOOKUP(E236,'3-3 위험성평가'!$A$5:$P$470,13,0),\"\")","v":""},null,"하",null,null,null,null,null,null,null,"선택안함",0,{"$f":"IF(MAX('3-3 위험성평가'!$A$4:$A$470)+1>E236,VLOOKUP(E236,'3-3 위험성평가'!$A$5:$Q$470,17,0),\"\")","v":""},"선택",{"$f":"표지!$D$33","v":"시원건설"},{"$f":"표지!$E$34","v":"김길동4"},"선택안함",0]
["T40",4,"S40",4,229,{"$f":"IF(MAX('3-3 위험성평가'!$A$4:$A$470)+1>E237,VLOOKUP(E237,'3-3 위험성평가'!$A$5:$P$470,2,0),\"\")","v":""},{"$f":"IF(F237=\"\",\"\",VLOOKUP(VALUE(F237),'1-1 사업장 공정 정보'!$D$15:$P$32,5,0))","v":""},{"$f":"IF(MAX('3-3 위험성평가'!$A$4:$A$470)+1>E237,VLOOKUP(E237,'3-3 위험성평가'!$A$5:$P$470,3,0),\"\")","v":""},{"$f":"IF(MAX('3-3 위험성평가'!$A$4:$A$470)+1>E237,VLOOKUP(E237,'3-3 위험성평가'!$A$5:$P$470,4,0),\"\")","v":""},{"$f":"IF(MAX('3-3 위험성평가'!$A$4:$A$470)+1>E237,VLOOKUP(E237,'3-3 위험성평가'!$A$5:$P$470,5,0),\"\")","v":""},{"$f":"IF(MAX('3-3 위험성평가'!$A$4:$A$470)+1>E237,VLOOKUP(E237,'3-3 위험성평가'!$A$5:$P$470,6,0),\"\")","v":""},{"$f":"IF(MAX('3-3 위험성평가'!$A$4:$A$470)+1>E237,VLOOKUP(E237,'3-3 위험성평가'!$A$5:$P$470,9,0),\"\")","v":""},{"$f":"IF(MAX('3-3 위험성평가'!$A$4:$A$536)+1>E237,VLOOKUP(E237,'3-3 위험성평가'!$A$5:$P$536,12,0),\"\")&IF(L237>\"\",\".\"&E237,\"\")","v":""},{"$f":"IF(MAX('3-3 위험성평가'!$A$4:$A$470)+1>E237,VLOOKUP(E237,'3-3 위험성평가'!$A$5:$P$470,13,0),\"\")","v":""},null,"하",null,null,null,null,null,null,null,"선택안함",0,{"$f":"IF(MAX('3-3 위험성평가'!$A$4:$A$470)+1>E237,VLOOKUP(E237,'3-3 위험성평가'!$A$5:$Q$470,17,0),\"\")","v":""},"선택",{"$f":"표지!$D$33","v":"시원건설"},{"$f":"표지!$E$34","v":"김길동4"},"선택안함",0]
["T40",4,"S40",4,230,{"$f":"IF(MAX('3-3 위험성평가'!$A$4:$A$470)+1>E238,VLOOKUP(E238,'3-3 위험성평가'!$A$5:$P$470,2,0),\"\")","v":""},{"$f":"IF(F238=\"\",\"\",VLOOKUP(VALUE(F238),'1-1 사업장 공정 정보'!$D$15:$P$32,5,0))","v":""},{"$f":"IF(MAX('3-3 위험성평가'!$A$4:$A$470)+1>E238,VLOOKUP(E238,'3-3 위험성평가'!$A$5:$P$470,3,0),\"\")","v":""},{"$f":"IF(MAX('3-3 위험성평가'!$A$4:$A$470)+1>E238,VLOOKUP(E238,'3-3 위험성평가'!$A$5:$P$470,4,0),\"\")","v":""},{"$f":"IF(MAX('3-3 위험성평가'!$A$4:$A$470)+1>E238,VLOOKUP(E238,'3-3 위험성평가'!$A$5:$P$470,5,0),\"\")","v":""},{"$f":"IF(MAX('3-3 위험성평가'!$A$4:$A$470)+1>E238,VLOOKUP(E238,'3-3 위험성평가'!$A$5:$P$470,6,0),\"\")","v":""},{"$f":"IF(MAX('3-3 위험성평가'!$A$4:$A$470)+1>E238,VLOOKUP(E238,'3-3 위험성평가'!$A$5:$P$470,9,0),\"\")","v":""},{"$f":"IF(MAX('3-3 위험성평가'!$A$4:$A$536)+1>E238,VLOOKUP(E238,'3-3 위험성평가'!$A$5:$P$536,12,0),\"\")&IF(L238>\"\",\".\"&E238,\"\")","v":""},{"$f":"IF(MAX('3-3 위험성평가'!$A$4:$A$470)+1>E238,VLOOKUP(E238,'3-3 위험성평가'!$A$5:$P$470,13,0),\"\")","v":""},null,"하",null,null,null,null,null,null,null,"선택안함",0,{"$f":"IF(MAX('3-3 위험성평가'!$A$4:$A$470)+1>E238,VLOOKUP(E238,'3-3 위험성평가'!$A$5:$Q$470,17,0),\"\")","v":""},"선택",{"$f":"표지!$D$33","v":"시원건설"},{"$f":"표지!$E$34","v":"김길동4"},"선택안함",0]
["T40",4,"S40",4,231,{"$f":"IF(MAX('3-3 위험성평가'!$A$4:$A$470)+1>E239,VLOOKUP(E239,'3-3 위험성평가'!$A$5:$P$470,2,0),\"\")","v":""},{"$f":"IF(F239=\"\",\"\",VLOOKUP(VALUE(F239),'1-1 사업장 공정 정보'!$D$15:$P$32,5,0))","v":""},{"$f":"IF(MAX('3-3 위험성평가'!$A$4:$A$470)+1>E239,VLOOKUP(E239,'3-3 위험성평가'!$A$5:$P$470,3,0),\"\")","v":""},{"$f":"IF(MAX('3-3 위험성평가'!$A$4:$A$470)+1>E239,VLOOKUP(E239,'3-3 위험성평가'!$A$5:$P$470,4,0),\"\")","v":""},{"$f":"IF(MAX('3-3 위험성평가'!$A$4:$A$470)+1>E239,VLOOKUP(E239,'3-3 위험성평가'!$A$5:$P$470,5,0),\"\")","v":""},{"$f":"IF(MAX('3-3 위험성평가'!$A$4:$A$470)+1>E239,VLOOKUP(E239,'3-3 위험성평가'!$A$5:$P$470,6,0),\"\")","v":""},{"$f":"IF(MAX('3-3 위험성평가'!$A$4:$A$470)+1>E239,VLOOKUP(E239,'3-3 위험성평가'!$A$5:$P$470,9,0),\"\")","v":""},{"$f":"IF(MAX('3-3 위험성평가'!$A$4:$A$536)+1>E239,VLOOKUP(E239,'3-3 위험성평가'!$A$5:$P$536,12,0),\"\")&IF(L239>\"\",\".\"&E239,\"\")","v":""},{"$f":"IF(MAX('3-3 위험성평가'!$A$4:$A$470)+1>E239,VLOOKUP(E239,'3-3 위험성평가'!$A$5:$P$470,13,0),\"\")","v":""},null,"하",null,null,null,null,null,null,null,"선택안함",0,{"$f":"IF(MAX('3-3 위험성평가'!$A$4:$A$470)+1>E239,VLOOKUP(E239,'3-3 위험성평가'!$A$5:$Q$470,17,0),\"\")","v":""},"선택",{"$f":"표지!$D$33","v":"시원건설"},{"$f":"표지!$E$34","v":"김길동4"},"선택안함",0]
["T40",4,"S40",4,232,{"$f":"IF(MAX('3-3 위험성평가'!$A$4:$A$470)+1>E240,VLOOKUP(E240,'3-3 위험성평가'!$A$5:$P$470,2,0),\"\")","v":""},{"$f":"IF(F240=\"\",\"\",VLOOKUP(VALUE(F240),'1-1 사업장 공정 정보'!$D$15:$P$32,5,0))","v":""},{"$f":"IF(MAX('3-3 위험성평가'!$A$4:$A$470)+1>E240,VLOOKUP(E240,'3-3 위험성평가'!$A$5:$P$470,3,0),\"\")","v":""},{"$f":"IF(MAX('3-3 위험성평가'!$A$4:$A$470)+1>E240,VLOOKUP(E240,'3-3 위험성평가'!$A$5:$P$470,4,0),\"\")","v":""},{"$f":"IF(MAX('3-3 위험성평가'!$A$4:$A$470)+1>E240,VLOOKUP(E240,'3-3 위험성평가'!$A$5:$P$470,5,0),\"\")","v":""},{"$f":"IF(MAX('3-3 위험성평가'!$A$4:$A$470)+1>E240,VLOOKUP(E240,'3-3 위험성평가'!$A$5:$P$470,6,0),\"\")","v":""},{"$f":"IF(MAX('3-3 위험성평가'!$A$4:$A$470)+1>E240,VLOOKUP(E240,'3-3 위험성평가'!$A$5:$P$470,9,0),\"\")","v":""},{"$f":"IF(MAX('3-3 위험성평가'!$A$4:$A$536)+1>E240,VLOOKUP(E240,'3-3 위험성평가'!$A$5:$P$536,12,0),\"\")&IF(L240>\"\",\".\"&E240,\"\")","v":""},{"$f":"IF(MAX('3-3 위험성평가'!$A$4:$A$470)+1>E240,VLOOKUP(E240,'3-3 위험성평가'!$A$5:$P$470,13,0),\"\")","v":""},null,"하",null,null,null,null,null,null,null,"선택안함",0,{"$f":"IF(MAX('3-3 위험성평가'!$A$4:$A$470)+1>E240,VLOOKUP(E240,'3-3 위험성평가'!$A$5:$Q$470,17,0),\"\")","v":""},"선택",{"$f":"표지!$D$33","v":"시원건설"},{"$f":"표지!$E$34","v":"김길동4"},"선택안함",0]
["T40",4,"S40",4,233,{"$f":"IF(MAX('3-3 위험성평가'!$A$4:$A$470)+1>E241,VLOOKUP(E241,'3-3 위험성평가'!$A$5:$P$470,2,0),\"\")","v":""},{"$f":"IF(F241=\"\",\"\",VLOOKUP(VALUE(F241),'1-1 사업장 공정 정보'!$D$15:$P$32,5,0))","v":""},{"$f":"IF(MAX('3-3 위험성평가'!$A$4:$A$470)+1>E241,VLOOKUP(E241,'3-3 위험성평가'!$A$5:$P$470,3,0),\"\")","v":""},{"$f":"IF(MAX('3-3 위험성평가'!$A$4:$A$470)+1>E241,VLOOKUP(E241,'3-3 위험성평가'!$A$5:$P$470,4,0),\"\")","v":""},{"$f":"IF(MAX('3-3 위험성평가'!$A$4:$A$470)+1>E241,VLOOKUP(E241,'3-3 위험성평가'!$A$5:$P$470,5,0),\"\")","v":""},{"$f":"IF(MAX('3-3 위험성평가'!$A$4:$A$470)+1>E241,VLOOKUP(E241,'3-3 위험성평가'!$A$5:$P$470,6,0),\"\")","v":""},{"$f":"IF(MAX('3-3 위험성평가'!$A$4:$A$470)+1>E241,VLOOKUP(E241,'3-3 위험성평가'!$A$5:$P$470,9,0),\"\")","v":""},{"$f":"IF(MAX('3-3 위험성평가'!$A$4:$A$536)+1>E241,VLOOKUP(E241,'3-3 위험성평가'!$A$5:$P$536,12,0),\"\")&IF(L241>\"\",\".\"&E241,\"\")","v":""},{"$f":"IF(MAX('3-3 위험성평가'!$A$4:$A$470)+1>E241,VLOOKUP(E241,'3-3 위험성평가'!$A$5:$P$470,13,0),\"\")","v":""},null,"하",null,null,null,null,null,null,null,"선택안함",0,{"$f":"IF(MAX('3-3 위험성평가'!$A$4:$A$470)+1>E241,VLOOKUP(E241,'3-3 위험성평가'!$A$5:$Q$470,17,0),\"\")","v":""},"선택",{"$f":"표지!$D$33","v":"시원건설"},{"$f":"표지!$E$34","v":"김길동4"},"선택안함",0]
["T40",4,"S40",4,234,{"$f":"IF(MAX('3-3 위험성평가'!$A$4:$A$470)+1>E242,VLOOKUP(E242,'3-3 위험성평가'!$A$5:$P$470,2,0),\"\")","v":""},{"$f":"IF(F242=\"\",\"\",VLOOKUP(VALUE(F242),'1-1 사업장 공정 정보'!$D$15:$P$32,5,0))","v":""},{"$f":"IF(MAX('3-3 위험성평가'!$A$4:$A$470)+1>E242,VLOOKUP(E242,'3-3 위험성평가'!$A$5:$P$470,3,0),\"\")","v":""},{"$f":"IF(MAX('3-3 위험성평가'!$A$4:$A$470)+1>E242,VLOOKUP(E242,'3-3 위험성평가'!$A$5:$P$470,4,0),\"\")","v":""},{"$f":"IF(MAX('3-3 위험성평가'!$A$4:$A$470)+1>E242,VLOOKUP(E242,'3-3 위험성평가'!$A$5:$P$470,5,0),\"\")","v":""},{"$f":"IF(MAX('3-3 위험성평가'!$A$4:$A$470)+1>E242,VLOOKUP(E242,'3-3 위험성평가'!$A$5:$P$470,6,0),\"\")","v":""},{"$f":"IF(MAX('3-3 위험성평가'!$A$4:$A$470)+1>E242,VLOOKUP(E242,'3-3 위험성평가'!$A$5:$P$470,9,0),\"\")","v":""},{"$f":"IF(MAX('3-3 위험성평가'!$A$4:$A$536)+1>E242,VLOOKUP(E242,'3-3 위험성평가'!$A$5:$P$536,12,0),\"\")&IF(L242>\"\",\".\"&E242,\"\")","v":""},{"$f":"IF(MAX('3-3 위험성평가'!$A$4:$A$470)+1>E242,VLOOKUP(E242,'3-3 위험성평가'!$A$5:$P$470,13,0),\"\")","v":""},null,"하",null,null,null,null,null,null,null,"선택안함",0,{"$f":"IF(MAX('3-3 위험성평가'!$A$4:$A$470)+1>E242,VLOOKUP(E242,'3-3 위험성평가'!$A$5:$Q$470,17,0),\"\")","v":""},"선택",{"$f":"표지!$D$33","v":"시원건설"},{"$f":"표지!$E$34","v":"김길동4"},"선택안함",0]
["T40",4,"S40",4,235,{"$f":"IF(MAX('3-3 위험성평가'!$A$4:$A$470)+1>E243,VLOOKUP(E243,'3-3 위험성평가'!$A$5:$P$470,2,0),\"\")","v":""},{"$f":"IF(F243=\"\",\"\",VLOOKUP(VALUE(F243),'1-1 사업장 공정 정보'!$D$15:$P$32,5,0))","v":""},{"$f":"IF(MAX('3-3 위험성평가'!$A$4:$A$470)+1>E243,VLOOKUP(E243,'3-3 위험성평가'!$A$5:$P$470,3,0),\"\")","v":""},{"$f":"IF(MAX('3-3 위험성평가'!$A$4:$A$470)+1>E243,VLOOKUP(E243,'3-3 위험성평가'!$A$5:$P$470,4,0),\"\")","v":""},{"$f":"IF(MAX('3-3 위험성평가'!$A$4:$A$470)+1>E243,VLOOKUP(E243,'3-3 위험성평가'!$A$5:$P$470,5,0),\"\")","v":""},{"$f":"IF(MAX('3-3 위험성평가'!$A$4:$A$470)+1>E243,VLOOKUP(E243,'3-3 위험성평가'!$A$5:$P$470,6,0),\"\")","v":""},{"$f":"IF(MAX('3-3 위험성평가'!$A$4:$A$470)+1>E243,VLOOKUP(E243,'3-3 위험성평가'!$A$5:$P$470,9,0),\"\")","v":""},{"$f":"IF(MAX('3-3 위험성평가'!$A$4:$A$536)+1>E243,VLOOKUP(E243,'3-3 위험성평가'!$A$5:$P$536,12,0),\"\")&IF(L243>\"\",\".\"&E243,\"\")","v":""},{"$f":"IF(MAX('3-3 위험성평가'!$A$4:$A$470)+1>E243,VLOOKUP(E243,'3-3 위험성평가'!$A$5:$P$470,13,0),\"\")","v":""},null,"하",null,null,null,null,null,null,null,"선택안함",0,{"$f":"IF(MAX('3-3 위험성평가'!$A$4:$A$470)+1>E243,VLOOKUP(E243,'3-3 위험성평가'!$A$5:$Q$470,17,0),\"\")","v":""},"선택",{"$f":"표지!$D$33","v":"시원건설"},{"$f":"표지!$E$34","v":"김길동4"},"선택안함",0]
["T40",4,"S40",4,236,{"$f":"IF(MAX('3-3 위험성평가'!$A$4:$A$470)+1>E244,VLOOKUP(E244,'3-3 위험성평가'!$A$5:$P$470,2,0),\"\")","v":""},{"$f":"IF(F244=\"\",\"\",VLOOKUP(VALUE(F244),'1-1 사업장 공정 정보'!$D$15:$P$32,5,0))","v":""},{"$f":"IF(MAX('3-3 위험성평가'!$A$4:$A$470)+1>E244,VLOOKUP(E244,'3-3 위험성평가'!$A$5:$P$470,3,0),\"\")","v":""},{"$f":"IF(MAX('3-3 위험성평가'!$A$4:$A$470)+1>E244,VLOOKUP(E244,'3-3 위험성평가'!$A$5:$P$470,4,0),\"\")","v":""},{"$f":"IF(MAX('3-3 위험성평가'!$A$4:$A$470)+1>E244,VLOOKUP(E244,'3-3 위험성평가'!$A$5:$P$470,5,0),\"\")","v":""},{"$f":"IF(MAX('3-3 위험성평가'!$A$4:$A$470)+1>E244,VLOOKUP(E244,'3-3 위험성평가'!$A$5:$P$470,6,0),\"\")","v":""},{"$f":"IF(MAX('3-3 위험성평가'!$A$4:$A$470)+1>E244,VLOOKUP(E244,'3-3 위험성평가'!$A$5:$P$470,9,0),\"\")","v":""},{"$f":"IF(MAX('3-3 위험성평가'!$A$4:$A$536)+1>E244,VLOOKUP(E244,'3-3 위험성평가'!$A$5:$P$536,12,0),\"\")&IF(L244>\"\",\".\"&E244,\"\")","v":""},{"$f":"IF(MAX('3-3 위험성평가'!$A$4:$A$470)+1>E244,VLOOKUP(E244,'3-3 위험성평가'!$A$5:$P$470,13,0),\"\")","v":""},null,"하",null,null,null,null,null,null,null,"선택안함",0,{"$f":"IF(MAX('3-3 위험성평가'!$A$4:$A$470)+1>E244,VLOOKUP(E244,'3-3 위험성평가'!$A$5:$Q$470,17,0),\"\")","v":""},"선택",{"$f":"표지!$D$33","v":"시원건설"},{"$f":"표지!$E$34","v":"김길동4"},"선택안함",0]
["T40",4,"S40",4,237,{"$f":"IF(MAX('3-3 위험성평가'!$A$4:$A$470)+1>E245,VLOOKUP(E245,'3-3 위험성평가'!$A$5:$P$470,2,0),\"\")","v":""},{"$f":"IF(F245=\"\",\"\",VLOOKUP(VALUE(F245),'1-1 사업장 공정 정보'!$D$15:$P$32,5,0))","v":""},{"$f":"IF(MAX('3-3 위험성평가'!$A$4:$A$470)+1>E245,VLOOKUP(E245,'3-3 위험성평가'!$A$5:$P$470,3,0),\"\")","v":""},{"$f":"IF(MAX('3-3 위험성평가'!$A$4:$A$470)+1>E245,VLOOKUP(E245,'3-3 위험성평가'!$A$5:$P$470,4,0),\"\")","v":""},{"$f":"IF(MAX('3-3 위험성평가'!$A$4:$A$470)+1>E245,VLOOKUP(E245,'3-3 위험성평가'!$A$5:$P$470,5,0),\"\")","v":""},{"$f":"IF(MAX('3-3 위험성평가'!$A$4:$A$470)+1>E245,VLOOKUP(E245,'3-3 위험성평가'!$A$5:$P$470,6,0),\"\")","v":""},{"$f":"IF(MAX('3-3 위험성평가'!$A$4:$A$470)+1>E245,VLOOKUP(E245,'3-3 위험성평가'!$A$5:$P$470,9,0),\"\")","v":""},{"$f":"IF(MAX('3-3 위험성평가'!$A$4:$A$536)+1>E245,VLOOKUP(E245,'3-3 위험성평가'!$A$5:$P$536,12,0),\"\")&IF(L245>\"\",\".\"&E245,\"\")","v":""},{"$f":"IF(MAX('3-3 위험성평가'!$A$4:$A$470)+1>E245,VLOOKUP(E245,'3-3 위험성평가'!$A$5:$P$470,13,0),\"\")","v":""},null,"하",null,null,null,null,null,null,null,"선택안함",0,{"$f":"IF(MAX('3-3 위험성평가'!$A$4:$A$470)+1>E245,VLOOKUP(E245,'3-3 위험성평가'!$A$5:$Q$470,17,0),\"\")","v":""},"선택",{"$f":"표지!$D$33","v":"시원건설"},{"$f":"표지!$E$34","v":"김길동4"},"선택안함",0]
["T40",4,"S40",4,238,{"$f":"IF(MAX('3-3 위험성평가'!$A$4:$A$470)+1>E246,VLOOKUP(E246,'3-3 위험성평가'!$A$5:$P$470,2,0),\"\")","v":""},{"$f":"IF(F246=\"\",\"\",VLOOKUP(VALUE(F246),'1-1 사업장 공정 정보'!$D$15:$P$32,5,0))","v":""},{"$f":"IF(MAX('3-3 위험성평가'!$A$4:$A$470)+1>E246,VLOOKUP(E246,'3-3 위험성평가'!$A$5:$P$470,3,0),\"\")","v":""},{"$f":"IF(MAX('3-3 위험성평가'!$A$4:$A$470)+1>E246,VLOOKUP(E246,'3-3 위험성평가'!$A$5:$P$470,4,0),\"\")","v":""},{"$f":"IF(MAX('3-3 위험성평가'!$A$4:$A$470)+1>E246,VLOOKUP(E246,'3-3 위험성평가'!$A$5:$P$470,5,0),\"\")","v":""},{"$f":"IF(MAX('3-3 위험성평가'!$A$4:$A$470)+1>E246,VLOOKUP(E246,'3-3 위험성평가'!$A$5:$P$470,6,0),\"\")","v":""},{"$f":"IF(MAX('3-3 위험성평가'!$A$4:$A$470)+1>E246,VLOOKUP(E246,'3-3 위험성평가'!$A$5:$P$470,9,0),\"\")","v":""},{"$f":"IF(MAX('3-3 위험성평가'!$A$4:$A$536)+1>E246,VLOOKUP(E246,'3-3 위험성평가'!$A$5:$P$536,12,0),\"\")&IF(L246>\"\",\".\"&E246,\"\")","v":""},{"$f":"IF(MAX('3-3 위험성평가'!$A$4:$A$470)+1>E246,VLOOKUP(E246,'3-3 위험성평가'!$A$5:$P$470,13,0),\"\")","v":""},null,"하",null,null,null,null,null,null,null,"선택안함",0,{"$f":"IF(MAX('3-3 위험성평가'!$A$4:$A$470)+1>E246,VLOOKUP(E246,'3-3 위험성평가'!$A$5:$Q$470,17,0),\"\")","v":""},"선택",{"$f":"표지!$D$33","v":"시원건설"},{"$f":"표지!$E$34","v":"김길동4"},"선택안함",0]
["T40",4,"S40",4,239,{"$f":"IF(MAX('3-3 위험성평가'!$A$4:$A$470)+1>E247,VLOOKUP(E247,'3-3 위험성평가'!$A$5:$P$470,2,0),\"\")","v":""},{"$f":"IF(F247=\"\",\"\",VLOOKUP(VALUE(F247),'1-1 사업장 공정 정보'!$D$15:$P$32,5,0))","v":""},{"$f":"IF(MAX('3-3 위험성평가'!$A$4:$A$470)+1>E247,VLOOKUP(E247,'3-3 위험성평가'!$A$5:$P$470,3,0),\"\")","v":""},{"$f":"IF(MAX('3-3 위험성평가'!$A$4:$A$470)+1>E247,VLOOKUP(E247,'3-3 위험성평가'!$A$5:$P$470,4,0),\"\")","v":""},{"$f":"IF(MAX('3-3 위험성평가'!$A$4:$A$470)+1>E247,VLOOKUP(E247,'3-3 위험성평가'!$A$5:$P$470,5,0),\"\")","v":""},{"$f":"IF(MAX('3-3 위험성평가'!$A$4:$A$470)+1>E247,VLOOKUP(E247,'3-3 위험성평가'!$A$5:$P$470,6,0),\"\")","v":""},{"$f":"IF(MAX('3-3 위험성평가'!$A$4:$A$470)+1>E247,VLOOKUP(E247,'3-3 위험성평가'!$A$5:$P$470,9,0),\"\")","v":""},{"$f":"IF(MAX('3-3 위험성평가'!$A$4:$A$536)+1>E247,VLOOKUP(E247,'3-3 위험성평가'!$A$5:$P$536,12,0),\"\")&IF(L247>\"\",\".\"&E247,\"\")","v":""},{"$f":"IF(MAX('3-3 위험성평가'!$A$4:$A$470)+1>E247,VLOOKUP(E247,'3-3 위험성평가'!$A$5:$P$470,13,0),\"\")","v":""},null,"하",null,null,null,null,null,null,null,"선택안함",0,{"$f":"IF(MAX('3-3 위험성평가'!$A$4:$A$470)+1>E247,VLOOKUP(E247,'3-3 위험성평가'!$A$5:$Q$470,17,0),\"\")","v":""},"선택",{"$f":"표지!$D$33","v":"시원건설"},{"$f":"표지!$E$34","v":"김길동4"},"선택안함",0]
["T40",4,"S40",4,240,{"$f":"IF(MAX('3-3 위험성평가'!$A$4:$A$470)+1>E248,VLOOKUP(E248,'3-3 위험성평가'!$A$5:$P$470,2,0),\"\")","v":""},{"$f":"IF(F248=\"\",\"\",VLOOKUP(VALUE(F248),'1-1 사업장 공정 정보'!$D$15:$P$32,5,0))","v":""},{"$f":"IF(MAX('3-3 위험성평가'!$A$4:$A$470)+1>E248,VLOOKUP(E248,'3-3 위험성평가'!$A$5:$P$470,3,0),\"\")","v":""},{"$f":"IF(MAX('3-3 위험성평가'!$A$4:$A$470)+1>E248,VLOOKUP(E248,'3-3 위험성평가'!$A$5:$P$470,4,0),\"\")","v":""},{"$f":"IF(MAX('3-3 위험성평가'!$A$4:$A$470)+1>E248,VLOOKUP(E248,'3-3 위험성평가'!$A$5:$P$470,5,0),\"\")","v":""},{"$f":"IF(MAX('3-3 위험성평가'!$A$4:$A$470)+1>E248,VLOOKUP(E248,'3-3 위험성평가'!$A$5:$P$470,6,0),\"\")","v":""},{"$f":"IF(MAX('3-3 위험성평가'!$A$4:$A$470)+1>E248,VLOOKUP(E248,'3-3 위험성평가'!$A$5:$P$470,9,0),\"\")","v":""},{"$f":"IF(MAX('3-3 위험성평가'!$A$4:$A$536)+1>E248,VLOOKUP(E248,'3-3 위험성평가'!$A$5:$P$536,12,0),\"\")&IF(L248>\"\",\".\"&E248,\"\")","v":""},{"$f":"IF(MAX('3-3 위험성평가'!$A$4:$A$470)+1>E248,VLOOKUP(E248,'3-3 위험성평가'!$A$5:$P$470,13,0),\"\")","v":""},null,"하",null,null,null,null,null,null,null,"선택안함",0,{"$f":"IF(MAX('3-3 위험성평가'!$A$4:$A$470)+1>E248,VLOOKUP(E248,'3-3 위험성평가'!$A$5:$Q$470,17,0),\"\")","v":""},"선택",{"$f":"표지!$D$33","v":"시원건설"},{"$f":"표지!$E$34","v":"김길동4"},"선택안함",0]
["T40",4,"S40",4,241,{"$f":"IF(MAX('3-3 위험성평가'!$A$4:$A$470)+1>E249,VLOOKUP(E249,'3-3 위험성평가'!$A$5:$P$470,2,0),\"\")","v":""},{"$f":"IF(F249=\"\",\"\",VLOOKUP(VALUE(F249),'1-1 사업장 공정 정보'!$D$15:$P$32,5,0))","v":""},{"$f":"IF(MAX('3-3 위험성평가'!$A$4:$A$470)+1>E249,VLOOKUP(E249,'3-3 위험성평가'!$A$5:$P$470,3,0),\"\")","v":""},{"$f":"IF(MAX('3-3 위험성평가'!$A$4:$A$470)+1>E249,VLOOKUP(E249,'3-3 위험성평가'!$A$5:$P$470,4,0),\"\")","v":""},{"$f":"IF(MAX('3-3 위험성평가'!$A$4:$A$470)+1>E249,VLOOKUP(E249,'3-3 위험성평가'!$A$5:$P$470,5,0),\"\")","v":""},{"$f":"IF(MAX('3-3 위험성평가'!$A$4:$A$470)+1>E249,VLOOKUP(E249,'3-3 위험성평가'!$A$5:$P$470,6,0),\"\")","v":""},{"$f":"IF(MAX('3-3 위험성평가'!$A$4:$A$470)+1>E249,VLOOKUP(E249,'3-3 위험성평가'!$A$5:$P$470,9,0),\"\")","v":""},{"$f":"IF(MAX('3-3 위험성평가'!$A$4:$A$536)+1>E249,VLOOKUP(E249,'3-3 위험성평가'!$A$5:$P$536,12,0),\"\")&IF(L249>\"\",\".\"&E249,\"\")","v":""},{"$f":"IF(MAX('3-3 위험성평가'!$A$4:$A$470)+1>E249,VLOOKUP(E249,'3-3 위험성평가'!$A$5:$P$470,13,0),\"\")","v":""},null,"하",null,null,null,null,null,null,null,"선택안함",0,{"$f":"IF(MAX('3-3 위험성평가'!$A$4:$A$470)+1>E249,VLOOKUP(E249,'3-3 위험성평가'!$A$5:$Q$470,17,0),\"\")","v":""},"선택",{"$f":"표지!$D$33","v":"시원건설"},{"$f":"표지!$E$34","v":"김길동4"},"선택안함",0]
["T40",4,"S40",4,242,{"$f":"IF(MAX('3-3 위험성평가'!$A$4:$A$470)+1>E250,VLOOKUP(E250,'3-3 위험성평가'!$A$5:$P$470,2,0),\"\")","v":""},{"$f":"IF(F250=\"\",\"\",VLOOKUP(VALUE(F250),'1-1 사업장 공정 정보'!$D$15:$P$32,5,0))","v":""},{"$f":"IF(MAX('3-3 위험성평가'!$A$4:$A$470)+1>E250,VLOOKUP(E250,'3-3 위험성평가'!$A$5:$P$470,3,0),\"\")","v":""},{"$f":"IF(MAX('3-3 위험성평가'!$A$4:$A$470)+1>E250,VLOOKUP(E250,'3-3 위험성평가'!$A$5:$P$470,4,0),\"\")","v":""},{"$f":"IF(MAX('3-3 위험성평가'!$A$4:$A$470)+1>E250,VLOOKUP(E250,'3-3 위험성평가'!$A$5:$P$470,5,0),\"\")","v":""},{"$f":"IF(MAX('3-3 위험성평가'!$A$4:$A$470)+1>E250,VLOOKUP(E250,'3-3 위험성평가'!$A$5:$P$470,6,0),\"\")","v":""},{"$f":"IF(MAX('3-3 위험성평가'!$A$4:$A$470)+1>E250,VLOOKUP(E250,'3-3 위험성평가'!$A$5:$P$470,9,0),\"\")","v":""},{"$f":"IF(MAX('3-3 위험성평가'!$A$4:$A$536)+1>E250,VLOOKUP(E250,'3-3 위험성평가'!$A$5:$P$536,12,0),\"\")&IF(L250>\"\",\".\"&E250,\"\")","v":""},{"$f":"IF(MAX('3-3 위험성평가'!$A$4:$A$470)+1>E250,VLOOKUP(E250,'3-3 위험성평가'!$A$5:$P$470,13,0),\"\")","v":""},null,"하",null,null,null,null,null,null,null,"선택안함",0,{"$f":"IF(MAX('3-3 위험성평가'!$A$4:$A$470)+1>E250,VLOOKUP(E250,'3-3 위험성평가'!$A$5:$Q$470,17,0),\"\")","v":""},"선택",{"$f":"표지!$D$33","v":"시원건설"},{"$f":"표지!$E$34","v":"김길동4"},"선택안함",0]
["T40",4,"S40",4,243,{"$f":"IF(MAX('3-3 위험성평가'!$A$4:$A$470)+1>E251,VLOOKUP(E251,'3-3 위험성평가'!$A$5:$P$470,2,0),\"\")","v":""},{"$f":"IF(F251=\"\",\"\",VLOOKUP(VALUE(F251),'1-1 사업장 공정 정보'!$D$15:$P$32,5,0))","v":""},{"$f":"IF(MAX('3-3 위험성평가'!$A$4:$A$470)+1>E251,VLOOKUP(E251,'3-3 위험성평가'!$A$5:$P$470,3,0),\"\")","v":""},{"$f":"IF(MAX('3-3 위험성평가'!$A$4:$A$470)+1>E251,VLOOKUP(E251,'3-3 위험성평가'!$A$5:$P$470,4,0),\"\")","v":""},{"$f":"IF(MAX('3-3 위험성평가'!$A$4:$A$470)+1>E251,VLOOKUP(E251,'3-3 위험성평가'!$A$5:$P$470,5,0),\"\")","v":""},{"$f":"IF(MAX('3-3 위험성평가'!$A$4:$A$470)+1>E251,VLOOKUP(E251,'3-3 위험성평가'!$A$5:$P$470,6,0),\"\")","v":""},{"$f":"IF(MAX('3-3 위험성평가'!$A$4:$A$470)+1>E251,VLOOKUP(E251,'3-3 위험성평가'!$A$5:$P$470,9,0),\"\")","v":""},{"$f":"IF(MAX('3-3 위험성평가'!$A$4:$A$536)+1>E251,VLOOKUP(E251,'3-3 위험성평가'!$A$5:$P$536,12,0),\"\")&IF(L251>\"\",\".\"&E251,\"\")","v":""},{"$f":"IF(MAX('3-3 위험성평가'!$A$4:$A$470)+1>E251,VLOOKUP(E251,'3-3 위험성평가'!$A$5:$P$470,13,0),\"\")","v":""},null,"하",null,null,null,null,null,null,null,"선택안함",0,{"$f":"IF(MAX('3-3 위험성평가'!$A$4:$A$470)+1>E251,VLOOKUP(E251,'3-3 위험성평가'!$A$5:$Q$470,17,0),\"\")","v":""},"선택",{"$f":"표지!$D$33","v":"시원건설"},{"$f":"표지!$E$34","v":"김길동4"},"선택안함",0]
["T40",4,"S40",4,244,{"$f":"IF(MAX('3-3 위험성평가'!$A$4:$A$470)+1>E252,VLOOKUP(E252,'3-3 위험성평가'!$A$5:$P$470,2,0),\"\")","v":""},{"$f":"IF(F252=\"\",\"\",VLOOKUP(VALUE(F252),'1-1 사업장 공정 정보'!$D$15:$P$32,5,0))","v":""},{"$f":"IF(MAX('3-3 위험성평가'!$A$4:$A$470)+1>E252,VLOOKUP(E252,'3-3 위험성평가'!$A$5:$P$470,3,0),\"\")","v":""},{"$f":"IF(MAX('3-3 위험성평가'!$A$4:$A$470)+1>E252,VLOOKUP(E252,'3-3 위험성평가'!$A$5:$P$470,4,0),\"\")","v":""},{"$f":"IF(MAX('3-3 위험성평가'!$A$4:$A$470)+1>E252,VLOOKUP(E252,'3-3 위험성평가'!$A$5:$P$470,5,0),\"\")","v":""},{"$f":"IF(MAX('3-3 위험성평가'!$A$4:$A$470)+1>E252,VLOOKUP(E252,'3-3 위험성평가'!$A$5:$P$470,6,0),\"\")","v":""},{"$f":"IF(MAX('3-3 위험성평가'!$A$4:$A$470)+1>E252,VLOOKUP(E252,'3-3 위험성평가'!$A$5:$P$470,9,0),\"\")","v":""},{"$f":"IF(MAX('3-3 위험성평가'!$A$4:$A$536)+1>E252,VLOOKUP(E252,'3-3 위험성평가'!$A$5:$P$536,12,0),\"\")&IF(L252>\"\",\".\"&E252,\"\")","v":""},{"$f":"IF(MAX('3-3 위험성평가'!$A$4:$A$470)+1>E252,VLOOKUP(E252,'3-3 위험성평가'!$A$5:$P$470,13,0),\"\")","v":""},null,"하",null,null,null,null,null,null,null,"선택안함",0,{"$f":"IF(MAX('3-3 위험성평가'!$A$4:$A$470)+1>E252,VLOOKUP(E252,'3-3 위험성평가'!$A$5:$Q$470,17,0),\"\")","v":""},"선택",{"$f":"표지!$D$33","v":"시원건설"},{"$f":"표지!$E$34","v":"김길동4"},"선택안함",0]
["T40",4,"S40",4,245,{"$f":"IF(MAX('3-3 위험성평가'!$A$4:$A$470)+1>E253,VLOOKUP(E253,'3-3 위험성평가'!$A$5:$P$470,2,0),\"\")","v":""},{"$f":"IF(F253=\"\",\"\",VLOOKUP(VALUE(F253),'1-1 사업장 공정 정보'!$D$15:$P$32,5,0))","v":""},{"$f":"IF(MAX('3-3 위험성평가'!$A$4:$A$470)+1>E253,VLOOKUP(E253,'3-3 위험성평가'!$A$5:$P$470,3,0),\"\")","v":""},{"$f":"IF(MAX('3-3 위험성평가'!$A$4:$A$470)+1>E253,VLOOKUP(E253,'3-3 위험성평가'!$A$5:$P$470,4,0),\"\")","v":""},{"$f":"IF(MAX('3-3 위험성평가'!$A$4:$A$470)+1>E253,VLOOKUP(E253,'3-3 위험성평가'!$A$5:$P$470,5,0),\"\")","v":""},{"$f":"IF(MAX('3-3 위험성평가'!$A$4:$A$470)+1>E253,VLOOKUP(E253,'3-3 위험성평가'!$A$5:$P$470,6,0),\"\")","v":""},{"$f":"IF(MAX('3-3 위험성평가'!$A$4:$A$470)+1>E253,VLOOKUP(E253,'3-3 위험성평가'!$A$5:$P$470,9,0),\"\")","v":""},{"$f":"IF(MAX('3-3 위험성평가'!$A$4:$A$536)+1>E253,VLOOKUP(E253,'3-3 위험성평가'!$A$5:$P$536,12,0),\"\")&IF(L253>\"\",\".\"&E253,\"\")","v":""},{"$f":"IF(MAX('3-3 위험성평가'!$A$4:$A$470)+1>E253,VLOOKUP(E253,'3-3 위험성평가'!$A$5:$P$470,13,0),\"\")","v":""},null,"하",null,null,null,null,null,null,null,"선택안함",0,{"$f":"IF(MAX('3-3 위험성평가'!$A$4:$A$470)+1>E253,VLOOKUP(E253,'3-3 위험성평가'!$A$5:$Q$470,17,0),\"\")","v":""},"선택",{"$f":"표지!$D$33","v":"시원건설"},{"$f":"표지!$E$34","v":"김길동4"},"선택안함",0]
["T40",4,"S40",4,246,{"$f":"IF(MAX('3-3 위험성평가'!$A$4:$A$470)+1>E254,VLOOKUP(E254,'3-3 위험성평가'!$A$5:$P$470,2,0),\"\")","v":""},{"$f":"IF(F254=\"\",\"\",VLOOKUP(VALUE(F254),'1-1 사업장 공정 정보'!$D$15:$P$32,5,0))","v":""},{"$f":"IF(MAX('3-3 위험성평가'!$A$4:$A$470)+1>E254,VLOOKUP(E254,'3-3 위험성평가'!$A$5:$P$470,3,0),\"\")","v":""},{"$f":"IF(MAX('3-3 위험성평가'!$A$4:$A$470)+1>E254,VLOOKUP(E254,'3-3 위험성평가'!$A$5:$P$470,4,0),\"\")","v":""},{"$f":"IF(MAX('3-3 위험성평가'!$A$4:$A$470)+1>E254,VLOOKUP(E254,'3-3 위험성평가'!$A$5:$P$470,5,0),\"\")","v":""},{"$f":"IF(MAX('3-3 위험성평가'!$A$4:$A$470)+1>E254,VLOOKUP(E254,'3-3 위험성평가'!$A$5:$P$470,6,0),\"\")","v":""},{"$f":"IF(MAX('3-3 위험성평가'!$A$4:$A$470)+1>E254,VLOOKUP(E254,'3-3 위험성평가'!$A$5:$P$470,9,0),\"\")","v":""},{"$f":"IF(MAX('3-3 위험성평가'!$A$4:$A$536)+1>E254,VLOOKUP(E254,'3-3 위험성평가'!$A$5:$P$536,12,0),\"\")&IF(L254>\"\",\".\"&E254,\"\")","v":""},{"$f":"IF(MAX('3-3 위험성평가'!$A$4:$A$470)+1>E254,VLOOKUP(E254,'3-3 위험성평가'!$A$5:$P$470,13,0),\"\")","v":""},null,"하",null,null,null,null,null,null,null,"선택안함",0,{"$f":"IF(MAX('3-3 위험성평가'!$A$4:$A$470)+1>E254,VLOOKUP(E254,'3-3 위험성평가'!$A$5:$Q$470,17,0),\"\")","v":""},"선택",{"$f":"표지!$D$33","v":"시원건설"},{"$f":"표지!$E$34","v":"김길동4"},"선택안함",0]
["T40",4,"S40",4,247,{"$f":"IF(MAX('3-3 위험성평가'!$A$4:$A$470)+1>E255,VLOOKUP(E255,'3-3 위험성평가'!$A$5:$P$470,2,0),\"\")","v":""},{"$f":"IF(F255=\"\",\"\",VLOOKUP(VALUE(F255),'1-1 사업장 공정 정보'!$D$15:$P$32,5,0))","v":""},{"$f":"IF(MAX('3-3 위험성평가'!$A$4:$A$470)+1>E255,VLOOKUP(E255,'3-3 위험성평가'!$A$5:$P$470,3,0),\"\")","v":""},{"$f":"IF(MAX('3-3 위험성평가'!$A$4:$A$470)+1>E255,VLOOKUP(E255,'3-3 위험성평가'!$A$5:$P$470,4,0),\"\")","v":""},{"$f":"IF(MAX('3-3 위험성평가'!$A$4:$A$470)+1>E255,VLOOKUP(E255,'3-3 위험성평가'!$A$5:$P$470,5,0),\"\")","v":""},{"$f":"IF(MAX('3-3 위험성평가'!$A$4:$A$470)+1>E255,VLOOKUP(E255,'3-3 위험성평가'!$A$5:$P$470,6,0),\"\")","v":""},{"$f":"IF(MAX('3-3 위험성평가'!$A$4:$A$470)+1>E255,VLOOKUP(E255,'3-3 위험성평가'!$A$5:$P$470,9,0),\"\")","v":""},{"$f":"IF(MAX('3-3 위험성평가'!$A$4:$A$536)+1>E255,VLOOKUP(E255,'3-3 위험성평가'!$A$5:$P$536,12,0),\"\")&IF(L255>\"\",\".\"&E255,\"\")","v":""},{"$f":"IF(MAX('3-3 위험성평가'!$A$4:$A$470)+1>E255,VLOOKUP(E255,'3-3 위험성평가'!$A$5:$P$470,13,0),\"\")","v":""},null,"하",null,null,null,null,null,null,null,"선택안함",0,{"$f":"IF(MAX('3-3 위험성평가'!$A$4:$A$470)+1>E255,VLOOKUP(E255,'3-3 위험성평가'!$A$5:$Q$470,17,0),\"\")","v":""},"선택",{"$f":"표지!$D$33","v":"시원건설"},{"$f":"표지!$E$34","v":"김길동4"},"선택안함",0]
["T40",4,"S40",4,248,{"$f":"IF(MAX('3-3 위험성평가'!$A$4:$A$470)+1>E256,VLOOKUP(E256,'3-3 위험성평가'!$A$5:$P$470,2,0),\"\")","v":""},{"$f":"IF(F256=\"\",\"\",VLOOKUP(VALUE(F256),'1-1 사업장 공정 정보'!$D$15:$P$32,5,0))","v":""},{"$f":"IF(MAX('3-3 위험성평가'!$A$4:$A$470)+1>E256,VLOOKUP(E256,'3-3 위험성평가'!$A$5:$P$470,3,0),\"\")","v":""},{"$f":"IF(MAX('3-3 위험성평가'!$A$4:$A$470)+1>E256,VLOOKUP(E256,'3-3 위험성평가'!$A$5:$P$470,4,0),\"\")","v":""},{"$f":"IF(MAX('3-3 위험성평가'!$A$4:$A$470)+1>E256,VLOOKUP(E256,'3-3 위험성평가'!$A$5:$P$470,5,0),\"\")","v":""},{"$f":"IF(MAX('3-3 위험성평가'!$A$4:$A$470)+1>E256,VLOOKUP(E256,'3-3 위험성평가'!$A$5:$P$470,6,0),\"\")","v":""},{"$f":"IF(MAX('3-3 위험성평가'!$A$4:$A$470)+1>E256,VLOOKUP(E256,'3-3 위험성평가'!$A$5:$P$470,9,0),\"\")","v":""},{"$f":"IF(MAX('3-3 위험성평가'!$A$4:$A$536)+1>E256,VLOOKUP(E256,'3-3 위험성평가'!$A$5:$P$536,12,0),\"\")&IF(L256>\"\",\".\"&E256,\"\")","v":""},{"$f":"IF(MAX('3-3 위험성평가'!$A$4:$A$470)+1>E256,VLOOKUP(E256,'3-3 위험성평가'!$A$5:$P$470,13,0),\"\")","v":""},null,"하",null,null,null,null,null,null,null,"선택안함",0,{"$f":"IF(MAX('3-3 위험성평가'!$A$4:$A$470)+1>E256,VLOOKUP(E256,'3-3 위험성평가'!$A$5:$Q$470,17,0),\"\")","v":""},"선택",{"$f":"표지!$D$33","v":"시원건설"},{"$f":"표지!$E$34","v":"김길동4"},"선택안함",0]
["T40",4,"S40",4,249,{"$f":"IF(MAX('3-3 위험성평가'!$A$4:$A$470)+1>E257,VLOOKUP(E257,'3-3 위험성평가'!$A$5:$P$470,2,0),\"\")","v":""},{"$f":"IF(F257=\"\",\"\",VLOOKUP(VALUE(F257),'1-1 사업장 공정 정보'!$D$15:$P$32,5,0))","v":""},{"$f":"IF(MAX('3-3 위험성평가'!$A$4:$A$470)+1>E257,VLOOKUP(E257,'3-3 위험성평가'!$A$5:$P$470,3,0),\"\")","v":""},{"$f":"IF(MAX('3-3 위험성평가'!$A$4:$A$470)+1>E257,VLOOKUP(E257,'3-3 위험성평가'!$A$5:$P$470,4,0),\"\")","v":""},{"$f":"IF(MAX('3-3 위험성평가'!$A$4:$A$470)+1>E257,VLOOKUP(E257,'3-3 위험성평가'!$A$5:$P$470,5,0),\"\")","v":""},{"$f":"IF(MAX('3-3 위험성평가'!$A$4:$A$470)+1>E257,VLOOKUP(E257,'3-3 위험성평가'!$A$5:$P$470,6,0),\"\")","v":""},{"$f":"IF(MAX('3-3 위험성평가'!$A$4:$A$470)+1>E257,VLOOKUP(E257,'3-3 위험성평가'!$A$5:$P$470,9,0),\"\")","v":""},{"$f":"IF(MAX('3-3 위험성평가'!$A$4:$A$536)+1>E257,VLOOKUP(E257,'3-3 위험성평가'!$A$5:$P$536,12,0),\"\")&IF(L257>\"\",\".\"&E257,\"\")","v":""},{"$f":"IF(MAX('3-3 위험성평가'!$A$4:$A$470)+1>E257,VLOOKUP(E257,'3-3 위험성평가'!$A$5:$P$470,13,0),\"\")","v":""},null,"하",null,null,null,null,null,null,null,"선택안함",0,{"$f":"IF(MAX('3-3 위험성평가'!$A$4:$A$470)+1>E257,VLOOKUP(E257,'3-3 위험성평가'!$A$5:$Q$470,17,0),\"\")","v":""},"선택",{"$f":"표지!$D$33","v":"시원건설"},{"$f":"표지!$E$34","v":"김길동4"},"선택안함",0]
["T40",4,"S40",4,250,{"$f":"IF(MAX('3-3 위험성평가'!$A$4:$A$470)+1>E258,VLOOKUP(E258,'3-3 위험성평가'!$A$5:$P$470,2,0),\"\")","v":""},{"$f":"IF(F258=\"\",\"\",VLOOKUP(VALUE(F258),'1-1 사업장 공정 정보'!$D$15:$P$32,5,0))","v":""},{"$f":"IF(MAX('3-3 위험성평가'!$A$4:$A$470)+1>E258,VLOOKUP(E258,'3-3 위험성평가'!$A$5:$P$470,3,0),\"\")","v":""},{"$f":"IF(MAX('3-3 위험성평가'!$A$4:$A$470)+1>E258,VLOOKUP(E258,'3-3 위험성평가'!$A$5:$P$470,4,0),\"\")","v":""},{"$f":"IF(MAX('3-3 위험성평가'!$A$4:$A$470)+1>E258,VLOOKUP(E258,'3-3 위험성평가'!$A$5:$P$470,5,0),\"\")","v":""},{"$f":"IF(MAX('3-3 위험성평가'!$A$4:$A$470)+1>E258,VLOOKUP(E258,'3-3 위험성평가'!$A$5:$P$470,6,0),\"\")","v":""},{"$f":"IF(MAX('3-3 위험성평가'!$A$4:$A$470)+1>E258,VLOOKUP(E258,'3-3 위험성평가'!$A$5:$P$470,9,0),\"\")","v":""},{"$f":"IF(MAX('3-3 위험성평가'!$A$4:$A$536)+1>E258,VLOOKUP(E258,'3-3 위험성평가'!$A$5:$P$536,12,0),\"\")&IF(L258>\"\",\".\"&E258,\"\")","v":""},{"$f":"IF(MAX('3-3 위험성평가'!$A$4:$A$470)+1>E258,VLOOKUP(E258,'3-3 위험성평가'!$A$5:$P$470,13,0),\"\")","v":""},null,"하",null,null,null,null,null,null,null,"선택안함",0,{"$f":"IF(MAX('3-3 위험성평가'!$A$4:$A$470)+1>E258,VLOOKUP(E258,'3-3 위험성평가'!$A$5:$Q$470,17,0),\"\")","v":""},"선택",{"$f":"표지!$D$33","v":"시원건설"},{"$f":"표지!$E$34","v":"김길동4"},"선택안함",0]
["T40",4,"S40",4,251,{"$f":"IF(MAX('3-3 위험성평가'!$A$4:$A$470)+1>E259,VLOOKUP(E259,'3-3 위험성평가'!$A$5:$P$470,2,0),\"\")","v":""},{"$f":"IF(F259=\"\",\"\",VLOOKUP(VALUE(F259),'1-1 사업장 공정 정보'!$D$15:$P$32,5,0))","v":""},{"$f":"IF(MAX('3-3 위험성평가'!$A$4:$A$470)+1>E259,VLOOKUP(E259,'3-3 위험성평가'!$A$5:$P$470,3,0),\"\")","v":""},{"$f":"IF(MAX('3-3 위험성평가'!$A$4:$A$470)+1>E259,VLOOKUP(E259,'3-3 위험성평가'!$A$5:$P$470,4,0),\"\")","v":""},{"$f":"IF(MAX('3-3 위험성평가'!$A$4:$A$470)+1>E259,VLOOKUP(E259,'3-3 위험성평가'!$A$5:$P$470,5,0),\"\")","v":""},{"$f":"IF(MAX('3-3 위험성평가'!$A$4:$A$470)+1>E259,VLOOKUP(E259,'3-3 위험성평가'!$A$5:$P$470,6,0),\"\")","v":""},{"$f":"IF(MAX('3-3 위험성평가'!$A$4:$A$470)+1>E259,VLOOKUP(E259,'3-3 위험성평가'!$A$5:$P$470,9,0),\"\")","v":""},{"$f":"IF(MAX('3-3 위험성평가'!$A$4:$A$536)+1>E259,VLOOKUP(E259,'3-3 위험성평가'!$A$5:$P$536,12,0),\"\")&IF(L259>\"\",\".\"&E259,\"\")","v":""},{"$f":"IF(MAX('3-3 위험성평가'!$A$4:$A$470)+1>E259,VLOOKUP(E259,'3-3 위험성평가'!$A$5:$P$470,13,0),\"\")","v":""},null,"하",null,null,null,null,null,null,null,"선택안함",0,{"$f":"IF(MAX('3-3 위험성평가'!$A$4:$A$470)+1>E259,VLOOKUP(E259,'3-3 위험성평가'!$A$5:$Q$470,17,0),\"\")","v":""},"선택",{"$f":"표지!$D$33","v":"시원건설"},{"$f":"표지!$E$34","v":"김길동4"},"선택안함",0]
["T40",4,"S40",4,252,{"$f":"IF(MAX('3-3 위험성평가'!$A$4:$A$470)+1>E260,VLOOKUP(E260,'3-3 위험성평가'!$A$5:$P$470,2,0),\"\")","v":""},{"$f":"IF(F260=\"\",\"\",VLOOKUP(VALUE(F260),'1-1 사업장 공정 정보'!$D$15:$P$32,5,0))","v":""},{"$f":"IF(MAX('3-3 위험성평가'!$A$4:$A$470)+1>E260,VLOOKUP(E260,'3-3 위험성평가'!$A$5:$P$470,3,0),\"\")","v":""},{"$f":"IF(MAX('3-3 위험성평가'!$A$4:$A$470)+1>E260,VLOOKUP(E260,'3-3 위험성평가'!$A$5:$P$470,4,0),\"\")","v":""},{"$f":"IF(MAX('3-3 위험성평가'!$A$4:$A$470)+1>E260,VLOOKUP(E260,'3-3 위험성평가'!$A$5:$P$470,5,0),\"\")","v":""},{"$f":"IF(MAX('3-3 위험성평가'!$A$4:$A$470)+1>E260,VLOOKUP(E260,'3-3 위험성평가'!$A$5:$P$470,6,0),\"\")","v":""},{"$f":"IF(MAX('3-3 위험성평가'!$A$4:$A$470)+1>E260,VLOOKUP(E260,'3-3 위험성평가'!$A$5:$P$470,9,0),\"\")","v":""},{"$f":"IF(MAX('3-3 위험성평가'!$A$4:$A$536)+1>E260,VLOOKUP(E260,'3-3 위험성평가'!$A$5:$P$536,12,0),\"\")&IF(L260>\"\",\".\"&E260,\"\")","v":""},{"$f":"IF(MAX('3-3 위험성평가'!$A$4:$A$470)+1>E260,VLOOKUP(E260,'3-3 위험성평가'!$A$5:$P$470,13,0),\"\")","v":""},null,"하",null,null,null,null,null,null,null,"선택안함",0,{"$f":"IF(MAX('3-3 위험성평가'!$A$4:$A$470)+1>E260,VLOOKUP(E260,'3-3 위험성평가'!$A$5:$Q$470,17,0),\"\")","v":""},"선택",{"$f":"표지!$D$33","v":"시원건설"},{"$f":"표지!$E$34","v":"김길동4"},"선택안함",0]
["T40",4,"S40",4,253,{"$f":"IF(MAX('3-3 위험성평가'!$A$4:$A$470)+1>E261,VLOOKUP(E261,'3-3 위험성평가'!$A$5:$P$470,2,0),\"\")","v":""},{"$f":"IF(F261=\"\",\"\",VLOOKUP(VALUE(F261),'1-1 사업장 공정 정보'!$D$15:$P$32,5,0))","v":""},{"$f":"IF(MAX('3-3 위험성평가'!$A$4:$A$470)+1>E261,VLOOKUP(E261,'3-3 위험성평가'!$A$5:$P$470,3,0),\"\")","v":""},{"$f":"IF(MAX('3-3 위험성평가'!$A$4:$A$470)+1>E261,VLOOKUP(E261,'3-3 위험성평가'!$A$5:$P$470,4,0),\"\")","v":""},{"$f":"IF(MAX('3-3 위험성평가'!$A$4:$A$470)+1>E261,VLOOKUP(E261,'3-3 위험성평가'!$A$5:$P$470,5,0),\"\")","v":""},{"$f":"IF(MAX('3-3 위험성평가'!$A$4:$A$470)+1>E261,VLOOKUP(E261,'3-3 위험성평가'!$A$5:$P$470,6,0),\"\")","v":""},{"$f":"IF(MAX('3-3 위험성평가'!$A$4:$A$470)+1>E261,VLOOKUP(E261,'3-3 위험성평가'!$A$5:$P$470,9,0),\"\")","v":""},{"$f":"IF(MAX('3-3 위험성평가'!$A$4:$A$536)+1>E261,VLOOKUP(E261,'3-3 위험성평가'!$A$5:$P$536,12,0),\"\")&IF(L261>\"\",\".\"&E261,\"\")","v":""},{"$f":"IF(MAX('3-3 위험성평가'!$A$4:$A$470)+1>E261,VLOOKUP(E261,'3-3 위험성평가'!$A$5:$P$470,13,0),\"\")","v":""},null,"하",null,null,null,null,null,null,null,"선택안함",0,{"$f":"IF(MAX('3-3 위험성평가'!$A$4:$A$470)+1>E261,VLOOKUP(E261,'3-3 위험성평가'!$A$5:$Q$470,17,0),\"\")","v":""},"선택",{"$f":"표지!$D$33","v":"시원건설"},{"$f":"표지!$E$34","v":"김길동4"},"선택안함",0]
["T40",4,"S40",4,254,{"$f":"IF(MAX('3-3 위험성평가'!$A$4:$A$470)+1>E262,VLOOKUP(E262,'3-3 위험성평가'!$A$5:$P$470,2,0),\"\")","v":""},{"$f":"IF(F262=\"\",\"\",VLOOKUP(VALUE(F262),'1-1 사업장 공정 정보'!$D$15:$P$32,5,0))","v":""},{"$f":"IF(MAX('3-3 위험성평가'!$A$4:$A$470)+1>E262,VLOOKUP(E262,'3-3 위험성평가'!$A$5:$P$470,3,0),\"\")","v":""},{"$f":"IF(MAX('3-3 위험성평가'!$A$4:$A$470)+1>E262,VLOOKUP(E262,'3-3 위험성평가'!$A$5:$P$470,4,0),\"\")","v":""},{"$f":"IF(MAX('3-3 위험성평가'!$A$4:$A$470)+1>E262,VLOOKUP(E262,'3-3 위험성평가'!$A$5:$P$470,5,0),\"\")","v":""},{"$f":"IF(MAX('3-3 위험성평가'!$A$4:$A$470)+1>E262,VLOOKUP(E262,'3-3 위험성평가'!$A$5:$P$470,6,0),\"\")","v":""},{"$f":"IF(MAX('3-3 위험성평가'!$A$4:$A$470)+1>E262,VLOOKUP(E262,'3-3 위험성평가'!$A$5:$P$470,9,0),\"\")","v":""},{"$f":"IF(MAX('3-3 위험성평가'!$A$4:$A$536)+1>E262,VLOOKUP(E262,'3-3 위험성평가'!$A$5:$P$536,12,0),\"\")&IF(L262>\"\",\".\"&E262,\"\")","v":""},{"$f":"IF(MAX('3-3 위험성평가'!$A$4:$A$470)+1>E262,VLOOKUP(E262,'3-3 위험성평가'!$A$5:$P$470,13,0),\"\")","v":""},null,"하",null,null,null,null,null,null,null,"선택안함",0,{"$f":"IF(MAX('3-3 위험성평가'!$A$4:$A$470)+1>E262,VLOOKUP(E262,'3-3 위험성평가'!$A$5:$Q$470,17,0),\"\")","v":""},"선택",{"$f":"표지!$D$33","v":"시원건설"},{"$f":"표지!$E$34","v":"김길동4"},"선택안함",0]
["T40",4,"S40",4,255,{"$f":"IF(MAX('3-3 위험성평가'!$A$4:$A$470)+1>E263,VLOOKUP(E263,'3-3 위험성평가'!$A$5:$P$470,2,0),\"\")","v":""},{"$f":"IF(F263=\"\",\"\",VLOOKUP(VALUE(F263),'1-1 사업장 공정 정보'!$D$15:$P$32,5,0))","v":""},{"$f":"IF(MAX('3-3 위험성평가'!$A$4:$A$470)+1>E263,VLOOKUP(E263,'3-3 위험성평가'!$A$5:$P$470,3,0),\"\")","v":""},{"$f":"IF(MAX('3-3 위험성평가'!$A$4:$A$470)+1>E263,VLOOKUP(E263,'3-3 위험성평가'!$A$5:$P$470,4,0),\"\")","v":""},{"$f":"IF(MAX('3-3 위험성평가'!$A$4:$A$470)+1>E263,VLOOKUP(E263,'3-3 위험성평가'!$A$5:$P$470,5,0),\"\")","v":""},{"$f":"IF(MAX('3-3 위험성평가'!$A$4:$A$470)+1>E263,VLOOKUP(E263,'3-3 위험성평가'!$A$5:$P$470,6,0),\"\")","v":""},{"$f":"IF(MAX('3-3 위험성평가'!$A$4:$A$470)+1>E263,VLOOKUP(E263,'3-3 위험성평가'!$A$5:$P$470,9,0),\"\")","v":""},{"$f":"IF(MAX('3-3 위험성평가'!$A$4:$A$536)+1>E263,VLOOKUP(E263,'3-3 위험성평가'!$A$5:$P$536,12,0),\"\")&IF(L263>\"\",\".\"&E263,\"\")","v":""},{"$f":"IF(MAX('3-3 위험성평가'!$A$4:$A$470)+1>E263,VLOOKUP(E263,'3-3 위험성평가'!$A$5:$P$470,13,0),\"\")","v":""},null,"하",null,null,null,null,null,null,null,"선택안함",0,{"$f":"IF(MAX('3-3 위험성평가'!$A$4:$A$470)+1>E263,VLOOKUP(E263,'3-3 위험성평가'!$A$5:$Q$470,17,0),\"\")","v":""},"선택",{"$f":"표지!$D$33","v":"시원건설"},{"$f":"표지!$E$34","v":"김길동4"},"선택안함",0]
["T40",4,"S40",4,256,{"$f":"IF(MAX('3-3 위험성평가'!$A$4:$A$470)+1>E264,VLOOKUP(E264,'3-3 위험성평가'!$A$5:$P$470,2,0),\"\")","v":""},{"$f":"IF(F264=\"\",\"\",VLOOKUP(VALUE(F264),'1-1 사업장 공정 정보'!$D$15:$P$32,5,0))","v":""},{"$f":"IF(MAX('3-3 위험성평가'!$A$4:$A$470)+1>E264,VLOOKUP(E264,'3-3 위험성평가'!$A$5:$P$470,3,0),\"\")","v":""},{"$f":"IF(MAX('3-3 위험성평가'!$A$4:$A$470)+1>E264,VLOOKUP(E264,'3-3 위험성평가'!$A$5:$P$470,4,0),\"\")","v":""},{"$f":"IF(MAX('3-3 위험성평가'!$A$4:$A$470)+1>E264,VLOOKUP(E264,'3-3 위험성평가'!$A$5:$P$470,5,0),\"\")","v":""},{"$f":"IF(MAX('3-3 위험성평가'!$A$4:$A$470)+1>E264,VLOOKUP(E264,'3-3 위험성평가'!$A$5:$P$470,6,0),\"\")","v":""},{"$f":"IF(MAX('3-3 위험성평가'!$A$4:$A$470)+1>E264,VLOOKUP(E264,'3-3 위험성평가'!$A$5:$P$470,9,0),\"\")","v":""},{"$f":"IF(MAX('3-3 위험성평가'!$A$4:$A$536)+1>E264,VLOOKUP(E264,'3-3 위험성평가'!$A$5:$P$536,12,0),\"\")&IF(L264>\"\",\".\"&E264,\"\")","v":""},{"$f":"IF(MAX('3-3 위험성평가'!$A$4:$A$470)+1>E264,VLOOKUP(E264,'3-3 위험성평가'!$A$5:$P$470,13,0),\"\")","v":""},null,"하",null,null,null,null,null,null,null,"선택안함",0,{"$f":"IF(MAX('3-3 위험성평가'!$A$4:$A$470)+1>E264,VLOOKUP(E264,'3-3 위험성평가'!$A$5:$Q$470,17,0),\"\")","v":""},"선택",{"$f":"표지!$D$33","v":"시원건설"},{"$f":"표지!$E$34","v":"김길동4"},"선택안함",0]
[{"$f":"\"T\"&B265&IF(OR(X265=\"선택\",X265=1),1,0)","v":"T40"},4,"S40",4,257,{"$f":"IF(MAX('3-3 위험성평가'!$A$4:$A$470)+1>E265,VLOOKUP(E265,'3-3 위험성평가'!$A$5:$P$470,2,0),\"\")","v":""},{"$f":"IF(F265=\"\",\"\",VLOOKUP(VALUE(F265),'1-1 사업장 공정 정보'!$D$15:$P$32,5,0))","v":""},{"$f":"IF(MAX('3-3 위험성평가'!$A$4:$A$470)+1>E265,VLOOKUP(E265,'3-3 위험성평가'!$A$5:$P$470,3,0),\"\")","v":""},{"$f":"IF(MAX('3-3 위험성평가'!$A$4:$A$470)+1>E265,VLOOKUP(E265,'3-3 위험성평가'!$A$5:$P$470,4,0),\"\")","v":""},{"$f":"IF(MAX('3-3 위험성평가'!$A$4:$A$470)+1>E265,VLOOKUP(E265,'3-3 위험성평가'!$A$5:$P$470,5,0),\"\")","v":""},{"$f":"IF(MAX('3-3 위험성평가'!$A$4:$A$470)+1>E265,VLOOKUP(E265,'3-3 위험성평가'!$A$5:$P$470,6,0),\"\")","v":""},{"$f":"IF(MAX('3-3 위험성평가'!$A$4:$A$470)+1>E265,VLOOKUP(E265,'3-3 위험성평가'!$A$5:$P$470,9,0),\"\")","v":""},{"$f":"IF(MAX('3-3 위험성평가'!$A$4:$A$536)+1>E265,VLOOKUP(E265,'3-3 위험성평가'!$A$5:$P$536,12,0),\"\")&IF(L265>\"\",\".\"&E265,\"\")","v":""},{"$f":"IF(MAX('3-3 위험성평가'!$A$4:$A$470)+1>E265,VLOOKUP(E265,'3-3 위험성평가'!$A$5:$P$470,13,0),\"\")","v":""},null,"하",null,null,null,null,null,null,null,"선택안함",0,{"$f":"IF(MAX('3-3 위험성평가'!$A$4:$A$470)+1>E265,VLOOKUP(E265,'3-3 위험성평가'!$A$5:$Q$470,17,0),\"\")","v":""},"선택",{"$f":"표지!$D$33","v":"시원건설"},{"$f":"표지!$E$34","v":"김길동4"},"선택안함",0]
["T40",4,{"$f":"\"S\"&D266&IF(OR(AD266=\"선택\",AD266=1),1,0)","v":"S40"},4,258,{"$f":"IF(MAX('3-3 위험성평가'!$A$4:$A$470)+1>E266,VLOOKUP(E266,'3-3 위험성평가'!$A$5:$P$470,2,0),\"\")","v":""},{"$f":"IF(F266=\"\",\"\",VLOOKUP(VALUE(F266),'1-1 사업장 공정 정보'!$D$15:$P$32,5,0))","v":""},{"$f":"IF(MAX('3-3 위험성평가'!$A$4:$A$470)+1>E266,VLOOKUP(E266,'3-3 위험성평가'!$A$5:$P$470,3,0),\"\")","v":""},{"$f":"IF(MAX('3-3 위험성평가'!$A$4:$A$470)+1>E266,VLOOKUP(E266,'3-3 위험성평가'!$A$5:$P$470,4,0),\"\")","v":""},{"$f":"IF(MAX('3-3 위험성평가'!$A$4:$A$470)+1>E266,VLOOKUP(E266,'3-3 위험성평가'!$A$5:$P$470,5,0),\"\")","v":""},{"$f":"IF(MAX('3-3 위험성평가'!$A$4:$A$470)+1>E266,VLOOKUP(E266,'3-3 위험성평가'!$A$5:$P$470,6,0),\"\")","v":""},{"$f":"IF(MAX('3-3 위험성평가'!$A$4:$A$470)+1>E266,VLOOKUP(E266,'3-3 위험성평가'!$A$5:$P$470,9,0),\"\")","v":""},{"$f":"IF(MAX('3-3 위험성평가'!$A$4:$A$536)+1>E266,VLOOKUP(E266,'3-3 위험성평가'!$A$5:$P$536,12,0),\"\")&IF(L266>\"\",\".\"&E266,\"\")","v":""},{"$f":"IF(MAX('3-3 위험성평가'!$A$4:$A$470)+1>E266,VLOOKUP(E266,'3-3 위험성평가'!$A$5:$P$470,13,0),\"\")","v":""},null,"하",null,null,null,null,null,null,null,"선택안함",{"$f":"IF(OR(X266=\"선택\",X266=1),1,0)","v":0},{"$f":"IF(MAX('3-3 위험성평가'!$A$4:$A$470)+1>E266,VLOOKUP(E266,'3-3 위험성평가'!$A$5:$Q$470,17,0),\"\")","v":""},"선택",{"$f":"표지!$D$33","v":"시원건설"},{"$f":"표지!$E$34","v":"김길동4"},"선택안함",{"$f":"IF(OR(AD266=\"선택\",AD266=1),1,0)","v":0}]
["T40",4,"S40",4,259,{"$f":"IF(MAX('3-3 위험성평가'!$A$4:$A$470)+1>E267,VLOOKUP(E267,'3-3 위험성평가'!$A$5:$P$470,2,0),\"\")","v":""},{"$f":"IF(F267=\"\",\"\",VLOOKUP(VALUE(F267),'1-1 사업장 공정 정보'!$D$15:$P$32,5,0))","v":""},{"$f":"IF(MAX('3-3 위험성평가'!$A$4:$A$470)+1>E267,VLOOKUP(E267,'3-3 위험성평가'!$A$5:$P$470,3,0),\"\")","v":""},{"$f":"IF(MAX('3-3 위험성평가'!$A$4:$A$470)+1>E267,VLOOKUP(E267,'3-3 위험성평가'!$A$5:$P$470,4,0),\"\")","v":""},{"$f":"IF(MAX('3-3 위험성평가'!$A$4:$A$470)+1>E267,VLOOKUP(E267,'3-3 위험성평가'!$A$5:$P$470,5,0),\"\")","v":""},{"$f":"IF(MAX('3-3 위험성평가'!$A$4:$A$470)+1>E267,VLOOKUP(E267,'3-3 위험성평가'!$A$5:$P$470,6,0),\"\")","v":""},{"$f":"IF(MAX('3-3 위험성평가'!$A$4:$A$470)+1>E267,VLOOKUP(E267,'3-3 위험성평가'!$A$5:$P$470,9,0),\"\")","v":""},{"$f":"IF(MAX('3-3 위험성평가'!$A$4:$A$536)+1>E267,VLOOKUP(E267,'3-3 위험성평가'!$A$5:$P$536,12,0),\"\")&IF(L267>\"\",\".\"&E267,\"\")","v":""},{"$f":"IF(MAX('3-3 위험성평가'!$A$4:$A$470)+1>E267,VLOOKUP(E267,'3-3 위험성평가'!$A$5:$P$470,13,0),\"\")","v":""},null,"하",null,null,null,null,null,null,null,"선택안함",0,{"$f":"IF(MAX('3-3 위험성평가'!$A$4:$A$470)+1>E267,VLOOKUP(E267,'3-3 위험성평가'!$A$5:$Q$470,17,0),\"\")","v":""},"선택",{"$f":"표지!$D$33","v":"시원건설"},{"$f":"표지!$E$34","v":"김길동4"},"선택안함",0]
["T40",4,"S40",{"$f":"D267+AE268","v":4},260,{"$f":"IF(MAX('3-3 위험성평가'!$A$4:$A$470)+1>E268,VLOOKUP(E268,'3-3 위험성평가'!$A$5:$P$470,2,0),\"\")","v":""},{"$f":"IF(F268=\"\",\"\",VLOOKUP(VALUE(F268),'1-1 사업장 공정 정보'!$D$15:$P$32,5,0))","v":""},{"$f":"IF(MAX('3-3 위험성평가'!$A$4:$A$470)+1>E268,VLOOKUP(E268,'3-3 위험성평가'!$A$5:$P$470,3,0),\"\")","v":""},{"$f":"IF(MAX('3-3 위험성평가'!$A$4:$A$470)+1>E268,VLOOKUP(E268,'3-3 위험성평가'!$A$5:$P$470,4,0),\"\")","v":""},{"$f":"IF(MAX('3-3 위험성평가'!$A$4:$A$470)+1>E268,VLOOKUP(E268,'3-3 위험성평가'!$A$5:$P$470,5,0),\"\")","v":""},{"$f":"IF(MAX('3-3 위험성평가'!$A$4:$A$470)+1>E268,VLOOKUP(E268,'3-3 위험성평가'!$A$5:$P$470,6,0),\"\")","v":""},{"$f":"IF(MAX('3-3 위험성평가'!$A$4:$A$470)+1>E268,VLOOKUP(E268,'3-3 위험성평가'!$A$5:$P$470,9,0),\"\")","v":""},{"$f":"IF(MAX('3-3 위험성평가'!$A$4:$A$536)+1>E268,VLOOKUP(E268,'3-3 위험성평가'!$A$5:$P$536,12,0),\"\")&IF(L268>\"\",\".\"&E268,\"\")","v":""},{"$f":"IF(MAX('3-3 위험성평가'!$A$4:$A$470)+1>E268,VLOOKUP(E268,'3-3 위험성평가'!$A$5:$P$470,13,0),\"\")","v":""},null,"하",null,null,null,null,null,null,null,"선택안함",0,{"$f":"IF(MAX('3-3 위험성평가'!$A$4:$A$470)+1>E268,VLOOKUP(E268,'3-3 위험성평가'!$A$5:$Q$470,17,0),\"\")","v":""},"선택",{"$f":"표지!$D$33","v":"시원건설"},{"$f":"표지!$E$34","v":"김길동4"},"선택안함",0]
["T40",4,"S40",4,261,{"$f":"IF(MAX('3-3 위험성평가'!$A$4:$A$470)+1>E269,VLOOKUP(E269,'3-3 위험성평가'!$A$5:$P$470,2,0),\"\")","v":""},{"$f":"IF(F269=\"\",\"\",VLOOKUP(VALUE(F269),'1-1 사업장 공정 정보'!$D$15:$P$32,5,0))","v":""},{"$f":"IF(MAX('3-3 위험성평가'!$A$4:$A$470)+1>E269,VLOOKUP(E269,'3-3 위험성평가'!$A$5:$P$470,3,0),\"\")","v":""},{"$f":"IF(MAX('3-3 위험성평가'!$A$4:$A$470)+1>E269,VLOOKUP(E269,'3-3 위험성평가'!$A$5:$P$470,4,0),\"\")","v":""},{"$f":"IF(MAX('3-3 위험성평가'!$A$4:$A$470)+1>E269,VLOOKUP(E269,'3-3 위험성평가'!$A$5:$P$470,5,0),\"\")","v":""},{"$f":"IF(MAX('3-3 위험성평가'!$A$4:$A$470)+1>E269,VLOOKUP(E269,'3-3 위험성평가'!$A$5:$P$470,6,0),\"\")","v":""},{"$f":"IF(MAX('3-3 위험성평가'!$A$4:$A$470)+1>E269,VLOOKUP(E269,'3-3 위험성평가'!$A$5:$P$470,9,0),\"\")","v":""},{"$f":"IF(MAX('3-3 위험성평가'!$A$4:$A$536)+1>E269,VLOOKUP(E269,'3-3 위험성평가'!$A$5:$P$536,12,0),\"\")&IF(L269>\"\",\".\"&E269,\"\")","v":""},{"$f":"IF(MAX('3-3 위험성평가'!$A$4:$A$470)+1>E269,VLOOKUP(E269,'3-3 위험성평가'!$A$5:$P$470,13,0),\"\")","v":""},null,"하",null,null,null,null,null,null,null,"선택안함",0,{"$f":"IF(MAX('3-3 위험성평가'!$A$4:$A$470)+1>E269,VLOOKUP(E269,'3-3 위험성평가'!$A$5:$Q$470,17,0),\"\")","v":""},"선택",{"$f":"표지!$D$33","v":"시원건설"},{"$f":"표지!$E$34","v":"김길동4"},"선택안함",0]
["T40",4,"S40",4,262,{"$f":"IF(MAX('3-3 위험성평가'!$A$4:$A$470)+1>E270,VLOOKUP(E270,'3-3 위험성평가'!$A$5:$P$470,2,0),\"\")","v":""},{"$f":"IF(F270=\"\",\"\",VLOOKUP(VALUE(F270),'1-1 사업장 공정 정보'!$D$15:$P$32,5,0))","v":""},{"$f":"IF(MAX('3-3 위험성평가'!$A$4:$A$470)+1>E270,VLOOKUP(E270,'3-3 위험성평가'!$A$5:$P$470,3,0),\"\")","v":""},{"$f":"IF(MAX('3-3 위험성평가'!$A$4:$A$470)+1>E270,VLOOKUP(E270,'3-3 위험성평가'!$A$5:$P$470,4,0),\"\")","v":""},{"$f":"IF(MAX('3-3 위험성평가'!$A$4:$A$470)+1>E270,VLOOKUP(E270,'3-3 위험성평가'!$A$5:$P$470,5,0),\"\")","v":""},{"$f":"IF(MAX('3-3 위험성평가'!$A$4:$A$470)+1>E270,VLOOKUP(E270,'3-3 위험성평가'!$A$5:$P$470,6,0),\"\")","v":""},{"$f":"IF(MAX('3-3 위험성평가'!$A$4:$A$470)+1>E270,VLOOKUP(E270,'3-3 위험성평가'!$A$5:$P$470,9,0),\"\")","v":""},{"$f":"IF(MAX('3-3 위험성평가'!$A$4:$A$536)+1>E270,VLOOKUP(E270,'3-3 위험성평가'!$A$5:$P$536,12,0),\"\")&IF(L270>\"\",\".\"&E270,\"\")","v":""},{"$f":"IF(MAX('3-3 위험성평가'!$A$4:$A$470)+1>E270,VLOOKUP(E270,'3-3 위험성평가'!$A$5:$P$470,13,0),\"\")","v":""},null,"하",null,null,null,null,null,null,null,"선택안함",0,{"$f":"IF(MAX('3-3 위험성평가'!$A$4:$A$470)+1>E270,VLOOKUP(E270,'3-3 위험성평가'!$A$5:$Q$470,17,0),\"\")","v":""},"선택",{"$f":"표지!$D$33","v":"시원건설"},{"$f":"표지!$E$34","v":"김길동4"},"선택안함",0]
["T40",4,"S40",4,263,{"$f":"IF(MAX('3-3 위험성평가'!$A$4:$A$470)+1>E271,VLOOKUP(E271,'3-3 위험성평가'!$A$5:$P$470,2,0),\"\")","v":""},{"$f":"IF(F271=\"\",\"\",VLOOKUP(VALUE(F271),'1-1 사업장 공정 정보'!$D$15:$P$32,5,0))","v":""},{"$f":"IF(MAX('3-3 위험성평가'!$A$4:$A$470)+1>E271,VLOOKUP(E271,'3-3 위험성평가'!$A$5:$P$470,3,0),\"\")","v":""},{"$f":"IF(MAX('3-3 위험성평가'!$A$4:$A$470)+1>E271,VLOOKUP(E271,'3-3 위험성평가'!$A$5:$P$470,4,0),\"\")","v":""},{"$f":"IF(MAX('3-3 위험성평가'!$A$4:$A$470)+1>E271,VLOOKUP(E271,'3-3 위험성평가'!$A$5:$P$470,5,0),\"\")","v":""},{"$f":"IF(MAX('3-3 위험성평가'!$A$4:$A$470)+1>E271,VLOOKUP(E271,'3-3 위험성평가'!$A$5:$P$470,6,0),\"\")","v":""},{"$f":"IF(MAX('3-3 위험성평가'!$A$4:$A$470)+1>E271,VLOOKUP(E271,'3-3 위험성평가'!$A$5:$P$470,9,0),\"\")","v":""},{"$f":"IF(MAX('3-3 위험성평가'!$A$4:$A$536)+1>E271,VLOOKUP(E271,'3-3 위험성평가'!$A$5:$P$536,12,0),\"\")&IF(L271>\"\",\".\"&E271,\"\")","v":""},{"$f":"IF(MAX('3-3 위험성평가'!$A$4:$A$470)+1>E271,VLOOKUP(E271,'3-3 위험성평가'!$A$5:$P$470,13,0),\"\")","v":""},null,"하",null,null,null,null,null,null,null,"선택안함",0,{"$f":"IF(MAX('3-3 위험성평가'!$A$4:$A$470)+1>E271,VLOOKUP(E271,'3-3 위험성평가'!$A$5:$Q$470,17,0),\"\")","v":""},"선택",{"$f":"표지!$D$33","v":"시원건설"},{"$f":"표지!$E$34","v":"김길동4"},"선택안함",0]
["T40",4,"S40",4,264,{"$f":"IF(MAX('3-3 위험성평가'!$A$4:$A$470)+1>E272,VLOOKUP(E272,'3-3 위험성평가'!$A$5:$P$470,2,0),\"\")","v":""},{"$f":"IF(F272=\"\",\"\",VLOOKUP(VALUE(F272),'1-1 사업장 공정 정보'!$D$15:$P$32,5,0))","v":""},{"$f":"IF(MAX('3-3 위험성평가'!$A$4:$A$470)+1>E272,VLOOKUP(E272,'3-3 위험성평가'!$A$5:$P$470,3,0),\"\")","v":""},{"$f":"IF(MAX('3-3 위험성평가'!$A$4:$A$470)+1>E272,VLOOKUP(E272,'3-3 위험성평가'!$A$5:$P$470,4,0),\"\")","v":""},{"$f":"IF(MAX('3-3 위험성평가'!$A$4:$A$470)+1>E272,VLOOKUP(E272,'3-3 위험성평가'!$A$5:$P$470,5,0),\"\")","v":""},{"$f":"IF(MAX('3-3 위험성평가'!$A$4:$A$470)+1>E272,VLOOKUP(E272,'3-3 위험성평가'!$A$5:$P$470,6,0),\"\")","v":""},{"$f":"IF(MAX('3-3 위험성평가'!$A$4:$A$470)+1>E272,VLOOKUP(E272,'3-3 위험성평가'!$A$5:$P$470,9,0),\"\")","v":""},{"$f":"IF(MAX('3-3 위험성평가'!$A$4:$A$536)+1>E272,VLOOKUP(E272,'3-3 위험성평가'!$A$5:$P$536,12,0),\"\")&IF(L272>\"\",\".\"&E272,\"\")","v":""},{"$f":"IF(MAX('3-3 위험성평가'!$A$4:$A$470)+1>E272,VLOOKUP(E272,'3-3 위험성평가'!$A$5:$P$470,13,0),\"\")","v":""},null,"하",null,null,null,null,null,null,null,"선택안함",0,{"$f":"IF(MAX('3-3 위험성평가'!$A$4:$A$470)+1>E272,VLOOKUP(E272,'3-3 위험성평가'!$A$5:$Q$470,17,0),\"\")","v":""},"선택",{"$f":"표지!$D$33","v":"시원건설"},{"$f":"표지!$E$34","v":"김길동4"},"선택안함",0]
["T40",4,"S40",4,265,{"$f":"IF(MAX('3-3 위험성평가'!$A$4:$A$470)+1>E273,VLOOKUP(E273,'3-3 위험성평가'!$A$5:$P$470,2,0),\"\")","v":""},{"$f":"IF(F273=\"\",\"\",VLOOKUP(VALUE(F273),'1-1 사업장 공정 정보'!$D$15:$P$32,5,0))","v":""},{"$f":"IF(MAX('3-3 위험성평가'!$A$4:$A$470)+1>E273,VLOOKUP(E273,'3-3 위험성평가'!$A$5:$P$470,3,0),\"\")","v":""},{"$f":"IF(MAX('3-3 위험성평가'!$A$4:$A$470)+1>E273,VLOOKUP(E273,'3-3 위험성평가'!$A$5:$P$470,4,0),\"\")","v":""},{"$f":"IF(MAX('3-3 위험성평가'!$A$4:$A$470)+1>E273,VLOOKUP(E273,'3-3 위험성평가'!$A$5:$P$470,5,0),\"\")","v":""},{"$f":"IF(MAX('3-3 위험성평가'!$A$4:$A$470)+1>E273,VLOOKUP(E273,'3-3 위험성평가'!$A$5:$P$470,6,0),\"\")","v":""},{"$f":"IF(MAX('3-3 위험성평가'!$A$4:$A$470)+1>E273,VLOOKUP(E273,'3-3 위험성평가'!$A$5:$P$470,9,0),\"\")","v":""},{"$f":"IF(MAX('3-3 위험성평가'!$A$4:$A$536)+1>E273,VLOOKUP(E273,'3-3 위험성평가'!$A$5:$P$536,12,0),\"\")&IF(L273>\"\",\".\"&E273,\"\")","v":""},{"$f":"IF(MAX('3-3 위험성평가'!$A$4:$A$470)+1>E273,VLOOKUP(E273,'3-3 위험성평가'!$A$5:$P$470,13,0),\"\")","v":""},null,"하",null,null,null,null,null,null,null,"선택안함",0,{"$f":"IF(MAX('3-3 위험성평가'!$A$4:$A$470)+1>E273,VLOOKUP(E273,'3-3 위험성평가'!$A$5:$Q$470,17,0),\"\")","v":""},"선택",{"$f":"표지!$D$33","v":"시원건설"},{"$f":"표지!$E$34","v":"김길동4"},"선택안함",0]
["T40",4,"S40",4,266,{"$f":"IF(MAX('3-3 위험성평가'!$A$4:$A$470)+1>E274,VLOOKUP(E274,'3-3 위험성평가'!$A$5:$P$470,2,0),\"\")","v":""},{"$f":"IF(F274=\"\",\"\",VLOOKUP(VALUE(F274),'1-1 사업장 공정 정보'!$D$15:$P$32,5,0))","v":""},{"$f":"IF(MAX('3-3 위험성평가'!$A$4:$A$470)+1>E274,VLOOKUP(E274,'3-3 위험성평가'!$A$5:$P$470,3,0),\"\")","v":""},{"$f":"IF(MAX('3-3 위험성평가'!$A$4:$A$470)+1>E274,VLOOKUP(E274,'3-3 위험성평가'!$A$5:$P$470,4,0),\"\")","v":""},{"$f":"IF(MAX('3-3 위험성평가'!$A$4:$A$470)+1>E274,VLOOKUP(E274,'3-3 위험성평가'!$A$5:$P$470,5,0),\"\")","v":""},{"$f":"IF(MAX('3-3 위험성평가'!$A$4:$A$470)+1>E274,VLOOKUP(E274,'3-3 위험성평가'!$A$5:$P$470,6,0),\"\")","v":""},{"$f":"IF(MAX('3-3 위험성평가'!$A$4:$A$470)+1>E274,VLOOKUP(E274,'3-3 위험성평가'!$A$5:$P$470,9,0),\"\")","v":""},{"$f":"IF(MAX('3-3 위험성평가'!$A$4:$A$536)+1>E274,VLOOKUP(E274,'3-3 위험성평가'!$A$5:$P$536,12,0),\"\")&IF(L274>\"\",\".\"&E274,\"\")","v":""},{"$f":"IF(MAX('3-3 위험성평가'!$A$4:$A$470)+1>E274,VLOOKUP(E274,'3-3 위험성평가'!$A$5:$P$470,13,0),\"\")","v":""},null,"하",null,null,null,null,null,null,null,"선택안함",0,{"$f":"IF(MAX('3-3 위험성평가'!$A$4:$A$470)+1>E274,VLOOKUP(E274,'3-3 위험성평가'!$A$5:$Q$470,17,0),\"\")","v":""},"선택",{"$f":"표지!$D$33","v":"시원건설"},{"$f":"표지!$E$34","v":"김길동4"},"선택안함",0]
["T40",4,"S40",4,267,{"$f":"IF(MAX('3-3 위험성평가'!$A$4:$A$470)+1>E275,VLOOKUP(E275,'3-3 위험성평가'!$A$5:$P$470,2,0),\"\")","v":""},{"$f":"IF(F275=\"\",\"\",VLOOKUP(VALUE(F275),'1-1 사업장 공정 정보'!$D$15:$P$32,5,0))","v":""},{"$f":"IF(MAX('3-3 위험성평가'!$A$4:$A$470)+1>E275,VLOOKUP(E275,'3-3 위험성평가'!$A$5:$P$470,3,0),\"\")","v":""},{"$f":"IF(MAX('3-3 위험성평가'!$A$4:$A$470)+1>E275,VLOOKUP(E275,'3-3 위험성평가'!$A$5:$P$470,4,0),\"\")","v":""},{"$f":"IF(MAX('3-3 위험성평가'!$A$4:$A$470)+1>E275,VLOOKUP(E275,'3-3 위험성평가'!$A$5:$P$470,5,0),\"\")","v":""},{"$f":"IF(MAX('3-3 위험성평가'!$A$4:$A$470)+1>E275,VLOOKUP(E275,'3-3 위험성평가'!$A$5:$P$470,6,0),\"\")","v":""},{"$f":"IF(MAX('3-3 위험성평가'!$A$4:$A$470)+1>E275,VLOOKUP(E275,'3-3 위험성평가'!$A$5:$P$470,9,0),\"\")","v":""},{"$f":"IF(MAX('3-3 위험성평가'!$A$4:$A$536)+1>E275,VLOOKUP(E275,'3-3 위험성평가'!$A$5:$P$536,12,0),\"\")&IF(L275>\"\",\".\"&E275,\"\")","v":""},{"$f":"IF(MAX('3-3 위험성평가'!$A$4:$A$470)+1>E275,VLOOKUP(E275,'3-3 위험성평가'!$A$5:$P$470,13,0),\"\")","v":""},null,"하",null,null,null,null,null,null,null,"선택안함",0,{"$f":"IF(MAX('3-3 위험성평가'!$A$4:$A$470)+1>E275,VLOOKUP(E275,'3-3 위험성평가'!$A$5:$Q$470,17,0),\"\")","v":""},"선택",{"$f":"표지!$D$33","v":"시원건설"},{"$f":"표지!$E$34","v":"김길동4"},"선택안함",0]
["T40",4,"S40",4,268,{"$f":"IF(MAX('3-3 위험성평가'!$A$4:$A$470)+1>E276,VLOOKUP(E276,'3-3 위험성평가'!$A$5:$P$470,2,0),\"\")","v":""},{"$f":"IF(F276=\"\",\"\",VLOOKUP(VALUE(F276),'1-1 사업장 공정 정보'!$D$15:$P$32,5,0))","v":""},{"$f":"IF(MAX('3-3 위험성평가'!$A$4:$A$470)+1>E276,VLOOKUP(E276,'3-3 위험성평가'!$A$5:$P$470,3,0),\"\")","v":""},{"$f":"IF(MAX('3-3 위험성평가'!$A$4:$A$470)+1>E276,VLOOKUP(E276,'3-3 위험성평가'!$A$5:$P$470,4,0),\"\")","v":""},{"$f":"IF(MAX('3-3 위험성평가'!$A$4:$A$470)+1>E276,VLOOKUP(E276,'3-3 위험성평가'!$A$5:$P$470,5,0),\"\")","v":""},{"$f":"IF(MAX('3-3 위험성평가'!$A$4:$A$470)+1>E276,VLOOKUP(E276,'3-3 위험성평가'!$A$5:$P$470,6,0),\"\")","v":""},{"$f":"IF(MAX('3-3 위험성평가'!$A$4:$A$470)+1>E276,VLOOKUP(E276,'3-3 위험성평가'!$A$5:$P$470,9,0),\"\")","v":""},{"$f":"IF(MAX('3-3 위험성평가'!$A$4:$A$536)+1>E276,VLOOKUP(E276,'3-3 위험성평가'!$A$5:$P$536,12,0),\"\")&IF(L276>\"\",\".\"&E276,\"\")","v":""},{"$f":"IF(MAX('3-3 위험성평가'!$A$4:$A$470)+1>E276,VLOOKUP(E276,'3-3 위험성평가'!$A$5:$P$470,13,0),\"\")","v":""},null,"하",null,null,null,null,null,null,null,"선택안함",0,{"$f":"IF(MAX('3-3 위험성평가'!$A$4:$A$470)+1>E276,VLOOKUP(E276,'3-3 위험성평가'!$A$5:$Q$470,17,0),\"\")","v":""},"선택",{"$f":"표지!$D$33","v":"시원건설"},{"$f":"표지!$E$34","v":"김길동4"},"선택안함",0]
["T40",4,"S40",4,269,{"$f":"IF(MAX('3-3 위험성평가'!$A$4:$A$470)+1>E277,VLOOKUP(E277,'3-3 위험성평가'!$A$5:$P$470,2,0),\"\")","v":""},{"$f":"IF(F277=\"\",\"\",VLOOKUP(VALUE(F277),'1-1 사업장 공정 정보'!$D$15:$P$32,5,0))","v":""},{"$f":"IF(MAX('3-3 위험성평가'!$A$4:$A$470)+1>E277,VLOOKUP(E277,'3-3 위험성평가'!$A$5:$P$470,3,0),\"\")","v":""},{"$f":"IF(MAX('3-3 위험성평가'!$A$4:$A$470)+1>E277,VLOOKUP(E277,'3-3 위험성평가'!$A$5:$P$470,4,0),\"\")","v":""},{"$f":"IF(MAX('3-3 위험성평가'!$A$4:$A$470)+1>E277,VLOOKUP(E277,'3-3 위험성평가'!$A$5:$P$470,5,0),\"\")","v":""},{"$f":"IF(MAX('3-3 위험성평가'!$A$4:$A$470)+1>E277,VLOOKUP(E277,'3-3 위험성평가'!$A$5:$P$470,6,0),\"\")","v":""},{"$f":"IF(MAX('3-3 위험성평가'!$A$4:$A$470)+1>E277,VLOOKUP(E277,'3-3 위험성평가'!$A$5:$P$470,9,0),\"\")","v":""},{"$f":"IF(MAX('3-3 위험성평가'!$A$4:$A$536)+1>E277,VLOOKUP(E277,'3-3 위험성평가'!$A$5:$P$536,12,0),\"\")&IF(L277>\"\",\".\"&E277,\"\")","v":""},{"$f":"IF(MAX('3-3 위험성평가'!$A$4:$A$470)+1>E277,VLOOKUP(E277,'3-3 위험성평가'!$A$5:$P$470,13,0),\"\")","v":""},null,"하",null,null,null,null,null,null,null,"선택안함",0,{"$f":"IF(MAX('3-3 위험성평가'!$A$4:$A$470)+1>E277,VLOOKUP(E277,'3-3 위험성평가'!$A$5:$Q$470,17,0),\"\")","v":""},"선택",{"$f":"표지!$D$33","v":"시원건설"},{"$f":"표지!$E$34","v":"김길동4"},"선택안함",0]
["T40",4,"S40",4,270,{"$f":"IF(MAX('3-3 위험성평가'!$A$4:$A$470)+1>E278,VLOOKUP(E278,'3-3 위험성평가'!$A$5:$P$470,2,0),\"\")","v":""},{"$f":"IF(F278=\"\",\"\",VLOOKUP(VALUE(F278),'1-1 사업장 공정 정보'!$D$15:$P$32,5,0))","v":""},{"$f":"IF(MAX('3-3 위험성평가'!$A$4:$A$470)+1>E278,VLOOKUP(E278,'3-3 위험성평가'!$A$5:$P$470,3,0),\"\")","v":""},{"$f":"IF(MAX('3-3 위험성평가'!$A$4:$A$470)+1>E278,VLOOKUP(E278,'3-3 위험성평가'!$A$5:$P$470,4,0),\"\")","v":""},{"$f":"IF(MAX('3-3 위험성평가'!$A$4:$A$470)+1>E278,VLOOKUP(E278,'3-3 위험성평가'!$A$5:$P$470,5,0),\"\")","v":""},{"$f":"IF(MAX('3-3 위험성평가'!$A$4:$A$470)+1>E278,VLOOKUP(E278,'3-3 위험성평가'!$A$5:$P$470,6,0),\"\")","v":""},{"$f":"IF(MAX('3-3 위험성평가'!$A$4:$A$470)+1>E278,VLOOKUP(E278,'3-3 위험성평가'!$A$5:$P$470,9,0),\"\")","v":""},{"$f":"IF(MAX('3-3 위험성평가'!$A$4:$A$536)+1>E278,VLOOKUP(E278,'3-3 위험성평가'!$A$5:$P$536,12,0),\"\")&IF(L278>\"\",\".\"&E278,\"\")","v":""},{"$f":"IF(MAX('3-3 위험성평가'!$A$4:$A$470)+1>E278,VLOOKUP(E278,'3-3 위험성평가'!$A$5:$P$470,13,0),\"\")","v":""},null,"하",null,null,null,null,null,null,null,"선택안함",0,{"$f":"IF(MAX('3-3 위험성평가'!$A$4:$A$470)+1>E278,VLOOKUP(E278,'3-3 위험성평가'!$A$5:$Q$470,17,0),\"\")","v":""},"선택",{"$f":"표지!$D$33","v":"시원건설"},{"$f":"표지!$E$34","v":"김길동4"},"선택안함",0]
["T40",4,"S40",4,271,{"$f":"IF(MAX('3-3 위험성평가'!$A$4:$A$470)+1>E279,VLOOKUP(E279,'3-3 위험성평가'!$A$5:$P$470,2,0),\"\")","v":""},{"$f":"IF(F279=\"\",\"\",VLOOKUP(VALUE(F279),'1-1 사업장 공정 정보'!$D$15:$P$32,5,0))","v":""},{"$f":"IF(MAX('3-3 위험성평가'!$A$4:$A$470)+1>E279,VLOOKUP(E279,'3-3 위험성평가'!$A$5:$P$470,3,0),\"\")","v":""},{"$f":"IF(MAX('3-3 위험성평가'!$A$4:$A$470)+1>E279,VLOOKUP(E279,'3-3 위험성평가'!$A$5:$P$470,4,0),\"\")","v":""},{"$f":"IF(MAX('3-3 위험성평가'!$A$4:$A$470)+1>E279,VLOOKUP(E279,'3-3 위험성평가'!$A$5:$P$470,5,0),\"\")","v":""},{"$f":"IF(MAX('3-3 위험성평가'!$A$4:$A$470)+1>E279,VLOOKUP(E279,'3-3 위험성평가'!$A$5:$P$470,6,0),\"\")","v":""},{"$f":"IF(MAX('3-3 위험성평가'!$A$4:$A$470)+1>E279,VLOOKUP(E279,'3-3 위험성평가'!$A$5:$P$470,9,0),\"\")","v":""},{"$f":"IF(MAX('3-3 위험성평가'!$A$4:$A$536)+1>E279,VLOOKUP(E279,'3-3 위험성평가'!$A$5:$P$536,12,0),\"\")&IF(L279>\"\",\".\"&E279,\"\")","v":""},{"$f":"IF(MAX('3-3 위험성평가'!$A$4:$A$470)+1>E279,VLOOKUP(E279,'3-3 위험성평가'!$A$5:$P$470,13,0),\"\")","v":""},null,"하",null,null,null,null,null,null,null,"선택안함",0,{"$f":"IF(MAX('3-3 위험성평가'!$A$4:$A$470)+1>E279,VLOOKUP(E279,'3-3 위험성평가'!$A$5:$Q$470,17,0),\"\")","v":""},"선택",{"$f":"표지!$D$33","v":"시원건설"},{"$f":"표지!$E$34","v":"김길동4"},"선택안함",0]
["T40",4,"S40",4,272,{"$f":"IF(MAX('3-3 위험성평가'!$A$4:$A$470)+1>E280,VLOOKUP(E280,'3-3 위험성평가'!$A$5:$P$470,2,0),\"\")","v":""},{"$f":"IF(F280=\"\",\"\",VLOOKUP(VALUE(F280),'1-1 사업장 공정 정보'!$D$15:$P$32,5,0))","v":""},{"$f":"IF(MAX('3-3 위험성평가'!$A$4:$A$470)+1>E280,VLOOKUP(E280,'3-3 위험성평가'!$A$5:$P$470,3,0),\"\")","v":""},{"$f":"IF(MAX('3-3 위험성평가'!$A$4:$A$470)+1>E280,VLOOKUP(E280,'3-3 위험성평가'!$A$5:$P$470,4,0),\"\")","v":""},{"$f":"IF(MAX('3-3 위험성평가'!$A$4:$A$470)+1>E280,VLOOKUP(E280,'3-3 위험성평가'!$A$5:$P$470,5,0),\"\")","v":""},{"$f":"IF(MAX('3-3 위험성평가'!$A$4:$A$470)+1>E280,VLOOKUP(E280,'3-3 위험성평가'!$A$5:$P$470,6,0),\"\")","v":""},{"$f":"IF(MAX('3-3 위험성평가'!$A$4:$A$470)+1>E280,VLOOKUP(E280,'3-3 위험성평가'!$A$5:$P$470,9,0),\"\")","v":""},{"$f":"IF(MAX('3-3 위험성평가'!$A$4:$A$536)+1>E280,VLOOKUP(E280,'3-3 위험성평가'!$A$5:$P$536,12,0),\"\")&IF(L280>\"\",\".\"&E280,\"\")","v":""},{"$f":"IF(MAX('3-3 위험성평가'!$A$4:$A$470)+1>E280,VLOOKUP(E280,'3-3 위험성평가'!$A$5:$P$470,13,0),\"\")","v":""},null,"하",null,null,null,null,null,null,null,"선택안함",0,{"$f":"IF(MAX('3-3 위험성평가'!$A$4:$A$470)+1>E280,VLOOKUP(E280,'3-3 위험성평가'!$A$5:$Q$470,17,0),\"\")","v":""},"선택",{"$f":"표지!$D$33","v":"시원건설"},{"$f":"표지!$E$34","v":"김길동4"},"선택안함",0]
["T40",4,"S40",4,273,{"$f":"IF(MAX('3-3 위험성평가'!$A$4:$A$470)+1>E281,VLOOKUP(E281,'3-3 위험성평가'!$A$5:$P$470,2,0),\"\")","v":""},{"$f":"IF(F281=\"\",\"\",VLOOKUP(VALUE(F281),'1-1 사업장 공정 정보'!$D$15:$P$32,5,0))","v":""},{"$f":"IF(MAX('3-3 위험성평가'!$A$4:$A$470)+1>E281,VLOOKUP(E281,'3-3 위험성평가'!$A$5:$P$470,3,0),\"\")","v":""},{"$f":"IF(MAX('3-3 위험성평가'!$A$4:$A$470)+1>E281,VLOOKUP(E281,'3-3 위험성평가'!$A$5:$P$470,4,0),\"\")","v":""},{"$f":"IF(MAX('3-3 위험성평가'!$A$4:$A$470)+1>E281,VLOOKUP(E281,'3-3 위험성평가'!$A$5:$P$470,5,0),\"\")","v":""},{"$f":"IF(MAX('3-3 위험성평가'!$A$4:$A$470)+1>E281,VLOOKUP(E281,'3-3 위험성평가'!$A$5:$P$470,6,0),\"\")","v":""},{"$f":"IF(MAX('3-3 위험성평가'!$A$4:$A$470)+1>E281,VLOOKUP(E281,'3-3 위험성평가'!$A$5:$P$470,9,0),\"\")","v":""},{"$f":"IF(MAX('3-3 위험성평가'!$A$4:$A$536)+1>E281,VLOOKUP(E281,'3-3 위험성평가'!$A$5:$P$536,12,0),\"\")&IF(L281>\"\",\".\"&E281,\"\")","v":""},{"$f":"IF(MAX('3-3 위험성평가'!$A$4:$A$470)+1>E281,VLOOKUP(E281,'3-3 위험성평가'!$A$5:$P$470,13,0),\"\")","v":""},null,"하",null,null,null,null,null,null,null,"선택안함",0,{"$f":"IF(MAX('3-3 위험성평가'!$A$4:$A$470)+1>E281,VLOOKUP(E281,'3-3 위험성평가'!$A$5:$Q$470,17,0),\"\")","v":""},"선택",{"$f":"표지!$D$33","v":"시원건설"},{"$f":"표지!$E$34","v":"김길동4"},"선택안함",0]
["T40",{"$f":"B281+Y282","v":4},"S40",4,274,{"$f":"IF(MAX('3-3 위험성평가'!$A$4:$A$470)+1>E282,VLOOKUP(E282,'3-3 위험성평가'!$A$5:$P$470,2,0),\"\")","v":""},{"$f":"IF(F282=\"\",\"\",VLOOKUP(VALUE(F282),'1-1 사업장 공정 정보'!$D$15:$P$32,5,0))","v":""},{"$f":"IF(MAX('3-3 위험성평가'!$A$4:$A$470)+1>E282,VLOOKUP(E282,'3-3 위험성평가'!$A$5:$P$470,3,0),\"\")","v":""},{"$f":"IF(MAX('3-3 위험성평가'!$A$4:$A$470)+1>E282,VLOOKUP(E282,'3-3 위험성평가'!$A$5:$P$470,4,0),\"\")","v":""},{"$f":"IF(MAX('3-3 위험성평가'!$A$4:$A$470)+1>E282,VLOOKUP(E282,'3-3 위험성평가'!$A$5:$P$470,5,0),\"\")","v":""},{"$f":"IF(MAX('3-3 위험성평가'!$A$4:$A$470)+1>E282,VLOOKUP(E282,'3-3 위험성평가'!$A$5:$P$470,6,0),\"\")","v":""},{"$f":"IF(MAX('3-3 위험성평가'!$A$4:$A$470)+1>E282,VLOOKUP(E282,'3-3 위험성평가'!$A$5:$P$470,9,0),\"\")","v":""},{"$f":"IF(MAX('3-3 위험성평가'!$A$4:$A$536)+1>E282,VLOOKUP(E282,'3-3 위험성평가'!$A$5:$P$536,12,0),\"\")&IF(L282>\"\",\".\"&E282,\"\")","v":""},{"$f":"IF(MAX('3-3 위험성평가'!$A$4:$A$470)+1>E282,VLOOKUP(E282,'3-3 위험성평가'!$A$5:$P$470,13,0),\"\")","v":""},null,"하",null,null,null,null,null,null,null,"선택안함",0,{"$f":"IF(MAX('3-3 위험성평가'!$A$4:$A$470)+1>E282,VLOOKUP(E282,'3-3 위험성평가'!$A$5:$Q$470,17,0),\"\")","v":""},"선택",{"$f":"표지!$D$33","v":"시원건설"},{"$f":"표지!$E$34","v":"김길동4"},"선택안함",0]
["T40",4,"S40",4,275,{"$f":"IF(MAX('3-3 위험성평가'!$A$4:$A$470)+1>E283,VLOOKUP(E283,'3-3 위험성평가'!$A$5:$P$470,2,0),\"\")","v":""},{"$f":"IF(F283=\"\",\"\",VLOOKUP(VALUE(F283),'1-1 사업장 공정 정보'!$D$15:$P$32,5,0))","v":""},{"$f":"IF(MAX('3-3 위험성평가'!$A$4:$A$470)+1>E283,VLOOKUP(E283,'3-3 위험성평가'!$A$5:$P$470,3,0),\"\")","v":""},{"$f":"IF(MAX('3-3 위험성평가'!$A$4:$A$470)+1>E283,VLOOKUP(E283,'3-3 위험성평가'!$A$5:$P$470,4,0),\"\")","v":""},{"$f":"IF(MAX('3-3 위험성평가'!$A$4:$A$470)+1>E283,VLOOKUP(E283,'3-3 위험성평가'!$A$5:$P$470,5,0),\"\")","v":""},{"$f":"IF(MAX('3-3 위험성평가'!$A$4:$A$470)+1>E283,VLOOKUP(E283,'3-3 위험성평가'!$A$5:$P$470,6,0),\"\")","v":""},{"$f":"IF(MAX('3-3 위험성평가'!$A$4:$A$470)+1>E283,VLOOKUP(E283,'3-3 위험성평가'!$A$5:$P$470,9,0),\"\")","v":""},{"$f":"IF(MAX('3-3 위험성평가'!$A$4:$A$536)+1>E283,VLOOKUP(E283,'3-3 위험성평가'!$A$5:$P$536,12,0),\"\")&IF(L283>\"\",\".\"&E283,\"\")","v":""},{"$f":"IF(MAX('3-3 위험성평가'!$A$4:$A$470)+1>E283,VLOOKUP(E283,'3-3 위험성평가'!$A$5:$P$470,13,0),\"\")","v":""},null,"하",null,null,null,null,null,null,null,"선택안함",0,{"$f":"IF(MAX('3-3 위험성평가'!$A$4:$A$470)+1>E283,VLOOKUP(E283,'3-3 위험성평가'!$A$5:$Q$470,17,0),\"\")","v":""},"선택",{"$f":"표지!$D$33","v":"시원건설"},{"$f":"표지!$E$34","v":"김길동4"},"선택안함",0]
["T40",4,"S40",4,276,{"$f":"IF(MAX('3-3 위험성평가'!$A$4:$A$470)+1>E284,VLOOKUP(E284,'3-3 위험성평가'!$A$5:$P$470,2,0),\"\")","v":""},{"$f":"IF(F284=\"\",\"\",VLOOKUP(VALUE(F284),'1-1 사업장 공정 정보'!$D$15:$P$32,5,0))","v":""},{"$f":"IF(MAX('3-3 위험성평가'!$A$4:$A$470)+1>E284,VLOOKUP(E284,'3-3 위험성평가'!$A$5:$P$470,3,0),\"\")","v":""},{"$f":"IF(MAX('3-3 위험성평가'!$A$4:$A$470)+1>E284,VLOOKUP(E284,'3-3 위험성평가'!$A$5:$P$470,4,0),\"\")","v":""},{"$f":"IF(MAX('3-3 위험성평가'!$A$4:$A$470)+1>E284,VLOOKUP(E284,'3-3 위험성평가'!$A$5:$P$470,5,0),\"\")","v":""},{"$f":"IF(MAX('3-3 위험성평가'!$A$4:$A$470)+1>E284,VLOOKUP(E284,'3-3 위험성평가'!$A$5:$P$470,6,0),\"\")","v":""},{"$f":"IF(MAX('3-3 위험성평가'!$A$4:$A$470)+1>E284,VLOOKUP(E284,'3-3 위험성평가'!$A$5:$P$470,9,0),\"\")","v":""},{"$f":"IF(MAX('3-3 위험성평가'!$A$4:$A$536)+1>E284,VLOOKUP(E284,'3-3 위험성평가'!$A$5:$P$536,12,0),\"\")&IF(L284>\"\",\".\"&E284,\"\")","v":""},{"$f":"IF(MAX('3-3 위험성평가'!$A$4:$A$470)+1>E284,VLOOKUP(E284,'3-3 위험성평가'!$A$5:$P$470,13,0),\"\")","v":""},null,"하",null,null,null,null,null,null,null,"선택안함",0,{"$f":"IF(MAX('3-3 위험성평가'!$A$4:$A$470)+1>E284,VLOOKUP(E284,'3-3 위험성평가'!$A$5:$Q$470,17,0),\"\")","v":""},"선택",{"$f":"표지!$D$33","v":"시원건설"},{"$f":"표지!$E$34","v":"김길동4"},"선택안함",0]
["T40",4,"S40",4,277,{"$f":"IF(MAX('3-3 위험성평가'!$A$4:$A$470)+1>E285,VLOOKUP(E285,'3-3 위험성평가'!$A$5:$P$470,2,0),\"\")","v":""},{"$f":"IF(F285=\"\",\"\",VLOOKUP(VALUE(F285),'1-1 사업장 공정 정보'!$D$15:$P$32,5,0))","v":""},{"$f":"IF(MAX('3-3 위험성평가'!$A$4:$A$470)+1>E285,VLOOKUP(E285,'3-3 위험성평가'!$A$5:$P$470,3,0),\"\")","v":""},{"$f":"IF(MAX('3-3 위험성평가'!$A$4:$A$470)+1>E285,VLOOKUP(E285,'3-3 위험성평가'!$A$5:$P$470,4,0),\"\")","v":""},{"$f":"IF(MAX('3-3 위험성평가'!$A$4:$A$470)+1>E285,VLOOKUP(E285,'3-3 위험성평가'!$A$5:$P$470,5,0),\"\")","v":""},{"$f":"IF(MAX('3-3 위험성평가'!$A$4:$A$470)+1>E285,VLOOKUP(E285,'3-3 위험성평가'!$A$5:$P$470,6,0),\"\")","v":""},{"$f":"IF(MAX('3-3 위험성평가'!$A$4:$A$470)+1>E285,VLOOKUP(E285,'3-3 위험성평가'!$A$5:$P$470,9,0),\"\")","v":""},{"$f":"IF(MAX('3-3 위험성평가'!$A$4:$A$536)+1>E285,VLOOKUP(E285,'3-3 위험성평가'!$A$5:$P$536,12,0),\"\")&IF(L285>\"\",\".\"&E285,\"\")","v":""},{"$f":"IF(MAX('3-3 위험성평가'!$A$4:$A$470)+1>E285,VLOOKUP(E285,'3-3 위험성평가'!$A$5:$P$470,13,0),\"\")","v":""},null,"하",null,null,null,null,null,null,null,"선택안함",0,{"$f":"IF(MAX('3-3 위험성평가'!$A$4:$A$470)+1>E285,VLOOKUP(E285,'3-3 위험성평가'!$A$5:$Q$470,17,0),\"\")","v":""},"선택",{"$f":"표지!$D$33","v":"시원건설"},{"$f":"표지!$E$34","v":"김길동4"},"선택안함",0]
["T40",4,"S40",4,278,{"$f":"IF(MAX('3-3 위험성평가'!$A$4:$A$470)+1>E286,VLOOKUP(E286,'3-3 위험성평가'!$A$5:$P$470,2,0),\"\")","v":""},{"$f":"IF(F286=\"\",\"\",VLOOKUP(VALUE(F286),'1-1 사업장 공정 정보'!$D$15:$P$32,5,0))","v":""},{"$f":"IF(MAX('3-3 위험성평가'!$A$4:$A$470)+1>E286,VLOOKUP(E286,'3-3 위험성평가'!$A$5:$P$470,3,0),\"\")","v":""},{"$f":"IF(MAX('3-3 위험성평가'!$A$4:$A$470)+1>E286,VLOOKUP(E286,'3-3 위험성평가'!$A$5:$P$470,4,0),\"\")","v":""},{"$f":"IF(MAX('3-3 위험성평가'!$A$4:$A$470)+1>E286,VLOOKUP(E286,'3-3 위험성평가'!$A$5:$P$470,5,0),\"\")","v":""},{"$f":"IF(MAX('3-3 위험성평가'!$A$4:$A$470)+1>E286,VLOOKUP(E286,'3-3 위험성평가'!$A$5:$P$470,6,0),\"\")","v":""},{"$f":"IF(MAX('3-3 위험성평가'!$A$4:$A$470)+1>E286,VLOOKUP(E286,'3-3 위험성평가'!$A$5:$P$470,9,0),\"\")","v":""},{"$f":"IF(MAX('3-3 위험성평가'!$A$4:$A$536)+1>E286,VLOOKUP(E286,'3-3 위험성평가'!$A$5:$P$536,12,0),\"\")&IF(L286>\"\",\".\"&E286,\"\")","v":""},{"$f":"IF(MAX('3-3 위험성평가'!$A$4:$A$470)+1>E286,VLOOKUP(E286,'3-3 위험성평가'!$A$5:$P$470,13,0),\"\")","v":""},null,"하",null,null,null,null,null,null,null,"선택안함",0,{"$f":"IF(MAX('3-3 위험성평가'!$A$4:$A$470)+1>E286,VLOOKUP(E286,'3-3 위험성평가'!$A$5:$Q$470,17,0),\"\")","v":""},"선택",{"$f":"표지!$D$33","v":"시원건설"},{"$f":"표지!$E$34","v":"김길동4"},"선택안함",0]
["T40",4,"S40",4,279,{"$f":"IF(MAX('3-3 위험성평가'!$A$4:$A$470)+1>E287,VLOOKUP(E287,'3-3 위험성평가'!$A$5:$P$470,2,0),\"\")","v":""},{"$f":"IF(F287=\"\",\"\",VLOOKUP(VALUE(F287),'1-1 사업장 공정 정보'!$D$15:$P$32,5,0))","v":""},{"$f":"IF(MAX('3-3 위험성평가'!$A$4:$A$470)+1>E287,VLOOKUP(E287,'3-3 위험성평가'!$A$5:$P$470,3,0),\"\")","v":""},{"$f":"IF(MAX('3-3 위험성평가'!$A$4:$A$470)+1>E287,VLOOKUP(E287,'3-3 위험성평가'!$A$5:$P$470,4,0),\"\")","v":""},{"$f":"IF(MAX('3-3 위험성평가'!$A$4:$A$470)+1>E287,VLOOKUP(E287,'3-3 위험성평가'!$A$5:$P$470,5,0),\"\")","v":""},{"$f":"IF(MAX('3-3 위험성평가'!$A$4:$A$470)+1>E287,VLOOKUP(E287,'3-3 위험성평가'!$A$5:$P$470,6,0),\"\")","v":""},{"$f":"IF(MAX('3-3 위험성평가'!$A$4:$A$470)+1>E287,VLOOKUP(E287,'3-3 위험성평가'!$A$5:$P$470,9,0),\"\")","v":""},{"$f":"IF(MAX('3-3 위험성평가'!$A$4:$A$536)+1>E287,VLOOKUP(E287,'3-3 위험성평가'!$A$5:$P$536,12,0),\"\")&IF(L287>\"\",\".\"&E287,\"\")","v":""},{"$f":"IF(MAX('3-3 위험성평가'!$A$4:$A$470)+1>E287,VLOOKUP(E287,'3-3 위험성평가'!$A$5:$P$470,13,0),\"\")","v":""},null,"하",null,null,null,null,null,null,null,"선택안함",0,{"$f":"IF(MAX('3-3 위험성평가'!$A$4:$A$470)+1>E287,VLOOKUP(E287,'3-3 위험성평가'!$A$5:$Q$470,17,0),\"\")","v":""},"선택",{"$f":"표지!$D$33","v":"시원건설"},{"$f":"표지!$E$34","v":"김길동4"},"선택안함",0]
["T40",4,"S40",4,280,{"$f":"IF(MAX('3-3 위험성평가'!$A$4:$A$470)+1>E288,VLOOKUP(E288,'3-3 위험성평가'!$A$5:$P$470,2,0),\"\")","v":""},{"$f":"IF(F288=\"\",\"\",VLOOKUP(VALUE(F288),'1-1 사업장 공정 정보'!$D$15:$P$32,5,0))","v":""},{"$f":"IF(MAX('3-3 위험성평가'!$A$4:$A$470)+1>E288,VLOOKUP(E288,'3-3 위험성평가'!$A$5:$P$470,3,0),\"\")","v":""},{"$f":"IF(MAX('3-3 위험성평가'!$A$4:$A$470)+1>E288,VLOOKUP(E288,'3-3 위험성평가'!$A$5:$P$470,4,0),\"\")","v":""},{"$f":"IF(MAX('3-3 위험성평가'!$A$4:$A$470)+1>E288,VLOOKUP(E288,'3-3 위험성평가'!$A$5:$P$470,5,0),\"\")","v":""},{"$f":"IF(MAX('3-3 위험성평가'!$A$4:$A$470)+1>E288,VLOOKUP(E288,'3-3 위험성평가'!$A$5:$P$470,6,0),\"\")","v":""},{"$f":"IF(MAX('3-3 위험성평가'!$A$4:$A$470)+1>E288,VLOOKUP(E288,'3-3 위험성평가'!$A$5:$P$470,9,0),\"\")","v":""},{"$f":"IF(MAX('3-3 위험성평가'!$A$4:$A$536)+1>E288,VLOOKUP(E288,'3-3 위험성평가'!$A$5:$P$536,12,0),\"\")&IF(L288>\"\",\".\"&E288,\"\")","v":""},{"$f":"IF(MAX('3-3 위험성평가'!$A$4:$A$470)+1>E288,VLOOKUP(E288,'3-3 위험성평가'!$A$5:$P$470,13,0),\"\")","v":""},null,"하",null,null,null,null,null,null,null,"선택안함",0,{"$f":"IF(MAX('3-3 위험성평가'!$A$4:$A$470)+1>E288,VLOOKUP(E288,'3-3 위험성평가'!$A$5:$Q$470,17,0),\"\")","v":""},"선택",{"$f":"표지!$D$33","v":"시원건설"},{"$f":"표지!$E$34","v":"김길동4"},"선택안함",0]
["T40",4,"S40",4,281,{"$f":"IF(MAX('3-3 위험성평가'!$A$4:$A$470)+1>E289,VLOOKUP(E289,'3-3 위험성평가'!$A$5:$P$470,2,0),\"\")","v":""},{"$f":"IF(F289=\"\",\"\",VLOOKUP(VALUE(F289),'1-1 사업장 공정 정보'!$D$15:$P$32,5,0))","v":""},{"$f":"IF(MAX('3-3 위험성평가'!$A$4:$A$470)+1>E289,VLOOKUP(E289,'3-3 위험성평가'!$A$5:$P$470,3,0),\"\")","v":""},{"$f":"IF(MAX('3-3 위험성평가'!$A$4:$A$470)+1>E289,VLOOKUP(E289,'3-3 위험성평가'!$A$5:$P$470,4,0),\"\")","v":""},{"$f":"IF(MAX('3-3 위험성평가'!$A$4:$A$470)+1>E289,VLOOKUP(E289,'3-3 위험성평가'!$A$5:$P$470,5,0),\"\")","v":""},{"$f":"IF(MAX('3-3 위험성평가'!$A$4:$A$470)+1>E289,VLOOKUP(E289,'3-3 위험성평가'!$A$5:$P$470,6,0),\"\")","v":""},{"$f":"IF(MAX('3-3 위험성평가'!$A$4:$A$470)+1>E289,VLOOKUP(E289,'3-3 위험성평가'!$A$5:$P$470,9,0),\"\")","v":""},{"$f":"IF(MAX('3-3 위험성평가'!$A$4:$A$536)+1>E289,VLOOKUP(E289,'3-3 위험성평가'!$A$5:$P$536,12,0),\"\")&IF(L289>\"\",\".\"&E289,\"\")","v":""},{"$f":"IF(MAX('3-3 위험성평가'!$A$4:$A$470)+1>E289,VLOOKUP(E289,'3-3 위험성평가'!$A$5:$P$470,13,0),\"\")","v":""},null,"하",null,null,null,null,null,null,null,"선택안함",0,{"$f":"IF(MAX('3-3 위험성평가'!$A$4:$A$470)+1>E289,VLOOKUP(E289,'3-3 위험성평가'!$A$5:$Q$470,17,0),\"\")","v":""},"선택",{"$f":"표지!$D$33","v":"시원건설"},{"$f":"표지!$E$34","v":"김길동4"},"선택안함",0]
["T40",4,"S40",4,282,{"$f":"IF(MAX('3-3 위험성평가'!$A$4:$A$470)+1>E290,VLOOKUP(E290,'3-3 위험성평가'!$A$5:$P$470,2,0),\"\")","v":""},{"$f":"IF(F290=\"\",\"\",VLOOKUP(VALUE(F290),'1-1 사업장 공정 정보'!$D$15:$P$32,5,0))","v":""},{"$f":"IF(MAX('3-3 위험성평가'!$A$4:$A$470)+1>E290,VLOOKUP(E290,'3-3 위험성평가'!$A$5:$P$470,3,0),\"\")","v":""},{"$f":"IF(MAX('3-3 위험성평가'!$A$4:$A$470)+1>E290,VLOOKUP(E290,'3-3 위험성평가'!$A$5:$P$470,4,0),\"\")","v":""},{"$f":"IF(MAX('3-3 위험성평가'!$A$4:$A$470)+1>E290,VLOOKUP(E290,'3-3 위험성평가'!$A$5:$P$470,5,0),\"\")","v":""},{"$f":"IF(MAX('3-3 위험성평가'!$A$4:$A$470)+1>E290,VLOOKUP(E290,'3-3 위험성평가'!$A$5:$P$470,6,0),\"\")","v":""},{"$f":"IF(MAX('3-3 위험성평가'!$A$4:$A$470)+1>E290,VLOOKUP(E290,'3-3 위험성평가'!$A$5:$P$470,9,0),\"\")","v":""},{"$f":"IF(MAX('3-3 위험성평가'!$A$4:$A$536)+1>E290,VLOOKUP(E290,'3-3 위험성평가'!$A$5:$P$536,12,0),\"\")&IF(L290>\"\",\".\"&E290,\"\")","v":""},{"$f":"IF(MAX('3-3 위험성평가'!$A$4:$A$470)+1>E290,VLOOKUP(E290,'3-3 위험성평가'!$A$5:$P$470,13,0),\"\")","v":""},null,"하",null,null,null,null,null,null,null,"선택안함",0,{"$f":"IF(MAX('3-3 위험성평가'!$A$4:$A$470)+1>E290,VLOOKUP(E290,'3-3 위험성평가'!$A$5:$Q$470,17,0),\"\")","v":""},"선택",{"$f":"표지!$D$33","v":"시원건설"},{"$f":"표지!$E$34","v":"김길동4"},"선택안함",0]
["T40",4,"S40",4,283,{"$f":"IF(MAX('3-3 위험성평가'!$A$4:$A$470)+1>E291,VLOOKUP(E291,'3-3 위험성평가'!$A$5:$P$470,2,0),\"\")","v":""},{"$f":"IF(F291=\"\",\"\",VLOOKUP(VALUE(F291),'1-1 사업장 공정 정보'!$D$15:$P$32,5,0))","v":""},{"$f":"IF(MAX('3-3 위험성평가'!$A$4:$A$470)+1>E291,VLOOKUP(E291,'3-3 위험성평가'!$A$5:$P$470,3,0),\"\")","v":""},{"$f":"IF(MAX('3-3 위험성평가'!$A$4:$A$470)+1>E291,VLOOKUP(E291,'3-3 위험성평가'!$A$5:$P$470,4,0),\"\")","v":""},{"$f":"IF(MAX('3-3 위험성평가'!$A$4:$A$470)+1>E291,VLOOKUP(E291,'3-3 위험성평가'!$A$5:$P$470,5,0),\"\")","v":""},{"$f":"IF(MAX('3-3 위험성평가'!$A$4:$A$470)+1>E291,VLOOKUP(E291,'3-3 위험성평가'!$A$5:$P$470,6,0),\"\")","v":""},{"$f":"IF(MAX('3-3 위험성평가'!$A$4:$A$470)+1>E291,VLOOKUP(E291,'3-3 위험성평가'!$A$5:$P$470,9,0),\"\")","v":""},{"$f":"IF(MAX('3-3 위험성평가'!$A$4:$A$536)+1>E291,VLOOKUP(E291,'3-3 위험성평가'!$A$5:$P$536,12,0),\"\")&IF(L291>\"\",\".\"&E291,\"\")","v":""},{"$f":"IF(MAX('3-3 위험성평가'!$A$4:$A$470)+1>E291,VLOOKUP(E291,'3-3 위험성평가'!$A$5:$P$470,13,0),\"\")","v":""},null,"하",null,null,null,null,null,null,null,"선택안함",0,{"$f":"IF(MAX('3-3 위험성평가'!$A$4:$A$470)+1>E291,VLOOKUP(E291,'3-3 위험성평가'!$A$5:$Q$470,17,0),\"\")","v":""},"선택",{"$f":"표지!$D$33","v":"시원건설"},{"$f":"표지!$E$34","v":"김길동4"},"선택안함",0]
["T40",4,"S40",4,284,{"$f":"IF(MAX('3-3 위험성평가'!$A$4:$A$470)+1>E292,VLOOKUP(E292,'3-3 위험성평가'!$A$5:$P$470,2,0),\"\")","v":""},{"$f":"IF(F292=\"\",\"\",VLOOKUP(VALUE(F292),'1-1 사업장 공정 정보'!$D$15:$P$32,5,0))","v":""},{"$f":"IF(MAX('3-3 위험성평가'!$A$4:$A$470)+1>E292,VLOOKUP(E292,'3-3 위험성평가'!$A$5:$P$470,3,0),\"\")","v":""},{"$f":"IF(MAX('3-3 위험성평가'!$A$4:$A$470)+1>E292,VLOOKUP(E292,'3-3 위험성평가'!$A$5:$P$470,4,0),\"\")","v":""},{"$f":"IF(MAX('3-3 위험성평가'!$A$4:$A$470)+1>E292,VLOOKUP(E292,'3-3 위험성평가'!$A$5:$P$470,5,0),\"\")","v":""},{"$f":"IF(MAX('3-3 위험성평가'!$A$4:$A$470)+1>E292,VLOOKUP(E292,'3-3 위험성평가'!$A$5:$P$470,6,0),\"\")","v":""},{"$f":"IF(MAX('3-3 위험성평가'!$A$4:$A$470)+1>E292,VLOOKUP(E292,'3-3 위험성평가'!$A$5:$P$470,9,0),\"\")","v":""},{"$f":"IF(MAX('3-3 위험성평가'!$A$4:$A$536)+1>E292,VLOOKUP(E292,'3-3 위험성평가'!$A$5:$P$536,12,0),\"\")&IF(L292>\"\",\".\"&E292,\"\")","v":""},{"$f":"IF(MAX('3-3 위험성평가'!$A$4:$A$470)+1>E292,VLOOKUP(E292,'3-3 위험성평가'!$A$5:$P$470,13,0),\"\")","v":""},null,"하",null,null,null,null,null,null,null,"선택안함",0,{"$f":"IF(MAX('3-3 위험성평가'!$A$4:$A$470)+1>E292,VLOOKUP(E292,'3-3 위험성평가'!$A$5:$Q$470,17,0),\"\")","v":""},"선택",{"$f":"표지!$D$33","v":"시원건설"},{"$f":"표지!$E$34","v":"김길동4"},"선택안함",0]
["T40",4,"S40",4,285,{"$f":"IF(MAX('3-3 위험성평가'!$A$4:$A$470)+1>E293,VLOOKUP(E293,'3-3 위험성평가'!$A$5:$P$470,2,0),\"\")","v":""},{"$f":"IF(F293=\"\",\"\",VLOOKUP(VALUE(F293),'1-1 사업장 공정 정보'!$D$15:$P$32,5,0))","v":""},{"$f":"IF(MAX('3-3 위험성평가'!$A$4:$A$470)+1>E293,VLOOKUP(E293,'3-3 위험성평가'!$A$5:$P$470,3,0),\"\")","v":""},{"$f":"IF(MAX('3-3 위험성평가'!$A$4:$A$470)+1>E293,VLOOKUP(E293,'3-3 위험성평가'!$A$5:$P$470,4,0),\"\")","v":""},{"$f":"IF(MAX('3-3 위험성평가'!$A$4:$A$470)+1>E293,VLOOKUP(E293,'3-3 위험성평가'!$A$5:$P$470,5,0),\"\")","v":""},{"$f":"IF(MAX('3-3 위험성평가'!$A$4:$A$470)+1>E293,VLOOKUP(E293,'3-3 위험성평가'!$A$5:$P$470,6,0),\"\")","v":""},{"$f":"IF(MAX('3-3 위험성평가'!$A$4:$A$470)+1>E293,VLOOKUP(E293,'3-3 위험성평가'!$A$5:$P$470,9,0),\"\")","v":""},{"$f":"IF(MAX('3-3 위험성평가'!$A$4:$A$536)+1>E293,VLOOKUP(E293,'3-3 위험성평가'!$A$5:$P$536,12,0),\"\")&IF(L293>\"\",\".\"&E293,\"\")","v":""},{"$f":"IF(MAX('3-3 위험성평가'!$A$4:$A$470)+1>E293,VLOOKUP(E293,'3-3 위험성평가'!$A$5:$P$470,13,0),\"\")","v":""},null,"하",null,null,null,null,null,null,null,"선택안함",0,{"$f":"IF(MAX('3-3 위험성평가'!$A$4:$A$470)+1>E293,VLOOKUP(E293,'3-3 위험성평가'!$A$5:$Q$470,17,0),\"\")","v":""},"선택",{"$f":"표지!$D$33","v":"시원건설"},{"$f":"표지!$E$34","v":"김길동4"},"선택안함",0]
["T40",4,"S40",4,286,{"$f":"IF(MAX('3-3 위험성평가'!$A$4:$A$470)+1>E294,VLOOKUP(E294,'3-3 위험성평가'!$A$5:$P$470,2,0),\"\")","v":""},{"$f":"IF(F294=\"\",\"\",VLOOKUP(VALUE(F294),'1-1 사업장 공정 정보'!$D$15:$P$32,5,0))","v":""},{"$f":"IF(MAX('3-3 위험성평가'!$A$4:$A$470)+1>E294,VLOOKUP(E294,'3-3 위험성평가'!$A$5:$P$470,3,0),\"\")","v":""},{"$f":"IF(MAX('3-3 위험성평가'!$A$4:$A$470)+1>E294,VLOOKUP(E294,'3-3 위험성평가'!$A$5:$P$470,4,0),\"\")","v":""},{"$f":"IF(MAX('3-3 위험성평가'!$A$4:$A$470)+1>E294,VLOOKUP(E294,'3-3 위험성평가'!$A$5:$P$470,5,0),\"\")","v":""},{"$f":"IF(MAX('3-3 위험성평가'!$A$4:$A$470)+1>E294,VLOOKUP(E294,'3-3 위험성평가'!$A$5:$P$470,6,0),\"\")","v":""},{"$f":"IF(MAX('3-3 위험성평가'!$A$4:$A$470)+1>E294,VLOOKUP(E294,'3-3 위험성평가'!$A$5:$P$470,9,0),\"\")","v":""},{"$f":"IF(MAX('3-3 위험성평가'!$A$4:$A$536)+1>E294,VLOOKUP(E294,'3-3 위험성평가'!$A$5:$P$536,12,0),\"\")&IF(L294>\"\",\".\"&E294,\"\")","v":""},{"$f":"IF(MAX('3-3 위험성평가'!$A$4:$A$470)+1>E294,VLOOKUP(E294,'3-3 위험성평가'!$A$5:$P$470,13,0),\"\")","v":""},null,"하",null,null,null,null,null,null,null,"선택안함",0,{"$f":"IF(MAX('3-3 위험성평가'!$A$4:$A$470)+1>E294,VLOOKUP(E294,'3-3 위험성평가'!$A$5:$Q$470,17,0),\"\")","v":""},"선택",{"$f":"표지!$D$33","v":"시원건설"},{"$f":"표지!$E$34","v":"김길동4"},"선택안함",0]
["T40",4,"S40",4,287,{"$f":"IF(MAX('3-3 위험성평가'!$A$4:$A$470)+1>E295,VLOOKUP(E295,'3-3 위험성평가'!$A$5:$P$470,2,0),\"\")","v":""},{"$f":"IF(F295=\"\",\"\",VLOOKUP(VALUE(F295),'1-1 사업장 공정 정보'!$D$15:$P$32,5,0))","v":""},{"$f":"IF(MAX('3-3 위험성평가'!$A$4:$A$470)+1>E295,VLOOKUP(E295,'3-3 위험성평가'!$A$5:$P$470,3,0),\"\")","v":""},{"$f":"IF(MAX('3-3 위험성평가'!$A$4:$A$470)+1>E295,VLOOKUP(E295,'3-3 위험성평가'!$A$5:$P$470,4,0),\"\")","v":""},{"$f":"IF(MAX('3-3 위험성평가'!$A$4:$A$470)+1>E295,VLOOKUP(E295,'3-3 위험성평가'!$A$5:$P$470,5,0),\"\")","v":""},{"$f":"IF(MAX('3-3 위험성평가'!$A$4:$A$470)+1>E295,VLOOKUP(E295,'3-3 위험성평가'!$A$5:$P$470,6,0),\"\")","v":""},{"$f":"IF(MAX('3-3 위험성평가'!$A$4:$A$470)+1>E295,VLOOKUP(E295,'3-3 위험성평가'!$A$5:$P$470,9,0),\"\")","v":""},{"$f":"IF(MAX('3-3 위험성평가'!$A$4:$A$536)+1>E295,VLOOKUP(E295,'3-3 위험성평가'!$A$5:$P$536,12,0),\"\")&IF(L295>\"\",\".\"&E295,\"\")","v":""},{"$f":"IF(MAX('3-3 위험성평가'!$A$4:$A$470)+1>E295,VLOOKUP(E295,'3-3 위험성평가'!$A$5:$P$470,13,0),\"\")","v":""},null,"하",null,null,null,null,null,null,null,"선택안함",0,{"$f":"IF(MAX('3-3 위험성평가'!$A$4:$A$470)+1>E295,VLOOKUP(E295,'3-3 위험성평가'!$A$5:$Q$470,17,0),\"\")","v":""},"선택",{"$f":"표지!$D$33","v":"시원건설"},{"$f":"표지!$E$34","v":"김길동4"},"선택안함",0]
["T40",4,"S40",4,288,{"$f":"IF(MAX('3-3 위험성평가'!$A$4:$A$470)+1>E296,VLOOKUP(E296,'3-3 위험성평가'!$A$5:$P$470,2,0),\"\")","v":""},{"$f":"IF(F296=\"\",\"\",VLOOKUP(VALUE(F296),'1-1 사업장 공정 정보'!$D$15:$P$32,5,0))","v":""},{"$f":"IF(MAX('3-3 위험성평가'!$A$4:$A$470)+1>E296,VLOOKUP(E296,'3-3 위험성평가'!$A$5:$P$470,3,0),\"\")","v":""},{"$f":"IF(MAX('3-3 위험성평가'!$A$4:$A$470)+1>E296,VLOOKUP(E296,'3-3 위험성평가'!$A$5:$P$470,4,0),\"\")","v":""},{"$f":"IF(MAX('3-3 위험성평가'!$A$4:$A$470)+1>E296,VLOOKUP(E296,'3-3 위험성평가'!$A$5:$P$470,5,0),\"\")","v":""},{"$f":"IF(MAX('3-3 위험성평가'!$A$4:$A$470)+1>E296,VLOOKUP(E296,'3-3 위험성평가'!$A$5:$P$470,6,0),\"\")","v":""},{"$f":"IF(MAX('3-3 위험성평가'!$A$4:$A$470)+1>E296,VLOOKUP(E296,'3-3 위험성평가'!$A$5:$P$470,9,0),\"\")","v":""},{"$f":"IF(MAX('3-3 위험성평가'!$A$4:$A$536)+1>E296,VLOOKUP(E296,'3-3 위험성평가'!$A$5:$P$536,12,0),\"\")&IF(L296>\"\",\".\"&E296,\"\")","v":""},{"$f":"IF(MAX('3-3 위험성평가'!$A$4:$A$470)+1>E296,VLOOKUP(E296,'3-3 위험성평가'!$A$5:$P$470,13,0),\"\")","v":""},null,"하",null,null,null,null,null,null,null,"선택안함",0,{"$f":"IF(MAX('3-3 위험성평가'!$A$4:$A$470)+1>E296,VLOOKUP(E296,'3-3 위험성평가'!$A$5:$Q$470,17,0),\"\")","v":""},"선택",{"$f":"표지!$D$33","v":"시원건설"},{"$f":"표지!$E$34","v":"김길동4"},"선택안함",0]
["T40",4,"S40",4,289,{"$f":"IF(MAX('3-3 위험성평가'!$A$4:$A$470)+1>E297,VLOOKUP(E297,'3-3 위험성평가'!$A$5:$P$470,2,0),\"\")","v":""},{"$f":"IF(F297=\"\",\"\",VLOOKUP(VALUE(F297),'1-1 사업장 공정 정보'!$D$15:$P$32,5,0))","v":""},{"$f":"IF(MAX('3-3 위험성평가'!$A$4:$A$470)+1>E297,VLOOKUP(E297,'3-3 위험성평가'!$A$5:$P$470,3,0),\"\")","v":""},{"$f":"IF(MAX('3-3 위험성평가'!$A$4:$A$470)+1>E297,VLOOKUP(E297,'3-3 위험성평가'!$A$5:$P$470,4,0),\"\")","v":""},{"$f":"IF(MAX('3-3 위험성평가'!$A$4:$A$470)+1>E297,VLOOKUP(E297,'3-3 위험성평가'!$A$5:$P$470,5,0),\"\")","v":""},{"$f":"IF(MAX('3-3 위험성평가'!$A$4:$A$470)+1>E297,VLOOKUP(E297,'3-3 위험성평가'!$A$5:$P$470,6,0),\"\")","v":""},{"$f":"IF(MAX('3-3 위험성평가'!$A$4:$A$470)+1>E297,VLOOKUP(E297,'3-3 위험성평가'!$A$5:$P$470,9,0),\"\")","v":""},{"$f":"IF(MAX('3-3 위험성평가'!$A$4:$A$536)+1>E297,VLOOKUP(E297,'3-3 위험성평가'!$A$5:$P$536,12,0),\"\")&IF(L297>\"\",\".\"&E297,\"\")","v":""},{"$f":"IF(MAX('3-3 위험성평가'!$A$4:$A$470)+1>E297,VLOOKUP(E297,'3-3 위험성평가'!$A$5:$P$470,13,0),\"\")","v":""},null,"하",null,null,null,null,null,null,null,"선택안함",0,{"$f":"IF(MAX('3-3 위험성평가'!$A$4:$A$470)+1>E297,VLOOKUP(E297,'3-3 위험성평가'!$A$5:$Q$470,17,0),\"\")","v":""},"선택",{"$f":"표지!$D$33","v":"시원건설"},{"$f":"표지!$E$34","v":"김길동4"},"선택안함",0]
["T40",4,"S40",4,290,{"$f":"IF(MAX('3-3 위험성평가'!$A$4:$A$470)+1>E298,VLOOKUP(E298,'3-3 위험성평가'!$A$5:$P$470,2,0),\"\")","v":""},{"$f":"IF(F298=\"\",\"\",VLOOKUP(VALUE(F298),'1-1 사업장 공정 정보'!$D$15:$P$32,5,0))","v":""},{"$f":"IF(MAX('3-3 위험성평가'!$A$4:$A$470)+1>E298,VLOOKUP(E298,'3-3 위험성평가'!$A$5:$P$470,3,0),\"\")","v":""},{"$f":"IF(MAX('3-3 위험성평가'!$A$4:$A$470)+1>E298,VLOOKUP(E298,'3-3 위험성평가'!$A$5:$P$470,4,0),\"\")","v":""},{"$f":"IF(MAX('3-3 위험성평가'!$A$4:$A$470)+1>E298,VLOOKUP(E298,'3-3 위험성평가'!$A$5:$P$470,5,0),\"\")","v":""},{"$f":"IF(MAX('3-3 위험성평가'!$A$4:$A$470)+1>E298,VLOOKUP(E298,'3-3 위험성평가'!$A$5:$P$470,6,0),\"\")","v":""},{"$f":"IF(MAX('3-3 위험성평가'!$A$4:$A$470)+1>E298,VLOOKUP(E298,'3-3 위험성평가'!$A$5:$P$470,9,0),\"\")","v":""},{"$f":"IF(MAX('3-3 위험성평가'!$A$4:$A$536)+1>E298,VLOOKUP(E298,'3-3 위험성평가'!$A$5:$P$536,12,0),\"\")&IF(L298>\"\",\".\"&E298,\"\")","v":""},{"$f":"IF(MAX('3-3 위험성평가'!$A$4:$A$470)+1>E298,VLOOKUP(E298,'3-3 위험성평가'!$A$5:$P$470,13,0),\"\")","v":""},null,"하",null,null,null,null,null,null,null,"선택안함",0,{"$f":"IF(MAX('3-3 위험성평가'!$A$4:$A$470)+1>E298,VLOOKUP(E298,'3-3 위험성평가'!$A$5:$Q$470,17,0),\"\")","v":""},"선택",{"$f":"표지!$D$33","v":"시원건설"},{"$f":"표지!$E$34","v":"김길동4"},"선택안함",0]
["T40",4,"S40",4,291,{"$f":"IF(MAX('3-3 위험성평가'!$A$4:$A$470)+1>E299,VLOOKUP(E299,'3-3 위험성평가'!$A$5:$P$470,2,0),\"\")","v":""},{"$f":"IF(F299=\"\",\"\",VLOOKUP(VALUE(F299),'1-1 사업장 공정 정보'!$D$15:$P$32,5,0))","v":""},{"$f":"IF(MAX('3-3 위험성평가'!$A$4:$A$470)+1>E299,VLOOKUP(E299,'3-3 위험성평가'!$A$5:$P$470,3,0),\"\")","v":""},{"$f":"IF(MAX('3-3 위험성평가'!$A$4:$A$470)+1>E299,VLOOKUP(E299,'3-3 위험성평가'!$A$5:$P$470,4,0),\"\")","v":""},{"$f":"IF(MAX('3-3 위험성평가'!$A$4:$A$470)+1>E299,VLOOKUP(E299,'3-3 위험성평가'!$A$5:$P$470,5,0),\"\")","v":""},{"$f":"IF(MAX('3-3 위험성평가'!$A$4:$A$470)+1>E299,VLOOKUP(E299,'3-3 위험성평가'!$A$5:$P$470,6,0),\"\")","v":""},{"$f":"IF(MAX('3-3 위험성평가'!$A$4:$A$470)+1>E299,VLOOKUP(E299,'3-3 위험성평가'!$A$5:$P$470,9,0),\"\")","v":""},{"$f":"IF(MAX('3-3 위험성평가'!$A$4:$A$536)+1>E299,VLOOKUP(E299,'3-3 위험성평가'!$A$5:$P$536,12,0),\"\")&IF(L299>\"\",\".\"&E299,\"\")","v":""},{"$f":"IF(MAX('3-3 위험성평가'!$A$4:$A$470)+1>E299,VLOOKUP(E299,'3-3 위험성평가'!$A$5:$P$470,13,0),\"\")","v":""},null,"하",null,null,null,null,null,null,null,"선택안함",0,{"$f":"IF(MAX('3-3 위험성평가'!$A$4:$A$470)+1>E299,VLOOKUP(E299,'3-3 위험성평가'!$A$5:$Q$470,17,0),\"\")","v":""},"선택",{"$f":"표지!$D$33","v":"시원건설"},{"$f":"표지!$E$34","v":"김길동4"},"선택안함",0]
["T40",4,"S40",4,292,{"$f":"IF(MAX('3-3 위험성평가'!$A$4:$A$470)+1>E300,VLOOKUP(E300,'3-3 위험성평가'!$A$5:$P$470,2,0),\"\")","v":""},{"$f":"IF(F300=\"\",\"\",VLOOKUP(VALUE(F300),'1-1 사업장 공정 정보'!$D$15:$P$32,5,0))","v":""},{"$f":"IF(MAX('3-3 위험성평가'!$A$4:$A$470)+1>E300,VLOOKUP(E300,'3-3 위험성평가'!$A$5:$P$470,3,0),\"\")","v":""},{"$f":"IF(MAX('3-3 위험성평가'!$A$4:$A$470)+1>E300,VLOOKUP(E300,'3-3 위험성평가'!$A$5:$P$470,4,0),\"\")","v":""},{"$f":"IF(MAX('3-3 위험성평가'!$A$4:$A$470)+1>E300,VLOOKUP(E300,'3-3 위험성평가'!$A$5:$P$470,5,0),\"\")","v":""},{"$f":"IF(MAX('3-3 위험성평가'!$A$4:$A$470)+1>E300,VLOOKUP(E300,'3-3 위험성평가'!$A$5:$P$470,6,0),\"\")","v":""},{"$f":"IF(MAX('3-3 위험성평가'!$A$4:$A$470)+1>E300,VLOOKUP(E300,'3-3 위험성평가'!$A$5:$P$470,9,0),\"\")","v":""},{"$f":"IF(MAX('3-3 위험성평가'!$A$4:$A$536)+1>E300,VLOOKUP(E300,'3-3 위험성평가'!$A$5:$P$536,12,0),\"\")&IF(L300>\"\",\".\"&E300,\"\")","v":""},{"$f":"IF(MAX('3-3 위험성평가'!$A$4:$A$470)+1>E300,VLOOKUP(E300,'3-3 위험성평가'!$A$5:$P$470,13,0),\"\")","v":""},null,"하",null,null,null,null,null,null,null,"선택안함",0,{"$f":"IF(MAX('3-3 위험성평가'!$A$4:$A$470)+1>E300,VLOOKUP(E300,'3-3 위험성평가'!$A$5:$Q$470,17,0),\"\")","v":""},"선택",{"$f":"표지!$D$33","v":"시원건설"},{"$f":"표지!$E$34","v":"김길동4"},"선택안함",0]
["T40",4,"S40",4,293,{"$f":"IF(MAX('3-3 위험성평가'!$A$4:$A$470)+1>E301,VLOOKUP(E301,'3-3 위험성평가'!$A$5:$P$470,2,0),\"\")","v":""},{"$f":"IF(F301=\"\",\"\",VLOOKUP(VALUE(F301),'1-1 사업장 공정 정보'!$D$15:$P$32,5,0))","v":""},{"$f":"IF(MAX('3-3 위험성평가'!$A$4:$A$470)+1>E301,VLOOKUP(E301,'3-3 위험성평가'!$A$5:$P$470,3,0),\"\")","v":""},{"$f":"IF(MAX('3-3 위험성평가'!$A$4:$A$470)+1>E301,VLOOKUP(E301,'3-3 위험성평가'!$A$5:$P$470,4,0),\"\")","v":""},{"$f":"IF(MAX('3-3 위험성평가'!$A$4:$A$470)+1>E301,VLOOKUP(E301,'3-3 위험성평가'!$A$5:$P$470,5,0),\"\")","v":""},{"$f":"IF(MAX('3-3 위험성평가'!$A$4:$A$470)+1>E301,VLOOKUP(E301,'3-3 위험성평가'!$A$5:$P$470,6,0),\"\")","v":""},{"$f":"IF(MAX('3-3 위험성평가'!$A$4:$A$470)+1>E301,VLOOKUP(E301,'3-3 위험성평가'!$A$5:$P$470,9,0),\"\")","v":""},{"$f":"IF(MAX('3-3 위험성평가'!$A$4:$A$536)+1>E301,VLOOKUP(E301,'3-3 위험성평가'!$A$5:$P$536,12,0),\"\")&IF(L301>\"\",\".\"&E301,\"\")","v":""},{"$f":"IF(MAX('3-3 위험성평가'!$A$4:$A$470)+1>E301,VLOOKUP(E301,'3-3 위험성평가'!$A$5:$P$470,13,0),\"\")","v":""},null,"하",null,null,null,null,null,null,null,"선택안함",0,{"$f":"IF(MAX('3-3 위험성평가'!$A$4:$A$470)+1>E301,VLOOKUP(E301,'3-3 위험성평가'!$A$5:$Q$470,17,0),\"\")","v":""},"선택",{"$f":"표지!$D$33","v":"시원건설"},{"$f":"표지!$E$34","v":"김길동4"},"선택안함",0]
["T40",4,"S40",4,294,{"$f":"IF(MAX('3-3 위험성평가'!$A$4:$A$470)+1>E302,VLOOKUP(E302,'3-3 위험성평가'!$A$5:$P$470,2,0),\"\")","v":""},{"$f":"IF(F302=\"\",\"\",VLOOKUP(VALUE(F302),'1-1 사업장 공정 정보'!$D$15:$P$32,5,0))","v":""},{"$f":"IF(MAX('3-3 위험성평가'!$A$4:$A$470)+1>E302,VLOOKUP(E302,'3-3 위험성평가'!$A$5:$P$470,3,0),\"\")","v":""},{"$f":"IF(MAX('3-3 위험성평가'!$A$4:$A$470)+1>E302,VLOOKUP(E302,'3-3 위험성평가'!$A$5:$P$470,4,0),\"\")","v":""},{"$f":"IF(MAX('3-3 위험성평가'!$A$4:$A$470)+1>E302,VLOOKUP(E302,'3-3 위험성평가'!$A$5:$P$470,5,0),\"\")","v":""},{"$f":"IF(MAX('3-3 위험성평가'!$A$4:$A$470)+1>E302,VLOOKUP(E302,'3-3 위험성평가'!$A$5:$P$470,6,0),\"\")","v":""},{"$f":"IF(MAX('3-3 위험성평가'!$A$4:$A$470)+1>E302,VLOOKUP(E302,'3-3 위험성평가'!$A$5:$P$470,9,0),\"\")","v":""},{"$f":"IF(MAX('3-3 위험성평가'!$A$4:$A$536)+1>E302,VLOOKUP(E302,'3-3 위험성평가'!$A$5:$P$536,12,0),\"\")&IF(L302>\"\",\".\"&E302,\"\")","v":""},{"$f":"IF(MAX('3-3 위험성평가'!$A$4:$A$470)+1>E302,VLOOKUP(E302,'3-3 위험성평가'!$A$5:$P$470,13,0),\"\")","v":""},null,"하",null,null,null,null,null,null,null,"선택안함",0,{"$f":"IF(MAX('3-3 위험성평가'!$A$4:$A$470)+1>E302,VLOOKUP(E302,'3-3 위험성평가'!$A$5:$Q$470,17,0),\"\")","v":""},"선택",{"$f":"표지!$D$33","v":"시원건설"},{"$f":"표지!$E$34","v":"김길동4"},"선택안함",0]
["T40",4,"S40",4,295,{"$f":"IF(MAX('3-3 위험성평가'!$A$4:$A$470)+1>E303,VLOOKUP(E303,'3-3 위험성평가'!$A$5:$P$470,2,0),\"\")","v":""},{"$f":"IF(F303=\"\",\"\",VLOOKUP(VALUE(F303),'1-1 사업장 공정 정보'!$D$15:$P$32,5,0))","v":""},{"$f":"IF(MAX('3-3 위험성평가'!$A$4:$A$470)+1>E303,VLOOKUP(E303,'3-3 위험성평가'!$A$5:$P$470,3,0),\"\")","v":""},{"$f":"IF(MAX('3-3 위험성평가'!$A$4:$A$470)+1>E303,VLOOKUP(E303,'3-3 위험성평가'!$A$5:$P$470,4,0),\"\")","v":""},{"$f":"IF(MAX('3-3 위험성평가'!$A$4:$A$470)+1>E303,VLOOKUP(E303,'3-3 위험성평가'!$A$5:$P$470,5,0),\"\")","v":""},{"$f":"IF(MAX('3-3 위험성평가'!$A$4:$A$470)+1>E303,VLOOKUP(E303,'3-3 위험성평가'!$A$5:$P$470,6,0),\"\")","v":""},{"$f":"IF(MAX('3-3 위험성평가'!$A$4:$A$470)+1>E303,VLOOKUP(E303,'3-3 위험성평가'!$A$5:$P$470,9,0),\"\")","v":""},{"$f":"IF(MAX('3-3 위험성평가'!$A$4:$A$536)+1>E303,VLOOKUP(E303,'3-3 위험성평가'!$A$5:$P$536,12,0),\"\")&IF(L303>\"\",\".\"&E303,\"\")","v":""},{"$f":"IF(MAX('3-3 위험성평가'!$A$4:$A$470)+1>E303,VLOOKUP(E303,'3-3 위험성평가'!$A$5:$P$470,13,0),\"\")","v":""},null,"하",null,null,null,null,null,null,null,"선택안함",0,{"$f":"IF(MAX('3-3 위험성평가'!$A$4:$A$470)+1>E303,VLOOKUP(E303,'3-3 위험성평가'!$A$5:$Q$470,17,0),\"\")","v":""},"선택",{"$f":"표지!$D$33","v":"시원건설"},{"$f":"표지!$E$34","v":"김길동4"},"선택안함",0]
["T40",4,"S40",4,296,{"$f":"IF(MAX('3-3 위험성평가'!$A$4:$A$470)+1>E304,VLOOKUP(E304,'3-3 위험성평가'!$A$5:$P$470,2,0),\"\")","v":""},{"$f":"IF(F304=\"\",\"\",VLOOKUP(VALUE(F304),'1-1 사업장 공정 정보'!$D$15:$P$32,5,0))","v":""},{"$f":"IF(MAX('3-3 위험성평가'!$A$4:$A$470)+1>E304,VLOOKUP(E304,'3-3 위험성평가'!$A$5:$P$470,3,0),\"\")","v":""},{"$f":"IF(MAX('3-3 위험성평가'!$A$4:$A$470)+1>E304,VLOOKUP(E304,'3-3 위험성평가'!$A$5:$P$470,4,0),\"\")","v":""},{"$f":"IF(MAX('3-3 위험성평가'!$A$4:$A$470)+1>E304,VLOOKUP(E304,'3-3 위험성평가'!$A$5:$P$470,5,0),\"\")","v":""},{"$f":"IF(MAX('3-3 위험성평가'!$A$4:$A$470)+1>E304,VLOOKUP(E304,'3-3 위험성평가'!$A$5:$P$470,6,0),\"\")","v":""},{"$f":"IF(MAX('3-3 위험성평가'!$A$4:$A$470)+1>E304,VLOOKUP(E304,'3-3 위험성평가'!$A$5:$P$470,9,0),\"\")","v":""},{"$f":"IF(MAX('3-3 위험성평가'!$A$4:$A$536)+1>E304,VLOOKUP(E304,'3-3 위험성평가'!$A$5:$P$536,12,0),\"\")&IF(L304>\"\",\".\"&E304,\"\")","v":""},{"$f":"IF(MAX('3-3 위험성평가'!$A$4:$A$470)+1>E304,VLOOKUP(E304,'3-3 위험성평가'!$A$5:$P$470,13,0),\"\")","v":""},null,"하",null,null,null,null,null,null,null,"선택안함",0,{"$f":"IF(MAX('3-3 위험성평가'!$A$4:$A$470)+1>E304,VLOOKUP(E304,'3-3 위험성평가'!$A$5:$Q$470,17,0),\"\")","v":""},"선택",{"$f":"표지!$D$33","v":"시원건설"},{"$f":"표지!$E$34","v":"김길동4"},"선택안함",0]
["T40",4,"S40",4,297,{"$f":"IF(MAX('3-3 위험성평가'!$A$4:$A$470)+1>E305,VLOOKUP(E305,'3-3 위험성평가'!$A$5:$P$470,2,0),\"\")","v":""},{"$f":"IF(F305=\"\",\"\",VLOOKUP(VALUE(F305),'1-1 사업장 공정 정보'!$D$15:$P$32,5,0))","v":""},{"$f":"IF(MAX('3-3 위험성평가'!$A$4:$A$470)+1>E305,VLOOKUP(E305,'3-3 위험성평가'!$A$5:$P$470,3,0),\"\")","v":""},{"$f":"IF(MAX('3-3 위험성평가'!$A$4:$A$470)+1>E305,VLOOKUP(E305,'3-3 위험성평가'!$A$5:$P$470,4,0),\"\")","v":""},{"$f":"IF(MAX('3-3 위험성평가'!$A$4:$A$470)+1>E305,VLOOKUP(E305,'3-3 위험성평가'!$A$5:$P$470,5,0),\"\")","v":""},{"$f":"IF(MAX('3-3 위험성평가'!$A$4:$A$470)+1>E305,VLOOKUP(E305,'3-3 위험성평가'!$A$5:$P$470,6,0),\"\")","v":""},{"$f":"IF(MAX('3-3 위험성평가'!$A$4:$A$470)+1>E305,VLOOKUP(E305,'3-3 위험성평가'!$A$5:$P$470,9,0),\"\")","v":""},{"$f":"IF(MAX('3-3 위험성평가'!$A$4:$A$536)+1>E305,VLOOKUP(E305,'3-3 위험성평가'!$A$5:$P$536,12,0),\"\")&IF(L305>\"\",\".\"&E305,\"\")","v":""},{"$f":"IF(MAX('3-3 위험성평가'!$A$4:$A$470)+1>E305,VLOOKUP(E305,'3-3 위험성평가'!$A$5:$P$470,13,0),\"\")","v":""},null,"하",null,null,null,null,null,null,null,"선택안함",0,{"$f":"IF(MAX('3-3 위험성평가'!$A$4:$A$470)+1>E305,VLOOKUP(E305,'3-3 위험성평가'!$A$5:$Q$470,17,0),\"\")","v":""},"선택",{"$f":"표지!$D$33","v":"시원건설"},{"$f":"표지!$E$34","v":"김길동4"},"선택안함",0]
["T40",4,"S40",4,298,{"$f":"IF(MAX('3-3 위험성평가'!$A$4:$A$470)+1>E306,VLOOKUP(E306,'3-3 위험성평가'!$A$5:$P$470,2,0),\"\")","v":""},{"$f":"IF(F306=\"\",\"\",VLOOKUP(VALUE(F306),'1-1 사업장 공정 정보'!$D$15:$P$32,5,0))","v":""},{"$f":"IF(MAX('3-3 위험성평가'!$A$4:$A$470)+1>E306,VLOOKUP(E306,'3-3 위험성평가'!$A$5:$P$470,3,0),\"\")","v":""},{"$f":"IF(MAX('3-3 위험성평가'!$A$4:$A$470)+1>E306,VLOOKUP(E306,'3-3 위험성평가'!$A$5:$P$470,4,0),\"\")","v":""},{"$f":"IF(MAX('3-3 위험성평가'!$A$4:$A$470)+1>E306,VLOOKUP(E306,'3-3 위험성평가'!$A$5:$P$470,5,0),\"\")","v":""},{"$f":"IF(MAX('3-3 위험성평가'!$A$4:$A$470)+1>E306,VLOOKUP(E306,'3-3 위험성평가'!$A$5:$P$470,6,0),\"\")","v":""},{"$f":"IF(MAX('3-3 위험성평가'!$A$4:$A$470)+1>E306,VLOOKUP(E306,'3-3 위험성평가'!$A$5:$P$470,9,0),\"\")","v":""},{"$f":"IF(MAX('3-3 위험성평가'!$A$4:$A$536)+1>E306,VLOOKUP(E306,'3-3 위험성평가'!$A$5:$P$536,12,0),\"\")&IF(L306>\"\",\".\"&E306,\"\")","v":""},{"$f":"IF(MAX('3-3 위험성평가'!$A$4:$A$470)+1>E306,VLOOKUP(E306,'3-3 위험성평가'!$A$5:$P$470,13,0),\"\")","v":""},null,"하",null,null,null,null,null,null,null,"선택안함",0,{"$f":"IF(MAX('3-3 위험성평가'!$A$4:$A$470)+1>E306,VLOOKUP(E306,'3-3 위험성평가'!$A$5:$Q$470,17,0),\"\")","v":""},"선택",{"$f":"표지!$D$33","v":"시원건설"},{"$f":"표지!$E$34","v":"김길동4"},"선택안함",0]
["T40",4,"S40",4,299,{"$f":"IF(MAX('3-3 위험성평가'!$A$4:$A$470)+1>E307,VLOOKUP(E307,'3-3 위험성평가'!$A$5:$P$470,2,0),\"\")","v":""},{"$f":"IF(F307=\"\",\"\",VLOOKUP(VALUE(F307),'1-1 사업장 공정 정보'!$D$15:$P$32,5,0))","v":""},{"$f":"IF(MAX('3-3 위험성평가'!$A$4:$A$470)+1>E307,VLOOKUP(E307,'3-3 위험성평가'!$A$5:$P$470,3,0),\"\")","v":""},{"$f":"IF(MAX('3-3 위험성평가'!$A$4:$A$470)+1>E307,VLOOKUP(E307,'3-3 위험성평가'!$A$5:$P$470,4,0),\"\")","v":""},{"$f":"IF(MAX('3-3 위험성평가'!$A$4:$A$470)+1>E307,VLOOKUP(E307,'3-3 위험성평가'!$A$5:$P$470,5,0),\"\")","v":""},{"$f":"IF(MAX('3-3 위험성평가'!$A$4:$A$470)+1>E307,VLOOKUP(E307,'3-3 위험성평가'!$A$5:$P$470,6,0),\"\")","v":""},{"$f":"IF(MAX('3-3 위험성평가'!$A$4:$A$470)+1>E307,VLOOKUP(E307,'3-3 위험성평가'!$A$5:$P$470,9,0),\"\")","v":""},{"$f":"IF(MAX('3-3 위험성평가'!$A$4:$A$536)+1>E307,VLOOKUP(E307,'3-3 위험성평가'!$A$5:$P$536,12,0),\"\")&IF(L307>\"\",\".\"&E307,\"\")","v":""},{"$f":"IF(MAX('3-3 위험성평가'!$A$4:$A$470)+1>E307,VLOOKUP(E307,'3-3 위험성평가'!$A$5:$P$470,13,0),\"\")","v":""},null,"하",null,null,null,null,null,null,null,"선택안함",0,{"$f":"IF(MAX('3-3 위험성평가'!$A$4:$A$470)+1>E307,VLOOKUP(E307,'3-3 위험성평가'!$A$5:$Q$470,17,0),\"\")","v":""},"선택",{"$f":"표지!$D$33","v":"시원건설"},{"$f":"표지!$E$34","v":"김길동4"},"선택안함",0]
["T40",4,"S40",4,300,{"$f":"IF(MAX('3-3 위험성평가'!$A$4:$A$470)+1>E308,VLOOKUP(E308,'3-3 위험성평가'!$A$5:$P$470,2,0),\"\")","v":""},{"$f":"IF(F308=\"\",\"\",VLOOKUP(VALUE(F308),'1-1 사업장 공정 정보'!$D$15:$P$32,5,0))","v":""},{"$f":"IF(MAX('3-3 위험성평가'!$A$4:$A$470)+1>E308,VLOOKUP(E308,'3-3 위험성평가'!$A$5:$P$470,3,0),\"\")","v":""},{"$f":"IF(MAX('3-3 위험성평가'!$A$4:$A$470)+1>E308,VLOOKUP(E308,'3-3 위험성평가'!$A$5:$P$470,4,0),\"\")","v":""},{"$f":"IF(MAX('3-3 위험성평가'!$A$4:$A$470)+1>E308,VLOOKUP(E308,'3-3 위험성평가'!$A$5:$P$470,5,0),\"\")","v":""},{"$f":"IF(MAX('3-3 위험성평가'!$A$4:$A$470)+1>E308,VLOOKUP(E308,'3-3 위험성평가'!$A$5:$P$470,6,0),\"\")","v":""},{"$f":"IF(MAX('3-3 위험성평가'!$A$4:$A$470)+1>E308,VLOOKUP(E308,'3-3 위험성평가'!$A$5:$P$470,9,0),\"\")","v":""},{"$f":"IF(MAX('3-3 위험성평가'!$A$4:$A$536)+1>E308,VLOOKUP(E308,'3-3 위험성평가'!$A$5:$P$536,12,0),\"\")&IF(L308>\"\",\".\"&E308,\"\")","v":""},{"$f":"IF(MAX('3-3 위험성평가'!$A$4:$A$470)+1>E308,VLOOKUP(E308,'3-3 위험성평가'!$A$5:$P$470,13,0),\"\")","v":""},null,"하",null,null,null,null,null,null,null,"선택안함",0,{"$f":"IF(MAX('3-3 위험성평가'!$A$4:$A$470)+1>E308,VLOOKUP(E308,'3-3 위험성평가'!$A$5:$Q$470,17,0),\"\")","v":""},"선택",{"$f":"표지!$D$33","v":"시원건설"},{"$f":"표지!$E$34","v":"김길동4"},"선택안함",0]
["T40",4,"S40",4,301,{"$f":"IF(MAX('3-3 위험성평가'!$A$4:$A$470)+1>E309,VLOOKUP(E309,'3-3 위험성평가'!$A$5:$P$470,2,0),\"\")","v":""},{"$f":"IF(F309=\"\",\"\",VLOOKUP(VALUE(F309),'1-1 사업장 공정 정보'!$D$15:$P$32,5,0))","v":""},{"$f":"IF(MAX('3-3 위험성평가'!$A$4:$A$470)+1>E309,VLOOKUP(E309,'3-3 위험성평가'!$A$5:$P$470,3,0),\"\")","v":""},{"$f":"IF(MAX('3-3 위험성평가'!$A$4:$A$470)+1>E309,VLOOKUP(E309,'3-3 위험성평가'!$A$5:$P$470,4,0),\"\")","v":""},{"$f":"IF(MAX('3-3 위험성평가'!$A$4:$A$470)+1>E309,VLOOKUP(E309,'3-3 위험성평가'!$A$5:$P$470,5,0),\"\")","v":""},{"$f":"IF(MAX('3-3 위험성평가'!$A$4:$A$470)+1>E309,VLOOKUP(E309,'3-3 위험성평가'!$A$5:$P$470,6,0),\"\")","v":""},{"$f":"IF(MAX('3-3 위험성평가'!$A$4:$A$470)+1>E309,VLOOKUP(E309,'3-3 위험성평가'!$A$5:$P$470,9,0),\"\")","v":""},{"$f":"IF(MAX('3-3 위험성평가'!$A$4:$A$536)+1>E309,VLOOKUP(E309,'3-3 위험성평가'!$A$5:$P$536,12,0),\"\")&IF(L309>\"\",\".\"&E309,\"\")","v":""},{"$f":"IF(MAX('3-3 위험성평가'!$A$4:$A$470)+1>E309,VLOOKUP(E309,'3-3 위험성평가'!$A$5:$P$470,13,0),\"\")","v":""},null,"하",null,null,null,null,null,null,null,"선택안함",0,{"$f":"IF(MAX('3-3 위험성평가'!$A$4:$A$470)+1>E309,VLOOKUP(E309,'3-3 위험성평가'!$A$5:$Q$470,17,0),\"\")","v":""},"선택",{"$f":"표지!$D$33","v":"시원건설"},{"$f":"표지!$E$34","v":"김길동4"},"선택안함",0]
["T40",4,"S40",4,302,{"$f":"IF(MAX('3-3 위험성평가'!$A$4:$A$470)+1>E310,VLOOKUP(E310,'3-3 위험성평가'!$A$5:$P$470,2,0),\"\")","v":""},{"$f":"IF(F310=\"\",\"\",VLOOKUP(VALUE(F310),'1-1 사업장 공정 정보'!$D$15:$P$32,5,0))","v":""},{"$f":"IF(MAX('3-3 위험성평가'!$A$4:$A$470)+1>E310,VLOOKUP(E310,'3-3 위험성평가'!$A$5:$P$470,3,0),\"\")","v":""},{"$f":"IF(MAX('3-3 위험성평가'!$A$4:$A$470)+1>E310,VLOOKUP(E310,'3-3 위험성평가'!$A$5:$P$470,4,0),\"\")","v":""},{"$f":"IF(MAX('3-3 위험성평가'!$A$4:$A$470)+1>E310,VLOOKUP(E310,'3-3 위험성평가'!$A$5:$P$470,5,0),\"\")","v":""},{"$f":"IF(MAX('3-3 위험성평가'!$A$4:$A$470)+1>E310,VLOOKUP(E310,'3-3 위험성평가'!$A$5:$P$470,6,0),\"\")","v":""},{"$f":"IF(MAX('3-3 위험성평가'!$A$4:$A$470)+1>E310,VLOOKUP(E310,'3-3 위험성평가'!$A$5:$P$470,9,0),\"\")","v":""},{"$f":"IF(MAX('3-3 위험성평가'!$A$4:$A$536)+1>E310,VLOOKUP(E310,'3-3 위험성평가'!$A$5:$P$536,12,0),\"\")&IF(L310>\"\",\".\"&E310,\"\")","v":""},{"$f":"IF(MAX('3-3 위험성평가'!$A$4:$A$470)+1>E310,VLOOKUP(E310,'3-3 위험성평가'!$A$5:$P$470,13,0),\"\")","v":""},null,"하",null,null,null,null,null,null,null,"선택안함",0,{"$f":"IF(MAX('3-3 위험성평가'!$A$4:$A$470)+1>E310,VLOOKUP(E310,'3-3 위험성평가'!$A$5:$Q$470,17,0),\"\")","v":""},"선택",{"$f":"표지!$D$33","v":"시원건설"},{"$f":"표지!$E$34","v":"김길동4"},"선택안함",0]
["T40",4,"S40",4,303,{"$f":"IF(MAX('3-3 위험성평가'!$A$4:$A$470)+1>E311,VLOOKUP(E311,'3-3 위험성평가'!$A$5:$P$470,2,0),\"\")","v":""},{"$f":"IF(F311=\"\",\"\",VLOOKUP(VALUE(F311),'1-1 사업장 공정 정보'!$D$15:$P$32,5,0))","v":""},{"$f":"IF(MAX('3-3 위험성평가'!$A$4:$A$470)+1>E311,VLOOKUP(E311,'3-3 위험성평가'!$A$5:$P$470,3,0),\"\")","v":""},{"$f":"IF(MAX('3-3 위험성평가'!$A$4:$A$470)+1>E311,VLOOKUP(E311,'3-3 위험성평가'!$A$5:$P$470,4,0),\"\")","v":""},{"$f":"IF(MAX('3-3 위험성평가'!$A$4:$A$470)+1>E311,VLOOKUP(E311,'3-3 위험성평가'!$A$5:$P$470,5,0),\"\")","v":""},{"$f":"IF(MAX('3-3 위험성평가'!$A$4:$A$470)+1>E311,VLOOKUP(E311,'3-3 위험성평가'!$A$5:$P$470,6,0),\"\")","v":""},{"$f":"IF(MAX('3-3 위험성평가'!$A$4:$A$470)+1>E311,VLOOKUP(E311,'3-3 위험성평가'!$A$5:$P$470,9,0),\"\")","v":""},{"$f":"IF(MAX('3-3 위험성평가'!$A$4:$A$536)+1>E311,VLOOKUP(E311,'3-3 위험성평가'!$A$5:$P$536,12,0),\"\")&IF(L311>\"\",\".\"&E311,\"\")","v":""},{"$f":"IF(MAX('3-3 위험성평가'!$A$4:$A$470)+1>E311,VLOOKUP(E311,'3-3 위험성평가'!$A$5:$P$470,13,0),\"\")","v":""},null,"하",null,null,null,null,null,null,null,"선택안함",0,{"$f":"IF(MAX('3-3 위험성평가'!$A$4:$A$470)+1>E311,VLOOKUP(E311,'3-3 위험성평가'!$A$5:$Q$470,17,0),\"\")","v":""},"선택",{"$f":"표지!$D$33","v":"시원건설"},{"$f":"표지!$E$34","v":"김길동4"},"선택안함",0]
["T40",4,"S40",4,304,{"$f":"IF(MAX('3-3 위험성평가'!$A$4:$A$470)+1>E312,VLOOKUP(E312,'3-3 위험성평가'!$A$5:$P$470,2,0),\"\")","v":""},{"$f":"IF(F312=\"\",\"\",VLOOKUP(VALUE(F312),'1-1 사업장 공정 정보'!$D$15:$P$32,5,0))","v":""},{"$f":"IF(MAX('3-3 위험성평가'!$A$4:$A$470)+1>E312,VLOOKUP(E312,'3-3 위험성평가'!$A$5:$P$470,3,0),\"\")","v":""},{"$f":"IF(MAX('3-3 위험성평가'!$A$4:$A$470)+1>E312,VLOOKUP(E312,'3-3 위험성평가'!$A$5:$P$470,4,0),\"\")","v":""},{"$f":"IF(MAX('3-3 위험성평가'!$A$4:$A$470)+1>E312,VLOOKUP(E312,'3-3 위험성평가'!$A$5:$P$470,5,0),\"\")","v":""},{"$f":"IF(MAX('3-3 위험성평가'!$A$4:$A$470)+1>E312,VLOOKUP(E312,'3-3 위험성평가'!$A$5:$P$470,6,0),\"\")","v":""},{"$f":"IF(MAX('3-3 위험성평가'!$A$4:$A$470)+1>E312,VLOOKUP(E312,'3-3 위험성평가'!$A$5:$P$470,9,0),\"\")","v":""},{"$f":"IF(MAX('3-3 위험성평가'!$A$4:$A$536)+1>E312,VLOOKUP(E312,'3-3 위험성평가'!$A$5:$P$536,12,0),\"\")&IF(L312>\"\",\".\"&E312,\"\")","v":""},{"$f":"IF(MAX('3-3 위험성평가'!$A$4:$A$470)+1>E312,VLOOKUP(E312,'3-3 위험성평가'!$A$5:$P$470,13,0),\"\")","v":""},null,"하",null,null,null,null,null,null,null,"선택안함",0,{"$f":"IF(MAX('3-3 위험성평가'!$A$4:$A$470)+1>E312,VLOOKUP(E312,'3-3 위험성평가'!$A$5:$Q$470,17,0),\"\")","v":""},"선택",{"$f":"표지!$D$33","v":"시원건설"},{"$f":"표지!$E$34","v":"김길동4"},"선택안함",0]
["T40",4,"S40",4,305,{"$f":"IF(MAX('3-3 위험성평가'!$A$4:$A$470)+1>E313,VLOOKUP(E313,'3-3 위험성평가'!$A$5:$P$470,2,0),\"\")","v":""},{"$f":"IF(F313=\"\",\"\",VLOOKUP(VALUE(F313),'1-1 사업장 공정 정보'!$D$15:$P$32,5,0))","v":""},{"$f":"IF(MAX('3-3 위험성평가'!$A$4:$A$470)+1>E313,VLOOKUP(E313,'3-3 위험성평가'!$A$5:$P$470,3,0),\"\")","v":""},{"$f":"IF(MAX('3-3 위험성평가'!$A$4:$A$470)+1>E313,VLOOKUP(E313,'3-3 위험성평가'!$A$5:$P$470,4,0),\"\")","v":""},{"$f":"IF(MAX('3-3 위험성평가'!$A$4:$A$470)+1>E313,VLOOKUP(E313,'3-3 위험성평가'!$A$5:$P$470,5,0),\"\")","v":""},{"$f":"IF(MAX('3-3 위험성평가'!$A$4:$A$470)+1>E313,VLOOKUP(E313,'3-3 위험성평가'!$A$5:$P$470,6,0),\"\")","v":""},{"$f":"IF(MAX('3-3 위험성평가'!$A$4:$A$470)+1>E313,VLOOKUP(E313,'3-3 위험성평가'!$A$5:$P$470,9,0),\"\")","v":""},{"$f":"IF(MAX('3-3 위험성평가'!$A$4:$A$536)+1>E313,VLOOKUP(E313,'3-3 위험성평가'!$A$5:$P$536,12,0),\"\")&IF(L313>\"\",\".\"&E313,\"\")","v":""},{"$f":"IF(MAX('3-3 위험성평가'!$A$4:$A$470)+1>E313,VLOOKUP(E313,'3-3 위험성평가'!$A$5:$P$470,13,0),\"\")","v":""},null,"하",null,null,null,null,null,null,null,"선택안함",0,{"$f":"IF(MAX('3-3 위험성평가'!$A$4:$A$470)+1>E313,VLOOKUP(E313,'3-3 위험성평가'!$A$5:$Q$470,17,0),\"\")","v":""},"선택",{"$f":"표지!$D$33","v":"시원건설"},{"$f":"표지!$E$34","v":"김길동4"},"선택안함",0]
["T40",4,"S40",4,306,{"$f":"IF(MAX('3-3 위험성평가'!$A$4:$A$470)+1>E314,VLOOKUP(E314,'3-3 위험성평가'!$A$5:$P$470,2,0),\"\")","v":""},{"$f":"IF(F314=\"\",\"\",VLOOKUP(VALUE(F314),'1-1 사업장 공정 정보'!$D$15:$P$32,5,0))","v":""},{"$f":"IF(MAX('3-3 위험성평가'!$A$4:$A$470)+1>E314,VLOOKUP(E314,'3-3 위험성평가'!$A$5:$P$470,3,0),\"\")","v":""},{"$f":"IF(MAX('3-3 위험성평가'!$A$4:$A$470)+1>E314,VLOOKUP(E314,'3-3 위험성평가'!$A$5:$P$470,4,0),\"\")","v":""},{"$f":"IF(MAX('3-3 위험성평가'!$A$4:$A$470)+1>E314,VLOOKUP(E314,'3-3 위험성평가'!$A$5:$P$470,5,0),\"\")","v":""},{"$f":"IF(MAX('3-3 위험성평가'!$A$4:$A$470)+1>E314,VLOOKUP(E314,'3-3 위험성평가'!$A$5:$P$470,6,0),\"\")","v":""},{"$f":"IF(MAX('3-3 위험성평가'!$A$4:$A$470)+1>E314,VLOOKUP(E314,'3-3 위험성평가'!$A$5:$P$470,9,0),\"\")","v":""},{"$f":"IF(MAX('3-3 위험성평가'!$A$4:$A$536)+1>E314,VLOOKUP(E314,'3-3 위험성평가'!$A$5:$P$536,12,0),\"\")&IF(L314>\"\",\".\"&E314,\"\")","v":""},{"$f":"IF(MAX('3-3 위험성평가'!$A$4:$A$470)+1>E314,VLOOKUP(E314,'3-3 위험성평가'!$A$5:$P$470,13,0),\"\")","v":""},null,"하",null,null,null,null,null,null,null,"선택안함",0,{"$f":"IF(MAX('3-3 위험성평가'!$A$4:$A$470)+1>E314,VLOOKUP(E314,'3-3 위험성평가'!$A$5:$Q$470,17,0),\"\")","v":""},"선택",{"$f":"표지!$D$33","v":"시원건설"},{"$f":"표지!$E$34","v":"김길동4"},"선택안함",0]
["T40",4,"S40",4,307,{"$f":"IF(MAX('3-3 위험성평가'!$A$4:$A$470)+1>E315,VLOOKUP(E315,'3-3 위험성평가'!$A$5:$P$470,2,0),\"\")","v":""},{"$f":"IF(F315=\"\",\"\",VLOOKUP(VALUE(F315),'1-1 사업장 공정 정보'!$D$15:$P$32,5,0))","v":""},{"$f":"IF(MAX('3-3 위험성평가'!$A$4:$A$470)+1>E315,VLOOKUP(E315,'3-3 위험성평가'!$A$5:$P$470,3,0),\"\")","v":""},{"$f":"IF(MAX('3-3 위험성평가'!$A$4:$A$470)+1>E315,VLOOKUP(E315,'3-3 위험성평가'!$A$5:$P$470,4,0),\"\")","v":""},{"$f":"IF(MAX('3-3 위험성평가'!$A$4:$A$470)+1>E315,VLOOKUP(E315,'3-3 위험성평가'!$A$5:$P$470,5,0),\"\")","v":""},{"$f":"IF(MAX('3-3 위험성평가'!$A$4:$A$470)+1>E315,VLOOKUP(E315,'3-3 위험성평가'!$A$5:$P$470,6,0),\"\")","v":""},{"$f":"IF(MAX('3-3 위험성평가'!$A$4:$A$470)+1>E315,VLOOKUP(E315,'3-3 위험성평가'!$A$5:$P$470,9,0),\"\")","v":""},{"$f":"IF(MAX('3-3 위험성평가'!$A$4:$A$536)+1>E315,VLOOKUP(E315,'3-3 위험성평가'!$A$5:$P$536,12,0),\"\")&IF(L315>\"\",\".\"&E315,\"\")","v":""},{"$f":"IF(MAX('3-3 위험성평가'!$A$4:$A$470)+1>E315,VLOOKUP(E315,'3-3 위험성평가'!$A$5:$P$470,13,0),\"\")","v":""},null,"하",null,null,null,null,null,null,null,"선택안함",0,{"$f":"IF(MAX('3-3 위험성평가'!$A$4:$A$470)+1>E315,VLOOKUP(E315,'3-3 위험성평가'!$A$5:$Q$470,17,0),\"\")","v":""},"선택",{"$f":"표지!$D$33","v":"시원건설"},{"$f":"표지!$E$34","v":"김길동4"},"선택안함",0]
["T40",4,"S40",4,308,{"$f":"IF(MAX('3-3 위험성평가'!$A$4:$A$470)+1>E316,VLOOKUP(E316,'3-3 위험성평가'!$A$5:$P$470,2,0),\"\")","v":""},{"$f":"IF(F316=\"\",\"\",VLOOKUP(VALUE(F316),'1-1 사업장 공정 정보'!$D$15:$P$32,5,0))","v":""},{"$f":"IF(MAX('3-3 위험성평가'!$A$4:$A$470)+1>E316,VLOOKUP(E316,'3-3 위험성평가'!$A$5:$P$470,3,0),\"\")","v":""},{"$f":"IF(MAX('3-3 위험성평가'!$A$4:$A$470)+1>E316,VLOOKUP(E316,'3-3 위험성평가'!$A$5:$P$470,4,0),\"\")","v":""},{"$f":"IF(MAX('3-3 위험성평가'!$A$4:$A$470)+1>E316,VLOOKUP(E316,'3-3 위험성평가'!$A$5:$P$470,5,0),\"\")","v":""},{"$f":"IF(MAX('3-3 위험성평가'!$A$4:$A$470)+1>E316,VLOOKUP(E316,'3-3 위험성평가'!$A$5:$P$470,6,0),\"\")","v":""},{"$f":"IF(MAX('3-3 위험성평가'!$A$4:$A$470)+1>E316,VLOOKUP(E316,'3-3 위험성평가'!$A$5:$P$470,9,0),\"\")","v":""},{"$f":"IF(MAX('3-3 위험성평가'!$A$4:$A$536)+1>E316,VLOOKUP(E316,'3-3 위험성평가'!$A$5:$P$536,12,0),\"\")&IF(L316>\"\",\".\"&E316,\"\")","v":""},{"$f":"IF(MAX('3-3 위험성평가'!$A$4:$A$470)+1>E316,VLOOKUP(E316,'3-3 위험성평가'!$A$5:$P$470,13,0),\"\")","v":""},null,"하",null,null,null,null,null,null,null,"선택안함",0,{"$f":"IF(MAX('3-3 위험성평가'!$A$4:$A$470)+1>E316,VLOOKUP(E316,'3-3 위험성평가'!$A$5:$Q$470,17,0),\"\")","v":""},"선택",{"$f":"표지!$D$33","v":"시원건설"},{"$f":"표지!$E$34","v":"김길동4"},"선택안함",0]
["T40",4,"S40",4,309,{"$f":"IF(MAX('3-3 위험성평가'!$A$4:$A$470)+1>E317,VLOOKUP(E317,'3-3 위험성평가'!$A$5:$P$470,2,0),\"\")","v":""},{"$f":"IF(F317=\"\",\"\",VLOOKUP(VALUE(F317),'1-1 사업장 공정 정보'!$D$15:$P$32,5,0))","v":""},{"$f":"IF(MAX('3-3 위험성평가'!$A$4:$A$470)+1>E317,VLOOKUP(E317,'3-3 위험성평가'!$A$5:$P$470,3,0),\"\")","v":""},{"$f":"IF(MAX('3-3 위험성평가'!$A$4:$A$470)+1>E317,VLOOKUP(E317,'3-3 위험성평가'!$A$5:$P$470,4,0),\"\")","v":""},{"$f":"IF(MAX('3-3 위험성평가'!$A$4:$A$470)+1>E317,VLOOKUP(E317,'3-3 위험성평가'!$A$5:$P$470,5,0),\"\")","v":""},{"$f":"IF(MAX('3-3 위험성평가'!$A$4:$A$470)+1>E317,VLOOKUP(E317,'3-3 위험성평가'!$A$5:$P$470,6,0),\"\")","v":""},{"$f":"IF(MAX('3-3 위험성평가'!$A$4:$A$470)+1>E317,VLOOKUP(E317,'3-3 위험성평가'!$A$5:$P$470,9,0),\"\")","v":""},{"$f":"IF(MAX('3-3 위험성평가'!$A$4:$A$536)+1>E317,VLOOKUP(E317,'3-3 위험성평가'!$A$5:$P$536,12,0),\"\")&IF(L317>\"\",\".\"&E317,\"\")","v":""},{"$f":"IF(MAX('3-3 위험성평가'!$A$4:$A$470)+1>E317,VLOOKUP(E317,'3-3 위험성평가'!$A$5:$P$470,13,0),\"\")","v":""},null,"하",null,null,null,null,null,null,null,"선택안함",0,{"$f":"IF(MAX('3-3 위험성평가'!$A$4:$A$470)+1>E317,VLOOKUP(E317,'3-3 위험성평가'!$A$5:$Q$470,17,0),\"\")","v":""},"선택",{"$f":"표지!$D$33","v":"시원건설"},{"$f":"표지!$E$34","v":"김길동4"},"선택안함",0]
["T40",4,"S40",4,310,{"$f":"IF(MAX('3-3 위험성평가'!$A$4:$A$470)+1>E318,VLOOKUP(E318,'3-3 위험성평가'!$A$5:$P$470,2,0),\"\")","v":""},{"$f":"IF(F318=\"\",\"\",VLOOKUP(VALUE(F318),'1-1 사업장 공정 정보'!$D$15:$P$32,5,0))","v":""},{"$f":"IF(MAX('3-3 위험성평가'!$A$4:$A$470)+1>E318,VLOOKUP(E318,'3-3 위험성평가'!$A$5:$P$470,3,0),\"\")","v":""},{"$f":"IF(MAX('3-3 위험성평가'!$A$4:$A$470)+1>E318,VLOOKUP(E318,'3-3 위험성평가'!$A$5:$P$470,4,0),\"\")","v":""},{"$f":"IF(MAX('3-3 위험성평가'!$A$4:$A$470)+1>E318,VLOOKUP(E318,'3-3 위험성평가'!$A$5:$P$470,5,0),\"\")","v":""},{"$f":"IF(MAX('3-3 위험성평가'!$A$4:$A$470)+1>E318,VLOOKUP(E318,'3-3 위험성평가'!$A$5:$P$470,6,0),\"\")","v":""},{"$f":"IF(MAX('3-3 위험성평가'!$A$4:$A$470)+1>E318,VLOOKUP(E318,'3-3 위험성평가'!$A$5:$P$470,9,0),\"\")","v":""},{"$f":"IF(MAX('3-3 위험성평가'!$A$4:$A$536)+1>E318,VLOOKUP(E318,'3-3 위험성평가'!$A$5:$P$536,12,0),\"\")&IF(L318>\"\",\".\"&E318,\"\")","v":""},{"$f":"IF(MAX('3-3 위험성평가'!$A$4:$A$470)+1>E318,VLOOKUP(E318,'3-3 위험성평가'!$A$5:$P$470,13,0),\"\")","v":""},null,"하",null,null,null,null,null,null,null,"선택안함",0,{"$f":"IF(MAX('3-3 위험성평가'!$A$4:$A$470)+1>E318,VLOOKUP(E318,'3-3 위험성평가'!$A$5:$Q$470,17,0),\"\")","v":""},"선택",{"$f":"표지!$D$33","v":"시원건설"},{"$f":"표지!$E$34","v":"김길동4"},"선택안함",0]
["T40",4,"S40",4,311,{"$f":"IF(MAX('3-3 위험성평가'!$A$4:$A$470)+1>E319,VLOOKUP(E319,'3-3 위험성평가'!$A$5:$P$470,2,0),\"\")","v":""},{"$f":"IF(F319=\"\",\"\",VLOOKUP(VALUE(F319),'1-1 사업장 공정 정보'!$D$15:$P$32,5,0))","v":""},{"$f":"IF(MAX('3-3 위험성평가'!$A$4:$A$470)+1>E319,VLOOKUP(E319,'3-3 위험성평가'!$A$5:$P$470,3,0),\"\")","v":""},{"$f":"IF(MAX('3-3 위험성평가'!$A$4:$A$470)+1>E319,VLOOKUP(E319,'3-3 위험성평가'!$A$5:$P$470,4,0),\"\")","v":""},{"$f":"IF(MAX('3-3 위험성평가'!$A$4:$A$470)+1>E319,VLOOKUP(E319,'3-3 위험성평가'!$A$5:$P$470,5,0),\"\")","v":""},{"$f":"IF(MAX('3-3 위험성평가'!$A$4:$A$470)+1>E319,VLOOKUP(E319,'3-3 위험성평가'!$A$5:$P$470,6,0),\"\")","v":""},{"$f":"IF(MAX('3-3 위험성평가'!$A$4:$A$470)+1>E319,VLOOKUP(E319,'3-3 위험성평가'!$A$5:$P$470,9,0),\"\")","v":""},{"$f":"IF(MAX('3-3 위험성평가'!$A$4:$A$536)+1>E319,VLOOKUP(E319,'3-3 위험성평가'!$A$5:$P$536,12,0),\"\")&IF(L319>\"\",\".\"&E319,\"\")","v":""},{"$f":"IF(MAX('3-3 위험성평가'!$A$4:$A$470)+1>E319,VLOOKUP(E319,'3-3 위험성평가'!$A$5:$P$470,13,0),\"\")","v":""},null,"하",null,null,null,null,null,null,null,"선택안함",0,{"$f":"IF(MAX('3-3 위험성평가'!$A$4:$A$470)+1>E319,VLOOKUP(E319,'3-3 위험성평가'!$A$5:$Q$470,17,0),\"\")","v":""},"선택",{"$f":"표지!$D$33","v":"시원건설"},{"$f":"표지!$E$34","v":"김길동4"},"선택안함",0]
["T40",4,"S40",4,312,{"$f":"IF(MAX('3-3 위험성평가'!$A$4:$A$470)+1>E320,VLOOKUP(E320,'3-3 위험성평가'!$A$5:$P$470,2,0),\"\")","v":""},{"$f":"IF(F320=\"\",\"\",VLOOKUP(VALUE(F320),'1-1 사업장 공정 정보'!$D$15:$P$32,5,0))","v":""},{"$f":"IF(MAX('3-3 위험성평가'!$A$4:$A$470)+1>E320,VLOOKUP(E320,'3-3 위험성평가'!$A$5:$P$470,3,0),\"\")","v":""},{"$f":"IF(MAX('3-3 위험성평가'!$A$4:$A$470)+1>E320,VLOOKUP(E320,'3-3 위험성평가'!$A$5:$P$470,4,0),\"\")","v":""},{"$f":"IF(MAX('3-3 위험성평가'!$A$4:$A$470)+1>E320,VLOOKUP(E320,'3-3 위험성평가'!$A$5:$P$470,5,0),\"\")","v":""},{"$f":"IF(MAX('3-3 위험성평가'!$A$4:$A$470)+1>E320,VLOOKUP(E320,'3-3 위험성평가'!$A$5:$P$470,6,0),\"\")","v":""},{"$f":"IF(MAX('3-3 위험성평가'!$A$4:$A$470)+1>E320,VLOOKUP(E320,'3-3 위험성평가'!$A$5:$P$470,9,0),\"\")","v":""},{"$f":"IF(MAX('3-3 위험성평가'!$A$4:$A$536)+1>E320,VLOOKUP(E320,'3-3 위험성평가'!$A$5:$P$536,12,0),\"\")&IF(L320>\"\",\".\"&E320,\"\")","v":""},{"$f":"IF(MAX('3-3 위험성평가'!$A$4:$A$470)+1>E320,VLOOKUP(E320,'3-3 위험성평가'!$A$5:$P$470,13,0),\"\")","v":""},null,"하",null,null,null,null,null,null,null,"선택안함",0,{"$f":"IF(MAX('3-3 위험성평가'!$A$4:$A$470)+1>E320,VLOOKUP(E320,'3-3 위험성평가'!$A$5:$Q$470,17,0),\"\")","v":""},"선택",{"$f":"표지!$D$33","v":"시원건설"},{"$f":"표지!$E$34","v":"김길동4"},"선택안함",0]
["T40",4,"S40",4,313,{"$f":"IF(MAX('3-3 위험성평가'!$A$4:$A$470)+1>E321,VLOOKUP(E321,'3-3 위험성평가'!$A$5:$P$470,2,0),\"\")","v":""},{"$f":"IF(F321=\"\",\"\",VLOOKUP(VALUE(F321),'1-1 사업장 공정 정보'!$D$15:$P$32,5,0))","v":""},{"$f":"IF(MAX('3-3 위험성평가'!$A$4:$A$470)+1>E321,VLOOKUP(E321,'3-3 위험성평가'!$A$5:$P$470,3,0),\"\")","v":""},{"$f":"IF(MAX('3-3 위험성평가'!$A$4:$A$470)+1>E321,VLOOKUP(E321,'3-3 위험성평가'!$A$5:$P$470,4,0),\"\")","v":""},{"$f":"IF(MAX('3-3 위험성평가'!$A$4:$A$470)+1>E321,VLOOKUP(E321,'3-3 위험성평가'!$A$5:$P$470,5,0),\"\")","v":""},{"$f":"IF(MAX('3-3 위험성평가'!$A$4:$A$470)+1>E321,VLOOKUP(E321,'3-3 위험성평가'!$A$5:$P$470,6,0),\"\")","v":""},{"$f":"IF(MAX('3-3 위험성평가'!$A$4:$A$470)+1>E321,VLOOKUP(E321,'3-3 위험성평가'!$A$5:$P$470,9,0),\"\")","v":""},{"$f":"IF(MAX('3-3 위험성평가'!$A$4:$A$536)+1>E321,VLOOKUP(E321,'3-3 위험성평가'!$A$5:$P$536,12,0),\"\")&IF(L321>\"\",\".\"&E321,\"\")","v":""},{"$f":"IF(MAX('3-3 위험성평가'!$A$4:$A$470)+1>E321,VLOOKUP(E321,'3-3 위험성평가'!$A$5:$P$470,13,0),\"\")","v":""},null,"하",null,null,null,null,null,null,null,"선택안함",0,{"$f":"IF(MAX('3-3 위험성평가'!$A$4:$A$470)+1>E321,VLOOKUP(E321,'3-3 위험성평가'!$A$5:$Q$470,17,0),\"\")","v":""},"선택",{"$f":"표지!$D$33","v":"시원건설"},{"$f":"표지!$E$34","v":"김길동4"},"선택안함",0]
["T40",4,"S40",4,314,{"$f":"IF(MAX('3-3 위험성평가'!$A$4:$A$470)+1>E322,VLOOKUP(E322,'3-3 위험성평가'!$A$5:$P$470,2,0),\"\")","v":""},{"$f":"IF(F322=\"\",\"\",VLOOKUP(VALUE(F322),'1-1 사업장 공정 정보'!$D$15:$P$32,5,0))","v":""},{"$f":"IF(MAX('3-3 위험성평가'!$A$4:$A$470)+1>E322,VLOOKUP(E322,'3-3 위험성평가'!$A$5:$P$470,3,0),\"\")","v":""},{"$f":"IF(MAX('3-3 위험성평가'!$A$4:$A$470)+1>E322,VLOOKUP(E322,'3-3 위험성평가'!$A$5:$P$470,4,0),\"\")","v":""},{"$f":"IF(MAX('3-3 위험성평가'!$A$4:$A$470)+1>E322,VLOOKUP(E322,'3-3 위험성평가'!$A$5:$P$470,5,0),\"\")","v":""},{"$f":"IF(MAX('3-3 위험성평가'!$A$4:$A$470)+1>E322,VLOOKUP(E322,'3-3 위험성평가'!$A$5:$P$470,6,0),\"\")","v":""},{"$f":"IF(MAX('3-3 위험성평가'!$A$4:$A$470)+1>E322,VLOOKUP(E322,'3-3 위험성평가'!$A$5:$P$470,9,0),\"\")","v":""},{"$f":"IF(MAX('3-3 위험성평가'!$A$4:$A$536)+1>E322,VLOOKUP(E322,'3-3 위험성평가'!$A$5:$P$536,12,0),\"\")&IF(L322>\"\",\".\"&E322,\"\")","v":""},{"$f":"IF(MAX('3-3 위험성평가'!$A$4:$A$470)+1>E322,VLOOKUP(E322,'3-3 위험성평가'!$A$5:$P$470,13,0),\"\")","v":""},null,"하",null,null,null,null,null,null,null,"선택안함",0,{"$f":"IF(MAX('3-3 위험성평가'!$A$4:$A$470)+1>E322,VLOOKUP(E322,'3-3 위험성평가'!$A$5:$Q$470,17,0),\"\")","v":""},"선택",{"$f":"표지!$D$33","v":"시원건설"},{"$f":"표지!$E$34","v":"김길동4"},"선택안함",0]
["T40",4,"S40",4,315,{"$f":"IF(MAX('3-3 위험성평가'!$A$4:$A$470)+1>E323,VLOOKUP(E323,'3-3 위험성평가'!$A$5:$P$470,2,0),\"\")","v":""},{"$f":"IF(F323=\"\",\"\",VLOOKUP(VALUE(F323),'1-1 사업장 공정 정보'!$D$15:$P$32,5,0))","v":""},{"$f":"IF(MAX('3-3 위험성평가'!$A$4:$A$470)+1>E323,VLOOKUP(E323,'3-3 위험성평가'!$A$5:$P$470,3,0),\"\")","v":""},{"$f":"IF(MAX('3-3 위험성평가'!$A$4:$A$470)+1>E323,VLOOKUP(E323,'3-3 위험성평가'!$A$5:$P$470,4,0),\"\")","v":""},{"$f":"IF(MAX('3-3 위험성평가'!$A$4:$A$470)+1>E323,VLOOKUP(E323,'3-3 위험성평가'!$A$5:$P$470,5,0),\"\")","v":""},{"$f":"IF(MAX('3-3 위험성평가'!$A$4:$A$470)+1>E323,VLOOKUP(E323,'3-3 위험성평가'!$A$5:$P$470,6,0),\"\")","v":""},{"$f":"IF(MAX('3-3 위험성평가'!$A$4:$A$470)+1>E323,VLOOKUP(E323,'3-3 위험성평가'!$A$5:$P$470,9,0),\"\")","v":""},{"$f":"IF(MAX('3-3 위험성평가'!$A$4:$A$536)+1>E323,VLOOKUP(E323,'3-3 위험성평가'!$A$5:$P$536,12,0),\"\")&IF(L323>\"\",\".\"&E323,\"\")","v":""},{"$f":"IF(MAX('3-3 위험성평가'!$A$4:$A$470)+1>E323,VLOOKUP(E323,'3-3 위험성평가'!$A$5:$P$470,13,0),\"\")","v":""},null,"하",null,null,null,null,null,null,null,"선택안함",0,{"$f":"IF(MAX('3-3 위험성평가'!$A$4:$A$470)+1>E323,VLOOKUP(E323,'3-3 위험성평가'!$A$5:$Q$470,17,0),\"\")","v":""},"선택",{"$f":"표지!$D$33","v":"시원건설"},{"$f":"표지!$E$34","v":"김길동4"},"선택안함",0]
["T40",4,"S40",4,316,{"$f":"IF(MAX('3-3 위험성평가'!$A$4:$A$470)+1>E324,VLOOKUP(E324,'3-3 위험성평가'!$A$5:$P$470,2,0),\"\")","v":""},{"$f":"IF(F324=\"\",\"\",VLOOKUP(VALUE(F324),'1-1 사업장 공정 정보'!$D$15:$P$32,5,0))","v":""},{"$f":"IF(MAX('3-3 위험성평가'!$A$4:$A$470)+1>E324,VLOOKUP(E324,'3-3 위험성평가'!$A$5:$P$470,3,0),\"\")","v":""},{"$f":"IF(MAX('3-3 위험성평가'!$A$4:$A$470)+1>E324,VLOOKUP(E324,'3-3 위험성평가'!$A$5:$P$470,4,0),\"\")","v":""},{"$f":"IF(MAX('3-3 위험성평가'!$A$4:$A$470)+1>E324,VLOOKUP(E324,'3-3 위험성평가'!$A$5:$P$470,5,0),\"\")","v":""},{"$f":"IF(MAX('3-3 위험성평가'!$A$4:$A$470)+1>E324,VLOOKUP(E324,'3-3 위험성평가'!$A$5:$P$470,6,0),\"\")","v":""},{"$f":"IF(MAX('3-3 위험성평가'!$A$4:$A$470)+1>E324,VLOOKUP(E324,'3-3 위험성평가'!$A$5:$P$470,9,0),\"\")","v":""},{"$f":"IF(MAX('3-3 위험성평가'!$A$4:$A$536)+1>E324,VLOOKUP(E324,'3-3 위험성평가'!$A$5:$P$536,12,0),\"\")&IF(L324>\"\",\".\"&E324,\"\")","v":""},{"$f":"IF(MAX('3-3 위험성평가'!$A$4:$A$470)+1>E324,VLOOKUP(E324,'3-3 위험성평가'!$A$5:$P$470,13,0),\"\")","v":""},null,"하",null,null,null,null,null,null,null,"선택안함",0,{"$f":"IF(MAX('3-3 위험성평가'!$A$4:$A$470)+1>E324,VLOOKUP(E324,'3-3 위험성평가'!$A$5:$Q$470,17,0),\"\")","v":""},"선택",{"$f":"표지!$D$33","v":"시원건설"},{"$f":"표지!$E$34","v":"김길동4"},"선택안함",0]
["T40",4,"S40",4,317,{"$f":"IF(MAX('3-3 위험성평가'!$A$4:$A$470)+1>E325,VLOOKUP(E325,'3-3 위험성평가'!$A$5:$P$470,2,0),\"\")","v":""},{"$f":"IF(F325=\"\",\"\",VLOOKUP(VALUE(F325),'1-1 사업장 공정 정보'!$D$15:$P$32,5,0))","v":""},{"$f":"IF(MAX('3-3 위험성평가'!$A$4:$A$470)+1>E325,VLOOKUP(E325,'3-3 위험성평가'!$A$5:$P$470,3,0),\"\")","v":""},{"$f":"IF(MAX('3-3 위험성평가'!$A$4:$A$470)+1>E325,VLOOKUP(E325,'3-3 위험성평가'!$A$5:$P$470,4,0),\"\")","v":""},{"$f":"IF(MAX('3-3 위험성평가'!$A$4:$A$470)+1>E325,VLOOKUP(E325,'3-3 위험성평가'!$A$5:$P$470,5,0),\"\")","v":""},{"$f":"IF(MAX('3-3 위험성평가'!$A$4:$A$470)+1>E325,VLOOKUP(E325,'3-3 위험성평가'!$A$5:$P$470,6,0),\"\")","v":""},{"$f":"IF(MAX('3-3 위험성평가'!$A$4:$A$470)+1>E325,VLOOKUP(E325,'3-3 위험성평가'!$A$5:$P$470,9,0),\"\")","v":""},{"$f":"IF(MAX('3-3 위험성평가'!$A$4:$A$536)+1>E325,VLOOKUP(E325,'3-3 위험성평가'!$A$5:$P$536,12,0),\"\")&IF(L325>\"\",\".\"&E325,\"\")","v":""},{"$f":"IF(MAX('3-3 위험성평가'!$A$4:$A$470)+1>E325,VLOOKUP(E325,'3-3 위험성평가'!$A$5:$P$470,13,0),\"\")","v":""},null,"하",null,null,null,null,null,null,null,"선택안함",0,{"$f":"IF(MAX('3-3 위험성평가'!$A$4:$A$470)+1>E325,VLOOKUP(E325,'3-3 위험성평가'!$A$5:$Q$470,17,0),\"\")","v":""},"선택",{"$f":"표지!$D$33","v":"시원건설"},{"$f":"표지!$E$34","v":"김길동4"},"선택안함",0]
["T40",4,"S40",4,318,{"$f":"IF(MAX('3-3 위험성평가'!$A$4:$A$470)+1>E326,VLOOKUP(E326,'3-3 위험성평가'!$A$5:$P$470,2,0),\"\")","v":""},{"$f":"IF(F326=\"\",\"\",VLOOKUP(VALUE(F326),'1-1 사업장 공정 정보'!$D$15:$P$32,5,0))","v":""},{"$f":"IF(MAX('3-3 위험성평가'!$A$4:$A$470)+1>E326,VLOOKUP(E326,'3-3 위험성평가'!$A$5:$P$470,3,0),\"\")","v":""},{"$f":"IF(MAX('3-3 위험성평가'!$A$4:$A$470)+1>E326,VLOOKUP(E326,'3-3 위험성평가'!$A$5:$P$470,4,0),\"\")","v":""},{"$f":"IF(MAX('3-3 위험성평가'!$A$4:$A$470)+1>E326,VLOOKUP(E326,'3-3 위험성평가'!$A$5:$P$470,5,0),\"\")","v":""},{"$f":"IF(MAX('3-3 위험성평가'!$A$4:$A$470)+1>E326,VLOOKUP(E326,'3-3 위험성평가'!$A$5:$P$470,6,0),\"\")","v":""},{"$f":"IF(MAX('3-3 위험성평가'!$A$4:$A$470)+1>E326,VLOOKUP(E326,'3-3 위험성평가'!$A$5:$P$470,9,0),\"\")","v":""},{"$f":"IF(MAX('3-3 위험성평가'!$A$4:$A$536)+1>E326,VLOOKUP(E326,'3-3 위험성평가'!$A$5:$P$536,12,0),\"\")&IF(L326>\"\",\".\"&E326,\"\")","v":""},{"$f":"IF(MAX('3-3 위험성평가'!$A$4:$A$470)+1>E326,VLOOKUP(E326,'3-3 위험성평가'!$A$5:$P$470,13,0),\"\")","v":""},null,"하",null,null,null,null,null,null,null,"선택안함",0,{"$f":"IF(MAX('3-3 위험성평가'!$A$4:$A$470)+1>E326,VLOOKUP(E326,'3-3 위험성평가'!$A$5:$Q$470,17,0),\"\")","v":""},"선택",{"$f":"표지!$D$33","v":"시원건설"},{"$f":"표지!$E$34","v":"김길동4"},"선택안함",0]
["T40",4,"S40",4,319,{"$f":"IF(MAX('3-3 위험성평가'!$A$4:$A$470)+1>E327,VLOOKUP(E327,'3-3 위험성평가'!$A$5:$P$470,2,0),\"\")","v":""},{"$f":"IF(F327=\"\",\"\",VLOOKUP(VALUE(F327),'1-1 사업장 공정 정보'!$D$15:$P$32,5,0))","v":""},{"$f":"IF(MAX('3-3 위험성평가'!$A$4:$A$470)+1>E327,VLOOKUP(E327,'3-3 위험성평가'!$A$5:$P$470,3,0),\"\")","v":""},{"$f":"IF(MAX('3-3 위험성평가'!$A$4:$A$470)+1>E327,VLOOKUP(E327,'3-3 위험성평가'!$A$5:$P$470,4,0),\"\")","v":""},{"$f":"IF(MAX('3-3 위험성평가'!$A$4:$A$470)+1>E327,VLOOKUP(E327,'3-3 위험성평가'!$A$5:$P$470,5,0),\"\")","v":""},{"$f":"IF(MAX('3-3 위험성평가'!$A$4:$A$470)+1>E327,VLOOKUP(E327,'3-3 위험성평가'!$A$5:$P$470,6,0),\"\")","v":""},{"$f":"IF(MAX('3-3 위험성평가'!$A$4:$A$470)+1>E327,VLOOKUP(E327,'3-3 위험성평가'!$A$5:$P$470,9,0),\"\")","v":""},{"$f":"IF(MAX('3-3 위험성평가'!$A$4:$A$536)+1>E327,VLOOKUP(E327,'3-3 위험성평가'!$A$5:$P$536,12,0),\"\")&IF(L327>\"\",\".\"&E327,\"\")","v":""},{"$f":"IF(MAX('3-3 위험성평가'!$A$4:$A$470)+1>E327,VLOOKUP(E327,'3-3 위험성평가'!$A$5:$P$470,13,0),\"\")","v":""},null,"하",null,null,null,null,null,null,null,"선택안함",0,{"$f":"IF(MAX('3-3 위험성평가'!$A$4:$A$470)+1>E327,VLOOKUP(E327,'3-3 위험성평가'!$A$5:$Q$470,17,0),\"\")","v":""},"선택",{"$f":"표지!$D$33","v":"시원건설"},{"$f":"표지!$E$34","v":"김길동4"},"선택안함",0]
["T40",4,"S40",4,320,{"$f":"IF(MAX('3-3 위험성평가'!$A$4:$A$470)+1>E328,VLOOKUP(E328,'3-3 위험성평가'!$A$5:$P$470,2,0),\"\")","v":""},{"$f":"IF(F328=\"\",\"\",VLOOKUP(VALUE(F328),'1-1 사업장 공정 정보'!$D$15:$P$32,5,0))","v":""},{"$f":"IF(MAX('3-3 위험성평가'!$A$4:$A$470)+1>E328,VLOOKUP(E328,'3-3 위험성평가'!$A$5:$P$470,3,0),\"\")","v":""},{"$f":"IF(MAX('3-3 위험성평가'!$A$4:$A$470)+1>E328,VLOOKUP(E328,'3-3 위험성평가'!$A$5:$P$470,4,0),\"\")","v":""},{"$f":"IF(MAX('3-3 위험성평가'!$A$4:$A$470)+1>E328,VLOOKUP(E328,'3-3 위험성평가'!$A$5:$P$470,5,0),\"\")","v":""},{"$f":"IF(MAX('3-3 위험성평가'!$A$4:$A$470)+1>E328,VLOOKUP(E328,'3-3 위험성평가'!$A$5:$P$470,6,0),\"\")","v":""},{"$f":"IF(MAX('3-3 위험성평가'!$A$4:$A$470)+1>E328,VLOOKUP(E328,'3-3 위험성평가'!$A$5:$P$470,9,0),\"\")","v":""},{"$f":"IF(MAX('3-3 위험성평가'!$A$4:$A$536)+1>E328,VLOOKUP(E328,'3-3 위험성평가'!$A$5:$P$536,12,0),\"\")&IF(L328>\"\",\".\"&E328,\"\")","v":""},{"$f":"IF(MAX('3-3 위험성평가'!$A$4:$A$470)+1>E328,VLOOKUP(E328,'3-3 위험성평가'!$A$5:$P$470,13,0),\"\")","v":""},null,"하",null,null,null,null,null,null,null,"선택안함",0,{"$f":"IF(MAX('3-3 위험성평가'!$A$4:$A$470)+1>E328,VLOOKUP(E328,'3-3 위험성평가'!$A$5:$Q$470,17,0),\"\")","v":""},"선택",{"$f":"표지!$D$33","v":"시원건설"},{"$f":"표지!$E$34","v":"김길동4"},"선택안함",0]
[{"$f":"\"T\"&B329&IF(OR(X329=\"선택\",X329=1),1,0)","v":"T40"},4,"S40",4,321,{"$f":"IF(MAX('3-3 위험성평가'!$A$4:$A$470)+1>E329,VLOOKUP(E329,'3-3 위험성평가'!$A$5:$P$470,2,0),\"\")","v":""},{"$f":"IF(F329=\"\",\"\",VLOOKUP(VALUE(F329),'1-1 사업장 공정 정보'!$D$15:$P$32,5,0))","v":""},{"$f":"IF(MAX('3-3 위험성평가'!$A$4:$A$470)+1>E329,VLOOKUP(E329,'3-3 위험성평가'!$A$5:$P$470,3,0),\"\")","v":""},{"$f":"IF(MAX('3-3 위험성평가'!$A$4:$A$470)+1>E329,VLOOKUP(E329,'3-3 위험성평가'!$A$5:$P$470,4,0),\"\")","v":""},{"$f":"IF(MAX('3-3 위험성평가'!$A$4:$A$470)+1>E329,VLOOKUP(E329,'3-3 위험성평가'!$A$5:$P$470,5,0),\"\")","v":""},{"$f":"IF(MAX('3-3 위험성평가'!$A$4:$A$470)+1>E329,VLOOKUP(E329,'3-3 위험성평가'!$A$5:$P$470,6,0),\"\")","v":""},{"$f":"IF(MAX('3-3 위험성평가'!$A$4:$A$470)+1>E329,VLOOKUP(E329,'3-3 위험성평가'!$A$5:$P$470,9,0),\"\")","v":""},{"$f":"IF(MAX('3-3 위험성평가'!$A$4:$A$536)+1>E329,VLOOKUP(E329,'3-3 위험성평가'!$A$5:$P$536,12,0),\"\")&IF(L329>\"\",\".\"&E329,\"\")","v":""},{"$f":"IF(MAX('3-3 위험성평가'!$A$4:$A$470)+1>E329,VLOOKUP(E329,'3-3 위험성평가'!$A$5:$P$470,13,0),\"\")","v":""},null,"하",null,null,null,null,null,null,null,"선택안함",0,{"$f":"IF(MAX('3-3 위험성평가'!$A$4:$A$470)+1>E329,VLOOKUP(E329,'3-3 위험성평가'!$A$5:$Q$470,17,0),\"\")","v":""},"선택",{"$f":"표지!$D$33","v":"시원건설"},{"$f":"표지!$E$34","v":"김길동4"},"선택안함",0]
["T40",4,{"$f":"\"S\"&D330&IF(OR(AD330=\"선택\",AD330=1),1,0)","v":"S40"},4,322,{"$f":"IF(MAX('3-3 위험성평가'!$A$4:$A$470)+1>E330,VLOOKUP(E330,'3-3 위험성평가'!$A$5:$P$470,2,0),\"\")","v":""},{"$f":"IF(F330=\"\",\"\",VLOOKUP(VALUE(F330),'1-1 사업장 공정 정보'!$D$15:$P$32,5,0))","v":""},{"$f":"IF(MAX('3-3 위험성평가'!$A$4:$A$470)+1>E330,VLOOKUP(E330,'3-3 위험성평가'!$A$5:$P$470,3,0),\"\")","v":""},{"$f":"IF(MAX('3-3 위험성평가'!$A$4:$A$470)+1>E330,VLOOKUP(E330,'3-3 위험성평가'!$A$5:$P$470,4,0),\"\")","v":""},{"$f":"IF(MAX('3-3 위험성평가'!$A$4:$A$470)+1>E330,VLOOKUP(E330,'3-3 위험성평가'!$A$5:$P$470,5,0),\"\")","v":""},{"$f":"IF(MAX('3-3 위험성평가'!$A$4:$A$470)+1>E330,VLOOKUP(E330,'3-3 위험성평가'!$A$5:$P$470,6,0),\"\")","v":""},{"$f":"IF(MAX('3-3 위험성평가'!$A$4:$A$470)+1>E330,VLOOKUP(E330,'3-3 위험성평가'!$A$5:$P$470,9,0),\"\")","v":""},{"$f":"IF(MAX('3-3 위험성평가'!$A$4:$A$536)+1>E330,VLOOKUP(E330,'3-3 위험성평가'!$A$5:$P$536,12,0),\"\")&IF(L330>\"\",\".\"&E330,\"\")","v":""},{"$f":"IF(MAX('3-3 위험성평가'!$A$4:$A$470)+1>E330,VLOOKUP(E330,'3-3 위험성평가'!$A$5:$P$470,13,0),\"\")","v":""},null,"하",null,null,null,null,null,null,null,"선택안함",{"$f":"IF(OR(X330=\"선택\",X330=1),1,0)","v":0},{"$f":"IF(MAX('3-3 위험성평가'!$A$4:$A$470)+1>E330,VLOOKUP(E330,'3-3 위험성평가'!$A$5:$Q$470,17,0),\"\")","v":""},"선택",{"$f":"표지!$D$33","v":"시원건설"},{"$f":"표지!$E$34","v":"김길동4"},"선택안함",{"$f":"IF(OR(AD330=\"선택\",AD330=1),1,0)","v":0}]
["T40",4,"S40",4,323,{"$f":"IF(MAX('3-3 위험성평가'!$A$4:$A$470)+1>E331,VLOOKUP(E331,'3-3 위험성평가'!$A$5:$P$470,2,0),\"\")","v":""},{"$f":"IF(F331=\"\",\"\",VLOOKUP(VALUE(F331),'1-1 사업장 공정 정보'!$D$15:$P$32,5,0))","v":""},{"$f":"IF(MAX('3-3 위험성평가'!$A$4:$A$470)+1>E331,VLOOKUP(E331,'3-3 위험성평가'!$A$5:$P$470,3,0),\"\")","v":""},{"$f":"IF(MAX('3-3 위험성평가'!$A$4:$A$470)+1>E331,VLOOKUP(E331,'3-3 위험성평가'!$A$5:$P$470,4,0),\"\")","v":""},{"$f":"IF(MAX('3-3 위험성평가'!$A$4:$A$470)+1>E331,VLOOKUP(E331,'3-3 위험성평가'!$A$5:$P$470,5,0),\"\")","v":""},{"$f":"IF(MAX('3-3 위험성평가'!$A$4:$A$470)+1>E331,VLOOKUP(E331,'3-3 위험성평가'!$A$5:$P$470,6,0),\"\")","v":""},{"$f":"IF(MAX('3-3 위험성평가'!$A$4:$A$470)+1>E331,VLOOKUP(E331,'3-3 위험성평가'!$A$5:$P$470,9,0),\"\")","v":""},{"$f":"IF(MAX('3-3 위험성평가'!$A$4:$A$536)+1>E331,VLOOKUP(E331,'3-3 위험성평가'!$A$5:$P$536,12,0),\"\")&IF(L331>\"\",\".\"&E331,\"\")","v":""},{"$f":"IF(MAX('3-3 위험성평가'!$A$4:$A$470)+1>E331,VLOOKUP(E331,'3-3 위험성평가'!$A$5:$P$470,13,0),\"\")","v":""},null,"하",null,null,null,null,null,null,null,"선택안함",0,{"$f":"IF(MAX('3-3 위험성평가'!$A$4:$A$470)+1>E331,VLOOKUP(E331,'3-3 위험성평가'!$A$5:$Q$470,17,0),\"\")","v":""},"선택",{"$f":"표지!$D$33","v":"시원건설"},{"$f":"표지!$E$34","v":"김길동4"},"선택안함",0]
["T40",4,"S40",{"$f":"D331+AE332","v":4},324,{"$f":"IF(MAX('3-3 위험성평가'!$A$4:$A$470)+1>E332,VLOOKUP(E332,'3-3 위험성평가'!$A$5:$P$470,2,0),\"\")","v":""},{"$f":"IF(F332=\"\",\"\",VLOOKUP(VALUE(F332),'1-1 사업장 공정 정보'!$D$15:$P$32,5,0))","v":""},{"$f":"IF(MAX('3-3 위험성평가'!$A$4:$A$470)+1>E332,VLOOKUP(E332,'3-3 위험성평가'!$A$5:$P$470,3,0),\"\")","v":""},{"$f":"IF(MAX('3-3 위험성평가'!$A$4:$A$470)+1>E332,VLOOKUP(E332,'3-3 위험성평가'!$A$5:$P$470,4,0),\"\")","v":""},{"$f":"IF(MAX('3-3 위험성평가'!$A$4:$A$470)+1>E332,VLOOKUP(E332,'3-3 위험성평가'!$A$5:$P$470,5,0),\"\")","v":""},{"$f":"IF(MAX('3-3 위험성평가'!$A$4:$A$470)+1>E332,VLOOKUP(E332,'3-3 위험성평가'!$A$5:$P$470,6,0),\"\")","v":""},{"$f":"IF(MAX('3-3 위험성평가'!$A$4:$A$470)+1>E332,VLOOKUP(E332,'3-3 위험성평가'!$A$5:$P$470,9,0),\"\")","v":""},{"$f":"IF(MAX('3-3 위험성평가'!$A$4:$A$536)+1>E332,VLOOKUP(E332,'3-3 위험성평가'!$A$5:$P$536,12,0),\"\")&IF(L332>\"\",\".\"&E332,\"\")","v":""},{"$f":"IF(MAX('3-3 위험성평가'!$A$4:$A$470)+1>E332,VLOOKUP(E332,'3-3 위험성평가'!$A$5:$P$470,13,0),\"\")","v":""},null,"하",null,null,null,null,null,null,null,"선택안함",0,{"$f":"IF(MAX('3-3 위험성평가'!$A$4:$A$470)+1>E332,VLOOKUP(E332,'3-3 위험성평가'!$A$5:$Q$470,17,0),\"\")","v":""},"선택",{"$f":"표지!$D$33","v":"시원건설"},{"$f":"표지!$E$34","v":"김길동4"},"선택안함",0]
["T40",4,"S40",4,325,{"$f":"IF(MAX('3-3 위험성평가'!$A$4:$A$470)+1>E333,VLOOKUP(E333,'3-3 위험성평가'!$A$5:$P$470,2,0),\"\")","v":""},{"$f":"IF(F333=\"\",\"\",VLOOKUP(VALUE(F333),'1-1 사업장 공정 정보'!$D$15:$P$32,5,0))","v":""},{"$f":"IF(MAX('3-3 위험성평가'!$A$4:$A$470)+1>E333,VLOOKUP(E333,'3-3 위험성평가'!$A$5:$P$470,3,0),\"\")","v":""},{"$f":"IF(MAX('3-3 위험성평가'!$A$4:$A$470)+1>E333,VLOOKUP(E333,'3-3 위험성평가'!$A$5:$P$470,4,0),\"\")","v":""},{"$f":"IF(MAX('3-3 위험성평가'!$A$4:$A$470)+1>E333,VLOOKUP(E333,'3-3 위험성평가'!$A$5:$P$470,5,0),\"\")","v":""},{"$f":"IF(MAX('3-3 위험성평가'!$A$4:$A$470)+1>E333,VLOOKUP(E333,'3-3 위험성평가'!$A$5:$P$470,6,0),\"\")","v":""},{"$f":"IF(MAX('3-3 위험성평가'!$A$4:$A$470)+1>E333,VLOOKUP(E333,'3-3 위험성평가'!$A$5:$P$470,9,0),\"\")","v":""},{"$f":"IF(MAX('3-3 위험성평가'!$A$4:$A$536)+1>E333,VLOOKUP(E333,'3-3 위험성평가'!$A$5:$P$536,12,0),\"\")&IF(L333>\"\",\".\"&E333,\"\")","v":""},{"$f":"IF(MAX('3-3 위험성평가'!$A$4:$A$470)+1>E333,VLOOKUP(E333,'3-3 위험성평가'!$A$5:$P$470,13,0),\"\")","v":""},null,"하",null,null,null,null,null,null,null,"선택안함",0,{"$f":"IF(MAX('3-3 위험성평가'!$A$4:$A$470)+1>E333,VLOOKUP(E333,'3-3 위험성평가'!$A$5:$Q$470,17,0),\"\")","v":""},"선택",{"$f":"표지!$D$33","v":"시원건설"},{"$f":"표지!$E$34","v":"김길동4"},"선택안함",0]
["T40",4,"S40",4,326,{"$f":"IF(MAX('3-3 위험성평가'!$A$4:$A$470)+1>E334,VLOOKUP(E334,'3-3 위험성평가'!$A$5:$P$470,2,0),\"\")","v":""},{"$f":"IF(F334=\"\",\"\",VLOOKUP(VALUE(F334),'1-1 사업장 공정 정보'!$D$15:$P$32,5,0))","v":""},{"$f":"IF(MAX('3-3 위험성평가'!$A$4:$A$470)+1>E334,VLOOKUP(E334,'3-3 위험성평가'!$A$5:$P$470,3,0),\"\")","v":""},{"$f":"IF(MAX('3-3 위험성평가'!$A$4:$A$470)+1>E334,VLOOKUP(E334,'3-3 위험성평가'!$A$5:$P$470,4,0),\"\")","v":""},{"$f":"IF(MAX('3-3 위험성평가'!$A$4:$A$470)+1>E334,VLOOKUP(E334,'3-3 위험성평가'!$A$5:$P$470,5,0),\"\")","v":""},{"$f":"IF(MAX('3-3 위험성평가'!$A$4:$A$470)+1>E334,VLOOKUP(E334,'3-3 위험성평가'!$A$5:$P$470,6,0),\"\")","v":""},{"$f":"IF(MAX('3-3 위험성평가'!$A$4:$A$470)+1>E334,VLOOKUP(E334,'3-3 위험성평가'!$A$5:$P$470,9,0),\"\")","v":""},{"$f":"IF(MAX('3-3 위험성평가'!$A$4:$A$536)+1>E334,VLOOKUP(E334,'3-3 위험성평가'!$A$5:$P$536,12,0),\"\")&IF(L334>\"\",\".\"&E334,\"\")","v":""},{"$f":"IF(MAX('3-3 위험성평가'!$A$4:$A$470)+1>E334,VLOOKUP(E334,'3-3 위험성평가'!$A$5:$P$470,13,0),\"\")","v":""},null,"하",null,null,null,null,null,null,null,"선택안함",0,{"$f":"IF(MAX('3-3 위험성평가'!$A$4:$A$470)+1>E334,VLOOKUP(E334,'3-3 위험성평가'!$A$5:$Q$470,17,0),\"\")","v":""},"선택",{"$f":"표지!$D$33","v":"시원건설"},{"$f":"표지!$E$34","v":"김길동4"},"선택안함",0]
["T40",4,"S40",4,327,{"$f":"IF(MAX('3-3 위험성평가'!$A$4:$A$470)+1>E335,VLOOKUP(E335,'3-3 위험성평가'!$A$5:$P$470,2,0),\"\")","v":""},{"$f":"IF(F335=\"\",\"\",VLOOKUP(VALUE(F335),'1-1 사업장 공정 정보'!$D$15:$P$32,5,0))","v":""},{"$f":"IF(MAX('3-3 위험성평가'!$A$4:$A$470)+1>E335,VLOOKUP(E335,'3-3 위험성평가'!$A$5:$P$470,3,0),\"\")","v":""},{"$f":"IF(MAX('3-3 위험성평가'!$A$4:$A$470)+1>E335,VLOOKUP(E335,'3-3 위험성평가'!$A$5:$P$470,4,0),\"\")","v":""},{"$f":"IF(MAX('3-3 위험성평가'!$A$4:$A$470)+1>E335,VLOOKUP(E335,'3-3 위험성평가'!$A$5:$P$470,5,0),\"\")","v":""},{"$f":"IF(MAX('3-3 위험성평가'!$A$4:$A$470)+1>E335,VLOOKUP(E335,'3-3 위험성평가'!$A$5:$P$470,6,0),\"\")","v":""},{"$f":"IF(MAX('3-3 위험성평가'!$A$4:$A$470)+1>E335,VLOOKUP(E335,'3-3 위험성평가'!$A$5:$P$470,9,0),\"\")","v":""},{"$f":"IF(MAX('3-3 위험성평가'!$A$4:$A$536)+1>E335,VLOOKUP(E335,'3-3 위험성평가'!$A$5:$P$536,12,0),\"\")&IF(L335>\"\",\".\"&E335,\"\")","v":""},{"$f":"IF(MAX('3-3 위험성평가'!$A$4:$A$470)+1>E335,VLOOKUP(E335,'3-3 위험성평가'!$A$5:$P$470,13,0),\"\")","v":""},null,"하",null,null,null,null,null,null,null,"선택안함",0,{"$f":"IF(MAX('3-3 위험성평가'!$A$4:$A$470)+1>E335,VLOOKUP(E335,'3-3 위험성평가'!$A$5:$Q$470,17,0),\"\")","v":""},"선택",{"$f":"표지!$D$33","v":"시원건설"},{"$f":"표지!$E$34","v":"김길동4"},"선택안함",0]
["T40",4,"S40",4,328,{"$f":"IF(MAX('3-3 위험성평가'!$A$4:$A$470)+1>E336,VLOOKUP(E336,'3-3 위험성평가'!$A$5:$P$470,2,0),\"\")","v":""},{"$f":"IF(F336=\"\",\"\",VLOOKUP(VALUE(F336),'1-1 사업장 공정 정보'!$D$15:$P$32,5,0))","v":""},{"$f":"IF(MAX('3-3 위험성평가'!$A$4:$A$470)+1>E336,VLOOKUP(E336,'3-3 위험성평가'!$A$5:$P$470,3,0),\"\")","v":""},{"$f":"IF(MAX('3-3 위험성평가'!$A$4:$A$470)+1>E336,VLOOKUP(E336,'3-3 위험성평가'!$A$5:$P$470,4,0),\"\")","v":""},{"$f":"IF(MAX('3-3 위험성평가'!$A$4:$A$470)+1>E336,VLOOKUP(E336,'3-3 위험성평가'!$A$5:$P$470,5,0),\"\")","v":""},{"$f":"IF(MAX('3-3 위험성평가'!$A$4:$A$470)+1>E336,VLOOKUP(E336,'3-3 위험성평가'!$A$5:$P$470,6,0),\"\")","v":""},{"$f":"IF(MAX('3-3 위험성평가'!$A$4:$A$470)+1>E336,VLOOKUP(E336,'3-3 위험성평가'!$A$5:$P$470,9,0),\"\")","v":""},{"$f":"IF(MAX('3-3 위험성평가'!$A$4:$A$536)+1>E336,VLOOKUP(E336,'3-3 위험성평가'!$A$5:$P$536,12,0),\"\")&IF(L336>\"\",\".\"&E336,\"\")","v":""},{"$f":"IF(MAX('3-3 위험성평가'!$A$4:$A$470)+1>E336,VLOOKUP(E336,'3-3 위험성평가'!$A$5:$P$470,13,0),\"\")","v":""},null,"하",null,null,null,null,null,null,null,"선택안함",0,{"$f":"IF(MAX('3-3 위험성평가'!$A$4:$A$470)+1>E336,VLOOKUP(E336,'3-3 위험성평가'!$A$5:$Q$470,17,0),\"\")","v":""},"선택",{"$f":"표지!$D$33","v":"시원건설"},{"$f":"표지!$E$34","v":"김길동4"},"선택안함",0]
["T40",4,"S40",4,329,{"$f":"IF(MAX('3-3 위험성평가'!$A$4:$A$470)+1>E337,VLOOKUP(E337,'3-3 위험성평가'!$A$5:$P$470,2,0),\"\")","v":""},{"$f":"IF(F337=\"\",\"\",VLOOKUP(VALUE(F337),'1-1 사업장 공정 정보'!$D$15:$P$32,5,0))","v":""},{"$f":"IF(MAX('3-3 위험성평가'!$A$4:$A$470)+1>E337,VLOOKUP(E337,'3-3 위험성평가'!$A$5:$P$470,3,0),\"\")","v":""},{"$f":"IF(MAX('3-3 위험성평가'!$A$4:$A$470)+1>E337,VLOOKUP(E337,'3-3 위험성평가'!$A$5:$P$470,4,0),\"\")","v":""},{"$f":"IF(MAX('3-3 위험성평가'!$A$4:$A$470)+1>E337,VLOOKUP(E337,'3-3 위험성평가'!$A$5:$P$470,5,0),\"\")","v":""},{"$f":"IF(MAX('3-3 위험성평가'!$A$4:$A$470)+1>E337,VLOOKUP(E337,'3-3 위험성평가'!$A$5:$P$470,6,0),\"\")","v":""},{"$f":"IF(MAX('3-3 위험성평가'!$A$4:$A$470)+1>E337,VLOOKUP(E337,'3-3 위험성평가'!$A$5:$P$470,9,0),\"\")","v":""},{"$f":"IF(MAX('3-3 위험성평가'!$A$4:$A$536)+1>E337,VLOOKUP(E337,'3-3 위험성평가'!$A$5:$P$536,12,0),\"\")&IF(L337>\"\",\".\"&E337,\"\")","v":""},{"$f":"IF(MAX('3-3 위험성평가'!$A$4:$A$470)+1>E337,VLOOKUP(E337,'3-3 위험성평가'!$A$5:$P$470,13,0),\"\")","v":""},null,"하",null,null,null,null,null,null,null,"선택안함",0,{"$f":"IF(MAX('3-3 위험성평가'!$A$4:$A$470)+1>E337,VLOOKUP(E337,'3-3 위험성평가'!$A$5:$Q$470,17,0),\"\")","v":""},"선택",{"$f":"표지!$D$33","v":"시원건설"},{"$f":"표지!$E$34","v":"김길동4"},"선택안함",0]
["T40",4,"S40",4,330,{"$f":"IF(MAX('3-3 위험성평가'!$A$4:$A$470)+1>E338,VLOOKUP(E338,'3-3 위험성평가'!$A$5:$P$470,2,0),\"\")","v":""},{"$f":"IF(F338=\"\",\"\",VLOOKUP(VALUE(F338),'1-1 사업장 공정 정보'!$D$15:$P$32,5,0))","v":""},{"$f":"IF(MAX('3-3 위험성평가'!$A$4:$A$470)+1>E338,VLOOKUP(E338,'3-3 위험성평가'!$A$5:$P$470,3,0),\"\")","v":""},{"$f":"IF(MAX('3-3 위험성평가'!$A$4:$A$470)+1>E338,VLOOKUP(E338,'3-3 위험성평가'!$A$5:$P$470,4,0),\"\")","v":""},{"$f":"IF(MAX('3-3 위험성평가'!$A$4:$A$470)+1>E338,VLOOKUP(E338,'3-3 위험성평가'!$A$5:$P$470,5,0),\"\")","v":""},{"$f":"IF(MAX('3-3 위험성평가'!$A$4:$A$470)+1>E338,VLOOKUP(E338,'3-3 위험성평가'!$A$5:$P$470,6,0),\"\")","v":""},{"$f":"IF(MAX('3-3 위험성평가'!$A$4:$A$470)+1>E338,VLOOKUP(E338,'3-3 위험성평가'!$A$5:$P$470,9,0),\"\")","v":""},{"$f":"IF(MAX('3-3 위험성평가'!$A$4:$A$536)+1>E338,VLOOKUP(E338,'3-3 위험성평가'!$A$5:$P$536,12,0),\"\")&IF(L338>\"\",\".\"&E338,\"\")","v":""},{"$f":"IF(MAX('3-3 위험성평가'!$A$4:$A$470)+1>E338,VLOOKUP(E338,'3-3 위험성평가'!$A$5:$P$470,13,0),\"\")","v":""},null,"하",null,null,null,null,null,null,null,"선택안함",0,{"$f":"IF(MAX('3-3 위험성평가'!$A$4:$A$470)+1>E338,VLOOKUP(E338,'3-3 위험성평가'!$A$5:$Q$470,17,0),\"\")","v":""},"선택",{"$f":"표지!$D$33","v":"시원건설"},{"$f":"표지!$E$34","v":"김길동4"},"선택안함",0]
["T40",4,"S40",4,331,{"$f":"IF(MAX('3-3 위험성평가'!$A$4:$A$470)+1>E339,VLOOKUP(E339,'3-3 위험성평가'!$A$5:$P$470,2,0),\"\")","v":""},{"$f":"IF(F339=\"\",\"\",VLOOKUP(VALUE(F339),'1-1 사업장 공정 정보'!$D$15:$P$32,5,0))","v":""},{"$f":"IF(MAX('3-3 위험성평가'!$A$4:$A$470)+1>E339,VLOOKUP(E339,'3-3 위험성평가'!$A$5:$P$470,3,0),\"\")","v":""},{"$f":"IF(MAX('3-3 위험성평가'!$A$4:$A$470)+1>E339,VLOOKUP(E339,'3-3 위험성평가'!$A$5:$P$470,4,0),\"\")","v":""},{"$f":"IF(MAX('3-3 위험성평가'!$A$4:$A$470)+1>E339,VLOOKUP(E339,'3-3 위험성평가'!$A$5:$P$470,5,0),\"\")","v":""},{"$f":"IF(MAX('3-3 위험성평가'!$A$4:$A$470)+1>E339,VLOOKUP(E339,'3-3 위험성평가'!$A$5:$P$470,6,0),\"\")","v":""},{"$f":"IF(MAX('3-3 위험성평가'!$A$4:$A$470)+1>E339,VLOOKUP(E339,'3-3 위험성평가'!$A$5:$P$470,9,0),\"\")","v":""},{"$f":"IF(MAX('3-3 위험성평가'!$A$4:$A$536)+1>E339,VLOOKUP(E339,'3-3 위험성평가'!$A$5:$P$536,12,0),\"\")&IF(L339>\"\",\".\"&E339,\"\")","v":""},{"$f":"IF(MAX('3-3 위험성평가'!$A$4:$A$470)+1>E339,VLOOKUP(E339,'3-3 위험성평가'!$A$5:$P$470,13,0),\"\")","v":""},null,"하",null,null,null,null,null,null,null,"선택안함",0,{"$f":"IF(MAX('3-3 위험성평가'!$A$4:$A$470)+1>E339,VLOOKUP(E339,'3-3 위험성평가'!$A$5:$Q$470,17,0),\"\")","v":""},"선택",{"$f":"표지!$D$33","v":"시원건설"},{"$f":"표지!$E$34","v":"김길동4"},"선택안함",0]
["T40",4,"S40",4,332,{"$f":"IF(MAX('3-3 위험성평가'!$A$4:$A$470)+1>E340,VLOOKUP(E340,'3-3 위험성평가'!$A$5:$P$470,2,0),\"\")","v":""},{"$f":"IF(F340=\"\",\"\",VLOOKUP(VALUE(F340),'1-1 사업장 공정 정보'!$D$15:$P$32,5,0))","v":""},{"$f":"IF(MAX('3-3 위험성평가'!$A$4:$A$470)+1>E340,VLOOKUP(E340,'3-3 위험성평가'!$A$5:$P$470,3,0),\"\")","v":""},{"$f":"IF(MAX('3-3 위험성평가'!$A$4:$A$470)+1>E340,VLOOKUP(E340,'3-3 위험성평가'!$A$5:$P$470,4,0),\"\")","v":""},{"$f":"IF(MAX('3-3 위험성평가'!$A$4:$A$470)+1>E340,VLOOKUP(E340,'3-3 위험성평가'!$A$5:$P$470,5,0),\"\")","v":""},{"$f":"IF(MAX('3-3 위험성평가'!$A$4:$A$470)+1>E340,VLOOKUP(E340,'3-3 위험성평가'!$A$5:$P$470,6,0),\"\")","v":""},{"$f":"IF(MAX('3-3 위험성평가'!$A$4:$A$470)+1>E340,VLOOKUP(E340,'3-3 위험성평가'!$A$5:$P$470,9,0),\"\")","v":""},{"$f":"IF(MAX('3-3 위험성평가'!$A$4:$A$536)+1>E340,VLOOKUP(E340,'3-3 위험성평가'!$A$5:$P$536,12,0),\"\")&IF(L340>\"\",\".\"&E340,\"\")","v":""},{"$f":"IF(MAX('3-3 위험성평가'!$A$4:$A$470)+1>E340,VLOOKUP(E340,'3-3 위험성평가'!$A$5:$P$470,13,0),\"\")","v":""},null,"하",null,null,null,null,null,null,null,"선택안함",0,{"$f":"IF(MAX('3-3 위험성평가'!$A$4:$A$470)+1>E340,VLOOKUP(E340,'3-3 위험성평가'!$A$5:$Q$470,17,0),\"\")","v":""},"선택",{"$f":"표지!$D$33","v":"시원건설"},{"$f":"표지!$E$34","v":"김길동4"},"선택안함",0]
["T40",4,"S40",4,333,{"$f":"IF(MAX('3-3 위험성평가'!$A$4:$A$470)+1>E341,VLOOKUP(E341,'3-3 위험성평가'!$A$5:$P$470,2,0),\"\")","v":""},{"$f":"IF(F341=\"\",\"\",VLOOKUP(VALUE(F341),'1-1 사업장 공정 정보'!$D$15:$P$32,5,0))","v":""},{"$f":"IF(MAX('3-3 위험성평가'!$A$4:$A$470)+1>E341,VLOOKUP(E341,'3-3 위험성평가'!$A$5:$P$470,3,0),\"\")","v":""},{"$f":"IF(MAX('3-3 위험성평가'!$A$4:$A$470)+1>E341,VLOOKUP(E341,'3-3 위험성평가'!$A$5:$P$470,4,0),\"\")","v":""},{"$f":"IF(MAX('3-3 위험성평가'!$A$4:$A$470)+1>E341,VLOOKUP(E341,'3-3 위험성평가'!$A$5:$P$470,5,0),\"\")","v":""},{"$f":"IF(MAX('3-3 위험성평가'!$A$4:$A$470)+1>E341,VLOOKUP(E341,'3-3 위험성평가'!$A$5:$P$470,6,0),\"\")","v":""},{"$f":"IF(MAX('3-3 위험성평가'!$A$4:$A$470)+1>E341,VLOOKUP(E341,'3-3 위험성평가'!$A$5:$P$470,9,0),\"\")","v":""},{"$f":"IF(MAX('3-3 위험성평가'!$A$4:$A$536)+1>E341,VLOOKUP(E341,'3-3 위험성평가'!$A$5:$P$536,12,0),\"\")&IF(L341>\"\",\".\"&E341,\"\")","v":""},{"$f":"IF(MAX('3-3 위험성평가'!$A$4:$A$470)+1>E341,VLOOKUP(E341,'3-3 위험성평가'!$A$5:$P$470,13,0),\"\")","v":""},null,"하",null,null,null,null,null,null,null,"선택안함",0,{"$f":"IF(MAX('3-3 위험성평가'!$A$4:$A$470)+1>E341,VLOOKUP(E341,'3-3 위험성평가'!$A$5:$Q$470,17,0),\"\")","v":""},"선택",{"$f":"표지!$D$33","v":"시원건설"},{"$f":"표지!$E$34","v":"김길동4"},"선택안함",0]
["T40",4,"S40",4,334,{"$f":"IF(MAX('3-3 위험성평가'!$A$4:$A$470)+1>E342,VLOOKUP(E342,'3-3 위험성평가'!$A$5:$P$470,2,0),\"\")","v":""},{"$f":"IF(F342=\"\",\"\",VLOOKUP(VALUE(F342),'1-1 사업장 공정 정보'!$D$15:$P$32,5,0))","v":""},{"$f":"IF(MAX('3-3 위험성평가'!$A$4:$A$470)+1>E342,VLOOKUP(E342,'3-3 위험성평가'!$A$5:$P$470,3,0),\"\")","v":""},{"$f":"IF(MAX('3-3 위험성평가'!$A$4:$A$470)+1>E342,VLOOKUP(E342,'3-3 위험성평가'!$A$5:$P$470,4,0),\"\")","v":""},{"$f":"IF(MAX('3-3 위험성평가'!$A$4:$A$470)+1>E342,VLOOKUP(E342,'3-3 위험성평가'!$A$5:$P$470,5,0),\"\")","v":""},{"$f":"IF(MAX('3-3 위험성평가'!$A$4:$A$470)+1>E342,VLOOKUP(E342,'3-3 위험성평가'!$A$5:$P$470,6,0),\"\")","v":""},{"$f":"IF(MAX('3-3 위험성평가'!$A$4:$A$470)+1>E342,VLOOKUP(E342,'3-3 위험성평가'!$A$5:$P$470,9,0),\"\")","v":""},{"$f":"IF(MAX('3-3 위험성평가'!$A$4:$A$536)+1>E342,VLOOKUP(E342,'3-3 위험성평가'!$A$5:$P$536,12,0),\"\")&IF(L342>\"\",\".\"&E342,\"\")","v":""},{"$f":"IF(MAX('3-3 위험성평가'!$A$4:$A$470)+1>E342,VLOOKUP(E342,'3-3 위험성평가'!$A$5:$P$470,13,0),\"\")","v":""},null,"하",null,null,null,null,null,null,null,"선택안함",0,{"$f":"IF(MAX('3-3 위험성평가'!$A$4:$A$470)+1>E342,VLOOKUP(E342,'3-3 위험성평가'!$A$5:$Q$470,17,0),\"\")","v":""},"선택",{"$f":"표지!$D$33","v":"시원건설"},{"$f":"표지!$E$34","v":"김길동4"},"선택안함",0]
["T40",4,"S40",4,335,{"$f":"IF(MAX('3-3 위험성평가'!$A$4:$A$470)+1>E343,VLOOKUP(E343,'3-3 위험성평가'!$A$5:$P$470,2,0),\"\")","v":""},{"$f":"IF(F343=\"\",\"\",VLOOKUP(VALUE(F343),'1-1 사업장 공정 정보'!$D$15:$P$32,5,0))","v":""},{"$f":"IF(MAX('3-3 위험성평가'!$A$4:$A$470)+1>E343,VLOOKUP(E343,'3-3 위험성평가'!$A$5:$P$470,3,0),\"\")","v":""},{"$f":"IF(MAX('3-3 위험성평가'!$A$4:$A$470)+1>E343,VLOOKUP(E343,'3-3 위험성평가'!$A$5:$P$470,4,0),\"\")","v":""},{"$f":"IF(MAX('3-3 위험성평가'!$A$4:$A$470)+1>E343,VLOOKUP(E343,'3-3 위험성평가'!$A$5:$P$470,5,0),\"\")","v":""},{"$f":"IF(MAX('3-3 위험성평가'!$A$4:$A$470)+1>E343,VLOOKUP(E343,'3-3 위험성평가'!$A$5:$P$470,6,0),\"\")","v":""},{"$f":"IF(MAX('3-3 위험성평가'!$A$4:$A$470)+1>E343,VLOOKUP(E343,'3-3 위험성평가'!$A$5:$P$470,9,0),\"\")","v":""},{"$f":"IF(MAX('3-3 위험성평가'!$A$4:$A$536)+1>E343,VLOOKUP(E343,'3-3 위험성평가'!$A$5:$P$536,12,0),\"\")&IF(L343>\"\",\".\"&E343,\"\")","v":""},{"$f":"IF(MAX('3-3 위험성평가'!$A$4:$A$470)+1>E343,VLOOKUP(E343,'3-3 위험성평가'!$A$5:$P$470,13,0),\"\")","v":""},null,"하",null,null,null,null,null,null,null,"선택안함",0,{"$f":"IF(MAX('3-3 위험성평가'!$A$4:$A$470)+1>E343,VLOOKUP(E343,'3-3 위험성평가'!$A$5:$Q$470,17,0),\"\")","v":""},"선택",{"$f":"표지!$D$33","v":"시원건설"},{"$f":"표지!$E$34","v":"김길동4"},"선택안함",0]
["T40",4,"S40",4,336,{"$f":"IF(MAX('3-3 위험성평가'!$A$4:$A$470)+1>E344,VLOOKUP(E344,'3-3 위험성평가'!$A$5:$P$470,2,0),\"\")","v":""},{"$f":"IF(F344=\"\",\"\",VLOOKUP(VALUE(F344),'1-1 사업장 공정 정보'!$D$15:$P$32,5,0))","v":""},{"$f":"IF(MAX('3-3 위험성평가'!$A$4:$A$470)+1>E344,VLOOKUP(E344,'3-3 위험성평가'!$A$5:$P$470,3,0),\"\")","v":""},{"$f":"IF(MAX('3-3 위험성평가'!$A$4:$A$470)+1>E344,VLOOKUP(E344,'3-3 위험성평가'!$A$5:$P$470,4,0),\"\")","v":""},{"$f":"IF(MAX('3-3 위험성평가'!$A$4:$A$470)+1>E344,VLOOKUP(E344,'3-3 위험성평가'!$A$5:$P$470,5,0),\"\")","v":""},{"$f":"IF(MAX('3-3 위험성평가'!$A$4:$A$470)+1>E344,VLOOKUP(E344,'3-3 위험성평가'!$A$5:$P$470,6,0),\"\")","v":""},{"$f":"IF(MAX('3-3 위험성평가'!$A$4:$A$470)+1>E344,VLOOKUP(E344,'3-3 위험성평가'!$A$5:$P$470,9,0),\"\")","v":""},{"$f":"IF(MAX('3-3 위험성평가'!$A$4:$A$536)+1>E344,VLOOKUP(E344,'3-3 위험성평가'!$A$5:$P$536,12,0),\"\")&IF(L344>\"\",\".\"&E344,\"\")","v":""},{"$f":"IF(MAX('3-3 위험성평가'!$A$4:$A$470)+1>E344,VLOOKUP(E344,'3-3 위험성평가'!$A$5:$P$470,13,0),\"\")","v":""},null,"하",null,null,null,null,null,null,null,"선택안함",0,{"$f":"IF(MAX('3-3 위험성평가'!$A$4:$A$470)+1>E344,VLOOKUP(E344,'3-3 위험성평가'!$A$5:$Q$470,17,0),\"\")","v":""},"선택",{"$f":"표지!$D$33","v":"시원건설"},{"$f":"표지!$E$34","v":"김길동4"},"선택안함",0]
["T40",4,"S40",4,337,{"$f":"IF(MAX('3-3 위험성평가'!$A$4:$A$470)+1>E345,VLOOKUP(E345,'3-3 위험성평가'!$A$5:$P$470,2,0),\"\")","v":""},{"$f":"IF(F345=\"\",\"\",VLOOKUP(VALUE(F345),'1-1 사업장 공정 정보'!$D$15:$P$32,5,0))","v":""},{"$f":"IF(MAX('3-3 위험성평가'!$A$4:$A$470)+1>E345,VLOOKUP(E345,'3-3 위험성평가'!$A$5:$P$470,3,0),\"\")","v":""},{"$f":"IF(MAX('3-3 위험성평가'!$A$4:$A$470)+1>E345,VLOOKUP(E345,'3-3 위험성평가'!$A$5:$P$470,4,0),\"\")","v":""},{"$f":"IF(MAX('3-3 위험성평가'!$A$4:$A$470)+1>E345,VLOOKUP(E345,'3-3 위험성평가'!$A$5:$P$470,5,0),\"\")","v":""},{"$f":"IF(MAX('3-3 위험성평가'!$A$4:$A$470)+1>E345,VLOOKUP(E345,'3-3 위험성평가'!$A$5:$P$470,6,0),\"\")","v":""},{"$f":"IF(MAX('3-3 위험성평가'!$A$4:$A$470)+1>E345,VLOOKUP(E345,'3-3 위험성평가'!$A$5:$P$470,9,0),\"\")","v":""},{"$f":"IF(MAX('3-3 위험성평가'!$A$4:$A$536)+1>E345,VLOOKUP(E345,'3-3 위험성평가'!$A$5:$P$536,12,0),\"\")&IF(L345>\"\",\".\"&E345,\"\")","v":""},{"$f":"IF(MAX('3-3 위험성평가'!$A$4:$A$470)+1>E345,VLOOKUP(E345,'3-3 위험성평가'!$A$5:$P$470,13,0),\"\")","v":""},null,"하",null,null,null,null,null,null,null,"선택안함",0,{"$f":"IF(MAX('3-3 위험성평가'!$A$4:$A$470)+1>E345,VLOOKUP(E345,'3-3 위험성평가'!$A$5:$Q$470,17,0),\"\")","v":""},"선택",{"$f":"표지!$D$33","v":"시원건설"},{"$f":"표지!$E$34","v":"김길동4"},"선택안함",0]
["T40",{"$f":"B345+Y346","v":4},"S40",4,338,{"$f":"IF(MAX('3-3 위험성평가'!$A$4:$A$470)+1>E346,VLOOKUP(E346,'3-3 위험성평가'!$A$5:$P$470,2,0),\"\")","v":""},{"$f":"IF(F346=\"\",\"\",VLOOKUP(VALUE(F346),'1-1 사업장 공정 정보'!$D$15:$P$32,5,0))","v":""},{"$f":"IF(MAX('3-3 위험성평가'!$A$4:$A$470)+1>E346,VLOOKUP(E346,'3-3 위험성평가'!$A$5:$P$470,3,0),\"\")","v":""},{"$f":"IF(MAX('3-3 위험성평가'!$A$4:$A$470)+1>E346,VLOOKUP(E346,'3-3 위험성평가'!$A$5:$P$470,4,0),\"\")","v":""},{"$f":"IF(MAX('3-3 위험성평가'!$A$4:$A$470)+1>E346,VLOOKUP(E346,'3-3 위험성평가'!$A$5:$P$470,5,0),\"\")","v":""},{"$f":"IF(MAX('3-3 위험성평가'!$A$4:$A$470)+1>E346,VLOOKUP(E346,'3-3 위험성평가'!$A$5:$P$470,6,0),\"\")","v":""},{"$f":"IF(MAX('3-3 위험성평가'!$A$4:$A$470)+1>E346,VLOOKUP(E346,'3-3 위험성평가'!$A$5:$P$470,9,0),\"\")","v":""},{"$f":"IF(MAX('3-3 위험성평가'!$A$4:$A$536)+1>E346,VLOOKUP(E346,'3-3 위험성평가'!$A$5:$P$536,12,0),\"\")&IF(L346>\"\",\".\"&E346,\"\")","v":""},{"$f":"IF(MAX('3-3 위험성평가'!$A$4:$A$470)+1>E346,VLOOKUP(E346,'3-3 위험성평가'!$A$5:$P$470,13,0),\"\")","v":""},null,"하",null,null,null,null,null,null,null,"선택안함",0,{"$f":"IF(MAX('3-3 위험성평가'!$A$4:$A$470)+1>E346,VLOOKUP(E346,'3-3 위험성평가'!$A$5:$Q$470,17,0),\"\")","v":""},"선택",{"$f":"표지!$D$33","v":"시원건설"},{"$f":"표지!$E$34","v":"김길동4"},"선택안함",0]
["T40",4,"S40",4,339,{"$f":"IF(MAX('3-3 위험성평가'!$A$4:$A$470)+1>E347,VLOOKUP(E347,'3-3 위험성평가'!$A$5:$P$470,2,0),\"\")","v":""},{"$f":"IF(F347=\"\",\"\",VLOOKUP(VALUE(F347),'1-1 사업장 공정 정보'!$D$15:$P$32,5,0))","v":""},{"$f":"IF(MAX('3-3 위험성평가'!$A$4:$A$470)+1>E347,VLOOKUP(E347,'3-3 위험성평가'!$A$5:$P$470,3,0),\"\")","v":""},{"$f":"IF(MAX('3-3 위험성평가'!$A$4:$A$470)+1>E347,VLOOKUP(E347,'3-3 위험성평가'!$A$5:$P$470,4,0),\"\")","v":""},{"$f":"IF(MAX('3-3 위험성평가'!$A$4:$A$470)+1>E347,VLOOKUP(E347,'3-3 위험성평가'!$A$5:$P$470,5,0),\"\")","v":""},{"$f":"IF(MAX('3-3 위험성평가'!$A$4:$A$470)+1>E347,VLOOKUP(E347,'3-3 위험성평가'!$A$5:$P$470,6,0),\"\")","v":""},{"$f":"IF(MAX('3-3 위험성평가'!$A$4:$A$470)+1>E347,VLOOKUP(E347,'3-3 위험성평가'!$A$5:$P$470,9,0),\"\")","v":""},{"$f":"IF(MAX('3-3 위험성평가'!$A$4:$A$536)+1>E347,VLOOKUP(E347,'3-3 위험성평가'!$A$5:$P$536,12,0),\"\")&IF(L347>\"\",\".\"&E347,\"\")","v":""},{"$f":"IF(MAX('3-3 위험성평가'!$A$4:$A$470)+1>E347,VLOOKUP(E347,'3-3 위험성평가'!$A$5:$P$470,13,0),\"\")","v":""},null,"하",null,null,null,null,null,null,null,"선택안함",0,{"$f":"IF(MAX('3-3 위험성평가'!$A$4:$A$470)+1>E347,VLOOKUP(E347,'3-3 위험성평가'!$A$5:$Q$470,17,0),\"\")","v":""},"선택",{"$f":"표지!$D$33","v":"시원건설"},{"$f":"표지!$E$34","v":"김길동4"},"선택안함",0]
["T40",4,"S40",4,340,{"$f":"IF(MAX('3-3 위험성평가'!$A$4:$A$470)+1>E348,VLOOKUP(E348,'3-3 위험성평가'!$A$5:$P$470,2,0),\"\")","v":""},{"$f":"IF(F348=\"\",\"\",VLOOKUP(VALUE(F348),'1-1 사업장 공정 정보'!$D$15:$P$32,5,0))","v":""},{"$f":"IF(MAX('3-3 위험성평가'!$A$4:$A$470)+1>E348,VLOOKUP(E348,'3-3 위험성평가'!$A$5:$P$470,3,0),\"\")","v":""},{"$f":"IF(MAX('3-3 위험성평가'!$A$4:$A$470)+1>E348,VLOOKUP(E348,'3-3 위험성평가'!$A$5:$P$470,4,0),\"\")","v":""},{"$f":"IF(MAX('3-3 위험성평가'!$A$4:$A$470)+1>E348,VLOOKUP(E348,'3-3 위험성평가'!$A$5:$P$470,5,0),\"\")","v":""},{"$f":"IF(MAX('3-3 위험성평가'!$A$4:$A$470)+1>E348,VLOOKUP(E348,'3-3 위험성평가'!$A$5:$P$470,6,0),\"\")","v":""},{"$f":"IF(MAX('3-3 위험성평가'!$A$4:$A$470)+1>E348,VLOOKUP(E348,'3-3 위험성평가'!$A$5:$P$470,9,0),\"\")","v":""},{"$f":"IF(MAX('3-3 위험성평가'!$A$4:$A$536)+1>E348,VLOOKUP(E348,'3-3 위험성평가'!$A$5:$P$536,12,0),\"\")&IF(L348>\"\",\".\"&E348,\"\")","v":""},{"$f":"IF(MAX('3-3 위험성평가'!$A$4:$A$470)+1>E348,VLOOKUP(E348,'3-3 위험성평가'!$A$5:$P$470,13,0),\"\")","v":""},null,"하",null,null,null,null,null,null,null,"선택안함",0,{"$f":"IF(MAX('3-3 위험성평가'!$A$4:$A$470)+1>E348,VLOOKUP(E348,'3-3 위험성평가'!$A$5:$Q$470,17,0),\"\")","v":""},"선택",{"$f":"표지!$D$33","v":"시원건설"},{"$f":"표지!$E$34","v":"김길동4"},"선택안함",0]
["T40",4,"S40",4,341,{"$f":"IF(MAX('3-3 위험성평가'!$A$4:$A$470)+1>E349,VLOOKUP(E349,'3-3 위험성평가'!$A$5:$P$470,2,0),\"\")","v":""},{"$f":"IF(F349=\"\",\"\",VLOOKUP(VALUE(F349),'1-1 사업장 공정 정보'!$D$15:$P$32,5,0))","v":""},{"$f":"IF(MAX('3-3 위험성평가'!$A$4:$A$470)+1>E349,VLOOKUP(E349,'3-3 위험성평가'!$A$5:$P$470,3,0),\"\")","v":""},{"$f":"IF(MAX('3-3 위험성평가'!$A$4:$A$470)+1>E349,VLOOKUP(E349,'3-3 위험성평가'!$A$5:$P$470,4,0),\"\")","v":""},{"$f":"IF(MAX('3-3 위험성평가'!$A$4:$A$470)+1>E349,VLOOKUP(E349,'3-3 위험성평가'!$A$5:$P$470,5,0),\"\")","v":""},{"$f":"IF(MAX('3-3 위험성평가'!$A$4:$A$470)+1>E349,VLOOKUP(E349,'3-3 위험성평가'!$A$5:$P$470,6,0),\"\")","v":""},{"$f":"IF(MAX('3-3 위험성평가'!$A$4:$A$470)+1>E349,VLOOKUP(E349,'3-3 위험성평가'!$A$5:$P$470,9,0),\"\")","v":""},{"$f":"IF(MAX('3-3 위험성평가'!$A$4:$A$536)+1>E349,VLOOKUP(E349,'3-3 위험성평가'!$A$5:$P$536,12,0),\"\")&IF(L349>\"\",\".\"&E349,\"\")","v":""},{"$f":"IF(MAX('3-3 위험성평가'!$A$4:$A$470)+1>E349,VLOOKUP(E349,'3-3 위험성평가'!$A$5:$P$470,13,0),\"\")","v":""},null,"하",null,null,null,null,null,null,null,"선택안함",0,{"$f":"IF(MAX('3-3 위험성평가'!$A$4:$A$470)+1>E349,VLOOKUP(E349,'3-3 위험성평가'!$A$5:$Q$470,17,0),\"\")","v":""},"선택",{"$f":"표지!$D$33","v":"시원건설"},{"$f":"표지!$E$34","v":"김길동4"},"선택안함",0]
["T40",4,"S40",4,342,{"$f":"IF(MAX('3-3 위험성평가'!$A$4:$A$470)+1>E350,VLOOKUP(E350,'3-3 위험성평가'!$A$5:$P$470,2,0),\"\")","v":""},{"$f":"IF(F350=\"\",\"\",VLOOKUP(VALUE(F350),'1-1 사업장 공정 정보'!$D$15:$P$32,5,0))","v":""},{"$f":"IF(MAX('3-3 위험성평가'!$A$4:$A$470)+1>E350,VLOOKUP(E350,'3-3 위험성평가'!$A$5:$P$470,3,0),\"\")","v":""},{"$f":"IF(MAX('3-3 위험성평가'!$A$4:$A$470)+1>E350,VLOOKUP(E350,'3-3 위험성평가'!$A$5:$P$470,4,0),\"\")","v":""},{"$f":"IF(MAX('3-3 위험성평가'!$A$4:$A$470)+1>E350,VLOOKUP(E350,'3-3 위험성평가'!$A$5:$P$470,5,0),\"\")","v":""},{"$f":"IF(MAX('3-3 위험성평가'!$A$4:$A$470)+1>E350,VLOOKUP(E350,'3-3 위험성평가'!$A$5:$P$470,6,0),\"\")","v":""},{"$f":"IF(MAX('3-3 위험성평가'!$A$4:$A$470)+1>E350,VLOOKUP(E350,'3-3 위험성평가'!$A$5:$P$470,9,0),\"\")","v":""},{"$f":"IF(MAX('3-3 위험성평가'!$A$4:$A$536)+1>E350,VLOOKUP(E350,'3-3 위험성평가'!$A$5:$P$536,12,0),\"\")&IF(L350>\"\",\".\"&E350,\"\")","v":""},{"$f":"IF(MAX('3-3 위험성평가'!$A$4:$A$470)+1>E350,VLOOKUP(E350,'3-3 위험성평가'!$A$5:$P$470,13,0),\"\")","v":""},null,"하",null,null,null,null,null,null,null,"선택안함",0,{"$f":"IF(MAX('3-3 위험성평가'!$A$4:$A$470)+1>E350,VLOOKUP(E350,'3-3 위험성평가'!$A$5:$Q$470,17,0),\"\")","v":""},"선택",{"$f":"표지!$D$33","v":"시원건설"},{"$f":"표지!$E$34","v":"김길동4"},"선택안함",0]
["T40",4,"S40",4,343,{"$f":"IF(MAX('3-3 위험성평가'!$A$4:$A$470)+1>E351,VLOOKUP(E351,'3-3 위험성평가'!$A$5:$P$470,2,0),\"\")","v":""},{"$f":"IF(F351=\"\",\"\",VLOOKUP(VALUE(F351),'1-1 사업장 공정 정보'!$D$15:$P$32,5,0))","v":""},{"$f":"IF(MAX('3-3 위험성평가'!$A$4:$A$470)+1>E351,VLOOKUP(E351,'3-3 위험성평가'!$A$5:$P$470,3,0),\"\")","v":""},{"$f":"IF(MAX('3-3 위험성평가'!$A$4:$A$470)+1>E351,VLOOKUP(E351,'3-3 위험성평가'!$A$5:$P$470,4,0),\"\")","v":""},{"$f":"IF(MAX('3-3 위험성평가'!$A$4:$A$470)+1>E351,VLOOKUP(E351,'3-3 위험성평가'!$A$5:$P$470,5,0),\"\")","v":""},{"$f":"IF(MAX('3-3 위험성평가'!$A$4:$A$470)+1>E351,VLOOKUP(E351,'3-3 위험성평가'!$A$5:$P$470,6,0),\"\")","v":""},{"$f":"IF(MAX('3-3 위험성평가'!$A$4:$A$470)+1>E351,VLOOKUP(E351,'3-3 위험성평가'!$A$5:$P$470,9,0),\"\")","v":""},{"$f":"IF(MAX('3-3 위험성평가'!$A$4:$A$536)+1>E351,VLOOKUP(E351,'3-3 위험성평가'!$A$5:$P$536,12,0),\"\")&IF(L351>\"\",\".\"&E351,\"\")","v":""},{"$f":"IF(MAX('3-3 위험성평가'!$A$4:$A$470)+1>E351,VLOOKUP(E351,'3-3 위험성평가'!$A$5:$P$470,13,0),\"\")","v":""},null,"하",null,null,null,null,null,null,null,"선택안함",0,{"$f":"IF(MAX('3-3 위험성평가'!$A$4:$A$470)+1>E351,VLOOKUP(E351,'3-3 위험성평가'!$A$5:$Q$470,17,0),\"\")","v":""},"선택",{"$f":"표지!$D$33","v":"시원건설"},{"$f":"표지!$E$34","v":"김길동4"},"선택안함",0]
["T40",4,"S40",4,344,{"$f":"IF(MAX('3-3 위험성평가'!$A$4:$A$470)+1>E352,VLOOKUP(E352,'3-3 위험성평가'!$A$5:$P$470,2,0),\"\")","v":""},{"$f":"IF(F352=\"\",\"\",VLOOKUP(VALUE(F352),'1-1 사업장 공정 정보'!$D$15:$P$32,5,0))","v":""},{"$f":"IF(MAX('3-3 위험성평가'!$A$4:$A$470)+1>E352,VLOOKUP(E352,'3-3 위험성평가'!$A$5:$P$470,3,0),\"\")","v":""},{"$f":"IF(MAX('3-3 위험성평가'!$A$4:$A$470)+1>E352,VLOOKUP(E352,'3-3 위험성평가'!$A$5:$P$470,4,0),\"\")","v":""},{"$f":"IF(MAX('3-3 위험성평가'!$A$4:$A$470)+1>E352,VLOOKUP(E352,'3-3 위험성평가'!$A$5:$P$470,5,0),\"\")","v":""},{"$f":"IF(MAX('3-3 위험성평가'!$A$4:$A$470)+1>E352,VLOOKUP(E352,'3-3 위험성평가'!$A$5:$P$470,6,0),\"\")","v":""},{"$f":"IF(MAX('3-3 위험성평가'!$A$4:$A$470)+1>E352,VLOOKUP(E352,'3-3 위험성평가'!$A$5:$P$470,9,0),\"\")","v":""},{"$f":"IF(MAX('3-3 위험성평가'!$A$4:$A$536)+1>E352,VLOOKUP(E352,'3-3 위험성평가'!$A$5:$P$536,12,0),\"\")&IF(L352>\"\",\".\"&E352,\"\")","v":""},{"$f":"IF(MAX('3-3 위험성평가'!$A$4:$A$470)+1>E352,VLOOKUP(E352,'3-3 위험성평가'!$A$5:$P$470,13,0),\"\")","v":""},null,"하",null,null,null,null,null,null,null,"선택안함",0,{"$f":"IF(MAX('3-3 위험성평가'!$A$4:$A$470)+1>E352,VLOOKUP(E352,'3-3 위험성평가'!$A$5:$Q$470,17,0),\"\")","v":""},"선택",{"$f":"표지!$D$33","v":"시원건설"},{"$f":"표지!$E$34","v":"김길동4"},"선택안함",0]
["T40",4,"S40",4,345,{"$f":"IF(MAX('3-3 위험성평가'!$A$4:$A$470)+1>E353,VLOOKUP(E353,'3-3 위험성평가'!$A$5:$P$470,2,0),\"\")","v":""},{"$f":"IF(F353=\"\",\"\",VLOOKUP(VALUE(F353),'1-1 사업장 공정 정보'!$D$15:$P$32,5,0))","v":""},{"$f":"IF(MAX('3-3 위험성평가'!$A$4:$A$470)+1>E353,VLOOKUP(E353,'3-3 위험성평가'!$A$5:$P$470,3,0),\"\")","v":""},{"$f":"IF(MAX('3-3 위험성평가'!$A$4:$A$470)+1>E353,VLOOKUP(E353,'3-3 위험성평가'!$A$5:$P$470,4,0),\"\")","v":""},{"$f":"IF(MAX('3-3 위험성평가'!$A$4:$A$470)+1>E353,VLOOKUP(E353,'3-3 위험성평가'!$A$5:$P$470,5,0),\"\")","v":""},{"$f":"IF(MAX('3-3 위험성평가'!$A$4:$A$470)+1>E353,VLOOKUP(E353,'3-3 위험성평가'!$A$5:$P$470,6,0),\"\")","v":""},{"$f":"IF(MAX('3-3 위험성평가'!$A$4:$A$470)+1>E353,VLOOKUP(E353,'3-3 위험성평가'!$A$5:$P$470,9,0),\"\")","v":""},{"$f":"IF(MAX('3-3 위험성평가'!$A$4:$A$536)+1>E353,VLOOKUP(E353,'3-3 위험성평가'!$A$5:$P$536,12,0),\"\")&IF(L353>\"\",\".\"&E353,\"\")","v":""},{"$f":"IF(MAX('3-3 위험성평가'!$A$4:$A$470)+1>E353,VLOOKUP(E353,'3-3 위험성평가'!$A$5:$P$470,13,0),\"\")","v":""},null,"하",null,null,null,null,null,null,null,"선택안함",0,{"$f":"IF(MAX('3-3 위험성평가'!$A$4:$A$470)+1>E353,VLOOKUP(E353,'3-3 위험성평가'!$A$5:$Q$470,17,0),\"\")","v":""},"선택",{"$f":"표지!$D$33","v":"시원건설"},{"$f":"표지!$E$34","v":"김길동4"},"선택안함",0]
["T40",4,"S40",4,346,{"$f":"IF(MAX('3-3 위험성평가'!$A$4:$A$470)+1>E354,VLOOKUP(E354,'3-3 위험성평가'!$A$5:$P$470,2,0),\"\")","v":""},{"$f":"IF(F354=\"\",\"\",VLOOKUP(VALUE(F354),'1-1 사업장 공정 정보'!$D$15:$P$32,5,0))","v":""},{"$f":"IF(MAX('3-3 위험성평가'!$A$4:$A$470)+1>E354,VLOOKUP(E354,'3-3 위험성평가'!$A$5:$P$470,3,0),\"\")","v":""},{"$f":"IF(MAX('3-3 위험성평가'!$A$4:$A$470)+1>E354,VLOOKUP(E354,'3-3 위험성평가'!$A$5:$P$470,4,0),\"\")","v":""},{"$f":"IF(MAX('3-3 위험성평가'!$A$4:$A$470)+1>E354,VLOOKUP(E354,'3-3 위험성평가'!$A$5:$P$470,5,0),\"\")","v":""},{"$f":"IF(MAX('3-3 위험성평가'!$A$4:$A$470)+1>E354,VLOOKUP(E354,'3-3 위험성평가'!$A$5:$P$470,6,0),\"\")","v":""},{"$f":"IF(MAX('3-3 위험성평가'!$A$4:$A$470)+1>E354,VLOOKUP(E354,'3-3 위험성평가'!$A$5:$P$470,9,0),\"\")","v":""},{"$f":"IF(MAX('3-3 위험성평가'!$A$4:$A$536)+1>E354,VLOOKUP(E354,'3-3 위험성평가'!$A$5:$P$536,12,0),\"\")&IF(L354>\"\",\".\"&E354,\"\")","v":""},{"$f":"IF(MAX('3-3 위험성평가'!$A$4:$A$470)+1>E354,VLOOKUP(E354,'3-3 위험성평가'!$A$5:$P$470,13,0),\"\")","v":""},null,"하",null,null,null,null,null,null,null,"선택안함",0,{"$f":"IF(MAX('3-3 위험성평가'!$A$4:$A$470)+1>E354,VLOOKUP(E354,'3-3 위험성평가'!$A$5:$Q$470,17,0),\"\")","v":""},"선택",{"$f":"표지!$D$33","v":"시원건설"},{"$f":"표지!$E$34","v":"김길동4"},"선택안함",0]
["T40",4,"S40",4,347,{"$f":"IF(MAX('3-3 위험성평가'!$A$4:$A$470)+1>E355,VLOOKUP(E355,'3-3 위험성평가'!$A$5:$P$470,2,0),\"\")","v":""},{"$f":"IF(F355=\"\",\"\",VLOOKUP(VALUE(F355),'1-1 사업장 공정 정보'!$D$15:$P$32,5,0))","v":""},{"$f":"IF(MAX('3-3 위험성평가'!$A$4:$A$470)+1>E355,VLOOKUP(E355,'3-3 위험성평가'!$A$5:$P$470,3,0),\"\")","v":""},{"$f":"IF(MAX('3-3 위험성평가'!$A$4:$A$470)+1>E355,VLOOKUP(E355,'3-3 위험성평가'!$A$5:$P$470,4,0),\"\")","v":""},{"$f":"IF(MAX('3-3 위험성평가'!$A$4:$A$470)+1>E355,VLOOKUP(E355,'3-3 위험성평가'!$A$5:$P$470,5,0),\"\")","v":""},{"$f":"IF(MAX('3-3 위험성평가'!$A$4:$A$470)+1>E355,VLOOKUP(E355,'3-3 위험성평가'!$A$5:$P$470,6,0),\"\")","v":""},{"$f":"IF(MAX('3-3 위험성평가'!$A$4:$A$470)+1>E355,VLOOKUP(E355,'3-3 위험성평가'!$A$5:$P$470,9,0),\"\")","v":""},{"$f":"IF(MAX('3-3 위험성평가'!$A$4:$A$536)+1>E355,VLOOKUP(E355,'3-3 위험성평가'!$A$5:$P$536,12,0),\"\")&IF(L355>\"\",\".\"&E355,\"\")","v":""},{"$f":"IF(MAX('3-3 위험성평가'!$A$4:$A$470)+1>E355,VLOOKUP(E355,'3-3 위험성평가'!$A$5:$P$470,13,0),\"\")","v":""},null,"하",null,null,null,null,null,null,null,"선택안함",0,{"$f":"IF(MAX('3-3 위험성평가'!$A$4:$A$470)+1>E355,VLOOKUP(E355,'3-3 위험성평가'!$A$5:$Q$470,17,0),\"\")","v":""},"선택",{"$f":"표지!$D$33","v":"시원건설"},{"$f":"표지!$E$34","v":"김길동4"},"선택안함",0]
["T40",4,"S40",4,348,{"$f":"IF(MAX('3-3 위험성평가'!$A$4:$A$470)+1>E356,VLOOKUP(E356,'3-3 위험성평가'!$A$5:$P$470,2,0),\"\")","v":""},{"$f":"IF(F356=\"\",\"\",VLOOKUP(VALUE(F356),'1-1 사업장 공정 정보'!$D$15:$P$32,5,0))","v":""},{"$f":"IF(MAX('3-3 위험성평가'!$A$4:$A$470)+1>E356,VLOOKUP(E356,'3-3 위험성평가'!$A$5:$P$470,3,0),\"\")","v":""},{"$f":"IF(MAX('3-3 위험성평가'!$A$4:$A$470)+1>E356,VLOOKUP(E356,'3-3 위험성평가'!$A$5:$P$470,4,0),\"\")","v":""},{"$f":"IF(MAX('3-3 위험성평가'!$A$4:$A$470)+1>E356,VLOOKUP(E356,'3-3 위험성평가'!$A$5:$P$470,5,0),\"\")","v":""},{"$f":"IF(MAX('3-3 위험성평가'!$A$4:$A$470)+1>E356,VLOOKUP(E356,'3-3 위험성평가'!$A$5:$P$470,6,0),\"\")","v":""},{"$f":"IF(MAX('3-3 위험성평가'!$A$4:$A$470)+1>E356,VLOOKUP(E356,'3-3 위험성평가'!$A$5:$P$470,9,0),\"\")","v":""},{"$f":"IF(MAX('3-3 위험성평가'!$A$4:$A$536)+1>E356,VLOOKUP(E356,'3-3 위험성평가'!$A$5:$P$536,12,0),\"\")&IF(L356>\"\",\".\"&E356,\"\")","v":""},{"$f":"IF(MAX('3-3 위험성평가'!$A$4:$A$470)+1>E356,VLOOKUP(E356,'3-3 위험성평가'!$A$5:$P$470,13,0),\"\")","v":""},null,"하",null,null,null,null,null,null,null,"선택안함",0,{"$f":"IF(MAX('3-3 위험성평가'!$A$4:$A$470)+1>E356,VLOOKUP(E356,'3-3 위험성평가'!$A$5:$Q$470,17,0),\"\")","v":""},"선택",{"$f":"표지!$D$33","v":"시원건설"},{"$f":"표지!$E$34","v":"김길동4"},"선택안함",0]
["T40",4,"S40",4,349,{"$f":"IF(MAX('3-3 위험성평가'!$A$4:$A$470)+1>E357,VLOOKUP(E357,'3-3 위험성평가'!$A$5:$P$470,2,0),\"\")","v":""},{"$f":"IF(F357=\"\",\"\",VLOOKUP(VALUE(F357),'1-1 사업장 공정 정보'!$D$15:$P$32,5,0))","v":""},{"$f":"IF(MAX('3-3 위험성평가'!$A$4:$A$470)+1>E357,VLOOKUP(E357,'3-3 위험성평가'!$A$5:$P$470,3,0),\"\")","v":""},{"$f":"IF(MAX('3-3 위험성평가'!$A$4:$A$470)+1>E357,VLOOKUP(E357,'3-3 위험성평가'!$A$5:$P$470,4,0),\"\")","v":""},{"$f":"IF(MAX('3-3 위험성평가'!$A$4:$A$470)+1>E357,VLOOKUP(E357,'3-3 위험성평가'!$A$5:$P$470,5,0),\"\")","v":""},{"$f":"IF(MAX('3-3 위험성평가'!$A$4:$A$470)+1>E357,VLOOKUP(E357,'3-3 위험성평가'!$A$5:$P$470,6,0),\"\")","v":""},{"$f":"IF(MAX('3-3 위험성평가'!$A$4:$A$470)+1>E357,VLOOKUP(E357,'3-3 위험성평가'!$A$5:$P$470,9,0),\"\")","v":""},{"$f":"IF(MAX('3-3 위험성평가'!$A$4:$A$536)+1>E357,VLOOKUP(E357,'3-3 위험성평가'!$A$5:$P$536,12,0),\"\")&IF(L357>\"\",\".\"&E357,\"\")","v":""},{"$f":"IF(MAX('3-3 위험성평가'!$A$4:$A$470)+1>E357,VLOOKUP(E357,'3-3 위험성평가'!$A$5:$P$470,13,0),\"\")","v":""},null,"하",null,null,null,null,null,null,null,"선택안함",0,{"$f":"IF(MAX('3-3 위험성평가'!$A$4:$A$470)+1>E357,VLOOKUP(E357,'3-3 위험성평가'!$A$5:$Q$470,17,0),\"\")","v":""},"선택",{"$f":"표지!$D$33","v":"시원건설"},{"$f":"표지!$E$34","v":"김길동4"},"선택안함",0]
["T40",4,"S40",4,350,{"$f":"IF(MAX('3-3 위험성평가'!$A$4:$A$470)+1>E358,VLOOKUP(E358,'3-3 위험성평가'!$A$5:$P$470,2,0),\"\")","v":""},{"$f":"IF(F358=\"\",\"\",VLOOKUP(VALUE(F358),'1-1 사업장 공정 정보'!$D$15:$P$32,5,0))","v":""},{"$f":"IF(MAX('3-3 위험성평가'!$A$4:$A$470)+1>E358,VLOOKUP(E358,'3-3 위험성평가'!$A$5:$P$470,3,0),\"\")","v":""},{"$f":"IF(MAX('3-3 위험성평가'!$A$4:$A$470)+1>E358,VLOOKUP(E358,'3-3 위험성평가'!$A$5:$P$470,4,0),\"\")","v":""},{"$f":"IF(MAX('3-3 위험성평가'!$A$4:$A$470)+1>E358,VLOOKUP(E358,'3-3 위험성평가'!$A$5:$P$470,5,0),\"\")","v":""},{"$f":"IF(MAX('3-3 위험성평가'!$A$4:$A$470)+1>E358,VLOOKUP(E358,'3-3 위험성평가'!$A$5:$P$470,6,0),\"\")","v":""},{"$f":"IF(MAX('3-3 위험성평가'!$A$4:$A$470)+1>E358,VLOOKUP(E358,'3-3 위험성평가'!$A$5:$P$470,9,0),\"\")","v":""},{"$f":"IF(MAX('3-3 위험성평가'!$A$4:$A$536)+1>E358,VLOOKUP(E358,'3-3 위험성평가'!$A$5:$P$536,12,0),\"\")&IF(L358>\"\",\".\"&E358,\"\")","v":""},{"$f":"IF(MAX('3-3 위험성평가'!$A$4:$A$470)+1>E358,VLOOKUP(E358,'3-3 위험성평가'!$A$5:$P$470,13,0),\"\")","v":""},null,"하",null,null,null,null,null,null,null,"선택안함",0,{"$f":"IF(MAX('3-3 위험성평가'!$A$4:$A$470)+1>E358,VLOOKUP(E358,'3-3 위험성평가'!$A$5:$Q$470,17,0),\"\")","v":""},"선택",{"$f":"표지!$D$33","v":"시원건설"},{"$f":"표지!$E$34","v":"김길동4"},"선택안함",0]
["T40",4,"S40",4,351,{"$f":"IF(MAX('3-3 위험성평가'!$A$4:$A$470)+1>E359,VLOOKUP(E359,'3-3 위험성평가'!$A$5:$P$470,2,0),\"\")","v":""},{"$f":"IF(F359=\"\",\"\",VLOOKUP(VALUE(F359),'1-1 사업장 공정 정보'!$D$15:$P$32,5,0))","v":""},{"$f":"IF(MAX('3-3 위험성평가'!$A$4:$A$470)+1>E359,VLOOKUP(E359,'3-3 위험성평가'!$A$5:$P$470,3,0),\"\")","v":""},{"$f":"IF(MAX('3-3 위험성평가'!$A$4:$A$470)+1>E359,VLOOKUP(E359,'3-3 위험성평가'!$A$5:$P$470,4,0),\"\")","v":""},{"$f":"IF(MAX('3-3 위험성평가'!$A$4:$A$470)+1>E359,VLOOKUP(E359,'3-3 위험성평가'!$A$5:$P$470,5,0),\"\")","v":""},{"$f":"IF(MAX('3-3 위험성평가'!$A$4:$A$470)+1>E359,VLOOKUP(E359,'3-3 위험성평가'!$A$5:$P$470,6,0),\"\")","v":""},{"$f":"IF(MAX('3-3 위험성평가'!$A$4:$A$470)+1>E359,VLOOKUP(E359,'3-3 위험성평가'!$A$5:$P$470,9,0),\"\")","v":""},{"$f":"IF(MAX('3-3 위험성평가'!$A$4:$A$536)+1>E359,VLOOKUP(E359,'3-3 위험성평가'!$A$5:$P$536,12,0),\"\")&IF(L359>\"\",\".\"&E359,\"\")","v":""},{"$f":"IF(MAX('3-3 위험성평가'!$A$4:$A$470)+1>E359,VLOOKUP(E359,'3-3 위험성평가'!$A$5:$P$470,13,0),\"\")","v":""},null,"하",null,null,null,null,null,null,null,"선택안함",0,{"$f":"IF(MAX('3-3 위험성평가'!$A$4:$A$470)+1>E359,VLOOKUP(E359,'3-3 위험성평가'!$A$5:$Q$470,17,0),\"\")","v":""},"선택",{"$f":"표지!$D$33","v":"시원건설"},{"$f":"표지!$E$34","v":"김길동4"},"선택안함",0]
["T40",4,"S40",4,352,{"$f":"IF(MAX('3-3 위험성평가'!$A$4:$A$470)+1>E360,VLOOKUP(E360,'3-3 위험성평가'!$A$5:$P$470,2,0),\"\")","v":""},{"$f":"IF(F360=\"\",\"\",VLOOKUP(VALUE(F360),'1-1 사업장 공정 정보'!$D$15:$P$32,5,0))","v":""},{"$f":"IF(MAX('3-3 위험성평가'!$A$4:$A$470)+1>E360,VLOOKUP(E360,'3-3 위험성평가'!$A$5:$P$470,3,0),\"\")","v":""},{"$f":"IF(MAX('3-3 위험성평가'!$A$4:$A$470)+1>E360,VLOOKUP(E360,'3-3 위험성평가'!$A$5:$P$470,4,0),\"\")","v":""},{"$f":"IF(MAX('3-3 위험성평가'!$A$4:$A$470)+1>E360,VLOOKUP(E360,'3-3 위험성평가'!$A$5:$P$470,5,0),\"\")","v":""},{"$f":"IF(MAX('3-3 위험성평가'!$A$4:$A$470)+1>E360,VLOOKUP(E360,'3-3 위험성평가'!$A$5:$P$470,6,0),\"\")","v":""},{"$f":"IF(MAX('3-3 위험성평가'!$A$4:$A$470)+1>E360,VLOOKUP(E360,'3-3 위험성평가'!$A$5:$P$470,9,0),\"\")","v":""},{"$f":"IF(MAX('3-3 위험성평가'!$A$4:$A$536)+1>E360,VLOOKUP(E360,'3-3 위험성평가'!$A$5:$P$536,12,0),\"\")&IF(L360>\"\",\".\"&E360,\"\")","v":""},{"$f":"IF(MAX('3-3 위험성평가'!$A$4:$A$470)+1>E360,VLOOKUP(E360,'3-3 위험성평가'!$A$5:$P$470,13,0),\"\")","v":""},null,"하",null,null,null,null,null,null,null,"선택안함",0,{"$f":"IF(MAX('3-3 위험성평가'!$A$4:$A$470)+1>E360,VLOOKUP(E360,'3-3 위험성평가'!$A$5:$Q$470,17,0),\"\")","v":""},"선택",{"$f":"표지!$D$33","v":"시원건설"},{"$f":"표지!$E$34","v":"김길동4"},"선택안함",0]
["T40",4,"S40",4,353,{"$f":"IF(MAX('3-3 위험성평가'!$A$4:$A$470)+1>E361,VLOOKUP(E361,'3-3 위험성평가'!$A$5:$P$470,2,0),\"\")","v":""},{"$f":"IF(F361=\"\",\"\",VLOOKUP(VALUE(F361),'1-1 사업장 공정 정보'!$D$15:$P$32,5,0))","v":""},{"$f":"IF(MAX('3-3 위험성평가'!$A$4:$A$470)+1>E361,VLOOKUP(E361,'3-3 위험성평가'!$A$5:$P$470,3,0),\"\")","v":""},{"$f":"IF(MAX('3-3 위험성평가'!$A$4:$A$470)+1>E361,VLOOKUP(E361,'3-3 위험성평가'!$A$5:$P$470,4,0),\"\")","v":""},{"$f":"IF(MAX('3-3 위험성평가'!$A$4:$A$470)+1>E361,VLOOKUP(E361,'3-3 위험성평가'!$A$5:$P$470,5,0),\"\")","v":""},{"$f":"IF(MAX('3-3 위험성평가'!$A$4:$A$470)+1>E361,VLOOKUP(E361,'3-3 위험성평가'!$A$5:$P$470,6,0),\"\")","v":""},{"$f":"IF(MAX('3-3 위험성평가'!$A$4:$A$470)+1>E361,VLOOKUP(E361,'3-3 위험성평가'!$A$5:$P$470,9,0),\"\")","v":""},{"$f":"IF(MAX('3-3 위험성평가'!$A$4:$A$536)+1>E361,VLOOKUP(E361,'3-3 위험성평가'!$A$5:$P$536,12,0),\"\")&IF(L361>\"\",\".\"&E361,\"\")","v":""},{"$f":"IF(MAX('3-3 위험성평가'!$A$4:$A$470)+1>E361,VLOOKUP(E361,'3-3 위험성평가'!$A$5:$P$470,13,0),\"\")","v":""},null,"하",null,null,null,null,null,null,null,"선택안함",0,{"$f":"IF(MAX('3-3 위험성평가'!$A$4:$A$470)+1>E361,VLOOKUP(E361,'3-3 위험성평가'!$A$5:$Q$470,17,0),\"\")","v":""},"선택",{"$f":"표지!$D$33","v":"시원건설"},{"$f":"표지!$E$34","v":"김길동4"},"선택안함",0]
["T40",4,"S40",4,354,{"$f":"IF(MAX('3-3 위험성평가'!$A$4:$A$470)+1>E362,VLOOKUP(E362,'3-3 위험성평가'!$A$5:$P$470,2,0),\"\")","v":""},{"$f":"IF(F362=\"\",\"\",VLOOKUP(VALUE(F362),'1-1 사업장 공정 정보'!$D$15:$P$32,5,0))","v":""},{"$f":"IF(MAX('3-3 위험성평가'!$A$4:$A$470)+1>E362,VLOOKUP(E362,'3-3 위험성평가'!$A$5:$P$470,3,0),\"\")","v":""},{"$f":"IF(MAX('3-3 위험성평가'!$A$4:$A$470)+1>E362,VLOOKUP(E362,'3-3 위험성평가'!$A$5:$P$470,4,0),\"\")","v":""},{"$f":"IF(MAX('3-3 위험성평가'!$A$4:$A$470)+1>E362,VLOOKUP(E362,'3-3 위험성평가'!$A$5:$P$470,5,0),\"\")","v":""},{"$f":"IF(MAX('3-3 위험성평가'!$A$4:$A$470)+1>E362,VLOOKUP(E362,'3-3 위험성평가'!$A$5:$P$470,6,0),\"\")","v":""},{"$f":"IF(MAX('3-3 위험성평가'!$A$4:$A$470)+1>E362,VLOOKUP(E362,'3-3 위험성평가'!$A$5:$P$470,9,0),\"\")","v":""},{"$f":"IF(MAX('3-3 위험성평가'!$A$4:$A$536)+1>E362,VLOOKUP(E362,'3-3 위험성평가'!$A$5:$P$536,12,0),\"\")&IF(L362>\"\",\".\"&E362,\"\")","v":""},{"$f":"IF(MAX('3-3 위험성평가'!$A$4:$A$470)+1>E362,VLOOKUP(E362,'3-3 위험성평가'!$A$5:$P$470,13,0),\"\")","v":""},null,"하",null,null,null,null,null,null,null,"선택안함",0,{"$f":"IF(MAX('3-3 위험성평가'!$A$4:$A$470)+1>E362,VLOOKUP(E362,'3-3 위험성평가'!$A$5:$Q$470,17,0),\"\")","v":""},"선택",{"$f":"표지!$D$33","v":"시원건설"},{"$f":"표지!$E$34","v":"김길동4"},"선택안함",0]
["T40",4,"S40",4,355,{"$f":"IF(MAX('3-3 위험성평가'!$A$4:$A$470)+1>E363,VLOOKUP(E363,'3-3 위험성평가'!$A$5:$P$470,2,0),\"\")","v":""},{"$f":"IF(F363=\"\",\"\",VLOOKUP(VALUE(F363),'1-1 사업장 공정 정보'!$D$15:$P$32,5,0))","v":""},{"$f":"IF(MAX('3-3 위험성평가'!$A$4:$A$470)+1>E363,VLOOKUP(E363,'3-3 위험성평가'!$A$5:$P$470,3,0),\"\")","v":""},{"$f":"IF(MAX('3-3 위험성평가'!$A$4:$A$470)+1>E363,VLOOKUP(E363,'3-3 위험성평가'!$A$5:$P$470,4,0),\"\")","v":""},{"$f":"IF(MAX('3-3 위험성평가'!$A$4:$A$470)+1>E363,VLOOKUP(E363,'3-3 위험성평가'!$A$5:$P$470,5,0),\"\")","v":""},{"$f":"IF(MAX('3-3 위험성평가'!$A$4:$A$470)+1>E363,VLOOKUP(E363,'3-3 위험성평가'!$A$5:$P$470,6,0),\"\")","v":""},{"$f":"IF(MAX('3-3 위험성평가'!$A$4:$A$470)+1>E363,VLOOKUP(E363,'3-3 위험성평가'!$A$5:$P$470,9,0),\"\")","v":""},{"$f":"IF(MAX('3-3 위험성평가'!$A$4:$A$536)+1>E363,VLOOKUP(E363,'3-3 위험성평가'!$A$5:$P$536,12,0),\"\")&IF(L363>\"\",\".\"&E363,\"\")","v":""},{"$f":"IF(MAX('3-3 위험성평가'!$A$4:$A$470)+1>E363,VLOOKUP(E363,'3-3 위험성평가'!$A$5:$P$470,13,0),\"\")","v":""},null,"하",null,null,null,null,null,null,null,"선택안함",0,{"$f":"IF(MAX('3-3 위험성평가'!$A$4:$A$470)+1>E363,VLOOKUP(E363,'3-3 위험성평가'!$A$5:$Q$470,17,0),\"\")","v":""},"선택",{"$f":"표지!$D$33","v":"시원건설"},{"$f":"표지!$E$34","v":"김길동4"},"선택안함",0]
["T40",4,"S40",4,356,{"$f":"IF(MAX('3-3 위험성평가'!$A$4:$A$470)+1>E364,VLOOKUP(E364,'3-3 위험성평가'!$A$5:$P$470,2,0),\"\")","v":""},{"$f":"IF(F364=\"\",\"\",VLOOKUP(VALUE(F364),'1-1 사업장 공정 정보'!$D$15:$P$32,5,0))","v":""},{"$f":"IF(MAX('3-3 위험성평가'!$A$4:$A$470)+1>E364,VLOOKUP(E364,'3-3 위험성평가'!$A$5:$P$470,3,0),\"\")","v":""},{"$f":"IF(MAX('3-3 위험성평가'!$A$4:$A$470)+1>E364,VLOOKUP(E364,'3-3 위험성평가'!$A$5:$P$470,4,0),\"\")","v":""},{"$f":"IF(MAX('3-3 위험성평가'!$A$4:$A$470)+1>E364,VLOOKUP(E364,'3-3 위험성평가'!$A$5:$P$470,5,0),\"\")","v":""},{"$f":"IF(MAX('3-3 위험성평가'!$A$4:$A$470)+1>E364,VLOOKUP(E364,'3-3 위험성평가'!$A$5:$P$470,6,0),\"\")","v":""},{"$f":"IF(MAX('3-3 위험성평가'!$A$4:$A$470)+1>E364,VLOOKUP(E364,'3-3 위험성평가'!$A$5:$P$470,9,0),\"\")","v":""},{"$f":"IF(MAX('3-3 위험성평가'!$A$4:$A$536)+1>E364,VLOOKUP(E364,'3-3 위험성평가'!$A$5:$P$536,12,0),\"\")&IF(L364>\"\",\".\"&E364,\"\")","v":""},{"$f":"IF(MAX('3-3 위험성평가'!$A$4:$A$470)+1>E364,VLOOKUP(E364,'3-3 위험성평가'!$A$5:$P$470,13,0),\"\")","v":""},null,"하",null,null,null,null,null,null,null,"선택안함",0,{"$f":"IF(MAX('3-3 위험성평가'!$A$4:$A$470)+1>E364,VLOOKUP(E364,'3-3 위험성평가'!$A$5:$Q$470,17,0),\"\")","v":""},"선택",{"$f":"표지!$D$33","v":"시원건설"},{"$f":"표지!$E$34","v":"김길동4"},"선택안함",0]
["T40",4,"S40",4,357,{"$f":"IF(MAX('3-3 위험성평가'!$A$4:$A$470)+1>E365,VLOOKUP(E365,'3-3 위험성평가'!$A$5:$P$470,2,0),\"\")","v":""},{"$f":"IF(F365=\"\",\"\",VLOOKUP(VALUE(F365),'1-1 사업장 공정 정보'!$D$15:$P$32,5,0))","v":""},{"$f":"IF(MAX('3-3 위험성평가'!$A$4:$A$470)+1>E365,VLOOKUP(E365,'3-3 위험성평가'!$A$5:$P$470,3,0),\"\")","v":""},{"$f":"IF(MAX('3-3 위험성평가'!$A$4:$A$470)+1>E365,VLOOKUP(E365,'3-3 위험성평가'!$A$5:$P$470,4,0),\"\")","v":""},{"$f":"IF(MAX('3-3 위험성평가'!$A$4:$A$470)+1>E365,VLOOKUP(E365,'3-3 위험성평가'!$A$5:$P$470,5,0),\"\")","v":""},{"$f":"IF(MAX('3-3 위험성평가'!$A$4:$A$470)+1>E365,VLOOKUP(E365,'3-3 위험성평가'!$A$5:$P$470,6,0),\"\")","v":""},{"$f":"IF(MAX('3-3 위험성평가'!$A$4:$A$470)+1>E365,VLOOKUP(E365,'3-3 위험성평가'!$A$5:$P$470,9,0),\"\")","v":""},{"$f":"IF(MAX('3-3 위험성평가'!$A$4:$A$536)+1>E365,VLOOKUP(E365,'3-3 위험성평가'!$A$5:$P$536,12,0),\"\")&IF(L365>\"\",\".\"&E365,\"\")","v":""},{"$f":"IF(MAX('3-3 위험성평가'!$A$4:$A$470)+1>E365,VLOOKUP(E365,'3-3 위험성평가'!$A$5:$P$470,13,0),\"\")","v":""},null,"하",null,null,null,null,null,null,null,"선택안함",0,{"$f":"IF(MAX('3-3 위험성평가'!$A$4:$A$470)+1>E365,VLOOKUP(E365,'3-3 위험성평가'!$A$5:$Q$470,17,0),\"\")","v":""},"선택",{"$f":"표지!$D$33","v":"시원건설"},{"$f":"표지!$E$34","v":"김길동4"},"선택안함",0]
["T40",4,"S40",4,358,{"$f":"IF(MAX('3-3 위험성평가'!$A$4:$A$470)+1>E366,VLOOKUP(E366,'3-3 위험성평가'!$A$5:$P$470,2,0),\"\")","v":""},{"$f":"IF(F366=\"\",\"\",VLOOKUP(VALUE(F366),'1-1 사업장 공정 정보'!$D$15:$P$32,5,0))","v":""},{"$f":"IF(MAX('3-3 위험성평가'!$A$4:$A$470)+1>E366,VLOOKUP(E366,'3-3 위험성평가'!$A$5:$P$470,3,0),\"\")","v":""},{"$f":"IF(MAX('3-3 위험성평가'!$A$4:$A$470)+1>E366,VLOOKUP(E366,'3-3 위험성평가'!$A$5:$P$470,4,0),\"\")","v":""},{"$f":"IF(MAX('3-3 위험성평가'!$A$4:$A$470)+1>E366,VLOOKUP(E366,'3-3 위험성평가'!$A$5:$P$470,5,0),\"\")","v":""},{"$f":"IF(MAX('3-3 위험성평가'!$A$4:$A$470)+1>E366,VLOOKUP(E366,'3-3 위험성평가'!$A$5:$P$470,6,0),\"\")","v":""},{"$f":"IF(MAX('3-3 위험성평가'!$A$4:$A$470)+1>E366,VLOOKUP(E366,'3-3 위험성평가'!$A$5:$P$470,9,0),\"\")","v":""},{"$f":"IF(MAX('3-3 위험성평가'!$A$4:$A$536)+1>E366,VLOOKUP(E366,'3-3 위험성평가'!$A$5:$P$536,12,0),\"\")&IF(L366>\"\",\".\"&E366,\"\")","v":""},{"$f":"IF(MAX('3-3 위험성평가'!$A$4:$A$470)+1>E366,VLOOKUP(E366,'3-3 위험성평가'!$A$5:$P$470,13,0),\"\")","v":""},null,"하",null,null,null,null,null,null,null,"선택안함",0,{"$f":"IF(MAX('3-3 위험성평가'!$A$4:$A$470)+1>E366,VLOOKUP(E366,'3-3 위험성평가'!$A$5:$Q$470,17,0),\"\")","v":""},"선택",{"$f":"표지!$D$33","v":"시원건설"},{"$f":"표지!$E$34","v":"김길동4"},"선택안함",0]
["T40",4,"S40",4,359,{"$f":"IF(MAX('3-3 위험성평가'!$A$4:$A$470)+1>E367,VLOOKUP(E367,'3-3 위험성평가'!$A$5:$P$470,2,0),\"\")","v":""},{"$f":"IF(F367=\"\",\"\",VLOOKUP(VALUE(F367),'1-1 사업장 공정 정보'!$D$15:$P$32,5,0))","v":""},{"$f":"IF(MAX('3-3 위험성평가'!$A$4:$A$470)+1>E367,VLOOKUP(E367,'3-3 위험성평가'!$A$5:$P$470,3,0),\"\")","v":""},{"$f":"IF(MAX('3-3 위험성평가'!$A$4:$A$470)+1>E367,VLOOKUP(E367,'3-3 위험성평가'!$A$5:$P$470,4,0),\"\")","v":""},{"$f":"IF(MAX('3-3 위험성평가'!$A$4:$A$470)+1>E367,VLOOKUP(E367,'3-3 위험성평가'!$A$5:$P$470,5,0),\"\")","v":""},{"$f":"IF(MAX('3-3 위험성평가'!$A$4:$A$470)+1>E367,VLOOKUP(E367,'3-3 위험성평가'!$A$5:$P$470,6,0),\"\")","v":""},{"$f":"IF(MAX('3-3 위험성평가'!$A$4:$A$470)+1>E367,VLOOKUP(E367,'3-3 위험성평가'!$A$5:$P$470,9,0),\"\")","v":""},{"$f":"IF(MAX('3-3 위험성평가'!$A$4:$A$536)+1>E367,VLOOKUP(E367,'3-3 위험성평가'!$A$5:$P$536,12,0),\"\")&IF(L367>\"\",\".\"&E367,\"\")","v":""},{"$f":"IF(MAX('3-3 위험성평가'!$A$4:$A$470)+1>E367,VLOOKUP(E367,'3-3 위험성평가'!$A$5:$P$470,13,0),\"\")","v":""},null,"하",null,null,null,null,null,null,null,"선택안함",0,{"$f":"IF(MAX('3-3 위험성평가'!$A$4:$A$470)+1>E367,VLOOKUP(E367,'3-3 위험성평가'!$A$5:$Q$470,17,0),\"\")","v":""},"선택",{"$f":"표지!$D$33","v":"시원건설"},{"$f":"표지!$E$34","v":"김길동4"},"선택안함",0]
["T40",4,"S40",4,360,{"$f":"IF(MAX('3-3 위험성평가'!$A$4:$A$470)+1>E368,VLOOKUP(E368,'3-3 위험성평가'!$A$5:$P$470,2,0),\"\")","v":""},{"$f":"IF(F368=\"\",\"\",VLOOKUP(VALUE(F368),'1-1 사업장 공정 정보'!$D$15:$P$32,5,0))","v":""},{"$f":"IF(MAX('3-3 위험성평가'!$A$4:$A$470)+1>E368,VLOOKUP(E368,'3-3 위험성평가'!$A$5:$P$470,3,0),\"\")","v":""},{"$f":"IF(MAX('3-3 위험성평가'!$A$4:$A$470)+1>E368,VLOOKUP(E368,'3-3 위험성평가'!$A$5:$P$470,4,0),\"\")","v":""},{"$f":"IF(MAX('3-3 위험성평가'!$A$4:$A$470)+1>E368,VLOOKUP(E368,'3-3 위험성평가'!$A$5:$P$470,5,0),\"\")","v":""},{"$f":"IF(MAX('3-3 위험성평가'!$A$4:$A$470)+1>E368,VLOOKUP(E368,'3-3 위험성평가'!$A$5:$P$470,6,0),\"\")","v":""},{"$f":"IF(MAX('3-3 위험성평가'!$A$4:$A$470)+1>E368,VLOOKUP(E368,'3-3 위험성평가'!$A$5:$P$470,9,0),\"\")","v":""},{"$f":"IF(MAX('3-3 위험성평가'!$A$4:$A$536)+1>E368,VLOOKUP(E368,'3-3 위험성평가'!$A$5:$P$536,12,0),\"\")&IF(L368>\"\",\".\"&E368,\"\")","v":""},{"$f":"IF(MAX('3-3 위험성평가'!$A$4:$A$470)+1>E368,VLOOKUP(E368,'3-3 위험성평가'!$A$5:$P$470,13,0),\"\")","v":""},null,"하",null,null,null,null,null,null,null,"선택안함",0,{"$f":"IF(MAX('3-3 위험성평가'!$A$4:$A$470)+1>E368,VLOOKUP(E368,'3-3 위험성평가'!$A$5:$Q$470,17,0),\"\")","v":""},"선택",{"$f":"표지!$D$33","v":"시원건설"},{"$f":"표지!$E$34","v":"김길동4"},"선택안함",0]
["T40",4,"S40",4,361,{"$f":"IF(MAX('3-3 위험성평가'!$A$4:$A$470)+1>E369,VLOOKUP(E369,'3-3 위험성평가'!$A$5:$P$470,2,0),\"\")","v":""},{"$f":"IF(F369=\"\",\"\",VLOOKUP(VALUE(F369),'1-1 사업장 공정 정보'!$D$15:$P$32,5,0))","v":""},{"$f":"IF(MAX('3-3 위험성평가'!$A$4:$A$470)+1>E369,VLOOKUP(E369,'3-3 위험성평가'!$A$5:$P$470,3,0),\"\")","v":""},{"$f":"IF(MAX('3-3 위험성평가'!$A$4:$A$470)+1>E369,VLOOKUP(E369,'3-3 위험성평가'!$A$5:$P$470,4,0),\"\")","v":""},{"$f":"IF(MAX('3-3 위험성평가'!$A$4:$A$470)+1>E369,VLOOKUP(E369,'3-3 위험성평가'!$A$5:$P$470,5,0),\"\")","v":""},{"$f":"IF(MAX('3-3 위험성평가'!$A$4:$A$470)+1>E369,VLOOKUP(E369,'3-3 위험성평가'!$A$5:$P$470,6,0),\"\")","v":""},{"$f":"IF(MAX('3-3 위험성평가'!$A$4:$A$470)+1>E369,VLOOKUP(E369,'3-3 위험성평가'!$A$5:$P$470,9,0),\"\")","v":""},{"$f":"IF(MAX('3-3 위험성평가'!$A$4:$A$536)+1>E369,VLOOKUP(E369,'3-3 위험성평가'!$A$5:$P$536,12,0),\"\")&IF(L369>\"\",\".\"&E369,\"\")","v":""},{"$f":"IF(MAX('3-3 위험성평가'!$A$4:$A$470)+1>E369,VLOOKUP(E369,'3-3 위험성평가'!$A$5:$P$470,13,0),\"\")","v":""},null,"하",null,null,null,null,null,null,null,"선택안함",0,{"$f":"IF(MAX('3-3 위험성평가'!$A$4:$A$470)+1>E369,VLOOKUP(E369,'3-3 위험성평가'!$A$5:$Q$470,17,0),\"\")","v":""},"선택",{"$f":"표지!$D$33","v":"시원건설"},{"$f":"표지!$E$34","v":"김길동4"},"선택안함",0]
["T40",4,"S40",4,362,{"$f":"IF(MAX('3-3 위험성평가'!$A$4:$A$470)+1>E370,VLOOKUP(E370,'3-3 위험성평가'!$A$5:$P$470,2,0),\"\")","v":""},{"$f":"IF(F370=\"\",\"\",VLOOKUP(VALUE(F370),'1-1 사업장 공정 정보'!$D$15:$P$32,5,0))","v":""},{"$f":"IF(MAX('3-3 위험성평가'!$A$4:$A$470)+1>E370,VLOOKUP(E370,'3-3 위험성평가'!$A$5:$P$470,3,0),\"\")","v":""},{"$f":"IF(MAX('3-3 위험성평가'!$A$4:$A$470)+1>E370,VLOOKUP(E370,'3-3 위험성평가'!$A$5:$P$470,4,0),\"\")","v":""},{"$f":"IF(MAX('3-3 위험성평가'!$A$4:$A$470)+1>E370,VLOOKUP(E370,'3-3 위험성평가'!$A$5:$P$470,5,0),\"\")","v":""},{"$f":"IF(MAX('3-3 위험성평가'!$A$4:$A$470)+1>E370,VLOOKUP(E370,'3-3 위험성평가'!$A$5:$P$470,6,0),\"\")","v":""},{"$f":"IF(MAX('3-3 위험성평가'!$A$4:$A$470)+1>E370,VLOOKUP(E370,'3-3 위험성평가'!$A$5:$P$470,9,0),\"\")","v":""},{"$f":"IF(MAX('3-3 위험성평가'!$A$4:$A$536)+1>E370,VLOOKUP(E370,'3-3 위험성평가'!$A$5:$P$536,12,0),\"\")&IF(L370>\"\",\".\"&E370,\"\")","v":""},{"$f":"IF(MAX('3-3 위험성평가'!$A$4:$A$470)+1>E370,VLOOKUP(E370,'3-3 위험성평가'!$A$5:$P$470,13,0),\"\")","v":""},null,"하",null,null,null,null,null,null,null,"선택안함",0,{"$f":"IF(MAX('3-3 위험성평가'!$A$4:$A$470)+1>E370,VLOOKUP(E370,'3-3 위험성평가'!$A$5:$Q$470,17,0),\"\")","v":""},"선택",{"$f":"표지!$D$33","v":"시원건설"},{"$f":"표지!$E$34","v":"김길동4"},"선택안함",0]
["T40",4,"S40",4,363,{"$f":"IF(MAX('3-3 위험성평가'!$A$4:$A$470)+1>E371,VLOOKUP(E371,'3-3 위험성평가'!$A$5:$P$470,2,0),\"\")","v":""},{"$f":"IF(F371=\"\",\"\",VLOOKUP(VALUE(F371),'1-1 사업장 공정 정보'!$D$15:$P$32,5,0))","v":""},{"$f":"IF(MAX('3-3 위험성평가'!$A$4:$A$470)+1>E371,VLOOKUP(E371,'3-3 위험성평가'!$A$5:$P$470,3,0),\"\")","v":""},{"$f":"IF(MAX('3-3 위험성평가'!$A$4:$A$470)+1>E371,VLOOKUP(E371,'3-3 위험성평가'!$A$5:$P$470,4,0),\"\")","v":""},{"$f":"IF(MAX('3-3 위험성평가'!$A$4:$A$470)+1>E371,VLOOKUP(E371,'3-3 위험성평가'!$A$5:$P$470,5,0),\"\")","v":""},{"$f":"IF(MAX('3-3 위험성평가'!$A$4:$A$470)+1>E371,VLOOKUP(E371,'3-3 위험성평가'!$A$5:$P$470,6,0),\"\")","v":""},{"$f":"IF(MAX('3-3 위험성평가'!$A$4:$A$470)+1>E371,VLOOKUP(E371,'3-3 위험성평가'!$A$5:$P$470,9,0),\"\")","v":""},{"$f":"IF(MAX('3-3 위험성평가'!$A$4:$A$536)+1>E371,VLOOKUP(E371,'3-3 위험성평가'!$A$5:$P$536,12,0),\"\")&IF(L371>\"\",\".\"&E371,\"\")","v":""},{"$f":"IF(MAX('3-3 위험성평가'!$A$4:$A$470)+1>E371,VLOOKUP(E371,'3-3 위험성평가'!$A$5:$P$470,13,0),\"\")","v":""},null,"하",null,null,null,null,null,null,null,"선택안함",0,{"$f":"IF(MAX('3-3 위험성평가'!$A$4:$A$470)+1>E371,VLOOKUP(E371,'3-3 위험성평가'!$A$5:$Q$470,17,0),\"\")","v":""},"선택",{"$f":"표지!$D$33","v":"시원건설"},{"$f":"표지!$E$34","v":"김길동4"},"선택안함",0]
["T40",4,"S40",4,364,{"$f":"IF(MAX('3-3 위험성평가'!$A$4:$A$470)+1>E372,VLOOKUP(E372,'3-3 위험성평가'!$A$5:$P$470,2,0),\"\")","v":""},{"$f":"IF(F372=\"\",\"\",VLOOKUP(VALUE(F372),'1-1 사업장 공정 정보'!$D$15:$P$32,5,0))","v":""},{"$f":"IF(MAX('3-3 위험성평가'!$A$4:$A$470)+1>E372,VLOOKUP(E372,'3-3 위험성평가'!$A$5:$P$470,3,0),\"\")","v":""},{"$f":"IF(MAX('3-3 위험성평가'!$A$4:$A$470)+1>E372,VLOOKUP(E372,'3-3 위험성평가'!$A$5:$P$470,4,0),\"\")","v":""},{"$f":"IF(MAX('3-3 위험성평가'!$A$4:$A$470)+1>E372,VLOOKUP(E372,'3-3 위험성평가'!$A$5:$P$470,5,0),\"\")","v":""},{"$f":"IF(MAX('3-3 위험성평가'!$A$4:$A$470)+1>E372,VLOOKUP(E372,'3-3 위험성평가'!$A$5:$P$470,6,0),\"\")","v":""},{"$f":"IF(MAX('3-3 위험성평가'!$A$4:$A$470)+1>E372,VLOOKUP(E372,'3-3 위험성평가'!$A$5:$P$470,9,0),\"\")","v":""},{"$f":"IF(MAX('3-3 위험성평가'!$A$4:$A$536)+1>E372,VLOOKUP(E372,'3-3 위험성평가'!$A$5:$P$536,12,0),\"\")&IF(L372>\"\",\".\"&E372,\"\")","v":""},{"$f":"IF(MAX('3-3 위험성평가'!$A$4:$A$470)+1>E372,VLOOKUP(E372,'3-3 위험성평가'!$A$5:$P$470,13,0),\"\")","v":""},null,"하",null,null,null,null,null,null,null,"선택안함",0,{"$f":"IF(MAX('3-3 위험성평가'!$A$4:$A$470)+1>E372,VLOOKUP(E372,'3-3 위험성평가'!$A$5:$Q$470,17,0),\"\")","v":""},"선택",{"$f":"표지!$D$33","v":"시원건설"},{"$f":"표지!$E$34","v":"김길동4"},"선택안함",0]
["T40",4,"S40",4,365,{"$f":"IF(MAX('3-3 위험성평가'!$A$4:$A$470)+1>E373,VLOOKUP(E373,'3-3 위험성평가'!$A$5:$P$470,2,0),\"\")","v":""},{"$f":"IF(F373=\"\",\"\",VLOOKUP(VALUE(F373),'1-1 사업장 공정 정보'!$D$15:$P$32,5,0))","v":""},{"$f":"IF(MAX('3-3 위험성평가'!$A$4:$A$470)+1>E373,VLOOKUP(E373,'3-3 위험성평가'!$A$5:$P$470,3,0),\"\")","v":""},{"$f":"IF(MAX('3-3 위험성평가'!$A$4:$A$470)+1>E373,VLOOKUP(E373,'3-3 위험성평가'!$A$5:$P$470,4,0),\"\")","v":""},{"$f":"IF(MAX('3-3 위험성평가'!$A$4:$A$470)+1>E373,VLOOKUP(E373,'3-3 위험성평가'!$A$5:$P$470,5,0),\"\")","v":""},{"$f":"IF(MAX('3-3 위험성평가'!$A$4:$A$470)+1>E373,VLOOKUP(E373,'3-3 위험성평가'!$A$5:$P$470,6,0),\"\")","v":""},{"$f":"IF(MAX('3-3 위험성평가'!$A$4:$A$470)+1>E373,VLOOKUP(E373,'3-3 위험성평가'!$A$5:$P$470,9,0),\"\")","v":""},{"$f":"IF(MAX('3-3 위험성평가'!$A$4:$A$536)+1>E373,VLOOKUP(E373,'3-3 위험성평가'!$A$5:$P$536,12,0),\"\")&IF(L373>\"\",\".\"&E373,\"\")","v":""},{"$f":"IF(MAX('3-3 위험성평가'!$A$4:$A$470)+1>E373,VLOOKUP(E373,'3-3 위험성평가'!$A$5:$P$470,13,0),\"\")","v":""},null,"하",null,null,null,null,null,null,null,"선택안함",0,{"$f":"IF(MAX('3-3 위험성평가'!$A$4:$A$470)+1>E373,VLOOKUP(E373,'3-3 위험성평가'!$A$5:$Q$470,17,0),\"\")","v":""},"선택",{"$f":"표지!$D$33","v":"시원건설"},{"$f":"표지!$E$34","v":"김길동4"},"선택안함",0]
["T40",4,"S40",4,366,{"$f":"IF(MAX('3-3 위험성평가'!$A$4:$A$470)+1>E374,VLOOKUP(E374,'3-3 위험성평가'!$A$5:$P$470,2,0),\"\")","v":""},{"$f":"IF(F374=\"\",\"\",VLOOKUP(VALUE(F374),'1-1 사업장 공정 정보'!$D$15:$P$32,5,0))","v":""},{"$f":"IF(MAX('3-3 위험성평가'!$A$4:$A$470)+1>E374,VLOOKUP(E374,'3-3 위험성평가'!$A$5:$P$470,3,0),\"\")","v":""},{"$f":"IF(MAX('3-3 위험성평가'!$A$4:$A$470)+1>E374,VLOOKUP(E374,'3-3 위험성평가'!$A$5:$P$470,4,0),\"\")","v":""},{"$f":"IF(MAX('3-3 위험성평가'!$A$4:$A$470)+1>E374,VLOOKUP(E374,'3-3 위험성평가'!$A$5:$P$470,5,0),\"\")","v":""},{"$f":"IF(MAX('3-3 위험성평가'!$A$4:$A$470)+1>E374,VLOOKUP(E374,'3-3 위험성평가'!$A$5:$P$470,6,0),\"\")","v":""},{"$f":"IF(MAX('3-3 위험성평가'!$A$4:$A$470)+1>E374,VLOOKUP(E374,'3-3 위험성평가'!$A$5:$P$470,9,0),\"\")","v":""},{"$f":"IF(MAX('3-3 위험성평가'!$A$4:$A$536)+1>E374,VLOOKUP(E374,'3-3 위험성평가'!$A$5:$P$536,12,0),\"\")&IF(L374>\"\",\".\"&E374,\"\")","v":""},{"$f":"IF(MAX('3-3 위험성평가'!$A$4:$A$470)+1>E374,VLOOKUP(E374,'3-3 위험성평가'!$A$5:$P$470,13,0),\"\")","v":""},null,"하",null,null,null,null,null,null,null,"선택안함",0,{"$f":"IF(MAX('3-3 위험성평가'!$A$4:$A$470)+1>E374,VLOOKUP(E374,'3-3 위험성평가'!$A$5:$Q$470,17,0),\"\")","v":""},"선택",{"$f":"표지!$D$33","v":"시원건설"},{"$f":"표지!$E$34","v":"김길동4"},"선택안함",0]
["T40",4,"S40",4,367,{"$f":"IF(MAX('3-3 위험성평가'!$A$4:$A$470)+1>E375,VLOOKUP(E375,'3-3 위험성평가'!$A$5:$P$470,2,0),\"\")","v":""},{"$f":"IF(F375=\"\",\"\",VLOOKUP(VALUE(F375),'1-1 사업장 공정 정보'!$D$15:$P$32,5,0))","v":""},{"$f":"IF(MAX('3-3 위험성평가'!$A$4:$A$470)+1>E375,VLOOKUP(E375,'3-3 위험성평가'!$A$5:$P$470,3,0),\"\")","v":""},{"$f":"IF(MAX('3-3 위험성평가'!$A$4:$A$470)+1>E375,VLOOKUP(E375,'3-3 위험성평가'!$A$5:$P$470,4,0),\"\")","v":""},{"$f":"IF(MAX('3-3 위험성평가'!$A$4:$A$470)+1>E375,VLOOKUP(E375,'3-3 위험성평가'!$A$5:$P$470,5,0),\"\")","v":""},{"$f":"IF(MAX('3-3 위험성평가'!$A$4:$A$470)+1>E375,VLOOKUP(E375,'3-3 위험성평가'!$A$5:$P$470,6,0),\"\")","v":""},{"$f":"IF(MAX('3-3 위험성평가'!$A$4:$A$470)+1>E375,VLOOKUP(E375,'3-3 위험성평가'!$A$5:$P$470,9,0),\"\")","v":""},{"$f":"IF(MAX('3-3 위험성평가'!$A$4:$A$536)+1>E375,VLOOKUP(E375,'3-3 위험성평가'!$A$5:$P$536,12,0),\"\")&IF(L375>\"\",\".\"&E375,\"\")","v":""},{"$f":"IF(MAX('3-3 위험성평가'!$A$4:$A$470)+1>E375,VLOOKUP(E375,'3-3 위험성평가'!$A$5:$P$470,13,0),\"\")","v":""},null,"하",null,null,null,null,null,null,null,"선택안함",0,{"$f":"IF(MAX('3-3 위험성평가'!$A$4:$A$470)+1>E375,VLOOKUP(E375,'3-3 위험성평가'!$A$5:$Q$470,17,0),\"\")","v":""},"선택",{"$f":"표지!$D$33","v":"시원건설"},{"$f":"표지!$E$34","v":"김길동4"},"선택안함",0]
["T40",4,"S40",4,368,{"$f":"IF(MAX('3-3 위험성평가'!$A$4:$A$470)+1>E376,VLOOKUP(E376,'3-3 위험성평가'!$A$5:$P$470,2,0),\"\")","v":""},{"$f":"IF(F376=\"\",\"\",VLOOKUP(VALUE(F376),'1-1 사업장 공정 정보'!$D$15:$P$32,5,0))","v":""},{"$f":"IF(MAX('3-3 위험성평가'!$A$4:$A$470)+1>E376,VLOOKUP(E376,'3-3 위험성평가'!$A$5:$P$470,3,0),\"\")","v":""},{"$f":"IF(MAX('3-3 위험성평가'!$A$4:$A$470)+1>E376,VLOOKUP(E376,'3-3 위험성평가'!$A$5:$P$470,4,0),\"\")","v":""},{"$f":"IF(MAX('3-3 위험성평가'!$A$4:$A$470)+1>E376,VLOOKUP(E376,'3-3 위험성평가'!$A$5:$P$470,5,0),\"\")","v":""},{"$f":"IF(MAX('3-3 위험성평가'!$A$4:$A$470)+1>E376,VLOOKUP(E376,'3-3 위험성평가'!$A$5:$P$470,6,0),\"\")","v":""},{"$f":"IF(MAX('3-3 위험성평가'!$A$4:$A$470)+1>E376,VLOOKUP(E376,'3-3 위험성평가'!$A$5:$P$470,9,0),\"\")","v":""},{"$f":"IF(MAX('3-3 위험성평가'!$A$4:$A$536)+1>E376,VLOOKUP(E376,'3-3 위험성평가'!$A$5:$P$536,12,0),\"\")&IF(L376>\"\",\".\"&E376,\"\")","v":""},{"$f":"IF(MAX('3-3 위험성평가'!$A$4:$A$470)+1>E376,VLOOKUP(E376,'3-3 위험성평가'!$A$5:$P$470,13,0),\"\")","v":""},null,"하",null,null,null,null,null,null,null,"선택안함",0,{"$f":"IF(MAX('3-3 위험성평가'!$A$4:$A$470)+1>E376,VLOOKUP(E376,'3-3 위험성평가'!$A$5:$Q$470,17,0),\"\")","v":""},"선택",{"$f":"표지!$D$33","v":"시원건설"},{"$f":"표지!$E$34","v":"김길동4"},"선택안함",0]
["T40",4,"S40",4,369,{"$f":"IF(MAX('3-3 위험성평가'!$A$4:$A$470)+1>E377,VLOOKUP(E377,'3-3 위험성평가'!$A$5:$P$470,2,0),\"\")","v":""},{"$f":"IF(F377=\"\",\"\",VLOOKUP(VALUE(F377),'1-1 사업장 공정 정보'!$D$15:$P$32,5,0))","v":""},{"$f":"IF(MAX('3-3 위험성평가'!$A$4:$A$470)+1>E377,VLOOKUP(E377,'3-3 위험성평가'!$A$5:$P$470,3,0),\"\")","v":""},{"$f":"IF(MAX('3-3 위험성평가'!$A$4:$A$470)+1>E377,VLOOKUP(E377,'3-3 위험성평가'!$A$5:$P$470,4,0),\"\")","v":""},{"$f":"IF(MAX('3-3 위험성평가'!$A$4:$A$470)+1>E377,VLOOKUP(E377,'3-3 위험성평가'!$A$5:$P$470,5,0),\"\")","v":""},{"$f":"IF(MAX('3-3 위험성평가'!$A$4:$A$470)+1>E377,VLOOKUP(E377,'3-3 위험성평가'!$A$5:$P$470,6,0),\"\")","v":""},{"$f":"IF(MAX('3-3 위험성평가'!$A$4:$A$470)+1>E377,VLOOKUP(E377,'3-3 위험성평가'!$A$5:$P$470,9,0),\"\")","v":""},{"$f":"IF(MAX('3-3 위험성평가'!$A$4:$A$536)+1>E377,VLOOKUP(E377,'3-3 위험성평가'!$A$5:$P$536,12,0),\"\")&IF(L377>\"\",\".\"&E377,\"\")","v":""},{"$f":"IF(MAX('3-3 위험성평가'!$A$4:$A$470)+1>E377,VLOOKUP(E377,'3-3 위험성평가'!$A$5:$P$470,13,0),\"\")","v":""},null,"하",null,null,null,null,null,null,null,"선택안함",0,{"$f":"IF(MAX('3-3 위험성평가'!$A$4:$A$470)+1>E377,VLOOKUP(E377,'3-3 위험성평가'!$A$5:$Q$470,17,0),\"\")","v":""},"선택",{"$f":"표지!$D$33","v":"시원건설"},{"$f":"표지!$E$34","v":"김길동4"},"선택안함",0]
["T40",4,"S40",4,370,{"$f":"IF(MAX('3-3 위험성평가'!$A$4:$A$470)+1>E378,VLOOKUP(E378,'3-3 위험성평가'!$A$5:$P$470,2,0),\"\")","v":""},{"$f":"IF(F378=\"\",\"\",VLOOKUP(VALUE(F378),'1-1 사업장 공정 정보'!$D$15:$P$32,5,0))","v":""},{"$f":"IF(MAX('3-3 위험성평가'!$A$4:$A$470)+1>E378,VLOOKUP(E378,'3-3 위험성평가'!$A$5:$P$470,3,0),\"\")","v":""},{"$f":"IF(MAX('3-3 위험성평가'!$A$4:$A$470)+1>E378,VLOOKUP(E378,'3-3 위험성평가'!$A$5:$P$470,4,0),\"\")","v":""},{"$f":"IF(MAX('3-3 위험성평가'!$A$4:$A$470)+1>E378,VLOOKUP(E378,'3-3 위험성평가'!$A$5:$P$470,5,0),\"\")","v":""},{"$f":"IF(MAX('3-3 위험성평가'!$A$4:$A$470)+1>E378,VLOOKUP(E378,'3-3 위험성평가'!$A$5:$P$470,6,0),\"\")","v":""},{"$f":"IF(MAX('3-3 위험성평가'!$A$4:$A$470)+1>E378,VLOOKUP(E378,'3-3 위험성평가'!$A$5:$P$470,9,0),\"\")","v":""},{"$f":"IF(MAX('3-3 위험성평가'!$A$4:$A$536)+1>E378,VLOOKUP(E378,'3-3 위험성평가'!$A$5:$P$536,12,0),\"\")&IF(L378>\"\",\".\"&E378,\"\")","v":""},{"$f":"IF(MAX('3-3 위험성평가'!$A$4:$A$470)+1>E378,VLOOKUP(E378,'3-3 위험성평가'!$A$5:$P$470,13,0),\"\")","v":""},null,"하",null,null,null,null,null,null,null,"선택안함",0,{"$f":"IF(MAX('3-3 위험성평가'!$A$4:$A$470)+1>E378,VLOOKUP(E378,'3-3 위험성평가'!$A$5:$Q$470,17,0),\"\")","v":""},"선택",{"$f":"표지!$D$33","v":"시원건설"},{"$f":"표지!$E$34","v":"김길동4"},"선택안함",0]
["T40",4,"S40",4,371,{"$f":"IF(MAX('3-3 위험성평가'!$A$4:$A$470)+1>E379,VLOOKUP(E379,'3-3 위험성평가'!$A$5:$P$470,2,0),\"\")","v":""},{"$f":"IF(F379=\"\",\"\",VLOOKUP(VALUE(F379),'1-1 사업장 공정 정보'!$D$15:$P$32,5,0))","v":""},{"$f":"IF(MAX('3-3 위험성평가'!$A$4:$A$470)+1>E379,VLOOKUP(E379,'3-3 위험성평가'!$A$5:$P$470,3,0),\"\")","v":""},{"$f":"IF(MAX('3-3 위험성평가'!$A$4:$A$470)+1>E379,VLOOKUP(E379,'3-3 위험성평가'!$A$5:$P$470,4,0),\"\")","v":""},{"$f":"IF(MAX('3-3 위험성평가'!$A$4:$A$470)+1>E379,VLOOKUP(E379,'3-3 위험성평가'!$A$5:$P$470,5,0),\"\")","v":""},{"$f":"IF(MAX('3-3 위험성평가'!$A$4:$A$470)+1>E379,VLOOKUP(E379,'3-3 위험성평가'!$A$5:$P$470,6,0),\"\")","v":""},{"$f":"IF(MAX('3-3 위험성평가'!$A$4:$A$470)+1>E379,VLOOKUP(E379,'3-3 위험성평가'!$A$5:$P$470,9,0),\"\")","v":""},{"$f":"IF(MAX('3-3 위험성평가'!$A$4:$A$536)+1>E379,VLOOKUP(E379,'3-3 위험성평가'!$A$5:$P$536,12,0),\"\")&IF(L379>\"\",\".\"&E379,\"\")","v":""},{"$f":"IF(MAX('3-3 위험성평가'!$A$4:$A$470)+1>E379,VLOOKUP(E379,'3-3 위험성평가'!$A$5:$P$470,13,0),\"\")","v":""},null,"하",null,null,null,null,null,null,null,"선택안함",0,{"$f":"IF(MAX('3-3 위험성평가'!$A$4:$A$470)+1>E379,VLOOKUP(E379,'3-3 위험성평가'!$A$5:$Q$470,17,0),\"\")","v":""},"선택",{"$f":"표지!$D$33","v":"시원건설"},{"$f":"표지!$E$34","v":"김길동4"},"선택안함",0]
["T40",4,"S40",4,372,{"$f":"IF(MAX('3-3 위험성평가'!$A$4:$A$470)+1>E380,VLOOKUP(E380,'3-3 위험성평가'!$A$5:$P$470,2,0),\"\")","v":""},{"$f":"IF(F380=\"\",\"\",VLOOKUP(VALUE(F380),'1-1 사업장 공정 정보'!$D$15:$P$32,5,0))","v":""},{"$f":"IF(MAX('3-3 위험성평가'!$A$4:$A$470)+1>E380,VLOOKUP(E380,'3-3 위험성평가'!$A$5:$P$470,3,0),\"\")","v":""},{"$f":"IF(MAX('3-3 위험성평가'!$A$4:$A$470)+1>E380,VLOOKUP(E380,'3-3 위험성평가'!$A$5:$P$470,4,0),\"\")","v":""},{"$f":"IF(MAX('3-3 위험성평가'!$A$4:$A$470)+1>E380,VLOOKUP(E380,'3-3 위험성평가'!$A$5:$P$470,5,0),\"\")","v":""},{"$f":"IF(MAX('3-3 위험성평가'!$A$4:$A$470)+1>E380,VLOOKUP(E380,'3-3 위험성평가'!$A$5:$P$470,6,0),\"\")","v":""},{"$f":"IF(MAX('3-3 위험성평가'!$A$4:$A$470)+1>E380,VLOOKUP(E380,'3-3 위험성평가'!$A$5:$P$470,9,0),\"\")","v":""},{"$f":"IF(MAX('3-3 위험성평가'!$A$4:$A$536)+1>E380,VLOOKUP(E380,'3-3 위험성평가'!$A$5:$P$536,12,0),\"\")&IF(L380>\"\",\".\"&E380,\"\")","v":""},{"$f":"IF(MAX('3-3 위험성평가'!$A$4:$A$470)+1>E380,VLOOKUP(E380,'3-3 위험성평가'!$A$5:$P$470,13,0),\"\")","v":""},null,"하",null,null,null,null,null,null,null,"선택안함",0,{"$f":"IF(MAX('3-3 위험성평가'!$A$4:$A$470)+1>E380,VLOOKUP(E380,'3-3 위험성평가'!$A$5:$Q$470,17,0),\"\")","v":""},"선택",{"$f":"표지!$D$33","v":"시원건설"},{"$f":"표지!$E$34","v":"김길동4"},"선택안함",0]
["T40",4,"S40",4,373,{"$f":"IF(MAX('3-3 위험성평가'!$A$4:$A$470)+1>E381,VLOOKUP(E381,'3-3 위험성평가'!$A$5:$P$470,2,0),\"\")","v":""},{"$f":"IF(F381=\"\",\"\",VLOOKUP(VALUE(F381),'1-1 사업장 공정 정보'!$D$15:$P$32,5,0))","v":""},{"$f":"IF(MAX('3-3 위험성평가'!$A$4:$A$470)+1>E381,VLOOKUP(E381,'3-3 위험성평가'!$A$5:$P$470,3,0),\"\")","v":""},{"$f":"IF(MAX('3-3 위험성평가'!$A$4:$A$470)+1>E381,VLOOKUP(E381,'3-3 위험성평가'!$A$5:$P$470,4,0),\"\")","v":""},{"$f":"IF(MAX('3-3 위험성평가'!$A$4:$A$470)+1>E381,VLOOKUP(E381,'3-3 위험성평가'!$A$5:$P$470,5,0),\"\")","v":""},{"$f":"IF(MAX('3-3 위험성평가'!$A$4:$A$470)+1>E381,VLOOKUP(E381,'3-3 위험성평가'!$A$5:$P$470,6,0),\"\")","v":""},{"$f":"IF(MAX('3-3 위험성평가'!$A$4:$A$470)+1>E381,VLOOKUP(E381,'3-3 위험성평가'!$A$5:$P$470,9,0),\"\")","v":""},{"$f":"IF(MAX('3-3 위험성평가'!$A$4:$A$536)+1>E381,VLOOKUP(E381,'3-3 위험성평가'!$A$5:$P$536,12,0),\"\")&IF(L381>\"\",\".\"&E381,\"\")","v":""},{"$f":"IF(MAX('3-3 위험성평가'!$A$4:$A$470)+1>E381,VLOOKUP(E381,'3-3 위험성평가'!$A$5:$P$470,13,0),\"\")","v":""},null,"하",null,null,null,null,null,null,null,"선택안함",0,{"$f":"IF(MAX('3-3 위험성평가'!$A$4:$A$470)+1>E381,VLOOKUP(E381,'3-3 위험성평가'!$A$5:$Q$470,17,0),\"\")","v":""},"선택",{"$f":"표지!$D$33","v":"시원건설"},{"$f":"표지!$E$34","v":"김길동4"},"선택안함",0]
["T40",4,"S40",4,374,{"$f":"IF(MAX('3-3 위험성평가'!$A$4:$A$470)+1>E382,VLOOKUP(E382,'3-3 위험성평가'!$A$5:$P$470,2,0),\"\")","v":""},{"$f":"IF(F382=\"\",\"\",VLOOKUP(VALUE(F382),'1-1 사업장 공정 정보'!$D$15:$P$32,5,0))","v":""},{"$f":"IF(MAX('3-3 위험성평가'!$A$4:$A$470)+1>E382,VLOOKUP(E382,'3-3 위험성평가'!$A$5:$P$470,3,0),\"\")","v":""},{"$f":"IF(MAX('3-3 위험성평가'!$A$4:$A$470)+1>E382,VLOOKUP(E382,'3-3 위험성평가'!$A$5:$P$470,4,0),\"\")","v":""},{"$f":"IF(MAX('3-3 위험성평가'!$A$4:$A$470)+1>E382,VLOOKUP(E382,'3-3 위험성평가'!$A$5:$P$470,5,0),\"\")","v":""},{"$f":"IF(MAX('3-3 위험성평가'!$A$4:$A$470)+1>E382,VLOOKUP(E382,'3-3 위험성평가'!$A$5:$P$470,6,0),\"\")","v":""},{"$f":"IF(MAX('3-3 위험성평가'!$A$4:$A$470)+1>E382,VLOOKUP(E382,'3-3 위험성평가'!$A$5:$P$470,9,0),\"\")","v":""},{"$f":"IF(MAX('3-3 위험성평가'!$A$4:$A$536)+1>E382,VLOOKUP(E382,'3-3 위험성평가'!$A$5:$P$536,12,0),\"\")&IF(L382>\"\",\".\"&E382,\"\")","v":""},{"$f":"IF(MAX('3-3 위험성평가'!$A$4:$A$470)+1>E382,VLOOKUP(E382,'3-3 위험성평가'!$A$5:$P$470,13,0),\"\")","v":""},null,"하",null,null,null,null,null,null,null,"선택안함",0,{"$f":"IF(MAX('3-3 위험성평가'!$A$4:$A$470)+1>E382,VLOOKUP(E382,'3-3 위험성평가'!$A$5:$Q$470,17,0),\"\")","v":""},"선택",{"$f":"표지!$D$33","v":"시원건설"},{"$f":"표지!$E$34","v":"김길동4"},"선택안함",0]
["T40",4,"S40",4,375,{"$f":"IF(MAX('3-3 위험성평가'!$A$4:$A$470)+1>E383,VLOOKUP(E383,'3-3 위험성평가'!$A$5:$P$470,2,0),\"\")","v":""},{"$f":"IF(F383=\"\",\"\",VLOOKUP(VALUE(F383),'1-1 사업장 공정 정보'!$D$15:$P$32,5,0))","v":""},{"$f":"IF(MAX('3-3 위험성평가'!$A$4:$A$470)+1>E383,VLOOKUP(E383,'3-3 위험성평가'!$A$5:$P$470,3,0),\"\")","v":""},{"$f":"IF(MAX('3-3 위험성평가'!$A$4:$A$470)+1>E383,VLOOKUP(E383,'3-3 위험성평가'!$A$5:$P$470,4,0),\"\")","v":""},{"$f":"IF(MAX('3-3 위험성평가'!$A$4:$A$470)+1>E383,VLOOKUP(E383,'3-3 위험성평가'!$A$5:$P$470,5,0),\"\")","v":""},{"$f":"IF(MAX('3-3 위험성평가'!$A$4:$A$470)+1>E383,VLOOKUP(E383,'3-3 위험성평가'!$A$5:$P$470,6,0),\"\")","v":""},{"$f":"IF(MAX('3-3 위험성평가'!$A$4:$A$470)+1>E383,VLOOKUP(E383,'3-3 위험성평가'!$A$5:$P$470,9,0),\"\")","v":""},{"$f":"IF(MAX('3-3 위험성평가'!$A$4:$A$536)+1>E383,VLOOKUP(E383,'3-3 위험성평가'!$A$5:$P$536,12,0),\"\")&IF(L383>\"\",\".\"&E383,\"\")","v":""},{"$f":"IF(MAX('3-3 위험성평가'!$A$4:$A$470)+1>E383,VLOOKUP(E383,'3-3 위험성평가'!$A$5:$P$470,13,0),\"\")","v":""},null,"하",null,null,null,null,null,null,null,"선택안함",0,{"$f":"IF(MAX('3-3 위험성평가'!$A$4:$A$470)+1>E383,VLOOKUP(E383,'3-3 위험성평가'!$A$5:$Q$470,17,0),\"\")","v":""},"선택",{"$f":"표지!$D$33","v":"시원건설"},{"$f":"표지!$E$34","v":"김길동4"},"선택안함",0]
["T40",4,"S40",4,376,{"$f":"IF(MAX('3-3 위험성평가'!$A$4:$A$470)+1>E384,VLOOKUP(E384,'3-3 위험성평가'!$A$5:$P$470,2,0),\"\")","v":""},{"$f":"IF(F384=\"\",\"\",VLOOKUP(VALUE(F384),'1-1 사업장 공정 정보'!$D$15:$P$32,5,0))","v":""},{"$f":"IF(MAX('3-3 위험성평가'!$A$4:$A$470)+1>E384,VLOOKUP(E384,'3-3 위험성평가'!$A$5:$P$470,3,0),\"\")","v":""},{"$f":"IF(MAX('3-3 위험성평가'!$A$4:$A$470)+1>E384,VLOOKUP(E384,'3-3 위험성평가'!$A$5:$P$470,4,0),\"\")","v":""},{"$f":"IF(MAX('3-3 위험성평가'!$A$4:$A$470)+1>E384,VLOOKUP(E384,'3-3 위험성평가'!$A$5:$P$470,5,0),\"\")","v":""},{"$f":"IF(MAX('3-3 위험성평가'!$A$4:$A$470)+1>E384,VLOOKUP(E384,'3-3 위험성평가'!$A$5:$P$470,6,0),\"\")","v":""},{"$f":"IF(MAX('3-3 위험성평가'!$A$4:$A$470)+1>E384,VLOOKUP(E384,'3-3 위험성평가'!$A$5:$P$470,9,0),\"\")","v":""},{"$f":"IF(MAX('3-3 위험성평가'!$A$4:$A$536)+1>E384,VLOOKUP(E384,'3-3 위험성평가'!$A$5:$P$536,12,0),\"\")&IF(L384>\"\",\".\"&E384,\"\")","v":""},{"$f":"IF(MAX('3-3 위험성평가'!$A$4:$A$470)+1>E384,VLOOKUP(E384,'3-3 위험성평가'!$A$5:$P$470,13,0),\"\")","v":""},null,"하",null,null,null,null,null,null,null,"선택안함",0,{"$f":"IF(MAX('3-3 위험성평가'!$A$4:$A$470)+1>E384,VLOOKUP(E384,'3-3 위험성평가'!$A$5:$Q$470,17,0),\"\")","v":""},"선택",{"$f":"표지!$D$33","v":"시원건설"},{"$f":"표지!$E$34","v":"김길동4"},"선택안함",0]
["T40",4,"S40",4,377,{"$f":"IF(MAX('3-3 위험성평가'!$A$4:$A$470)+1>E385,VLOOKUP(E385,'3-3 위험성평가'!$A$5:$P$470,2,0),\"\")","v":""},{"$f":"IF(F385=\"\",\"\",VLOOKUP(VALUE(F385),'1-1 사업장 공정 정보'!$D$15:$P$32,5,0))","v":""},{"$f":"IF(MAX('3-3 위험성평가'!$A$4:$A$470)+1>E385,VLOOKUP(E385,'3-3 위험성평가'!$A$5:$P$470,3,0),\"\")","v":""},{"$f":"IF(MAX('3-3 위험성평가'!$A$4:$A$470)+1>E385,VLOOKUP(E385,'3-3 위험성평가'!$A$5:$P$470,4,0),\"\")","v":""},{"$f":"IF(MAX('3-3 위험성평가'!$A$4:$A$470)+1>E385,VLOOKUP(E385,'3-3 위험성평가'!$A$5:$P$470,5,0),\"\")","v":""},{"$f":"IF(MAX('3-3 위험성평가'!$A$4:$A$470)+1>E385,VLOOKUP(E385,'3-3 위험성평가'!$A$5:$P$470,6,0),\"\")","v":""},{"$f":"IF(MAX('3-3 위험성평가'!$A$4:$A$470)+1>E385,VLOOKUP(E385,'3-3 위험성평가'!$A$5:$P$470,9,0),\"\")","v":""},{"$f":"IF(MAX('3-3 위험성평가'!$A$4:$A$536)+1>E385,VLOOKUP(E385,'3-3 위험성평가'!$A$5:$P$536,12,0),\"\")&IF(L385>\"\",\".\"&E385,\"\")","v":""},{"$f":"IF(MAX('3-3 위험성평가'!$A$4:$A$470)+1>E385,VLOOKUP(E385,'3-3 위험성평가'!$A$5:$P$470,13,0),\"\")","v":""},null,"하",null,null,null,null,null,null,null,"선택안함",0,{"$f":"IF(MAX('3-3 위험성평가'!$A$4:$A$470)+1>E385,VLOOKUP(E385,'3-3 위험성평가'!$A$5:$Q$470,17,0),\"\")","v":""},"선택",{"$f":"표지!$D$33","v":"시원건설"},{"$f":"표지!$E$34","v":"김길동4"},"선택안함",0]
["T40",4,"S40",4,378,{"$f":"IF(MAX('3-3 위험성평가'!$A$4:$A$470)+1>E386,VLOOKUP(E386,'3-3 위험성평가'!$A$5:$P$470,2,0),\"\")","v":""},{"$f":"IF(F386=\"\",\"\",VLOOKUP(VALUE(F386),'1-1 사업장 공정 정보'!$D$15:$P$32,5,0))","v":""},{"$f":"IF(MAX('3-3 위험성평가'!$A$4:$A$470)+1>E386,VLOOKUP(E386,'3-3 위험성평가'!$A$5:$P$470,3,0),\"\")","v":""},{"$f":"IF(MAX('3-3 위험성평가'!$A$4:$A$470)+1>E386,VLOOKUP(E386,'3-3 위험성평가'!$A$5:$P$470,4,0),\"\")","v":""},{"$f":"IF(MAX('3-3 위험성평가'!$A$4:$A$470)+1>E386,VLOOKUP(E386,'3-3 위험성평가'!$A$5:$P$470,5,0),\"\")","v":""},{"$f":"IF(MAX('3-3 위험성평가'!$A$4:$A$470)+1>E386,VLOOKUP(E386,'3-3 위험성평가'!$A$5:$P$470,6,0),\"\")","v":""},{"$f":"IF(MAX('3-3 위험성평가'!$A$4:$A$470)+1>E386,VLOOKUP(E386,'3-3 위험성평가'!$A$5:$P$470,9,0),\"\")","v":""},{"$f":"IF(MAX('3-3 위험성평가'!$A$4:$A$536)+1>E386,VLOOKUP(E386,'3-3 위험성평가'!$A$5:$P$536,12,0),\"\")&IF(L386>\"\",\".\"&E386,\"\")","v":""},{"$f":"IF(MAX('3-3 위험성평가'!$A$4:$A$470)+1>E386,VLOOKUP(E386,'3-3 위험성평가'!$A$5:$P$470,13,0),\"\")","v":""},null,"하",null,null,null,null,null,null,null,"선택안함",0,{"$f":"IF(MAX('3-3 위험성평가'!$A$4:$A$470)+1>E386,VLOOKUP(E386,'3-3 위험성평가'!$A$5:$Q$470,17,0),\"\")","v":""},"선택",{"$f":"표지!$D$33","v":"시원건설"},{"$f":"표지!$E$34","v":"김길동4"},"선택안함",0]
["T40",4,"S40",4,379,{"$f":"IF(MAX('3-3 위험성평가'!$A$4:$A$470)+1>E387,VLOOKUP(E387,'3-3 위험성평가'!$A$5:$P$470,2,0),\"\")","v":""},{"$f":"IF(F387=\"\",\"\",VLOOKUP(VALUE(F387),'1-1 사업장 공정 정보'!$D$15:$P$32,5,0))","v":""},{"$f":"IF(MAX('3-3 위험성평가'!$A$4:$A$470)+1>E387,VLOOKUP(E387,'3-3 위험성평가'!$A$5:$P$470,3,0),\"\")","v":""},{"$f":"IF(MAX('3-3 위험성평가'!$A$4:$A$470)+1>E387,VLOOKUP(E387,'3-3 위험성평가'!$A$5:$P$470,4,0),\"\")","v":""},{"$f":"IF(MAX('3-3 위험성평가'!$A$4:$A$470)+1>E387,VLOOKUP(E387,'3-3 위험성평가'!$A$5:$P$470,5,0),\"\")","v":""},{"$f":"IF(MAX('3-3 위험성평가'!$A$4:$A$470)+1>E387,VLOOKUP(E387,'3-3 위험성평가'!$A$5:$P$470,6,0),\"\")","v":""},{"$f":"IF(MAX('3-3 위험성평가'!$A$4:$A$470)+1>E387,VLOOKUP(E387,'3-3 위험성평가'!$A$5:$P$470,9,0),\"\")","v":""},{"$f":"IF(MAX('3-3 위험성평가'!$A$4:$A$536)+1>E387,VLOOKUP(E387,'3-3 위험성평가'!$A$5:$P$536,12,0),\"\")&IF(L387>\"\",\".\"&E387,\"\")","v":""},{"$f":"IF(MAX('3-3 위험성평가'!$A$4:$A$470)+1>E387,VLOOKUP(E387,'3-3 위험성평가'!$A$5:$P$470,13,0),\"\")","v":""},null,"하",null,null,null,null,null,null,null,"선택안함",0,{"$f":"IF(MAX('3-3 위험성평가'!$A$4:$A$470)+1>E387,VLOOKUP(E387,'3-3 위험성평가'!$A$5:$Q$470,17,0),\"\")","v":""},"선택",{"$f":"표지!$D$33","v":"시원건설"},{"$f":"표지!$E$34","v":"김길동4"},"선택안함",0]
["T40",4,"S40",4,380,{"$f":"IF(MAX('3-3 위험성평가'!$A$4:$A$470)+1>E388,VLOOKUP(E388,'3-3 위험성평가'!$A$5:$P$470,2,0),\"\")","v":""},{"$f":"IF(F388=\"\",\"\",VLOOKUP(VALUE(F388),'1-1 사업장 공정 정보'!$D$15:$P$32,5,0))","v":""},{"$f":"IF(MAX('3-3 위험성평가'!$A$4:$A$470)+1>E388,VLOOKUP(E388,'3-3 위험성평가'!$A$5:$P$470,3,0),\"\")","v":""},{"$f":"IF(MAX('3-3 위험성평가'!$A$4:$A$470)+1>E388,VLOOKUP(E388,'3-3 위험성평가'!$A$5:$P$470,4,0),\"\")","v":""},{"$f":"IF(MAX('3-3 위험성평가'!$A$4:$A$470)+1>E388,VLOOKUP(E388,'3-3 위험성평가'!$A$5:$P$470,5,0),\"\")","v":""},{"$f":"IF(MAX('3-3 위험성평가'!$A$4:$A$470)+1>E388,VLOOKUP(E388,'3-3 위험성평가'!$A$5:$P$470,6,0),\"\")","v":""},{"$f":"IF(MAX('3-3 위험성평가'!$A$4:$A$470)+1>E388,VLOOKUP(E388,'3-3 위험성평가'!$A$5:$P$470,9,0),\"\")","v":""},{"$f":"IF(MAX('3-3 위험성평가'!$A$4:$A$536)+1>E388,VLOOKUP(E388,'3-3 위험성평가'!$A$5:$P$536,12,0),\"\")&IF(L388>\"\",\".\"&E388,\"\")","v":""},{"$f":"IF(MAX('3-3 위험성평가'!$A$4:$A$470)+1>E388,VLOOKUP(E388,'3-3 위험성평가'!$A$5:$P$470,13,0),\"\")","v":""},null,"하",null,null,null,null,null,null,null,"선택안함",0,{"$f":"IF(MAX('3-3 위험성평가'!$A$4:$A$470)+1>E388,VLOOKUP(E388,'3-3 위험성평가'!$A$5:$Q$470,17,0),\"\")","v":""},"선택",{"$f":"표지!$D$33","v":"시원건설"},{"$f":"표지!$E$34","v":"김길동4"},"선택안함",0]
["T40",4,"S40",4,381,{"$f":"IF(MAX('3-3 위험성평가'!$A$4:$A$470)+1>E389,VLOOKUP(E389,'3-3 위험성평가'!$A$5:$P$470,2,0),\"\")","v":""},{"$f":"IF(F389=\"\",\"\",VLOOKUP(VALUE(F389),'1-1 사업장 공정 정보'!$D$15:$P$32,5,0))","v":""},{"$f":"IF(MAX('3-3 위험성평가'!$A$4:$A$470)+1>E389,VLOOKUP(E389,'3-3 위험성평가'!$A$5:$P$470,3,0),\"\")","v":""},{"$f":"IF(MAX('3-3 위험성평가'!$A$4:$A$470)+1>E389,VLOOKUP(E389,'3-3 위험성평가'!$A$5:$P$470,4,0),\"\")","v":""},{"$f":"IF(MAX('3-3 위험성평가'!$A$4:$A$470)+1>E389,VLOOKUP(E389,'3-3 위험성평가'!$A$5:$P$470,5,0),\"\")","v":""},{"$f":"IF(MAX('3-3 위험성평가'!$A$4:$A$470)+1>E389,VLOOKUP(E389,'3-3 위험성평가'!$A$5:$P$470,6,0),\"\")","v":""},{"$f":"IF(MAX('3-3 위험성평가'!$A$4:$A$470)+1>E389,VLOOKUP(E389,'3-3 위험성평가'!$A$5:$P$470,9,0),\"\")","v":""},{"$f":"IF(MAX('3-3 위험성평가'!$A$4:$A$536)+1>E389,VLOOKUP(E389,'3-3 위험성평가'!$A$5:$P$536,12,0),\"\")&IF(L389>\"\",\".\"&E389,\"\")","v":""},{"$f":"IF(MAX('3-3 위험성평가'!$A$4:$A$470)+1>E389,VLOOKUP(E389,'3-3 위험성평가'!$A$5:$P$470,13,0),\"\")","v":""},null,"하",null,null,null,null,null,null,null,"선택안함",0,{"$f":"IF(MAX('3-3 위험성평가'!$A$4:$A$470)+1>E389,VLOOKUP(E389,'3-3 위험성평가'!$A$5:$Q$470,17,0),\"\")","v":""},"선택",{"$f":"표지!$D$33","v":"시원건설"},{"$f":"표지!$E$34","v":"김길동4"},"선택안함",0]
["T40",4,"S40",4,382,{"$f":"IF(MAX('3-3 위험성평가'!$A$4:$A$470)+1>E390,VLOOKUP(E390,'3-3 위험성평가'!$A$5:$P$470,2,0),\"\")","v":""},{"$f":"IF(F390=\"\",\"\",VLOOKUP(VALUE(F390),'1-1 사업장 공정 정보'!$D$15:$P$32,5,0))","v":""},{"$f":"IF(MAX('3-3 위험성평가'!$A$4:$A$470)+1>E390,VLOOKUP(E390,'3-3 위험성평가'!$A$5:$P$470,3,0),\"\")","v":""},{"$f":"IF(MAX('3-3 위험성평가'!$A$4:$A$470)+1>E390,VLOOKUP(E390,'3-3 위험성평가'!$A$5:$P$470,4,0),\"\")","v":""},{"$f":"IF(MAX('3-3 위험성평가'!$A$4:$A$470)+1>E390,VLOOKUP(E390,'3-3 위험성평가'!$A$5:$P$470,5,0),\"\")","v":""},{"$f":"IF(MAX('3-3 위험성평가'!$A$4:$A$470)+1>E390,VLOOKUP(E390,'3-3 위험성평가'!$A$5:$P$470,6,0),\"\")","v":""},{"$f":"IF(MAX('3-3 위험성평가'!$A$4:$A$470)+1>E390,VLOOKUP(E390,'3-3 위험성평가'!$A$5:$P$470,9,0),\"\")","v":""},{"$f":"IF(MAX('3-3 위험성평가'!$A$4:$A$536)+1>E390,VLOOKUP(E390,'3-3 위험성평가'!$A$5:$P$536,12,0),\"\")&IF(L390>\"\",\".\"&E390,\"\")","v":""},{"$f":"IF(MAX('3-3 위험성평가'!$A$4:$A$470)+1>E390,VLOOKUP(E390,'3-3 위험성평가'!$A$5:$P$470,13,0),\"\")","v":""},null,"하",null,null,null,null,null,null,null,"선택안함",0,{"$f":"IF(MAX('3-3 위험성평가'!$A$4:$A$470)+1>E390,VLOOKUP(E390,'3-3 위험성평가'!$A$5:$Q$470,17,0),\"\")","v":""},"선택",{"$f":"표지!$D$33","v":"시원건설"},{"$f":"표지!$E$34","v":"김길동4"},"선택안함",0]
["T40",4,"S40",4,383,{"$f":"IF(MAX('3-3 위험성평가'!$A$4:$A$470)+1>E391,VLOOKUP(E391,'3-3 위험성평가'!$A$5:$P$470,2,0),\"\")","v":""},{"$f":"IF(F391=\"\",\"\",VLOOKUP(VALUE(F391),'1-1 사업장 공정 정보'!$D$15:$P$32,5,0))","v":""},{"$f":"IF(MAX('3-3 위험성평가'!$A$4:$A$470)+1>E391,VLOOKUP(E391,'3-3 위험성평가'!$A$5:$P$470,3,0),\"\")","v":""},{"$f":"IF(MAX('3-3 위험성평가'!$A$4:$A$470)+1>E391,VLOOKUP(E391,'3-3 위험성평가'!$A$5:$P$470,4,0),\"\")","v":""},{"$f":"IF(MAX('3-3 위험성평가'!$A$4:$A$470)+1>E391,VLOOKUP(E391,'3-3 위험성평가'!$A$5:$P$470,5,0),\"\")","v":""},{"$f":"IF(MAX('3-3 위험성평가'!$A$4:$A$470)+1>E391,VLOOKUP(E391,'3-3 위험성평가'!$A$5:$P$470,6,0),\"\")","v":""},{"$f":"IF(MAX('3-3 위험성평가'!$A$4:$A$470)+1>E391,VLOOKUP(E391,'3-3 위험성평가'!$A$5:$P$470,9,0),\"\")","v":""},{"$f":"IF(MAX('3-3 위험성평가'!$A$4:$A$536)+1>E391,VLOOKUP(E391,'3-3 위험성평가'!$A$5:$P$536,12,0),\"\")&IF(L391>\"\",\".\"&E391,\"\")","v":""},{"$f":"IF(MAX('3-3 위험성평가'!$A$4:$A$470)+1>E391,VLOOKUP(E391,'3-3 위험성평가'!$A$5:$P$470,13,0),\"\")","v":""},null,"하",null,null,null,null,null,null,null,"선택안함",0,{"$f":"IF(MAX('3-3 위험성평가'!$A$4:$A$470)+1>E391,VLOOKUP(E391,'3-3 위험성평가'!$A$5:$Q$470,17,0),\"\")","v":""},"선택",{"$f":"표지!$D$33","v":"시원건설"},{"$f":"표지!$E$34","v":"김길동4"},"선택안함",0]
["T40",4,"S40",4,384,{"$f":"IF(MAX('3-3 위험성평가'!$A$4:$A$470)+1>E392,VLOOKUP(E392,'3-3 위험성평가'!$A$5:$P$470,2,0),\"\")","v":""},{"$f":"IF(F392=\"\",\"\",VLOOKUP(VALUE(F392),'1-1 사업장 공정 정보'!$D$15:$P$32,5,0))","v":""},{"$f":"IF(MAX('3-3 위험성평가'!$A$4:$A$470)+1>E392,VLOOKUP(E392,'3-3 위험성평가'!$A$5:$P$470,3,0),\"\")","v":""},{"$f":"IF(MAX('3-3 위험성평가'!$A$4:$A$470)+1>E392,VLOOKUP(E392,'3-3 위험성평가'!$A$5:$P$470,4,0),\"\")","v":""},{"$f":"IF(MAX('3-3 위험성평가'!$A$4:$A$470)+1>E392,VLOOKUP(E392,'3-3 위험성평가'!$A$5:$P$470,5,0),\"\")","v":""},{"$f":"IF(MAX('3-3 위험성평가'!$A$4:$A$470)+1>E392,VLOOKUP(E392,'3-3 위험성평가'!$A$5:$P$470,6,0),\"\")","v":""},{"$f":"IF(MAX('3-3 위험성평가'!$A$4:$A$470)+1>E392,VLOOKUP(E392,'3-3 위험성평가'!$A$5:$P$470,9,0),\"\")","v":""},{"$f":"IF(MAX('3-3 위험성평가'!$A$4:$A$536)+1>E392,VLOOKUP(E392,'3-3 위험성평가'!$A$5:$P$536,12,0),\"\")&IF(L392>\"\",\".\"&E392,\"\")","v":""},{"$f":"IF(MAX('3-3 위험성평가'!$A$4:$A$470)+1>E392,VLOOKUP(E392,'3-3 위험성평가'!$A$5:$P$470,13,0),\"\")","v":""},null,"하",null,null,null,null,null,null,null,"선택안함",0,{"$f":"IF(MAX('3-3 위험성평가'!$A$4:$A$470)+1>E392,VLOOKUP(E392,'3-3 위험성평가'!$A$5:$Q$470,17,0),\"\")","v":""},"선택",{"$f":"표지!$D$33","v":"시원건설"},{"$f":"표지!$E$34","v":"김길동4"},"선택안함",0]
[{"$f":"\"T\"&B393&IF(OR(X393=\"선택\",X393=1),1,0)","v":"T40"},4,"S40",4,385,{"$f":"IF(MAX('3-3 위험성평가'!$A$4:$A$470)+1>E393,VLOOKUP(E393,'3-3 위험성평가'!$A$5:$P$470,2,0),\"\")","v":""},{"$f":"IF(F393=\"\",\"\",VLOOKUP(VALUE(F393),'1-1 사업장 공정 정보'!$D$15:$P$32,5,0))","v":""},{"$f":"IF(MAX('3-3 위험성평가'!$A$4:$A$470)+1>E393,VLOOKUP(E393,'3-3 위험성평가'!$A$5:$P$470,3,0),\"\")","v":""},{"$f":"IF(MAX('3-3 위험성평가'!$A$4:$A$470)+1>E393,VLOOKUP(E393,'3-3 위험성평가'!$A$5:$P$470,4,0),\"\")","v":""},{"$f":"IF(MAX('3-3 위험성평가'!$A$4:$A$470)+1>E393,VLOOKUP(E393,'3-3 위험성평가'!$A$5:$P$470,5,0),\"\")","v":""},{"$f":"IF(MAX('3-3 위험성평가'!$A$4:$A$470)+1>E393,VLOOKUP(E393,'3-3 위험성평가'!$A$5:$P$470,6,0),\"\")","v":""},{"$f":"IF(MAX('3-3 위험성평가'!$A$4:$A$470)+1>E393,VLOOKUP(E393,'3-3 위험성평가'!$A$5:$P$470,9,0),\"\")","v":""},{"$f":"IF(MAX('3-3 위험성평가'!$A$4:$A$536)+1>E393,VLOOKUP(E393,'3-3 위험성평가'!$A$5:$P$536,12,0),\"\")&IF(L393>\"\",\".\"&E393,\"\")","v":""},{"$f":"IF(MAX('3-3 위험성평가'!$A$4:$A$470)+1>E393,VLOOKUP(E393,'3-3 위험성평가'!$A$5:$P$470,13,0),\"\")","v":""},null,"하",null,null,null,null,null,null,null,"선택안함",0,{"$f":"IF(MAX('3-3 위험성평가'!$A$4:$A$470)+1>E393,VLOOKUP(E393,'3-3 위험성평가'!$A$5:$Q$470,17,0),\"\")","v":""},"선택",{"$f":"표지!$D$33","v":"시원건설"},{"$f":"표지!$E$34","v":"김길동4"},"선택안함",0]
["T40",4,{"$f":"\"S\"&D394&IF(OR(AD394=\"선택\",AD394=1),1,0)","v":"S40"},4,386,{"$f":"IF(MAX('3-3 위험성평가'!$A$4:$A$470)+1>E394,VLOOKUP(E394,'3-3 위험성평가'!$A$5:$P$470,2,0),\"\")","v":""},{"$f":"IF(F394=\"\",\"\",VLOOKUP(VALUE(F394),'1-1 사업장 공정 정보'!$D$15:$P$32,5,0))","v":""},{"$f":"IF(MAX('3-3 위험성평가'!$A$4:$A$470)+1>E394,VLOOKUP(E394,'3-3 위험성평가'!$A$5:$P$470,3,0),\"\")","v":""},{"$f":"IF(MAX('3-3 위험성평가'!$A$4:$A$470)+1>E394,VLOOKUP(E394,'3-3 위험성평가'!$A$5:$P$470,4,0),\"\")","v":""},{"$f":"IF(MAX('3-3 위험성평가'!$A$4:$A$470)+1>E394,VLOOKUP(E394,'3-3 위험성평가'!$A$5:$P$470,5,0),\"\")","v":""},{"$f":"IF(MAX('3-3 위험성평가'!$A$4:$A$470)+1>E394,VLOOKUP(E394,'3-3 위험성평가'!$A$5:$P$470,6,0),\"\")","v":""},{"$f":"IF(MAX('3-3 위험성평가'!$A$4:$A$470)+1>E394,VLOOKUP(E394,'3-3 위험성평가'!$A$5:$P$470,9,0),\"\")","v":""},{"$f":"IF(MAX('3-3 위험성평가'!$A$4:$A$536)+1>E394,VLOOKUP(E394,'3-3 위험성평가'!$A$5:$P$536,12,0),\"\")&IF(L394>\"\",\".\"&E394,\"\")","v":""},{"$f":"IF(MAX('3-3 위험성평가'!$A$4:$A$470)+1>E394,VLOOKUP(E394,'3-3 위험성평가'!$A$5:$P$470,13,0),\"\")","v":""},null,"하",null,null,null,null,null,null,null,"선택안함",{"$f":"IF(OR(X394=\"선택\",X394=1),1,0)","v":0},{"$f":"IF(MAX('3-3 위험성평가'!$A$4:$A$470)+1>E394,VLOOKUP(E394,'3-3 위험성평가'!$A$5:$Q$470,17,0),\"\")","v":""},"선택",{"$f":"표지!$D$33","v":"시원건설"},{"$f":"표지!$E$34","v":"김길동4"},"선택안함",{"$f":"IF(OR(AD394=\"선택\",AD394=1),1,0)","v":0}]
["T40",4,"S40",4,387,{"$f":"IF(MAX('3-3 위험성평가'!$A$4:$A$470)+1>E395,VLOOKUP(E395,'3-3 위험성평가'!$A$5:$P$470,2,0),\"\")","v":""},{"$f":"IF(F395=\"\",\"\",VLOOKUP(VALUE(F395),'1-1 사업장 공정 정보'!$D$15:$P$32,5,0))","v":""},{"$f":"IF(MAX('3-3 위험성평가'!$A$4:$A$470)+1>E395,VLOOKUP(E395,'3-3 위험성평가'!$A$5:$P$470,3,0),\"\")","v":""},{"$f":"IF(MAX('3-3 위험성평가'!$A$4:$A$470)+1>E395,VLOOKUP(E395,'3-3 위험성평가'!$A$5:$P$470,4,0),\"\")","v":""},{"$f":"IF(MAX('3-3 위험성평가'!$A$4:$A$470)+1>E395,VLOOKUP(E395,'3-3 위험성평가'!$A$5:$P$470,5,0),\"\")","v":""},{"$f":"IF(MAX('3-3 위험성평가'!$A$4:$A$470)+1>E395,VLOOKUP(E395,'3-3 위험성평가'!$A$5:$P$470,6,0),\"\")","v":""},{"$f":"IF(MAX('3-3 위험성평가'!$A$4:$A$470)+1>E395,VLOOKUP(E395,'3-3 위험성평가'!$A$5:$P$470,9,0),\"\")","v":""},{"$f":"IF(MAX('3-3 위험성평가'!$A$4:$A$536)+1>E395,VLOOKUP(E395,'3-3 위험성평가'!$A$5:$P$536,12,0),\"\")&IF(L395>\"\",\".\"&E395,\"\")","v":""},{"$f":"IF(MAX('3-3 위험성평가'!$A$4:$A$470)+1>E395,VLOOKUP(E395,'3-3 위험성평가'!$A$5:$P$470,13,0),\"\")","v":""},null,"하",null,null,null,null,null,null,null,"선택안함",0,{"$f":"IF(MAX('3-3 위험성평가'!$A$4:$A$470)+1>E395,VLOOKUP(E395,'3-3 위험성평가'!$A$5:$Q$470,17,0),\"\")","v":""},"선택",{"$f":"표지!$D$33","v":"시원건설"},{"$f":"표지!$E$34","v":"김길동4"},"선택안함",0]
["T40",4,"S40",{"$f":"D395+AE396","v":4},388,{"$f":"IF(MAX('3-3 위험성평가'!$A$4:$A$470)+1>E396,VLOOKUP(E396,'3-3 위험성평가'!$A$5:$P$470,2,0),\"\")","v":""},{"$f":"IF(F396=\"\",\"\",VLOOKUP(VALUE(F396),'1-1 사업장 공정 정보'!$D$15:$P$32,5,0))","v":""},{"$f":"IF(MAX('3-3 위험성평가'!$A$4:$A$470)+1>E396,VLOOKUP(E396,'3-3 위험성평가'!$A$5:$P$470,3,0),\"\")","v":""},{"$f":"IF(MAX('3-3 위험성평가'!$A$4:$A$470)+1>E396,VLOOKUP(E396,'3-3 위험성평가'!$A$5:$P$470,4,0),\"\")","v":""},{"$f":"IF(MAX('3-3 위험성평가'!$A$4:$A$470)+1>E396,VLOOKUP(E396,'3-3 위험성평가'!$A$5:$P$470,5,0),\"\")","v":""},{"$f":"IF(MAX('3-3 위험성평가'!$A$4:$A$470)+1>E396,VLOOKUP(E396,'3-3 위험성평가'!$A$5:$P$470,6,0),\"\")","v":""},{"$f":"IF(MAX('3-3 위험성평가'!$A$4:$A$470)+1>E396,VLOOKUP(E396,'3-3 위험성평가'!$A$5:$P$470,9,0),\"\")","v":""},{"$f":"IF(MAX('3-3 위험성평가'!$A$4:$A$536)+1>E396,VLOOKUP(E396,'3-3 위험성평가'!$A$5:$P$536,12,0),\"\")&IF(L396>\"\",\".\"&E396,\"\")","v":""},{"$f":"IF(MAX('3-3 위험성평가'!$A$4:$A$470)+1>E396,VLOOKUP(E396,'3-3 위험성평가'!$A$5:$P$470,13,0),\"\")","v":""},null,"하",null,null,null,null,null,null,null,"선택안함",0,{"$f":"IF(MAX('3-3 위험성평가'!$A$4:$A$470)+1>E396,VLOOKUP(E396,'3-3 위험성평가'!$A$5:$Q$470,17,0),\"\")","v":""},"선택",{"$f":"표지!$D$33","v":"시원건설"},{"$f":"표지!$E$34","v":"김길동4"},"선택안함",0]
["T40",4,"S40",4,389,{"$f":"IF(MAX('3-3 위험성평가'!$A$4:$A$470)+1>E397,VLOOKUP(E397,'3-3 위험성평가'!$A$5:$P$470,2,0),\"\")","v":""},{"$f":"IF(F397=\"\",\"\",VLOOKUP(VALUE(F397),'1-1 사업장 공정 정보'!$D$15:$P$32,5,0))","v":""},{"$f":"IF(MAX('3-3 위험성평가'!$A$4:$A$470)+1>E397,VLOOKUP(E397,'3-3 위험성평가'!$A$5:$P$470,3,0),\"\")","v":""},{"$f":"IF(MAX('3-3 위험성평가'!$A$4:$A$470)+1>E397,VLOOKUP(E397,'3-3 위험성평가'!$A$5:$P$470,4,0),\"\")","v":""},{"$f":"IF(MAX('3-3 위험성평가'!$A$4:$A$470)+1>E397,VLOOKUP(E397,'3-3 위험성평가'!$A$5:$P$470,5,0),\"\")","v":""},{"$f":"IF(MAX('3-3 위험성평가'!$A$4:$A$470)+1>E397,VLOOKUP(E397,'3-3 위험성평가'!$A$5:$P$470,6,0),\"\")","v":""},{"$f":"IF(MAX('3-3 위험성평가'!$A$4:$A$470)+1>E397,VLOOKUP(E397,'3-3 위험성평가'!$A$5:$P$470,9,0),\"\")","v":""},{"$f":"IF(MAX('3-3 위험성평가'!$A$4:$A$536)+1>E397,VLOOKUP(E397,'3-3 위험성평가'!$A$5:$P$536,12,0),\"\")&IF(L397>\"\",\".\"&E397,\"\")","v":""},{"$f":"IF(MAX('3-3 위험성평가'!$A$4:$A$470)+1>E397,VLOOKUP(E397,'3-3 위험성평가'!$A$5:$P$470,13,0),\"\")","v":""},null,"하",null,null,null,null,null,null,null,"선택안함",0,{"$f":"IF(MAX('3-3 위험성평가'!$A$4:$A$470)+1>E397,VLOOKUP(E397,'3-3 위험성평가'!$A$5:$Q$470,17,0),\"\")","v":""},"선택",{"$f":"표지!$D$33","v":"시원건설"},{"$f":"표지!$E$34","v":"김길동4"},"선택안함",0]
["T40",4,"S40",4,390,{"$f":"IF(MAX('3-3 위험성평가'!$A$4:$A$470)+1>E398,VLOOKUP(E398,'3-3 위험성평가'!$A$5:$P$470,2,0),\"\")","v":""},{"$f":"IF(F398=\"\",\"\",VLOOKUP(VALUE(F398),'1-1 사업장 공정 정보'!$D$15:$P$32,5,0))","v":""},{"$f":"IF(MAX('3-3 위험성평가'!$A$4:$A$470)+1>E398,VLOOKUP(E398,'3-3 위험성평가'!$A$5:$P$470,3,0),\"\")","v":""},{"$f":"IF(MAX('3-3 위험성평가'!$A$4:$A$470)+1>E398,VLOOKUP(E398,'3-3 위험성평가'!$A$5:$P$470,4,0),\"\")","v":""},{"$f":"IF(MAX('3-3 위험성평가'!$A$4:$A$470)+1>E398,VLOOKUP(E398,'3-3 위험성평가'!$A$5:$P$470,5,0),\"\")","v":""},{"$f":"IF(MAX('3-3 위험성평가'!$A$4:$A$470)+1>E398,VLOOKUP(E398,'3-3 위험성평가'!$A$5:$P$470,6,0),\"\")","v":""},{"$f":"IF(MAX('3-3 위험성평가'!$A$4:$A$470)+1>E398,VLOOKUP(E398,'3-3 위험성평가'!$A$5:$P$470,9,0),\"\")","v":""},{"$f":"IF(MAX('3-3 위험성평가'!$A$4:$A$536)+1>E398,VLOOKUP(E398,'3-3 위험성평가'!$A$5:$P$536,12,0),\"\")&IF(L398>\"\",\".\"&E398,\"\")","v":""},{"$f":"IF(MAX('3-3 위험성평가'!$A$4:$A$470)+1>E398,VLOOKUP(E398,'3-3 위험성평가'!$A$5:$P$470,13,0),\"\")","v":""},null,"하",null,null,null,null,null,null,null,"선택안함",0,{"$f":"IF(MAX('3-3 위험성평가'!$A$4:$A$470)+1>E398,VLOOKUP(E398,'3-3 위험성평가'!$A$5:$Q$470,17,0),\"\")","v":""},"선택",{"$f":"표지!$D$33","v":"시원건설"},{"$f":"표지!$E$34","v":"김길동4"},"선택안함",0]
["T40",4,"S40",4,391,{"$f":"IF(MAX('3-3 위험성평가'!$A$4:$A$470)+1>E399,VLOOKUP(E399,'3-3 위험성평가'!$A$5:$P$470,2,0),\"\")","v":""},{"$f":"IF(F399=\"\",\"\",VLOOKUP(VALUE(F399),'1-1 사업장 공정 정보'!$D$15:$P$32,5,0))","v":""},{"$f":"IF(MAX('3-3 위험성평가'!$A$4:$A$470)+1>E399,VLOOKUP(E399,'3-3 위험성평가'!$A$5:$P$470,3,0),\"\")","v":""},{"$f":"IF(MAX('3-3 위험성평가'!$A$4:$A$470)+1>E399,VLOOKUP(E399,'3-3 위험성평가'!$A$5:$P$470,4,0),\"\")","v":""},{"$f":"IF(MAX('3-3 위험성평가'!$A$4:$A$470)+1>E399,VLOOKUP(E399,'3-3 위험성평가'!$A$5:$P$470,5,0),\"\")","v":""},{"$f":"IF(MAX('3-3 위험성평가'!$A$4:$A$470)+1>E399,VLOOKUP(E399,'3-3 위험성평가'!$A$5:$P$470,6,0),\"\")","v":""},{"$f":"IF(MAX('3-3 위험성평가'!$A$4:$A$470)+1>E399,VLOOKUP(E399,'3-3 위험성평가'!$A$5:$P$470,9,0),\"\")","v":""},{"$f":"IF(MAX('3-3 위험성평가'!$A$4:$A$536)+1>E399,VLOOKUP(E399,'3-3 위험성평가'!$A$5:$P$536,12,0),\"\")&IF(L399>\"\",\".\"&E399,\"\")","v":""},{"$f":"IF(MAX('3-3 위험성평가'!$A$4:$A$470)+1>E399,VLOOKUP(E399,'3-3 위험성평가'!$A$5:$P$470,13,0),\"\")","v":""},null,"하",null,null,null,null,null,null,null,"선택안함",0,{"$f":"IF(MAX('3-3 위험성평가'!$A$4:$A$470)+1>E399,VLOOKUP(E399,'3-3 위험성평가'!$A$5:$Q$470,17,0),\"\")","v":""},"선택",{"$f":"표지!$D$33","v":"시원건설"},{"$f":"표지!$E$34","v":"김길동4"},"선택안함",0]
["T40",4,"S40",4,392,{"$f":"IF(MAX('3-3 위험성평가'!$A$4:$A$470)+1>E400,VLOOKUP(E400,'3-3 위험성평가'!$A$5:$P$470,2,0),\"\")","v":""},{"$f":"IF(F400=\"\",\"\",VLOOKUP(VALUE(F400),'1-1 사업장 공정 정보'!$D$15:$P$32,5,0))","v":""},{"$f":"IF(MAX('3-3 위험성평가'!$A$4:$A$470)+1>E400,VLOOKUP(E400,'3-3 위험성평가'!$A$5:$P$470,3,0),\"\")","v":""},{"$f":"IF(MAX('3-3 위험성평가'!$A$4:$A$470)+1>E400,VLOOKUP(E400,'3-3 위험성평가'!$A$5:$P$470,4,0),\"\")","v":""},{"$f":"IF(MAX('3-3 위험성평가'!$A$4:$A$470)+1>E400,VLOOKUP(E400,'3-3 위험성평가'!$A$5:$P$470,5,0),\"\")","v":""},{"$f":"IF(MAX('3-3 위험성평가'!$A$4:$A$470)+1>E400,VLOOKUP(E400,'3-3 위험성평가'!$A$5:$P$470,6,0),\"\")","v":""},{"$f":"IF(MAX('3-3 위험성평가'!$A$4:$A$470)+1>E400,VLOOKUP(E400,'3-3 위험성평가'!$A$5:$P$470,9,0),\"\")","v":""},{"$f":"IF(MAX('3-3 위험성평가'!$A$4:$A$536)+1>E400,VLOOKUP(E400,'3-3 위험성평가'!$A$5:$P$536,12,0),\"\")&IF(L400>\"\",\".\"&E400,\"\")","v":""},{"$f":"IF(MAX('3-3 위험성평가'!$A$4:$A$470)+1>E400,VLOOKUP(E400,'3-3 위험성평가'!$A$5:$P$470,13,0),\"\")","v":""},null,"하",null,null,null,null,null,null,null,"선택안함",0,{"$f":"IF(MAX('3-3 위험성평가'!$A$4:$A$470)+1>E400,VLOOKUP(E400,'3-3 위험성평가'!$A$5:$Q$470,17,0),\"\")","v":""},"선택",{"$f":"표지!$D$33","v":"시원건설"},{"$f":"표지!$E$34","v":"김길동4"},"선택안함",0]
["T40",4,"S40",4,393,{"$f":"IF(MAX('3-3 위험성평가'!$A$4:$A$470)+1>E401,VLOOKUP(E401,'3-3 위험성평가'!$A$5:$P$470,2,0),\"\")","v":""},{"$f":"IF(F401=\"\",\"\",VLOOKUP(VALUE(F401),'1-1 사업장 공정 정보'!$D$15:$P$32,5,0))","v":""},{"$f":"IF(MAX('3-3 위험성평가'!$A$4:$A$470)+1>E401,VLOOKUP(E401,'3-3 위험성평가'!$A$5:$P$470,3,0),\"\")","v":""},{"$f":"IF(MAX('3-3 위험성평가'!$A$4:$A$470)+1>E401,VLOOKUP(E401,'3-3 위험성평가'!$A$5:$P$470,4,0),\"\")","v":""},{"$f":"IF(MAX('3-3 위험성평가'!$A$4:$A$470)+1>E401,VLOOKUP(E401,'3-3 위험성평가'!$A$5:$P$470,5,0),\"\")","v":""},{"$f":"IF(MAX('3-3 위험성평가'!$A$4:$A$470)+1>E401,VLOOKUP(E401,'3-3 위험성평가'!$A$5:$P$470,6,0),\"\")","v":""},{"$f":"IF(MAX('3-3 위험성평가'!$A$4:$A$470)+1>E401,VLOOKUP(E401,'3-3 위험성평가'!$A$5:$P$470,9,0),\"\")","v":""},{"$f":"IF(MAX('3-3 위험성평가'!$A$4:$A$536)+1>E401,VLOOKUP(E401,'3-3 위험성평가'!$A$5:$P$536,12,0),\"\")&IF(L401>\"\",\".\"&E401,\"\")","v":""},{"$f":"IF(MAX('3-3 위험성평가'!$A$4:$A$470)+1>E401,VLOOKUP(E401,'3-3 위험성평가'!$A$5:$P$470,13,0),\"\")","v":""},null,"하",null,null,null,null,null,null,null,"선택안함",0,{"$f":"IF(MAX('3-3 위험성평가'!$A$4:$A$470)+1>E401,VLOOKUP(E401,'3-3 위험성평가'!$A$5:$Q$470,17,0),\"\")","v":""},"선택",{"$f":"표지!$D$33","v":"시원건설"},{"$f":"표지!$E$34","v":"김길동4"},"선택안함",0]
["T40",4,"S40",4,394,{"$f":"IF(MAX('3-3 위험성평가'!$A$4:$A$470)+1>E402,VLOOKUP(E402,'3-3 위험성평가'!$A$5:$P$470,2,0),\"\")","v":""},{"$f":"IF(F402=\"\",\"\",VLOOKUP(VALUE(F402),'1-1 사업장 공정 정보'!$D$15:$P$32,5,0))","v":""},{"$f":"IF(MAX('3-3 위험성평가'!$A$4:$A$470)+1>E402,VLOOKUP(E402,'3-3 위험성평가'!$A$5:$P$470,3,0),\"\")","v":""},{"$f":"IF(MAX('3-3 위험성평가'!$A$4:$A$470)+1>E402,VLOOKUP(E402,'3-3 위험성평가'!$A$5:$P$470,4,0),\"\")","v":""},{"$f":"IF(MAX('3-3 위험성평가'!$A$4:$A$470)+1>E402,VLOOKUP(E402,'3-3 위험성평가'!$A$5:$P$470,5,0),\"\")","v":""},{"$f":"IF(MAX('3-3 위험성평가'!$A$4:$A$470)+1>E402,VLOOKUP(E402,'3-3 위험성평가'!$A$5:$P$470,6,0),\"\")","v":""},{"$f":"IF(MAX('3-3 위험성평가'!$A$4:$A$470)+1>E402,VLOOKUP(E402,'3-3 위험성평가'!$A$5:$P$470,9,0),\"\")","v":""},{"$f":"IF(MAX('3-3 위험성평가'!$A$4:$A$536)+1>E402,VLOOKUP(E402,'3-3 위험성평가'!$A$5:$P$536,12,0),\"\")&IF(L402>\"\",\".\"&E402,\"\")","v":""},{"$f":"IF(MAX('3-3 위험성평가'!$A$4:$A$470)+1>E402,VLOOKUP(E402,'3-3 위험성평가'!$A$5:$P$470,13,0),\"\")","v":""},null,"하",null,null,null,null,null,null,null,"선택안함",0,{"$f":"IF(MAX('3-3 위험성평가'!$A$4:$A$470)+1>E402,VLOOKUP(E402,'3-3 위험성평가'!$A$5:$Q$470,17,0),\"\")","v":""},"선택",{"$f":"표지!$D$33","v":"시원건설"},{"$f":"표지!$E$34","v":"김길동4"},"선택안함",0]
["T40",4,"S40",4,395,{"$f":"IF(MAX('3-3 위험성평가'!$A$4:$A$470)+1>E403,VLOOKUP(E403,'3-3 위험성평가'!$A$5:$P$470,2,0),\"\")","v":""},{"$f":"IF(F403=\"\",\"\",VLOOKUP(VALUE(F403),'1-1 사업장 공정 정보'!$D$15:$P$32,5,0))","v":""},{"$f":"IF(MAX('3-3 위험성평가'!$A$4:$A$470)+1>E403,VLOOKUP(E403,'3-3 위험성평가'!$A$5:$P$470,3,0),\"\")","v":""},{"$f":"IF(MAX('3-3 위험성평가'!$A$4:$A$470)+1>E403,VLOOKUP(E403,'3-3 위험성평가'!$A$5:$P$470,4,0),\"\")","v":""},{"$f":"IF(MAX('3-3 위험성평가'!$A$4:$A$470)+1>E403,VLOOKUP(E403,'3-3 위험성평가'!$A$5:$P$470,5,0),\"\")","v":""},{"$f":"IF(MAX('3-3 위험성평가'!$A$4:$A$470)+1>E403,VLOOKUP(E403,'3-3 위험성평가'!$A$5:$P$470,6,0),\"\")","v":""},{"$f":"IF(MAX('3-3 위험성평가'!$A$4:$A$470)+1>E403,VLOOKUP(E403,'3-3 위험성평가'!$A$5:$P$470,9,0),\"\")","v":""},{"$f":"IF(MAX('3-3 위험성평가'!$A$4:$A$536)+1>E403,VLOOKUP(E403,'3-3 위험성평가'!$A$5:$P$536,12,0),\"\")&IF(L403>\"\",\".\"&E403,\"\")","v":""},{"$f":"IF(MAX('3-3 위험성평가'!$A$4:$A$470)+1>E403,VLOOKUP(E403,'3-3 위험성평가'!$A$5:$P$470,13,0),\"\")","v":""},null,"하",null,null,null,null,null,null,null,"선택안함",0,{"$f":"IF(MAX('3-3 위험성평가'!$A$4:$A$470)+1>E403,VLOOKUP(E403,'3-3 위험성평가'!$A$5:$Q$470,17,0),\"\")","v":""},"선택",{"$f":"표지!$D$33","v":"시원건설"},{"$f":"표지!$E$34","v":"김길동4"},"선택안함",0]
["T40",4,"S40",4,396,{"$f":"IF(MAX('3-3 위험성평가'!$A$4:$A$470)+1>E404,VLOOKUP(E404,'3-3 위험성평가'!$A$5:$P$470,2,0),\"\")","v":""},{"$f":"IF(F404=\"\",\"\",VLOOKUP(VALUE(F404),'1-1 사업장 공정 정보'!$D$15:$P$32,5,0))","v":""},{"$f":"IF(MAX('3-3 위험성평가'!$A$4:$A$470)+1>E404,VLOOKUP(E404,'3-3 위험성평가'!$A$5:$P$470,3,0),\"\")","v":""},{"$f":"IF(MAX('3-3 위험성평가'!$A$4:$A$470)+1>E404,VLOOKUP(E404,'3-3 위험성평가'!$A$5:$P$470,4,0),\"\")","v":""},{"$f":"IF(MAX('3-3 위험성평가'!$A$4:$A$470)+1>E404,VLOOKUP(E404,'3-3 위험성평가'!$A$5:$P$470,5,0),\"\")","v":""},{"$f":"IF(MAX('3-3 위험성평가'!$A$4:$A$470)+1>E404,VLOOKUP(E404,'3-3 위험성평가'!$A$5:$P$470,6,0),\"\")","v":""},{"$f":"IF(MAX('3-3 위험성평가'!$A$4:$A$470)+1>E404,VLOOKUP(E404,'3-3 위험성평가'!$A$5:$P$470,9,0),\"\")","v":""},{"$f":"IF(MAX('3-3 위험성평가'!$A$4:$A$536)+1>E404,VLOOKUP(E404,'3-3 위험성평가'!$A$5:$P$536,12,0),\"\")&IF(L404>\"\",\".\"&E404,\"\")","v":""},{"$f":"IF(MAX('3-3 위험성평가'!$A$4:$A$470)+1>E404,VLOOKUP(E404,'3-3 위험성평가'!$A$5:$P$470,13,0),\"\")","v":""},null,"하",null,null,null,null,null,null,null,"선택안함",0,{"$f":"IF(MAX('3-3 위험성평가'!$A$4:$A$470)+1>E404,VLOOKUP(E404,'3-3 위험성평가'!$A$5:$Q$470,17,0),\"\")","v":""},"선택",{"$f":"표지!$D$33","v":"시원건설"},{"$f":"표지!$E$34","v":"김길동4"},"선택안함",0]
["T40",4,"S40",4,397,{"$f":"IF(MAX('3-3 위험성평가'!$A$4:$A$470)+1>E405,VLOOKUP(E405,'3-3 위험성평가'!$A$5:$P$470,2,0),\"\")","v":""},{"$f":"IF(F405=\"\",\"\",VLOOKUP(VALUE(F405),'1-1 사업장 공정 정보'!$D$15:$P$32,5,0))","v":""},{"$f":"IF(MAX('3-3 위험성평가'!$A$4:$A$470)+1>E405,VLOOKUP(E405,'3-3 위험성평가'!$A$5:$P$470,3,0),\"\")","v":""},{"$f":"IF(MAX('3-3 위험성평가'!$A$4:$A$470)+1>E405,VLOOKUP(E405,'3-3 위험성평가'!$A$5:$P$470,4,0),\"\")","v":""},{"$f":"IF(MAX('3-3 위험성평가'!$A$4:$A$470)+1>E405,VLOOKUP(E405,'3-3 위험성평가'!$A$5:$P$470,5,0),\"\")","v":""},{"$f":"IF(MAX('3-3 위험성평가'!$A$4:$A$470)+1>E405,VLOOKUP(E405,'3-3 위험성평가'!$A$5:$P$470,6,0),\"\")","v":""},{"$f":"IF(MAX('3-3 위험성평가'!$A$4:$A$470)+1>E405,VLOOKUP(E405,'3-3 위험성평가'!$A$5:$P$470,9,0),\"\")","v":""},{"$f":"IF(MAX('3-3 위험성평가'!$A$4:$A$536)+1>E405,VLOOKUP(E405,'3-3 위험성평가'!$A$5:$P$536,12,0),\"\")&IF(L405>\"\",\".\"&E405,\"\")","v":""},{"$f":"IF(MAX('3-3 위험성평가'!$A$4:$A$470)+1>E405,VLOOKUP(E405,'3-3 위험성평가'!$A$5:$P$470,13,0),\"\")","v":""},null,"하",null,null,null,null,null,null,null,"선택안함",0,{"$f":"IF(MAX('3-3 위험성평가'!$A$4:$A$470)+1>E405,VLOOKUP(E405,'3-3 위험성평가'!$A$5:$Q$470,17,0),\"\")","v":""},"선택",{"$f":"표지!$D$33","v":"시원건설"},{"$f":"표지!$E$34","v":"김길동4"},"선택안함",0]
["T40",4,"S40",4,398,{"$f":"IF(MAX('3-3 위험성평가'!$A$4:$A$470)+1>E406,VLOOKUP(E406,'3-3 위험성평가'!$A$5:$P$470,2,0),\"\")","v":""},{"$f":"IF(F406=\"\",\"\",VLOOKUP(VALUE(F406),'1-1 사업장 공정 정보'!$D$15:$P$32,5,0))","v":""},{"$f":"IF(MAX('3-3 위험성평가'!$A$4:$A$470)+1>E406,VLOOKUP(E406,'3-3 위험성평가'!$A$5:$P$470,3,0),\"\")","v":""},{"$f":"IF(MAX('3-3 위험성평가'!$A$4:$A$470)+1>E406,VLOOKUP(E406,'3-3 위험성평가'!$A$5:$P$470,4,0),\"\")","v":""},{"$f":"IF(MAX('3-3 위험성평가'!$A$4:$A$470)+1>E406,VLOOKUP(E406,'3-3 위험성평가'!$A$5:$P$470,5,0),\"\")","v":""},{"$f":"IF(MAX('3-3 위험성평가'!$A$4:$A$470)+1>E406,VLOOKUP(E406,'3-3 위험성평가'!$A$5:$P$470,6,0),\"\")","v":""},{"$f":"IF(MAX('3-3 위험성평가'!$A$4:$A$470)+1>E406,VLOOKUP(E406,'3-3 위험성평가'!$A$5:$P$470,9,0),\"\")","v":""},{"$f":"IF(MAX('3-3 위험성평가'!$A$4:$A$536)+1>E406,VLOOKUP(E406,'3-3 위험성평가'!$A$5:$P$536,12,0),\"\")&IF(L406>\"\",\".\"&E406,\"\")","v":""},{"$f":"IF(MAX('3-3 위험성평가'!$A$4:$A$470)+1>E406,VLOOKUP(E406,'3-3 위험성평가'!$A$5:$P$470,13,0),\"\")","v":""},null,"하",null,null,null,null,null,null,null,"선택안함",0,{"$f":"IF(MAX('3-3 위험성평가'!$A$4:$A$470)+1>E406,VLOOKUP(E406,'3-3 위험성평가'!$A$5:$Q$470,17,0),\"\")","v":""},"선택",{"$f":"표지!$D$33","v":"시원건설"},{"$f":"표지!$E$34","v":"김길동4"},"선택안함",0]
["T40",4,"S40",4,399,{"$f":"IF(MAX('3-3 위험성평가'!$A$4:$A$470)+1>E407,VLOOKUP(E407,'3-3 위험성평가'!$A$5:$P$470,2,0),\"\")","v":""},{"$f":"IF(F407=\"\",\"\",VLOOKUP(VALUE(F407),'1-1 사업장 공정 정보'!$D$15:$P$32,5,0))","v":""},{"$f":"IF(MAX('3-3 위험성평가'!$A$4:$A$470)+1>E407,VLOOKUP(E407,'3-3 위험성평가'!$A$5:$P$470,3,0),\"\")","v":""},{"$f":"IF(MAX('3-3 위험성평가'!$A$4:$A$470)+1>E407,VLOOKUP(E407,'3-3 위험성평가'!$A$5:$P$470,4,0),\"\")","v":""},{"$f":"IF(MAX('3-3 위험성평가'!$A$4:$A$470)+1>E407,VLOOKUP(E407,'3-3 위험성평가'!$A$5:$P$470,5,0),\"\")","v":""},{"$f":"IF(MAX('3-3 위험성평가'!$A$4:$A$470)+1>E407,VLOOKUP(E407,'3-3 위험성평가'!$A$5:$P$470,6,0),\"\")","v":""},{"$f":"IF(MAX('3-3 위험성평가'!$A$4:$A$470)+1>E407,VLOOKUP(E407,'3-3 위험성평가'!$A$5:$P$470,9,0),\"\")","v":""},{"$f":"IF(MAX('3-3 위험성평가'!$A$4:$A$536)+1>E407,VLOOKUP(E407,'3-3 위험성평가'!$A$5:$P$536,12,0),\"\")&IF(L407>\"\",\".\"&E407,\"\")","v":""},{"$f":"IF(MAX('3-3 위험성평가'!$A$4:$A$470)+1>E407,VLOOKUP(E407,'3-3 위험성평가'!$A$5:$P$470,13,0),\"\")","v":""},null,"하",null,null,null,null,null,null,null,"선택안함",0,{"$f":"IF(MAX('3-3 위험성평가'!$A$4:$A$470)+1>E407,VLOOKUP(E407,'3-3 위험성평가'!$A$5:$Q$470,17,0),\"\")","v":""},"선택",{"$f":"표지!$D$33","v":"시원건설"},{"$f":"표지!$E$34","v":"김길동4"},"선택안함",0]
["T40",4,"S40",4,400,{"$f":"IF(MAX('3-3 위험성평가'!$A$4:$A$470)+1>E408,VLOOKUP(E408,'3-3 위험성평가'!$A$5:$P$470,2,0),\"\")","v":""},{"$f":"IF(F408=\"\",\"\",VLOOKUP(VALUE(F408),'1-1 사업장 공정 정보'!$D$15:$P$32,5,0))","v":""},{"$f":"IF(MAX('3-3 위험성평가'!$A$4:$A$470)+1>E408,VLOOKUP(E408,'3-3 위험성평가'!$A$5:$P$470,3,0),\"\")","v":""},{"$f":"IF(MAX('3-3 위험성평가'!$A$4:$A$470)+1>E408,VLOOKUP(E408,'3-3 위험성평가'!$A$5:$P$470,4,0),\"\")","v":""},{"$f":"IF(MAX('3-3 위험성평가'!$A$4:$A$470)+1>E408,VLOOKUP(E408,'3-3 위험성평가'!$A$5:$P$470,5,0),\"\")","v":""},{"$f":"IF(MAX('3-3 위험성평가'!$A$4:$A$470)+1>E408,VLOOKUP(E408,'3-3 위험성평가'!$A$5:$P$470,6,0),\"\")","v":""},{"$f":"IF(MAX('3-3 위험성평가'!$A$4:$A$470)+1>E408,VLOOKUP(E408,'3-3 위험성평가'!$A$5:$P$470,9,0),\"\")","v":""},{"$f":"IF(MAX('3-3 위험성평가'!$A$4:$A$536)+1>E408,VLOOKUP(E408,'3-3 위험성평가'!$A$5:$P$536,12,0),\"\")&IF(L408>\"\",\".\"&E408,\"\")","v":""},{"$f":"IF(MAX('3-3 위험성평가'!$A$4:$A$470)+1>E408,VLOOKUP(E408,'3-3 위험성평가'!$A$5:$P$470,13,0),\"\")","v":""},null,"하",null,null,null,null,null,null,null,"선택안함",0,{"$f":"IF(MAX('3-3 위험성평가'!$A$4:$A$470)+1>E408,VLOOKUP(E408,'3-3 위험성평가'!$A$5:$Q$470,17,0),\"\")","v":""},"선택",{"$f":"표지!$D$33","v":"시원건설"},{"$f":"표지!$E$34","v":"김길동4"},"선택안함",0]
["T40",4,"S40",4,401,{"$f":"IF(MAX('3-3 위험성평가'!$A$4:$A$470)+1>E409,VLOOKUP(E409,'3-3 위험성평가'!$A$5:$P$470,2,0),\"\")","v":""},{"$f":"IF(F409=\"\",\"\",VLOOKUP(VALUE(F409),'1-1 사업장 공정 정보'!$D$15:$P$32,5,0))","v":""},{"$f":"IF(MAX('3-3 위험성평가'!$A$4:$A$470)+1>E409,VLOOKUP(E409,'3-3 위험성평가'!$A$5:$P$470,3,0),\"\")","v":""},{"$f":"IF(MAX('3-3 위험성평가'!$A$4:$A$470)+1>E409,VLOOKUP(E409,'3-3 위험성평가'!$A$5:$P$470,4,0),\"\")","v":""},{"$f":"IF(MAX('3-3 위험성평가'!$A$4:$A$470)+1>E409,VLOOKUP(E409,'3-3 위험성평가'!$A$5:$P$470,5,0),\"\")","v":""},{"$f":"IF(MAX('3-3 위험성평가'!$A$4:$A$470)+1>E409,VLOOKUP(E409,'3-3 위험성평가'!$A$5:$P$470,6,0),\"\")","v":""},{"$f":"IF(MAX('3-3 위험성평가'!$A$4:$A$470)+1>E409,VLOOKUP(E409,'3-3 위험성평가'!$A$5:$P$470,9,0),\"\")","v":""},{"$f":"IF(MAX('3-3 위험성평가'!$A$4:$A$536)+1>E409,VLOOKUP(E409,'3-3 위험성평가'!$A$5:$P$536,12,0),\"\")&IF(L409>\"\",\".\"&E409,\"\")","v":""},{"$f":"IF(MAX('3-3 위험성평가'!$A$4:$A$470)+1>E409,VLOOKUP(E409,'3-3 위험성평가'!$A$5:$P$470,13,0),\"\")","v":""},null,"하",null,null,null,null,null,null,null,"선택안함",0,{"$f":"IF(MAX('3-3 위험성평가'!$A$4:$A$470)+1>E409,VLOOKUP(E409,'3-3 위험성평가'!$A$5:$Q$470,17,0),\"\")","v":""},"선택",{"$f":"표지!$D$33","v":"시원건설"},{"$f":"표지!$E$34","v":"김길동4"},"선택안함",0]
["T40",{"$f":"B409+Y410","v":4},"S40",4,402,{"$f":"IF(MAX('3-3 위험성평가'!$A$4:$A$470)+1>E410,VLOOKUP(E410,'3-3 위험성평가'!$A$5:$P$470,2,0),\"\")","v":""},{"$f":"IF(F410=\"\",\"\",VLOOKUP(VALUE(F410),'1-1 사업장 공정 정보'!$D$15:$P$32,5,0))","v":""},{"$f":"IF(MAX('3-3 위험성평가'!$A$4:$A$470)+1>E410,VLOOKUP(E410,'3-3 위험성평가'!$A$5:$P$470,3,0),\"\")","v":""},{"$f":"IF(MAX('3-3 위험성평가'!$A$4:$A$470)+1>E410,VLOOKUP(E410,'3-3 위험성평가'!$A$5:$P$470,4,0),\"\")","v":""},{"$f":"IF(MAX('3-3 위험성평가'!$A$4:$A$470)+1>E410,VLOOKUP(E410,'3-3 위험성평가'!$A$5:$P$470,5,0),\"\")","v":""},{"$f":"IF(MAX('3-3 위험성평가'!$A$4:$A$470)+1>E410,VLOOKUP(E410,'3-3 위험성평가'!$A$5:$P$470,6,0),\"\")","v":""},{"$f":"IF(MAX('3-3 위험성평가'!$A$4:$A$470)+1>E410,VLOOKUP(E410,'3-3 위험성평가'!$A$5:$P$470,9,0),\"\")","v":""},{"$f":"IF(MAX('3-3 위험성평가'!$A$4:$A$536)+1>E410,VLOOKUP(E410,'3-3 위험성평가'!$A$5:$P$536,12,0),\"\")&IF(L410>\"\",\".\"&E410,\"\")","v":""},{"$f":"IF(MAX('3-3 위험성평가'!$A$4:$A$470)+1>E410,VLOOKUP(E410,'3-3 위험성평가'!$A$5:$P$470,13,0),\"\")","v":""},null,"하",null,null,null,null,null,null,null,"선택안함",0,{"$f":"IF(MAX('3-3 위험성평가'!$A$4:$A$470)+1>E410,VLOOKUP(E410,'3-3 위험성평가'!$A$5:$Q$470,17,0),\"\")","v":""},"선택",{"$f":"표지!$D$33","v":"시원건설"},{"$f":"표지!$E$34","v":"김길동4"},"선택안함",0]
["T40",4,"S40",4,403,{"$f":"IF(MAX('3-3 위험성평가'!$A$4:$A$470)+1>E411,VLOOKUP(E411,'3-3 위험성평가'!$A$5:$P$470,2,0),\"\")","v":""},{"$f":"IF(F411=\"\",\"\",VLOOKUP(VALUE(F411),'1-1 사업장 공정 정보'!$D$15:$P$32,5,0))","v":""},{"$f":"IF(MAX('3-3 위험성평가'!$A$4:$A$470)+1>E411,VLOOKUP(E411,'3-3 위험성평가'!$A$5:$P$470,3,0),\"\")","v":""},{"$f":"IF(MAX('3-3 위험성평가'!$A$4:$A$470)+1>E411,VLOOKUP(E411,'3-3 위험성평가'!$A$5:$P$470,4,0),\"\")","v":""},{"$f":"IF(MAX('3-3 위험성평가'!$A$4:$A$470)+1>E411,VLOOKUP(E411,'3-3 위험성평가'!$A$5:$P$470,5,0),\"\")","v":""},{"$f":"IF(MAX('3-3 위험성평가'!$A$4:$A$470)+1>E411,VLOOKUP(E411,'3-3 위험성평가'!$A$5:$P$470,6,0),\"\")","v":""},{"$f":"IF(MAX('3-3 위험성평가'!$A$4:$A$470)+1>E411,VLOOKUP(E411,'3-3 위험성평가'!$A$5:$P$470,9,0),\"\")","v":""},{"$f":"IF(MAX('3-3 위험성평가'!$A$4:$A$536)+1>E411,VLOOKUP(E411,'3-3 위험성평가'!$A$5:$P$536,12,0),\"\")&IF(L411>\"\",\".\"&E411,\"\")","v":""},{"$f":"IF(MAX('3-3 위험성평가'!$A$4:$A$470)+1>E411,VLOOKUP(E411,'3-3 위험성평가'!$A$5:$P$470,13,0),\"\")","v":""},null,"하",null,null,null,null,null,null,null,"선택안함",0,{"$f":"IF(MAX('3-3 위험성평가'!$A$4:$A$470)+1>E411,VLOOKUP(E411,'3-3 위험성평가'!$A$5:$Q$470,17,0),\"\")","v":""},"선택",{"$f":"표지!$D$33","v":"시원건설"},{"$f":"표지!$E$34","v":"김길동4"},"선택안함",0]
["T40",4,"S40",4,404,{"$f":"IF(MAX('3-3 위험성평가'!$A$4:$A$470)+1>E412,VLOOKUP(E412,'3-3 위험성평가'!$A$5:$P$470,2,0),\"\")","v":""},{"$f":"IF(F412=\"\",\"\",VLOOKUP(VALUE(F412),'1-1 사업장 공정 정보'!$D$15:$P$32,5,0))","v":""},{"$f":"IF(MAX('3-3 위험성평가'!$A$4:$A$470)+1>E412,VLOOKUP(E412,'3-3 위험성평가'!$A$5:$P$470,3,0),\"\")","v":""},{"$f":"IF(MAX('3-3 위험성평가'!$A$4:$A$470)+1>E412,VLOOKUP(E412,'3-3 위험성평가'!$A$5:$P$470,4,0),\"\")","v":""},{"$f":"IF(MAX('3-3 위험성평가'!$A$4:$A$470)+1>E412,VLOOKUP(E412,'3-3 위험성평가'!$A$5:$P$470,5,0),\"\")","v":""},{"$f":"IF(MAX('3-3 위험성평가'!$A$4:$A$470)+1>E412,VLOOKUP(E412,'3-3 위험성평가'!$A$5:$P$470,6,0),\"\")","v":""},{"$f":"IF(MAX('3-3 위험성평가'!$A$4:$A$470)+1>E412,VLOOKUP(E412,'3-3 위험성평가'!$A$5:$P$470,9,0),\"\")","v":""},{"$f":"IF(MAX('3-3 위험성평가'!$A$4:$A$536)+1>E412,VLOOKUP(E412,'3-3 위험성평가'!$A$5:$P$536,12,0),\"\")&IF(L412>\"\",\".\"&E412,\"\")","v":""},{"$f":"IF(MAX('3-3 위험성평가'!$A$4:$A$470)+1>E412,VLOOKUP(E412,'3-3 위험성평가'!$A$5:$P$470,13,0),\"\")","v":""},null,"하",null,null,null,null,null,null,null,"선택안함",0,{"$f":"IF(MAX('3-3 위험성평가'!$A$4:$A$470)+1>E412,VLOOKUP(E412,'3-3 위험성평가'!$A$5:$Q$470,17,0),\"\")","v":""},"선택",{"$f":"표지!$D$33","v":"시원건설"},{"$f":"표지!$E$34","v":"김길동4"},"선택안함",0]
["T40",4,"S40",4,405,{"$f":"IF(MAX('3-3 위험성평가'!$A$4:$A$470)+1>E413,VLOOKUP(E413,'3-3 위험성평가'!$A$5:$P$470,2,0),\"\")","v":""},{"$f":"IF(F413=\"\",\"\",VLOOKUP(VALUE(F413),'1-1 사업장 공정 정보'!$D$15:$P$32,5,0))","v":""},{"$f":"IF(MAX('3-3 위험성평가'!$A$4:$A$470)+1>E413,VLOOKUP(E413,'3-3 위험성평가'!$A$5:$P$470,3,0),\"\")","v":""},{"$f":"IF(MAX('3-3 위험성평가'!$A$4:$A$470)+1>E413,VLOOKUP(E413,'3-3 위험성평가'!$A$5:$P$470,4,0),\"\")","v":""},{"$f":"IF(MAX('3-3 위험성평가'!$A$4:$A$470)+1>E413,VLOOKUP(E413,'3-3 위험성평가'!$A$5:$P$470,5,0),\"\")","v":""},{"$f":"IF(MAX('3-3 위험성평가'!$A$4:$A$470)+1>E413,VLOOKUP(E413,'3-3 위험성평가'!$A$5:$P$470,6,0),\"\")","v":""},{"$f":"IF(MAX('3-3 위험성평가'!$A$4:$A$470)+1>E413,VLOOKUP(E413,'3-3 위험성평가'!$A$5:$P$470,9,0),\"\")","v":""},{"$f":"IF(MAX('3-3 위험성평가'!$A$4:$A$536)+1>E413,VLOOKUP(E413,'3-3 위험성평가'!$A$5:$P$536,12,0),\"\")&IF(L413>\"\",\".\"&E413,\"\")","v":""},{"$f":"IF(MAX('3-3 위험성평가'!$A$4:$A$470)+1>E413,VLOOKUP(E413,'3-3 위험성평가'!$A$5:$P$470,13,0),\"\")","v":""},null,"하",null,null,null,null,null,null,null,"선택안함",0,{"$f":"IF(MAX('3-3 위험성평가'!$A$4:$A$470)+1>E413,VLOOKUP(E413,'3-3 위험성평가'!$A$5:$Q$470,17,0),\"\")","v":""},"선택",{"$f":"표지!$D$33","v":"시원건설"},{"$f":"표지!$E$34","v":"김길동4"},"선택안함",0]
["T40",4,"S40",4,406,{"$f":"IF(MAX('3-3 위험성평가'!$A$4:$A$470)+1>E414,VLOOKUP(E414,'3-3 위험성평가'!$A$5:$P$470,2,0),\"\")","v":""},{"$f":"IF(F414=\"\",\"\",VLOOKUP(VALUE(F414),'1-1 사업장 공정 정보'!$D$15:$P$32,5,0))","v":""},{"$f":"IF(MAX('3-3 위험성평가'!$A$4:$A$470)+1>E414,VLOOKUP(E414,'3-3 위험성평가'!$A$5:$P$470,3,0),\"\")","v":""},{"$f":"IF(MAX('3-3 위험성평가'!$A$4:$A$470)+1>E414,VLOOKUP(E414,'3-3 위험성평가'!$A$5:$P$470,4,0),\"\")","v":""},{"$f":"IF(MAX('3-3 위험성평가'!$A$4:$A$470)+1>E414,VLOOKUP(E414,'3-3 위험성평가'!$A$5:$P$470,5,0),\"\")","v":""},{"$f":"IF(MAX('3-3 위험성평가'!$A$4:$A$470)+1>E414,VLOOKUP(E414,'3-3 위험성평가'!$A$5:$P$470,6,0),\"\")","v":""},{"$f":"IF(MAX('3-3 위험성평가'!$A$4:$A$470)+1>E414,VLOOKUP(E414,'3-3 위험성평가'!$A$5:$P$470,9,0),\"\")","v":""},{"$f":"IF(MAX('3-3 위험성평가'!$A$4:$A$536)+1>E414,VLOOKUP(E414,'3-3 위험성평가'!$A$5:$P$536,12,0),\"\")&IF(L414>\"\",\".\"&E414,\"\")","v":""},{"$f":"IF(MAX('3-3 위험성평가'!$A$4:$A$470)+1>E414,VLOOKUP(E414,'3-3 위험성평가'!$A$5:$P$470,13,0),\"\")","v":""},null,"하",null,null,null,null,null,null,null,"선택안함",0,{"$f":"IF(MAX('3-3 위험성평가'!$A$4:$A$470)+1>E414,VLOOKUP(E414,'3-3 위험성평가'!$A$5:$Q$470,17,0),\"\")","v":""},"선택",{"$f":"표지!$D$33","v":"시원건설"},{"$f":"표지!$E$34","v":"김길동4"},"선택안함",0]
["T40",4,"S40",4,407,{"$f":"IF(MAX('3-3 위험성평가'!$A$4:$A$470)+1>E415,VLOOKUP(E415,'3-3 위험성평가'!$A$5:$P$470,2,0),\"\")","v":""},{"$f":"IF(F415=\"\",\"\",VLOOKUP(VALUE(F415),'1-1 사업장 공정 정보'!$D$15:$P$32,5,0))","v":""},{"$f":"IF(MAX('3-3 위험성평가'!$A$4:$A$470)+1>E415,VLOOKUP(E415,'3-3 위험성평가'!$A$5:$P$470,3,0),\"\")","v":""},{"$f":"IF(MAX('3-3 위험성평가'!$A$4:$A$470)+1>E415,VLOOKUP(E415,'3-3 위험성평가'!$A$5:$P$470,4,0),\"\")","v":""},{"$f":"IF(MAX('3-3 위험성평가'!$A$4:$A$470)+1>E415,VLOOKUP(E415,'3-3 위험성평가'!$A$5:$P$470,5,0),\"\")","v":""},{"$f":"IF(MAX('3-3 위험성평가'!$A$4:$A$470)+1>E415,VLOOKUP(E415,'3-3 위험성평가'!$A$5:$P$470,6,0),\"\")","v":""},{"$f":"IF(MAX('3-3 위험성평가'!$A$4:$A$470)+1>E415,VLOOKUP(E415,'3-3 위험성평가'!$A$5:$P$470,9,0),\"\")","v":""},{"$f":"IF(MAX('3-3 위험성평가'!$A$4:$A$536)+1>E415,VLOOKUP(E415,'3-3 위험성평가'!$A$5:$P$536,12,0),\"\")&IF(L415>\"\",\".\"&E415,\"\")","v":""},{"$f":"IF(MAX('3-3 위험성평가'!$A$4:$A$470)+1>E415,VLOOKUP(E415,'3-3 위험성평가'!$A$5:$P$470,13,0),\"\")","v":""},null,"하",null,null,null,null,null,null,null,"선택안함",0,{"$f":"IF(MAX('3-3 위험성평가'!$A$4:$A$470)+1>E415,VLOOKUP(E415,'3-3 위험성평가'!$A$5:$Q$470,17,0),\"\")","v":""},"선택",{"$f":"표지!$D$33","v":"시원건설"},{"$f":"표지!$E$34","v":"김길동4"},"선택안함",0]
["T40",4,"S40",4,408,{"$f":"IF(MAX('3-3 위험성평가'!$A$4:$A$470)+1>E416,VLOOKUP(E416,'3-3 위험성평가'!$A$5:$P$470,2,0),\"\")","v":""},{"$f":"IF(F416=\"\",\"\",VLOOKUP(VALUE(F416),'1-1 사업장 공정 정보'!$D$15:$P$32,5,0))","v":""},{"$f":"IF(MAX('3-3 위험성평가'!$A$4:$A$470)+1>E416,VLOOKUP(E416,'3-3 위험성평가'!$A$5:$P$470,3,0),\"\")","v":""},{"$f":"IF(MAX('3-3 위험성평가'!$A$4:$A$470)+1>E416,VLOOKUP(E416,'3-3 위험성평가'!$A$5:$P$470,4,0),\"\")","v":""},{"$f":"IF(MAX('3-3 위험성평가'!$A$4:$A$470)+1>E416,VLOOKUP(E416,'3-3 위험성평가'!$A$5:$P$470,5,0),\"\")","v":""},{"$f":"IF(MAX('3-3 위험성평가'!$A$4:$A$470)+1>E416,VLOOKUP(E416,'3-3 위험성평가'!$A$5:$P$470,6,0),\"\")","v":""},{"$f":"IF(MAX('3-3 위험성평가'!$A$4:$A$470)+1>E416,VLOOKUP(E416,'3-3 위험성평가'!$A$5:$P$470,9,0),\"\")","v":""},{"$f":"IF(MAX('3-3 위험성평가'!$A$4:$A$536)+1>E416,VLOOKUP(E416,'3-3 위험성평가'!$A$5:$P$536,12,0),\"\")&IF(L416>\"\",\".\"&E416,\"\")","v":""},{"$f":"IF(MAX('3-3 위험성평가'!$A$4:$A$470)+1>E416,VLOOKUP(E416,'3-3 위험성평가'!$A$5:$P$470,13,0),\"\")","v":""},null,"하",null,null,null,null,null,null,null,"선택안함",0,{"$f":"IF(MAX('3-3 위험성평가'!$A$4:$A$470)+1>E416,VLOOKUP(E416,'3-3 위험성평가'!$A$5:$Q$470,17,0),\"\")","v":""},"선택",{"$f":"표지!$D$33","v":"시원건설"},{"$f":"표지!$E$34","v":"김길동4"},"선택안함",0]
["T40",4,"S40",4,409,{"$f":"IF(MAX('3-3 위험성평가'!$A$4:$A$470)+1>E417,VLOOKUP(E417,'3-3 위험성평가'!$A$5:$P$470,2,0),\"\")","v":""},{"$f":"IF(F417=\"\",\"\",VLOOKUP(VALUE(F417),'1-1 사업장 공정 정보'!$D$15:$P$32,5,0))","v":""},{"$f":"IF(MAX('3-3 위험성평가'!$A$4:$A$470)+1>E417,VLOOKUP(E417,'3-3 위험성평가'!$A$5:$P$470,3,0),\"\")","v":""},{"$f":"IF(MAX('3-3 위험성평가'!$A$4:$A$470)+1>E417,VLOOKUP(E417,'3-3 위험성평가'!$A$5:$P$470,4,0),\"\")","v":""},{"$f":"IF(MAX('3-3 위험성평가'!$A$4:$A$470)+1>E417,VLOOKUP(E417,'3-3 위험성평가'!$A$5:$P$470,5,0),\"\")","v":""},{"$f":"IF(MAX('3-3 위험성평가'!$A$4:$A$470)+1>E417,VLOOKUP(E417,'3-3 위험성평가'!$A$5:$P$470,6,0),\"\")","v":""},{"$f":"IF(MAX('3-3 위험성평가'!$A$4:$A$470)+1>E417,VLOOKUP(E417,'3-3 위험성평가'!$A$5:$P$470,9,0),\"\")","v":""},{"$f":"IF(MAX('3-3 위험성평가'!$A$4:$A$536)+1>E417,VLOOKUP(E417,'3-3 위험성평가'!$A$5:$P$536,12,0),\"\")&IF(L417>\"\",\".\"&E417,\"\")","v":""},{"$f":"IF(MAX('3-3 위험성평가'!$A$4:$A$470)+1>E417,VLOOKUP(E417,'3-3 위험성평가'!$A$5:$P$470,13,0),\"\")","v":""},null,"하",null,null,null,null,null,null,null,"선택안함",0,{"$f":"IF(MAX('3-3 위험성평가'!$A$4:$A$470)+1>E417,VLOOKUP(E417,'3-3 위험성평가'!$A$5:$Q$470,17,0),\"\")","v":""},"선택",{"$f":"표지!$D$33","v":"시원건설"},{"$f":"표지!$E$34","v":"김길동4"},"선택안함",0]
["T40",4,"S40",4,410,{"$f":"IF(MAX('3-3 위험성평가'!$A$4:$A$470)+1>E418,VLOOKUP(E418,'3-3 위험성평가'!$A$5:$P$470,2,0),\"\")","v":""},{"$f":"IF(F418=\"\",\"\",VLOOKUP(VALUE(F418),'1-1 사업장 공정 정보'!$D$15:$P$32,5,0))","v":""},{"$f":"IF(MAX('3-3 위험성평가'!$A$4:$A$470)+1>E418,VLOOKUP(E418,'3-3 위험성평가'!$A$5:$P$470,3,0),\"\")","v":""},{"$f":"IF(MAX('3-3 위험성평가'!$A$4:$A$470)+1>E418,VLOOKUP(E418,'3-3 위험성평가'!$A$5:$P$470,4,0),\"\")","v":""},{"$f":"IF(MAX('3-3 위험성평가'!$A$4:$A$470)+1>E418,VLOOKUP(E418,'3-3 위험성평가'!$A$5:$P$470,5,0),\"\")","v":""},{"$f":"IF(MAX('3-3 위험성평가'!$A$4:$A$470)+1>E418,VLOOKUP(E418,'3-3 위험성평가'!$A$5:$P$470,6,0),\"\")","v":""},{"$f":"IF(MAX('3-3 위험성평가'!$A$4:$A$470)+1>E418,VLOOKUP(E418,'3-3 위험성평가'!$A$5:$P$470,9,0),\"\")","v":""},{"$f":"IF(MAX('3-3 위험성평가'!$A$4:$A$536)+1>E418,VLOOKUP(E418,'3-3 위험성평가'!$A$5:$P$536,12,0),\"\")&IF(L418>\"\",\".\"&E418,\"\")","v":""},{"$f":"IF(MAX('3-3 위험성평가'!$A$4:$A$470)+1>E418,VLOOKUP(E418,'3-3 위험성평가'!$A$5:$P$470,13,0),\"\")","v":""},null,"하",null,null,null,null,null,null,null,"선택안함",0,{"$f":"IF(MAX('3-3 위험성평가'!$A$4:$A$470)+1>E418,VLOOKUP(E418,'3-3 위험성평가'!$A$5:$Q$470,17,0),\"\")","v":""},"선택",{"$f":"표지!$D$33","v":"시원건설"},{"$f":"표지!$E$34","v":"김길동4"},"선택안함",0]
["T40",4,"S40",4,411,{"$f":"IF(MAX('3-3 위험성평가'!$A$4:$A$470)+1>E419,VLOOKUP(E419,'3-3 위험성평가'!$A$5:$P$470,2,0),\"\")","v":""},{"$f":"IF(F419=\"\",\"\",VLOOKUP(VALUE(F419),'1-1 사업장 공정 정보'!$D$15:$P$32,5,0))","v":""},{"$f":"IF(MAX('3-3 위험성평가'!$A$4:$A$470)+1>E419,VLOOKUP(E419,'3-3 위험성평가'!$A$5:$P$470,3,0),\"\")","v":""},{"$f":"IF(MAX('3-3 위험성평가'!$A$4:$A$470)+1>E419,VLOOKUP(E419,'3-3 위험성평가'!$A$5:$P$470,4,0),\"\")","v":""},{"$f":"IF(MAX('3-3 위험성평가'!$A$4:$A$470)+1>E419,VLOOKUP(E419,'3-3 위험성평가'!$A$5:$P$470,5,0),\"\")","v":""},{"$f":"IF(MAX('3-3 위험성평가'!$A$4:$A$470)+1>E419,VLOOKUP(E419,'3-3 위험성평가'!$A$5:$P$470,6,0),\"\")","v":""},{"$f":"IF(MAX('3-3 위험성평가'!$A$4:$A$470)+1>E419,VLOOKUP(E419,'3-3 위험성평가'!$A$5:$P$470,9,0),\"\")","v":""},{"$f":"IF(MAX('3-3 위험성평가'!$A$4:$A$536)+1>E419,VLOOKUP(E419,'3-3 위험성평가'!$A$5:$P$536,12,0),\"\")&IF(L419>\"\",\".\"&E419,\"\")","v":""},{"$f":"IF(MAX('3-3 위험성평가'!$A$4:$A$470)+1>E419,VLOOKUP(E419,'3-3 위험성평가'!$A$5:$P$470,13,0),\"\")","v":""},null,"하",null,null,null,null,null,null,null,"선택안함",0,{"$f":"IF(MAX('3-3 위험성평가'!$A$4:$A$470)+1>E419,VLOOKUP(E419,'3-3 위험성평가'!$A$5:$Q$470,17,0),\"\")","v":""},"선택",{"$f":"표지!$D$33","v":"시원건설"},{"$f":"표지!$E$34","v":"김길동4"},"선택안함",0]
["T40",4,"S40",4,412,{"$f":"IF(MAX('3-3 위험성평가'!$A$4:$A$470)+1>E420,VLOOKUP(E420,'3-3 위험성평가'!$A$5:$P$470,2,0),\"\")","v":""},{"$f":"IF(F420=\"\",\"\",VLOOKUP(VALUE(F420),'1-1 사업장 공정 정보'!$D$15:$P$32,5,0))","v":""},{"$f":"IF(MAX('3-3 위험성평가'!$A$4:$A$470)+1>E420,VLOOKUP(E420,'3-3 위험성평가'!$A$5:$P$470,3,0),\"\")","v":""},{"$f":"IF(MAX('3-3 위험성평가'!$A$4:$A$470)+1>E420,VLOOKUP(E420,'3-3 위험성평가'!$A$5:$P$470,4,0),\"\")","v":""},{"$f":"IF(MAX('3-3 위험성평가'!$A$4:$A$470)+1>E420,VLOOKUP(E420,'3-3 위험성평가'!$A$5:$P$470,5,0),\"\")","v":""},{"$f":"IF(MAX('3-3 위험성평가'!$A$4:$A$470)+1>E420,VLOOKUP(E420,'3-3 위험성평가'!$A$5:$P$470,6,0),\"\")","v":""},{"$f":"IF(MAX('3-3 위험성평가'!$A$4:$A$470)+1>E420,VLOOKUP(E420,'3-3 위험성평가'!$A$5:$P$470,9,0),\"\")","v":""},{"$f":"IF(MAX('3-3 위험성평가'!$A$4:$A$536)+1>E420,VLOOKUP(E420,'3-3 위험성평가'!$A$5:$P$536,12,0),\"\")&IF(L420>\"\",\".\"&E420,\"\")","v":""},{"$f":"IF(MAX('3-3 위험성평가'!$A$4:$A$470)+1>E420,VLOOKUP(E420,'3-3 위험성평가'!$A$5:$P$470,13,0),\"\")","v":""},null,"하",null,null,null,null,null,null,null,"선택안함",0,{"$f":"IF(MAX('3-3 위험성평가'!$A$4:$A$470)+1>E420,VLOOKUP(E420,'3-3 위험성평가'!$A$5:$Q$470,17,0),\"\")","v":""},"선택",{"$f":"표지!$D$33","v":"시원건설"},{"$f":"표지!$E$34","v":"김길동4"},"선택안함",0]
["T40",4,"S40",4,413,{"$f":"IF(MAX('3-3 위험성평가'!$A$4:$A$470)+1>E421,VLOOKUP(E421,'3-3 위험성평가'!$A$5:$P$470,2,0),\"\")","v":""},{"$f":"IF(F421=\"\",\"\",VLOOKUP(VALUE(F421),'1-1 사업장 공정 정보'!$D$15:$P$32,5,0))","v":""},{"$f":"IF(MAX('3-3 위험성평가'!$A$4:$A$470)+1>E421,VLOOKUP(E421,'3-3 위험성평가'!$A$5:$P$470,3,0),\"\")","v":""},{"$f":"IF(MAX('3-3 위험성평가'!$A$4:$A$470)+1>E421,VLOOKUP(E421,'3-3 위험성평가'!$A$5:$P$470,4,0),\"\")","v":""},{"$f":"IF(MAX('3-3 위험성평가'!$A$4:$A$470)+1>E421,VLOOKUP(E421,'3-3 위험성평가'!$A$5:$P$470,5,0),\"\")","v":""},{"$f":"IF(MAX('3-3 위험성평가'!$A$4:$A$470)+1>E421,VLOOKUP(E421,'3-3 위험성평가'!$A$5:$P$470,6,0),\"\")","v":""},{"$f":"IF(MAX('3-3 위험성평가'!$A$4:$A$470)+1>E421,VLOOKUP(E421,'3-3 위험성평가'!$A$5:$P$470,9,0),\"\")","v":""},{"$f":"IF(MAX('3-3 위험성평가'!$A$4:$A$536)+1>E421,VLOOKUP(E421,'3-3 위험성평가'!$A$5:$P$536,12,0),\"\")&IF(L421>\"\",\".\"&E421,\"\")","v":""},{"$f":"IF(MAX('3-3 위험성평가'!$A$4:$A$470)+1>E421,VLOOKUP(E421,'3-3 위험성평가'!$A$5:$P$470,13,0),\"\")","v":""},null,"하",null,null,null,null,null,null,null,"선택안함",0,{"$f":"IF(MAX('3-3 위험성평가'!$A$4:$A$470)+1>E421,VLOOKUP(E421,'3-3 위험성평가'!$A$5:$Q$470,17,0),\"\")","v":""},"선택",{"$f":"표지!$D$33","v":"시원건설"},{"$f":"표지!$E$34","v":"김길동4"},"선택안함",0]
["T40",4,"S40",4,414,{"$f":"IF(MAX('3-3 위험성평가'!$A$4:$A$470)+1>E422,VLOOKUP(E422,'3-3 위험성평가'!$A$5:$P$470,2,0),\"\")","v":""},{"$f":"IF(F422=\"\",\"\",VLOOKUP(VALUE(F422),'1-1 사업장 공정 정보'!$D$15:$P$32,5,0))","v":""},{"$f":"IF(MAX('3-3 위험성평가'!$A$4:$A$470)+1>E422,VLOOKUP(E422,'3-3 위험성평가'!$A$5:$P$470,3,0),\"\")","v":""},{"$f":"IF(MAX('3-3 위험성평가'!$A$4:$A$470)+1>E422,VLOOKUP(E422,'3-3 위험성평가'!$A$5:$P$470,4,0),\"\")","v":""},{"$f":"IF(MAX('3-3 위험성평가'!$A$4:$A$470)+1>E422,VLOOKUP(E422,'3-3 위험성평가'!$A$5:$P$470,5,0),\"\")","v":""},{"$f":"IF(MAX('3-3 위험성평가'!$A$4:$A$470)+1>E422,VLOOKUP(E422,'3-3 위험성평가'!$A$5:$P$470,6,0),\"\")","v":""},{"$f":"IF(MAX('3-3 위험성평가'!$A$4:$A$470)+1>E422,VLOOKUP(E422,'3-3 위험성평가'!$A$5:$P$470,9,0),\"\")","v":""},{"$f":"IF(MAX('3-3 위험성평가'!$A$4:$A$536)+1>E422,VLOOKUP(E422,'3-3 위험성평가'!$A$5:$P$536,12,0),\"\")&IF(L422>\"\",\".\"&E422,\"\")","v":""},{"$f":"IF(MAX('3-3 위험성평가'!$A$4:$A$470)+1>E422,VLOOKUP(E422,'3-3 위험성평가'!$A$5:$P$470,13,0),\"\")","v":""},null,"하",null,null,null,null,null,null,null,"선택안함",0,{"$f":"IF(MAX('3-3 위험성평가'!$A$4:$A$470)+1>E422,VLOOKUP(E422,'3-3 위험성평가'!$A$5:$Q$470,17,0),\"\")","v":""},"선택",{"$f":"표지!$D$33","v":"시원건설"},{"$f":"표지!$E$34","v":"김길동4"},"선택안함",0]
["T40",4,"S40",4,415,{"$f":"IF(MAX('3-3 위험성평가'!$A$4:$A$470)+1>E423,VLOOKUP(E423,'3-3 위험성평가'!$A$5:$P$470,2,0),\"\")","v":""},{"$f":"IF(F423=\"\",\"\",VLOOKUP(VALUE(F423),'1-1 사업장 공정 정보'!$D$15:$P$32,5,0))","v":""},{"$f":"IF(MAX('3-3 위험성평가'!$A$4:$A$470)+1>E423,VLOOKUP(E423,'3-3 위험성평가'!$A$5:$P$470,3,0),\"\")","v":""},{"$f":"IF(MAX('3-3 위험성평가'!$A$4:$A$470)+1>E423,VLOOKUP(E423,'3-3 위험성평가'!$A$5:$P$470,4,0),\"\")","v":""},{"$f":"IF(MAX('3-3 위험성평가'!$A$4:$A$470)+1>E423,VLOOKUP(E423,'3-3 위험성평가'!$A$5:$P$470,5,0),\"\")","v":""},{"$f":"IF(MAX('3-3 위험성평가'!$A$4:$A$470)+1>E423,VLOOKUP(E423,'3-3 위험성평가'!$A$5:$P$470,6,0),\"\")","v":""},{"$f":"IF(MAX('3-3 위험성평가'!$A$4:$A$470)+1>E423,VLOOKUP(E423,'3-3 위험성평가'!$A$5:$P$470,9,0),\"\")","v":""},{"$f":"IF(MAX('3-3 위험성평가'!$A$4:$A$536)+1>E423,VLOOKUP(E423,'3-3 위험성평가'!$A$5:$P$536,12,0),\"\")&IF(L423>\"\",\".\"&E423,\"\")","v":""},{"$f":"IF(MAX('3-3 위험성평가'!$A$4:$A$470)+1>E423,VLOOKUP(E423,'3-3 위험성평가'!$A$5:$P$470,13,0),\"\")","v":""},null,"하",null,null,null,null,null,null,null,"선택안함",0,{"$f":"IF(MAX('3-3 위험성평가'!$A$4:$A$470)+1>E423,VLOOKUP(E423,'3-3 위험성평가'!$A$5:$Q$470,17,0),\"\")","v":""},"선택",{"$f":"표지!$D$33","v":"시원건설"},{"$f":"표지!$E$34","v":"김길동4"},"선택안함",0]
["T40",4,"S40",4,416,{"$f":"IF(MAX('3-3 위험성평가'!$A$4:$A$470)+1>E424,VLOOKUP(E424,'3-3 위험성평가'!$A$5:$P$470,2,0),\"\")","v":""},{"$f":"IF(F424=\"\",\"\",VLOOKUP(VALUE(F424),'1-1 사업장 공정 정보'!$D$15:$P$32,5,0))","v":""},{"$f":"IF(MAX('3-3 위험성평가'!$A$4:$A$470)+1>E424,VLOOKUP(E424,'3-3 위험성평가'!$A$5:$P$470,3,0),\"\")","v":""},{"$f":"IF(MAX('3-3 위험성평가'!$A$4:$A$470)+1>E424,VLOOKUP(E424,'3-3 위험성평가'!$A$5:$P$470,4,0),\"\")","v":""},{"$f":"IF(MAX('3-3 위험성평가'!$A$4:$A$470)+1>E424,VLOOKUP(E424,'3-3 위험성평가'!$A$5:$P$470,5,0),\"\")","v":""},{"$f":"IF(MAX('3-3 위험성평가'!$A$4:$A$470)+1>E424,VLOOKUP(E424,'3-3 위험성평가'!$A$5:$P$470,6,0),\"\")","v":""},{"$f":"IF(MAX('3-3 위험성평가'!$A$4:$A$470)+1>E424,VLOOKUP(E424,'3-3 위험성평가'!$A$5:$P$470,9,0),\"\")","v":""},{"$f":"IF(MAX('3-3 위험성평가'!$A$4:$A$536)+1>E424,VLOOKUP(E424,'3-3 위험성평가'!$A$5:$P$536,12,0),\"\")&IF(L424>\"\",\".\"&E424,\"\")","v":""},{"$f":"IF(MAX('3-3 위험성평가'!$A$4:$A$470)+1>E424,VLOOKUP(E424,'3-3 위험성평가'!$A$5:$P$470,13,0),\"\")","v":""},null,"하",null,null,null,null,null,null,null,"선택안함",0,{"$f":"IF(MAX('3-3 위험성평가'!$A$4:$A$470)+1>E424,VLOOKUP(E424,'3-3 위험성평가'!$A$5:$Q$470,17,0),\"\")","v":""},"선택",{"$f":"표지!$D$33","v":"시원건설"},{"$f":"표지!$E$34","v":"김길동4"},"선택안함",0]
["T40",4,"S40",4,417,{"$f":"IF(MAX('3-3 위험성평가'!$A$4:$A$470)+1>E425,VLOOKUP(E425,'3-3 위험성평가'!$A$5:$P$470,2,0),\"\")","v":""},{"$f":"IF(F425=\"\",\"\",VLOOKUP(VALUE(F425),'1-1 사업장 공정 정보'!$D$15:$P$32,5,0))","v":""},{"$f":"IF(MAX('3-3 위험성평가'!$A$4:$A$470)+1>E425,VLOOKUP(E425,'3-3 위험성평가'!$A$5:$P$470,3,0),\"\")","v":""},{"$f":"IF(MAX('3-3 위험성평가'!$A$4:$A$470)+1>E425,VLOOKUP(E425,'3-3 위험성평가'!$A$5:$P$470,4,0),\"\")","v":""},{"$f":"IF(MAX('3-3 위험성평가'!$A$4:$A$470)+1>E425,VLOOKUP(E425,'3-3 위험성평가'!$A$5:$P$470,5,0),\"\")","v":""},{"$f":"IF(MAX('3-3 위험성평가'!$A$4:$A$470)+1>E425,VLOOKUP(E425,'3-3 위험성평가'!$A$5:$P$470,6,0),\"\")","v":""},{"$f":"IF(MAX('3-3 위험성평가'!$A$4:$A$470)+1>E425,VLOOKUP(E425,'3-3 위험성평가'!$A$5:$P$470,9,0),\"\")","v":""},{"$f":"IF(MAX('3-3 위험성평가'!$A$4:$A$536)+1>E425,VLOOKUP(E425,'3-3 위험성평가'!$A$5:$P$536,12,0),\"\")&IF(L425>\"\",\".\"&E425,\"\")","v":""},{"$f":"IF(MAX('3-3 위험성평가'!$A$4:$A$470)+1>E425,VLOOKUP(E425,'3-3 위험성평가'!$A$5:$P$470,13,0),\"\")","v":""},null,"하",null,null,null,null,null,null,null,"선택안함",0,{"$f":"IF(MAX('3-3 위험성평가'!$A$4:$A$470)+1>E425,VLOOKUP(E425,'3-3 위험성평가'!$A$5:$Q$470,17,0),\"\")","v":""},"선택",{"$f":"표지!$D$33","v":"시원건설"},{"$f":"표지!$E$34","v":"김길동4"},"선택안함",0]
["T40",4,"S40",4,418,{"$f":"IF(MAX('3-3 위험성평가'!$A$4:$A$470)+1>E426,VLOOKUP(E426,'3-3 위험성평가'!$A$5:$P$470,2,0),\"\")","v":""},{"$f":"IF(F426=\"\",\"\",VLOOKUP(VALUE(F426),'1-1 사업장 공정 정보'!$D$15:$P$32,5,0))","v":""},{"$f":"IF(MAX('3-3 위험성평가'!$A$4:$A$470)+1>E426,VLOOKUP(E426,'3-3 위험성평가'!$A$5:$P$470,3,0),\"\")","v":""},{"$f":"IF(MAX('3-3 위험성평가'!$A$4:$A$470)+1>E426,VLOOKUP(E426,'3-3 위험성평가'!$A$5:$P$470,4,0),\"\")","v":""},{"$f":"IF(MAX('3-3 위험성평가'!$A$4:$A$470)+1>E426,VLOOKUP(E426,'3-3 위험성평가'!$A$5:$P$470,5,0),\"\")","v":""},{"$f":"IF(MAX('3-3 위험성평가'!$A$4:$A$470)+1>E426,VLOOKUP(E426,'3-3 위험성평가'!$A$5:$P$470,6,0),\"\")","v":""},{"$f":"IF(MAX('3-3 위험성평가'!$A$4:$A$470)+1>E426,VLOOKUP(E426,'3-3 위험성평가'!$A$5:$P$470,9,0),\"\")","v":""},{"$f":"IF(MAX('3-3 위험성평가'!$A$4:$A$536)+1>E426,VLOOKUP(E426,'3-3 위험성평가'!$A$5:$P$536,12,0),\"\")&IF(L426>\"\",\".\"&E426,\"\")","v":""},{"$f":"IF(MAX('3-3 위험성평가'!$A$4:$A$470)+1>E426,VLOOKUP(E426,'3-3 위험성평가'!$A$5:$P$470,13,0),\"\")","v":""},null,"하",null,null,null,null,null,null,null,"선택안함",0,{"$f":"IF(MAX('3-3 위험성평가'!$A$4:$A$470)+1>E426,VLOOKUP(E426,'3-3 위험성평가'!$A$5:$Q$470,17,0),\"\")","v":""},"선택",{"$f":"표지!$D$33","v":"시원건설"},{"$f":"표지!$E$34","v":"김길동4"},"선택안함",0]
["T40",4,"S40",4,419,{"$f":"IF(MAX('3-3 위험성평가'!$A$4:$A$470)+1>E427,VLOOKUP(E427,'3-3 위험성평가'!$A$5:$P$470,2,0),\"\")","v":""},{"$f":"IF(F427=\"\",\"\",VLOOKUP(VALUE(F427),'1-1 사업장 공정 정보'!$D$15:$P$32,5,0))","v":""},{"$f":"IF(MAX('3-3 위험성평가'!$A$4:$A$470)+1>E427,VLOOKUP(E427,'3-3 위험성평가'!$A$5:$P$470,3,0),\"\")","v":""},{"$f":"IF(MAX('3-3 위험성평가'!$A$4:$A$470)+1>E427,VLOOKUP(E427,'3-3 위험성평가'!$A$5:$P$470,4,0),\"\")","v":""},{"$f":"IF(MAX('3-3 위험성평가'!$A$4:$A$470)+1>E427,VLOOKUP(E427,'3-3 위험성평가'!$A$5:$P$470,5,0),\"\")","v":""},{"$f":"IF(MAX('3-3 위험성평가'!$A$4:$A$470)+1>E427,VLOOKUP(E427,'3-3 위험성평가'!$A$5:$P$470,6,0),\"\")","v":""},{"$f":"IF(MAX('3-3 위험성평가'!$A$4:$A$470)+1>E427,VLOOKUP(E427,'3-3 위험성평가'!$A$5:$P$470,9,0),\"\")","v":""},{"$f":"IF(MAX('3-3 위험성평가'!$A$4:$A$536)+1>E427,VLOOKUP(E427,'3-3 위험성평가'!$A$5:$P$536,12,0),\"\")&IF(L427>\"\",\".\"&E427,\"\")","v":""},{"$f":"IF(MAX('3-3 위험성평가'!$A$4:$A$470)+1>E427,VLOOKUP(E427,'3-3 위험성평가'!$A$5:$P$470,13,0),\"\")","v":""},null,"하",null,null,null,null,null,null,null,"선택안함",0,{"$f":"IF(MAX('3-3 위험성평가'!$A$4:$A$470)+1>E427,VLOOKUP(E427,'3-3 위험성평가'!$A$5:$Q$470,17,0),\"\")","v":""},"선택",{"$f":"표지!$D$33","v":"시원건설"},{"$f":"표지!$E$34","v":"김길동4"},"선택안함",0]
["T40",4,"S40",4,420,{"$f":"IF(MAX('3-3 위험성평가'!$A$4:$A$470)+1>E428,VLOOKUP(E428,'3-3 위험성평가'!$A$5:$P$470,2,0),\"\")","v":""},{"$f":"IF(F428=\"\",\"\",VLOOKUP(VALUE(F428),'1-1 사업장 공정 정보'!$D$15:$P$32,5,0))","v":""},{"$f":"IF(MAX('3-3 위험성평가'!$A$4:$A$470)+1>E428,VLOOKUP(E428,'3-3 위험성평가'!$A$5:$P$470,3,0),\"\")","v":""},{"$f":"IF(MAX('3-3 위험성평가'!$A$4:$A$470)+1>E428,VLOOKUP(E428,'3-3 위험성평가'!$A$5:$P$470,4,0),\"\")","v":""},{"$f":"IF(MAX('3-3 위험성평가'!$A$4:$A$470)+1>E428,VLOOKUP(E428,'3-3 위험성평가'!$A$5:$P$470,5,0),\"\")","v":""},{"$f":"IF(MAX('3-3 위험성평가'!$A$4:$A$470)+1>E428,VLOOKUP(E428,'3-3 위험성평가'!$A$5:$P$470,6,0),\"\")","v":""},{"$f":"IF(MAX('3-3 위험성평가'!$A$4:$A$470)+1>E428,VLOOKUP(E428,'3-3 위험성평가'!$A$5:$P$470,9,0),\"\")","v":""},{"$f":"IF(MAX('3-3 위험성평가'!$A$4:$A$536)+1>E428,VLOOKUP(E428,'3-3 위험성평가'!$A$5:$P$536,12,0),\"\")&IF(L428>\"\",\".\"&E428,\"\")","v":""},{"$f":"IF(MAX('3-3 위험성평가'!$A$4:$A$470)+1>E428,VLOOKUP(E428,'3-3 위험성평가'!$A$5:$P$470,13,0),\"\")","v":""},null,"하",null,null,null,null,null,null,null,"선택안함",0,{"$f":"IF(MAX('3-3 위험성평가'!$A$4:$A$470)+1>E428,VLOOKUP(E428,'3-3 위험성평가'!$A$5:$Q$470,17,0),\"\")","v":""},"선택",{"$f":"표지!$D$33","v":"시원건설"},{"$f":"표지!$E$34","v":"김길동4"},"선택안함",0]
["T40",4,"S40",4,421,{"$f":"IF(MAX('3-3 위험성평가'!$A$4:$A$470)+1>E429,VLOOKUP(E429,'3-3 위험성평가'!$A$5:$P$470,2,0),\"\")","v":""},{"$f":"IF(F429=\"\",\"\",VLOOKUP(VALUE(F429),'1-1 사업장 공정 정보'!$D$15:$P$32,5,0))","v":""},{"$f":"IF(MAX('3-3 위험성평가'!$A$4:$A$470)+1>E429,VLOOKUP(E429,'3-3 위험성평가'!$A$5:$P$470,3,0),\"\")","v":""},{"$f":"IF(MAX('3-3 위험성평가'!$A$4:$A$470)+1>E429,VLOOKUP(E429,'3-3 위험성평가'!$A$5:$P$470,4,0),\"\")","v":""},{"$f":"IF(MAX('3-3 위험성평가'!$A$4:$A$470)+1>E429,VLOOKUP(E429,'3-3 위험성평가'!$A$5:$P$470,5,0),\"\")","v":""},{"$f":"IF(MAX('3-3 위험성평가'!$A$4:$A$470)+1>E429,VLOOKUP(E429,'3-3 위험성평가'!$A$5:$P$470,6,0),\"\")","v":""},{"$f":"IF(MAX('3-3 위험성평가'!$A$4:$A$470)+1>E429,VLOOKUP(E429,'3-3 위험성평가'!$A$5:$P$470,9,0),\"\")","v":""},{"$f":"IF(MAX('3-3 위험성평가'!$A$4:$A$536)+1>E429,VLOOKUP(E429,'3-3 위험성평가'!$A$5:$P$536,12,0),\"\")&IF(L429>\"\",\".\"&E429,\"\")","v":""},{"$f":"IF(MAX('3-3 위험성평가'!$A$4:$A$470)+1>E429,VLOOKUP(E429,'3-3 위험성평가'!$A$5:$P$470,13,0),\"\")","v":""},null,"하",null,null,null,null,null,null,null,"선택안함",0,{"$f":"IF(MAX('3-3 위험성평가'!$A$4:$A$470)+1>E429,VLOOKUP(E429,'3-3 위험성평가'!$A$5:$Q$470,17,0),\"\")","v":""},"선택",{"$f":"표지!$D$33","v":"시원건설"},{"$f":"표지!$E$34","v":"김길동4"},"선택안함",0]
["T40",4,"S40",4,422,{"$f":"IF(MAX('3-3 위험성평가'!$A$4:$A$470)+1>E430,VLOOKUP(E430,'3-3 위험성평가'!$A$5:$P$470,2,0),\"\")","v":""},{"$f":"IF(F430=\"\",\"\",VLOOKUP(VALUE(F430),'1-1 사업장 공정 정보'!$D$15:$P$32,5,0))","v":""},{"$f":"IF(MAX('3-3 위험성평가'!$A$4:$A$470)+1>E430,VLOOKUP(E430,'3-3 위험성평가'!$A$5:$P$470,3,0),\"\")","v":""},{"$f":"IF(MAX('3-3 위험성평가'!$A$4:$A$470)+1>E430,VLOOKUP(E430,'3-3 위험성평가'!$A$5:$P$470,4,0),\"\")","v":""},{"$f":"IF(MAX('3-3 위험성평가'!$A$4:$A$470)+1>E430,VLOOKUP(E430,'3-3 위험성평가'!$A$5:$P$470,5,0),\"\")","v":""},{"$f":"IF(MAX('3-3 위험성평가'!$A$4:$A$470)+1>E430,VLOOKUP(E430,'3-3 위험성평가'!$A$5:$P$470,6,0),\"\")","v":""},{"$f":"IF(MAX('3-3 위험성평가'!$A$4:$A$470)+1>E430,VLOOKUP(E430,'3-3 위험성평가'!$A$5:$P$470,9,0),\"\")","v":""},{"$f":"IF(MAX('3-3 위험성평가'!$A$4:$A$536)+1>E430,VLOOKUP(E430,'3-3 위험성평가'!$A$5:$P$536,12,0),\"\")&IF(L430>\"\",\".\"&E430,\"\")","v":""},{"$f":"IF(MAX('3-3 위험성평가'!$A$4:$A$470)+1>E430,VLOOKUP(E430,'3-3 위험성평가'!$A$5:$P$470,13,0),\"\")","v":""},null,"하",null,null,null,null,null,null,null,"선택안함",0,{"$f":"IF(MAX('3-3 위험성평가'!$A$4:$A$470)+1>E430,VLOOKUP(E430,'3-3 위험성평가'!$A$5:$Q$470,17,0),\"\")","v":""},"선택",{"$f":"표지!$D$33","v":"시원건설"},{"$f":"표지!$E$34","v":"김길동4"},"선택안함",0]
["T40",4,"S40",4,423,{"$f":"IF(MAX('3-3 위험성평가'!$A$4:$A$470)+1>E431,VLOOKUP(E431,'3-3 위험성평가'!$A$5:$P$470,2,0),\"\")","v":""},{"$f":"IF(F431=\"\",\"\",VLOOKUP(VALUE(F431),'1-1 사업장 공정 정보'!$D$15:$P$32,5,0))","v":""},{"$f":"IF(MAX('3-3 위험성평가'!$A$4:$A$470)+1>E431,VLOOKUP(E431,'3-3 위험성평가'!$A$5:$P$470,3,0),\"\")","v":""},{"$f":"IF(MAX('3-3 위험성평가'!$A$4:$A$470)+1>E431,VLOOKUP(E431,'3-3 위험성평가'!$A$5:$P$470,4,0),\"\")","v":""},{"$f":"IF(MAX('3-3 위험성평가'!$A$4:$A$470)+1>E431,VLOOKUP(E431,'3-3 위험성평가'!$A$5:$P$470,5,0),\"\")","v":""},{"$f":"IF(MAX('3-3 위험성평가'!$A$4:$A$470)+1>E431,VLOOKUP(E431,'3-3 위험성평가'!$A$5:$P$470,6,0),\"\")","v":""},{"$f":"IF(MAX('3-3 위험성평가'!$A$4:$A$470)+1>E431,VLOOKUP(E431,'3-3 위험성평가'!$A$5:$P$470,9,0),\"\")","v":""},{"$f":"IF(MAX('3-3 위험성평가'!$A$4:$A$536)+1>E431,VLOOKUP(E431,'3-3 위험성평가'!$A$5:$P$536,12,0),\"\")&IF(L431>\"\",\".\"&E431,\"\")","v":""},{"$f":"IF(MAX('3-3 위험성평가'!$A$4:$A$470)+1>E431,VLOOKUP(E431,'3-3 위험성평가'!$A$5:$P$470,13,0),\"\")","v":""},null,"하",null,null,null,null,null,null,null,"선택안함",0,{"$f":"IF(MAX('3-3 위험성평가'!$A$4:$A$470)+1>E431,VLOOKUP(E431,'3-3 위험성평가'!$A$5:$Q$470,17,0),\"\")","v":""},"선택",{"$f":"표지!$D$33","v":"시원건설"},{"$f":"표지!$E$34","v":"김길동4"},"선택안함",0]
["T40",4,"S40",4,424,{"$f":"IF(MAX('3-3 위험성평가'!$A$4:$A$470)+1>E432,VLOOKUP(E432,'3-3 위험성평가'!$A$5:$P$470,2,0),\"\")","v":""},{"$f":"IF(F432=\"\",\"\",VLOOKUP(VALUE(F432),'1-1 사업장 공정 정보'!$D$15:$P$32,5,0))","v":""},{"$f":"IF(MAX('3-3 위험성평가'!$A$4:$A$470)+1>E432,VLOOKUP(E432,'3-3 위험성평가'!$A$5:$P$470,3,0),\"\")","v":""},{"$f":"IF(MAX('3-3 위험성평가'!$A$4:$A$470)+1>E432,VLOOKUP(E432,'3-3 위험성평가'!$A$5:$P$470,4,0),\"\")","v":""},{"$f":"IF(MAX('3-3 위험성평가'!$A$4:$A$470)+1>E432,VLOOKUP(E432,'3-3 위험성평가'!$A$5:$P$470,5,0),\"\")","v":""},{"$f":"IF(MAX('3-3 위험성평가'!$A$4:$A$470)+1>E432,VLOOKUP(E432,'3-3 위험성평가'!$A$5:$P$470,6,0),\"\")","v":""},{"$f":"IF(MAX('3-3 위험성평가'!$A$4:$A$470)+1>E432,VLOOKUP(E432,'3-3 위험성평가'!$A$5:$P$470,9,0),\"\")","v":""},{"$f":"IF(MAX('3-3 위험성평가'!$A$4:$A$536)+1>E432,VLOOKUP(E432,'3-3 위험성평가'!$A$5:$P$536,12,0),\"\")&IF(L432>\"\",\".\"&E432,\"\")","v":""},{"$f":"IF(MAX('3-3 위험성평가'!$A$4:$A$470)+1>E432,VLOOKUP(E432,'3-3 위험성평가'!$A$5:$P$470,13,0),\"\")","v":""},null,"하",null,null,null,null,null,null,null,"선택안함",0,{"$f":"IF(MAX('3-3 위험성평가'!$A$4:$A$470)+1>E432,VLOOKUP(E432,'3-3 위험성평가'!$A$5:$Q$470,17,0),\"\")","v":""},"선택",{"$f":"표지!$D$33","v":"시원건설"},{"$f":"표지!$E$34","v":"김길동4"},"선택안함",0]
["T40",4,"S40",4,425,{"$f":"IF(MAX('3-3 위험성평가'!$A$4:$A$470)+1>E433,VLOOKUP(E433,'3-3 위험성평가'!$A$5:$P$470,2,0),\"\")","v":""},{"$f":"IF(F433=\"\",\"\",VLOOKUP(VALUE(F433),'1-1 사업장 공정 정보'!$D$15:$P$32,5,0))","v":""},{"$f":"IF(MAX('3-3 위험성평가'!$A$4:$A$470)+1>E433,VLOOKUP(E433,'3-3 위험성평가'!$A$5:$P$470,3,0),\"\")","v":""},{"$f":"IF(MAX('3-3 위험성평가'!$A$4:$A$470)+1>E433,VLOOKUP(E433,'3-3 위험성평가'!$A$5:$P$470,4,0),\"\")","v":""},{"$f":"IF(MAX('3-3 위험성평가'!$A$4:$A$470)+1>E433,VLOOKUP(E433,'3-3 위험성평가'!$A$5:$P$470,5,0),\"\")","v":""},{"$f":"IF(MAX('3-3 위험성평가'!$A$4:$A$470)+1>E433,VLOOKUP(E433,'3-3 위험성평가'!$A$5:$P$470,6,0),\"\")","v":""},{"$f":"IF(MAX('3-3 위험성평가'!$A$4:$A$470)+1>E433,VLOOKUP(E433,'3-3 위험성평가'!$A$5:$P$470,9,0),\"\")","v":""},{"$f":"IF(MAX('3-3 위험성평가'!$A$4:$A$536)+1>E433,VLOOKUP(E433,'3-3 위험성평가'!$A$5:$P$536,12,0),\"\")&IF(L433>\"\",\".\"&E433,\"\")","v":""},{"$f":"IF(MAX('3-3 위험성평가'!$A$4:$A$470)+1>E433,VLOOKUP(E433,'3-3 위험성평가'!$A$5:$P$470,13,0),\"\")","v":""},null,"하",null,null,null,null,null,null,null,"선택안함",0,{"$f":"IF(MAX('3-3 위험성평가'!$A$4:$A$470)+1>E433,VLOOKUP(E433,'3-3 위험성평가'!$A$5:$Q$470,17,0),\"\")","v":""},"선택",{"$f":"표지!$D$33","v":"시원건설"},{"$f":"표지!$E$34","v":"김길동4"},"선택안함",0]
["T40",4,"S40",4,426,{"$f":"IF(MAX('3-3 위험성평가'!$A$4:$A$470)+1>E434,VLOOKUP(E434,'3-3 위험성평가'!$A$5:$P$470,2,0),\"\")","v":""},{"$f":"IF(F434=\"\",\"\",VLOOKUP(VALUE(F434),'1-1 사업장 공정 정보'!$D$15:$P$32,5,0))","v":""},{"$f":"IF(MAX('3-3 위험성평가'!$A$4:$A$470)+1>E434,VLOOKUP(E434,'3-3 위험성평가'!$A$5:$P$470,3,0),\"\")","v":""},{"$f":"IF(MAX('3-3 위험성평가'!$A$4:$A$470)+1>E434,VLOOKUP(E434,'3-3 위험성평가'!$A$5:$P$470,4,0),\"\")","v":""},{"$f":"IF(MAX('3-3 위험성평가'!$A$4:$A$470)+1>E434,VLOOKUP(E434,'3-3 위험성평가'!$A$5:$P$470,5,0),\"\")","v":""},{"$f":"IF(MAX('3-3 위험성평가'!$A$4:$A$470)+1>E434,VLOOKUP(E434,'3-3 위험성평가'!$A$5:$P$470,6,0),\"\")","v":""},{"$f":"IF(MAX('3-3 위험성평가'!$A$4:$A$470)+1>E434,VLOOKUP(E434,'3-3 위험성평가'!$A$5:$P$470,9,0),\"\")","v":""},{"$f":"IF(MAX('3-3 위험성평가'!$A$4:$A$536)+1>E434,VLOOKUP(E434,'3-3 위험성평가'!$A$5:$P$536,12,0),\"\")&IF(L434>\"\",\".\"&E434,\"\")","v":""},{"$f":"IF(MAX('3-3 위험성평가'!$A$4:$A$470)+1>E434,VLOOKUP(E434,'3-3 위험성평가'!$A$5:$P$470,13,0),\"\")","v":""},null,"하",null,null,null,null,null,null,null,"선택안함",0,{"$f":"IF(MAX('3-3 위험성평가'!$A$4:$A$470)+1>E434,VLOOKUP(E434,'3-3 위험성평가'!$A$5:$Q$470,17,0),\"\")","v":""},"선택",{"$f":"표지!$D$33","v":"시원건설"},{"$f":"표지!$E$34","v":"김길동4"},"선택안함",0]
["T40",4,"S40",4,427,{"$f":"IF(MAX('3-3 위험성평가'!$A$4:$A$470)+1>E435,VLOOKUP(E435,'3-3 위험성평가'!$A$5:$P$470,2,0),\"\")","v":""},{"$f":"IF(F435=\"\",\"\",VLOOKUP(VALUE(F435),'1-1 사업장 공정 정보'!$D$15:$P$32,5,0))","v":""},{"$f":"IF(MAX('3-3 위험성평가'!$A$4:$A$470)+1>E435,VLOOKUP(E435,'3-3 위험성평가'!$A$5:$P$470,3,0),\"\")","v":""},{"$f":"IF(MAX('3-3 위험성평가'!$A$4:$A$470)+1>E435,VLOOKUP(E435,'3-3 위험성평가'!$A$5:$P$470,4,0),\"\")","v":""},{"$f":"IF(MAX('3-3 위험성평가'!$A$4:$A$470)+1>E435,VLOOKUP(E435,'3-3 위험성평가'!$A$5:$P$470,5,0),\"\")","v":""},{"$f":"IF(MAX('3-3 위험성평가'!$A$4:$A$470)+1>E435,VLOOKUP(E435,'3-3 위험성평가'!$A$5:$P$470,6,0),\"\")","v":""},{"$f":"IF(MAX('3-3 위험성평가'!$A$4:$A$470)+1>E435,VLOOKUP(E435,'3-3 위험성평가'!$A$5:$P$470,9,0),\"\")","v":""},{"$f":"IF(MAX('3-3 위험성평가'!$A$4:$A$536)+1>E435,VLOOKUP(E435,'3-3 위험성평가'!$A$5:$P$536,12,0),\"\")&IF(L435>\"\",\".\"&E435,\"\")","v":""},{"$f":"IF(MAX('3-3 위험성평가'!$A$4:$A$470)+1>E435,VLOOKUP(E435,'3-3 위험성평가'!$A$5:$P$470,13,0),\"\")","v":""},null,"하",null,null,null,null,null,null,null,"선택안함",0,{"$f":"IF(MAX('3-3 위험성평가'!$A$4:$A$470)+1>E435,VLOOKUP(E435,'3-3 위험성평가'!$A$5:$Q$470,17,0),\"\")","v":""},"선택",{"$f":"표지!$D$33","v":"시원건설"},{"$f":"표지!$E$34","v":"김길동4"},"선택안함",0]
["T40",4,"S40",4,428,{"$f":"IF(MAX('3-3 위험성평가'!$A$4:$A$470)+1>E436,VLOOKUP(E436,'3-3 위험성평가'!$A$5:$P$470,2,0),\"\")","v":""},{"$f":"IF(F436=\"\",\"\",VLOOKUP(VALUE(F436),'1-1 사업장 공정 정보'!$D$15:$P$32,5,0))","v":""},{"$f":"IF(MAX('3-3 위험성평가'!$A$4:$A$470)+1>E436,VLOOKUP(E436,'3-3 위험성평가'!$A$5:$P$470,3,0),\"\")","v":""},{"$f":"IF(MAX('3-3 위험성평가'!$A$4:$A$470)+1>E436,VLOOKUP(E436,'3-3 위험성평가'!$A$5:$P$470,4,0),\"\")","v":""},{"$f":"IF(MAX('3-3 위험성평가'!$A$4:$A$470)+1>E436,VLOOKUP(E436,'3-3 위험성평가'!$A$5:$P$470,5,0),\"\")","v":""},{"$f":"IF(MAX('3-3 위험성평가'!$A$4:$A$470)+1>E436,VLOOKUP(E436,'3-3 위험성평가'!$A$5:$P$470,6,0),\"\")","v":""},{"$f":"IF(MAX('3-3 위험성평가'!$A$4:$A$470)+1>E436,VLOOKUP(E436,'3-3 위험성평가'!$A$5:$P$470,9,0),\"\")","v":""},{"$f":"IF(MAX('3-3 위험성평가'!$A$4:$A$536)+1>E436,VLOOKUP(E436,'3-3 위험성평가'!$A$5:$P$536,12,0),\"\")&IF(L436>\"\",\".\"&E436,\"\")","v":""},{"$f":"IF(MAX('3-3 위험성평가'!$A$4:$A$470)+1>E436,VLOOKUP(E436,'3-3 위험성평가'!$A$5:$P$470,13,0),\"\")","v":""},null,"하",null,null,null,null,null,null,null,"선택안함",0,{"$f":"IF(MAX('3-3 위험성평가'!$A$4:$A$470)+1>E436,VLOOKUP(E436,'3-3 위험성평가'!$A$5:$Q$470,17,0),\"\")","v":""},"선택",{"$f":"표지!$D$33","v":"시원건설"},{"$f":"표지!$E$34","v":"김길동4"},"선택안함",0]
["T40",4,"S40",4,429,{"$f":"IF(MAX('3-3 위험성평가'!$A$4:$A$470)+1>E437,VLOOKUP(E437,'3-3 위험성평가'!$A$5:$P$470,2,0),\"\")","v":""},{"$f":"IF(F437=\"\",\"\",VLOOKUP(VALUE(F437),'1-1 사업장 공정 정보'!$D$15:$P$32,5,0))","v":""},{"$f":"IF(MAX('3-3 위험성평가'!$A$4:$A$470)+1>E437,VLOOKUP(E437,'3-3 위험성평가'!$A$5:$P$470,3,0),\"\")","v":""},{"$f":"IF(MAX('3-3 위험성평가'!$A$4:$A$470)+1>E437,VLOOKUP(E437,'3-3 위험성평가'!$A$5:$P$470,4,0),\"\")","v":""},{"$f":"IF(MAX('3-3 위험성평가'!$A$4:$A$470)+1>E437,VLOOKUP(E437,'3-3 위험성평가'!$A$5:$P$470,5,0),\"\")","v":""},{"$f":"IF(MAX('3-3 위험성평가'!$A$4:$A$470)+1>E437,VLOOKUP(E437,'3-3 위험성평가'!$A$5:$P$470,6,0),\"\")","v":""},{"$f":"IF(MAX('3-3 위험성평가'!$A$4:$A$470)+1>E437,VLOOKUP(E437,'3-3 위험성평가'!$A$5:$P$470,9,0),\"\")","v":""},{"$f":"IF(MAX('3-3 위험성평가'!$A$4:$A$536)+1>E437,VLOOKUP(E437,'3-3 위험성평가'!$A$5:$P$536,12,0),\"\")&IF(L437>\"\",\".\"&E437,\"\")","v":""},{"$f":"IF(MAX('3-3 위험성평가'!$A$4:$A$470)+1>E437,VLOOKUP(E437,'3-3 위험성평가'!$A$5:$P$470,13,0),\"\")","v":""},null,"하",null,null,null,null,null,null,null,"선택안함",0,{"$f":"IF(MAX('3-3 위험성평가'!$A$4:$A$470)+1>E437,VLOOKUP(E437,'3-3 위험성평가'!$A$5:$Q$470,17,0),\"\")","v":""},"선택",{"$f":"표지!$D$33","v":"시원건설"},{"$f":"표지!$E$34","v":"김길동4"},"선택안함",0]
["T40",4,"S40",4,430,{"$f":"IF(MAX('3-3 위험성평가'!$A$4:$A$470)+1>E438,VLOOKUP(E438,'3-3 위험성평가'!$A$5:$P$470,2,0),\"\")","v":""},{"$f":"IF(F438=\"\",\"\",VLOOKUP(VALUE(F438),'1-1 사업장 공정 정보'!$D$15:$P$32,5,0))","v":""},{"$f":"IF(MAX('3-3 위험성평가'!$A$4:$A$470)+1>E438,VLOOKUP(E438,'3-3 위험성평가'!$A$5:$P$470,3,0),\"\")","v":""},{"$f":"IF(MAX('3-3 위험성평가'!$A$4:$A$470)+1>E438,VLOOKUP(E438,'3-3 위험성평가'!$A$5:$P$470,4,0),\"\")","v":""},{"$f":"IF(MAX('3-3 위험성평가'!$A$4:$A$470)+1>E438,VLOOKUP(E438,'3-3 위험성평가'!$A$5:$P$470,5,0),\"\")","v":""},{"$f":"IF(MAX('3-3 위험성평가'!$A$4:$A$470)+1>E438,VLOOKUP(E438,'3-3 위험성평가'!$A$5:$P$470,6,0),\"\")","v":""},{"$f":"IF(MAX('3-3 위험성평가'!$A$4:$A$470)+1>E438,VLOOKUP(E438,'3-3 위험성평가'!$A$5:$P$470,9,0),\"\")","v":""},{"$f":"IF(MAX('3-3 위험성평가'!$A$4:$A$536)+1>E438,VLOOKUP(E438,'3-3 위험성평가'!$A$5:$P$536,12,0),\"\")&IF(L438>\"\",\".\"&E438,\"\")","v":""},{"$f":"IF(MAX('3-3 위험성평가'!$A$4:$A$470)+1>E438,VLOOKUP(E438,'3-3 위험성평가'!$A$5:$P$470,13,0),\"\")","v":""},null,"하",null,null,null,null,null,null,null,"선택안함",0,{"$f":"IF(MAX('3-3 위험성평가'!$A$4:$A$470)+1>E438,VLOOKUP(E438,'3-3 위험성평가'!$A$5:$Q$470,17,0),\"\")","v":""},"선택",{"$f":"표지!$D$33","v":"시원건설"},{"$f":"표지!$E$34","v":"김길동4"},"선택안함",0]
["T40",4,"S40",4,431,{"$f":"IF(MAX('3-3 위험성평가'!$A$4:$A$470)+1>E439,VLOOKUP(E439,'3-3 위험성평가'!$A$5:$P$470,2,0),\"\")","v":""},{"$f":"IF(F439=\"\",\"\",VLOOKUP(VALUE(F439),'1-1 사업장 공정 정보'!$D$15:$P$32,5,0))","v":""},{"$f":"IF(MAX('3-3 위험성평가'!$A$4:$A$470)+1>E439,VLOOKUP(E439,'3-3 위험성평가'!$A$5:$P$470,3,0),\"\")","v":""},{"$f":"IF(MAX('3-3 위험성평가'!$A$4:$A$470)+1>E439,VLOOKUP(E439,'3-3 위험성평가'!$A$5:$P$470,4,0),\"\")","v":""},{"$f":"IF(MAX('3-3 위험성평가'!$A$4:$A$470)+1>E439,VLOOKUP(E439,'3-3 위험성평가'!$A$5:$P$470,5,0),\"\")","v":""},{"$f":"IF(MAX('3-3 위험성평가'!$A$4:$A$470)+1>E439,VLOOKUP(E439,'3-3 위험성평가'!$A$5:$P$470,6,0),\"\")","v":""},{"$f":"IF(MAX('3-3 위험성평가'!$A$4:$A$470)+1>E439,VLOOKUP(E439,'3-3 위험성평가'!$A$5:$P$470,9,0),\"\")","v":""},{"$f":"IF(MAX('3-3 위험성평가'!$A$4:$A$536)+1>E439,VLOOKUP(E439,'3-3 위험성평가'!$A$5:$P$536,12,0),\"\")&IF(L439>\"\",\".\"&E439,\"\")","v":""},{"$f":"IF(MAX('3-3 위험성평가'!$A$4:$A$470)+1>E439,VLOOKUP(E439,'3-3 위험성평가'!$A$5:$P$470,13,0),\"\")","v":""},null,"하",null,null,null,null,null,null,null,"선택안함",0,{"$f":"IF(MAX('3-3 위험성평가'!$A$4:$A$470)+1>E439,VLOOKUP(E439,'3-3 위험성평가'!$A$5:$Q$470,17,0),\"\")","v":""},"선택",{"$f":"표지!$D$33","v":"시원건설"},{"$f":"표지!$E$34","v":"김길동4"},"선택안함",0]
["T40",4,"S40",4,432,{"$f":"IF(MAX('3-3 위험성평가'!$A$4:$A$470)+1>E440,VLOOKUP(E440,'3-3 위험성평가'!$A$5:$P$470,2,0),\"\")","v":""},{"$f":"IF(F440=\"\",\"\",VLOOKUP(VALUE(F440),'1-1 사업장 공정 정보'!$D$15:$P$32,5,0))","v":""},{"$f":"IF(MAX('3-3 위험성평가'!$A$4:$A$470)+1>E440,VLOOKUP(E440,'3-3 위험성평가'!$A$5:$P$470,3,0),\"\")","v":""},{"$f":"IF(MAX('3-3 위험성평가'!$A$4:$A$470)+1>E440,VLOOKUP(E440,'3-3 위험성평가'!$A$5:$P$470,4,0),\"\")","v":""},{"$f":"IF(MAX('3-3 위험성평가'!$A$4:$A$470)+1>E440,VLOOKUP(E440,'3-3 위험성평가'!$A$5:$P$470,5,0),\"\")","v":""},{"$f":"IF(MAX('3-3 위험성평가'!$A$4:$A$470)+1>E440,VLOOKUP(E440,'3-3 위험성평가'!$A$5:$P$470,6,0),\"\")","v":""},{"$f":"IF(MAX('3-3 위험성평가'!$A$4:$A$470)+1>E440,VLOOKUP(E440,'3-3 위험성평가'!$A$5:$P$470,9,0),\"\")","v":""},{"$f":"IF(MAX('3-3 위험성평가'!$A$4:$A$536)+1>E440,VLOOKUP(E440,'3-3 위험성평가'!$A$5:$P$536,12,0),\"\")&IF(L440>\"\",\".\"&E440,\"\")","v":""},{"$f":"IF(MAX('3-3 위험성평가'!$A$4:$A$470)+1>E440,VLOOKUP(E440,'3-3 위험성평가'!$A$5:$P$470,13,0),\"\")","v":""},null,"하",null,null,null,null,null,null,null,"선택안함",0,{"$f":"IF(MAX('3-3 위험성평가'!$A$4:$A$470)+1>E440,VLOOKUP(E440,'3-3 위험성평가'!$A$5:$Q$470,17,0),\"\")","v":""},"선택",{"$f":"표지!$D$33","v":"시원건설"},{"$f":"표지!$E$34","v":"김길동4"},"선택안함",0]
["T40",4,"S40",4,433,{"$f":"IF(MAX('3-3 위험성평가'!$A$4:$A$470)+1>E441,VLOOKUP(E441,'3-3 위험성평가'!$A$5:$P$470,2,0),\"\")","v":""},{"$f":"IF(F441=\"\",\"\",VLOOKUP(VALUE(F441),'1-1 사업장 공정 정보'!$D$15:$P$32,5,0))","v":""},{"$f":"IF(MAX('3-3 위험성평가'!$A$4:$A$470)+1>E441,VLOOKUP(E441,'3-3 위험성평가'!$A$5:$P$470,3,0),\"\")","v":""},{"$f":"IF(MAX('3-3 위험성평가'!$A$4:$A$470)+1>E441,VLOOKUP(E441,'3-3 위험성평가'!$A$5:$P$470,4,0),\"\")","v":""},{"$f":"IF(MAX('3-3 위험성평가'!$A$4:$A$470)+1>E441,VLOOKUP(E441,'3-3 위험성평가'!$A$5:$P$470,5,0),\"\")","v":""},{"$f":"IF(MAX('3-3 위험성평가'!$A$4:$A$470)+1>E441,VLOOKUP(E441,'3-3 위험성평가'!$A$5:$P$470,6,0),\"\")","v":""},{"$f":"IF(MAX('3-3 위험성평가'!$A$4:$A$470)+1>E441,VLOOKUP(E441,'3-3 위험성평가'!$A$5:$P$470,9,0),\"\")","v":""},{"$f":"IF(MAX('3-3 위험성평가'!$A$4:$A$536)+1>E441,VLOOKUP(E441,'3-3 위험성평가'!$A$5:$P$536,12,0),\"\")&IF(L441>\"\",\".\"&E441,\"\")","v":""},{"$f":"IF(MAX('3-3 위험성평가'!$A$4:$A$470)+1>E441,VLOOKUP(E441,'3-3 위험성평가'!$A$5:$P$470,13,0),\"\")","v":""},null,"하",null,null,null,null,null,null,null,"선택안함",0,{"$f":"IF(MAX('3-3 위험성평가'!$A$4:$A$470)+1>E441,VLOOKUP(E441,'3-3 위험성평가'!$A$5:$Q$470,17,0),\"\")","v":""},"선택",{"$f":"표지!$D$33","v":"시원건설"},{"$f":"표지!$E$34","v":"김길동4"},"선택안함",0]
["T40",4,"S40",4,434,{"$f":"IF(MAX('3-3 위험성평가'!$A$4:$A$470)+1>E442,VLOOKUP(E442,'3-3 위험성평가'!$A$5:$P$470,2,0),\"\")","v":""},{"$f":"IF(F442=\"\",\"\",VLOOKUP(VALUE(F442),'1-1 사업장 공정 정보'!$D$15:$P$32,5,0))","v":""},{"$f":"IF(MAX('3-3 위험성평가'!$A$4:$A$470)+1>E442,VLOOKUP(E442,'3-3 위험성평가'!$A$5:$P$470,3,0),\"\")","v":""},{"$f":"IF(MAX('3-3 위험성평가'!$A$4:$A$470)+1>E442,VLOOKUP(E442,'3-3 위험성평가'!$A$5:$P$470,4,0),\"\")","v":""},{"$f":"IF(MAX('3-3 위험성평가'!$A$4:$A$470)+1>E442,VLOOKUP(E442,'3-3 위험성평가'!$A$5:$P$470,5,0),\"\")","v":""},{"$f":"IF(MAX('3-3 위험성평가'!$A$4:$A$470)+1>E442,VLOOKUP(E442,'3-3 위험성평가'!$A$5:$P$470,6,0),\"\")","v":""},{"$f":"IF(MAX('3-3 위험성평가'!$A$4:$A$470)+1>E442,VLOOKUP(E442,'3-3 위험성평가'!$A$5:$P$470,9,0),\"\")","v":""},{"$f":"IF(MAX('3-3 위험성평가'!$A$4:$A$536)+1>E442,VLOOKUP(E442,'3-3 위험성평가'!$A$5:$P$536,12,0),\"\")&IF(L442>\"\",\".\"&E442,\"\")","v":""},{"$f":"IF(MAX('3-3 위험성평가'!$A$4:$A$470)+1>E442,VLOOKUP(E442,'3-3 위험성평가'!$A$5:$P$470,13,0),\"\")","v":""},null,"하",null,null,null,null,null,null,null,"선택안함",0,{"$f":"IF(MAX('3-3 위험성평가'!$A$4:$A$470)+1>E442,VLOOKUP(E442,'3-3 위험성평가'!$A$5:$Q$470,17,0),\"\")","v":""},"선택",{"$f":"표지!$D$33","v":"시원건설"},{"$f":"표지!$E$34","v":"김길동4"},"선택안함",0]
["T40",4,"S40",4,435,{"$f":"IF(MAX('3-3 위험성평가'!$A$4:$A$470)+1>E443,VLOOKUP(E443,'3-3 위험성평가'!$A$5:$P$470,2,0),\"\")","v":""},{"$f":"IF(F443=\"\",\"\",VLOOKUP(VALUE(F443),'1-1 사업장 공정 정보'!$D$15:$P$32,5,0))","v":""},{"$f":"IF(MAX('3-3 위험성평가'!$A$4:$A$470)+1>E443,VLOOKUP(E443,'3-3 위험성평가'!$A$5:$P$470,3,0),\"\")","v":""},{"$f":"IF(MAX('3-3 위험성평가'!$A$4:$A$470)+1>E443,VLOOKUP(E443,'3-3 위험성평가'!$A$5:$P$470,4,0),\"\")","v":""},{"$f":"IF(MAX('3-3 위험성평가'!$A$4:$A$470)+1>E443,VLOOKUP(E443,'3-3 위험성평가'!$A$5:$P$470,5,0),\"\")","v":""},{"$f":"IF(MAX('3-3 위험성평가'!$A$4:$A$470)+1>E443,VLOOKUP(E443,'3-3 위험성평가'!$A$5:$P$470,6,0),\"\")","v":""},{"$f":"IF(MAX('3-3 위험성평가'!$A$4:$A$470)+1>E443,VLOOKUP(E443,'3-3 위험성평가'!$A$5:$P$470,9,0),\"\")","v":""},{"$f":"IF(MAX('3-3 위험성평가'!$A$4:$A$536)+1>E443,VLOOKUP(E443,'3-3 위험성평가'!$A$5:$P$536,12,0),\"\")&IF(L443>\"\",\".\"&E443,\"\")","v":""},{"$f":"IF(MAX('3-3 위험성평가'!$A$4:$A$470)+1>E443,VLOOKUP(E443,'3-3 위험성평가'!$A$5:$P$470,13,0),\"\")","v":""},null,"하",null,null,null,null,null,null,null,"선택안함",0,{"$f":"IF(MAX('3-3 위험성평가'!$A$4:$A$470)+1>E443,VLOOKUP(E443,'3-3 위험성평가'!$A$5:$Q$470,17,0),\"\")","v":""},"선택",{"$f":"표지!$D$33","v":"시원건설"},{"$f":"표지!$E$34","v":"김길동4"},"선택안함",0]
["T40",4,"S40",4,436,{"$f":"IF(MAX('3-3 위험성평가'!$A$4:$A$470)+1>E444,VLOOKUP(E444,'3-3 위험성평가'!$A$5:$P$470,2,0),\"\")","v":""},{"$f":"IF(F444=\"\",\"\",VLOOKUP(VALUE(F444),'1-1 사업장 공정 정보'!$D$15:$P$32,5,0))","v":""},{"$f":"IF(MAX('3-3 위험성평가'!$A$4:$A$470)+1>E444,VLOOKUP(E444,'3-3 위험성평가'!$A$5:$P$470,3,0),\"\")","v":""},{"$f":"IF(MAX('3-3 위험성평가'!$A$4:$A$470)+1>E444,VLOOKUP(E444,'3-3 위험성평가'!$A$5:$P$470,4,0),\"\")","v":""},{"$f":"IF(MAX('3-3 위험성평가'!$A$4:$A$470)+1>E444,VLOOKUP(E444,'3-3 위험성평가'!$A$5:$P$470,5,0),\"\")","v":""},{"$f":"IF(MAX('3-3 위험성평가'!$A$4:$A$470)+1>E444,VLOOKUP(E444,'3-3 위험성평가'!$A$5:$P$470,6,0),\"\")","v":""},{"$f":"IF(MAX('3-3 위험성평가'!$A$4:$A$470)+1>E444,VLOOKUP(E444,'3-3 위험성평가'!$A$5:$P$470,9,0),\"\")","v":""},{"$f":"IF(MAX('3-3 위험성평가'!$A$4:$A$536)+1>E444,VLOOKUP(E444,'3-3 위험성평가'!$A$5:$P$536,12,0),\"\")&IF(L444>\"\",\".\"&E444,\"\")","v":""},{"$f":"IF(MAX('3-3 위험성평가'!$A$4:$A$470)+1>E444,VLOOKUP(E444,'3-3 위험성평가'!$A$5:$P$470,13,0),\"\")","v":""},null,"하",null,null,null,null,null,null,null,"선택안함",0,{"$f":"IF(MAX('3-3 위험성평가'!$A$4:$A$470)+1>E444,VLOOKUP(E444,'3-3 위험성평가'!$A$5:$Q$470,17,0),\"\")","v":""},"선택",{"$f":"표지!$D$33","v":"시원건설"},{"$f":"표지!$E$34","v":"김길동4"},"선택안함",0]
["T40",4,"S40",4,437,{"$f":"IF(MAX('3-3 위험성평가'!$A$4:$A$470)+1>E445,VLOOKUP(E445,'3-3 위험성평가'!$A$5:$P$470,2,0),\"\")","v":""},{"$f":"IF(F445=\"\",\"\",VLOOKUP(VALUE(F445),'1-1 사업장 공정 정보'!$D$15:$P$32,5,0))","v":""},{"$f":"IF(MAX('3-3 위험성평가'!$A$4:$A$470)+1>E445,VLOOKUP(E445,'3-3 위험성평가'!$A$5:$P$470,3,0),\"\")","v":""},{"$f":"IF(MAX('3-3 위험성평가'!$A$4:$A$470)+1>E445,VLOOKUP(E445,'3-3 위험성평가'!$A$5:$P$470,4,0),\"\")","v":""},{"$f":"IF(MAX('3-3 위험성평가'!$A$4:$A$470)+1>E445,VLOOKUP(E445,'3-3 위험성평가'!$A$5:$P$470,5,0),\"\")","v":""},{"$f":"IF(MAX('3-3 위험성평가'!$A$4:$A$470)+1>E445,VLOOKUP(E445,'3-3 위험성평가'!$A$5:$P$470,6,0),\"\")","v":""},{"$f":"IF(MAX('3-3 위험성평가'!$A$4:$A$470)+1>E445,VLOOKUP(E445,'3-3 위험성평가'!$A$5:$P$470,9,0),\"\")","v":""},{"$f":"IF(MAX('3-3 위험성평가'!$A$4:$A$536)+1>E445,VLOOKUP(E445,'3-3 위험성평가'!$A$5:$P$536,12,0),\"\")&IF(L445>\"\",\".\"&E445,\"\")","v":""},{"$f":"IF(MAX('3-3 위험성평가'!$A$4:$A$470)+1>E445,VLOOKUP(E445,'3-3 위험성평가'!$A$5:$P$470,13,0),\"\")","v":""},null,"하",null,null,null,null,null,null,null,"선택안함",0,{"$f":"IF(MAX('3-3 위험성평가'!$A$4:$A$470)+1>E445,VLOOKUP(E445,'3-3 위험성평가'!$A$5:$Q$470,17,0),\"\")","v":""},"선택",{"$f":"표지!$D$33","v":"시원건설"},{"$f":"표지!$E$34","v":"김길동4"},"선택안함",0]
["T40",4,"S40",4,438,{"$f":"IF(MAX('3-3 위험성평가'!$A$4:$A$470)+1>E446,VLOOKUP(E446,'3-3 위험성평가'!$A$5:$P$470,2,0),\"\")","v":""},{"$f":"IF(F446=\"\",\"\",VLOOKUP(VALUE(F446),'1-1 사업장 공정 정보'!$D$15:$P$32,5,0))","v":""},{"$f":"IF(MAX('3-3 위험성평가'!$A$4:$A$470)+1>E446,VLOOKUP(E446,'3-3 위험성평가'!$A$5:$P$470,3,0),\"\")","v":""},{"$f":"IF(MAX('3-3 위험성평가'!$A$4:$A$470)+1>E446,VLOOKUP(E446,'3-3 위험성평가'!$A$5:$P$470,4,0),\"\")","v":""},{"$f":"IF(MAX('3-3 위험성평가'!$A$4:$A$470)+1>E446,VLOOKUP(E446,'3-3 위험성평가'!$A$5:$P$470,5,0),\"\")","v":""},{"$f":"IF(MAX('3-3 위험성평가'!$A$4:$A$470)+1>E446,VLOOKUP(E446,'3-3 위험성평가'!$A$5:$P$470,6,0),\"\")","v":""},{"$f":"IF(MAX('3-3 위험성평가'!$A$4:$A$470)+1>E446,VLOOKUP(E446,'3-3 위험성평가'!$A$5:$P$470,9,0),\"\")","v":""},{"$f":"IF(MAX('3-3 위험성평가'!$A$4:$A$536)+1>E446,VLOOKUP(E446,'3-3 위험성평가'!$A$5:$P$536,12,0),\"\")&IF(L446>\"\",\".\"&E446,\"\")","v":""},{"$f":"IF(MAX('3-3 위험성평가'!$A$4:$A$470)+1>E446,VLOOKUP(E446,'3-3 위험성평가'!$A$5:$P$470,13,0),\"\")","v":""},null,"하",null,null,null,null,null,null,null,"선택안함",0,{"$f":"IF(MAX('3-3 위험성평가'!$A$4:$A$470)+1>E446,VLOOKUP(E446,'3-3 위험성평가'!$A$5:$Q$470,17,0),\"\")","v":""},"선택",{"$f":"표지!$D$33","v":"시원건설"},{"$f":"표지!$E$34","v":"김길동4"},"선택안함",0]
["T40",4,"S40",4,439,{"$f":"IF(MAX('3-3 위험성평가'!$A$4:$A$470)+1>E447,VLOOKUP(E447,'3-3 위험성평가'!$A$5:$P$470,2,0),\"\")","v":""},{"$f":"IF(F447=\"\",\"\",VLOOKUP(VALUE(F447),'1-1 사업장 공정 정보'!$D$15:$P$32,5,0))","v":""},{"$f":"IF(MAX('3-3 위험성평가'!$A$4:$A$470)+1>E447,VLOOKUP(E447,'3-3 위험성평가'!$A$5:$P$470,3,0),\"\")","v":""},{"$f":"IF(MAX('3-3 위험성평가'!$A$4:$A$470)+1>E447,VLOOKUP(E447,'3-3 위험성평가'!$A$5:$P$470,4,0),\"\")","v":""},{"$f":"IF(MAX('3-3 위험성평가'!$A$4:$A$470)+1>E447,VLOOKUP(E447,'3-3 위험성평가'!$A$5:$P$470,5,0),\"\")","v":""},{"$f":"IF(MAX('3-3 위험성평가'!$A$4:$A$470)+1>E447,VLOOKUP(E447,'3-3 위험성평가'!$A$5:$P$470,6,0),\"\")","v":""},{"$f":"IF(MAX('3-3 위험성평가'!$A$4:$A$470)+1>E447,VLOOKUP(E447,'3-3 위험성평가'!$A$5:$P$470,9,0),\"\")","v":""},{"$f":"IF(MAX('3-3 위험성평가'!$A$4:$A$536)+1>E447,VLOOKUP(E447,'3-3 위험성평가'!$A$5:$P$536,12,0),\"\")&IF(L447>\"\",\".\"&E447,\"\")","v":""},{"$f":"IF(MAX('3-3 위험성평가'!$A$4:$A$470)+1>E447,VLOOKUP(E447,'3-3 위험성평가'!$A$5:$P$470,13,0),\"\")","v":""},null,"하",null,null,null,null,null,null,null,"선택안함",0,{"$f":"IF(MAX('3-3 위험성평가'!$A$4:$A$470)+1>E447,VLOOKUP(E447,'3-3 위험성평가'!$A$5:$Q$470,17,0),\"\")","v":""},"선택",{"$f":"표지!$D$33","v":"시원건설"},{"$f":"표지!$E$34","v":"김길동4"},"선택안함",0]
["T40",4,"S40",4,440,{"$f":"IF(MAX('3-3 위험성평가'!$A$4:$A$470)+1>E448,VLOOKUP(E448,'3-3 위험성평가'!$A$5:$P$470,2,0),\"\")","v":""},{"$f":"IF(F448=\"\",\"\",VLOOKUP(VALUE(F448),'1-1 사업장 공정 정보'!$D$15:$P$32,5,0))","v":""},{"$f":"IF(MAX('3-3 위험성평가'!$A$4:$A$470)+1>E448,VLOOKUP(E448,'3-3 위험성평가'!$A$5:$P$470,3,0),\"\")","v":""},{"$f":"IF(MAX('3-3 위험성평가'!$A$4:$A$470)+1>E448,VLOOKUP(E448,'3-3 위험성평가'!$A$5:$P$470,4,0),\"\")","v":""},{"$f":"IF(MAX('3-3 위험성평가'!$A$4:$A$470)+1>E448,VLOOKUP(E448,'3-3 위험성평가'!$A$5:$P$470,5,0),\"\")","v":""},{"$f":"IF(MAX('3-3 위험성평가'!$A$4:$A$470)+1>E448,VLOOKUP(E448,'3-3 위험성평가'!$A$5:$P$470,6,0),\"\")","v":""},{"$f":"IF(MAX('3-3 위험성평가'!$A$4:$A$470)+1>E448,VLOOKUP(E448,'3-3 위험성평가'!$A$5:$P$470,9,0),\"\")","v":""},{"$f":"IF(MAX('3-3 위험성평가'!$A$4:$A$536)+1>E448,VLOOKUP(E448,'3-3 위험성평가'!$A$5:$P$536,12,0),\"\")&IF(L448>\"\",\".\"&E448,\"\")","v":""},{"$f":"IF(MAX('3-3 위험성평가'!$A$4:$A$470)+1>E448,VLOOKUP(E448,'3-3 위험성평가'!$A$5:$P$470,13,0),\"\")","v":""},null,"하",null,null,null,null,null,null,null,"선택안함",0,{"$f":"IF(MAX('3-3 위험성평가'!$A$4:$A$470)+1>E448,VLOOKUP(E448,'3-3 위험성평가'!$A$5:$Q$470,17,0),\"\")","v":""},"선택",{"$f":"표지!$D$33","v":"시원건설"},{"$f":"표지!$E$34","v":"김길동4"},"선택안함",0]
["T40",4,"S40",4,441,{"$f":"IF(MAX('3-3 위험성평가'!$A$4:$A$470)+1>E449,VLOOKUP(E449,'3-3 위험성평가'!$A$5:$P$470,2,0),\"\")","v":""},{"$f":"IF(F449=\"\",\"\",VLOOKUP(VALUE(F449),'1-1 사업장 공정 정보'!$D$15:$P$32,5,0))","v":""},{"$f":"IF(MAX('3-3 위험성평가'!$A$4:$A$470)+1>E449,VLOOKUP(E449,'3-3 위험성평가'!$A$5:$P$470,3,0),\"\")","v":""},{"$f":"IF(MAX('3-3 위험성평가'!$A$4:$A$470)+1>E449,VLOOKUP(E449,'3-3 위험성평가'!$A$5:$P$470,4,0),\"\")","v":""},{"$f":"IF(MAX('3-3 위험성평가'!$A$4:$A$470)+1>E449,VLOOKUP(E449,'3-3 위험성평가'!$A$5:$P$470,5,0),\"\")","v":""},{"$f":"IF(MAX('3-3 위험성평가'!$A$4:$A$470)+1>E449,VLOOKUP(E449,'3-3 위험성평가'!$A$5:$P$470,6,0),\"\")","v":""},{"$f":"IF(MAX('3-3 위험성평가'!$A$4:$A$470)+1>E449,VLOOKUP(E449,'3-3 위험성평가'!$A$5:$P$470,9,0),\"\")","v":""},{"$f":"IF(MAX('3-3 위험성평가'!$A$4:$A$536)+1>E449,VLOOKUP(E449,'3-3 위험성평가'!$A$5:$P$536,12,0),\"\")&IF(L449>\"\",\".\"&E449,\"\")","v":""},{"$f":"IF(MAX('3-3 위험성평가'!$A$4:$A$470)+1>E449,VLOOKUP(E449,'3-3 위험성평가'!$A$5:$P$470,13,0),\"\")","v":""},null,"하",null,null,null,null,null,null,null,"선택안함",0,{"$f":"IF(MAX('3-3 위험성평가'!$A$4:$A$470)+1>E449,VLOOKUP(E449,'3-3 위험성평가'!$A$5:$Q$470,17,0),\"\")","v":""},"선택",{"$f":"표지!$D$33","v":"시원건설"},{"$f":"표지!$E$34","v":"김길동4"},"선택안함",0]
["T40",4,"S40",4,442,{"$f":"IF(MAX('3-3 위험성평가'!$A$4:$A$470)+1>E450,VLOOKUP(E450,'3-3 위험성평가'!$A$5:$P$470,2,0),\"\")","v":""},{"$f":"IF(F450=\"\",\"\",VLOOKUP(VALUE(F450),'1-1 사업장 공정 정보'!$D$15:$P$32,5,0))","v":""},{"$f":"IF(MAX('3-3 위험성평가'!$A$4:$A$470)+1>E450,VLOOKUP(E450,'3-3 위험성평가'!$A$5:$P$470,3,0),\"\")","v":""},{"$f":"IF(MAX('3-3 위험성평가'!$A$4:$A$470)+1>E450,VLOOKUP(E450,'3-3 위험성평가'!$A$5:$P$470,4,0),\"\")","v":""},{"$f":"IF(MAX('3-3 위험성평가'!$A$4:$A$470)+1>E450,VLOOKUP(E450,'3-3 위험성평가'!$A$5:$P$470,5,0),\"\")","v":""},{"$f":"IF(MAX('3-3 위험성평가'!$A$4:$A$470)+1>E450,VLOOKUP(E450,'3-3 위험성평가'!$A$5:$P$470,6,0),\"\")","v":""},{"$f":"IF(MAX('3-3 위험성평가'!$A$4:$A$470)+1>E450,VLOOKUP(E450,'3-3 위험성평가'!$A$5:$P$470,9,0),\"\")","v":""},{"$f":"IF(MAX('3-3 위험성평가'!$A$4:$A$536)+1>E450,VLOOKUP(E450,'3-3 위험성평가'!$A$5:$P$536,12,0),\"\")&IF(L450>\"\",\".\"&E450,\"\")","v":""},{"$f":"IF(MAX('3-3 위험성평가'!$A$4:$A$470)+1>E450,VLOOKUP(E450,'3-3 위험성평가'!$A$5:$P$470,13,0),\"\")","v":""},null,"하",null,null,null,null,null,null,null,"선택안함",0,{"$f":"IF(MAX('3-3 위험성평가'!$A$4:$A$470)+1>E450,VLOOKUP(E450,'3-3 위험성평가'!$A$5:$Q$470,17,0),\"\")","v":""},"선택",{"$f":"표지!$D$33","v":"시원건설"},{"$f":"표지!$E$34","v":"김길동4"},"선택안함",0]
["T40",4,"S40",4,443,{"$f":"IF(MAX('3-3 위험성평가'!$A$4:$A$470)+1>E451,VLOOKUP(E451,'3-3 위험성평가'!$A$5:$P$470,2,0),\"\")","v":""},{"$f":"IF(F451=\"\",\"\",VLOOKUP(VALUE(F451),'1-1 사업장 공정 정보'!$D$15:$P$32,5,0))","v":""},{"$f":"IF(MAX('3-3 위험성평가'!$A$4:$A$470)+1>E451,VLOOKUP(E451,'3-3 위험성평가'!$A$5:$P$470,3,0),\"\")","v":""},{"$f":"IF(MAX('3-3 위험성평가'!$A$4:$A$470)+1>E451,VLOOKUP(E451,'3-3 위험성평가'!$A$5:$P$470,4,0),\"\")","v":""},{"$f":"IF(MAX('3-3 위험성평가'!$A$4:$A$470)+1>E451,VLOOKUP(E451,'3-3 위험성평가'!$A$5:$P$470,5,0),\"\")","v":""},{"$f":"IF(MAX('3-3 위험성평가'!$A$4:$A$470)+1>E451,VLOOKUP(E451,'3-3 위험성평가'!$A$5:$P$470,6,0),\"\")","v":""},{"$f":"IF(MAX('3-3 위험성평가'!$A$4:$A$470)+1>E451,VLOOKUP(E451,'3-3 위험성평가'!$A$5:$P$470,9,0),\"\")","v":""},{"$f":"IF(MAX('3-3 위험성평가'!$A$4:$A$536)+1>E451,VLOOKUP(E451,'3-3 위험성평가'!$A$5:$P$536,12,0),\"\")&IF(L451>\"\",\".\"&E451,\"\")","v":""},{"$f":"IF(MAX('3-3 위험성평가'!$A$4:$A$470)+1>E451,VLOOKUP(E451,'3-3 위험성평가'!$A$5:$P$470,13,0),\"\")","v":""},null,"하",null,null,null,null,null,null,null,"선택안함",0,{"$f":"IF(MAX('3-3 위험성평가'!$A$4:$A$470)+1>E451,VLOOKUP(E451,'3-3 위험성평가'!$A$5:$Q$470,17,0),\"\")","v":""},"선택",{"$f":"표지!$D$33","v":"시원건설"},{"$f":"표지!$E$34","v":"김길동4"},"선택안함",0]
["T40",4,"S40",4,444,{"$f":"IF(MAX('3-3 위험성평가'!$A$4:$A$470)+1>E452,VLOOKUP(E452,'3-3 위험성평가'!$A$5:$P$470,2,0),\"\")","v":""},{"$f":"IF(F452=\"\",\"\",VLOOKUP(VALUE(F452),'1-1 사업장 공정 정보'!$D$15:$P$32,5,0))","v":""},{"$f":"IF(MAX('3-3 위험성평가'!$A$4:$A$470)+1>E452,VLOOKUP(E452,'3-3 위험성평가'!$A$5:$P$470,3,0),\"\")","v":""},{"$f":"IF(MAX('3-3 위험성평가'!$A$4:$A$470)+1>E452,VLOOKUP(E452,'3-3 위험성평가'!$A$5:$P$470,4,0),\"\")","v":""},{"$f":"IF(MAX('3-3 위험성평가'!$A$4:$A$470)+1>E452,VLOOKUP(E452,'3-3 위험성평가'!$A$5:$P$470,5,0),\"\")","v":""},{"$f":"IF(MAX('3-3 위험성평가'!$A$4:$A$470)+1>E452,VLOOKUP(E452,'3-3 위험성평가'!$A$5:$P$470,6,0),\"\")","v":""},{"$f":"IF(MAX('3-3 위험성평가'!$A$4:$A$470)+1>E452,VLOOKUP(E452,'3-3 위험성평가'!$A$5:$P$470,9,0),\"\")","v":""},{"$f":"IF(MAX('3-3 위험성평가'!$A$4:$A$536)+1>E452,VLOOKUP(E452,'3-3 위험성평가'!$A$5:$P$536,12,0),\"\")&IF(L452>\"\",\".\"&E452,\"\")","v":""},{"$f":"IF(MAX('3-3 위험성평가'!$A$4:$A$470)+1>E452,VLOOKUP(E452,'3-3 위험성평가'!$A$5:$P$470,13,0),\"\")","v":""},null,"하",null,null,null,null,null,null,null,"선택안함",0,{"$f":"IF(MAX('3-3 위험성평가'!$A$4:$A$470)+1>E452,VLOOKUP(E452,'3-3 위험성평가'!$A$5:$Q$470,17,0),\"\")","v":""},"선택",{"$f":"표지!$D$33","v":"시원건설"},{"$f":"표지!$E$34","v":"김길동4"},"선택안함",0]
["T40",4,"S40",4,445,{"$f":"IF(MAX('3-3 위험성평가'!$A$4:$A$470)+1>E453,VLOOKUP(E453,'3-3 위험성평가'!$A$5:$P$470,2,0),\"\")","v":""},{"$f":"IF(F453=\"\",\"\",VLOOKUP(VALUE(F453),'1-1 사업장 공정 정보'!$D$15:$P$32,5,0))","v":""},{"$f":"IF(MAX('3-3 위험성평가'!$A$4:$A$470)+1>E453,VLOOKUP(E453,'3-3 위험성평가'!$A$5:$P$470,3,0),\"\")","v":""},{"$f":"IF(MAX('3-3 위험성평가'!$A$4:$A$470)+1>E453,VLOOKUP(E453,'3-3 위험성평가'!$A$5:$P$470,4,0),\"\")","v":""},{"$f":"IF(MAX('3-3 위험성평가'!$A$4:$A$470)+1>E453,VLOOKUP(E453,'3-3 위험성평가'!$A$5:$P$470,5,0),\"\")","v":""},{"$f":"IF(MAX('3-3 위험성평가'!$A$4:$A$470)+1>E453,VLOOKUP(E453,'3-3 위험성평가'!$A$5:$P$470,6,0),\"\")","v":""},{"$f":"IF(MAX('3-3 위험성평가'!$A$4:$A$470)+1>E453,VLOOKUP(E453,'3-3 위험성평가'!$A$5:$P$470,9,0),\"\")","v":""},{"$f":"IF(MAX('3-3 위험성평가'!$A$4:$A$536)+1>E453,VLOOKUP(E453,'3-3 위험성평가'!$A$5:$P$536,12,0),\"\")&IF(L453>\"\",\".\"&E453,\"\")","v":""},{"$f":"IF(MAX('3-3 위험성평가'!$A$4:$A$470)+1>E453,VLOOKUP(E453,'3-3 위험성평가'!$A$5:$P$470,13,0),\"\")","v":""},null,"하",null,null,null,null,null,null,null,"선택안함",0,{"$f":"IF(MAX('3-3 위험성평가'!$A$4:$A$470)+1>E453,VLOOKUP(E453,'3-3 위험성평가'!$A$5:$Q$470,17,0),\"\")","v":""},"선택",{"$f":"표지!$D$33","v":"시원건설"},{"$f":"표지!$E$34","v":"김길동4"},"선택안함",0]
["T40",4,"S40",4,446,{"$f":"IF(MAX('3-3 위험성평가'!$A$4:$A$470)+1>E454,VLOOKUP(E454,'3-3 위험성평가'!$A$5:$P$470,2,0),\"\")","v":""},{"$f":"IF(F454=\"\",\"\",VLOOKUP(VALUE(F454),'1-1 사업장 공정 정보'!$D$15:$P$32,5,0))","v":""},{"$f":"IF(MAX('3-3 위험성평가'!$A$4:$A$470)+1>E454,VLOOKUP(E454,'3-3 위험성평가'!$A$5:$P$470,3,0),\"\")","v":""},{"$f":"IF(MAX('3-3 위험성평가'!$A$4:$A$470)+1>E454,VLOOKUP(E454,'3-3 위험성평가'!$A$5:$P$470,4,0),\"\")","v":""},{"$f":"IF(MAX('3-3 위험성평가'!$A$4:$A$470)+1>E454,VLOOKUP(E454,'3-3 위험성평가'!$A$5:$P$470,5,0),\"\")","v":""},{"$f":"IF(MAX('3-3 위험성평가'!$A$4:$A$470)+1>E454,VLOOKUP(E454,'3-3 위험성평가'!$A$5:$P$470,6,0),\"\")","v":""},{"$f":"IF(MAX('3-3 위험성평가'!$A$4:$A$470)+1>E454,VLOOKUP(E454,'3-3 위험성평가'!$A$5:$P$470,9,0),\"\")","v":""},{"$f":"IF(MAX('3-3 위험성평가'!$A$4:$A$536)+1>E454,VLOOKUP(E454,'3-3 위험성평가'!$A$5:$P$536,12,0),\"\")&IF(L454>\"\",\".\"&E454,\"\")","v":""},{"$f":"IF(MAX('3-3 위험성평가'!$A$4:$A$470)+1>E454,VLOOKUP(E454,'3-3 위험성평가'!$A$5:$P$470,13,0),\"\")","v":""},null,"하",null,null,null,null,null,null,null,"선택안함",0,{"$f":"IF(MAX('3-3 위험성평가'!$A$4:$A$470)+1>E454,VLOOKUP(E454,'3-3 위험성평가'!$A$5:$Q$470,17,0),\"\")","v":""},"선택",{"$f":"표지!$D$33","v":"시원건설"},{"$f":"표지!$E$34","v":"김길동4"},"선택안함",0]
["T40",4,"S40",4,447,{"$f":"IF(MAX('3-3 위험성평가'!$A$4:$A$470)+1>E455,VLOOKUP(E455,'3-3 위험성평가'!$A$5:$P$470,2,0),\"\")","v":""},{"$f":"IF(F455=\"\",\"\",VLOOKUP(VALUE(F455),'1-1 사업장 공정 정보'!$D$15:$P$32,5,0))","v":""},{"$f":"IF(MAX('3-3 위험성평가'!$A$4:$A$470)+1>E455,VLOOKUP(E455,'3-3 위험성평가'!$A$5:$P$470,3,0),\"\")","v":""},{"$f":"IF(MAX('3-3 위험성평가'!$A$4:$A$470)+1>E455,VLOOKUP(E455,'3-3 위험성평가'!$A$5:$P$470,4,0),\"\")","v":""},{"$f":"IF(MAX('3-3 위험성평가'!$A$4:$A$470)+1>E455,VLOOKUP(E455,'3-3 위험성평가'!$A$5:$P$470,5,0),\"\")","v":""},{"$f":"IF(MAX('3-3 위험성평가'!$A$4:$A$470)+1>E455,VLOOKUP(E455,'3-3 위험성평가'!$A$5:$P$470,6,0),\"\")","v":""},{"$f":"IF(MAX('3-3 위험성평가'!$A$4:$A$470)+1>E455,VLOOKUP(E455,'3-3 위험성평가'!$A$5:$P$470,9,0),\"\")","v":""},{"$f":"IF(MAX('3-3 위험성평가'!$A$4:$A$536)+1>E455,VLOOKUP(E455,'3-3 위험성평가'!$A$5:$P$536,12,0),\"\")&IF(L455>\"\",\".\"&E455,\"\")","v":""},{"$f":"IF(MAX('3-3 위험성평가'!$A$4:$A$470)+1>E455,VLOOKUP(E455,'3-3 위험성평가'!$A$5:$P$470,13,0),\"\")","v":""},null,"하",null,null,null,null,null,null,null,"선택안함",0,{"$f":"IF(MAX('3-3 위험성평가'!$A$4:$A$470)+1>E455,VLOOKUP(E455,'3-3 위험성평가'!$A$5:$Q$470,17,0),\"\")","v":""},"선택",{"$f":"표지!$D$33","v":"시원건설"},{"$f":"표지!$E$34","v":"김길동4"},"선택안함",0]
["T40",4,"S40",4,448,{"$f":"IF(MAX('3-3 위험성평가'!$A$4:$A$470)+1>E456,VLOOKUP(E456,'3-3 위험성평가'!$A$5:$P$470,2,0),\"\")","v":""},{"$f":"IF(F456=\"\",\"\",VLOOKUP(VALUE(F456),'1-1 사업장 공정 정보'!$D$15:$P$32,5,0))","v":""},{"$f":"IF(MAX('3-3 위험성평가'!$A$4:$A$470)+1>E456,VLOOKUP(E456,'3-3 위험성평가'!$A$5:$P$470,3,0),\"\")","v":""},{"$f":"IF(MAX('3-3 위험성평가'!$A$4:$A$470)+1>E456,VLOOKUP(E456,'3-3 위험성평가'!$A$5:$P$470,4,0),\"\")","v":""},{"$f":"IF(MAX('3-3 위험성평가'!$A$4:$A$470)+1>E456,VLOOKUP(E456,'3-3 위험성평가'!$A$5:$P$470,5,0),\"\")","v":""},{"$f":"IF(MAX('3-3 위험성평가'!$A$4:$A$470)+1>E456,VLOOKUP(E456,'3-3 위험성평가'!$A$5:$P$470,6,0),\"\")","v":""},{"$f":"IF(MAX('3-3 위험성평가'!$A$4:$A$470)+1>E456,VLOOKUP(E456,'3-3 위험성평가'!$A$5:$P$470,9,0),\"\")","v":""},{"$f":"IF(MAX('3-3 위험성평가'!$A$4:$A$536)+1>E456,VLOOKUP(E456,'3-3 위험성평가'!$A$5:$P$536,12,0),\"\")&IF(L456>\"\",\".\"&E456,\"\")","v":""},{"$f":"IF(MAX('3-3 위험성평가'!$A$4:$A$470)+1>E456,VLOOKUP(E456,'3-3 위험성평가'!$A$5:$P$470,13,0),\"\")","v":""},null,"하",null,null,null,null,null,null,null,"선택안함",0,{"$f":"IF(MAX('3-3 위험성평가'!$A$4:$A$470)+1>E456,VLOOKUP(E456,'3-3 위험성평가'!$A$5:$Q$470,17,0),\"\")","v":""},"선택",{"$f":"표지!$D$33","v":"시원건설"},{"$f":"표지!$E$34","v":"김길동4"},"선택안함",0]
[{"$f":"\"T\"&B457&IF(OR(X457=\"선택\",X457=1),1,0)","v":"T40"},4,"S40",4,449,{"$f":"IF(MAX('3-3 위험성평가'!$A$4:$A$470)+1>E457,VLOOKUP(E457,'3-3 위험성평가'!$A$5:$P$470,2,0),\"\")","v":""},{"$f":"IF(F457=\"\",\"\",VLOOKUP(VALUE(F457),'1-1 사업장 공정 정보'!$D$15:$P$32,5,0))","v":""},{"$f":"IF(MAX('3-3 위험성평가'!$A$4:$A$470)+1>E457,VLOOKUP(E457,'3-3 위험성평가'!$A$5:$P$470,3,0),\"\")","v":""},{"$f":"IF(MAX('3-3 위험성평가'!$A$4:$A$470)+1>E457,VLOOKUP(E457,'3-3 위험성평가'!$A$5:$P$470,4,0),\"\")","v":""},{"$f":"IF(MAX('3-3 위험성평가'!$A$4:$A$470)+1>E457,VLOOKUP(E457,'3-3 위험성평가'!$A$5:$P$470,5,0),\"\")","v":""},{"$f":"IF(MAX('3-3 위험성평가'!$A$4:$A$470)+1>E457,VLOOKUP(E457,'3-3 위험성평가'!$A$5:$P$470,6,0),\"\")","v":""},{"$f":"IF(MAX('3-3 위험성평가'!$A$4:$A$470)+1>E457,VLOOKUP(E457,'3-3 위험성평가'!$A$5:$P$470,9,0),\"\")","v":""},{"$f":"IF(MAX('3-3 위험성평가'!$A$4:$A$536)+1>E457,VLOOKUP(E457,'3-3 위험성평가'!$A$5:$P$536,12,0),\"\")&IF(L457>\"\",\".\"&E457,\"\")","v":""},{"$f":"IF(MAX('3-3 위험성평가'!$A$4:$A$470)+1>E457,VLOOKUP(E457,'3-3 위험성평가'!$A$5:$P$470,13,0),\"\")","v":""},null,"하",null,null,null,null,null,null,null,"선택안함",0,{"$f":"IF(MAX('3-3 위험성평가'!$A$4:$A$470)+1>E457,VLOOKUP(E457,'3-3 위험성평가'!$A$5:$Q$470,17,0),\"\")","v":""},"선택",{"$f":"표지!$D$33","v":"시원건설"},{"$f":"표지!$E$34","v":"김길동4"},"선택안함",0]
["T40",4,{"$f":"\"S\"&D458&IF(OR(AD458=\"선택\",AD458=1),1,0)","v":"S40"},4,450,{"$f":"IF(MAX('3-3 위험성평가'!$A$4:$A$470)+1>E458,VLOOKUP(E458,'3-3 위험성평가'!$A$5:$P$470,2,0),\"\")","v":""},{"$f":"IF(F458=\"\",\"\",VLOOKUP(VALUE(F458),'1-1 사업장 공정 정보'!$D$15:$P$32,5,0))","v":""},{"$f":"IF(MAX('3-3 위험성평가'!$A$4:$A$470)+1>E458,VLOOKUP(E458,'3-3 위험성평가'!$A$5:$P$470,3,0),\"\")","v":""},{"$f":"IF(MAX('3-3 위험성평가'!$A$4:$A$470)+1>E458,VLOOKUP(E458,'3-3 위험성평가'!$A$5:$P$470,4,0),\"\")","v":""},{"$f":"IF(MAX('3-3 위험성평가'!$A$4:$A$470)+1>E458,VLOOKUP(E458,'3-3 위험성평가'!$A$5:$P$470,5,0),\"\")","v":""},{"$f":"IF(MAX('3-3 위험성평가'!$A$4:$A$470)+1>E458,VLOOKUP(E458,'3-3 위험성평가'!$A$5:$P$470,6,0),\"\")","v":""},{"$f":"IF(MAX('3-3 위험성평가'!$A$4:$A$470)+1>E458,VLOOKUP(E458,'3-3 위험성평가'!$A$5:$P$470,9,0),\"\")","v":""},{"$f":"IF(MAX('3-3 위험성평가'!$A$4:$A$536)+1>E458,VLOOKUP(E458,'3-3 위험성평가'!$A$5:$P$536,12,0),\"\")&IF(L458>\"\",\".\"&E458,\"\")","v":""},{"$f":"IF(MAX('3-3 위험성평가'!$A$4:$A$470)+1>E458,VLOOKUP(E458,'3-3 위험성평가'!$A$5:$P$470,13,0),\"\")","v":""},null,"하",null,null,null,null,null,null,null,"선택안함",{"$f":"IF(OR(X458=\"선택\",X458=1),1,0)","v":0},{"$f":"IF(MAX('3-3 위험성평가'!$A$4:$A$470)+1>E458,VLOOKUP(E458,'3-3 위험성평가'!$A$5:$Q$470,17,0),\"\")","v":""},"선택",{"$f":"표지!$D$33","v":"시원건설"},{"$f":"표지!$E$34","v":"김길동4"},"선택안함",{"$f":"IF(OR(AD458=\"선택\",AD458=1),1,0)","v":0}]
["T40",4,"S40",4,451,{"$f":"IF(MAX('3-3 위험성평가'!$A$4:$A$470)+1>E459,VLOOKUP(E459,'3-3 위험성평가'!$A$5:$P$470,2,0),\"\")","v":""},{"$f":"IF(F459=\"\",\"\",VLOOKUP(VALUE(F459),'1-1 사업장 공정 정보'!$D$15:$P$32,5,0))","v":""},{"$f":"IF(MAX('3-3 위험성평가'!$A$4:$A$470)+1>E459,VLOOKUP(E459,'3-3 위험성평가'!$A$5:$P$470,3,0),\"\")","v":""},{"$f":"IF(MAX('3-3 위험성평가'!$A$4:$A$470)+1>E459,VLOOKUP(E459,'3-3 위험성평가'!$A$5:$P$470,4,0),\"\")","v":""},{"$f":"IF(MAX('3-3 위험성평가'!$A$4:$A$470)+1>E459,VLOOKUP(E459,'3-3 위험성평가'!$A$5:$P$470,5,0),\"\")","v":""},{"$f":"IF(MAX('3-3 위험성평가'!$A$4:$A$470)+1>E459,VLOOKUP(E459,'3-3 위험성평가'!$A$5:$P$470,6,0),\"\")","v":""},{"$f":"IF(MAX('3-3 위험성평가'!$A$4:$A$470)+1>E459,VLOOKUP(E459,'3-3 위험성평가'!$A$5:$P$470,9,0),\"\")","v":""},{"$f":"IF(MAX('3-3 위험성평가'!$A$4:$A$536)+1>E459,VLOOKUP(E459,'3-3 위험성평가'!$A$5:$P$536,12,0),\"\")&IF(L459>\"\",\".\"&E459,\"\")","v":""},{"$f":"IF(MAX('3-3 위험성평가'!$A$4:$A$470)+1>E459,VLOOKUP(E459,'3-3 위험성평가'!$A$5:$P$470,13,0),\"\")","v":""},null,"하",null,null,null,null,null,null,null,"선택안함",0,{"$f":"IF(MAX('3-3 위험성평가'!$A$4:$A$470)+1>E459,VLOOKUP(E459,'3-3 위험성평가'!$A$5:$Q$470,17,0),\"\")","v":""},"선택",{"$f":"표지!$D$33","v":"시원건설"},{"$f":"표지!$E$34","v":"김길동4"},"선택안함",0]
["T40",4,"S40",{"$f":"D459+AE460","v":4},452,{"$f":"IF(MAX('3-3 위험성평가'!$A$4:$A$470)+1>E460,VLOOKUP(E460,'3-3 위험성평가'!$A$5:$P$470,2,0),\"\")","v":""},{"$f":"IF(F460=\"\",\"\",VLOOKUP(VALUE(F460),'1-1 사업장 공정 정보'!$D$15:$P$32,5,0))","v":""},{"$f":"IF(MAX('3-3 위험성평가'!$A$4:$A$470)+1>E460,VLOOKUP(E460,'3-3 위험성평가'!$A$5:$P$470,3,0),\"\")","v":""},{"$f":"IF(MAX('3-3 위험성평가'!$A$4:$A$470)+1>E460,VLOOKUP(E460,'3-3 위험성평가'!$A$5:$P$470,4,0),\"\")","v":""},{"$f":"IF(MAX('3-3 위험성평가'!$A$4:$A$470)+1>E460,VLOOKUP(E460,'3-3 위험성평가'!$A$5:$P$470,5,0),\"\")","v":""},{"$f":"IF(MAX('3-3 위험성평가'!$A$4:$A$470)+1>E460,VLOOKUP(E460,'3-3 위험성평가'!$A$5:$P$470,6,0),\"\")","v":""},{"$f":"IF(MAX('3-3 위험성평가'!$A$4:$A$470)+1>E460,VLOOKUP(E460,'3-3 위험성평가'!$A$5:$P$470,9,0),\"\")","v":""},{"$f":"IF(MAX('3-3 위험성평가'!$A$4:$A$536)+1>E460,VLOOKUP(E460,'3-3 위험성평가'!$A$5:$P$536,12,0),\"\")&IF(L460>\"\",\".\"&E460,\"\")","v":""},{"$f":"IF(MAX('3-3 위험성평가'!$A$4:$A$470)+1>E460,VLOOKUP(E460,'3-3 위험성평가'!$A$5:$P$470,13,0),\"\")","v":""},null,"하",null,null,null,null,null,null,null,"선택안함",0,{"$f":"IF(MAX('3-3 위험성평가'!$A$4:$A$470)+1>E460,VLOOKUP(E460,'3-3 위험성평가'!$A$5:$Q$470,17,0),\"\")","v":""},"선택",{"$f":"표지!$D$33","v":"시원건설"},{"$f":"표지!$E$34","v":"김길동4"},"선택안함",0]
["T40",4,"S40",4,453,{"$f":"IF(MAX('3-3 위험성평가'!$A$4:$A$470)+1>E461,VLOOKUP(E461,'3-3 위험성평가'!$A$5:$P$470,2,0),\"\")","v":""},{"$f":"IF(F461=\"\",\"\",VLOOKUP(VALUE(F461),'1-1 사업장 공정 정보'!$D$15:$P$32,5,0))","v":""},{"$f":"IF(MAX('3-3 위험성평가'!$A$4:$A$470)+1>E461,VLOOKUP(E461,'3-3 위험성평가'!$A$5:$P$470,3,0),\"\")","v":""},{"$f":"IF(MAX('3-3 위험성평가'!$A$4:$A$470)+1>E461,VLOOKUP(E461,'3-3 위험성평가'!$A$5:$P$470,4,0),\"\")","v":""},{"$f":"IF(MAX('3-3 위험성평가'!$A$4:$A$470)+1>E461,VLOOKUP(E461,'3-3 위험성평가'!$A$5:$P$470,5,0),\"\")","v":""},{"$f":"IF(MAX('3-3 위험성평가'!$A$4:$A$470)+1>E461,VLOOKUP(E461,'3-3 위험성평가'!$A$5:$P$470,6,0),\"\")","v":""},{"$f":"IF(MAX('3-3 위험성평가'!$A$4:$A$470)+1>E461,VLOOKUP(E461,'3-3 위험성평가'!$A$5:$P$470,9,0),\"\")","v":""},{"$f":"IF(MAX('3-3 위험성평가'!$A$4:$A$536)+1>E461,VLOOKUP(E461,'3-3 위험성평가'!$A$5:$P$536,12,0),\"\")&IF(L461>\"\",\".\"&E461,\"\")","v":""},{"$f":"IF(MAX('3-3 위험성평가'!$A$4:$A$470)+1>E461,VLOOKUP(E461,'3-3 위험성평가'!$A$5:$P$470,13,0),\"\")","v":""},null,"하",null,null,null,null,null,null,null,"선택안함",0,{"$f":"IF(MAX('3-3 위험성평가'!$A$4:$A$470)+1>E461,VLOOKUP(E461,'3-3 위험성평가'!$A$5:$Q$470,17,0),\"\")","v":""},"선택",{"$f":"표지!$D$33","v":"시원건설"},{"$f":"표지!$E$34","v":"김길동4"},"선택안함",0]
["T40",4,"S40",4,454,{"$f":"IF(MAX('3-3 위험성평가'!$A$4:$A$470)+1>E462,VLOOKUP(E462,'3-3 위험성평가'!$A$5:$P$470,2,0),\"\")","v":""},{"$f":"IF(F462=\"\",\"\",VLOOKUP(VALUE(F462),'1-1 사업장 공정 정보'!$D$15:$P$32,5,0))","v":""},{"$f":"IF(MAX('3-3 위험성평가'!$A$4:$A$470)+1>E462,VLOOKUP(E462,'3-3 위험성평가'!$A$5:$P$470,3,0),\"\")","v":""},{"$f":"IF(MAX('3-3 위험성평가'!$A$4:$A$470)+1>E462,VLOOKUP(E462,'3-3 위험성평가'!$A$5:$P$470,4,0),\"\")","v":""},{"$f":"IF(MAX('3-3 위험성평가'!$A$4:$A$470)+1>E462,VLOOKUP(E462,'3-3 위험성평가'!$A$5:$P$470,5,0),\"\")","v":""},{"$f":"IF(MAX('3-3 위험성평가'!$A$4:$A$470)+1>E462,VLOOKUP(E462,'3-3 위험성평가'!$A$5:$P$470,6,0),\"\")","v":""},{"$f":"IF(MAX('3-3 위험성평가'!$A$4:$A$470)+1>E462,VLOOKUP(E462,'3-3 위험성평가'!$A$5:$P$470,9,0),\"\")","v":""},{"$f":"IF(MAX('3-3 위험성평가'!$A$4:$A$536)+1>E462,VLOOKUP(E462,'3-3 위험성평가'!$A$5:$P$536,12,0),\"\")&IF(L462>\"\",\".\"&E462,\"\")","v":""},{"$f":"IF(MAX('3-3 위험성평가'!$A$4:$A$470)+1>E462,VLOOKUP(E462,'3-3 위험성평가'!$A$5:$P$470,13,0),\"\")","v":""},null,"하",null,null,null,null,null,null,null,"선택안함",0,{"$f":"IF(MAX('3-3 위험성평가'!$A$4:$A$470)+1>E462,VLOOKUP(E462,'3-3 위험성평가'!$A$5:$Q$470,17,0),\"\")","v":""},"선택",{"$f":"표지!$D$33","v":"시원건설"},{"$f":"표지!$E$34","v":"김길동4"},"선택안함",0]
["T40",4,"S40",4,455,{"$f":"IF(MAX('3-3 위험성평가'!$A$4:$A$470)+1>E463,VLOOKUP(E463,'3-3 위험성평가'!$A$5:$P$470,2,0),\"\")","v":""},{"$f":"IF(F463=\"\",\"\",VLOOKUP(VALUE(F463),'1-1 사업장 공정 정보'!$D$15:$P$32,5,0))","v":""},{"$f":"IF(MAX('3-3 위험성평가'!$A$4:$A$470)+1>E463,VLOOKUP(E463,'3-3 위험성평가'!$A$5:$P$470,3,0),\"\")","v":""},{"$f":"IF(MAX('3-3 위험성평가'!$A$4:$A$470)+1>E463,VLOOKUP(E463,'3-3 위험성평가'!$A$5:$P$470,4,0),\"\")","v":""},{"$f":"IF(MAX('3-3 위험성평가'!$A$4:$A$470)+1>E463,VLOOKUP(E463,'3-3 위험성평가'!$A$5:$P$470,5,0),\"\")","v":""},{"$f":"IF(MAX('3-3 위험성평가'!$A$4:$A$470)+1>E463,VLOOKUP(E463,'3-3 위험성평가'!$A$5:$P$470,6,0),\"\")","v":""},{"$f":"IF(MAX('3-3 위험성평가'!$A$4:$A$470)+1>E463,VLOOKUP(E463,'3-3 위험성평가'!$A$5:$P$470,9,0),\"\")","v":""},{"$f":"IF(MAX('3-3 위험성평가'!$A$4:$A$536)+1>E463,VLOOKUP(E463,'3-3 위험성평가'!$A$5:$P$536,12,0),\"\")&IF(L463>\"\",\".\"&E463,\"\")","v":""},{"$f":"IF(MAX('3-3 위험성평가'!$A$4:$A$470)+1>E463,VLOOKUP(E463,'3-3 위험성평가'!$A$5:$P$470,13,0),\"\")","v":""},null,"하",null,null,null,null,null,null,null,"선택안함",0,{"$f":"IF(MAX('3-3 위험성평가'!$A$4:$A$470)+1>E463,VLOOKUP(E463,'3-3 위험성평가'!$A$5:$Q$470,17,0),\"\")","v":""},"선택",{"$f":"표지!$D$33","v":"시원건설"},{"$f":"표지!$E$34","v":"김길동4"},"선택안함",0]
["T40",4,"S40",4,456,{"$f":"IF(MAX('3-3 위험성평가'!$A$4:$A$470)+1>E464,VLOOKUP(E464,'3-3 위험성평가'!$A$5:$P$470,2,0),\"\")","v":""},{"$f":"IF(F464=\"\",\"\",VLOOKUP(VALUE(F464),'1-1 사업장 공정 정보'!$D$15:$P$32,5,0))","v":""},{"$f":"IF(MAX('3-3 위험성평가'!$A$4:$A$470)+1>E464,VLOOKUP(E464,'3-3 위험성평가'!$A$5:$P$470,3,0),\"\")","v":""},{"$f":"IF(MAX('3-3 위험성평가'!$A$4:$A$470)+1>E464,VLOOKUP(E464,'3-3 위험성평가'!$A$5:$P$470,4,0),\"\")","v":""},{"$f":"IF(MAX('3-3 위험성평가'!$A$4:$A$470)+1>E464,VLOOKUP(E464,'3-3 위험성평가'!$A$5:$P$470,5,0),\"\")","v":""},{"$f":"IF(MAX('3-3 위험성평가'!$A$4:$A$470)+1>E464,VLOOKUP(E464,'3-3 위험성평가'!$A$5:$P$470,6,0),\"\")","v":""},{"$f":"IF(MAX('3-3 위험성평가'!$A$4:$A$470)+1>E464,VLOOKUP(E464,'3-3 위험성평가'!$A$5:$P$470,9,0),\"\")","v":""},{"$f":"IF(MAX('3-3 위험성평가'!$A$4:$A$536)+1>E464,VLOOKUP(E464,'3-3 위험성평가'!$A$5:$P$536,12,0),\"\")&IF(L464>\"\",\".\"&E464,\"\")","v":""},{"$f":"IF(MAX('3-3 위험성평가'!$A$4:$A$470)+1>E464,VLOOKUP(E464,'3-3 위험성평가'!$A$5:$P$470,13,0),\"\")","v":""},null,"하",null,null,null,null,null,null,null,"선택안함",0,{"$f":"IF(MAX('3-3 위험성평가'!$A$4:$A$470)+1>E464,VLOOKUP(E464,'3-3 위험성평가'!$A$5:$Q$470,17,0),\"\")","v":""},"선택",{"$f":"표지!$D$33","v":"시원건설"},{"$f":"표지!$E$34","v":"김길동4"},"선택안함",0]
["T40",4,"S40",4,457,{"$f":"IF(MAX('3-3 위험성평가'!$A$4:$A$470)+1>E465,VLOOKUP(E465,'3-3 위험성평가'!$A$5:$P$470,2,0),\"\")","v":""},{"$f":"IF(F465=\"\",\"\",VLOOKUP(VALUE(F465),'1-1 사업장 공정 정보'!$D$15:$P$32,5,0))","v":""},{"$f":"IF(MAX('3-3 위험성평가'!$A$4:$A$470)+1>E465,VLOOKUP(E465,'3-3 위험성평가'!$A$5:$P$470,3,0),\"\")","v":""},{"$f":"IF(MAX('3-3 위험성평가'!$A$4:$A$470)+1>E465,VLOOKUP(E465,'3-3 위험성평가'!$A$5:$P$470,4,0),\"\")","v":""},{"$f":"IF(MAX('3-3 위험성평가'!$A$4:$A$470)+1>E465,VLOOKUP(E465,'3-3 위험성평가'!$A$5:$P$470,5,0),\"\")","v":""},{"$f":"IF(MAX('3-3 위험성평가'!$A$4:$A$470)+1>E465,VLOOKUP(E465,'3-3 위험성평가'!$A$5:$P$470,6,0),\"\")","v":""},{"$f":"IF(MAX('3-3 위험성평가'!$A$4:$A$470)+1>E465,VLOOKUP(E465,'3-3 위험성평가'!$A$5:$P$470,9,0),\"\")","v":""},{"$f":"IF(MAX('3-3 위험성평가'!$A$4:$A$536)+1>E465,VLOOKUP(E465,'3-3 위험성평가'!$A$5:$P$536,12,0),\"\")&IF(L465>\"\",\".\"&E465,\"\")","v":""},{"$f":"IF(MAX('3-3 위험성평가'!$A$4:$A$470)+1>E465,VLOOKUP(E465,'3-3 위험성평가'!$A$5:$P$470,13,0),\"\")","v":""},null,"하",null,null,null,null,null,null,null,"선택안함",0,{"$f":"IF(MAX('3-3 위험성평가'!$A$4:$A$470)+1>E465,VLOOKUP(E465,'3-3 위험성평가'!$A$5:$Q$470,17,0),\"\")","v":""},"선택",{"$f":"표지!$D$33","v":"시원건설"},{"$f":"표지!$E$34","v":"김길동4"},"선택안함",0]
["T40",4,"S40",4,458,{"$f":"IF(MAX('3-3 위험성평가'!$A$4:$A$470)+1>E466,VLOOKUP(E466,'3-3 위험성평가'!$A$5:$P$470,2,0),\"\")","v":""},{"$f":"IF(F466=\"\",\"\",VLOOKUP(VALUE(F466),'1-1 사업장 공정 정보'!$D$15:$P$32,5,0))","v":""},{"$f":"IF(MAX('3-3 위험성평가'!$A$4:$A$470)+1>E466,VLOOKUP(E466,'3-3 위험성평가'!$A$5:$P$470,3,0),\"\")","v":""},{"$f":"IF(MAX('3-3 위험성평가'!$A$4:$A$470)+1>E466,VLOOKUP(E466,'3-3 위험성평가'!$A$5:$P$470,4,0),\"\")","v":""},{"$f":"IF(MAX('3-3 위험성평가'!$A$4:$A$470)+1>E466,VLOOKUP(E466,'3-3 위험성평가'!$A$5:$P$470,5,0),\"\")","v":""},{"$f":"IF(MAX('3-3 위험성평가'!$A$4:$A$470)+1>E466,VLOOKUP(E466,'3-3 위험성평가'!$A$5:$P$470,6,0),\"\")","v":""},{"$f":"IF(MAX('3-3 위험성평가'!$A$4:$A$470)+1>E466,VLOOKUP(E466,'3-3 위험성평가'!$A$5:$P$470,9,0),\"\")","v":""},{"$f":"IF(MAX('3-3 위험성평가'!$A$4:$A$536)+1>E466,VLOOKUP(E466,'3-3 위험성평가'!$A$5:$P$536,12,0),\"\")&IF(L466>\"\",\".\"&E466,\"\")","v":""},{"$f":"IF(MAX('3-3 위험성평가'!$A$4:$A$470)+1>E466,VLOOKUP(E466,'3-3 위험성평가'!$A$5:$P$470,13,0),\"\")","v":""},null,"하",null,null,null,null,null,null,null,"선택안함",0,{"$f":"IF(MAX('3-3 위험성평가'!$A$4:$A$470)+1>E466,VLOOKUP(E466,'3-3 위험성평가'!$A$5:$Q$470,17,0),\"\")","v":""},"선택",{"$f":"표지!$D$33","v":"시원건설"},{"$f":"표지!$E$34","v":"김길동4"},"선택안함",0]
["T40",4,"S40",4,459,{"$f":"IF(MAX('3-3 위험성평가'!$A$4:$A$470)+1>E467,VLOOKUP(E467,'3-3 위험성평가'!$A$5:$P$470,2,0),\"\")","v":""},{"$f":"IF(F467=\"\",\"\",VLOOKUP(VALUE(F467),'1-1 사업장 공정 정보'!$D$15:$P$32,5,0))","v":""},{"$f":"IF(MAX('3-3 위험성평가'!$A$4:$A$470)+1>E467,VLOOKUP(E467,'3-3 위험성평가'!$A$5:$P$470,3,0),\"\")","v":""},{"$f":"IF(MAX('3-3 위험성평가'!$A$4:$A$470)+1>E467,VLOOKUP(E467,'3-3 위험성평가'!$A$5:$P$470,4,0),\"\")","v":""},{"$f":"IF(MAX('3-3 위험성평가'!$A$4:$A$470)+1>E467,VLOOKUP(E467,'3-3 위험성평가'!$A$5:$P$470,5,0),\"\")","v":""},{"$f":"IF(MAX('3-3 위험성평가'!$A$4:$A$470)+1>E467,VLOOKUP(E467,'3-3 위험성평가'!$A$5:$P$470,6,0),\"\")","v":""},{"$f":"IF(MAX('3-3 위험성평가'!$A$4:$A$470)+1>E467,VLOOKUP(E467,'3-3 위험성평가'!$A$5:$P$470,9,0),\"\")","v":""},{"$f":"IF(MAX('3-3 위험성평가'!$A$4:$A$536)+1>E467,VLOOKUP(E467,'3-3 위험성평가'!$A$5:$P$536,12,0),\"\")&IF(L467>\"\",\".\"&E467,\"\")","v":""},{"$f":"IF(MAX('3-3 위험성평가'!$A$4:$A$470)+1>E467,VLOOKUP(E467,'3-3 위험성평가'!$A$5:$P$470,13,0),\"\")","v":""},null,"하",null,null,null,null,null,null,null,"선택안함",0,{"$f":"IF(MAX('3-3 위험성평가'!$A$4:$A$470)+1>E467,VLOOKUP(E467,'3-3 위험성평가'!$A$5:$Q$470,17,0),\"\")","v":""},"선택",{"$f":"표지!$D$33","v":"시원건설"},{"$f":"표지!$E$34","v":"김길동4"},"선택안함",0]
["T40",4,"S40",4,460,{"$f":"IF(MAX('3-3 위험성평가'!$A$4:$A$470)+1>E468,VLOOKUP(E468,'3-3 위험성평가'!$A$5:$P$470,2,0),\"\")","v":""},{"$f":"IF(F468=\"\",\"\",VLOOKUP(VALUE(F468),'1-1 사업장 공정 정보'!$D$15:$P$32,5,0))","v":""},{"$f":"IF(MAX('3-3 위험성평가'!$A$4:$A$470)+1>E468,VLOOKUP(E468,'3-3 위험성평가'!$A$5:$P$470,3,0),\"\")","v":""},{"$f":"IF(MAX('3-3 위험성평가'!$A$4:$A$470)+1>E468,VLOOKUP(E468,'3-3 위험성평가'!$A$5:$P$470,4,0),\"\")","v":""},{"$f":"IF(MAX('3-3 위험성평가'!$A$4:$A$470)+1>E468,VLOOKUP(E468,'3-3 위험성평가'!$A$5:$P$470,5,0),\"\")","v":""},{"$f":"IF(MAX('3-3 위험성평가'!$A$4:$A$470)+1>E468,VLOOKUP(E468,'3-3 위험성평가'!$A$5:$P$470,6,0),\"\")","v":""},{"$f":"IF(MAX('3-3 위험성평가'!$A$4:$A$470)+1>E468,VLOOKUP(E468,'3-3 위험성평가'!$A$5:$P$470,9,0),\"\")","v":""},{"$f":"IF(MAX('3-3 위험성평가'!$A$4:$A$536)+1>E468,VLOOKUP(E468,'3-3 위험성평가'!$A$5:$P$536,12,0),\"\")&IF(L468>\"\",\".\"&E468,\"\")","v":""},{"$f":"IF(MAX('3-3 위험성평가'!$A$4:$A$470)+1>E468,VLOOKUP(E468,'3-3 위험성평가'!$A$5:$P$470,13,0),\"\")","v":""},null,"하",null,null,null,null,null,null,null,"선택안함",0,{"$f":"IF(MAX('3-3 위험성평가'!$A$4:$A$470)+1>E468,VLOOKUP(E468,'3-3 위험성평가'!$A$5:$Q$470,17,0),\"\")","v":""},"선택",{"$f":"표지!$D$33","v":"시원건설"},{"$f":"표지!$E$34","v":"김길동4"},"선택안함",0]
["T40",4,"S40",4,461,{"$f":"IF(MAX('3-3 위험성평가'!$A$4:$A$470)+1>E469,VLOOKUP(E469,'3-3 위험성평가'!$A$5:$P$470,2,0),\"\")","v":""},{"$f":"IF(F469=\"\",\"\",VLOOKUP(VALUE(F469),'1-1 사업장 공정 정보'!$D$15:$P$32,5,0))","v":""},{"$f":"IF(MAX('3-3 위험성평가'!$A$4:$A$470)+1>E469,VLOOKUP(E469,'3-3 위험성평가'!$A$5:$P$470,3,0),\"\")","v":""},{"$f":"IF(MAX('3-3 위험성평가'!$A$4:$A$470)+1>E469,VLOOKUP(E469,'3-3 위험성평가'!$A$5:$P$470,4,0),\"\")","v":""},{"$f":"IF(MAX('3-3 위험성평가'!$A$4:$A$470)+1>E469,VLOOKUP(E469,'3-3 위험성평가'!$A$5:$P$470,5,0),\"\")","v":""},{"$f":"IF(MAX('3-3 위험성평가'!$A$4:$A$470)+1>E469,VLOOKUP(E469,'3-3 위험성평가'!$A$5:$P$470,6,0),\"\")","v":""},{"$f":"IF(MAX('3-3 위험성평가'!$A$4:$A$470)+1>E469,VLOOKUP(E469,'3-3 위험성평가'!$A$5:$P$470,9,0),\"\")","v":""},{"$f":"IF(MAX('3-3 위험성평가'!$A$4:$A$536)+1>E469,VLOOKUP(E469,'3-3 위험성평가'!$A$5:$P$536,12,0),\"\")&IF(L469>\"\",\".\"&E469,\"\")","v":""},{"$f":"IF(MAX('3-3 위험성평가'!$A$4:$A$470)+1>E469,VLOOKUP(E469,'3-3 위험성평가'!$A$5:$P$470,13,0),\"\")","v":""},null,"하",null,null,null,null,null,null,null,"선택안함",0,{"$f":"IF(MAX('3-3 위험성평가'!$A$4:$A$470)+1>E469,VLOOKUP(E469,'3-3 위험성평가'!$A$5:$Q$470,17,0),\"\")","v":""},"선택",{"$f":"표지!$D$33","v":"시원건설"},{"$f":"표지!$E$34","v":"김길동4"},"선택안함",0]
["T40",4,"S40",4,462,{"$f":"IF(MAX('3-3 위험성평가'!$A$4:$A$470)+1>E470,VLOOKUP(E470,'3-3 위험성평가'!$A$5:$P$470,2,0),\"\")","v":""},{"$f":"IF(F470=\"\",\"\",VLOOKUP(VALUE(F470),'1-1 사업장 공정 정보'!$D$15:$P$32,5,0))","v":""},{"$f":"IF(MAX('3-3 위험성평가'!$A$4:$A$470)+1>E470,VLOOKUP(E470,'3-3 위험성평가'!$A$5:$P$470,3,0),\"\")","v":""},{"$f":"IF(MAX('3-3 위험성평가'!$A$4:$A$470)+1>E470,VLOOKUP(E470,'3-3 위험성평가'!$A$5:$P$470,4,0),\"\")","v":""},{"$f":"IF(MAX('3-3 위험성평가'!$A$4:$A$470)+1>E470,VLOOKUP(E470,'3-3 위험성평가'!$A$5:$P$470,5,0),\"\")","v":""},{"$f":"IF(MAX('3-3 위험성평가'!$A$4:$A$470)+1>E470,VLOOKUP(E470,'3-3 위험성평가'!$A$5:$P$470,6,0),\"\")","v":""},{"$f":"IF(MAX('3-3 위험성평가'!$A$4:$A$470)+1>E470,VLOOKUP(E470,'3-3 위험성평가'!$A$5:$P$470,9,0),\"\")","v":""},{"$f":"IF(MAX('3-3 위험성평가'!$A$4:$A$536)+1>E470,VLOOKUP(E470,'3-3 위험성평가'!$A$5:$P$536,12,0),\"\")&IF(L470>\"\",\".\"&E470,\"\")","v":""},{"$f":"IF(MAX('3-3 위험성평가'!$A$4:$A$470)+1>E470,VLOOKUP(E470,'3-3 위험성평가'!$A$5:$P$470,13,0),\"\")","v":""},null,"하",null,null,null,null,null,null,null,"선택안함",0,{"$f":"IF(MAX('3-3 위험성평가'!$A$4:$A$470)+1>E470,VLOOKUP(E470,'3-3 위험성평가'!$A$5:$Q$470,17,0),\"\")","v":""},"선택",{"$f":"표지!$D$33","v":"시원건설"},{"$f":"표지!$E$34","v":"김길동4"},"선택안함",0]
["T40",4,"S40",4,463,{"$f":"IF(MAX('3-3 위험성평가'!$A$4:$A$470)+1>E471,VLOOKUP(E471,'3-3 위험성평가'!$A$5:$P$470,2,0),\"\")","v":""},{"$f":"IF(F471=\"\",\"\",VLOOKUP(VALUE(F471),'1-1 사업장 공정 정보'!$D$15:$P$32,5,0))","v":""},{"$f":"IF(MAX('3-3 위험성평가'!$A$4:$A$470)+1>E471,VLOOKUP(E471,'3-3 위험성평가'!$A$5:$P$470,3,0),\"\")","v":""},{"$f":"IF(MAX('3-3 위험성평가'!$A$4:$A$470)+1>E471,VLOOKUP(E471,'3-3 위험성평가'!$A$5:$P$470,4,0),\"\")","v":""},{"$f":"IF(MAX('3-3 위험성평가'!$A$4:$A$470)+1>E471,VLOOKUP(E471,'3-3 위험성평가'!$A$5:$P$470,5,0),\"\")","v":""},{"$f":"IF(MAX('3-3 위험성평가'!$A$4:$A$470)+1>E471,VLOOKUP(E471,'3-3 위험성평가'!$A$5:$P$470,6,0),\"\")","v":""},{"$f":"IF(MAX('3-3 위험성평가'!$A$4:$A$470)+1>E471,VLOOKUP(E471,'3-3 위험성평가'!$A$5:$P$470,9,0),\"\")","v":""},{"$f":"IF(MAX('3-3 위험성평가'!$A$4:$A$536)+1>E471,VLOOKUP(E471,'3-3 위험성평가'!$A$5:$P$536,12,0),\"\")&IF(L471>\"\",\".\"&E471,\"\")","v":""},{"$f":"IF(MAX('3-3 위험성평가'!$A$4:$A$470)+1>E471,VLOOKUP(E471,'3-3 위험성평가'!$A$5:$P$470,13,0),\"\")","v":""},null,"하",null,null,null,null,null,null,null,"선택안함",0,{"$f":"IF(MAX('3-3 위험성평가'!$A$4:$A$470)+1>E471,VLOOKUP(E471,'3-3 위험성평가'!$A$5:$Q$470,17,0),\"\")","v":""},"선택",{"$f":"표지!$D$33","v":"시원건설"},{"$f":"표지!$E$34","v":"김길동4"},"선택안함",0]
["T40",4,"S40",4,464,{"$f":"IF(MAX('3-3 위험성평가'!$A$4:$A$470)+1>E472,VLOOKUP(E472,'3-3 위험성평가'!$A$5:$P$470,2,0),\"\")","v":""},{"$f":"IF(F472=\"\",\"\",VLOOKUP(VALUE(F472),'1-1 사업장 공정 정보'!$D$15:$P$32,5,0))","v":""},{"$f":"IF(MAX('3-3 위험성평가'!$A$4:$A$470)+1>E472,VLOOKUP(E472,'3-3 위험성평가'!$A$5:$P$470,3,0),\"\")","v":""},{"$f":"IF(MAX('3-3 위험성평가'!$A$4:$A$470)+1>E472,VLOOKUP(E472,'3-3 위험성평가'!$A$5:$P$470,4,0),\"\")","v":""},{"$f":"IF(MAX('3-3 위험성평가'!$A$4:$A$470)+1>E472,VLOOKUP(E472,'3-3 위험성평가'!$A$5:$P$470,5,0),\"\")","v":""},{"$f":"IF(MAX('3-3 위험성평가'!$A$4:$A$470)+1>E472,VLOOKUP(E472,'3-3 위험성평가'!$A$5:$P$470,6,0),\"\")","v":""},{"$f":"IF(MAX('3-3 위험성평가'!$A$4:$A$470)+1>E472,VLOOKUP(E472,'3-3 위험성평가'!$A$5:$P$470,9,0),\"\")","v":""},{"$f":"IF(MAX('3-3 위험성평가'!$A$4:$A$536)+1>E472,VLOOKUP(E472,'3-3 위험성평가'!$A$5:$P$536,12,0),\"\")&IF(L472>\"\",\".\"&E472,\"\")","v":""},{"$f":"IF(MAX('3-3 위험성평가'!$A$4:$A$470)+1>E472,VLOOKUP(E472,'3-3 위험성평가'!$A$5:$P$470,13,0),\"\")","v":""},null,"하",null,null,null,null,null,null,null,"선택안함",0,{"$f":"IF(MAX('3-3 위험성평가'!$A$4:$A$470)+1>E472,VLOOKUP(E472,'3-3 위험성평가'!$A$5:$Q$470,17,0),\"\")","v":""},"선택",{"$f":"표지!$D$33","v":"시원건설"},{"$f":"표지!$E$34","v":"김길동4"},"선택안함",0]
["T40",4,"S40",4,465,{"$f":"IF(MAX('3-3 위험성평가'!$A$4:$A$470)+1>E473,VLOOKUP(E473,'3-3 위험성평가'!$A$5:$P$470,2,0),\"\")","v":""},{"$f":"IF(F473=\"\",\"\",VLOOKUP(VALUE(F473),'1-1 사업장 공정 정보'!$D$15:$P$32,5,0))","v":""},{"$f":"IF(MAX('3-3 위험성평가'!$A$4:$A$470)+1>E473,VLOOKUP(E473,'3-3 위험성평가'!$A$5:$P$470,3,0),\"\")","v":""},{"$f":"IF(MAX('3-3 위험성평가'!$A$4:$A$470)+1>E473,VLOOKUP(E473,'3-3 위험성평가'!$A$5:$P$470,4,0),\"\")","v":""},{"$f":"IF(MAX('3-3 위험성평가'!$A$4:$A$470)+1>E473,VLOOKUP(E473,'3-3 위험성평가'!$A$5:$P$470,5,0),\"\")","v":""},{"$f":"IF(MAX('3-3 위험성평가'!$A$4:$A$470)+1>E473,VLOOKUP(E473,'3-3 위험성평가'!$A$5:$P$470,6,0),\"\")","v":""},{"$f":"IF(MAX('3-3 위험성평가'!$A$4:$A$470)+1>E473,VLOOKUP(E473,'3-3 위험성평가'!$A$5:$P$470,9,0),\"\")","v":""},{"$f":"IF(MAX('3-3 위험성평가'!$A$4:$A$536)+1>E473,VLOOKUP(E473,'3-3 위험성평가'!$A$5:$P$536,12,0),\"\")&IF(L473>\"\",\".\"&E473,\"\")","v":""},{"$f":"IF(MAX('3-3 위험성평가'!$A$4:$A$470)+1>E473,VLOOKUP(E473,'3-3 위험성평가'!$A$5:$P$470,13,0),\"\")","v":""},null,"하",null,null,null,null,null,null,null,"선택안함",0,{"$f":"IF(MAX('3-3 위험성평가'!$A$4:$A$470)+1>E473,VLOOKUP(E473,'3-3 위험성평가'!$A$5:$Q$470,17,0),\"\")","v":""},"선택",{"$f":"표지!$D$33","v":"시원건설"},{"$f":"표지!$E$34","v":"김길동4"},"선택안함",0]
["T40",{"$f":"B473+Y474","v":4},"S40",4,466,{"$f":"IF(MAX('3-3 위험성평가'!$A$4:$A$470)+1>E474,VLOOKUP(E474,'3-3 위험성평가'!$A$5:$P$470,2,0),\"\")","v":""},{"$f":"IF(F474=\"\",\"\",VLOOKUP(VALUE(F474),'1-1 사업장 공정 정보'!$D$15:$P$32,5,0))","v":""},{"$f":"IF(MAX('3-3 위험성평가'!$A$4:$A$470)+1>E474,VLOOKUP(E474,'3-3 위험성평가'!$A$5:$P$470,3,0),\"\")","v":""},{"$f":"IF(MAX('3-3 위험성평가'!$A$4:$A$470)+1>E474,VLOOKUP(E474,'3-3 위험성평가'!$A$5:$P$470,4,0),\"\")","v":""},{"$f":"IF(MAX('3-3 위험성평가'!$A$4:$A$470)+1>E474,VLOOKUP(E474,'3-3 위험성평가'!$A$5:$P$470,5,0),\"\")","v":""},{"$f":"IF(MAX('3-3 위험성평가'!$A$4:$A$470)+1>E474,VLOOKUP(E474,'3-3 위험성평가'!$A$5:$P$470,6,0),\"\")","v":""},{"$f":"IF(MAX('3-3 위험성평가'!$A$4:$A$470)+1>E474,VLOOKUP(E474,'3-3 위험성평가'!$A$5:$P$470,9,0),\"\")","v":""},{"$f":"IF(MAX('3-3 위험성평가'!$A$4:$A$536)+1>E474,VLOOKUP(E474,'3-3 위험성평가'!$A$5:$P$536,12,0),\"\")&IF(L474>\"\",\".\"&E474,\"\")","v":""},{"$f":"IF(MAX('3-3 위험성평가'!$A$4:$A$470)+1>E474,VLOOKUP(E474,'3-3 위험성평가'!$A$5:$P$470,13,0),\"\")","v":""},null,"하",null,null,null,null,null,null,null,"선택안함",0,{"$f":"IF(MAX('3-3 위험성평가'!$A$4:$A$470)+1>E474,VLOOKUP(E474,'3-3 위험성평가'!$A$5:$Q$470,17,0),\"\")","v":""},"선택",{"$f":"표지!$D$33","v":"시원건설"},{"$f":"표지!$E$34","v":"김길동4"},"선택안함",0]
["T40",4,"S40",4,467,{"$f":"IF(MAX('3-3 위험성평가'!$A$4:$A$470)+1>E475,VLOOKUP(E475,'3-3 위험성평가'!$A$5:$P$470,2,0),\"\")","v":""},{"$f":"IF(F475=\"\",\"\",VLOOKUP(VALUE(F475),'1-1 사업장 공정 정보'!$D$15:$P$32,5,0))","v":""},{"$f":"IF(MAX('3-3 위험성평가'!$A$4:$A$470)+1>E475,VLOOKUP(E475,'3-3 위험성평가'!$A$5:$P$470,3,0),\"\")","v":""},{"$f":"IF(MAX('3-3 위험성평가'!$A$4:$A$470)+1>E475,VLOOKUP(E475,'3-3 위험성평가'!$A$5:$P$470,4,0),\"\")","v":""},{"$f":"IF(MAX('3-3 위험성평가'!$A$4:$A$470)+1>E475,VLOOKUP(E475,'3-3 위험성평가'!$A$5:$P$470,5,0),\"\")","v":""},{"$f":"IF(MAX('3-3 위험성평가'!$A$4:$A$470)+1>E475,VLOOKUP(E475,'3-3 위험성평가'!$A$5:$P$470,6,0),\"\")","v":""},{"$f":"IF(MAX('3-3 위험성평가'!$A$4:$A$470)+1>E475,VLOOKUP(E475,'3-3 위험성평가'!$A$5:$P$470,9,0),\"\")","v":""},{"$f":"IF(MAX('3-3 위험성평가'!$A$4:$A$536)+1>E475,VLOOKUP(E475,'3-3 위험성평가'!$A$5:$P$536,12,0),\"\")&IF(L475>\"\",\".\"&E475,\"\")","v":""},{"$f":"IF(MAX('3-3 위험성평가'!$A$4:$A$470)+1>E475,VLOOKUP(E475,'3-3 위험성평가'!$A$5:$P$470,13,0),\"\")","v":""},null,"하",null,null,null,null,null,null,null,"선택안함",0,{"$f":"IF(MAX('3-3 위험성평가'!$A$4:$A$470)+1>E475,VLOOKUP(E475,'3-3 위험성평가'!$A$5:$Q$470,17,0),\"\")","v":""},"선택",{"$f":"표지!$D$33","v":"시원건설"},{"$f":"표지!$E$34","v":"김길동4"},"선택안함",0]
["T40",4,"S40",4,468,{"$f":"IF(MAX('3-3 위험성평가'!$A$4:$A$470)+1>E476,VLOOKUP(E476,'3-3 위험성평가'!$A$5:$P$470,2,0),\"\")","v":""},{"$f":"IF(F476=\"\",\"\",VLOOKUP(VALUE(F476),'1-1 사업장 공정 정보'!$D$15:$P$32,5,0))","v":""},{"$f":"IF(MAX('3-3 위험성평가'!$A$4:$A$470)+1>E476,VLOOKUP(E476,'3-3 위험성평가'!$A$5:$P$470,3,0),\"\")","v":""},{"$f":"IF(MAX('3-3 위험성평가'!$A$4:$A$470)+1>E476,VLOOKUP(E476,'3-3 위험성평가'!$A$5:$P$470,4,0),\"\")","v":""},{"$f":"IF(MAX('3-3 위험성평가'!$A$4:$A$470)+1>E476,VLOOKUP(E476,'3-3 위험성평가'!$A$5:$P$470,5,0),\"\")","v":""},{"$f":"IF(MAX('3-3 위험성평가'!$A$4:$A$470)+1>E476,VLOOKUP(E476,'3-3 위험성평가'!$A$5:$P$470,6,0),\"\")","v":""},{"$f":"IF(MAX('3-3 위험성평가'!$A$4:$A$470)+1>E476,VLOOKUP(E476,'3-3 위험성평가'!$A$5:$P$470,9,0),\"\")","v":""},{"$f":"IF(MAX('3-3 위험성평가'!$A$4:$A$536)+1>E476,VLOOKUP(E476,'3-3 위험성평가'!$A$5:$P$536,12,0),\"\")&IF(L476>\"\",\".\"&E476,\"\")","v":""},{"$f":"IF(MAX('3-3 위험성평가'!$A$4:$A$470)+1>E476,VLOOKUP(E476,'3-3 위험성평가'!$A$5:$P$470,13,0),\"\")","v":""},null,"하",null,null,null,null,null,null,null,"선택안함",0,{"$f":"IF(MAX('3-3 위험성평가'!$A$4:$A$470)+1>E476,VLOOKUP(E476,'3-3 위험성평가'!$A$5:$Q$470,17,0),\"\")","v":""},"선택",{"$f":"표지!$D$33","v":"시원건설"},{"$f":"표지!$E$34","v":"김길동4"},"선택안함",0]
["T40",4,"S40",4,469,{"$f":"IF(MAX('3-3 위험성평가'!$A$4:$A$470)+1>E477,VLOOKUP(E477,'3-3 위험성평가'!$A$5:$P$470,2,0),\"\")","v":""},{"$f":"IF(F477=\"\",\"\",VLOOKUP(VALUE(F477),'1-1 사업장 공정 정보'!$D$15:$P$32,5,0))","v":""},{"$f":"IF(MAX('3-3 위험성평가'!$A$4:$A$470)+1>E477,VLOOKUP(E477,'3-3 위험성평가'!$A$5:$P$470,3,0),\"\")","v":""},{"$f":"IF(MAX('3-3 위험성평가'!$A$4:$A$470)+1>E477,VLOOKUP(E477,'3-3 위험성평가'!$A$5:$P$470,4,0),\"\")","v":""},{"$f":"IF(MAX('3-3 위험성평가'!$A$4:$A$470)+1>E477,VLOOKUP(E477,'3-3 위험성평가'!$A$5:$P$470,5,0),\"\")","v":""},{"$f":"IF(MAX('3-3 위험성평가'!$A$4:$A$470)+1>E477,VLOOKUP(E477,'3-3 위험성평가'!$A$5:$P$470,6,0),\"\")","v":""},{"$f":"IF(MAX('3-3 위험성평가'!$A$4:$A$470)+1>E477,VLOOKUP(E477,'3-3 위험성평가'!$A$5:$P$470,9,0),\"\")","v":""},{"$f":"IF(MAX('3-3 위험성평가'!$A$4:$A$536)+1>E477,VLOOKUP(E477,'3-3 위험성평가'!$A$5:$P$536,12,0),\"\")&IF(L477>\"\",\".\"&E477,\"\")","v":""},{"$f":"IF(MAX('3-3 위험성평가'!$A$4:$A$470)+1>E477,VLOOKUP(E477,'3-3 위험성평가'!$A$5:$P$470,13,0),\"\")","v":""},null,"하",null,null,null,null,null,null,null,"선택안함",0,{"$f":"IF(MAX('3-3 위험성평가'!$A$4:$A$470)+1>E477,VLOOKUP(E477,'3-3 위험성평가'!$A$5:$Q$470,17,0),\"\")","v":""},"선택",{"$f":"표지!$D$33","v":"시원건설"},{"$f":"표지!$E$34","v":"김길동4"},"선택안함",0]
["T40",4,"S40",4,470,{"$f":"IF(MAX('3-3 위험성평가'!$A$4:$A$470)+1>E478,VLOOKUP(E478,'3-3 위험성평가'!$A$5:$P$470,2,0),\"\")","v":""},{"$f":"IF(F478=\"\",\"\",VLOOKUP(VALUE(F478),'1-1 사업장 공정 정보'!$D$15:$P$32,5,0))","v":""},{"$f":"IF(MAX('3-3 위험성평가'!$A$4:$A$470)+1>E478,VLOOKUP(E478,'3-3 위험성평가'!$A$5:$P$470,3,0),\"\")","v":""},{"$f":"IF(MAX('3-3 위험성평가'!$A$4:$A$470)+1>E478,VLOOKUP(E478,'3-3 위험성평가'!$A$5:$P$470,4,0),\"\")","v":""},{"$f":"IF(MAX('3-3 위험성평가'!$A$4:$A$470)+1>E478,VLOOKUP(E478,'3-3 위험성평가'!$A$5:$P$470,5,0),\"\")","v":""},{"$f":"IF(MAX('3-3 위험성평가'!$A$4:$A$470)+1>E478,VLOOKUP(E478,'3-3 위험성평가'!$A$5:$P$470,6,0),\"\")","v":""},{"$f":"IF(MAX('3-3 위험성평가'!$A$4:$A$470)+1>E478,VLOOKUP(E478,'3-3 위험성평가'!$A$5:$P$470,9,0),\"\")","v":""},{"$f":"IF(MAX('3-3 위험성평가'!$A$4:$A$536)+1>E478,VLOOKUP(E478,'3-3 위험성평가'!$A$5:$P$536,12,0),\"\")&IF(L478>\"\",\".\"&E478,\"\")","v":""},{"$f":"IF(MAX('3-3 위험성평가'!$A$4:$A$470)+1>E478,VLOOKUP(E478,'3-3 위험성평가'!$A$5:$P$470,13,0),\"\")","v":""},null,"하",null,null,null,null,null,null,null,"선택안함",0,{"$f":"IF(MAX('3-3 위험성평가'!$A$4:$A$470)+1>E478,VLOOKUP(E478,'3-3 위험성평가'!$A$5:$Q$470,17,0),\"\")","v":""},"선택",{"$f":"표지!$D$33","v":"시원건설"},{"$f":"표지!$E$34","v":"김길동4"},"선택안함",0]
["T40",4,"S40",4,471,{"$f":"IF(MAX('3-3 위험성평가'!$A$4:$A$470)+1>E479,VLOOKUP(E479,'3-3 위험성평가'!$A$5:$P$470,2,0),\"\")","v":""},{"$f":"IF(F479=\"\",\"\",VLOOKUP(VALUE(F479),'1-1 사업장 공정 정보'!$D$15:$P$32,5,0))","v":""},{"$f":"IF(MAX('3-3 위험성평가'!$A$4:$A$470)+1>E479,VLOOKUP(E479,'3-3 위험성평가'!$A$5:$P$470,3,0),\"\")","v":""},{"$f":"IF(MAX('3-3 위험성평가'!$A$4:$A$470)+1>E479,VLOOKUP(E479,'3-3 위험성평가'!$A$5:$P$470,4,0),\"\")","v":""},{"$f":"IF(MAX('3-3 위험성평가'!$A$4:$A$470)+1>E479,VLOOKUP(E479,'3-3 위험성평가'!$A$5:$P$470,5,0),\"\")","v":""},{"$f":"IF(MAX('3-3 위험성평가'!$A$4:$A$470)+1>E479,VLOOKUP(E479,'3-3 위험성평가'!$A$5:$P$470,6,0),\"\")","v":""},{"$f":"IF(MAX('3-3 위험성평가'!$A$4:$A$470)+1>E479,VLOOKUP(E479,'3-3 위험성평가'!$A$5:$P$470,9,0),\"\")","v":""},{"$f":"IF(MAX('3-3 위험성평가'!$A$4:$A$536)+1>E479,VLOOKUP(E479,'3-3 위험성평가'!$A$5:$P$536,12,0),\"\")&IF(L479>\"\",\".\"&E479,\"\")","v":""},{"$f":"IF(MAX('3-3 위험성평가'!$A$4:$A$470)+1>E479,VLOOKUP(E479,'3-3 위험성평가'!$A$5:$P$470,13,0),\"\")","v":""},null,"하",null,null,null,null,null,null,null,"선택안함",0,{"$f":"IF(MAX('3-3 위험성평가'!$A$4:$A$470)+1>E479,VLOOKUP(E479,'3-3 위험성평가'!$A$5:$Q$470,17,0),\"\")","v":""},"선택",{"$f":"표지!$D$33","v":"시원건설"},{"$f":"표지!$E$34","v":"김길동4"},"선택안함",0]
["T40",4,"S40",4,472,{"$f":"IF(MAX('3-3 위험성평가'!$A$4:$A$470)+1>E480,VLOOKUP(E480,'3-3 위험성평가'!$A$5:$P$470,2,0),\"\")","v":""},{"$f":"IF(F480=\"\",\"\",VLOOKUP(VALUE(F480),'1-1 사업장 공정 정보'!$D$15:$P$32,5,0))","v":""},{"$f":"IF(MAX('3-3 위험성평가'!$A$4:$A$470)+1>E480,VLOOKUP(E480,'3-3 위험성평가'!$A$5:$P$470,3,0),\"\")","v":""},{"$f":"IF(MAX('3-3 위험성평가'!$A$4:$A$470)+1>E480,VLOOKUP(E480,'3-3 위험성평가'!$A$5:$P$470,4,0),\"\")","v":""},{"$f":"IF(MAX('3-3 위험성평가'!$A$4:$A$470)+1>E480,VLOOKUP(E480,'3-3 위험성평가'!$A$5:$P$470,5,0),\"\")","v":""},{"$f":"IF(MAX('3-3 위험성평가'!$A$4:$A$470)+1>E480,VLOOKUP(E480,'3-3 위험성평가'!$A$5:$P$470,6,0),\"\")","v":""},{"$f":"IF(MAX('3-3 위험성평가'!$A$4:$A$470)+1>E480,VLOOKUP(E480,'3-3 위험성평가'!$A$5:$P$470,9,0),\"\")","v":""},{"$f":"IF(MAX('3-3 위험성평가'!$A$4:$A$536)+1>E480,VLOOKUP(E480,'3-3 위험성평가'!$A$5:$P$536,12,0),\"\")&IF(L480>\"\",\".\"&E480,\"\")","v":""},{"$f":"IF(MAX('3-3 위험성평가'!$A$4:$A$470)+1>E480,VLOOKUP(E480,'3-3 위험성평가'!$A$5:$P$470,13,0),\"\")","v":""},null,"하",null,null,null,null,null,null,null,"선택안함",0,{"$f":"IF(MAX('3-3 위험성평가'!$A$4:$A$470)+1>E480,VLOOKUP(E480,'3-3 위험성평가'!$A$5:$Q$470,17,0),\"\")","v":""},"선택",{"$f":"표지!$D$33","v":"시원건설"},{"$f":"표지!$E$34","v":"김길동4"},"선택안함",0]
["T40",4,"S40",4,473,{"$f":"IF(MAX('3-3 위험성평가'!$A$4:$A$470)+1>E481,VLOOKUP(E481,'3-3 위험성평가'!$A$5:$P$470,2,0),\"\")","v":""},{"$f":"IF(F481=\"\",\"\",VLOOKUP(VALUE(F481),'1-1 사업장 공정 정보'!$D$15:$P$32,5,0))","v":""},{"$f":"IF(MAX('3-3 위험성평가'!$A$4:$A$470)+1>E481,VLOOKUP(E481,'3-3 위험성평가'!$A$5:$P$470,3,0),\"\")","v":""},{"$f":"IF(MAX('3-3 위험성평가'!$A$4:$A$470)+1>E481,VLOOKUP(E481,'3-3 위험성평가'!$A$5:$P$470,4,0),\"\")","v":""},{"$f":"IF(MAX('3-3 위험성평가'!$A$4:$A$470)+1>E481,VLOOKUP(E481,'3-3 위험성평가'!$A$5:$P$470,5,0),\"\")","v":""},{"$f":"IF(MAX('3-3 위험성평가'!$A$4:$A$470)+1>E481,VLOOKUP(E481,'3-3 위험성평가'!$A$5:$P$470,6,0),\"\")","v":""},{"$f":"IF(MAX('3-3 위험성평가'!$A$4:$A$470)+1>E481,VLOOKUP(E481,'3-3 위험성평가'!$A$5:$P$470,9,0),\"\")","v":""},{"$f":"IF(MAX('3-3 위험성평가'!$A$4:$A$536)+1>E481,VLOOKUP(E481,'3-3 위험성평가'!$A$5:$P$536,12,0),\"\")&IF(L481>\"\",\".\"&E481,\"\")","v":""},{"$f":"IF(MAX('3-3 위험성평가'!$A$4:$A$470)+1>E481,VLOOKUP(E481,'3-3 위험성평가'!$A$5:$P$470,13,0),\"\")","v":""},null,"하",null,null,null,null,null,null,null,"선택안함",0,{"$f":"IF(MAX('3-3 위험성평가'!$A$4:$A$470)+1>E481,VLOOKUP(E481,'3-3 위험성평가'!$A$5:$Q$470,17,0),\"\")","v":""},"선택",{"$f":"표지!$D$33","v":"시원건설"},{"$f":"표지!$E$34","v":"김길동4"},"선택안함",0]
["T40",4,"S40",4,474,{"$f":"IF(MAX('3-3 위험성평가'!$A$4:$A$470)+1>E482,VLOOKUP(E482,'3-3 위험성평가'!$A$5:$P$470,2,0),\"\")","v":""},{"$f":"IF(F482=\"\",\"\",VLOOKUP(VALUE(F482),'1-1 사업장 공정 정보'!$D$15:$P$32,5,0))","v":""},{"$f":"IF(MAX('3-3 위험성평가'!$A$4:$A$470)+1>E482,VLOOKUP(E482,'3-3 위험성평가'!$A$5:$P$470,3,0),\"\")","v":""},{"$f":"IF(MAX('3-3 위험성평가'!$A$4:$A$470)+1>E482,VLOOKUP(E482,'3-3 위험성평가'!$A$5:$P$470,4,0),\"\")","v":""},{"$f":"IF(MAX('3-3 위험성평가'!$A$4:$A$470)+1>E482,VLOOKUP(E482,'3-3 위험성평가'!$A$5:$P$470,5,0),\"\")","v":""},{"$f":"IF(MAX('3-3 위험성평가'!$A$4:$A$470)+1>E482,VLOOKUP(E482,'3-3 위험성평가'!$A$5:$P$470,6,0),\"\")","v":""},{"$f":"IF(MAX('3-3 위험성평가'!$A$4:$A$470)+1>E482,VLOOKUP(E482,'3-3 위험성평가'!$A$5:$P$470,9,0),\"\")","v":""},{"$f":"IF(MAX('3-3 위험성평가'!$A$4:$A$536)+1>E482,VLOOKUP(E482,'3-3 위험성평가'!$A$5:$P$536,12,0),\"\")&IF(L482>\"\",\".\"&E482,\"\")","v":""},{"$f":"IF(MAX('3-3 위험성평가'!$A$4:$A$470)+1>E482,VLOOKUP(E482,'3-3 위험성평가'!$A$5:$P$470,13,0),\"\")","v":""},null,"하",null,null,null,null,null,null,null,"선택안함",0,{"$f":"IF(MAX('3-3 위험성평가'!$A$4:$A$470)+1>E482,VLOOKUP(E482,'3-3 위험성평가'!$A$5:$Q$470,17,0),\"\")","v":""},"선택",{"$f":"표지!$D$33","v":"시원건설"},{"$f":"표지!$E$34","v":"김길동4"},"선택안함",0]
["T40",4,"S40",4,475,{"$f":"IF(MAX('3-3 위험성평가'!$A$4:$A$470)+1>E483,VLOOKUP(E483,'3-3 위험성평가'!$A$5:$P$470,2,0),\"\")","v":""},{"$f":"IF(F483=\"\",\"\",VLOOKUP(VALUE(F483),'1-1 사업장 공정 정보'!$D$15:$P$32,5,0))","v":""},{"$f":"IF(MAX('3-3 위험성평가'!$A$4:$A$470)+1>E483,VLOOKUP(E483,'3-3 위험성평가'!$A$5:$P$470,3,0),\"\")","v":""},{"$f":"IF(MAX('3-3 위험성평가'!$A$4:$A$470)+1>E483,VLOOKUP(E483,'3-3 위험성평가'!$A$5:$P$470,4,0),\"\")","v":""},{"$f":"IF(MAX('3-3 위험성평가'!$A$4:$A$470)+1>E483,VLOOKUP(E483,'3-3 위험성평가'!$A$5:$P$470,5,0),\"\")","v":""},{"$f":"IF(MAX('3-3 위험성평가'!$A$4:$A$470)+1>E483,VLOOKUP(E483,'3-3 위험성평가'!$A$5:$P$470,6,0),\"\")","v":""},{"$f":"IF(MAX('3-3 위험성평가'!$A$4:$A$470)+1>E483,VLOOKUP(E483,'3-3 위험성평가'!$A$5:$P$470,9,0),\"\")","v":""},{"$f":"IF(MAX('3-3 위험성평가'!$A$4:$A$536)+1>E483,VLOOKUP(E483,'3-3 위험성평가'!$A$5:$P$536,12,0),\"\")&IF(L483>\"\",\".\"&E483,\"\")","v":""},{"$f":"IF(MAX('3-3 위험성평가'!$A$4:$A$470)+1>E483,VLOOKUP(E483,'3-3 위험성평가'!$A$5:$P$470,13,0),\"\")","v":""},null,"하",null,null,null,null,null,null,null,"선택안함",0,{"$f":"IF(MAX('3-3 위험성평가'!$A$4:$A$470)+1>E483,VLOOKUP(E483,'3-3 위험성평가'!$A$5:$Q$470,17,0),\"\")","v":""},"선택",{"$f":"표지!$D$33","v":"시원건설"},{"$f":"표지!$E$34","v":"김길동4"},"선택안함",0]
["T40",4,"S40",4,476,{"$f":"IF(MAX('3-3 위험성평가'!$A$4:$A$470)+1>E484,VLOOKUP(E484,'3-3 위험성평가'!$A$5:$P$470,2,0),\"\")","v":""},{"$f":"IF(F484=\"\",\"\",VLOOKUP(VALUE(F484),'1-1 사업장 공정 정보'!$D$15:$P$32,5,0))","v":""},{"$f":"IF(MAX('3-3 위험성평가'!$A$4:$A$470)+1>E484,VLOOKUP(E484,'3-3 위험성평가'!$A$5:$P$470,3,0),\"\")","v":""},{"$f":"IF(MAX('3-3 위험성평가'!$A$4:$A$470)+1>E484,VLOOKUP(E484,'3-3 위험성평가'!$A$5:$P$470,4,0),\"\")","v":""},{"$f":"IF(MAX('3-3 위험성평가'!$A$4:$A$470)+1>E484,VLOOKUP(E484,'3-3 위험성평가'!$A$5:$P$470,5,0),\"\")","v":""},{"$f":"IF(MAX('3-3 위험성평가'!$A$4:$A$470)+1>E484,VLOOKUP(E484,'3-3 위험성평가'!$A$5:$P$470,6,0),\"\")","v":""},{"$f":"IF(MAX('3-3 위험성평가'!$A$4:$A$470)+1>E484,VLOOKUP(E484,'3-3 위험성평가'!$A$5:$P$470,9,0),\"\")","v":""},{"$f":"IF(MAX('3-3 위험성평가'!$A$4:$A$536)+1>E484,VLOOKUP(E484,'3-3 위험성평가'!$A$5:$P$536,12,0),\"\")&IF(L484>\"\",\".\"&E484,\"\")","v":""},{"$f":"IF(MAX('3-3 위험성평가'!$A$4:$A$470)+1>E484,VLOOKUP(E484,'3-3 위험성평가'!$A$5:$P$470,13,0),\"\")","v":""},null,"하",null,null,null,null,null,null,null,"선택안함",0,{"$f":"IF(MAX('3-3 위험성평가'!$A$4:$A$470)+1>E484,VLOOKUP(E484,'3-3 위험성평가'!$A$5:$Q$470,17,0),\"\")","v":""},"선택",{"$f":"표지!$D$33","v":"시원건설"},{"$f":"표지!$E$34","v":"김길동4"},"선택안함",0]
["T40",4,"S40",4,477,{"$f":"IF(MAX('3-3 위험성평가'!$A$4:$A$470)+1>E485,VLOOKUP(E485,'3-3 위험성평가'!$A$5:$P$470,2,0),\"\")","v":""},{"$f":"IF(F485=\"\",\"\",VLOOKUP(VALUE(F485),'1-1 사업장 공정 정보'!$D$15:$P$32,5,0))","v":""},{"$f":"IF(MAX('3-3 위험성평가'!$A$4:$A$470)+1>E485,VLOOKUP(E485,'3-3 위험성평가'!$A$5:$P$470,3,0),\"\")","v":""},{"$f":"IF(MAX('3-3 위험성평가'!$A$4:$A$470)+1>E485,VLOOKUP(E485,'3-3 위험성평가'!$A$5:$P$470,4,0),\"\")","v":""},{"$f":"IF(MAX('3-3 위험성평가'!$A$4:$A$470)+1>E485,VLOOKUP(E485,'3-3 위험성평가'!$A$5:$P$470,5,0),\"\")","v":""},{"$f":"IF(MAX('3-3 위험성평가'!$A$4:$A$470)+1>E485,VLOOKUP(E485,'3-3 위험성평가'!$A$5:$P$470,6,0),\"\")","v":""},{"$f":"IF(MAX('3-3 위험성평가'!$A$4:$A$470)+1>E485,VLOOKUP(E485,'3-3 위험성평가'!$A$5:$P$470,9,0),\"\")","v":""},{"$f":"IF(MAX('3-3 위험성평가'!$A$4:$A$536)+1>E485,VLOOKUP(E485,'3-3 위험성평가'!$A$5:$P$536,12,0),\"\")&IF(L485>\"\",\".\"&E485,\"\")","v":""},{"$f":"IF(MAX('3-3 위험성평가'!$A$4:$A$470)+1>E485,VLOOKUP(E485,'3-3 위험성평가'!$A$5:$P$470,13,0),\"\")","v":""},null,"하",null,null,null,null,null,null,null,"선택안함",0,{"$f":"IF(MAX('3-3 위험성평가'!$A$4:$A$470)+1>E485,VLOOKUP(E485,'3-3 위험성평가'!$A$5:$Q$470,17,0),\"\")","v":""},"선택",{"$f":"표지!$D$33","v":"시원건설"},{"$f":"표지!$E$34","v":"김길동4"},"선택안함",0]
["T40",4,"S40",4,478,{"$f":"IF(MAX('3-3 위험성평가'!$A$4:$A$470)+1>E486,VLOOKUP(E486,'3-3 위험성평가'!$A$5:$P$470,2,0),\"\")","v":""},{"$f":"IF(F486=\"\",\"\",VLOOKUP(VALUE(F486),'1-1 사업장 공정 정보'!$D$15:$P$32,5,0))","v":""},{"$f":"IF(MAX('3-3 위험성평가'!$A$4:$A$470)+1>E486,VLOOKUP(E486,'3-3 위험성평가'!$A$5:$P$470,3,0),\"\")","v":""},{"$f":"IF(MAX('3-3 위험성평가'!$A$4:$A$470)+1>E486,VLOOKUP(E486,'3-3 위험성평가'!$A$5:$P$470,4,0),\"\")","v":""},{"$f":"IF(MAX('3-3 위험성평가'!$A$4:$A$470)+1>E486,VLOOKUP(E486,'3-3 위험성평가'!$A$5:$P$470,5,0),\"\")","v":""},{"$f":"IF(MAX('3-3 위험성평가'!$A$4:$A$470)+1>E486,VLOOKUP(E486,'3-3 위험성평가'!$A$5:$P$470,6,0),\"\")","v":""},{"$f":"IF(MAX('3-3 위험성평가'!$A$4:$A$470)+1>E486,VLOOKUP(E486,'3-3 위험성평가'!$A$5:$P$470,9,0),\"\")","v":""},{"$f":"IF(MAX('3-3 위험성평가'!$A$4:$A$536)+1>E486,VLOOKUP(E486,'3-3 위험성평가'!$A$5:$P$536,12,0),\"\")&IF(L486>\"\",\".\"&E486,\"\")","v":""},{"$f":"IF(MAX('3-3 위험성평가'!$A$4:$A$470)+1>E486,VLOOKUP(E486,'3-3 위험성평가'!$A$5:$P$470,13,0),\"\")","v":""},null,"하",null,null,null,null,null,null,null,"선택안함",0,{"$f":"IF(MAX('3-3 위험성평가'!$A$4:$A$470)+1>E486,VLOOKUP(E486,'3-3 위험성평가'!$A$5:$Q$470,17,0),\"\")","v":""},"선택",{"$f":"표지!$D$33","v":"시원건설"},{"$f":"표지!$E$34","v":"김길동4"},"선택안함",0]
["T40",4,"S40",4,479,{"$f":"IF(MAX('3-3 위험성평가'!$A$4:$A$470)+1>E487,VLOOKUP(E487,'3-3 위험성평가'!$A$5:$P$470,2,0),\"\")","v":""},{"$f":"IF(F487=\"\",\"\",VLOOKUP(VALUE(F487),'1-1 사업장 공정 정보'!$D$15:$P$32,5,0))","v":""},{"$f":"IF(MAX('3-3 위험성평가'!$A$4:$A$470)+1>E487,VLOOKUP(E487,'3-3 위험성평가'!$A$5:$P$470,3,0),\"\")","v":""},{"$f":"IF(MAX('3-3 위험성평가'!$A$4:$A$470)+1>E487,VLOOKUP(E487,'3-3 위험성평가'!$A$5:$P$470,4,0),\"\")","v":""},{"$f":"IF(MAX('3-3 위험성평가'!$A$4:$A$470)+1>E487,VLOOKUP(E487,'3-3 위험성평가'!$A$5:$P$470,5,0),\"\")","v":""},{"$f":"IF(MAX('3-3 위험성평가'!$A$4:$A$470)+1>E487,VLOOKUP(E487,'3-3 위험성평가'!$A$5:$P$470,6,0),\"\")","v":""},{"$f":"IF(MAX('3-3 위험성평가'!$A$4:$A$470)+1>E487,VLOOKUP(E487,'3-3 위험성평가'!$A$5:$P$470,9,0),\"\")","v":""},{"$f":"IF(MAX('3-3 위험성평가'!$A$4:$A$536)+1>E487,VLOOKUP(E487,'3-3 위험성평가'!$A$5:$P$536,12,0),\"\")&IF(L487>\"\",\".\"&E487,\"\")","v":""},{"$f":"IF(MAX('3-3 위험성평가'!$A$4:$A$470)+1>E487,VLOOKUP(E487,'3-3 위험성평가'!$A$5:$P$470,13,0),\"\")","v":""},null,"하",null,null,null,null,null,null,null,"선택안함",0,{"$f":"IF(MAX('3-3 위험성평가'!$A$4:$A$470)+1>E487,VLOOKUP(E487,'3-3 위험성평가'!$A$5:$Q$470,17,0),\"\")","v":""},"선택",{"$f":"표지!$D$33","v":"시원건설"},{"$f":"표지!$E$34","v":"김길동4"},"선택안함",0]
["T40",4,"S40",4,480,{"$f":"IF(MAX('3-3 위험성평가'!$A$4:$A$470)+1>E488,VLOOKUP(E488,'3-3 위험성평가'!$A$5:$P$470,2,0),\"\")","v":""},{"$f":"IF(F488=\"\",\"\",VLOOKUP(VALUE(F488),'1-1 사업장 공정 정보'!$D$15:$P$32,5,0))","v":""},{"$f":"IF(MAX('3-3 위험성평가'!$A$4:$A$470)+1>E488,VLOOKUP(E488,'3-3 위험성평가'!$A$5:$P$470,3,0),\"\")","v":""},{"$f":"IF(MAX('3-3 위험성평가'!$A$4:$A$470)+1>E488,VLOOKUP(E488,'3-3 위험성평가'!$A$5:$P$470,4,0),\"\")","v":""},{"$f":"IF(MAX('3-3 위험성평가'!$A$4:$A$470)+1>E488,VLOOKUP(E488,'3-3 위험성평가'!$A$5:$P$470,5,0),\"\")","v":""},{"$f":"IF(MAX('3-3 위험성평가'!$A$4:$A$470)+1>E488,VLOOKUP(E488,'3-3 위험성평가'!$A$5:$P$470,6,0),\"\")","v":""},{"$f":"IF(MAX('3-3 위험성평가'!$A$4:$A$470)+1>E488,VLOOKUP(E488,'3-3 위험성평가'!$A$5:$P$470,9,0),\"\")","v":""},{"$f":"IF(MAX('3-3 위험성평가'!$A$4:$A$536)+1>E488,VLOOKUP(E488,'3-3 위험성평가'!$A$5:$P$536,12,0),\"\")&IF(L488>\"\",\".\"&E488,\"\")","v":""},{"$f":"IF(MAX('3-3 위험성평가'!$A$4:$A$470)+1>E488,VLOOKUP(E488,'3-3 위험성평가'!$A$5:$P$470,13,0),\"\")","v":""},null,"하",null,null,null,null,null,null,null,"선택안함",0,{"$f":"IF(MAX('3-3 위험성평가'!$A$4:$A$470)+1>E488,VLOOKUP(E488,'3-3 위험성평가'!$A$5:$Q$470,17,0),\"\")","v":""},"선택",{"$f":"표지!$D$33","v":"시원건설"},{"$f":"표지!$E$34","v":"김길동4"},"선택안함",0]
["T40",4,"S40",4,481,{"$f":"IF(MAX('3-3 위험성평가'!$A$4:$A$470)+1>E489,VLOOKUP(E489,'3-3 위험성평가'!$A$5:$P$470,2,0),\"\")","v":""},{"$f":"IF(F489=\"\",\"\",VLOOKUP(VALUE(F489),'1-1 사업장 공정 정보'!$D$15:$P$32,5,0))","v":""},{"$f":"IF(MAX('3-3 위험성평가'!$A$4:$A$470)+1>E489,VLOOKUP(E489,'3-3 위험성평가'!$A$5:$P$470,3,0),\"\")","v":""},{"$f":"IF(MAX('3-3 위험성평가'!$A$4:$A$470)+1>E489,VLOOKUP(E489,'3-3 위험성평가'!$A$5:$P$470,4,0),\"\")","v":""},{"$f":"IF(MAX('3-3 위험성평가'!$A$4:$A$470)+1>E489,VLOOKUP(E489,'3-3 위험성평가'!$A$5:$P$470,5,0),\"\")","v":""},{"$f":"IF(MAX('3-3 위험성평가'!$A$4:$A$470)+1>E489,VLOOKUP(E489,'3-3 위험성평가'!$A$5:$P$470,6,0),\"\")","v":""},{"$f":"IF(MAX('3-3 위험성평가'!$A$4:$A$470)+1>E489,VLOOKUP(E489,'3-3 위험성평가'!$A$5:$P$470,9,0),\"\")","v":""},{"$f":"IF(MAX('3-3 위험성평가'!$A$4:$A$536)+1>E489,VLOOKUP(E489,'3-3 위험성평가'!$A$5:$P$536,12,0),\"\")&IF(L489>\"\",\".\"&E489,\"\")","v":""},{"$f":"IF(MAX('3-3 위험성평가'!$A$4:$A$470)+1>E489,VLOOKUP(E489,'3-3 위험성평가'!$A$5:$P$470,13,0),\"\")","v":""},null,"하",null,null,null,null,null,null,null,"선택안함",0,{"$f":"IF(MAX('3-3 위험성평가'!$A$4:$A$470)+1>E489,VLOOKUP(E489,'3-3 위험성평가'!$A$5:$Q$470,17,0),\"\")","v":""},"선택",{"$f":"표지!$D$33","v":"시원건설"},{"$f":"표지!$E$34","v":"김길동4"},"선택안함",0]
["T40",4,"S40",4,482,{"$f":"IF(MAX('3-3 위험성평가'!$A$4:$A$470)+1>E490,VLOOKUP(E490,'3-3 위험성평가'!$A$5:$P$470,2,0),\"\")","v":""},{"$f":"IF(F490=\"\",\"\",VLOOKUP(VALUE(F490),'1-1 사업장 공정 정보'!$D$15:$P$32,5,0))","v":""},{"$f":"IF(MAX('3-3 위험성평가'!$A$4:$A$470)+1>E490,VLOOKUP(E490,'3-3 위험성평가'!$A$5:$P$470,3,0),\"\")","v":""},{"$f":"IF(MAX('3-3 위험성평가'!$A$4:$A$470)+1>E490,VLOOKUP(E490,'3-3 위험성평가'!$A$5:$P$470,4,0),\"\")","v":""},{"$f":"IF(MAX('3-3 위험성평가'!$A$4:$A$470)+1>E490,VLOOKUP(E490,'3-3 위험성평가'!$A$5:$P$470,5,0),\"\")","v":""},{"$f":"IF(MAX('3-3 위험성평가'!$A$4:$A$470)+1>E490,VLOOKUP(E490,'3-3 위험성평가'!$A$5:$P$470,6,0),\"\")","v":""},{"$f":"IF(MAX('3-3 위험성평가'!$A$4:$A$470)+1>E490,VLOOKUP(E490,'3-3 위험성평가'!$A$5:$P$470,9,0),\"\")","v":""},{"$f":"IF(MAX('3-3 위험성평가'!$A$4:$A$536)+1>E490,VLOOKUP(E490,'3-3 위험성평가'!$A$5:$P$536,12,0),\"\")&IF(L490>\"\",\".\"&E490,\"\")","v":""},{"$f":"IF(MAX('3-3 위험성평가'!$A$4:$A$470)+1>E490,VLOOKUP(E490,'3-3 위험성평가'!$A$5:$P$470,13,0),\"\")","v":""},null,"하",null,null,null,null,null,null,null,"선택안함",0,{"$f":"IF(MAX('3-3 위험성평가'!$A$4:$A$470)+1>E490,VLOOKUP(E490,'3-3 위험성평가'!$A$5:$Q$470,17,0),\"\")","v":""},"선택",{"$f":"표지!$D$33","v":"시원건설"},{"$f":"표지!$E$34","v":"김길동4"},"선택안함",0]
["T40",4,"S40",4,483,{"$f":"IF(MAX('3-3 위험성평가'!$A$4:$A$470)+1>E491,VLOOKUP(E491,'3-3 위험성평가'!$A$5:$P$470,2,0),\"\")","v":""},{"$f":"IF(F491=\"\",\"\",VLOOKUP(VALUE(F491),'1-1 사업장 공정 정보'!$D$15:$P$32,5,0))","v":""},{"$f":"IF(MAX('3-3 위험성평가'!$A$4:$A$470)+1>E491,VLOOKUP(E491,'3-3 위험성평가'!$A$5:$P$470,3,0),\"\")","v":""},{"$f":"IF(MAX('3-3 위험성평가'!$A$4:$A$470)+1>E491,VLOOKUP(E491,'3-3 위험성평가'!$A$5:$P$470,4,0),\"\")","v":""},{"$f":"IF(MAX('3-3 위험성평가'!$A$4:$A$470)+1>E491,VLOOKUP(E491,'3-3 위험성평가'!$A$5:$P$470,5,0),\"\")","v":""},{"$f":"IF(MAX('3-3 위험성평가'!$A$4:$A$470)+1>E491,VLOOKUP(E491,'3-3 위험성평가'!$A$5:$P$470,6,0),\"\")","v":""},{"$f":"IF(MAX('3-3 위험성평가'!$A$4:$A$470)+1>E491,VLOOKUP(E491,'3-3 위험성평가'!$A$5:$P$470,9,0),\"\")","v":""},{"$f":"IF(MAX('3-3 위험성평가'!$A$4:$A$536)+1>E491,VLOOKUP(E491,'3-3 위험성평가'!$A$5:$P$536,12,0),\"\")&IF(L491>\"\",\".\"&E491,\"\")","v":""},{"$f":"IF(MAX('3-3 위험성평가'!$A$4:$A$470)+1>E491,VLOOKUP(E491,'3-3 위험성평가'!$A$5:$P$470,13,0),\"\")","v":""},null,"하",null,null,null,null,null,null,null,"선택안함",0,{"$f":"IF(MAX('3-3 위험성평가'!$A$4:$A$470)+1>E491,VLOOKUP(E491,'3-3 위험성평가'!$A$5:$Q$470,17,0),\"\")","v":""},"선택",{"$f":"표지!$D$33","v":"시원건설"},{"$f":"표지!$E$34","v":"김길동4"},"선택안함",0]
["T40",4,"S40",4,484,{"$f":"IF(MAX('3-3 위험성평가'!$A$4:$A$470)+1>E492,VLOOKUP(E492,'3-3 위험성평가'!$A$5:$P$470,2,0),\"\")","v":""},{"$f":"IF(F492=\"\",\"\",VLOOKUP(VALUE(F492),'1-1 사업장 공정 정보'!$D$15:$P$32,5,0))","v":""},{"$f":"IF(MAX('3-3 위험성평가'!$A$4:$A$470)+1>E492,VLOOKUP(E492,'3-3 위험성평가'!$A$5:$P$470,3,0),\"\")","v":""},{"$f":"IF(MAX('3-3 위험성평가'!$A$4:$A$470)+1>E492,VLOOKUP(E492,'3-3 위험성평가'!$A$5:$P$470,4,0),\"\")","v":""},{"$f":"IF(MAX('3-3 위험성평가'!$A$4:$A$470)+1>E492,VLOOKUP(E492,'3-3 위험성평가'!$A$5:$P$470,5,0),\"\")","v":""},{"$f":"IF(MAX('3-3 위험성평가'!$A$4:$A$470)+1>E492,VLOOKUP(E492,'3-3 위험성평가'!$A$5:$P$470,6,0),\"\")","v":""},{"$f":"IF(MAX('3-3 위험성평가'!$A$4:$A$470)+1>E492,VLOOKUP(E492,'3-3 위험성평가'!$A$5:$P$470,9,0),\"\")","v":""},{"$f":"IF(MAX('3-3 위험성평가'!$A$4:$A$536)+1>E492,VLOOKUP(E492,'3-3 위험성평가'!$A$5:$P$536,12,0),\"\")&IF(L492>\"\",\".\"&E492,\"\")","v":""},{"$f":"IF(MAX('3-3 위험성평가'!$A$4:$A$470)+1>E492,VLOOKUP(E492,'3-3 위험성평가'!$A$5:$P$470,13,0),\"\")","v":""},null,"하",null,null,null,null,null,null,null,"선택안함",0,{"$f":"IF(MAX('3-3 위험성평가'!$A$4:$A$470)+1>E492,VLOOKUP(E492,'3-3 위험성평가'!$A$5:$Q$470,17,0),\"\")","v":""},"선택",{"$f":"표지!$D$33","v":"시원건설"},{"$f":"표지!$E$34","v":"김길동4"},"선택안함",0]
["T40",4,"S40",4,485,{"$f":"IF(MAX('3-3 위험성평가'!$A$4:$A$470)+1>E493,VLOOKUP(E493,'3-3 위험성평가'!$A$5:$P$470,2,0),\"\")","v":""},{"$f":"IF(F493=\"\",\"\",VLOOKUP(VALUE(F493),'1-1 사업장 공정 정보'!$D$15:$P$32,5,0))","v":""},{"$f":"IF(MAX('3-3 위험성평가'!$A$4:$A$470)+1>E493,VLOOKUP(E493,'3-3 위험성평가'!$A$5:$P$470,3,0),\"\")","v":""},{"$f":"IF(MAX('3-3 위험성평가'!$A$4:$A$470)+1>E493,VLOOKUP(E493,'3-3 위험성평가'!$A$5:$P$470,4,0),\"\")","v":""},{"$f":"IF(MAX('3-3 위험성평가'!$A$4:$A$470)+1>E493,VLOOKUP(E493,'3-3 위험성평가'!$A$5:$P$470,5,0),\"\")","v":""},{"$f":"IF(MAX('3-3 위험성평가'!$A$4:$A$470)+1>E493,VLOOKUP(E493,'3-3 위험성평가'!$A$5:$P$470,6,0),\"\")","v":""},{"$f":"IF(MAX('3-3 위험성평가'!$A$4:$A$470)+1>E493,VLOOKUP(E493,'3-3 위험성평가'!$A$5:$P$470,9,0),\"\")","v":""},{"$f":"IF(MAX('3-3 위험성평가'!$A$4:$A$536)+1>E493,VLOOKUP(E493,'3-3 위험성평가'!$A$5:$P$536,12,0),\"\")&IF(L493>\"\",\".\"&E493,\"\")","v":""},{"$f":"IF(MAX('3-3 위험성평가'!$A$4:$A$470)+1>E493,VLOOKUP(E493,'3-3 위험성평가'!$A$5:$P$470,13,0),\"\")","v":""},null,"하",null,null,null,null,null,null,null,"선택안함",0,{"$f":"IF(MAX('3-3 위험성평가'!$A$4:$A$470)+1>E493,VLOOKUP(E493,'3-3 위험성평가'!$A$5:$Q$470,17,0),\"\")","v":""},"선택",{"$f":"표지!$D$33","v":"시원건설"},{"$f":"표지!$E$34","v":"김길동4"},"선택안함",0]
["T40",4,"S40",4,486,{"$f":"IF(MAX('3-3 위험성평가'!$A$4:$A$470)+1>E494,VLOOKUP(E494,'3-3 위험성평가'!$A$5:$P$470,2,0),\"\")","v":""},{"$f":"IF(F494=\"\",\"\",VLOOKUP(VALUE(F494),'1-1 사업장 공정 정보'!$D$15:$P$32,5,0))","v":""},{"$f":"IF(MAX('3-3 위험성평가'!$A$4:$A$470)+1>E494,VLOOKUP(E494,'3-3 위험성평가'!$A$5:$P$470,3,0),\"\")","v":""},{"$f":"IF(MAX('3-3 위험성평가'!$A$4:$A$470)+1>E494,VLOOKUP(E494,'3-3 위험성평가'!$A$5:$P$470,4,0),\"\")","v":""},{"$f":"IF(MAX('3-3 위험성평가'!$A$4:$A$470)+1>E494,VLOOKUP(E494,'3-3 위험성평가'!$A$5:$P$470,5,0),\"\")","v":""},{"$f":"IF(MAX('3-3 위험성평가'!$A$4:$A$470)+1>E494,VLOOKUP(E494,'3-3 위험성평가'!$A$5:$P$470,6,0),\"\")","v":""},{"$f":"IF(MAX('3-3 위험성평가'!$A$4:$A$470)+1>E494,VLOOKUP(E494,'3-3 위험성평가'!$A$5:$P$470,9,0),\"\")","v":""},{"$f":"IF(MAX('3-3 위험성평가'!$A$4:$A$536)+1>E494,VLOOKUP(E494,'3-3 위험성평가'!$A$5:$P$536,12,0),\"\")&IF(L494>\"\",\".\"&E494,\"\")","v":""},{"$f":"IF(MAX('3-3 위험성평가'!$A$4:$A$470)+1>E494,VLOOKUP(E494,'3-3 위험성평가'!$A$5:$P$470,13,0),\"\")","v":""},null,"하",null,null,null,null,null,null,null,"선택안함",0,{"$f":"IF(MAX('3-3 위험성평가'!$A$4:$A$470)+1>E494,VLOOKUP(E494,'3-3 위험성평가'!$A$5:$Q$470,17,0),\"\")","v":""},"선택",{"$f":"표지!$D$33","v":"시원건설"},{"$f":"표지!$E$34","v":"김길동4"},"선택안함",0]
["T40",4,"S40",4,487,{"$f":"IF(MAX('3-3 위험성평가'!$A$4:$A$470)+1>E495,VLOOKUP(E495,'3-3 위험성평가'!$A$5:$P$470,2,0),\"\")","v":""},{"$f":"IF(F495=\"\",\"\",VLOOKUP(VALUE(F495),'1-1 사업장 공정 정보'!$D$15:$P$32,5,0))","v":""},{"$f":"IF(MAX('3-3 위험성평가'!$A$4:$A$470)+1>E495,VLOOKUP(E495,'3-3 위험성평가'!$A$5:$P$470,3,0),\"\")","v":""},{"$f":"IF(MAX('3-3 위험성평가'!$A$4:$A$470)+1>E495,VLOOKUP(E495,'3-3 위험성평가'!$A$5:$P$470,4,0),\"\")","v":""},{"$f":"IF(MAX('3-3 위험성평가'!$A$4:$A$470)+1>E495,VLOOKUP(E495,'3-3 위험성평가'!$A$5:$P$470,5,0),\"\")","v":""},{"$f":"IF(MAX('3-3 위험성평가'!$A$4:$A$470)+1>E495,VLOOKUP(E495,'3-3 위험성평가'!$A$5:$P$470,6,0),\"\")","v":""},{"$f":"IF(MAX('3-3 위험성평가'!$A$4:$A$470)+1>E495,VLOOKUP(E495,'3-3 위험성평가'!$A$5:$P$470,9,0),\"\")","v":""},{"$f":"IF(MAX('3-3 위험성평가'!$A$4:$A$536)+1>E495,VLOOKUP(E495,'3-3 위험성평가'!$A$5:$P$536,12,0),\"\")&IF(L495>\"\",\".\"&E495,\"\")","v":""},{"$f":"IF(MAX('3-3 위험성평가'!$A$4:$A$470)+1>E495,VLOOKUP(E495,'3-3 위험성평가'!$A$5:$P$470,13,0),\"\")","v":""},null,"하",null,null,null,null,null,null,null,"선택안함",0,{"$f":"IF(MAX('3-3 위험성평가'!$A$4:$A$470)+1>E495,VLOOKUP(E495,'3-3 위험성평가'!$A$5:$Q$470,17,0),\"\")","v":""},"선택",{"$f":"표지!$D$33","v":"시원건설"},{"$f":"표지!$E$34","v":"김길동4"},"선택안함",0]
["T40",4,"S40",4,488,{"$f":"IF(MAX('3-3 위험성평가'!$A$4:$A$470)+1>E496,VLOOKUP(E496,'3-3 위험성평가'!$A$5:$P$470,2,0),\"\")","v":""},{"$f":"IF(F496=\"\",\"\",VLOOKUP(VALUE(F496),'1-1 사업장 공정 정보'!$D$15:$P$32,5,0))","v":""},{"$f":"IF(MAX('3-3 위험성평가'!$A$4:$A$470)+1>E496,VLOOKUP(E496,'3-3 위험성평가'!$A$5:$P$470,3,0),\"\")","v":""},{"$f":"IF(MAX('3-3 위험성평가'!$A$4:$A$470)+1>E496,VLOOKUP(E496,'3-3 위험성평가'!$A$5:$P$470,4,0),\"\")","v":""},{"$f":"IF(MAX('3-3 위험성평가'!$A$4:$A$470)+1>E496,VLOOKUP(E496,'3-3 위험성평가'!$A$5:$P$470,5,0),\"\")","v":""},{"$f":"IF(MAX('3-3 위험성평가'!$A$4:$A$470)+1>E496,VLOOKUP(E496,'3-3 위험성평가'!$A$5:$P$470,6,0),\"\")","v":""},{"$f":"IF(MAX('3-3 위험성평가'!$A$4:$A$470)+1>E496,VLOOKUP(E496,'3-3 위험성평가'!$A$5:$P$470,9,0),\"\")","v":""},{"$f":"IF(MAX('3-3 위험성평가'!$A$4:$A$536)+1>E496,VLOOKUP(E496,'3-3 위험성평가'!$A$5:$P$536,12,0),\"\")&IF(L496>\"\",\".\"&E496,\"\")","v":""},{"$f":"IF(MAX('3-3 위험성평가'!$A$4:$A$470)+1>E496,VLOOKUP(E496,'3-3 위험성평가'!$A$5:$P$470,13,0),\"\")","v":""},null,"하",null,null,null,null,null,null,null,"선택안함",0,{"$f":"IF(MAX('3-3 위험성평가'!$A$4:$A$470)+1>E496,VLOOKUP(E496,'3-3 위험성평가'!$A$5:$Q$470,17,0),\"\")","v":""},"선택",{"$f":"표지!$D$33","v":"시원건설"},{"$f":"표지!$E$34","v":"김길동4"},"선택안함",0]
["T40",4,"S40",4,489,{"$f":"IF(MAX('3-3 위험성평가'!$A$4:$A$470)+1>E497,VLOOKUP(E497,'3-3 위험성평가'!$A$5:$P$470,2,0),\"\")","v":""},{"$f":"IF(F497=\"\",\"\",VLOOKUP(VALUE(F497),'1-1 사업장 공정 정보'!$D$15:$P$32,5,0))","v":""},{"$f":"IF(MAX('3-3 위험성평가'!$A$4:$A$470)+1>E497,VLOOKUP(E497,'3-3 위험성평가'!$A$5:$P$470,3,0),\"\")","v":""},{"$f":"IF(MAX('3-3 위험성평가'!$A$4:$A$470)+1>E497,VLOOKUP(E497,'3-3 위험성평가'!$A$5:$P$470,4,0),\"\")","v":""},{"$f":"IF(MAX('3-3 위험성평가'!$A$4:$A$470)+1>E497,VLOOKUP(E497,'3-3 위험성평가'!$A$5:$P$470,5,0),\"\")","v":""},{"$f":"IF(MAX('3-3 위험성평가'!$A$4:$A$470)+1>E497,VLOOKUP(E497,'3-3 위험성평가'!$A$5:$P$470,6,0),\"\")","v":""},{"$f":"IF(MAX('3-3 위험성평가'!$A$4:$A$470)+1>E497,VLOOKUP(E497,'3-3 위험성평가'!$A$5:$P$470,9,0),\"\")","v":""},{"$f":"IF(MAX('3-3 위험성평가'!$A$4:$A$536)+1>E497,VLOOKUP(E497,'3-3 위험성평가'!$A$5:$P$536,12,0),\"\")&IF(L497>\"\",\".\"&E497,\"\")","v":""},{"$f":"IF(MAX('3-3 위험성평가'!$A$4:$A$470)+1>E497,VLOOKUP(E497,'3-3 위험성평가'!$A$5:$P$470,13,0),\"\")","v":""},null,"하",null,null,null,null,null,null,null,"선택안함",0,{"$f":"IF(MAX('3-3 위험성평가'!$A$4:$A$470)+1>E497,VLOOKUP(E497,'3-3 위험성평가'!$A$5:$Q$470,17,0),\"\")","v":""},"선택",{"$f":"표지!$D$33","v":"시원건설"},{"$f":"표지!$E$34","v":"김길동4"},"선택안함",0]
["T40",4,"S40",4,490,{"$f":"IF(MAX('3-3 위험성평가'!$A$4:$A$470)+1>E498,VLOOKUP(E498,'3-3 위험성평가'!$A$5:$P$470,2,0),\"\")","v":""},{"$f":"IF(F498=\"\",\"\",VLOOKUP(VALUE(F498),'1-1 사업장 공정 정보'!$D$15:$P$32,5,0))","v":""},{"$f":"IF(MAX('3-3 위험성평가'!$A$4:$A$470)+1>E498,VLOOKUP(E498,'3-3 위험성평가'!$A$5:$P$470,3,0),\"\")","v":""},{"$f":"IF(MAX('3-3 위험성평가'!$A$4:$A$470)+1>E498,VLOOKUP(E498,'3-3 위험성평가'!$A$5:$P$470,4,0),\"\")","v":""},{"$f":"IF(MAX('3-3 위험성평가'!$A$4:$A$470)+1>E498,VLOOKUP(E498,'3-3 위험성평가'!$A$5:$P$470,5,0),\"\")","v":""},{"$f":"IF(MAX('3-3 위험성평가'!$A$4:$A$470)+1>E498,VLOOKUP(E498,'3-3 위험성평가'!$A$5:$P$470,6,0),\"\")","v":""},{"$f":"IF(MAX('3-3 위험성평가'!$A$4:$A$470)+1>E498,VLOOKUP(E498,'3-3 위험성평가'!$A$5:$P$470,9,0),\"\")","v":""},{"$f":"IF(MAX('3-3 위험성평가'!$A$4:$A$536)+1>E498,VLOOKUP(E498,'3-3 위험성평가'!$A$5:$P$536,12,0),\"\")&IF(L498>\"\",\".\"&E498,\"\")","v":""},{"$f":"IF(MAX('3-3 위험성평가'!$A$4:$A$470)+1>E498,VLOOKUP(E498,'3-3 위험성평가'!$A$5:$P$470,13,0),\"\")","v":""},null,"하",null,null,null,null,null,null,null,"선택안함",0,{"$f":"IF(MAX('3-3 위험성평가'!$A$4:$A$470)+1>E498,VLOOKUP(E498,'3-3 위험성평가'!$A$5:$Q$470,17,0),\"\")","v":""},"선택",{"$f":"표지!$D$33","v":"시원건설"},{"$f":"표지!$E$34","v":"김길동4"},"선택안함",0]
["T40",4,"S40",4,491,{"$f":"IF(MAX('3-3 위험성평가'!$A$4:$A$470)+1>E499,VLOOKUP(E499,'3-3 위험성평가'!$A$5:$P$470,2,0),\"\")","v":""},{"$f":"IF(F499=\"\",\"\",VLOOKUP(VALUE(F499),'1-1 사업장 공정 정보'!$D$15:$P$32,5,0))","v":""},{"$f":"IF(MAX('3-3 위험성평가'!$A$4:$A$470)+1>E499,VLOOKUP(E499,'3-3 위험성평가'!$A$5:$P$470,3,0),\"\")","v":""},{"$f":"IF(MAX('3-3 위험성평가'!$A$4:$A$470)+1>E499,VLOOKUP(E499,'3-3 위험성평가'!$A$5:$P$470,4,0),\"\")","v":""},{"$f":"IF(MAX('3-3 위험성평가'!$A$4:$A$470)+1>E499,VLOOKUP(E499,'3-3 위험성평가'!$A$5:$P$470,5,0),\"\")","v":""},{"$f":"IF(MAX('3-3 위험성평가'!$A$4:$A$470)+1>E499,VLOOKUP(E499,'3-3 위험성평가'!$A$5:$P$470,6,0),\"\")","v":""},{"$f":"IF(MAX('3-3 위험성평가'!$A$4:$A$470)+1>E499,VLOOKUP(E499,'3-3 위험성평가'!$A$5:$P$470,9,0),\"\")","v":""},{"$f":"IF(MAX('3-3 위험성평가'!$A$4:$A$536)+1>E499,VLOOKUP(E499,'3-3 위험성평가'!$A$5:$P$536,12,0),\"\")&IF(L499>\"\",\".\"&E499,\"\")","v":""},{"$f":"IF(MAX('3-3 위험성평가'!$A$4:$A$470)+1>E499,VLOOKUP(E499,'3-3 위험성평가'!$A$5:$P$470,13,0),\"\")","v":""},null,"하",null,null,null,null,null,null,null,"선택안함",0,{"$f":"IF(MAX('3-3 위험성평가'!$A$4:$A$470)+1>E499,VLOOKUP(E499,'3-3 위험성평가'!$A$5:$Q$470,17,0),\"\")","v":""},"선택",{"$f":"표지!$D$33","v":"시원건설"},{"$f":"표지!$E$34","v":"김길동4"},"선택안함",0]
["T40",4,"S40",4,492,{"$f":"IF(MAX('3-3 위험성평가'!$A$4:$A$470)+1>E500,VLOOKUP(E500,'3-3 위험성평가'!$A$5:$P$470,2,0),\"\")","v":""},{"$f":"IF(F500=\"\",\"\",VLOOKUP(VALUE(F500),'1-1 사업장 공정 정보'!$D$15:$P$32,5,0))","v":""},{"$f":"IF(MAX('3-3 위험성평가'!$A$4:$A$470)+1>E500,VLOOKUP(E500,'3-3 위험성평가'!$A$5:$P$470,3,0),\"\")","v":""},{"$f":"IF(MAX('3-3 위험성평가'!$A$4:$A$470)+1>E500,VLOOKUP(E500,'3-3 위험성평가'!$A$5:$P$470,4,0),\"\")","v":""},{"$f":"IF(MAX('3-3 위험성평가'!$A$4:$A$470)+1>E500,VLOOKUP(E500,'3-3 위험성평가'!$A$5:$P$470,5,0),\"\")","v":""},{"$f":"IF(MAX('3-3 위험성평가'!$A$4:$A$470)+1>E500,VLOOKUP(E500,'3-3 위험성평가'!$A$5:$P$470,6,0),\"\")","v":""},{"$f":"IF(MAX('3-3 위험성평가'!$A$4:$A$470)+1>E500,VLOOKUP(E500,'3-3 위험성평가'!$A$5:$P$470,9,0),\"\")","v":""},{"$f":"IF(MAX('3-3 위험성평가'!$A$4:$A$536)+1>E500,VLOOKUP(E500,'3-3 위험성평가'!$A$5:$P$536,12,0),\"\")&IF(L500>\"\",\".\"&E500,\"\")","v":""},{"$f":"IF(MAX('3-3 위험성평가'!$A$4:$A$470)+1>E500,VLOOKUP(E500,'3-3 위험성평가'!$A$5:$P$470,13,0),\"\")","v":""},null,"하",null,null,null,null,null,null,null,"선택안함",0,{"$f":"IF(MAX('3-3 위험성평가'!$A$4:$A$470)+1>E500,VLOOKUP(E500,'3-3 위험성평가'!$A$5:$Q$470,17,0),\"\")","v":""},"선택",{"$f":"표지!$D$33","v":"시원건설"},{"$f":"표지!$E$34","v":"김길동4"},"선택안함",0]
["T40",4,"S40",4,493,{"$f":"IF(MAX('3-3 위험성평가'!$A$4:$A$470)+1>E501,VLOOKUP(E501,'3-3 위험성평가'!$A$5:$P$470,2,0),\"\")","v":""},{"$f":"IF(F501=\"\",\"\",VLOOKUP(VALUE(F501),'1-1 사업장 공정 정보'!$D$15:$P$32,5,0))","v":""},{"$f":"IF(MAX('3-3 위험성평가'!$A$4:$A$470)+1>E501,VLOOKUP(E501,'3-3 위험성평가'!$A$5:$P$470,3,0),\"\")","v":""},{"$f":"IF(MAX('3-3 위험성평가'!$A$4:$A$470)+1>E501,VLOOKUP(E501,'3-3 위험성평가'!$A$5:$P$470,4,0),\"\")","v":""},{"$f":"IF(MAX('3-3 위험성평가'!$A$4:$A$470)+1>E501,VLOOKUP(E501,'3-3 위험성평가'!$A$5:$P$470,5,0),\"\")","v":""},{"$f":"IF(MAX('3-3 위험성평가'!$A$4:$A$470)+1>E501,VLOOKUP(E501,'3-3 위험성평가'!$A$5:$P$470,6,0),\"\")","v":""},{"$f":"IF(MAX('3-3 위험성평가'!$A$4:$A$470)+1>E501,VLOOKUP(E501,'3-3 위험성평가'!$A$5:$P$470,9,0),\"\")","v":""},{"$f":"IF(MAX('3-3 위험성평가'!$A$4:$A$536)+1>E501,VLOOKUP(E501,'3-3 위험성평가'!$A$5:$P$536,12,0),\"\")&IF(L501>\"\",\".\"&E501,\"\")","v":""},{"$f":"IF(MAX('3-3 위험성평가'!$A$4:$A$470)+1>E501,VLOOKUP(E501,'3-3 위험성평가'!$A$5:$P$470,13,0),\"\")","v":""},null,"하",null,null,null,null,null,null,null,"선택안함",0,{"$f":"IF(MAX('3-3 위험성평가'!$A$4:$A$470)+1>E501,VLOOKUP(E501,'3-3 위험성평가'!$A$5:$Q$470,17,0),\"\")","v":""},"선택",{"$f":"표지!$D$33","v":"시원건설"},{"$f":"표지!$E$34","v":"김길동4"},"선택안함",0]
["T40",4,"S40",4,494,{"$f":"IF(MAX('3-3 위험성평가'!$A$4:$A$470)+1>E502,VLOOKUP(E502,'3-3 위험성평가'!$A$5:$P$470,2,0),\"\")","v":""},{"$f":"IF(F502=\"\",\"\",VLOOKUP(VALUE(F502),'1-1 사업장 공정 정보'!$D$15:$P$32,5,0))","v":""},{"$f":"IF(MAX('3-3 위험성평가'!$A$4:$A$470)+1>E502,VLOOKUP(E502,'3-3 위험성평가'!$A$5:$P$470,3,0),\"\")","v":""},{"$f":"IF(MAX('3-3 위험성평가'!$A$4:$A$470)+1>E502,VLOOKUP(E502,'3-3 위험성평가'!$A$5:$P$470,4,0),\"\")","v":""},{"$f":"IF(MAX('3-3 위험성평가'!$A$4:$A$470)+1>E502,VLOOKUP(E502,'3-3 위험성평가'!$A$5:$P$470,5,0),\"\")","v":""},{"$f":"IF(MAX('3-3 위험성평가'!$A$4:$A$470)+1>E502,VLOOKUP(E502,'3-3 위험성평가'!$A$5:$P$470,6,0),\"\")","v":""},{"$f":"IF(MAX('3-3 위험성평가'!$A$4:$A$470)+1>E502,VLOOKUP(E502,'3-3 위험성평가'!$A$5:$P$470,9,0),\"\")","v":""},{"$f":"IF(MAX('3-3 위험성평가'!$A$4:$A$536)+1>E502,VLOOKUP(E502,'3-3 위험성평가'!$A$5:$P$536,12,0),\"\")&IF(L502>\"\",\".\"&E502,\"\")","v":""},{"$f":"IF(MAX('3-3 위험성평가'!$A$4:$A$470)+1>E502,VLOOKUP(E502,'3-3 위험성평가'!$A$5:$P$470,13,0),\"\")","v":""},null,"하",null,null,null,null,null,null,null,"선택안함",0,{"$f":"IF(MAX('3-3 위험성평가'!$A$4:$A$470)+1>E502,VLOOKUP(E502,'3-3 위험성평가'!$A$5:$Q$470,17,0),\"\")","v":""},"선택",{"$f":"표지!$D$33","v":"시원건설"},{"$f":"표지!$E$34","v":"김길동4"},"선택안함",0]
["T40",4,"S40",4,495,{"$f":"IF(MAX('3-3 위험성평가'!$A$4:$A$470)+1>E503,VLOOKUP(E503,'3-3 위험성평가'!$A$5:$P$470,2,0),\"\")","v":""},{"$f":"IF(F503=\"\",\"\",VLOOKUP(VALUE(F503),'1-1 사업장 공정 정보'!$D$15:$P$32,5,0))","v":""},{"$f":"IF(MAX('3-3 위험성평가'!$A$4:$A$470)+1>E503,VLOOKUP(E503,'3-3 위험성평가'!$A$5:$P$470,3,0),\"\")","v":""},{"$f":"IF(MAX('3-3 위험성평가'!$A$4:$A$470)+1>E503,VLOOKUP(E503,'3-3 위험성평가'!$A$5:$P$470,4,0),\"\")","v":""},{"$f":"IF(MAX('3-3 위험성평가'!$A$4:$A$470)+1>E503,VLOOKUP(E503,'3-3 위험성평가'!$A$5:$P$470,5,0),\"\")","v":""},{"$f":"IF(MAX('3-3 위험성평가'!$A$4:$A$470)+1>E503,VLOOKUP(E503,'3-3 위험성평가'!$A$5:$P$470,6,0),\"\")","v":""},{"$f":"IF(MAX('3-3 위험성평가'!$A$4:$A$470)+1>E503,VLOOKUP(E503,'3-3 위험성평가'!$A$5:$P$470,9,0),\"\")","v":""},{"$f":"IF(MAX('3-3 위험성평가'!$A$4:$A$536)+1>E503,VLOOKUP(E503,'3-3 위험성평가'!$A$5:$P$536,12,0),\"\")&IF(L503>\"\",\".\"&E503,\"\")","v":""},{"$f":"IF(MAX('3-3 위험성평가'!$A$4:$A$470)+1>E503,VLOOKUP(E503,'3-3 위험성평가'!$A$5:$P$470,13,0),\"\")","v":""},null,"하",null,null,null,null,null,null,null,"선택안함",0,{"$f":"IF(MAX('3-3 위험성평가'!$A$4:$A$470)+1>E503,VLOOKUP(E503,'3-3 위험성평가'!$A$5:$Q$470,17,0),\"\")","v":""},"선택",{"$f":"표지!$D$33","v":"시원건설"},{"$f":"표지!$E$34","v":"김길동4"},"선택안함",0]
["T40",4,"S40",4,496,{"$f":"IF(MAX('3-3 위험성평가'!$A$4:$A$470)+1>E504,VLOOKUP(E504,'3-3 위험성평가'!$A$5:$P$470,2,0),\"\")","v":""},{"$f":"IF(F504=\"\",\"\",VLOOKUP(VALUE(F504),'1-1 사업장 공정 정보'!$D$15:$P$32,5,0))","v":""},{"$f":"IF(MAX('3-3 위험성평가'!$A$4:$A$470)+1>E504,VLOOKUP(E504,'3-3 위험성평가'!$A$5:$P$470,3,0),\"\")","v":""},{"$f":"IF(MAX('3-3 위험성평가'!$A$4:$A$470)+1>E504,VLOOKUP(E504,'3-3 위험성평가'!$A$5:$P$470,4,0),\"\")","v":""},{"$f":"IF(MAX('3-3 위험성평가'!$A$4:$A$470)+1>E504,VLOOKUP(E504,'3-3 위험성평가'!$A$5:$P$470,5,0),\"\")","v":""},{"$f":"IF(MAX('3-3 위험성평가'!$A$4:$A$470)+1>E504,VLOOKUP(E504,'3-3 위험성평가'!$A$5:$P$470,6,0),\"\")","v":""},{"$f":"IF(MAX('3-3 위험성평가'!$A$4:$A$470)+1>E504,VLOOKUP(E504,'3-3 위험성평가'!$A$5:$P$470,9,0),\"\")","v":""},{"$f":"IF(MAX('3-3 위험성평가'!$A$4:$A$536)+1>E504,VLOOKUP(E504,'3-3 위험성평가'!$A$5:$P$536,12,0),\"\")&IF(L504>\"\",\".\"&E504,\"\")","v":""},{"$f":"IF(MAX('3-3 위험성평가'!$A$4:$A$470)+1>E504,VLOOKUP(E504,'3-3 위험성평가'!$A$5:$P$470,13,0),\"\")","v":""},null,"하",null,null,null,null,null,null,null,"선택안함",0,{"$f":"IF(MAX('3-3 위험성평가'!$A$4:$A$470)+1>E504,VLOOKUP(E504,'3-3 위험성평가'!$A$5:$Q$470,17,0),\"\")","v":""},"선택",{"$f":"표지!$D$33","v":"시원건설"},{"$f":"표지!$E$34","v":"김길동4"},"선택안함",0]
["T40",4,"S40",4,497,{"$f":"IF(MAX('3-3 위험성평가'!$A$4:$A$470)+1>E505,VLOOKUP(E505,'3-3 위험성평가'!$A$5:$P$470,2,0),\"\")","v":""},{"$f":"IF(F505=\"\",\"\",VLOOKUP(VALUE(F505),'1-1 사업장 공정 정보'!$D$15:$P$32,5,0))","v":""},{"$f":"IF(MAX('3-3 위험성평가'!$A$4:$A$470)+1>E505,VLOOKUP(E505,'3-3 위험성평가'!$A$5:$P$470,3,0),\"\")","v":""},{"$f":"IF(MAX('3-3 위험성평가'!$A$4:$A$470)+1>E505,VLOOKUP(E505,'3-3 위험성평가'!$A$5:$P$470,4,0),\"\")","v":""},{"$f":"IF(MAX('3-3 위험성평가'!$A$4:$A$470)+1>E505,VLOOKUP(E505,'3-3 위험성평가'!$A$5:$P$470,5,0),\"\")","v":""},{"$f":"IF(MAX('3-3 위험성평가'!$A$4:$A$470)+1>E505,VLOOKUP(E505,'3-3 위험성평가'!$A$5:$P$470,6,0),\"\")","v":""},{"$f":"IF(MAX('3-3 위험성평가'!$A$4:$A$470)+1>E505,VLOOKUP(E505,'3-3 위험성평가'!$A$5:$P$470,9,0),\"\")","v":""},{"$f":"IF(MAX('3-3 위험성평가'!$A$4:$A$536)+1>E505,VLOOKUP(E505,'3-3 위험성평가'!$A$5:$P$536,12,0),\"\")&IF(L505>\"\",\".\"&E505,\"\")","v":""},{"$f":"IF(MAX('3-3 위험성평가'!$A$4:$A$470)+1>E505,VLOOKUP(E505,'3-3 위험성평가'!$A$5:$P$470,13,0),\"\")","v":""},null,"하",null,null,null,null,null,null,null,"선택안함",0,{"$f":"IF(MAX('3-3 위험성평가'!$A$4:$A$470)+1>E505,VLOOKUP(E505,'3-3 위험성평가'!$A$5:$Q$470,17,0),\"\")","v":""},"선택",{"$f":"표지!$D$33","v":"시원건설"},{"$f":"표지!$E$34","v":"김길동4"},"선택안함",0]

{"sheet":"3-5 위험요소 감소조치 실행결과","index":11,"n_rows":4,"n_cols":9,"rows_kept":4,"cut":false,"hidden":false,"merged":[[1,2,1,3],[0,0,0,10],[15,1,15,10],[3,0,25,0],[3,1,3,10],[14,1,14,10],[1,6,1,7],[1,8,1,9],[4,1,13,10],[16,1,24,10],[25,1,25,10]]}
["위험성평가 실시결과(상시) 조치결과"]
["현장명 : ",{"$f":"표지!$D$32","v":"서초동1342-15"},"수정코드 :",null,{"$f":"'3-4 감소대책 수립'!M9","v":"1-1.3.1"},"개선일자 :",null,null,"조치담당 :"]
[]
["ㅡㅡㅡ","개선 전"]

{"sheet":"3-6.TBM일지(자동)","index":12,"n_rows":38,"n_cols":23,"rows_kept":38,"cut":false,"hidden":false,"merged":[[0,0,0,15],[1,2,1,3],[3,0,3,1],[3,2,3,7],[3,10,3,15],[1,11,1,15],[3,8,3,9],[1,0,2,1],[2,6,2,7],[2,10,2,15],[2,3,2,5],[10,0,10,6],[10,7,10,15],[11,0,12,6],[11,7,13,15],[13,0,14,6],[14,11,14,15],[14,8,14,9],[8,0,9,6],[8,7,9,8],[8,12,8,15],[9,10,9,15],[4,0,4,1],[4,2,4,15],[6,0,6,15],[7,0,7,6],[7,7,7,15],[20,8,20,9],[19,11,19,15],[16,0,19,6],[20,0,23,6],[15,0,15,6],[15,11,15,15],[16,11,16,15],[17,11,17,15],[18,11,18,15],[34,8,34,9],[15,8,15,9],[16,8,16,9],[17,8,17,9],[26,11,26,15],[27,11,27,15],[25,11,25,15],[23,11,23,15],[24,11,24,15],[22,8,22,9],[33,11,33,15],[34,11,34,15],[24,8,24,9],[26,8,26,9],[20,11,20,15],[18,8,18,9],[36,8,36,9],[37,8,37,9],[21,8,21,9],[36,11,36,15],[35,8,35,9],[29,11,29,15],[27,8,27,9],[28,11,28,15],[37,11,37,15],[30,11,30,15],[35,11,35,15],[28,8,28,9],[29,8,29,9],[30,8,30,9],[32,8,32,9],[33,8,33,9],[24,0,27,6],[32,0,32,6],[28,0,31,6],[21,11,21,15],[22,11,22,15],[31,7,31,15],[32,11,32,15],[23,8,23,9]]}
[{"$f":"\"Tool Box Meeting일지 / \"&A16","v":"Tool Box Meeting일지 / 철콘작업(거푸집,철근,타설)"}]
["TBM 일시",null,2024,null,"년",1,"월",5,"일",null,"날씨 :","맑음"]
[null,null,null,"실시 시간  :",null,null,"07:20:00",null,"~","07:30:00","까지"]
["작업장명",null,"오금동123-4 현장",null,null,null,null,null,"TBM장소 :",null,"2층 현장사무실"]
["작업내용",null,"석재 및 타일 붙임작업 "]
[]
["■작업 내용 및 TBM시 전달내용\n※주요 작업내용 및 중대재해로 이어질 수 있는 위험요인과 안전조치 여부 재확인\n  근로자의 작업안전 준수사항 및 주의사항, 재해/위험상황 발생 시 보고 철차 등"]
["공통 안전 조치 사항",null,null,null,null,null,null,"TBM참가자 확인",null,null,null,null,null,null,null,null,null,null,null,null,null,null,"`"]
["■작업 중 안전시설 유지(부득이 철거시 안전조치 후 작업, 작업 후 반드시 안전시설 복구)",null,null,null,null,null,null,"TBM\n리더 ",null,"소  속 :",{"$f":"표지!D33","v":"시원건설"},"성명 :",{"$f":"표지!E34","v":"김길동4"}]
[null,null,null,null,null,null,null,null,null,"연락처 :",{"$f":"표지!E35","v":"010-0000-0000"}]
["■작업 중 / 작업 후 정리정돈 필수 확인\n   (안전은 정리정돈에서 시작!)",null,null,null,null,null,null,"※상기TBM 리더는 금일 현장에서 위급사항 발생시 현장소장을 보조하여 지시한 업무를 수행 함"]
["■공정에 맞는 개인안전보호구 착용 필수\n   (안전모, 안전화, 안전대 착용 등)\n",null,null,null,null,null,null,"※참가자 전원은 공동안전조치사항 및 해당 작업에 대한 안전조치 사항을 반드시 읽고 숙지하며, 미비된 안전조치를 확인하고 작업을 시작하시기 바랍니다."]
[]
["■건설기계 사용시 신호수 등 안전전담요원 \n   배치 필수, 기계 전도방지 필수"]
[null,null,null,null,null,null,null,"번호","구분",null,"성명(자필)","전화번호"]
[{"$f":"표지!B6","v":"철콘작업(거푸집,철근,타설)"},null,null,null,null,null,null,1,null,null,null,"010-"]
[{"$f":"IF(COUNTIF('3-4 감소대책 수립'!A9:N505,\"T11\"),VLOOKUP(\"T11\",'3-4 감소대책 수립'!A9:N505,14,0),\"\")","v":"1. 와이어로프 작업 전 손상, 마모, 변형 여부 점검\n2. 꼬임이나 손상된 와이어로프 사용 금지\n3. 인양 작업 전 안전한 결속 여부 확인"},null,null,null,null,null,null,2,null,null,null,"010-"]
[null,null,null,null,null,null,null,3,null,null,null,"010-"]
[null,null,null,null,null,null,null,4,null,null,null,"010-"]
[null,null,null,null,null,null,null,5,null,null,null,"010-"]
[{"$f":"IF(COUNTIF('3-4 감소대책 수립'!A9:N505,\"T21\"),VLOOKUP(\"T21\",'3-4 감소대책 수립'!A9:N505,14,0),\"\")","v":"근로자 배치 및 교육, 작업방법 확인 후 위험방지 조치, 일정한 신호방법 지정"},null,null,null,null,null,null,6,null,null,null,"010-"]
[null,null,null,null,null,null,null,7,null,null,null,"010-"]
[null,null,null,null,null,null,null,8,null,null,null,"010-"]
[null,null,null,null,null,null,null,9,null,null,null,"010-"]
[{"$f":"IF(COUNTIF('3-4 감소대책 수립'!A9:N505,\"T31\"),VLOOKUP(\"T31\",'3-4 감소대책 수립'!A9:N505,14,0),\"\")","v":"1. 관계 근로자 외 출입 금지\n2. 날씨가 몹시 나쁜 경우 작업 중지\n3. 재료, 기구 또는 공구를 올리거나 내릴 때 달줄·달포대 사용\n4. 버팀목 설치 및 거푸집 동바리 등을 인양 장비에 매단 후 작업\n5. 양중기로 철근 운반 시 두 군데 이상 묶어서 수평으로 운반\n6. 작업 위치가 높이 2m 이상일 경우 작업발판 설치 또는 안전대 착용"},null,null,null,null,null,null,10,null,null,null,"010-"]
[null,null,null,null,null,null,null,11,null,null,null,"010-"]
[null,null,null,null,null,null,null,12,null,null,null,"010-"]
[null,null,null,null,null,null,null,13,null,null,null,"010-"]
[{"$f":"IF(COUNTIF('3-4 감소대책 수립'!A9:N505,\"T41\"),VLOOKUP(\"T41\",'3-4 감소대책 수립'!A9:N505,14,0),\"\")","v":"1. 보호구(안전모, 안전대, 안전화 등) 지급 2. 보호구 착용 의무화 및 미착용 시 작업 금지 3. 보호구 착용 여부 사전 점검"},null,null,null,null,null,null,14,null,null,null,"010-"]
[null,null,null,null,null,null,null,15,null,null,null,"010-"]
[null,null,null,null,null,null,null,16,null,null,null,"010-"]
[null,null,null,null,null,null,null,"조                 공"]
["추가 안전 및 전달사항",null,null,null,null,null,null,1,null,null,null,"010-"]
[null,null,null,null,null,null,null,2,null,null,null,"010-"]
[null,null,null,null,null,null,null,3,null,null,null,"010-"]
[null,null,null,null,null,null,null,4,null,null,null,"010-"]
[null,null,null,null,null,null,null,5,null,null,null,"010-"]
[null,null,null,null,null,null,null,6,null,null,null,"010-"]

{"sheet":"3-8.TBM일지(수동)","index":13,"n_rows":38,"n_cols":23,"rows_kept":38,"cut":false,"hidden":false,"merged":[[36,11,36,15],[37,8,37,9],[37,11,37,15],[32,0,37,6],[32,8,32,9],[32,11,32,15],[33,8,33,9],[33,11,33,15],[34,8,34,9],[34,11,34,15],[35,8,35,9],[35,11,35,15],[36,8,36,9],[31,0,31,6],[31,7,31,15],[24,8,24,9],[24,11,24,15],[25,11,25,15],[26,0,30,6],[26,8,26,9],[26,11,26,15],[27,8,27,9],[27,11,27,15],[28,8,28,9],[28,11,28,15],[29,8,29,9],[29,11,29,15],[30,8,30,9],[30,11,30,15],[21,0,25,6],[21,8,21,9],[21,11,21,15],[22,8,22,9],[22,11,22,15],[23,8,23,9],[23,11,23,15],[15,0,15,6],[15,8,15,9],[15,11,15,15],[16,0,20,6],[16,8,16,9],[16,11,16,15],[17,8,17,9],[17,11,17,15],[18,8,18,9],[18,11,18,15],[19,11,19,15],[20,8,20,9],[20,11,20,15],[10,0,10,6],[10,7,10,15],[11,0,12,6],[11,7,13,15],[13,0,14,6],[14,8,14,9],[14,11,14,15],[6,0,6,15],[7,0,7,6],[7,7,7,15],[8,0,9,6],[8,7,9,8],[8,12,8,15],[9,10,9,15],[3,0,3,1],[3,2,3,7],[3,8,3,9],[3,10,3,15],[4,0,4,1],[4,2,4,15],[0,0,0,15],[1,0,2,1],[1,2,1,3],[1,11,1,15],[2,6,2,7],[2,10,2,15],[2,3,2,5]]}
[{"$f":"\"Tool Box Meeting일지 / \"&A16","v":"Tool Box Meeting일지 / 철콘작업(거푸집,철근,타설)"}]
["TBM 일시",null,2024,null,"년",1,"월",5,"일",null,"날씨 :","맑음"]
[null,null,null,"실시 시간  :",null,null,"07:20:00",null,"~","07:30:00","까지"]
["작업장명",null,"오금동123-4 현장",null,null,null,null,null,"TBM장소 :",null,"2층 현장사무실"]
["작업내용",null,"철근 콘크리트 인양 및 철근 가공"]
[]
["■작업 내용 및 TBM시 전달내용\n※주요 작업내용 및 중대재해로 이어질 수 있는 위험요인과 안전조치 여부 재확인\n  근로자의 작업안전 준수사항 및 주의사항, 재해/위험상황 발생 시 보고 철차 등"]
["공통 안전 조치 사항",null,null,null,null,null,null,"TBM참가자 확인",null,null,null,null,null,null,null,null,null,null,null,null,null,null,"`"]
["■작업 중 안전시설 유지(부득이 철거시 안전조치 후 작업, 작업 후 반드시 안전시설 복구)",null,null,null,null,null,null,"TBM\n리더 ",null,"소  속 :",{"$f":"표지!D33","v":"시원건설"},"성명 :",{"$f":"표지!E34","v":"김길동4"}]
[null,null,null,null,null,null,null,null,null,"연락처 :",{"$f":"표지!E35","v":"010-0000-0000"}]
["■작업 중 / 작업 후 정리정돈 필수 확인\n   (안전은 정리정돈에서 시작!)",null,null,null,null,null,null,"※상기TBM 리더는 금일 현장에서 위급사항 발생시 현장소장을 보조하여 지시한 업무를 수행 함"]
["■공정에 맞는 개인안전보호구 착용 필수\n   (안전모, 안전화, 안전대 착용 등)\n",null,null,null,null,null,null,"※참가자 전원은 공동안전조치사항 및 해당 작업에 대한 안전조치 사항을 반드시 읽고 숙지하며, 미비된 안전조치를 확인하고 작업을 시작하시기 바랍니다."]
[]
["■건설기계 사용시 신호수 등 안전전담요원 \n   배치 필수, 기계 전도방지 필수"]
[null,null,null,null,null,null,null,"번호","구분",null,"성명(자필)","전화번호"]
[{"$f":"표지!B6","v":"철콘작업(거푸집,철근,타설)"},null,null,null,null,null,null,1,null,null,null,"010-"]
[null,null,null,null,null,null,null,2,null,null,null,"010-"]
[null,null,null,null,null,null,null,3,null,null,null,"010-"]
[null,null,null,null,null,null,null,4,null,null,null,"010-"]
[null,null,null,null,null,null,null,5,null,null,null,"010-"]
[null,null,null,null,null,null,null,6,null,null,null,"010-"]
[null,null,null,null,null,null,null,7,null,null,null,"010-"]
[null,null,null,null,null,null,null,8,null,null,null,"010-"]
[null,null,null,null,null,null,null,9,null,null,null,"010-"]
[null,null,null,null,null,null,null,10,null,null,null,"010-"]
[null,null,null,null,null,null,null,11,null,null,null,"010-"]
[null,null,null,null,null,null,null,12,null,null,null,"010-"]
[null,null,null,null,null,null,null,13,null,null,null,"010-"]
[null,null,null,null,null,null,null,14,null,null,null,"010-"]
[null,null,null,null,null,null,null,15,null,null,null,"010-"]
[null,null,null,null,null,null,null,16,null,null,null,"010-"]
["추가 안전 및 전달사항",null,null,null,null,null,null,"조                 공"]
[null,null,null,null,null,null,null,1,null,null,null,"010-"]
[null,null,null,null,null,null,null,2,null,null,null,"010-"]
[null,null,null,null,null,null,null,3,null,null,null,"010-"]
[null,null,null,null,null,null,null,4,null,null,null,"010-"]
[null,null,null,null,null,null,null,5,null,null,null,"010-"]
[null,null,null,null,null,null,null,6,null,null,null,"010-"]

{"sheet":"DB자료실","index":14,"n_rows":9,"n_cols":5,"rows_kept":9,"cut":false,"hidden":false,"merged":[]}
["조치예정(상)","상"]
["조치예정(중)","중"]
["조치완료(중)","하"]
["조치완료"]
["현장확인필요",null,null,null,{"$f":"\"감소대책 수립 및 실행\"&\"[\"&표지!B6&\"]\"","v":"감소대책 수립 및 실행[철콘작업(거푸집,철근,타설)]"}]
["해당없음"]
[]
[]
[null,"조치완료(중)"]