{"text_format":"1","workbook":"xlsx","n_sheets":3,"sheets":["Revenue Forecast","Calulation","Category"],"not_rendered":{"charts":0,"images":0,"macros":1,"external_links":0,"defined_names":5,"comments":0,"pivot_tables":0},"unopened":[],"bounds":{"document_bytes":16777216,"sheet_cells":100000,"rows_first":2000,"rows_last":500,"rows_between":2000,"halvings":0,"cell_chars":16384,"cell_head_chars":4096},"cells_cut":0,"cells_raw":0,"read":"whole","date_system":"1900"}

{"sheet":"Revenue Forecast","index":0,"n_rows":36,"n_cols":46,"rows_kept":36,"cut":false,"hidden":false,"merged":[[1,1,1,45],[2,12,2,18],[2,19,2,39],[2,40,2,41],[2,43,5,43],[2,44,3,45],[3,1,4,2],[3,3,5,3],[3,12,3,18],[4,19,5,19],[3,4,4,11],[3,19,3,23],[3,24,3,39],[3,40,5,40],[3,41,5,41],[4,12,4,14],[4,15,4,17],[4,18,5,18],[4,20,5,20],[4,21,4,22],[4,44,5,44],[4,23,5,23],[4,24,4,27],[4,28,5,28],[4,29,4,37],[4,38,5,38],[4,39,5,39]]}
[]
[null,"스마트스토어 마진 계산기"]
[null,null,null,null,null,null,null,null,null,null,null,null,"수익",null,null,null,null,null,null,"비용",null,null,null,null,null,null,null,null,null,null,null,null,null,null,null,null,null,null,null,null,"손익",null,null,"최소\n판매가","희망\n마진율"]
[null,"순위",null,"등록일","상품명",null,null,null,null,null,null,null,"매출총액",null,null,null,null,null,null,"상품매출 원가",null,null,null,null,"판관비",null,null,null,null,null,null,null,null,null,null,null,null,null,null,null,"순수익","수익율"]
[null,null,null,null,null,null,null,null,null,null,null,null,"상품매출",null,null,"기타 매출",null,null,"소계","공급원가","원가율\n%","기타 원가",null,"소계","광고선전비",null,null,null,"포인트","국내 지급 수수료",null,null,null,null,null,null,null,null,"부가세","소계",null,null,null,null,"개별","고정률"]
[null,"매출","순수익",null,"카테고리","판매사이트","매입사이트","판매코드","상품코드","속성","상품명","매입가","판매가","DC","판매수량","추가상품","판매가","운송비",null,null,null,"추가원가","운반비",null,"광고기간","광고비","%","소계",null,"결제형태","신용/체크","계좌이체","무통장","휴대폰","네이버페이","네이버쇼핑","예상 수수료","소계"]
[1,{"$f":"IF(S7=0,\"\",RANK(S7,$S:$S,0))","v":""},{"$f":"IF(AO7=0,\"\",RANK(AO7,$AO:$AO,0))","v":""},null,null,null,null,null,null,null,null,null,null,null,null,null,{"$f":"+Calulation!Q7","v":0},null,{"$f":"+Calulation!S7","v":0},{"$f":"+Calulation!T7","v":0},{"$f":"+Calulation!U7","v":""},{"$f":"+Calulation!V7","v":0},null,{"$f":"+Calulation!X7","v":0},null,null,{"$f":"+Calulation!AA7","v":0},{"$f":"+Calulation!AB7","v":0},null,null,{"$f":"+Calulation!AE7","v":0},{"$f":"+Calulation!AF7","v":0},{"$f":"+Calulation!AG7","v":0},{"$f":"+Calulation!AH7","v":0},{"$f":"+Calulation!AI7","v":0},{"$f":"+Calulation!AJ7","v":0},{"$f":"+Calulation!AK7","v":0},{"$f":"+Calulation!AL7","v":0},{"$f":"+Calulation!AM7","v":0},{"$f":"+Calulation!AN7","v":0},{"$f":"+Calulation!AO7","v":0},{"$f":"+Calulation!AP7","v":""},null,{"$f":"+Calulation!AR7","v":0},null,{"$f":"+Calulation!AT7","v":0}]
[2,"","",null,null,null,null,null,null,null,null,null,null,null,null,null,{"$f":"+Calulation!Q8","v":0},null,{"$f":"+Calulation!S8","v":0},{"$f":"+Calulation!T8","v":0},{"$f":"+Calulation!U8","v":""},{"$f":"+Calulation!V8","v":0},null,{"$f":"+Calulation!X8","v":0},null,null,{"$f":"+Calulation!AA8","v":0},{"$f":"+Calulation!AB8","v":0},null,null,{"$f":"+Calulation!AE8","v":0},{"$f":"+Calulation!AF8","v":0},{"$f":"+Calulation!AG8","v":0},{"$f":"+Calulation!AH8","v":0},{"$f":"+Calulation!AI8","v":0},{"$f":"+Calulation!AJ8","v":0},{"$f":"+Calulation!AK8","v":0},{"$f":"+Calulation!AL8","v":0},{"$f":"+Calulation!AM8","v":0},{"$f":"+Calulation!AN8","v":0},{"$f":"+Calulation!AO8","v":0},{"$f":"+Calulation!AP8","v":""},null,{"$f":"+Calulation!AR8","v":0},null,{"$f":"+Calulation!AT8","v":0}]
[3,"","",null,null,null,null,null,null,null,null,null,null,null,null,null,{"$f":"+Calulation!Q9","v":0},null,{"$f":"+Calulation!S9","v":0},{"$f":"+Calulation!T9","v":0},{"$f":"+Calulation!U9","v":""},{"$f":"+Calulation!V9","v":0},null,{"$f":"+Calulation!X9","v":0},null,null,{"$f":"+Calulation!AA9","v":0},{"$f":"+Calulation!AB9","v":0},null,null,{"$f":"+Calulation!AE9","v":0},{"$f":"+Calulation!AF9","v":0},{"$f":"+Calulation!AG9","v":0},{"$f":"+Calulation!AH9","v":0},{"$f":"+Calulation!AI9","v":0},{"$f":"+Calulation!AJ9","v":0},{"$f":"+Calulation!AK9","v":0},{"$f":"+Calulation!AL9","v":0},{"$f":"+Calulation!AM9","v":0},{"$f":"+Calulation!AN9","v":0},{"$f":"+Calulation!AO9","v":0},{"$f":"+Calulation!AP9","v":""},null,{"$f":"+Calulation!AR9","v":0},null,{"$f":"+Calulation!AT9","v":0}]
[4,"","",null,null,null,null,null,null,null,null,null,null,null,null,null,{"$f":"+Calulation!Q10","v":0},null,{"$f":"+Calulation!S10","v":0},{"$f":"+Calulation!T10","v":0},{"$f":"+Calulation!U10","v":""},{"$f":"+Calulation!V10","v":0},null,{"$f":"+Calulation!X10","v":0},null,null,{"$f":"+Calulation!AA10","v":0},{"$f":"+Calulation!AB10","v":0},null,null,{"$f":"+Calulation!AE10","v":0},{"$f":"+Calulation!AF10","v":0},{"$f":"+Calulation!AG10","v":0},{"$f":"+Calulation!AH10","v":0},{"$f":"+Calulation!AI10","v":0},{"$f":"+Calulation!AJ10","v":0},{"$f":"+Calulation!AK10","v":0},{"$f":"+Calulation!AL10","v":0},{"$f":"+Calulation!AM10","v":0},{"$f":"+Calulation!AN10","v":0},{"$f":"+Calulation!AO10","v":0},{"$f":"+Calulation!AP10","v":""},null,{"$f":"+Calulation!AR10","v":0},null,{"$f":"+Calulation!AT10","v":0}]
[5,"","",null,null,null,null,null,null,null,null,null,null,null,null,null,{"$f":"+Calulation!Q11","v":0},null,{"$f":"+Calulation!S11","v":0},{"$f":"+Calulation!T11","v":0},{"$f":"+Calulation!U11","v":""},{"$f":"+Calulation!V11","v":0},null,{"$f":"+Calulation!X11","v":0},null,null,{"$f":"+Calulation!AA11","v":0},{"$f":"+Calulation!AB11","v":0},null,null,{"$f":"+Calulation!AE11","v":0},{"$f":"+Calulation!AF11","v":0},{"$f":"+Calulation!AG11","v":0},{"$f":"+Calulation!AH11","v":0},{"$f":"+Calulation!AI11","v":0},{"$f":"+Calulation!AJ11","v":0},{"$f":"+Calulation!AK11","v":0},{"$f":"+Calulation!AL11","v":0},{"$f":"+Calulation!AM11","v":0},{"$f":"+Calulation!AN11","v":0},{"$f":"+Calulation!AO11","v":0},{"$f":"+Calulation!AP11","v":""},null,{"$f":"+Calulation!AR11","v":0},null,{"$f":"+Calulation!AT11","v":0}]
[6,"","",null,null,null,null,null,null,null,null,null,null,null,null,null,{"$f":"+Calulation!Q12","v":0},null,{"$f":"+Calulation!S12","v":0},{"$f":"+Calulation!T12","v":0},{"$f":"+Calulation!U12","v":""},{"$f":"+Calulation!V12","v":0},null,{"$f":"+Calulation!X12","v":0},null,null,{"$f":"+Calulation!AA12","v":0},{"$f":"+Calulation!AB12","v":0},null,null,{"$f":"+Calulation!AE12","v":0},{"$f":"+Calulation!AF12","v":0},{"$f":"+Calulation!AG12","v":0},{"$f":"+Calulation!AH12","v":0},{"$f":"+Calulation!AI12","v":0},{"$f":"+Calulation!AJ12","v":0},{"$f":"+Calulation!AK12","v":0},{"$f":"+Calulation!AL12","v":0},{"$f":"+Calulation!AM12","v":0},{"$f":"+Calulation!AN12","v":0},{"$f":"+Calulation!AO12","v":0},{"$f":"+Calulation!AP12","v":""},null,{"$f":"+Calulation!AR12","v":0},null,{"$f":"+Calulation!AT12","v":0}]
[7,"","",null,null,null,null,null,null,null,null,null,null,null,null,null,{"$f":"+Calulation!Q13","v":0},null,{"$f":"+Calulation!S13","v":0},{"$f":"+Calulation!T13","v":0},{"$f":"+Calulation!U13","v":""},{"$f":"+Calulation!V13","v":0},null,{"$f":"+Calulation!X13","v":0},null,null,{"$f":"+Calulation!AA13","v":0},{"$f":"+Calulation!AB13","v":0},null,null,{"$f":"+Calulation!AE13","v":0},{"$f":"+Calulation!AF13","v":0},{"$f":"+Calulation!AG13","v":0},{"$f":"+Calulation!AH13","v":0},{"$f":"+Calulation!AI13","v":0},{"$f":"+Calulation!AJ13","v":0},{"$f":"+Calulation!AK13","v":0},{"$f":"+Calulation!AL13","v":0},{"$f":"+Calulation!AM13","v":0},{"$f":"+Calulation!AN13","v":0},{"$f":"+Calulation!AO13","v":0},{"$f":"+Calulation!AP13","v":""},null,{"$f":"+Calulation!AR13","v":0},null,{"$f":"+Calulation!AT13","v":0}]
[8,"","",null,null,null,null,null,null,null,null,null,null,null,null,null,{"$f":"+Calulation!Q14","v":0},null,{"$f":"+Calulation!S14","v":0},{"$f":"+Calulation!T14","v":0},{"$f":"+Calulation!U14","v":""},{"$f":"+Calulation!V14","v":0},null,{"$f":"+Calulation!X14","v":0},null,null,{"$f":"+Calulation!AA14","v":0},{"$f":"+Calulation!AB14","v":0},null,null,{"$f":"+Calulation!AE14","v":0},{"$f":"+Calulation!AF14","v":0},{"$f":"+Calulation!AG14","v":0},{"$f":"+Calulation!AH14","v":0},{"$f":"+Calulation!AI14","v":0},{"$f":"+Calulation!AJ14","v":0},{"$f":"+Calulation!AK14","v":0},{"$f":"+Calulation!AL14","v":0},{"$f":"+Calulation!AM14","v":0},{"$f":"+Calulation!AN14","v":0},{"$f":"+Calulation!AO14","v":0},{"$f":"+Calulation!AP14","v":""},null,{"$f":"+Calulation!AR14","v":0},null,{"$f":"+Calulation!AT14","v":0}]
[9,"","",null,null,null,null,null,null,null,null,null,null,null,null,null,{"$f":"+Calulation!Q15","v":0},null,{"$f":"+Calulation!S15","v":0},{"$f":"+Calulation!T15","v":0},{"$f":"+Calulation!U15","v":""},{"$f":"+Calulation!V15","v":0},null,{"$f":"+Calulation!X15","v":0},null,null,{"$f":"+Calulation!AA15","v":0},{"$f":"+Calulation!AB15","v":0},null,null,{"$f":"+Calulation!AE15","v":0},{"$f":"+Calulation!AF15","v":0},{"$f":"+Calulation!AG15","v":0},{"$f":"+Calulation!AH15","v":0},{"$f":"+Calulation!AI15","v":0},{"$f":"+Calulation!AJ15","v":0},{"$f":"+Calulation!AK15","v":0},{"$f":"+Calulation!AL15","v":0},{"$f":"+Calulation!AM15","v":0},{"$f":"+Calulation!AN15","v":0},{"$f":"+Calulation!AO15","v":0},{"$f":"+Calulation!AP15","v":""},null,{"$f":"+Calulation!AR15","v":0},null,{"$f":"+Calulation!AT15","v":0}]
[10,"","",null,null,null,null,null,null,null,null,null,null,null,null,null,{"$f":"+Calulation!Q16","v":0},null,{"$f":"+Calulation!S16","v":0},{"$f":"+Calulation!T16","v":0},{"$f":"+Calulation!U16","v":""},{"$f":"+Calulation!V16","v":0},null,{"$f":"+Calulation!X16","v":0},null,null,{"$f":"+Calulation!AA16","v":0},{"$f":"+Calulation!AB16","v":0},null,null,{"$f":"+Calulation!AE16","v":0},{"$f":"+Calulation!AF16","v":0},{"$f":"+Calulation!AG16","v":0},{"$f":"+Calulation!AH16","v":0},{"$f":"+Calulation!AI16","v":0},{"$f":"+Calulation!AJ16","v":0},{"$f":"+Calulation!AK16","v":0},{"$f":"+Calulation!AL16","v":0},{"$f":"+Calulation!AM16","v":0},{"$f":"+Calulation!AN16","v":0},{"$f":"+Calulation!AO16","v":0},{"$f":"+Calulation!AP16","v":""},null,{"$f":"+Calulation!AR16","v":0},null,{"$f":"+Calulation!AT16","v":0}]
[11,"","",null,null,null,null,null,null,null,null,null,null,null,null,null,{"$f":"+Calulation!Q17","v":0},null,{"$f":"+Calulation!S17","v":0},{"$f":"+Calulation!T17","v":0},{"$f":"+Calulation!U17","v":""},{"$f":"+Calulation!V17","v":0},null,{"$f":"+Calulation!X17","v":0},null,null,{"$f":"+Calulation!AA17","v":0},{"$f":"+Calulation!AB17","v":0},null,null,{"$f":"+Calulation!AE17","v":0},{"$f":"+Calulation!AF17","v":0},{"$f":"+Calulation!AG17","v":0},{"$f":"+Calulation!AH17","v":0},{"$f":"+Calulation!AI17","v":0},{"$f":"+Calulation!AJ17","v":0},{"$f":"+Calulation!AK17","v":0},{"$f":"+Calulation!AL17","v":0},{"$f":"+Calulation!AM17","v":0},{"$f":"+Calulation!AN17","v":0},{"$f":"+Calulation!AO17","v":0},{"$f":"+Calulation!AP17","v":""},null,{"$f":"+Calulation!AR17","v":0},null,{"$f":"+Calulation!AT17","v":0}]
[12,"","",null,null,null,null,null,null,null,null,null,null,null,null,null,{"$f":"+Calulation!Q18","v":0},null,{"$f":"+Calulation!S18","v":0},{"$f":"+Calulation!T18","v":0},{"$f":"+Calulation!U18","v":""},{"$f":"+Calulation!V18","v":0},null,{"$f":"+Calulation!X18","v":0},null,null,{"$f":"+Calulation!AA18","v":0},{"$f":"+Calulation!AB18","v":0},null,null,{"$f":"+Calulation!AE18","v":0},{"$f":"+Calulation!AF18","v":0},{"$f":"+Calulation!AG18","v":0},{"$f":"+Calulation!AH18","v":0},{"$f":"+Calulation!AI18","v":0},{"$f":"+Calulation!AJ18","v":0},{"$f":"+Calulation!AK18","v":0},{"$f":"+Calulation!AL18","v":0},{"$f":"+Calulation!AM18","v":0},{"$f":"+Calulation!AN18","v":0},{"$f":"+Calulation!AO18","v":0},{"$f":"+Calulation!AP18","v":""},null,{"$f":"+Calulation!AR18","v":0},null,{"$f":"+Calulation!AT18","v":0}]
[13,"","",null,null,null,null,null,null,null,null,null,null,null,null,null,{"$f":"+Calulation!Q19","v":0},null,{"$f":"+Calulation!S19","v":0},{"$f":"+Calulation!T19","v":0},{"$f":"+Calulation!U19","v":""},{"$f":"+Calulation!V19","v":0},null,{"$f":"+Calulation!X19","v":0},null,null,{"$f":"+Calulation!AA19","v":0},{"$f":"+Calulation!AB19","v":0},null,null,{"$f":"+Calulation!AE19","v":0},{"$f":"+Calulation!AF19","v":0},{"$f":"+Calulation!AG19","v":0},{"$f":"+Calulation!AH19","v":0},{"$f":"+Calulation!AI19","v":0},{"$f":"+Calulation!AJ19","v":0},{"$f":"+Calulation!AK19","v":0},{"$f":"+Calulation!AL19","v":0},{"$f":"+Calulation!AM19","v":0},{"$f":"+Calulation!AN19","v":0},{"$f":"+Calulation!AO19","v":0},{"$f":"+Calulation!AP19","v":""},null,{"$f":"+Calulation!AR19","v":0},null,{"$f":"+Calulation!AT19","v":0}]
[14,"","",null,null,null,null,null,null,null,null,null,null,null,null,null,{"$f":"+Calulation!Q20","v":0},null,{"$f":"+Calulation!S20","v":0},{"$f":"+Calulation!T20","v":0},{"$f":"+Calulation!U20","v":""},{"$f":"+Calulation!V20","v":0},null,{"$f":"+Calulation!X20","v":0},null,null,{"$f":"+Calulation!AA20","v":0},{"$f":"+Calulation!AB20","v":0},null,null,{"$f":"+Calulation!AE20","v":0},{"$f":"+Calulation!AF20","v":0},{"$f":"+Calulation!AG20","v":0},{"$f":"+Calulation!AH20","v":0},{"$f":"+Calulation!AI20","v":0},{"$f":"+Calulation!AJ20","v":0},{"$f":"+Calulation!AK20","v":0},{"$f":"+Calulation!AL20","v":0},{"$f":"+Calulation!AM20","v":0},{"$f":"+Calulation!AN20","v":0},{"$f":"+Calulation!AO20","v":0},{"$f":"+Calulation!AP20","v":""},null,{"$f":"+Calulation!AR20","v":0},null,{"$f":"+Calulation!AT20","v":0}]
[15,"","",null,null,null,null,null,null,null,null,null,null,null,null,null,{"$f":"+Calulation!Q21","v":0},null,{"$f":"+Calulation!S21","v":0},{"$f":"+Calulation!T21","v":0},{"$f":"+Calulation!U21","v":""},{"$f":"+Calulation!V21","v":0},null,{"$f":"+Calulation!X21","v":0},null,null,{"$f":"+Calulation!AA21","v":0},{"$f":"+Calulation!AB21","v":0},null,null,{"$f":"+Calulation!AE21","v":0},{"$f":"+Calulation!AF21","v":0},{"$f":"+Calulation!AG21","v":0},{"$f":"+Calulation!AH21","v":0},{"$f":"+Calulation!AI21","v":0},{"$f":"+Calulation!AJ21","v":0},{"$f":"+Calulation!AK21","v":0},{"$f":"+Calulation!AL21","v":0},{"$f":"+Calulation!AM21","v":0},{"$f":"+Calulation!AN21","v":0},{"$f":"+Calulation!AO21","v":0},{"$f":"+Calulation!AP21","v":""},null,{"$f":"+Calulation!AR21","v":0},null,{"$f":"+Calulation!AT21","v":0}]
[16,"","",null,null,null,null,null,null,null,null,null,null,null,null,null,{"$f":"+Calulation!Q22","v":0},null,{"$f":"+Calulation!S22","v":0},{"$f":"+Calulation!T22","v":0},{"$f":"+Calulation!U22","v":""},{"$f":"+Calulation!V22","v":0},null,{"$f":"+Calulation!X22","v":0},null,null,{"$f":"+Calulation!AA22","v":0},{"$f":"+Calulation!AB22","v":0},null,null,{"$f":"+Calulation!AE22","v":0},{"$f":"+Calulation!AF22","v":0},{"$f":"+Calulation!AG22","v":0},{"$f":"+Calulation!AH22","v":0},{"$f":"+Calulation!AI22","v":0},{"$f":"+Calulation!AJ22","v":0},{"$f":"+Calulation!AK22","v":0},{"$f":"+Calulation!AL22","v":0},{"$f":"+Calulation!AM22","v":0},{"$f":"+Calulation!AN22","v":0},{"$f":"+Calulation!AO22","v":0},{"$f":"+Calulation!AP22","v":""},null,{"$f":"+Calulation!AR22","v":0},null,{"$f":"+Calulation!AT22","v":0}]
[17,"","",null,null,null,null,null,null,null,null,null,null,null,null,null,{"$f":"+Calulation!Q23","v":0},null,{"$f":"+Calulation!S23","v":0},{"$f":"+Calulation!T23","v":0},{"$f":"+Calulation!U23","v":""},{"$f":"+Calulation!V23","v":0},null,{"$f":"+Calulation!X23","v":0},null,null,{"$f":"+Calulation!AA23","v":0},{"$f":"+Calulation!AB23","v":0},null,null,{"$f":"+Calulation!AE23","v":0},{"$f":"+Calulation!AF23","v":0},{"$f":"+Calulation!AG23","v":0},{"$f":"+Calulation!AH23","v":0},{"$f":"+Calulation!AI23","v":0},{"$f":"+Calulation!AJ23","v":0},{"$f":"+Calulation!AK23","v":0},{"$f":"+Calulation!AL23","v":0},{"$f":"+Calulation!AM23","v":0},{"$f":"+Calulation!AN23","v":0},{"$f":"+Calulation!AO23","v":0},{"$f":"+Calulation!AP23","v":""},null,{"$f":"+Calulation!AR23","v":0},null,{"$f":"+Calulation!AT23","v":0}]
[18,"","",null,null,null,null,null,null,null,null,null,null,null,null,null,{"$f":"+Calulation!Q24","v":0},null,{"$f":"+Calulation!S24","v":0},{"$f":"+Calulation!T24","v":0},{"$f":"+Calulation!U24","v":""},{"$f":"+Calulation!V24","v":0},null,{"$f":"+Calulation!X24","v":0},null,null,{"$f":"+Calulation!AA24","v":0},{"$f":"+Calulation!AB24","v":0},null,null,{"$f":"+Calulation!AE24","v":0},{"$f":"+Calulation!AF24","v":0},{"$f":"+Calulation!AG24","v":0},{"$f":"+Calulation!AH24","v":0},{"$f":"+Calulation!AI24","v":0},{"$f":"+Calulation!AJ24","v":0},{"$f":"+Calulation!AK24","v":0},{"$f":"+Calulation!AL24","v":0},{"$f":"+Calulation!AM24","v":0},{"$f":"+Calulation!AN24","v":0},{"$f":"+Calulation!AO24","v":0},{"$f":"+Calulation!AP24","v":""},null,{"$f":"+Calulation!AR24","v":0},null,{"$f":"+Calulation!AT24","v":0}]
[19,"","",null,null,null,null,null,null,null,null,null,null,null,null,null,{"$f":"+Calulation!Q25","v":0},null,{"$f":"+Calulation!S25","v":0},{"$f":"+Calulation!T25","v":0},{"$f":"+Calulation!U25","v":""},{"$f":"+Calulation!V25","v":0},null,{"$f":"+Calulation!X25","v":0},null,null,{"$f":"+Calulation!AA25","v":0},{"$f":"+Calulation!AB25","v":0},null,null,{"$f":"+Calulation!AE25","v":0},{"$f":"+Calulation!AF25","v":0},{"$f":"+Calulation!AG25","v":0},{"$f":"+Calulation!AH25","v":0},{"$f":"+Calulation!AI25","v":0},{"$f":"+Calulation!AJ25","v":0},{"$f":"+Calulation!AK25","v":0},{"$f":"+Calulation!AL25","v":0},{"$f":"+Calulation!AM25","v":0},{"$f":"+Calulation!AN25","v":0},{"$f":"+Calulation!AO25","v":0},{"$f":"+Calulation!AP25","v":""},null,{"$f":"+Calulation!AR25","v":0},null,{"$f":"+Calulation!AT25","v":0}]
[20,"","",null,null,null,null,null,null,null,null,null,null,null,null,null,{"$f":"+Calulation!Q26","v":0},null,{"$f":"+Calulation!S26","v":0},{"$f":"+Calulation!T26","v":0},{"$f":"+Calulation!U26","v":""},{"$f":"+Calulation!V26","v":0},null,{"$f":"+Calulation!X26","v":0},null,null,{"$f":"+Calulation!AA26","v":0},{"$f":"+Calulation!AB26","v":0},null,null,{"$f":"+Calulation!AE26","v":0},{"$f":"+Calulation!AF26","v":0},{"$f":"+Calulation!AG26","v":0},{"$f":"+Calulation!AH26","v":0},{"$f":"+Calulation!AI26","v":0},{"$f":"+Calulation!AJ26","v":0},{"$f":"+Calulation!AK26","v":0},{"$f":"+Calulation!AL26","v":0},{"$f":"+Calulation!AM26","v":0},{"$f":"+Calulation!AN26","v":0},{"$f":"+Calulation!AO26","v":0},{"$f":"+Calulation!AP26","v":""},null,{"$f":"+Calulation!AR26","v":0},null,{"$f":"+Calulation!AT26","v":0}]
[21,"","",null,null,null,null,null,null,null,null,null,null,null,null,null,{"$f":"+Calulation!Q27","v":0},null,{"$f":"+Calulation!S27","v":0},{"$f":"+Calulation!T27","v":0},{"$f":"+Calulation!U27","v":""},{"$f":"+Calulation!V27","v":0},null,{"$f":"+Calulation!X27","v":0},null,null,{"$f":"+Calulation!AA27","v":0},{"$f":"+Calulation!AB27","v":0},null,null,{"$f":"+Calulation!AE27","v":0},{"$f":"+Calulation!AF27","v":0},{"$f":"+Calulation!AG27","v":0},{"$f":"+Calulation!AH27","v":0},{"$f":"+Calulation!AI27","v":0},{"$f":"+Calulation!AJ27","v":0},{"$f":"+Calulation!AK27","v":0},{"$f":"+Calulation!AL27","v":0},{"$f":"+Calulation!AM27","v":0},{"$f":"+Calulation!AN27","v":0},{"$f":"+Calulation!AO27","v":0},{"$f":"+Calulation!AP27","v":""},null,{"$f":"+Calulation!AR27","v":0},null,{"$f":"+Calulation!AT27","v":0}]
[22,"","",null,null,null,null,null,null,null,null,null,null,null,null,null,{"$f":"+Calulation!Q28","v":0},null,{"$f":"+Calulation!S28","v":0},{"$f":"+Calulation!T28","v":0},{"$f":"+Calulation!U28","v":""},{"$f":"+Calulation!V28","v":0},null,{"$f":"+Calulation!X28","v":0},null,null,{"$f":"+Calulation!AA28","v":0},{"$f":"+Calulation!AB28","v":0},null,null,{"$f":"+Calulation!AE28","v":0},{"$f":"+Calulation!AF28","v":0},{"$f":"+Calulation!AG28","v":0},{"$f":"+Calulation!AH28","v":0},{"$f":"+Calulation!AI28","v":0},{"$f":"+Calulation!AJ28","v":0},{"$f":"+Calulation!AK28","v":0},{"$f":"+Calulation!AL28","v":0},{"$f":"+Calulation!AM28","v":0},{"$f":"+Calulation!AN28","v":0},{"$f":"+Calulation!AO28","v":0},{"$f":"+Calulation!AP28","v":""},null,{"$f":"+Calulation!AR28","v":0},null,{"$f":"+Calulation!AT28","v":0}]
[23,"","",null,null,null,null,null,null,null,null,null,null,null,null,null,{"$f":"+Calulation!Q29","v":0},null,{"$f":"+Calulation!S29","v":0},{"$f":"+Calulation!T29","v":0},{"$f":"+Calulation!U29","v":""},{"$f":"+Calulation!V29","v":0},null,{"$f":"+Calulation!X29","v":0},null,null,{"$f":"+Calulation!AA29","v":0},{"$f":"+Calulation!AB29","v":0},null,null,{"$f":"+Calulation!AE29","v":0},{"$f":"+Calulation!AF29","v":0},{"$f":"+Calulation!AG29","v":0},{"$f":"+Calulation!AH29","v":0},{"$f":"+Calulation!AI29","v":0},{"$f":"+Calulation!AJ29","v":0},{"$f":"+Calulation!AK29","v":0},{"$f":"+Calulation!AL29","v":0},{"$f":"+Calulation!AM29","v":0},{"$f":"+Calulation!AN29","v":0},{"$f":"+Calulation!AO29","v":0},{"$f":"+Calulation!AP29","v":""},null,{"$f":"+Calulation!AR29","v":0},null,{"$f":"+Calulation!AT29","v":0}]
[24,"","",null,null,null,null,null,null,null,null,null,null,null,null,null,{"$f":"+Calulation!Q30","v":0},null,{"$f":"+Calulation!S30","v":0},{"$f":"+Calulation!T30","v":0},{"$f":"+Calulation!U30","v":""},{"$f":"+Calulation!V30","v":0},null,{"$f":"+Calulation!X30","v":0},null,null,{"$f":"+Calulation!AA30","v":0},{"$f":"+Calulation!AB30","v":0},null,null,{"$f":"+Calulation!AE30","v":0},{"$f":"+Calulation!AF30","v":0},{"$f":"+Calulation!AG30","v":0},{"$f":"+Calulation!AH30","v":0},{"$f":"+Calulation!AI30","v":0},{"$f":"+Calulation!AJ30","v":0},{"$f":"+Calulation!AK30","v":0},{"$f":"+Calulation!AL30","v":0},{"$f":"+Calulation!AM30","v":0},{"$f":"+Calulation!AN30","v":0},{"$f":"+Calulation!AO30","v":0},{"$f":"+Calulation!AP30","v":""},null,{"$f":"+Calulation!AR30","v":0},null,{"$f":"+Calulation!AT30","v":0}]
[25,"","",null,null,null,null,null,null,null,null,null,null,null,null,null,{"$f":"+Calulation!Q31","v":0},null,{"$f":"+Calulation!S31","v":0},{"$f":"+Calulation!T31","v":0},{"$f":"+Calulation!U31","v":""},{"$f":"+Calulation!V31","v":0},null,{"$f":"+Calulation!X31","v":0},null,null,{"$f":"+Calulation!AA31","v":0},{"$f":"+Calulation!AB31","v":0},null,null,{"$f":"+Calulation!AE31","v":0},{"$f":"+Calulation!AF31","v":0},{"$f":"+Calulation!AG31","v":0},{"$f":"+Calulation!AH31","v":0},{"$f":"+Calulation!AI31","v":0},{"$f":"+Calulation!AJ31","v":0},{"$f":"+Calulation!AK31","v":0},{"$f":"+Calulation!AL31","v":0},{"$f":"+Calulation!AM31","v":0},{"$f":"+Calulation!AN31","v":0},{"$f":"+Calulation!AO31","v":0},{"$f":"+Calulation!AP31","v":""},null,{"$f":"+Calulation!AR31","v":0},null,{"$f":"+Calulation!AT31","v":0}]
[26,"","",null,null,null,null,null,null,null,null,null,null,null,null,null,{"$f":"+Calulation!Q32","v":0},null,{"$f":"+Calulation!S32","v":0},{"$f":"+Calulation!T32","v":0},{"$f":"+Calulation!U32","v":""},{"$f":"+Calulation!V32","v":0},null,{"$f":"+Calulation!X32","v":0},null,null,{"$f":"+Calulation!AA32","v":0},{"$f":"+Calulation!AB32","v":0},null,null,{"$f":"+Calulation!AE32","v":0},{"$f":"+Calulation!AF32","v":0},{"$f":"+Calulation!AG32","v":0},{"$f":"+Calulation!AH32","v":0},{"$f":"+Calulation!AI32","v":0},{"$f":"+Calulation!AJ32","v":0},{"$f":"+Calulation!AK32","v":0},{"$f":"+Calulation!AL32","v":0},{"$f":"+Calulation!AM32","v":0},{"$f":"+Calulation!AN32","v":0},{"$f":"+Calulation!AO32","v":0},{"$f":"+Calulation!AP32","v":""},null,{"$f":"+Calulation!AR32","v":0},null,{"$f":"+Calulation!AT32","v":0}]
[27,"","",null,null,null,null,null,null,null,null,null,null,null,null,null,{"$f":"+Calulation!Q33","v":0},null,{"$f":"+Calulation!S33","v":0},{"$f":"+Calulation!T33","v":0},{"$f":"+Calulation!U33","v":""},{"$f":"+Calulation!V33","v":0},null,{"$f":"+Calulation!X33","v":0},null,null,{"$f":"+Calulation!AA33","v":0},{"$f":"+Calulation!AB33","v":0},null,null,{"$f":"+Calulation!AE33","v":0},{"$f":"+Calulation!AF33","v":0},{"$f":"+Calulation!AG33","v":0},{"$f":"+Calulation!AH33","v":0},{"$f":"+Calulation!AI33","v":0},{"$f":"+Calulation!AJ33","v":0},{"$f":"+Calulation!AK33","v":0},{"$f":"+Calulation!AL33","v":0},{"$f":"+Calulation!AM33","v":0},{"$f":"+Calulation!AN33","v":0},{"$f":"+Calulation!AO33","v":0},{"$f":"+Calulation!AP33","v":""},null,{"$f":"+Calulation!AR33","v":0},null,{"$f":"+Calulation!AT33","v":0}]
[28,"","",null,null,null,null,null,null,null,null,null,null,null,null,null,{"$f":"+Calulation!Q34","v":0},null,{"$f":"+Calulation!S34","v":0},{"$f":"+Calulation!T34","v":0},{"$f":"+Calulation!U34","v":""},{"$f":"+Calulation!V34","v":0},null,{"$f":"+Calulation!X34","v":0},null,null,{"$f":"+Calulation!AA34","v":0},{"$f":"+Calulation!AB34","v":0},null,null,{"$f":"+Calulation!AE34","v":0},{"$f":"+Calulation!AF34","v":0},{"$f":"+Calulation!AG34","v":0},{"$f":"+Calulation!AH34","v":0},{"$f":"+Calulation!AI34","v":0},{"$f":"+Calulation!AJ34","v":0},{"$f":"+Calulation!AK34","v":0},{"$f":"+Calulation!AL34","v":0},{"$f":"+Calulation!AM34","v":0},{"$f":"+Calulation!AN34","v":0},{"$f":"+Calulation!AO34","v":0},{"$f":"+Calulation!AP34","v":""},null,{"$f":"+Calulation!AR34","v":0},null,{"$f":"+Calulation!AT34","v":0}]
[29,"","",null,null,null,null,null,null,null,null,null,null,null,null,null,{"$f":"+Calulation!Q35","v":0},null,{"$f":"+Calulation!S35","v":0},{"$f":"+Calulation!T35","v":0},{"$f":"+Calulation!U35","v":""},{"$f":"+Calulation!V35","v":0},null,{"$f":"+Calulation!X35","v":0},null,null,{"$f":"+Calulation!AA35","v":0},{"$f":"+Calulation!AB35","v":0},null,null,{"$f":"+Calulation!AE35","v":0},{"$f":"+Calulation!AF35","v":0},{"$f":"+Calulation!AG35","v":0},{"$f":"+Calulation!AH35","v":0},{"$f":"+Calulation!AI35","v":0},{"$f":"+Calulation!AJ35","v":0},{"$f":"+Calulation!AK35","v":0},{"$f":"+Calulation!AL35","v":0},{"$f":"+Calulation!AM35","v":0},{"$f":"+Calulation!AN35","v":0},{"$f":"+Calulation!AO35","v":0},{"$f":"+Calulation!AP35","v":""},null,{"$f":"+Calulation!AR35","v":0},null,{"$f":"+Calulation!AT35","v":0}]
[30,"","",null,null,null,null,null,null,null,null,null,null,null,null,null,{"$f":"+Calulation!Q36","v":0},null,{"$f":"+Calulation!S36","v":0},{"$f":"+Calulation!T36","v":0},{"$f":"+Calulation!U36","v":""},{"$f":"+Calulation!V36","v":0},null,{"$f":"+Calulation!X36","v":0},null,null,{"$f":"+Calulation!AA36","v":0},{"$f":"+Calulation!AB36","v":0},null,null,{"$f":"+Calulation!AE36","v":0},{"$f":"+Calulation!AF36","v":0},{"$f":"+Calulation!AG36","v":0},{"$f":"+Calulation!AH36","v":0},{"$f":"+Calulation!AI36","v":0},{"$f":"+Calulation!AJ36","v":0},{"$f":"+Calulation!AK36","v":0},{"$f":"+Calulation!AL36","v":0},{"$f":"+Calulation!AM36","v":0},{"$f":"+Calulation!AN36","v":0},{"$f":"+Calulation!AO36","v":0},{"$f":"+Calulation!AP36","v":""},null,{"$f":"+Calulation!AR36","v":0},null,{"$f":"+Calulation!AT36","v":0}]

{"sheet":"Calulation","index":1,"n_rows":36,"n_cols":46,"rows_kept":36,"cut":false,"hidden":true,"merged":[[3,1,4,2],[4,39,5,39],[3,3,5,3],[4,24,4,27],[4,19,5,19],[3,4,4,11],[2,43,5,43],[2,12,2,18],[2,19,2,39],[2,40,2,41],[4,38,5,38],[2,44,3,45],[4,28,5,28],[1,1,1,45],[4,21,4,22],[4,20,5,20],[4,15,4,17],[4,29,4,37],[3,12,3,18],[3,19,3,23],[3,24,3,39],[4,12,4,14],[4,44,5,44],[4,18,5,18],[4,23,5,23],[3,41,5,41],[3,40,5,40]]}
[]
[null,"스마트스토어 마진 계산기"]
[null,null,null,null,null,null,null,null,null,null,null,null,"수익",null,null,null,null,null,null,"비용",null,null,null,null,null,null,null,null,null,null,null,null,null,null,null,null,null,null,null,null,"손익",null,null,"최소\n판매가","희망\n마진율"]
[null,"순위",null,"등록일","상품명",null,null,null,null,null,null,null,"매출총액",null,null,null,null,null,null,"상품매출 원가",null,null,null,null,"판관비",null,null,null,null,null,null,null,null,null,null,null,null,null,null,null,"순수익","수익율"]
[null,null,null,null,null,null,null,null,null,null,null,null,"상품매출",null,null,"기타 매출",null,null,"소계","공급원가","원가율\n%","기타 원가",null,"소계","광고선전비",null,null,null,"포인트","국내 지급 수수료",null,null,null,null,null,null,null,null,"부가세","소계",null,null,null,null,"개별","고정률"]
[null,"매출","순수익",null,"카테고리","판매사이트","매입사이트","판매코드","상품코드","속성","상품명","매입가","판매가","DC","판매수량","추가상품","판매가","운송비",null,null,null,"추가원가","운반비",null,"광고기간","광고비","%","소계",null,"결제형태","신용/체크","계좌이체","무통장","휴대폰","네이버페이","네이버쇼핑","예상 수수료","소계",null,null,null,null,null,null,null,{"$f":"+'Revenue Forecast'!AT6","v":0}]
[null,{"$f":"IF(S7=0,\"\",RANK(S7,$S:$S,0))","v":""},{"$f":"IF(AO7=0,\"\",RANK(AO7,$AO:$AO,0))","v":""},{"$f":"+'Revenue Forecast'!D7","v":"00:00:00"},{"$f":"+'Revenue Forecast'!E7","v":0},{"$f":"+'Revenue Forecast'!F7","v":0},{"$f":"+'Revenue Forecast'!G7","v":0},{"$f":"+'Revenue Forecast'!H7","v":0},{"$f":"+'Revenue Forecast'!I7","v":0},{"$f":"+'Revenue Forecast'!J7","v":0},{"$f":"+'Revenue Forecast'!K7","v":0},{"$f":"+'Revenue Forecast'!L7","v":0},{"$f":"+'Revenue Forecast'!M7","v":0},{"$f":"+'Revenue Forecast'!N7","v":0},{"$f":"+'Revenue Forecast'!O7","v":0},{"$f":"+'Revenue Forecast'!P7","v":0},{"$f":"IFERROR(VLOOKUP($P7,$I$7:$M$36,5),0)","v":0},{"$f":"+'Revenue Forecast'!R7","v":0},{"$f":"IF(AND(O7=0,Q7=0),0,R7+(M7*O7-(M7*O7*(N7)))+Q7)","v":0},{"$f":"+L7","v":0},{"$f":"IFERROR(L7/S7,\"\")","v":""},{"$f":"IF(P7=0,0,IFERROR(VLOOKUP($P7,$I$7:$L$36,4),))","v":0},{"$f":"+'Revenue Forecast'!W7","v":0},{"$f":"IF(O7=\"\",0,IFERROR(SUM(T7:W7)-U7,0))","v":0},{"$f":"+'Revenue Forecast'!Y7","v":0},{"$f":"+'Revenue Forecast'!Z7","v":0},{"$f":"IFERROR(IF(Z7=\"\",\"\",Z7/S7),)","v":0},{"$f":"SUM(Z7)","v":0},{"$f":"+'Revenue Forecast'!AC7","v":0},{"$f":"+'Revenue Forecast'!AD7","v":0},{"$f":"IF(AE$6=$AD7,$M7*Category!H$2+$R7*Category!H$2,0)","v":0},{"$f":"IF(AF$6=$AD7,$M7*Category!H$3+$R7*Category!H$3,0)","v":0},{"$f":"IF(AND(AG$6=$AD7,$M7*Category!H$4+$R7*Category!H$4>=300),300,IF(AG$6=$AD7,$M7*Category!H$4+$R7*Category!H$4,0))","v":0},{"$f":"IF(AH$6=$AD7,$M7*Category!H$5+$R7*Category!H$5,0)","v":0},{"$f":"IF(AI$6=$AD7,$M7*Category!H$6+$R7*Category!H$6,0)","v":0},{"$f":"IF(SUM(AE7:AI7)=0,0,M7*Category!H$7)","v":0},{"$f":"IF(SUM(AE7:AJ7)=0,S7*Category!$H$8,0)","v":0},{"$f":"SUM(AD7:AK7)","v":0},{"$f":"IF(M7=0,0,(M7-(M7/1.1)+R7-(R7/1.1)-(L7-(L7/1.1)+W7-(W7/1.1)+AL7-(AL7/1.1))))","v":0},{"$f":"AL7+AB7+AC7+AM7","v":0},{"$f":"S7-X7-AN7","v":0},{"$f":"IFERROR(AO7/X7,\"\")","v":""},null,{"$f":"IF(AO7>0,0,ROUNDUP((L7+V7+AN7-AM7)+X7*Category!$H$8+L7/10,-2))","v":0},{"$f":"+'Revenue Forecast'!AS7","v":0},{"$f":"IF(AND(AS7=0,$AT$6=0),0,IF(AS7=0,(X7-W7)*(1+$AT$6),(X7-W7)*(1+AS7))*1.1)","v":0}]
[null,"","",{"$f":"+'Revenue Forecast'!D8","v":"00:00:00"},{"$f":"+'Revenue Forecast'!E8","v":0},{"$f":"+'Revenue Forecast'!F8","v":0},{"$f":"+'Revenue Forecast'!G8","v":0},{"$f":"+'Revenue Forecast'!H8","v":0},{"$f":"+'Revenue Forecast'!I8","v":0},{"$f":"+'Revenue Forecast'!J8","v":0},{"$f":"+'Revenue Forecast'!K8","v":0},{"$f":"+'Revenue Forecast'!L8","v":0},{"$f":"+'Revenue Forecast'!M8","v":0},{"$f":"+'Revenue Forecast'!N8","v":0},{"$f":"+'Revenue Forecast'!O8","v":0},{"$f":"+'Revenue Forecast'!P8","v":0},{"$f":"IFERROR(VLOOKUP($P8,$I$7:$M$36,5),0)","v":0},{"$f":"+'Revenue Forecast'!R8","v":0},{"$f":"IF(AND(O8=0,Q8=0),0,R8+(M8*O8-(M8*O8*(N8)))+Q8)","v":0},{"$f":"+L8","v":0},"",{"$f":"IF(P8=0,0,IFERROR(VLOOKUP($P8,$I$7:$L$36,4),))","v":0},{"$f":"+'Revenue Forecast'!W8","v":0},{"$f":"IF(O8=\"\",0,IFERROR(SUM(T8:W8)-U8,0))","v":0},{"$f":"+'Revenue Forecast'!Y8","v":0},{"$f":"+'Revenue Forecast'!Z8","v":0},{"$f":"IFERROR(IF(Z8=\"\",\"\",Z8/S8),)","v":0},{"$f":"SUM(Z8)","v":0},{"$f":"+'Revenue Forecast'!AC8","v":0},{"$f":"+'Revenue Forecast'!AD8","v":0},{"$f":"IF(AE$6=$AD8,$M8*Category!H$2+$R8*Category!H$2,0)","v":0},{"$f":"IF(AF$6=$AD8,$M8*Category!H$3+$R8*Category!H$3,0)","v":0},{"$f":"IF(AND(AG$6=$AD8,$M8*Category!H$4+$R8*Category!H$4>=300),300,IF(AG$6=$AD8,$M8*Category!H$4+$R8*Category!H$4,0))","v":0},{"$f":"IF(AH$6=$AD8,$M8*Category!H$5+$R8*Category!H$5,0)","v":0},{"$f":"IF(AI$6=$AD8,$M8*Category!H$6+$R8*Category!H$6,0)","v":0},{"$f":"IF(SUM(AE8:AI8)=0,0,M8*Category!H$7)","v":0},{"$f":"IF(SUM(AE8:AJ8)=0,S8*Category!$H$8,0)","v":0},{"$f":"SUM(AD8:AK8)","v":0},0,{"$f":"AL8+AB8+AC8+AM8","v":0},{"$f":"S8-X8-AN8","v":0},{"$f":"IFERROR(AO8/X8,\"\")","v":""},null,{"$f":"IF(AO8>0,0,ROUNDUP((L8+V8+AN8-AM8)+X8*Category!$H$8+L8/10,-2))","v":0},{"$f":"+'Revenue Forecast'!AS8","v":0},{"$f":"IF(AND(AS8=0,$AT$6=0),0,IF(AS8=0,(X8-W8)*(1+$AT$6),(X8-W8)*(1+AS8))*1.1)","v":0}]
[null,"","",{"$f":"+'Revenue Forecast'!D9","v":"00:00:00"},{"$f":"+'Revenue Forecast'!E9","v":0},{"$f":"+'Revenue Forecast'!F9","v":0},{"$f":"+'Revenue Forecast'!G9","v":0},{"$f":"+'Revenue Forecast'!H9","v":0},{"$f":"+'Revenue Forecast'!I9","v":0},{"$f":"+'Revenue Forecast'!J9","v":0},{"$f":"+'Revenue Forecast'!K9","v":0},{"$f":"+'Revenue Forecast'!L9","v":0},{"$f":"+'Revenue Forecast'!M9","v":0},{"$f":"+'Revenue Forecast'!N9","v":0},{"$f":"+'Revenue Forecast'!O9","v":0},{"$f":"+'Revenue Forecast'!P9","v":0},{"$f":"IFERROR(VLOOKUP($P9,$I$7:$M$36,5),0)","v":0},{"$f":"+'Revenue Forecast'!R9","v":0},0,0,"",{"$f":"IF(P9=0,0,IFERROR(VLOOKUP($P9,$I$7:$L$36,4),))","v":0},{"$f":"+'Revenue Forecast'!W9","v":0},0,{"$f":"+'Revenue Forecast'!Y9","v":0},{"$f":"+'Revenue Forecast'!Z9","v":0},0,0,{"$f":"+'Revenue Forecast'!AC9","v":0},{"$f":"+'Revenue Forecast'!AD9","v":0},{"$f":"IF(AE$6=$AD9,$M9*Category!H$2+$R9*Category!H$2,0)","v":0},{"$f":"IF(AF$6=$AD9,$M9*Category!H$3+$R9*Category!H$3,0)","v":0},{"$f":"IF(AND(AG$6=$AD9,$M9*Category!H$4+$R9*Category!H$4>=300),300,IF(AG$6=$AD9,$M9*Category!H$4+$R9*Category!H$4,0))","v":0},{"$f":"IF(AH$6=$AD9,$M9*Category!H$5+$R9*Category!H$5,0)","v":0},{"$f":"IF(AI$6=$AD9,$M9*Category!H$6+$R9*Category!H$6,0)","v":0},{"$f":"IF(SUM(AE9:AI9)=0,0,M9*Category!H$7)","v":0},{"$f":"IF(SUM(AE9:AJ9)=0,S9*Category!$H$8,0)","v":0},0,0,0,0,"",null,{"$f":"IF(AO9>0,0,ROUNDUP((L9+V9+AN9-AM9)+X9*Category!$H$8+L9/10,-2))","v":0},{"$f":"+'Revenue Forecast'!AS9","v":0},0]
[null,"","",{"$f":"+'Revenue Forecast'!D10","v":"00:00:00"},{"$f":"+'Revenue Forecast'!E10","v":0},{"$f":"+'Revenue Forecast'!F10","v":0},{"$f":"+'Revenue Forecast'!G10","v":0},{"$f":"+'Revenue Forecast'!H10","v":0},{"$f":"+'Revenue Forecast'!I10","v":0},{"$f":"+'Revenue Forecast'!J10","v":0},{"$f":"+'Revenue Forecast'!K10","v":0},{"$f":"+'Revenue Forecast'!L10","v":0},{"$f":"+'Revenue Forecast'!M10","v":0},{"$f":"+'Revenue Forecast'!N10","v":0},{"$f":"+'Revenue Forecast'!O10","v":0},{"$f":"+'Revenue Forecast'!P10","v":0},{"$f":"IFERROR(VLOOKUP($P10,$I$7:$M$36,5),0)","v":0},{"$f":"+'Revenue Forecast'!R10","v":0},0,0,"",{"$f":"IF(P10=0,0,IFERROR(VLOOKUP($P10,$I$7:$L$36,4),))","v":0},{"$f":"+'Revenue Forecast'!W10","v":0},0,{"$f":"+'Revenue Forecast'!Y10","v":0},{"$f":"+'Revenue Forecast'!Z10","v":0},0,0,{"$f":"+'Revenue Forecast'!AC10","v":0},{"$f":"+'Revenue Forecast'!AD10","v":0},{"$f":"IF(AE$6=$AD10,$M10*Category!H$2+$R10*Category!H$2,0)","v":0},{"$f":"IF(AF$6=$AD10,$M10*Category!H$3+$R10*Category!H$3,0)","v":0},{"$f":"IF(AND(AG$6=$AD10,$M10*Category!H$4+$R10*Category!H$4>=300),300,IF(AG$6=$AD10,$M10*Category!H$4+$R10*Category!H$4,0))","v":0},{"$f":"IF(AH$6=$AD10,$M10*Category!H$5+$R10*Category!H$5,0)","v":0},{"$f":"IF(AI$6=$AD10,$M10*Category!H$6+$R10*Category!H$6,0)","v":0},{"$f":"IF(SUM(AE10:AI10)=0,0,M10*Category!H$7)","v":0},{"$f":"IF(SUM(AE10:AJ10)=0,S10*Category!$H$8,0)","v":0},0,0,0,0,"",null,{"$f":"IF(AO10>0,0,ROUNDUP((L10+V10+AN10-AM10)+X10*Category!$H$8+L10/10,-2))","v":0},{"$f":"+'Revenue Forecast'!AS10","v":0},0]
[null,"","",{"$f":"+'Revenue Forecast'!D11","v":0},{"$f":"+'Revenue Forecast'!E11","v":0},{"$f":"+'Revenue Forecast'!F11","v":0},{"$f":"+'Revenue Forecast'!G11","v":0},{"$f":"+'Revenue Forecast'!H11","v":0},{"$f":"+'Revenue Forecast'!I11","v":0},{"$f":"+'Revenue Forecast'!J11","v":0},{"$f":"+'Revenue Forecast'!K11","v":0},{"$f":"+'Revenue Forecast'!L11","v":0},{"$f":"+'Revenue Forecast'!M11","v":0},{"$f":"+'Revenue Forecast'!N11","v":0},{"$f":"+'Revenue Forecast'!O11","v":0},{"$f":"+'Revenue Forecast'!P11","v":0},{"$f":"IFERROR(VLOOKUP($P11,$I$7:$M$36,5),0)","v":0},{"$f":"+'Revenue Forecast'!R11","v":0},0,0,"",{"$f":"IF(P11=0,0,IFERROR(VLOOKUP($P11,$I$7:$L$36,4),))","v":0},{"$f":"+'Revenue Forecast'!W11","v":0},0,{"$f":"+'Revenue Forecast'!Y11","v":0},{"$f":"+'Revenue Forecast'!Z11","v":0},0,0,{"$f":"+'Revenue Forecast'!AC11","v":0},{"$f":"+'Revenue Forecast'!AD11","v":0},{"$f":"IF(AE$6=$AD11,$M11*Category!H$2+$R11*Category!H$2,0)","v":0},{"$f":"IF(AF$6=$AD11,$M11*Category!H$3+$R11*Category!H$3,0)","v":0},{"$f":"IF(AND(AG$6=$AD11,$M11*Category!H$4+$R11*Category!H$4>=300),300,IF(AG$6=$AD11,$M11*Category!H$4+$R11*Category!H$4,0))","v":0},{"$f":"IF(AH$6=$AD11,$M11*Category!H$5+$R11*Category!H$5,0)","v":0},{"$f":"IF(AI$6=$AD11,$M11*Category!H$6+$R11*Category!H$6,0)","v":0},{"$f":"IF(SUM(AE11:AI11)=0,0,M11*Category!H$7)","v":0},{"$f":"IF(SUM(AE11:AJ11)=0,S11*Category!$H$8,0)","v":0},0,0,0,0,"",null,{"$f":"IF(AO11>0,0,ROUNDUP((L11+V11+AN11-AM11)+X11*Category!$H$8+L11/10,-2))","v":0},{"$f":"+'Revenue Forecast'!AS11","v":0},0]
[null,"","",{"$f":"+'Revenue Forecast'!D12","v":0},{"$f":"+'Revenue Forecast'!E12","v":0},{"$f":"+'Revenue Forecast'!F12","v":0},{"$f":"+'Revenue Forecast'!G12","v":0},{"$f":"+'Revenue Forecast'!H12","v":0},{"$f":"+'Revenue Forecast'!I12","v":0},{"$f":"+'Revenue Forecast'!J12","v":0},{"$f":"+'Revenue Forecast'!K12","v":0},{"$f":"+'Revenue Forecast'!L12","v":0},{"$f":"+'Revenue Forecast'!M12","v":0},{"$f":"+'Revenue Forecast'!N12","v":0},{"$f":"+'Revenue Forecast'!O12","v":0},{"$f":"+'Revenue Forecast'!P12","v":0},0,{"$f":"+'Revenue Forecast'!R12","v":0},0,0,"",{"$f":"IF(P12=0,0,IFERROR(VLOOKUP($P12,$I$7:$L$36,4),))","v":0},{"$f":"+'Revenue Forecast'!W12","v":0},0,{"$f":"+'Revenue Forecast'!Y12","v":0},{"$f":"+'Revenue Forecast'!Z12","v":0},0,0,{"$f":"+'Revenue Forecast'!AC12","v":0},{"$f":"+'Revenue Forecast'!AD12","v":0},{"$f":"IF(AE$6=$AD12,$M12*Category!H$2+$R12*Category!H$2,0)","v":0},{"$f":"IF(AF$6=$AD12,$M12*Category!H$3+$R12*Category!H$3,0)","v":0},{"$f":"IF(AND(AG$6=$AD12,$M12*Category!H$4+$R12*Category!H$4>=300),300,IF(AG$6=$AD12,$M12*Category!H$4+$R12*Category!H$4,0))","v":0},{"$f":"IF(AH$6=$AD12,$M12*Category!H$5+$R12*Category!H$5,0)","v":0},{"$f":"IF(AI$6=$AD12,$M12*Category!H$6+$R12*Category!H$6,0)","v":0},{"$f":"IF(SUM(AE12:AI12)=0,0,M12*Category!H$7)","v":0},{"$f":"IF(SUM(AE12:AJ12)=0,S12*Category!$H$8,0)","v":0},0,0,0,0,"",null,{"$f":"IF(AO12>0,0,ROUNDUP((L12+V12+AN12-AM12)+X12*Category!$H$8+L12/10,-2))","v":0},{"$f":"+'Revenue Forecast'!AS12","v":0},0]
[null,"","",{"$f":"+'Revenue Forecast'!D13","v":0},{"$f":"+'Revenue Forecast'!E13","v":0},{"$f":"+'Revenue Forecast'!F13","v":0},{"$f":"+'Revenue Forecast'!G13","v":0},{"$f":"+'Revenue Forecast'!H13","v":0},{"$f":"+'Revenue Forecast'!I13","v":0},{"$f":"+'Revenue Forecast'!J13","v":0},{"$f":"+'Revenue Forecast'!K13","v":0},{"$f":"+'Revenue Forecast'!L13","v":0},{"$f":"+'Revenue Forecast'!M13","v":0},{"$f":"+'Revenue Forecast'!N13","v":0},{"$f":"+'Revenue Forecast'!O13","v":0},{"$f":"+'Revenue Forecast'!P13","v":0},0,{"$f":"+'Revenue Forecast'!R13","v":0},0,0,"",0,{"$f":"+'Revenue Forecast'!W13","v":0},0,{"$f":"+'Revenue Forecast'!Y13","v":0},{"$f":"+'Revenue Forecast'!Z13","v":0},0,0,{"$f":"+'Revenue Forecast'!AC13","v":0},{"$f":"+'Revenue Forecast'!AD13","v":0},{"$f":"IF(AE$6=$AD13,$M13*Category!H$2+$R13*Category!H$2,0)","v":0},{"$f":"IF(AF$6=$AD13,$M13*Category!H$3+$R13*Category!H$3,0)","v":0},{"$f":"IF(AND(AG$6=$AD13,$M13*Category!H$4+$R13*Category!H$4>=300),300,IF(AG$6=$AD13,$M13*Category!H$4+$R13*Category!H$4,0))","v":0},{"$f":"IF(AH$6=$AD13,$M13*Category!H$5+$R13*Category!H$5,0)","v":0},{"$f":"IF(AI$6=$AD13,$M13*Category!H$6+$R13*Category!H$6,0)","v":0},{"$f":"IF(SUM(AE13:AI13)=0,0,M13*Category!H$7)","v":0},{"$f":"IF(SUM(AE13:AJ13)=0,S13*Category!$H$8,0)","v":0},0,0,0,0,"",null,{"$f":"IF(AO13>0,0,ROUNDUP((L13+V13+AN13-AM13)+X13*Category!$H$8+L13/10,-2))","v":0},{"$f":"+'Revenue Forecast'!AS13","v":0},0]
[null,"","",{"$f":"+'Revenue Forecast'!D14","v":0},{"$f":"+'Revenue Forecast'!E14","v":0},{"$f":"+'Revenue Forecast'!F14","v":0},{"$f":"+'Revenue Forecast'!G14","v":0},{"$f":"+'Revenue Forecast'!H14","v":0},{"$f":"+'Revenue Forecast'!I14","v":0},{"$f":"+'Revenue Forecast'!J14","v":0},{"$f":"+'Revenue Forecast'!K14","v":0},{"$f":"+'Revenue Forecast'!L14","v":0},{"$f":"+'Revenue Forecast'!M14","v":0},{"$f":"+'Revenue Forecast'!N14","v":0},{"$f":"+'Revenue Forecast'!O14","v":0},{"$f":"+'Revenue Forecast'!P14","v":0},0,{"$f":"+'Revenue Forecast'!R14","v":0},0,0,"",0,{"$f":"+'Revenue Forecast'!W14","v":0},0,{"$f":"+'Revenue Forecast'!Y14","v":0},{"$f":"+'Revenue Forecast'!Z14","v":0},0,0,{"$f":"+'Revenue Forecast'!AC14","v":0},{"$f":"+'Revenue Forecast'!AD14","v":0},{"$f":"IF(AE$6=$AD14,$M14*Category!H$2+$R14*Category!H$2,0)","v":0},{"$f":"IF(AF$6=$AD14,$M14*Category!H$3+$R14*Category!H$3,0)","v":0},{"$f":"IF(AND(AG$6=$AD14,$M14*Category!H$4+$R14*Category!H$4>=300),300,IF(AG$6=$AD14,$M14*Category!H$4+$R14*Category!H$4,0))","v":0},{"$f":"IF(AH$6=$AD14,$M14*Category!H$5+$R14*Category!H$5,0)","v":0},{"$f":"IF(AI$6=$AD14,$M14*Category!H$6+$R14*Category!H$6,0)","v":0},{"$f":"IF(SUM(AE14:AI14)=0,0,M14*Category!H$7)","v":0},{"$f":"IF(SUM(AE14:AJ14)=0,S14*Category!$H$8,0)","v":0},0,0,0,0,"",null,{"$f":"IF(AO14>0,0,ROUNDUP((L14+V14+AN14-AM14)+X14*Category!$H$8+L14/10,-2))","v":0},{"$f":"+'Revenue Forecast'!AS14","v":0},0]
[null,"","",{"$f":"+'Revenue Forecast'!D15","v":0},{"$f":"+'Revenue Forecast'!E15","v":0},{"$f":"+'Revenue Forecast'!F15","v":0},{"$f":"+'Revenue Forecast'!G15","v":0},{"$f":"+'Revenue Forecast'!H15","v":0},{"$f":"+'Revenue Forecast'!I15","v":0},{"$f":"+'Revenue Forecast'!J15","v":0},{"$f":"+'Revenue Forecast'!K15","v":0},{"$f":"+'Revenue Forecast'!L15","v":0},{"$f":"+'Revenue Forecast'!M15","v":0},{"$f":"+'Revenue Forecast'!N15","v":0},{"$f":"+'Revenue Forecast'!O15","v":0},{"$f":"+'Revenue Forecast'!P15","v":0},0,{"$f":"+'Revenue Forecast'!R15","v":0},0,0,"",0,{"$f":"+'Revenue Forecast'!W15","v":0},0,{"$f":"+'Revenue Forecast'!Y15","v":0},{"$f":"+'Revenue Forecast'!Z15","v":0},0,0,{"$f":"+'Revenue Forecast'!AC15","v":0},{"$f":"+'Revenue Forecast'!AD15","v":0},{"$f":"IF(AE$6=$AD15,$M15*Category!H$2+$R15*Category!H$2,0)","v":0},{"$f":"IF(AF$6=$AD15,$M15*Category!H$3+$R15*Category!H$3,0)","v":0},{"$f":"IF(AND(AG$6=$AD15,$M15*Category!H$4+$R15*Category!H$4>=300),300,IF(AG$6=$AD15,$M15*Category!H$4+$R15*Category!H$4,0))","v":0},{"$f":"IF(AH$6=$AD15,$M15*Category!H$5+$R15*Category!H$5,0)","v":0},{"$f":"IF(AI$6=$AD15,$M15*Category!H$6+$R15*Category!H$6,0)","v":0},{"$f":"IF(SUM(AE15:AI15)=0,0,M15*Category!H$7)","v":0},{"$f":"IF(SUM(AE15:AJ15)=0,S15*Category!$H$8,0)","v":0},0,0,0,0,"",null,{"$f":"IF(AO15>0,0,ROUNDUP((L15+V15+AN15-AM15)+X15*Category!$H$8+L15/10,-2))","v":0},{"$f":"+'Revenue Forecast'!AS15","v":0},0]
[null,"","",{"$f":"+'Revenue Forecast'!D16","v":0},{"$f":"+'Revenue Forecast'!E16","v":0},{"$f":"+'Revenue Forecast'!F16","v":0},{"$f":"+'Revenue Forecast'!G16","v":0},{"$f":"+'Revenue Forecast'!H16","v":0},{"$f":"+'Revenue Forecast'!I16","v":0},{"$f":"+'Revenue Forecast'!J16","v":0},{"$f":"+'Revenue Forecast'!K16","v":0},{"$f":"+'Revenue Forecast'!L16","v":0},{"$f":"+'Revenue Forecast'!M16","v":0},{"$f":"+'Revenue Forecast'!N16","v":0},{"$f":"+'Revenue Forecast'!O16","v":0},{"$f":"+'Revenue Forecast'!P16","v":0},0,{"$f":"+'Revenue Forecast'!R16","v":0},0,0,"",0,{"$f":"+'Revenue Forecast'!W16","v":0},0,{"$f":"+'Revenue Forecast'!Y16","v":0},{"$f":"+'Revenue Forecast'!Z16","v":0},0,0,{"$f":"+'Revenue Forecast'!AC16","v":0},{"$f":"+'Revenue Forecast'!AD16","v":0},{"$f":"IF(AE$6=$AD16,$M16*Category!H$2+$R16*Category!H$2,0)","v":0},{"$f":"IF(AF$6=$AD16,$M16*Category!H$3+$R16*Category!H$3,0)","v":0},{"$f":"IF(AND(AG$6=$AD16,$M16*Category!H$4+$R16*Category!H$4>=300),300,IF(AG$6=$AD16,$M16*Category!H$4+$R16*Category!H$4,0))","v":0},{"$f":"IF(AH$6=$AD16,$M16*Category!H$5+$R16*Category!H$5,0)","v":0},{"$f":"IF(AI$6=$AD16,$M16*Category!H$6+$R16*Category!H$6,0)","v":0},{"$f":"IF(SUM(AE16:AI16)=0,0,M16*Category!H$7)","v":0},{"$f":"IF(SUM(AE16:AJ16)=0,S16*Category!$H$8,0)","v":0},0,0,0,0,"",null,{"$f":"IF(AO16>0,0,ROUNDUP((L16+V16+AN16-AM16)+X16*Category!$H$8+L16/10,-2))","v":0},{"$f":"+'Revenue Forecast'!AS16","v":0},0]
[null,"","",{"$f":"+'Revenue Forecast'!D17","v":0},{"$f":"+'Revenue Forecast'!E17","v":0},{"$f":"+'Revenue Forecast'!F17","v":0},{"$f":"+'Revenue Forecast'!G17","v":0},{"$f":"+'Revenue Forecast'!H17","v":0},{"$f":"+'Revenue Forecast'!I17","v":0},{"$f":"+'Revenue Forecast'!J17","v":0},{"$f":"+'Revenue Forecast'!K17","v":0},{"$f":"+'Revenue Forecast'!L17","v":0},{"$f":"+'Revenue Forecast'!M17","v":0},{"$f":"+'Revenue Forecast'!N17","v":0},{"$f":"+'Revenue Forecast'!O17","v":0},{"$f":"+'Revenue Forecast'!P17","v":0},0,{"$f":"+'Revenue Forecast'!R17","v":0},0,0,"",0,{"$f":"+'Revenue Forecast'!W17","v":0},0,{"$f":"+'Revenue Forecast'!Y17","v":0},{"$f":"+'Revenue Forecast'!Z17","v":0},0,0,{"$f":"+'Revenue Forecast'!AC17","v":0},{"$f":"+'Revenue Forecast'!AD17","v":0},{"$f":"IF(AE$6=$AD17,$M17*Category!H$2+$R17*Category!H$2,0)","v":0},{"$f":"IF(AF$6=$AD17,$M17*Category!H$3+$R17*Category!H$3,0)","v":0},{"$f":"IF(AND(AG$6=$AD17,$M17*Category!H$4+$R17*Category!H$4>=300),300,IF(AG$6=$AD17,$M17*Category!H$4+$R17*Category!H$4,0))","v":0},{"$f":"IF(AH$6=$AD17,$M17*Category!H$5+$R17*Category!H$5,0)","v":0},{"$f":"IF(AI$6=$AD17,$M17*Category!H$6+$R17*Category!H$6,0)","v":0},{"$f":"IF(SUM(AE17:AI17)=0,0,M17*Category!H$7)","v":0},{"$f":"IF(SUM(AE17:AJ17)=0,S17*Category!$H$8,0)","v":0},0,0,0,0,"",null,{"$f":"IF(AO17>0,0,ROUNDUP((L17+V17+AN17-AM17)+X17*Category!$H$8+L17/10,-2))","v":0},{"$f":"+'Revenue Forecast'!AS17","v":0},0]
[null,"","",{"$f":"+'Revenue Forecast'!D18","v":0},{"$f":"+'Revenue Forecast'!E18","v":0},{"$f":"+'Revenue Forecast'!F18","v":0},{"$f":"+'Revenue Forecast'!G18","v":0},{"$f":"+'Revenue Forecast'!H18","v":0},{"$f":"+'Revenue Forecast'!I18","v":0},{"$f":"+'Revenue Forecast'!J18","v":0},{"$f":"+'Revenue Forecast'!K18","v":0},{"$f":"+'Revenue Forecast'!L18","v":0},{"$f":"+'Revenue Forecast'!M18","v":0},{"$f":"+'Revenue Forecast'!N18","v":0},{"$f":"+'Revenue Forecast'!O18","v":0},{"$f":"+'Revenue Forecast'!P18","v":0},0,{"$f":"+'Revenue Forecast'!R18","v":0},0,0,"",0,{"$f":"+'Revenue Forecast'!W18","v":0},0,{"$f":"+'Revenue Forecast'!Y18","v":0},{"$f":"+'Revenue Forecast'!Z18","v":0},0,0,{"$f":"+'Revenue Forecast'!AC18","v":0},{"$f":"+'Revenue Forecast'!AD18","v":0},{"$f":"IF(AE$6=$AD18,$M18*Category!H$2+$R18*Category!H$2,0)","v":0},{"$f":"IF(AF$6=$AD18,$M18*Category!H$3+$R18*Category!H$3,0)","v":0},{"$f":"IF(AND(AG$6=$AD18,$M18*Category!H$4+$R18*Category!H$4>=300),300,IF(AG$6=$AD18,$M18*Category!H$4+$R18*Category!H$4,0))","v":0},{"$f":"IF(AH$6=$AD18,$M18*Category!H$5+$R18*Category!H$5,0)","v":0},{"$f":"IF(AI$6=$AD18,$M18*Category!H$6+$R18*Category!H$6,0)","v":0},{"$f":"IF(SUM(AE18:AI18)=0,0,M18*Category!H$7)","v":0},{"$f":"IF(SUM(AE18:AJ18)=0,S18*Category!$H$8,0)","v":0},0,0,0,0,"",null,{"$f":"IF(AO18>0,0,ROUNDUP((L18+V18+AN18-AM18)+X18*Category!$H$8+L18/10,-2))","v":0},{"$f":"+'Revenue Forecast'!AS18","v":0},0]
[null,"","",{"$f":"+'Revenue Forecast'!D19","v":0},{"$f":"+'Revenue Forecast'!E19","v":0},{"$f":"+'Revenue Forecast'!F19","v":0},{"$f":"+'Revenue Forecast'!G19","v":0},{"$f":"+'Revenue Forecast'!H19","v":0},{"$f":"+'Revenue Forecast'!I19","v":0},{"$f":"+'Revenue Forecast'!J19","v":0},{"$f":"+'Revenue Forecast'!K19","v":0},{"$f":"+'Revenue Forecast'!L19","v":0},{"$f":"+'Revenue Forecast'!M19","v":0},{"$f":"+'Revenue Forecast'!N19","v":0},{"$f":"+'Revenue Forecast'!O19","v":0},{"$f":"+'Revenue Forecast'!P19","v":0},0,{"$f":"+'Revenue Forecast'!R19","v":0},0,0,"",0,{"$f":"+'Revenue Forecast'!W19","v":0},0,{"$f":"+'Revenue Forecast'!Y19","v":0},{"$f":"+'Revenue Forecast'!Z19","v":0},0,0,{"$f":"+'Revenue Forecast'!AC19","v":0},{"$f":"+'Revenue Forecast'!AD19","v":0},{"$f":"IF(AE$6=$AD19,$M19*Category!H$2+$R19*Category!H$2,0)","v":0},{"$f":"IF(AF$6=$AD19,$M19*Category!H$3+$R19*Category!H$3,0)","v":0},{"$f":"IF(AND(AG$6=$AD19,$M19*Category!H$4+$R19*Category!H$4>=300),300,IF(AG$6=$AD19,$M19*Category!H$4+$R19*Category!H$4,0))","v":0},{"$f":"IF(AH$6=$AD19,$M19*Category!H$5+$R19*Category!H$5,0)","v":0},{"$f":"IF(AI$6=$AD19,$M19*Category!H$6+$R19*Category!H$6,0)","v":0},{"$f":"IF(SUM(AE19:AI19)=0,0,M19*Category!H$7)","v":0},{"$f":"IF(SUM(AE19:AJ19)=0,S19*Category!$H$8,0)","v":0},0,0,0,0,"",null,{"$f":"IF(AO19>0,0,ROUNDUP((L19+V19+AN19-AM19)+X19*Category!$H$8+L19/10,-2))","v":0},{"$f":"+'Revenue Forecast'!AS19","v":0},0]
[null,"","",{"$f":"+'Revenue Forecast'!D20","v":0},{"$f":"+'Revenue Forecast'!E20","v":0},{"$f":"+'Revenue Forecast'!F20","v":0},{"$f":"+'Revenue Forecast'!G20","v":0},{"$f":"+'Revenue Forecast'!H20","v":0},{"$f":"+'Revenue Forecast'!I20","v":0},{"$f":"+'Revenue Forecast'!J20","v":0},{"$f":"+'Revenue Forecast'!K20","v":0},{"$f":"+'Revenue Forecast'!L20","v":0},{"$f":"+'Revenue Forecast'!M20","v":0},{"$f":"+'Revenue Forecast'!N20","v":0},{"$f":"+'Revenue Forecast'!O20","v":0},{"$f":"+'Revenue Forecast'!P20","v":0},0,{"$f":"+'Revenue Forecast'!R20","v":0},0,0,"",0,{"$f":"+'Revenue Forecast'!W20","v":0},0,{"$f":"+'Revenue Forecast'!Y20","v":0},{"$f":"+'Revenue Forecast'!Z20","v":0},0,0,{"$f":"+'Revenue Forecast'!AC20","v":0},{"$f":"+'Revenue Forecast'!AD20","v":0},{"$f":"IF(AE$6=$AD20,$M20*Category!H$2+$R20*Category!H$2,0)","v":0},{"$f":"IF(AF$6=$AD20,$M20*Category!H$3+$R20*Category!H$3,0)","v":0},{"$f":"IF(AND(AG$6=$AD20,$M20*Category!H$4+$R20*Category!H$4>=300),300,IF(AG$6=$AD20,$M20*Category!H$4+$R20*Category!H$4,0))","v":0},{"$f":"IF(AH$6=$AD20,$M20*Category!H$5+$R20*Category!H$5,0)","v":0},{"$f":"IF(AI$6=$AD20,$M20*Category!H$6+$R20*Category!H$6,0)","v":0},{"$f":"IF(SUM(AE20:AI20)=0,0,M20*Category!H$7)","v":0},{"$f":"IF(SUM(AE20:AJ20)=0,S20*Category!$H$8,0)","v":0},0,0,0,0,"",null,{"$f":"IF(AO20>0,0,ROUNDUP((L20+V20+AN20-AM20)+X20*Category!$H$8+L20/10,-2))","v":0},{"$f":"+'Revenue Forecast'!AS20","v":0},0]
[null,"","",{"$f":"+'Revenue Forecast'!D21","v":0},{"$f":"+'Revenue Forecast'!E21","v":0},{"$f":"+'Revenue Forecast'!F21","v":0},{"$f":"+'Revenue Forecast'!G21","v":0},{"$f":"+'Revenue Forecast'!H21","v":0},{"$f":"+'Revenue Forecast'!I21","v":0},{"$f":"+'Revenue Forecast'!J21","v":0},{"$f":"+'Revenue Forecast'!K21","v":0},{"$f":"+'Revenue Forecast'!L21","v":0},{"$f":"+'Revenue Forecast'!M21","v":0},{"$f":"+'Revenue Forecast'!N21","v":0},{"$f":"+'Revenue Forecast'!O21","v":0},{"$f":"+'Revenue Forecast'!P21","v":0},0,{"$f":"+'Revenue Forecast'!R21","v":0},0,0,"",0,{"$f":"+'Revenue Forecast'!W21","v":0},0,{"$f":"+'Revenue Forecast'!Y21","v":0},{"$f":"+'Revenue Forecast'!Z21","v":0},0,0,{"$f":"+'Revenue Forecast'!AC21","v":0},{"$f":"+'Revenue Forecast'!AD21","v":0},{"$f":"IF(AE$6=$AD21,$M21*Category!H$2+$R21*Category!H$2,0)","v":0},{"$f":"IF(AF$6=$AD21,$M21*Category!H$3+$R21*Category!H$3,0)","v":0},{"$f":"IF(AND(AG$6=$AD21,$M21*Category!H$4+$R21*Category!H$4>=300),300,IF(AG$6=$AD21,$M21*Category!H$4+$R21*Category!H$4,0))","v":0},{"$f":"IF(AH$6=$AD21,$M21*Category!H$5+$R21*Category!H$5,0)","v":0},{"$f":"IF(AI$6=$AD21,$M21*Category!H$6+$R21*Category!H$6,0)","v":0},{"$f":"IF(SUM(AE21:AI21)=0,0,M21*Category!H$7)","v":0},{"$f":"IF(SUM(AE21:AJ21)=0,S21*Category!$H$8,0)","v":0},0,0,0,0,"",null,{"$f":"IF(AO21>0,0,ROUNDUP((L21+V21+AN21-AM21)+X21*Category!$H$8+L21/10,-2))","v":0},{"$f":"+'Revenue Forecast'!AS21","v":0},0]
[null,"","",{"$f":"+'Revenue Forecast'!D22","v":0},{"$f":"+'Revenue Forecast'!E22","v":0},{"$f":"+'Revenue Forecast'!F22","v":0},{"$f":"+'Revenue Forecast'!G22","v":0},{"$f":"+'Revenue Forecast'!H22","v":0},{"$f":"+'Revenue Forecast'!I22","v":0},{"$f":"+'Revenue Forecast'!J22","v":0},{"$f":"+'Revenue Forecast'!K22","v":0},{"$f":"+'Revenue Forecast'!L22","v":0},{"$f":"+'Revenue Forecast'!M22","v":0},{"$f":"+'Revenue Forecast'!N22","v":0},{"$f":"+'Revenue Forecast'!O22","v":0},{"$f":"+'Revenue Forecast'!P22","v":0},0,{"$f":"+'Revenue Forecast'!R22","v":0},0,0,"",0,{"$f":"+'Revenue Forecast'!W22","v":0},0,{"$f":"+'Revenue Forecast'!Y22","v":0},{"$f":"+'Revenue Forecast'!Z22","v":0},0,0,{"$f":"+'Revenue Forecast'!AC22","v":0},{"$f":"+'Revenue Forecast'!AD22","v":0},{"$f":"IF(AE$6=$AD22,$M22*Category!H$2+$R22*Category!H$2,0)","v":0},{"$f":"IF(AF$6=$AD22,$M22*Category!H$3+$R22*Category!H$3,0)","v":0},{"$f":"IF(AND(AG$6=$AD22,$M22*Category!H$4+$R22*Category!H$4>=300),300,IF(AG$6=$AD22,$M22*Category!H$4+$R22*Category!H$4,0))","v":0},{"$f":"IF(AH$6=$AD22,$M22*Category!H$5+$R22*Category!H$5,0)","v":0},{"$f":"IF(AI$6=$AD22,$M22*Category!H$6+$R22*Category!H$6,0)","v":0},{"$f":"IF(SUM(AE22:AI22)=0,0,M22*Category!H$7)","v":0},{"$f":"IF(SUM(AE22:AJ22)=0,S22*Category!$H$8,0)","v":0},0,0,0,0,"",null,{"$f":"IF(AO22>0,0,ROUNDUP((L22+V22+AN22-AM22)+X22*Category!$H$8+L22/10,-2))","v":0},{"$f":"+'Revenue Forecast'!AS22","v":0},0]
[null,"","",{"$f":"+'Revenue Forecast'!D23","v":0},{"$f":"+'Revenue Forecast'!E23","v":0},{"$f":"+'Revenue Forecast'!F23","v":0},{"$f":"+'Revenue Forecast'!G23","v":0},{"$f":"+'Revenue Forecast'!H23","v":0},{"$f":"+'Revenue Forecast'!I23","v":0},{"$f":"+'Revenue Forecast'!J23","v":0},{"$f":"+'Revenue Forecast'!K23","v":0},{"$f":"+'Revenue Forecast'!L23","v":0},{"$f":"+'Revenue Forecast'!M23","v":0},{"$f":"+'Revenue Forecast'!N23","v":0},{"$f":"+'Revenue Forecast'!O23","v":0},{"$f":"+'Revenue Forecast'!P23","v":0},0,{"$f":"+'Revenue Forecast'!R23","v":0},0,0,"",0,{"$f":"+'Revenue Forecast'!W23","v":0},0,{"$f":"+'Revenue Forecast'!Y23","v":0},{"$f":"+'Revenue Forecast'!Z23","v":0},0,0,{"$f":"+'Revenue Forecast'!AC23","v":0},{"$f":"+'Revenue Forecast'!AD23","v":0},{"$f":"IF(AE$6=$AD23,$M23*Category!H$2+$R23*Category!H$2,0)","v":0},{"$f":"IF(AF$6=$AD23,$M23*Category!H$3+$R23*Category!H$3,0)","v":0},{"$f":"IF(AND(AG$6=$AD23,$M23*Category!H$4+$R23*Category!H$4>=300),300,IF(AG$6=$AD23,$M23*Category!H$4+$R23*Category!H$4,0))","v":0},{"$f":"IF(AH$6=$AD23,$M23*Category!H$5+$R23*Category!H$5,0)","v":0},{"$f":"IF(AI$6=$AD23,$M23*Category!H$6+$R23*Category!H$6,0)","v":0},{"$f":"IF(SUM(AE23:AI23)=0,0,M23*Category!H$7)","v":0},{"$f":"IF(SUM(AE23:AJ23)=0,S23*Category!$H$8,0)","v":0},0,0,0,0,"",null,{"$f":"IF(AO23>0,0,ROUNDUP((L23+V23+AN23-AM23)+X23*Category!$H$8+L23/10,-2))","v":0},{"$f":"+'Revenue Forecast'!AS23","v":0},0]
[null,"","",{"$f":"+'Revenue Forecast'!D24","v":0},{"$f":"+'Revenue Forecast'!E24","v":0},{"$f":"+'Revenue Forecast'!F24","v":0},{"$f":"+'Revenue Forecast'!G24","v":0},{"$f":"+'Revenue Forecast'!H24","v":0},{"$f":"+'Revenue Forecast'!I24","v":0},{"$f":"+'Revenue Forecast'!J24","v":0},{"$f":"+'Revenue Forecast'!K24","v":0},{"$f":"+'Revenue Forecast'!L24","v":0},{"$f":"+'Revenue Forecast'!M24","v":0},{"$f":"+'Revenue Forecast'!N24","v":0},{"$f":"+'Revenue Forecast'!O24","v":0},{"$f":"+'Revenue Forecast'!P24","v":0},0,{"$f":"+'Revenue Forecast'!R24","v":0},0,0,"",0,{"$f":"+'Revenue Forecast'!W24","v":0},0,{"$f":"+'Revenue Forecast'!Y24","v":0},{"$f":"+'Revenue Forecast'!Z24","v":0},0,0,{"$f":"+'Revenue Forecast'!AC24","v":0},{"$f":"+'Revenue Forecast'!AD24","v":0},{"$f":"IF(AE$6=$AD24,$M24*Category!H$2+$R24*Category!H$2,0)","v":0},{"$f":"IF(AF$6=$AD24,$M24*Category!H$3+$R24*Category!H$3,0)","v":0},{"$f":"IF(AND(AG$6=$AD24,$M24*Category!H$4+$R24*Category!H$4>=300),300,IF(AG$6=$AD24,$M24*Category!H$4+$R24*Category!H$4,0))","v":0},{"$f":"IF(AH$6=$AD24,$M24*Category!H$5+$R24*Category!H$5,0)","v":0},{"$f":"IF(AI$6=$AD24,$M24*Category!H$6+$R24*Category!H$6,0)","v":0},{"$f":"IF(SUM(AE24:AI24)=0,0,M24*Category!H$7)","v":0},{"$f":"IF(SUM(AE24:AJ24)=0,S24*Category!$H$8,0)","v":0},0,0,0,0,"",null,{"$f":"IF(AO24>0,0,ROUNDUP((L24+V24+AN24-AM24)+X24*Category!$H$8+L24/10,-2))","v":0},{"$f":"+'Revenue Forecast'!AS24","v":0},0]
[null,"","",{"$f":"+'Revenue Forecast'!D25","v":0},{"$f":"+'Revenue Forecast'!E25","v":0},{"$f":"+'Revenue Forecast'!F25","v":0},{"$f":"+'Revenue Forecast'!G25","v":0},{"$f":"+'Revenue Forecast'!H25","v":0},{"$f":"+'Revenue Forecast'!I25","v":0},{"$f":"+'Revenue Forecast'!J25","v":0},{"$f":"+'Revenue Forecast'!K25","v":0},{"$f":"+'Revenue Forecast'!L25","v":0},{"$f":"+'Revenue Forecast'!M25","v":0},{"$f":"+'Revenue Forecast'!N25","v":0},{"$f":"+'Revenue Forecast'!O25","v":0},{"$f":"+'Revenue Forecast'!P25","v":0},0,{"$f":"+'Revenue Forecast'!R25","v":0},0,0,"",0,{"$f":"+'Revenue Forecast'!W25","v":0},0,{"$f":"+'Revenue Forecast'!Y25","v":0},{"$f":"+'Revenue Forecast'!Z25","v":0},0,0,{"$f":"+'Revenue Forecast'!AC25","v":0},{"$f":"+'Revenue Forecast'!AD25","v":0},{"$f":"IF(AE$6=$AD25,$M25*Category!H$2+$R25*Category!H$2,0)","v":0},{"$f":"IF(AF$6=$AD25,$M25*Category!H$3+$R25*Category!H$3,0)","v":0},{"$f":"IF(AND(AG$6=$AD25,$M25*Category!H$4+$R25*Category!H$4>=300),300,IF(AG$6=$AD25,$M25*Category!H$4+$R25*Category!H$4,0))","v":0},{"$f":"IF(AH$6=$AD25,$M25*Category!H$5+$R25*Category!H$5,0)","v":0},{"$f":"IF(AI$6=$AD25,$M25*Category!H$6+$R25*Category!H$6,0)","v":0},{"$f":"IF(SUM(AE25:AI25)=0,0,M25*Category!H$7)","v":0},{"$f":"IF(SUM(AE25:AJ25)=0,S25*Category!$H$8,0)","v":0},0,0,0,0,"",null,{"$f":"IF(AO25>0,0,ROUNDUP((L25+V25+AN25-AM25)+X25*Category!$H$8+L25/10,-2))","v":0},{"$f":"+'Revenue Forecast'!AS25","v":0},0]
[null,"","",{"$f":"+'Revenue Forecast'!D26","v":0},{"$f":"+'Revenue Forecast'!E26","v":0},{"$f":"+'Revenue Forecast'!F26","v":0},{"$f":"+'Revenue Forecast'!G26","v":0},{"$f":"+'Revenue Forecast'!H26","v":0},{"$f":"+'Revenue Forecast'!I26","v":0},{"$f":"+'Revenue Forecast'!J26","v":0},{"$f":"+'Revenue Forecast'!K26","v":0},{"$f":"+'Revenue Forecast'!L26","v":0},{"$f":"+'Revenue Forecast'!M26","v":0},{"$f":"+'Revenue Forecast'!N26","v":0},{"$f":"+'Revenue Forecast'!O26","v":0},{"$f":"+'Revenue Forecast'!P26","v":0},0,{"$f":"+'Revenue Forecast'!R26","v":0},0,0,"",0,{"$f":"+'Revenue Forecast'!W26","v":0},0,{"$f":"+'Revenue Forecast'!Y26","v":0},{"$f":"+'Revenue Forecast'!Z26","v":0},0,0,{"$f":"+'Revenue Forecast'!AC26","v":0},{"$f":"+'Revenue Forecast'!AD26","v":0},{"$f":"IF(AE$6=$AD26,$M26*Category!H$2+$R26*Category!H$2,0)","v":0},{"$f":"IF(AF$6=$AD26,$M26*Category!H$3+$R26*Category!H$3,0)","v":0},{"$f":"IF(AND(AG$6=$AD26,$M26*Category!H$4+$R26*Category!H$4>=300),300,IF(AG$6=$AD26,$M26*Category!H$4+$R26*Category!H$4,0))","v":0},{"$f":"IF(AH$6=$AD26,$M26*Category!H$5+$R26*Category!H$5,0)","v":0},{"$f":"IF(AI$6=$AD26,$M26*Category!H$6+$R26*Category!H$6,0)","v":0},{"$f":"IF(SUM(AE26:AI26)=0,0,M26*Category!H$7)","v":0},{"$f":"IF(SUM(AE26:AJ26)=0,S26*Category!$H$8,0)","v":0},0,0,0,0,"",null,{"$f":"IF(AO26>0,0,ROUNDUP((L26+V26+AN26-AM26)+X26*Category!$H$8+L26/10,-2))","v":0},{"$f":"+'Revenue Forecast'!AS26","v":0},0]
[null,"","",{"$f":"+'Revenue Forecast'!D27","v":0},{"$f":"+'Revenue Forecast'!E27","v":0},{"$f":"+'Revenue Forecast'!F27","v":0},{"$f":"+'Revenue Forecast'!G27","v":0},{"$f":"+'Revenue Forecast'!H27","v":0},{"$f":"+'Revenue Forecast'!I27","v":0},{"$f":"+'Revenue Forecast'!J27","v":0},{"$f":"+'Revenue Forecast'!K27","v":0},{"$f":"+'Revenue Forecast'!L27","v":0},{"$f":"+'Revenue Forecast'!M27","v":0},{"$f":"+'Revenue Forecast'!N27","v":0},{"$f":"+'Revenue Forecast'!O27","v":0},{"$f":"+'Revenue Forecast'!P27","v":0},0,{"$f":"+'Revenue Forecast'!R27","v":0},0,0,"",0,{"$f":"+'Revenue Forecast'!W27","v":0},0,{"$f":"+'Revenue Forecast'!Y27","v":0},{"$f":"+'Revenue Forecast'!Z27","v":0},0,0,{"$f":"+'Revenue Forecast'!AC27","v":0},{"$f":"+'Revenue Forecast'!AD27","v":0},{"$f":"IF(AE$6=$AD27,$M27*Category!H$2+$R27*Category!H$2,0)","v":0},{"$f":"IF(AF$6=$AD27,$M27*Category!H$3+$R27*Category!H$3,0)","v":0},{"$f":"IF(AND(AG$6=$AD27,$M27*Category!H$4+$R27*Category!H$4>=300),300,IF(AG$6=$AD27,$M27*Category!H$4+$R27*Category!H$4,0))","v":0},{"$f":"IF(AH$6=$AD27,$M27*Category!H$5+$R27*Category!H$5,0)","v":0},{"$f":"IF(AI$6=$AD27,$M27*Category!H$6+$R27*Category!H$6,0)","v":0},{"$f":"IF(SUM(AE27:AI27)=0,0,M27*Category!H$7)","v":0},{"$f":"IF(SUM(AE27:AJ27)=0,S27*Category!$H$8,0)","v":0},0,0,0,0,"",null,{"$f":"IF(AO27>0,0,ROUNDUP((L27+V27+AN27-AM27)+X27*Category!$H$8+L27/10,-2))","v":0},{"$f":"+'Revenue Forecast'!AS27","v":0},0]
[null,"","",{"$f":"+'Revenue Forecast'!D28","v":0},{"$f":"+'Revenue Forecast'!E28","v":0},{"$f":"+'Revenue Forecast'!F28","v":0},{"$f":"+'Revenue Forecast'!G28","v":0},{"$f":"+'Revenue Forecast'!H28","v":0},{"$f":"+'Revenue Forecast'!I28","v":0},{"$f":"+'Revenue Forecast'!J28","v":0},{"$f":"+'Revenue Forecast'!K28","v":0},{"$f":"+'Revenue Forecast'!L28","v":0},{"$f":"+'Revenue Forecast'!M28","v":0},{"$f":"+'Revenue Forecast'!N28","v":0},{"$f":"+'Revenue Forecast'!O28","v":0},{"$f":"+'Revenue Forecast'!P28","v":0},0,{"$f":"+'Revenue Forecast'!R28","v":0},0,0,"",0,{"$f":"+'Revenue Forecast'!W28","v":0},0,{"$f":"+'Revenue Forecast'!Y28","v":0},{"$f":"+'Revenue Forecast'!Z28","v":0},0,0,{"$f":"+'Revenue Forecast'!AC28","v":0},{"$f":"+'Revenue Forecast'!AD28","v":0},{"$f":"IF(AE$6=$AD28,$M28*Category!H$2+$R28*Category!H$2,0)","v":0},{"$f":"IF(AF$6=$AD28,$M28*Category!H$3+$R28*Category!H$3,0)","v":0},{"$f":"IF(AND(AG$6=$AD28,$M28*Category!H$4+$R28*Category!H$4>=300),300,IF(AG$6=$AD28,$M28*Category!H$4+$R28*Category!H$4,0))","v":0},{"$f":"IF(AH$6=$AD28,$M28*Category!H$5+$R28*Category!H$5,0)","v":0},{"$f":"IF(AI$6=$AD28,$M28*Category!H$6+$R28*Category!H$6,0)","v":0},{"$f":"IF(SUM(AE28:AI28)=0,0,M28*Category!H$7)","v":0},{"$f":"IF(SUM(AE28:AJ28)=0,S28*Category!$H$8,0)","v":0},0,0,0,0,"",null,{"$f":"IF(AO28>0,0,ROUNDUP((L28+V28+AN28-AM28)+X28*Category!$H$8+L28/10,-2))","v":0},{"$f":"+'Revenue Forecast'!AS28","v":0},0]
[null,"","",{"$f":"+'Revenue Forecast'!D29","v":0},{"$f":"+'Revenue Forecast'!E29","v":0},{"$f":"+'Revenue Forecast'!F29","v":0},{"$f":"+'Revenue Forecast'!G29","v":0},{"$f":"+'Revenue Forecast'!H29","v":0},{"$f":"+'Revenue Forecast'!I29","v":0},{"$f":"+'Revenue Forecast'!J29","v":0},{"$f":"+'Revenue Forecast'!K29","v":0},{"$f":"+'Revenue Forecast'!L29","v":0},{"$f":"+'Revenue Forecast'!M29","v":0},{"$f":"+'Revenue Forecast'!N29","v":0},{"$f":"+'Revenue Forecast'!O29","v":0},{"$f":"+'Revenue Forecast'!P29","v":0},0,{"$f":"+'Revenue Forecast'!R29","v":0},0,0,"",0,{"$f":"+'Revenue Forecast'!W29","v":0},0,{"$f":"+'Revenue Forecast'!Y29","v":0},{"$f":"+'Revenue Forecast'!Z29","v":0},0,0,{"$f":"+'Revenue Forecast'!AC29","v":0},{"$f":"+'Revenue Forecast'!AD29","v":0},{"$f":"IF(AE$6=$AD29,$M29*Category!H$2+$R29*Category!H$2,0)","v":0},{"$f":"IF(AF$6=$AD29,$M29*Category!H$3+$R29*Category!H$3,0)","v":0},{"$f":"IF(AND(AG$6=$AD29,$M29*Category!H$4+$R29*Category!H$4>=300),300,IF(AG$6=$AD29,$M29*Category!H$4+$R29*Category!H$4,0))","v":0},{"$f":"IF(AH$6=$AD29,$M29*Category!H$5+$R29*Category!H$5,0)","v":0},{"$f":"IF(AI$6=$AD29,$M29*Category!H$6+$R29*Category!H$6,0)","v":0},{"$f":"IF(SUM(AE29:AI29)=0,0,M29*Category!H$7)","v":0},{"$f":"IF(SUM(AE29:AJ29)=0,S29*Category!$H$8,0)","v":0},0,0,0,0,"",null,{"$f":"IF(AO29>0,0,ROUNDUP((L29+V29+AN29-AM29)+X29*Category!$H$8+L29/10,-2))","v":0},{"$f":"+'Revenue Forecast'!AS29","v":0},0]
[null,"","",{"$f":"+'Revenue Forecast'!D30","v":0},{"$f":"+'Revenue Forecast'!E30","v":0},{"$f":"+'Revenue Forecast'!F30","v":0},{"$f":"+'Revenue Forecast'!G30","v":0},{"$f":"+'Revenue Forecast'!H30","v":0},{"$f":"+'Revenue Forecast'!I30","v":0},{"$f":"+'Revenue Forecast'!J30","v":0},{"$f":"+'Revenue Forecast'!K30","v":0},{"$f":"+'Revenue Forecast'!L30","v":0},{"$f":"+'Revenue Forecast'!M30","v":0},{"$f":"+'Revenue Forecast'!N30","v":0},{"$f":"+'Revenue Forecast'!O30","v":0},{"$f":"+'Revenue Forecast'!P30","v":0},0,{"$f":"+'Revenue Forecast'!R30","v":0},0,0,"",0,{"$f":"+'Revenue Forecast'!W30","v":0},0,{"$f":"+'Revenue Forecast'!Y30","v":0},{"$f":"+'Revenue Forecast'!Z30","v":0},0,0,{"$f":"+'Revenue Forecast'!AC30","v":0},{"$f":"+'Revenue Forecast'!AD30","v":0},{"$f":"IF(AE$6=$AD30,$M30*Category!H$2+$R30*Category!H$2,0)","v":0},{"$f":"IF(AF$6=$AD30,$M30*Category!H$3+$R30*Category!H$3,0)","v":0},{"$f":"IF(AND(AG$6=$AD30,$M30*Category!H$4+$R30*Category!H$4>=300),300,IF(AG$6=$AD30,$M30*Category!H$4+$R30*Category!H$4,0))","v":0},{"$f":"IF(AH$6=$AD30,$M30*Category!H$5+$R30*Category!H$5,0)","v":0},{"$f":"IF(AI$6=$AD30,$M30*Category!H$6+$R30*Category!H$6,0)","v":0},{"$f":"IF(SUM(AE30:AI30)=0,0,M30*Category!H$7)","v":0},{"$f":"IF(SUM(AE30:AJ30)=0,S30*Category!$H$8,0)","v":0},0,0,0,0,"",null,{"$f":"IF(AO30>0,0,ROUNDUP((L30+V30+AN30-AM30)+X30*Category!$H$8+L30/10,-2))","v":0},{"$f":"+'Revenue Forecast'!AS30","v":0},0]
[null,"","",{"$f":"+'Revenue Forecast'!D31","v":0},{"$f":"+'Revenue Forecast'!E31","v":0},{"$f":"+'Revenue Forecast'!F31","v":0},{"$f":"+'Revenue Forecast'!G31","v":0},{"$f":"+'Revenue Forecast'!H31","v":0},{"$f":"+'Revenue Forecast'!I31","v":0},{"$f":"+'Revenue Forecast'!J31","v":0},{"$f":"+'Revenue Forecast'!K31","v":0},{"$f":"+'Revenue Forecast'!L31","v":0},{"$f":"+'Revenue Forecast'!M31","v":0},{"$f":"+'Revenue Forecast'!N31","v":0},{"$f":"+'Revenue Forecast'!O31","v":0},{"$f":"+'Revenue Forecast'!P31","v":0},0,{"$f":"+'Revenue Forecast'!R31","v":0},0,0,"",0,{"$f":"+'Revenue Forecast'!W31","v":0},0,{"$f":"+'Revenue Forecast'!Y31","v":0},{"$f":"+'Revenue Forecast'!Z31","v":0},0,0,{"$f":"+'Revenue Forecast'!AC31","v":0},{"$f":"+'Revenue Forecast'!AD31","v":0},{"$f":"IF(AE$6=$AD31,$M31*Category!H$2+$R31*Category!H$2,0)","v":0},{"$f":"IF(AF$6=$AD31,$M31*Category!H$3+$R31*Category!H$3,0)","v":0},{"$f":"IF(AND(AG$6=$AD31,$M31*Category!H$4+$R31*Category!H$4>=300),300,IF(AG$6=$AD31,$M31*Category!H$4+$R31*Category!H$4,0))","v":0},{"$f":"IF(AH$6=$AD31,$M31*Category!H$5+$R31*Category!H$5,0)","v":0},{"$f":"IF(AI$6=$AD31,$M31*Category!H$6+$R31*Category!H$6,0)","v":0},{"$f":"IF(SUM(AE31:AI31)=0,0,M31*Category!H$7)","v":0},{"$f":"IF(SUM(AE31:AJ31)=0,S31*Category!$H$8,0)","v":0},0,0,0,0,"",null,{"$f":"IF(AO31>0,0,ROUNDUP((L31+V31+AN31-AM31)+X31*Category!$H$8+L31/10,-2))","v":0},{"$f":"+'Revenue Forecast'!AS31","v":0},0]
[null,"","",{"$f":"+'Revenue Forecast'!D32","v":0},{"$f":"+'Revenue Forecast'!E32","v":0},{"$f":"+'Revenue Forecast'!F32","v":0},{"$f":"+'Revenue Forecast'!G32","v":0},{"$f":"+'Revenue Forecast'!H32","v":0},{"$f":"+'Revenue Forecast'!I32","v":0},{"$f":"+'Revenue Forecast'!J32","v":0},{"$f":"+'Revenue Forecast'!K32","v":0},{"$f":"+'Revenue Forecast'!L32","v":0},{"$f":"+'Revenue Forecast'!M32","v":0},{"$f":"+'Revenue Forecast'!N32","v":0},{"$f":"+'Revenue Forecast'!O32","v":0},{"$f":"+'Revenue Forecast'!P32","v":0},0,{"$f":"+'Revenue Forecast'!R32","v":0},0,0,"",0,{"$f":"+'Revenue Forecast'!W32","v":0},0,{"$f":"+'Revenue Forecast'!Y32","v":0},{"$f":"+'Revenue Forecast'!Z32","v":0},0,0,{"$f":"+'Revenue Forecast'!AC32","v":0},{"$f":"+'Revenue Forecast'!AD32","v":0},{"$f":"IF(AE$6=$AD32,$M32*Category!H$2+$R32*Category!H$2,0)","v":0},{"$f":"IF(AF$6=$AD32,$M32*Category!H$3+$R32*Category!H$3,0)","v":0},{"$f":"IF(AND(AG$6=$AD32,$M32*Category!H$4+$R32*Category!H$4>=300),300,IF(AG$6=$AD32,$M32*Category!H$4+$R32*Category!H$4,0))","v":0},{"$f":"IF(AH$6=$AD32,$M32*Category!H$5+$R32*Category!H$5,0)","v":0},{"$f":"IF(AI$6=$AD32,$M32*Category!H$6+$R32*Category!H$6,0)","v":0},{"$f":"IF(SUM(AE32:AI32)=0,0,M32*Category!H$7)","v":0},{"$f":"IF(SUM(AE32:AJ32)=0,S32*Category!$H$8,0)","v":0},0,0,0,0,"",null,{"$f":"IF(AO32>0,0,ROUNDUP((L32+V32+AN32-AM32)+X32*Category!$H$8+L32/10,-2))","v":0},{"$f":"+'Revenue Forecast'!AS32","v":0},0]
[null,"","",{"$f":"+'Revenue Forecast'!D33","v":0},{"$f":"+'Revenue Forecast'!E33","v":0},{"$f":"+'Revenue Forecast'!F33","v":0},{"$f":"+'Revenue Forecast'!G33","v":0},{"$f":"+'Revenue Forecast'!H33","v":0},{"$f":"+'Revenue Forecast'!I33","v":0},{"$f":"+'Revenue Forecast'!J33","v":0},{"$f":"+'Revenue Forecast'!K33","v":0},{"$f":"+'Revenue Forecast'!L33","v":0},{"$f":"+'Revenue Forecast'!M33","v":0},{"$f":"+'Revenue Forecast'!N33","v":0},{"$f":"+'Revenue Forecast'!O33","v":0},{"$f":"+'Revenue Forecast'!P33","v":0},0,{"$f":"+'Revenue Forecast'!R33","v":0},0,0,"",0,{"$f":"+'Revenue Forecast'!W33","v":0},0,{"$f":"+'Revenue Forecast'!Y33","v":0},{"$f":"+'Revenue Forecast'!Z33","v":0},0,0,{"$f":"+'Revenue Forecast'!AC33","v":0},{"$f":"+'Revenue Forecast'!AD33","v":0},{"$f":"IF(AE$6=$AD33,$M33*Category!H$2+$R33*Category!H$2,0)","v":0},{"$f":"IF(AF$6=$AD33,$M33*Category!H$3+$R33*Category!H$3,0)","v":0},{"$f":"IF(AND(AG$6=$AD33,$M33*Category!H$4+$R33*Category!H$4>=300),300,IF(AG$6=$AD33,$M33*Category!H$4+$R33*Category!H$4,0))","v":0},{"$f":"IF(AH$6=$AD33,$M33*Category!H$5+$R33*Category!H$5,0)","v":0},{"$f":"IF(AI$6=$AD33,$M33*Category!H$6+$R33*Category!H$6,0)","v":0},{"$f":"IF(SUM(AE33:AI33)=0,0,M33*Category!H$7)","v":0},{"$f":"IF(SUM(AE33:AJ33)=0,S33*Category!$H$8,0)","v":0},0,0,0,0,"",null,{"$f":"IF(AO33>0,0,ROUNDUP((L33+V33+AN33-AM33)+X33*Category!$H$8+L33/10,-2))","v":0},{"$f":"+'Revenue Forecast'!AS33","v":0},0]
[null,"","",{"$f":"+'Revenue Forecast'!D34","v":0},{"$f":"+'Revenue Forecast'!E34","v":0},{"$f":"+'Revenue Forecast'!F34","v":0},{"$f":"+'Revenue Forecast'!G34","v":0},{"$f":"+'Revenue Forecast'!H34","v":0},{"$f":"+'Revenue Forecast'!I34","v":0},{"$f":"+'Revenue Forecast'!J34","v":0},{"$f":"+'Revenue Forecast'!K34","v":0},{"$f":"+'Revenue Forecast'!L34","v":0},{"$f":"+'Revenue Forecast'!M34","v":0},{"$f":"+'Revenue Forecast'!N34","v":0},{"$f":"+'Revenue Forecast'!O34","v":0},{"$f":"+'Revenue Forecast'!P34","v":0},0,{"$f":"+'Revenue Forecast'!R34","v":0},0,0,"",0,{"$f":"+'Revenue Forecast'!W34","v":0},0,{"$f":"+'Revenue Forecast'!Y34","v":0},{"$f":"+'Revenue Forecast'!Z34","v":0},0,0,{"$f":"+'Revenue Forecast'!AC34","v":0},{"$f":"+'Revenue Forecast'!AD34","v":0},{"$f":"IF(AE$6=$AD34,$M34*Category!H$2+$R34*Category!H$2,0)","v":0},{"$f":"IF(AF$6=$AD34,$M34*Category!H$3+$R34*Category!H$3,0)","v":0},{"$f":"IF(AND(AG$6=$AD34,$M34*Category!H$4+$R34*Category!H$4>=300),300,IF(AG$6=$AD34,$M34*Category!H$4+$R34*Category!H$4,0))","v":0},{"$f":"IF(AH$6=$AD34,$M34*Category!H$5+$R34*Category!H$5,0)","v":0},{"$f":"IF(AI$6=$AD34,$M34*Category!H$6+$R34*Category!H$6,0)","v":0},{"$f":"IF(SUM(AE34:AI34)=0,0,M34*Category!H$7)","v":0},{"$f":"IF(SUM(AE34:AJ34)=0,S34*Category!$H$8,0)","v":0},0,0,0,0,"",null,{"$f":"IF(AO34>0,0,ROUNDUP((L34+V34+AN34-AM34)+X34*Category!$H$8+L34/10,-2))","v":0},{"$f":"+'Revenue Forecast'!AS34","v":0},0]
[null,"","",{"$f":"+'Revenue Forecast'!D35","v":0},{"$f":"+'Revenue Forecast'!E35","v":0},{"$f":"+'Revenue Forecast'!F35","v":0},{"$f":"+'Revenue Forecast'!G35","v":0},{"$f":"+'Revenue Forecast'!H35","v":0},{"$f":"+'Revenue Forecast'!I35","v":0},{"$f":"+'Revenue Forecast'!J35","v":0},{"$f":"+'Revenue Forecast'!K35","v":0},{"$f":"+'Revenue Forecast'!L35","v":0},{"$f":"+'Revenue Forecast'!M35","v":0},{"$f":"+'Revenue Forecast'!N35","v":0},{"$f":"+'Revenue Forecast'!O35","v":0},{"$f":"+'Revenue Forecast'!P35","v":0},0,{"$f":"+'Revenue Forecast'!R35","v":0},0,0,"",0,{"$f":"+'Revenue Forecast'!W35","v":0},0,{"$f":"+'Revenue Forecast'!Y35","v":0},{"$f":"+'Revenue Forecast'!Z35","v":0},0,0,{"$f":"+'Revenue Forecast'!AC35","v":0},{"$f":"+'Revenue Forecast'!AD35","v":0},{"$f":"IF(AE$6=$AD35,$M35*Category!H$2+$R35*Category!H$2,0)","v":0},{"$f":"IF(AF$6=$AD35,$M35*Category!H$3+$R35*Category!H$3,0)","v":0},{"$f":"IF(AND(AG$6=$AD35,$M35*Category!H$4+$R35*Category!H$4>=300),300,IF(AG$6=$AD35,$M35*Category!H$4+$R35*Category!H$4,0))","v":0},{"$f":"IF(AH$6=$AD35,$M35*Category!H$5+$R35*Category!H$5,0)","v":0},{"$f":"IF(AI$6=$AD35,$M35*Category!H$6+$R35*Category!H$6,0)","v":0},{"$f":"IF(SUM(AE35:AI35)=0,0,M35*Category!H$7)","v":0},{"$f":"IF(SUM(AE35:AJ35)=0,S35*Category!$H$8,0)","v":0},0,0,0,0,"",null,{"$f":"IF(AO35>0,0,ROUNDUP((L35+V35+AN35-AM35)+X35*Category!$H$8+L35/10,-2))","v":0},{"$f":"+'Revenue Forecast'!AS35","v":0},0]
[null,"","",{"$f":"+'Revenue Forecast'!D36","v":0},{"$f":"+'Revenue Forecast'!E36","v":0},{"$f":"+'Revenue Forecast'!F36","v":0},{"$f":"+'Revenue Forecast'!G36","v":0},{"$f":"+'Revenue Forecast'!H36","v":0},{"$f":"+'Revenue Forecast'!I36","v":0},{"$f":"+'Revenue Forecast'!J36","v":0},{"$f":"+'Revenue Forecast'!K36","v":0},{"$f":"+'Revenue Forecast'!L36","v":0},{"$f":"+'Revenue Forecast'!M36","v":0},{"$f":"+'Revenue Forecast'!N36","v":0},{"$f":"+'Revenue Forecast'!O36","v":0},{"$f":"+'Revenue Forecast'!P36","v":0},0,{"$f":"+'Revenue Forecast'!R36","v":0},0,0,"",0,{"$f":"+'Revenue Forecast'!W36","v":0},0,{"$f":"+'Revenue Forecast'!Y36","v":0},{"$f":"+'Revenue Forecast'!Z36","v":0},0,0,{"$f":"+'Revenue Forecast'!AC36","v":0},{"$f":"+'Revenue Forecast'!AD36","v":0},{"$f":"IF(AE$6=$AD36,$M36*Category!H$2+$R36*Category!H$2,0)","v":0},{"$f":"IF(AF$6=$AD36,$M36*Category!H$3+$R36*Category!H$3,0)","v":0},{"$f":"IF(AND(AG$6=$AD36,$M36*Category!H$4+$R36*Category!H$4>=300),300,IF(AG$6=$AD36,$M36*Category!H$4+$R36*Category!H$4,0))","v":0},{"$f":"IF(AH$6=$AD36,$M36*Category!H$5+$R36*Category!H$5,0)","v":0},{"$f":"IF(AI$6=$AD36,$M36*Category!H$6+$R36*Category!H$6,0)","v":0},{"$f":"IF(SUM(AE36:AI36)=0,0,M36*Category!H$7)","v":0},{"$f":"IF(SUM(AE36:AJ36)=0,S36*Category!$H$8,0)","v":0},0,0,0,0,"",null,{"$f":"IF(AO36>0,0,ROUNDUP((L36+V36+AN36-AM36)+X36*Category!$H$8+L36/10,-2))","v":0},{"$f":"+'Revenue Forecast'!AS36","v":0},0]

{"sheet":"Category","index":2,"n_rows":4695,"n_cols":8,"rows_kept":4695,"cut":false,"hidden":true,"merged":[]}
["카테고리코드","대분류","중분류","소분류","세분류",null,"네이버 결제 형태","결재 수수료"]
["50003307","가구/인테리어","DIY자재/용품","가구부속품","가구다리",null,"신용/체크",3.7400000000000003E-2]
["50003308","가구/인테리어","DIY자재/용품","가구부속품","가구바퀴",null,"계좌이체",1.6500000000000001E-2]
["50003309","가구/인테리어","DIY자재/용품","가구부속품","경첩/꺽쇠/자석철물류",null,"무통장",0.01]
["50003314","가구/인테리어","DIY자재/용품","가구부속품","기타가구부속품",null,"휴대폰",3.85E-2]
["50003310","가구/인테리어","DIY자재/용품","가구부속품","나사/못",null,"네이버페이",3.7400000000000003E-2]
["50003311","가구/인테리어","DIY자재/용품","가구부속품","로프/철망",null,"네이버쇼핑",0.02]
["50003312","가구/인테리어","DIY자재/용품","가구부속품","서랍레일",null,null,0.06]
["50003313","가구/인테리어","DIY자재/용품","가구부속품","소켓/옷걸이봉"]
["50001066","가구/인테리어","DIY자재/용품","데코스티커"]
["50001060","가구/인테리어","DIY자재/용품","목재"]
["50001064","가구/인테리어","DIY자재/용품","몰딩"]
["50003321","가구/인테리어","DIY자재/용품","바닥재","기타바닥재"]
["50003315","가구/인테리어","DIY자재/용품","바닥재","마루"]
["50003316","가구/인테리어","DIY자재/용품","바닥재","매트류"]
["50003317","가구/인테리어","DIY자재/용품","바닥재","온돌마루"]
["50003318","가구/인테리어","DIY자재/용품","바닥재","인조잔디"]
["50003319","가구/인테리어","DIY자재/용품","바닥재","장판"]
["50003320","가구/인테리어","DIY자재/용품","바닥재","필름난방"]
["50001061","가구/인테리어","DIY자재/용품","반제품"]
["50003328","가구/인테리어","DIY자재/용품","벽지","기타벽지"]
["50003327","가구/인테리어","DIY자재/용품","벽지","띠벽지"]
["50003325","가구/인테리어","DIY자재/용품","벽지","뮤럴벽지"]
["50003324","가구/인테리어","DIY자재/용품","벽지","실크벽지"]
["50003326","가구/인테리어","DIY자재/용품","벽지","포인트벽지"]
["50003323","가구/인테리어","DIY자재/용품","벽지","합지벽지"]
["50001062","가구/인테리어","DIY자재/용품","손잡이"]
["50003691","가구/인테리어","DIY자재/용품","시트지","단색시트지"]
["50003690","가구/인테리어","DIY자재/용품","시트지","무늬목시트지"]
["50003694","가구/인테리어","DIY자재/용품","시트지","뮤럴시트지"]
["50003693","가구/인테리어","DIY자재/용품","시트지","아이방시트지"]
["50003696","가구/인테리어","DIY자재/용품","시트지","유리용시트지"]
["50003329","가구/인테리어","DIY자재/용품","시트지","타일시트지"]
["50003692","가구/인테리어","DIY자재/용품","시트지","포인트시트지"]
["50007046","가구/인테리어","DIY자재/용품","욕실/바스"]
["50001067","가구/인테리어","DIY자재/용품","접착제/보수용품"]
["50006959","가구/인테리어","DIY자재/용품","중문"]
["50007146","가구/인테리어","DIY자재/용품","타일","도기질타일"]
["50003322","가구/인테리어","DIY자재/용품","타일","스텐타일"]
["50003684","가구/인테리어","DIY자재/용품","타일","아트타일"]
["50003685","가구/인테리어","DIY자재/용품","타일","우드타일"]
["50003686","가구/인테리어","DIY자재/용품","타일","유리타일"]
["50003687","가구/인테리어","DIY자재/용품","타일","자기질타일"]
["50003688","가구/인테리어","DIY자재/용품","타일","접착식타일"]
["50003689","가구/인테리어","DIY자재/용품","타일","카페트타일"]
["50001063","가구/인테리어","DIY자재/용품","파벽돌"]
["50001065","가구/인테리어","DIY자재/용품","패널"]
["50001310","가구/인테리어","거실가구","TV거실장"]
["50003242","가구/인테리어","거실가구","소파","가죽소파"]
["50003245","가구/인테리어","거실가구","소파","리클라이너소파"]
["50003248","가구/인테리어","거실가구","소파","벤치소파"]
["50003250","가구/인테리어","거실가구","소파","빈백"]
["50003247","가구/인테리어","거실가구","소파","소파베드"]
["50003249","가구/인테리어","거실가구","소파","수납소파"]
["50003243","가구/인테리어","거실가구","소파","인조가죽소파"]
["50003246","가구/인테리어","거실가구","소파","좌식소파"]
["50003244","가구/인테리어","거실가구","소파","패브릭소파"]
["50001311","가구/인테리어","거실가구","장식장"]
["50003251","가구/인테리어","거실가구","테이블","거실테이블"]
["50003253","가구/인테리어","거실가구","테이블","사이드테이블"]
["50003254","가구/인테리어","거실가구","테이블","접이식테이블"]
["50003304","가구/인테리어","서재/사무용가구","사무/교구용가구","교구용가구/소품"]
["50003306","가구/인테리어","서재/사무용가구","사무/교구용가구","기타사무/교구용가구"]
["50003298","가구/인테리어","서재/사무용가구","사무/교구용가구","사무용소파"]
["50003300","가구/인테리어","서재/사무용가구","사무/교구용가구","사무용수납가구"]
["50003299","가구/인테리어","서재/사무용가구","사무/교구용가구","사무용의자"]
["50003296","가구/인테리어","서재/사무용가구","사무/교구용가구","사무용책상"]
["50003297","가구/인테리어","서재/사무용가구","사무/교구용가구","사무용책장"]
["50003302","가구/인테리어","서재/사무용가구","사무/교구용가구","캐비닛"]
["50003301","가구/인테리어","서재/사무용가구","사무/교구용가구","파티션"]
["50003305","가구/인테리어","서재/사무용가구","사무/교구용가구","학원/학교책걸상"]
["50003303","가구/인테리어","서재/사무용가구","사무/교구용가구","회의테이블"]
["50003294","가구/인테리어","서재/사무용가구","의자","간이/접이식의자"]
["50003683","가구/인테리어","서재/사무용가구","의자","목받침의자"]
["50003266","가구/인테리어","서재/사무용가구","의자","스툴"]
["50003291","가구/인테리어","서재/사무용가구","의자","안락의자"]
["50003295","가구/인테리어","서재/사무용가구","의자","의자발받침대"]
["50003682","가구/인테리어","서재/사무용가구","의자","인테리어의자"]
["50003264","가구/인테리어","서재/사무용가구","의자","일반의자"]
["50003265","가구/인테리어","서재/사무용가구","의자","좌식의자"]
["50003293","가구/인테리어","서재/사무용가구","의자","하이팩의자"]
["50003292","가구/인테리어","서재/사무용가구","의자","흔들의자"]
["50001347","가구/인테리어","서재/사무용가구","책꽂이"]
["50003677","가구/인테리어","서재/사무용가구","책상","2인용 책상"]
["50003263","가구/인테리어","서재/사무용가구","책상","h형 책상"]
["50003680","가구/인테리어","서재/사무용가구","책상","독서실책상"]
["50003681","가구/인테리어","서재/사무용가구","책상","삼나무/원목책상"]
["50007169","가구/인테리어","서재/사무용가구","책상","스탠딩책상"]
["50003675","가구/인테리어","서재/사무용가구","책상","일자형 책상"]
["50003676","가구/인테리어","서재/사무용가구","책상","좌식책상"]
["50003695","가구/인테리어","서재/사무용가구","책상","책상소품"]
["50003678","가구/인테리어","서재/사무용가구","책상","컴퓨터책상"]
["50003679","가구/인테리어","서재/사무용가구","책상","코너형책상"]
["50001346","가구/인테리어","서재/사무용가구","책장"]
["50000980","가구/인테리어","솜류","방석솜"]
["50003503","가구/인테리어","솜류","베개솜/속통","거위털/오리털베개솜"]
["50003504","가구/인테리어","솜류","베개솜/속통","마이크로화이바베개솜"]
["50003502","가구/인테리어","솜류","베개솜/속통","양모베개솜"]
["50003501","가구/인테리어","솜류","베개솜/속통","일반베개솜"]
["50003505","가구/인테리어","솜류","요솜/매트솜","견면요솜"]
["50003506","가구/인테리어","솜류","요솜/매트솜","목화요솜"]
["50003509","가구/인테리어","솜류","이불솜","거위털/오리털이불솜"]
["50003510","가구/인테리어","솜류","이불솜","마이크로화이바이불솜"]
["50003508","가구/인테리어","솜류","이불솜","양모이불솜"]
["50003507","가구/인테리어","솜류","이불솜","일반이불솜"]
["50000979","가구/인테리어","솜류","쿠션솜"]
["50001325","가구/인테리어","수납가구","CD/DVD장"]
["50001323","가구/인테리어","수납가구","고가구"]
["50001322","가구/인테리어","수납가구","공간박스"]
["50001324","가구/인테리어","수납가구","나비장"]
["50001321","가구/인테리어","수납가구","선반"]
["50001330","가구/인테리어","수납가구","소품수납함"]
["50001320","가구/인테리어","수납가구","수납장"]
["50001326","가구/인테리어","수납가구","신발장"]
["50001327","가구/인테리어","수납가구","우산꽂이"]
["50001328","가구/인테리어","수납가구","잡지꽂이"]
["50001329","가구/인테리어","수납가구","코너장"]
["50001319","가구/인테리어","수납가구","행거"]
["50000851","가구/인테리어","수예","기타수예"]
["50003658","가구/인테리어","수예","뜨개질","뜨개질바늘"]
["50003657","가구/인테리어","수예","뜨개질","뜨개질실"]
["50003660","가구/인테리어","수예","뜨개질","완제품"]
["50003659","가구/인테리어","수예","뜨개질","패키지"]
["50006874","가구/인테리어","수예","보석십자수"]
["50000850","가구/인테리어","수예","수예용품/부자재"]
["50000849","가구/인테리어","수예","원단"]
["50003661","가구/인테리어","수예","자수","도안"]
["50003663","가구/인테리어","수예","자수","실/바늘"]
["50003665","가구/인테리어","수예","자수","완제품"]
["50003662","가구/인테리어","수예","자수","원단"]
["50003664","가구/인테리어","수예","자수","패키지"]
["50003666","가구/인테리어","수예","퀼트/펠트","도안"]
["50003669","가구/인테리어","수예","퀼트/펠트","완제품"]
["50003667","가구/인테리어","수예","퀼트/펠트","원단"]
["50003668","가구/인테리어","수예","퀼트/펠트","패키지"]
["50001339","가구/인테리어","아동/주니어가구","서랍장"]
["50001342","가구/인테리어","아동/주니어가구","소파"]
["50001344","가구/인테리어","아동/주니어가구","소품가구"]
["50001340","가구/인테리어","아동/주니어가구","수납장"]
["50001345","가구/인테리어","아동/주니어가구","아동침실세트"]
["50001337","가구/인테리어","아동/주니어가구","옷장"]
["50001341","가구/인테리어","아동/주니어가구","의자"]
["50001336","가구/인테리어","아동/주니어가구","책꽂이"]
["50001332","가구/인테리어","아동/주니어가구","책상"]
["50001333","가구/인테리어","아동/주니어가구","책상의자"]
["50001334","가구/인테리어","아동/주니어가구","책상의자세트"]
["50001335","가구/인테리어","아동/주니어가구","책장"]
["50003671","가구/인테리어","아동/주니어가구","침대","벙커침대"]
["50003672","가구/인테리어","아동/주니어가구","침대","이단침대"]
["50003673","가구/인테리어","아동/주니어가구","침대","이층침대"]
["50003262","가구/인테리어","아동/주니어가구","침대","일반침대"]
["50001338","가구/인테리어","아동/주니어가구","행거"]
["50001059","가구/인테리어","아웃도어가구","기타아웃도어가구"]
["50001058","가구/인테리어","아웃도어가구","야외벤치"]
["50001055","가구/인테리어","아웃도어가구","야외의자"]
["50001054","가구/인테리어","아웃도어가구","야외테이블"]
["50001056","가구/인테리어","아웃도어가구","정원그네"]
["50001057","가구/인테리어","아웃도어가구","정자"]
["50000968","가구/인테리어","인테리어소품","기타장식용품"]
["50000965","가구/인테리어","인테리어소품","냉장고자석"]
["50000963","가구/인테리어","인테리어소품","도어벨"]
["50000964","가구/인테리어","인테리어소품","디자인문패"]
["50006788","가구/인테리어","인테리어소품","미술작품","공예디자인"]
["50006313","가구/인테리어","인테리어소품","미술작품","사진작품"]
["50006312","가구/인테리어","인테리어소품","미술작품","아트포스터"]
["50007190","가구/인테리어","인테리어소품","미술작품","조각"]
["50006311","가구/인테리어","인테리어소품","미술작품","판화"]
["50006310","가구/인테리어","인테리어소품","미술작품","회화"]
["50003330","가구/인테리어","인테리어소품","스탠드","단스탠드"]
["50003331","가구/인테리어","인테리어소품","스탠드","장스탠드"]
["50003343","가구/인테리어","인테리어소품","시계","벽시계"]
["50003345","가구/인테리어","인테리어소품","시계","스탠드시계"]
["50003344","가구/인테리어","인테리어소품","시계","알람/탁상시계"]
["50003357","가구/인테리어","인테리어소품","아로마/캔들용품","기타아로마/캔들용품"]
["50006876","가구/인테리어","인테리어소품","아로마/캔들용품","석고방향제만들기"]
["50003355","가구/인테리어","인테리어소품","아로마/캔들용품","아로마램프/오일"]
["50003356","가구/인테리어","인테리어소품","아로마/캔들용품","아로마방향제/디퓨저"]
["50003353","가구/인테리어","인테리어소품","아로마/캔들용품","초/향초"]
["50003354","가구/인테리어","인테리어소품","아로마/캔들용품","촛대/홀더"]
["50006875","가구/인테리어","인테리어소품","아로마/캔들용품","캔들만들기"]
["50003347","가구/인테리어","인테리어소품","액자","벽걸이액자"]
["50003352","가구/인테리어","인테리어소품","액자","액자세트"]
["50003349","가구/인테리어","인테리어소품","액자","캐릭터액자"]
["50003346","가구/인테리어","인테리어소품","액자","탁상용액자"]
["50003348","가구/인테리어","인테리어소품","액자","파티션액자"]
["50003350","가구/인테리어","인테리어소품","액자","퍼즐/그림/사진액자"]
["50003351","가구/인테리어","인테리어소품","액자","포토보드/집게"]
["50000966","가구/인테리어","인테리어소품","앤틱소품"]
["50001076","가구/인테리어","인테리어소품","오르골"]
["50000962","가구/인테리어","인테리어소품","우체통"]
["50000961","가구/인테리어","인테리어소품","워터볼"]
["50001074","가구/인테리어","인테리어소품","인터폰박스"]
["50001075","가구/인테리어","인테리어소품","인테리어분수"]
["50001073","가구/인테리어","인테리어소품","인테리어창문"]
["50001072","가구/인테리어","인테리어소품","인테리어파티션"]
["50001070","가구/인테리어","인테리어소품","장식미니어처"]
["50001069","가구/인테리어","인테리어소품","장식인형"]
["50000967","가구/인테리어","인테리어소품","전통공예소품"]
["50007247","가구/인테리어","인테리어소품","조명","LED모듈"]
["50003334","가구/인테리어","인테리어소품","조명","거실조명"]
["50003332","가구/인테리어","인테리어소품","조명","벽등"]
["50003336","가구/인테리어","인테리어소품","조명","분수등"]
["50003333","가구/인테리어","인테리어소품","조명","샹들리에"]
["50003335","가구/인테리어","인테리어소품","조명","야외조명"]
["50003338","가구/인테리어","인테리어소품","조명","욕실조명"]
["50003340","가구/인테리어","인테리어소품","조명","인테리어조명"]
["50003341","가구/인테리어","인테리어소품","조명","전구"]
["50003337","가구/인테리어","인테리어소품","조명","주방조명"]
["50003339","가구/인테리어","인테리어소품","조명","현관조명"]
["50003342","가구/인테리어","인테리어소품","조명","형광등"]
["50001071","가구/인테리어","인테리어소품","화병"]
["50001317","가구/인테리어","주방가구","그릇장/컵보드"]
["50001318","가구/인테리어","주방가구","기타주방가구"]
["50001313","가구/인테리어","주방가구","레인지대"]
["50003258","가구/인테리어","주방가구","식탁/의자","레인지대겸용식탁"]
["50003255","가구/인테리어","주방가구","식탁/의자","식탁세트"]
["50003260","가구/인테리어","주방가구","식탁/의자","식탁의자"]
["50003256","가구/인테리어","주방가구","식탁/의자","식탁테이블"]
["50003257","가구/인테리어","주방가구","식탁/의자","아일랜드식탁"]
["50003261","가구/인테리어","주방가구","식탁/의자","아일랜드식탁의자"]
["50001314","가구/인테리어","주방가구","싱크대"]
["50001315","가구/인테리어","주방가구","왜건/카트"]
["50001316","가구/인테리어","주방가구","주방수납장"]
["50000976","가구/인테리어","침구단품","기타침구단품"]
["50000973","가구/인테리어","침구단품","담요"]
["50003473","가구/인테리어","침구단품","매트/침대커버","더블/퀸/킹매트커버"]
["50003471","가구/인테리어","침구단품","매트/침대커버","더블/퀸/킹침대커버"]
["50003472","가구/인테리어","침구단품","매트/침대커버","싱글/슈퍼싱글매트커버"]
["50003470","가구/인테리어","침구단품","매트/침대커버","싱글/슈퍼싱글침대커버"]
["50000974","가구/인테리어","침구단품","무릎담요"]
["50003474","가구/인테리어","침구단품","베개","계절베개"]
["50003475","가구/인테리어","침구단품","베개","라텍스베개"]
["50003476","가구/인테리어","침구단품","베개","메모리폼베개"]
["50003477","가구/인테리어","침구단품","베개","베개커버"]
["50003478","가구/인테리어","침구단품","베개","베개커버세트"]
["50000969","가구/인테리어","침구단품","스프레드"]
["50003481","가구/인테리어","침구단품","요","요세트"]
["50003482","가구/인테리어","침구단품","요","요커버"]
["50000972","가구/인테리어","침구단품","이불커버"]
["50000975","가구/인테리어","침구단품","전기매트커버"]
["50000970","가구/인테리어","침구단품","차렵이불"]
["50007048","가구/인테리어","침구단품","토퍼"]
["50007049","가구/인테리어","침구단품","토퍼커버"]
["50003480","가구/인테리어","침구단품","패드","더블/퀸/킹패드"]
["50003479","가구/인테리어","침구단품","패드","싱글/슈퍼싱글패드"]
["50000971","가구/인테리어","침구단품","홑이불"]
["50003489","가구/인테리어","침구세트","매트커버세트","더블/퀸매트커버세트"]
["50003488","가구/인테리어","침구세트","매트커버세트","슈퍼싱글매트커버세트"]
["50003487","가구/인테리어","침구세트","매트커버세트","싱글매트커버세트"]
["50003490","가구/인테리어","침구세트","매트커버세트","킹매트커버세트"]
["50003499","가구/인테리어","침구세트","요이불세트","1인용"]
["50003500","가구/인테리어","침구세트","요이불세트","2/3인용"]
["50003493","가구/인테리어","침구세트","이불베개세트","더블/퀸이불베개세트"]
["50003492","가구/인테리어","침구세트","이불베개세트","슈퍼싱글이불베개세트"]
["50003491","가구/인테리어","침구세트","이불베개세트","싱글이불베개세트"]
["50003494","가구/인테리어","침구세트","이불베개세트","킹이불베개세트"]
["50003497","가구/인테리어","침구세트","이불패드세트","더블/퀸이불패드세트"]
["50003496","가구/인테리어","침구세트","이불패드세트","슈퍼싱글이불패드세트"]
["50003495","가구/인테리어","침구세트","이불패드세트","싱글이불패드세트"]
["50003498","가구/인테리어","침구세트","이불패드세트","킹이불패드세트"]
["50003485","가구/인테리어","침구세트","침대커버세트","더블/퀸침대커버세트"]
["50003484","가구/인테리어","침구세트","침대커버세트","슈퍼싱글침대커버세트"]
["50003483","가구/인테리어","침구세트","침대커버세트","싱글침대커버세트"]
["50003486","가구/인테리어","침구세트","침대커버세트","킹침대커버세트"]
["50000977","가구/인테리어","침구세트","한실예단세트"]
["50003237","가구/인테리어","침실가구","거울","벽걸이거울"]
["50003240","가구/인테리어","침실가구","거울","손거울"]
["50003238","가구/인테리어","침실가구","거울","전신거울"]
["50003239","가구/인테리어","침실가구","거울","탁상거울"]
["50003224","가구/인테리어","침실가구","매트리스","더블매트리스"]
["50003223","가구/인테리어","침실가구","매트리스","슈퍼싱글매트리스"]
["50003222","가구/인테리어","침실가구","매트리스","싱글매트리스"]
["50003225","가구/인테리어","침실가구","매트리스","퀸매트리스"]
["50003226","가구/인테리어","침실가구","매트리스","킹매트리스"]
["50001308","가구/인테리어","침실가구","부부테이블"]
["50007189","가구/인테리어","침실가구","서랍장"]
["50003231","가구/인테리어","침실가구","장롱/붙박이장","드레스룸"]
["50003229","가구/인테리어","침실가구","장롱/붙박이장","붙박이장"]
["50003227","가구/인테리어","침실가구","장롱/붙박이장","옷장"]
["50003228","가구/인테리어","침실가구","장롱/붙박이장","장롱"]
["50003230","가구/인테리어","침실가구","장롱/붙박이장","틈새옷장"]
["50003212","가구/인테리어","침실가구","침대","더블침대"]
["50003219","가구/인테리어","침실가구","침대","돌침대"]
["50007069","가구/인테리어","침실가구","침대","모션베드"]
["50003221","가구/인테리어","침실가구","침대","베드벤치"]
["50003211","가구/인테리어","침실가구","침대","슈퍼싱글침대"]
["50003210","가구/인테리어","침실가구","침대","싱글침대"]
["50003217","가구/인테리어","침실가구","침대","이단침대"]
["50003216","가구/인테리어","침실가구","침대","이층침대"]
["50003218","가구/인테리어","침실가구","침대","접이식침대"]
["50003215","가구/인테리어","침실가구","침대","침대프레임"]
["50003213","가구/인테리어","침실가구","침대","퀸침대"]
["50003214","가구/인테리어","침실가구","침대","킹침대"]
["50006200","가구/인테리어","침실가구","침대","패밀리침대"]
["50003220","가구/인테리어","침실가구","침대","흙침대"]
["50001309","가구/인테리어","침실가구","침실세트"]
["50001307","가구/인테리어","침실가구","협탁"]
["50003232","가구/인테리어","침실가구","화장대","일반화장대"]
["50003234","가구/인테리어","침실가구","화장대","좌식화장대"]
["50003233","가구/인테리어","침실가구","화장대","콘솔"]
["50003236","가구/인테리어","침실가구","화장대","화장대의자"]
["50003235","가구/인테리어","침실가구","화장대","화장품정리함"]
["50000983","가구/인테리어","카페트/러그","대자리"]
["50000981","가구/인테리어","카페트/러그","러그"]
["50000982","가구/인테리어","카페트/러그","발매트"]
["50000984","가구/인테리어","카페트/러그","왕골자리"]
["50003511","가구/인테리어","카페트/러그","카페트","면/극세사카페트"]
["50003513","가구/인테리어","카페트/러그","카페트","원목/우드카페트"]
["50003512","가구/인테리어","카페트/러그","카페트","파일카페트"]
["50000852","가구/인테리어","카페트/러그","쿨매트"]
["50000864","가구/인테리어","커튼/블라인드","대나무발"]
["50000857","가구/인테리어","커튼/블라인드","로만셰이드"]
["50000861","가구/인테리어","커튼/블라인드","롤스크린"]
["50000862","가구/인테리어","커튼/블라인드","바란스"]
["50000860","가구/인테리어","커튼/블라인드","버티컬"]
["50000859","가구/인테리어","커튼/블라인드","블라인드"]
["50000865","가구/인테리어","커튼/블라인드","비즈발"]
["50000853","가구/인테리어","커튼/블라인드","실커튼"]
["50000866","가구/인테리어","커튼/블라인드","자바라"]
["50000863","가구/인테리어","커튼/블라인드","캐노피"]
["50000858","가구/인테리어","커튼/블라인드","커튼/로만세트"]
["50003514","가구/인테리어","커튼/블라인드","커튼","거실용커튼"]
["50003515","가구/인테리어","커튼/블라인드","커튼","창문용커튼"]
["50003516","가구/인테리어","커튼/블라인드","커튼","커튼링/봉"]
["50000867","가구/인테리어","커튼/블라인드","커튼액세서리"]
["50006168","가구/인테리어","커튼/블라인드","콤비블라인드"]
["50003641","가구/인테리어","홈데코","주방데코","기타주방데코"]
["50003526","가구/인테리어","홈데코","주방데코","러너"]
["50003524","가구/인테리어","홈데코","주방데코","식탁매트"]
["50003522","가구/인테리어","홈데코","주방데코","식탁보"]
["50003523","가구/인테리어","홈데코","주방데코","식탁보세트"]
["50003527","가구/인테리어","홈데코","주방데코","앞치마"]
["50003525","가구/인테리어","홈데코","주방데코","의자커버"]
["50003640","가구/인테리어","홈데코","주방데코","주방장갑"]
["50003521","가구/인테리어","홈데코","커버류","기타커버류"]
["50003517","가구/인테리어","홈데코","커버류","소파커버/패드"]
["50003518","가구/인테리어","홈데코","커버류","에어컨커버"]
["50003520","가구/인테리어","홈데코","커버류","피아노커버"]
["50003643","가구/인테리어","홈데코","쿠션/방석","계절방석"]
["50003644","가구/인테리어","홈데코","쿠션/방석","기능성방석"]
["50003647","가구/인테리어","홈데코","쿠션/방석","기능성쿠션"]
["50003649","가구/인테리어","홈데코","쿠션/방석","대쿠션/대방석"]
["50003648","가구/인테리어","홈데코","쿠션/방석","등쿠션"]
["50003651","가구/인테리어","홈데코","쿠션/방석","목쿠션/아이필로우"]
["50003652","가구/인테리어","홈데코","쿠션/방석","바디필로우"]
["50003645","가구/인테리어","홈데코","쿠션/방석","방석커버"]
["50003642","가구/인테리어","홈데코","쿠션/방석","일반방석"]
["50003646","가구/인테리어","홈데코","쿠션/방석","일반쿠션"]
["50003656","가구/인테리어","홈데코","쿠션/방석","쿠션/방석기타"]
["50003655","가구/인테리어","홈데코","쿠션/방석","쿠션/방석커버세트"]
["50003654","가구/인테리어","홈데코","쿠션/방석","쿠션커버"]
["50003653","가구/인테리어","홈데코","쿠션/방석","팔꿈치/손목쿠션"]
["50003650","가구/인테리어","홈데코","쿠션/방석","헤드쿠션"]
["50005803","도서","가정/생활/요리","결혼/가족","가족관계"]
["50005801","도서","가정/생활/요리","결혼/가족","결혼"]
["50005802","도서","가정/생활/요리","결혼/가족","부부관계"]
["50005817","도서","가정/생활/요리","요리","나라별요리"]
["50005818","도서","가정/생활/요리","요리","빵/케이크/과자"]
["50005815","도서","가정/생활/요리","요리","음식/요리이야기"]
["50005819","도서","가정/생활/요리","요리","차/술/음료"]
["50005816","도서","가정/생활/요리","요리","테마별요리"]
["50005806","도서","가정/생활/요리","임신/출산/육아","육아법"]
["50005807","도서","가정/생활/요리","임신/출산/육아","육아일기"]
["50005804","도서","가정/생활/요리","임신/출산/육아","임신/출산"]
["50005805","도서","가정/생활/요리","임신/출산/육아","태교"]
["50005809","도서","가정/생활/요리","자녀교육","독서교육"]
["50005808","도서","가정/생활/요리","자녀교육","영어교육"]
["50005810","도서","가정/생활/요리","자녀교육","자녀교육일반"]
["50005811","도서","가정/생활/요리","자녀교육","좋은부모 되기"]
["50005814","도서","가정/생활/요리","집/살림","생활의 지혜"]
["50005813","도서","가정/생활/요리","집/살림","원예/조경"]
["50005812","도서","가정/생활/요리","집/살림","인테리어"]
["50005599","도서","건강","건강운동 기타"]
["50005595","도서","건강","건강정보/에세이"]
["50005597","도서","건강","다이어트/미용"]
["50005598","도서","건강","요가/헬스"]
["50005596","도서","건강","질병치료/예방"]
["50005829","도서","경제/경영","경영","경영실무"]
["50005826","도서","경제/경영","경영","경영일반/이론"]
["50005827","도서","경제/경영","경영","경영전략/혁신"]
["50005828","도서","경제/경영","경영","기업/경영자스토리"]
["50005822","도서","경제/경영","경제","경제사상/이론"]
["50005821","도서","경제/경영","경제","경제전망"]
["50005824","도서","경제/경영","경제","국제경제"]
["50005825","도서","경제/경영","경제","금융/재정/화폐"]
["50005820","도서","경제/경영","경제","쉽게읽는 경제"]
["50005823","도서","경제/경영","경제","한국경제"]
["50005832","도서","경제/경영","마케팅/세일즈","광고/홍보"]
["50005830","도서","경제/경영","마케팅/세일즈","마케팅일반"]
["50005831","도서","경제/경영","마케팅/세일즈","마케팅전략"]
["50005833","도서","경제/경영","마케팅/세일즈","영업/세일즈"]
["50005834","도서","경제/경영","마케팅/세일즈","트렌드/미래예측"]
["50005836","도서","경제/경영","재테크/투자","부동산/경매"]
["50005835","도서","경제/경영","재테크/투자","재테크일반"]
["50005837","도서","경제/경영","재테크/투자","주식/증권"]
["50005838","도서","경제/경영","창업/취업","창업/장사"]
["50005839","도서","경제/경영","창업/취업","취업"]
["50005677","도서","과학/공학","공학일반/산업공학"]
["50005670","도서","과학/공학","과학기본서"]
["50005678","도서","과학/공학","기계/전기/전자"]
["50005679","도서","과학/공학","농수산/축산"]
["50005676","도서","과학/공학","도시/토목/건설"]
["50005672","도서","과학/공학","물리학"]
["50005674","도서","과학/공학","생물학"]
["50005671","도서","과학/공학","수학"]
["50005669","도서","과학/공학","쉽게 읽는 과학"]
["50005680","도서","과학/공학","의학/식품/생활과학"]
["50005675","도서","과학/공학","천문/지구과학"]
["50005673","도서","과학/공학","화학"]
["50005945","도서","국어/외국어","국어","국어의이해"]
["50005946","도서","국어/외국어","국어","국어학이론"]
["50005947","도서","국어/외국어","국어","외국인을 위한 한국어"]
["50005948","도서","국어/외국어","국어","한국어수험서"]
["50005968","도서","국어/외국어","기타외국어","기타외국어"]
["50005964","도서","국어/외국어","기타외국어","독일어"]
["50005966","도서","국어/외국어","기타외국어","러시아어"]
["50005967","도서","국어/외국어","기타외국어","스페인어"]
["50005965","도서","국어/외국어","기타외국어","프랑스어"]
["50005951","도서","국어/외국어","영어","문법/독해/작문"]
["50005955","도서","국어/외국어","영어","번역/통역"]
["50005952","도서","국어/외국어","영어","비즈니스영어"]
["50005954","도서","국어/외국어","영어","수험영어"]
["50005949","도서","국어/외국어","영어","영어학습일반"]
["50005953","도서","국어/외국어","영어","유학영어"]
["50005950","도서","국어/외국어","영어","회화/청취"]
["50005958","도서","국어/외국어","일본어","문법/독해/작문"]
["50005959","도서","국어/외국어","일본어","일본어능력시험/JPT"]
["50005956","도서","국어/외국어","일본어","일본어일반"]
["50005957","도서","국어/외국어","일본어","회화/청취"]
["50005963","도서","국어/외국어","중국어","HSK"]
["50005962","도서","국어/외국어","중국어","문법/독해/작문"]
["50005960","도서","국어/외국어","중국어","중국어일반"]
["50005961","도서","국어/외국어","중국어","회화/청취"]
["50005727","도서","만화","SF/판타지"]
["50005730","도서","만화","공포/추리"]
["50005722","도서","만화","교양만화"]
["50005733","도서","만화","기타만화"]
["50005723","도서","만화","드라마"]
["50005729","도서","만화","명랑/코믹만화"]
["50005724","도서","만화","성인만화"]
["50005725","도서","만화","순정만화"]
["50005726","도서","만화","스포츠만화"]
["50005728","도서","만화","액션/무협만화"]
["50005735","도서","만화","영문판 만화"]
["50005732","도서","만화","웹툰/카툰에세이"]
["50005734","도서","만화","일본어판 만화"]
["50005731","도서","만화","학원만화"]
["50005666","도서","사전","국어사전"]
["50005667","도서","사전","기타나라어사전"]
["50005668","도서","사전","백과/전문사전"]
["50005663","도서","사전","일한/한일사전"]
["50005664","도서","사전","중한/한중사전"]
["50005662","도서","사전","한영/영한/영영사전"]
["50005665","도서","사전","한자사전"]
["50005848","도서","사회","국방/군사/경찰","경찰/범죄"]
["50005846","도서","사회","국방/군사/경찰","국방/군사 일반"]
["50005847","도서","사회","국방/군사/경찰","전쟁"]
["50005853","도서","사회","법","국제법"]
["50005854","도서","사회","법","기타법/법률"]
["50005850","도서","사회","법","민법/형법/상법"]
["50005849","도서","사회","법","법학일반"]
["50005851","도서","사회","법","소송/판례"]
["50005852","도서","사회","법","헌법"]
["50005862","도서","사회","사회복지","노인복지"]
["50005859","도서","사회","사회복지","사회문제일반"]
["50005860","도서","사회","사회복지","사회복지이론"]
["50005863","도서","사회","사회복지","아동복지"]
["50005861","도서","사회","사회복지","여성복지"]
["50005864","도서","사회","사회복지","장애인복지"]
["50005857","도서","사회","사회학","각국사회/문화"]
["50005856","도서","사회","사회학","사회이론/사상"]
["50005855","도서","사회","사회학","사회학일반"]
["50005858","도서","사회","사회학","여성학"]
["50005867","도서","사회","언론/신문/방송","신문/방송/출판"]
["50005866","도서","사회","언론/신문/방송","언론이론"]
["50005865","도서","사회","언론/신문/방송","언론일반"]
["50005841","도서","사회","정치/외교","각국정치"]
["50005842","도서","사회","정치/외교","외교/국제관계"]
["50005840","도서","사회","정치/외교","정치일반"]
["50005845","도서","사회","행정/정책","정책/지방자치"]
["50005844","도서","사회","행정/정책","행정일반/관리"]
["50005843","도서","사회","행정/정책","행정학일반"]
["50005763","도서","소설","고전/문학","세계고전"]
["50005762","도서","소설","고전/문학","세계문학"]
["50005761","도서","소설","고전/문학","한국고전소설"]
["50005760","도서","소설","나라별 소설","기타나라소설"]
["50005759","도서","소설","나라별 소설","독일소설"]
["50005757","도서","소설","나라별 소설","러시아소설"]
["50005754","도서","소설","나라별 소설","영미소설"]
["50005755","도서","소설","나라별 소설","일본소설"]
["50005756","도서","소설","나라별 소설","중국소설"]
["50005758","도서","소설","나라별 소설","프랑스소설"]
["50005753","도서","소설","나라별 소설","한국소설"]
["50005764","도서","소설","장르소설","SF/판타지"]
["50005769","도서","소설","장르소설","공포/스릴러"]
["50005767","도서","소설","장르소설","로맨스"]
["50005768","도서","소설","장르소설","무협"]
["50005766","도서","소설","장르소설","전쟁/역사"]
["50005765","도서","소설","장르소설","추리"]
["50005772","도서","소설","테마소설","가족/성장소설"]
["50005774","도서","소설","테마소설","라이트 노벨"]
["50005773","도서","소설","테마소설","어른을 위한 동화"]
["50005771","도서","소설","테마소설","영화/드라마소설"]
["50005770","도서","소설","테마소설","인터넷소설"]
["50005579","도서","시/에세이","그림/포토 에세이"]
["50005577","도서","시/에세이","독서 에세이"]
["50005578","도서","시/에세이","명상 에세이"]
["50005581","도서","시/에세이","삶의 지혜/명언"]
["50005576","도서","시/에세이","성공 에세이"]
["50005575","도서","시/에세이","여행 에세이"]
["50005580","도서","시/에세이","연애/사랑 에세이"]
["50005573","도서","시/에세이","외국시"]
["50005574","도서","시/에세이","인물 에세이"]
["50005572","도서","시/에세이","한국시"]
["50006121","도서","어린이","어린이(공통)","교양/취미"]
["50006119","도서","어린이","어린이(공통)","어린이동화"]
["50006122","도서","어린이","어린이(공통)","전집"]
["50006120","도서","어린이","어린이(공통)","학습/학습만화"]
["50006124","도서","어린이","어린이영어","게임으로 배우기"]
["50006127","도서","어린이","어린이영어","어린이 외국어 기타"]
["50006126","도서","어린이","어린이영어","영어리딩/읽기"]
["50006125","도서","어린이","어린이영어","영어학습교재"]
["50006123","도서","어린이","어린이영어","첫걸음"]
["50006112","도서","어린이","초등1~2학년","교양/취미"]
["50006110","도서","어린이","초등1~2학년","어린이동화"]
["50006111","도서","어린이","초등1~2학년","학습/학습만화"]
["50006115","도서","어린이","초등3~4학년","교양/취미"]
["50006113","도서","어린이","초등3~4학년","어린이동화"]
["50006114","도서","어린이","초등3~4학년","학습/학습만화"]
["50006118","도서","어린이","초등5~6학년","교양/취미"]
["50006116","도서","어린이","초등5~6학년","어린이동화"]
["50006117","도서","어린이","초등5~6학년","학습/학습만화"]
["50006009","도서","여행/지도","국내여행","강원/영동"]
["50006011","도서","여행/지도","국내여행","경상도/영남"]
["50006014","도서","여행/지도","국내여행","서울/경기"]
["50006008","도서","여행/지도","국내여행","전국여행"]
["50006012","도서","여행/지도","국내여행","전라도/호남"]
["50006013","도서","여행/지도","국내여행","제주도"]
["50006010","도서","여행/지도","국내여행","충청도"]
["50006028","도서","여행/지도","지도/지리","국내지도"]
["50006027","도서","여행/지도","지도/지리","지리일반/지리학"]
["50006029","도서","여행/지도","지도/지리","해외지도"]
["50006026","도서","여행/지도","테마여행","기타"]
["50006024","도서","여행/지도","테마여행","맛집여행"]
["50006023","도서","여행/지도","테마여행","배낭여행"]
["50006022","도서","여행/지도","테마여행","역사/문학기행"]
["50006025","도서","여행/지도","테마여행","체험학습/가족여행"]
["50006020","도서","여행/지도","해외여행","O"]
["50006021","도서","여행/지도","해외여행","기타여행"]
["50006017","도서","여행/지도","해외여행","미국/캐나다/중남미"]
["50006015","도서","여행/지도","해외여행","세계여행"]
["50006016","도서","여행/지도","해외여행","유럽여행"]
["50006018","도서","여행/지도","해외여행","일본여행"]
["50006019","도서","여행/지도","해외여행","중국여행"]
["50005877","도서","역사/문화","동양사","국가별 역사/문화"]
["50005876","도서","역사/문화","동양사","동양역사/문화일반"]
["50005875","도서","역사/문화","서양사","국가별 역사/문화"]
["50005874","도서","역사/문화","서양사","서양역사/문화일반"]
["50005872","도서","역사/문화","세계사","세계역사/문화일반"]
["50005873","도서","역사/문화","세계사","시대별 역사/문화"]
["50005871","도서","역사/문화","역사/문화일반","문화사일반"]
["50005868","도서","역사/문화","역사/문화일반","역사의이해"]
["50005869","도서","역사/문화","역사/문화일반","역사학이론/비평"]
["50005870","도서","역사/문화","역사/문화일반","주제별역사"]
["50005879","도서","역사/문화","한국사","고중세사"]
["50005880","도서","역사/문화","한국사","근현대사"]
["50005881","도서","역사/문화","한국사","한국문화"]
["50005878","도서","역사/문화","한국사","한국사일반"]
["50005882","도서","역사/문화","한국사","한국역사인물"]
["50005912","도서","예술/대중문화","TV/대중문화","드라마 극본"]
["50005914","도서","예술/대중문화","TV/대중문화","문화비평"]
["50005911","도서","예술/대중문화","TV/대중문화","미디어/광고"]
["50005913","도서","예술/대중문화","TV/대중문화","시나리오/희곡 작법"]
["50005898","도서","예술/대중문화","건축","건축가"]
["50005897","도서","예술/대중문화","건축","건축이론/건축사"]
["50005896","도서","예술/대중문화","건축","건축이야기"]
["50005899","도서","예술/대중문화","만화/애니메이션","만화 일반"]
["50005900","도서","예술/대중문화","만화/애니메이션","만화 작법/기법"]
["50005901","도서","예술/대중문화","만화/애니메이션","애니메이션 일반"]
["50005890","도서","예술/대중문화","미술","공예/서예"]
["50005891","도서","예술/대중문화","미술","디자인"]
["50005888","도서","예술/대중문화","미술","미술론/미술사"]
["50005889","도서","예술/대중문화","미술","미술실기/기법"]
["50005887","도서","예술/대중문화","미술","미술이야기"]
["50005904","도서","예술/대중문화","사진","사진이론과 실기"]
["50005902","도서","예술/대중문화","사진","사진일반"]
["50005903","도서","예술/대중문화","사진","사진작가/사진집"]
["50005907","도서","예술/대중문화","연극/영화","연극사/연극이론"]
["50005906","도서","예술/대중문화","연극/영화","연극이론/비평"]
["50005905","도서","예술/대중문화","연극/영화","연극일반"]
["50005908","도서","예술/대중문화","연극/영화","영화사/영화이론"]
["50005910","도서","예술/대중문화","연극/영화","영화제작/비평"]
["50005909","도서","예술/대중문화","연극/영화","희곡/시나리오"]
["50005885","도서","예술/대중문화","예술일반","미학/예술철학"]
["50005884","도서","예술/대중문화","예술일반","예술론/예술사"]
["50005886","도서","예술/대중문화","예술일반","예술사전/잡지"]
["50005883","도서","예술/대중문화","예술일반","예술이야기"]
["50005895","도서","예술/대중문화","음악","악기/악보집"]
["50005893","도서","예술/대중문화","음악","음악이론/음악사"]
["50005892","도서","예술/대중문화","음악","음악이야기"]
["50005894","도서","예술/대중문화","음악","장르별음악"]
["50006091","도서","유아","0~3세","놀이책"]
["50006090","도서","유아","0~3세","생활습관"]
["50006088","도서","유아","0~3세","외국그림책"]
["50006089","도서","유아","0~3세","학습그림책"]
["50006087","도서","유아","0~3세","한국그림책"]
["50006096","도서","유아","4~7세","놀이책"]
["50006095","도서","유아","4~7세","생활습관"]
["50006093","도서","유아","4~7세","외국그림책"]
["50006094","도서","유아","4~7세","학습그림책"]
["50006092","도서","유아","4~7세","한국그림책"]
["50006103","도서","유아","유아그림책","국내 창작 동화"]
["50006104","도서","유아","유아그림책","다른나라 그림책"]
["50006101","도서","유아","유아그림책","세계 명작 동화"]
["50006102","도서","유아","유아그림책","한국 전래 동화"]
["50006100","도서","유아","유아놀이책","기타"]
["50006098","도서","유아","유아놀이책","스티커북/색칠놀이"]
["50006097","도서","유아","유아놀이책","입체/팝업북"]
["50006099","도서","유아","유아놀이책","퍼즐/플래시카드"]
["50006109","도서","유아","유아학습","기타"]
["50006105","도서","유아","유아학습","동요/동시"]
["50006107","도서","유아","유아학습","영어/숫자 배우기"]
["50006108","도서","유아","유아학습","자연/과학"]
["50006106","도서","유아","유아학습","한글/말 배우기"]
["50005780","도서","인문","교육학","교육학의이해"]
["50005781","도서","인문","교육학","교육학일반"]
["50005790","도서","인문","문학론","문학비평/평론"]
["50005789","도서","인문","문학론","문학사"]
["50005787","도서","인문","문학론","문학의이해"]
["50005788","도서","인문","문학론","문학이론"]
["50005797","도서","인문","신화","그리스로마신화"]
["50005799","도서","인문","신화","동양신화"]
["50005798","도서","인문","신화","서양신화"]
["50005796","도서","인문","신화","신화의 이해"]
["50005800","도서","인문","신화","한국신화"]
["50005778","도서","인문","심리","교양심리"]
["50005779","도서","인문","심리","심리학일반"]
["50005792","도서","인문","언어학/기호학","기호학일반"]
["50005791","도서","인문","언어학/기호학","언어학일반"]
["50005775","도서","인문","인문일반","교양인문"]
["50005777","도서","인문","인문일반","독서/글쓰기"]
["50005776","도서","인문","인문일반","인문학이론"]
["50005795","도서","인문","종교학","종교비평/비교종교학"]
["50005794","도서","인문","종교학","종교사"]
["50005793","도서","인문","종교학","종교학의이해"]
["50005782","도서","인문","철학","교양철학"]
["50005785","도서","인문","철학","동양철학"]
["50005784","도서","인문","철학","서양철학"]
["50005783","도서","인문","철학","철학일반"]
["50005786","도서","인문","철학","한국철학"]
["50005626","도서","자기계발","대화/협상"]
["50005622","도서","자기계발","성공/처세"]
["50005623","도서","자기계발","시간관리"]
["50005625","도서","자기계발","인간관계"]
["50005624","도서","자기계발","자기능력계발"]
["50006059","도서","잡지","문예/교양지","교양"]
["50006057","도서","잡지","문예/교양지","문예"]
["50006058","도서","잡지","문예/교양지","출판"]
["50006072","도서","잡지","어학/교육","방송교재"]
["50006069","도서","잡지","어학/교육","아동학습"]
["50006071","도서","잡지","어학/교육","어학"]
["50006070","도서","잡지","어학/교육","중고학습"]
["50006050","도서","잡지","여성/패션/리빙","건강/요리"]
["50006052","도서","잡지","여성/패션/리빙","결혼/육아"]
["50006051","도서","잡지","여성/패션/리빙","리빙/인테리어"]
["50006049","도서","잡지","여성/패션/리빙","여성/패션"]
["50006077","도서","잡지","예술/대중문화","기타"]
["50006076","도서","잡지","예술/대중문화","방송/연예"]
["50006074","도서","잡지","예술/대중문화","사진"]
["50006073","도서","잡지","예술/대중문화","영화/공연"]
["50006075","도서","잡지","예술/대중문화","음악/미술"]
["50006085","도서","잡지","외국잡지","Art & Design"]
["50006083","도서","잡지","외국잡지","Entertainment"]
["50006082","도서","잡지","외국잡지","Fashion & Living"]
["50006084","도서","잡지","외국잡지","News & Economy"]
["50006086","도서","잡지","외국잡지","기타외국잡지"]
["50006054","도서","잡지","인문/사회/종교","경제/경영"]
["50006053","도서","잡지","인문/사회/종교","시사/사회"]
["50006055","도서","잡지","인문/사회/종교","종교"]
["50006056","도서","잡지","인문/사회/종교","행정/고시/정치"]
["50006060","도서","잡지","자연/공학","기계/자동차"]
["50006064","도서","잡지","자연/공학","기타"]
["50006062","도서","잡지","자연/공학","농학/원예"]
["50006061","도서","잡지","자연/공학","의학/건강"]
["50006063","도서","잡지","자연/공학","자연과학"]
["50006081","도서","잡지","취미/여행","기타"]
["50006078","도서","잡지","취미/여행","레저/스포츠"]
["50006080","도서","잡지","취미/여행","바둑/낚시/등산"]
["50006079","도서","잡지","취미/여행","여행"]
["50006068","도서","잡지","컴퓨터/게임/그래픽","게임(Game)"]
["50006065","도서","잡지","컴퓨터/게임/그래픽","그래픽"]
["50006067","도서","잡지","컴퓨터/게임/그래픽","웹"]
["50006066","도서","잡지","컴퓨터/게임/그래픽","컴퓨터"]
["50005641","도서","종교","가톨릭"]
["50005640","도서","종교","기독교(개신교)"]
["50005643","도서","종교","기타"]
["50005642","도서","종교","불교"]
["50005639","도서","종교","종교일반"]
["50005705","도서","청소년","공부방법/진학가이드"]
["50005704","도서","청소년","논술대비"]
["50005706","도서","청소년","진로/진학가이드"]
["50005707","도서","청소년","청소년 경제/자기계발"]
["50005711","도서","청소년","청소년 과학"]
["50005708","도서","청소년","청소년 문학"]
["50005710","도서","청소년","청소년 예술"]
["50005709","도서","청소년","청소년 인문/사회"]
["50005610","도서","취미/레저","가구/DIY"]
["50005612","도서","취미/레저","골프"]
["50005604","도서","취미/레저","꽃꽂이"]
["50005614","도서","취미/레저","낚시"]
["50005615","도서","취미/레저","달리기/마라톤"]
["50005613","도서","취미/레저","등산"]
["50005600","도서","취미/레저","뜨개질/퀼트/십자수"]
["50005616","도서","취미/레저","레저/스포츠기타"]
["50005606","도서","취미/레저","바둑/장기"]
["50005601","도서","취미/레저","비즈/구슬공예"]
["50005608","도서","취미/레저","사진/비디오"]
["50005602","도서","취미/레저","선물포장/리본공예"]
["50005607","도서","취미/레저","애완동물"]
["50005603","도서","취미/레저","옷만들기"]
["50005609","도서","취미/레저","원예/조경"]
["50005611","도서","취미/레저","취미기타"]
["50005605","도서","취미/레저","퍼즐/스도쿠"]
["50005991","도서","취업/수험서","고시","교원임용고시"]
["50005989","도서","취업/수험서","고시","기술고시"]
["50005992","도서","취업/수험서","고시","기타"]
["50005987","도서","취업/수험서","고시","사법고시"]
["50005990","도서","취업/수험서","고시","의사고시"]
["50005988","도서","취업/수험서","고시","행정/외무고시"]
["50005976","도서","취업/수험서","공무원","10급 기능직"]
["50005978","도서","취업/수험서","공무원","7급 공무원"]
["50005977","도서","취업/수험서","공무원","9급 공무원"]
["50005981","도서","취업/수험서","공무원","경찰직"]
["50005983","도서","취업/수험서","공무원","군무원"]
["50005979","도서","취업/수험서","공무원","기술직"]
["50005986","도서","취업/수험서","공무원","기타"]
["50005982","도서","취업/수험서","공무원","법원직"]
["50005980","도서","취업/수험서","공무원","세무직"]
["50005985","도서","취업/수험서","공무원","소방직"]
["50005984","도서","취업/수험서","공무원","지하철/철도청"]
["50005994","도서","취업/수험서","전문직","감정평가사"]
["50005997","도서","취업/수험서","전문직","공인중개사"]
["50005996","도서","취업/수험서","전문직","공인회계사/세무사"]
["50006003","도서","취업/수험서","전문직","기타"]
["50006000","도서","취업/수험서","전문직","노무사"]
["50005998","도서","취업/수험서","전문직","물류/유통/품질관리사"]
["50005999","도서","취업/수험서","전문직","법무사"]
["50006001","도서","취업/수험서","전문직","변리사"]
["50006002","도서","취업/수험서","전문직","사회복지사"]
["50005995","도서","취업/수험서","전문직","주택관리사"]
["50005993","도서","취업/수험서","전문직","투자상담사"]
["50005972","도서","취업/수험서","취업/상식/적성검사","LEET"]
["50005973","도서","취업/수험서","취업/상식/적성검사","MEET/DEET"]
["50005974","도서","취업/수험서","취업/상식/적성검사","PSAT"]
["50005975","도서","취업/수험서","취업/상식/적성검사","기타 자격증"]
["50005970","도서","취업/수험서","취업/상식/적성검사","상식"]
["50005971","도서","취업/수험서","취업/상식/적성검사","적성검사/SSAT"]
["50005969","도서","취업/수험서","취업/상식/적성검사","취업전략/면접"]
["50006005","도서","취업/수험서","편입/검정고시","고입 검정고시"]
["50006006","도서","취업/수험서","편입/검정고시","대입 검정고시"]
["50006007","도서","취업/수험서","편입/검정고시","독학사"]
["50006004","도서","취업/수험서","편입/검정고시","편입/대학원"]
["50006033","도서","컴퓨터/IT","IT 전문서","개발/OS/데이터베이스"]
["50006035","도서","컴퓨터/IT","IT 전문서","네트워크보안"]
["50006036","도서","컴퓨터/IT","IT 전문서","컴퓨터공학"]
["50006034","도서","컴퓨터/IT","IT 전문서","프로그래밍언어"]
["50006037","도서","컴퓨터/IT","그래픽/멀티미디어","3DS/MAX"]
["50006038","도서","컴퓨터/IT","그래픽/멀티미디어","그래픽일반/자료집"]
["50006039","도서","컴퓨터/IT","그래픽/멀티미디어","그래픽툴/저작툴"]
["50006040","도서","컴퓨터/IT","그래픽/멀티미디어","기타"]
["50006041","도서","컴퓨터/IT","오피스활용도서","MS Excel"]
["50006043","도서","컴퓨터/IT","오피스활용도서","MS PowerPoint"]
["50006042","도서","컴퓨터/IT","오피스활용도서","MS Word"]
["50006044","도서","컴퓨터/IT","오피스활용도서","기타"]
["50006030","도서","컴퓨터/IT","웹/컴퓨터입문/활용","웹/홈페이지"]
["50006032","도서","컴퓨터/IT","웹/컴퓨터입문/활용","컴퓨터게임"]
["50006031","도서","컴퓨터/IT","웹/컴퓨터입문/활용","컴퓨터입문/활용"]
["50006047","도서","컴퓨터/IT","컴퓨터수험서","워드프로세스"]
["50006045","도서","컴퓨터/IT","컴퓨터수험서","정보처리"]
["50006048","도서","컴퓨터/IT","컴퓨터수험서","컴퓨터수험서기타"]
["50006046","도서","컴퓨터/IT","컴퓨터수험서","컴퓨터활용능력"]
["50005918","도서","학습/참고서","고등학교","EBS 고등"]
["50005919","도서","학습/참고서","고등학교","기타"]
["50005916","도서","학습/참고서","고등학교","문제집"]
["50005917","도서","학습/참고서","고등학교","수능문제집"]
["50005915","도서","학습/참고서","고등학교","자습서"]
["50005942","도서","학습/참고서","공부방법/진학","검정고시"]
["50005943","도서","학습/참고서","공부방법/진학","공부방법 가이드"]
["50005944","도서","학습/참고서","공부방법/진학","진학 가이드"]
["50005941","도서","학습/참고서","논술/면접대비","논술 가이드"]
["50005940","도서","학습/참고서","논술/면접대비","면접 가이드"]
["50005939","도서","학습/참고서","논술/면접대비","중고학습문학"]
["50005926","도서","학습/참고서","중학교","EBS 중등"]
["50005929","도서","학습/참고서","중학교","기타"]
["50005927","도서","학습/참고서","중학교","예비 고1"]
["50005921","도서","학습/참고서","중학교","중1 문제집"]
["50005920","도서","학습/참고서","중학교","중1 자습서"]
["50005923","도서","학습/참고서","중학교","중2 문제집"]
["50005922","도서","학습/참고서","중학교","중2 자습서"]
["50005925","도서","학습/참고서","중학교","중3 문제집"]
["50005924","도서","학습/참고서","중학교","중3 자습서"]
["50005928","도서","학습/참고서","중학교","특목고대비교재"]
["50005937","도서","학습/참고서","초등학교","EBS 초등"]
["50005938","도서","학습/참고서","초등학교","기타"]
["50005930","도서","학습/참고서","초등학교","초등1학년"]
["50005931","도서","학습/참고서","초등학교","초등2학년"]
["50005932","도서","학습/참고서","초등학교","초등3학년"]
["50005933","도서","학습/참고서","초등학교","초등4학년"]
["50005934","도서","학습/참고서","초등학교","초등5학년"]
["50005935","도서","학습/참고서","초등학교","초등6학년"]
["50005936","도서","학습/참고서","초등학교","한글/한자"]
["50005743","도서","해외도서","가족/생활"]
["50005739","도서","해외도서","건축/예술"]
["50005738","도서","해외도서","경영경제"]
["50005747","도서","해외도서","과학/공학/수학"]
["50005749","도서","해외도서","독일"]
["50005736","도서","해외도서","문학/소설"]
["50005748","도서","해외도서","사회/정치/법"]
["50005751","도서","해외도서","스페인"]
["50005744","도서","해외도서","언어/외국어/사전"]
["50005741","도서","해외도서","요리"]
["50005737","도서","해외도서","유아청소년/교육"]
["50005752","도서","해외도서","일본도서"]
["50005746","도서","해외도서","종교/명상"]
["50005745","도서","해외도서","철학/심리/역사"]
["50005742","도서","해외도서","취미/여행"]
["50005740","도서","해외도서","컴퓨터"]
["50005750","도서","해외도서","프랑스"]
["50001737","디지털/가전","PC","브랜드PC"]
["50001739","디지털/가전","PC","서버/워크스테이션"]
["50001738","디지털/가전","PC","조립/베어본PC"]
["50001620","디지털/가전","PC부품","CPU"]
["50003115","디지털/가전","PC부품","PC케이블","1394케이블"]
["50003116","디지털/가전","PC부품","PC케이블","D-SUB케이블"]
["50003117","디지털/가전","PC부품","PC케이블","DVI케이블"]
["50003118","디지털/가전","PC부품","PC케이블","HDMI케이블"]
["50003119","디지털/가전","PC부품","PC케이블","SATA케이블"]
["50003120","디지털/가전","PC부품","PC케이블","USB케이블"]
["50003121","디지털/가전","PC부품","PC케이블","광케이블"]
["50003127","디지털/가전","PC부품","PC케이블","기타케이블"]
["50003122","디지털/가전","PC부품","PC케이블","랜케이블"]
["50003123","디지털/가전","PC부품","PC케이블","비디오케이블"]
["50003124","디지털/가전","PC부품","PC케이블","오디오케이블"]
["50003126","디지털/가전","PC부품","PC케이블","전원케이블"]
["50003125","디지털/가전","PC부품","PC케이블","젠더"]
["50001621","디지털/가전","PC부품","PC케이스"]
["50003102","디지털/가전","PC부품","RAM","노트북용"]
["50003101","디지털/가전","PC부품","RAM","데스크탑용"]
["50003103","디지털/가전","PC부품","그래픽카드","AMD계열"]
["50003104","디지털/가전","PC부품","그래픽카드","NVIDIA계열"]
["50003106","디지털/가전","PC부품","그래픽카드","그래픽카드주변기기"]
["50003105","디지털/가전","PC부품","그래픽카드","기타계열"]
["50003108","디지털/가전","PC부품","메인보드","AMDCPU용"]
["50003109","디지털/가전","PC부품","메인보드","기타메인보드"]
["50003107","디지털/가전","PC부품","메인보드","인텔CPU용"]
["50003128","디지털/가전","PC부품","인터페이스카드","1394카드"]
["50003129","디지털/가전","PC부품","인터페이스카드","RAID카드"]
["50003130","디지털/가전","PC부품","인터페이스카드","SATA카드"]
["50003131","디지털/가전","PC부품","인터페이스카드","SCSI카드"]
["50003132","디지털/가전","PC부품","인터페이스카드","USB카드"]
["50003133","디지털/가전","PC부품","인터페이스카드","기타인터페이스카드"]
["50003134","디지털/가전","PC부품","쿨러","CPU쿨러"]
["50003135","디지털/가전","PC부품","쿨러","HDD쿨러"]
["50003136","디지털/가전","PC부품","쿨러","그래픽카드쿨러"]
["50003141","디지털/가전","PC부품","쿨러","기타쿨러"]
["50003137","디지털/가전","PC부품","쿨러","노트북쿨러"]
["50003138","디지털/가전","PC부품","쿨러","방열판"]
["50003139","디지털/가전","PC부품","쿨러","수냉쿨러"]
["50003140","디지털/가전","PC부품","쿨러","케이스쿨러"]
["50003148","디지털/가전","PC부품","튜닝용품","기타튜닝용품"]
["50003147","디지털/가전","PC부품","튜닝용품","방음방진"]
["50003142","디지털/가전","PC부품","튜닝용품","브라켓"]
["50003146","디지털/가전","PC부품","튜닝용품","조명기기"]
["50003143","디지털/가전","PC부품","튜닝용품","팬/온도컨트롤러"]
["50003144","디지털/가전","PC부품","튜닝용품","팬그릴"]
["50003145","디지털/가전","PC부품","튜닝용품","팬필터"]
["50003110","디지털/가전","PC부품","파워서플라이","ATX파워"]
["50003112","디지털/가전","PC부품","파워서플라이","TFX파워"]
["50003113","디지털/가전","PC부품","파워서플라이","UPS"]
["50003111","디지털/가전","PC부품","파워서플라이","mATX파워"]
["50003114","디지털/가전","PC부품","파워서플라이","기타PC용파워"]
["50003209","디지털/가전","PC부품","파워서플라이","서버용파워"]
["50001574","디지털/가전","PC액세서리","PC받침대"]
["50001575","디지털/가전","PC액세서리","PC홀더/브라켓"]
["50002777","디지털/가전","PC액세서리","USB액세서리","USB라이트"]
["50002780","디지털/가전","PC액세서리","USB액세서리","USB보온제품"]
["50002781","디지털/가전","PC액세서리","USB액세서리","USB잠금장치"]
["50002920","디지털/가전","PC액세서리","USB액세서리","USB청소기"]
["50002921","디지털/가전","PC액세서리","USB액세서리","USB토이"]
["50002776","디지털/가전","PC액세서리","USB액세서리","USB허브"]
["50002922","디지털/가전","PC액세서리","USB액세서리","기타USB액세서리"]
["50001579","디지털/가전","PC액세서리","기타PC액세서리"]
["50001571","디지털/가전","PC액세서리","마우스패드"]
["50001573","디지털/가전","PC액세서리","보안기"]
["50001572","디지털/가전","PC액세서리","손목받침대"]
["50001578","디지털/가전","PC액세서리","케이블타이/정리함"]
["50001577","디지털/가전","PC액세서리","클리너"]
["50001576","디지털/가전","PC액세서리","키보드키스킨/스티커"]
["50001735","디지털/가전","게임기/타이틀","PC게임"]
["50001733","디지털/가전","게임기/타이틀","가정용게임기"]
["50002771","디지털/가전","게임기/타이틀","게임기주변기기","가방/케이스"]
["50002775","디지털/가전","게임기/타이틀","게임기주변기기","기타주변기기"]
["50002772","디지털/가전","게임기/타이틀","게임기주변기기","보호필름/스킨"]
["50002774","디지털/가전","게임기/타이틀","게임기주변기기","음향기기"]
["50002770","디지털/가전","게임기/타이틀","게임기주변기기","조이스틱/컨트롤러"]
["50002773","디지털/가전","게임기/타이틀","게임기주변기기","충전기기"]
["50001736","디지털/가전","게임기/타이틀","게임타이틀"]
["50001734","디지털/가전","게임기/타이틀","휴대용게임기"]
["50006848","디지털/가전","계절가전","가습기","USB가습기"]
["50002542","디지털/가전","계절가전","가습기","가습기필터"]
["50002539","디지털/가전","계절가전","가습기","가열식가습기"]
["50002541","디지털/가전","계절가전","가습기","복합식가습기"]
["50002538","디지털/가전","계절가전","가습기","자연식가습기"]
["50002540","디지털/가전","계절가전","가습기","초음파식가습기"]
["50002547","디지털/가전","계절가전","공기정화기","공기정화기필터"]
["50002543","디지털/가전","계절가전","공기정화기","공기청정기"]
["50002544","디지털/가전","계절가전","공기정화기","산림욕기"]
["50002545","디지털/가전","계절가전","공기정화기","서큘레이터"]
["50006201","디지털/가전","계절가전","공기정화기","에어워셔"]
["50002546","디지털/가전","계절가전","공기정화기","환풍기"]
["50001851","디지털/가전","계절가전","냉온풍기"]
["50002512","디지털/가전","계절가전","냉풍기","업소용냉풍기"]
["50002511","디지털/가전","계절가전","냉풍기","일반용냉풍기"]
["50001853","디지털/가전","계절가전","라디에이터"]
["50002535","디지털/가전","계절가전","보일러","가스보일러"]
["50002536","디지털/가전","계절가전","보일러","석유보일러"]
["50002537","디지털/가전","계절가전","보일러","전기보일러"]
["50002514","디지털/가전","계절가전","선풍기","벽걸이형선풍기"]
["50007231","디지털/가전","계절가전","선풍기","선풍기부속품"]
["50002513","디지털/가전","계절가전","선풍기","스탠드형선풍기"]
["50002519","디지털/가전","계절가전","선풍기","업소용선풍기"]
["50002516","디지털/가전","계절가전","선풍기","천장형선풍기"]
["50002515","디지털/가전","계절가전","선풍기","타워형선풍기"]
["50002517","디지털/가전","계절가전","선풍기","탁상형선풍기"]
["50002518","디지털/가전","계절가전","선풍기","휴대용선풍기"]
["50002534","디지털/가전","계절가전","순간온수기","가스온수기"]
["50002533","디지털/가전","계절가전","순간온수기","전기온수기"]
["50006971","디지털/가전","계절가전","업소용냉온풍기"]
["50001521","디지털/가전","계절가전","에어커튼"]
["50002523","디지털/가전","계절가전","에어컨","멀티형에어컨"]
["50002522","디지털/가전","계절가전","에어컨","벽걸이형에어컨"]
["50002521","디지털/가전","계절가전","에어컨","스탠드형에어컨"]
["50002526","디지털/가전","계절가전","에어컨","시스템에어컨"]
["50002525","디지털/가전","계절가전","에어컨","업소형에어컨"]
["50002527","디지털/가전","계절가전","에어컨","이동식에어컨"]
["50002524","디지털/가전","계절가전","에어컨","창문형에어컨"]
["50003207","디지털/가전","계절가전","에어컨","천장형에어컨"]
["50006838","디지털/가전","계절가전","에어컨주변기기","기타액세서리"]
["50006836","디지털/가전","계절가전","에어컨주변기기","에어컨 리모콘"]
["50006837","디지털/가전","계절가전","에어컨주변기기","에어컨 실외기"]
["50002529","디지털/가전","계절가전","온풍기","가스온풍기"]
["50002532","디지털/가전","계절가전","온풍기","돈풍기"]
["50002530","디지털/가전","계절가전","온풍기","석유온풍기"]
["50002531","디지털/가전","계절가전","온풍기","열풍기"]
["50002528","디지털/가전","계절가전","온풍기","전기온풍기"]
["50002554","디지털/가전","계절가전","전기매트","기타전기매트"]
["50002553","디지털/가전","계절가전","전기매트","옥매트"]
["50002550","디지털/가전","계절가전","전기매트","온수매트"]
["50002552","디지털/가전","계절가전","전기매트","카페트매트"]
["50002551","디지털/가전","계절가전","전기매트","황토매트"]
["50002556","디지털/가전","계절가전","전기장판/담요/방석","전기담요"]
["50002557","디지털/가전","계절가전","전기장판/담요/방석","전기방석"]
["50002555","디지털/가전","계절가전","전기장판/담요/방석","전기장판"]
["50001852","디지털/가전","계절가전","전기히터"]
["50002549","디지털/가전","계절가전","제습기","업소용제습기"]
["50002548","디지털/가전","계절가전","제습기","일반용제습기"]
["50006835","디지털/가전","계절가전","컨벡터"]
["50002013","디지털/가전","광학기기/용품","광학용품액세서리"]
["50002009","디지털/가전","광학기기/용품","망원경"]
["50002010","디지털/가전","광학기기/용품","쌍안경"]
["50002011","디지털/가전","광학기기/용품","천체망원경"]
["50002012","디지털/가전","광학기기/용품","현미경"]
["50001623","디지털/가전","네트워크장비","AP"]
["50001624","디지털/가전","네트워크장비","KVM스위치"]
["50001497","디지털/가전","네트워크장비","KVM케이블"]
["50003151","디지털/가전","네트워크장비","공유기","무선AP"]
["50003150","디지털/가전","네트워크장비","공유기","유무선공유기"]
["50003149","디지털/가전","네트워크장비","공유기","유선공유기"]
["50001511","디지털/가전","네트워크장비","기타네트워크장비"]
["50001498","디지털/가전","네트워크장비","네트워크모듈"]
["50001499","디지털/가전","네트워크장비","네트워크테스트기"]
["50001622","디지털/가전","네트워크장비","라우터"]
["50003152","디지털/가전","네트워크장비","랜카드","무선랜카드"]
["50003153","디지털/가전","네트워크장비","랜카드","유선랜카드"]
["50001500","디지털/가전","네트워크장비","리피터장비"]
["50001501","디지털/가전","네트워크장비","모니터공유기"]
["50001503","디지털/가전","네트워크장비","모뎀"]
["50001502","디지털/가전","네트워크장비","무선모뎀"]
["50001504","디지털/가전","네트워크장비","블루투스동글"]
["50001505","디지털/가전","네트워크장비","선택기"]
["50001506","디지털/가전","네트워크장비","스위칭허브"]
["50001507","디지털/가전","네트워크장비","시리얼장비"]
["50001508","디지털/가전","네트워크장비","안테나"]
["50001509","디지털/가전","네트워크장비","컨버터장비"]
["50001510","디지털/가전","네트워크장비","프린터공유기"]
["50000151","디지털/가전","노트북"]
["50001587","디지털/가전","노트북액세서리","기타노트북액세서리"]
["50001580","디지털/가전","노트북액세서리","노트북가방/케이스"]
["50001586","디지털/가전","노트북액세서리","노트북도난방지"]
["50001581","디지털/가전","노트북액세서리","노트북받침대/쿨러"]
["50001582","디지털/가전","노트북액세서리","노트북보안기"]
["50002923","디지털/가전","노트북액세서리","노트북보호필름","액정보호필름"]
["50002924","디지털/가전","노트북액세서리","노트북보호필름","전신보호필름"]
["50001583","디지털/가전","노트북액세서리","노트북어댑터"]
["50001584","디지털/가전","노트북액세서리","노트북용배터리"]
["50001585","디지털/가전","노트북액세서리","노트북키스킨"]
["50002961","디지털/가전","멀티미디어장비","DVR","DVR본체"]
["50002962","디지털/가전","멀티미디어장비","DVR","DVR카드"]
["50002963","디지털/가전","멀티미디어장비","DVR","DVR패키지"]
["50001595","디지털/가전","멀티미디어장비","Divx플레이어"]
["50001596","디지털/가전","멀티미디어장비","PC마이크"]
["50002965","디지털/가전","멀티미디어장비","PC스피커","2.1채널"]
["50002964","디지털/가전","멀티미디어장비","PC스피커","2채널"]
["50002966","디지털/가전","멀티미디어장비","PC스피커","5.1채널"]
["50001599","디지털/가전","멀티미디어장비","PC헤드셋"]
["50002975","디지털/가전","멀티미디어장비","사운드카드","기타사운드카드용품"]
["50002972","디지털/가전","멀티미디어장비","사운드카드","내장형"]
["50002974","디지털/가전","멀티미디어장비","사운드카드","레코딩장비"]
["50002973","디지털/가전","멀티미디어장비","사운드카드","외장형"]
["50002971","디지털/가전","멀티미디어장비","영상수신장비","DMB수신기"]
["50002969","디지털/가전","멀티미디어장비","영상수신장비","PC리모컨"]
["50002968","디지털/가전","멀티미디어장비","영상수신장비","TV카드"]
["50002970","디지털/가전","멀티미디어장비","영상수신장비","안테나"]
["50002976","디지털/가전","멀티미디어장비","영상편집카드","디코더"]
["50002978","디지털/가전","멀티미디어장비","영상편집카드","방송보드"]
["50002977","디지털/가전","멀티미디어장비","영상편집카드","엔코더"]
["50002979","디지털/가전","멀티미디어장비","영상편집카드","영상편집"]
["50001598","디지털/가전","멀티미디어장비","웹캠"]
["50001597","디지털/가전","멀티미디어장비","휴대용스피커"]
["50000153","디지털/가전","모니터"]
["50001593","디지털/가전","모니터주변기기","기타모니터주변기기"]
["50001590","디지털/가전","모니터주변기기","모니터받침대"]
["50001592","디지털/가전","모니터주변기기","모니터브라켓"]
["50006203","디지털/가전","모니터주변기기","모니터암"]
["50001591","디지털/가전","모니터주변기기","모니터어댑터"]
["50002347","디지털/가전","생활가전","건조기/탈수기","신발건조기"]
["50002346","디지털/가전","생활가전","건조기/탈수기","의류건조기"]
["50002348","디지털/가전","생활가전","건조기/탈수기","탈수기"]
["50002373","디지털/가전","생활가전","구강청정기","구강세정기"]
["50002371","디지털/가전","생활가전","구강청정기","전동칫솔"]
["50002372","디지털/가전","생활가전","구강청정기","전동칫솔모"]
["50002374","디지털/가전","생활가전","구강청정기","칫솔살균기"]
["50002357","디지털/가전","생활가전","다리미","건식다리미"]
["50002356","디지털/가전","생활가전","다리미","스팀다리미"]
["50002358","디지털/가전","생활가전","디지털도어록","보조키형"]
["50002359","디지털/가전","생활가전","디지털도어록","주키형"]
["50002362","디지털/가전","생활가전","무전기","무전기액세서리"]
["50002360","디지털/가전","생활가전","무전기","생활용무전기"]
["50002361","디지털/가전","생활가전","무전기","업무용무전기"]
["50001979","디지털/가전","생활가전","보풀제거기"]
["50002344","디지털/가전","생활가전","세탁기","드럼세탁기"]
["50002345","디지털/가전","생활가전","세탁기","미니세탁기"]
["50002343","디지털/가전","생활가전","세탁기","일반세탁기"]
["50001980","디지털/가전","생활가전","손소독기"]
["50002363","디지털/가전","생활가전","스탠드","LED스탠드"]
["50002364","디지털/가전","생활가전","스탠드","삼파장스탠드"]
["50002365","디지털/가전","생활가전","스탠드","오파장스탠드"]
["50002366","디지털/가전","생활가전","스탠드","일반스탠드"]
["50002367","디지털/가전","생활가전","스탠드","칠파장스탠드"]
["50006964","디지털/가전","생활가전","업소용자외선소독기"]
["50001983","디지털/가전","생활가전","연수기"]
["50007045","디지털/가전","생활가전","의류관리기"]
["50001984","디지털/가전","생활가전","이온수기"]
["50001981","디지털/가전","생활가전","자외선소독기"]
["50001978","디지털/가전","생활가전","재봉틀"]
["50007070","디지털/가전","생활가전","전신건조기"]
["50002369","디지털/가전","생활가전","전화기","무선전화기"]
["50006963","디지털/가전","생활가전","전화기","사무용전화기"]
["50003156","디지털/가전","생활가전","전화기","스마트홈폰/패드"]
["50002370","디지털/가전","생활가전","전화기","유무선전화기"]
["50002368","디지털/가전","생활가전","전화기","유선전화기"]
["50007233","디지털/가전","생활가전","전화기","전화기주변기기"]
["50007216","디지털/가전","생활가전","청소기","고압세척기"]
["50002352","디지털/가전","생활가전","청소기","로봇청소기"]
["50002350","디지털/가전","생활가전","청소기","무선청소기"]
["50006368","디지털/가전","생활가전","청소기","물걸레청소기"]
["50002351","디지털/가전","생활가전","청소기","스팀청소기"]
["50002354","디지털/가전","생활가전","청소기","업소용청소기"]
["50002349","디지털/가전","생활가전","청소기","유선청소기"]
["50002355","디지털/가전","생활가전","청소기","청소기액세서리"]
["50002353","디지털/가전","생활가전","청소기","침구청소기"]
["50001985","디지털/가전","생활가전","해충퇴치기"]
["50001982","디지털/가전","생활가전","핸드드라이어"]
["50001515","디지털/가전","소프트웨어","개발툴"]
["50001516","디지털/가전","소프트웨어","그래픽/멀티미디어"]
["50001517","디지털/가전","소프트웨어","번역"]
["50001513","디지털/가전","소프트웨어","보안/백신"]
["50001514","디지털/가전","소프트웨어","사무/회계"]
["50001512","디지털/가전","소프트웨어","운영체제"]
["50001518","디지털/가전","소프트웨어","유틸리티"]
["50002116","디지털/가전","영상가전","TV","LCDTV"]
["50002114","디지털/가전","영상가전","TV","LEDTV"]
["50002115","디지털/가전","영상가전","TV","OLEDTV"]
["50002117","디지털/가전","영상가전","TV","PDPTV"]
["50002118","디지털/가전","영상가전","TV","브라운관TV"]
["50002014","디지털/가전","영상가전","디지털액자"]
["50007071","디지털/가전","영상가전","사이니지 모니터"]
["50002119","디지털/가전","영상가전","영상가전액세서리","3D입체안경"]
["50002120","디지털/가전","영상가전","영상가전액세서리","AV분배기"]
["50002121","디지털/가전","영상가전","영상가전액세서리","AV선택기"]
["50002122","디지털/가전","영상가전","영상가전액세서리","AV셀렉터"]
["50002123","디지털/가전","영상가전","영상가전액세서리","AV젠더"]
["50002124","디지털/가전","영상가전","영상가전액세서리","AV케이블"]
["50002130","디지털/가전","영상가전","영상가전액세서리","TV셋톱박스"]
["50002131","디지털/가전","영상가전","영상가전액세서리","TV전용키보드"]
["50002132","디지털/가전","영상가전","영상가전액세서리","TV카메라"]
["50005246","디지털/가전","영상가전","영상가전액세서리","기타액세서리"]
["50002125","디지털/가전","영상가전","영상가전액세서리","리모컨"]
["50002127","디지털/가전","영상가전","영상가전액세서리","방진용품"]
["50002126","디지털/가전","영상가전","영상가전액세서리","브라켓"]
["50002128","디지털/가전","영상가전","영상가전액세서리","스탠드"]
["50002129","디지털/가전","영상가전","영상가전액세서리","안테나"]
["50002142","디지털/가전","영상가전","영상플레이어","DVD레코더"]
["50002143","디지털/가전","영상가전","영상플레이어","DVD콤보"]
["50002141","디지털/가전","영상가전","영상플레이어","DVD플레이어"]
["50002140","디지털/가전","영상가전","영상플레이어","블루레이플레이어"]
["50002139","디지털/가전","영상가전","영상플레이어","퍼스널뷰어"]
["50002144","디지털/가전","영상가전","영상플레이어","포터블DVD"]
["50002133","디지털/가전","영상가전","프로젝터","DLP"]
["50002134","디지털/가전","영상가전","프로젝터","LCD"]
["50002135","디지털/가전","영상가전","프로젝터","LCoS/기타"]
["50002138","디지털/가전","영상가전","프로젝터주변기기","기타프로젝터주변기기"]
["50002137","디지털/가전","영상가전","프로젝터주변기기","프로젝터램프"]
["50002136","디지털/가전","영상가전","프로젝터주변기기","프로젝터스크린"]
["50001971","디지털/가전","음향가전","CD플레이어"]
["50001969","디지털/가전","음향가전","DAC"]
["50001972","디지털/가전","음향가전","MD플레이어"]
["50001974","디지털/가전","음향가전","MP3"]
["50002333","디지털/가전","음향가전","MP3/PMP액세서리","기타 MP3/PMP액세서리"]
["50002329","디지털/가전","음향가전","MP3/PMP액세서리","배터리"]
["50002330","디지털/가전","음향가전","MP3/PMP액세서리","보호필름"]
["50002331","디지털/가전","음향가전","MP3/PMP액세서리","충전기"]
["50002332","디지털/가전","음향가전","MP3/PMP액세서리","케이스"]
["50001975","디지털/가전","음향가전","PMP"]
["50001973","디지털/가전","음향가전","노래반주기"]
["50001963","디지털/가전","음향가전","데크"]
["50001970","디지털/가전","음향가전","라디오"]
["50001964","디지털/가전","음향가전","리시버/앰프"]
["50002328","디지털/가전","음향가전","마이크","마이크주변기기"]
["50002327","디지털/가전","음향가전","마이크","무선마이크"]
["50002326","디지털/가전","음향가전","마이크","일반마이크"]
["50006972","디지털/가전","음향가전","마이크","전문가용마이크"]
["50007217","디지털/가전","음향가전","마이크","확성기"]
["50001968","디지털/가전","음향가전","방송음향기기"]
["50002336","디지털/가전","음향가전","블루투스셋","블루투스동글"]
["50002334","디지털/가전","음향가전","블루투스셋","블루투스이어폰/이어셋"]
["50002335","디지털/가전","음향가전","블루투스셋","블루투스헤드폰/헤드셋"]
["50002322","디지털/가전","음향가전","스피커","블루투스스피커"]
["50002320","디지털/가전","음향가전","스피커","스피커단품"]
["50002321","디지털/가전","음향가전","스피커","스피커세트"]
["50007235","디지털/가전","음향가전","스피커","스피커액세서리"]
["50002319","디지털/가전","음향가전","오디오","분리형오디오"]
["50003154","디지털/가전","음향가전","오디오","오디오액세서리"]
["50002318","디지털/가전","음향가전","오디오","일체형오디오"]
["50002317","디지털/가전","음향가전","오디오","휴대폰도킹스피커/오디오"]
["50001966","디지털/가전","음향가전","오디오믹서"]
["50001976","디지털/가전","음향가전","이어폰"]
["50002339","디지털/가전","음향가전","이어폰/헤드폰액세서리","거치대"]
["50002342","디지털/가전","음향가전","이어폰/헤드폰액세서리","기타이어폰/헤드폰액세서리"]
["50002340","디지털/가전","음향가전","이어폰/헤드폰액세서리","연장선/케이블"]
["50002341","디지털/가전","음향가전","이어폰/헤드폰액세서리","정리기"]
["50002338","디지털/가전","음향가전","이어폰/헤드폰액세서리","캡/솜/팁"]
["50002337","디지털/가전","음향가전","이어폰/헤드폰액세서리","케이스/파우치"]
["50002325","디지털/가전","음향가전","카세트플레이어","CD카세트"]
["50002323","디지털/가전","음향가전","카세트플레이어","워크맨"]
["50002324","디지털/가전","음향가전","카세트플레이어","일반카세트"]
["50003155","디지털/가전","음향가전","카세트플레이어","카세트플레이어액세서리"]
["50001967","디지털/가전","음향가전","턴테이블"]
["50001965","디지털/가전","음향가전","튜너"]
["50001977","디지털/가전","음향가전","헤드폰"]
["50002145","디지털/가전","음향가전","홈시어터","단일형홈시어터"]
["50002146","디지털/가전","음향가전","홈시어터","사운드바시스템"]
["50002147","디지털/가전","음향가전","홈시어터","조합형홈시어터"]
["50001987","디지털/가전","이미용가전","고데기"]
["50001864","디지털/가전","이미용가전","기타이미용가전"]
["50001992","디지털/가전","이미용가전","눈썹정리기"]
["50001994","디지털/가전","이미용가전","두피케어기기"]
["50001986","디지털/가전","이미용가전","드라이어"]
["50001988","디지털/가전","이미용가전","매직기"]
["50002375","디지털/가전","이미용가전","면도기","남성용면도기"]
["50002376","디지털/가전","이미용가전","면도기","여성용면도기"]
["50002379","디지털/가전","이미용가전","면도기소모품","기타면도기소모품"]
["50002377","디지털/가전","이미용가전","면도기소모품","면도날/망"]
["50002378","디지털/가전","이미용가전","면도기소모품","세정액"]
["50001993","디지털/가전","이미용가전","손발톱정리기"]
["50001989","디지털/가전","이미용가전","에어브러시"]
["50001850","디지털/가전","이미용가전","이미용가전액세서리"]
["50001997","디지털/가전","이미용가전","이발기"]
["50001996","디지털/가전","이미용가전","제모기"]
["50001991","디지털/가전","이미용가전","코털제거기"]
["50001995","디지털/가전","이미용가전","피부케어기기"]
["50001990","디지털/가전","이미용가전","헤어롤/롤셋"]
["50007237","디지털/가전","자동차기기","내비게이션/액세서리","HUD"]
["50002733","디지털/가전","자동차기기","내비게이션/액세서리","내비게이션"]
["50002734","디지털/가전","자동차기기","내비게이션/액세서리","내비게이션액세서리"]
["50002758","디지털/가전","자동차기기","방음/방진용품","방음/방진/흡음"]
["50002759","디지털/가전","자동차기기","방음/방진용품","방청용품"]
["50002760","디지털/가전","자동차기기","방음/방진용품","실내원단"]
["50002731","디지털/가전","자동차기기","블랙박스/액세서리","블랙박스"]
["50002732","디지털/가전","자동차기기","블랙박스/액세서리","블랙박스액세서리"]
["50002766","디지털/가전","자동차기기","자동차AV용품","기타자동차AV용품"]
["50002761","디지털/가전","자동차기기","자동차AV용품","노이즈필터"]
["50002762","디지털/가전","자동차기기","자동차AV용품","레벨미터"]
["50002765","디지털/가전","자동차기기","자동차AV용품","리모컨"]
["50002763","디지털/가전","자동차기기","자동차AV용품","서랍장"]
["50002764","디지털/가전","자동차기기","자동차AV용품","전원보강용품"]
["50002744","디지털/가전","자동차기기","자동차TV/모니터","거치형"]
["50002747","디지털/가전","자동차기기","자동차TV/모니터","기타차량용TV/모니터"]
["50002743","디지털/가전","자동차기기","자동차TV/모니터","인대쉬형"]
["50002745","디지털/가전","자동차기기","자동차TV/모니터","천장형"]
["50002746","디지털/가전","자동차기기","자동차TV/모니터","헤드레스트형"]
["50002742","디지털/가전","자동차기기","전방/후방카메라","이동식카메라감지기"]
["50002741","디지털/가전","자동차기기","전방/후방카메라","전방감지기"]
["50002740","디지털/가전","자동차기기","전방/후방카메라","전방카메라"]
["50002739","디지털/가전","자동차기기","전방/후방카메라","후방감지기"]
["50002738","디지털/가전","자동차기기","전방/후방카메라","후방카메라"]
["50002748","디지털/가전","자동차기기","카오디오음향기기","스피커"]
["50002750","디지털/가전","자동차기기","카오디오음향기기","앰프"]
["50002749","디지털/가전","자동차기기","카오디오음향기기","우퍼"]
["50002751","디지털/가전","자동차기기","카오디오음향기기","음향기기기타"]
["50002752","디지털/가전","자동차기기","카팩","무선"]
["50002753","디지털/가전","자동차기기","카팩","유선"]
["50002736","디지털/가전","자동차기기","하이패스/GPS","차량용GPS"]
["50002735","디지털/가전","자동차기기","하이패스/GPS","하이패스"]
["50002737","디지털/가전","자동차기기","하이패스/GPS","하이패스액세서리"]
["50001727","디지털/가전","자동차기기","핸즈프리"]
["50002756","디지털/가전","자동차기기","헤드유닛","CD/DVD체인저"]
["50002754","디지털/가전","자동차기기","헤드유닛","CD/MP3플레이어"]
["50002755","디지털/가전","자동차기기","헤드유닛","DVD플레이어"]
["50002757","디지털/가전","자동차기기","헤드유닛","헤드유닛패키지"]
["50001616","디지털/가전","저장장치","HDD"]
["50001602","디지털/가전","저장장치","NAS"]
["50003089","디지털/가전","저장장치","ODD","CD-ROM"]
["50003088","디지털/가전","저장장치","ODD","CD/DVD콤보"]
["50003090","디지털/가전","저장장치","ODD","CD레코더"]
["50003091","디지털/가전","저장장치","ODD","DVD-ROM"]
["50003092","디지털/가전","저장장치","ODD","DVD레코더"]
["50003093","디지털/가전","저장장치","ODD","블루레이"]
["50001617","디지털/가전","저장장치","SSD"]
["50001615","디지털/가전","저장장치","USB메모리"]
["50003094","디지털/가전","저장장치","공미디어","CD미디어"]
["50003095","디지털/가전","저장장치","공미디어","DVD미디어"]
["50003097","디지털/가전","저장장치","공미디어","기타공미디어"]
["50003100","디지털/가전","저장장치","공미디어","기타공미디어액세서리"]
["50003098","디지털/가전","저장장치","공미디어","미디어보관함"]
["50003099","디지털/가전","저장장치","공미디어","미디어전용라벨"]
["50003096","디지털/가전","저장장치","공미디어","블루레이미디어"]
["50001618","디지털/가전","저장장치","기타저장장치"]
["50001600","디지털/가전","저장장치","외장HDD"]
["50001601","디지털/가전","저장장치","외장SSD"]
["50001619","디지털/가전","저장장치","저장장치액세서리"]
["50002572","디지털/가전","주방가전","가스레인지","빌트인가스레인지"]
["50002573","디지털/가전","주방가전","가스레인지","업소용가스레인지"]
["50002571","디지털/가전","주방가전","가스레인지","일반가스레인지"]
["50001855","디지털/가전","주방가전","가스레인지후드"]
["50001711","디지털/가전","주방가전","거품/반죽기"]
["50001726","디지털/가전","주방가전","기타주방가전"]
["50007234","디지털/가전","주방가전","기타주방가전부속품"]
["50002562","디지털/가전","주방가전","김치냉장고","뚜껑형"]
["50002563","디지털/가전","주방가전","김치냉장고","서랍형"]
["50002561","디지털/가전","주방가전","김치냉장고","스탠드형"]
["50002565","디지털/가전","주방가전","김치냉장고","업소용"]
["50001854","디지털/가전","주방가전","냉동고"]
["50002558","디지털/가전","주방가전","냉장고","양문형냉장고"]
["50002560","디지털/가전","주방가전","냉장고","업소용냉장고"]
["50002559","디지털/가전","주방가전","냉장고","일반형냉장고"]
["50001719","디지털/가전","주방가전","두부두유제조기"]
["50001861","디지털/가전","주방가전","믹서기"]
["50001863","디지털/가전","주방가전","분쇄기"]
["50001862","디지털/가전","주방가전","빙수기"]
["50001723","디지털/가전","주방가전","샌드위치제조기"]
["50001713","디지털/가전","주방가전","생선그릴"]
["50002582","디지털/가전","주방가전","식기세척/건조기","과일야채세척기"]
["50002581","디지털/가전","주방가전","식기세척/건조기","식기건조기"]
["50002580","디지털/가전","주방가전","식기세척/건조기","식기세척기"]
["50006968","디지털/가전","주방가전","식기세척/건조기","업소용식기건조기"]
["50006960","디지털/가전","주방가전","식기세척/건조기","업소용식기세척기"]
["50001718","디지털/가전","주방가전","식품건조기"]
["50001721","디지털/가전","주방가전","아이스크림제조기"]
["50006970","디지털/가전","주방가전","업소용거품/반죽기"]
["50006966","디지털/가전","주방가전","업소용믹서기"]
["50006967","디지털/가전","주방가전","업소용빙수기"]
["50006965","디지털/가전","주방가전","업소용음식물처리기"]
["50006969","디지털/가전","주방가전","업소용진공포장기"]
["50006961","디지털/가전","주방가전","업소용튀김기"]
["50007072","디지털/가전","주방가전","에어프라이어"]
["50006202","디지털/가전","주방가전","오븐","복합형오븐"]
["50002578","디지털/가전","주방가전","오븐","오븐레인지"]
["50002579","디지털/가전","주방가전","오븐","오븐조리기"]
["50002577","디지털/가전","주방가전","오븐","전기오븐"]
["50001724","디지털/가전","주방가전","와플제조기"]
["50001720","디지털/가전","주방가전","요구르트제조기"]
["50001707","디지털/가전","주방가전","음식물처리기"]
["50001857","디지털/가전","주방가전","인덕션"]
["50001712","디지털/가전","주방가전","전기그릴"]
["50002574","디지털/가전","주방가전","전기밥솥","압력밥솥"]
["50002576","디지털/가전","주방가전","전기밥솥","업소용밥솥"]
["50002575","디지털/가전","주방가전","전기밥솥","일반밥솥"]
["50002727","디지털/가전","주방가전","전기쿠커","슬로우쿠커"]
["50002730","디지털/가전","주방가전","전기쿠커","에그마스터"]
["50002728","디지털/가전","주방가전","전기쿠커","전기냄비"]
["50002729","디지털/가전","주방가전","전기쿠커","전기찜기"]
["50001714","디지털/가전","주방가전","전기팬"]
["50002584","디지털/가전","주방가전","전기포트","라면포트"]
["50002583","디지털/가전","주방가전","전기포트","무선포트"]
["50002585","디지털/가전","주방가전","전기포트","보온포트"]
["50002586","디지털/가전","주방가전","전기포트","유선포트"]
["50002587","디지털/가전","주방가전","전기포트","전기물통"]
["50002566","디지털/가전","주방가전","전용냉장고","반찬냉장고"]
["50006372","디지털/가전","주방가전","전용냉장고","쇼케이스"]
["50002567","디지털/가전","주방가전","전용냉장고","쌀냉장고"]
["50002568","디지털/가전","주방가전","전용냉장고","와인냉장고"]
["50006373","디지털/가전","주방가전","전용냉장고","육수냉장고"]
["50002569","디지털/가전","주방가전","전용냉장고","제빙기"]
["50002570","디지털/가전","주방가전","전용냉장고","화장품냉장고"]
["50001856","디지털/가전","주방가전","전자레인지"]
["50002723","디지털/가전","주방가전","정수기","기타정수기주변기기"]
["50002590","디지털/가전","주방가전","정수기","냉온수기"]
["50002589","디지털/가전","주방가전","정수기","냉온정수기"]
["50002588","디지털/가전","주방가전","정수기","냉정수기"]
["50002591","디지털/가전","주방가전","정수기","미니정수기"]
["50002592","디지털/가전","주방가전","정수기","정수기필터"]
["50001710","디지털/가전","주방가전","제빵기"]
["50001722","디지털/가전","주방가전","죽제조기"]
["50001860","디지털/가전","주방가전","쥬서기/녹즙기"]
["50001706","디지털/가전","주방가전","진공포장기"]
["50006962","디지털/가전","주방가전","커피머신","업소용에스프레소머신"]
["50002724","디지털/가전","주방가전","커피머신","에스프레소머신"]
["50002725","디지털/가전","주방가전","커피머신","캡슐/POD머신"]
["50007232","디지털/가전","주방가전","커피머신","커피머신부속품"]
["50001708","디지털/가전","주방가전","커피메이커"]
["50001709","디지털/가전","주방가전","커피자판기"]
["50001725","디지털/가전","주방가전","탄산수제조기"]
["50003208","디지털/가전","주방가전","토스터기","오븐토스터기"]
["50002726","디지털/가전","주방가전","토스터기","팝업토스터기"]
["50001715","디지털/가전","주방가전","튀김기"]
["50001858","디지털/가전","주방가전","하이라이트"]
["50007109","디지털/가전","주방가전","하이브리드"]
["50001859","디지털/가전","주방가전","핫플레이트"]
["50001716","디지털/가전","주방가전","핸드블렌더"]
["50001717","디지털/가전","주방가전","홍삼제조기"]
["50002927","디지털/가전","주변기기","마우스","무선마우스"]
["50002928","디지털/가전","주변기기","마우스","유선마우스"]
["50002929","디지털/가전","주변기기","마우스","트랙볼마우스"]
["50002930","디지털/가전","주변기기","마우스","펜마우스"]
["50002931","디지털/가전","주변기기","마우스","프리젠터"]
["50005482","디지털/가전","주변기기","복합기/프린터소모품","3D프린터 소모품"]
["50002951","디지털/가전","주변기기","복합기/프린터소모품","기타복합기/프린터소모품"]
["50002948","디지털/가전","주변기기","복합기/프린터소모품","잉크"]
["50002949","디지털/가전","주변기기","복합기/프린터소모품","토너"]
["50002937","디지털/가전","주변기기","복합기","잉크젯복합기"]
["50002938","디지털/가전","주변기기","복합기","컬러레이저복합기"]
["50002939","디지털/가전","주변기기","복합기","흑백레이저복합기"]
["50006840","디지털/가전","주변기기","스캐너","3D 스캐너"]
["50002952","디지털/가전","주변기기","스캐너","명함스캐너"]
["50002953","디지털/가전","주변기기","스캐너","바코드스캐너"]
["50002954","디지털/가전","주변기기","스캐너","양면스캐너"]
["50002955","디지털/가전","주변기기","스캐너","펜스캐너"]
["50002956","디지털/가전","주변기기","스캐너","평판스캐너"]
["50002957","디지털/가전","주변기기","스캐너","필름스캐너"]
["50001594","디지털/가전","주변기기","키보드/마우스세트"]
["50002932","디지털/가전","주변기기","키보드","무선키보드"]
["50002933","디지털/가전","주변기기","키보드","유선키보드"]
["50002934","디지털/가전","주변기기","키보드","키패드"]
["50002935","디지털/가전","주변기기","태블릿/액세서리","태블릿"]
["50002936","디지털/가전","주변기기","태블릿/액세서리","태블릿액세서리"]
["50005481","디지털/가전","주변기기","프린터","3D프린터"]
["50002943","디지털/가전","주변기기","프린터","도트프린터"]
["50002944","디지털/가전","주변기기","프린터","라벨프린터"]
["50002941","디지털/가전","주변기기","프린터","레이저프린터"]
["50002945","디지털/가전","주변기기","프린터","바코드프린터"]
["50002946","디지털/가전","주변기기","프린터","영수증프린터"]
["50002940","디지털/가전","주변기기","프린터","잉크젯프린터"]
["50007228","디지털/가전","주변기기","프린터","카드프린터"]
["50002942","디지털/가전","주변기기","프린터","포토프린터"]
["50002947","디지털/가전","주변기기","프린터","플로터"]
["50000265","디지털/가전","카메라/캠코더용품","DSLR카메라"]
["50002091","디지털/가전","카메라/캠코더용품","LCD용품/보호필름","LCD보호커버"]
["50002090","디지털/가전","카메라/캠코더용품","LCD용품/보호필름","LCD보호필름"]
["50002092","디지털/가전","카메라/캠코더용품","LCD용품/보호필름","LCD후드"]
["50002093","디지털/가전","카메라/캠코더용품","LCD용품/보호필름","외부보호필름/스티커"]
["50004614","디지털/가전","카메라/캠코더용품","렌즈용품","렌즈/필터케이스"]
["50004610","디지털/가전","카메라/캠코더용품","렌즈용품","렌즈어댑터"]
["50004611","디지털/가전","카메라/캠코더용품","렌즈용품","렌즈캡"]
["50004609","디지털/가전","카메라/캠코더용품","렌즈용품","렌즈필터"]
["50004612","디지털/가전","카메라/캠코더용품","렌즈용품","렌즈후드"]
["50004613","디지털/가전","카메라/캠코더용품","렌즈용품","텔레컨버터"]
["50004615","디지털/가전","카메라/캠코더용품","렌즈용품","핀홀/기타렌즈용품"]
["50004626","디지털/가전","카메라/캠코더용품","메모리카드","CF메모리"]
["50004624","디지털/가전","카메라/캠코더용품","메모리카드","MicroSD메모리"]
["50004625","디지털/가전","카메라/캠코더용품","메모리카드","SD메모리"]
["50004628","디지털/가전","카메라/캠코더용품","메모리카드","XQD메모리"]
["50004629","디지털/가전","카메라/캠코더용품","메모리카드","기타메모리"]
["50004627","디지털/가전","카메라/캠코더용품","메모리카드","메모리스틱"]
["50000266","디지털/가전","카메라/캠코더용품","미러리스디카"]
["50002075","디지털/가전","카메라/캠코더용품","삼각대/헤드","모노포드"]
["50002074","디지털/가전","카메라/캠코더용품","삼각대/헤드","삼각대"]
["50002078","디지털/가전","카메라/캠코더용품","삼각대/헤드","삼각대가방/스트랩"]
["50002079","디지털/가전","카메라/캠코더용품","삼각대/헤드","삼각대액세서리"]
["50002077","디지털/가전","카메라/캠코더용품","삼각대/헤드","플레이트/퀵슈"]
["50002076","디지털/가전","카메라/캠코더용품","삼각대/헤드","헤드"]
["50007073","디지털/가전","카메라/캠코더용품","액션캠"]
["50000267","디지털/가전","카메라/캠코더용품","일반디카"]
["50004616","디지털/가전","카메라/캠코더용품","즉석카메라","즉석카메라"]
["50004618","디지털/가전","카메라/캠코더용품","즉석카메라","즉석카메라액세서리"]
["50004617","디지털/가전","카메라/캠코더용품","즉석카메라","즉석필름"]
["50002087","디지털/가전","카메라/캠코더용품","충전기/배터리","배터리그립"]
["50002088","디지털/가전","카메라/캠코더용품","충전기/배터리","범용충전기"]
["50002089","디지털/가전","카메라/캠코더용품","충전기/배터리","범용충전지"]
["50002085","디지털/가전","카메라/캠코더용품","충전기/배터리","전용정품배터리"]
["50002083","디지털/가전","카메라/캠코더용품","충전기/배터리","전용정품충전기"]
["50002086","디지털/가전","카메라/캠코더용품","충전기/배터리","전용호환배터리"]
["50002084","디지털/가전","카메라/캠코더용품","충전기/배터리","전용호환충전기"]
["50004630","디지털/가전","카메라/캠코더용품","카드리더기","멀티리더기"]
["50004632","디지털/가전","카메라/캠코더용품","카드리더기","메모리어댑터"]
["50004631","디지털/가전","카메라/캠코더용품","카드리더기","전용리더기"]
["50002101","디지털/가전","카메라/캠코더용품","카메라/캠코더 관련용품","GPS/무선송수신"]
["50002113","디지털/가전","카메라/캠코더용품","카메라/캠코더 관련용품","기타카메라/캠코더용품"]
["50002107","디지털/가전","카메라/캠코더용품","카메라/캠코더 관련용품","라이트박스"]
["50002108","디지털/가전","카메라/캠코더용품","카메라/캠코더 관련용품","루페"]
["50002098","디지털/가전","카메라/캠코더용품","카메라/캠코더 관련용품","리모컨/릴리즈"]
["50002109","디지털/가전","카메라/캠코더용품","카메라/캠코더 관련용품","소프트버튼"]
["50002099","디지털/가전","카메라/캠코더용품","카메라/캠코더 관련용품","수평계"]
["50002103","디지털/가전","카메라/캠코더용품","카메라/캠코더 관련용품","아이피스"]
["50002112","디지털/가전","카메라/캠코더용품","카메라/캠코더 관련용품","청소용품"]
["50002100","디지털/가전","카메라/캠코더용품","카메라/캠코더 관련용품","촬영보조용품"]
["50002102","디지털/가전","카메라/캠코더용품","카메라/캠코더 관련용품","카메라/캠코더용마이크"]
["50002111","디지털/가전","카메라/캠코더용품","카메라/캠코더 관련용품","카메라보관함"]
["50002110","디지털/가전","카메라/캠코더용품","카메라/캠코더 관련용품","카메라제습용품"]
["50002104","디지털/가전","카메라/캠코더용품","카메라/캠코더 관련용품","파인더"]
["50002105","디지털/가전","카메라/캠코더용품","카메라/캠코더 관련용품","포커싱스크린"]
["50002106","디지털/가전","카메라/캠코더용품","카메라/캠코더 관련용품","핫슈커버"]
["50004638","디지털/가전","카메라/캠코더용품","카메라가방/케이스","가방용품"]
["50004637","디지털/가전","카메라/캠코더용품","카메라가방/케이스","기타카메라가방/케이스"]
["50004636","디지털/가전","카메라/캠코더용품","카메라가방/케이스","방수케이스"]
["50004635","디지털/가전","카메라/캠코더용품","카메라가방/케이스","배낭형케이스"]
["50004634","디지털/가전","카메라/캠코더용품","카메라가방/케이스","일반형가방"]
["50004633","디지털/가전","카메라/캠코더용품","카메라가방/케이스","전용케이스"]
["50004605","디지털/가전","카메라/캠코더용품","카메라렌즈","광각렌즈"]
["50004606","디지털/가전","카메라/캠코더용품","카메라렌즈","망원렌즈"]
["50004607","디지털/가전","카메라/캠코더용품","카메라렌즈","어안렌즈"]
["50004608","디지털/가전","카메라/캠코더용품","카메라렌즈","컨버젼렌즈"]
["50004604","디지털/가전","카메라/캠코더용품","카메라렌즈","표준렌즈"]
["50004639","디지털/가전","카메라/캠코더용품","카메라스트랩/그립","넥스트랩"]
["50004640","디지털/가전","카메라/캠코더용품","카메라스트랩/그립","핸드그립"]
["50002073","디지털/가전","카메라/캠코더용품","카메라스트랩/그립","핸드스트랩"]
["50000268","디지털/가전","카메라/캠코더용품","캠코더"]
["50002081","디지털/가전","카메라/캠코더용품","플래시/조명용품","라이트"]
["50002082","디지털/가전","카메라/캠코더용품","플래시/조명용품","조명/노출용품"]
["50002080","디지털/가전","카메라/캠코더용품","플래시/조명용품","플래시"]
["50002094","디지털/가전","카메라/캠코더용품","필름/관련용품","35mm필름"]
["50002097","디지털/가전","카메라/캠코더용품","필름/관련용품","기타필름/관련용품"]
["50002096","디지털/가전","카메라/캠코더용품","필름/관련용품","암실/현상용품"]
["50002095","디지털/가전","카메라/캠코더용품","필름/관련용품","중형필름"]
["50004619","디지털/가전","카메라/캠코더용품","필름카메라","SLR카메라"]
["50004621","디지털/가전","카메라/캠코더용품","필름카메라","로모카메라"]
["50004623","디지털/가전","카메라/캠코더용품","필름카메라","일회용카메라"]
["50004620","디지털/가전","카메라/캠코더용품","필름카메라","자동카메라"]
["50004622","디지털/가전","카메라/캠코더용품","필름카메라","토이카메라"]
["50000152","디지털/가전","태블릿PC"]
["50001589","디지털/가전","태블릿PC액세서리","스탠드/Dock"]
["50001588","디지털/가전","태블릿PC액세서리","케이스/파우치"]
["50002925","디지털/가전","태블릿PC액세서리","태블릿PC보호필름","액정보호필름"]
["50002926","디지털/가전","태블릿PC액세서리","태블릿PC보호필름","전신보호필름"]
["50007236","디지털/가전","태블릿PC액세서리","터치펜/기타"]
["50001732","디지털/가전","학습기기","보이스레코더"]
["50001730","디지털/가전","학습기기","어학학습기"]
["50001728","디지털/가전","학습기기","전자사전"]
["50001729","디지털/가전","학습기기","전자책"]
["50002767","디지털/가전","학습기기","학습기기액세서리","보호필름/키스킨"]
["50002769","디지털/가전","학습기기","학습기기액세서리","충전기/케이블"]
["50002768","디지털/가전","학습기기","학습기기액세서리","케이스/파우치"]
["50001731","디지털/가전","학습기기","학습보조기"]
["50000249","디지털/가전","휴대폰","공기계/중고폰"]
["50001519","디지털/가전","휴대폰","자급제폰"]
["50000250","디지털/가전","휴대폰","해외출시폰"]
["50000264","디지털/가전","휴대폰액세서리","기타휴대폰액세서리"]
["50006370","디지털/가전","휴대폰액세서리","셀카봉"]
["50000262","디지털/가전","휴대폰액세서리","웨어러블 디바이스"]
["50006371","디지털/가전","휴대폰액세서리","웨어러블 디바이스 액세서리"]
["50006369","디지털/가전","휴대폰액세서리","짐벌"]
["50000259","디지털/가전","휴대폰액세서리","핸드셋"]
["50000261","디지털/가전","휴대폰액세서리","휴대폰DMB수신기"]
["50000255","디지털/가전","휴대폰액세서리","휴대폰거치대"]
["50000254","디지털/가전","휴대폰액세서리","휴대폰렌즈"]
["50004603","디지털/가전","휴대폰액세서리","휴대폰배터리","보조배터리"]
["50004602","디지털/가전","휴대폰액세서리","휴대폰배터리","전용배터리"]
["50004595","디지털/가전","휴대폰액세서리","휴대폰보호필름","액정보호필름"]
["50004599","디지털/가전","휴대폰액세서리","휴대폰보호필름","액정코팅제"]
["50004596","디지털/가전","휴대폰액세서리","휴대폰보호필름","전신보호필름"]
["50004598","디지털/가전","휴대폰액세서리","휴대폰보호필름","홈버튼스티커"]
["50004597","디지털/가전","휴대폰액세서리","휴대폰보호필름","휴대폰스킨"]
["50000257","디지털/가전","휴대폰액세서리","휴대폰이어캡"]
["50000253","디지털/가전","휴대폰액세서리","휴대폰젠더"]
["50000256","디지털/가전","휴대폰액세서리","휴대폰줄"]
["50004600","디지털/가전","휴대폰액세서리","휴대폰충전기","충전기"]
["50004601","디지털/가전","휴대폰액세서리","휴대폰충전기","크래들"]
["50000252","디지털/가전","휴대폰액세서리","휴대폰케이블"]
["50004590","디지털/가전","휴대폰액세서리","휴대폰케이스","가죽케이스"]
["50004594","디지털/가전","휴대폰액세서리","휴대폰케이스","기타케이스"]
["50004593","디지털/가전","휴대폰액세서리","휴대폰케이스","메탈케이스"]
["50004591","디지털/가전","휴대폰액세서리","휴대폰케이스","실리콘케이스"]
["50006839","디지털/가전","휴대폰액세서리","휴대폰케이스","암밴드"]
["50004592","디지털/가전","휴대폰액세서리","휴대폰케이스","플라스틱케이스"]
["50000263","디지털/가전","휴대폰액세서리","휴대폰쿨링패드"]
["50000241","생활/건강","DVD","교양/다큐멘터리"]
["50000240","생활/건강","DVD","교육"]
["50004513","생활/건강","DVD","드라마","국내TV드라마"]
["50004514","생활/건강","DVD","드라마","해외TV드라마"]
["50000237","생활/건강","DVD","뮤직비디오"]
["50000236","생활/건강","DVD","애니메이션"]
["50004511","생활/건강","DVD","영화","국내영화"]
["50004512","생활/건강","DVD","영화","해외영화"]
["50000242","생활/건강","DVD","유아/어린이"]
["50000239","생활/건강","DVD","종교"]
["50000238","생활/건강","DVD","취미/스포츠"]
["50002052","생활/건강","건강관리용품","건강목걸이"]
["50002053","생활/건강","건강관리용품","건강팔찌"]
["50002054","생활/건강","건강관리용품","금연용품"]
["50002063","생활/건강","건강관리용품","기타건강관리용품"]
["50002055","생활/건강","건강관리용품","뜸/뜸기구"]
["50002057","생활/건강","건강관리용품","먼지차단마스크"]
["50006958","생활/건강","건강관리용품","소음방지귀마개"]
["50002058","생활/건강","건강관리용품","수액시트"]
["50002056","생활/건강","건강관리용품","수지침"]
["50006130","생활/건강","건강관리용품","전자담배"]
["50006131","생활/건강","건강관리용품","전자담배 액세서리"]
["50002059","생활/건강","건강관리용품","지압기"]
["50002060","생활/건강","건강관리용품","코건강용품"]
["50002061","생활/건강","건강관리용품","코클리너"]
["50002062","생활/건강","건강관리용품","파라핀용품"]
["50002045","생활/건강","건강측정용품","만보계"]
["50002046","생활/건강","건강측정용품","신장계"]
["50002050","생활/건강","건강측정용품","심박계"]
["50002051","생활/건강","건강측정용품","청진기"]
["50002047","생활/건강","건강측정용품","체온계"]
["50002312","생활/건강","건강측정용품","체중계","디지털체중계"]
["50002313","생활/건강","건강측정용품","체중계","아날로그체중계"]
["50002049","생활/건강","건강측정용품","혈압계"]
["50003282","생활/건강","공구","목공공구","대패"]
["50003283","생활/건강","공구","목공공구","샌더"]
["50003285","생활/건강","공구","목공공구","조각기"]
["50003286","생활/건강","공구","목공공구","톱"]
["50003284","생활/건강","공구","목공공구","트리머"]
["50003287","생활/건강","공구","목공공구","홀쏘"]
["50003288","생활/건강","공구","설비공구","배관용품"]
["50003289","생활/건강","공구","설비공구","컷터기"]
["50003358","생활/건강","공구","설비공구","코어드릴"]
["50003359","생활/건강","공구","설비공구","파이프머신"]
["50003290","생활/건강","공구","설비공구","확관기"]
["50003443","생활/건강","공구","소형기계","기타소형기계"]
["50003441","생활/건강","공구","소형기계","모터"]
["50003442","생활/건강","공구","소형기계","발전기"]
["50003440","생활/건강","공구","소형기계","펌프"]
["50003387","생활/건강","공구","수작업공구","공구세트"]
["50003388","생활/건강","공구","수작업공구","공구함"]
["50003404","생활/건강","공구","수작업공구","기타수작업공구"]
["50003389","생활/건강","공구","수작업공구","니퍼"]
["50003390","생활/건강","공구","수작업공구","도끼"]
["50003391","생활/건강","공구","수작업공구","드라이버"]
["50003392","생활/건강","공구","수작업공구","렌치"]
["50003393","생활/건강","공구","수작업공구","망치"]
["50003394","생활/건강","공구","수작업공구","몽키"]
["50003401","생활/건강","공구","수작업공구","바이스"]
["50003395","생활/건강","공구","수작업공구","복스"]
["50003396","생활/건강","공구","수작업공구","스패너"]
["50003403","생활/건강","공구","수작업공구","작업대"]
["50003397","생활/건강","공구","수작업공구","타카"]
["50003398","생활/건강","공구","수작업공구","타카핀"]
["50003399","생활/건강","공구","수작업공구","펜치"]
["50003400","생활/건강","공구","수작업공구","플라이어"]
["50003402","생활/건강","공구","수작업공구","핀셋"]
["50003454","생활/건강","공구","안전용품","기타안전용품"]
["50003445","생활/건강","공구","안전용품","마스크"]
["50003444","생활/건강","공구","안전용품","보안경"]
["50003453","생활/건강","공구","안전용품","비상/구난용품"]
["50003446","생활/건강","공구","안전용품","소방용품"]
["50003447","생활/건강","공구","안전용품","소화기"]
["50003448","생활/건강","공구","안전용품","안전/작업복"]
["50003449","생활/건강","공구","안전용품","안전모"]
["50003450","생활/건강","공구","안전용품","안전장갑"]
["50003451","생활/건강","공구","안전용품","안전표시/신호"]
["50003386","생활/건강","공구","에어공구","기타에어공구"]
["50003379","생활/건강","공구","에어공구","에어건"]
["50003380","생활/건강","공구","에어공구","에어렌치"]
["50003381","생활/건강","공구","에어공구","에어스프레이건"]
["50003382","생활/건강","공구","에어공구","에어타카"]
["50003383","생활/건강","공구","에어공구","에어호스/게이지"]
["50003385","생활/건강","공구","에어공구","유압공구"]
["50003384","생활/건강","공구","에어공구","컴프레서"]
["50003367","생활/건강","공구","예초기","가스예초기"]
["50003368","생활/건강","공구","예초기","엔진예초기"]
["50003370","생활/건강","공구","예초기","예초기부품"]
["50003369","생활/건강","공구","예초기","충전/전기예초기"]
["50003360","생활/건강","공구","용접공구","용접기"]
["50003361","생활/건강","공구","용접공구","용접봉"]
["50003362","생활/건강","공구","용접공구","용접용품"]
["50003363","생활/건강","공구","용접공구","인두기"]
["50003364","생활/건강","공구","용접공구","인두용품"]
["50003365","생활/건강","공구","용접공구","절단기"]
["50003366","생활/건강","공구","용접공구","해빙기"]
["50003540","생활/건강","공구","운반용품","사다리"]
["50006195","생활/건강","공구","운반용품","지게차"]
["50003541","생활/건강","공구","운반용품","핸드카트/운반기"]
["50003378","생활/건강","공구","원예공구","기타원예공구"]
["50006194","생활/건강","공구","원예공구","농기계"]
["50003371","생활/건강","공구","원예공구","농기구"]
["50003373","생활/건강","공구","원예공구","비료살포기"]
["50003377","생활/건강","공구","원예공구","스프링클러"]
["50003372","생활/건강","공구","원예공구","압축분무기"]
["50003374","생활/건강","공구","원예공구","원예가위"]
["50003375","생활/건강","공구","원예공구","잔디깎이"]
["50003376","생활/건강","공구","원예공구","호스/호스카트"]
["50003459","생활/건강","공구","전기용품","기타 전기용품"]
["50003455","생활/건강","공구","전기용품","멀티탭"]
["50003456","생활/건강","공구","전기용품","일회용 건전지"]
["50003457","생활/건강","공구","전기용품","일회용 리튬건전지"]
["50005301","생활/건강","공구","전기용품","전선/케이블"]
["50003458","생활/건강","공구","전기용품","충전용 건전지/배터리"]
["50003409","생활/건강","공구","전동공구","광택기"]
["50003417","생활/건강","공구","전동공구","기타전동공구"]
["50003405","생활/건강","공구","전동공구","드릴세트"]
["50003406","생활/건강","공구","전동공구","비트세트"]
["50003410","생활/건강","공구","전동공구","송풍기"]
["50003411","생활/건강","공구","전동공구","열풍기"]
["50003412","생활/건강","공구","전동공구","전동공구액세서리"]
["50003413","생활/건강","공구","전동공구","전동드릴"]
["50003408","생활/건강","공구","전동공구","청소기"]
["50003414","생활/건강","공구","전동공구","충전드릴"]
["50003416","생활/건강","공구","전동공구","컷쏘"]
["50003415","생활/건강","공구","전동공구","해머드릴"]
["50003418","생활/건강","공구","절삭공구","각도/고속절단기"]
["50003419","생활/건강","공구","절삭공구","그라인더"]
["50003420","생활/건강","공구","절삭공구","그라인더날"]
["50003421","생활/건강","공구","절삭공구","다용도조각기"]
["50003422","생활/건강","공구","절삭공구","루터"]
["50003423","생활/건강","공구","절삭공구","루터날"]
["50003424","생활/건강","공구","절삭공구","직소기"]
["50003425","생활/건강","공구","절삭공구","직소기날"]
["50003460","생활/건강","공구","접착용품","글루건"]
["50003461","생활/건강","공구","접착용품","세정제/클리너"]
["50003462","생활/건강","공구","접착용품","스프레이"]
["50006193","생활/건강","공구","접착용품","시멘트/몰탈"]
["50003464","생활/건강","공구","접착용품","실리콘"]
["50003463","생활/건강","공구","접착용품","윤활유"]
["50003465","생활/건강","공구","접착용품","접착제"]
["50003466","생활/건강","공구","체결용품","나사"]
["50003467","생활/건강","공구","체결용품","리벳"]
["50003468","생활/건강","공구","체결용품","못"]
["50003469","생활/건강","공구","체결용품","볼트/너트"]
["50003623","생활/건강","공구","체결용품","스프링"]
["50003528","생활/건강","공구","체결용품","핀"]
["50003529","생활/건강","공구","체결용품","홀딩클램프"]
["50003439","생활/건강","공구","측정공구","기타측정기"]
["50003426","생활/건강","공구","측정공구","레이저측정기"]
["50003434","생활/건강","공구","측정공구","방사능측정기"]
["50003438","생활/건강","공구","측정공구","산소포화도측정기"]
["50003427","생활/건강","공구","측정공구","산업용저울"]
["50003428","생활/건강","공구","측정공구","수평기"]
["50003430","생활/건강","공구","측정공구","염도계"]
["50003429","생활/건강","공구","측정공구","온도계/습도계"]
["50003431","생활/건강","공구","측정공구","워킹자/줄자"]
["50003436","생활/건강","공구","측정공구","음주측정기"]
["50003435","생활/건강","공구","측정공구","조도계"]
["50003432","생활/건강","공구","측정공구","캘리퍼스"]
["50003433","생활/건강","공구","측정공구","테스트기"]
["50003437","생활/건강","공구","측정공구","흡연측정기"]
["50003532","생활/건강","공구","페인트","락카/스프레이페인트"]
["50003530","생활/건강","공구","페인트","수성페인트"]
["50003531","생활/건강","공구","페인트","유성페인트"]
["50003539","생활/건강","공구","페인트용품","기타페인트용품"]
["50003538","생활/건강","공구","페인트용품","롤러"]
["50003534","생활/건강","공구","페인트용품","바니시"]
["50006192","생활/건강","공구","페인트용품","방수제"]
["50003537","생활/건강","공구","페인트용품","붓"]
["50003535","생활/건강","공구","페인트용품","스테인"]
["50003536","생활/건강","공구","페인트용품","에폭시"]
["50003533","생활/건강","공구","페인트용품","젯소"]
["50003547","생활/건강","공구","포장용품","리본"]
["50003542","생활/건강","공구","포장용품","밴딩기"]
["50006878","생활/건강","공구","포장용품","선물박스"]
["50003546","생활/건강","공구","포장용품","커터"]
["50003543","생활/건강","공구","포장용품","택배박스"]
["50003544","생활/건강","공구","포장용품","택배봉투"]
["50003545","생활/건강","공구","포장용품","테이프"]
["50003548","생활/건강","공구","포장용품","포장지"]
["50000386","생활/건강","관상어용품","모터"]
["50000380","생활/건강","관상어용품","사료"]
["50000381","생활/건강","관상어용품","수조장식용품"]
["50000382","생활/건강","관상어용품","수조청소용품"]
["50000383","생활/건강","관상어용품","수족관/어항"]
["50000384","생활/건강","관상어용품","수초"]
["50000385","생활/건강","관상어용품","에어/기포"]
["50000389","생활/건강","관상어용품","여과기/여과제"]
["50000388","생활/건강","관상어용품","조명"]
["50000387","생활/건강","관상어용품","히터"]
["50001933","생활/건강","구강위생용품","구강청정제/가글"]
["50001941","생활/건강","구강위생용품","마우스피스"]
["50001943","생활/건강","구강위생용품","치석제거기"]
["50001935","생활/건강","구강위생용품","치실/치간칫솔"]
["50001936","생활/건강","구강위생용품","치아미백제"]
["50001937","생활/건강","구강위생용품","치약"]
["50001938","생활/건강","구강위생용품","칫솔"]
["50001939","생활/건강","구강위생용품","칫솔치약세트"]
["50001942","생활/건강","구강위생용품","틀니관리용품"]
["50001940","생활/건강","구강위생용품","혀클리너"]
["50001931","생활/건강","냉온/찜질용품","찜질기"]
["50001932","생활/건강","냉온/찜질용품","찜질팩"]
["50001944","생활/건강","눈건강용품","기타렌즈용품"]
["50001817","생활/건강","눈건강용품","렌즈세정액"]
["50001818","생활/건강","눈건강용품","렌즈세척기"]
["50001819","생활/건강","눈건강용품","안대"]
["50002064","생활/건강","당뇨관리용품","침/바늘"]
["50002066","생활/건강","당뇨관리용품","혈당계"]
["50002065","생활/건강","당뇨관리용품","혈당측정지"]
["50003613","생활/건강","문구/사무용품","기타문구/사무용품","도장"]
["50003722","생활/건강","문구/사무용품","기타문구/사무용품","명찰"]
["50003721","생활/건강","문구/사무용품","기타문구/사무용품","명패"]
["50006191","생활/건강","문구/사무용품","기타문구/사무용품","명함/전단지제작"]
["50003726","생활/건강","문구/사무용품","기타문구/사무용품","명함꽂이"]
["50003615","생활/건강","문구/사무용품","기타문구/사무용품","문구세트"]
["50003730","생활/건강","문구/사무용품","기타문구/사무용품","문서보관함/서류함"]
["50003725","생활/건강","문구/사무용품","기타문구/사무용품","바인더"]
["50003616","생활/건강","문구/사무용품","기타문구/사무용품","사무용가위"]
["50003617","생활/건강","문구/사무용품","기타문구/사무용품","사무용칼"]
["50003724","생활/건강","문구/사무용품","기타문구/사무용품","상패"]
["50003731","생활/건강","문구/사무용품","기타문구/사무용품","서류꽂이/서류받침대"]
["50003727","생활/건강","문구/사무용품","기타문구/사무용품","서류철/결재판"]
["50003618","생활/건강","문구/사무용품","기타문구/사무용품","수정용품"]
["50003619","생활/건강","문구/사무용품","기타문구/사무용품","스테이플러/침"]
["50003614","생활/건강","문구/사무용품","기타문구/사무용품","인주"]
["50003620","생활/건강","문구/사무용품","기타문구/사무용품","자"]
["50003621","생활/건강","문구/사무용품","기타문구/사무용품","자석"]
["50003622","생활/건강","문구/사무용품","기타문구/사무용품","지구본"]
["50003716","생활/건강","문구/사무용품","기타문구/사무용품","지우개"]
["50003717","생활/건강","문구/사무용품","기타문구/사무용품","집게"]
["50003718","생활/건강","문구/사무용품","기타문구/사무용품","클립/핀"]
["50003728","생활/건강","문구/사무용품","기타문구/사무용품","파일"]
["50003729","생활/건강","문구/사무용품","기타문구/사무용품","파일속지"]
["50003719","생활/건강","문구/사무용품","기타문구/사무용품","펀치"]
["50003720","생활/건강","문구/사무용품","기타문구/사무용품","풀/접착제"]
["50003723","생활/건강","문구/사무용품","기타문구/사무용품","현수막"]
["50003556","생활/건강","문구/사무용품","노트/수첩","노트"]
["50003557","생활/건강","문구/사무용품","노트/수첩","노트패드"]
["50003560","생활/건강","문구/사무용품","노트/수첩","메모지"]
["50003559","생활/건강","문구/사무용품","노트/수첩","수첩"]
["50003558","생활/건강","문구/사무용품","노트/수첩","점착식메모지"]
["50003561","생활/건강","문구/사무용품","노트/수첩","체크리스트"]
["50003555","생활/건강","문구/사무용품","다이어리/플래너","가계부"]
["50003550","생활/건강","문구/사무용품","다이어리/플래너","다이어리"]
["50003554","생활/건강","문구/사무용품","다이어리/플래너","데코용품"]
["50003552","생활/건강","문구/사무용품","다이어리/플래너","바인더"]
["50003553","생활/건강","문구/사무용품","다이어리/플래너","속지"]
["50003549","생활/건강","문구/사무용품","다이어리/플래너","스케줄러/플래너"]
["50003551","생활/건강","문구/사무용품","다이어리/플래너","캘린더/달력"]
["50006877","생활/건강","문구/사무용품","데스크용품","데스크정리함"]
["50003592","생활/건강","문구/사무용품","데스크용품","데스크패드"]
["50003593","생활/건강","문구/사무용품","데스크용품","독서대"]
["50003598","생활/건강","문구/사무용품","데스크용품","메모꽂이"]
["50003595","생활/건강","문구/사무용품","데스크용품","문진"]
["50003594","생활/건강","문구/사무용품","데스크용품","북엔드"]
["50003597","생활/건강","문구/사무용품","데스크용품","연필꽂이"]
["50003596","생활/건강","문구/사무용품","데스크용품","지칼"]
["50003585","생활/건강","문구/사무용품","보드/칠판","네온보드"]
["50003586","생활/건강","문구/사무용품","보드/칠판","메모판/미니보드"]
["50003587","생활/건강","문구/사무용품","보드/칠판","블랙보드"]
["50003588","생활/건강","문구/사무용품","보드/칠판","전자칠판"]
["50003589","생활/건강","문구/사무용품","보드/칠판","칠판"]
["50003590","생활/건강","문구/사무용품","보드/칠판","코르크/게시판"]
["50003591","생활/건강","문구/사무용품","보드/칠판","화이트보드"]
["50003741","생활/건강","문구/사무용품","사무기기","OHP"]
["50005361","생활/건강","문구/사무용품","사무기기","RFID"]
["50003742","생활/건강","문구/사무용품","사무기기","공학용계산기"]
["50003744","생활/건강","문구/사무용품","사무기기","금고"]
["50003745","생활/건강","문구/사무용품","사무기기","금전등록기"]
["50003746","생활/건강","문구/사무용품","사무기기","동전계수기"]
["50003747","생활/건강","문구/사무용품","사무기기","디지털복사기"]
["50003748","생활/건강","문구/사무용품","사무기기","문서세단기"]
["50003749","생활/건강","문구/사무용품","사무기기","수표발행기"]
["50003750","생활/건강","문구/사무용품","사무기기","실물화상기"]
["50003743","생활/건강","문구/사무용품","사무기기","일반계산기"]
["50003751","생활/건강","문구/사무용품","사무기기","재단기"]
["50003752","생활/건강","문구/사무용품","사무기기","전자타자기"]
["50003753","생활/건강","문구/사무용품","사무기기","접지기"]
["50003754","생활/건강","문구/사무용품","사무기기","제본기"]
["50003755","생활/건강","문구/사무용품","사무기기","지폐계수기"]
["50003756","생활/건강","문구/사무용품","사무기기","천공기"]
["50003757","생활/건강","문구/사무용품","사무기기","출퇴근기록기"]
["50003758","생활/건강","문구/사무용품","사무기기","코팅기"]
["50003759","생활/건강","문구/사무용품","사무기기","팩스"]
["50003580","생활/건강","문구/사무용품","앨범","미니앨범"]
["50003581","생활/건강","문구/사무용품","앨범","접착식앨범"]
["50003582","생활/건강","문구/사무용품","앨범","포켓식앨범"]
["50003583","생활/건강","문구/사무용품","앨범","포토박스"]
["50003584","생활/건강","문구/사무용품","앨범","폴라로이드앨범"]
["50003733","생활/건강","문구/사무용품","용지","견출지"]
["50003740","생활/건강","문구/사무용품","용지","기타용지"]
["50003734","생활/건강","문구/사무용품","용지","라벨지"]
["50003732","생활/건강","문구/사무용품","용지","복사지"]
["50003735","생활/건강","문구/사무용품","용지","양식/서식지"]
["50003736","생활/건강","문구/사무용품","용지","인화지/포토용지"]
["50003737","생활/건강","문구/사무용품","용지","컬러복사지"]
["50003738","생활/건강","문구/사무용품","용지","코팅지/필름지"]
["50003739","생활/건강","문구/사무용품","용지","팩스용지/전산용지"]
["50003774","생활/건강","문구/사무용품","이벤트/파티용품","가랜드"]
["50003766","생활/건강","문구/사무용품","이벤트/파티용품","가면/머리띠"]
["50003773","생활/건강","문구/사무용품","이벤트/파티용품","고깔모자"]
["50003767","생활/건강","문구/사무용품","이벤트/파티용품","데코용품"]
["50003772","생활/건강","문구/사무용품","이벤트/파티용품","스프레이"]
["50003770","생활/건강","문구/사무용품","이벤트/파티용품","식기/테이블용품"]
["50003768","생활/건강","문구/사무용품","이벤트/파티용품","야광용품"]
["50003771","생활/건강","문구/사무용품","이벤트/파티용품","폭죽/불꽃놀이"]
["50003775","생활/건강","문구/사무용품","이벤트/파티용품","풍선/풍선용품"]
["50003765","생활/건강","문구/사무용품","제도용품","기타제도용품"]
["50003761","생활/건강","문구/사무용품","제도용품","제도용자"]
["50003762","생활/건강","문구/사무용품","제도용품","제도용지"]
["50003763","생활/건강","문구/사무용품","제도용품","제도용필기구"]
["50003764","생활/건강","문구/사무용품","제도용품","제도판"]
["50003599","생활/건강","문구/사무용품","팬시용품","다이모"]
["50006190","생활/건강","문구/사무용품","팬시용품","모바일초대장"]
["50003605","생활/건강","문구/사무용품","팬시용품","모양펀치"]
["50003611","생활/건강","문구/사무용품","팬시용품","봉투"]
["50003602","생활/건강","문구/사무용품","팬시용품","북마크"]
["50003603","생활/건강","문구/사무용품","팬시용품","스탬프"]
["50003601","생활/건강","문구/사무용품","팬시용품","스티커"]
["50003604","생활/건강","문구/사무용품","팬시용품","엠보서"]
["50003610","생활/건강","문구/사무용품","팬시용품","엽서"]
["50003606","생활/건강","문구/사무용품","팬시용품","저금통"]
["50003612","생활/건강","문구/사무용품","팬시용품","청첩장"]
["50003608","생활/건강","문구/사무용품","팬시용품","카드"]
["50003600","생활/건강","문구/사무용품","팬시용품","테이프"]
["50003607","생활/건강","문구/사무용품","팬시용품","펜슬케이스"]
["50003609","생활/건강","문구/사무용품","팬시용품","편지지"]
["50003579","생활/건강","문구/사무용품","필기도구","기타필기도구"]
["50003566","생활/건강","문구/사무용품","필기도구","네임펜"]
["50003562","생활/건강","문구/사무용품","필기도구","데코펜"]
["50003563","생활/건강","문구/사무용품","필기도구","리필심"]
["50003564","생활/건강","문구/사무용품","필기도구","만년필"]
["50003565","생활/건강","문구/사무용품","필기도구","매직"]
["50003567","생활/건강","문구/사무용품","필기도구","보드마카"]
["50003568","생활/건강","문구/사무용품","필기도구","볼펜"]
["50003569","생활/건강","문구/사무용품","필기도구","분필"]
["50003570","생활/건강","문구/사무용품","필기도구","사인펜"]
["50003571","생활/건강","문구/사무용품","필기도구","샤프"]
["50003572","생활/건강","문구/사무용품","필기도구","샤프심"]
["50003573","생활/건강","문구/사무용품","필기도구","연필"]
["50003574","생활/건강","문구/사무용품","필기도구","연필깎이"]
["50003575","생활/건강","문구/사무용품","필기도구","잉크"]
["50003576","생활/건강","문구/사무용품","필기도구","펜"]
["50003577","생활/건강","문구/사무용품","필기도구","필기구세트"]
["50003578","생활/건강","문구/사무용품","필기도구","형광펜"]
["50001926","생활/건강","물리치료/저주파용품","디스크/관절용품"]
["50001928","생활/건강","물리치료/저주파용품","물리치료용품"]
["50001927","생활/건강","물리치료/저주파용품","부항기"]
["50001922","생활/건강","물리치료/저주파용품","저주파안마기"]
["50001923","생활/건강","물리치료/저주파용품","저주파자극기"]
["50001924","생활/건강","물리치료/저주파용품","저주파패드"]
["50001925","생활/건강","물리치료/저주파용품","적외선조사기"]
["50006637","생활/건강","반려동물","강아지 간식","개껌"]
["50006641","생활/건강","반려동물","강아지 간식","동결/건조간식"]
["50006640","생활/건강","반려동물","강아지 간식","비스킷/시리얼/쿠키"]
["50006638","생활/건강","반려동물","강아지 간식","사사미"]
["50006639","생활/건강","반려동물","강아지 간식","수제간식"]
["50006645","생활/건강","반려동물","강아지 간식","음료"]
["50006643","생활/건강","반려동물","강아지 간식","저키/스틱"]
["50006642","생활/건강","반려동물","강아지 간식","캔/파우치"]
["50006644","생활/건강","반려동물","강아지 간식","통살/소시지"]
["50006656","생활/건강","반려동물","강아지 건강/관리용품","강아지유산균"]
["50006660","생활/건강","반려동물","강아지 건강/관리용품","구강청결제"]
["50006661","생활/건강","반려동물","강아지 건강/관리용품","구강티슈"]
["50006657","생활/건강","반려동물","강아지 건강/관리용품","눈/귀 관리용품"]
["50006655","생활/건강","반려동물","강아지 건강/관리용품","영양제"]
["50006658","생활/건강","반려동물","강아지 건강/관리용품","치약"]
["50006659","생활/건강","반려동물","강아지 건강/관리용품","칫솔"]
["50006672","생활/건강","반려동물","강아지 계단/스텝"]
["50006671","생활/건강","반려동물","강아지 미용/목욕","기타 미용/목욕용품"]
["50006669","생활/건강","반려동물","강아지 미용/목욕","드라이기"]
["50006667","생활/건강","반려동물","강아지 미용/목욕","미용가위"]
["50006668","생활/건강","반려동물","강아지 미용/목욕","발톱/발 관리"]
["50006665","생활/건강","반려동물","강아지 미용/목욕","브러시/빗"]
["50006663","생활/건강","반려동물","강아지 미용/목욕","샴푸/린스/비누"]
["50006664","생활/건강","반려동물","강아지 미용/목욕","에센스/향수"]
["50006666","생활/건강","반려동물","강아지 미용/목욕","이발기"]
["50006670","생활/건강","반려동물","강아지 미용/목욕","타월/가운"]
["50006649","생활/건강","반려동물","강아지 배변용품","기저귀/팬티"]
["50006651","생활/건강","반려동물","강아지 배변용품","물티슈/크리너"]
["50006653","생활/건강","반려동물","강아지 배변용품","배변봉투/집게"]
["50006652","생활/건강","반려동물","강아지 배변용품","배변유도제"]
["50006648","생활/건강","반려동물","강아지 배변용품","배변판"]
["50006647","생활/건강","반려동물","강아지 배변용품","배변패드"]
["50006650","생활/건강","반려동물","강아지 배변용품","탈취제/소독제"]
["50006631","생활/건강","반려동물","강아지 사료","건식사료"]
["50006635","생활/건강","반려동물","강아지 사료","분유/우유"]
["50006632","생활/건강","반려동물","강아지 사료","소프트사료"]
["50006634","생활/건강","반려동물","강아지 사료","수제사료"]
["50006633","생활/건강","반려동물","강아지 사료","캔사료"]
["50006676","생활/건강","반려동물","강아지 장난감/훈련","공/원반"]
["50006674","생활/건강","반려동물","강아지 장난감/훈련","노즈워크"]
["50006675","생활/건강","반려동물","강아지 장난감/훈련","장난감/토이"]
["50006677","생활/건강","반려동물","강아지 장난감/훈련","훈련용품"]
["50000230","생활/건강","반려동물","고슴도치용품"]
["50006688","생활/건강","반려동물","고양이 간식","동결/건조간식"]
["50006691","생활/건강","반려동물","고양이 간식","비스킷/시리얼/쿠키"]
["50006687","생활/건강","반려동물","고양이 간식","사사미"]
["50006686","생활/건강","반려동물","고양이 간식","수제간식"]
["50006693","생활/건강","반려동물","고양이 간식","음료"]
["50006689","생활/건강","반려동물","고양이 간식","저키/스틱"]
["50006685","생활/건강","반려동물","고양이 간식","캔/파우치"]
["50006692","생활/건강","반려동물","고양이 간식","캣닢/캣그라스"]
["50006690","생활/건강","반려동물","고양이 간식","통살/소시지"]
["50006706","생활/건강","반려동물","고양이 건강/관리용품","고양이유산균"]
["50006707","생활/건강","반려동물","고양이 건강/관리용품","구강관리용품"]
["50006705","생활/건강","반려동물","고양이 건강/관리용품","영양제"]
["50006714","생활/건강","반려동물","고양이 미용/목욕","드라이기"]
["50006716","생활/건강","반려동물","고양이 미용/목욕","물티슈/크리너"]
["50006713","생활/건강","반려동물","고양이 미용/목욕","발톱/발 관리"]
["50006711","생활/건강","반려동물","고양이 미용/목욕","브러시/빗"]
["50006709","생활/건강","반려동물","고양이 미용/목욕","샴푸/린스/비누"]
["50006710","생활/건강","반려동물","고양이 미용/목욕","에센스/향수"]
["50006712","생활/건강","반려동물","고양이 미용/목욕","이발기/가위"]
["50006715","생활/건강","반려동물","고양이 미용/목욕","타월/가운"]
["50006699","생활/건강","반려동물","고양이 배변용품","거름망형화장실"]
["50006702","생활/건강","반려동물","고양이 배변용품","매트/발판"]
["50006700","생활/건강","반려동물","고양이 배변용품","배변패드"]
["50006703","생활/건강","반려동물","고양이 배변용품","분변통/모래삽"]
["50006695","생활/건강","반려동물","고양이 배변용품","응고형모래"]
["50006701","생활/건강","반려동물","고양이 배변용품","탈취제/소독제"]
["50006698","생활/건강","반려동물","고양이 배변용품","평판형화장실"]
["50006697","생활/건강","반려동물","고양이 배변용품","후드형화장실"]
["50006696","생활/건강","반려동물","고양이 배변용품","흡수형모래"]
["50006679","생활/건강","반려동물","고양이 사료","건식사료"]
["50006683","생활/건강","반려동물","고양이 사료","분유/우유"]
["50006682","생활/건강","반려동물","고양이 사료","수제사료"]
["50006680","생활/건강","반려동물","고양이 사료","캔사료"]
["50006681","생활/건강","반려동물","고양이 사료","파우치사료"]
["50006719","생활/건강","반려동물","고양이 장난감","낚시/막대"]
["50006922","생활/건강","반려동물","고양이 장난감","레이저포인터"]
["50006723","생활/건강","반려동물","고양이 장난감","스크래쳐"]
["50006722","생활/건강","반려동물","고양이 장난감","자동장난감"]
["50006721","생활/건강","반려동물","고양이 장난감","터널/주머니"]
["50006720","생활/건강","반려동물","고양이 장난감","토이/쿠션/공"]
["50006717","생활/건강","반려동물","고양이 캣타워"]
["50000233","생활/건강","반려동물","기타반려동물용품"]
["50006737","생활/건강","반려동물","식기/급수기","급수기/물병"]
["50006739","생활/건강","반려동물","식기/급수기","사료통/사료스푼"]
["50006735","생활/건강","반려동물","식기/급수기","식기/식탁"]
["50006736","생활/건강","반려동물","식기/급수기","자동급식기"]
["50006738","생활/건강","반려동물","식기/급수기","정수기/필터"]
["50006745","생활/건강","반려동물","안전문/울타리","안전문"]
["50006746","생활/건강","반려동물","안전문/울타리","울타리"]
["50006749","생활/건강","반려동물","야외용품","가슴줄"]
["50006751","생활/건강","반려동물","야외용품","리드줄"]
["50006750","생활/건강","반려동물","야외용품","목걸이/인식표"]
["50006748","생활/건강","반려동물","야외용품","목줄"]
["50000232","생활/건강","반려동물","조류용품"]
["50006742","생활/건강","반려동물","캐리어/유모차","유모차"]
["50006743","생활/건강","반려동물","캐리어/유모차","카시트"]
["50006741","생활/건강","반려동물","캐리어/유모차","캐리어"]
["50006727","생활/건강","반려동물","쿠션/하우스","매트"]
["50006725","생활/건강","반려동물","쿠션/하우스","쿠션/방석"]
["50006726","생활/건강","반려동물","쿠션/하우스","하우스"]
["50000231","생활/건강","반려동물","토끼용품"]
["50007162","생활/건강","반려동물","패션용품","가방"]
["50006733","생활/건강","반려동물","패션용품","기타액세서리"]
["50007156","생활/건강","반려동물","패션용품","니트/스웨터"]
["50007157","생활/건강","반려동물","패션용품","레인코트"]
["50007152","생활/건강","반려동물","패션용품","베스트/조끼"]
["50007155","생활/건강","반려동물","패션용품","셔츠/블라우스"]
["50007160","생활/건강","반려동물","패션용품","수영복/구명조끼"]
["50007161","생활/건강","반려동물","패션용품","스카프/목도리/케이프"]
["50007163","생활/건강","반려동물","패션용품","신발/양말"]
["50007164","생활/건강","반려동물","패션용품","안경/모자"]
["50006730","생활/건강","반려동물","패션용품","올인원"]
["50007153","생활/건강","반려동물","패션용품","원피스/드레스"]
["50007151","생활/건강","반려동물","패션용품","재킷/점퍼"]
["50007159","생활/건강","반려동물","패션용품","커플룩"]
["50007158","생활/건강","반려동물","패션용품","코스튬"]
["50006731","생활/건강","반려동물","패션용품","티셔츠/후드"]
["50006729","생활/건강","반려동물","패션용품","패딩"]
["50007154","생활/건강","반려동물","패션용품","팬츠/스커트"]
["50007150","생활/건강","반려동물","패션용품","플리스"]
["50006732","생활/건강","반려동물","패션용품","한복"]
["50007165","생활/건강","반려동물","패션용품","헤어핀/주얼리"]
["50000229","생활/건강","반려동물","햄스터용품"]
["50001820","생활/건강","발건강용품","건강슬리퍼"]
["50001821","생활/건강","발건강용품","다리/발마사지기"]
["50001825","생활/건강","발건강용품","발가락교정기"]
["50001827","생활/건강","발건강용품","발각질제거기"]
["50001826","생활/건강","발건강용품","발냄새제거제"]
["50001824","생활/건강","발건강용품","발보호대/패드"]
["50001822","생활/건강","발건강용품","발지압/발매트"]
["50001823","생활/건강","발건강용품","족욕/족탕기"]
["50001816","생활/건강","블루레이","교양/다큐멘터리"]
["50001815","생활/건강","블루레이","교육"]
["50002716","생활/건강","블루레이","드라마","국내TV드라마"]
["50002717","생활/건강","블루레이","드라마","해외TV드라마"]
["50001812","생활/건강","블루레이","뮤직비디오"]
["50001811","생활/건강","블루레이","애니메이션"]
["50002714","생활/건강","블루레이","영화","국내영화"]
["50002715","생활/건강","블루레이","영화","해외영화"]
["50001689","생활/건강","블루레이","유아/어린이"]
["50001814","생활/건강","블루레이","종교"]
["50001813","생활/건강","블루레이","취미/스포츠"]
["50002707","생활/건강","생활용품","보안용품","CCTV"]
["50002711","생활/건강","생활용품","보안용품","경보기"]
["50002713","생활/건강","생활용품","보안용품","기타보안용품"]
["50002710","생활/건강","생활용품","보안용품","도어락/안전고리"]
["50002708","생활/건강","생활용품","보안용품","모형카메라"]
["50002709","생활/건강","생활용품","보안용품","자물쇠/열쇠"]
["50002712","생활/건강","생활용품","보안용품","호신용품"]
["50002491","생활/건강","생활용품","생리대","일반생리대"]
["50002492","생활/건강","생활용품","생리대","체내형생리대"]
["50001780","생활/건강","생활용품","생활선물세트"]
["50007168","생활/건강","생활용품","생활잡화","난방텐트"]
["50002699","생활/건강","생활용품","생활잡화","단열시트"]
["50002696","생활/건강","생활용품","생활잡화","돗자리/매트"]
["50002697","생활/건강","생활용품","생활잡화","모기장"]
["50002698","생활/건강","생활용품","생활잡화","문풍지"]
["50002700","생활/건강","생활용품","생활잡화","방풍막/방풍비닐"]
["50002701","생활/건강","생활용품","생활잡화","분무기"]
["50002702","생활/건강","생활용품","생활잡화","쇼핑백"]
["50002704","생활/건강","생활용품","생활잡화","신발관리도구"]
["50002705","생활/건강","생활용품","생활잡화","재떨이"]
["50002703","생활/건강","생활용품","생활잡화","핸드카트"]
["50002706","생활/건강","생활용품","생활잡화","호출벨"]
["50002675","생활/건강","생활용품","섬유유연제","고농축섬유유연제"]
["50002676","생활/건강","생활용품","섬유유연제","시트형섬유유연제"]
["50002674","생활/건강","생활용품","섬유유연제","일반섬유유연제"]
["50002493","생활/건강","생활용품","성인용기저귀","산모용"]
["50002495","생활/건강","생활용품","성인용기저귀","요실금용"]
["50002496","생활/건강","생활용품","성인용기저귀","위생매트"]
["50002494","생활/건강","생활용품","성인용기저귀","환자용"]
["50002506","생활/건강","생활용품","세제/세정제","가습기세정제"]
["50002500","생활/건강","생활용품","세제/세정제","곰팡이제거제"]
["50002508","생활/건강","생활용품","세제/세정제","광택제"]
["50002502","생활/건강","생활용품","세제/세정제","배수구세정제"]
["50002499","생활/건강","생활용품","세제/세정제","베이킹소다/구연산"]
["50002503","생활/건강","생활용품","세제/세정제","변기세정제"]
["50002510","생활/건강","생활용품","세제/세정제","빨래비누"]
["50002501","생활/건강","생활용품","세제/세정제","살균소독제"]
["50002673","생활/건강","생활용품","세제/세정제","세탁보조제"]
["50002509","생활/건강","생활용품","세제/세정제","세탁세제"]
["50002504","생활/건강","생활용품","세제/세정제","세탁조세정제"]
["50006879","생활/건강","생활용품","세제/세정제","손소독제"]
["50002498","생활/건강","생활용품","세제/세정제","식기세척기전용세제"]
["50002505","생활/건강","생활용품","세제/세정제","에어컨세정제"]
["50002671","생활/건강","생활용품","세제/세정제","울세제"]
["50002507","생활/건강","생활용품","세제/세정제","유리세정제"]
["50002497","생활/건강","생활용품","세제/세정제","일반주방세제"]
["50002672","생활/건강","생활용품","세제/세정제","홈드라이"]
["50002683","생활/건강","생활용품","제습/방향/탈취","냉장/냉동고탈취제"]
["50002679","생활/건강","생활용품","제습/방향/탈취","새집증후군/진드기"]
["50002680","생활/건강","생활용품","제습/방향/탈취","섬유탈취스프레이"]
["50002687","생활/건강","생활용품","제습/방향/탈취","숯"]
["50002684","생활/건강","생활용품","제습/방향/탈취","신발/신발장탈취제"]
["50002677","생활/건강","생활용품","제습/방향/탈취","실내용방향제"]
["50002681","생활/건강","생활용품","제습/방향/탈취","실내탈취제"]
["50002682","생활/건강","생활용품","제습/방향/탈취","옷장탈취제"]
["50002686","생활/건강","생활용품","제습/방향/탈취","제습제"]
["50002678","생활/건강","생활용품","제습/방향/탈취","차량용방향제"]
["50002685","생활/건강","생활용품","제습/방향/탈취","차량용탈취제"]
["50002692","생활/건강","생활용품","해충퇴치용품","겔"]
["50002695","생활/건강","생활용품","해충퇴치용품","끈끈이"]
["50002690","생활/건강","생활용품","해충퇴치용품","리퀴드"]
["50002691","생활/건강","생활용품","해충퇴치용품","매트형"]
["50002694","생활/건강","생활용품","해충퇴치용품","모기채/파리채"]
["50002688","생활/건강","생활용품","해충퇴치용품","모기향"]
["50006956","생활/건강","생활용품","해충퇴치용품","방충제"]
["50002693","생활/건강","생활용품","해충퇴치용품","아로마/로션"]
["50002689","생활/건강","생활용품","해충퇴치용품","에어졸/스프레이"]
["50002480","생활/건강","생활용품","화장지","갑티슈"]
["50002482","생활/건강","생활용품","화장지","냅킨"]
["50002483","생활/건강","생활용품","화장지","롤화장지"]
["50002484","생활/건강","생활용품","화장지","물티슈"]
["50002485","생활/건강","생활용품","화장지","세정티슈"]
["50002481","생활/건강","생활용품","화장지","여행티슈"]
["50002486","생활/건강","생활용품","화장지","점보롤"]
["50002487","생활/건강","생활용품","화장지","키친타월"]
["50002488","생활/건강","생활용품","화장지","페이퍼타월"]
["50002489","생활/건강","생활용품","화장지","화장지세트"]
["50002490","생활/건강","생활용품","화장지","화장지케이스"]
["50002034","생활/건강","세탁용품","다림판"]
["50002035","생활/건강","세탁용품","다림풀"]
["50002310","생활/건강","세탁용품","빨래건조대","이동접이식"]
["50002311","생활/건강","세탁용품","빨래건조대","천장부착식"]
["50002036","생활/건강","세탁용품","빨래바구니"]
["50002037","생활/건강","세탁용품","빨래삶통"]
["50002039","생활/건강","세탁용품","빨래집게"]
["50002040","생활/건강","세탁용품","빨래판"]
["50002038","생활/건강","세탁용품","빨랫줄"]
["50002041","생활/건강","세탁용품","세탁망"]
["50002042","생활/건강","세탁용품","세탁볼"]
["50002043","생활/건강","세탁용품","세탁솔"]
["50002044","생활/건강","세탁용품","세탁잡화"]
["50005381","생활/건강","수납/정리용품","마네킹"]
["50001835","생활/건강","수납/정리용품","바구니"]
["50002464","생활/건강","수납/정리용품","선반/진열대","벽걸이선반/진열대"]
["50005260","생활/건강","수납/정리용품","선반/진열대","스탠드선반/진열대"]
["50002466","생활/건강","수납/정리용품","선반/진열대","이동식선반/진열대"]
["50002465","생활/건강","수납/정리용품","선반/진열대","코너선반/진열대"]
["50001839","생활/건강","수납/정리용품","선풍기커버"]
["50001836","생활/건강","수납/정리용품","소품걸이"]
["50001838","생활/건강","수납/정리용품","압축팩"]
["50002475","생활/건강","수납/정리용품","옷걸이","바지걸이"]
["50002472","생활/건강","수납/정리용품","옷걸이","일반옷걸이"]
["50001837","생활/건강","수납/정리용품","옷커버"]
["50002468","생활/건강","수납/정리용품","정리함","부직포정리함"]
["50002470","생활/건강","수납/정리용품","정리함","소품정리함"]
["50002467","생활/건강","수납/정리용품","정리함","속옷정리함"]
["50002471","생활/건강","수납/정리용품","정리함","신발정리대"]
["50002469","생활/건강","수납/정리용품","정리함","종이정리함"]
["50000374","생활/건강","수집품","LP"]
["50004131","생활/건강","수집품","게임","다트"]
["50004133","생활/건강","수집품","게임","마술도구"]
["50004132","생활/건강","수집품","게임","보드게임"]
["50000375","생활/건강","수집품","공예품"]
["50004278","생활/건강","수집품","모형/프라모델/피규어","다이캐스트"]
["50004136","생활/건강","수집품","모형/프라모델/피규어","모형"]
["50004279","생활/건강","수집품","모형/프라모델/피규어","밀리터리"]
["50007029","생활/건강","수집품","모형/프라모델/피규어","보관용품"]
["50004280","생활/건강","수집품","모형/프라모델/피규어","프라모델"]
["50006829","생활/건강","수집품","모형/프라모델/피규어","프라모델용품"]
["50007028","생활/건강","수집품","모형/프라모델/피규어","피규어"]
["50004287","생활/건강","수집품","무선/RC","RC소품"]
["50006129","생활/건강","수집품","무선/RC","드론"]
["50004281","생활/건강","수집품","무선/RC","보트/배"]
["50004286","생활/건강","수집품","무선/RC","비행기"]
["50004282","생활/건강","수집품","무선/RC","자동차"]
["50004284","생활/건강","수집품","무선/RC","중장비"]
["50004283","생활/건강","수집품","무선/RC","탱크"]
["50004285","생활/건강","수집품","무선/RC","헬기"]
["50004294","생활/건강","수집품","서바이벌","건(GUN)"]
["50004292","생활/건강","수집품","서바이벌","보호장비"]
["50004293","생활/건강","수집품","서바이벌","서바이벌용품"]
["50000373","생활/건강","수집품","서예/글씨"]
["50007086","생활/건강","수집품","아이돌굿즈","기타굿즈"]
["50007082","생활/건강","수집품","아이돌굿즈","문구사무용품"]
["50007081","생활/건강","수집품","아이돌굿즈","스티커"]
["50007084","생활/건강","수집품","아이돌굿즈","응원봉"]
["50007083","생활/건강","수집품","아이돌굿즈","텀블러/물병"]
["50007080","생활/건강","수집품","아이돌굿즈","포토/브로마이드"]
["50007085","생활/건강","수집품","아이돌굿즈","휴대폰용품"]
["50004298","생활/건강","수집품","우표/씰","씰"]
["50004297","생활/건강","수집품","우표/씰","우표"]
["50000378","생활/건강","수집품","이색수집품"]
["50004299","생활/건강","수집품","중고도서","도서"]
["50004300","생활/건강","수집품","중고도서","만화"]
["50004302","생활/건강","수집품","코스튬플레이","소품"]
["50004301","생활/건강","수집품","코스튬플레이","의상"]
["50004135","생활/건강","수집품","퍼즐/블록","블록"]
["50004134","생활/건강","수집품","퍼즐/블록","퍼즐"]
["50000376","생활/건강","수집품","포스터"]
["50004296","생활/건강","수집품","화폐","주화"]
["50004295","생활/건강","수집품","화폐","지폐"]
["50002071","생활/건강","실버용품","돋보기"]
["50001947","생활/건강","실버용품","목욕보조용품"]
["50001948","생활/건강","실버용품","배변보조용품"]
["50002072","생활/건강","실버용품","보청기"]
["50001945","생활/건강","실버용품","보행보조용품"]
["50001946","생활/건강","실버용품","보행차/실버카"]
["50001949","생활/건강","실버용품","욕창방지용품"]
["50001950","생활/건강","실버용품","장례용품/수의"]
["50002314","생활/건강","실버용품","휠체어","스틸휠체어"]
["50002315","생활/건강","실버용품","휠체어","알루미늄휠체어"]
["50002316","생활/건강","실버용품","휠체어","전동휠체어"]
["50004314","생활/건강","악기","건반악기","멜로디언"]
["50004319","생활/건강","악기","건반악기","실로폰"]
["50004315","생활/건강","악기","건반악기","아코디언"]
["50004316","생활/건강","악기","건반악기","오르간"]
["50004320","생활/건강","악기","건반악기","키보드/신시사이저"]
["50004348","생활/건강","악기","관악기","관악기소품/부품"]
["50004347","생활/건강","악기","관악기","리코더"]
["50004343","생활/건강","악기","관악기","바순"]
["50004333","생활/건강","악기","관악기","색소폰"]
["50004341","생활/건강","악기","관악기","오보에"]
["50004334","생활/건강","악기","관악기","오카리나"]
["50004346","생활/건강","악기","관악기","유포니움"]
["50004335","생활/건강","악기","관악기","클라리넷"]
["50004345","생활/건강","악기","관악기","튜바"]
["50004336","생활/건강","악기","관악기","트럼펫"]
["50004344","생활/건강","악기","관악기","트롬본"]
["50004337","생활/건강","악기","관악기","팬플루트"]
["50004338","생활/건강","악기","관악기","플룻"]
["50004342","생활/건강","악기","관악기","피콜로"]
["50004339","생활/건강","악기","관악기","호른"]
["50004340","생활/건강","악기","관악기","휘슬"]
["50004355","생활/건강","악기","국악기","가야금"]
["50004356","생활/건강","악기","국악기","거문고"]
["50004366","생활/건강","악기","국악기","국악기/소품/부품"]
["50004365","생활/건강","악기","국악기","기타국악기"]
["50004357","생활/건강","악기","국악기","꽹과리"]
["50004358","생활/건강","악기","국악기","단소"]
["50004359","생활/건강","악기","국악기","대금"]
["50004360","생활/건강","악기","국악기","북"]
["50004361","생활/건강","악기","국악기","소금"]
["50004362","생활/건강","악기","국악기","장구"]
["50004363","생활/건강","악기","국악기","징"]
["50004364","생활/건강","악기","국악기","해금"]
["50004307","생활/건강","악기","기타(guitar)","베이스기타"]
["50004308","생활/건강","악기","기타(guitar)","어쿠스틱기타"]
["50004309","생활/건강","악기","기타(guitar)","오베이션기타"]
["50004310","생활/건강","악기","기타(guitar)","우쿨렐레"]
["50004311","생활/건강","악기","기타(guitar)","일렉기타"]
["50004312","생활/건강","악기","기타(guitar)","클래식기타"]
["50004485","생활/건강","악기","기타악기","기타교육용악기"]
["50004375","생활/건강","악기","기타악기","탬버린"]
["50004376","생활/건강","악기","기타악기","하모니카"]
["50004374","생활/건강","악기","기타악기","핸드벨"]
["50004367","생활/건강","악기","음향기자재","메트로놈"]
["50004368","생활/건강","악기","음향기자재","보면대"]
["50004369","생활/건강","악기","음향기자재","스탠드"]
["50004370","생활/건강","악기","음향기자재","앰프"]
["50004371","생활/건강","악기","음향기자재","이펙터"]
["50004372","생활/건강","악기","음향기자재","튜너기"]
["50004373","생활/건강","악기","음향기자재","파워믹서"]
["50004354","생활/건강","악기","타악기","기타타악기"]
["50004349","생활/건강","악기","타악기","드럼"]
["50004350","생활/건강","악기","타악기","스틱/스탠드"]
["50004351","생활/건강","악기","타악기","심벌즈"]
["50004352","생활/건강","악기","타악기","전자드럼"]
["50004353","생활/건강","악기","타악기","타악기소품/부품"]
["50004303","생활/건강","악기","피아노","그랜드피아노"]
["50004304","생활/건강","악기","피아노","디지털피아노"]
["50004305","생활/건강","악기","피아노","일반피아노"]
["50004306","생활/건강","악기","피아노","피아노용품"]
["50004329","생활/건강","악기","현악기","기타현악기"]
["50004321","생활/건강","악기","현악기","만돌린"]
["50004322","생활/건강","악기","현악기","바이올린"]
["50004323","생활/건강","악기","현악기","베이스"]
["50004324","생활/건강","악기","현악기","비올라"]
["50004325","생활/건강","악기","현악기","전자바이올린"]
["50004327","생활/건강","악기","현악기","첼로"]
["50004330","생활/건강","악기","현악기","케이스"]
["50004328","생활/건강","악기","현악기","하프"]
["50004332","생활/건강","악기","현악기","현악기소품/부품"]
["50004331","생활/건강","악기","현악기","활"]
["50001834","생활/건강","안마용품","기타안마용품"]
["50001830","생활/건강","안마용품","안마기"]
["50001833","생활/건강","안마용품","안마매트"]
["50001828","생활/건강","안마용품","안마의자"]
["50001832","생활/건강","안마용품","쿠션안마기"]
["50002308","생활/건강","욕실용품","면도용품","면도기"]
["50002309","생활/건강","욕실용품","면도용품","면도기날"]
["50004853","생활/건강","욕실용품","비데/비데용품","기계식비데"]
["50004855","생활/건강","욕실용품","비데/비데용품","비데필터"]
["50002269","생활/건강","욕실용품","비데/비데용품","전자식비데"]
["50002305","생활/건강","욕실용품","샤워기/수전용품","녹물제거필터"]
["50002306","생활/건강","욕실용품","샤워기/수전용품","배수구캡"]
["50002299","생활/건강","욕실용품","샤워기/수전용품","샤워기"]
["50002300","생활/건강","욕실용품","샤워기/수전용품","샤워호스"]
["50002301","생활/건강","욕실용품","샤워기/수전용품","세면기"]
["50002302","생활/건강","욕실용품","샤워기/수전용품","수도/수전용품"]
["50002303","생활/건강","욕실용품","샤워기/수전용품","양변기"]
["50002307","생활/건강","욕실용품","샤워기/수전용품","욕실부속품"]
["50002273","생활/건강","욕실용품","욕실잡화","디스펜서"]
["50002291","생활/건강","욕실용품","욕실잡화","때타월/때장갑"]
["50002287","생활/건강","욕실용품","욕실잡화","목욕바구니"]
["50002288","생활/건강","욕실용품","욕실잡화","바가지"]
["50002293","생활/건강","욕실용품","욕실잡화","바디브러시"]
["50002274","생활/건강","욕실용품","욕실잡화","변기커버"]
["50002280","생활/건강","욕실용품","욕실잡화","비눗갑/홀더/받침"]
["50002289","생활/건강","욕실용품","욕실잡화","샤워가운"]
["50002292","생활/건강","욕실용품","욕실잡화","샤워볼"]
["50002290","생활/건강","욕실용품","욕실잡화","샤워용품"]
["50002275","생활/건강","욕실용품","욕실잡화","샤워커튼/커튼봉"]
["50002294","생활/건강","욕실용품","욕실잡화","세숫대야"]
["50002295","생활/건강","욕실용품","욕실잡화","수건/타월"]
["50002283","생활/건강","욕실용품","욕실잡화","수건걸이"]
["50002296","생활/건강","욕실용품","욕실잡화","양치컵"]
["50002297","생활/건강","욕실용품","욕실잡화","여행용세트"]
["50002277","생활/건강","욕실용품","욕실잡화","욕실발판/욕실매트"]
["50002278","생활/건강","욕실용품","욕실잡화","욕실선반"]
["50002279","생활/건강","욕실용품","욕실잡화","욕실세트"]
["50002284","생활/건강","욕실용품","욕실잡화","욕실의자"]
["50002285","생활/건강","욕실용품","욕실잡화","욕실장"]
["50002276","생활/건강","욕실용품","욕실잡화","욕실청소용품"]
["50002286","생활/건강","욕실용품","욕실잡화","욕실화"]
["50002298","생활/건강","욕실용품","욕실잡화","치약짜개"]
["50002282","생활/건강","욕실용품","욕실잡화","칫솔통/걸이"]
["50002281","생활/건강","욕실용품","욕실잡화","휴지걸이"]
["50002271","생활/건강","욕실용품","욕조/반신욕용품","반신욕조"]
["50002270","생활/건강","욕실용품","욕조/반신욕용품","욕조"]
["50002272","생활/건강","욕실용품","욕조/반신욕용품","욕조덮개"]
["50001782","생활/건강","원예/식물","공기정화식물"]
["50001783","생활/건강","원예/식물","관엽식물"]
["50001808","생활/건강","원예/식물","금꽃"]
["50001787","생활/건강","원예/식물","넝쿨식물"]
["50001784","생활/건강","원예/식물","다육식물"]
["50001790","생활/건강","원예/식물","미니화분"]
["50001807","생활/건강","원예/식물","보존화"]
["50001791","생활/건강","원예/식물","분재"]
["50001809","생활/건강","원예/식물","비누꽃"]
["50001785","생활/건강","원예/식물","수경식물"]
["50001792","생활/건강","원예/식물","숯부작"]
["50001786","생활/건강","원예/식물","식용식물"]
["50001805","생활/건강","원예/식물","씨앗/모종"]
["50001806","생활/건강","원예/식물","조화"]
["50001810","생활/건강","원예/식물","종이꽃"]
["50001789","생활/건강","원예/식물","천연잔디"]
["50006881","생활/건강","원예/식물","테라리엄"]
["50001793","생활/건강","원예/식물","토피어리"]
["50006880","생활/건강","원예/식물","플라워소품만들기"]
["50001788","생활/건강","원예/식물","허브식물"]
["50000234","생활/건강","음반","국내앨범"]
["50000235","생활/건강","음반","해외앨범"]
["50002067","생활/건강","의료용품","거즈/붕대/솜류"]
["50002068","생활/건강","의료용품","구급/응급용품"]
["50002069","생활/건강","의료용품","석션기/네블라이저"]
["50005258","생활/건강","의료용품","의료용가구"]
["50002070","생활/건강","의료용품","핀셋/포셉/겸자류"]
["50003914","생활/건강","자동차용품","DIY용품","DIY전구"]
["50003915","생활/건강","자동차용품","DIY용품","LED소자"]
["50003921","생활/건강","자동차용품","DIY용품","공구"]
["50003909","생활/건강","자동차용품","DIY용품","도색용품"]
["50003910","생활/건강","자동차용품","DIY용품","레진"]
["50003916","생활/건강","자동차용품","DIY용품","릴레이"]
["50003912","생활/건강","자동차용품","DIY용품","보호필름"]
["50003918","생활/건강","자동차용품","DIY용품","스위치"]
["50003913","생활/건강","자동차용품","DIY용품","시트지"]
["50003919","생활/건강","자동차용품","DIY용품","전기용품"]
["50003911","생활/건강","자동차용품","DIY용품","접착제"]
["50003920","생활/건강","자동차용품","DIY용품","휴즈"]
["50003934","생활/건강","자동차용품","공기청정용품","에어컨필터"]
["50003927","생활/건강","자동차용품","램프","기타램프용품"]
["50003926","생활/건강","자동차용품","램프","방향지시등"]
["50003922","생활/건강","자동차용품","램프","실내등"]
["50003923","생활/건강","자동차용품","램프","안개등"]
["50003924","생활/건강","자동차용품","램프","전조등"]
["50003925","생활/건강","자동차용품","램프","테일램프"]
["50000637","생활/건강","자동차용품","배터리"]
["50003932","생활/건강","자동차용품","배터리용품","기타배터리용품"]
["50003929","생활/건강","자동차용품","배터리용품","배터리충전기"]
["50003930","생활/건강","자동차용품","배터리용품","점프선"]
["50003931","생활/건강","자동차용품","배터리용품","터미널"]
["50003945","생활/건강","자동차용품","세차용품","가죽클리너"]
["50003935","생활/건강","자동차용품","세차용품","광택기"]
["50003946","생활/건강","자동차용품","세차용품","광택코팅제"]
["50003957","생활/건강","자동차용품","세차용품","김서리방지제"]
["50003938","생활/건강","자동차용품","세차용품","먼지털이개"]
["50003939","생활/건강","자동차용품","세차용품","브러시"]
["50003940","생활/건강","자동차용품","세차용품","세차도구세트"]
["50003941","생활/건강","자동차용품","세차용품","세차물통"]
["50003942","생활/건강","자동차용품","세차용품","세차장갑"]
["50003947","생활/건강","자동차용품","세차용품","세차패키지"]
["50003952","생활/건강","자동차용품","세차용품","스티커제거제/타르제거제"]
["50003943","생활/건강","자동차용품","세차용품","스펀지"]
["50003953","생활/건강","자동차용품","세차용품","엔진룸세척"]
["50003956","생활/건강","자동차용품","세차용품","유리복원제"]
["50003955","생활/건강","자동차용품","세차용품","유리세정제"]
["50003954","생활/건강","자동차용품","세차용품","유리코팅제"]
["50003958","생활/건강","자동차용품","세차용품","정전기방지"]
["50003959","생활/건강","자동차용품","세차용품","차량용커버"]
["50003948","생활/건강","자동차용품","세차용품","카샴푸"]
["50003960","생활/건강","자동차용품","세차용품","컴파운드"]
["50003936","생활/건강","자동차용품","세차용품","컴프레셔"]
["50003944","생활/건강","자동차용품","세차용품","타월/융"]
["50003949","생활/건강","자동차용품","세차용품","타이어세정광택제"]
["50003937","생활/건강","자동차용품","세차용품","호스"]
["50003950","생활/건강","자동차용품","세차용품","휠세정광택제"]
["50004101","생활/건강","자동차용품","수납용품","CD바이저"]
["50004102","생활/건강","자동차용품","수납용품","논슬립패드"]
["50004103","생활/건강","자동차용품","수납용품","선글라스클립"]
["50004104","생활/건강","자동차용품","수납용품","옷걸이/후크/행거"]
["50004111","생활/건강","자동차용품","수납용품","우산걸이"]
["50004105","생활/건강","자동차용품","수납용품","콘솔박스"]
["50004112","생활/건강","자동차용품","수납용품","테이블"]
["50004106","생활/건강","자동차용품","수납용품","트렁크정리함"]
["50004107","생활/건강","자동차용품","수납용품","포켓"]
["50004108","생활/건강","자동차용품","수납용품","홀더"]
["50004109","생활/건강","자동차용품","수납용품","휴지통"]
["50000424","생활/건강","자동차용품","스노우체인"]
["50000638","생활/건강","자동차용품","시트커버"]
["50004056","생활/건강","자동차용품","오일관리","기타오일용품"]
["50004046","생활/건강","자동차용품","오일관리","미션오일"]
["50004047","생활/건강","자동차용품","오일관리","미션오일첨가제"]
["50004048","생활/건강","자동차용품","오일관리","부동액"]
["50004049","생활/건강","자동차용품","오일관리","브레이크오일"]
["50004054","생활/건강","자동차용품","오일관리","엔진오일"]
["50004050","생활/건강","자동차용품","오일관리","엔진오일첨가제"]
["50004051","생활/건강","자동차용품","오일관리","연료첨가제"]
["50004055","생활/건강","자동차용품","오일관리","연비향상오일"]
["50004052","생활/건강","자동차용품","오일관리","오일세트"]
["50004053","생활/건강","자동차용품","오일관리","오일필터"]
["50004059","생활/건강","자동차용품","익스테리어용품","가드"]
["50004068","생활/건강","자동차용품","익스테리어용품","도어스커프"]
["50004075","생활/건강","자동차용품","익스테리어용품","루프박스"]
["50004060","생활/건강","자동차용품","익스테리어용품","몰딩"]
["50004069","생활/건강","자동차용품","익스테리어용품","번호판볼트"]
["50004061","생활/건강","자동차용품","익스테리어용품","사이드미러"]
["50004070","생활/건강","자동차용품","익스테리어용품","사이드스텝"]
["50004063","생활/건강","자동차용품","익스테리어용품","선루프"]
["50004064","생활/건강","자동차용품","익스테리어용품","선바이저"]
["50004057","생활/건강","자동차용품","익스테리어용품","스티커"]
["50004071","생활/건강","자동차용품","익스테리어용품","안테나볼"]
["50004065","생활/건강","자동차용품","익스테리어용품","에어로파츠"]
["50004058","생활/건강","자동차용품","익스테리어용품","엠블럼"]
["50004066","생활/건강","자동차용품","익스테리어용품","와이퍼"]
["50004067","생활/건강","자동차용품","익스테리어용품","워셔액"]
["50004074","생활/건강","자동차용품","익스테리어용품","캐리어"]
["50004072","생활/건강","자동차용품","익스테리어용품","폴대"]
["50004073","생활/건강","자동차용품","익스테리어용품","후드핀"]
["50004062","생활/건강","자동차용품","익스테리어용품","후사경"]
["50004076","생활/건강","자동차용품","인테리어용품","기어용품"]
["50004077","생활/건강","자동차용품","인테리어용품","대시보드커버"]
["50004078","생활/건강","자동차용품","인테리어용품","룸미러"]
["50004079","생활/건강","자동차용품","인테리어용품","룸미러커버"]
["50004081","생활/건강","자동차용품","인테리어용품","몰딩"]
["50004080","생활/건강","자동차용품","인테리어용품","보조룸미러"]
["50004082","생활/건강","자동차용품","인테리어용품","썬팅필름"]
["50004083","생활/건강","자동차용품","인테리어용품","안전벨트"]
["50004093","생활/건강","자동차용품","인테리어용품","주차번호판"]
["50004084","생활/건강","자동차용품","인테리어용품","차량용나침반"]
["50004088","생활/건강","자동차용품","인테리어용품","차량용사진액자"]
["50004085","생활/건강","자동차용품","인테리어용품","차량용시계"]
["50004086","생활/건강","자동차용품","인테리어용품","차량용장식소품"]
["50004087","생활/건강","자동차용품","인테리어용품","차량용재떨이"]
["50004089","생활/건강","자동차용품","인테리어용품","페달용품"]
["50004090","생활/건강","자동차용품","인테리어용품","핸들"]
["50004091","생활/건강","자동차용품","인테리어용품","핸들커버"]
["50004092","생활/건강","자동차용품","인테리어용품","햇빛가리개"]
["50004094","생활/건강","자동차용품","전기용품","소켓/시거잭"]
["50004095","생활/건강","자동차용품","전기용품","인버터"]
["50004096","생활/건강","자동차용품","전기용품","전류전압안정기"]
["50004097","생활/건강","자동차용품","전기용품","접지케이블"]
["50004099","생활/건강","자동차용품","전기용품","차량용AC어댑터"]
["50004098","생활/건강","자동차용품","전기용품","차량용태양열충전기"]
["50004100","생활/건강","자동차용품","전기용품","컨버터"]
["50006831","생활/건강","자동차용품","차량실내용품","등쿠션"]
["50006830","생활/건강","자동차용품","차량실내용품","목쿠션"]
["50003928","생활/건강","자동차용품","차량실내용품","바닥매트"]
["50006833","생활/건강","자동차용품","차량실내용품","방석"]
["50006832","생활/건강","자동차용품","차량실내용품","팔/틈새쿠션"]
["50000423","생활/건강","자동차용품","차량용케이블"]
["50003963","생활/건강","자동차용품","키용품","스마트키"]
["50003964","생활/건강","자동차용품","키용품","스킨"]
["50003965","생활/건강","자동차용품","키용품","스타트버튼"]
["50003962","생활/건강","자동차용품","키용품","시동경보기"]
["50003966","생활/건강","자동차용품","키용품","키노브"]
["50003967","생활/건강","자동차용품","키용품","키케이스"]
["50003969","생활/건강","자동차용품","키용품","폴딩키"]
["50004117","생활/건강","자동차용품","타이어/휠","타이어"]
["50004118","생활/건강","자동차용품","타이어/휠","타이어용품"]
["50004115","생활/건강","자동차용품","타이어/휠","휠"]
["50004116","생활/건강","자동차용품","타이어/휠","휠용품"]
["50004127","생활/건강","자동차용품","튜닝용품","게이지"]
["50004126","생활/건강","자동차용품","튜닝용품","계기판"]
["50004130","생활/건강","자동차용품","튜닝용품","기타튜닝용품"]
["50004119","생활/건강","자동차용품","튜닝용품","냉각"]
["50004129","생활/건강","자동차용품","튜닝용품","레이싱용품"]
["50004120","생활/건강","자동차용품","튜닝용품","배기/흡기튜닝"]
["50004121","생활/건강","자동차용품","튜닝용품","브레이크"]
["50004122","생활/건강","자동차용품","튜닝용품","서스펜션"]
["50004123","생활/건강","자동차용품","튜닝용품","엔진튠업"]
["50004124","생활/건강","자동차용품","튜닝용품","점화케이블"]
["50004125","생활/건강","자동차용품","튜닝용품","점화플러그"]
["50004128","생활/건강","자동차용품","튜닝용품","혼"]
["50003970","생활/건강","자동차용품","편의용품","차량용가습기"]
["50003971","생활/건강","자동차용품","편의용품","차량용공기청정기"]
["50003972","생활/건강","자동차용품","편의용품","차량용냉/온장고"]
["50003973","생활/건강","자동차용품","편의용품","차량용면도기"]
["50003974","생활/건강","자동차용품","편의용품","차량용보온컵"]
["50003975","생활/건강","자동차용품","편의용품","차량용선풍기"]
["50004044","생활/건강","자동차용품","편의용품","차량용온풍기"]
["50004045","생활/건강","자동차용품","편의용품","차량용청소기"]
["50004113","생활/건강","자동차용품","휴대폰용품","차량용휴대폰거치대"]
["50004114","생활/건강","자동차용품","휴대폰용품","차량용휴대폰충전기"]
["50001962","생활/건강","재활운동용품","기타재활운동용품"]
["50001952","생활/건강","재활운동용품","목보호대"]
["50007229","생활/건강","재활운동용품","상반신보조기"]
["50001960","생활/건강","재활운동용품","의료용압박스타킹"]
["50001959","생활/건강","재활운동용품","자세교정용품"]
["50001961","생활/건강","재활운동용품","재활운동기구"]
["50007230","생활/건강","재활운동용품","하반신보조기"]
["50001794","생활/건강","정원/원예용품","물조리개"]
["50001795","생활/건강","정원/원예용품","수반"]
["50001796","생활/건강","정원/원예용품","원예부자재"]
["50001797","생활/건강","정원/원예용품","자갈/모래/흙"]
["50001798","생활/건강","정원/원예용품","정원데코"]
["50001799","생활/건강","정원/원예용품","정원부자재"]
["50001800","생활/건강","정원/원예용품","조경수/묘목"]
["50001801","생활/건강","정원/원예용품","화분"]
["50001802","생활/건강","정원/원예용품","화분대"]
["50001803","생활/건강","정원/원예용품","화분받침"]
["50001804","생활/건강","정원/원예용품","화분영양제/비료"]
["50000245","생활/건강","종교","기독교용품"]
["50000243","생활/건강","종교","불교용품"]
["50000244","생활/건강","종교","천주교용품"]
["50001929","생활/건강","좌욕/좌훈용품","좌욕기"]
["50001930","생활/건강","좌욕/좌훈용품","좌훈기"]
["50004765","생활/건강","주방용품","교자상/밥상","교자상"]
["50004766","생활/건강","주방용품","교자상/밥상","다과상"]
["50004767","생활/건강","주방용품","교자상/밥상","다용도상"]
["50004768","생활/건강","주방용품","교자상/밥상","상커버"]
["50004544","생활/건강","주방용품","냄비/솥","곰솥/들통"]
["50004545","생활/건강","주방용품","냄비/솥","냄비부자재"]
["50004546","생활/건강","주방용품","냄비/솥","냄비세트"]
["50004547","생활/건강","주방용품","냄비/솥","돌솥"]
["50004548","생활/건강","주방용품","냄비/솥","뚝배기"]
["50004549","생활/건강","주방용품","냄비/솥","압력솥"]
["50004550","생활/건강","주방용품","냄비/솥","양수냄비"]
["50004551","생활/건강","주방용품","냄비/솥","전골냄비"]
["50004552","생활/건강","주방용품","냄비/솥","전자레인지/오븐 용기"]
["50004553","생활/건강","주방용품","냄비/솥","직화냄비"]
["50004554","생활/건강","주방용품","냄비/솥","찜기"]
["50004555","생활/건강","주방용품","냄비/솥","편수냄비"]
["50000216","생활/건강","주방용품","도마"]
["50005257","생활/건강","주방용품","보관/밀폐용기","기타보관용기"]
["50004564","생활/건강","주방용품","보관/밀폐용기","김치통"]
["50004565","생활/건강","주방용품","보관/밀폐용기","도시락/찬합"]
["50004566","생활/건강","주방용품","보관/밀폐용기","도자기/유리용기"]
["50004567","생활/건강","주방용품","보관/밀폐용기","물병"]
["50004568","생활/건강","주방용품","보관/밀폐용기","물통"]
["50004569","생활/건강","주방용품","보관/밀폐용기","법랑용기"]
["50004578","생활/건강","주방용품","보관/밀폐용기","보온/보냉병"]
["50004570","생활/건강","주방용품","보관/밀폐용기","비닐접착기"]
["50004571","생활/건강","주방용품","보관/밀폐용기","스텐용기"]
["50004572","생활/건강","주방용품","보관/밀폐용기","시리얼디스펜서"]
["50004573","생활/건강","주방용품","보관/밀폐용기","쌀통"]
["50004579","생활/건강","주방용품","보관/밀폐용기","아이스박스"]
["50004574","생활/건강","주방용품","보관/밀폐용기","아이스트레이"]
["50004575","생활/건강","주방용품","보관/밀폐용기","양념통/설탕프림기"]
["50004576","생활/건강","주방용품","보관/밀폐용기","플라스틱용기"]
["50004577","생활/건강","주방용품","보관/밀폐용기","항아리"]
["50004515","생활/건강","주방용품","식기","공기"]
["50004517","생활/건강","주방용품","식기","공기대접세트"]
["50004518","생활/건강","주방용품","식기","단반상기"]
["50004516","생활/건강","주방용품","식기","대접"]
["50004519","생활/건강","주방용품","식기","디저트세트"]
["50004520","생활/건강","주방용품","식기","면기"]
["50004521","생활/건강","주방용품","식기","반상기"]
["50004522","생활/건강","주방용품","식기","볼"]
["50004523","생활/건강","주방용품","식기","소스기"]
["50004524","생활/건강","주방용품","식기","수저"]
["50004525","생활/건강","주방용품","식기","수저받침"]
["50004526","생활/건강","주방용품","식기","수저통"]
["50004534","생활/건강","주방용품","식기","식판"]
["50004527","생활/건강","주방용품","식기","양식기"]
["50004535","생활/건강","주방용품","식기","어린이식기"]
["50004528","생활/건강","주방용품","식기","접시"]
["50004529","생활/건강","주방용품","식기","찬기"]
["50004530","생활/건강","주방용품","식기","티스푼"]
["50004532","생활/건강","주방용품","식기","티스푼/티포크세트"]
["50004531","생활/건강","주방용품","식기","티포크"]
["50004533","생활/건강","주방용품","식기","홈세트"]
["50004799","생활/건강","주방용품","와인용품","디캔터"]
["50004800","생활/건강","주방용품","와인용품","스토퍼/세이버"]
["50004801","생활/건강","주방용품","와인용품","와인랙"]
["50004802","생활/건강","주방용품","와인용품","와인액세서리세트"]
["50004803","생활/건강","주방용품","와인용품","와인오프너"]
["50004804","생활/건강","주방용품","와인용품","와인쿨러"]
["50004536","생활/건강","주방용품","잔/컵","다기/주기"]
["50004537","생활/건강","주방용품","잔/컵","머그"]
["50004543","생활/건강","주방용품","잔/컵","샴페인잔"]
["50005256","생활/건강","주방용품","잔/컵","스텐컵"]
["50004542","생활/건강","주방용품","잔/컵","와인잔"]
["50004538","생활/건강","주방용품","잔/컵","유리컵"]
["50004539","생활/건강","주방용품","잔/컵","찻잔"]
["50004540","생활/건강","주방용품","잔/컵","텀블러"]
["50004541","생활/건강","주방용품","잔/컵","플라스틱컵"]
["50004805","생활/건강","주방용품","제과/제빵용품","계량스푼"]
["50004807","생활/건강","주방용품","제과/제빵용품","계량저울"]
["50004806","생활/건강","주방용품","제과/제빵용품","계량컵"]
["50004816","생활/건강","주방용품","제과/제빵용품","돌림판"]
["50004809","생활/건강","주방용품","제과/제빵용품","모양깍지/짤주머니"]
["50004818","생활/건강","주방용품","제과/제빵용품","밀대"]
["50004811","생활/건강","주방용품","제과/제빵용품","빵칼"]
["50004820","생활/건강","주방용품","제과/제빵용품","빵틀"]
["50004810","생활/건강","주방용품","제과/제빵용품","스패츌러/주걱"]
["50004815","생활/건강","주방용품","제과/제빵용품","식힘망"]
["50004812","생활/건강","주방용품","제과/제빵용품","와플팬"]
["50004813","생활/건강","주방용품","제과/제빵용품","유산지/베이킹컵"]
["50004817","생활/건강","주방용품","제과/제빵용품","작업판/매트"]
["50004814","생활/건강","주방용품","제과/제빵용품","제빵소도구"]
["50004821","생활/건강","주방용품","제과/제빵용품","쿠키커터/모양틀"]
["50004819","생활/건강","주방용품","제과/제빵용품","쿠키팬"]
["50004808","생활/건강","주방용품","제과/제빵용품","쿠킹타이머"]
["50004822","생활/건강","주방용품","제과/제빵용품","핸드믹서기"]
["50004850","생활/건강","주방용품","제수용품","돗자리"]
["50004844","생활/건강","주방용품","제수용품","병풍"]
["50004852","생활/건강","주방용품","제수용품","위패"]
["50004845","생활/건강","주방용품","제수용품","유기제기"]
["50004846","생활/건강","주방용품","제수용품","제기"]
["50004847","생활/건강","주방용품","제수용품","제기세트"]
["50004848","생활/건강","주방용품","제수용품","제기함"]
["50004851","생활/건강","주방용품","제수용품","향/향로"]
["50004849","생활/건강","주방용품","제수용품","휴대용제기"]
["50004785","생활/건강","주방용품","조리기구","거품기"]
["50004772","생활/건강","주방용품","조리기구","계란찜기/계란틀"]
["50004773","생활/건강","주방용품","조리기구","국자"]
["50004784","생활/건강","주방용품","조리기구","기타조리기구"]
["50004774","생활/건강","주방용품","조리기구","김밥/주먹밥틀"]
["50004788","생활/건강","주방용품","조리기구","깔때기"]
["50004791","생활/건강","주방용품","조리기구","다시망"]
["50004775","생활/건강","주방용품","조리기구","달고나세트"]
["50004776","생활/건강","주방용품","조리기구","뒤집개"]
["50004777","생활/건강","주방용품","조리기구","믹싱볼"]
["50004778","생활/건강","주방용품","조리기구","바구니"]
["50004787","생활/건강","주방용품","조리기구","솔"]
["50004790","생활/건강","주방용품","조리기구","스퀴저"]
["50004786","생활/건강","주방용품","조리기구","오프너"]
["50004789","생활/건강","주방용품","조리기구","제면기"]
["50004779","생활/건강","주방용품","조리기구","조리도구세트"]
["50004780","생활/건강","주방용품","조리기구","주걱"]
["50004781","생활/건강","주방용품","조리기구","집게"]
["50004782","생활/건강","주방용품","조리기구","채반"]
["50004783","생활/건강","주방용품","조리기구","퐁듀세트"]
["50004769","생활/건강","주방용품","주방수납용품","식기건조대"]
["50004770","생활/건강","주방용품","주방수납용품","싱크선반"]
["50004771","생활/건강","주방용품","주방수납용품","주방정리소품"]
["50004824","생활/건강","주방용품","주방잡화","고무장갑"]
["50004843","생활/건강","주방용품","주방잡화","기타주방잡화"]
["50004825","생활/건강","주방용품","주방잡화","냄비받침"]
["50004829","생활/건강","주방용품","주방잡화","랩"]
["50004830","생활/건강","주방용품","주방잡화","롤백"]
["50004832","생활/건강","주방용품","주방잡화","비닐장갑"]
["50004826","생활/건강","주방용품","주방잡화","수세미"]
["50004833","생활/건강","주방용품","주방잡화","쓰레기봉투"]
["50004823","생활/건강","주방용품","주방잡화","야채탈수기"]
["50004835","생활/건강","주방용품","주방잡화","일회용도시락"]
["50004841","생활/건강","주방용품","주방잡화","일회용빨대"]
["50004834","생활/건강","주방용품","주방잡화","일회용식기"]
["50004836","생활/건강","주방용품","주방잡화","일회용젓가락"]
["50004828","생활/건강","주방용품","주방잡화","쟁반"]
["50004838","생활/건강","주방용품","주방잡화","종이컵"]
["50004839","생활/건강","주방용품","주방잡화","종이컵디스펜서"]
["50004831","생활/건강","주방용품","주방잡화","지퍼백"]
["50004837","생활/건강","주방용품","주방잡화","커피스틱"]
["50004827","생활/건강","주방용품","주방잡화","컵받침/홀더"]
["50004840","생활/건강","주방용품","주방잡화","쿠킹호일"]
["50004842","생활/건강","주방용품","주방잡화","행주"]
["50004561","생활/건강","주방용품","주전자/티포트","주전자"]
["50004562","생활/건강","주방용품","주전자/티포트","티세트"]
["50004563","생활/건강","주방용품","주전자/티포트","티포트"]
["50004756","생활/건강","주방용품","칼/커팅기구","강판"]
["50004757","생활/건강","주방용품","칼/커팅기구","다지기"]
["50004758","생활/건강","주방용품","칼/커팅기구","절구"]
["50004759","생활/건강","주방용품","칼/커팅기구","주방가위"]
["50004760","생활/건강","주방용품","칼/커팅기구","채칼/필러"]
["50004761","생활/건강","주방용품","칼/커팅기구","칼"]
["50004762","생활/건강","주방용품","칼/커팅기구","칼갈이"]
["50004763","생활/건강","주방용품","칼/커팅기구","칼꽂이/블럭"]
["50004764","생활/건강","주방용품","칼/커팅기구","칼세트"]
["50004795","생활/건강","주방용품","커피용품","드립포트"]
["50004794","생활/건강","주방용품","커피용품","스팀피쳐/밀크저그"]
["50004797","생활/건강","주방용품","커피용품","여과지"]
["50004796","생활/건강","주방용품","커피용품","우유거품기"]
["50004792","생활/건강","주방용품","커피용품","커피분쇄기"]
["50004793","생활/건강","주방용품","커피용품","커피추출기"]
["50004798","생활/건강","주방용품","커피용품","템퍼"]
["50004556","생활/건강","주방용품","프라이팬","구이팬"]
["50004557","생활/건강","주방용품","프라이팬","궁중팬/튀김팬"]
["50004558","생활/건강","주방용품","프라이팬","양면팬"]
["50004559","생활/건강","주방용품","프라이팬","일반프라이팬"]
["50004560","생활/건강","주방용품","프라이팬","프라이팬세트"]
["50001842","생활/건강","청소용품","걸레"]
["50001849","생활/건강","청소용품","기타청소용품"]
["50001848","생활/건강","청소용품","매직블럭"]
["50001843","생활/건강","청소용품","먼지떨이/먼지제거기"]
["50001840","생활/건강","청소용품","밀대/패드"]
["50001841","생활/건강","청소용품","빗자루/쓰레받기"]
["50001844","생활/건강","청소용품","솔"]
["50001845","생활/건강","청소용품","유리닦이용품"]
["50001846","생활/건강","청소용품","테이프클리너"]
["50001847","생활/건강","청소용품","회전청소기"]
["50002477","생활/건강","청소용품","휴지통","다용도휴지통"]
["50002479","생활/건강","청소용품","휴지통","분리수거함"]
["50002476","생활/건강","청소용품","휴지통","압축휴지통"]
["50002478","생활/건강","청소용품","휴지통","음식물쓰레기통"]
["50003892","생활/건강","화방용품","물감/포스터컬러","동양화물감"]
["50003889","생활/건강","화방용품","물감/포스터컬러","수채화물감"]
["50003891","생활/건강","화방용품","물감/포스터컬러","아크릴물감"]
["50003890","생활/건강","화방용품","물감/포스터컬러","유화물감"]
["50003893","생활/건강","화방용품","물감/포스터컬러","포스터컬러"]
["50003786","생활/건강","화방용품","미술도구수납용품","붓통/케이스"]
["50003784","생활/건강","화방용품","미술도구수납용품","아트백"]
["50003785","생활/건강","화방용품","미술도구수납용품","화구통/박스"]
["50003792","생활/건강","화방용품","미술보조용품","목각인형"]
["50003789","생활/건강","화방용품","미술보조용품","물통"]
["50003794","생활/건강","화방용품","미술보조용품","보조제/접착제/정착제"]
["50003793","생활/건강","화방용품","미술보조용품","아크릴판"]
["50003787","생활/건강","화방용품","미술보조용품","이젤"]
["50003790","생활/건강","화방용품","미술보조용품","컬러가이드"]
["50003791","생활/건강","화방용품","미술보조용품","토시/앞치마/장갑"]
["50003788","생활/건강","화방용품","미술보조용품","팔레트"]
["50003884","생활/건강","화방용품","붓","구성붓/세필붓"]
["50003888","생활/건강","화방용품","붓","서예/동양화붓"]
["50003885","생활/건강","화방용품","붓","수채화붓"]
["50003887","생활/건강","화방용품","붓","아크릴붓"]
["50003886","생활/건강","화방용품","붓","유화붓"]
["50003777","생활/건강","화방용품","서예/동양화용품","먹"]
["50003778","생활/건강","화방용품","서예/동양화용품","먹물"]
["50003783","생활/건강","화방용품","서예/동양화용품","멍석"]
["50003781","생활/건강","화방용품","서예/동양화용품","문진"]
["50003779","생활/건강","화방용품","서예/동양화용품","벼루"]
["50003780","생활/건강","화방용품","서예/동양화용품","연적"]
["50003782","생활/건강","화방용품","서예/동양화용품","전각재료"]
["50003899","생활/건강","화방용품","스케치/드로잉용품","마카"]
["50003894","생활/건강","화방용품","스케치/드로잉용품","목탄/콘테"]
["50003895","생활/건강","화방용품","스케치/드로잉용품","수채색연필"]
["50003898","생활/건강","화방용품","스케치/드로잉용품","오일파스텔"]
["50003896","생활/건강","화방용품","스케치/드로잉용품","유성색연필"]
["50003900","생활/건강","화방용품","스케치/드로잉용품","크레파스"]
["50003897","생활/건강","화방용품","스케치/드로잉용품","파스텔"]
["50003901","생활/건강","화방용품","애니메이션용품","라이트박스"]
["50003902","생활/건강","화방용품","애니메이션용품","만화원고지"]
["50003904","생활/건강","화방용품","애니메이션용품","스크린톤"]
["50003903","생활/건강","화방용품","애니메이션용품","펜촉/펜대"]
["50000636","생활/건강","화방용품","우드락/폼보드"]
["50003802","생활/건강","화방용품","전문지류/미술지류","간지"]
["50003801","생활/건강","화방용품","전문지류/미술지류","골판지"]
["50003798","생활/건강","화방용품","전문지류/미술지류","미술용지"]
["50003803","생활/건강","화방용품","전문지류/미술지류","색종이/종이접기"]
["50003797","생활/건강","화방용품","전문지류/미술지류","스케치북/크로키북"]
["50003796","생활/건강","화방용품","전문지류/미술지류","캔버스/판넬"]
["50003799","생활/건강","화방용품","전문지류/미술지류","한지/공예용지"]
["50003800","생활/건강","화방용품","전문지류/미술지류","화선지"]
["50003905","생활/건강","화방용품","조소/판화용품","조소용품"]
["50003906","생활/건강","화방용품","조소/판화용품","찰흙/점토"]
["50003907","생활/건강","화방용품","조소/판화용품","클레이"]
["50003908","생활/건강","화방용품","조소/판화용품","판화용품"]
["50003882","생활/건강","화방용품","페인트/염료/잉크","염료"]
["50003883","생활/건강","화방용품","페인트/염료/잉크","잉크"]
["50003881","생활/건강","화방용품","페인트/염료/잉크","페인트"]
["50006844","스포츠/레저","검도","검도보호용품"]
["50001276","스포츠/레저","검도","기타검도용품"]
["50001270","스포츠/레저","검도","도복"]
["50001267","스포츠/레저","검도","죽도"]
["50001268","스포츠/레저","검도","죽도집/부속품"]
["50001269","스포츠/레저","검도","타격대"]
["50001741","스포츠/레저","골프","골프공"]
["50002795","스포츠/레저","골프","골프백","골프백세트"]
["50002794","스포츠/레저","골프","골프백","골프파우치"]
["50002790","스포츠/레저","골프","골프백","보스턴백"]
["50002791","스포츠/레저","골프","골프백","캐디백"]
["50002792","스포츠/레저","골프","골프백","하프백"]
["50002793","스포츠/레저","골프","골프백","항공커버"]
["50002812","스포츠/레저","골프","골프연습용품","골프책"]
["50002811","스포츠/레저","골프","골프연습용품","스윙용품"]
["50002813","스포츠/레저","골프","골프연습용품","실외용품"]
["50002810","스포츠/레저","골프","골프연습용품","퍼팅용품"]
["50002797","스포츠/레저","골프","골프의류","니트"]
["50002801","스포츠/레저","골프","골프의류","바지"]
["50002802","스포츠/레저","골프","골프의류","스커트"]
["50006377","스포츠/레저","골프","골프의류","원피스"]
["50002799","스포츠/레저","골프","골프의류","재킷"]
["50002798","스포츠/레저","골프","골프의류","점퍼"]
["50002800","스포츠/레저","골프","골프의류","조끼"]
["50002796","스포츠/레저","골프","골프의류","티셔츠"]
["50002805","스포츠/레저","골프","골프잡화","모자"]
["50002807","스포츠/레저","골프","골프잡화","벨트"]
["50002808","스포츠/레저","골프","골프잡화","슈즈백"]
["50002809","스포츠/레저","골프","골프잡화","스파이크"]
["50002806","스포츠/레저","골프","골프잡화","양말"]
["50002804","스포츠/레저","골프","골프잡화","장갑"]
["50002668","스포츠/레저","골프","골프클럽","드라이버"]
["50002670","스포츠/레저","골프","골프클럽","아이언"]
["50002786","스포츠/레저","골프","골프클럽","연습용클럽"]
["50002783","스포츠/레저","골프","골프클럽","웨지"]
["50002787","스포츠/레저","골프","골프클럽","주니어용클럽"]
["50002784","스포츠/레저","골프","골프클럽","치퍼"]
["50002785","스포츠/레저","골프","골프클럽","퍼터"]
["50002669","스포츠/레저","골프","골프클럽","페어웨이우드"]
["50002788","스포츠/레저","골프","골프클럽","풀세트"]
["50002789","스포츠/레저","골프","골프클럽","피팅헤드/샤프트"]
["50002782","스포츠/레저","골프","골프클럽","하이브리드/유틸리티"]
["50002814","스포츠/레저","골프","골프필드용품","거리측정기"]
["50002817","스포츠/레저","골프","골프필드용품","골프티"]
["50002818","스포츠/레저","골프","골프필드용품","그립"]
["50002820","스포츠/레저","골프","골프필드용품","기타필드용품"]
["50002816","스포츠/레저","골프","골프필드용품","레인코트"]
["50002815","스포츠/레저","골프","골프필드용품","우산"]
["50002819","스포츠/레저","골프","골프필드용품","헤드커버"]
["50001740","스포츠/레저","골프","골프화"]
["50001742","스포츠/레저","골프","로스트볼"]
["50001279","스포츠/레저","권투","글러브"]
["50001280","스포츠/레저","권투","미트"]
["50001281","스포츠/레저","권투","샌드백"]
["50007149","스포츠/레저","권투","핸드랩"]
["50000022","스포츠/레저","기타스포츠용품"]
["50006890","스포츠/레저","낚시","낚시공구","가위/라인커터/핀온릴"]
["50006895","스포츠/레저","낚시","낚시공구","기타낚시공구"]
["50006894","스포츠/레저","낚시","낚시공구","낚시칼"]
["50006893","스포츠/레저","낚시","낚시공구","도래"]
["50006892","스포츠/레저","낚시","낚시공구","립그립/고기집게"]
["50007078","스포츠/레저","낚시","낚시공구","바늘결속기"]
["50006891","스포츠/레저","낚시","낚시공구","포셉/바늘빼기"]
["50006889","스포츠/레저","낚시","낚시공구","플라이어/니퍼"]
["50003002","스포츠/레저","낚시","낚시릴","베이트릴"]
["50003003","스포츠/레저","낚시","낚시릴","스피닝릴"]
["50003004","스포츠/레저","낚시","낚시릴","전동릴"]
["50003005","스포츠/레저","낚시","낚시릴","플라이릴"]
["50003043","스포츠/레저","낚시","낚시용품","가프"]
["50006916","스포츠/레저","낚시","낚시용품","기포기"]
["50003033","스포츠/레저","낚시","낚시용품","낚시의자"]
["50003034","스포츠/레저","낚시","낚시용품","낚시텐트"]
["50003037","스포츠/레저","낚시","낚시용품","두레박"]
["50003042","스포츠/레저","낚시","낚시용품","뜰채/망/꿰미"]
["50003035","스포츠/레저","낚시","낚시용품","밑밥주걱"]
["50003036","스포츠/레저","낚시","낚시용품","밑밥통/살림통"]
["50003039","스포츠/레저","낚시","낚시용품","봉돌/싱커"]
["50006917","스포츠/레저","낚시","낚시용품","어군탐지기"]
["50003038","스포츠/레저","낚시","낚시용품","케미/집어등"]
["50003040","스포츠/레저","낚시","낚시용품","쿨백"]
["50003041","스포츠/레저","낚시","낚시용품","태클박스"]
["50003044","스포츠/레저","낚시","낚시의류/잡화","낚시복"]
["50003046","스포츠/레저","낚시","낚시의류/잡화","낚시신발"]
["50003047","스포츠/레저","낚시","낚시의류/잡화","낚시장갑"]
["50003048","스포츠/레저","낚시","낚시의류/잡화","낚시장화"]
["50003045","스포츠/레저","낚시","낚시의류/잡화","낚시조끼"]
["50006914","스포츠/레저","낚시","낚시의류/잡화","모자"]
["50006915","스포츠/레저","낚시","낚시의류/잡화","힙커버/힙가드"]
["50002997","스포츠/레저","낚시","낚싯대","민물낚싯대"]
["50002998","스포츠/레저","낚시","낚싯대","민물루어낚싯대"]
["50007050","스포츠/레저","낚시","낚싯대","바다루어낚싯대"]
["50002999","스포츠/레저","낚시","낚싯대","바다민장대"]
["50007052","스포츠/레저","낚시","낚싯대","바다선상낚싯대"]
["50007051","스포츠/레저","낚시","낚싯대","바다원투낚싯대"]
["50003000","스포츠/레저","낚시","낚싯대","바다찌낚싯대"]
["50003001","스포츠/레저","낚시","낚싯대","플라이낚싯대"]
["50003006","스포츠/레저","낚시","낚싯줄","모노라인"]
["50003007","스포츠/레저","낚시","낚싯줄","카본라인"]
["50003009","스포츠/레저","낚시","낚싯줄","플라이라인"]
["50003008","스포츠/레저","낚시","낚싯줄","합사라인"]
["50003012","스포츠/레저","낚시","루어낚시","루어가방"]
["50003015","스포츠/레저","낚시","루어낚시","루어낚시세트"]
["50003014","스포츠/레저","낚시","루어낚시","루어로드케이스"]
["50003013","스포츠/레저","낚시","루어낚시","바늘"]
["50003011","스포츠/레저","낚시","루어낚시","소프트베이트"]
["50003010","스포츠/레저","낚시","루어낚시","하드베이트"]
["50003016","스포츠/레저","낚시","민물낚시","떡밥"]
["50003018","스포츠/레저","낚시","민물낚시","민물낚시가방"]
["50003020","스포츠/레저","낚시","민물낚시","민물낚시세트"]
["50003019","스포츠/레저","낚시","민물낚시","민물낚싯바늘"]
["50003021","스포츠/레저","낚시","민물낚시","받침대/받침틀/뒤꽂이"]
["50003022","스포츠/레저","낚시","민물낚시","얼음낚시"]
["50003023","스포츠/레저","낚시","민물낚시","찌"]
["50003024","스포츠/레저","낚시","민물낚시","찌케이스"]
["50003026","스포츠/레저","낚시","바다낚시","밑밥"]
["50003027","스포츠/레저","낚시","바다낚시","바다낚시가방"]
["50003029","스포츠/레저","낚시","바다낚시","바다낚시세트"]
["50003028","스포츠/레저","낚시","바다낚시","바다낚싯바늘"]
["50003030","스포츠/레저","낚시","바다낚시","찌"]
["50003031","스포츠/레저","낚시","바다낚시","찌케이스"]
["50001442","스포츠/레저","농구","기타농구용품"]
["50001440","스포츠/레저","농구","농구공"]
["50001441","스포츠/레저","농구","농구공가방"]
["50001439","스포츠/레저","농구","농구대"]
["50005249","스포츠/레저","농구","농구의류"]
["50001438","스포츠/레저","농구","농구화"]
["50000021","스포츠/레저","당구용품"]
["50005461","스포츠/레저","댄스","댄스복"]
["50001278","스포츠/레저","댄스","댄스소품"]
["50001303","스포츠/레저","등산","기타등산장비"]
["50001769","스포츠/레저","등산","등산가방"]
["50002634","스포츠/레저","등산","등산의류","기능성언더웨어"]
["50002631","스포츠/레저","등산","등산의류","긴팔티셔츠"]
["50002632","스포츠/레저","등산","등산의류","바지"]
["50002630","스포츠/레저","등산","등산의류","반팔티셔츠"]
["50002633","스포츠/레저","등산","등산의류","세트"]
["50002627","스포츠/레저","등산","등산의류","재킷"]
["50002628","스포츠/레저","등산","등산의류","점퍼"]
["50002629","스포츠/레저","등산","등산의류","조끼"]
["50002635","스포츠/레저","등산","등산잡화","모자"]
["50002637","스포츠/레저","등산","등산잡화","양말"]
["50002636","스포츠/레저","등산","등산잡화","장갑"]
["50002643","스포츠/레저","등산","등산장비","GPS"]
["50002641","스포츠/레저","등산","등산장비","나침반"]
["50002642","스포츠/레저","등산","등산장비","로프"]
["50002644","스포츠/레저","등산","등산장비","물병"]
["50002647","스포츠/레저","등산","등산장비","손난로"]
["50002645","스포츠/레저","등산","등산장비","스틱"]
["50002640","스포츠/레저","등산","등산장비","스패츠"]
["50002639","스포츠/레저","등산","등산장비","아이젠"]
["50002646","스포츠/레저","등산","등산장비","카라비너"]
["50002648","스포츠/레저","등산","등산장비","핫팩"]
["50001768","스포츠/레저","등산","등산화"]
["50000020","스포츠/레저","마라톤용품"]
["50001290","스포츠/레저","무술용품","기타무술용품"]
["50001288","스포츠/레저","무술용품","목검/가검"]
["50001289","스포츠/레저","무술용품","봉/곤/창"]
["50001447","스포츠/레저","배구","기타배구용품"]
["50001443","스포츠/레저","배구","배구공"]
["50001444","스포츠/레저","배구","배구네트"]
["50005250","스포츠/레저","배구","배구의류"]
["50001445","스포츠/레저","배구","배구화"]
["50001354","스포츠/레저","배드민턴","그립"]
["50001357","스포츠/레저","배드민턴","기타배드민턴용품"]
["50001351","스포츠/레저","배드민턴","배드민턴가방"]
["50001355","스포츠/레저","배드민턴","배드민턴네트"]
["50001349","스포츠/레저","배드민턴","배드민턴라켓"]
["50005252","스포츠/레저","배드민턴","배드민턴의류"]
["50001350","스포츠/레저","배드민턴","배드민턴화"]
["50001352","스포츠/레저","배드민턴","셔틀콕"]
["50001353","스포츠/레저","배드민턴","스트링"]
["50001356","스포츠/레저","배드민턴","연습용품"]
["50001284","스포츠/레저","보호용품","급소보호대"]
["50007240","스포츠/레저","보호용품","다리보호대"]
["50001282","스포츠/레저","보호용품","마우스피스"]
["50001283","스포츠/레저","보호용품","머리보호대"]
["50001285","스포츠/레저","보호용품","몸통보호대"]
["50007241","스포츠/레저","보호용품","무릎보호대"]
["50007242","스포츠/레저","보호용품","발목보호대"]
["50001286","스포츠/레저","보호용품","배보호대"]
["50007239","스포츠/레저","보호용품","손목보호대"]
["50007244","스포츠/레저","보호용품","어깨보호대"]
["50007238","스포츠/레저","보호용품","테이핑요법"]
["50001287","스포츠/레저","보호용품","팔보호대"]
["50007243","스포츠/레저","보호용품","허리보호대"]
["50001251","스포츠/레저","볼링","볼링가방"]
["50001247","스포츠/레저","볼링","볼링공"]
["50001248","스포츠/레저","볼링","볼링용품"]
["50005254","스포츠/레저","볼링","볼링의류"]
["50001249","스포츠/레저","볼링","볼링화"]
["50001250","스포츠/레저","볼링","아대"]
["50001294","스포츠/레저","수련용품","격파용품"]
["50001295","스포츠/레저","수련용품","교본"]
["50001296","스포츠/레저","수련용품","기타수련용품"]
["50001293","스포츠/레저","수련용품","띠/벨트"]
["50001291","스포츠/레저","수련용품","무도복"]
["50001292","스포츠/레저","수련용품","수련화"]
["50003049","스포츠/레저","수영","남성수영복","남성사각"]
["50003050","스포츠/레저","수영","남성수영복","남성삼각"]
["50003051","스포츠/레저","수영","남성수영복","반신수영복"]
["50003052","스포츠/레저","수영","남성수영복","전신수영복"]
["50006379","스포츠/레저","수영","비치웨어","상의"]
["50006381","스포츠/레저","수영","비치웨어","상하세트"]
["50003058","스포츠/레저","수영","비치웨어","스커트"]
["50003057","스포츠/레저","수영","비치웨어","원피스"]
["50003063","스포츠/레저","수영","비치웨어","커플비치웨어"]
["50006380","스포츠/레저","수영","비치웨어","팬츠"]
["50003068","스포츠/레저","수영","수영용품","구명조끼"]
["50003066","스포츠/레저","수영","수영용품","귀마개"]
["50003075","스포츠/레저","수영","수영용품","기타수영용품"]
["50003069","스포츠/레저","수영","수영용품","방수팩"]
["50003071","스포츠/레저","수영","수영용품","보트"]
["50003065","스포츠/레저","수영","수영용품","수경"]
["50003070","스포츠/레저","수영","수영용품","수영가방"]
["50003064","스포츠/레저","수영","수영용품","수영모"]
["50003072","스포츠/레저","수영","수영용품","스노클/마스크"]
["50003073","스포츠/레저","수영","수영용품","오리발"]
["50003074","스포츠/레저","수영","수영용품","조립식수영장"]
["50003067","스포츠/레저","수영","수영용품","튜브"]
["50005462","스포츠/레저","수영","여성수영복","기타수영복"]
["50007016","스포츠/레저","수영","여성수영복","모노키니"]
["50003056","스포츠/레저","수영","여성수영복","비키니"]
["50003055","스포츠/레저","수영","여성수영복","원피스수영복"]
["50001543","스포츠/레저","스케이트/보드/롤러","롤러슈즈"]
["50001541","스포츠/레저","스케이트/보드/롤러","스네이크보드"]
["50001538","스포츠/레저","스케이트/보드/롤러","스케이트보드"]
["50001540","스포츠/레저","스케이트/보드/롤러","스케이트보드용품"]
["50001542","스포츠/레저","스케이트/보드/롤러","아이스스케이트"]
["50001544","스포츠/레저","스케이트/보드/롤러","킥보드"]
["50001545","스포츠/레저","스케이트/보드/롤러","트라이스키"]
["50005286","스포츠/레저","스케이트/보드/롤러","핑거보드"]
["50001368","스포츠/레저","스쿼시","기타스쿼시용품"]
["50001366","스포츠/레저","스쿼시","스쿼시공"]
["50001365","스포츠/레저","스쿼시","스쿼시라켓"]
["50002881","스포츠/레저","스키/보드","보드복","상하세트"]
["50002876","스포츠/레저","스키/보드","보드복","재킷"]
["50002877","스포츠/레저","스키/보드","보드복","조끼"]
["50002878","스포츠/레저","스키/보드","보드복","티셔츠"]
["50002880","스포츠/레저","스키/보드","보드복","하의"]
["50002879","스포츠/레저","스키/보드","보드복","후드티"]
["50002882","스포츠/레저","스키/보드","스노보드장비","데크"]
["50002883","스포츠/레저","스키/보드","스노보드장비","바인딩"]
["50002980","스포츠/레저","스키/보드","스노보드장비","부츠"]
["50002981","스포츠/레저","스키/보드","스노보드장비","스노보드세트"]
["50002982","스포츠/레저","스키/보드","스키/보드방한용품","귀마개"]
["50002985","스포츠/레저","스키/보드","스키/보드방한용품","반다나"]
["50002986","스포츠/레저","스키/보드","스키/보드방한용품","비니"]
["50002987","스포츠/레저","스키/보드","스키/보드방한용품","양말"]
["50002988","스포츠/레저","스키/보드","스키/보드방한용품","장갑"]
["50002989","스포츠/레저","스키/보드","스키/보드용품","고글"]
["50002991","스포츠/레저","스키/보드","스키/보드용품","보드가방"]
["50002992","스포츠/레저","스키/보드","스키/보드용품","보수장비"]
["50002993","스포츠/레저","스키/보드","스키/보드용품","보호대"]
["50002994","스포츠/레저","스키/보드","스키/보드용품","스티커용품"]
["50002996","스포츠/레저","스키/보드","스키/보드용품","시즌권케이스"]
["50002995","스포츠/레저","스키/보드","스키/보드용품","헬멧"]
["50002869","스포츠/레저","스키/보드","스키복","상의"]
["50002871","스포츠/레저","스키/보드","스키복","상하세트"]
["50002870","스포츠/레저","스키/보드","스키복","하의"]
["50002872","스포츠/레저","스키/보드","스키장비","부츠"]
["50002875","스포츠/레저","스키/보드","스키장비","스키세트"]
["50002873","스포츠/레저","스키/보드","스키장비","폴"]
["50002874","스포츠/레저","스키/보드","스키장비","플레이트"]
["50001257","스포츠/레저","스킨스쿠버","게이지"]
["50001256","스포츠/레저","스킨스쿠버","글러브"]
["50001258","스포츠/레저","스킨스쿠버","기어백"]
["50001266","스포츠/레저","스킨스쿠버","기타스킨스쿠버용품"]
["50001265","스포츠/레저","스킨스쿠버","납"]
["50001252","스포츠/레저","스킨스쿠버","다이빙슈트"]
["50001255","스포츠/레저","스킨스쿠버","다이빙칼"]
["50001259","스포츠/레저","스킨스쿠버","레귤레이터"]
["50001260","스포츠/레저","스킨스쿠버","리트렉터"]
["50001253","스포츠/레저","스킨스쿠버","부력재킷"]
["50001254","스포츠/레저","스킨스쿠버","부츠"]
["50001261","스포츠/레저","스킨스쿠버","수중전등"]
["50001262","스포츠/레저","스킨스쿠버","수중총/작살"]
["50001263","스포츠/레저","스킨스쿠버","옥토퍼스"]
["50001264","스포츠/레저","스킨스쿠버","호스"]
["50005302","스포츠/레저","스포츠액세서리","볼캐리어"]
["50001177","스포츠/레저","스포츠액세서리","스코어보드/작전판"]
["50006375","스포츠/레저","스포츠액세서리","스포츠넥워머"]
["50006374","스포츠/레저","스포츠액세서리","스포츠마스크"]
["50001297","스포츠/레저","스포츠액세서리","스포츠선글라스"]
["50001302","스포츠/레저","스포츠액세서리","스포츠토시"]
["50001301","스포츠/레저","스포츠액세서리","스포츠헤어밴드"]
["50006376","스포츠/레저","스포츠액세서리","아이스머플러/스카프"]
["50001179","스포츠/레저","스포츠액세서리","호각/호루라기"]
["50001556","스포츠/레저","야구","글러브"]
["50001437","스포츠/레저","야구","기타야구용품"]
["50001436","스포츠/레저","야구","야구가방"]
["50001434","스포츠/레저","야구","야구공"]
["50001559","스포츠/레저","야구","야구배트"]
["50001433","스포츠/레저","야구","야구보호대"]
["50001435","스포츠/레저","야구","야구양말"]
["50005248","스포츠/레저","야구","야구의류"]
["50001560","스포츠/레저","야구","야구장갑"]
["50001558","스포츠/레저","야구","야구화"]
["50001180","스포츠/레저","야구","포수장비"]
["50001557","스포츠/레저","야구","헬멧"]
["50007249","스포츠/레저","오토바이/스쿠터","스쿠터","일반스쿠터"]
["50007250","스포츠/레저","오토바이/스쿠터","스쿠터","전동스쿠터"]
["50001546","스포츠/레저","오토바이/스쿠터","오토바이"]
["50003280","스포츠/레저","오토바이/스쿠터","오토바이부품","기타오토바이부품"]
["50003177","스포츠/레저","오토바이/스쿠터","오토바이부품","오일"]
["50003178","스포츠/레저","오토바이/스쿠터","오토바이부품","잠금장치"]
["50003179","스포츠/레저","오토바이/스쿠터","오토바이부품","튜닝용품"]
["50003182","스포츠/레저","오토바이/스쿠터","오토바이용품","기타오토바이용품"]
["50003181","스포츠/레저","오토바이/스쿠터","오토바이용품","보호대"]
["50003180","스포츠/레저","오토바이/스쿠터","오토바이용품","헬멧"]
["50003186","스포츠/레저","오토바이/스쿠터","오토바이의류/잡화","바이크장갑"]
["50003183","스포츠/레저","오토바이/스쿠터","오토바이의류/잡화","상의"]
["50003185","스포츠/레저","오토바이/스쿠터","오토바이의류/잡화","상하세트"]
["50003184","스포츠/레저","오토바이/스쿠터","오토바이의류/잡화","하의"]
["50006189","스포츠/레저","오토바이/스쿠터","전동휠"]
["50001527","스포츠/레저","요가/필라테스","요가매트"]
["50003171","스포츠/레저","요가/필라테스","요가복","상의"]
["50003173","스포츠/레저","요가/필라테스","요가복","상하세트"]
["50003172","스포츠/레저","요가/필라테스","요가복","하의"]
["50001528","스포츠/레저","요가/필라테스","요가용품"]
["50001529","스포츠/레저","요가/필라테스","필라테스"]
["50005463","스포츠/레저","인라인스케이트","성인용"]
["50006768","스포츠/레저","인라인스케이트","인라인용품"]
["50001534","스포츠/레저","인라인스케이트","주니어"]
["50002822","스포츠/레저","자전거","자전거/MTB","MTB"]
["50002824","스포츠/레저","자전거","자전거/MTB","미니벨로"]
["50002825","스포츠/레저","자전거","자전거/MTB","사이클"]
["50002823","스포츠/레저","자전거","자전거/MTB","유사MTB"]
["50002821","스포츠/레저","자전거","자전거/MTB","일반자전거"]
["50002826","스포츠/레저","자전거","자전거/MTB","전기자전거"]
["50002827","스포츠/레저","자전거","자전거/MTB","특수자전거"]
["50002828","스포츠/레저","자전거","자전거/MTB","하이브리드"]
["50002862","스포츠/레저","자전거","자전거부품","기타자전거부품"]
["50002850","스포츠/레저","자전거","자전거부품","바엔드/그립"]
["50002851","스포츠/레저","자전거","자전거부품","변속기"]
["50002852","스포츠/레저","자전거","자전거부품","브레이크"]
["50002853","스포츠/레저","자전거","자전거부품","스탠드"]
["50002854","스포츠/레저","자전거","자전거부품","시트포스트"]
["50002855","스포츠/레저","자전거","자전거부품","안장"]
["50002856","스포츠/레저","자전거","자전거부품","체인"]
["50002857","스포츠/레저","자전거","자전거부품","클릿/페달"]
["50002858","스포츠/레저","자전거","자전거부품","타이어/튜브"]
["50002859","스포츠/레저","자전거","자전거부품","프레임/포크"]
["50002860","스포츠/레저","자전거","자전거부품","핸들바"]
["50002861","스포츠/레저","자전거","자전거부품","휠셋/림/스프라켓"]
["50002830","스포츠/레저","자전거","자전거용품","거치대"]
["50002831","스포츠/레저","자전거","자전거용품","공구"]
["50002849","스포츠/레저","자전거","자전거용품","기타자전거용품"]
["50002832","스포츠/레저","자전거","자전거용품","물통"]
["50007148","스포츠/레저","자전거","자전거용품","바테이프"]
["50002834","스포츠/레저","자전거","자전거용품","백미러"]
["50002835","스포츠/레저","자전거","자전거용품","벨"]
["50002836","스포츠/레저","자전거","자전거용품","보조바퀴"]
["50002837","스포츠/레저","자전거","자전거용품","보호대"]
["50002841","스포츠/레저","자전거","자전거용품","세척제"]
["50002838","스포츠/레저","자전거","자전거용품","속도계"]
["50002840","스포츠/레저","자전거","자전거용품","오일"]
["50002842","스포츠/레저","자전거","자전거용품","자물쇠"]
["50002839","스포츠/레저","자전거","자전거용품","자전거가방"]
["50002843","스포츠/레저","자전거","자전거용품","자전거라이트"]
["50002844","스포츠/레저","자전거","자전거용품","짐받이"]
["50002833","스포츠/레저","자전거","자전거용품","케이지"]
["50002845","스포츠/레저","자전거","자전거용품","펌프"]
["50002846","스포츠/레저","자전거","자전거용품","헬멧"]
["50002848","스포츠/레저","자전거","자전거용품","흙받이"]
["50002868","스포츠/레저","자전거","자전거의류/잡화","두건/밴드"]
["50003281","스포츠/레저","자전거","자전거의류/잡화","배낭"]
["50002863","스포츠/레저","자전거","자전거의류/잡화","상의"]
["50002865","스포츠/레저","자전거","자전거의류/잡화","상하세트"]
["50002866","스포츠/레저","자전거","자전거의류/잡화","신발"]
["50002867","스포츠/레저","자전거","자전거의류/잡화","장갑"]
["50002864","스포츠/레저","자전거","자전거의류/잡화","하의"]
["50001246","스포츠/레저","족구","기타족구용품"]
["50001241","스포츠/레저","족구","족구공"]
["50001242","스포츠/레저","족구","족구네트"]
["50001243","스포츠/레저","족구","족구의류"]
["50001244","스포츠/레저","족구","족구화"]
["50001555","스포츠/레저","축구","기타축구용품"]
["50003188","스포츠/레저","축구","축구가방","슈즈백"]
["50003189","스포츠/레저","축구","축구가방","필드용"]
["50001550","스포츠/레저","축구","축구공"]
["50001552","스포츠/레저","축구","축구보호대"]
["50001553","스포츠/레저","축구","축구양말"]
["50001554","스포츠/레저","축구","축구연습용품"]
["50005247","스포츠/레저","축구","축구의류"]
["50001551","스포츠/레저","축구","축구장갑"]
["50001548","스포츠/레저","축구","축구화"]
["50001549","스포츠/레저","축구","풋살화"]
["50001304","스포츠/레저","캠핑","기타캠핑용품"]
["50001772","스포츠/레저","캠핑","다용도칼"]
["50002656","스포츠/레저","캠핑","랜턴","손전등"]
["50002657","스포츠/레저","캠핑","랜턴","실내등"]
["50002658","스포츠/레저","캠핑","랜턴","헤드랜턴"]
["50001773","스포츠/레저","캠핑","야외용난로"]
["50005342","스포츠/레저","캠핑","야전침대"]
["50001771","스포츠/레저","캠핑","천막"]
["50002667","스포츠/레저","캠핑","취사용품","기타취사용품"]
["50002662","스포츠/레저","캠핑","취사용품","더치오븐"]
["50002663","스포츠/레저","캠핑","취사용품","바비큐그릴"]
["50002660","스포츠/레저","캠핑","취사용품","버너"]
["50006384","스포츠/레저","캠핑","취사용품","부탄가스"]
["50002665","스포츠/레저","캠핑","취사용품","연료"]
["50002664","스포츠/레저","캠핑","취사용품","캠핑컵"]
["50002659","스포츠/레저","캠핑","취사용품","코펠"]
["50002666","스포츠/레저","캠핑","취사용품","휴대용가스레인지"]
["50001775","스포츠/레저","캠핑","침낭"]
["50005341","스포츠/레저","캠핑","캠핑매트"]
["50001776","스포츠/레저","캠핑","캠핑의자"]
["50001777","스포츠/레저","캠핑","캠핑테이블"]
["50001770","스포츠/레저","캠핑","타프"]
["50001778","스포츠/레저","캠핑","테이블세트"]
["50002649","스포츠/레저","캠핑","텐트","1-2인용"]
["50002650","스포츠/레저","캠핑","텐트","2-3인용"]
["50002651","스포츠/레저","캠핑","텐트","3-4인용"]
["50002652","스포츠/레저","캠핑","텐트","4-5인용"]
["50003279","스포츠/레저","캠핑","텐트","5-6인용"]
["50002653","스포츠/레저","캠핑","텐트","6-7인용"]
["50002654","스포츠/레저","캠핑","텐트","7-8인용"]
["50002655","스포츠/레저","캠핑","텐트","9인용 이상"]
["50006378","스포츠/레저","캠핑","텐트용품"]
["50001779","스포츠/레저","캠핑","파라솔"]
["50005343","스포츠/레저","캠핑","해먹"]
["50001348","스포츠/레저","탁구","기타탁구용품"]
["50001449","스포츠/레저","탁구","탁구공"]
["50001450","스포츠/레저","탁구","탁구대"]
["50001448","스포츠/레저","탁구","탁구라켓"]
["50005251","스포츠/레저","탁구","탁구의류"]
["50001451","스포츠/레저","탁구","탁구화"]
["50001362","스포츠/레저","테니스","그립"]
["50001364","스포츠/레저","테니스","기타테니스용품"]
["50001363","스포츠/레저","테니스","스트링"]
["50001361","스포츠/레저","테니스","테니스가방"]
["50001360","스포츠/레저","테니스","테니스공"]
["50001358","스포츠/레저","테니스","테니스라켓"]
["50005253","스포츠/레저","테니스","테니스의류"]
["50001359","스포츠/레저","테니스","테니스화"]
["50001524","스포츠/레저","헬스","거꾸리"]
["50003077","스포츠/레저","헬스","러닝머신","고정식"]
["50003076","스포츠/레저","헬스","러닝머신","접이식"]
["50001525","스포츠/레저","헬스","벨트마사지"]
["50001523","스포츠/레저","헬스","복근운동기구"]
["50001608","스포츠/레저","헬스","스텝퍼"]
["50001526","스포츠/레저","헬스","승마운동기"]
["50001604","스포츠/레저","헬스","아령/덤벨"]
["50003160","스포츠/레저","헬스","웨이트기구","바벨"]
["50003157","스포츠/레저","헬스","웨이트기구","벤치프레스"]
["50003162","스포츠/레저","헬스","웨이트기구","복합헬스머신"]
["50003161","스포츠/레저","헬스","웨이트기구","봉/바"]
["50007246","스포츠/레저","헬스","웨이트기구","스쿼트머신"]
["50003158","스포츠/레저","헬스","웨이트기구","싯업벤치"]
["50003159","스포츠/레저","헬스","웨이트기구","웨이트용품"]
["50001607","스포츠/레저","헬스","일립티컬"]
["50001605","스포츠/레저","헬스","줄넘기"]
["50001522","스포츠/레저","헬스","진동운동기"]
["50007245","스포츠/레저","헬스","케틀벨"]
["50001610","스포츠/레저","헬스","트램펄린"]
["50001609","스포츠/레저","헬스","트위스트"]
["50001603","스포츠/레저","헬스","헬스사이클"]
["50003170","스포츠/레저","헬스","헬스소품","기타헬스소품"]
["50003166","스포츠/레저","헬스","헬스소품","모래주머니"]
["50003167","스포츠/레저","헬스","헬스소품","손목근력기"]
["50003168","스포츠/레저","헬스","헬스소품","악력기"]
["50003169","스포츠/레저","헬스","헬스소품","완력기"]
["50003163","스포츠/레저","헬스","헬스소품","짐볼"]
["50006382","스포츠/레저","헬스","헬스소품","폼롤러"]
["50003164","스포츠/레저","헬스","헬스소품","푸시업바"]
["50003165","스포츠/레저","헬스","헬스소품","헬스장갑"]
["50001606","스포츠/레저","헬스","훌라후프"]
["50001894","식품","가공식품","간편조리식"]
["50001754","식품","가공식품","기타분말가루"]
["50001760","식품","가공식품","누룽지"]
["50002007","식품","가공식품","두유"]
["50001888","식품","가공식품","떡"]
["50002385","식품","가공식품","라면","봉지라면"]
["50002386","식품","가공식품","라면","컵라면"]
["50001758","식품","가공식품","마가린"]
["50002387","식품","가공식품","면류","국수면"]
["50002390","식품","가공식품","면류","냉면"]
["50002388","식품","가공식품","면류","당면"]
["50002599","식품","가공식품","면류","소면"]
["50002392","식품","가공식품","면류","소바"]
["50002389","식품","가공식품","면류","스파게티면"]
["50002598","식품","가공식품","면류","쌀국수면"]
["50002393","식품","가공식품","면류","우동"]
["50002394","식품","가공식품","면류","쫄면"]
["50002391","식품","가공식품","면류","칼국수면"]
["50001755","식품","가공식품","물엿"]
["50001883","식품","가공식품","밀가루"]
["50001759","식품","가공식품","버터"]
["50001879","식품","가공식품","부침가루"]
["50001889","식품","가공식품","빵"]
["50001880","식품","가공식품","빵가루"]
["50001757","식품","가공식품","생크림"]
["50001884","식품","가공식품","설탕"]
["50001885","식품","가공식품","소금"]
["50002424","식품","가공식품","소스","기타소스"]
["50002421","식품","가공식품","소스","마요네즈"]
["50002423","식품","가공식품","소스","스파게티소스"]
["50002422","식품","가공식품","소스","케첩"]
["50002600","식품","가공식품","수산가공식품","맛살/게살"]
["50002601","식품","가공식품","수산가공식품","해물볶음류"]
["50002602","식품","가공식품","수산가공식품","해물찜류"]
["50002603","식품","가공식품","수산가공식품","해물탕류"]
["50002604","식품","가공식품","수산가공식품","해물튀김류"]
["50001761","식품","가공식품","스프"]
["50001886","식품","가공식품","시럽"]
["50002008","식품","가공식품","시리얼"]
["50002412","식품","가공식품","식용유/오일","기타기름"]
["50002410","식품","가공식품","식용유/오일","들기름"]
["50002405","식품","가공식품","식용유/오일","식용유"]
["50002406","식품","가공식품","식용유/오일","올리브유"]
["50002411","식품","가공식품","식용유/오일","참기름"]
["50002407","식품","가공식품","식용유/오일","카놀라유"]
["50002408","식품","가공식품","식용유/오일","포도씨유"]
["50002409","식품","가공식품","식용유/오일","해바라기씨유"]
["50001881","식품","가공식품","오트밀"]
["50001756","식품","가공식품","요구르트"]
["50002006","식품","가공식품","우유"]
["50002415","식품","가공식품","장류","간장"]
["50002413","식품","가공식품","장류","고추장"]
["50002420","식품","가공식품","장류","기타장류"]
["50002414","식품","가공식품","장류","된장"]
["50002419","식품","가공식품","장류","메주"]
["50002417","식품","가공식품","장류","쌈장"]
["50002418","식품","가공식품","장류","양념장"]
["50002416","식품","가공식품","장류","청국장"]
["50001887","식품","가공식품","잼"]
["50001895","식품","가공식품","제과/제빵재료"]
["50007147","식품","가공식품","조미료","겨자"]
["50002402","식품","가공식품","조미료","고추냉이"]
["50002399","식품","가공식품","조미료","고춧가루"]
["50002404","식품","가공식품","조미료","기타조미료"]
["50002400","식품","가공식품","조미료","식초"]
["50002401","식품","가공식품","조미료","액젓"]
["50002403","식품","가공식품","조미료","후추"]
["50001892","식품","가공식품","죽"]
["50001891","식품","가공식품","즉석밥"]
["50002398","식품","가공식품","치즈","기타치즈"]
["50002395","식품","가공식품","치즈","슬라이스치즈"]
["50002397","식품","가공식품","치즈","크림치즈"]
["50002396","식품","가공식품","치즈","피자치즈"]
["50001890","식품","가공식품","케이크"]
["50006815","식품","가공식품","쿠킹박스","간식/디저트"]
["50006812","식품","가공식품","쿠킹박스","구이"]
["50006811","식품","가공식품","쿠킹박스","면/파스타"]
["50006809","식품","가공식품","쿠킹박스","밥/죽"]
["50006813","식품","가공식품","쿠킹박스","볶음/튀김"]
["50006816","식품","가공식품","쿠킹박스","세트요리"]
["50006814","식품","가공식품","쿠킹박스","조림/찜"]
["50006810","식품","가공식품","쿠킹박스","찌개/국"]
["50001882","식품","가공식품","통조림"]
["50001753","식품","가공식품","튀김가루"]
["50006198","식품","가공식품","파우더/스무디"]
["50001900","식품","건강식품","건강분말"]
["50001897","식품","건강식품","건강음료"]
["50007007","식품","건강식품","건강즙","기타건강즙"]
["50007004","식품","건강식품","건강즙","비트즙"]
["50007001","식품","건강식품","건강즙","양배추즙"]
["50007002","식품","건강식품","건강즙","양파즙"]
["50007005","식품","건강식품","건강즙","칡즙"]
["50007006","식품","건강식품","건강즙","토마토즙"]
["50007003","식품","건강식품","건강즙","호박즙"]
["50001899","식품","건강식품","건강환/정"]
["50007015","식품","건강식품","과일즙","기타과일즙"]
["50007013","식품","건강식품","과일즙","배즙"]
["50007014","식품","건강식품","과일즙","블루베리즙"]
["50007010","식품","건강식품","과일즙","사과즙"]
["50007009","식품","건강식품","과일즙","석류즙"]
["50007012","식품","건강식품","과일즙","아로니아즙"]
["50007011","식품","건강식품","과일즙","포도즙"]
["50001905","식품","건강식품","꿀"]
["50002429","식품","건강식품","비타민제","기타비타민"]
["50002425","식품","건강식품","비타민제","멀티비타민"]
["50007044","식품","건강식품","비타민제","비오틴"]
["50002426","식품","건강식품","비타민제","비타민A"]
["50002427","식품","건강식품","비타민제","비타민B"]
["50002428","식품","건강식품","비타민제","비타민C"]
["50007042","식품","건강식품","비타민제","비타민D"]
["50007043","식품","건강식품","비타민제","비타민E"]
["50007036","식품","건강식품","영양제","MSM"]
["50002448","식품","건강식품","영양제","감마리놀렌산"]
["50002446","식품","건강식품","영양제","글루코사민"]
["50002615","식품","건강식품","영양제","기타건강기능식품"]
["50002439","식품","건강식품","영양제","로얄제리"]
["50002608","식품","건강식품","영양제","루테인"]
["50002444","식품","건강식품","영양제","마그네슘"]
["50007031","식품","건강식품","영양제","밀크씨슬"]
["50007033","식품","건강식품","영양제","보스웰리아"]
["50007034","식품","건강식품","영양제","셀레늄"]
["50002609","식품","건강식품","영양제","스쿠알렌"]
["50002620","식품","건강식품","영양제","스피루리나"]
["50002610","식품","건강식품","영양제","쏘팔메토"]
["50002441","식품","건강식품","영양제","아연"]
["50002616","식품","건강식품","영양제","알로에정/겔"]
["50002440","식품","건강식품","영양제","엽산"]
["50002447","식품","건강식품","영양제","오메가3"]
["50002442","식품","건강식품","영양제","철분"]
["50007035","식품","건강식품","영양제","칼륨"]
["50002443","식품","건강식품","영양제","칼슘"]
["50002617","식품","건강식품","영양제","코큐텐"]
["50002621","식품","건강식품","영양제","클로렐라"]
["50002612","식품","건강식품","영양제","키토산"]
["50007032","식품","건강식품","영양제","폴리코사놀"]
["50007030","식품","건강식품","영양제","프로바이오틱스"]
["50002445","식품","건강식품","영양제","프로폴리스"]
["50007218","식품","건강식품","영양제","프리바이오틱스"]
["50002613","식품","건강식품","영양제","환자식/영양보충식"]
["50002614","식품","건강식품","영양제","효모"]
["50001902","식품","건강식품","인삼"]
["50002430","식품","건강식품","한방재료","가시오가피"]
["50002431","식품","건강식품","한방재료","감초"]
["50002432","식품","건강식품","한방재료","계피"]
["50002433","식품","건강식품","한방재료","구기자"]
["50002622","식품","건강식품","한방재료","기타한방재료"]
["50002434","식품","건강식품","한방재료","녹용"]
["50002435","식품","건강식품","한방재료","산수유"]
["50002436","식품","건강식품","한방재료","오미자"]
["50002437","식품","건강식품","한방재료","헛개나무"]
["50002438","식품","건강식품","한방재료","황기"]
["50001901","식품","건강식품","홍삼"]
["50001920","식품","과자","가공안주류"]
["50001918","식품","과자","강냉이"]
["50001919","식품","과자","강정"]
["50001921","식품","과자","기타과자"]
["50002002","식품","과자","껌"]
["50002001","식품","과자","사탕"]
["50001998","식품","과자","스낵"]
["50001762","식품","과자","엿"]
["50002004","식품","과자","전병"]
["50001763","식품","과자","젤리"]
["50002000","식품","과자","초콜릿"]
["50001765","식품","과자","캐러멜"]
["50001999","식품","과자","쿠키"]
["50001764","식품","과자","푸딩"]
["50002003","식품","과자","한과"]
["50002005","식품","과자","화과자"]
["50002020","식품","김치","갓김치"]
["50002023","식품","김치","겉절이"]
["50002022","식품","김치","깍두기"]
["50002024","식품","김치","나박김치"]
["50002025","식품","김치","동치미"]
["50002026","식품","김치","묵은지"]
["50002027","식품","김치","백김치"]
["50002030","식품","김치","별미김치"]
["50002028","식품","김치","열무김치"]
["50002031","식품","김치","절임배추"]
["50002021","식품","김치","총각김치"]
["50002029","식품","김치","파김치"]
["50002019","식품","김치","포기김치"]
["50001878","식품","냉동/간편조리식품","기타냉동/간편조리식품"]
["50006199","식품","냉동/간편조리식품","도시락"]
["50001870","식품","냉동/간편조리식품","딤섬"]
["50001871","식품","냉동/간편조리식품","만두"]
["50001873","식품","냉동/간편조리식품","샐러드"]
["50001874","식품","냉동/간편조리식품","어묵"]
["50001876","식품","냉동/간편조리식품","즉석국/즉석탕"]
["50001872","식품","냉동/간편조리식품","채식푸드"]
["50001877","식품","냉동/간편조리식품","튀김류"]
["50001867","식품","냉동/간편조리식품","피자"]
["50001868","식품","냉동/간편조리식품","핫도그"]
["50001869","식품","냉동/간편조리식품","햄버거"]
["50002449","식품","농산물","건과류","감말랭이"]
["50002450","식품","농산물","건과류","건망고"]
["50002451","식품","농산물","건과류","건바나나"]
["50002452","식품","농산물","건과류","건자두"]
["50002453","식품","농산물","건과류","건포도"]
["50002454","식품","농산물","건과류","곶감"]
["50002455","식품","농산물","건과류","기타건과류"]
["50002249","식품","농산물","견과류","기타견과류"]
["50002238","식품","농산물","견과류","대추"]
["50002236","식품","농산물","견과류","땅콩"]
["50002244","식품","농산물","견과류","마카다미아"]
["50002237","식품","농산물","견과류","밤"]
["50002240","식품","농산물","견과류","아몬드"]
["50002239","식품","농산물","견과류","은행"]
["50002241","식품","농산물","견과류","잣"]
["50002242","식품","농산물","견과류","캐슈너트"]
["50002245","식품","농산물","견과류","피스타치오"]
["50002246","식품","농산물","견과류","피칸"]
["50002243","식품","농산물","견과류","해바라기씨"]
["50002235","식품","농산물","견과류","호두"]
["50002247","식품","농산물","견과류","호박씨"]
["50002167","식품","농산물","과일","감"]
["50002163","식품","농산물","과일","감귤"]
["50002194","식품","농산물","과일","과일바구니"]
["50002193","식품","농산물","과일","기타과일"]
["50002164","식품","농산물","과일","딸기"]
["50002186","식품","농산물","과일","레몬"]
["50002184","식품","농산물","과일","리치"]
["50002187","식품","농산물","과일","망고"]
["50002169","식품","농산물","과일","매실"]
["50002170","식품","농산물","과일","멜론"]
["50002188","식품","농산물","과일","바나나"]
["50002161","식품","농산물","과일","배"]
["50002172","식품","농산물","과일","복분자"]
["50002183","식품","농산물","과일","복숭아"]
["50002173","식품","농산물","과일","블루베리"]
["50002160","식품","농산물","과일","사과"]
["50002189","식품","농산물","과일","석류"]
["50002175","식품","농산물","과일","수박"]
["50007220","식품","농산물","과일","아보카도"]
["50002190","식품","농산물","과일","오렌지"]
["50002181","식품","농산물","과일","자두"]
["50002191","식품","농산물","과일","자몽"]
["50002177","식품","농산물","과일","참외"]
["50002178","식품","농산물","과일","천혜향"]
["50002185","식품","농산물","과일","체리"]
["50002176","식품","농산물","과일","키위/참다래"]
["50002162","식품","농산물","과일","토마토"]
["50002192","식품","농산물","과일","파인애플"]
["50002180","식품","농산물","과일","포도"]
["50002179","식품","농산물","과일","한라봉"]
["50002195","식품","농산물","과일","혼합과일세트"]
["50004754","식품","농산물","쌀","기능성쌀"]
["50004749","식품","농산물","쌀","백미"]
["50004750","식품","농산물","쌀","찹쌀"]
["50004751","식품","농산물","쌀","현미"]
["50004752","식품","농산물","쌀","흑미"]
["50002155","식품","농산물","잡곡/혼합곡","기장"]
["50002159","식품","농산물","잡곡/혼합곡","기타잡곡"]
["50002149","식품","농산물","잡곡/혼합곡","녹두"]
["50002150","식품","농산물","잡곡/혼합곡","들깨"]
["50002152","식품","농산물","잡곡/혼합곡","메밀"]
["50004755","식품","농산물","잡곡/혼합곡","보리"]
["50002154","식품","농산물","잡곡/혼합곡","수수"]
["50002153","식품","농산물","잡곡/혼합곡","옥수수"]
["50002148","식품","농산물","잡곡/혼합곡","율무"]
["50002151","식품","농산물","잡곡/혼합곡","참깨"]
["50002156","식품","농산물","잡곡/혼합곡","콩"]
["50002157","식품","농산물","잡곡/혼합곡","팥"]
["50002158","식품","농산물","잡곡/혼합곡","혼합곡"]
["50002199","식품","농산물","채소","가지"]
["50002215","식품","농산물","채소","감자"]
["50002461","식품","농산물","채소","건나물"]
["50002214","식품","농산물","채소","고구마"]
["50002204","식품","농산물","채소","고추"]
["50002234","식품","농산물","채소","기타채소류"]
["50002198","식품","농산물","채소","단호박"]
["50002216","식품","농산물","채소","당근"]
["50002201","식품","농산물","채소","대파"]
["50002217","식품","농산물","채소","더덕"]
["50002218","식품","농산물","채소","도라지"]
["50002224","식품","농산물","채소","마"]
["50002203","식품","농산물","채소","마늘"]
["50002222","식품","농산물","채소","무"]
["50002207","식품","농산물","채소","배추"]
["50002205","식품","농산물","채소","버섯"]
["50002226","식품","농산물","채소","부추"]
["50002460","식품","농산물","채소","브로콜리"]
["50002462","식품","농산물","채소","산나물"]
["50002463","식품","농산물","채소","삶은나물"]
["50002209","식품","농산물","채소","상추"]
["50002228","식품","농산물","채소","새싹채소"]
["50002206","식품","농산물","채소","생강"]
["50002212","식품","농산물","채소","시금치"]
["50002211","식품","농산물","채소","쌈채소"]
["50002229","식품","농산물","채소","아스파라거스"]
["50002233","식품","농산물","채소","알로에"]
["50002197","식품","농산물","채소","애호박"]
["50002208","식품","농산물","채소","양배추"]
["50002200","식품","농산물","채소","양파"]
["50002220","식품","농산물","채소","연근"]
["50002223","식품","농산물","채소","열무"]
["50002196","식품","농산물","채소","오이"]
["50002221","식품","농산물","채소","우엉"]
["50002231","식품","농산물","채소","죽순"]
["50002202","식품","농산물","채소","쪽파"]
["50002227","식품","농산물","채소","피망/파프리카"]
["50001912","식품","다이어트식품","CLA"]
["50001911","식품","다이어트식품","가르시니아"]
["50006954","식품","다이어트식품","곤약","곤약쌀"]
["50006955","식품","다이어트식품","곤약","곤약젤리"]
["50006957","식품","다이어트식품","곤약","기타곤약가공품"]
["50001767","식품","다이어트식품","기타다이어트식품"]
["50001910","식품","다이어트식품","다이어트바"]
["50001907","식품","다이어트식품","다이어트차"]
["50007219","식품","다이어트식품","레몬밤"]
["50001915","식품","다이어트식품","뷰티푸드"]
["50001908","식품","다이어트식품","식이섬유"]
["50007038","식품","다이어트식품","와일드망고"]
["50007039","식품","다이어트식품","잔티젠"]
["50007040","식품","다이어트식품","카테킨"]
["50007037","식품","다이어트식품","콜라겐"]
["50001914","식품","다이어트식품","헬스보충제"]
["50007041","식품","다이어트식품","히알루론산"]
["50002018","식품","반찬","기타반찬류"]
["50002017","식품","반찬","반찬세트"]
["50001916","식품","반찬","장아찌"]
["50001917","식품","반찬","장조림"]
["50002015","식품","반찬","절임류"]
["50002016","식품","반찬","조림류"]
["50004742","식품","수산","건어물","건새우"]
["50004743","식품","수산","건어물","과메기"]
["50004748","식품","수산","건어물","기타건어물"]
["50004744","식품","수산","건어물","노가리"]
["50004737","식품","수산","건어물","멸치"]
["50004741","식품","수산","건어물","문어"]
["50004739","식품","수산","건어물","오징어"]
["50004738","식품","수산","건어물","쥐포"]
["50004746","식품","수산","건어물","진미채"]
["50004740","식품","수산","건어물","한치"]
["50004747","식품","수산","건어물","황태"]
["50004700","식품","수산","김/해초","기타해초"]
["50004695","식품","수산","김/해초","김"]
["50004696","식품","수산","김/해초","다시마"]
["50004697","식품","수산","김/해초","매생이"]
["50004698","식품","수산","김/해초","미역"]
["50004699","식품","수산","김/해초","해초샐러드"]
["50004682","식품","수산","생선","갈치"]
["50004683","식품","수산","생선","고등어"]
["50004684","식품","수산","생선","굴비"]
["50004694","식품","수산","생선","기타생선"]
["50004689","식품","수산","생선","동태"]
["50004692","식품","수산","생선","생선회"]
["50004693","식품","수산","생선","연어/훈제연어"]
["50004686","식품","수산","생선","옥돔"]
["50004685","식품","수산","생선","장어"]
["50004687","식품","수산","생선","조기"]
["50004688","식품","수산","생선","참치"]
["50004690","식품","수산","생선","초밥재료"]
["50004691","식품","수산","생선","홍어"]
["50004734","식품","수산","젓갈","게장"]
["50004736","식품","수산","젓갈","기타젓갈"]
["50004730","식품","수산","젓갈","낙지젓"]
["50002458","식품","수산","젓갈","대하장"]
["50004727","식품","수산","젓갈","명란젓"]
["50004728","식품","수산","젓갈","새우젓"]
["50004729","식품","수산","젓갈","오징어젓"]
["50004735","식품","수산","젓갈","젓갈선물세트"]
["50004731","식품","수산","젓갈","조개젓"]
["50004732","식품","수산","젓갈","창난젓"]
["50004733","식품","수산","젓갈","토하젓"]
["50007077","식품","수산","해산물/어패류","가리비"]
["50004704","식품","수산","해산물/어패류","골뱅이"]
["50004714","식품","수산","해산물/어패류","굴"]
["50004726","식품","수산","해산물/어패류","기타해산물"]
["50004715","식품","수산","해산물/어패류","꼬막"]
["50004711","식품","수산","해산물/어패류","꽃게"]
["50004706","식품","수산","해산물/어패류","낙지"]
["50004720","식품","수산","해산물/어패류","날치알"]
["50007076","식품","수산","해산물/어패류","대게/홍게"]
["50004717","식품","수산","해산물/어패류","멍게"]
["50004707","식품","수산","해산물/어패류","문어"]
["50004713","식품","수산","해산물/어패류","바닷가재"]
["50004702","식품","수산","해산물/어패류","새우"]
["50004703","식품","수산","해산물/어패류","소라"]
["50004710","식품","수산","해산물/어패류","오징어"]
["50004701","식품","수산","해산물/어패류","전복"]
["50004709","식품","수산","해산물/어패류","조개"]
["50004708","식품","수산","해산물/어패류","주꾸미"]
["50004712","식품","수산","해산물/어패류","킹크랩"]
["50004719","식품","수산","해산물/어패류","해삼"]
["50004716","식품","수산","해산물/어패류","홍합"]
["50001866","식품","아이스크림/빙수","빙수/빙수재료"]
["50001865","식품","아이스크림/빙수","아이스크림"]
["50002032","식품","음료","생수"]
["50002258","식품","음료","주스/과즙음료","감귤주스"]
["50002265","식품","음료","주스/과즙음료","기타과즙음료"]
["50002261","식품","음료","주스/과즙음료","망고주스"]
["50002260","식품","음료","주스/과즙음료","사과주스"]
["50002259","식품","음료","주스/과즙음료","오렌지주스"]
["50002262","식품","음료","주스/과즙음료","자몽주스"]
["50002263","식품","음료","주스/과즙음료","토마토주스"]
["50002264","식품","음료","주스/과즙음료","포도주스"]
["50002384","식품","음료","차류","기타차"]
["50002268","식품","음료","차류","녹차"]
["50002382","식품","음료","차류","보이차"]
["50002594","식품","음료","차류","옥수수수염차"]
["50006197","식품","음료","차류","우엉차"]
["50002595","식품","음료","차류","유자차"]
["50002596","식품","음료","차류","율무차"]
["50002267","식품","음료","차류","코코아"]
["50002381","식품","음료","차류","허브차"]
["50002380","식품","음료","차류","홍차"]
["50002250","식품","음료","청량/탄산음료","과즙탄산음료"]
["50002257","식품","음료","청량/탄산음료","기타탄산음료"]
["50002252","식품","음료","청량/탄산음료","무알콜음료"]
["50002253","식품","음료","청량/탄산음료","사이다"]
["50002255","식품","음료","청량/탄산음료","아이스티"]
["50002251","식품","음료","청량/탄산음료","에이드음료"]
["50002256","식품","음료","청량/탄산음료","이온음료"]
["50002254","식품","음료","청량/탄산음료","콜라"]
["50005541","식품","음료","커피","더치커피"]
["50002266","식품","음료","커피","원두커피"]
["50002605","식품","음료","커피","캔커피"]
["50002606","식품","음료","커피","커피믹스/인스턴트커피"]
["50002607","식품","음료","커피","프림"]
["50002033","식품","음료","탄산수"]
["50006951","식품","전통주","과실주","과일주"]
["50006950","식품","전통주","과실주","복분자주"]
["50006949","식품","전통주","과실주","와인"]
["50006356","식품","전통주","기타주류"]
["50006355","식품","전통주","리큐르주"]
["50006353","식품","전통주","소주"]
["50006351","식품","전통주","약주"]
["50006354","식품","전통주","일반증류주"]
["50006952","식품","전통주","전통주선물세트"]
["50006350","식품","전통주","탁주"]
["50000215","식품","축산","기타육류"]
["50004656","식품","축산","닭고기","부위별닭고기"]
["50004657","식품","축산","닭고기","생닭"]
["50004651","식품","축산","돼지고기","국내산돼지고기"]
["50004652","식품","축산","돼지고기","수입산돼지고기"]
["50004653","식품","축산","쇠고기","국내산육우"]
["50004655","식품","축산","쇠고기","수입산쇠고기"]
["50004654","식품","축산","쇠고기","한우"]
["50004658","식품","축산","알류","달걀"]
["50004659","식품","축산","알류","메추리알"]
["50004660","식품","축산","알류","오리알"]
["50002457","식품","축산","알류","훈제란"]
["50000280","식품","축산","양고기"]
["50000279","식품","축산","오리고기"]
["50004661","식품","축산","축산가공식품","갈비찜"]
["50004681","식품","축산","축산가공식품","기타육가공"]
["50004679","식품","축산","축산가공식품","닭가공품"]
["50004666","식품","축산","축산가공식품","닭양념육"]
["50004662","식품","축산","축산가공식품","돈가스"]
["50004663","식품","축산","축산가공식품","돈육훈제"]
["50004664","식품","축산","축산가공식품","돼지양념육"]
["50004668","식품","축산","축산가공식품","떡갈비"]
["50004669","식품","축산","축산가공식품","베이컨"]
["50004678","식품","축산","축산가공식품","삼계탕"]
["50004674","식품","축산","축산가공식품","소시지"]
["50004665","식품","축산","축산가공식품","쇠고기양념육"]
["50004675","식품","축산","축산가공식품","순대"]
["50004680","식품","축산","축산가공식품","오리가공품"]
["50004667","식품","축산","축산가공식품","오리양념육"]
["50002456","식품","축산","축산가공식품","오리훈제"]
["50004676","식품","축산","축산가공식품","육포"]
["50004670","식품","축산","축산가공식품","족발"]
["50004673","식품","축산","축산가공식품","햄"]
["50007272","여가/생활편의","국내여행/체험","공연/티켓","국악/전통예술"]
["50007265","여가/생활편의","국내여행/체험","공연/티켓","뮤지컬"]
["50007271","여가/생활편의","국내여행/체험","공연/티켓","발레/무용"]
["50007273","여가/생활편의","국내여행/체험","공연/티켓","스포츠"]
["50007267","여가/생활편의","국내여행/체험","공연/티켓","연극"]
["50007270","여가/생활편의","국내여행/체험","공연/티켓","오페라"]
["50007268","여가/생활편의","국내여행/체험","공연/티켓","전시/행사"]
["50007266","여가/생활편의","국내여행/체험","공연/티켓","콘서트"]
["50007269","여가/생활편의","국내여행/체험","공연/티켓","클래식"]
["50007254","여가/생활편의","국내여행/체험","국내숙박"]
["50007253","여가/생활편의","국내여행/체험","국내패키지/기타"]
["50007255","여가/생활편의","국내여행/체험","국내항공권"]
["50007284","여가/생활편의","국내여행/체험","액티비티","기타레저이용권"]
["50007277","여가/생활편의","국내여행/체험","액티비티","눈썰매장"]
["50007281","여가/생활편의","국내여행/체험","액티비티","래프팅"]
["50007283","여가/생활편의","국내여행/체험","액티비티","수상레저"]
["50007275","여가/생활편의","국내여행/체험","액티비티","스키/보드 리프트권"]
["50007276","여가/생활편의","국내여행/체험","액티비티","스키/보드 시즌권"]
["50007282","여가/생활편의","국내여행/체험","액티비티","스파/찜질방"]
["50007279","여가/생활편의","국내여행/체험","액티비티","아쿠아리움"]
["50007278","여가/생활편의","국내여행/체험","액티비티","워터파크"]
["50007285","여가/생활편의","국내여행/체험","액티비티","체험"]
["50007280","여가/생활편의","국내여행/체험","액티비티","테마/놀이동산"]
["50007263","여가/생활편의","렌터카","단기렌터카"]
["50007262","여가/생활편의","렌터카","장기렌터카"]
["50007316","여가/생활편의","생활편의","e컨텐츠","VOD"]
["50007317","여가/생활편의","생활편의","e컨텐츠","e북"]
["50007351","여가/생활편의","생활편의","e컨텐츠","기타e컨텐츠"]
["50007318","여가/생활편의","생활편의","e컨텐츠","만화"]
["50007315","여가/생활편의","생활편의","e컨텐츠","오디오북"]
["50007344","여가/생활편의","생활편의","꽃/케이크배달","꽃배달"]
["50007345","여가/생활편의","생활편의","꽃/케이크배달","케이크배달"]
["50007304","여가/생활편의","생활편의","사진/영상 촬영"]
["50007312","여가/생활편의","생활편의","지류/카드 상품권","기타상품권"]
["50007313","여가/생활편의","생활편의","지류/카드 상품권","기프트카드"]
["50007309","여가/생활편의","생활편의","지류/카드 상품권","도서/문화상품권"]
["50007308","여가/생활편의","생활편의","지류/카드 상품권","백화점/마트상품권"]
["50007310","여가/생활편의","생활편의","지류/카드 상품권","영화상품권"]
["50007311","여가/생활편의","생활편의","지류/카드 상품권","외식상품권"]
["50007307","여가/생활편의","생활편의","지류/카드 상품권","주유상품권"]
["50007296","여가/생활편의","생활편의","푸드/음료/e쿠폰","게임/E머니"]
["50007349","여가/생활편의","생활편의","푸드/음료/e쿠폰","기타 e쿠폰"]
["50007297","여가/생활편의","생활편의","푸드/음료/e쿠폰","기타 푸드/음료"]
["50007294","여가/생활편의","생활편의","푸드/음료/e쿠폰","데이터/통화/문자"]
["50007295","여가/생활편의","생활편의","푸드/음료/e쿠폰","도서/문화상품권"]
["50007288","여가/생활편의","생활편의","푸드/음료/e쿠폰","백화점/마트"]
["50007301","여가/생활편의","생활편의","푸드/음료/e쿠폰","뷔페/레스토랑"]
["50007293","여가/생활편의","생활편의","푸드/음료/e쿠폰","쇼핑몰상품권"]
["50007292","여가/생활편의","생활편의","푸드/음료/e쿠폰","아이스크림"]
["50007298","여가/생활편의","생활편의","푸드/음료/e쿠폰","영화/공연관람권"]
["50007300","여가/생활편의","생활편의","푸드/음료/e쿠폰","주유"]
["50007302","여가/생활편의","생활편의","푸드/음료/e쿠폰","치킨/배달음식"]
["50007290","여가/생활편의","생활편의","푸드/음료/e쿠폰","카페/베이커리"]
["50007289","여가/생활편의","생활편의","푸드/음료/e쿠폰","패스트푸드"]
["50007303","여가/생활편의","생활편의","푸드/음료/e쿠폰","편의점상품"]
["50007291","여가/생활편의","생활편의","푸드/음료/e쿠폰","피자"]
["50007299","여가/생활편의","생활편의","푸드/음료/e쿠폰","헤어/뷰티/건강"]
["50007321","여가/생활편의","예체능레슨","골프레슨"]
["50007322","여가/생활편의","예체능레슨","구기 스포츠"]
["50007332","여가/생활편의","예체능레슨","기타"]
["50007327","여가/생활편의","예체능레슨","댄스/무용"]
["50007320","여가/생활편의","예체능레슨","무예/무도"]
["50007329","여가/생활편의","예체능레슨","미술"]
["50007328","여가/생활편의","예체능레슨","보컬/악기"]
["50007326","여가/생활편의","예체능레슨","아웃도어스포츠","기타"]
["50007325","여가/생활편의","예체능레슨","아웃도어스포츠","서핑/다이빙"]
["50007324","여가/생활편의","예체능레슨","아웃도어스포츠","스키/보드"]
["50007330","여가/생활편의","예체능레슨","피트니스/PT"]
["50007331","여가/생활편의","예체능레슨","필라테스/요가"]
["50007215","여가/생활편의","원데이클래스","기타클래스"]
["50007201","여가/생활편의","원데이클래스","수공예 클래스","가죽공예"]
["50007212","여가/생활편의","원데이클래스","수공예 클래스","기타수공예"]
["50007204","여가/생활편의","원데이클래스","수공예 클래스","도자기"]
["50007203","여가/생활편의","원데이클래스","수공예 클래스","드로잉"]
["50007209","여가/생활편의","원데이클래스","수공예 클래스","뜨개질"]
["50007205","여가/생활편의","원데이클래스","수공예 클래스","목공예"]
["50007207","여가/생활편의","원데이클래스","수공예 클래스","비누"]
["50007211","여가/생활편의","원데이클래스","수공예 클래스","수예"]
["50007210","여가/생활편의","원데이클래스","수공예 클래스","자수"]
["50007208","여가/생활편의","원데이클래스","수공예 클래스","주얼리"]
["50007206","여가/생활편의","원데이클래스","수공예 클래스","캔들/방향제/향수"]
["50007202","여가/생활편의","원데이클래스","수공예 클래스","플라워"]
["50007214","여가/생활편의","원데이클래스","쿠킹 클래스","기타쿠킹"]
["50007213","여가/생활편의","원데이클래스","쿠킹 클래스","베이킹"]
["50007337","여가/생활편의","자기계발/취미 레슨","공예"]
["50007341","여가/생활편의","자기계발/취미 레슨","기타"]
["50007338","여가/생활편의","자기계발/취미 레슨","뷰티"]
["50007336","여가/생활편의","자기계발/취미 레슨","외국어","기타외국어"]
["50007335","여가/생활편의","자기계발/취미 레슨","외국어","영어"]
["50007340","여가/생활편의","자기계발/취미 레슨","취업/자격증"]
["50007339","여가/생활편의","자기계발/취미 레슨","커피/요리"]
["50007260","여가/생활편의","해외여행","와이파이/USIM"]
["50007258","여가/생활편의","해외여행","해외숙박"]
["50007257","여가/생활편의","해외여행","해외패키지/기타"]
["50007259","여가/생활편의","해외여행","해외항공권"]
["50007346","여가/생활편의","홈케어서비스","가전/가구 설치"]
["50007347","여가/생활편의","홈케어서비스","이사/청소"]
["50000222","출산/육아","교재/서적","비디오/DVD"]
["50006391","출산/육아","교재/서적","유아동전집","기타전집"]
["50006388","출산/육아","교재/서적","유아동전집","수학전집"]
["50006390","출산/육아","교재/서적","유아동전집","영어전집"]
["50006389","출산/육아","교재/서적","유아동전집","자연전집"]
["50006387","출산/육아","교재/서적","유아동전집","한글전집"]
["50006398","출산/육아","교재/서적","학습교구","기타교구"]
["50006397","출산/육아","교재/서적","학습교구","미술교구"]
["50006394","출산/육아","교재/서적","학습교구","수학교구"]
["50006395","출산/육아","교재/서적","학습교구","영어교구"]
["50006396","출산/육아","교재/서적","학습교구","자연/과학교구"]
["50006393","출산/육아","교재/서적","학습교구","한글교구"]
["50000221","출산/육아","교재/서적","학습보드게임"]
["50000625","출산/육아","구강청결용품","기타구강청결용품"]
["50000623","출산/육아","구강청결용품","손가락빨기방지용품"]
["50000621","출산/육아","구강청결용품","유아구강세정제"]
["50000622","출산/육아","구강청결용품","유아구강청결티슈"]
["50000620","출산/육아","구강청결용품","유아치약"]
["50000619","출산/육아","구강청결용품","유아칫솔"]
["50000729","출산/육아","기저귀","국내기저귀"]
["50003701","출산/육아","기저귀","기능성기저귀","기저귀밴드"]
["50003700","출산/육아","기저귀","기능성기저귀","기저귀커버"]
["50003699","출산/육아","기저귀","기능성기저귀","땅콩기저귀"]
["50003698","출산/육아","기저귀","기능성기저귀","수영장기저귀"]
["50003697","출산/육아","기저귀","기능성기저귀","천기저귀"]
["50000730","출산/육아","기저귀","수입기저귀"]
["50000716","출산/육아","목욕용품","기타목욕용품"]
["50000715","출산/육아","목욕용품","욕실정리망/정리함"]
["50000707","출산/육아","목욕용품","유아목욕가운"]
["50000706","출산/육아","목욕용품","유아목욕의자"]
["50000710","출산/육아","목욕용품","유아목욕장갑/스펀지"]
["50000714","출산/육아","목욕용품","유아목욕장난감"]
["50000708","출산/육아","목욕용품","유아목욕타월"]
["50000709","출산/육아","목욕용품","유아샴푸캡"]
["50000711","출산/육아","목욕용품","유아세면대/수도꼭지"]
["50000705","출산/육아","목욕용품","유아욕조"]
["50000713","출산/육아","목욕용품","유아욕탕온도계"]
["50005402","출산/육아","물티슈","리필형"]
["50005401","출산/육아","물티슈","캡형"]
["50005405","출산/육아","물티슈","혼합세트"]
["50005403","출산/육아","물티슈","휴대용"]
["50000854","출산/육아","분유","국내분유"]
["50000855","출산/육아","분유","수입분유"]
["50000856","출산/육아","분유","특수분유"]
["50000634","출산/육아","소독/살균용품","장난감소독기"]
["50000633","출산/육아","소독/살균용품","젖병건조대"]
["50000630","출산/육아","소독/살균용품","젖병세정제"]
["50000629","출산/육아","소독/살균용품","젖병소독기"]
["50000631","출산/육아","소독/살균용품","젖병솔"]
["50000632","출산/육아","소독/살균용품","젖병집게"]
["50000361","출산/육아","수영복/용품","남아수영복"]
["50000363","출산/육아","수영복/용품","수경/수모/귀마개"]
["50000365","출산/육아","수영복/용품","수영가방/비치백"]
["50000362","출산/육아","수영복/용품","여아수영복"]
["50000685","출산/육아","수유용품","기타수유용품"]
["50000746","출산/육아","수유용품","노리개젖꼭지"]
["50000677","출산/육아","수유용품","모유보관비닐팩"]
["50000675","출산/육아","수유용품","보틀워머"]
["50000674","출산/육아","수유용품","분유케이스"]
["50000680","출산/육아","수유용품","수유가리개"]
["50000679","출산/육아","수유용품","수유쿠션/시트"]
["50000681","출산/육아","수유용품","수유패드"]
["50000684","출산/육아","수유용품","유두케어/젖몸살용품"]
["50000673","출산/육아","수유용품","유축기"]
["50000745","출산/육아","수유용품","젖꼭지"]
["50000743","출산/육아","수유용품","젖병"]
["50000717","출산/육아","스킨/바디용품","기저귀크림"]
["50000728","출산/육아","스킨/바디용품","기타스킨/바디용품"]
["50006148","출산/육아","스킨/바디용품","색조화장품"]
["50007108","출산/육아","스킨/바디용품","어린이네일케어"]
["50000719","출산/육아","스킨/바디용품","유아로션"]
["50000723","출산/육아","스킨/바디용품","유아립케어"]
["50000726","출산/육아","스킨/바디용품","유아바스/샴푸"]
["50000724","출산/육아","스킨/바디용품","유아비누"]
["50000721","출산/육아","스킨/바디용품","유아선크림"]
["50000720","출산/육아","스킨/바디용품","유아오일"]
["50000727","출산/육아","스킨/바디용품","유아입욕제"]
["50000718","출산/육아","스킨/바디용품","유아크림"]
["50000722","출산/육아","스킨/바디용품","유아파우더"]
["50005411","출산/육아","스킨/바디용품","혼합세트"]
["50005306","출산/육아","신생아의류","가제손수건"]
["50000526","출산/육아","신생아의류","레그/스패츠"]
["50000528","출산/육아","신생아의류","바디슈트/롬퍼"]
["50000529","출산/육아","신생아의류","배냇저고리"]
["50005307","출산/육아","신생아의류","세트"]
["50000530","출산/육아","신생아의류","손/발싸개"]
["50000531","출산/육아","신생아의류","신생아모자/보닛"]
["50000532","출산/육아","신생아의류","우주복"]
["50000739","출산/육아","아기간식","유아과자"]
["50000738","출산/육아","아기간식","유아두유"]
["50005467","출산/육아","아기간식","유아유제품"]
["50005468","출산/육아","아기간식","유아음료"]
["50000582","출산/육아","안전용품","디딤대"]
["50000578","출산/육아","안전용품","머리보호대"]
["50000583","출산/육아","안전용품","모기밴드/퇴치용품"]
["50000577","출산/육아","안전용품","모서리보호대"]
["50000579","출산/육아","안전용품","무릎보호대"]
["50000580","출산/육아","안전용품","문닫힘방지"]
["50000576","출산/육아","안전용품","안전문"]
["50000584","출산/육아","안전용품","안전잠금장치"]
["50000586","출산/육아","안전용품","콘센트안전커버"]
["50004643","출산/육아","완구/매트","감각발달완구","기타감각발달완구"]
["50004219","출산/육아","완구/매트","감각발달완구","도형끼우기"]
["50004220","출산/육아","완구/매트","감각발달완구","링쌓기/컵쌓기"]
["50004221","출산/육아","완구/매트","감각발달완구","멜로디완구"]
["50004224","출산/육아","완구/매트","감각발달완구","비눗방울"]
["50004225","출산/육아","완구/매트","감각발달완구","아기전화기"]
["50004227","출산/육아","완구/매트","감각발달완구","헝겊완구/헝겊책"]
["50004228","출산/육아","완구/매트","공간놀이기구","그네/그네봉"]
["50004229","출산/육아","완구/매트","공간놀이기구","놀이집"]
["50004230","출산/육아","완구/매트","공간놀이기구","다기능놀이터"]
["50004231","출산/육아","완구/매트","공간놀이기구","미끄럼틀"]
["50004232","출산/육아","완구/매트","공간놀이기구","볼텐트/놀이텐트"]
["50000371","출산/육아","완구/매트","놀이방매트"]
["50004233","출산/육아","완구/매트","물놀이용품","구명조끼"]
["50004234","출산/육아","완구/매트","물놀이용품","목튜브/암링"]
["50004242","출산/육아","완구/매트","물놀이용품","물총"]
["50004236","출산/육아","완구/매트","물놀이용품","보트"]
["50004237","출산/육아","완구/매트","물놀이용품","보행기튜브"]
["50004243","출산/육아","완구/매트","물놀이용품","비치볼"]
["50004235","출산/육아","완구/매트","물놀이용품","스노클링"]
["50004240","출산/육아","완구/매트","물놀이용품","튜브"]
["50004239","출산/육아","완구/매트","물놀이용품","풀장"]
["50004249","출산/육아","완구/매트","미술놀이","그림판"]
["50004250","출산/육아","완구/매트","미술놀이","기타미술놀이"]
["50004251","출산/육아","완구/매트","미술놀이","물감"]
["50004252","출산/육아","완구/매트","미술놀이","색연필"]
["50004253","출산/육아","완구/매트","미술놀이","색칠공부"]
["50004254","출산/육아","완구/매트","미술놀이","스케치북"]
["50006999","출산/육아","완구/매트","미술놀이","오리기"]
["50004255","출산/육아","완구/매트","미술놀이","이젤"]
["50006998","출산/육아","완구/매트","미술놀이","종이접기"]
["50004256","출산/육아","완구/매트","미술놀이","크레욜라"]
["50004257","출산/육아","완구/매트","미술놀이","크레파스"]
["50004246","출산/육아","완구/매트","미술놀이","클레이"]
["50004248","출산/육아","완구/매트","미술놀이","플레이콘/매직콘"]
["50005309","출산/육아","완구/매트","블록","기타블록"]
["50004258","출산/육아","완구/매트","블록","레고"]
["50004259","출산/육아","완구/매트","블록","빅블록"]
["50004260","출산/육아","완구/매트","블록","사각/십자블록"]
["50004261","출산/육아","완구/매트","블록","옥스포드"]
["50004262","출산/육아","완구/매트","블록","원목블록"]
["50004263","출산/육아","완구/매트","블록","자석블록"]
["50004264","출산/육아","완구/매트","블록","종이/소프트블록"]
["50004265","출산/육아","완구/매트","스포츠완구","골프"]
["50004266","출산/육아","완구/매트","스포츠완구","공/소프트볼"]
["50004644","출산/육아","완구/매트","스포츠완구","기타스포츠완구"]
["50004273","출산/육아","완구/매트","스포츠완구","농구대"]
["50004267","출산/육아","완구/매트","스포츠완구","볼링"]
["50004269","출산/육아","완구/매트","스포츠완구","스카이콩콩"]
["50004270","출산/육아","완구/매트","스포츠완구","스키/눈썰매"]
["50004271","출산/육아","완구/매트","스포츠완구","야구/캐치볼"]
["50004272","출산/육아","완구/매트","스포츠완구","축구대"]
["50004274","출산/육아","완구/매트","스포츠완구","트램펄린/덤블링"]
["50004275","출산/육아","완구/매트","스포츠완구","펀치백/권투"]
["50004276","출산/육아","완구/매트","스포츠완구","헬스기구"]
["50004277","출산/육아","완구/매트","스포츠완구","호핑볼/점핑볼"]
["50004645","출산/육아","완구/매트","승용완구","기타승용완구"]
["50004405","출산/육아","완구/매트","승용완구","붕붕카"]
["50004406","출산/육아","완구/매트","승용완구","스프링카"]
["50004407","출산/육아","완구/매트","승용완구","시소"]
["50004409","출산/육아","완구/매트","승용완구","왜건"]
["50004410","출산/육아","완구/매트","승용완구","전동차"]
["50004412","출산/육아","완구/매트","승용완구","지붕차"]
["50004413","출산/육아","완구/매트","승용완구","킥보드/씽씽이"]
["50004414","출산/육아","완구/매트","승용완구","트레일러"]
["50004415","출산/육아","완구/매트","승용완구","흔들말"]
["50004646","출산/육아","완구/매트","신생아/영유아완구","기타신생아/영유아완구"]
["50004419","출산/육아","완구/매트","신생아/영유아완구","딸랑이"]
["50004420","출산/육아","완구/매트","신생아/영유아완구","모빌"]
["50004425","출산/육아","완구/매트","신생아/영유아완구","베이비룸"]
["50004427","출산/육아","완구/매트","신생아/영유아완구","신생아완구세트"]
["50004422","출산/육아","완구/매트","신생아/영유아완구","아기걸음마"]
["50004421","출산/육아","완구/매트","신생아/영유아완구","아기체육관"]
["50004423","출산/육아","완구/매트","신생아/영유아완구","오뚝이"]
["50004424","출산/육아","완구/매트","신생아/영유아완구","치아발육기"]
["50004426","출산/육아","완구/매트","신생아/영유아완구","플레이매트"]
["50004429","출산/육아","완구/매트","언어/학습완구","기타언어/학습완구"]
["50004430","출산/육아","완구/매트","언어/학습완구","낱말카드/학습카드"]
["50004431","출산/육아","완구/매트","언어/학습완구","디지털학습완구"]
["50004432","출산/육아","완구/매트","언어/학습완구","사운드북"]
["50004434","출산/육아","완구/매트","언어/학습완구","색칠북"]
["50004433","출산/육아","완구/매트","언어/학습완구","스티커북"]
["50004435","출산/육아","완구/매트","언어/학습완구","유아용컴퓨터"]
["50004436","출산/육아","완구/매트","언어/학습완구","자석놀이"]
["50004437","출산/육아","완구/매트","언어/학습완구","학습벽보"]
["50004428","출산/육아","완구/매트","언어/학습완구","학습보드판"]
["50004443","출산/육아","완구/매트","역할놀이/소꿉놀이","가게놀이"]
["50004444","출산/육아","완구/매트","역할놀이/소꿉놀이","가사놀이"]
["50004438","출산/육아","완구/매트","역할놀이/소꿉놀이","공구놀이"]
["50004647","출산/육아","완구/매트","역할놀이/소꿉놀이","기타역할놀이/소꿉놀이"]
["50004439","출산/육아","완구/매트","역할놀이/소꿉놀이","낚시놀이"]
["50004440","출산/육아","완구/매트","역할놀이/소꿉놀이","모래놀이"]
["50004441","출산/육아","완구/매트","역할놀이/소꿉놀이","병원놀이"]
["50004442","출산/육아","완구/매트","역할놀이/소꿉놀이","소꿉놀이"]
["50004445","출산/육아","완구/매트","역할놀이/소꿉놀이","인형유모차"]
["50004446","출산/육아","완구/매트","역할놀이/소꿉놀이","주방놀이"]
["50004447","출산/육아","완구/매트","역할놀이/소꿉놀이","쿠킹토이"]
["50004448","출산/육아","완구/매트","역할놀이/소꿉놀이","화장놀이"]
["50004449","출산/육아","완구/매트","원목교구/가베","가베"]
["50004450","출산/육아","완구/매트","원목교구/가베","도미노"]
["50004451","출산/육아","완구/매트","원목교구/가베","도형쌓기"]
["50004452","출산/육아","완구/매트","원목교구/가베","롤러코스터"]
["50004453","출산/육아","완구/매트","원목교구/가베","셈놀이/숫자놀이판"]
["50004454","출산/육아","완구/매트","원목교구/가베","실꿰기/구슬꿰기"]
["50004455","출산/육아","완구/매트","원목교구/가베","원목큐브"]
["50004456","출산/육아","완구/매트","원목교구/가베","하노이탑"]
["50004416","출산/육아","완구/매트","유아/어린이자전거","다기능자전거"]
["50005415","출산/육아","완구/매트","유아/어린이자전거","밸런스자전거"]
["50004417","출산/육아","완구/매트","유아/어린이자전거","보조바퀴체인자전거"]
["50004418","출산/육아","완구/매트","유아/어린이자전거","세발자전거"]
["50004467","출산/육아","완구/매트","유아동퍼즐","구슬퍼즐"]
["50004475","출산/육아","완구/매트","유아동퍼즐","그림퍼즐"]
["50004648","출산/육아","완구/매트","유아동퍼즐","기타유아동퍼즐"]
["50004468","출산/육아","완구/매트","유아동퍼즐","도형퍼즐/칠교놀이"]
["50004474","출산/육아","완구/매트","유아동퍼즐","숫자퍼즐"]
["50004469","출산/육아","완구/매트","유아동퍼즐","원목/꼭지퍼즐"]
["50004470","출산/육아","완구/매트","유아동퍼즐","종이/입체퍼즐"]
["50004471","출산/육아","완구/매트","유아동퍼즐","직소퍼즐/액자"]
["50004473","출산/육아","완구/매트","유아동퍼즐","큐브/소마큐브"]
["50004484","출산/육아","완구/매트","음악/악기놀이","기타음악/악기놀이"]
["50004476","출산/육아","완구/매트","음악/악기놀이","나팔"]
["50004477","출산/육아","완구/매트","음악/악기놀이","드럼"]
["50004478","출산/육아","완구/매트","음악/악기놀이","마이크/노래방"]
["50004479","출산/육아","완구/매트","음악/악기놀이","멜로디언/키보드"]
["50004480","출산/육아","완구/매트","음악/악기놀이","실로폰"]
["50004481","출산/육아","완구/매트","음악/악기놀이","악기세트"]
["50004649","출산/육아","완구/매트","음악/악기놀이","타악기"]
["50004482","출산/육아","완구/매트","음악/악기놀이","피아노"]
["50004464","출산/육아","완구/매트","자연/과학완구","곤충학습"]
["50004457","출산/육아","완구/매트","자연/과학완구","공룡"]
["50004459","출산/육아","완구/매트","자연/과학완구","과학상자"]
["50004460","출산/육아","완구/매트","자연/과학완구","기초로봇"]
["50004458","출산/육아","완구/매트","자연/과학완구","동물학습"]
["50004461","출산/육아","완구/매트","자연/과학완구","망원경"]
["50004462","출산/육아","완구/매트","자연/과학완구","물로켓/고무동력기"]
["50004463","출산/육아","완구/매트","자연/과학완구","식물학습"]
["50004466","출산/육아","완구/매트","자연/과학완구","현미경"]
["50004209","출산/육아","완구/매트","작동완구","기차"]
["50004642","출산/육아","완구/매트","작동완구","기타작동완구"]
["50004208","출산/육아","완구/매트","작동완구","동물작동완구"]
["50004210","출산/육아","완구/매트","작동완구","로봇"]
["50004211","출산/육아","완구/매트","작동완구","로봇강아지"]
["50004213","출산/육아","완구/매트","작동완구","비행기"]
["50004216","출산/육아","완구/매트","작동완구","오토바이"]
["50004212","출산/육아","완구/매트","작동완구","자동차"]
["50004217","출산/육아","완구/매트","작동완구","장난감총"]
["50006843","출산/육아","완구/매트","작동완구","팽이"]
["50004218","출산/육아","완구/매트","작동완구","헬기"]
["50000343","출산/육아","완구/매트","캐릭터카드/딱지"]
["50000695","출산/육아","외출용품","기저귀가방"]
["50000704","출산/육아","외출용품","기타외출용품"]
["50000702","출산/육아","외출용품","망토/워머"]
["50000703","출산/육아","외출용품","미아방지용품"]
["50000701","출산/육아","외출용품","슬링"]
["50000692","출산/육아","외출용품","아기띠"]
["50000694","출산/육아","외출용품","아기띠침받이"]
["50000693","출산/육아","외출용품","아기띠쿨러/패드"]
["50000700","출산/육아","외출용품","캐리어"]
["50000698","출산/육아","외출용품","포대기/처네"]
["50000697","출산/육아","외출용품","힙시트"]
["50000610","출산/육아","위생/건강용품","기저귀휴지통"]
["50000618","출산/육아","위생/건강용품","물티슈워머"]
["50000611","출산/육아","위생/건강용품","분통/파우더통"]
["50000608","출산/육아","위생/건강용품","유아마스크"]
["50000603","출산/육아","위생/건강용품","유아면봉"]
["50000601","출산/육아","위생/건강용품","유아변기/커버"]
["50000606","출산/육아","위생/건강용품","유아손세정제"]
["50000604","출산/육아","위생/건강용품","유아손톱가위/손톱깎이"]
["50000612","출산/육아","위생/건강용품","유아이발용품"]
["50000624","출산/육아","위생/건강용품","유아항균팩"]
["50000613","출산/육아","위생/건강용품","제균스프레이"]
["50000614","출산/육아","위생/건강용품","콧물흡입기"]
["50000615","출산/육아","위생/건강용품","키재기"]
["50000616","출산/육아","위생/건강용품","투약기"]
["50000617","출산/육아","위생/건강용품","해열시트"]
["50005406","출산/육아","유모차","쌍둥이용"]
["50005407","출산/육아","유모차","유모차/카시트 세트"]
["50003875","출산/육아","유모차","유모차용품","기타유모차용품"]
["50003868","출산/육아","유모차","유모차용품","유모차걸이"]
["50003873","출산/육아","유모차","유모차용품","유모차목쿠션/블랭킷"]
["50003866","출산/육아","유모차","유모차용품","유모차보호대/안전바"]
["50003864","출산/육아","유모차","유모차용품","유모차시트"]
["50003871","출산/육아","유모차","유모차용품","유모차장난감"]
["50003867","출산/육아","유모차","유모차용품","유모차정리망/정리함"]
["50003865","출산/육아","유모차","유모차용품","유모차커버"]
["50003870","출산/육아","유모차","유모차용품","유모차풋머프"]
["50005303","출산/육아","유모차","유모차용품","유모차햇빛가리개"]
["50003872","출산/육아","유모차","유모차용품","유모차홀더"]
["50000687","출산/육아","유모차","절충형/디럭스형"]
["50000686","출산/육아","유모차","초경량/휴대용"]
["50000473","출산/육아","유아가구","기저귀정리함"]
["50000476","출산/육아","유아가구","기타유아가구"]
["50000590","출산/육아","유아가구","유아공부상"]
["50000592","출산/육아","유아가구","유아소파"]
["50000598","출산/육아","유아가구","유아옷걸이"]
["50000591","출산/육아","유아가구","유아의자"]
["50000593","출산/육아","유아가구","유아이유식의자"]
["50000589","출산/육아","유아가구","유아책상"]
["50000587","출산/육아","유아가구","유아침대"]
["50000600","출산/육아","유아가구","장난감정리함"]
["50007129","출산/육아","유아동 주얼리","귀걸이"]
["50007128","출산/육아","유아동 주얼리","목걸이"]
["50007132","출산/육아","유아동 주얼리","순금돌반지"]
["50007133","출산/육아","유아동 주얼리","순금주얼리"]
["50007134","출산/육아","유아동 주얼리","주얼리세트"]
["50007130","출산/육아","유아동 주얼리","팔찌"]
["50007131","출산/육아","유아동 주얼리","펜던트"]
["50007138","출산/육아","유아동언더웨어/잠옷","내의/내복"]
["50007139","출산/육아","유아동언더웨어/잠옷","러닝"]
["50007142","출산/육아","유아동언더웨어/잠옷","러닝팬티세트"]
["50007145","출산/육아","유아동언더웨어/잠옷","배변훈련팬티"]
["50007141","출산/육아","유아동언더웨어/잠옷","브라"]
["50007143","출산/육아","유아동언더웨어/잠옷","브라팬티세트"]
["50007144","출산/육아","유아동언더웨어/잠옷","속치마/속바지"]
["50007137","출산/육아","유아동언더웨어/잠옷","수면조끼"]
["50007136","출산/육아","유아동언더웨어/잠옷","잠옷/홈웨어"]
["50007140","출산/육아","유아동언더웨어/잠옷","팬티"]
["50007123","출산/육아","유아동의류","공주드레스"]
["50007118","출산/육아","유아동의류","교복"]
["50000409","출산/육아","유아동의류","니트/스웨터"]
["50000413","출산/육아","유아동의류","드레스"]
["50007116","출산/육아","유아동의류","레깅스"]
["50007125","출산/육아","유아동의류","레인코트"]
["50000411","출산/육아","유아동의류","바지"]
["50007121","출산/육아","유아동의류","발레복/댄스복"]
["50000536","출산/육아","유아동의류","블라우스"]
["50000271","출산/육아","유아동의류","상하세트"]
["50007114","출산/육아","유아동의류","셔츠/남방"]
["50000412","출산/육아","유아동의류","스커트"]
["50007120","출산/육아","유아동의류","스키복"]
["50000414","출산/육아","유아동의류","원피스"]
["50000418","출산/육아","유아동의류","재킷"]
["50000419","출산/육아","유아동의류","점퍼"]
["50007117","출산/육아","유아동의류","점프슈트"]
["50000415","출산/육아","유아동의류","정장"]
["50000270","출산/육아","유아동의류","조끼"]
["50007115","출산/육아","유아동의류","청바지"]
["50000410","출산/육아","유아동의류","카디건"]
["50007122","출산/육아","유아동의류","코스튬의상"]
["50000420","출산/육아","유아동의류","코트"]
["50000416","출산/육아","유아동의류","트레이닝복"]
["50000535","출산/육아","유아동의류","티셔츠"]
["50007124","출산/육아","유아동의류","패밀리룩"]
["50007119","출산/육아","유아동의류","한복"]
["50004206","출산/육아","유아동잡화","가방","미아방지가방"]
["50004203","출산/육아","유아동잡화","가방","백팩"]
["50004201","출산/육아","유아동잡화","가방","신발주머니/보조가방"]
["50004205","출산/육아","유아동잡화","가방","캐리어백"]
["50004204","출산/육아","유아동잡화","가방","크로스백"]
["50004202","출산/육아","유아동잡화","가방","토트백/숄더백"]
["50000351","출산/육아","유아동잡화","귀마개"]
["50000269","출산/육아","유아동잡화","기타유아동잡화"]
["50000357","출산/육아","유아동잡화","넥타이"]
["50000349","출산/육아","유아동잡화","모자"]
["50000352","출산/육아","유아동잡화","목도리"]
["50000227","출산/육아","유아동잡화","벨트/멜빵"]
["50000358","출산/육아","유아동잡화","선글라스"]
["50000353","출산/육아","유아동잡화","스카프"]
["50004040","출산/육아","유아동잡화","신발","구두"]
["50004039","출산/육아","유아동잡화","신발","보행기신발"]
["50004041","출산/육아","유아동잡화","신발","부츠/털신"]
["50004042","출산/육아","유아동잡화","신발","샌들"]
["50005465","출산/육아","유아동잡화","신발","슬리퍼"]
["50004199","출산/육아","유아동잡화","신발","실내화"]
["50004200","출산/육아","유아동잡화","신발","아쿠아슈즈"]
["50004198","출산/육아","유아동잡화","신발","운동화"]
["50005466","출산/육아","유아동잡화","신발","장화"]
["50006383","출산/육아","유아동잡화","신발","젤리슈즈"]
["50000356","출산/육아","유아동잡화","앞치마/토시/두건"]
["50000223","출산/육아","유아동잡화","양말"]
["50000226","출산/육아","유아동잡화","우산"]
["50000350","출산/육아","유아동잡화","장갑"]
["50000348","출산/육아","유아동잡화","지갑"]
["50007126","출산/육아","유아동잡화","타이즈"]
["50007113","출산/육아","유아동잡화","헤어액세서리","헤어끈"]
["50007111","출산/육아","유아동잡화","헤어액세서리","헤어밴드"]
["50007112","출산/육아","유아동잡화","헤어액세서리","헤어핀"]
["50000367","출산/육아","유아발육용품","바운서/흔들침대"]
["50000368","출산/육아","유아발육용품","보행기"]
["50000369","출산/육아","유아발육용품","쏘서"]
["50000370","출산/육아","유아발육용품","점퍼루"]
["50000628","출산/육아","유아세제","유아세탁비누"]
["50000626","출산/육아","유아세제","유아세탁세제"]
["50000627","출산/육아","유아세제","유아유연제"]
["50005412","출산/육아","유아세제","유아표백제/얼룩제거제"]
["50005413","출산/육아","유아세제","혼합세트"]
["50000516","출산/육아","유아침구","DIY 아기용품"]
["50000510","출산/육아","유아침구","겉싸개"]
["50000517","출산/육아","유아침구","기타유아침구"]
["50005305","출산/육아","유아침구","낮잠이불"]
["50000514","출산/육아","유아침구","방수요"]
["50000513","출산/육아","유아침구","보낭/슬리핑백"]
["50000509","출산/육아","유아침구","속싸개"]
["50000512","출산/육아","유아침구","아기이불/요/패드"]
["50005304","출산/육아","유아침구","유아베개"]
["50000737","출산/육아","이유식","레토르트이유식"]
["50000736","출산/육아","이유식","반고형이유식"]
["50000733","출산/육아","이유식","분말이유식"]
["50003703","출산/육아","이유식","수제이유식","국/반찬"]
["50003707","출산/육아","이유식","수제이유식","기타수제이유식"]
["50003702","출산/육아","이유식","수제이유식","밥/죽"]
["50007068","출산/육아","이유식","수제이유식","이유식재료"]
["50000485","출산/육아","이유식용품","과즙망"]
["50000486","출산/육아","이유식용품","기타이유식용품"]
["50000481","출산/육아","이유식용품","연습용젓가락"]
["50000479","출산/육아","이유식용품","유아스푼/포크"]
["50000478","출산/육아","이유식용품","유아식기"]
["50000477","출산/육아","이유식용품","유아컵"]
["50000483","출산/육아","이유식용품","조리기"]
["50000482","출산/육아","이유식용품","턱받이"]
["50000218","출산/육아","인형","기타인형"]
["50000344","출산/육아","인형","봉제인형"]
["50000217","출산/육아","인형","캐릭터/패션인형"]
["50000501","출산/육아","임부복","레깅스"]
["50000496","출산/육아","임부복","바지"]
["50000487","출산/육아","임부복","수유복"]
["50000499","출산/육아","임부복","스커트"]
["50000500","출산/육아","임부복","스타킹"]
["50000488","출산/육아","임부복","원피스"]
["50004030","출산/육아","임부복","임부속옷","수유브라"]
["50004032","출산/육아","임부복","임부속옷","임부내복"]
["50004033","출산/육아","임부복","임부속옷","임부러닝"]
["50004031","출산/육아","임부복","임부속옷","임부팬티"]
["50004034","출산/육아","임부복","임부속옷","임산부복대"]
["50000502","출산/육아","임부복","임부용수영복"]
["50000497","출산/육아","임부복","청바지"]
["50000498","출산/육아","임부복","트레이닝복/요가복"]
["50000277","출산/육아","임산부용품","기타임산부용품"]
["50006841","출산/육아","임산부용품","모유촉진제"]
["50000503","출산/육아","임산부용품","산모방석"]
["50000276","출산/육아","임산부용품","임산부바디필로우"]
["50000508","출산/육아","임산부용품","임산부보호대"]
["50000507","출산/육아","임산부용품","임산부화장품"]
["50000505","출산/육아","임산부용품","전자파차단앞치마"]
["50004035","출산/육아","임산부용품","태교용품","태교용구"]
["50004036","출산/육아","임산부용품","태교용품","태교음반/DVD"]
["50000518","출산/육아","출산/돌기념품","기저귀케이크"]
["50000524","출산/육아","출산/돌기념품","기타출산/돌기념품"]
["50006997","출산/육아","출산/돌기념품","돌잔치용품","답례품"]
["50006995","출산/육아","출산/돌기념품","돌잔치용품","돌잔치소품"]
["50006994","출산/육아","출산/돌기념품","돌잔치용품","상대여"]
["50006996","출산/육아","출산/돌기념품","돌잔치용품","행사용스티커"]
["50000522","출산/육아","출산/돌기념품","성장앨범/액자"]
["50006989","출산/육아","출산/돌기념품","성장카드"]
["50006992","출산/육아","출산/돌기념품","셀프촬영","촬영소품"]
["50006991","출산/육아","출산/돌기념품","셀프촬영","촬영의상"]
["50000520","출산/육아","출산/돌기념품","손발도장"]
["50006988","출산/육아","출산/돌기념품","유치보관함"]
["50000521","출산/육아","출산/돌기념품","탯줄도장"]
["50000519","출산/육아","출산/돌기념품","탯줄보관함"]
["50005408","출산/육아","카시트","바구니형"]
["50005410","출산/육아","카시트","분리형"]
["50005409","출산/육아","카시트","일체형"]
["50003880","출산/육아","카시트","카시트용품","차량안전벨트"]
["50003879","출산/육아","카시트","카시트용품","카시트기타용품"]
["50003877","출산/육아","카시트","카시트용품","햇빛가리개"]
["50000846","패션의류","남성언더웨어/잠옷","러닝"]
["50000847","패션의류","남성언더웨어/잠옷","러닝팬티세트"]
["50003804","패션의류","남성언더웨어/잠옷","보정속옷","보정상의"]
["50003805","패션의류","남성언더웨어/잠옷","보정속옷","보정하의"]
["50003807","패션의류","남성언더웨어/잠옷","보정속옷","복대"]
["50003808","패션의류","남성언더웨어/잠옷","시즌성내의","내복"]
["50003810","패션의류","남성언더웨어/잠옷","시즌성내의","모시메리"]
["50000848","패션의류","남성언더웨어/잠옷","잠옷/홈웨어"]
["50000845","패션의류","남성언더웨어/잠옷","팬티"]
["50000831","패션의류","남성의류","니트/스웨터"]
["50000844","패션의류","남성의류","레인코트"]
["50000836","패션의류","남성의류","바지"]
["50000833","패션의류","남성의류","셔츠/남방"]
["50000843","패션의류","남성의류","유니폼/단체복"]
["50000838","패션의류","남성의류","재킷"]
["50000837","패션의류","남성의류","점퍼"]
["50000840","패션의류","남성의류","정장세트"]
["50000834","패션의류","남성의류","조끼"]
["50000835","패션의류","남성의류","청바지"]
["50000832","패션의류","남성의류","카디건"]
["50006328","패션의류","남성의류","코디세트"]
["50000839","패션의류","남성의류","코트"]
["50000841","패션의류","남성의류","트레이닝복"]
["50000830","패션의류","남성의류","티셔츠"]
["50000842","패션의류","남성의류","한복"]
["50000828","패션의류","여성언더웨어/잠옷","러닝/캐미솔"]
["50003627","패션의류","여성언더웨어/잠옷","보정속옷","거들"]
["50003631","패션의류","여성언더웨어/잠옷","보정속옷","기타보정속옷"]
["50003624","패션의류","여성언더웨어/잠옷","보정속옷","니퍼/복대"]
["50003630","패션의류","여성언더웨어/잠옷","보정속옷","보정속옷세트"]
["50003626","패션의류","여성언더웨어/잠옷","보정속옷","올인원/바디쉐이퍼"]
["50003625","패션의류","여성언더웨어/잠옷","보정속옷","코르셋"]
["50000823","패션의류","여성언더웨어/잠옷","브라"]
["50000825","패션의류","여성언더웨어/잠옷","브라팬티세트"]
["50000829","패션의류","여성언더웨어/잠옷","속치마/속바지"]
["50000827","패션의류","여성언더웨어/잠옷","슬립"]
["50003632","패션의류","여성언더웨어/잠옷","시즌성내의","내복"]
["50003635","패션의류","여성언더웨어/잠옷","시즌성내의","모시메리"]
["50003634","패션의류","여성언더웨어/잠옷","시즌성내의","힙워머"]
["50003636","패션의류","여성언더웨어/잠옷","언더웨어소품","가터벨트"]
["50003816","패션의류","여성언더웨어/잠옷","언더웨어소품","기타언더웨어소품"]
["50003639","패션의류","여성언더웨어/잠옷","언더웨어소품","땀패드"]
["50003637","패션의류","여성언더웨어/잠옷","언더웨어소품","브라끈"]
["50003638","패션의류","여성언더웨어/잠옷","언더웨어소품","브라패드"]
["50000826","패션의류","여성언더웨어/잠옷","잠옷/홈웨어"]
["50000824","패션의류","여성언더웨어/잠옷","팬티"]
["50000805","패션의류","여성의류","니트/스웨터"]
["50000812","패션의류","여성의류","레깅스"]
["50000822","패션의류","여성의류","레인코트"]
["50000810","패션의류","여성의류","바지"]
["50000804","패션의류","여성의류","블라우스/셔츠"]
["50000808","패션의류","여성의류","스커트"]
["50000807","패션의류","여성의류","원피스"]
["50000821","패션의류","여성의류","유니폼/단체복"]
["50000815","패션의류","여성의류","재킷"]
["50000814","패션의류","여성의류","점퍼"]
["50000811","패션의류","여성의류","점프슈트"]
["50000816","패션의류","여성의류","정장세트"]
["50000817","패션의류","여성의류","조끼"]
["50000809","패션의류","여성의류","청바지"]
["50000806","패션의류","여성의류","카디건"]
["50000778","패션의류","여성의류","코디세트"]
["50000813","패션의류","여성의류","코트"]
["50000818","패션의류","여성의류","트레이닝복"]
["50000803","패션의류","여성의류","티셔츠"]
["50000820","패션의류","여성의류","파티복"]
["50000819","패션의류","여성의류","한복"]
["50000651","패션잡화","남성가방","백팩"]
["50000650","패션잡화","남성가방","브리프케이스"]
["50000646","패션잡화","남성가방","숄더백"]
["50000648","패션잡화","남성가방","크로스백"]
["50000649","패션잡화","남성가방","클러치백"]
["50000647","패션잡화","남성가방","토트백"]
["50000652","패션잡화","남성가방","힙색"]
["50000787","패션잡화","남성신발","구두"]
["50003863","패션잡화","남성신발","기능화","댄스화"]
["50003860","패션잡화","남성신발","기능화","작업화/안전화"]
["50003861","패션잡화","남성신발","기능화","컴포트화"]
["50003862","패션잡화","남성신발","기능화","한복신발"]
["50000784","패션잡화","남성신발","모카신/털신"]
["50000785","패션잡화","남성신발","보트슈즈"]
["50000792","패션잡화","남성신발","부츠"]
["50000789","패션잡화","남성신발","샌들"]
["50000788","패션잡화","남성신발","스니커즈"]
["50000790","패션잡화","남성신발","슬리퍼"]
["50000783","패션잡화","남성신발","슬립온"]
["50000666","패션잡화","남성신발","실내화"]
["50003854","패션잡화","남성신발","운동화","러닝화"]
["50003855","패션잡화","남성신발","운동화","보드화"]
["50003857","패션잡화","남성신발","운동화","아쿠아슈즈"]
["50003858","패션잡화","남성신발","운동화","워킹화"]
["50003859","패션잡화","남성신발","운동화","캔버스화"]
["50003856","패션잡화","남성신발","운동화","하이탑"]
["50000791","패션잡화","남성신발","워커"]
["50000665","패션잡화","남성신발","웰트화"]
["50000541","패션잡화","모자","군모"]
["50000548","패션잡화","모자","귀달이모자"]
["50000550","패션잡화","모자","귀마개"]
["50000545","패션잡화","모자","두건/반다나"]
["50000549","패션잡화","모자","방울털모자"]
["50006868","패션잡화","모자","베레모"]
["50000543","패션잡화","모자","비니"]
["50000546","패션잡화","모자","사파리모자"]
["50000542","패션잡화","모자","선캡"]
["50003993","패션잡화","모자","스냅백","메시캡"]
["50003992","패션잡화","모자","스냅백","일반캡"]
["50003991","패션잡화","모자","야구모자","메시캡"]
["50003990","패션잡화","모자","야구모자","일반캡"]
["50000544","패션잡화","모자","페도라"]
["50000547","패션잡화","모자","헌팅캡"]
["50003988","패션잡화","벨트","남성벨트","정장벨트"]
["50003989","패션잡화","벨트","남성벨트","캐주얼벨트"]
["50000540","패션잡화","벨트","멜빵"]
["50000539","패션잡화","벨트","여성벨트"]
["50000554","패션잡화","선글라스/안경테","선글라스"]
["50000555","패션잡화","선글라스/안경테","선글라스 케이스/소품"]
["50000558","패션잡화","선글라스/안경테","안경소품"]
["50000559","패션잡화","선글라스/안경테","안경줄"]
["50000557","패션잡화","선글라스/안경테","안경케이스"]
["50000556","패션잡화","선글라스/안경테","안경테"]
["50000432","패션잡화","순금","골드바"]
["50000433","패션잡화","순금","순금기념품"]
["50006911","패션잡화","순금","실버바"]
["50006913","패션잡화","시계","시계소품","보호필름"]
["50004147","패션잡화","시계","시계소품","시계보관함"]
["50004146","패션잡화","시계","시계소품","시계줄"]
["50000435","패션잡화","시계","시계수리용품"]
["50000426","패션잡화","시계","아동시계"]
["50000425","패션잡화","시계","커플시계"]
["50004140","패션잡화","시계","패션시계","가죽밴드시계"]
["50004142","패션잡화","시계","패션시계","금시계"]
["50006188","패션잡화","시계","패션시계","기타밴드시계"]
["50004141","패션잡화","시계","패션시계","메탈밴드시계"]
["50004143","패션잡화","시계","패션시계","뱅글/팔찌형시계"]
["50005245","패션잡화","시계","패션시계","스톱워치"]
["50004144","패션잡화","시계","패션시계","젤리/우레탄밴드시계"]
["50004145","패션잡화","시계","패션시계","회중시계"]
["50000671","패션잡화","신발용품","구둣주걱"]
["50000672","패션잡화","신발용품","기타신발용품"]
["50000669","패션잡화","신발용품","보호쿠션/패드"]
["50000670","패션잡화","신발용품","부츠키퍼"]
["50006909","패션잡화","신발용품","슈즈커버"]
["50000667","패션잡화","신발용품","신발깔창"]
["50000668","패션잡화","신발용품","신발끈"]
["50004005","패션잡화","양말","남성양말","발가락양말"]
["50004002","패션잡화","양말","남성양말","발목양말"]
["50004006","패션잡화","양말","남성양말","수면양말"]
["50004004","패션잡화","양말","남성양말","스포츠양말"]
["50004003","패션잡화","양말","남성양말","중목/장목양말"]
["50003997","패션잡화","양말","여성양말","니삭스"]
["50003994","패션잡화","양말","여성양말","덧신"]
["50004001","패션잡화","양말","여성양말","레그워머"]
["50003999","패션잡화","양말","여성양말","발가락양말"]
["50003995","패션잡화","양말","여성양말","발목양말"]
["50004000","패션잡화","양말","여성양말","수면양말"]
["50003998","패션잡화","양말","여성양말","스포츠양말"]
["50003996","패션잡화","양말","여성양말","중목/장목양말"]
["50003976","패션잡화","여성가방","가방소품","가방걸이"]
["50003977","패션잡화","여성가방","가방소품","가방끈"]
["50000644","패션잡화","여성가방","백팩"]
["50000639","패션잡화","여성가방","숄더백"]
["50000641","패션잡화","여성가방","크로스백"]
["50000642","패션잡화","여성가방","클러치백"]
["50000640","패션잡화","여성가방","토트백"]
["50000643","패션잡화","여성가방","파우치"]
["50000645","패션잡화","여성가방","힙색"]
["50003852","패션잡화","여성신발","기능화","다이어트화"]
["50003853","패션잡화","여성신발","기능화","댄스화"]
["50003848","패션잡화","여성신발","기능화","유니폼화"]
["50003849","패션잡화","여성신발","기능화","작업화/안전화"]
["50003850","패션잡화","여성신발","기능화","컴포트화"]
["50003851","패션잡화","여성신발","기능화","한복신발"]
["50003818","패션잡화","여성신발","단화","로퍼"]
["50003820","패션잡화","여성신발","단화","모카신/털신"]
["50003822","패션잡화","여성신발","단화","스니커즈"]
["50003821","패션잡화","여성신발","단화","슬립온"]
["50003819","패션잡화","여성신발","단화","옥스퍼드화"]
["50003817","패션잡화","여성신발","단화","플랫"]
["50003834","패션잡화","여성신발","부츠","롱부츠"]
["50004190","패션잡화","여성신발","부츠","미들부츠"]
["50004191","패션잡화","여성신발","부츠","앵클/숏부츠"]
["50000779","패션잡화","여성신발","부티"]
["50003844","패션잡화","여성신발","샌들","글래디에이터샌들"]
["50003847","패션잡화","여성신발","샌들","뮬/블로퍼"]
["50003842","패션잡화","여성신발","샌들","스트랩샌들"]
["50003841","패션잡화","여성신발","샌들","슬링백샌들"]
["50003846","패션잡화","여성신발","샌들","아쿠아샌들"]
["50003843","패션잡화","여성신발","샌들","웨지힐샌들"]
["50003845","패션잡화","여성신발","샌들","젤리샌들"]
["50000780","패션잡화","여성신발","슬리퍼"]
["50000781","패션잡화","여성신발","실내화"]
["50003835","패션잡화","여성신발","운동화","러닝화"]
["50003836","패션잡화","여성신발","운동화","보드화"]
["50003838","패션잡화","여성신발","운동화","아쿠아슈즈"]
["50003839","패션잡화","여성신발","운동화","워킹화"]
["50003840","패션잡화","여성신발","운동화","캔버스화"]
["50003837","패션잡화","여성신발","운동화","하이탑"]
["50003833","패션잡화","여성신발","워커","워커힐"]
["50003832","패션잡화","여성신발","워커","플랫워커"]
["50003824","패션잡화","여성신발","힐/펌프스","가보시힐"]
["50003825","패션잡화","여성신발","힐/펌프스","스트랩힐"]
["50003826","패션잡화","여성신발","힐/펌프스","슬링백힐"]
["50003831","패션잡화","여성신발","힐/펌프스","웨딩슈즈"]
["50003827","패션잡화","여성신발","힐/펌프스","웨지힐"]
["50003828","패션잡화","여성신발","힐/펌프스","토오픈힐"]
["50003829","패션잡화","여성신발","힐/펌프스","통굽힐"]
["50003830","패션잡화","여성신발","힐/펌프스","펌프스"]
["50003823","패션잡화","여성신발","힐/펌프스","하이힐"]
["50000659","패션잡화","여행용가방/소품","네임태그"]
["50000653","패션잡화","여행용가방/소품","보스턴가방"]
["50000654","패션잡화","여행용가방/소품","복대"]
["50003980","패션잡화","여행용가방/소품","소프트캐리어","기내용"]
["50003981","패션잡화","여행용가방/소품","소프트캐리어","중대형"]
["50000656","패션잡화","여행용가방/소품","슈트케이스"]
["50000657","패션잡화","여행용가방/소품","여권지갑/케이스"]
["50000658","패션잡화","여행용가방/소품","여행소품케이스"]
["50000655","패션잡화","여행용가방/소품","이민/유학용 가방"]
["50000660","패션잡화","여행용가방/소품","잠금벨트/자물쇠"]
["50005464","패션잡화","여행용가방/소품","캐리어소품"]
["50006908","패션잡화","여행용가방/소품","캐리어커버"]
["50003978","패션잡화","여행용가방/소품","하드캐리어","기내용"]
["50003979","패션잡화","여행용가방/소품","하드캐리어","중대형"]
["50000552","패션잡화","장갑","남성장갑"]
["50000553","패션잡화","장갑","암워머/토시"]
["50000551","패션잡화","장갑","여성장갑"]
["50004158","패션잡화","주얼리","귀걸이","14K귀걸이"]
["50004159","패션잡화","주얼리","귀걸이","18K귀걸이"]
["50006873","패션잡화","주얼리","귀걸이","귀걸이만들기"]
["50004157","패션잡화","주얼리","귀걸이","다이아몬드 귀걸이"]
["50004160","패션잡화","주얼리","귀걸이","순금귀걸이"]
["50004162","패션잡화","주얼리","귀걸이","유색보석귀걸이"]
["50004161","패션잡화","주얼리","귀걸이","은귀걸이"]
["50004165","패션잡화","주얼리","귀걸이","이니셜귀걸이"]
["50004163","패션잡화","주얼리","귀걸이","진주귀걸이"]
["50004164","패션잡화","주얼리","귀걸이","패션귀걸이"]
["50004166","패션잡화","주얼리","귀걸이","피어싱"]
["50004168","패션잡화","주얼리","목걸이","14K목걸이"]
["50004169","패션잡화","주얼리","목걸이","18K목걸이"]
["50004167","패션잡화","주얼리","목걸이","다이아몬드목걸이"]
["50006871","패션잡화","주얼리","목걸이","목걸이만들기"]
["50004170","패션잡화","주얼리","목걸이","순금목걸이"]
["50004172","패션잡화","주얼리","목걸이","유색보석목걸이"]
["50004171","패션잡화","주얼리","목걸이","은목걸이"]
["50004175","패션잡화","주얼리","목걸이","이니셜목걸이"]
["50004173","패션잡화","주얼리","목걸이","진주목걸이"]
["50004174","패션잡화","주얼리","목걸이","패션목걸이"]
["50004149","패션잡화","주얼리","반지","14K반지"]
["50004150","패션잡화","주얼리","반지","18K반지"]
["50004148","패션잡화","주얼리","반지","다이아몬드반지"]
["50006870","패션잡화","주얼리","반지","반지만들기"]
["50004151","패션잡화","주얼리","반지","순금반지"]
["50004153","패션잡화","주얼리","반지","유색보석반지"]
["50004152","패션잡화","주얼리","반지","은반지"]
["50004156","패션잡화","주얼리","반지","이니셜반지"]
["50004154","패션잡화","주얼리","반지","진주반지"]
["50004155","패션잡화","주얼리","반지","패션반지"]
["50006176","패션잡화","주얼리","발찌","순금발찌"]
["50006175","패션잡화","주얼리","발찌","패션발찌"]
["50004181","패션잡화","주얼리","주얼리세트","14K세트"]
["50004182","패션잡화","주얼리","주얼리세트","18K세트"]
["50004180","패션잡화","주얼리","주얼리세트","다이아몬드세트"]
["50006171","패션잡화","주얼리","주얼리세트","순금주얼리세트"]
["50004184","패션잡화","주얼리","주얼리세트","유색보석세트"]
["50004183","패션잡화","주얼리","주얼리세트","은세트"]
["50004185","패션잡화","주얼리","주얼리세트","진주세트"]
["50004186","패션잡화","주얼리","주얼리세트","패션주얼리세트"]
["50006910","패션잡화","주얼리","주얼리소품","기타주얼리소품"]
["50004187","패션잡화","주얼리","주얼리소품","보관함/케이스"]
["50004189","패션잡화","주얼리","주얼리소품","세척용품"]
["50004188","패션잡화","주얼리","주얼리소품","진열대"]
["50004192","패션잡화","주얼리","팔찌","금팔찌"]
["50006169","패션잡화","주얼리","팔찌","순금팔찌"]
["50004193","패션잡화","주얼리","팔찌","은팔찌"]
["50006872","패션잡화","주얼리","팔찌","팔찌만들기"]
["50004194","패션잡화","주얼리","팔찌","패션팔찌"]
["50004176","패션잡화","주얼리","펜던트","금펜던트"]
["50006170","패션잡화","주얼리","펜던트","순금펜던트"]
["50004178","패션잡화","주얼리","펜던트","유색보석펜던트"]
["50004177","패션잡화","주얼리","펜던트","은펜던트"]
["50004179","패션잡화","주얼리","펜던트","패션펜던트"]
["50003985","패션잡화","지갑","남성지갑","반지갑"]
["50003987","패션잡화","지갑","남성지갑","장지갑"]
["50003986","패션잡화","지갑","남성지갑","중지갑"]
["50000664","패션잡화","지갑","동전지갑"]
["50000661","패션잡화","지갑","머니클립"]
["50003982","패션잡화","지갑","여성지갑","반지갑"]
["50003984","패션잡화","지갑","여성지갑","장지갑"]
["50003983","패션잡화","지갑","여성지갑","중지갑"]
["50000663","패션잡화","지갑","열쇠지갑"]
["50000538","패션잡화","지갑","지갑기타세트"]
["50000662","패션잡화","지갑","카드/명함지갑"]
["50000537","패션잡화","지갑","통장지갑"]
["50000434","패션잡화","패션소품","기타패션소품"]
["50000566","패션잡화","패션소품","넥워머"]
["50000568","패션잡화","패션소품","넥케이프"]
["50004014","패션잡화","패션소품","넥타이","기본넥타이"]
["50004015","패션잡화","패션소품","넥타이","나비넥타이"]
["50004016","패션잡화","패션소품","넥타이","넥타이핀"]
["50004139","패션잡화","패션소품","라이터/담배용품","기타담배용품"]
["50004138","패션잡화","패션소품","라이터/담배용품","담배케이스"]
["50004137","패션잡화","패션소품","라이터/담배용품","라이터"]
["50000565","패션잡화","패션소품","머플러"]
["50000571","패션잡화","패션소품","부채"]
["50004027","패션잡화","패션소품","브로치","보석브로치"]
["50004029","패션잡화","패션소품","브로치","카네이션브로치"]
["50004028","패션잡화","패션소품","브로치","패션브로치"]
["50004012","패션잡화","패션소품","손수건","남성용"]
["50004013","패션잡화","패션소품","손수건","여성용"]
["50000567","패션잡화","패션소품","숄"]
["50004010","패션잡화","패션소품","스카프","롱"]
["50004011","패션잡화","패션소품","스카프","쁘띠/미니"]
["50004021","패션잡화","패션소품","스타킹","발목스타킹"]
["50004023","패션잡화","패션소품","스타킹","밴드스타킹"]
["50004026","패션잡화","패션소품","스타킹","스프레이스타킹"]
["50004025","패션잡화","패션소품","스타킹","압박보정스타킹"]
["50004022","패션잡화","패션소품","스타킹","판타롱스타킹"]
["50004024","패션잡화","패션소품","스타킹","팬티스타킹"]
["50004019","패션잡화","패션소품","양산","수동양산"]
["50004020","패션잡화","패션소품","양산","자동양산"]
["50000572","패션잡화","패션소품","와펜"]
["50004017","패션잡화","패션소품","우산","수동우산"]
["50004018","패션잡화","패션소품","우산","자동우산"]
["50000564","패션잡화","패션소품","커프스"]
["50000573","패션잡화","패션소품","코르사주"]
["50000570","패션잡화","패션소품","키홀더"]
["50000574","패션잡화","패션소품","한복소품"]
["50000569","패션잡화","패션소품","행커치프"]
["50004008","패션잡화","헤어액세서리","가발","남성가발"]
["50004009","패션잡화","헤어액세서리","가발","여성가발"]
["50000562","패션잡화","헤어액세서리","헤어끈"]
["50000560","패션잡화","헤어액세서리","헤어밴드"]
["50000563","패션잡화","헤어액세서리","헤어액세서리소품"]
["50000561","패션잡화","헤어액세서리","헤어핀"]
["50000333","화장품/미용","남성화장품","남성청결제"]
["50000334","화장품/미용","남성화장품","남성화장품세트"]
["50000322","화장품/미용","남성화장품","로션"]
["50000330","화장품/미용","남성화장품","마스크/팩"]
["50000331","화장품/미용","남성화장품","메이크업"]
["50000327","화장품/미용","남성화장품","선크림"]
["50000332","화장품/미용","남성화장품","쉐이빙폼"]
["50000329","화장품/미용","남성화장품","스크럽/필링"]
["50000321","화장품/미용","남성화장품","스킨"]
["50000325","화장품/미용","남성화장품","아이케어"]
["50000323","화장품/미용","남성화장품","에센스"]
["50000326","화장품/미용","남성화장품","올인원"]
["50000324","화장품/미용","남성화장품","크림"]
["50000328","화장품/미용","남성화장품","클렌징"]
["50000405","화장품/미용","네일케어","네일리무버"]
["50000403","화장품/미용","네일케어","네일아트"]
["50000404","화장품/미용","네일케어","네일영양제"]
["50000406","화장품/미용","네일케어","네일케어도구"]
["50000407","화장품/미용","네일케어","네일케어세트"]
["50000402","화장품/미용","네일케어","매니큐어"]
["50000468","화장품/미용","마스크/팩","마사지크림/젤"]
["50000469","화장품/미용","마스크/팩","마스크/팩세트"]
["50000463","화장품/미용","마스크/팩","마스크시트"]
["50000467","화장품/미용","마스크/팩","수면팩"]
["50000465","화장품/미용","마스크/팩","워시오프팩"]
["50000466","화장품/미용","마스크/팩","코팩"]
["50000464","화장품/미용","마스크/팩","필오프팩"]
["50000293","화장품/미용","바디케어","데오드란트"]
["50000288","화장품/미용","바디케어","목욕비누"]
["50000408","화장품/미용","바디케어","바디로션"]
["50000283","화장품/미용","바디케어","바디미스트"]
["50000286","화장품/미용","바디케어","바디스크럽"]
["50000295","화장품/미용","바디케어","바디슬리밍"]
["50000282","화장품/미용","바디케어","바디오일"]
["50000296","화장품/미용","바디케어","바디케어세트"]
["50000281","화장품/미용","바디케어","바디크림"]
["50000285","화장품/미용","바디케어","바디클렌저"]
["50000284","화장품/미용","바디케어","바디파우더"]
["50005287","화장품/미용","바디케어","샤워코롱"]
["50000292","화장품/미용","바디케어","아로마테라피"]
["50000287","화장품/미용","바디케어","여성청결제"]
["50000291","화장품/미용","바디케어","입욕제"]
["50000294","화장품/미용","바디케어","제모제"]
["50000290","화장품/미용","바디케어","풋케어"]
["50000289","화장품/미용","바디케어","핸드케어"]
["50000470","화장품/미용","베이스메이크업","BB크림"]
["50000471","화장품/미용","베이스메이크업","CC크림"]
["50000345","화장품/미용","베이스메이크업","메이크업베이스"]
["50000390","화장품/미용","베이스메이크업","베이스메이크업세트"]
["50000347","화장품/미용","베이스메이크업","컨실러"]
["50000346","화장품/미용","베이스메이크업","트윈케이크"]
["50004196","화장품/미용","베이스메이크업","파우더","루스파우더"]
["50004580","화장품/미용","베이스메이크업","파우더","팩트파우더"]
["50004197","화장품/미용","베이스메이크업","파운데이션","리퀴드형"]
["50004581","화장품/미용","베이스메이크업","파운데이션","스틱형"]
["50005288","화장품/미용","베이스메이크업","파운데이션","쿠션형"]
["50004582","화장품/미용","베이스메이크업","파운데이션","크림형"]
["50000472","화장품/미용","베이스메이크업","프라이머"]
["50005289","화장품/미용","뷰티소품","DIY화장품재료"]
["50004402","화장품/미용","뷰티소품","메이크업브러시","립브러시"]
["50004589","화장품/미용","뷰티소품","메이크업브러시","브러시세트"]
["50004587","화장품/미용","뷰티소품","메이크업브러시","아이브러시"]
["50004588","화장품/미용","뷰티소품","메이크업브러시","페이스브러시"]
["50000316","화장품/미용","뷰티소품","바디소품"]
["50004386","화장품/미용","뷰티소품","아이소품","기타아이소품"]
["50004383","화장품/미용","뷰티소품","아이소품","눈썹가위"]
["50004382","화장품/미용","뷰티소품","아이소품","눈썹칼"]
["50004379","화장품/미용","뷰티소품","아이소품","뷰러"]
["50004385","화장품/미용","뷰티소품","아이소품","샤프너"]
["50004380","화장품/미용","뷰티소품","아이소품","속눈썹"]
["50004381","화장품/미용","뷰티소품","아이소품","쌍꺼풀"]
["50004384","화장품/미용","뷰티소품","아이소품","족집게"]
["50000317","화장품/미용","뷰티소품","타투"]
["50004387","화장품/미용","뷰티소품","페이스소품","기름종이"]
["50004395","화장품/미용","뷰티소품","페이스소품","기타페이스소품"]
["50004391","화장품/미용","뷰티소품","페이스소품","마사지도구"]
["50004586","화장품/미용","뷰티소품","페이스소품","면봉"]
["50004392","화장품/미용","뷰티소품","페이스소품","세안도구"]
["50004393","화장품/미용","뷰티소품","페이스소품","코털제거기"]
["50004389","화장품/미용","뷰티소품","페이스소품","퍼프"]
["50004394","화장품/미용","뷰티소품","페이스소품","피지/각질제거기"]
["50004388","화장품/미용","뷰티소품","페이스소품","화장솜"]
["50004401","화장품/미용","뷰티소품","헤어소품","기타헤어소품"]
["50004397","화장품/미용","뷰티소품","헤어소품","미용가위"]
["50004399","화장품/미용","뷰티소품","헤어소품","세안밴드"]
["50004398","화장품/미용","뷰티소품","헤어소품","헤어롤"]
["50004396","화장품/미용","뷰티소품","헤어소품","헤어브러시"]
["50004400","화장품/미용","뷰티소품","헤어소품","헤어캡"]
["50000319","화장품/미용","뷰티소품","화장품케이스"]
["50000393","화장품/미용","색조메이크업","립글로스"]
["50000395","화장품/미용","색조메이크업","립라이너"]
["50000391","화장품/미용","색조메이크업","립스틱"]
["50000392","화장품/미용","색조메이크업","립케어"]
["50000394","화장품/미용","색조메이크업","립틴트"]
["50000397","화장품/미용","색조메이크업","마스카라"]
["50000399","화장품/미용","색조메이크업","블러셔"]
["50000401","화장품/미용","색조메이크업","색조메이크업세트"]
["50004377","화장품/미용","색조메이크업","아이라이너","리퀴드형"]
["50004583","화장품/미용","색조메이크업","아이라이너","젤형"]
["50004584","화장품/미용","색조메이크업","아이라이너","펜슬형"]
["50000398","화장품/미용","색조메이크업","아이브로"]
["50000396","화장품/미용","색조메이크업","아이섀도"]
["50000400","화장품/미용","색조메이크업","하이라이터"]
["50000447","화장품/미용","선케어","선스틱"]
["50000446","화장품/미용","선케어","선스프레이"]
["50000450","화장품/미용","선케어","선케어세트"]
["50000445","화장품/미용","선케어","선크림"]
["50000448","화장품/미용","선케어","선파우더/쿠션"]
["50000449","화장품/미용","선케어","애프터선"]
["50004195","화장품/미용","선케어","태닝","태닝스프레이"]
["50004403","화장품/미용","선케어","태닝","태닝오일"]
["50004404","화장품/미용","선케어","태닝","태닝크림"]
["50004641","화장품/미용","선케어","태닝","태닝티슈"]
["50000342","화장품/미용","스킨케어","넥케어"]
["50000438","화장품/미용","스킨케어","로션"]
["50000442","화장품/미용","스킨케어","미스트"]
["50000437","화장품/미용","스킨케어","스킨/토너"]
["50000441","화장품/미용","스킨케어","아이케어"]
["50000439","화장품/미용","스킨케어","에센스"]
["50000440","화장품/미용","스킨케어","크림"]
["50000443","화장품/미용","스킨케어","페이스오일"]
["50000444","화장품/미용","스킨케어","화장품세트"]
["50000460","화장품/미용","클렌징","립앤아이리무버"]
["50000461","화장품/미용","클렌징","스크럽/필링"]
["50000454","화장품/미용","클렌징","클렌징로션"]
["50000458","화장품/미용","클렌징","클렌징비누"]
["50000462","화장품/미용","클렌징","클렌징세트"]
["50000452","화장품/미용","클렌징","클렌징오일"]
["50000456","화장품/미용","클렌징","클렌징워터"]
["50000455","화장품/미용","클렌징","클렌징젤"]
["50000453","화장품/미용","클렌징","클렌징크림"]
["50000457","화장품/미용","클렌징","클렌징티슈"]
["50000459","화장품/미용","클렌징","클렌징파우더"]
["50000451","화장품/미용","클렌징","클렌징폼"]
["50000314","화장품/미용","향수","남녀공용향수"]
["50000313","화장품/미용","향수","남성향수"]
["50000312","화장품/미용","향수","여성향수"]
["50000315","화장품/미용","향수","향수세트"]
["50000311","화장품/미용","헤어스타일링","염색약"]
["50004378","화장품/미용","헤어스타일링","파마약","스트레이트"]
["50004585","화장품/미용","헤어스타일링","파마약","웨이브"]
["50000310","화장품/미용","헤어스타일링","헤어글레이즈"]
["50000308","화장품/미용","헤어스타일링","헤어무스"]
["50000307","화장품/미용","헤어스타일링","헤어스프레이"]
["50000306","화장품/미용","헤어스타일링","헤어왁스"]
["50000309","화장품/미용","헤어스타일링","헤어젤"]
["50000303","화장품/미용","헤어케어","두피케어"]
["50000298","화장품/미용","헤어케어","린스"]
["50000297","화장품/미용","헤어케어","샴푸"]
["50000304","화장품/미용","헤어케어","탈모케어"]
["50000299","화장품/미용","헤어케어","트리트먼트"]
["50000302","화장품/미용","헤어케어","헤어미스트"]
["50000300","화장품/미용","헤어케어","헤어에센스"]
["50000305","화장품/미용","헤어케어","헤어케어세트"]
["50000301","화장품/미용","헤어케어","헤어팩"]