{"text_format":"1","workbook":"xlsx","n_sheets":2,"sheets":["Sheet1","Sheet2"],"not_rendered":{"charts":0,"images":0,"macros":1,"external_links":0,"defined_names":0,"comments":0,"pivot_tables":0},"unopened":[],"bounds":{"document_bytes":16777216,"sheet_cells":100000,"rows_first":2000,"rows_last":500,"rows_between":2000,"halvings":0,"cell_chars":16384,"cell_head_chars":4096},"cells_cut":0,"cells_raw":0,"read":"whole","date_system":"1900"}

{"sheet":"Sheet1","index":0,"n_rows":55,"n_cols":13,"rows_kept":55,"cut":false,"hidden":false,"merged":[[8,11,8,12],[2,1,2,3],[3,1,3,3],[0,11,0,12],[5,11,5,12],[6,11,6,12]]}
[null,null,null,null,null,null,null,null,null,null,null,"http://withseok.tistory.com"]
[null,null,null,null,null,null,null,null,null,null,null,null,"Ver.231013.2353"]
[null,"두수의 최대 공약수 구하기",null,null,null,"첫 수","두번째 수",null,"최대공약수",null,null,"순위"]
[null,"유클리드 알고리즘 이용",null,null,null,527,5921,null,{"$f":"IF(AND(F5=\"정수\",G5=\"정수\"),IF(INDEX(C:C,MATCH(0,E:E,0),)=1,\"서로소 (1)\",INDEX(C:C,MATCH(0,E:E,0),)),\"정수를 입력하세요.\")","v":31},"최대공약소",null,{"$f":"RANK(F4,$F$4:$G$4)","v":2},{"$f":"RANK(G4,$F$4:$G$4)","v":1}]
[null,null,null,null,null,{"$f":"IF(INT(F4)=F4,\"정수\",\"소수\")","v":"정수"},{"$f":"IF(INT(G4)=G4,\"정수\",\"소수\")","v":"정수"},null,{"$f":"IF(I4=\"서로소 (1)\",(F4/1)*(G4/1)*1,(F4/I4)*(G4/I4)*I4)","v":100657},"최소공배수",null,{"$f":"IF(L4=1,F4,G4)","v":5921},{"$f":"IF(M4=2,G4,F4)","v":527}]
[null,"수1","수2","몫","나머지",null,null,null,{"$f":"F4&\" x \"&G4&\" = \"&IF(I4=\"서로소 (1)\",1,I4)&\" x \"&I5 &\" = \"&F4*G4","v":"527 x 5921 = 31 x 100657 = 3120367"},"관계",null,"비율"]
[null,{"$f":"L5","v":5921},{"$f":"M5","v":527},{"$f":"(B7-E7)/C7","v":11},{"$f":"MOD(B7,C7)","v":124},null,{"$f":"B7","v":5921},"=",{"$f":"\" \" & C7&\" x \"&D7&\" + \"&E7","v":" 527 x 11 + 124"},null,null,{"$f":"(L5/I4)&\"            :            \"&(M5/I4)","v":"191            :            17"}]
[]
[null,{"$f":"IF(OR(E7=\"\",E7=0),\"\",C7)","v":527},{"$f":"IF(OR(E7=\"\",E7=0),\"\",MOD(B7,C7))","v":124},{"$f":"IF(OR(E7=\"\",E7=0),\"\",(B9-E9)/C9)","v":4},{"$f":"IF(OR(E7=\"\",E7=0),\"\",MOD(B9,C9))","v":31},null,{"$f":"B9","v":527},{"$f":"IF(OR(E7=0,E7=\"\"),\"\",\"=\")","v":"="},{"$f":"IF(OR(E7=0,E7=\"\"),\"\",\" \" & C9&\" x \"&D9&\" + \"&E9)","v":" 124 x 4 + 31"},null,null,{"$f":"(L5/I4)&\" : \"&(M5/I4)&\" 비율로 유튜브 영상 비율 찾기\"","v":"191 : 17 비율로 유튜브 영상 비율 찾기"}]
[null,null,null,null,null,null,null,null,null,null,null,"입력 가로","결과 세로"]
[null,{"$f":"IF(OR(E9=\"\",E9=0),\"\",C9)","v":124},{"$f":"IF(OR(E9=\"\",E9=0),\"\",MOD(B9,C9))","v":31},{"$f":"IF(OR(E9=\"\",E9=0),\"\",(B11-E11)/C11)","v":4},{"$f":"IF(OR(E9=\"\",E9=0),\"\",MOD(B11,C11))","v":0},null,{"$f":"B11","v":124},{"$f":"IF(OR(E9=0,E9=\"\"),\"\",\"=\")","v":"="},{"$f":"IF(OR(E9=0,E9=\"\"),\"\",\" \" & C11&\" x \"&D11&\" + \"&E11)","v":" 31 x 4 + 0"},null,null,440,{"$f":"L11*(M5/I4)/(L5/I4)","v":39.162303664921467}]
[null,null,null,null,null,null,null,null,null,null,null,"결과 가로","입력 세로"]
[null,{"$f":"IF(OR(E11=\"\",E11=0),\"\",C11)","v":""},{"$f":"IF(OR(E11=\"\",E11=0),\"\",MOD(B11,C11))","v":""},{"$f":"IF(OR(E11=\"\",E11=0),\"\",(B13-E13)/C13)","v":""},{"$f":"IF(OR(E11=\"\",E11=0),\"\",MOD(B13,C13))","v":""},null,{"$f":"B13","v":""},{"$f":"IF(OR(E11=0,E11=\"\"),\"\",\"=\")","v":""},{"$f":"IF(OR(E11=0,E11=\"\"),\"\",\" \" & C13&\" x \"&D13&\" + \"&E13)","v":""},"감추기",null,{"$f":"M13*(L5/I4)/(M5/I4)","v":7078.2352941176468},630]
[null,null,null,null,null,null,null,null,null,"감추기"]
[null,{"$f":"IF(OR(E13=\"\",E13=0),\"\",C13)","v":""},{"$f":"IF(OR(E13=\"\",E13=0),\"\",MOD(B13,C13))","v":""},{"$f":"IF(OR(E13=\"\",E13=0),\"\",(B15-E15)/C15)","v":""},{"$f":"IF(OR(E13=\"\",E13=0),\"\",MOD(B15,C15))","v":""},null,{"$f":"B15","v":""},{"$f":"IF(OR(E13=0,E13=\"\"),\"\",\"=\")","v":""},{"$f":"IF(OR(E13=0,E13=\"\"),\"\",\" \" & C15&\" x \"&D15&\" + \"&E15)","v":""},{"$f":"Sheet2!L2","v":31},null,"최대공약수를 구하기 위해"]
[null,null,null,null,null,null,null,null,null,"첫수",null,"수학자 유클리드에 의해"]
[null,{"$f":"IF(OR(E15=\"\",E15=0),\"\",C15)","v":""},{"$f":"IF(OR(E15=\"\",E15=0),\"\",MOD(B15,C15))","v":""},{"$f":"IF(OR(E15=\"\",E15=0),\"\",(B17-E17)/C17)","v":""},{"$f":"IF(OR(E15=\"\",E15=0),\"\",MOD(B17,C17))","v":""},null,{"$f":"B17","v":""},{"$f":"IF(OR(E15=0,E15=\"\"),\"\",\"=\")","v":""},{"$f":"IF(OR(E15=0,E15=\"\"),\"\",\" \" & C17&\" x \"&D17&\" + \"&E17)","v":""},{"$f":"Sheet2!M3","v":5921},null,"알려진 알고리즘입니다."]
[null,null,null,null,null,null,null,null,null,"둘수",null,"互除法, Euclidean algorithm"]
[null,{"$f":"IF(OR(E17=\"\",E17=0),\"\",C17)","v":""},{"$f":"IF(OR(E17=\"\",E17=0),\"\",MOD(B17,C17))","v":""},{"$f":"IF(OR(E17=\"\",E17=0),\"\",(B19-E19)/C19)","v":""},{"$f":"IF(OR(E17=\"\",E17=0),\"\",MOD(B19,C19))","v":""},null,{"$f":"B19","v":""},{"$f":"IF(OR(E17=0,E17=\"\"),\"\",\"=\")","v":""},{"$f":"IF(OR(E17=0,E17=\"\"),\"\",\" \" & C19&\" x \"&D19&\" + \"&E19)","v":""},{"$f":"Sheet2!M4","v":527},null,"호제법이라고 부르기도 합니다."]
[null,null,null,null,null,null,null,null,null,"셋수",null,"유클리드 알고리즘은 "]
[null,{"$f":"IF(OR(E19=\"\",E19=0),\"\",C19)","v":""},{"$f":"IF(OR(E19=\"\",E19=0),\"\",MOD(B19,C19))","v":""},{"$f":"IF(OR(E19=\"\",E19=0),\"\",(B21-E21)/C21)","v":""},{"$f":"IF(OR(E19=\"\",E19=0),\"\",MOD(B21,C21))","v":""},null,{"$f":"B21","v":""},{"$f":"IF(OR(E19=0,E19=\"\"),\"\",\"=\")","v":""},{"$f":"IF(OR(E19=0,E19=\"\"),\"\",\" \" & C21&\" x \"&D21&\" + \"&E21)","v":""},{"$f":"Sheet2!M5","v":403},null,"성경 다음으로 많이 팔리고 있다는 "]
[null,null,null,null,null,null,null,null,null,"넷수",null,"소문이 도는 유클리드 [원론]이라는 책의"]
[null,{"$f":"IF(OR(E21=\"\",E21=0),\"\",C21)","v":""},{"$f":"IF(OR(E21=\"\",E21=0),\"\",MOD(B21,C21))","v":""},{"$f":"IF(OR(E21=\"\",E21=0),\"\",(B23-E23)/C23)","v":""},{"$f":"IF(OR(E21=\"\",E21=0),\"\",MOD(B23,C23))","v":""},null,{"$f":"B23","v":""},{"$f":"IF(OR(E21=0,E21=\"\"),\"\",\"=\")","v":""},{"$f":"IF(OR(E21=0,E21=\"\"),\"\",\" \" & C23&\" x \"&D23&\" + \"&E23)","v":""},{"$f":"Sheet2!M6","v":5983},null,"제7권, 명제 1부터 3까지에 해당한다"]
[]
[null,{"$f":"IF(OR(E23=\"\",E23=0),\"\",C23)","v":""},{"$f":"IF(OR(E23=\"\",E23=0),\"\",MOD(B23,C23))","v":""},{"$f":"IF(OR(E23=\"\",E23=0),\"\",(B25-E25)/C25)","v":""},{"$f":"IF(OR(E23=\"\",E23=0),\"\",MOD(B25,C25))","v":""},null,{"$f":"B25","v":""},{"$f":"IF(OR(E23=0,E23=\"\"),\"\",\"=\")","v":""},{"$f":"IF(OR(E23=0,E23=\"\"),\"\",\" \" & C25&\" x \"&D25&\" + \"&E25)","v":""},null,null,{"$f":"F4&\" = \"& $I$4 &\" x \"&(F4/ $I$4)","v":"527 = 31 x 17"}]
[null,null,null,null,null,null,null,null,null,null,null,{"$f":"G4&\" = \"& $I$4 &\" x \"&(G4/ $I$4)","v":"5921 = 31 x 191"}]
[null,{"$f":"IF(OR(E25=\"\",E25=0),\"\",C25)","v":""},{"$f":"IF(OR(E25=\"\",E25=0),\"\",MOD(B25,C25))","v":""},{"$f":"IF(OR(E25=\"\",E25=0),\"\",(B27-E27)/C27)","v":""},{"$f":"IF(OR(E25=\"\",E25=0),\"\",MOD(B27,C27))","v":""},null,{"$f":"B27","v":""},{"$f":"IF(OR(E25=0,E25=\"\"),\"\",\"=\")","v":""},{"$f":"IF(OR(E25=0,E25=\"\"),\"\",\" \" & C27&\" x \"&D27&\" + \"&E27)","v":""}]
[]
[null,{"$f":"IF(OR(E27=\"\",E27=0),\"\",C27)","v":""},{"$f":"IF(OR(E27=\"\",E27=0),\"\",MOD(B27,C27))","v":""},{"$f":"IF(OR(E27=\"\",E27=0),\"\",(B29-E29)/C29)","v":""},{"$f":"IF(OR(E27=\"\",E27=0),\"\",MOD(B29,C29))","v":""},null,{"$f":"B29","v":""},{"$f":"IF(OR(E27=0,E27=\"\"),\"\",\"=\")","v":""},{"$f":"IF(OR(E27=0,E27=\"\"),\"\",\" \" & C29&\" x \"&D29&\" + \"&E29)","v":""}]
[]
[null,{"$f":"IF(OR(E29=\"\",E29=0),\"\",C29)","v":""},{"$f":"IF(OR(E29=\"\",E29=0),\"\",MOD(B29,C29))","v":""},{"$f":"IF(OR(E29=\"\",E29=0),\"\",(B31-E31)/C31)","v":""},{"$f":"IF(OR(E29=\"\",E29=0),\"\",MOD(B31,C31))","v":""},null,{"$f":"B31","v":""},{"$f":"IF(OR(E29=0,E29=\"\"),\"\",\"=\")","v":""},{"$f":"IF(OR(E29=0,E29=\"\"),\"\",\" \" & C31&\" x \"&D31&\" + \"&E31)","v":""}]
[]
[null,{"$f":"IF(OR(E31=\"\",E31=0),\"\",C31)","v":""},{"$f":"IF(OR(E31=\"\",E31=0),\"\",MOD(B31,C31))","v":""},{"$f":"IF(OR(E31=\"\",E31=0),\"\",(B33-E33)/C33)","v":""},{"$f":"IF(OR(E31=\"\",E31=0),\"\",MOD(B33,C33))","v":""},null,{"$f":"B33","v":""},{"$f":"IF(OR(E31=0,E31=\"\"),\"\",\"=\")","v":""},{"$f":"IF(OR(E31=0,E31=\"\"),\"\",\" \" & C33&\" x \"&D33&\" + \"&E33)","v":""}]
[]
[null,{"$f":"IF(OR(E33=\"\",E33=0),\"\",C33)","v":""},{"$f":"IF(OR(E33=\"\",E33=0),\"\",MOD(B33,C33))","v":""},{"$f":"IF(OR(E33=\"\",E33=0),\"\",(B35-E35)/C35)","v":""},{"$f":"IF(OR(E33=\"\",E33=0),\"\",MOD(B35,C35))","v":""},null,{"$f":"B35","v":""},{"$f":"IF(OR(E33=0,E33=\"\"),\"\",\"=\")","v":""},{"$f":"IF(OR(E33=0,E33=\"\"),\"\",\" \" & C35&\" x \"&D35&\" + \"&E35)","v":""}]
[]
[null,{"$f":"IF(OR(E35=\"\",E35=0),\"\",C35)","v":""},{"$f":"IF(OR(E35=\"\",E35=0),\"\",MOD(B35,C35))","v":""},{"$f":"IF(OR(E35=\"\",E35=0),\"\",(B37-E37)/C37)","v":""},{"$f":"IF(OR(E35=\"\",E35=0),\"\",MOD(B37,C37))","v":""},null,{"$f":"B37","v":""},{"$f":"IF(OR(E35=0,E35=\"\"),\"\",\"=\")","v":""},{"$f":"IF(OR(E35=0,E35=\"\"),\"\",\" \" & C37&\" x \"&D37&\" + \"&E37)","v":""}]
[]
[null,{"$f":"IF(OR(E37=\"\",E37=0),\"\",C37)","v":""},{"$f":"IF(OR(E37=\"\",E37=0),\"\",MOD(B37,C37))","v":""},{"$f":"IF(OR(E37=\"\",E37=0),\"\",(B39-E39)/C39)","v":""},{"$f":"IF(OR(E37=\"\",E37=0),\"\",MOD(B39,C39))","v":""},null,{"$f":"B39","v":""},{"$f":"IF(OR(E37=0,E37=\"\"),\"\",\"=\")","v":""},{"$f":"IF(OR(E37=0,E37=\"\"),\"\",\" \" & C39&\" x \"&D39&\" + \"&E39)","v":""}]
[]
[null,{"$f":"IF(OR(E39=\"\",E39=0),\"\",C39)","v":""},{"$f":"IF(OR(E39=\"\",E39=0),\"\",MOD(B39,C39))","v":""},{"$f":"IF(OR(E39=\"\",E39=0),\"\",(B41-E41)/C41)","v":""},{"$f":"IF(OR(E39=\"\",E39=0),\"\",MOD(B41,C41))","v":""},null,{"$f":"B41","v":""},{"$f":"IF(OR(E39=0,E39=\"\"),\"\",\"=\")","v":""},{"$f":"IF(OR(E39=0,E39=\"\"),\"\",\" \" & C41&\" x \"&D41&\" + \"&E41)","v":""}]
[]
[null,{"$f":"IF(OR(E41=\"\",E41=0),\"\",C41)","v":""},{"$f":"IF(OR(E41=\"\",E41=0),\"\",MOD(B41,C41))","v":""},{"$f":"IF(OR(E41=\"\",E41=0),\"\",(B43-E43)/C43)","v":""},{"$f":"IF(OR(E41=\"\",E41=0),\"\",MOD(B43,C43))","v":""},null,{"$f":"B43","v":""},{"$f":"IF(OR(E41=0,E41=\"\"),\"\",\"=\")","v":""},{"$f":"IF(OR(E41=0,E41=\"\"),\"\",\" \" & C43&\" x \"&D43&\" + \"&E43)","v":""}]
[]
[null,{"$f":"IF(OR(E43=\"\",E43=0),\"\",C43)","v":""},{"$f":"IF(OR(E43=\"\",E43=0),\"\",MOD(B43,C43))","v":""},{"$f":"IF(OR(E43=\"\",E43=0),\"\",(B45-E45)/C45)","v":""},{"$f":"IF(OR(E43=\"\",E43=0),\"\",MOD(B45,C45))","v":""},null,{"$f":"B45","v":""},{"$f":"IF(OR(E43=0,E43=\"\"),\"\",\"=\")","v":""},{"$f":"IF(OR(E43=0,E43=\"\"),\"\",\" \" & C45&\" x \"&D45&\" + \"&E45)","v":""}]
[]
[null,{"$f":"IF(OR(E45=\"\",E45=0),\"\",C45)","v":""},{"$f":"IF(OR(E45=\"\",E45=0),\"\",MOD(B45,C45))","v":""},{"$f":"IF(OR(E45=\"\",E45=0),\"\",(B47-E47)/C47)","v":""},{"$f":"IF(OR(E45=\"\",E45=0),\"\",MOD(B47,C47))","v":""},null,{"$f":"B47","v":""},{"$f":"IF(OR(E45=0,E45=\"\"),\"\",\"=\")","v":""},{"$f":"IF(OR(E45=0,E45=\"\"),\"\",\" \" & C47&\" x \"&D47&\" + \"&E47)","v":""}]
[]
[null,{"$f":"IF(OR(E47=\"\",E47=0),\"\",C47)","v":""},{"$f":"IF(OR(E47=\"\",E47=0),\"\",MOD(B47,C47))","v":""},{"$f":"IF(OR(E47=\"\",E47=0),\"\",(B49-E49)/C49)","v":""},{"$f":"IF(OR(E47=\"\",E47=0),\"\",MOD(B49,C49))","v":""},null,{"$f":"B49","v":""},{"$f":"IF(OR(E47=0,E47=\"\"),\"\",\"=\")","v":""},{"$f":"IF(OR(E47=0,E47=\"\"),\"\",\" \" & C49&\" x \"&D49&\" + \"&E49)","v":""}]
[]
[null,{"$f":"IF(OR(E49=\"\",E49=0),\"\",C49)","v":""},{"$f":"IF(OR(E49=\"\",E49=0),\"\",MOD(B49,C49))","v":""},{"$f":"IF(OR(E49=\"\",E49=0),\"\",(B51-E51)/C51)","v":""},{"$f":"IF(OR(E49=\"\",E49=0),\"\",MOD(B51,C51))","v":""},null,{"$f":"B51","v":""},{"$f":"IF(OR(E49=0,E49=\"\"),\"\",\"=\")","v":""},{"$f":"IF(OR(E49=0,E49=\"\"),\"\",\" \" & C51&\" x \"&D51&\" + \"&E51)","v":""}]
[]
[null,{"$f":"IF(OR(E51=\"\",E51=0),\"\",C51)","v":""},{"$f":"IF(OR(E51=\"\",E51=0),\"\",MOD(B51,C51))","v":""},{"$f":"IF(OR(E51=\"\",E51=0),\"\",(B53-E53)/C53)","v":""},{"$f":"IF(OR(E51=\"\",E51=0),\"\",MOD(B53,C53))","v":""},null,{"$f":"B53","v":""},{"$f":"IF(OR(E51=0,E51=\"\"),\"\",\"=\")","v":""},{"$f":"IF(OR(E51=0,E51=\"\"),\"\",\" \" & C53&\" x \"&D53&\" + \"&E53)","v":""}]
[]
[null,{"$f":"IF(OR(E53=\"\",E53=0),\"\",C53)","v":""},{"$f":"IF(OR(E53=\"\",E53=0),\"\",MOD(B53,C53))","v":""},{"$f":"IF(OR(E53=\"\",E53=0),\"\",(B55-E55)/C55)","v":""},{"$f":"IF(OR(E53=\"\",E53=0),\"\",MOD(B55,C55))","v":""},null,{"$f":"B55","v":""},{"$f":"IF(OR(E53=0,E53=\"\"),\"\",\"=\")","v":""},{"$f":"IF(OR(E53=0,E53=\"\"),\"\",\" \" & C55&\" x \"&D55&\" + \"&E55)","v":""}]

{"sheet":"Sheet2","index":1,"n_rows":1229,"n_cols":13,"rows_kept":1229,"cut":false,"hidden":false,"merged":[]}
["2, 3, 5, 7, 11, 13, 17, 19, 23, 29, 31, 37, 41, 43, 47, 53, 59, 61, 67, 71, 73, 79, 83, 89, 97, 101, 103, 107, 109, 113, 127, 131, 137, 139, 149, 151, 157, 163, 167, 173, 179, 181, 191, 193, 197, 199, 211, 223, 227, 229, 233, 239, 241, 251, 257, 263, 269, 271, 277, 281, 283, 293, 307, 311, 313, 317, 331, 337, 347, 349, 353, 359, 367, 373, 379, 383, 389, 397, 401, 409, 419, 421, 431, 433, 439, 443, 449, 457, 461, 463, 467, 479, 487, 491, 499, 503, 509, 521, 523, 541, 547, 557, 563, 569, 571, 577, 587, 593, 599, 601, 607, 613, 617, 619, 631, 641, 643, 647, 653, 659, 661, 673, 677, 683, 691, 701, 709, 719, 727, 733, 739, 743, 751, 757, 761, 769, 773, 787, 797, 809, 811, 821, 823, 827, 829, 839, 853, 857, 859, 863, 877, 881, 883, 887, 907, 911, 919, 929, 937, 941, 947, 953, 967, 971, 977, 983, 991, 997, 1009, 1013, 1019, 1021, 1031, 1033, 1039, 1049, 1051, 1061, 1063, 1069, 1087, 1091, 1093, 1097, 1103, 1109, 1117, 1123, 1129, 1151, 1153, 1163, 1171, 1181, 1187, 1193, 1201, 1213, 1217, 1223, 1229, 1231, 1237, 1249, 1259, 1277, 1279, 1283, 1289, 1291, 1297, 1301, 1303, 1307, 1319, 1321, 1327, 1361, 1367, 1373, 1381, 1399, 1409, 1423, 1427, 1429, 1433, 1439, 1447, 1451, 1453, 1459, 1471, 1481, 1483, 1487, 1489, 1493, 1499, 1511, 1523, 1531, 1543, 1549, 1553, 1559, 1567, 1571, 1579, 1583, 1597, 1601, 1607, 1609, 1613, 1619, 1621, 1627, 1637, 1657, 1663, 1667, 1669, 1693, 1697, 1699, 1709, 1721, 1723, 1733, 1741, 1747, 1753, 1759, 1777, 1783, 1787, 1789, 1801, 1811, 1823, 1831, 1847, 1861, 1867, 1871, 1873, 1877, 1879, 1889, 1901, 1907, 1913, 1931, 1933, 1949, 1951, 1973, 1979, 1987, 1993, 1997, 1999, 2003, 2011, 2017, 2027, 2029, 2039, 2053, 2063, 2069, 2081, 2083, 2087, 2089, 2099, 2111, 2113, 2129, 2131, 2137, 2141, 2143, 2153, 2161, 2179, 2203, 2207, 2213, 2221, 2237, 2239, 2243, 2251, 2267, 2269, 2273, 2281, 2287, 2293, 2297, 2309, 2311, 2333, 2339, 2341, 2347, 2351, 2357, 2371, 2377, 2381, 2383, 2389, 2393, 2399, 2411, 2417, 2423, 2437, 2441, 2447, 2459, 2467, 2473, 2477, 2503, 2521, 2531, 2539, 2543, 2549, 2551, 2557, 2579, 2591, 2593, 2609, 2617, 2621, 2633, 2647, 2657, 2659, 2663, 2671, 2677, 2683, 2687, 2689, 2693, 2699, 2707, 2711, 2713, 2719, 2729, 2731, 2741, 2749, 2753, 2767, 2777, 2789, 2791, 2797, 2801, 2803, 2819, 2833, 2837, 2843, 2851, 2857, 2861, 2879, 2887, 2897, 2903, 2909, 2917, 2927, 2939, 2953, 2957, 2963, 2969, 2971, 2999, 3001, 3011, 3019, 3023, 3037, 3041, 3049, 3061, 3067, 3079, 3083, 3089, 3109, 3119, 3121, 3137, 3163, 3167, 3169, 3181, 3187, 3191, 3203, 3209, 3217, 3221, 3229, 3251, 3253, 3257, 3259, 3271, 3299, 3301, 3307, 3313, 3319, 3323, 3329, 3331, 3343, 3347, 3359, 3361, 3371, 3373, 3389, 3391, 3407, 3413, 3433, 3449, 3457, 3461, 3463, 3467, 3469, 3491, 3499, 3511, 3517, 3527, 3529, 3533, 3539, 3541, 3547, 3557, 3559, 3571, 3581, 3583, 3593, 3607, 3613, 3617, 3623, 3631, 3637, 3643, 3659, 3671, 3673, 3677, 3691, 3697, 3701, 3709, 3719, 3727, 3733, 3739, 3761, 3767, 3769, 3779, 3793, 3797, 3803, 3821, 3823, 3833, 3847, 3851, 3853, 3863, 3877, 3881, 3889, 3907, 3911, 3917, 3919, 3923, 3929, 3931, 3943, 3947, 3967, 3989, 4001, 4003, 4007, 4013, 4019, 4021, 4027, 4049, 4051, 4057, 4073, 4079, 4091, 4093, 4099, 4111, 4127, 4129, 4133, 4139, 4153, 4157, 4159, 4177, 4201, 4211, 4217, 4219, 4229, 4231, 4241, 4243, 4253, 4259, 4261, 4271, 4273, 4283, 4289, 4297, 4327, 4337, 4339, 4349, 4357, 4363, 4373, 4391, 4397, 4409, 4421, 4423, 4441, 4447, 4451, 4457, 4463, 4481, 4483, 4493, 4507, 4513, 4517, 4519, 4523, 4547, 4549, 4561, 4567, 4583, 4591, 4597, 4603, 4621, 4637, 4639, 4643, 4649, 4651, 4657, 4663, 4673, 4679, 4691, 4703, 4721, 4723, 4729, 4733, 4751, 4759, 4783, 4787, 4789, 4793, 4799, 4801, 4813, 4817, 4831, 4861, 4871, 4877, 4889, 4903, 4909, 4919, 4931, 4933, 4937, 4943, 4951, 4957, 4967, 4969, 4973, 4987, 4993, 4999, 5003, 5009, 5011, 5021, 5023, 5039, 5051, 5059, 5077, 5081, 5087, 5099, 5101, 5107, 5113, 5119, 5147, 5153, 5167, 5171, 5179, 5189, 5197, 5209, 5227, 5231, 5233, 5237, 5261, 5273, 5279, 5281, 5297, 5303, 5309, 5323, 5333, 5347, 5351, 5381, 5387, 5393, 5399, 5407, 5413, 5417, 5419, 5431, 5437, 5441, 5443, 5449, 5471, 5477, 5479, 5483, 5501, 5503, 5507, 5519, 5521, 5527, 5531, 5557, 5563, 5569, 5573, 5581, 5591, 5623, 5639, 5641, 5647, 5651, 5653, 5657, 5659, 5669, 5683, 5689, 5693, 5701, 5711, 5717, 5737, 5741, 5743, 5749, 5779, 5783, 5791, 5801, 5807, 5813, 5821, 5827, 5839, 5843, 5849, 5851, 5857, 5861, 5867, 5869, 5879, 5881, 5897, 5903, 5923, 5927, 5939, 5953, 5981, 5987, 6007, 6011, 6029, 6037, 6043, 6047, 6053, 6067, 6073, 6079, 6089, 6091, 6101, 6113, 6121, 6131, 6133, 6143, 6151, 6163, 6173, 6197, 6199, 6203, 6211, 6217, 6221, 6229, 6247, 6257, 6263, 6269, 6271, 6277, 6287, 6299, 6301, 6311, 6317, 6323, 6329, 6337, 6343, 6353, 6359, 6361, 6367, 6373, 6379, 6389, 6397, 6421, 6427, 6449, 6451, 6469, 6473, 6481, 6491, 6521, 6529, 6547, 6551, 6553, 6563, 6569, 6571, 6577, 6581, 6599, 6607, 6619, 6637, 6653, 6659, 6661, 6673, 6679, 6689, 6691, 6701, 6703, 6709, 6719, 6733, 6737, 6761, 6763, 6779, 6781, 6791, 6793, 6803, 6823, 6827, 6829, 6833, 6841, 6857, 6863, 6869, 6871, 6883, 6899, 6907, 6911, 6917, 6947, 6949, 6959, 6961, 6967, 6971, 6977, 6983, 6991, 6997, 7001, 7013, 7019, 7027, 7039, 7043, 7057, 7069, 7079, 7103, 7109, 7121, 7127, 7129, 7151, 7159, 7177, 7187, 7193, 7207, 7211, 7213, 7219, 7229, 7237, 7243, 7247, 7253, 7283, 7297, 7307, 7309, 7321, 7331, 7333, 7349, 7351, 7369, 7393, 7411, 7417, 7433, 7451, 7457, 7459, 7477, 7481, 7487, 7489, 7499, 7507, 7517, 7523, 7529, 7537, 7541, 7547, 7549, 7559, 7561, 7573, 7577, 7583, 7589, 7591, 7603, 7607, 7621, 7639, 7643, 7649, 7669, 7673, 7681, 7687, 7691, 7699, 7703, 7717, 7723, 7727, 7741, 7753, 7757, 7759, 7789, 7793, 7817, 7823, 7829, 7841, 7853, 7867, 7873, 7877, 7879, 7883, 7901, 7907, 7919, 7927, 7933, 7937, 7949, 7951, 7963, 7993, 8009, 8011, 8017, 8039, 8053, 8059, 8069, 8081, 8087, 8089, 8093, 8101, 8111, 8117, 8123, 8147, 8161, 8167, 8171, 8179, 8191, 8209, 8219, 8221, 8231, 8233, 8237, 8243, 8263, 8269, 8273, 8287, 8291, 8293, 8297, 8311, 8317, 8329, 8353, 8363, 8369, 8377, 8387, 8389, 8419, 8423, 8429, 8431, 8443, 8447, 8461, 8467, 8501, 8513, 8521, 8527, 8537, 8539, 8543, 8563, 8573, 8581, 8597, 8599, 8609, 8623, 8627, 8629, 8641, 8647, 8663, 8669, 8677, 8681, 8689, 8693, 8699, 8707, 8713, 8719, 8731, 8737, 8741, 8747, 8753, 8761, 8779, 8783, 8803, 8807, 8819, 8821, 8831, 8837, 8839, 8849, 8861, 8863, 8867, 8887, 8893, 8923, 8929, 8933, 8941, 8951, 8963, 8969, 8971, 8999, 9001, 9007, 9011, 9013, 9029, 9041, 9043, 9049, 9059, 9067, 9091, 9103, 9109, 9127, 9133, 9137, 9151, 9157, 9161, 9173, 9181, 9187, 9199, 9203, 9209, 9221, 9227, 9239, 9241, 9257, 9277, 9281, 9283, 9293, 9311, 9319, 9323, 9337, 9341, 9343, 9349, 9371, 9377, 9391, 9397, 9403, 9413, 9419, 9421, 9431, 9433, 9437, 9439, 9461, 9463, 9467, 9473, 9479, 9491, 9497, 9511, 9521, 9533, 9539, 9547, 9551, 9587, 9601, 9613, 9619, 9623, 9629, 9631, 9643, 9649, 9661, 9677, 9679, 9689, 9697, 9719, 9721, 9733, 9739, 9743, 9749, 9767, 9769, 9781, 9787, 9791, 9803, 9811, 9817, 9829, 9833, 9839, 9851, 9857, 9859, 9871, 9883, 9887, 9901, 9907, 9923, 9929, 9931, 9941, 9949, 9967, 9973","INDEX",null,null,"소수",null,{"$f":"MAX(B:B)","v":1228},"index","소수",null,null,"연습장"]
[", ",1,1,{"$f":"FIND($A$2,$A$1,$C2)","v":2},{"$f":"MID($A$1,$C2,D2-C2)","v":"2"},null,3,{"$f":"RANDBETWEEN($G$7,$G$9)","v":10},{"$f":"INT(VLOOKUP(H2,$B:$E,4))","v":29},"공약수",null,31,"공약수"]
[null,{"$f":"B2+1","v":2},{"$f":"D2+1","v":3},{"$f":"FIND($A$2,$A$1,$C3)","v":5},{"$f":"MID($A$1,$C3+1,D3-C3-1)","v":"3"},null,null,{"$f":"RANDBETWEEN($G$7,$G$9)","v":46},{"$f":"INT(VLOOKUP(H3,$B:$E,4))","v":199},{"$f":"$I$2*I3","v":5771},null,191,5921]
[null,{"$f":"B3+1","v":3},{"$f":"D3+1","v":6},{"$f":"FIND($A$2,$A$1,$C4)","v":8},{"$f":"MID($A$1,$C4+1,D4-C4-1)","v":"5"},null,null,14,{"$f":"INT(VLOOKUP(H4,$B:$E,4))","v":43},{"$f":"$I$2*I4","v":1247},null,17,527]
[null,4,9,11,"7",null,null,36,151,4379,null,13,403]
[null,5,12,15,"11",null,"최소(~번째)",22,79,2291,null,193,5983]
[null,6,16,19,"13",null,1,20,71,2059,null,101,3131]
[null,7,20,23,"17",null,"최대(~번째)",14,43,1247,null,193,5983]
[null,8,24,27,{"$f":"MID($A$1,$C9+1,D9-C9-1)","v":"19"},null,50,13,41,1189,null,229,7099]
[null,9,28,31,"23",null,null,19,67,1943,null,13,403]
[null,10,32,35,"29"]
[null,11,36,39,"31"]
[null,12,40,43,"37"]
[null,13,44,47,"41"]
[null,14,48,51,"43"]
[null,15,52,55,"47"]
[null,16,56,59,"53"]
[null,17,60,63,"59"]
[null,18,64,67,"61"]
[null,19,68,71,"67"]
[null,20,72,75,"71"]
[null,21,76,79,"73"]
[null,22,80,83,"79"]
[null,23,84,87,"83"]
[null,24,88,91,"89"]
[null,25,92,95,"97"]
[null,26,96,100,{"$f":"MID($A$1,$C27+1,D27-C27-1)","v":"101"}]
[null,27,101,105,"103"]
[null,28,106,110,"107"]
[null,29,111,115,"109"]
[null,30,116,120,"113"]
[null,31,121,125,"127"]
[null,32,126,130,"131"]
[null,33,131,135,"137"]
[null,34,136,140,"139"]
[null,35,141,145,"149"]
[null,36,146,150,"151"]
[null,37,151,155,"157"]
[null,38,156,160,"163"]
[null,39,161,165,"167"]
[null,40,166,170,"173"]
[null,41,171,175,"179"]
[null,42,176,180,"181"]
[null,43,181,185,"191"]
[null,44,186,190,"193"]
[null,45,191,195,"197"]
[null,46,196,200,"199"]
[null,47,201,205,"211"]
[null,48,206,210,"223"]
[null,49,211,215,"227"]
[null,50,216,220,"229"]
[null,51,221,225,"233"]
[null,52,226,230,"239"]
[null,53,231,235,"241"]
[null,54,236,240,"251"]
[null,55,241,245,"257"]
[null,56,246,250,"263"]
[null,57,251,255,"269"]
[null,58,256,260,"271"]
[null,59,261,265,"277"]
[null,60,266,270,"281"]
[null,61,271,275,"283"]
[null,62,276,280,"293"]
[null,63,281,285,"307"]
[null,64,286,290,"311"]
[null,65,291,295,"313"]
[null,66,296,300,"317"]
[null,{"$f":"B67+1","v":67},{"$f":"D67+1","v":301},{"$f":"FIND($A$2,$A$1,$C68)","v":305},"331"]
[null,68,306,310,"337"]
[null,69,311,315,"347"]
[null,70,316,320,"349"]
[null,71,321,325,"353"]
[null,72,326,330,"359"]
[null,73,331,335,"367"]
[null,74,336,340,"373"]
[null,75,341,345,"379"]
[null,76,346,350,"383"]
[null,77,351,355,"389"]
[null,78,356,360,"397"]
[null,79,361,365,"401"]
[null,80,366,370,"409"]
[null,81,371,375,"419"]
[null,82,376,380,"421"]
[null,83,381,385,"431"]
[null,84,386,390,"433"]
[null,85,391,395,"439"]
[null,86,396,400,"443"]
[null,87,401,405,"449"]
[null,88,406,410,"457"]
[null,89,411,415,"461"]
[null,90,416,420,{"$f":"MID($A$1,$C91+1,D91-C91-1)","v":"463"}]
[null,91,421,425,"467"]
[null,92,426,430,"479"]
[null,93,431,435,"487"]
[null,94,436,440,"491"]
[null,95,441,445,"499"]
[null,96,446,450,"503"]
[null,97,451,455,"509"]
[null,98,456,460,"521"]
[null,99,461,465,"523"]
[null,100,466,470,"541"]
[null,101,471,475,"547"]
[null,102,476,480,"557"]
[null,103,481,485,"563"]
[null,104,486,490,"569"]
[null,105,491,495,"571"]
[null,106,496,500,"577"]
[null,107,501,505,"587"]
[null,108,506,510,"593"]
[null,109,511,515,"599"]
[null,110,516,520,"601"]
[null,111,521,525,"607"]
[null,112,526,530,"613"]
[null,113,531,535,"617"]
[null,114,536,540,"619"]
[null,115,541,545,"631"]
[null,116,546,550,"641"]
[null,117,551,555,"643"]
[null,118,556,560,"647"]
[null,119,561,565,"653"]
[null,120,566,570,"659"]
[null,121,571,575,"661"]
[null,122,576,580,"673"]
[null,123,581,585,"677"]
[null,124,586,590,"683"]
[null,125,591,595,"691"]
[null,126,596,600,"701"]
[null,127,601,605,"709"]
[null,128,606,610,"719"]
[null,129,611,615,"727"]
[null,130,616,620,"733"]
[null,{"$f":"B131+1","v":131},{"$f":"D131+1","v":621},{"$f":"FIND($A$2,$A$1,$C132)","v":625},"739"]
[null,132,626,630,"743"]
[null,133,631,635,"751"]
[null,134,636,640,"757"]
[null,135,641,645,"761"]
[null,136,646,650,"769"]
[null,137,651,655,"773"]
[null,138,656,660,"787"]
[null,139,661,665,"797"]
[null,140,666,670,"809"]
[null,141,671,675,"811"]
[null,142,676,680,"821"]
[null,143,681,685,"823"]
[null,144,686,690,"827"]
[null,145,691,695,"829"]
[null,146,696,700,"839"]
[null,147,701,705,"853"]
[null,148,706,710,"857"]
[null,149,711,715,"859"]
[null,150,716,720,"863"]
[null,151,721,725,"877"]
[null,152,726,730,"881"]
[null,153,731,735,"883"]
[null,154,736,740,{"$f":"MID($A$1,$C155+1,D155-C155-1)","v":"887"}]
[null,155,741,745,"907"]
[null,156,746,750,"911"]
[null,157,751,755,"919"]
[null,158,756,760,"929"]
[null,159,761,765,"937"]
[null,160,766,770,"941"]
[null,161,771,775,"947"]
[null,162,776,780,"953"]
[null,163,781,785,"967"]
[null,164,786,790,"971"]
[null,165,791,795,"977"]
[null,166,796,800,"983"]
[null,167,801,805,"991"]
[null,168,806,810,"997"]
[null,169,811,816,"1009"]
[null,170,817,822,"1013"]
[null,171,823,828,"1019"]
[null,172,829,834,"1021"]
[null,173,835,840,"1031"]
[null,174,841,846,"1033"]
[null,175,847,852,"1039"]
[null,176,853,858,"1049"]
[null,177,859,864,"1051"]
[null,178,865,870,"1061"]
[null,179,871,876,"1063"]
[null,180,877,882,"1069"]
[null,181,883,888,"1087"]
[null,182,889,894,"1091"]
[null,183,895,900,"1093"]
[null,184,901,906,"1097"]
[null,185,907,912,"1103"]
[null,186,913,918,"1109"]
[null,187,919,924,"1117"]
[null,188,925,930,"1123"]
[null,189,931,936,"1129"]
[null,190,937,942,"1151"]
[null,191,943,948,"1153"]
[null,192,949,954,{"$f":"MID($A$1,$C193+1,D193-C193-1)","v":"1163"}]
[null,193,955,960,"1171"]
[null,194,961,966,"1181"]
[null,{"$f":"B195+1","v":195},{"$f":"D195+1","v":967},{"$f":"FIND($A$2,$A$1,$C196)","v":972},"1187"]
[null,196,973,978,"1193"]
[null,197,979,984,"1201"]
[null,198,985,990,"1213"]
[null,199,991,996,"1217"]
[null,200,997,1002,"1223"]
[null,201,1003,1008,"1229"]
[null,202,1009,1014,"1231"]
[null,203,1015,1020,"1237"]
[null,204,1021,1026,"1249"]
[null,205,1027,1032,"1259"]
[null,206,1033,1038,"1277"]
[null,207,1039,1044,"1279"]
[null,208,1045,1050,"1283"]
[null,209,1051,1056,"1289"]
[null,210,1057,1062,"1291"]
[null,211,1063,1068,"1297"]
[null,212,1069,1074,"1301"]
[null,213,1075,1080,"1303"]
[null,214,1081,1086,"1307"]
[null,215,1087,1092,"1319"]
[null,216,1093,1098,"1321"]
[null,217,1099,1104,"1327"]
[null,218,1105,1110,"1361"]
[null,219,1111,1116,"1367"]
[null,220,1117,1122,"1373"]
[null,221,1123,1128,"1381"]
[null,222,1129,1134,"1399"]
[null,223,1135,1140,"1409"]
[null,224,1141,1146,"1423"]
[null,225,1147,1152,"1427"]
[null,226,1153,1158,"1429"]
[null,227,1159,1164,"1433"]
[null,228,1165,1170,"1439"]
[null,229,1171,1176,"1447"]
[null,230,1177,1182,"1451"]
[null,231,1183,1188,"1453"]
[null,232,1189,1194,"1459"]
[null,233,1195,1200,{"$f":"MID($A$1,$C234+1,D234-C234-1)","v":"1471"}]
[null,234,1201,1206,"1481"]
[null,235,1207,1212,"1483"]
[null,236,1213,1218,"1487"]
[null,237,1219,1224,"1489"]
[null,238,1225,1230,"1493"]
[null,239,1231,1236,"1499"]
[null,240,1237,1242,"1511"]
[null,241,1243,1248,"1523"]
[null,242,1249,1254,"1531"]
[null,243,1255,1260,"1543"]
[null,244,1261,1266,"1549"]
[null,245,1267,1272,"1553"]
[null,246,1273,1278,"1559"]
[null,247,1279,1284,"1567"]
[null,248,1285,1290,"1571"]
[null,249,1291,1296,"1579"]
[null,250,1297,1302,"1583"]
[null,251,1303,1308,"1597"]
[null,252,1309,1314,"1601"]
[null,253,1315,1320,"1607"]
[null,254,1321,1326,"1609"]
[null,255,1327,1332,"1613"]
[null,256,1333,1338,"1619"]
[null,257,1339,1344,"1621"]
[null,258,1345,1350,"1627"]
[null,{"$f":"B259+1","v":259},{"$f":"D259+1","v":1351},{"$f":"FIND($A$2,$A$1,$C260)","v":1356},"1637"]
[null,260,1357,1362,"1657"]
[null,261,1363,1368,"1663"]
[null,262,1369,1374,"1667"]
[null,263,1375,1380,"1669"]
[null,264,1381,1386,"1693"]
[null,265,1387,1392,"1697"]
[null,266,1393,1398,"1699"]
[null,267,1399,1404,"1709"]
[null,268,1405,1410,"1721"]
[null,269,1411,1416,"1723"]
[null,270,1417,1422,"1733"]
[null,271,1423,1428,"1741"]
[null,272,1429,1434,"1747"]
[null,273,1435,1440,"1753"]
[null,274,1441,1446,"1759"]
[null,275,1447,1452,"1777"]
[null,276,1453,1458,"1783"]
[null,277,1459,1464,"1787"]
[null,278,1465,1470,"1789"]
[null,279,1471,1476,"1801"]
[null,280,1477,1482,"1811"]
[null,281,1483,1488,"1823"]
[null,282,1489,1494,"1831"]
[null,283,1495,1500,"1847"]
[null,284,1501,1506,"1861"]
[null,285,1507,1512,"1867"]
[null,286,1513,1518,"1871"]
[null,287,1519,1524,"1873"]
[null,288,1525,1530,"1877"]
[null,289,1531,1536,"1879"]
[null,290,1537,1542,"1889"]
[null,291,1543,1548,"1901"]
[null,292,1549,1554,"1907"]
[null,293,1555,1560,"1913"]
[null,294,1561,1566,"1931"]
[null,295,1567,1572,"1933"]
[null,296,1573,1578,"1949"]
[null,297,1579,1584,{"$f":"MID($A$1,$C298+1,D298-C298-1)","v":"1951"}]
[null,298,1585,1590,"1973"]
[null,299,1591,1596,"1979"]
[null,300,1597,1602,"1987"]
[null,301,1603,1608,"1993"]
[null,302,1609,1614,"1997"]
[null,303,1615,1620,"1999"]
[null,304,1621,1626,"2003"]
[null,305,1627,1632,"2011"]
[null,306,1633,1638,"2017"]
[null,307,1639,1644,"2027"]
[null,308,1645,1650,"2029"]
[null,309,1651,1656,"2039"]
[null,310,1657,1662,"2053"]
[null,311,1663,1668,"2063"]
[null,312,1669,1674,"2069"]
[null,313,1675,1680,"2081"]
[null,314,1681,1686,"2083"]
[null,315,1687,1692,"2087"]
[null,316,1693,1698,"2089"]
[null,317,1699,1704,"2099"]
[null,318,1705,1710,"2111"]
[null,319,1711,1716,"2113"]
[null,320,1717,1722,"2129"]
[null,321,1723,1728,"2131"]
[null,322,1729,1734,"2137"]
[null,{"$f":"B323+1","v":323},{"$f":"D323+1","v":1735},{"$f":"FIND($A$2,$A$1,$C324)","v":1740},"2141"]
[null,324,1741,1746,"2143"]
[null,325,1747,1752,"2153"]
[null,326,1753,1758,"2161"]
[null,327,1759,1764,"2179"]
[null,328,1765,1770,"2203"]
[null,329,1771,1776,"2207"]
[null,330,1777,1782,"2213"]
[null,331,1783,1788,"2221"]
[null,332,1789,1794,"2237"]
[null,333,1795,1800,"2239"]
[null,334,1801,1806,"2243"]
[null,335,1807,1812,"2251"]
[null,336,1813,1818,"2267"]
[null,337,1819,1824,"2269"]
[null,338,1825,1830,"2273"]
[null,339,1831,1836,"2281"]
[null,340,1837,1842,"2287"]
[null,341,1843,1848,"2293"]
[null,342,1849,1854,"2297"]
[null,343,1855,1860,"2309"]
[null,344,1861,1866,"2311"]
[null,345,1867,1872,"2333"]
[null,346,1873,1878,"2339"]
[null,347,1879,1884,"2341"]
[null,348,1885,1890,"2347"]
[null,349,1891,1896,"2351"]
[null,350,1897,1902,"2357"]
[null,351,1903,1908,"2371"]
[null,352,1909,1914,"2377"]
[null,353,1915,1920,"2381"]
[null,354,1921,1926,"2383"]
[null,355,1927,1932,"2389"]
[null,356,1933,1938,"2393"]
[null,357,1939,1944,"2399"]
[null,358,1945,1950,"2411"]
[null,359,1951,1956,"2417"]
[null,360,1957,1962,"2423"]
[null,361,1963,1968,{"$f":"MID($A$1,$C362+1,D362-C362-1)","v":"2437"}]
[null,362,1969,1974,"2441"]
[null,363,1975,1980,"2447"]
[null,364,1981,1986,"2459"]
[null,365,1987,1992,"2467"]
[null,366,1993,1998,"2473"]
[null,367,1999,2004,"2477"]
[null,368,2005,2010,"2503"]
[null,369,2011,2016,"2521"]
[null,370,2017,2022,"2531"]
[null,371,2023,2028,"2539"]
[null,372,2029,2034,"2543"]
[null,373,2035,2040,"2549"]
[null,374,2041,2046,"2551"]
[null,375,2047,2052,"2557"]
[null,376,2053,2058,"2579"]
[null,377,2059,2064,"2591"]
[null,378,2065,2070,"2593"]
[null,379,2071,2076,"2609"]
[null,380,2077,2082,"2617"]
[null,381,2083,2088,"2621"]
[null,382,2089,2094,"2633"]
[null,383,2095,2100,"2647"]
[null,384,2101,2106,"2657"]
[null,385,2107,2112,"2659"]
[null,386,2113,2118,"2663"]
[null,{"$f":"B387+1","v":387},{"$f":"D387+1","v":2119},{"$f":"FIND($A$2,$A$1,$C388)","v":2124},"2671"]
[null,388,2125,2130,"2677"]
[null,389,2131,2136,"2683"]
[null,390,2137,2142,"2687"]
[null,391,2143,2148,"2689"]
[null,392,2149,2154,"2693"]
[null,393,2155,2160,"2699"]
[null,394,2161,2166,"2707"]
[null,395,2167,2172,"2711"]
[null,396,2173,2178,"2713"]
[null,397,2179,2184,"2719"]
[null,398,2185,2190,"2729"]
[null,399,2191,2196,"2731"]
[null,400,2197,2202,"2741"]
[null,401,2203,2208,"2749"]
[null,402,2209,2214,"2753"]
[null,403,2215,2220,"2767"]
[null,404,2221,2226,"2777"]
[null,405,2227,2232,"2789"]
[null,406,2233,2238,"2791"]
[null,407,2239,2244,"2797"]
[null,408,2245,2250,"2801"]
[null,409,2251,2256,"2803"]
[null,410,2257,2262,"2819"]
[null,411,2263,2268,"2833"]
[null,412,2269,2274,"2837"]
[null,413,2275,2280,"2843"]
[null,414,2281,2286,"2851"]
[null,415,2287,2292,"2857"]
[null,416,2293,2298,"2861"]
[null,417,2299,2304,"2879"]
[null,418,2305,2310,"2887"]
[null,419,2311,2316,"2897"]
[null,420,2317,2322,"2903"]
[null,421,2323,2328,"2909"]
[null,422,2329,2334,"2917"]
[null,423,2335,2340,"2927"]
[null,424,2341,2346,"2939"]
[null,425,2347,2352,{"$f":"MID($A$1,$C426+1,D426-C426-1)","v":"2953"}]
[null,426,2353,2358,"2957"]
[null,427,2359,2364,"2963"]
[null,428,2365,2370,"2969"]
[null,429,2371,2376,"2971"]
[null,430,2377,2382,"2999"]
[null,431,2383,2388,"3001"]
[null,432,2389,2394,"3011"]
[null,433,2395,2400,"3019"]
[null,434,2401,2406,"3023"]
[null,435,2407,2412,"3037"]
[null,436,2413,2418,"3041"]
[null,437,2419,2424,"3049"]
[null,438,2425,2430,"3061"]
[null,439,2431,2436,"3067"]
[null,440,2437,2442,"3079"]
[null,441,2443,2448,"3083"]
[null,442,2449,2454,"3089"]
[null,443,2455,2460,"3109"]
[null,444,2461,2466,"3119"]
[null,445,2467,2472,"3121"]
[null,446,2473,2478,"3137"]
[null,447,2479,2484,"3163"]
[null,448,2485,2490,"3167"]
[null,449,2491,2496,"3169"]
[null,450,2497,2502,"3181"]
[null,{"$f":"B451+1","v":451},{"$f":"D451+1","v":2503},{"$f":"FIND($A$2,$A$1,$C452)","v":2508},"3187"]
[null,452,2509,2514,"3191"]
[null,453,2515,2520,"3203"]
[null,454,2521,2526,"3209"]
[null,455,2527,2532,"3217"]
[null,456,2533,2538,"3221"]
[null,457,2539,2544,"3229"]
[null,458,2545,2550,"3251"]
[null,459,2551,2556,"3253"]
[null,460,2557,2562,"3257"]
[null,461,2563,2568,"3259"]
[null,462,2569,2574,"3271"]
[null,463,2575,2580,"3299"]
[null,464,2581,2586,"3301"]
[null,465,2587,2592,"3307"]
[null,466,2593,2598,"3313"]
[null,467,2599,2604,"3319"]
[null,468,2605,2610,"3323"]
[null,469,2611,2616,"3329"]
[null,470,2617,2622,"3331"]
[null,471,2623,2628,"3343"]
[null,472,2629,2634,"3347"]
[null,473,2635,2640,"3359"]
[null,474,2641,2646,"3361"]
[null,475,2647,2652,"3371"]
[null,476,2653,2658,"3373"]
[null,477,2659,2664,"3389"]
[null,478,2665,2670,"3391"]
[null,479,2671,2676,"3407"]
[null,480,2677,2682,"3413"]
[null,481,2683,2688,"3433"]
[null,482,2689,2694,"3449"]
[null,483,2695,2700,"3457"]
[null,484,2701,2706,"3461"]
[null,485,2707,2712,"3463"]
[null,486,2713,2718,"3467"]
[null,487,2719,2724,"3469"]
[null,488,2725,2730,"3491"]
[null,489,2731,2736,{"$f":"MID($A$1,$C490+1,D490-C490-1)","v":"3499"}]
[null,490,2737,2742,"3511"]
[null,491,2743,2748,"3517"]
[null,492,2749,2754,"3527"]
[null,493,2755,2760,"3529"]
[null,494,2761,2766,"3533"]
[null,495,2767,2772,"3539"]
[null,496,2773,2778,"3541"]
[null,497,2779,2784,"3547"]
[null,498,2785,2790,"3557"]
[null,499,2791,2796,"3559"]
[null,500,2797,2802,"3571"]
[null,501,2803,2808,"3581"]
[null,502,2809,2814,"3583"]
[null,503,2815,2820,"3593"]
[null,504,2821,2826,"3607"]
[null,505,2827,2832,"3613"]
[null,506,2833,2838,"3617"]
[null,507,2839,2844,"3623"]
[null,508,2845,2850,"3631"]
[null,509,2851,2856,"3637"]
[null,510,2857,2862,"3643"]
[null,511,2863,2868,"3659"]
[null,512,2869,2874,"3671"]
[null,513,2875,2880,"3673"]
[null,514,2881,2886,"3677"]
[null,{"$f":"B515+1","v":515},{"$f":"D515+1","v":2887},{"$f":"FIND($A$2,$A$1,$C516)","v":2892},"3691"]
[null,516,2893,2898,"3697"]
[null,517,2899,2904,"3701"]
[null,518,2905,2910,"3709"]
[null,519,2911,2916,"3719"]
[null,520,2917,2922,"3727"]
[null,521,2923,2928,"3733"]
[null,522,2929,2934,"3739"]
[null,523,2935,2940,"3761"]
[null,524,2941,2946,"3767"]
[null,525,2947,2952,"3769"]
[null,526,2953,2958,"3779"]
[null,527,2959,2964,"3793"]
[null,528,2965,2970,"3797"]
[null,529,2971,2976,"3803"]
[null,530,2977,2982,"3821"]
[null,531,2983,2988,"3823"]
[null,532,2989,2994,"3833"]
[null,533,2995,3000,"3847"]
[null,534,3001,3006,"3851"]
[null,535,3007,3012,"3853"]
[null,536,3013,3018,"3863"]
[null,537,3019,3024,"3877"]
[null,538,3025,3030,"3881"]
[null,539,3031,3036,"3889"]
[null,540,3037,3042,"3907"]
[null,541,3043,3048,"3911"]
[null,542,3049,3054,"3917"]
[null,543,3055,3060,"3919"]
[null,544,3061,3066,"3923"]
[null,545,3067,3072,"3929"]
[null,546,3073,3078,"3931"]
[null,547,3079,3084,"3943"]
[null,548,3085,3090,"3947"]
[null,549,3091,3096,"3967"]
[null,550,3097,3102,"3989"]
[null,551,3103,3108,"4001"]
[null,552,3109,3114,"4003"]
[null,553,3115,3120,{"$f":"MID($A$1,$C554+1,D554-C554-1)","v":"4007"}]
[null,554,3121,3126,"4013"]
[null,555,3127,3132,"4019"]
[null,556,3133,3138,"4021"]
[null,557,3139,3144,"4027"]
[null,558,3145,3150,"4049"]
[null,559,3151,3156,"4051"]
[null,560,3157,3162,"4057"]
[null,561,3163,3168,"4073"]
[null,562,3169,3174,"4079"]
[null,563,3175,3180,"4091"]
[null,564,3181,3186,"4093"]
[null,565,3187,3192,"4099"]
[null,566,3193,3198,"4111"]
[null,567,3199,3204,"4127"]
[null,568,3205,3210,"4129"]
[null,569,3211,3216,"4133"]
[null,570,3217,3222,"4139"]
[null,571,3223,3228,"4153"]
[null,572,3229,3234,"4157"]
[null,573,3235,3240,"4159"]
[null,574,3241,3246,"4177"]
[null,575,3247,3252,"4201"]
[null,576,3253,3258,"4211"]
[null,577,3259,3264,"4217"]
[null,578,3265,3270,"4219"]
[null,{"$f":"B579+1","v":579},{"$f":"D579+1","v":3271},{"$f":"FIND($A$2,$A$1,$C580)","v":3276},"4229"]
[null,580,3277,3282,"4231"]
[null,581,3283,3288,"4241"]
[null,582,3289,3294,"4243"]
[null,583,3295,3300,"4253"]
[null,584,3301,3306,"4259"]
[null,585,3307,3312,"4261"]
[null,586,3313,3318,"4271"]
[null,587,3319,3324,"4273"]
[null,588,3325,3330,"4283"]
[null,589,3331,3336,"4289"]
[null,590,3337,3342,"4297"]
[null,591,3343,3348,"4327"]
[null,592,3349,3354,"4337"]
[null,593,3355,3360,"4339"]
[null,594,3361,3366,"4349"]
[null,595,3367,3372,"4357"]
[null,596,3373,3378,"4363"]
[null,597,3379,3384,"4373"]
[null,598,3385,3390,"4391"]
[null,599,3391,3396,"4397"]
[null,600,3397,3402,"4409"]
[null,601,3403,3408,"4421"]
[null,602,3409,3414,"4423"]
[null,603,3415,3420,"4441"]
[null,604,3421,3426,"4447"]
[null,605,3427,3432,"4451"]
[null,606,3433,3438,"4457"]
[null,607,3439,3444,"4463"]
[null,608,3445,3450,"4481"]
[null,609,3451,3456,"4483"]
[null,610,3457,3462,"4493"]
[null,611,3463,3468,"4507"]
[null,612,3469,3474,"4513"]
[null,613,3475,3480,"4517"]
[null,614,3481,3486,"4519"]
[null,615,3487,3492,"4523"]
[null,616,3493,3498,"4547"]
[null,617,3499,3504,{"$f":"MID($A$1,$C618+1,D618-C618-1)","v":"4549"}]
[null,618,3505,3510,"4561"]
[null,619,3511,3516,"4567"]
[null,620,3517,3522,"4583"]
[null,621,3523,3528,"4591"]
[null,622,3529,3534,"4597"]
[null,623,3535,3540,"4603"]
[null,624,3541,3546,"4621"]
[null,625,3547,3552,"4637"]
[null,626,3553,3558,"4639"]
[null,627,3559,3564,"4643"]
[null,628,3565,3570,"4649"]
[null,629,3571,3576,"4651"]
[null,630,3577,3582,"4657"]
[null,631,3583,3588,"4663"]
[null,632,3589,3594,"4673"]
[null,633,3595,3600,"4679"]
[null,634,3601,3606,"4691"]
[null,635,3607,3612,"4703"]
[null,636,3613,3618,"4721"]
[null,637,3619,3624,"4723"]
[null,638,3625,3630,"4729"]
[null,639,3631,3636,"4733"]
[null,640,3637,3642,"4751"]
[null,641,3643,3648,"4759"]
[null,642,3649,3654,"4783"]
[null,{"$f":"B643+1","v":643},{"$f":"D643+1","v":3655},{"$f":"FIND($A$2,$A$1,$C644)","v":3660},"4787"]
[null,644,3661,3666,"4789"]
[null,645,3667,3672,"4793"]
[null,646,3673,3678,"4799"]
[null,647,3679,3684,"4801"]
[null,648,3685,3690,"4813"]
[null,649,3691,3696,"4817"]
[null,650,3697,3702,"4831"]
[null,651,3703,3708,"4861"]
[null,652,3709,3714,"4871"]
[null,653,3715,3720,"4877"]
[null,654,3721,3726,"4889"]
[null,655,3727,3732,"4903"]
[null,656,3733,3738,"4909"]
[null,657,3739,3744,"4919"]
[null,658,3745,3750,"4931"]
[null,659,3751,3756,"4933"]
[null,660,3757,3762,"4937"]
[null,661,3763,3768,"4943"]
[null,662,3769,3774,"4951"]
[null,663,3775,3780,"4957"]
[null,664,3781,3786,"4967"]
[null,665,3787,3792,"4969"]
[null,666,3793,3798,"4973"]
[null,667,3799,3804,"4987"]
[null,668,3805,3810,"4993"]
[null,669,3811,3816,"4999"]
[null,670,3817,3822,"5003"]
[null,671,3823,3828,"5009"]
[null,672,3829,3834,"5011"]
[null,673,3835,3840,"5021"]
[null,674,3841,3846,"5023"]
[null,675,3847,3852,"5039"]
[null,676,3853,3858,"5051"]
[null,677,3859,3864,"5059"]
[null,678,3865,3870,"5077"]
[null,679,3871,3876,"5081"]
[null,680,3877,3882,"5087"]
[null,681,3883,3888,{"$f":"MID($A$1,$C682+1,D682-C682-1)","v":"5099"}]
[null,682,3889,3894,"5101"]
[null,683,3895,3900,"5107"]
[null,684,3901,3906,"5113"]
[null,685,3907,3912,"5119"]
[null,686,3913,3918,"5147"]
[null,687,3919,3924,"5153"]
[null,688,3925,3930,"5167"]
[null,689,3931,3936,"5171"]
[null,690,3937,3942,"5179"]
[null,691,3943,3948,"5189"]
[null,692,3949,3954,"5197"]
[null,693,3955,3960,"5209"]
[null,694,3961,3966,"5227"]
[null,695,3967,3972,"5231"]
[null,696,3973,3978,"5233"]
[null,697,3979,3984,"5237"]
[null,698,3985,3990,"5261"]
[null,699,3991,3996,"5273"]
[null,700,3997,4002,"5279"]
[null,701,4003,4008,"5281"]
[null,702,4009,4014,"5297"]
[null,703,4015,4020,"5303"]
[null,704,4021,4026,"5309"]
[null,705,4027,4032,"5323"]
[null,706,4033,4038,"5333"]
[null,{"$f":"B707+1","v":707},{"$f":"D707+1","v":4039},{"$f":"FIND($A$2,$A$1,$C708)","v":4044},"5347"]
[null,708,4045,4050,"5351"]
[null,709,4051,4056,"5381"]
[null,710,4057,4062,"5387"]
[null,711,4063,4068,"5393"]
[null,712,4069,4074,"5399"]
[null,713,4075,4080,"5407"]
[null,714,4081,4086,"5413"]
[null,715,4087,4092,"5417"]
[null,716,4093,4098,"5419"]
[null,717,4099,4104,"5431"]
[null,718,4105,4110,"5437"]
[null,719,4111,4116,"5441"]
[null,720,4117,4122,"5443"]
[null,721,4123,4128,"5449"]
[null,722,4129,4134,"5471"]
[null,723,4135,4140,"5477"]
[null,724,4141,4146,"5479"]
[null,725,4147,4152,"5483"]
[null,726,4153,4158,"5501"]
[null,727,4159,4164,"5503"]
[null,728,4165,4170,"5507"]
[null,729,4171,4176,"5519"]
[null,730,4177,4182,"5521"]
[null,731,4183,4188,"5527"]
[null,732,4189,4194,"5531"]
[null,733,4195,4200,"5557"]
[null,734,4201,4206,"5563"]
[null,735,4207,4212,"5569"]
[null,736,4213,4218,"5573"]
[null,737,4219,4224,"5581"]
[null,738,4225,4230,"5591"]
[null,739,4231,4236,"5623"]
[null,740,4237,4242,"5639"]
[null,741,4243,4248,"5641"]
[null,742,4249,4254,"5647"]
[null,743,4255,4260,"5651"]
[null,744,4261,4266,"5653"]
[null,745,4267,4272,{"$f":"MID($A$1,$C746+1,D746-C746-1)","v":"5657"}]
[null,746,4273,4278,"5659"]
[null,747,4279,4284,"5669"]
[null,748,4285,4290,"5683"]
[null,749,4291,4296,"5689"]
[null,750,4297,4302,"5693"]
[null,751,4303,4308,"5701"]
[null,752,4309,4314,"5711"]
[null,753,4315,4320,"5717"]
[null,754,4321,4326,"5737"]
[null,755,4327,4332,"5741"]
[null,756,4333,4338,"5743"]
[null,757,4339,4344,"5749"]
[null,758,4345,4350,"5779"]
[null,759,4351,4356,"5783"]
[null,760,4357,4362,"5791"]
[null,761,4363,4368,"5801"]
[null,762,4369,4374,"5807"]
[null,763,4375,4380,"5813"]
[null,764,4381,4386,"5821"]
[null,765,4387,4392,"5827"]
[null,766,4393,4398,"5839"]
[null,767,4399,4404,"5843"]
[null,768,4405,4410,"5849"]
[null,769,4411,4416,"5851"]
[null,770,4417,4422,"5857"]
[null,{"$f":"B771+1","v":771},{"$f":"D771+1","v":4423},{"$f":"FIND($A$2,$A$1,$C772)","v":4428},"5861"]
[null,772,4429,4434,"5867"]
[null,773,4435,4440,"5869"]
[null,774,4441,4446,"5879"]
[null,775,4447,4452,"5881"]
[null,776,4453,4458,"5897"]
[null,777,4459,4464,"5903"]
[null,778,4465,4470,"5923"]
[null,779,4471,4476,"5927"]
[null,780,4477,4482,"5939"]
[null,781,4483,4488,"5953"]
[null,782,4489,4494,"5981"]
[null,783,4495,4500,"5987"]
[null,784,4501,4506,"6007"]
[null,785,4507,4512,"6011"]
[null,786,4513,4518,"6029"]
[null,787,4519,4524,"6037"]
[null,788,4525,4530,"6043"]
[null,789,4531,4536,"6047"]
[null,790,4537,4542,"6053"]
[null,791,4543,4548,"6067"]
[null,792,4549,4554,"6073"]
[null,793,4555,4560,"6079"]
[null,794,4561,4566,"6089"]
[null,795,4567,4572,"6091"]
[null,796,4573,4578,"6101"]
[null,797,4579,4584,"6113"]
[null,798,4585,4590,"6121"]
[null,799,4591,4596,"6131"]
[null,800,4597,4602,"6133"]
[null,801,4603,4608,"6143"]
[null,802,4609,4614,"6151"]
[null,803,4615,4620,"6163"]
[null,804,4621,4626,"6173"]
[null,805,4627,4632,"6197"]
[null,806,4633,4638,"6199"]
[null,807,4639,4644,"6203"]
[null,808,4645,4650,"6211"]
[null,809,4651,4656,{"$f":"MID($A$1,$C810+1,D810-C810-1)","v":"6217"}]
[null,810,4657,4662,"6221"]
[null,811,4663,4668,"6229"]
[null,812,4669,4674,"6247"]
[null,813,4675,4680,"6257"]
[null,814,4681,4686,"6263"]
[null,815,4687,4692,"6269"]
[null,816,4693,4698,"6271"]
[null,817,4699,4704,"6277"]
[null,818,4705,4710,"6287"]
[null,819,4711,4716,"6299"]
[null,820,4717,4722,"6301"]
[null,821,4723,4728,"6311"]
[null,822,4729,4734,"6317"]
[null,823,4735,4740,"6323"]
[null,824,4741,4746,"6329"]
[null,825,4747,4752,"6337"]
[null,826,4753,4758,"6343"]
[null,827,4759,4764,"6353"]
[null,828,4765,4770,"6359"]
[null,829,4771,4776,"6361"]
[null,830,4777,4782,"6367"]
[null,831,4783,4788,"6373"]
[null,832,4789,4794,"6379"]
[null,833,4795,4800,"6389"]
[null,834,4801,4806,"6397"]
[null,{"$f":"B835+1","v":835},{"$f":"D835+1","v":4807},{"$f":"FIND($A$2,$A$1,$C836)","v":4812},"6421"]
[null,836,4813,4818,"6427"]
[null,837,4819,4824,"6449"]
[null,838,4825,4830,"6451"]
[null,839,4831,4836,"6469"]
[null,840,4837,4842,"6473"]
[null,841,4843,4848,"6481"]
[null,842,4849,4854,"6491"]
[null,843,4855,4860,"6521"]
[null,844,4861,4866,"6529"]
[null,845,4867,4872,"6547"]
[null,846,4873,4878,"6551"]
[null,847,4879,4884,"6553"]
[null,848,4885,4890,"6563"]
[null,849,4891,4896,"6569"]
[null,850,4897,4902,"6571"]
[null,851,4903,4908,"6577"]
[null,852,4909,4914,"6581"]
[null,853,4915,4920,"6599"]
[null,854,4921,4926,"6607"]
[null,855,4927,4932,"6619"]
[null,856,4933,4938,"6637"]
[null,857,4939,4944,"6653"]
[null,858,4945,4950,"6659"]
[null,859,4951,4956,"6661"]
[null,860,4957,4962,"6673"]
[null,861,4963,4968,"6679"]
[null,862,4969,4974,"6689"]
[null,863,4975,4980,"6691"]
[null,864,4981,4986,"6701"]
[null,865,4987,4992,"6703"]
[null,866,4993,4998,"6709"]
[null,867,4999,5004,"6719"]
[null,868,5005,5010,"6733"]
[null,869,5011,5016,"6737"]
[null,870,5017,5022,"6761"]
[null,871,5023,5028,"6763"]
[null,872,5029,5034,"6779"]
[null,873,5035,5040,{"$f":"MID($A$1,$C874+1,D874-C874-1)","v":"6781"}]
[null,874,5041,5046,"6791"]
[null,875,5047,5052,"6793"]
[null,876,5053,5058,"6803"]
[null,877,5059,5064,"6823"]
[null,878,5065,5070,"6827"]
[null,879,5071,5076,"6829"]
[null,880,5077,5082,"6833"]
[null,881,5083,5088,"6841"]
[null,882,5089,5094,"6857"]
[null,883,5095,5100,"6863"]
[null,884,5101,5106,"6869"]
[null,885,5107,5112,"6871"]
[null,886,5113,5118,"6883"]
[null,887,5119,5124,"6899"]
[null,888,5125,5130,"6907"]
[null,889,5131,5136,"6911"]
[null,890,5137,5142,"6917"]
[null,891,5143,5148,"6947"]
[null,892,5149,5154,"6949"]
[null,893,5155,5160,"6959"]
[null,894,5161,5166,"6961"]
[null,895,5167,5172,"6967"]
[null,896,5173,5178,"6971"]
[null,897,5179,5184,"6977"]
[null,898,5185,5190,"6983"]
[null,{"$f":"B899+1","v":899},{"$f":"D899+1","v":5191},{"$f":"FIND($A$2,$A$1,$C900)","v":5196},"6991"]
[null,900,5197,5202,"6997"]
[null,901,5203,5208,"7001"]
[null,902,5209,5214,"7013"]
[null,903,5215,5220,"7019"]
[null,904,5221,5226,"7027"]
[null,905,5227,5232,"7039"]
[null,906,5233,5238,"7043"]
[null,907,5239,5244,"7057"]
[null,908,5245,5250,"7069"]
[null,909,5251,5256,"7079"]
[null,910,5257,5262,"7103"]
[null,911,5263,5268,"7109"]
[null,912,5269,5274,"7121"]
[null,913,5275,5280,"7127"]
[null,914,5281,5286,"7129"]
[null,915,5287,5292,"7151"]
[null,916,5293,5298,"7159"]
[null,917,5299,5304,"7177"]
[null,918,5305,5310,"7187"]
[null,919,5311,5316,"7193"]
[null,920,5317,5322,"7207"]
[null,921,5323,5328,"7211"]
[null,922,5329,5334,"7213"]
[null,923,5335,5340,"7219"]
[null,924,5341,5346,"7229"]
[null,925,5347,5352,"7237"]
[null,926,5353,5358,"7243"]
[null,927,5359,5364,"7247"]
[null,928,5365,5370,"7253"]
[null,929,5371,5376,"7283"]
[null,930,5377,5382,"7297"]
[null,931,5383,5388,"7307"]
[null,932,5389,5394,"7309"]
[null,933,5395,5400,"7321"]
[null,934,5401,5406,"7331"]
[null,935,5407,5412,"7333"]
[null,936,5413,5418,"7349"]
[null,937,5419,5424,{"$f":"MID($A$1,$C938+1,D938-C938-1)","v":"7351"}]
[null,938,5425,5430,"7369"]
[null,939,5431,5436,"7393"]
[null,940,5437,5442,"7411"]
[null,941,5443,5448,"7417"]
[null,942,5449,5454,"7433"]
[null,943,5455,5460,"7451"]
[null,944,5461,5466,"7457"]
[null,945,5467,5472,"7459"]
[null,946,5473,5478,"7477"]
[null,947,5479,5484,"7481"]
[null,948,5485,5490,"7487"]
[null,949,5491,5496,"7489"]
[null,950,5497,5502,"7499"]
[null,951,5503,5508,"7507"]
[null,952,5509,5514,"7517"]
[null,953,5515,5520,"7523"]
[null,954,5521,5526,"7529"]
[null,955,5527,5532,"7537"]
[null,956,5533,5538,"7541"]
[null,957,5539,5544,"7547"]
[null,958,5545,5550,"7549"]
[null,959,5551,5556,"7559"]
[null,960,5557,5562,"7561"]
[null,961,5563,5568,"7573"]
[null,962,5569,5574,"7577"]
[null,{"$f":"B963+1","v":963},{"$f":"D963+1","v":5575},{"$f":"FIND($A$2,$A$1,$C964)","v":5580},"7583"]
[null,964,5581,5586,"7589"]
[null,965,5587,5592,"7591"]
[null,966,5593,5598,"7603"]
[null,967,5599,5604,"7607"]
[null,968,5605,5610,"7621"]
[null,969,5611,5616,"7639"]
[null,970,5617,5622,"7643"]
[null,971,5623,5628,"7649"]
[null,972,5629,5634,"7669"]
[null,973,5635,5640,"7673"]
[null,974,5641,5646,"7681"]
[null,975,5647,5652,"7687"]
[null,976,5653,5658,"7691"]
[null,977,5659,5664,"7699"]
[null,978,5665,5670,"7703"]
[null,979,5671,5676,"7717"]
[null,980,5677,5682,"7723"]
[null,981,5683,5688,"7727"]
[null,982,5689,5694,"7741"]
[null,983,5695,5700,"7753"]
[null,984,5701,5706,"7757"]
[null,985,5707,5712,"7759"]
[null,986,5713,5718,"7789"]
[null,987,5719,5724,"7793"]
[null,988,5725,5730,"7817"]
[null,989,5731,5736,"7823"]
[null,990,5737,5742,"7829"]
[null,991,5743,5748,"7841"]
[null,992,5749,5754,"7853"]
[null,993,5755,5760,"7867"]
[null,994,5761,5766,"7873"]
[null,995,5767,5772,"7877"]
[null,996,5773,5778,"7879"]
[null,997,5779,5784,"7883"]
[null,998,5785,5790,"7901"]
[null,999,5791,5796,"7907"]
[null,1000,5797,5802,"7919"]
[null,1001,5803,5808,{"$f":"MID($A$1,$C1002+1,D1002-C1002-1)","v":"7927"}]
[null,1002,5809,5814,"7933"]
[null,1003,5815,5820,"7937"]
[null,1004,5821,5826,"7949"]
[null,1005,5827,5832,"7951"]
[null,1006,5833,5838,"7963"]
[null,1007,5839,5844,"7993"]
[null,1008,5845,5850,"8009"]
[null,1009,5851,5856,"8011"]
[null,1010,5857,5862,"8017"]
[null,1011,5863,5868,"8039"]
[null,1012,5869,5874,"8053"]
[null,1013,5875,5880,"8059"]
[null,1014,5881,5886,"8069"]
[null,1015,5887,5892,"8081"]
[null,1016,5893,5898,"8087"]
[null,1017,5899,5904,"8089"]
[null,1018,5905,5910,"8093"]
[null,1019,5911,5916,"8101"]
[null,1020,5917,5922,"8111"]
[null,1021,5923,5928,"8117"]
[null,1022,5929,5934,"8123"]
[null,1023,5935,5940,"8147"]
[null,1024,5941,5946,"8161"]
[null,1025,5947,5952,"8167"]
[null,1026,5953,5958,"8171"]
[null,{"$f":"B1027+1","v":1027},{"$f":"D1027+1","v":5959},{"$f":"FIND($A$2,$A$1,$C1028)","v":5964},"8179"]
[null,1028,5965,5970,"8191"]
[null,1029,5971,5976,"8209"]
[null,1030,5977,5982,"8219"]
[null,1031,5983,5988,"8221"]
[null,1032,5989,5994,"8231"]
[null,1033,5995,6000,"8233"]
[null,1034,6001,6006,"8237"]
[null,1035,6007,6012,"8243"]
[null,1036,6013,6018,"8263"]
[null,1037,6019,6024,"8269"]
[null,1038,6025,6030,"8273"]
[null,1039,6031,6036,"8287"]
[null,1040,6037,6042,"8291"]
[null,1041,6043,6048,"8293"]
[null,1042,6049,6054,"8297"]
[null,1043,6055,6060,"8311"]
[null,1044,6061,6066,"8317"]
[null,1045,6067,6072,"8329"]
[null,1046,6073,6078,"8353"]
[null,1047,6079,6084,"8363"]
[null,1048,6085,6090,"8369"]
[null,1049,6091,6096,"8377"]
[null,1050,6097,6102,"8387"]
[null,1051,6103,6108,"8389"]
[null,1052,6109,6114,"8419"]
[null,1053,6115,6120,"8423"]
[null,1054,6121,6126,"8429"]
[null,1055,6127,6132,"8431"]
[null,1056,6133,6138,"8443"]
[null,1057,6139,6144,"8447"]
[null,1058,6145,6150,"8461"]
[null,1059,6151,6156,"8467"]
[null,1060,6157,6162,"8501"]
[null,1061,6163,6168,"8513"]
[null,1062,6169,6174,"8521"]
[null,1063,6175,6180,"8527"]
[null,1064,6181,6186,"8537"]
[null,1065,6187,6192,{"$f":"MID($A$1,$C1066+1,D1066-C1066-1)","v":"8539"}]
[null,1066,6193,6198,"8543"]
[null,1067,6199,6204,"8563"]
[null,1068,6205,6210,"8573"]
[null,1069,6211,6216,"8581"]
[null,1070,6217,6222,"8597"]
[null,1071,6223,6228,"8599"]
[null,1072,6229,6234,"8609"]
[null,1073,6235,6240,"8623"]
[null,1074,6241,6246,"8627"]
[null,1075,6247,6252,"8629"]
[null,1076,6253,6258,"8641"]
[null,1077,6259,6264,"8647"]
[null,1078,6265,6270,"8663"]
[null,1079,6271,6276,"8669"]
[null,1080,6277,6282,"8677"]
[null,1081,6283,6288,"8681"]
[null,1082,6289,6294,"8689"]
[null,1083,6295,6300,"8693"]
[null,1084,6301,6306,"8699"]
[null,1085,6307,6312,"8707"]
[null,1086,6313,6318,"8713"]
[null,1087,6319,6324,"8719"]
[null,1088,6325,6330,"8731"]
[null,1089,6331,6336,"8737"]
[null,1090,6337,6342,"8741"]
[null,{"$f":"B1091+1","v":1091},{"$f":"D1091+1","v":6343},{"$f":"FIND($A$2,$A$1,$C1092)","v":6348},"8747"]
[null,1092,6349,6354,"8753"]
[null,1093,6355,6360,"8761"]
[null,1094,6361,6366,"8779"]
[null,1095,6367,6372,"8783"]
[null,1096,6373,6378,"8803"]
[null,1097,6379,6384,"8807"]
[null,1098,6385,6390,"8819"]
[null,1099,6391,6396,"8821"]
[null,1100,6397,6402,"8831"]
[null,1101,6403,6408,"8837"]
[null,1102,6409,6414,"8839"]
[null,1103,6415,6420,"8849"]
[null,1104,6421,6426,"8861"]
[null,1105,6427,6432,"8863"]
[null,1106,6433,6438,"8867"]
[null,1107,6439,6444,"8887"]
[null,1108,6445,6450,"8893"]
[null,1109,6451,6456,"8923"]
[null,1110,6457,6462,"8929"]
[null,1111,6463,6468,"8933"]
[null,1112,6469,6474,"8941"]
[null,1113,6475,6480,"8951"]
[null,1114,6481,6486,"8963"]
[null,1115,6487,6492,"8969"]
[null,1116,6493,6498,"8971"]
[null,1117,6499,6504,"8999"]
[null,1118,6505,6510,"9001"]
[null,1119,6511,6516,"9007"]
[null,1120,6517,6522,"9011"]
[null,1121,6523,6528,"9013"]
[null,1122,6529,6534,"9029"]
[null,1123,6535,6540,"9041"]
[null,1124,6541,6546,"9043"]
[null,1125,6547,6552,"9049"]
[null,1126,6553,6558,"9059"]
[null,1127,6559,6564,"9067"]
[null,1128,6565,6570,"9091"]
[null,1129,6571,6576,{"$f":"MID($A$1,$C1130+1,D1130-C1130-1)","v":"9103"}]
[null,1130,6577,6582,"9109"]
[null,1131,6583,6588,"9127"]
[null,1132,6589,6594,"9133"]
[null,1133,6595,6600,"9137"]
[null,1134,6601,6606,"9151"]
[null,1135,6607,6612,"9157"]
[null,1136,6613,6618,"9161"]
[null,1137,6619,6624,"9173"]
[null,1138,6625,6630,"9181"]
[null,1139,6631,6636,"9187"]
[null,1140,6637,6642,"9199"]
[null,1141,6643,6648,"9203"]
[null,1142,6649,6654,"9209"]
[null,1143,6655,6660,"9221"]
[null,1144,6661,6666,"9227"]
[null,1145,6667,6672,"9239"]
[null,1146,6673,6678,"9241"]
[null,1147,6679,6684,"9257"]
[null,1148,6685,6690,"9277"]
[null,1149,6691,6696,"9281"]
[null,1150,6697,6702,"9283"]
[null,1151,6703,6708,"9293"]
[null,1152,6709,6714,"9311"]
[null,1153,6715,6720,"9319"]
[null,1154,6721,6726,"9323"]
[null,{"$f":"B1155+1","v":1155},{"$f":"D1155+1","v":6727},{"$f":"FIND($A$2,$A$1,$C1156)","v":6732},"9337"]
[null,1156,6733,6738,"9341"]
[null,1157,6739,6744,"9343"]
[null,1158,6745,6750,"9349"]
[null,1159,6751,6756,"9371"]
[null,1160,6757,6762,"9377"]
[null,1161,6763,6768,"9391"]
[null,1162,6769,6774,"9397"]
[null,1163,6775,6780,"9403"]
[null,1164,6781,6786,"9413"]
[null,1165,6787,6792,"9419"]
[null,1166,6793,6798,"9421"]
[null,1167,6799,6804,"9431"]
[null,1168,6805,6810,"9433"]
[null,1169,6811,6816,"9437"]
[null,1170,6817,6822,"9439"]
[null,1171,6823,6828,"9461"]
[null,1172,6829,6834,"9463"]
[null,1173,6835,6840,"9467"]
[null,1174,6841,6846,"9473"]
[null,1175,6847,6852,"9479"]
[null,1176,6853,6858,"9491"]
[null,1177,6859,6864,"9497"]
[null,1178,6865,6870,"9511"]
[null,1179,6871,6876,"9521"]
[null,1180,6877,6882,"9533"]
[null,1181,6883,6888,"9539"]
[null,1182,6889,6894,"9547"]
[null,1183,6895,6900,"9551"]
[null,1184,6901,6906,"9587"]
[null,1185,6907,6912,"9601"]
[null,1186,6913,6918,"9613"]
[null,1187,6919,6924,"9619"]
[null,1188,6925,6930,"9623"]
[null,1189,6931,6936,"9629"]
[null,1190,6937,6942,"9631"]
[null,1191,6943,6948,"9643"]
[null,1192,6949,6954,"9649"]
[null,1193,6955,6960,{"$f":"MID($A$1,$C1194+1,D1194-C1194-1)","v":"9661"}]
[null,1194,6961,6966,{"$f":"MID($A$1,$C1195+1,D1195-C1195-1)","v":"9677"}]
[null,1195,6967,6972,{"$f":"MID($A$1,$C1196+1,D1196-C1196-1)","v":"9679"}]
[null,1196,6973,6978,{"$f":"MID($A$1,$C1197+1,D1197-C1197-1)","v":"9689"}]
[null,1197,6979,6984,{"$f":"MID($A$1,$C1198+1,D1198-C1198-1)","v":"9697"}]
[null,1198,6985,6990,{"$f":"MID($A$1,$C1199+1,D1199-C1199-1)","v":"9719"}]
[null,1199,6991,6996,{"$f":"MID($A$1,$C1200+1,D1200-C1200-1)","v":"9721"}]
[null,1200,6997,7002,{"$f":"MID($A$1,$C1201+1,D1201-C1201-1)","v":"9733"}]
[null,1201,7003,7008,{"$f":"MID($A$1,$C1202+1,D1202-C1202-1)","v":"9739"}]
[null,1202,7009,7014,{"$f":"MID($A$1,$C1203+1,D1203-C1203-1)","v":"9743"}]
[null,1203,7015,7020,{"$f":"MID($A$1,$C1204+1,D1204-C1204-1)","v":"9749"}]
[null,1204,7021,7026,{"$f":"MID($A$1,$C1205+1,D1205-C1205-1)","v":"9767"}]
[null,1205,7027,7032,{"$f":"MID($A$1,$C1206+1,D1206-C1206-1)","v":"9769"}]
[null,1206,7033,7038,{"$f":"MID($A$1,$C1207+1,D1207-C1207-1)","v":"9781"}]
[null,1207,7039,7044,{"$f":"MID($A$1,$C1208+1,D1208-C1208-1)","v":"9787"}]
[null,1208,7045,7050,{"$f":"MID($A$1,$C1209+1,D1209-C1209-1)","v":"9791"}]
[null,1209,7051,7056,{"$f":"MID($A$1,$C1210+1,D1210-C1210-1)","v":"9803"}]
[null,1210,7057,7062,{"$f":"MID($A$1,$C1211+1,D1211-C1211-1)","v":"9811"}]
[null,1211,7063,7068,{"$f":"MID($A$1,$C1212+1,D1212-C1212-1)","v":"9817"}]
[null,1212,7069,7074,{"$f":"MID($A$1,$C1213+1,D1213-C1213-1)","v":"9829"}]
[null,1213,7075,7080,{"$f":"MID($A$1,$C1214+1,D1214-C1214-1)","v":"9833"}]
[null,1214,7081,7086,{"$f":"MID($A$1,$C1215+1,D1215-C1215-1)","v":"9839"}]
[null,1215,7087,7092,{"$f":"MID($A$1,$C1216+1,D1216-C1216-1)","v":"9851"}]
[null,1216,7093,7098,{"$f":"MID($A$1,$C1217+1,D1217-C1217-1)","v":"9857"}]
[null,1217,7099,7104,{"$f":"MID($A$1,$C1218+1,D1218-C1218-1)","v":"9859"}]
[null,1218,7105,7110,{"$f":"MID($A$1,$C1219+1,D1219-C1219-1)","v":"9871"}]
[null,{"$f":"B1219+1","v":1219},{"$f":"D1219+1","v":7111},{"$f":"FIND($A$2,$A$1,$C1220)","v":7116},{"$f":"MID($A$1,$C1220+1,D1220-C1220-1)","v":"9883"}]
[null,1220,7117,{"$f":"FIND($A$2,$A$1,$C1221)","v":7122},{"$f":"MID($A$1,$C1221+1,D1221-C1221-1)","v":"9887"}]
[null,1221,7123,{"$f":"FIND($A$2,$A$1,$C1222)","v":7128},{"$f":"MID($A$1,$C1222+1,D1222-C1222-1)","v":"9901"}]
[null,1222,7129,{"$f":"FIND($A$2,$A$1,$C1223)","v":7134},{"$f":"MID($A$1,$C1223+1,D1223-C1223-1)","v":"9907"}]
[null,1223,7135,{"$f":"FIND($A$2,$A$1,$C1224)","v":7140},{"$f":"MID($A$1,$C1224+1,D1224-C1224-1)","v":"9923"}]
[null,1224,7141,{"$f":"FIND($A$2,$A$1,$C1225)","v":7146},{"$f":"MID($A$1,$C1225+1,D1225-C1225-1)","v":"9929"}]
[null,1225,7147,{"$f":"FIND($A$2,$A$1,$C1226)","v":7152},{"$f":"MID($A$1,$C1226+1,D1226-C1226-1)","v":"9931"}]
[null,1226,7153,{"$f":"FIND($A$2,$A$1,$C1227)","v":7158},{"$f":"MID($A$1,$C1227+1,D1227-C1227-1)","v":"9941"}]
[null,1227,7159,{"$f":"FIND($A$2,$A$1,$C1228)","v":7164},{"$f":"MID($A$1,$C1228+1,D1228-C1228-1)","v":"9949"}]
[null,1228,7165,{"$f":"FIND($A$2,$A$1,$C1229)","v":7170},{"$f":"MID($A$1,$C1229+1,D1229-C1229-1)","v":"9967"}]