{"text_format":"1","workbook":"xlsx","n_sheets":26,"sheets":["단지추출","단지추출_가격표용","동별가격표","정보입력(KB)","정보입력","옥계동","봉곡동","도량동","고아읍","남통동","원평동","송정동","형곡동","광평동","사곡동","상모동","임은동","오태동","진평동","구평동","인의동","황상동","구포동","거의동","산동읍","양식"],"not_rendered":{"charts":0,"images":7,"macros":1,"external_links":0,"defined_names":49,"comments":24,"pivot_tables":0},"unopened":[],"bounds":{"document_bytes":16777216,"sheet_cells":100000,"rows_first":2000,"rows_last":500,"rows_between":2000,"halvings":0,"cell_chars":16384,"cell_head_chars":4096},"cells_cut":0,"cells_raw":0,"read":"whole","date_system":"1900"}

{"sheet":"단지추출","index":0,"n_rows":667,"n_cols":60,"rows_kept":667,"cut":false,"hidden":false,"merged":[[1,45,1,46],[0,9,0,10],[0,13,0,14],[0,16,0,18],[0,35,0,39],[1,40,1,42],[1,43,1,44]]}
["구미시",null,null,null,null,null,null,null,null,"유사평형제거",null,"X",null,"추출기준세대수",null,0,"세대이상",null,null,null,null,null,null,"매매가 최대(색상 최대)",null,null,70000,null,null,null,null,null,null,"인천광역시 연수구",null,"인천광역시 연수구 전체 등급",null,null,null,null,80,45000,1000,6000,null,null,300,null,null,"기준연도","기준월",null,null,null,null,null,null,null,null,"200세대 이상 108단지"]
["2022-01-01",null,null,null,null,null,null,null,null,null,null,null,null,null,null,null,null,null,null,null,null,null,null,"매매가 최소(색상 최소)",null,null,10000,null,null,null,null,null,null,"입지평가 및 투자후보",null,"A-","A","A","A","C","원금보전",null,null,"수익성",null,"환금성",null,"투자후보",null,{"$f":"YEAR(A2)","v":2022},9,null,null,null,null,null,null,null,null,"300세대 이상 69단지"]
["단지명","입주\n연도","총세\n대수","공급\n(m2)","공급\n면적","전용\n(m2)","전용\n면적","세대","매매\n최저가","층","전세\n최고가","층","갭","전세\n가율","매매\n평단","전세\n평단","방","욕\n실","구\n조","매/전/월\nType","비고",null,"공급\n평형","공급\n면적","세대","매매가","전세가","갭","전세\n가율","평단가","구\n조","방/\n욕실",null,"단지명","공급\n면적","직장","교통","학군","환경","공급","전세가율★\n(80%↑)","절대가★\n(4.5억↓)","평단가\n(1000↓)","투자규모★\n(갭6천↓)","전고점\n이하","평형★\n(15~34평)","단지규모★\n(300^↑)","투자후보",null,"입주연도","입주월",null,null,2010,2000,1990,1990]
["동춘동 대우삼환","94.05",1776,110.3,33,90.2,27,1064,31000,5,26000,14,{"$f":"I4-K4","v":5000},{"$f":"IF(ISERROR(K4/I4),\"\",K4/I4)","v":0.83870967741935487},{"$f":"I4/E4","v":939.39393939393938},{"$f":"K4/E4","v":787.87878787878788},3,2,"계",110,null,null,{"$f":"D4","v":110.3},33,{"$f":"H4","v":1064},31000,{"$f":"K4","v":26000},{"$f":"M4","v":5000},0.83870967741935487,939.39393939393938,{"$f":"S4","v":"계"},{"$f":"Q4&\"/\"&R4","v":"3/2"},null,{"$f":"IF(A4=\"\",\"\",A4)","v":"동춘동 대우삼환"},{"$f":"IF(E4=\"\",\"\",E4)","v":33},{"$f":"IF(AI4=\"\",\"\",$AJ$2)","v":"A-"},"A","A","B+",{"$f":"IF(AI4=\"\",\"\",$AN$2)","v":"C"},{"$f":"IF(N4=\"\",\"\",IF(N4>=$AO$1/100,\"O\",\"X\"))","v":"O"},{"$f":"IF(I4=\"\",\"\",IF(I4<=$AP$1,\"O\",\"X\"))","v":"O"},{"$f":"IF(O4=\"\",\"\",IF(O4<=$AQ$1,\"O\",\"X\"))","v":"O"},{"$f":"IF(M4=\"\",\"\",IF(M4<=$AR$1,\"O\",\"X\"))","v":"O"},"X",{"$f":"IF(OR(F4=\"\",AI4=\"\"),\"\",IF(AND((F4<=85),(AI4>=15)),\"O\",\"X\"))","v":"X"},{"$f":"IF(C4=\"\",\"\",IF(C4>=$AU$1,\"O\",\"X\"))","v":"O"},{"$f":"IF(AO4=\"\",\"\",IF(AND(AO4=\"O\",AP4=\"O\",AR4=\"O\",AT4=\"O\",AU4=\"O\"),\"후보\",\"X\"))","v":"X"},null,{"$f":"IF(B4=\"\",\"\",_xlfn.NUMBERVALUE(IF(_xlfn.NUMBERVALUE(RIGHT(B4,2))=0.1,IF(_xlfn.NUMBERVALUE(LEFT(RIGHT(B4,4),2))>70,\"19\"&LEFT(RIGHT(B4,4),2),\"20\"&LEFT(RIGHT(B4,4),2)),IF(_xlfn.NUMBERVALUE(LEFT(RIGHT(B4,5),2))>70,\"19\"&LEFT(RIGHT(B4,5),2),\"20\"&LEFT(RIGHT(B4,5),2)))))","v":1994},{"$f":"IF(B4=\"\",\"\",IF(_xlfn.NUMBERVALUE(RIGHT(B4,2))=0.1,1,_xlfn.NUMBERVALUE(RIGHT(B4,2))))","v":5},null,"20평대",{"$f":"SUMIFS(H:H,AX:AX,\">\"&BB1,E:E,\"<30\",E:E,\">=20\")+SUMIFS(H:H,AX:AX,\"=\"&BB1,AY:AY,\">=\"&#REF!,E:E,\"<30\",E:E,\">=20\")","v":0},{"$f":"SUMIFS(H:H,AX:AX,\">\"&BC1,AX:AX,\"<\"&BB1,E:E,\"<30\",E:E,\">=20\")+SUMIFS(H:H,AX:AX,\"=\"&BC1,AY:AY,\">=\"&#REF!,E:E,\"<30\",E:E,\">=20\")+SUMIFS(H:H,AX:AX,\"=\"&BB1,AY:AY,\"<\"&#REF!,E:E,\"<30\",E:E,\">=20\")","v":0},{"$f":"SUMIFS(H:H,AX:AX,\">\"&BD1,AX:AX,\"<\"&BC1,E:E,\"<30\",E:E,\">=20\")+SUMIFS(H:H,AX:AX,\"=\"&BD1,AY:AY,\">=\"&#REF!,E:E,\"<30\",E:E,\">=20\")+SUMIFS(H:H,AX:AX,\"=\"&BC1,AY:AY,\"<\"&#REF!,E:E,\"<30\",E:E,\">=20\")","v":0},{"$f":"SUMIFS(H:H,AX:AX,\"<\"&BD1,E:E,\"<30\",E:E,\">=20\")+SUMIFS(H:H,AX:AX,\"=\"&BD1,AY:AY,\"<\"&#REF!,E:E,\"<30\",E:E,\">=20\")","v":0},{"$f":"SUM(BB4:BE4)","v":0}]
["동춘동 대우삼환","94.05",1776,123.7,37,102,31,456,34000,16,28000,null,6000,0.82352941176470584,918.91891891891896,756.75675675675677,4,2,"계",123,null,null,123.7,37,456,34000,28000,6000,0.82352941176470584,918.91891891891896,"계","4/2",null,"동춘동 대우삼환",37,"A-","A","A","B+","C","O","O","O","O","X","X","O","X",null,1994,5,null,"30평대",{"$f":"SUMIFS(H:H,AX:AX,\">\"&BB1,E:E,\"<40\",E:E,\">=30\")+SUMIFS(H:H,AX:AX,\"=\"&BB1,AY:AY,\">=\"&#REF!,E:E,\"<40\",E:E,\">=30\")","v":0},{"$f":"SUMIFS(H:H,AX:AX,\">\"&BC1,AX:AX,\"<\"&BB1,E:E,\"<40\",E:E,\">=30\")+SUMIFS(H:H,AX:AX,\"=\"&BC1,AY:AY,\">=\"&#REF!,E:E,\"<40\",E:E,\">=30\")+SUMIFS(H:H,AX:AX,\"=\"&BB1,AY:AY,\"<\"&#REF!,E:E,\"<40\",E:E,\">=30\")","v":0},{"$f":"SUMIFS(H:H,AX:AX,\">\"&BD1,AX:AX,\"<\"&BC1,E:E,\"<40\",E:E,\">=30\")+SUMIFS(H:H,AX:AX,\"=\"&BD1,AY:AY,\">=\"&#REF!,E:E,\"<40\",E:E,\">=30\")+SUMIFS(H:H,AX:AX,\"=\"&BC1,AY:AY,\"<\"&#REF!,E:E,\"<40\",E:E,\">=30\")","v":0},{"$f":"SUMIFS(H:H,AX:AX,\"<\"&BD1,E:E,\"<40\",E:E,\">=30\")+SUMIFS(H:H,AX:AX,\"=\"&BD1,AY:AY,\"<\"&#REF!,E:E,\"<40\",E:E,\">=30\")","v":0},{"$f":"SUM(BB5:BE5)","v":0}]
["동춘동 대우삼환","94.05",1776,144.80000000000001,44,120.7,37,256,39000,5,31000,null,8000,0.79487179487179482,886.36363636363637,704.5454545454545,4,2,"계",144,null,null,144.80000000000001,44,256,39000,31000,8000,0.79487179487179482,886.36363636363637,"계","4/2",null,"동춘동 대우삼환",44,"A-","A","A","B+","C","X","O","O","X","X","X","O","X",null,1994,5,null,"40평대↑",{"$f":"SUMIFS(H:H,AX:AX,\">\"&BB1,E:E,\">=40\")+SUMIFS(H:H,AX:AX,\"=\"&BB1,AY:AY,\">=\"&#REF!,E:E,\">=40\")","v":0},{"$f":"SUMIFS(H:H,AX:AX,\">\"&BC1,AX:AX,\"<\"&BB1,E:E,\">=40\")+SUMIFS(H:H,AX:AX,\"=\"&BC1,AY:AY,\">=\"&#REF!,E:E,\">=40\")+SUMIFS(H:H,AX:AX,\"=\"&BB1,AY:AY,\"<\"&#REF!,E:E,\">=40\")","v":0},{"$f":"SUMIFS(H:H,AX:AX,\">\"&BD1,AX:AX,\"<\"&BC1,E:E,\">=40\")+SUMIFS(H:H,AX:AX,\"=\"&BD1,AY:AY,\">=\"&#REF!,E:E,\">=40\")+SUMIFS(H:H,AX:AX,\"=\"&BC1,AY:AY,\"<\"&#REF!,E:E,\">=40\")","v":0},{"$f":"SUMIFS(H:H,AX:AX,\"<\"&BD1,E:E,\">=40\")+SUMIFS(H:H,AX:AX,\"=\"&BD1,AY:AY,\"<\"&#REF!,E:E,\">=40\")","v":0},{"$f":"SUM(BB6:BE6)","v":0}]
["동춘동 한양2차","95.08",1440,81.599999999999994,25,68.400000000000006,21,680,25500,4,18000,4,7500,0.70588235294117652,1020,720,3,1,"계",81,null,null,{"$f":"D7","v":81.599999999999994},25,{"$f":"H7","v":680},25500,18000,7500,0.70588235294117652,1020,"계","3/1",null,"동춘동 한양2차",25,"A-","A","A","B+","C","X","O","X","X","X","O","O","X",null,1995,8]
["동춘동 한양2차","95.08",1440,99.7,30,85,26,760,27000,4,22000,2,5000,0.81481481481481477,900,733.33333333333337,4,1,"계",99,null,null,99.7,30,760,27000,22000,5000,0.81481481481481477,900,"계","4/1",null,"동춘동 한양2차",30,"A-","A","A","B+","C","O","O","O","O","X","O","O","후보",null,1995,8,null,null,"10년 이하","10~20년","20~30년","30년 이상","합계"]
["동춘동 동남","94.12",1350,69.900000000000006,21,52.1,16,1350,17000,13,16000,6,1000,0.94117647058823528,809.52380952380952,761.90476190476193,2,1,"복",69,null,null,69.900000000000006,21,1350,17000,16000,{"$f":"M9","v":1000},{"$f":"N9","v":0.94117647058823528},{"$f":"O9","v":809.52380952380952},"복","2/1",null,"동춘동 동남",21,"A-","A","A","B+","C","O","O","O","O","X","O","O","후보",null,1994,12,null,"20평대",{"$f":"BB2/BF5","v":{"$error":"#DIV/0!"}},{"$f":"BC2/BF5","v":{"$error":"#DIV/0!"}},{"$f":"BD2/BF5","v":{"$error":"#DIV/0!"}},{"$f":"BE2/BF5","v":{"$error":"#DIV/0!"}},{"$f":"BF2/BF5","v":{"$error":"#DIV/0!"}}]
["동춘동 연수풍림2차","93.06",1200,61.2,19,45.4,14,600,20000,7,16000,6,4000,0.8,1052.6315789473683,842.10526315789468,2,1,"복",61,null,null,61.2,19,600,20000,16000,{"$f":"M10","v":4000},0.8,1052.6315789473683,"복","2/1",null,"동춘동 연수풍림2차",19,"A-","A","A","B+","C","O","O","X","O","X","O","O","후보",null,1993,6,null,"40평대↑",{"$f":"BB3/BF4","v":{"$error":"#DIV/0!"}},{"$f":"BC3/BF4","v":{"$error":"#DIV/0!"}},{"$f":"BD3/BF4","v":{"$error":"#DIV/0!"}},{"$f":"BE3/BF4","v":{"$error":"#DIV/0!"}},{"$f":"BF3/BF4","v":{"$error":"#DIV/0!"}}]
["동춘동 연수풍림2차","93.06",1200,104.5,32,84.2,25,600,32000,5,26000,8,6000,0.8125,1000,812.5,3,2,"계",104,null,null,104.5,32,600,32000,26000,6000,0.8125,1000,"계","3/2",null,"동춘동 연수풍림2차",32,"A-","A","A","B+","C","O","O","O","O","X","O","O","후보",null,1993,6,null,"합계",{"$f":"BB4/BF4","v":{"$error":"#DIV/0!"}},{"$f":"BC4/BF4","v":{"$error":"#DIV/0!"}},{"$f":"BD4/BF4","v":{"$error":"#DIV/0!"}},{"$f":"BE4/BF4","v":{"$error":"#DIV/0!"}},{"$f":"BF4/BF4","v":{"$error":"#DIV/0!"}}]
["동춘동 송도파크레인동일하이빌","19.03",1180,93,28,66.900000000000006,20,89,45000,"중",29000,null,16000,0.64444444444444449,1607.1428571428571,1035.7142857142858,3,2,"계",93,null,null,{"$f":"D12","v":93},28,{"$f":"H12","v":89},45000,29000,16000,0.64444444444444449,1607.1428571428571,"계","3/2",null,"동춘동 송도파크레인동일하이빌",28,"A-","A","A","B+","C","X","O","X","X","X","O","O","X",null,2019,3]
["동춘동 송도파크레인동일하이빌","19.03",1180,102.2,31,74.2,22,264,50000,20,30000,null,20000,0.6,1612.9032258064517,967.74193548387098,3,2,"계",102,null,null,102.2,31,264,50000,30000,20000,0.6,1612.9032258064517,"계","3/2",null,"동춘동 송도파크레인동일하이빌",31,"A-","A","A","B+","C","X","X","X","X","X","O","O","X",null,2019,3]
["동춘동 송도파크레인동일하이빌","19.03",1180,112.8,34,84.9,26,330,50000,9,33000,28,17000,0.66,1470.5882352941176,970.58823529411768,3,2,"계","112A",null,null,112.8,34,330,50000,33000,17000,0.66,1470.5882352941176,"계","3/2",null,"동춘동 송도파크레인동일하이빌",34,"A-","A","A","B+","C","X","X","X","X","X","O","O","X",null,2019,3]
["동춘동 송도파크레인동일하이빌","19.03",1180,114.7,35,85,26,347,49000,"중",36000,"중",13000,0.73469387755102045,1400,1028.5714285714287,3,2,"계","114B",null,null,114.7,35,347,49000,36000,13000,0.73469387755102045,1400,"계","3/2",null,"동춘동 송도파크레인동일하이빌",35,"A-","A","A","B+","C","X","X","X","X","X","O","O","X",null,2019,3]
["동춘동 송도파크레인동일하이빌","19.03",1180,124.6,38,93.7,28,150,55000,5,40000,26,15000,0.72727272727272729,1447.3684210526317,1052.6315789473683,4,2,"계",124,null,null,124.6,38,150,55000,40000,15000,0.72727272727272729,1447.3684210526317,"계","4/2",null,"동춘동 송도파크레인동일하이빌",38,"A-","A","A","B+","C","X","X","X","X","X","X","O","X",null,2019,3]
["동춘동 삼성,럭키","93.08",1080,114.1,35,95.8,29,960,30000,7,26000,null,4000,0.8666666666666667,857.14285714285711,742.85714285714289,3,2,"계",114,null,null,{"$f":"D17","v":114.1},35,{"$f":"H17","v":960},30000,26000,4000,0.8666666666666667,857.14285714285711,"계","3/2",null,"동춘동 삼성,럭키",35,"A-","A","A","B+","C","O","O","O","O","X","X","O","X",null,1993,8]
["동춘동 삼성,럭키","93.08",1080,139,42,119.4,36,120,34000,10,28000,null,6000,0.82352941176470584,809.52380952380952,666.66666666666663,4,2,"계",139,null,null,139,42,120,34000,28000,6000,0.82352941176470584,809.52380952380952,"계","4/2",null,"동춘동 삼성,럭키",42,"A-","A","A","B+","C","O","O","O","O","X","X","O","X",null,1993,8]
["동춘동 무지개마을","95.08",1068,78.599999999999994,24,59.8,18,534,24000,5,22000,9,2000,0.91666666666666663,1000,916.66666666666663,3,1,"계",78,null,null,78.599999999999994,24,534,24000,22000,2000,0.91666666666666663,1000,"계","3/1",null,"동춘동 무지개마을",24,"A-","A","A","B+","C","O","O","O","O","X","O","O","후보",null,1995,8]
["동춘동 무지개마을","95.08",1068,106.2,32,85,26,534,29500,4,26000,5,3500,0.88135593220338981,921.875,812.5,3,2,"계",106,null,null,106.2,32,534,29500,26000,3500,0.88135593220338981,921.875,"계","3/2",null,"동춘동 무지개마을",32,"A-","A","A","B+","C","O","O","O","O","X","O","O","후보",null,1995,8]
["동춘동 연수타운(금호,동아)","93.04",1056,115.3,35,94.8,29,120,31500,6,26000,null,5500,0.82539682539682535,900,742.85714285714289,3,2,"계",115,null,null,{"$f":"D21","v":115.3},35,{"$f":"H21","v":120},31500,26000,5500,0.82539682539682535,900,"계","3/2",null,"동춘동 연수타운(금호,동아)",35,"A-","A","A","B+","C","O","O","O","O","X","X","O","X",null,1993,4]
["동춘동 연수타운(금호,동아)","93.04",1056,124,38,102,31,616,32000,8,26000,null,6000,0.8125,842.10526315789468,684.21052631578948,4,2,"계",124,null,null,124,38,616,32000,26000,6000,0.8125,842.10526315789468,"계","4/2",null,"동춘동 연수타운(금호,동아)",38,"A-","A","A","B+","C","O","O","O","O","X","X","O","X",null,1993,4]
["동춘동 연수타운(금호,동아)","93.04",1056,163.69999999999999,50,134.6,41,320,38000,7,29000,14,9000,0.76315789473684215,760,580,4,2,"계",163,null,null,163.69999999999999,50,320,38000,29000,9000,0.76315789473684215,760,"계","4/2",null,"동춘동 연수타운(금호,동아)",50,"A-","A","A","B+","C","X","O","O","X","X","X","O","X",null,1993,4]
["동춘동 연수서해그랑블1단지","17.11",1043,94.9,29,70.8,21,197,40000,4,29000,"중",{"$f":"I24-K24","v":11000},{"$f":"IF(ISERROR(K24/I24),\"\",K24/I24)","v":0.72499999999999998},{"$f":"I24/E24","v":1379.3103448275863},{"$f":"K24/E24","v":1000},3,2,"계","94A",null,null,94.9,29,197,40000,{"$f":"K24","v":29000},11000,0.72499999999999998,1379.3103448275863,{"$f":"S24","v":"계"},{"$f":"Q24&\"/\"&R24","v":"3/2"},null,"동춘동 연수서해그랑블1단지",29,{"$f":"IF(AI24=\"\",\"\",$AJ$2)","v":"A-"},"A","A","B+",{"$f":"IF(AI24=\"\",\"\",$AN$2)","v":"C"},{"$f":"IF(N24=\"\",\"\",IF(N24>=$AO$1/100,\"O\",\"X\"))","v":"X"},{"$f":"IF(I24=\"\",\"\",IF(I24<=$AP$1,\"O\",\"X\"))","v":"O"},{"$f":"IF(O24=\"\",\"\",IF(O24<=$AQ$1,\"O\",\"X\"))","v":"X"},{"$f":"IF(M24=\"\",\"\",IF(M24<=$AR$1,\"O\",\"X\"))","v":"X"},"X",{"$f":"IF(OR(F24=\"\",AI24=\"\"),\"\",IF(AND((F24<=85),(AI24>=15)),\"O\",\"X\"))","v":"O"},{"$f":"IF(C24=\"\",\"\",IF(C24>=$AU$1,\"O\",\"X\"))","v":"O"},{"$f":"IF(AO24=\"\",\"\",IF(AND(AO24=\"O\",AP24=\"O\",AR24=\"O\",AT24=\"O\",AU24=\"O\"),\"후보\",\"X\"))","v":"X"},null,2017,11]
["동춘동 연수서해그랑블1단지","17.11",1043,94.9,29,70.8,21,264,39000,4,29000,null,10000,0.74358974358974361,1344.8275862068965,1000,3,2,"계","94B",null,null,94.9,29,264,39000,29000,10000,0.74358974358974361,1344.8275862068965,"계","3/2",null,"동춘동 연수서해그랑블1단지",29,"A-","A","A","B+","C","X","O","X","X","X","O","O","X",null,2017,11]
["동춘동 연수서해그랑블1단지","17.11",1043,112.6,34,85,26,65,45000,4,33000,"중",12000,0.73333333333333328,1323.5294117647059,970.58823529411768,3,3,"계","112D",null,null,112.6,34,65,45000,33000,{"$f":"M26","v":12000},0.73333333333333328,1323.5294117647059,"계","3/3",null,"동춘동 연수서해그랑블1단지",34,"A-","A","A","B+","C","X","O","X","X","X","O","O","X",null,2017,11]
["동춘동 연수서해그랑블1단지","17.11",1043,112.9,34,85,26,468,45000,"중",35000,null,10000,0.77777777777777779,1323.5294117647059,1029.4117647058824,4,2,"계","112C",null,null,112.9,34,468,45000,35000,10000,0.77777777777777779,1323.5294117647059,"계","4/2",null,"동춘동 연수서해그랑블1단지",34,"A-","A","A","B+","C","X","O","X","X","X","O","O","X",null,2017,11]
["동춘동 연수서해그랑블1단지","17.11",1043,114.5,35,84.8,26,8,50000,null,35000,null,15000,0.7,1428.5714285714287,1000,4,2,"계","114A",null,null,114.5,35,8,50000,35000,15000,0.7,1428.5714285714287,"계","4/2",null,"동춘동 연수서해그랑블1단지",35,"A-","A","A","B+","C","X","X","X","X","X","O","O","X",null,2017,11]
["동춘동 연수서해그랑블1단지","17.11",1043,114.9,35,84.4,26,16,50000,null,35000,null,15000,0.7,1428.5714285714287,1000,4,2,"계","114B",null,null,114.9,35,16,50000,35000,15000,0.7,1428.5714285714287,"계","4/2",null,"동춘동 연수서해그랑블1단지",35,"A-","A","A","B+","C","X","X","X","X","X","O","O","X",null,2017,11]
["동춘동 연수서해그랑블1단지","17.11",1043,140.5,43,105.7,32,25,55000,null,38000,null,17000,0.69090909090909092,1279.0697674418604,883.72093023255809,5,2,"계",140,null,null,140.5,43,25,55000,38000,17000,0.69090909090909092,1279.0697674418604,"계","5/2",null,"동춘동 연수서해그랑블1단지",43,"A-","A","A","B+","C","X","X","X","X","X","X","O","X",null,2017,11]
["동춘동 현대1차","93.01",1040,108.9,33,85,26,1040,34500,4,26000,3,{"$f":"I31-K31","v":8500},{"$f":"IF(ISERROR(K31/I31),\"\",K31/I31)","v":0.75362318840579712},{"$f":"I31/E31","v":1045.4545454545455},{"$f":"K31/E31","v":787.87878787878788},3,2,"계",108,null,null,{"$f":"D31","v":108.9},{"$f":"E31","v":33},{"$f":"H31","v":1040},{"$f":"I31","v":34500},{"$f":"K31","v":26000},{"$f":"M31","v":8500},{"$f":"N31","v":0.75362318840579712},{"$f":"O31","v":1045.4545454545455},{"$f":"S31","v":"계"},{"$f":"Q31&\"/\"&R31","v":"3/2"},null,"동춘동 현대1차",33,{"$f":"IF(AI31=\"\",\"\",$AJ$2)","v":"A-"},"A","A","B+",{"$f":"IF(AI31=\"\",\"\",$AN$2)","v":"C"},{"$f":"IF(N31=\"\",\"\",IF(N31>=$AO$1/100,\"O\",\"X\"))","v":"X"},{"$f":"IF(I31=\"\",\"\",IF(I31<=$AP$1,\"O\",\"X\"))","v":"O"},{"$f":"IF(O31=\"\",\"\",IF(O31<=$AQ$1,\"O\",\"X\"))","v":"X"},{"$f":"IF(M31=\"\",\"\",IF(M31<=$AR$1,\"O\",\"X\"))","v":"X"},"X",{"$f":"IF(OR(F31=\"\",AI31=\"\"),\"\",IF(AND((F31<=85),(AI31>=15)),\"O\",\"X\"))","v":"O"},{"$f":"IF(C31=\"\",\"\",IF(C31>=$AU$1,\"O\",\"X\"))","v":"O"},{"$f":"IF(AO31=\"\",\"\",IF(AND(AO31=\"O\",AP31=\"O\",AR31=\"O\",AT31=\"O\",AU31=\"O\"),\"후보\",\"X\"))","v":"X"},null,1993,1]
["동춘동 송도파크자이","19.05",1023,100.5,30,77,23,111,55000,12,30000,null,{"$f":"I32-K32","v":25000},{"$f":"IF(ISERROR(K32/I32),\"\",K32/I32)","v":0.54545454545454541},{"$f":"I32/E32","v":1833.3333333333333},{"$f":"K32/E32","v":1000},3,2,"계","100B",null,null,{"$f":"D32","v":100.5},30,{"$f":"H32","v":111},55000,{"$f":"K32","v":30000},{"$f":"M32","v":25000},0.54545454545454541,1833.3333333333333,{"$f":"S32","v":"계"},{"$f":"Q32&\"/\"&R32","v":"3/2"},null,"동춘동 송도파크자이",30,{"$f":"IF(AI32=\"\",\"\",$AJ$2)","v":"A-"},"A","A","B+",{"$f":"IF(AI32=\"\",\"\",$AN$2)","v":"C"},{"$f":"IF(N32=\"\",\"\",IF(N32>=$AO$1/100,\"O\",\"X\"))","v":"X"},{"$f":"IF(I32=\"\",\"\",IF(I32<=$AP$1,\"O\",\"X\"))","v":"X"},{"$f":"IF(O32=\"\",\"\",IF(O32<=$AQ$1,\"O\",\"X\"))","v":"X"},{"$f":"IF(M32=\"\",\"\",IF(M32<=$AR$1,\"O\",\"X\"))","v":"X"},"X",{"$f":"IF(OR(F32=\"\",AI32=\"\"),\"\",IF(AND((F32<=85),(AI32>=15)),\"O\",\"X\"))","v":"O"},{"$f":"IF(C32=\"\",\"\",IF(C32>=$AU$1,\"O\",\"X\"))","v":"O"},{"$f":"IF(AO32=\"\",\"\",IF(AND(AO32=\"O\",AP32=\"O\",AR32=\"O\",AT32=\"O\",AU32=\"O\"),\"후보\",\"X\"))","v":"X"},null,2019,5]
["동춘동 송도파크자이","19.05",1023,100.6,30,76.8,23,142,55000,null,30000,null,25000,0.54545454545454541,1833.3333333333333,1000,3,2,"계","100A",null,null,100.6,30,142,55000,30000,25000,0.54545454545454541,1833.3333333333333,"계","3/2",null,"동춘동 송도파크자이",30,"A-","A","A","B+","C","X","X","X","X","X","O","O","X",null,2019,5]
["동춘동 송도파크자이","19.05",1023,109.8,33,84.9,26,296,60000,"고",33000,"고",27000,0.55000000000000004,1818.1818181818182,1000,3,2,"계","109B",null,null,109.8,33,296,60000,33000,27000,0.55000000000000004,1818.1818181818182,"계","3/2",null,"동춘동 송도파크자이",33,"A-","A","A","B+","C","X","X","X","X","X","O","O","X",null,2019,5]
["동춘동 송도파크자이","19.05",1023,109.9,33,84.9,26,381,60000,28,38000,"중",22000,0.6333333333333333,1818.1818181818182,1151.5151515151515,3,2,"계","109A",null,null,109.9,33,381,60000,38000,22000,0.6333333333333333,1818.1818181818182,"계","3/2",null,"동춘동 송도파크자이",33,"A-","A","A","B+","C","X","X","X","X","X","O","O","X",null,2019,5]
["동춘동 송도파크자이","19.05",1023,111.9,34,84.8,26,3,60000,null,38000,null,22000,0.6333333333333333,1764.7058823529412,1117.6470588235295,2,2,"계","111P",null,null,111.9,34,3,60000,38000,22000,0.6333333333333333,1764.7058823529412,"계","2/2",null,"동춘동 송도파크자이",34,"A-","A","A","B+","C","X","X","X","X","X","O","O","X",null,2019,5]
["동춘동 송도파크자이","19.05",1023,131.19999999999999,40,102,31,87,70000,null,40000,null,30000,0.5714285714285714,1750,1000,4,2,"계","131A",null,null,131.19999999999999,40,87,70000,40000,30000,0.5714285714285714,1750,"계","4/2",null,"동춘동 송도파크자이",40,"A-","A","A","B+","C","X","X","X","X","X","X","O","X",null,2019,5]
["동춘동 송도파크자이","19.05",1023,132.69999999999999,40,101.2,31,3,70000,null,40000,null,30000,0.5714285714285714,1750,1000,4,2,"계","132P",null,null,132.69999999999999,40,3,70000,40000,30000,0.5714285714285714,1750,"계","4/2",null,"동춘동 송도파크자이",40,"A-","A","A","B+","C","X","X","X","X","X","X","O","X",null,2019,5]
["동춘동 한양1차","94.12",1020,106.8,32,85.3,26,9,31000,null,26000,null,5000,0.83870967741935487,968.75,812.5,3,2,"계",106,null,null,106.8,32,9,31000,26000,5000,0.83870967741935487,968.75,"계","3/2",null,"동춘동 한양1차",32,"A-","A","A","B+","C","O","O","O","O","X","X","O","X",null,1994,12]
["동춘동 한양1차","94.12",1020,111.3,34,88.9,27,393,31500,16,27000,5,4500,0.8571428571428571,926.47058823529414,794.11764705882354,3,2,"계","111A",null,null,111.3,34,393,31500,27000,4500,0.8571428571428571,926.47058823529414,"계","3/2",null,"동춘동 한양1차",34,"A-","A","A","B+","C","O","O","O","O","X","X","O","X",null,1994,12]
["동춘동 한양1차","94.12",1020,112,34,90.2,27,11,31500,null,27500,"중",4000,0.87301587301587302,926.47058823529414,808.82352941176475,3,2,"계","112B",null,null,112,34,11,31500,27500,4000,0.87301587301587302,926.47058823529414,"계","3/2",null,"동춘동 한양1차",34,"A-","A","A","B+","C","O","O","O","O","X","X","O","X",null,1994,12]
["동춘동 한양1차","94.12",1020,126.6,38,101.9,31,451,32000,8,26000,null,6000,0.8125,842.10526315789468,684.21052631578948,4,2,"계",126,null,null,126.6,38,451,32000,26000,6000,0.8125,842.10526315789468,"계","4/2",null,"동춘동 한양1차",38,"A-","A","A","B+","C","O","O","O","O","X","X","O","X",null,1994,12]
["동춘동 한양1차","94.12",1020,144.30000000000001,44,119.3,36,4,38000,null,27000,null,11000,0.71052631578947367,863.63636363636363,613.63636363636363,3,2,"계",144,null,null,144.30000000000001,44,4,38000,27000,11000,0.71052631578947367,863.63636363636363,"계","3/2",null,"동춘동 한양1차",44,"A-","A","A","B+","C","X","O","O","X","X","X","O","X",null,1994,12]
["동춘동 한양1차","94.12",1020,161.5,49,133.4,40,152,42000,6,28000,null,14000,0.66666666666666663,857.14285714285711,571.42857142857144,4,2,"계",161,null,null,161.5,49,152,42000,28000,14000,0.66666666666666663,857.14285714285711,"계","4/2",null,"동춘동 한양1차",49,"A-","A","A","B+","C","X","O","O","X","X","X","O","X",null,1994,12]
["동춘동 건영","94.04",970,87.1,26,73.7,22,50,23000,null,20000,null,{"$f":"I45-K45","v":3000},{"$f":"IF(ISERROR(K45/I45),\"\",K45/I45)","v":0.86956521739130432},{"$f":"I45/E45","v":884.61538461538464},{"$f":"K45/E45","v":769.23076923076928},3,1,"계",87,null,null,{"$f":"D45","v":87.1},26,{"$f":"H45","v":50},23000,{"$f":"K45","v":20000},3000,0.86956521739130432,884.61538461538464,{"$f":"S45","v":"계"},{"$f":"Q45&\"/\"&R45","v":"3/1"},null,"동춘동 건영",26,{"$f":"IF(AI45=\"\",\"\",$AJ$2)","v":"A-"},"A","A","B+",{"$f":"IF(AI45=\"\",\"\",$AN$2)","v":"C"},{"$f":"IF(N45=\"\",\"\",IF(N45>=$AO$1/100,\"O\",\"X\"))","v":"O"},{"$f":"IF(I45=\"\",\"\",IF(I45<=$AP$1,\"O\",\"X\"))","v":"O"},{"$f":"IF(O45=\"\",\"\",IF(O45<=$AQ$1,\"O\",\"X\"))","v":"O"},{"$f":"IF(M45=\"\",\"\",IF(M45<=$AR$1,\"O\",\"X\"))","v":"O"},"X",{"$f":"IF(OR(F45=\"\",AI45=\"\"),\"\",IF(AND((F45<=85),(AI45>=15)),\"O\",\"X\"))","v":"O"},{"$f":"IF(C45=\"\",\"\",IF(C45>=$AU$1,\"O\",\"X\"))","v":"O"},{"$f":"IF(AO45=\"\",\"\",IF(AND(AO45=\"O\",AP45=\"O\",AR45=\"O\",AT45=\"O\",AU45=\"O\"),\"후보\",\"X\"))","v":"후보"},null,1994,4]
["동춘동 건영","94.04",970,99.4,30,84.9,26,920,25000,4,23000,null,{"$f":"I46-K46","v":2000},{"$f":"IF(ISERROR(K46/I46),\"\",K46/I46)","v":0.92},{"$f":"I46/E46","v":833.33333333333337},{"$f":"K46/E46","v":766.66666666666663},3,2,"계",99,null,null,99.4,30,920,25000,{"$f":"K46","v":23000},2000,0.92,833.33333333333337,{"$f":"S46","v":"계"},{"$f":"Q46&\"/\"&R46","v":"3/2"},null,"동춘동 건영",30,{"$f":"IF(AI46=\"\",\"\",$AJ$2)","v":"A-"},"A","A","B+",{"$f":"IF(AI46=\"\",\"\",$AN$2)","v":"C"},{"$f":"IF(N46=\"\",\"\",IF(N46>=$AO$1/100,\"O\",\"X\"))","v":"O"},{"$f":"IF(I46=\"\",\"\",IF(I46<=$AP$1,\"O\",\"X\"))","v":"O"},{"$f":"IF(O46=\"\",\"\",IF(O46<=$AQ$1,\"O\",\"X\"))","v":"O"},{"$f":"IF(M46=\"\",\"\",IF(M46<=$AR$1,\"O\",\"X\"))","v":"O"},"X",{"$f":"IF(OR(F46=\"\",AI46=\"\"),\"\",IF(AND((F46<=85),(AI46>=15)),\"O\",\"X\"))","v":"O"},{"$f":"IF(C46=\"\",\"\",IF(C46>=$AU$1,\"O\",\"X\"))","v":"O"},{"$f":"IF(AO46=\"\",\"\",IF(AND(AO46=\"O\",AP46=\"O\",AR46=\"O\",AT46=\"O\",AU46=\"O\"),\"후보\",\"X\"))","v":"후보"},null,1994,4]
["동춘동 동춘마을","94.06",930,79,24,59.4,18,930,20500,3,17000,4,{"$f":"I47-K47","v":3500},{"$f":"IF(ISERROR(K47/I47),\"\",K47/I47)","v":0.82926829268292679},{"$f":"I47/E47","v":854.16666666666663},{"$f":"K47/E47","v":708.33333333333337},3,1,"계",79,null,null,79,24,930,20500,{"$f":"K47","v":17000},{"$f":"M47","v":3500},{"$f":"N47","v":0.82926829268292679},{"$f":"O47","v":854.16666666666663},{"$f":"S47","v":"계"},{"$f":"Q47&\"/\"&R47","v":"3/1"},null,"동춘동 동춘마을",24,{"$f":"IF(AI47=\"\",\"\",$AJ$2)","v":"A-"},"A","A","B+",{"$f":"IF(AI47=\"\",\"\",$AN$2)","v":"C"},{"$f":"IF(N47=\"\",\"\",IF(N47>=$AO$1/100,\"O\",\"X\"))","v":"O"},{"$f":"IF(I47=\"\",\"\",IF(I47<=$AP$1,\"O\",\"X\"))","v":"O"},{"$f":"IF(O47=\"\",\"\",IF(O47<=$AQ$1,\"O\",\"X\"))","v":"O"},{"$f":"IF(M47=\"\",\"\",IF(M47<=$AR$1,\"O\",\"X\"))","v":"O"},"X",{"$f":"IF(OR(F47=\"\",AI47=\"\"),\"\",IF(AND((F47<=85),(AI47>=15)),\"O\",\"X\"))","v":"O"},{"$f":"IF(C47=\"\",\"\",IF(C47>=$AU$1,\"O\",\"X\"))","v":"O"},{"$f":"IF(AO47=\"\",\"\",IF(AND(AO47=\"O\",AP47=\"O\",AR47=\"O\",AT47=\"O\",AU47=\"O\"),\"후보\",\"X\"))","v":"후보"},null,1994,6]
["동춘동 현대,대림2차","94.06",700,113.2,34,96.2,29,130,33000,5,24000,3,{"$f":"I48-K48","v":9000},{"$f":"IF(ISERROR(K48/I48),\"\",K48/I48)","v":0.72727272727272729},{"$f":"I48/E48","v":970.58823529411768},{"$f":"K48/E48","v":705.88235294117646},3,2,"계","113A",null,null,{"$f":"D48","v":113.2},34,{"$f":"H48","v":130},33000,{"$f":"K48","v":24000},{"$f":"M48","v":9000},0.72727272727272729,970.58823529411768,{"$f":"S48","v":"계"},{"$f":"Q48&\"/\"&R48","v":"3/2"},null,"동춘동 현대,대림2차",34,{"$f":"IF(AI48=\"\",\"\",$AJ$2)","v":"A-"},"A","A","B+",{"$f":"IF(AI48=\"\",\"\",$AN$2)","v":"C"},{"$f":"IF(N48=\"\",\"\",IF(N48>=$AO$1/100,\"O\",\"X\"))","v":"X"},{"$f":"IF(I48=\"\",\"\",IF(I48<=$AP$1,\"O\",\"X\"))","v":"O"},{"$f":"IF(O48=\"\",\"\",IF(O48<=$AQ$1,\"O\",\"X\"))","v":"O"},{"$f":"IF(M48=\"\",\"\",IF(M48<=$AR$1,\"O\",\"X\"))","v":"X"},"X",{"$f":"IF(OR(F48=\"\",AI48=\"\"),\"\",IF(AND((F48<=85),(AI48>=15)),\"O\",\"X\"))","v":"X"},{"$f":"IF(C48=\"\",\"\",IF(C48>=$AU$1,\"O\",\"X\"))","v":"O"},{"$f":"IF(AO48=\"\",\"\",IF(AND(AO48=\"O\",AP48=\"O\",AR48=\"O\",AT48=\"O\",AU48=\"O\"),\"후보\",\"X\"))","v":"X"},null,1994,6]
["동춘동 현대,대림2차","94.06",700,113.4,34,96.7,29,130,31000,4,23000,5,8000,0.74193548387096775,911.76470588235293,676.47058823529414,3,2,"계","113B",null,null,113.4,34,130,31000,23000,8000,0.74193548387096775,911.76470588235293,"계","3/2",null,"동춘동 현대,대림2차",34,"A-","A","A","B+","C","X","O","O","X","X","X","O","X",null,1994,6]
["동춘동 현대,대림2차","94.06",700,123.3,37,101.7,31,180,32500,5,29000,2,3500,0.89230769230769236,878.37837837837833,783.78378378378375,4,2,"계","123A",null,null,123.3,37,180,32500,29000,3500,0.89230769230769236,878.37837837837833,"계","4/2",null,"동춘동 현대,대림2차",37,"A-","A","A","B+","C","O","O","O","O","X","X","O","X",null,1994,6]
["동춘동 현대,대림2차","94.06",700,123.7,37,101.9,31,180,33000,12,27000,12,6000,0.81818181818181823,891.89189189189187,729.72972972972968,4,2,"계","123B",null,null,123.7,37,180,33000,27000,6000,0.81818181818181823,891.89189189189187,"계","4/2",null,"동춘동 현대,대림2차",37,"A-","A","A","B+","C","O","O","O","O","X","X","O","X",null,1994,6]
["동춘동 현대,대림2차","94.06",700,158.80000000000001,48,134.1,41,40,43000,7,32000,null,11000,0.7441860465116279,895.83333333333337,666.66666666666663,4,2,"계","158B",null,null,158.80000000000001,48,40,43000,32000,11000,0.7441860465116279,895.83333333333337,"계","4/2",null,"동춘동 현대,대림2차",48,"A-","A","A","B+","C","X","O","O","X","X","X","O","X",null,1994,6]
["동춘동 현대,대림2차","94.06",700,159,48,133.80000000000001,40,40,43000,null,32000,null,11000,0.7441860465116279,895.83333333333337,666.66666666666663,4,2,"계","159A",null,null,159,48,40,43000,32000,11000,0.7441860465116279,895.83333333333337,"계","4/2",null,"동춘동 현대,대림2차",48,"A-","A","A","B+","C","X","O","O","X","X","X","O","X",null,1994,6]
["동춘동 인천연수풍림3차","93.12",440,99.2,30,84.3,26,440,26500,4,22000,4,{"$f":"I54-K54","v":4500},{"$f":"IF(ISERROR(K54/I54),\"\",K54/I54)","v":0.83018867924528306},{"$f":"I54/E54","v":883.33333333333337},{"$f":"K54/E54","v":733.33333333333337},3,2,"계",99,null,null,{"$f":"D54","v":99.2},30,{"$f":"H54","v":440},26500,{"$f":"K54","v":22000},{"$f":"M54","v":4500},0.83018867924528306,883.33333333333337,{"$f":"S54","v":"계"},{"$f":"Q54&\"/\"&R54","v":"3/2"},null,"동춘동 인천연수풍림3차",30,{"$f":"IF(AI54=\"\",\"\",$AJ$2)","v":"A-"},"A","A","B+",{"$f":"IF(AI54=\"\",\"\",$AN$2)","v":"C"},{"$f":"IF(N54=\"\",\"\",IF(N54>=$AO$1/100,\"O\",\"X\"))","v":"O"},{"$f":"IF(I54=\"\",\"\",IF(I54<=$AP$1,\"O\",\"X\"))","v":"O"},{"$f":"IF(O54=\"\",\"\",IF(O54<=$AQ$1,\"O\",\"X\"))","v":"O"},{"$f":"IF(M54=\"\",\"\",IF(M54<=$AR$1,\"O\",\"X\"))","v":"O"},"X",{"$f":"IF(OR(F54=\"\",AI54=\"\"),\"\",IF(AND((F54<=85),(AI54>=15)),\"O\",\"X\"))","v":"O"},{"$f":"IF(C54=\"\",\"\",IF(C54>=$AU$1,\"O\",\"X\"))","v":"O"},{"$f":"IF(AO54=\"\",\"\",IF(AND(AO54=\"O\",AP54=\"O\",AR54=\"O\",AT54=\"O\",AU54=\"O\"),\"후보\",\"X\"))","v":"후보"},null,1993,12]
["동춘동 대림3차","93.07",408,64.5,20,53,16,408,16000,4,13000,null,3000,0.8125,800,650,2,1,"계",64,null,null,64.5,20,408,16000,13000,3000,0.8125,800,"계","2/1",null,"동춘동 대림3차",20,"A-","A","A","B+","C","O","O","O","O","X","O","O","후보",null,1993,7]
["동춘동 아주","94.04",348,98.7,30,84.8,26,348,21500,5,18000,null,3500,0.83720930232558144,716.66666666666663,600,3,2,"계",98,null,null,98.7,30,348,21500,18000,3500,0.83720930232558144,716.66666666666663,"계","3/2",null,"동춘동 아주",30,"A-","A","A","B+","C","O","O","O","O","X","O","O","후보",null,1994,4]
["동춘동 연수대우3차","93.12",344,115.1,35,99.1,30,60,28000,3,21000,null,7000,0.75,800,600,3,2,"계","115A",null,null,{"$f":"D57","v":115.1},35,{"$f":"H57","v":60},28000,21000,{"$f":"M57","v":7000},0.75,800,"계","3/2",null,"동춘동 연수대우3차",35,"A-","A","A","B+","C","X","O","O","X","X","X","O","X",null,1993,12]
["동춘동 연수대우3차","93.12",344,116,35,100,30,140,26000,3,21000,null,5000,0.80769230769230771,742.85714285714289,600,4,2,"계","116B",null,null,116,35,140,26000,21000,5000,0.80769230769230771,742.85714285714289,"계","4/2",null,"동춘동 연수대우3차",35,"A-","A","A","B+","C","O","O","O","O","X","X","O","X",null,1993,12]
["동춘동 연수대우3차","93.12",344,157.9,48,134.1,41,84,38000,2,30000,5,8000,0.78947368421052633,791.66666666666663,625,4,2,"계",157,null,null,157.9,48,84,38000,30000,8000,0.78947368421052633,791.66666666666663,"계","4/2",null,"동춘동 연수대우3차",48,"A-","A","A","B+","C","X","O","O","X","X","X","O","X",null,1993,12]
["동춘동 연수대우3차","93.12",344,158.19999999999999,48,134,41,60,38000,3,30000,null,8000,0.78947368421052633,791.66666666666663,625,4,2,"계","158S",null,null,158.19999999999999,48,60,38000,30000,8000,0.78947368421052633,791.66666666666663,"계","4/2",null,"동춘동 연수대우3차",48,"A-","A","A","B+","C","X","O","O","X","X","X","O","X",null,1993,12]
["동춘동 대동","94.05",336,105.1,32,84.6,26,168,25000,5,20000,2,5000,0.8,781.25,625,3,2,"계",105,null,null,{"$f":"D61","v":105.1},{"$f":"E61","v":32},{"$f":"H61","v":168},{"$f":"I61","v":25000},20000,{"$f":"M61","v":5000},{"$f":"N61","v":0.8},{"$f":"O61","v":781.25},"계","3/2",null,"동춘동 대동",32,"A-","A","A","B+","C","O","O","O","O","X","O","O","후보",null,1994,5]
["동춘동 인천연수서해그랑블포레스트","19.04",334,79.400000000000006,24,59.9,18,315,31000,10,25000,null,6000,0.80645161290322576,1291.6666666666667,1041.6666666666667,3,2,"계",79,null,null,79.400000000000006,24,315,31000,25000,{"$f":"M62","v":6000},0.80645161290322576,1291.6666666666667,"계","3/2",null,"동춘동 인천연수서해그랑블포레스트",24,"A-","A","A","B+","C","O","O","X","O","X","O","O","후보",null,2019,4]
["동춘동 인천연수서해그랑블포레스트","19.04",334,103,31,77.8,24,19,34000,null,26000,null,8000,0.76470588235294112,1096.7741935483871,838.70967741935488,3,2,"계",103,null,null,103,31,19,34000,26000,8000,0.76470588235294112,1096.7741935483871,"계","3/2",null,"동춘동 인천연수서해그랑블포레스트",31,"A-","A","A","B+","C","X","O","X","X","X","O","O","X",null,2019,4]
["동춘동 롯데","93.08",320,115.5,35,99.9,30,210,27700,4,23000,null,4700,0.83032490974729245,791.42857142857144,657.14285714285711,3,2,"계",115,null,null,115.5,35,210,27700,23000,4700,0.83032490974729245,791.42857142857144,"계","3/2",null,"동춘동 롯데",35,"A-","A","A","B+","C","O","O","O","O","X","X","O","X",null,1993,8]
["동춘동 롯데","93.08",320,153.5,46,134.69999999999999,41,110,35000,2,25000,null,10000,0.7142857142857143,760.86956521739125,543.47826086956525,4,2,"계",153,null,null,153.5,46,110,35000,25000,10000,0.7142857142857143,760.86956521739125,"계","4/2",null,"동춘동 롯데",46,"A-","A","A","B+","C","X","O","O","X","X","X","O","X",null,1993,8]
["동춘동 동일하이빌파크포레","19.03",281,84.6,26,60,18,181,36000,8,28000,null,8000,0.77777777777777779,1384.6153846153845,1076.9230769230769,3,2,"계",84,null,null,84.6,26,181,36000,28000,8000,0.77777777777777779,1384.6153846153845,"계","3/2",null,"동춘동 동일하이빌파크포레",26,"A-","A","A","B+","C","X","O","X","X","X","O","X","X",null,2019,3]
["동춘동 동일하이빌파크포레","19.03",281,112,34,84.9,26,100,47000,16,35000,null,12000,0.74468085106382975,1382.3529411764705,1029.4117647058824,3,2,"계",111,null,null,112,34,100,47000,35000,12000,0.74468085106382975,1382.3529411764705,"계","3/2",null,"동춘동 동일하이빌파크포레",34,"A-","A","A","B+","C","X","X","X","X","X","O","X","X",null,2019,3]
["동춘동 하나","94.09",264,116.6,35,99.4,30,168,33000,4,28000,null,5000,0.84848484848484851,942.85714285714289,800,4,2,"계",116,null,null,116.6,35,168,33000,28000,5000,0.84848484848484851,942.85714285714289,"계","4/2",null,{"$f":"IF(A68=\"\",\"\",A68)","v":"동춘동 하나"},{"$f":"IF(E68=\"\",\"\",E68)","v":35},"A-","A","A","B+","C","O","O","O","O","X","X","X","X",null,{"$f":"IF(B68=\"\",\"\",_xlfn.NUMBERVALUE(IF(_xlfn.NUMBERVALUE(RIGHT(B68,2))=0.1,IF(_xlfn.NUMBERVALUE(LEFT(RIGHT(B68,4),2))>70,\"19\"&LEFT(RIGHT(B68,4),2),\"20\"&LEFT(RIGHT(B68,4),2)),IF(_xlfn.NUMBERVALUE(LEFT(RIGHT(B68,5),2))>70,\"19\"&LEFT(RIGHT(B68,5),2),\"20\"&LEFT(RIGHT(B68,5),2)))))","v":1994},{"$f":"IF(B68=\"\",\"\",IF(_xlfn.NUMBERVALUE(RIGHT(B68,2))=0.1,1,_xlfn.NUMBERVALUE(RIGHT(B68,2))))","v":9}]
["동춘동 하나","94.09",264,153.19999999999999,46,131.19999999999999,40,96,41000,4,33000,null,8000,0.80487804878048785,891.304347826087,717.39130434782612,4,2,"계",153,null,null,153.19999999999999,46,96,41000,33000,8000,0.80487804878048785,891.304347826087,"계","4/2",null,"동춘동 하나",46,"A-","A","A","B+","C","O","O","O","X","X","X","X","X",null,1994,9]
["동춘동 인천연수서해그랑블3단지","19.09",251,77.400000000000006,23,59.6,18,60,32000,9,24000,null,8000,0.75,1391.304347826087,1043.4782608695652,3,2,"계","77B",null,null,77.400000000000006,23,60,32000,24000,8000,0.75,1391.304347826087,"계","3/2",null,"동춘동 인천연수서해그랑블3단지",23,"A-","A","A","B+","C","X","O","X","X","X","O","X","X",null,2019,9]
["동춘동 인천연수서해그랑블3단지","19.09",251,77.7,24,60,18,191,32000,9,24000,null,8000,0.75,1333.3333333333333,1000,3,2,"계","77A",null,null,77.7,24,191,32000,24000,8000,0.75,1333.3333333333333,"계","3/2",null,"동춘동 인천연수서해그랑블3단지",24,"A-","A","A","B+","C","X","O","X","X","X","O","X","X",null,2019,9]
["선학동 뉴서울1차","92.1",720,102.5,31,84.5,26,540,24500,10,21000,10,3500,0.8571428571428571,790.32258064516134,677.41935483870964,3,2,"계",102,null,null,102.5,31,540,24500,21000,3500,0.8571428571428571,790.32258064516134,"계","3/2",null,"선학동 뉴서울1차",31,"A-","A","C","C","C","O","O","O","O","X","O","O","후보",null,1992,1,null,"20평대",{"$f":"SUMIFS(H:H,AX:AX,\">\"&BB69,E:E,\"<30\",E:E,\">=20\")+SUMIFS(H:H,AX:AX,\"=\"&BB69,AY:AY,\">=\"&AY68,E:E,\"<30\",E:E,\">=20\")","v":0},{"$f":"SUMIFS(H:H,AX:AX,\">\"&BC69,AX:AX,\"<\"&BB69,E:E,\"<30\",E:E,\">=20\")+SUMIFS(H:H,AX:AX,\"=\"&BC69,AY:AY,\">=\"&AY68,E:E,\"<30\",E:E,\">=20\")+SUMIFS(H:H,AX:AX,\"=\"&BB69,AY:AY,\"<\"&AY68,E:E,\"<30\",E:E,\">=20\")","v":0},{"$f":"SUMIFS(H:H,AX:AX,\">\"&BD69,AX:AX,\"<\"&BC69,E:E,\"<30\",E:E,\">=20\")+SUMIFS(H:H,AX:AX,\"=\"&BD69,AY:AY,\">=\"&AY68,E:E,\"<30\",E:E,\">=20\")+SUMIFS(H:H,AX:AX,\"=\"&BC69,AY:AY,\"<\"&AY68,E:E,\"<30\",E:E,\">=20\")","v":0},{"$f":"SUMIFS(H:H,AX:AX,\"<\"&BD69,E:E,\"<30\",E:E,\">=20\")+SUMIFS(H:H,AX:AX,\"=\"&BD69,AY:AY,\"<\"&AY68,E:E,\"<30\",E:E,\">=20\")","v":0},{"$f":"SUM(BB72:BE72)","v":0}]
["선학동 뉴서울1차","92.1",720,147.69999999999999,45,126.9,38,180,28500,8,24000,null,4500,0.84210526315789469,633.33333333333337,533.33333333333337,4,2,"계",147,null,null,147.69999999999999,45,180,28500,24000,4500,0.84210526315789469,633.33333333333337,"계","4/2",null,"선학동 뉴서울1차",45,"A-","A","C","C","C","O","O","O","O","X","X","O","X",null,1992,1,null,"30평대",{"$f":"SUMIFS(H:H,AX:AX,\">\"&BB69,E:E,\"<40\",E:E,\">=30\")+SUMIFS(H:H,AX:AX,\"=\"&BB69,AY:AY,\">=\"&AY68,E:E,\"<40\",E:E,\">=30\")","v":0},{"$f":"SUMIFS(H:H,AX:AX,\">\"&BC69,AX:AX,\"<\"&BB69,E:E,\"<40\",E:E,\">=30\")+SUMIFS(H:H,AX:AX,\"=\"&BC69,AY:AY,\">=\"&AY68,E:E,\"<40\",E:E,\">=30\")+SUMIFS(H:H,AX:AX,\"=\"&BB69,AY:AY,\"<\"&AY68,E:E,\"<40\",E:E,\">=30\")","v":0},{"$f":"SUMIFS(H:H,AX:AX,\">\"&BD69,AX:AX,\"<\"&BC69,E:E,\"<40\",E:E,\">=30\")+SUMIFS(H:H,AX:AX,\"=\"&BD69,AY:AY,\">=\"&AY68,E:E,\"<40\",E:E,\">=30\")+SUMIFS(H:H,AX:AX,\"=\"&BC69,AY:AY,\"<\"&AY68,E:E,\"<40\",E:E,\">=30\")","v":0},{"$f":"SUMIFS(H:H,AX:AX,\"<\"&BD69,E:E,\"<40\",E:E,\">=30\")+SUMIFS(H:H,AX:AX,\"=\"&BD69,AY:AY,\"<\"&AY68,E:E,\"<40\",E:E,\">=30\")","v":0},{"$f":"SUM(BB73:BE73)","v":0}]
["선학동 금호타운","93.01",540,104.4,32,84.9,26,252,28300,4,23000,null,5300,0.8127208480565371,884.375,718.75,3,2,"계",104,null,null,{"$f":"D74","v":104.4},32,{"$f":"H74","v":252},28300,23000,5300,0.8127208480565371,884.375,"계","3/2",null,"선학동 금호타운",32,"A-","A","C","C","C","O","O","O","O","X","O","O","후보",null,1993,1,null,"합계",{"$f":"SUM(BB70:BB73)","v":0},{"$f":"SUM(BC70:BC73)","v":0},{"$f":"SUM(BD70:BD73)","v":0},{"$f":"SUM(BE70:BE73)","v":0},{"$f":"SUM(BB74:BE74)","v":0}]
["선학동 금호타운","93.01",540,122.2,37,101.9,31,216,28500,4,27000,10,1500,0.94736842105263153,770.27027027027032,729.72972972972968,4,2,"계",122,null,null,122.2,37,216,28500,27000,1500,0.94736842105263153,770.27027027027032,"계","4/2",null,"선학동 금호타운",37,"A-","A","C","C","C","O","O","O","O","X","X","O","X",null,1993,1]
["선학동 금호타운","93.01",540,146.6,44,124.1,38,72,34000,9,28000,null,6000,0.82352941176470584,772.72727272727275,636.36363636363637,4,2,"계",146,null,null,146.6,44,72,34000,28000,6000,0.82352941176470584,772.72727272727275,"계","4/2",null,"선학동 금호타운",44,"A-","A","C","C","C","O","O","O","O","X","X","O","X",null,1993,1,null,null,"10년 이하","10~20년","20~30년","30년 이상","합계"]
["선학동 윤성","95.08",423,81.400000000000006,25,59.9,18,248,16500,10,14000,null,2500,0.84848484848484851,660,560,2,1,"복",81,null,null,{"$f":"D77","v":81.400000000000006},{"$f":"E77","v":25},{"$f":"H77","v":248},{"$f":"I77","v":16500},14000,2500,0.84848484848484851,660,"복","2/1",null,"선학동 윤성",25,"A-","A","C","C","C","O","O","O","O","X","O","O","후보",null,1995,8,null,"20평대",{"$f":"BB70/BF73","v":{"$error":"#DIV/0!"}},{"$f":"BC70/BF73","v":{"$error":"#DIV/0!"}},{"$f":"BD70/BF73","v":{"$error":"#DIV/0!"}},{"$f":"BE70/BF73","v":{"$error":"#DIV/0!"}},{"$f":"BF70/BF73","v":{"$error":"#DIV/0!"}}]
["선학동 윤성","95.08",423,103.1,31,84.9,26,175,24000,9,19000,null,5000,0.79166666666666663,774.19354838709683,612.90322580645159,3,2,"계",103,null,null,{"$f":"D78","v":103.1},{"$f":"E78","v":31},{"$f":"H78","v":175},{"$f":"I78","v":24000},19000,{"$f":"M78","v":5000},0.79166666666666663,774.19354838709683,"계","3/2",null,"선학동 윤성",31,"A-","A","C","C","C","X","O","O","O","X","O","O","X",null,1995,8,null,"30평대",{"$f":"BB71/BF73","v":{"$error":"#DIV/0!"}},{"$f":"BC71/BF73","v":{"$error":"#DIV/0!"}},{"$f":"BD71/BF73","v":{"$error":"#DIV/0!"}},{"$f":"BE71/BF73","v":{"$error":"#DIV/0!"}},{"$f":"BF71/BF73","v":{"$error":"#DIV/0!"}}]
["선학동 대동","92.05",390,88.4,27,73.400000000000006,22,60,20600,13,17500,null,3100,0.84951456310679607,762.96296296296293,648.14814814814815,3,1,"계",88,null,null,{"$f":"D79","v":88.4},27,{"$f":"H79","v":60},20600,17500,3100,0.84951456310679607,762.96296296296293,"계","3/1",null,"선학동 대동",27,"A-","A","C","C","C","O","O","O","O","X","O","O","후보",null,1992,5,null,"합계",{"$f":"BB72/BF72","v":{"$error":"#DIV/0!"}},{"$f":"BC72/BF72","v":{"$error":"#DIV/0!"}},{"$f":"BD72/BF72","v":{"$error":"#DIV/0!"}},{"$f":"BE72/BF72","v":{"$error":"#DIV/0!"}},{"$f":"BF72/BF72","v":{"$error":"#DIV/0!"}}]
["선학동 대동","92.05",390,100.3,30,84.1,25,150,23000,6,21500,null,1500,0.93478260869565222,766.66666666666663,716.66666666666663,3,2,"계",100,null,null,100.3,30,150,23000,21500,1500,0.93478260869565222,766.66666666666663,"계","3/2",null,"선학동 대동",30,"A-","A","C","C","C","O","O","O","O","X","O","O","후보",null,1992,5]
["선학동 대동","92.05",390,100.9,31,84.4,26,180,null,null,null,null,0,"",0,0,3,2,"계",100,null,null,100.9,31,180,0,0,{"$f":"M81","v":0},{"$f":"N81","v":""},{"$f":"O81","v":0},"계","3/2",null,{"$f":"IF(A81=\"\",\"\",A81)","v":"선학동 대동"},{"$f":"IF(E81=\"\",\"\",E81)","v":31},"A-","A","C","C","C","","","O","O","X","O","O","",null,1992,5]
["선학동 아주","92.05",390,100.3,30,84.1,25,300,21600,10,21000,9,600,0.97222222222222221,720,700,3,2,"계","100B",null,null,{"$f":"D82","v":100.3},30,{"$f":"H82","v":300},21600,21000,{"$f":"M82","v":600},0.97222222222222221,720,"계","3/2",null,{"$f":"IF(A82=\"\",\"\",A82)","v":"선학동 아주"},{"$f":"IF(E82=\"\",\"\",E82)","v":30},"A-","A","C","C","C","O","O","O","O","X","O","O","후보",null,1992,5]
["선학동 아주","92.05",390,100.9,31,84.4,26,90,21600,null,21000,null,600,0.97222222222222221,696.77419354838707,677.41935483870964,3,2,"계","100A",null,null,100.9,31,90,21600,21000,600,0.97222222222222221,696.77419354838707,"계","3/2",null,{"$f":"IF(A83=\"\",\"\",A83)","v":"선학동 아주"},{"$f":"IF(E83=\"\",\"\",E83)","v":31},"A-","A","C","C","C","O","O","O","O","X","O","O","후보",null,1992,5]
["선학동 대진","91.06",300,81.099999999999994,25,64.400000000000006,19,180,15500,5,13000,null,2500,0.83870967741935487,620,520,2,1,"계",81,null,null,81.099999999999994,25,180,15500,13000,2500,0.83870967741935487,620,"계","2/1",null,{"$f":"IF(A84=\"\",\"\",A84)","v":"선학동 대진"},{"$f":"IF(E84=\"\",\"\",E84)","v":25},"A-","A","C","C","C","O","O","O","O","X","O","O","후보",null,1991,6]
["선학동 대진","91.06",300,107.1,32,84.7,26,120,20000,5,16000,null,4000,0.8,625,500,3,1,"계",107,null,null,107.1,32,120,20000,16000,4000,0.8,625,"계","3/1",null,{"$f":"IF(A85=\"\",\"\",A85)","v":"선학동 대진"},{"$f":"IF(E85=\"\",\"\",E85)","v":32},"A-","A","C","C","C","O","O","O","O","X","O","O","후보",null,1991,6]
["선학동 정광","91.06",300,81.099999999999994,25,64.400000000000006,19,180,16000,5,14000,null,{"$f":"I86-K86","v":2000},{"$f":"IF(ISERROR(K86/I86),\"\",K86/I86)","v":0.875},{"$f":"I86/E86","v":640},{"$f":"K86/E86","v":560},2,1,"계",81,null,null,81.099999999999994,25,180,16000,{"$f":"K86","v":14000},2000,0.875,640,{"$f":"S86","v":"계"},{"$f":"Q86&\"/\"&R86","v":"2/1"},null,{"$f":"IF(A86=\"\",\"\",A86)","v":"선학동 정광"},{"$f":"IF(E86=\"\",\"\",E86)","v":25},{"$f":"IF(AI86=\"\",\"\",$AJ$2)","v":"A-"},"A","C","C",{"$f":"IF(AI86=\"\",\"\",$AN$2)","v":"C"},{"$f":"IF(N86=\"\",\"\",IF(N86>=$AO$1/100,\"O\",\"X\"))","v":"O"},{"$f":"IF(I86=\"\",\"\",IF(I86<=$AP$1,\"O\",\"X\"))","v":"O"},{"$f":"IF(O86=\"\",\"\",IF(O86<=$AQ$1,\"O\",\"X\"))","v":"O"},{"$f":"IF(M86=\"\",\"\",IF(M86<=$AR$1,\"O\",\"X\"))","v":"O"},"X",{"$f":"IF(OR(F86=\"\",AI86=\"\"),\"\",IF(AND((F86<=85),(AI86>=15)),\"O\",\"X\"))","v":"O"},{"$f":"IF(C86=\"\",\"\",IF(C86>=$AU$1,\"O\",\"X\"))","v":"O"},{"$f":"IF(AO86=\"\",\"\",IF(AND(AO86=\"O\",AP86=\"O\",AR86=\"O\",AT86=\"O\",AU86=\"O\"),\"후보\",\"X\"))","v":"후보"},null,1991,6]
["선학동 정광","91.06",300,107.1,32,84.7,26,120,20000,5,16000,null,4000,0.8,625,500,3,1,"계",107,null,null,107.1,32,120,20000,16000,4000,0.8,625,"계","3/1",null,{"$f":"IF(A87=\"\",\"\",A87)","v":"선학동 정광"},{"$f":"IF(E87=\"\",\"\",E87)","v":32},"A-","A","C","C","C","O","O","O","O","X","O","O","후보",null,1991,6]
["선학동 태산","91.06",300,81.099999999999994,25,64.400000000000006,19,180,15500,4,14000,2,1500,0.90322580645161288,620,560,2,1,"계",81,null,null,81.099999999999994,25,180,15500,14000,1500,0.90322580645161288,620,"계","2/1",null,{"$f":"IF(A88=\"\",\"\",A88)","v":"선학동 태산"},{"$f":"IF(E88=\"\",\"\",E88)","v":25},"A-","A","C","C","C","O","O","O","O","X","O","O","후보",null,1991,6]
["선학동 태산","91.06",300,107.1,32,84.7,26,120,20500,4,15500,null,5000,0.75609756097560976,640.625,484.375,3,1,"계",107,null,null,107.1,32,120,20500,15500,5000,0.75609756097560976,640.625,"계","3/1",null,{"$f":"IF(A89=\"\",\"\",A89)","v":"선학동 태산"},{"$f":"IF(E89=\"\",\"\",E89)","v":32},"A-","A","C","C","C","X","O","O","O","X","O","O","X",null,1991,6]
["연수동 우성2차","95.04",2044,56.3,17,40.5,12,528,18500,3,15500,"중",3000,0.83783783783783783,1088.2352941176471,911.76470588235293,2,1,"복",56,null,null,{"$f":"D90","v":56.3},17,{"$f":"H90","v":528},18500,15500,3000,0.83783783783783783,1088.2352941176471,"복","2/1",null,{"$f":"IF(A90=\"\",\"\",A90)","v":"연수동 우성2차"},{"$f":"IF(E90=\"\",\"\",E90)","v":17},"A-","A","B-","B-","C","O","O","X","O","X","O","O","후보",null,1995,4,null,"20평대",{"$f":"SUMIFS(H:H,AX:AX,\">\"&BB87,E:E,\"<30\",E:E,\">=20\")+SUMIFS(H:H,AX:AX,\"=\"&BB87,AY:AY,\">=\"&AY86,E:E,\"<30\",E:E,\">=20\")","v":0},{"$f":"SUMIFS(H:H,AX:AX,\">\"&BC87,AX:AX,\"<\"&BB87,E:E,\"<30\",E:E,\">=20\")+SUMIFS(H:H,AX:AX,\"=\"&BC87,AY:AY,\">=\"&AY86,E:E,\"<30\",E:E,\">=20\")+SUMIFS(H:H,AX:AX,\"=\"&BB87,AY:AY,\"<\"&AY86,E:E,\"<30\",E:E,\">=20\")","v":0},{"$f":"SUMIFS(H:H,AX:AX,\">\"&BD87,AX:AX,\"<\"&BC87,E:E,\"<30\",E:E,\">=20\")+SUMIFS(H:H,AX:AX,\"=\"&BD87,AY:AY,\">=\"&AY86,E:E,\"<30\",E:E,\">=20\")+SUMIFS(H:H,AX:AX,\"=\"&BC87,AY:AY,\"<\"&AY86,E:E,\"<30\",E:E,\">=20\")","v":0},{"$f":"SUMIFS(H:H,AX:AX,\"<\"&BD87,E:E,\"<30\",E:E,\">=20\")+SUMIFS(H:H,AX:AX,\"=\"&BD87,AY:AY,\"<\"&AY86,E:E,\"<30\",E:E,\">=20\")","v":0},{"$f":"SUM(BB90:BE90)","v":0}]
["연수동 우성2차","95.04",2044,77.400000000000006,23,59.6,18,888,29500,9,25000,10,4500,0.84745762711864403,1282.608695652174,1086.9565217391305,3,1,"계",77,null,null,77.400000000000006,23,888,29500,25000,4500,0.84745762711864403,1282.608695652174,"계","3/1",null,"연수동 우성2차",23,"A-","A","B-","B-","C","O","O","X","O","X","O","O","후보",null,1995,4,null,"30평대",{"$f":"SUMIFS(H:H,AX:AX,\">\"&BB87,E:E,\"<40\",E:E,\">=30\")+SUMIFS(H:H,AX:AX,\"=\"&BB87,AY:AY,\">=\"&AY86,E:E,\"<40\",E:E,\">=30\")","v":0},{"$f":"SUMIFS(H:H,AX:AX,\">\"&BC87,AX:AX,\"<\"&BB87,E:E,\"<40\",E:E,\">=30\")+SUMIFS(H:H,AX:AX,\"=\"&BC87,AY:AY,\">=\"&AY86,E:E,\"<40\",E:E,\">=30\")+SUMIFS(H:H,AX:AX,\"=\"&BB87,AY:AY,\"<\"&AY86,E:E,\"<40\",E:E,\">=30\")","v":0},{"$f":"SUMIFS(H:H,AX:AX,\">\"&BD87,AX:AX,\"<\"&BC87,E:E,\"<40\",E:E,\">=30\")+SUMIFS(H:H,AX:AX,\"=\"&BD87,AY:AY,\">=\"&AY86,E:E,\"<40\",E:E,\">=30\")+SUMIFS(H:H,AX:AX,\"=\"&BC87,AY:AY,\"<\"&AY86,E:E,\"<40\",E:E,\">=30\")","v":0},{"$f":"SUMIFS(H:H,AX:AX,\"<\"&BD87,E:E,\"<40\",E:E,\">=30\")+SUMIFS(H:H,AX:AX,\"=\"&BD87,AY:AY,\"<\"&AY86,E:E,\"<40\",E:E,\">=30\")","v":0},{"$f":"SUM(BB91:BE91)","v":0}]
["연수동 우성2차","95.04",2044,104.2,32,84.8,26,628,36000,6,28000,18,8000,0.77777777777777779,1125,875,3,2,"계",104,null,null,104.2,32,628,36000,28000,8000,0.77777777777777779,1125,"계","3/2",null,"연수동 우성2차",32,"A-","A","B-","B-","C","X","O","X","X","X","O","O","X",null,1995,4,null,"40평대↑",{"$f":"SUMIFS(H:H,AX:AX,\">\"&BB87,E:E,\">=40\")+SUMIFS(H:H,AX:AX,\"=\"&BB87,AY:AY,\">=\"&AY86,E:E,\">=40\")","v":0},{"$f":"SUMIFS(H:H,AX:AX,\">\"&BC87,AX:AX,\"<\"&BB87,E:E,\">=40\")+SUMIFS(H:H,AX:AX,\"=\"&BC87,AY:AY,\">=\"&AY86,E:E,\">=40\")+SUMIFS(H:H,AX:AX,\"=\"&BB87,AY:AY,\"<\"&AY86,E:E,\">=40\")","v":0},{"$f":"SUMIFS(H:H,AX:AX,\">\"&BD87,AX:AX,\"<\"&BC87,E:E,\">=40\")+SUMIFS(H:H,AX:AX,\"=\"&BD87,AY:AY,\">=\"&AY86,E:E,\">=40\")+SUMIFS(H:H,AX:AX,\"=\"&BC87,AY:AY,\"<\"&AY86,E:E,\">=40\")","v":0},{"$f":"SUMIFS(H:H,AX:AX,\"<\"&BD87,E:E,\">=40\")+SUMIFS(H:H,AX:AX,\"=\"&BD87,AY:AY,\"<\"&AY86,E:E,\">=40\")","v":0},{"$f":"SUM(BB92:BE92)","v":0}]
["연수동 솔밭마을","93.05",1200,69.8,21,49.6,15,1200,15900,6,15000,3,900,0.94339622641509435,757.14285714285711,714.28571428571433,2,1,"복",69,null,null,{"$f":"D93","v":69.8},{"$f":"E93","v":21},{"$f":"H93","v":1200},{"$f":"I93","v":15900},15000,{"$f":"M93","v":900},0.94339622641509435,757.14285714285711,"복","2/1",null,"연수동 솔밭마을",21,"A-","A","B-","B-","C","O","O","O","O","X","O","O","후보",null,1993,5]
["연수동 연수주공3단지","93.11",1170,61.3,19,44.7,14,1170,14000,7,13000,3,1000,0.9285714285714286,736.84210526315792,684.21052631578948,2,1,"복",61,null,null,{"$f":"D94","v":61.3},{"$f":"E94","v":19},{"$f":"H94","v":1170},{"$f":"I94","v":14000},13000,1000,0.9285714285714286,736.84210526315792,"복","2/1",null,"연수동 연수주공3단지",19,"A-","A","B-","B-","C","O","O","O","O","X","O","O","후보",null,1993,11,null,"10평대",{"$f":"BB87/BF91","v":{"$error":"#DIV/0!"}},{"$f":"BC87/BF91","v":{"$error":"#DIV/0!"}},{"$f":"BD87/BF91","v":{"$error":"#DIV/0!"}},{"$f":"BE87/BF91","v":{"$error":"#DIV/0!"}},{"$f":"BF87/BF91","v":{"$error":"#DIV/0!"}}]
["연수동 연수우성1차","94.09",1088,126.4,38,102,31,714,35000,4,29000,15,6000,0.82857142857142863,921.0526315789474,763.15789473684208,4,2,"계",126,null,null,{"$f":"D95","v":126.4},38,{"$f":"H95","v":714},35000,29000,{"$f":"M95","v":6000},0.82857142857142863,921.0526315789474,"계","4/2",null,"연수동 연수우성1차",38,"A-","A","B-","B-","C","O","O","O","O","X","X","O","X",null,1994,9,null,"30평대",{"$f":"BB88/BF90","v":{"$error":"#DIV/0!"}},{"$f":"BC88/BF90","v":{"$error":"#DIV/0!"}},{"$f":"BD88/BF90","v":{"$error":"#DIV/0!"}},{"$f":"BE88/BF90","v":{"$error":"#DIV/0!"}},{"$f":"BF88/BF90","v":{"$error":"#DIV/0!"}}]
["연수동 연수우성1차","94.09",1088,159.4,48,131.9,40,72,45000,"고",31000,null,14000,0.68888888888888888,937.5,645.83333333333337,4,2,"계",159,null,null,159.4,48,72,45000,31000,14000,0.68888888888888888,937.5,"계","4/2",null,"연수동 연수우성1차",48,"A-","A","B-","B-","C","X","O","O","X","X","X","O","X",null,1994,9,null,"40평대↑",{"$f":"BB89/BF90","v":{"$error":"#DIV/0!"}},{"$f":"BC89/BF90","v":{"$error":"#DIV/0!"}},{"$f":"BD89/BF90","v":{"$error":"#DIV/0!"}},{"$f":"BE89/BF90","v":{"$error":"#DIV/0!"}},{"$f":"BF89/BF90","v":{"$error":"#DIV/0!"}}]
["연수동 연수우성1차","94.09",1088,161.30000000000001,49,133.6,40,178,38000,4,31000,null,7000,0.81578947368421051,775.51020408163265,632.65306122448976,4,2,"계",161,null,null,161.30000000000001,49,178,38000,31000,7000,0.81578947368421051,775.51020408163265,"계","4/2",null,"연수동 연수우성1차",49,"A-","A","B-","B-","C","O","O","O","X","X","X","O","X",null,1994,9,null,"합계",{"$f":"BB90/BF90","v":{"$error":"#DIV/0!"}},{"$f":"BC90/BF90","v":{"$error":"#DIV/0!"}},{"$f":"BD90/BF90","v":{"$error":"#DIV/0!"}},{"$f":"BE90/BF90","v":{"$error":"#DIV/0!"}},{"$f":"BF90/BF90","v":{"$error":"#DIV/0!"}}]
["연수동 연수우성1차","94.09",1088,189.7,57,160,48,124,45000,6,32000,null,13000,0.71111111111111114,789.47368421052636,561.40350877192986,5,2,"계",189,null,null,189.7,57,124,45000,32000,13000,0.71111111111111114,789.47368421052636,"계","5/2",null,"연수동 연수우성1차",57,"A-","A","B-","B-","C","X","O","O","X","X","X","O","X",null,1994,9]
["연수동 승기마을","92.05",1000,38,12,26.8,8,1000,8500,6,8500,null,0,1,708.33333333333337,708.33333333333337,1,1,"복",38,null,null,{"$f":"D99","v":38},12,{"$f":"H99","v":1000},8500,8500,{"$f":"M99","v":0},{"$f":"N99","v":1},{"$f":"O99","v":708.33333333333337},"복","1/1",null,"연수동 승기마을",12,"A-","A","B-","B-","C","O","O","O","O","X","X","O","X",null,1992,5]
["연수동 연수주공2단지","92.06",960,60.3,18,41.3,12,240,13500,10,12500,7,1000,0.92592592592592593,750,694.44444444444446,2,1,"복",60,null,null,60.3,18,240,13500,12500,{"$f":"M100","v":1000},0.92592592592592593,750,"복","2/1",null,"연수동 연수주공2단지",18,"A-","A","B-","B-","C","O","O","O","O","X","O","O","후보",null,1992,6]
["연수동 연수주공2단지","92.06",960,73,22,49.9,15,720,16000,6,15000,6,1000,0.9375,727.27272727272725,681.81818181818187,2,1,"복",72,null,null,73,22,720,16000,15000,1000,0.9375,727.27272727272725,"복","2/1",null,"연수동 연수주공2단지",22,"A-","A","B-","B-","C","O","O","O","O","X","O","O","후보",null,1992,6]
["연수동 연수유천","93.09",788,77.2,23,60.1,18,234,20000,9,18000,null,2000,0.9,869.56521739130437,782.60869565217388,3,1,"계",77,null,null,77.2,23,234,20000,18000,2000,0.9,869.56521739130437,"계","3/1",null,"연수동 연수유천",23,"A-","A","B-","B-","C","O","O","O","O","X","O","O","후보",null,1993,9]
["연수동 연수유천","93.09",788,103.7,31,84.9,26,554,24500,11,21000,9,3500,0.8571428571428571,790.32258064516134,677.41935483870964,3,2,"계",103,null,null,103.7,31,554,24500,21000,3500,0.8571428571428571,790.32258064516134,"계","3/2",null,"연수동 연수유천",31,"A-","A","B-","B-","C","O","O","O","O","X","O","O","후보",null,1993,9]
["연수동 연수풍림1차","92.03",769,87.5,26,69.7,21,164,24000,12,22000,null,2000,0.91666666666666663,923.07692307692309,846.15384615384619,3,1,"계",87,null,null,{"$f":"D104","v":87.5},26,{"$f":"H104","v":164},24000,22000,2000,0.91666666666666663,923.07692307692309,"계","3/1",null,"연수동 연수풍림1차",26,"A-","A","B-","B-","C","O","O","O","O","X","O","O","후보",null,1992,3]
["연수동 연수풍림1차","92.03",769,103.4,31,84.8,26,270,25000,7,22000,12,3000,0.88,806.45161290322585,709.67741935483866,3,2,"계",103,null,null,103.4,31,270,25000,22000,3000,0.88,806.45161290322585,"계","3/2",null,"연수동 연수풍림1차",31,"A-","A","B-","B-","C","O","O","O","O","X","O","O","후보",null,1992,3]
["연수동 연수풍림1차","92.03",769,104.8,32,85,26,335,26000,5,24500,8,1500,0.94230769230769229,812.5,765.625,3,2,"계","104S",null,null,104.8,32,335,26000,24500,1500,0.94230769230769229,812.5,"계","3/2",null,"연수동 연수풍림1차",32,"A-","A","B-","B-","C","O","O","O","O","X","O","O","후보",null,1992,3]
["연수동 대동","93.05",768,72.400000000000006,22,52.1,16,384,23000,12,18500,10,4500,0.80434782608695654,1045.4545454545455,840.90909090909088,3,1,"계",72,null,null,{"$f":"D107","v":72.400000000000006},{"$f":"E107","v":22},{"$f":"H107","v":384},{"$f":"I107","v":23000},18500,4500,0.80434782608695654,1045.4545454545455,"계","3/1",null,"연수동 대동",22,"A-","A","B-","B-","C","O","O","X","O","X","O","O","후보",null,1993,5]
["연수동 대동","93.05",768,94.8,29,75.099999999999994,23,384,30500,9,24000,9,6500,0.78688524590163933,1051.7241379310344,827.58620689655174,3,1,"계",94,null,null,94.8,29,384,30500,24000,6500,0.78688524590163933,1051.7241379310344,"계","3/1",null,"연수동 대동",29,"A-","A","B-","B-","C","X","O","X","X","X","O","O","X",null,1993,5]
["연수동 대림","93.05",640,77.8,24,62.5,19,240,25500,10,23000,9,2500,0.90196078431372551,1062.5,958.33333333333337,3,1,"계",77,null,null,77.8,24,240,25500,23000,2500,0.90196078431372551,1062.5,"계","3/1",null,"연수동 대림",24,"A-","A","B-","B-","C","O","O","X","O","X","O","O","후보",null,1993,5]
["연수동 대림","93.05",640,105.2,32,84.8,26,400,30000,null,23000,7,7000,0.76666666666666672,937.5,718.75,3,2,"계",105,null,null,105.2,32,400,30000,23000,7000,0.76666666666666672,937.5,"계","3/2",null,"연수동 대림",32,"A-","A","B-","B-","C","X","O","O","X","X","O","O","X",null,1993,5]
["연수동 영남","92.12",622,106.2,32,84.8,26,336,20000,5,17000,6,3000,0.85,625,531.25,3,2,"계","106A",null,null,106.2,32,336,20000,17000,3000,0.85,625,"계","3/2",null,"연수동 영남",32,"A-","A","B-","B-","C","O","O","O","O","X","O","O","후보",null,1992,12]
["연수동 영남","92.12",622,106.6,32,84.9,26,286,20000,null,17000,null,3000,0.85,625,531.25,3,2,"계","106B",null,null,106.6,32,286,20000,17000,3000,0.85,625,"계","3/2",null,"연수동 영남",32,"A-","A","B-","B-","C","O","O","O","O","X","O","O","후보",null,1992,12]
["연수동 연수경남","93.05",620,89.3,27,70.3,21,246,25000,10,22000,9,3000,0.88,925.92592592592598,814.81481481481478,3,1,"계",89,null,null,89.3,27,246,25000,22000,3000,0.88,925.92592592592598,"계","3/1",null,"연수동 연수경남",27,"A-","A","B-","B-","C","O","O","O","O","X","O","O","후보",null,1993,5]
["연수동 연수경남","93.05",620,104.7,32,84.9,26,374,27000,7,22000,12,5000,0.81481481481481477,843.75,687.5,3,2,"계",104,null,null,104.7,32,374,27000,22000,5000,0.81481481481481477,843.75,"계","3/2",null,"연수동 연수경남",32,"A-","A","B-","B-","C","O","O","O","O","X","O","O","후보",null,1993,5]
["연수동 세경","97.08",567,46.7,14,36.299999999999997,11,72,11700,10,9500,null,2200,0.81196581196581197,835.71428571428567,678.57142857142856,1,1,"계",46,null,null,46.7,14,72,11700,9500,2200,0.81196581196581197,835.71428571428567,"계","1/1",null,"연수동 세경",14,"A-","A","B-","B-","C","O","O","O","O","X","X","O","X",null,1997,8]
["연수동 세경","97.08",567,66.599999999999994,20,51.8,16,495,16000,11,13000,1,3000,0.8125,800,650,2,1,"계",66,null,null,66.599999999999994,20,495,16000,13000,{"$f":"M116","v":3000},0.8125,800,"계","2/1",null,"연수동 세경",20,"A-","A","B-","B-","C","O","O","O","O","X","O","O","후보",null,1997,8]
["연수동 태산","94.05",420,105.3,32,84.6,26,420,25000,6,22000,2,3000,0.88,781.25,687.5,3,2,"계",105,null,null,105.3,32,420,25000,22000,{"$f":"M117","v":3000},{"$f":"N117","v":0.88},{"$f":"O117","v":781.25},"계","3/2",null,"연수동 태산",32,"A-","A","B-","B-","C","O","O","O","O","X","O","O","후보",null,1994,5]
["연수동 동남","94.02",420,111.5,34,91.7,28,210,27000,5,20500,null,{"$f":"I118-K118","v":6500},{"$f":"IF(ISERROR(K118/I118),\"\",K118/I118)","v":0.7592592592592593},{"$f":"I118/E118","v":794.11764705882354},{"$f":"K118/E118","v":602.94117647058829},3,2,"계",111,null,null,{"$f":"D118","v":111.5},34,{"$f":"H118","v":210},27000,{"$f":"K118","v":20500},{"$f":"M118","v":6500},0.7592592592592593,794.11764705882354,{"$f":"S118","v":"계"},{"$f":"Q118&\"/\"&R118","v":"3/2"},null,"연수동 동남",34,{"$f":"IF(AI118=\"\",\"\",$AJ$2)","v":"A-"},"A","B-","B-",{"$f":"IF(AI118=\"\",\"\",$AN$2)","v":"C"},{"$f":"IF(N118=\"\",\"\",IF(N118>=$AO$1/100,\"O\",\"X\"))","v":"X"},{"$f":"IF(I118=\"\",\"\",IF(I118<=$AP$1,\"O\",\"X\"))","v":"O"},{"$f":"IF(O118=\"\",\"\",IF(O118<=$AQ$1,\"O\",\"X\"))","v":"O"},{"$f":"IF(M118=\"\",\"\",IF(M118<=$AR$1,\"O\",\"X\"))","v":"X"},"X",{"$f":"IF(OR(F118=\"\",AI118=\"\"),\"\",IF(AND((F118<=85),(AI118>=15)),\"O\",\"X\"))","v":"X"},{"$f":"IF(C118=\"\",\"\",IF(C118>=$AU$1,\"O\",\"X\"))","v":"O"},{"$f":"IF(AO118=\"\",\"\",IF(AND(AO118=\"O\",AP118=\"O\",AR118=\"O\",AT118=\"O\",AU118=\"O\"),\"후보\",\"X\"))","v":"X"},null,1994,2]
["연수동 동남","94.02",420,125.8,38,104.9,32,150,27500,14,21500,null,6000,0.78181818181818186,723.68421052631584,565.78947368421052,4,2,"계",125,null,null,125.8,38,150,27500,21500,6000,0.78181818181818186,723.68421052631584,"계","4/2",null,"연수동 동남",38,"A-","A","B-","B-","C","X","O","O","O","X","X","O","X",null,1994,2]
["연수동 동남","94.02",420,146.5,44,124.1,38,60,32000,12,22500,null,9500,0.703125,727.27272727272725,511.36363636363637,4,2,"계",146,null,null,146.5,44,60,32000,22500,9500,0.703125,727.27272727272725,"계","4/2",null,"연수동 동남",44,"A-","A","B-","B-","C","X","O","O","X","X","X","O","X",null,1994,2]
["연수동 성일","94.1",414,54.7,17,39.700000000000003,12,192,13000,6,12500,6,500,0.96153846153846156,764.70588235294122,735.29411764705878,2,1,"복",54,null,null,{"$f":"D121","v":54.7},{"$f":"E121","v":17},{"$f":"H121","v":192},{"$f":"I121","v":13000},12500,500,0.96153846153846156,764.70588235294122,"복","2/1",null,"연수동 성일",17,"A-","A","B-","B-","C","O","O","O","O","X","O","O","후보",null,1994,1]
["연수동 성일","94.1",414,81.8,25,59.8,18,222,17000,9,15000,null,2000,0.88235294117647056,680,600,3,1,"복",81,null,null,81.8,25,222,17000,15000,2000,0.88235294117647056,680,"복","3/1",null,"연수동 성일",25,"A-","A","B-","B-","C","O","O","O","O","X","O","O","후보",null,1994,1]
["연수동 문남마을","94.12",400,59.7,18,49.2,15,400,15000,4,13000,5,2000,0.8666666666666667,833.33333333333337,722.22222222222217,2,1,"계",59,null,null,59.7,18,400,15000,13000,{"$f":"M123","v":2000},{"$f":"N123","v":0.8666666666666667},{"$f":"O123","v":833.33333333333337},"계","2/1",null,"연수동 문남마을",18,"A-","A","B-","B-","C","O","O","O","O","X","O","O","후보",null,1994,12]
["연수동 대우","92.06",390,120.9,37,101.8,31,271,29500,6,23500,null,6000,0.79661016949152541,797.29729729729729,635.1351351351351,4,2,"계",120,null,null,120.9,37,271,29500,23500,{"$f":"M124","v":6000},0.79661016949152541,797.29729729729729,"계","4/2",null,"연수동 대우",37,"A-","A","B-","B-","C","X","O","O","O","X","X","O","X",null,1992,6]
["연수동 대우","92.06",390,149.6,45,127.9,39,119,30500,8,26500,null,4000,0.86885245901639341,677.77777777777783,588.88888888888891,4,2,"계",149,null,null,149.6,45,119,30500,26500,4000,0.86885245901639341,677.77777777777783,"계","4/2",null,"연수동 대우",45,"A-","A","B-","B-","C","O","O","O","O","X","X","O","X",null,1992,6]
["연수동 연수시영1차","92.05",370,62.5,19,44.2,13,150,14500,5,13000,null,1500,0.89655172413793105,763.15789473684208,684.21052631578948,2,1,"복",62,null,null,62.5,19,150,14500,13000,1500,0.89655172413793105,763.15789473684208,"복","2/1",null,"연수동 연수시영1차",19,"A-","A","B-","B-","C","O","O","O","O","X","O","O","후보",null,1992,5]
["연수동 연수시영1차","92.05",370,70.3,21,50.7,15,220,16500,6,15000,13,1500,0.90909090909090906,785.71428571428567,714.28571428571433,2,1,"복",70,null,null,70.3,21,220,16500,15000,1500,0.90909090909090906,785.71428571428567,"복","2/1",null,"연수동 연수시영1차",21,"A-","A","B-","B-","C","O","O","O","O","X","O","O","후보",null,1992,5]
["연수동 효정","94.03",312,102.6,31,85,26,312,23500,11,22000,5,1500,0.93617021276595747,758.06451612903231,709.67741935483866,3,2,"계",102,null,null,102.6,31,312,23500,22000,{"$f":"M128","v":1500},0.93617021276595747,758.06451612903231,"계","3/2",null,"연수동 효정",31,"A-","A","B-","B-","C","O","O","O","O","X","O","O","후보",null,1994,3]
["연수동 우주","92.06",230,109.1,33,85,26,230,20200,4,17000,4,3200,0.84158415841584155,612.12121212121212,515.15151515151513,3,2,"계",109,null,null,109.1,33,230,20200,17000,3200,0.84158415841584155,612.12121212121212,"계","3/2",null,"연수동 우주",33,"A-","A","B-","B-","C","O","O","O","O","X","O","X","X",null,1992,6]
["연수동 인향","92.06",220,109.1,33,85,26,220,20500,3,16000,4,4500,0.78048780487804881,621.21212121212125,484.84848484848487,3,2,"계",109,null,null,109.1,33,220,20500,16000,4500,0.78048780487804881,621.21212121212125,"계","3/2",null,"연수동 인향",{"$f":"IF(E130=\"\",\"\",E130)","v":33},"A-","A","B-","B-","C","X","O","O","O","X","O","X","X",null,1992,6]
["연수동 태경","92.07",220,109.8,33,84.9,26,220,20700,3,16000,null,4700,0.77294685990338163,627.27272727272725,484.84848484848487,3,2,"계",109,null,null,109.8,33,220,20700,16000,4700,0.77294685990338163,627.27272727272725,"계","3/2",null,{"$f":"IF(A131=\"\",\"\",A131)","v":"연수동 태경"},{"$f":"IF(E131=\"\",\"\",E131)","v":33},"A-","A","B-","B-","C","X","O","O","O","X","O","X","X",null,1992,7]
[null,null,null,null,null,null,null,null,null,null,null,null,null,null,null,null,null,null,null,null,null,null,null,null,null,null,null,null,null,null,null,null,null,null,null,null,null,null,null,null,null,null,null,null,null,null,null,null,null,2011,4]
[null,null,null,null,null,null,null,null,null,null,null,null,null,null,null,null,null,null,null,null,null,null,null,null,null,null,null,null,null,null,null,null,null,null,null,null,null,null,null,null,null,null,null,null,null,null,null,null,null,2011,4]
[null,null,null,null,null,null,null,null,null,null,null,null,null,null,null,null,null,null,null,null,null,null,null,null,null,null,null,null,null,null,null,null,null,null,null,null,null,null,null,null,null,null,null,null,null,null,null,null,null,2011,4]
[null,null,null,null,null,null,null,null,null,null,null,null,null,null,null,null,null,null,null,null,null,null,null,null,null,null,null,null,null,null,null,null,null,null,null,null,null,null,null,null,null,null,null,null,null,null,null,null,null,2015,7]
[null,null,null,null,null,null,null,null,null,null,null,null,null,null,null,null,null,null,null,null,null,null,null,null,null,null,null,null,null,null,null,null,null,null,null,null,null,null,null,null,null,null,null,null,null,null,null,null,null,2015,7]
[null,null,null,null,null,null,null,null,null,null,null,null,null,null,null,null,null,null,null,null,null,null,null,null,null,null,null,null,null,null,null,null,null,null,null,null,null,null,null,null,null,null,null,null,null,null,null,null,null,2015,7]
[null,null,null,null,null,null,null,null,null,null,null,null,null,null,null,null,null,null,null,null,null,null,null,null,null,null,null,null,null,null,null,null,null,null,null,null,null,null,null,null,null,null,null,null,null,null,null,null,null,2012,5]
[null,null,null,null,null,null,null,null,null,null,null,null,null,null,null,null,null,null,null,null,null,null,null,null,null,null,null,null,null,null,null,null,null,null,null,null,null,null,null,null,null,null,null,null,null,null,null,null,null,2012,5]
[null,null,null,null,null,null,null,null,null,null,null,null,null,null,null,null,null,null,null,null,null,null,null,null,null,null,null,null,null,null,null,null,null,null,null,null,null,null,null,null,null,null,null,null,null,null,null,null,null,2012,5]
[null,null,null,null,null,null,null,null,null,null,null,null,null,null,null,null,null,null,null,null,null,null,null,null,null,null,null,null,null,null,null,null,null,null,null,null,null,null,null,null,null,null,null,null,null,null,null,null,null,2012,5]
[null,null,null,null,null,null,null,null,null,null,null,null,null,null,null,null,null,null,null,null,null,null,null,null,null,null,null,null,null,null,null,null,null,null,null,null,null,null,null,null,null,null,null,null,null,null,null,null,null,2011,2]
[null,null,null,null,null,null,null,null,null,null,null,null,null,null,null,null,null,null,null,null,null,null,null,null,null,null,null,null,null,null,null,null,null,null,null,null,null,null,null,null,null,null,null,null,null,null,null,null,null,2011,2]
[null,null,null,null,null,null,null,null,null,null,null,null,null,null,null,null,null,null,null,null,null,null,null,null,null,null,null,null,null,null,null,null,null,null,null,null,null,null,null,null,null,null,null,null,null,null,null,null,null,2011,2]
[null,null,null,null,null,null,null,null,null,null,null,null,null,null,null,null,null,null,null,null,null,null,null,null,null,null,null,null,null,null,null,null,null,null,null,null,null,null,null,null,null,null,null,null,null,null,null,null,null,2012,7]
[null,null,null,null,null,null,null,null,null,null,null,null,null,null,null,null,null,null,null,null,null,null,null,null,null,null,null,null,null,null,null,null,null,null,null,null,null,null,null,null,null,null,null,null,null,null,null,null,null,2012,7]
[null,null,null,null,null,null,null,null,null,null,null,null,null,null,null,null,null,null,null,null,null,null,null,null,null,null,null,null,null,null,null,null,null,null,null,null,null,null,null,null,null,null,null,null,null,null,null,null,null,2012,7]
[null,null,null,null,null,null,null,null,null,null,null,null,null,null,null,null,null,null,null,null,null,null,null,null,null,null,null,null,null,null,null,null,null,null,null,null,null,null,null,null,null,null,null,null,null,null,null,null,null,2012,7]
[null,null,null,null,null,null,null,null,null,null,null,null,null,null,null,null,null,null,null,null,null,null,null,null,null,null,null,null,null,null,null,null,null,null,null,null,null,null,null,null,null,null,null,null,null,null,null,null,null,2011,2]
[null,null,null,null,null,null,null,null,null,null,null,null,null,null,null,null,null,null,null,null,null,null,null,null,null,null,null,null,null,null,null,null,null,null,null,null,null,null,null,null,null,null,null,null,null,null,null,null,null,2011,2]
[null,null,null,null,null,null,null,null,null,null,null,null,null,null,null,null,null,null,null,null,null,null,null,null,null,null,null,null,null,null,null,null,null,null,null,null,null,null,null,null,null,null,null,null,null,null,null,null,null,2011,2]
[null,null,null,null,null,null,null,null,null,null,null,null,null,null,null,null,null,null,null,null,null,null,null,null,null,null,null,null,null,null,null,null,null,null,null,null,null,null,null,null,null,null,null,null,null,null,null,null,null,2011,2]
[null,null,null,null,null,null,null,null,null,null,null,null,null,null,null,null,null,null,null,null,null,null,null,null,null,null,null,null,null,null,null,null,null,null,null,null,null,null,null,null,null,null,null,null,null,null,null,null,null,2011,2]
[null,null,null,null,null,null,null,null,null,null,null,null,null,null,null,null,null,null,null,null,null,null,null,null,null,null,null,null,null,null,null,null,null,null,null,null,null,null,null,null,null,null,null,null,null,null,null,null,null,2009,9]
[null,null,null,null,null,null,null,null,null,null,null,null,null,null,null,null,null,null,null,null,null,null,null,null,null,null,null,null,null,null,null,null,null,null,null,null,null,null,null,null,null,null,null,null,null,null,null,null,null,2009,9]
[null,null,null,null,null,null,null,null,null,null,null,null,null,null,null,null,null,null,null,null,null,null,null,null,null,null,null,null,null,null,null,null,null,null,null,null,null,null,null,null,null,null,null,null,null,null,null,null,null,2009,9]
[null,null,null,null,null,null,null,null,null,null,null,null,null,null,null,null,null,null,null,null,null,null,null,null,null,null,null,null,null,null,null,null,null,null,null,null,null,null,null,null,null,null,null,null,null,null,null,null,null,2009,9]
[null,null,null,null,null,null,null,null,null,null,null,null,null,null,null,null,null,null,null,null,null,null,null,null,null,null,null,null,null,null,null,null,null,null,null,null,null,null,null,null,null,null,null,null,null,null,null,null,null,2009,9]
[null,null,null,null,null,null,null,null,null,null,null,null,null,null,null,null,null,null,null,null,null,null,null,null,null,null,null,null,null,null,null,null,null,null,null,null,null,null,null,null,null,null,null,null,null,null,null,null,null,2010,3]
[null,null,null,null,null,null,null,null,null,null,null,null,null,null,null,null,null,null,null,null,null,null,null,null,null,null,null,null,null,null,null,null,null,null,null,null,null,null,null,null,null,null,null,null,null,null,null,null,null,2010,3]
[null,null,null,null,null,null,null,null,null,null,null,null,null,null,null,null,null,null,null,null,null,null,null,null,null,null,null,null,null,null,null,null,null,null,null,null,null,null,null,null,null,null,null,null,null,null,null,null,null,2010,3]
[null,null,null,null,null,null,null,null,null,null,null,null,null,null,null,null,null,null,null,null,null,null,null,null,null,null,null,null,null,null,null,null,null,null,null,null,null,null,null,null,null,null,null,null,null,null,null,null,null,2010,3]
[null,null,null,null,null,null,null,null,null,null,null,null,null,null,null,null,null,null,null,null,null,null,null,null,null,null,null,null,null,null,null,null,null,null,null,null,null,null,null,null,null,null,null,null,null,null,null,null,null,2005,6]
[null,null,null,null,null,null,null,null,null,null,null,null,null,null,null,null,null,null,null,null,null,null,null,null,null,null,null,null,null,null,null,null,null,null,null,null,null,null,null,null,null,null,null,null,null,null,null,null,null,2005,6]
[null,null,null,null,null,null,null,null,null,null,null,null,null,null,null,null,null,null,null,null,null,null,null,null,null,null,null,null,null,null,null,null,null,null,null,null,null,null,null,null,null,null,null,null,null,null,null,null,null,2005,6]
[null,null,null,null,null,null,null,null,null,null,null,null,null,null,null,null,null,null,null,null,null,null,null,null,null,null,null,null,null,null,null,null,null,null,null,null,null,null,null,null,null,null,null,null,null,null,null,null,null,2005,3]
[null,null,null,null,null,null,null,null,null,null,null,null,null,null,null,null,null,null,null,null,null,null,null,null,null,null,null,null,null,null,null,null,null,null,null,null,null,null,null,null,null,null,null,null,null,null,null,null,null,2005,3]
[null,null,null,null,null,null,null,null,null,null,null,null,null,null,null,null,null,null,null,null,null,null,null,null,null,null,null,null,null,null,null,null,null,null,null,null,null,null,null,null,null,null,null,null,null,null,null,null,null,2005,7]
[null,null,null,null,null,null,null,null,null,null,null,null,null,null,null,null,null,null,null,null,null,null,null,null,null,null,null,null,null,null,null,null,null,null,null,null,null,null,null,null,null,null,null,null,null,null,null,null,null,2015,8]
[null,null,null,null,null,null,null,null,null,null,null,null,null,null,null,null,null,null,null,null,null,null,null,null,null,null,null,null,null,null,null,null,null,null,null,null,null,null,null,null,null,null,null,null,null,null,null,null,null,2015,8]
[null,null,null,null,null,null,null,null,null,null,null,null,null,null,null,null,null,null,null,null,null,null,null,null,null,null,null,null,null,null,null,null,null,null,null,null,null,null,null,null,null,null,null,null,null,null,null,null,null,2015,8]
[null,null,null,null,null,null,null,null,null,null,null,null,null,null,null,null,null,null,null,null,null,null,null,null,null,null,null,null,null,null,null,null,null,null,null,null,null,null,null,null,null,null,null,null,null,null,null,null,null,2015,8]
[null,null,null,null,null,null,null,null,null,null,null,null,null,null,null,null,null,null,null,null,null,null,null,null,null,null,null,null,null,null,null,null,null,null,null,null,null,null,null,null,null,null,null,null,null,null,null,null,null,2012,7]
[null,null,null,null,null,null,null,null,null,null,null,null,null,null,null,null,null,null,null,null,null,null,null,null,null,null,null,null,null,null,null,null,null,null,null,null,null,null,null,null,null,null,null,null,null,null,null,null,null,2012,7]
[null,null,null,null,null,null,null,null,null,null,null,null,null,null,null,null,null,null,null,null,null,null,null,null,null,null,null,null,null,null,null,null,null,null,null,null,null,null,null,null,null,null,null,null,null,null,null,null,null,2012,7]
[null,null,null,null,null,null,null,null,null,null,null,null,null,null,null,null,null,null,null,null,null,null,null,null,null,null,null,null,null,null,null,null,null,null,null,null,null,null,null,null,null,null,null,null,null,null,null,null,null,2012,7]
[null,null,null,null,null,null,null,null,null,null,null,null,null,null,null,null,null,null,null,null,null,null,null,null,null,null,null,null,null,null,null,null,null,null,null,null,null,null,null,null,null,null,null,null,null,null,null,null,null,2010,4]
[null,null,null,null,null,null,null,null,null,null,null,null,null,null,null,null,null,null,null,null,null,null,null,null,null,null,null,null,null,null,null,null,null,null,null,null,null,null,null,null,null,null,null,null,null,null,null,null,null,2010,4]
[null,null,null,null,null,null,null,null,null,null,null,null,null,null,null,null,null,null,null,null,null,null,null,null,null,null,null,null,null,null,null,null,null,null,null,null,null,null,null,null,null,null,null,null,null,null,null,null,null,2010,4]
[null,null,null,null,null,null,null,null,null,null,null,null,null,null,null,null,null,null,null,null,null,null,null,null,null,null,null,null,null,null,null,null,null,null,null,null,null,null,null,null,null,null,null,null,null,null,null,null,null,2010,4]
[null,null,null,null,null,null,null,null,null,null,null,null,null,null,null,null,null,null,null,null,null,null,null,null,null,null,null,null,null,null,null,null,null,null,null,null,null,null,null,null,null,null,null,null,null,null,null,null,null,2010,4]
[null,null,null,null,null,null,null,null,null,null,null,null,null,null,null,null,null,null,null,null,null,null,null,null,null,null,null,null,null,null,null,null,null,null,null,null,null,null,null,null,null,null,null,null,null,null,null,null,null,2009,9]
[null,null,null,null,null,null,null,null,null,null,null,null,null,null,null,null,null,null,null,null,null,null,null,null,null,null,null,null,null,null,null,null,null,null,null,null,null,null,null,null,null,null,null,null,null,null,null,null,null,2009,9]
[null,null,null,null,null,null,null,null,null,null,null,null,null,null,null,null,null,null,null,null,null,null,null,null,null,null,null,null,null,null,null,null,null,null,null,null,null,null,null,null,null,null,null,null,null,null,null,null,null,2009,9]
[null,null,null,null,null,null,null,null,null,null,null,null,null,null,null,null,null,null,null,null,null,null,null,null,null,null,null,null,null,null,null,null,null,null,null,null,null,null,null,null,null,null,null,null,null,null,null,null,null,2009,9]
[null,null,null,null,null,null,null,null,null,null,null,null,null,null,null,null,null,null,null,null,null,null,null,null,null,null,null,null,null,null,null,null,null,null,null,null,null,null,null,null,null,null,null,null,null,null,null,null,null,2015,1]
[null,null,null,null,null,null,null,null,null,null,null,null,null,null,null,null,null,null,null,null,null,null,null,null,null,null,null,null,null,null,null,null,null,null,null,null,null,null,null,null,null,null,null,null,null,null,null,null,null,2015,1]
[null,null,null,null,null,null,null,null,null,null,null,null,null,null,null,null,null,null,null,null,null,null,null,null,null,null,null,null,null,null,null,null,null,null,null,null,null,null,null,null,null,null,null,null,null,null,null,null,null,2015,1]
[null,null,null,null,null,null,null,null,null,null,null,null,null,null,null,null,null,null,null,null,null,null,null,null,null,null,null,null,null,null,null,null,null,null,null,null,null,null,null,null,null,null,null,null,null,null,null,null,null,2009,9]
[null,null,null,null,null,null,null,null,null,null,null,null,null,null,null,null,null,null,null,null,null,null,null,null,null,null,null,null,null,null,null,null,null,null,null,null,null,null,null,null,null,null,null,null,null,null,null,null,null,2009,9]
[null,null,null,null,null,null,null,null,null,null,null,null,null,null,null,null,null,null,null,null,null,null,null,null,null,null,null,null,null,null,null,null,null,null,null,null,null,null,null,null,null,null,null,null,null,null,null,null,null,2009,9]
[null,null,null,null,null,null,null,null,null,null,null,null,null,null,null,null,null,null,null,null,null,null,null,null,null,null,null,null,null,null,null,null,null,null,null,null,null,null,null,null,null,null,null,null,null,null,null,null,null,2009,9]
[null,null,null,null,null,null,null,null,null,null,null,null,null,null,null,null,null,null,null,null,null,null,null,null,null,null,null,null,null,null,null,null,null,null,null,null,null,null,null,null,null,null,null,null,null,null,null,null,null,2005,3]
[null,null,null,null,null,null,null,null,null,null,null,null,null,null,null,null,null,null,null,null,null,null,null,null,null,null,null,null,null,null,null,null,null,null,null,null,null,null,null,null,null,null,null,null,null,null,null,null,null,2005,3]
[null,null,null,null,null,null,null,null,null,null,null,null,null,null,null,null,null,null,null,null,null,null,null,null,null,null,null,null,null,null,null,null,null,null,null,null,null,null,null,null,null,null,null,null,null,null,null,null,null,2005,3]
[null,null,null,null,null,null,null,null,null,null,null,null,null,null,null,null,null,null,null,null,null,null,null,null,null,null,null,null,null,null,null,null,null,null,null,null,null,null,null,null,null,null,null,null,null,null,null,null,null,1994,5,null,"20평대",0,0,0,0,0]
[null,null,null,null,null,null,null,null,null,null,null,null,null,null,null,null,null,null,null,null,null,null,null,null,null,null,null,null,null,null,null,null,null,null,null,null,null,null,null,null,null,null,null,null,null,null,null,null,null,1994,5,null,"30평대",0,0,0,0,0]
[null,null,null,null,null,null,null,null,null,null,null,null,null,null,null,null,null,null,null,null,null,null,null,null,null,null,null,null,null,null,null,null,null,null,null,null,null,null,null,null,null,null,null,null,null,null,null,null,null,1994,5,null,"40평대↑",0,0,0,0,0]
[null,null,null,null,null,null,null,null,null,null,null,null,null,null,null,null,null,null,null,null,null,null,null,null,null,null,null,null,null,null,null,null,null,null,null,null,null,null,null,null,null,null,null,null,null,null,null,null,null,1995,8]
[null,null,null,null,null,null,null,null,null,null,null,null,null,null,null,null,null,null,null,null,null,null,null,null,null,null,null,null,null,null,null,null,null,null,null,null,null,null,null,null,null,null,null,null,null,null,null,null,null,1995,8,null,null,"10년 이하","10~20년","20~30년","30년 이상","합계"]
[null,null,null,null,null,null,null,null,null,null,null,null,null,null,null,null,null,null,null,null,null,null,null,null,null,null,null,null,null,null,null,null,null,null,null,null,null,null,null,null,null,null,null,null,null,null,null,null,null,1994,12,null,"20평대",{"$error":"#DIV/0!"},{"$error":"#DIV/0!"},{"$error":"#DIV/0!"},{"$error":"#DIV/0!"},{"$error":"#DIV/0!"}]
[null,null,null,null,null,null,null,null,null,null,null,null,null,null,null,null,null,null,null,null,null,null,null,null,null,null,null,null,null,null,null,null,null,null,null,null,null,null,null,null,null,null,null,null,null,null,null,null,null,1993,6,null,"40평대↑",{"$error":"#DIV/0!"},{"$error":"#DIV/0!"},{"$error":"#DIV/0!"},{"$error":"#DIV/0!"},{"$error":"#DIV/0!"}]
[null,null,null,null,null,null,null,null,null,null,null,null,null,null,null,null,null,null,null,null,null,null,null,null,null,null,null,null,null,null,null,null,null,null,null,null,null,null,null,null,null,null,null,null,null,null,null,null,null,1993,6,null,"합계",{"$error":"#DIV/0!"},{"$error":"#DIV/0!"},{"$error":"#DIV/0!"},{"$error":"#DIV/0!"},{"$error":"#DIV/0!"}]
[null,null,null,null,null,null,null,null,null,null,null,null,null,null,null,null,null,null,null,null,null,null,null,null,null,null,null,null,null,null,null,null,null,null,null,null,null,null,null,null,null,null,null,null,null,null,null,null,null,2019,3]
[null,null,null,null,null,null,null,null,null,null,null,null,null,null,null,null,null,null,null,null,null,null,null,null,null,null,null,null,null,null,null,null,null,null,null,null,null,null,null,null,null,null,null,null,null,null,null,null,null,2019,3]
[null,null,null,null,null,null,null,null,null,null,null,null,null,null,null,null,null,null,null,null,null,null,null,null,null,null,null,null,null,null,null,null,null,null,null,null,null,null,null,null,null,null,null,null,null,null,null,null,null,2019,3]
[null,null,null,null,null,null,null,null,null,null,null,null,null,null,null,null,null,null,null,null,null,null,null,null,null,null,null,null,null,null,null,null,null,null,null,null,null,null,null,null,null,null,null,null,null,null,null,null,null,2019,3]
[null,null,null,null,null,null,null,null,null,null,null,null,null,null,null,null,null,null,null,null,null,null,null,null,null,null,null,null,null,null,null,null,null,null,null,null,null,null,null,null,null,null,null,null,null,null,null,null,null,1993,8]
[null,null,null,null,null,null,null,null,null,null,null,null,null,null,null,null,null,null,null,null,null,null,null,null,null,null,null,null,null,null,null,null,null,null,null,null,null,null,null,null,null,null,null,null,null,null,null,null,null,1993,8]
[null,null,null,null,null,null,null,null,null,null,null,null,null,null,null,null,null,null,null,null,null,null,null,null,null,null,null,null,null,null,null,null,null,null,null,null,null,null,null,null,null,null,null,null,null,null,null,null,null,1995,8]
[null,null,null,null,null,null,null,null,null,null,null,null,null,null,null,null,null,null,null,null,null,null,null,null,null,null,null,null,null,null,null,null,null,null,null,null,null,null,null,null,null,null,null,null,null,null,null,null,null,1995,8]
[null,null,null,null,null,null,null,null,null,null,null,null,null,null,null,null,null,null,null,null,null,null,null,null,null,null,null,null,null,null,null,null,null,null,null,null,null,null,null,null,null,null,null,null,null,null,null,null,null,1993,4]
[null,null,null,null,null,null,null,null,null,null,null,null,null,null,null,null,null,null,null,null,null,null,null,null,null,null,null,null,null,null,null,null,null,null,null,null,null,null,null,null,null,null,null,null,null,null,null,null,null,1993,4]
[null,null,null,null,null,null,null,null,null,null,null,null,null,null,null,null,null,null,null,null,null,null,null,null,null,null,null,null,null,null,null,null,null,null,null,null,null,null,null,null,null,null,null,null,null,null,null,null,null,1993,4]
[null,null,null,null,null,null,null,null,null,null,null,null,null,null,null,null,null,null,null,null,null,null,null,null,null,null,null,null,null,null,null,null,null,null,null,null,null,null,null,null,null,null,null,null,null,null,null,null,null,2017,11]
[null,null,null,null,null,null,null,null,null,null,null,null,null,null,null,null,null,null,null,null,null,null,null,null,null,null,null,null,null,null,null,null,null,null,null,null,null,null,null,null,null,null,null,null,null,null,null,null,null,2017,11]
[null,null,null,null,null,null,null,null,null,null,null,null,null,null,null,null,null,null,null,null,null,null,null,null,null,null,null,null,null,null,null,null,null,null,null,null,null,null,null,null,null,null,null,null,null,null,null,null,null,1993,1]
[null,null,null,null,null,null,null,null,null,null,null,null,null,null,null,null,null,null,null,null,null,null,null,null,null,null,null,null,null,null,null,null,null,null,null,null,null,null,null,null,null,null,null,null,null,null,null,null,null,2019,5]
[null,null,null,null,null,null,null,null,null,null,null,null,null,null,null,null,null,null,null,null,null,null,null,null,null,null,null,null,null,null,null,null,null,null,null,null,null,null,null,null,null,null,null,null,null,null,null,null,null,2019,5]
[null,null,null,null,null,null,null,null,null,null,null,null,null,null,null,null,null,null,null,null,null,null,null,null,null,null,null,null,null,null,null,null,null,null,null,null,null,null,null,null,null,null,null,null,null,null,null,null,null,2019,5]
[null,null,null,null,null,null,null,null,null,null,null,null,null,null,null,null,null,null,null,null,null,null,null,null,null,null,null,null,null,null,null,null,null,null,null,null,null,null,null,null,null,null,null,null,null,null,null,null,null,1994,12]
[null,null,null,null,null,null,null,null,null,null,null,null,null,null,null,null,null,null,null,null,null,null,null,null,null,null,null,null,null,null,null,null,null,null,null,null,null,null,null,null,null,null,null,null,null,null,null,null,null,1994,12]
[null,null,null,null,null,null,null,null,null,null,null,null,null,null,null,null,null,null,null,null,null,null,null,null,null,null,null,null,null,null,null,null,null,null,null,null,null,null,null,null,null,null,null,null,null,null,null,null,null,1994,12]
[null,null,null,null,null,null,null,null,null,null,null,null,null,null,null,null,null,null,null,null,null,null,null,null,null,null,null,null,null,null,null,null,null,null,null,null,null,null,null,null,null,null,null,null,null,null,null,null,null,1994,4]
[null,null,null,null,null,null,null,null,null,null,null,null,null,null,null,null,null,null,null,null,null,null,null,null,null,null,null,null,null,null,null,null,null,null,null,null,null,null,null,null,null,null,null,null,null,null,null,null,null,1994,4]
[null,null,null,null,null,null,null,null,null,null,null,null,null,null,null,null,null,null,null,null,null,null,null,null,null,null,null,null,null,null,null,null,null,null,null,null,null,null,null,null,null,null,null,null,null,null,null,null,null,1994,6]
[null,null,null,null,null,null,null,null,null,null,null,null,null,null,null,null,null,null,null,null,null,null,null,null,null,null,null,null,null,null,null,null,null,null,null,null,null,null,null,null,null,null,null,null,null,null,null,null,null,1994,6]
[null,null,null,null,null,null,null,null,null,null,null,null,null,null,null,null,null,null,null,null,null,null,null,null,null,null,null,null,null,null,null,null,null,null,null,null,null,null,null,null,null,null,null,null,null,null,null,null,null,1994,6]
[null,null,null,null,null,null,null,null,null,null,null,null,null,null,null,null,null,null,null,null,null,null,null,null,null,null,null,null,null,null,null,null,null,null,null,null,null,null,null,null,null,null,null,null,null,null,null,null,null,1994,6]
[null,null,null,null,null,null,null,null,null,null,null,null,null,null,null,null,null,null,null,null,null,null,null,null,null,null,null,null,null,null,null,null,null,null,null,null,null,null,null,null,null,null,null,null,null,null,null,null,null,1993,12]
[null,null,null,null,null,null,null,null,null,null,null,null,null,null,null,null,null,null,null,null,null,null,null,null,null,null,null,null,null,null,null,null,null,null,null,null,null,null,null,null,null,null,null,null,null,null,null,null,null,1993,7]
[null,null,null,null,null,null,null,null,null,null,null,null,null,null,null,null,null,null,null,null,null,null,null,null,null,null,null,null,null,null,null,null,null,null,null,null,null,null,null,null,null,null,null,null,null,null,null,null,null,1994,4]
[null,null,null,null,null,null,null,null,null,null,null,null,null,null,null,null,null,null,null,null,null,null,null,null,null,null,null,null,null,null,null,null,null,null,null,null,null,null,null,null,null,null,null,null,null,null,null,null,null,1993,12]
[null,null,null,null,null,null,null,null,null,null,null,null,null,null,null,null,null,null,null,null,null,null,null,null,null,null,null,null,null,null,null,null,null,null,null,null,null,null,null,null,null,null,null,null,null,null,null,null,null,1993,12]
[null,null,null,null,null,null,null,null,null,null,null,null,null,null,null,null,null,null,null,null,null,null,null,null,null,null,null,null,null,null,null,null,null,null,null,null,null,null,null,null,null,null,null,null,null,null,null,null,null,1994,5]
[null,null,null,null,null,null,null,null,null,null,null,null,null,null,null,null,null,null,null,null,null,null,null,null,null,null,null,null,null,null,null,null,null,null,null,null,null,null,null,null,null,null,null,null,null,null,null,null,null,2019,4]
[null,null,null,null,null,null,null,null,null,null,null,null,null,null,null,null,null,null,null,null,null,null,null,null,null,null,null,null,null,null,null,null,null,null,null,null,null,null,null,null,null,null,null,null,null,null,null,null,null,1993,8]
[null,null,null,null,null,null,null,null,null,null,null,null,null,null,null,null,null,null,null,null,null,null,null,null,null,null,null,null,null,null,null,null,null,null,null,null,null,null,null,null,null,null,null,null,null,null,null,null,null,1993,8]
[null,null,null,null,null,null,null,null,null,null,null,null,null,null,null,null,null,null,null,null,null,null,null,null,null,null,null,null,null,null,null,null,null,null,null,null,null,null,null,null,null,null,null,null,null,null,null,null,null,2019,3]
[null,null,null,null,null,null,null,null,null,null,null,null,null,null,null,null,null,null,null,null,null,null,null,null,null,null,null,null,null,null,null,null,null,null,null,null,null,null,null,null,null,null,null,null,null,null,null,null,null,2019,3]
[null,null,null,null,null,null,null,null,null,null,null,null,null,null,null,null,null,null,null,null,null,null,null,null,null,null,null,null,null,null,null,null,null,null,null,null,null,null,null,null,null,null,null,null,null,null,null,null,null,1994,9]
[null,null,null,null,null,null,null,null,null,null,null,null,null,null,null,null,null,null,null,null,null,null,null,null,null,null,null,null,null,null,null,null,null,null,null,null,null,null,null,null,null,null,null,null,null,null,null,null,null,1994,9]
[null,null,null,null,null,null,null,null,null,null,null,null,null,null,null,null,null,null,null,null,null,null,null,null,null,null,null,null,null,null,null,null,null,null,null,null,null,null,null,null,null,null,null,null,null,null,null,null,null,2019,9]
[null,null,null,null,null,null,null,null,null,null,null,null,null,null,null,null,null,null,null,null,null,null,null,null,null,null,null,null,null,null,null,null,null,null,null,null,null,null,null,null,null,null,null,null,null,null,null,null,null,1992,1,null,"20평대",0,0,0,0,0]
[null,null,null,null,null,null,null,null,null,null,null,null,null,null,null,null,null,null,null,null,null,null,null,null,null,null,null,null,null,null,null,null,null,null,null,null,null,null,null,null,null,null,null,null,null,null,null,null,null,1992,1,null,"30평대",0,0,0,0,0]
[null,null,null,null,null,null,null,null,null,null,null,null,null,null,null,null,null,null,null,null,null,null,null,null,null,null,null,null,null,null,null,null,null,null,null,null,null,null,null,null,null,null,null,null,null,null,null,null,null,1993,1,null,"합계",0,0,0,0,0]
[null,null,null,null,null,null,null,null,null,null,null,null,null,null,null,null,null,null,null,null,null,null,null,null,null,null,null,null,null,null,null,null,null,null,null,null,null,null,null,null,null,null,null,null,null,null,null,null,null,1993,1]
[null,null,null,null,null,null,null,null,null,null,null,null,null,null,null,null,null,null,null,null,null,null,null,null,null,null,null,null,null,null,null,null,null,null,null,null,null,null,null,null,null,null,null,null,null,null,null,null,null,1993,1,null,null,"10년 이하","10~20년","20~30년","30년 이상","합계"]
[null,null,null,null,null,null,null,null,null,null,null,null,null,null,null,null,null,null,null,null,null,null,null,null,null,null,null,null,null,null,null,null,null,null,null,null,null,null,null,null,null,null,null,null,null,null,null,null,null,1995,8,null,"20평대",{"$error":"#DIV/0!"},{"$error":"#DIV/0!"},{"$error":"#DIV/0!"},{"$error":"#DIV/0!"},{"$error":"#DIV/0!"}]
[null,null,null,null,null,null,null,null,null,null,null,null,null,null,null,null,null,null,null,null,null,null,null,null,null,null,null,null,null,null,null,null,null,null,null,null,null,null,null,null,null,null,null,null,null,null,null,null,null,1995,8,null,"30평대",{"$error":"#DIV/0!"},{"$error":"#DIV/0!"},{"$error":"#DIV/0!"},{"$error":"#DIV/0!"},{"$error":"#DIV/0!"}]
[null,null,null,null,null,null,null,null,null,null,null,null,null,null,null,null,null,null,null,null,null,null,null,null,null,null,null,null,null,null,null,null,null,null,null,null,null,null,null,null,null,null,null,null,null,null,null,null,null,1992,5,null,"합계",{"$error":"#DIV/0!"},{"$error":"#DIV/0!"},{"$error":"#DIV/0!"},{"$error":"#DIV/0!"},{"$error":"#DIV/0!"}]
[null,null,null,null,null,null,null,null,null,null,null,null,null,null,null,null,null,null,null,null,null,null,null,null,null,null,null,null,null,null,null,null,null,null,null,null,null,null,null,null,null,null,null,null,null,null,null,null,null,1992,5]
[null,null,null,null,null,null,null,null,null,null,null,null,null,null,null,null,null,null,null,null,null,null,null,null,null,null,null,null,null,null,null,null,null,null,null,null,null,null,null,null,null,null,null,null,null,null,null,null,null,1992,5]
[null,null,null,null,null,null,null,null,null,null,null,null,null,null,null,null,null,null,null,null,null,null,null,null,null,null,null,null,null,null,null,null,null,null,null,null,null,null,null,null,null,null,null,null,null,null,null,null,null,1991,6]
[null,null,null,null,null,null,null,null,null,null,null,null,null,null,null,null,null,null,null,null,null,null,null,null,null,null,null,null,null,null,null,null,null,null,null,null,null,null,null,null,null,null,null,null,null,null,null,null,null,1991,6]
[null,null,null,null,null,null,null,null,null,null,null,null,null,null,null,null,null,null,null,null,null,null,null,null,null,null,null,null,null,null,null,null,null,null,null,null,null,null,null,null,null,null,null,null,null,null,null,null,null,1991,6]
[null,null,null,null,null,null,null,null,null,null,null,null,null,null,null,null,null,null,null,null,null,null,null,null,null,null,null,null,null,null,null,null,null,null,null,null,null,null,null,null,null,null,null,null,null,null,null,null,null,1991,6]
[null,null,null,null,null,null,null,null,null,null,null,null,null,null,null,null,null,null,null,null,null,null,null,null,null,null,null,null,null,null,null,null,null,null,null,null,null,null,null,null,null,null,null,null,null,null,null,null,null,1991,6]
[null,null,null,null,null,null,null,null,null,null,null,null,null,null,null,null,null,null,null,null,null,null,null,null,null,null,null,null,null,null,null,null,null,null,null,null,null,null,null,null,null,null,null,null,null,null,null,null,null,1991,6]
[null,null,null,null,null,null,null,null,null,null,null,null,null,null,null,null,null,null,null,null,null,null,null,null,null,null,null,null,null,null,null,null,null,null,null,null,null,null,null,null,null,null,null,null,null,null,null,null,null,1995,4,null,"20평대",0,0,0,0,0]
[null,null,null,null,null,null,null,null,null,null,null,null,null,null,null,null,null,null,null,null,null,null,null,null,null,null,null,null,null,null,null,null,null,null,null,null,null,null,null,null,null,null,null,null,null,null,null,null,null,1995,4,null,"30평대",0,0,0,0,0]
[null,null,null,null,null,null,null,null,null,null,null,null,null,null,null,null,null,null,null,null,null,null,null,null,null,null,null,null,null,null,null,null,null,null,null,null,null,null,null,null,null,null,null,null,null,null,null,null,null,1995,4,null,"40평대↑",0,0,0,0,0]
[null,null,null,null,null,null,null,null,null,null,null,null,null,null,null,null,null,null,null,null,null,null,null,null,null,null,null,null,null,null,null,null,null,null,null,null,null,null,null,null,null,null,null,null,null,null,null,null,null,1993,5]
[null,null,null,null,null,null,null,null,null,null,null,null,null,null,null,null,null,null,null,null,null,null,null,null,null,null,null,null,null,null,null,null,null,null,null,null,null,null,null,null,null,null,null,null,null,null,null,null,null,1993,11,null,"10평대",{"$error":"#DIV/0!"},{"$error":"#DIV/0!"},{"$error":"#DIV/0!"},{"$error":"#DIV/0!"},{"$error":"#DIV/0!"}]
[null,null,null,null,null,null,null,null,null,null,null,null,null,null,null,null,null,null,null,null,null,null,null,null,null,null,null,null,null,null,null,null,null,null,null,null,null,null,null,null,null,null,null,null,null,null,null,null,null,1994,9,null,"30평대",{"$error":"#DIV/0!"},{"$error":"#DIV/0!"},{"$error":"#DIV/0!"},{"$error":"#DIV/0!"},{"$error":"#DIV/0!"}]
[null,null,null,null,null,null,null,null,null,null,null,null,null,null,null,null,null,null,null,null,null,null,null,null,null,null,null,null,null,null,null,null,null,null,null,null,null,null,null,null,null,null,null,null,null,null,null,null,null,1994,9,null,"합계",{"$error":"#DIV/0!"},{"$error":"#DIV/0!"},{"$error":"#DIV/0!"},{"$error":"#DIV/0!"},{"$error":"#DIV/0!"}]
[null,null,null,null,null,null,null,null,null,null,null,null,null,null,null,null,null,null,null,null,null,null,null,null,null,null,null,null,null,null,null,null,null,null,null,null,null,null,null,null,null,null,null,null,null,null,null,null,null,1994,9]
[null,null,null,null,null,null,null,null,null,null,null,null,null,null,null,null,null,null,null,null,null,null,null,null,null,null,null,null,null,null,null,null,null,null,null,null,null,null,null,null,null,null,null,null,null,null,null,null,null,1992,5]
[null,null,null,null,null,null,null,null,null,null,null,null,null,null,null,null,null,null,null,null,null,null,null,null,null,null,null,null,null,null,null,null,null,null,null,null,null,null,null,null,null,null,null,null,null,null,null,null,null,1992,6]
[null,null,null,null,null,null,null,null,null,null,null,null,null,null,null,null,null,null,null,null,null,null,null,null,null,null,null,null,null,null,null,null,null,null,null,null,null,null,null,null,null,null,null,null,null,null,null,null,null,1992,6]
[null,null,null,null,null,null,null,null,null,null,null,null,null,null,null,null,null,null,null,null,null,null,null,null,null,null,null,null,null,null,null,null,null,null,null,null,null,null,null,null,null,null,null,null,null,null,null,null,null,1993,9]
[null,null,null,null,null,null,null,null,null,null,null,null,null,null,null,null,null,null,null,null,null,null,null,null,null,null,null,null,null,null,null,null,null,null,null,null,null,null,null,null,null,null,null,null,null,null,null,null,null,1993,9]
[null,null,null,null,null,null,null,null,null,null,null,null,null,null,null,null,null,null,null,null,null,null,null,null,null,null,null,null,null,null,null,null,null,null,null,null,null,null,null,null,null,null,null,null,null,null,null,null,null,1992,3]
[null,null,null,null,null,null,null,null,null,null,null,null,null,null,null,null,null,null,null,null,null,null,null,null,null,null,null,null,null,null,null,null,null,null,null,null,null,null,null,null,null,null,null,null,null,null,null,null,null,1992,3]
[null,null,null,null,null,null,null,null,null,null,null,null,null,null,null,null,null,null,null,null,null,null,null,null,null,null,null,null,null,null,null,null,null,null,null,null,null,null,null,null,null,null,null,null,null,null,null,null,null,1993,5]
[null,null,null,null,null,null,null,null,null,null,null,null,null,null,null,null,null,null,null,null,null,null,null,null,null,null,null,null,null,null,null,null,null,null,null,null,null,null,null,null,null,null,null,null,null,null,null,null,null,1993,5]
[null,null,null,null,null,null,null,null,null,null,null,null,null,null,null,null,null,null,null,null,null,null,null,null,null,null,null,null,null,null,null,null,null,null,null,null,null,null,null,null,null,null,null,null,null,null,null,null,null,1993,5]
[null,null,null,null,null,null,null,null,null,null,null,null,null,null,null,null,null,null,null,null,null,null,null,null,null,null,null,null,null,null,null,null,null,null,null,null,null,null,null,null,null,null,null,null,null,null,null,null,null,1993,5]
[null,null,null,null,null,null,null,null,null,null,null,null,null,null,null,null,null,null,null,null,null,null,null,null,null,null,null,null,null,null,null,null,null,null,null,null,null,null,null,null,null,null,null,null,null,null,null,null,null,1992,12]
[null,null,null,null,null,null,null,null,null,null,null,null,null,null,null,null,null,null,null,null,null,null,null,null,null,null,null,null,null,null,null,null,null,null,null,null,null,null,null,null,null,null,null,null,null,null,null,null,null,1993,5]
[null,null,null,null,null,null,null,null,null,null,null,null,null,null,null,null,null,null,null,null,null,null,null,null,null,null,null,null,null,null,null,null,null,null,null,null,null,null,null,null,null,null,null,null,null,null,null,null,null,1993,5]
[null,null,null,null,null,null,null,null,null,null,null,null,null,null,null,null,null,null,null,null,null,null,null,null,null,null,null,null,null,null,null,null,null,null,null,null,null,null,null,null,null,null,null,null,null,null,null,null,null,1997,8]
[null,null,null,null,null,null,null,null,null,null,null,null,null,null,null,null,null,null,null,null,null,null,null,null,null,null,null,null,null,null,null,null,null,null,null,null,null,null,null,null,null,null,null,null,null,null,null,null,null,1997,8]
[null,null,null,null,null,null,null,null,null,null,null,null,null,null,null,null,null,null,null,null,null,null,null,null,null,null,null,null,null,null,null,null,null,null,null,null,null,null,null,null,null,null,null,null,null,null,null,null,null,1994,5]
[null,null,null,null,null,null,null,null,null,null,null,null,null,null,null,null,null,null,null,null,null,null,null,null,null,null,null,null,null,null,null,null,null,null,null,null,null,null,null,null,null,null,null,null,null,null,null,null,null,1994,2]
[null,null,null,null,null,null,null,null,null,null,null,null,null,null,null,null,null,null,null,null,null,null,null,null,null,null,null,null,null,null,null,null,null,null,null,null,null,null,null,null,null,null,null,null,null,null,null,null,null,1994,2]
[null,null,null,null,null,null,null,null,null,null,null,null,null,null,null,null,null,null,null,null,null,null,null,null,null,null,null,null,null,null,null,null,null,null,null,null,null,null,null,null,null,null,null,null,null,null,null,null,null,1994,2]
[null,null,null,null,null,null,null,null,null,null,null,null,null,null,null,null,null,null,null,null,null,null,null,null,null,null,null,null,null,null,null,null,null,null,null,null,null,null,null,null,null,null,null,null,null,null,null,null,null,1994,1]
[null,null,null,null,null,null,null,null,null,null,null,null,null,null,null,null,null,null,null,null,null,null,null,null,null,null,null,null,null,null,null,null,null,null,null,null,null,null,null,null,null,null,null,null,null,null,null,null,null,1994,1]
[null,null,null,null,null,null,null,null,null,null,null,null,null,null,null,null,null,null,null,null,null,null,null,null,null,null,null,null,null,null,null,null,null,null,null,null,null,null,null,null,null,null,null,null,null,null,null,null,null,1994,12]
[null,null,null,null,null,null,null,null,null,null,null,null,null,null,null,null,null,null,null,null,null,null,null,null,null,null,null,null,null,null,null,null,null,null,null,null,null,null,null,null,null,null,null,null,null,null,null,null,null,1992,6]
[null,null,null,null,null,null,null,null,null,null,null,null,null,null,null,null,null,null,null,null,null,null,null,null,null,null,null,null,null,null,null,null,null,null,null,null,null,null,null,null,null,null,null,null,null,null,null,null,null,1992,6]
[null,null,null,null,null,null,null,null,null,null,null,null,null,null,null,null,null,null,null,null,null,null,null,null,null,null,null,null,null,null,null,null,null,null,null,null,null,null,null,null,null,null,null,null,null,null,null,null,null,1992,5]
[null,null,null,null,null,null,null,null,null,null,null,null,null,null,null,null,null,null,null,null,null,null,null,null,null,null,null,null,null,null,null,null,null,null,null,null,null,null,null,null,null,null,null,null,null,null,null,null,null,1992,5]
[null,null,null,null,null,null,null,null,null,null,null,null,null,null,null,null,null,null,null,null,null,null,null,null,null,null,null,null,null,null,null,null,null,null,null,null,null,null,null,null,null,null,null,null,null,null,null,null,null,1994,3]
[null,null,null,null,null,null,null,null,null,null,null,null,null,null,null,null,null,null,null,null,null,null,null,null,null,null,null,null,null,null,null,null,null,null,null,null,null,null,null,null,null,null,null,null,null,null,null,null,null,1992,6]
[null,null,null,null,null,null,null,null,null,null,null,null,null,null,null,null,null,null,null,null,null,null,null,null,null,null,null,null,null,null,null,null,null,null,null,null,null,null,null,null,null,null,null,null,null,null,null,null,null,1992,6]
[null,null,null,null,null,null,null,null,null,null,null,null,null,null,null,null,null,null,null,null,null,null,null,null,null,null,null,null,null,null,null,null,null,null,null,null,null,null,null,null,null,null,null,null,null,null,null,null,null,1992,7]
[null,null,null,null,null,null,null,null,null,null,null,null,null,null,null,null,null,null,null,null,null,null,null,null,null,null,null,null,null,null,null,null,null,null,null,null,null,null,null,null,null,null,null,null,null,null,null,null,null,1993,11,null,"20평대",0,0,0,0,0]
[null,null,null,null,null,null,null,null,null,null,null,null,null,null,null,null,null,null,null,null,null,null,null,null,null,null,null,null,null,null,null,null,null,null,null,null,null,null,null,null,null,null,null,null,null,null,null,null,null,1993,11,null,"30평대",0,0,0,0,0]
[null,null,null,null,null,null,null,null,null,null,null,null,null,null,null,null,null,null,null,null,null,null,null,null,null,null,null,null,null,null,null,null,null,null,null,null,null,null,null,null,null,null,null,null,null,null,null,null,null,1993,11,null,"40평대↑",0,0,0,0,0]
[null,null,null,null,null,null,null,null,null,null,null,null,null,null,null,null,null,null,null,null,null,null,null,null,null,null,null,null,null,null,null,null,null,null,null,null,null,null,null,null,null,null,null,null,null,null,null,null,null,1993,11,null,"합계",0,0,0,0,0]
[null,null,null,null,null,null,null,null,null,null,null,null,null,null,null,null,null,null,null,null,null,null,null,null,null,null,null,null,null,null,null,null,null,null,null,null,null,null,null,null,null,null,null,null,null,null,null,null,null,1995,12,null,null,"10년 이하","10~20년","20~30년","30년 이상","합계"]
[null,null,null,null,null,null,null,null,null,null,null,null,null,null,null,null,null,null,null,null,null,null,null,null,null,null,null,null,null,null,null,null,null,null,null,null,null,null,null,null,null,null,null,null,null,null,null,null,null,1995,12,null,"20평대",{"$error":"#DIV/0!"},{"$error":"#DIV/0!"},{"$error":"#DIV/0!"},{"$error":"#DIV/0!"},{"$error":"#DIV/0!"}]
[null,null,null,null,null,null,null,null,null,null,null,null,null,null,null,null,null,null,null,null,null,null,null,null,null,null,null,null,null,null,null,null,null,null,null,null,null,null,null,null,null,null,null,null,null,null,null,null,null,1997,5,null,"40평대↑",{"$error":"#DIV/0!"},{"$error":"#DIV/0!"},{"$error":"#DIV/0!"},{"$error":"#DIV/0!"},{"$error":"#DIV/0!"}]
[null,null,null,null,null,null,null,null,null,null,null,null,null,null,null,null,null,null,null,null,null,null,null,null,null,null,null,null,null,null,null,null,null,null,null,null,null,null,null,null,null,null,null,null,null,null,null,null,null,1997,5,null,"합계",{"$error":"#DIV/0!"},{"$error":"#DIV/0!"},{"$error":"#DIV/0!"},{"$error":"#DIV/0!"},{"$error":"#DIV/0!"}]
[null,null,null,null,null,null,null,null,null,null,null,null,null,null,null,null,null,null,null,null,null,null,null,null,null,null,null,null,null,null,null,null,null,null,null,null,null,null,null,null,null,null,null,null,null,null,null,null,null,1994,12]
[null,null,null,null,null,null,null,null,null,null,null,null,null,null,null,null,null,null,null,null,null,null,null,null,null,null,null,null,null,null,null,null,null,null,null,null,null,null,null,null,null,null,null,null,null,null,null,null,null,1994,12]
[null,null,null,null,null,null,null,null,null,null,null,null,null,null,null,null,null,null,null,null,null,null,null,null,null,null,null,null,null,null,null,null,null,null,null,null,null,null,null,null,null,null,null,null,null,null,null,null,null,1994,12]
[null,null,null,null,null,null,null,null,null,null,null,null,null,null,null,null,null,null,null,null,null,null,null,null,null,null,null,null,null,null,null,null,null,null,null,null,null,null,null,null,null,null,null,null,null,null,null,null,null,1994,12]
[null,null,null,null,null,null,null,null,null,null,null,null,null,null,null,null,null,null,null,null,null,null,null,null,null,null,null,null,null,null,null,null,null,null,null,null,null,null,null,null,null,null,null,null,null,null,null,null,null,1997,7]
[null,null,null,null,null,null,null,null,null,null,null,null,null,null,null,null,null,null,null,null,null,null,null,null,null,null,null,null,null,null,null,null,null,null,null,null,null,null,null,null,null,null,null,null,null,null,null,null,null,1997,7]
[null,null,null,null,null,null,null,null,null,null,null,null,null,null,null,null,null,null,null,null,null,null,null,null,null,null,null,null,null,null,null,null,null,null,null,null,null,null,null,null,null,null,null,null,null,null,null,null,null,1996,3]
[null,null,null,null,null,null,null,null,null,null,null,null,null,null,null,null,null,null,null,null,null,null,null,null,null,null,null,null,null,null,null,null,null,null,null,null,null,null,null,null,null,null,null,null,null,null,null,null,null,1996,3]
[null,null,null,null,null,null,null,null,null,null,null,null,null,null,null,null,null,null,null,null,null,null,null,null,null,null,null,null,null,null,null,null,null,null,null,null,null,null,null,null,null,null,null,null,null,null,null,null,null,1995,1]
[null,null,null,null,null,null,null,null,null,null,null,null,null,null,null,null,null,null,null,null,null,null,null,null,null,null,null,null,null,null,null,null,null,null,null,null,null,null,null,null,null,null,null,null,null,null,null,null,null,1995,1]
[null,null,null,null,null,null,null,null,null,null,null,null,null,null,null,null,null,null,null,null,null,null,null,null,null,null,null,null,null,null,null,null,null,null,null,null,null,null,null,null,null,null,null,null,null,null,null,null,null,1995,1]
[null,null,null,null,null,null,null,null,null,null,null,null,null,null,null,null,null,null,null,null,null,null,null,null,null,null,null,null,null,null,null,null,null,null,null,null,null,null,null,null,null,null,null,null,null,null,null,null,null,1998,8]
[null,null,null,null,null,null,null,null,null,null,null,null,null,null,null,null,null,null,null,null,null,null,null,null,null,null,null,null,null,null,null,null,null,null,null,null,null,null,null,null,null,null,null,null,null,null,null,null,null,1998,8]
[null,null,null,null,null,null,null,null,null,null,null,null,null,null,null,null,null,null,null,null,null,null,null,null,null,null,null,null,null,null,null,null,null,null,null,null,null,null,null,null,null,null,null,null,null,null,null,null,null,1998,8]
[null,null,null,null,null,null,null,null,null,null,null,null,null,null,null,null,null,null,null,null,null,null,null,null,null,null,null,null,null,null,null,null,null,null,null,null,null,null,null,null,null,null,null,null,null,null,null,null,null,1996,1]
[null,null,null,null,null,null,null,null,null,null,null,null,null,null,null,null,null,null,null,null,null,null,null,null,null,null,null,null,null,null,null,null,null,null,null,null,null,null,null,null,null,null,null,null,null,null,null,null,null,1996,1]
[null,null,null,null,null,null,null,null,null,null,null,null,null,null,null,null,null,null,null,null,null,null,null,null,null,null,null,null,null,null,null,null,null,null,null,null,null,null,null,null,null,null,null,null,null,null,null,null,null,1996,1]
[null,null,null,null,null,null,null,null,null,null,null,null,null,null,null,null,null,null,null,null,null,null,null,null,null,null,null,null,null,null,null,null,null,null,null,null,null,null,null,null,null,null,null,null,null,null,null,null,null,1997,12]
[null,null,null,null,null,null,null,null,null,null,null,null,null,null,null,null,null,null,null,null,null,null,null,null,null,null,null,null,null,null,null,null,null,null,null,null,null,null,null,null,null,null,null,null,null,null,null,null,null,1997,12]
[null,null,null,null,null,null,null,null,null,null,null,null,null,null,null,null,null,null,null,null,null,null,null,null,null,null,null,null,null,null,null,null,null,null,null,null,null,null,null,null,null,null,null,null,null,null,null,null,null,1998,3]
[null,null,null,null,null,null,null,null,null,null,null,null,null,null,null,null,null,null,null,null,null,null,null,null,null,null,null,null,null,null,null,null,null,null,null,null,null,null,null,null,null,null,null,null,null,null,null,null,null,1998,3]
[null,null,null,null,null,null,null,null,null,null,null,null,null,null,null,null,null,null,null,null,null,null,null,null,null,null,null,null,null,null,null,null,null,null,null,null,null,null,null,null,null,null,null,null,null,null,null,null,null,1998,3]
[null,null,null,null,null,null,null,null,null,null,null,null,null,null,null,null,null,null,null,null,null,null,null,null,null,null,null,null,null,null,null,null,null,null,null,null,null,null,null,null,null,null,null,null,null,null,null,null,null,1998,3]
[null,null,null,null,null,null,null,null,null,null,null,null,null,null,null,null,null,null,null,null,null,null,null,null,null,null,null,null,null,null,null,null,null,null,null,null,null,null,null,null,null,null,null,null,null,null,null,null,null,1997,8]
[null,null,null,null,null,null,null,null,null,null,null,null,null,null,null,null,null,null,null,null,null,null,null,null,null,null,null,null,null,null,null,null,null,null,null,null,null,null,null,null,null,null,null,null,null,null,null,null,null,1997,8]
[null,null,null,null,null,null,null,null,null,null,null,null,null,null,null,null,null,null,null,null,null,null,null,null,null,null,null,null,null,null,null,null,null,null,null,null,null,null,null,null,null,null,null,null,null,null,null,null,null,1997,8]
[null,null,null,null,null,null,null,null,null,null,null,null,null,null,null,null,null,null,null,null,null,null,null,null,null,null,null,null,null,null,null,null,null,null,null,null,null,null,null,null,null,null,null,null,null,null,null,null,null,1996,9]
[null,null,null,null,null,null,null,null,null,null,null,null,null,null,null,null,null,null,null,null,null,null,null,null,null,null,null,null,null,null,null,null,null,null,null,null,null,null,null,null,null,null,null,null,null,null,null,null,null,1996,9]
[null,null,null,null,null,null,null,null,null,null,null,null,null,null,null,null,null,null,null,null,null,null,null,null,null,null,null,null,null,null,null,null,null,null,null,null,null,null,null,null,null,null,null,null,null,null,null,null,null,1994,11]
[null,null,null,null,null,null,null,null,null,null,null,null,null,null,null,null,null,null,null,null,null,null,null,null,null,null,null,null,null,null,null,null,null,null,null,null,null,null,null,null,null,null,null,null,null,null,null,null,null,1994,11]
[null,null,null,null,null,null,null,null,null,null,null,null,null,null,null,null,null,null,null,null,null,null,null,null,null,null,null,null,null,null,null,null,null,null,null,null,null,null,null,null,null,null,null,null,null,null,null,null,null,1984,1]
[null,null,null,null,null,null,null,null,null,null,null,null,null,null,null,null,null,null,null,null,null,null,null,null,null,null,null,null,null,null,null,null,null,null,null,null,null,null,null,null,null,null,null,null,null,null,null,null,null,1984,1]
[null,null,null,null,null,null,null,null,null,null,null,null,null,null,null,null,null,null,null,null,null,null,null,null,null,null,null,null,null,null,null,null,null,null,null,null,null,null,null,null,null,null,null,null,null,null,null,null,null,1994,1]
[null,null,null,null,null,null,null,null,null,null,null,null,null,null,null,null,null,null,null,null,null,null,null,null,null,null,null,null,null,null,null,null,null,null,null,null,null,null,null,null,null,null,null,null,null,null,null,null,null,1994,1]
[null,null,null,null,null,null,null,null,null,null,null,null,null,null,null,null,null,null,null,null,null,null,null,null,null,null,null,null,null,null,null,null,null,null,null,null,null,null,null,null,null,null,null,null,null,null,null,null,null,1997,5]
[null,null,null,null,null,null,null,null,null,null,null,null,null,null,null,null,null,null,null,null,null,null,null,null,null,null,null,null,null,null,null,null,null,null,null,null,null,null,null,null,null,null,null,null,null,null,null,null,null,1997,5]
[null,null,null,null,null,null,null,null,null,null,null,null,null,null,null,null,null,null,null,null,null,null,null,null,null,null,null,null,null,null,null,null,null,null,null,null,null,null,null,null,null,null,null,null,null,null,null,null,null,1997,5]
[null,null,null,null,null,null,null,null,null,null,null,null,null,null,null,null,null,null,null,null,null,null,null,null,null,null,null,null,null,null,null,null,null,null,null,null,null,null,null,null,null,null,null,null,null,null,null,null,null,1997,11]
[null,null,null,null,null,null,null,null,null,null,null,null,null,null,null,null,null,null,null,null,null,null,null,null,null,null,null,null,null,null,null,null,null,null,null,null,null,null,null,null,null,null,null,null,null,null,null,null,null,1997,11]
[null,null,null,null,null,null,null,null,null,null,null,null,null,null,null,null,null,null,null,null,null,null,null,null,null,null,null,null,null,null,null,null,null,null,null,null,null,null,null,null,null,null,null,null,null,null,null,null,null,1997,11]
[null,null,null,null,null,null,null,null,null,null,null,null,null,null,null,null,null,null,null,null,null,null,null,null,null,null,null,null,null,null,null,null,null,null,null,null,null,null,null,null,null,null,null,null,null,null,null,null,null,2002,6]
[null,null,null,null,null,null,null,null,null,null,null,null,null,null,null,null,null,null,null,null,null,null,null,null,null,null,null,null,null,null,null,null,null,null,null,null,null,null,null,null,null,null,null,null,null,null,null,null,null,2002,6]
[null,null,null,null,null,null,null,null,null,null,null,null,null,null,null,null,null,null,null,null,null,null,null,null,null,null,null,null,null,null,null,null,null,null,null,null,null,null,null,null,null,null,null,null,null,null,null,null,null,1990,6]
[null,null,null,null,null,null,null,null,null,null,null,null,null,null,null,null,null,null,null,null,null,null,null,null,null,null,null,null,null,null,null,null,null,null,null,null,null,null,null,null,null,null,null,null,null,null,null,null,null,1990,6]
[null,null,null,null,null,null,null,null,null,null,null,null,null,null,null,null,null,null,null,null,null,null,null,null,null,null,null,null,null,null,null,null,null,null,null,null,null,null,null,null,null,null,null,null,null,null,null,null,null,1994,1,null,"20평대",0,0,0,0,0]
[null,null,null,null,null,null,null,null,null,null,null,null,null,null,null,null,null,null,null,null,null,null,null,null,null,null,null,null,null,null,null,null,null,null,null,null,null,null,null,null,null,null,null,null,null,null,null,null,null,1994,1,null,"30평대",0,0,0,0,0]
[null,null,null,null,null,null,null,null,null,null,null,null,null,null,null,null,null,null,null,null,null,null,null,null,null,null,null,null,null,null,null,null,null,null,null,null,null,null,null,null,null,null,null,null,null,null,null,null,null,1995,3,null,"합계",0,0,0,0,0]
[null,null,null,null,null,null,null,null,null,null,null,null,null,null,null,null,null,null,null,null,null,null,null,null,null,null,null,null,null,null,null,null,null,null,null,null,null,null,null,null,null,null,null,null,null,null,null,null,null,1995,3]
[null,null,null,null,null,null,null,null,null,null,null,null,null,null,null,null,null,null,null,null,null,null,null,null,null,null,null,null,null,null,null,null,null,null,null,null,null,null,null,null,null,null,null,null,null,null,null,null,null,1995,3,null,null,"10년 이하","10~20년","20~30년","30년 이상","합계"]
[null,null,null,null,null,null,null,null,null,null,null,null,null,null,null,null,null,null,null,null,null,null,null,null,null,null,null,null,null,null,null,null,null,null,null,null,null,null,null,null,null,null,null,null,null,null,null,null,null,1994,9,null,"30평대",{"$error":"#DIV/0!"},{"$error":"#DIV/0!"},{"$error":"#DIV/0!"},{"$error":"#DIV/0!"},{"$error":"#DIV/0!"}]
[null,null,null,null,null,null,null,null,null,null,null,null,null,null,null,null,null,null,null,null,null,null,null,null,null,null,null,null,null,null,null,null,null,null,null,null,null,null,null,null,null,null,null,null,null,null,null,null,null,1993,11,null,"합계",{"$error":"#DIV/0!"},{"$error":"#DIV/0!"},{"$error":"#DIV/0!"},{"$error":"#DIV/0!"},{"$error":"#DIV/0!"}]
[null,null,null,null,null,null,null,null,null,null,null,null,null,null,null,null,null,null,null,null,null,null,null,null,null,null,null,null,null,null,null,null,null,null,null,null,null,null,null,null,null,null,null,null,null,null,null,null,null,2000,6]
[null,null,null,null,null,null,null,null,null,null,null,null,null,null,null,null,null,null,null,null,null,null,null,null,null,null,null,null,null,null,null,null,null,null,null,null,null,null,null,null,null,null,null,null,null,null,null,null,null,2000,6]
[null,null,null,null,null,null,null,null,null,null,null,null,null,null,null,null,null,null,null,null,null,null,null,null,null,null,null,null,null,null,null,null,null,null,null,null,null,null,null,null,null,null,null,null,null,null,null,null,null,1994,3]
[null,null,null,null,null,null,null,null,null,null,null,null,null,null,null,null,null,null,null,null,null,null,null,null,null,null,null,null,null,null,null,null,null,null,null,null,null,null,null,null,null,null,null,null,null,null,null,null,null,1993,6]
[null,null,null,null,null,null,null,null,null,null,null,null,null,null,null,null,null,null,null,null,null,null,null,null,null,null,null,null,null,null,null,null,null,null,null,null,null,null,null,null,null,null,null,null,null,null,null,null,null,"",""]
[null,null,null,null,null,null,null,null,null,null,null,null,null,null,null,null,null,null,null,null,null,null,null,null,null,null,null,null,null,null,null,null,null,null,null,null,null,null,null,null,null,null,null,null,null,null,null,null,null,"",""]
[null,null,null,null,null,null,null,null,null,null,null,null,null,null,null,null,null,null,null,null,null,null,null,null,null,null,null,null,null,null,null,null,null,null,null,null,null,null,null,null,null,null,null,null,null,null,null,null,null,"",""]
[null,null,null,null,null,null,null,null,null,null,null,null,null,null,null,null,null,null,null,null,null,null,null,null,null,null,null,null,null,null,null,null,null,null,null,null,null,null,null,null,null,null,null,null,null,null,null,null,null,"",""]
[null,null,null,null,null,null,null,null,null,null,null,null,null,null,null,null,null,null,null,null,null,null,null,null,null,null,null,null,null,null,null,null,null,null,null,null,null,null,null,null,null,null,null,null,null,null,null,null,null,"",""]
[null,null,null,null,null,null,null,null,null,null,null,null,null,null,null,null,null,null,null,null,null,null,null,null,null,null,null,null,null,null,null,null,null,null,null,null,null,null,null,null,null,null,null,null,null,null,null,null,null,"",""]
[null,null,null,null,null,null,null,null,null,null,null,null,null,null,null,null,null,null,null,null,null,null,null,null,null,null,null,null,null,null,null,null,null,null,null,null,null,null,null,null,null,null,null,null,null,null,null,null,null,"",""]
[null,null,null,null,null,null,null,null,null,null,null,null,null,null,null,null,null,null,null,null,null,null,null,null,null,null,null,null,null,null,null,null,null,null,null,null,null,null,null,null,null,null,null,null,null,null,null,null,null,"",""]
[null,null,null,null,null,null,null,null,null,null,null,null,null,null,null,null,null,null,null,null,null,null,null,null,null,null,null,null,null,null,null,null,null,null,null,null,null,null,null,null,null,null,null,null,null,null,null,null,null,"",""]
[null,null,null,null,null,null,null,null,null,null,null,null,null,null,null,null,null,null,null,null,null,null,null,null,null,null,null,null,null,null,null,null,null,null,null,null,null,null,null,null,null,null,null,null,null,null,null,null,null,"",""]
[null,null,null,null,null,null,null,null,null,null,null,null,null,null,null,null,null,null,null,null,null,null,null,null,null,null,null,null,null,null,null,null,null,null,null,null,null,null,null,null,null,null,null,null,null,null,null,null,null,"",""]
[null,null,null,null,null,null,null,null,null,null,null,null,null,null,null,null,null,null,null,null,null,null,null,null,null,null,null,null,null,null,null,null,null,null,null,null,null,null,null,null,null,null,null,null,null,null,null,null,null,"",""]
[null,null,null,null,null,null,null,null,null,null,null,null,null,null,null,null,null,null,null,null,null,null,null,null,null,null,null,null,null,null,null,null,null,null,null,null,null,null,null,null,null,null,null,null,null,null,null,null,null,"",""]
[null,null,null,null,null,null,null,null,null,null,null,null,null,null,null,null,null,null,null,null,null,null,null,null,null,null,null,null,null,null,null,null,null,null,null,null,null,null,null,null,null,null,null,null,null,null,null,null,null,"",""]
[null,null,null,null,null,null,null,null,null,null,null,null,null,null,null,null,null,null,null,null,null,null,null,null,null,null,null,null,null,null,null,null,null,null,null,null,null,null,null,null,null,null,null,null,null,null,null,null,null,"",""]
[null,null,null,null,null,null,null,null,null,null,null,null,null,null,null,null,null,null,null,null,null,null,null,null,null,null,null,null,null,null,null,null,null,null,null,null,null,null,null,null,null,null,null,null,null,null,null,null,null,"",""]
[null,null,null,null,null,null,null,null,null,null,null,null,null,null,null,null,null,null,null,null,null,null,null,null,null,null,null,null,null,null,null,null,null,null,null,null,null,null,null,null,null,null,null,null,null,null,null,null,null,"",""]
[null,null,null,null,null,null,null,null,null,null,null,null,null,null,null,null,null,null,null,null,null,null,null,null,null,null,null,null,null,null,null,null,null,null,null,null,null,null,null,null,null,null,null,null,null,null,null,null,null,"",""]
[null,null,null,null,null,null,null,null,null,null,null,null,null,null,null,null,null,null,null,null,null,null,null,null,null,null,null,null,null,null,null,null,null,null,null,null,null,null,null,null,null,null,null,null,null,null,null,null,null,"",""]
[null,null,null,null,null,null,null,null,null,null,null,null,null,null,null,null,null,null,null,null,null,null,null,null,null,null,null,null,null,null,null,null,null,null,null,null,null,null,null,null,null,null,null,null,null,null,null,null,null,"",""]
[null,null,null,null,null,null,null,null,null,null,null,null,null,null,null,null,null,null,null,null,null,null,null,null,null,null,null,null,null,null,null,null,null,null,null,null,null,null,null,null,null,null,null,null,null,null,null,null,null,"",""]
[null,null,null,null,null,null,null,null,null,null,null,null,null,null,null,null,null,null,null,null,null,null,null,null,null,null,null,null,null,null,null,null,null,null,null,null,null,null,null,null,null,null,null,null,null,null,null,null,null,"",""]
[null,null,null,null,null,null,null,null,null,null,null,null,null,null,null,null,null,null,null,null,null,null,null,null,null,null,null,null,null,null,null,null,null,null,null,null,null,null,null,null,null,null,null,null,null,null,null,null,null,"",""]
[null,null,null,null,null,null,null,null,null,null,null,null,null,null,null,null,null,null,null,null,null,null,null,null,null,null,null,null,null,null,null,null,null,null,null,null,null,null,null,null,null,null,null,null,null,null,null,null,null,"",""]
[null,null,null,null,null,null,null,null,null,null,null,null,null,null,null,null,null,null,null,null,null,null,null,null,null,null,null,null,null,null,null,null,null,null,null,null,null,null,null,null,null,null,null,null,null,null,null,null,null,"",""]
[null,null,null,null,null,null,null,null,null,null,null,null,null,null,null,null,null,null,null,null,null,null,null,null,null,null,null,null,null,null,null,null,null,null,null,null,null,null,null,null,null,null,null,null,null,null,null,null,null,"",""]
[null,null,null,null,null,null,null,null,null,null,null,null,null,null,null,null,null,null,null,null,null,null,null,null,null,null,null,null,null,null,null,null,null,null,null,null,null,null,null,null,null,null,null,null,null,null,null,null,null,"",""]
[null,null,null,null,null,null,null,null,null,null,null,null,null,null,null,null,null,null,null,null,null,null,null,null,null,null,null,null,null,null,null,null,null,null,null,null,null,null,null,null,null,null,null,null,null,null,null,null,null,"",""]
[null,null,null,null,null,null,null,null,null,null,null,null,null,null,null,null,null,null,null,null,null,null,null,null,null,null,null,null,null,null,null,null,null,null,null,null,null,null,null,null,null,null,null,null,null,null,null,null,null,"",""]
[null,null,null,null,null,null,null,null,null,null,null,null,null,null,null,null,null,null,null,null,null,null,null,null,null,null,null,null,null,null,null,null,null,null,null,null,null,null,null,null,null,null,null,null,null,null,null,null,null,"",""]
[null,null,null,null,null,null,null,null,null,null,null,null,null,null,null,null,null,null,null,null,null,null,null,null,null,null,null,null,null,null,null,null,null,null,null,null,null,null,null,null,null,null,null,null,null,null,null,null,null,"",""]
[null,null,null,null,null,null,null,null,null,null,null,null,null,null,null,null,null,null,null,null,null,null,null,null,null,null,null,null,null,null,null,null,null,null,null,null,null,null,null,null,null,null,null,null,null,null,null,null,null,"",""]
[null,null,null,null,null,null,null,null,null,null,null,null,null,null,null,null,null,null,null,null,null,null,null,null,null,null,null,null,null,null,null,null,null,null,null,null,null,null,null,null,null,null,null,null,null,null,null,null,null,"",""]
[null,null,null,null,null,null,null,null,null,null,null,null,null,null,null,null,null,null,null,null,null,null,null,null,null,null,null,null,null,null,null,null,null,null,null,null,null,null,null,null,null,null,null,null,null,null,null,null,null,"",""]
[null,null,null,null,null,null,null,null,null,null,null,null,null,null,null,null,null,null,null,null,null,null,null,null,null,null,null,null,null,null,null,null,null,null,null,null,null,null,null,null,null,null,null,null,null,null,null,null,null,"",""]
[null,null,null,null,null,null,null,null,null,null,null,null,null,null,null,null,null,null,null,null,null,null,null,null,null,null,null,null,null,null,null,null,null,null,null,null,null,null,null,null,null,null,null,null,null,null,null,null,null,"",""]
[null,null,null,null,null,null,null,null,null,null,null,null,null,null,null,null,null,null,null,null,null,null,null,null,null,null,null,null,null,null,null,null,null,null,null,null,null,null,null,null,null,null,null,null,null,null,null,null,null,"",""]
[null,null,null,null,null,null,null,null,null,null,null,null,null,null,null,null,null,null,null,null,null,null,null,null,null,null,null,null,null,null,null,null,null,null,null,null,null,null,null,null,null,null,null,null,null,null,null,null,null,"",""]
[null,null,null,null,null,null,null,null,null,null,null,null,null,null,null,null,null,null,null,null,null,null,null,null,null,null,null,null,null,null,null,null,null,null,null,null,null,null,null,null,null,null,null,null,null,null,null,null,null,"",""]
[null,null,null,null,null,null,null,null,null,null,null,null,null,null,null,null,null,null,null,null,null,null,null,null,null,null,null,null,null,null,null,null,null,null,null,null,null,null,null,null,null,null,null,null,null,null,null,null,null,"",""]
[null,null,null,null,null,null,null,null,null,null,null,null,null,null,null,null,null,null,null,null,null,null,null,null,null,null,null,null,null,null,null,null,null,null,null,null,null,null,null,null,null,null,null,null,null,null,null,null,null,"",""]
[null,null,null,null,null,null,null,null,null,null,null,null,null,null,null,null,null,null,null,null,null,null,null,null,null,null,null,null,null,null,null,null,null,null,null,null,null,null,null,null,null,null,null,null,null,null,null,null,null,"",""]
[null,null,null,null,null,null,null,null,null,null,null,null,null,null,null,null,null,null,null,null,null,null,null,null,null,null,null,null,null,null,null,null,null,null,null,null,null,null,null,null,null,null,null,null,null,null,null,null,null,"",""]
[null,null,null,null,null,null,null,null,null,null,null,null,null,null,null,null,null,null,null,null,null,null,null,null,null,null,null,null,null,null,null,null,null,null,null,null,null,null,null,null,null,null,null,null,null,null,null,null,null,"",""]
[null,null,null,null,null,null,null,null,null,null,null,null,null,null,null,null,null,null,null,null,null,null,null,null,null,null,null,null,null,null,null,null,null,null,null,null,null,null,null,null,null,null,null,null,null,null,null,null,null,"",""]
[null,null,null,null,null,null,null,null,null,null,null,null,null,null,null,null,null,null,null,null,null,null,null,null,null,null,null,null,null,null,null,null,null,null,null,null,null,null,null,null,null,null,null,null,null,null,null,null,null,"",""]
[null,null,null,null,null,null,null,null,null,null,null,null,null,null,null,null,null,null,null,null,null,null,null,null,null,null,null,null,null,null,null,null,null,null,null,null,null,null,null,null,null,null,null,null,null,null,null,null,null,"",""]
[null,null,null,null,null,null,null,null,null,null,null,null,null,null,null,null,null,null,null,null,null,null,null,null,null,null,null,null,null,null,null,null,null,null,null,null,null,null,null,null,null,null,null,null,null,null,null,null,null,"",""]
[null,null,null,null,null,null,null,null,null,null,null,null,null,null,null,null,null,null,null,null,null,null,null,null,null,null,null,null,null,null,null,null,null,null,null,null,null,null,null,null,null,null,null,null,null,null,null,null,null,"",""]
[null,null,null,null,null,null,null,null,null,null,null,null,null,null,null,null,null,null,null,null,null,null,null,null,null,null,null,null,null,null,null,null,null,null,null,null,null,null,null,null,null,null,null,null,null,null,null,null,null,"",""]
[null,null,null,null,null,null,null,null,null,null,null,null,null,null,null,null,null,null,null,null,null,null,null,null,null,null,null,null,null,null,null,null,null,null,null,null,null,null,null,null,null,null,null,null,null,null,null,null,null,"",""]
[null,null,null,null,null,null,null,null,null,null,null,null,null,null,null,null,null,null,null,null,null,null,null,null,null,null,null,null,null,null,null,null,null,null,null,null,null,null,null,null,null,null,null,null,null,null,null,null,null,"",""]
[null,null,null,null,null,null,null,null,null,null,null,null,null,null,null,null,null,null,null,null,null,null,null,null,null,null,null,null,null,null,null,null,null,null,null,null,null,null,null,null,null,null,null,null,null,null,null,null,null,"",""]
[null,null,null,null,null,null,null,null,null,null,null,null,null,null,null,null,null,null,null,null,null,null,null,null,null,null,null,null,null,null,null,null,null,null,null,null,null,null,null,null,null,null,null,null,null,null,null,null,null,"",""]
[null,null,null,null,null,null,null,null,null,null,null,null,null,null,null,null,null,null,null,null,null,null,null,null,null,null,null,null,null,null,null,null,null,null,null,null,null,null,null,null,null,null,null,null,null,null,null,null,null,"",""]
[null,null,null,null,null,null,null,null,null,null,null,null,null,null,null,null,null,null,null,null,null,null,null,null,null,null,null,null,null,null,null,null,null,null,null,null,null,null,null,null,null,null,null,null,null,null,null,null,null,"",""]
[null,null,null,null,null,null,null,null,null,null,null,null,null,null,null,null,null,null,null,null,null,null,null,null,null,null,null,null,null,null,null,null,null,null,null,null,null,null,null,null,null,null,null,null,null,null,null,null,null,"",""]
[null,null,null,null,null,null,null,null,null,null,null,null,null,null,null,null,null,null,null,null,null,null,null,null,null,null,null,null,null,null,null,null,null,null,null,null,null,null,null,null,null,null,null,null,null,null,null,null,null,"",""]
[null,null,null,null,null,null,null,null,null,null,null,null,null,null,null,null,null,null,null,null,null,null,null,null,null,null,null,null,null,null,null,null,null,null,null,null,null,null,null,null,null,null,null,null,null,null,null,null,null,"",""]
[null,null,null,null,null,null,null,null,null,null,null,null,null,null,null,null,null,null,null,null,null,null,null,null,null,null,null,null,null,null,null,null,null,null,null,null,null,null,null,null,null,null,null,null,null,null,null,null,null,"",""]
[null,null,null,null,null,null,null,null,null,null,null,null,null,null,null,null,null,null,null,null,null,null,null,null,null,null,null,null,null,null,null,null,null,null,null,null,null,null,null,null,null,null,null,null,null,null,null,null,null,"",""]
[null,null,null,null,null,null,null,null,null,null,null,null,null,null,null,null,null,null,null,null,null,null,null,null,null,null,null,null,null,null,null,null,null,null,null,null,null,null,null,null,null,null,null,null,null,null,null,null,null,"",""]
[null,null,null,null,null,null,null,null,null,null,null,null,null,null,null,null,null,null,null,null,null,null,null,null,null,null,null,null,null,null,null,null,null,null,null,null,null,null,null,null,null,null,null,null,null,null,null,null,null,"",""]
[null,null,null,null,null,null,null,null,null,null,null,null,null,null,null,null,null,null,null,null,null,null,null,null,null,null,null,null,null,null,null,null,null,null,null,null,null,null,null,null,null,null,null,null,null,null,null,null,null,"",""]
[null,null,null,null,null,null,null,null,null,null,null,null,null,null,null,null,null,null,null,null,null,null,null,null,null,null,null,null,null,null,null,null,null,null,null,null,null,null,null,null,null,null,null,null,null,null,null,null,null,"",""]
[null,null,null,null,null,null,null,null,null,null,null,null,null,null,null,null,null,null,null,null,null,null,null,null,null,null,null,null,null,null,null,null,null,null,null,null,null,null,null,null,null,null,null,null,null,null,null,null,null,"",""]
[null,null,null,null,null,null,null,null,null,null,null,null,null,null,null,null,null,null,null,null,null,null,null,null,null,null,null,null,null,null,null,null,null,null,null,null,null,null,null,null,null,null,null,null,null,null,null,null,null,"",""]
[null,null,null,null,null,null,null,null,null,null,null,null,null,null,null,null,null,null,null,null,null,null,null,null,null,null,null,null,null,null,null,null,null,null,null,null,null,null,null,null,null,null,null,null,null,null,null,null,null,"",""]
[null,null,null,null,null,null,null,null,null,null,null,null,null,null,null,null,null,null,null,null,null,null,null,null,null,null,null,null,null,null,null,null,null,null,null,null,null,null,null,null,null,null,null,null,null,null,null,null,null,"",""]
[null,null,null,null,null,null,null,null,null,null,null,null,null,null,null,null,null,null,null,null,null,null,null,null,null,null,null,null,null,null,null,null,null,null,null,null,null,null,null,null,null,null,null,null,null,null,null,null,null,"",""]
[null,null,null,null,null,null,null,null,null,null,null,null,null,null,null,null,null,null,null,null,null,null,null,null,null,null,null,null,null,null,null,null,null,null,null,null,null,null,null,null,null,null,null,null,null,null,null,null,null,"",""]
[null,null,null,null,null,null,null,null,null,null,null,null,null,null,null,null,null,null,null,null,null,null,null,null,null,null,null,null,null,null,null,null,null,null,null,null,null,null,null,null,null,null,null,null,null,null,null,null,null,"",""]
[null,null,null,null,null,null,null,null,null,null,null,null,null,null,null,null,null,null,null,null,null,null,null,null,null,null,null,null,null,null,null,null,null,null,null,null,null,null,null,null,null,null,null,null,null,null,null,null,null,"",""]
[null,null,null,null,null,null,null,null,null,null,null,null,null,null,null,null,null,null,null,null,null,null,null,null,null,null,null,null,null,null,null,null,null,null,null,null,null,null,null,null,null,null,null,null,null,null,null,null,null,"",""]
[null,null,null,null,null,null,null,null,null,null,null,null,null,null,null,null,null,null,null,null,null,null,null,null,null,null,null,null,null,null,null,null,null,null,null,null,null,null,null,null,null,null,null,null,null,null,null,null,null,"",""]
[null,null,null,null,null,null,null,null,null,null,null,null,null,null,null,null,null,null,null,null,null,null,null,null,null,null,null,null,null,null,null,null,null,null,null,null,null,null,null,null,null,null,null,null,null,null,null,null,null,"",""]
[null,null,null,null,null,null,null,null,null,null,null,null,null,null,null,null,null,null,null,null,null,null,null,null,null,null,null,null,null,null,null,null,null,null,null,null,null,null,null,null,null,null,null,null,null,null,null,null,null,"",""]
[null,null,null,null,null,null,null,null,null,null,null,null,null,null,null,null,null,null,null,null,null,null,null,null,null,null,null,null,null,null,null,null,null,null,null,null,null,null,null,null,null,null,null,null,null,null,null,null,null,"",""]
[null,null,null,null,null,null,null,null,null,null,null,null,null,null,null,null,null,null,null,null,null,null,null,null,null,null,null,null,null,null,null,null,null,null,null,null,null,null,null,null,null,null,null,null,null,null,null,null,null,"",""]
[null,null,null,null,null,null,null,null,null,null,null,null,null,null,null,null,null,null,null,null,null,null,null,null,null,null,null,null,null,null,null,null,null,null,null,null,null,null,null,null,null,null,null,null,null,null,null,null,null,"",""]
[null,null,null,null,null,null,null,null,null,null,null,null,null,null,null,null,null,null,null,null,null,null,null,null,null,null,null,null,null,null,null,null,null,null,null,null,null,null,null,null,null,null,null,null,null,null,null,null,null,"",""]
[null,null,null,null,null,null,null,null,null,null,null,null,null,null,null,null,null,null,null,null,null,null,null,null,null,null,null,null,null,null,null,null,null,null,null,null,null,null,null,null,null,null,null,null,null,null,null,null,null,"",""]
[null,null,null,null,null,null,null,null,null,null,null,null,null,null,null,null,null,null,null,null,null,null,null,null,null,null,null,null,null,null,null,null,null,null,null,null,null,null,null,null,null,null,null,null,null,null,null,null,null,"",""]
[null,null,null,null,null,null,null,null,null,null,null,null,null,null,null,null,null,null,null,null,null,null,null,null,null,null,null,null,null,null,null,null,null,null,null,null,null,null,null,null,null,null,null,null,null,null,null,null,null,"",""]
[null,null,null,null,null,null,null,null,null,null,null,null,null,null,null,null,null,null,null,null,null,null,null,null,null,null,null,null,null,null,null,null,null,null,null,null,null,null,null,null,null,null,null,null,null,null,null,null,null,"",""]
[null,null,null,null,null,null,null,null,null,null,null,null,null,null,null,null,null,null,null,null,null,null,null,null,null,null,null,null,null,null,null,null,null,null,null,null,null,null,null,null,null,null,null,null,null,null,null,null,null,"",""]
[null,null,null,null,null,null,null,null,null,null,null,null,null,null,null,null,null,null,null,null,null,null,null,null,null,null,null,null,null,null,null,null,null,null,null,null,null,null,null,null,null,null,null,null,null,null,null,null,null,"",""]
[null,null,null,null,null,null,null,null,null,null,null,null,null,null,null,null,null,null,null,null,null,null,null,null,null,null,null,null,null,null,null,null,null,null,null,null,null,null,null,null,null,null,null,null,null,null,null,null,null,"",""]
[null,null,null,null,null,null,null,null,null,null,null,null,null,null,null,null,null,null,null,null,null,null,null,null,null,null,null,null,null,null,null,null,null,null,null,null,null,null,null,null,null,null,null,null,null,null,null,null,null,"",""]
[null,null,null,null,null,null,null,null,null,null,null,null,null,null,null,null,null,null,null,null,null,null,null,null,null,null,null,null,null,null,null,null,null,null,null,null,null,null,null,null,null,null,null,null,null,null,null,null,null,"",""]
[null,null,null,null,null,null,null,null,null,null,null,null,null,null,null,null,null,null,null,null,null,null,null,null,null,null,null,null,null,null,null,null,null,null,null,null,null,null,null,null,null,null,null,null,null,null,null,null,null,"",""]
[null,null,null,null,null,null,null,null,null,null,null,null,null,null,null,null,null,null,null,null,null,null,null,null,null,null,null,null,null,null,null,null,null,null,null,null,null,null,null,null,null,null,null,null,null,null,null,null,null,"",""]
[null,null,null,null,null,null,null,null,null,null,null,null,null,null,null,null,null,null,null,null,null,null,null,null,null,null,null,null,null,null,null,null,null,null,null,null,null,null,null,null,null,null,null,null,null,null,null,null,null,"",""]
[null,null,null,null,null,null,null,null,null,null,null,null,null,null,null,null,null,null,null,null,null,null,null,null,null,null,null,null,null,null,null,null,null,null,null,null,null,null,null,null,null,null,null,null,null,null,null,null,null,"",""]
[null,null,null,null,null,null,null,null,null,null,null,null,null,null,null,null,null,null,null,null,null,null,null,null,null,null,null,null,null,null,null,null,null,null,null,null,null,null,null,null,null,null,null,null,null,null,null,null,null,"",""]
[null,null,null,null,null,null,null,null,null,null,null,null,null,null,null,null,null,null,null,null,null,null,null,null,null,null,null,null,null,null,null,null,null,null,null,null,null,null,null,null,null,null,null,null,null,null,null,null,null,"",""]
[null,null,null,null,null,null,null,null,null,null,null,null,null,null,null,null,null,null,null,null,null,null,null,null,null,null,null,null,null,null,null,null,null,null,null,null,null,null,null,null,null,null,null,null,null,null,null,null,null,"",""]
[null,null,null,null,null,null,null,null,null,null,null,null,null,null,null,null,null,null,null,null,null,null,null,null,null,null,null,null,null,null,null,null,null,null,null,null,null,null,null,null,null,null,null,null,null,null,null,null,null,"",""]
[null,null,null,null,null,null,null,null,null,null,null,null,null,null,null,null,null,null,null,null,null,null,null,null,null,null,null,null,null,null,null,null,null,null,null,null,null,null,null,null,null,null,null,null,null,null,null,null,null,"",""]
[null,null,null,null,null,null,null,null,null,null,null,null,null,null,null,null,null,null,null,null,null,null,null,null,null,null,null,null,null,null,null,null,null,null,null,null,null,null,null,null,null,null,null,null,null,null,null,null,null,"",""]
[null,null,null,null,null,null,null,null,null,null,null,null,null,null,null,null,null,null,null,null,null,null,null,null,null,null,null,null,null,null,null,null,null,null,null,null,null,null,null,null,null,null,null,null,null,null,null,null,null,"",""]
[null,null,null,null,null,null,null,null,null,null,null,null,null,null,null,null,null,null,null,null,null,null,null,null,null,null,null,null,null,null,null,null,null,null,null,null,null,null,null,null,null,null,null,null,null,null,null,null,null,"",""]
[null,null,null,null,null,null,null,null,null,null,null,null,null,null,null,null,null,null,null,null,null,null,null,null,null,null,null,null,null,null,null,null,null,null,null,null,null,null,null,null,null,null,null,null,null,null,null,null,null,"","",null,"20평대",0,0,0,0,0]
[null,null,null,null,null,null,null,null,null,null,null,null,null,null,null,null,null,null,null,null,null,null,null,null,null,null,null,null,null,null,null,null,null,null,null,null,null,null,null,null,null,null,null,null,null,null,null,null,null,"","",null,"30평대",0,0,0,0,0]
[null,null,null,null,null,null,null,null,null,null,null,null,null,null,null,null,null,null,null,null,null,null,null,null,null,null,null,null,null,null,null,null,null,null,null,null,null,null,null,null,null,null,null,null,null,null,null,null,null,"","",null,"40평대↑",0,0,0,0,0]
[null,null,null,null,null,null,null,null,null,null,null,null,null,null,null,null,null,null,null,null,null,null,null,null,null,null,null,null,null,null,null,null,null,null,null,null,null,null,null,null,null,null,null,null,null,null,null,null,null,"",""]
[null,null,null,null,null,null,null,null,null,null,null,null,null,null,null,null,null,null,null,null,null,null,null,null,null,null,null,null,null,null,null,null,null,null,null,null,null,null,null,null,null,null,null,null,null,null,null,null,null,"","",null,null,"10년 이하","10~20년","20~30년","30년 이상","합계"]
[null,null,null,null,null,null,null,null,null,null,null,null,null,null,null,null,null,null,null,null,null,null,null,null,null,null,null,null,null,null,null,null,null,null,null,null,null,null,null,null,null,null,null,null,null,null,null,null,null,"","",null,"20평대",{"$error":"#DIV/0!"},{"$error":"#DIV/0!"},{"$error":"#DIV/0!"},{"$error":"#DIV/0!"},{"$error":"#DIV/0!"}]
[null,null,null,null,null,null,null,null,null,null,null,null,null,null,null,null,null,null,null,null,null,null,null,null,null,null,null,null,null,null,null,null,null,null,null,null,null,null,null,null,null,null,null,null,null,null,null,null,null,"","",null,"40평대↑",{"$error":"#DIV/0!"},{"$error":"#DIV/0!"},{"$error":"#DIV/0!"},{"$error":"#DIV/0!"},{"$error":"#DIV/0!"}]
[null,null,null,null,null,null,null,null,null,null,null,null,null,null,null,null,null,null,null,null,null,null,null,null,null,null,null,null,null,null,null,null,null,null,null,null,null,null,null,null,null,null,null,null,null,null,null,null,null,"","",null,"합계",{"$error":"#DIV/0!"},{"$error":"#DIV/0!"},{"$error":"#DIV/0!"},{"$error":"#DIV/0!"},{"$error":"#DIV/0!"}]
[null,null,null,null,null,null,null,null,null,null,null,null,null,null,null,null,null,null,null,null,null,null,null,null,null,null,null,null,null,null,null,null,null,null,null,null,null,null,null,null,null,null,null,null,null,null,null,null,null,"",""]
[null,null,null,null,null,null,null,null,null,null,null,null,null,null,null,null,null,null,null,null,null,null,null,null,null,null,null,null,null,null,null,null,null,null,null,null,null,null,null,null,null,null,null,null,null,null,null,null,null,"",""]
[null,null,null,null,null,null,null,null,null,null,null,null,null,null,null,null,null,null,null,null,null,null,null,null,null,null,null,null,null,null,null,null,null,null,null,null,null,null,null,null,null,null,null,null,null,null,null,null,null,"",""]
[null,null,null,null,null,null,null,null,null,null,null,null,null,null,null,null,null,null,null,null,null,null,null,null,null,null,null,null,null,null,null,null,null,null,null,null,null,null,null,null,null,null,null,null,null,null,null,null,null,"",""]
[null,null,null,null,null,null,null,null,null,null,null,null,null,null,null,null,null,null,null,null,null,null,null,null,null,null,null,null,null,null,null,null,null,null,null,null,null,null,null,null,null,null,null,null,null,null,null,null,null,"",""]
[null,null,null,null,null,null,null,null,null,null,null,null,null,null,null,null,null,null,null,null,null,null,null,null,null,null,null,null,null,null,null,null,null,null,null,null,null,null,null,null,null,null,null,null,null,null,null,null,null,"",""]
[null,null,null,null,null,null,null,null,null,null,null,null,null,null,null,null,null,null,null,null,null,null,null,null,null,null,null,null,null,null,null,null,null,null,null,null,null,null,null,null,null,null,null,null,null,null,null,null,null,"",""]
[null,null,null,null,null,null,null,null,null,null,null,null,null,null,null,null,null,null,null,null,null,null,null,null,null,null,null,null,null,null,null,null,null,null,null,null,null,null,null,null,null,null,null,null,null,null,null,null,null,"",""]
[null,null,null,null,null,null,null,null,null,null,null,null,null,null,null,null,null,null,null,null,null,null,null,null,null,null,null,null,null,null,null,null,null,null,null,null,null,null,null,null,null,null,null,null,null,null,null,null,null,"",""]
[null,null,null,null,null,null,null,null,null,null,null,null,null,null,null,null,null,null,null,null,null,null,null,null,null,null,null,null,null,null,null,null,null,null,null,null,null,null,null,null,null,null,null,null,null,null,null,null,null,"",""]
[null,null,null,null,null,null,null,null,null,null,null,null,null,null,null,null,null,null,null,null,null,null,null,null,null,null,null,null,null,null,null,null,null,null,null,null,null,null,null,null,null,null,null,null,null,null,null,null,null,"",""]
[null,null,null,null,null,null,null,null,null,null,null,null,null,null,null,null,null,null,null,null,null,null,null,null,null,null,null,null,null,null,null,null,null,null,null,null,null,null,null,null,null,null,null,null,null,null,null,null,null,"",""]
[null,null,null,null,null,null,null,null,null,null,null,null,null,null,null,null,null,null,null,null,null,null,null,null,null,null,null,null,null,null,null,null,null,null,null,null,null,null,null,null,null,null,null,null,null,null,null,null,null,"",""]
[null,null,null,null,null,null,null,null,null,null,null,null,null,null,null,null,null,null,null,null,null,null,null,null,null,null,null,null,null,null,null,null,null,null,null,null,null,null,null,null,null,null,null,null,null,null,null,null,null,"",""]
[null,null,null,null,null,null,null,null,null,null,null,null,null,null,null,null,null,null,null,null,null,null,null,null,null,null,null,null,null,null,null,null,null,null,null,null,null,null,null,null,null,null,null,null,null,null,null,null,null,"",""]
[null,null,null,null,null,null,null,null,null,null,null,null,null,null,null,null,null,null,null,null,null,null,null,null,null,null,null,null,null,null,null,null,null,null,null,null,null,null,null,null,null,null,null,null,null,null,null,null,null,"",""]
[null,null,null,null,null,null,null,null,null,null,null,null,null,null,null,null,null,null,null,null,null,null,null,null,null,null,null,null,null,null,null,null,null,null,null,null,null,null,null,null,null,null,null,null,null,null,null,null,null,"",""]
[null,null,null,null,null,null,null,null,null,null,null,null,null,null,null,null,null,null,null,null,null,null,null,null,null,null,null,null,null,null,null,null,null,null,null,null,null,null,null,null,null,null,null,null,null,null,null,null,null,"",""]
[null,null,null,null,null,null,null,null,null,null,null,null,null,null,null,null,null,null,null,null,null,null,null,null,null,null,null,null,null,null,null,null,null,null,null,null,null,null,null,null,null,null,null,null,null,null,null,null,null,"",""]
[null,null,null,null,null,null,null,null,null,null,null,null,null,null,null,null,null,null,null,null,null,null,null,null,null,null,null,null,null,null,null,null,null,null,null,null,null,null,null,null,null,null,null,null,null,null,null,null,null,"",""]
[null,null,null,null,null,null,null,null,null,null,null,null,null,null,null,null,null,null,null,null,null,null,null,null,null,null,null,null,null,null,null,null,null,null,null,null,null,null,null,null,null,null,null,null,null,null,null,null,null,"",""]
[null,null,null,null,null,null,null,null,null,null,null,null,null,null,null,null,null,null,null,null,null,null,null,null,null,null,null,null,null,null,null,null,null,null,null,null,null,null,null,null,null,null,null,null,null,null,null,null,null,"",""]
[null,null,null,null,null,null,null,null,null,null,null,null,null,null,null,null,null,null,null,null,null,null,null,null,null,null,null,null,null,null,null,null,null,null,null,null,null,null,null,null,null,null,null,null,null,null,null,null,null,"",""]
[null,null,null,null,null,null,null,null,null,null,null,null,null,null,null,null,null,null,null,null,null,null,null,null,null,null,null,null,null,null,null,null,null,null,null,null,null,null,null,null,null,null,null,null,null,null,null,null,null,"",""]
[null,null,null,null,null,null,null,null,null,null,null,null,null,null,null,null,null,null,null,null,null,null,null,null,null,null,null,null,null,null,null,null,null,null,null,null,null,null,null,null,null,null,null,null,null,null,null,null,null,"",""]
[null,null,null,null,null,null,null,null,null,null,null,null,null,null,null,null,null,null,null,null,null,null,null,null,null,null,null,null,null,null,null,null,null,null,null,null,null,null,null,null,null,null,null,null,null,null,null,null,null,"",""]
[null,null,null,null,null,null,null,null,null,null,null,null,null,null,null,null,null,null,null,null,null,null,null,null,null,null,null,null,null,null,null,null,null,null,null,null,null,null,null,null,null,null,null,null,null,null,null,null,null,"",""]
[null,null,null,null,null,null,null,null,null,null,null,null,null,null,null,null,null,null,null,null,null,null,null,null,null,null,null,null,null,null,null,null,null,null,null,null,null,null,null,null,null,null,null,null,null,null,null,null,null,"",""]
[null,null,null,null,null,null,null,null,null,null,null,null,null,null,null,null,null,null,null,null,null,null,null,null,null,null,null,null,null,null,null,null,null,null,null,null,null,null,null,null,null,null,null,null,null,null,null,null,null,"",""]
[null,null,null,null,null,null,null,null,null,null,null,null,null,null,null,null,null,null,null,null,null,null,null,null,null,null,null,null,null,null,null,null,null,null,null,null,null,null,null,null,null,null,null,null,null,null,null,null,null,"",""]
[null,null,null,null,null,null,null,null,null,null,null,null,null,null,null,null,null,null,null,null,null,null,null,null,null,null,null,null,null,null,null,null,null,null,null,null,null,null,null,null,null,null,null,null,null,null,null,null,null,"",""]
[null,null,null,null,null,null,null,null,null,null,null,null,null,null,null,null,null,null,null,null,null,null,null,null,null,null,null,null,null,null,null,null,null,null,null,null,null,null,null,null,null,null,null,null,null,null,null,null,null,"",""]
[null,null,null,null,null,null,null,null,null,null,null,null,null,null,null,null,null,null,null,null,null,null,null,null,null,null,null,null,null,null,null,null,null,null,null,null,null,null,null,null,null,null,null,null,null,null,null,null,null,"",""]
[null,null,null,null,null,null,null,null,null,null,null,null,null,null,null,null,null,null,null,null,null,null,null,null,null,null,null,null,null,null,null,null,null,null,null,null,null,null,null,null,null,null,null,null,null,null,null,null,null,"",""]
[null,null,null,null,null,null,null,null,null,null,null,null,null,null,null,null,null,null,null,null,null,null,null,null,null,null,null,null,null,null,null,null,null,null,null,null,null,null,null,null,null,null,null,null,null,null,null,null,null,"",""]
[null,null,null,null,null,null,null,null,null,null,null,null,null,null,null,null,null,null,null,null,null,null,null,null,null,null,null,null,null,null,null,null,null,null,null,null,null,null,null,null,null,null,null,null,null,null,null,null,null,"",""]
[null,null,null,null,null,null,null,null,null,null,null,null,null,null,null,null,null,null,null,null,null,null,null,null,null,null,null,null,null,null,null,null,null,null,null,null,null,null,null,null,null,null,null,null,null,null,null,null,null,"",""]
[null,null,null,null,null,null,null,null,null,null,null,null,null,null,null,null,null,null,null,null,null,null,null,null,null,null,null,null,null,null,null,null,null,null,null,null,null,null,null,null,null,null,null,null,null,null,null,null,null,"",""]
[null,null,null,null,null,null,null,null,null,null,null,null,null,null,null,null,null,null,null,null,null,null,null,null,null,null,null,null,null,null,null,null,null,null,null,null,null,null,null,null,null,null,null,null,null,null,null,null,null,"",""]
[null,null,null,null,null,null,null,null,null,null,null,null,null,null,null,null,null,null,null,null,null,null,null,null,null,null,null,null,null,null,null,null,null,null,null,null,null,null,null,null,null,null,null,null,null,null,null,null,null,"",""]
[null,null,null,null,null,null,null,null,null,null,null,null,null,null,null,null,null,null,null,null,null,null,null,null,null,null,null,null,null,null,null,null,null,null,null,null,null,null,null,null,null,null,null,null,null,null,null,null,null,"",""]
[null,null,null,null,null,null,null,null,null,null,null,null,null,null,null,null,null,null,null,null,null,null,null,null,null,null,null,null,null,null,null,null,null,null,null,null,null,null,null,null,null,null,null,null,null,null,null,null,null,"",""]
[null,null,null,null,null,null,null,null,null,null,null,null,null,null,null,null,null,null,null,null,null,null,null,null,null,null,null,null,null,null,null,null,null,null,null,null,null,null,null,null,null,null,null,null,null,null,null,null,null,"",""]
[null,null,null,null,null,null,null,null,null,null,null,null,null,null,null,null,null,null,null,null,null,null,null,null,null,null,null,null,null,null,null,null,null,null,null,null,null,null,null,null,null,null,null,null,null,null,null,null,null,"",""]
[null,null,null,null,null,null,null,null,null,null,null,null,null,null,null,null,null,null,null,null,null,null,null,null,null,null,null,null,null,null,null,null,null,null,null,null,null,null,null,null,null,null,null,null,null,null,null,null,null,"",""]
[null,null,null,null,null,null,null,null,null,null,null,null,null,null,null,null,null,null,null,null,null,null,null,null,null,null,null,null,null,null,null,null,null,null,null,null,null,null,null,null,null,null,null,null,null,null,null,null,null,"",""]
[null,null,null,null,null,null,null,null,null,null,null,null,null,null,null,null,null,null,null,null,null,null,null,null,null,null,null,null,null,null,null,null,null,null,null,null,null,null,null,null,null,null,null,null,null,null,null,null,null,"",""]
[null,null,null,null,null,null,null,null,null,null,null,null,null,null,null,null,null,null,null,null,null,null,null,null,null,null,null,null,null,null,null,null,null,null,null,null,null,null,null,null,null,null,null,null,null,null,null,null,null,"",""]
[null,null,null,null,null,null,null,null,null,null,null,null,null,null,null,null,null,null,null,null,null,null,null,null,null,null,null,null,null,null,null,null,null,null,null,null,null,null,null,null,null,null,null,null,null,null,null,null,null,"",""]
[null,null,null,null,null,null,null,null,null,null,null,null,null,null,null,null,null,null,null,null,null,null,null,null,null,null,null,null,null,null,null,null,null,null,null,null,null,null,null,null,null,null,null,null,null,null,null,null,null,"",""]
[null,null,null,null,null,null,null,null,null,null,null,null,null,null,null,null,null,null,null,null,null,null,null,null,null,null,null,null,null,null,null,null,null,null,null,null,null,null,null,null,null,null,null,null,null,null,null,null,null,"",""]
[null,null,null,null,null,null,null,null,null,null,null,null,null,null,null,null,null,null,null,null,null,null,null,null,null,null,null,null,null,null,null,null,null,null,null,null,null,null,null,null,null,null,null,null,null,null,null,null,null,"",""]
[null,null,null,null,null,null,null,null,null,null,null,null,null,null,null,null,null,null,null,null,null,null,null,null,null,null,null,null,null,null,null,null,null,null,null,null,null,null,null,null,null,null,null,null,null,null,null,null,null,"",""]
[null,null,null,null,null,null,null,null,null,null,null,null,null,null,null,null,null,null,null,null,null,null,null,null,null,null,null,null,null,null,null,null,null,null,null,null,null,null,null,null,null,null,null,null,null,null,null,null,null,"",""]
[null,null,null,null,null,null,null,null,null,null,null,null,null,null,null,null,null,null,null,null,null,null,null,null,null,null,null,null,null,null,null,null,null,null,null,null,null,null,null,null,null,null,null,null,null,null,null,null,null,"",""]
[null,null,null,null,null,null,null,null,null,null,null,null,null,null,null,null,null,null,null,null,null,null,null,null,null,null,null,null,null,null,null,null,null,null,null,null,null,null,null,null,null,null,null,null,null,null,null,null,null,"",""]
[null,null,null,null,null,null,null,null,null,null,null,null,null,null,null,null,null,null,null,null,null,null,null,null,null,null,null,null,null,null,null,null,null,null,null,null,null,null,null,null,null,null,null,null,null,null,null,null,null,"",""]
[null,null,null,null,null,null,null,null,null,null,null,null,null,null,null,null,null,null,null,null,null,null,null,null,null,null,null,null,null,null,null,null,null,null,null,null,null,null,null,null,null,null,null,null,null,null,null,null,null,"",""]
[null,null,null,null,null,null,null,null,null,null,null,null,null,null,null,null,null,null,null,null,null,null,null,null,null,null,null,null,null,null,null,null,null,null,null,null,null,null,null,null,null,null,null,null,null,null,null,null,null,"",""]
[null,null,null,null,null,null,null,null,null,null,null,null,null,null,null,null,null,null,null,null,null,null,null,null,null,null,null,null,null,null,null,null,null,null,null,null,null,null,null,null,null,null,null,null,null,null,null,null,null,"",""]
[null,null,null,null,null,null,null,null,null,null,null,null,null,null,null,null,null,null,null,null,null,null,null,null,null,null,null,null,null,null,null,null,null,null,null,null,null,null,null,null,null,null,null,null,null,null,null,null,null,"","",null,"20평대",0,0,0,0,0]
[null,null,null,null,null,null,null,null,null,null,null,null,null,null,null,null,null,null,null,null,null,null,null,null,null,null,null,null,null,null,null,null,null,null,null,null,null,null,null,null,null,null,null,null,null,null,null,null,null,"","",null,"30평대",0,0,0,0,0]
[null,null,null,null,null,null,null,null,null,null,null,null,null,null,null,null,null,null,null,null,null,null,null,null,null,null,null,null,null,null,null,null,null,null,null,null,null,null,null,null,null,null,null,null,null,null,null,null,null,"","",null,"합계",0,0,0,0,0]
[null,null,null,null,null,null,null,null,null,null,null,null,null,null,null,null,null,null,null,null,null,null,null,null,null,null,null,null,null,null,null,null,null,null,null,null,null,null,null,null,null,null,null,null,null,null,null,null,null,"",""]
[null,null,null,null,null,null,null,null,null,null,null,null,null,null,null,null,null,null,null,null,null,null,null,null,null,null,null,null,null,null,null,null,null,null,null,null,null,null,null,null,null,null,null,null,null,null,null,null,null,"","",null,null,"10년 이하","10~20년","20~30년","30년 이상","합계"]
[null,null,null,null,null,null,null,null,null,null,null,null,null,null,null,null,null,null,null,null,null,null,null,null,null,null,null,null,null,null,null,null,null,null,null,null,null,null,null,null,null,null,null,null,null,null,null,null,null,"","",null,"20평대",{"$error":"#DIV/0!"},{"$error":"#DIV/0!"},{"$error":"#DIV/0!"},{"$error":"#DIV/0!"},{"$error":"#DIV/0!"}]
[null,null,null,null,null,null,null,null,null,null,null,null,null,null,null,null,null,null,null,null,null,null,null,null,null,null,null,null,null,null,null,null,null,null,null,null,null,null,null,null,null,null,null,null,null,null,null,null,null,"","",null,"30평대",{"$error":"#DIV/0!"},{"$error":"#DIV/0!"},{"$error":"#DIV/0!"},{"$error":"#DIV/0!"},{"$error":"#DIV/0!"}]
[null,null,null,null,null,null,null,null,null,null,null,null,null,null,null,null,null,null,null,null,null,null,null,null,null,null,null,null,null,null,null,null,null,null,null,null,null,null,null,null,null,null,null,null,null,null,null,null,null,"","",null,"합계",{"$error":"#DIV/0!"},{"$error":"#DIV/0!"},{"$error":"#DIV/0!"},{"$error":"#DIV/0!"},{"$error":"#DIV/0!"}]
[null,null,null,null,null,null,null,null,null,null,null,null,null,null,null,null,null,null,null,null,null,null,null,null,null,null,null,null,null,null,null,null,null,null,null,null,null,null,null,null,null,null,null,null,null,null,null,null,null,"",""]
[null,null,null,null,null,null,null,null,null,null,null,null,null,null,null,null,null,null,null,null,null,null,null,null,null,null,null,null,null,null,null,null,null,null,null,null,null,null,null,null,null,null,null,null,null,null,null,null,null,"",""]
[null,null,null,null,null,null,null,null,null,null,null,null,null,null,null,null,null,null,null,null,null,null,null,null,null,null,null,null,null,null,null,null,null,null,null,null,null,null,null,null,null,null,null,null,null,null,null,null,null,"",""]
[null,null,null,null,null,null,null,null,null,null,null,null,null,null,null,null,null,null,null,null,null,null,null,null,null,null,null,null,null,null,null,null,null,null,null,null,null,null,null,null,null,null,null,null,null,null,null,null,null,"",""]
[null,null,null,null,null,null,null,null,null,null,null,null,null,null,null,null,null,null,null,null,null,null,null,null,null,null,null,null,null,null,null,null,null,null,null,null,null,null,null,null,null,null,null,null,null,null,null,null,null,"",""]
[null,null,null,null,null,null,null,null,null,null,null,null,null,null,null,null,null,null,null,null,null,null,null,null,null,null,null,null,null,null,null,null,null,null,null,null,null,null,null,null,null,null,null,null,null,null,null,null,null,"",""]
[null,null,null,null,null,null,null,null,null,null,null,null,null,null,null,null,null,null,null,null,null,null,null,null,null,null,null,null,null,null,null,null,null,null,null,null,null,null,null,null,null,null,null,null,null,null,null,null,null,"",""]
[null,null,null,null,null,null,null,null,null,null,null,null,null,null,null,null,null,null,null,null,null,null,null,null,null,null,null,null,null,null,null,null,null,null,null,null,null,null,null,null,null,null,null,null,null,null,null,null,null,"",""]
[null,null,null,null,null,null,null,null,null,null,null,null,null,null,null,null,null,null,null,null,null,null,null,null,null,null,null,null,null,null,null,null,null,null,null,null,null,null,null,null,null,null,null,null,null,null,null,null,null,"",""]
[null,null,null,null,null,null,null,null,null,null,null,null,null,null,null,null,null,null,null,null,null,null,null,null,null,null,null,null,null,null,null,null,null,null,null,null,null,null,null,null,null,null,null,null,null,null,null,null,null,"",""]
[null,null,null,null,null,null,null,null,null,null,null,null,null,null,null,null,null,null,null,null,null,null,null,null,null,null,null,null,null,null,null,null,null,null,null,null,null,null,null,null,null,null,null,null,null,null,null,null,null,"","",null,"20평대",0,0,0,0,0]
[null,null,null,null,null,null,null,null,null,null,null,null,null,null,null,null,null,null,null,null,null,null,null,null,null,null,null,null,null,null,null,null,null,null,null,null,null,null,null,null,null,null,null,null,null,null,null,null,null,"","",null,"30평대",0,0,0,0,0]
[null,null,null,null,null,null,null,null,null,null,null,null,null,null,null,null,null,null,null,null,null,null,null,null,null,null,null,null,null,null,null,null,null,null,null,null,null,null,null,null,null,null,null,null,null,null,null,null,null,"","",null,"40평대↑",0,0,0,0,0]
[null,null,null,null,null,null,null,null,null,null,null,null,null,null,null,null,null,null,null,null,null,null,null,null,null,null,null,null,null,null,null,null,null,null,null,null,null,null,null,null,null,null,null,null,null,null,null,null,null,"",""]
[null,null,null,null,null,null,null,null,null,null,null,null,null,null,null,null,null,null,null,null,null,null,null,null,null,null,null,null,null,null,null,null,null,null,null,null,null,null,null,null,null,null,null,null,null,null,null,null,null,"","",null,"10평대",{"$error":"#DIV/0!"},{"$error":"#DIV/0!"},{"$error":"#DIV/0!"},{"$error":"#DIV/0!"},{"$error":"#DIV/0!"}]
[null,null,null,null,null,null,null,null,null,null,null,null,null,null,null,null,null,null,null,null,null,null,null,null,null,null,null,null,null,null,null,null,null,null,null,null,null,null,null,null,null,null,null,null,null,null,null,null,null,"","",null,"30평대",{"$error":"#DIV/0!"},{"$error":"#DIV/0!"},{"$error":"#DIV/0!"},{"$error":"#DIV/0!"},{"$error":"#DIV/0!"}]
[null,null,null,null,null,null,null,null,null,null,null,null,null,null,null,null,null,null,null,null,null,null,null,null,null,null,null,null,null,null,null,null,null,null,null,null,null,null,null,null,null,null,null,null,null,null,null,null,null,"","",null,"40평대↑",{"$error":"#DIV/0!"},{"$error":"#DIV/0!"},{"$error":"#DIV/0!"},{"$error":"#DIV/0!"},{"$error":"#DIV/0!"}]
[null,null,null,null,null,null,null,null,null,null,null,null,null,null,null,null,null,null,null,null,null,null,null,null,null,null,null,null,null,null,null,null,null,null,null,null,null,null,null,null,null,null,null,null,null,null,null,null,null,"","",null,"합계",{"$error":"#DIV/0!"},{"$error":"#DIV/0!"},{"$error":"#DIV/0!"},{"$error":"#DIV/0!"},{"$error":"#DIV/0!"}]
[null,null,null,null,null,null,null,null,null,null,null,null,null,null,null,null,null,null,null,null,null,null,null,null,null,null,null,null,null,null,null,null,null,null,null,null,null,null,null,null,null,null,null,null,null,null,null,null,null,"",""]
[null,null,null,null,null,null,null,null,null,null,null,null,null,null,null,null,null,null,null,null,null,null,null,null,null,null,null,null,null,null,null,null,null,null,null,null,null,null,null,null,null,null,null,null,null,null,null,null,null,"",""]
[null,null,null,null,null,null,null,null,null,null,null,null,null,null,null,null,null,null,null,null,null,null,null,null,null,null,null,null,null,null,null,null,null,null,null,null,null,null,null,null,null,null,null,null,null,null,null,null,null,"",""]
[null,null,null,null,null,null,null,null,null,null,null,null,null,null,null,null,null,null,null,null,null,null,null,null,null,null,null,null,null,null,null,null,null,null,null,null,null,null,null,null,null,null,null,null,null,null,null,null,null,"",""]
[null,null,null,null,null,null,null,null,null,null,null,null,null,null,null,null,null,null,null,null,null,null,null,null,null,null,null,null,null,null,null,null,null,null,null,null,null,null,null,null,null,null,null,null,null,null,null,null,null,"",""]
[null,null,null,null,null,null,null,null,null,null,null,null,null,null,null,null,null,null,null,null,null,null,null,null,null,null,null,null,null,null,null,null,null,null,null,null,null,null,null,null,null,null,null,null,null,null,null,null,null,"",""]
[null,null,null,null,null,null,null,null,null,null,null,null,null,null,null,null,null,null,null,null,null,null,null,null,null,null,null,null,null,null,null,null,null,null,null,null,null,null,null,null,null,null,null,null,null,null,null,null,null,"",""]
[null,null,null,null,null,null,null,null,null,null,null,null,null,null,null,null,null,null,null,null,null,null,null,null,null,null,null,null,null,null,null,null,null,null,null,null,null,null,null,null,null,null,null,null,null,null,null,null,null,"",""]
[null,null,null,null,null,null,null,null,null,null,null,null,null,null,null,null,null,null,null,null,null,null,null,null,null,null,null,null,null,null,null,null,null,null,null,null,null,null,null,null,null,null,null,null,null,null,null,null,null,"",""]
[null,null,null,null,null,null,null,null,null,null,null,null,null,null,null,null,null,null,null,null,null,null,null,null,null,null,null,null,null,null,null,null,null,null,null,null,null,null,null,null,null,null,null,null,null,null,null,null,null,"",""]
[null,null,null,null,null,null,null,null,null,null,null,null,null,null,null,null,null,null,null,null,null,null,null,null,null,null,null,null,null,null,null,null,null,null,null,null,null,null,null,null,null,null,null,null,null,null,null,null,null,"",""]
[null,null,null,null,null,null,null,null,null,null,null,null,null,null,null,null,null,null,null,null,null,null,null,null,null,null,null,null,null,null,null,null,null,null,null,null,null,null,null,null,null,null,null,null,null,null,null,null,null,"",""]
[null,null,null,null,null,null,null,null,null,null,null,null,null,null,null,null,null,null,null,null,null,null,null,null,null,null,null,null,null,null,null,null,null,null,null,null,null,null,null,null,null,null,null,null,null,null,null,null,null,"",""]
[null,null,null,null,null,null,null,null,null,null,null,null,null,null,null,null,null,null,null,null,null,null,null,null,null,null,null,null,null,null,null,null,null,null,null,null,null,null,null,null,null,null,null,null,null,null,null,null,null,"",""]
[null,null,null,null,null,null,null,null,null,null,null,null,null,null,null,null,null,null,null,null,null,null,null,null,null,null,null,null,null,null,null,null,null,null,null,null,null,null,null,null,null,null,null,null,null,null,null,null,null,"",""]
[null,null,null,null,null,null,null,null,null,null,null,null,null,null,null,null,null,null,null,null,null,null,null,null,null,null,null,null,null,null,null,null,null,null,null,null,null,null,null,null,null,null,null,null,null,null,null,null,null,"",""]
[null,null,null,null,null,null,null,null,null,null,null,null,null,null,null,null,null,null,null,null,null,null,null,null,null,null,null,null,null,null,null,null,null,null,null,null,null,null,null,null,null,null,null,null,null,null,null,null,null,"",""]
[null,null,null,null,null,null,null,null,null,null,null,null,null,null,null,null,null,null,null,null,null,null,null,null,null,null,null,null,null,null,null,null,null,null,null,null,null,null,null,null,null,null,null,null,null,null,null,null,null,"",""]
[null,null,null,null,null,null,null,null,null,null,null,null,null,null,null,null,null,null,null,null,null,null,null,null,null,null,null,null,null,null,null,null,null,null,null,null,null,null,null,null,null,null,null,null,null,null,null,null,null,"",""]
[null,null,null,null,null,null,null,null,null,null,null,null,null,null,null,null,null,null,null,null,null,null,null,null,null,null,null,null,null,null,null,null,null,null,null,null,null,null,null,null,null,null,null,null,null,null,null,null,null,"",""]
[null,null,null,null,null,null,null,null,null,null,null,null,null,null,null,null,null,null,null,null,null,null,null,null,null,null,null,null,null,null,null,null,null,null,null,null,null,null,null,null,null,null,null,null,null,null,null,null,null,"",""]
[null,null,null,null,null,null,null,null,null,null,null,null,null,null,null,null,null,null,null,null,null,null,null,null,null,null,null,null,null,null,null,null,null,null,null,null,null,null,null,null,null,null,null,null,null,null,null,null,null,"",""]
[null,null,null,null,null,null,null,null,null,null,null,null,null,null,null,null,null,null,null,null,null,null,null,null,null,null,null,null,null,null,null,null,null,null,null,null,null,null,null,null,null,null,null,null,null,null,null,null,null,"",""]
[null,null,null,null,null,null,null,null,null,null,null,null,null,null,null,null,null,null,null,null,null,null,null,null,null,null,null,null,null,null,null,null,null,null,null,null,null,null,null,null,null,null,null,null,null,null,null,null,null,"",""]
[null,null,null,null,null,null,null,null,null,null,null,null,null,null,null,null,null,null,null,null,null,null,null,null,null,null,null,null,null,null,null,null,null,null,null,null,null,null,null,null,null,null,null,null,null,null,null,null,null,"",""]
[null,null,null,null,null,null,null,null,null,null,null,null,null,null,null,null,null,null,null,null,null,null,null,null,null,null,null,null,null,null,null,null,null,null,null,null,null,null,null,null,null,null,null,null,null,null,null,null,null,"",""]
[null,null,null,null,null,null,null,null,null,null,null,null,null,null,null,null,null,null,null,null,null,null,null,null,null,null,null,null,null,null,null,null,null,null,null,null,null,null,null,null,null,null,null,null,null,null,null,null,null,"",""]
[null,null,null,null,null,null,null,null,null,null,null,null,null,null,null,null,null,null,null,null,null,null,null,null,null,null,null,null,null,null,null,null,null,null,null,null,null,null,null,null,null,null,null,null,null,null,null,null,null,"",""]
[null,null,null,null,null,null,null,null,null,null,null,null,null,null,null,null,null,null,null,null,null,null,null,null,null,null,null,null,null,null,null,null,null,null,null,null,null,null,null,null,null,null,null,null,null,null,null,null,null,"",""]
[null,null,null,null,null,null,null,null,null,null,null,null,null,null,null,null,null,null,null,null,null,null,null,null,null,null,null,null,null,null,null,null,null,null,null,null,null,null,null,null,null,null,null,null,null,null,null,null,null,"",""]
[null,null,null,null,null,null,null,null,null,null,null,null,null,null,null,null,null,null,null,null,null,null,null,null,null,null,null,null,null,null,null,null,null,null,null,null,null,null,null,null,null,null,null,null,null,null,null,null,null,"",""]
[null,null,null,null,null,null,null,null,null,null,null,null,null,null,null,null,null,null,null,null,null,null,null,null,null,null,null,null,null,null,null,null,null,null,null,null,null,null,null,null,null,null,null,null,null,null,null,null,null,"",""]
[null,null,null,null,null,null,null,null,null,null,null,null,null,null,null,null,null,null,null,null,null,null,null,null,null,null,null,null,null,null,null,null,null,null,null,null,null,null,null,null,null,null,null,null,null,null,null,null,null,"",""]
[null,null,null,null,null,null,null,null,null,null,null,null,null,null,null,null,null,null,null,null,null,null,null,null,null,null,null,null,null,null,null,null,null,null,null,null,null,null,null,null,null,null,null,null,null,null,null,null,null,"",""]
[null,null,null,null,null,null,null,null,null,null,null,null,null,null,null,null,null,null,null,null,null,null,null,null,null,null,null,null,null,null,null,null,null,null,null,null,null,null,null,null,null,null,null,null,null,null,null,null,null,"","",null,"20평대",0,0,0,0,0]
[null,null,null,null,null,null,null,null,null,null,null,null,null,null,null,null,null,null,null,null,null,null,null,null,null,null,null,null,null,null,null,null,null,null,null,null,null,null,null,null,null,null,null,null,null,null,null,null,null,"","",null,"30평대",0,0,0,0,0]
[null,null,null,null,null,null,null,null,null,null,null,null,null,null,null,null,null,null,null,null,null,null,null,null,null,null,null,null,null,null,null,null,null,null,null,null,null,null,null,null,null,null,null,null,null,null,null,null,null,"","",null,"40평대↑",0,0,0,0,0]
[null,null,null,null,null,null,null,null,null,null,null,null,null,null,null,null,null,null,null,null,null,null,null,null,null,null,null,null,null,null,null,null,null,null,null,null,null,null,null,null,null,null,null,null,null,null,null,null,null,"","",null,"합계",0,0,0,0,0]
[null,null,null,null,null,null,null,null,null,null,null,null,null,null,null,null,null,null,null,null,null,null,null,null,null,null,null,null,null,null,null,null,null,null,null,null,null,null,null,null,null,null,null,null,null,null,null,null,null,"","",null,null,"10년 이하","10~20년","20~30년","30년 이상","합계"]
[null,null,null,null,null,null,null,null,null,null,null,null,null,null,null,null,null,null,null,null,null,null,null,null,null,null,null,null,null,null,null,null,null,null,null,null,null,null,null,null,null,null,null,null,null,null,null,null,null,"","",null,"10평대",{"$error":"#DIV/0!"},{"$error":"#DIV/0!"},{"$error":"#DIV/0!"},{"$error":"#DIV/0!"},{"$error":"#DIV/0!"}]
[null,null,null,null,null,null,null,null,null,null,null,null,null,null,null,null,null,null,null,null,null,null,null,null,null,null,null,null,null,null,null,null,null,null,null,null,null,null,null,null,null,null,null,null,null,null,null,null,null,"","",null,"20평대",{"$error":"#DIV/0!"},{"$error":"#DIV/0!"},{"$error":"#DIV/0!"},{"$error":"#DIV/0!"},{"$error":"#DIV/0!"}]
[null,null,null,null,null,null,null,null,null,null,null,null,null,null,null,null,null,null,null,null,null,null,null,null,null,null,null,null,null,null,null,null,null,null,null,null,null,null,null,null,null,null,null,null,null,null,null,null,null,"","",null,"40평대↑",{"$error":"#DIV/0!"},{"$error":"#DIV/0!"},{"$error":"#DIV/0!"},{"$error":"#DIV/0!"},{"$error":"#DIV/0!"}]
[null,null,null,null,null,null,null,null,null,null,null,null,null,null,null,null,null,null,null,null,null,null,null,null,null,null,null,null,null,null,null,null,null,null,null,null,null,null,null,null,null,null,null,null,null,null,null,null,null,"","",null,"합계",{"$error":"#DIV/0!"},{"$error":"#DIV/0!"},{"$error":"#DIV/0!"},{"$error":"#DIV/0!"},{"$error":"#DIV/0!"}]
[null,null,null,null,null,null,null,null,null,null,null,null,null,null,null,null,null,null,null,null,null,null,null,null,null,null,null,null,null,null,null,null,null,null,null,null,null,null,null,null,null,null,null,null,null,null,null,null,null,"",""]
[null,null,null,null,null,null,null,null,null,null,null,null,null,null,null,null,null,null,null,null,null,null,null,null,null,null,null,null,null,null,null,null,null,null,null,null,null,null,null,null,null,null,null,null,null,null,null,null,null,"",""]
[null,null,null,null,null,null,null,null,null,null,null,null,null,null,null,null,null,null,null,null,null,null,null,null,null,null,null,null,null,null,null,null,null,null,null,null,null,null,null,null,null,null,null,null,null,null,null,null,null,"",""]
[null,null,null,null,null,null,null,null,null,null,null,null,null,null,null,null,null,null,null,null,null,null,null,null,null,null,null,null,null,null,null,null,null,null,null,null,null,null,null,null,null,null,null,null,null,null,null,null,null,"",""]
[null,null,null,null,null,null,null,null,null,null,null,null,null,null,null,null,null,null,null,null,null,null,null,null,null,null,null,null,null,null,null,null,null,null,null,null,null,null,null,null,null,null,null,null,null,null,null,null,null,"",""]
[null,null,null,null,null,null,null,null,null,null,null,null,null,null,null,null,null,null,null,null,null,null,null,null,null,null,null,null,null,null,null,null,null,null,null,null,null,null,null,null,null,null,null,null,null,null,null,null,null,"",""]
[null,null,null,null,null,null,null,null,null,null,null,null,null,null,null,null,null,null,null,null,null,null,null,null,null,null,null,null,null,null,null,null,null,null,null,null,null,null,null,null,null,null,null,null,null,null,null,null,null,"",""]
[null,null,null,null,null,null,null,null,null,null,null,null,null,null,null,null,null,null,null,null,null,null,null,null,null,null,null,null,null,null,null,null,null,null,null,null,null,null,null,null,null,null,null,null,null,null,null,null,null,"",""]
[null,null,null,null,null,null,null,null,null,null,null,null,null,null,null,null,null,null,null,null,null,null,null,null,null,null,null,null,null,null,null,null,null,null,null,null,null,null,null,null,null,null,null,null,null,null,null,null,null,"",""]
[null,null,null,null,null,null,null,null,null,null,null,null,null,null,null,null,null,null,null,null,null,null,null,null,null,null,null,null,null,null,null,null,null,null,null,null,null,null,null,null,null,null,null,null,null,null,null,null,null,"",""]
[null,null,null,null,null,null,null,null,null,null,null,null,null,null,null,null,null,null,null,null,null,null,null,null,null,null,null,null,null,null,null,null,null,null,null,null,null,null,null,null,null,null,null,null,null,null,null,null,null,"",""]
[null,null,null,null,null,null,null,null,null,null,null,null,null,null,null,null,null,null,null,null,null,null,null,null,null,null,null,null,null,null,null,null,null,null,null,null,null,null,null,null,null,null,null,null,null,null,null,null,null,"",""]
[null,null,null,null,null,null,null,null,null,null,null,null,null,null,null,null,null,null,null,null,null,null,null,null,null,null,null,null,null,null,null,null,null,null,null,null,null,null,null,null,null,null,null,null,null,null,null,null,null,"",""]
[null,null,null,null,null,null,null,null,null,null,null,null,null,null,null,null,null,null,null,null,null,null,null,null,null,null,null,null,null,null,null,null,null,null,null,null,null,null,null,null,null,null,null,null,null,null,null,null,null,"",""]
[null,null,null,null,null,null,null,null,null,null,null,null,null,null,null,null,null,null,null,null,null,null,null,null,null,null,null,null,null,null,null,null,null,null,null,null,null,null,null,null,null,null,null,null,null,null,null,null,null,"",""]
[null,null,null,null,null,null,null,null,null,null,null,null,null,null,null,null,null,null,null,null,null,null,null,null,null,null,null,null,null,null,null,null,null,null,null,null,null,null,null,null,null,null,null,null,null,null,null,null,null,"",""]
[null,null,null,null,null,null,null,null,null,null,null,null,null,null,null,null,null,null,null,null,null,null,null,null,null,null,null,null,null,null,null,null,null,null,null,null,null,null,null,null,null,null,null,null,null,null,null,null,null,"",""]
[null,null,null,null,null,null,null,null,null,null,null,null,null,null,null,null,null,null,null,null,null,null,null,null,null,null,null,null,null,null,null,null,null,null,null,null,null,null,null,null,null,null,null,null,null,null,null,null,null,"",""]
[null,null,null,null,null,null,null,null,null,null,null,null,null,null,null,null,null,null,null,null,null,null,null,null,null,null,null,null,null,null,null,null,null,null,null,null,null,null,null,null,null,null,null,null,null,null,null,null,null,"",""]
[null,null,null,null,null,null,null,null,null,null,null,null,null,null,null,null,null,null,null,null,null,null,null,null,null,null,null,null,null,null,null,null,null,null,null,null,null,null,null,null,null,null,null,null,null,null,null,null,null,"",""]
[null,null,null,null,null,null,null,null,null,null,null,null,null,null,null,null,null,null,null,null,null,null,null,null,null,null,null,null,null,null,null,null,null,null,null,null,null,null,null,null,null,null,null,null,null,null,null,null,null,"",""]
[null,null,null,null,null,null,null,null,null,null,null,null,null,null,null,null,null,null,null,null,null,null,null,null,null,null,null,null,null,null,null,null,null,null,null,null,null,null,null,null,null,null,null,null,null,null,null,null,null,"",""]
[null,null,null,null,null,null,null,null,null,null,null,null,null,null,null,null,null,null,null,null,null,null,null,null,null,null,null,null,null,null,null,null,null,null,null,null,null,null,null,null,null,null,null,null,null,null,null,null,null,"",""]
[null,null,null,null,null,null,null,null,null,null,null,null,null,null,null,null,null,null,null,null,null,null,null,null,null,null,null,null,null,null,null,null,null,null,null,null,null,null,null,null,null,null,null,null,null,null,null,null,null,"",""]
[null,null,null,null,null,null,null,null,null,null,null,null,null,null,null,null,null,null,null,null,null,null,null,null,null,null,null,null,null,null,null,null,null,null,null,null,null,null,null,null,null,null,null,null,null,null,null,null,null,"",""]
[null,null,null,null,null,null,null,null,null,null,null,null,null,null,null,null,null,null,null,null,null,null,null,null,null,null,null,null,null,null,null,null,null,null,null,null,null,null,null,null,null,null,null,null,null,null,null,null,null,"",""]
[null,null,null,null,null,null,null,null,null,null,null,null,null,null,null,null,null,null,null,null,null,null,null,null,null,null,null,null,null,null,null,null,null,null,null,null,null,null,null,null,null,null,null,null,null,null,null,null,null,"",""]
[null,null,null,null,null,null,null,null,null,null,null,null,null,null,null,null,null,null,null,null,null,null,null,null,null,null,null,null,null,null,null,null,null,null,null,null,null,null,null,null,null,null,null,null,null,null,null,null,null,"",""]
[null,null,null,null,null,null,null,null,null,null,null,null,null,null,null,null,null,null,null,null,null,null,null,null,null,null,null,null,null,null,null,null,null,null,null,null,null,null,null,null,null,null,null,null,null,null,null,null,null,"",""]
[null,null,null,null,null,null,null,null,null,null,null,null,null,null,null,null,null,null,null,null,null,null,null,null,null,null,null,null,null,null,null,null,null,null,null,null,null,null,null,null,null,null,null,null,null,null,null,null,null,"",""]
[null,null,null,null,null,null,null,null,null,null,null,null,null,null,null,null,null,null,null,null,null,null,null,null,null,null,null,null,null,null,null,null,null,null,null,null,null,null,null,null,null,null,null,null,null,null,null,null,null,"",""]
[null,null,null,null,null,null,null,null,null,null,null,null,null,null,null,null,null,null,null,null,null,null,null,null,null,null,null,null,null,null,null,null,null,null,null,null,null,null,null,null,null,null,null,null,null,null,null,null,null,"",""]
[null,null,null,null,null,null,null,null,null,null,null,null,null,null,null,null,null,null,null,null,null,null,null,null,null,null,null,null,null,null,null,null,null,null,null,null,null,null,null,null,null,null,null,null,null,null,null,null,null,"",""]
[null,null,null,null,null,null,null,null,null,null,null,null,null,null,null,null,null,null,null,null,null,null,null,null,null,null,null,null,null,null,null,null,null,null,null,null,null,null,null,null,null,null,null,null,null,null,null,null,null,"",""]
[null,null,null,null,null,null,null,null,null,null,null,null,null,null,null,null,null,null,null,null,null,null,null,null,null,null,null,null,null,null,null,null,null,null,null,null,null,null,null,null,null,null,null,null,null,null,null,null,null,"",""]
[null,null,null,null,null,null,null,null,null,null,null,null,null,null,null,null,null,null,null,null,null,null,null,null,null,null,null,null,null,null,null,null,null,null,null,null,null,null,null,null,null,null,null,null,null,null,null,null,null,"",""]
[null,null,null,null,null,null,null,null,null,null,null,null,null,null,null,null,null,null,null,null,null,null,null,null,null,null,null,null,null,null,null,null,null,null,null,null,null,null,null,null,null,null,null,null,null,null,null,null,null,"",""]
[null,null,null,null,null,null,null,null,null,null,null,null,null,null,null,null,null,null,null,null,null,null,null,null,null,null,null,null,null,null,null,null,null,null,null,null,null,null,null,null,null,null,null,null,null,null,null,null,null,"",""]
[null,null,null,null,null,null,null,null,null,null,null,null,null,null,null,null,null,null,null,null,null,null,null,null,null,null,null,null,null,null,null,null,null,null,null,null,null,null,null,null,null,null,null,null,null,null,null,null,null,"",""]
[null,null,null,null,null,null,null,null,null,null,null,null,null,null,null,null,null,null,null,null,null,null,null,null,null,null,null,null,null,null,null,null,null,null,null,null,null,null,null,null,null,null,null,null,null,null,null,null,null,"",""]
[null,null,null,null,null,null,null,null,null,null,null,null,null,null,null,null,null,null,null,null,null,null,null,null,null,null,null,null,null,null,null,null,null,null,null,null,null,null,null,null,null,null,null,null,null,null,null,null,null,"",""]
[null,null,null,null,null,null,null,null,null,null,null,null,null,null,null,null,null,null,null,null,null,null,null,null,null,null,null,null,null,null,null,null,null,null,null,null,null,null,null,null,null,null,null,null,null,null,null,null,null,"",""]
[null,null,null,null,null,null,null,null,null,null,null,null,null,null,null,null,null,null,null,null,null,null,null,null,null,null,null,null,null,null,null,null,null,null,null,null,null,null,null,null,null,null,null,null,null,null,null,null,null,"",""]
[null,null,null,null,null,null,null,null,null,null,null,null,null,null,null,null,null,null,null,null,null,null,null,null,null,null,null,null,null,null,null,null,null,null,null,null,null,null,null,null,null,null,null,null,null,null,null,null,null,"",""]
[null,null,null,null,null,null,null,null,null,null,null,null,null,null,null,null,null,null,null,null,null,null,null,null,null,null,null,null,null,null,null,null,null,null,null,null,null,null,null,null,null,null,null,null,null,null,null,null,null,"",""]
[null,null,null,null,null,null,null,null,null,null,null,null,null,null,null,null,null,null,null,null,null,null,null,null,null,null,null,null,null,null,null,null,null,null,null,null,null,null,null,null,null,null,null,null,null,null,null,null,null,"",""]
[null,null,null,null,null,null,null,null,null,null,null,null,null,null,null,null,null,null,null,null,null,null,null,null,null,null,null,null,null,null,null,null,null,null,null,null,null,null,null,null,null,null,null,null,null,null,null,null,null,"",""]
[null,null,null,null,null,null,null,null,null,null,null,null,null,null,null,null,null,null,null,null,null,null,null,null,null,null,null,null,null,null,null,null,null,null,null,null,null,null,null,null,null,null,null,null,null,null,null,null,null,"",""]
[null,null,null,null,null,null,null,null,null,null,null,null,null,null,null,null,null,null,null,null,null,null,null,null,null,null,null,null,null,null,null,null,null,null,null,null,null,null,null,null,null,null,null,null,null,null,null,null,null,"",""]
[null,null,null,null,null,null,null,null,null,null,null,null,null,null,null,null,null,null,null,null,null,null,null,null,null,null,null,null,null,null,null,null,null,null,null,null,null,null,null,null,null,null,null,null,null,null,null,null,null,"",""]
[null,null,null,null,null,null,null,null,null,null,null,null,null,null,null,null,null,null,null,null,null,null,null,null,null,null,null,null,null,null,null,null,null,null,null,null,null,null,null,null,null,null,null,null,null,null,null,null,null,"",""]
[null,null,null,null,null,null,null,null,null,null,null,null,null,null,null,null,null,null,null,null,null,null,null,null,null,null,null,null,null,null,null,null,null,null,null,null,null,null,null,null,null,null,null,null,null,null,null,null,null,"",""]
[null,null,null,null,null,null,null,null,null,null,null,null,null,null,null,null,null,null,null,null,null,null,null,null,null,null,null,null,null,null,null,null,null,null,null,null,null,null,null,null,null,null,null,null,null,null,null,null,null,"",""]
[null,null,null,null,null,null,null,null,null,null,null,null,null,null,null,null,null,null,null,null,null,null,null,null,null,null,null,null,null,null,null,null,null,null,null,null,null,null,null,null,null,null,null,null,null,null,null,null,null,"",""]
[null,null,null,null,null,null,null,null,null,null,null,null,null,null,null,null,null,null,null,null,null,null,null,null,null,null,null,null,null,null,null,null,null,null,null,null,null,null,null,null,null,null,null,null,null,null,null,null,null,"",""]
[null,null,null,null,null,null,null,null,null,null,null,null,null,null,null,null,null,null,null,null,null,null,null,null,null,null,null,null,null,null,null,null,null,null,null,null,null,null,null,null,null,null,null,null,null,null,null,null,null,"","",null,"20평대",0,0,0,0,0]
[null,null,null,null,null,null,null,null,null,null,null,null,null,null,null,null,null,null,null,null,null,null,null,null,null,null,null,null,null,null,null,null,null,null,null,null,null,null,null,null,null,null,null,null,null,null,null,null,null,"","",null,"30평대",0,0,0,0,0]
[null,null,null,null,null,null,null,null,null,null,null,null,null,null,null,null,null,null,null,null,null,null,null,null,null,null,null,null,null,null,null,null,null,null,null,null,null,null,null,null,null,null,null,null,null,null,null,null,null,"","",null,"합계",0,0,0,0,0]
[null,null,null,null,null,null,null,null,null,null,null,null,null,null,null,null,null,null,null,null,null,null,null,null,null,null,null,null,null,null,null,null,null,null,null,null,null,null,null,null,null,null,null,null,null,null,null,null,null,"",""]
[null,null,null,null,null,null,null,null,null,null,null,null,null,null,null,null,null,null,null,null,null,null,null,null,null,null,null,null,null,null,null,null,null,null,null,null,null,null,null,null,null,null,null,null,null,null,null,null,null,"","",null,null,"10년 이하","10~20년","20~30년","30년 이상","합계"]
[null,null,null,null,null,null,null,null,null,null,null,null,null,null,null,null,null,null,null,null,null,null,null,null,null,null,null,null,null,null,null,null,null,null,null,null,null,null,null,null,null,null,null,null,null,null,null,null,null,"","",null,"20평대",{"$error":"#DIV/0!"},{"$error":"#DIV/0!"},{"$error":"#DIV/0!"},{"$error":"#DIV/0!"},{"$error":"#DIV/0!"}]
[null,null,null,null,null,null,null,null,null,null,null,null,null,null,null,null,null,null,null,null,null,null,null,null,null,null,null,null,null,null,null,null,null,null,null,null,null,null,null,null,null,null,null,null,null,null,null,null,null,"","",null,"30평대",{"$error":"#DIV/0!"},{"$error":"#DIV/0!"},{"$error":"#DIV/0!"},{"$error":"#DIV/0!"},{"$error":"#DIV/0!"}]
[null,null,null,null,null,null,null,null,null,null,null,null,null,null,null,null,null,null,null,null,null,null,null,null,null,null,null,null,null,null,null,null,null,null,null,null,null,null,null,null,null,null,null,null,null,null,null,null,null,"","",null,"합계",{"$error":"#DIV/0!"},{"$error":"#DIV/0!"},{"$error":"#DIV/0!"},{"$error":"#DIV/0!"},{"$error":"#DIV/0!"}]
[null,null,null,null,null,null,null,null,null,null,null,null,null,null,null,null,null,null,null,null,null,null,null,null,null,null,null,null,null,null,null,null,null,null,null,null,null,null,null,null,null,null,null,null,null,null,null,null,null,"",""]
[null,null,null,null,null,null,null,null,null,null,null,null,null,null,null,null,null,null,null,null,null,null,null,null,null,null,null,null,null,null,null,null,null,null,null,null,null,null,null,null,null,null,null,null,null,null,null,null,null,"",""]
[null,null,null,null,null,null,null,null,null,null,null,null,null,null,null,null,null,null,null,null,null,null,null,null,null,null,null,null,null,null,null,null,null,null,null,null,null,null,null,null,null,null,null,null,null,null,null,null,null,"",""]
[null,null,null,null,null,null,null,null,null,null,null,null,null,null,null,null,null,null,null,null,null,null,null,null,null,null,null,null,null,null,null,null,null,null,null,null,null,null,null,null,null,null,null,null,null,null,null,null,null,"",""]

{"sheet":"단지추출_가격표용","index":1,"n_rows":106,"n_cols":21,"rows_kept":106,"cut":false,"hidden":false,"merged":[[0,9,0,10],[0,13,0,14],[0,16,0,18]]}
[{"$f":"단지추출!A1","v":"구미시"},null,null,null,null,null,null,null,null,"유사평형제거",null,"O",null,"추출기준세대수",null,30,"세대이상"]
[{"$f":"단지추출!A2","v":"2022-01-01"}]
["단지명","입주\n연도","총세\n대수","공급\n(m2)","공급\n면적","전용\n(m2)","전용\n면적","세대","매매\n최저가","층","전세\n최고가","층","갭","전세\n가율","매매\n평단","전세\n평단","방","욕\n실","구\n조","매/전/월\nType","비고"]
["동춘동 송도파크자이","19.05",1023,131.19999999999999,40,102,31,87,70000,null,40000,null,{"$f":"I4-K4","v":30000},{"$f":"IF(ISERROR(K4/I4),\"\",K4/I4)","v":0.5714285714285714},{"$f":"I4/E4","v":1750},{"$f":"K4/E4","v":1000},4,2,"계","131A"]
["동춘동 송도파크자이","19.05",1023,109.9,33,84.9,26,381,60000,28,38000,"중",22000,0.6333333333333333,1818.1818181818182,1151.5151515151515,3,2,"계","109A"]
["동춘동 송도파크레인동일하이빌","19.03",1180,124.6,38,93.7,28,150,55000,5,40000,26,15000,0.72727272727272729,1447.3684210526317,1052.6315789473683,4,2,"계",124]
["동춘동 송도파크자이","19.05",1023,100.6,30,76.8,23,142,55000,null,30000,null,25000,0.54545454545454541,1833.3333333333333,1000,3,2,"계","100A"]
["동춘동 송도파크레인동일하이빌","19.03",1180,102.2,31,74.2,22,264,50000,20,30000,null,20000,0.6,1612.9032258064517,967.74193548387098,3,2,"계",102]
["동춘동 송도파크레인동일하이빌","19.03",1180,114.7,35,85,26,347,49000,"중",36000,"중",13000,0.73469387755102045,1400,1028.5714285714287,3,2,"계","114B"]
["동춘동 동일하이빌파크포레","19.03",281,112,34,84.9,26,100,47000,16,35000,null,12000,0.74468085106382975,1382.3529411764705,1029.4117647058824,3,2,"계",111]
["동춘동 송도파크레인동일하이빌","19.03",1180,93,28,66.900000000000006,20,89,45000,"중",29000,null,16000,0.64444444444444449,1607.1428571428571,1035.7142857142858,3,2,"계",93]
["동춘동 연수서해그랑블1단지","17.11",1043,112.9,34,85,26,468,45000,"중",35000,null,10000,0.77777777777777779,1323.5294117647059,1029.4117647058824,4,2,"계","112C"]
["연수동 연수우성1차","94.09",1088,189.7,57,160,48,124,45000,6,32000,null,13000,0.71111111111111114,789.47368421052636,561.40350877192986,5,2,"계",189]
["동춘동 현대,대림2차","94.06",700,159,48,133.80000000000001,40,40,43000,null,32000,null,11000,0.7441860465116279,895.83333333333337,666.66666666666663,4,2,"계","159A"]
["동춘동 한양1차","94.12",1020,161.5,49,133.4,40,152,42000,6,28000,null,14000,0.66666666666666663,857.14285714285711,571.42857142857144,4,2,"계",161]
["동춘동 하나","94.09",264,153.19999999999999,46,131.19999999999999,40,96,41000,4,33000,null,8000,0.80487804878048785,891.304347826087,717.39130434782612,4,2,"계",153]
["동춘동 대우삼환","94.05",1776,144.80000000000001,44,120.7,37,256,39000,5,31000,null,8000,0.79487179487179482,886.36363636363637,704.5454545454545,4,2,"계",144]
["동춘동 연수서해그랑블1단지","17.11",1043,94.9,29,70.8,21,264,39000,4,29000,null,10000,0.74358974358974361,1344.8275862068965,1000,3,2,"계","94B"]
["동춘동 연수타운(금호,동아)","93.04",1056,163.69999999999999,50,134.6,41,320,38000,7,29000,14,9000,0.76315789473684215,760,580,4,2,"계",163]
["동춘동 연수대우3차","93.12",344,157.9,48,134.1,41,84,38000,2,30000,5,8000,0.78947368421052633,791.66666666666663,625,4,2,"계",157]
["연수동 연수우성1차","94.09",1088,161.30000000000001,49,133.6,40,178,38000,4,31000,null,7000,0.81578947368421051,775.51020408163265,632.65306122448976,4,2,"계",161]
["동춘동 동일하이빌파크포레","19.03",281,84.6,26,60,18,181,36000,8,28000,null,8000,0.77777777777777779,1384.6153846153845,1076.9230769230769,3,2,"계",84]
["연수동 우성2차","95.04",2044,104.2,32,84.8,26,628,36000,6,28000,18,8000,0.77777777777777779,1125,875,3,2,"계",104]
["동춘동 롯데","93.08",320,153.5,46,134.69999999999999,41,110,35000,2,25000,null,10000,0.7142857142857143,760.86956521739125,543.47826086956525,4,2,"계",153]
["연수동 연수우성1차","94.09",1088,126.4,38,102,31,714,35000,4,29000,15,6000,0.82857142857142863,921.0526315789474,763.15789473684208,4,2,"계",126]
["동춘동 현대1차","93.01",1040,108.9,33,85,26,1040,34500,4,26000,3,8500,0.75362318840579712,1045.4545454545455,787.87878787878788,3,2,"계",108]
["동춘동 대우삼환","94.05",1776,123.7,37,102,31,456,34000,16,28000,null,6000,0.82352941176470584,918.91891891891896,756.75675675675677,4,2,"계",123]
["동춘동 삼성,럭키","93.08",1080,139,42,119.4,36,120,34000,10,28000,null,6000,0.82352941176470584,809.52380952380952,666.66666666666663,4,2,"계",139]
["선학동 금호타운","93.01",540,146.6,44,124.1,38,72,34000,9,28000,null,6000,0.82352941176470584,772.72727272727275,636.36363636363637,4,2,"계",146]
["동춘동 현대,대림2차","94.06",700,123.7,37,101.9,31,180,33000,12,27000,12,6000,0.81818181818181823,891.89189189189187,729.72972972972968,4,2,"계","123B"]
["동춘동 하나","94.09",264,116.6,35,99.4,30,168,33000,4,28000,null,5000,0.84848484848484851,942.85714285714289,800,4,2,"계",116]
["동춘동 연수풍림2차","93.06",1200,104.5,32,84.2,25,600,32000,5,26000,8,6000,0.8125,1000,812.5,3,2,"계",104]
["동춘동 연수타운(금호,동아)","93.04",1056,124,38,102,31,616,32000,8,26000,null,6000,0.8125,842.10526315789468,684.21052631578948,4,2,"계",124]
["동춘동 한양1차","94.12",1020,126.6,38,101.9,31,451,32000,8,26000,null,6000,0.8125,842.10526315789468,684.21052631578948,4,2,"계",126]
["동춘동 인천연수서해그랑블3단지","19.09",251,77.7,24,60,18,191,32000,9,24000,null,8000,0.75,1333.3333333333333,1000,3,2,"계","77A"]
["연수동 동남","94.02",420,146.5,44,124.1,38,60,32000,12,22500,null,{"$f":"I36-K36","v":9500},{"$f":"IF(ISERROR(K36/I36),\"\",K36/I36)","v":0.703125},{"$f":"I36/E36","v":727.27272727272725},{"$f":"K36/E36","v":511.36363636363637},4,2,"계",146]
["동춘동 연수타운(금호,동아)","93.04",1056,115.3,35,94.8,29,120,31500,6,26000,null,5500,0.82539682539682535,900,742.85714285714289,3,2,"계",115]
["동춘동 한양1차","94.12",1020,111.3,34,88.9,27,393,31500,16,27000,5,4500,0.8571428571428571,926.47058823529414,794.11764705882354,3,2,"계","111A"]
["동춘동 대우삼환","94.05",1776,110.3,33,90.2,27,1064,31000,5,26000,14,5000,0.83870967741935487,939.39393939393938,787.87878787878788,3,2,"계",110]
["동춘동 현대,대림2차","94.06",700,113.4,34,96.7,29,130,31000,4,23000,5,8000,0.74193548387096775,911.76470588235293,676.47058823529414,3,2,"계","113B"]
["동춘동 인천연수서해그랑블포레스트","19.04",334,79.400000000000006,24,59.9,18,315,31000,10,25000,null,6000,0.80645161290322576,1291.6666666666667,1041.6666666666667,3,2,"계",79]
["연수동 대동","93.05",768,94.8,29,75.099999999999994,23,384,30500,9,24000,9,6500,0.78688524590163933,1051.7241379310344,827.58620689655174,3,1,"계",94]
["연수동 대우","92.06",390,149.6,45,127.9,39,119,30500,8,26500,null,4000,0.86885245901639341,677.77777777777783,588.88888888888891,4,2,"계",149]
["동춘동 삼성,럭키","93.08",1080,114.1,35,95.8,29,960,30000,7,26000,null,4000,0.8666666666666667,857.14285714285711,742.85714285714289,3,2,"계",114]
["연수동 대림","93.05",640,105.2,32,84.8,26,400,30000,null,23000,7,7000,0.76666666666666672,937.5,718.75,3,2,"계",105]
["동춘동 무지개마을","95.08",1068,106.2,32,85,26,534,29500,4,26000,5,3500,0.88135593220338981,921.875,812.5,3,2,"계",106]
["연수동 우성2차","95.04",2044,77.400000000000006,23,59.6,18,888,29500,9,25000,10,4500,0.84745762711864403,1282.608695652174,1086.9565217391305,3,1,"계",77]
["연수동 대우","92.06",390,120.9,37,101.8,31,271,29500,6,23500,null,6000,0.79661016949152541,797.29729729729729,635.1351351351351,4,2,"계",120]
["선학동 뉴서울1차","92.1",720,147.69999999999999,45,126.9,38,180,28500,8,24000,null,4500,0.84210526315789469,633.33333333333337,533.33333333333337,4,2,"계",147]
["선학동 금호타운","93.01",540,122.2,37,101.9,31,216,28500,4,27000,10,1500,0.94736842105263153,770.27027027027032,729.72972972972968,4,2,"계",122]
["선학동 금호타운","93.01",540,104.4,32,84.9,26,252,28300,4,23000,null,5300,0.8127208480565371,884.375,718.75,3,2,"계",104]
["동춘동 롯데","93.08",320,115.5,35,99.9,30,210,27700,4,23000,null,4700,0.83032490974729245,791.42857142857144,657.14285714285711,3,2,"계",115]
["연수동 동남","94.02",420,125.8,38,104.9,32,150,27500,14,21500,null,6000,0.78181818181818186,723.68421052631584,565.78947368421052,4,2,"계",125]
["동춘동 한양2차","95.08",1440,99.7,30,85,26,760,27000,4,22000,2,5000,0.81481481481481477,900,733.33333333333337,4,1,"계",99]
["연수동 연수경남","93.05",620,104.7,32,84.9,26,374,27000,7,22000,12,5000,0.81481481481481477,843.75,687.5,3,2,"계",104]
["연수동 동남","94.02",420,111.5,34,91.7,28,210,27000,5,20500,null,6500,0.7592592592592593,794.11764705882354,602.94117647058829,3,2,"계",111]
["동춘동 인천연수풍림3차","93.12",440,99.2,30,84.3,26,440,26500,4,22000,4,4500,0.83018867924528306,883.33333333333337,733.33333333333337,3,2,"계",99]
["동춘동 연수대우3차","93.12",344,116,35,100,30,140,26000,3,21000,null,5000,0.80769230769230771,742.85714285714289,600,4,2,"계","116B"]
["연수동 연수풍림1차","92.03",769,104.8,32,85,26,335,26000,5,24500,8,1500,0.94230769230769229,812.5,765.625,3,2,"계","104S"]
["동춘동 한양2차","95.08",1440,81.599999999999994,25,68.400000000000006,21,680,25500,4,18000,4,7500,0.70588235294117652,1020,720,3,1,"계",81]
["연수동 대림","93.05",640,77.8,24,62.5,19,240,25500,10,23000,9,2500,0.90196078431372551,1062.5,958.33333333333337,3,1,"계",77]
["동춘동 건영","94.04",970,99.4,30,84.9,26,920,25000,4,23000,null,2000,0.92,833.33333333333337,766.66666666666663,3,2,"계",99]
["동춘동 대동","94.05",336,105.1,32,84.6,26,168,25000,5,20000,2,5000,0.8,781.25,625,3,2,"계",105]
["연수동 연수경남","93.05",620,89.3,27,70.3,21,246,25000,10,22000,9,3000,0.88,925.92592592592598,814.81481481481478,3,1,"계",89]
["연수동 태산","94.05",420,105.3,32,84.6,26,420,25000,6,22000,2,3000,0.88,781.25,687.5,3,2,"계",105]
["선학동 뉴서울1차","92.1",720,102.5,31,84.5,26,540,24500,10,21000,10,3500,0.8571428571428571,790.32258064516134,677.41935483870964,3,2,"계",102]
["연수동 연수유천","93.09",788,103.7,31,84.9,26,554,24500,11,21000,9,3500,0.8571428571428571,790.32258064516134,677.41935483870964,3,2,"계",103]
["동춘동 무지개마을","95.08",1068,78.599999999999994,24,59.8,18,534,24000,5,22000,9,{"$f":"I68-K68","v":2000},{"$f":"IF(ISERROR(K68/I68),\"\",K68/I68)","v":0.91666666666666663},{"$f":"I68/E68","v":1000},{"$f":"K68/E68","v":916.66666666666663},3,1,"계",78]
["선학동 윤성","95.08",423,103.1,31,84.9,26,175,24000,9,19000,null,5000,0.79166666666666663,774.19354838709683,612.90322580645159,3,2,"계",103]
["연수동 연수풍림1차","92.03",769,87.5,26,69.7,21,164,24000,12,22000,null,2000,0.91666666666666663,923.07692307692309,846.15384615384619,3,1,"계",87]
["연수동 효정","94.03",312,102.6,31,85,26,312,23500,11,22000,5,1500,0.93617021276595747,758.06451612903231,709.67741935483866,3,2,"계",102]
["동춘동 건영","94.04",970,87.1,26,73.7,22,50,23000,null,20000,null,3000,0.86956521739130432,884.61538461538464,769.23076923076928,3,1,"계",87]
["연수동 대동","93.05",768,72.400000000000006,22,52.1,16,384,23000,12,18500,10,4500,0.80434782608695654,1045.4545454545455,840.90909090909088,3,1,"계",72]
["선학동 아주","92.05",390,100.3,30,84.1,25,300,21600,10,21000,9,600,0.97222222222222221,720,700,3,2,"계","100B"]
["동춘동 아주","94.04",348,98.7,30,84.8,26,348,21500,5,18000,null,3500,0.83720930232558144,716.66666666666663,600,3,2,"계",98]
["연수동 태경","92.07",220,109.8,33,84.9,26,220,20700,3,16000,null,4700,0.77294685990338163,627.27272727272725,484.84848484848487,3,2,"계",109]
["선학동 대동","92.05",390,88.4,27,73.400000000000006,22,60,20600,13,17500,null,3100,0.84951456310679607,762.96296296296293,648.14814814814815,3,1,"계",88]
["동춘동 동춘마을","94.06",930,79,24,59.4,18,930,20500,3,17000,4,3500,0.82926829268292679,854.16666666666663,708.33333333333337,3,1,"계",79]
["선학동 태산","91.06",300,107.1,32,84.7,26,120,20500,4,15500,null,5000,0.75609756097560976,640.625,484.375,3,1,"계",107]
["연수동 인향","92.06",220,109.1,33,85,26,220,20500,3,16000,4,4500,0.78048780487804881,621.21212121212125,484.84848484848487,3,2,"계",109]
["연수동 우주","92.06",230,109.1,33,85,26,230,20200,4,17000,4,3200,0.84158415841584155,612.12121212121212,515.15151515151513,3,2,"계",109]
["동춘동 연수풍림2차","93.06",1200,61.2,19,45.4,14,600,20000,7,16000,6,4000,0.8,1052.6315789473683,842.10526315789468,2,1,"복",61]
["선학동 대진","91.06",300,107.1,32,84.7,26,120,20000,5,16000,null,4000,0.8,625,500,3,1,"계",107]
["선학동 정광","91.06",300,107.1,32,84.7,26,120,20000,5,16000,null,4000,0.8,625,500,3,1,"계",107]
["연수동 연수유천","93.09",788,77.2,23,60.1,18,234,20000,9,18000,null,2000,0.9,869.56521739130437,782.60869565217388,3,1,"계",77]
["연수동 영남","92.12",622,106.2,32,84.8,26,336,20000,5,17000,6,3000,0.85,625,531.25,3,2,"계","106A"]
["연수동 우성2차","95.04",2044,56.3,17,40.5,12,528,18500,3,15500,"중",3000,0.83783783783783783,1088.2352941176471,911.76470588235293,2,1,"복",56]
["동춘동 동남","94.12",1350,69.900000000000006,21,52.1,16,1350,17000,13,16000,6,1000,0.94117647058823528,809.52380952380952,761.90476190476193,2,1,"복",69]
["연수동 성일","94.1",414,81.8,25,59.8,18,222,17000,9,15000,null,2000,0.88235294117647056,680,600,3,1,"복",81]
["선학동 윤성","95.08",423,81.400000000000006,25,59.9,18,248,16500,10,14000,null,2500,0.84848484848484851,660,560,2,1,"복",81]
["연수동 연수시영1차","92.05",370,70.3,21,50.7,15,220,16500,6,15000,13,1500,0.90909090909090906,785.71428571428567,714.28571428571433,2,1,"복",70]
["동춘동 대림3차","93.07",408,64.5,20,53,16,408,16000,4,13000,null,3000,0.8125,800,650,2,1,"계",64]
["선학동 정광","91.06",300,81.099999999999994,25,64.400000000000006,19,180,16000,5,14000,null,2000,0.875,640,560,2,1,"계",81]
["연수동 연수주공2단지","92.06",960,73,22,49.9,15,720,16000,6,15000,6,1000,0.9375,727.27272727272725,681.81818181818187,2,1,"복",72]
["연수동 세경","97.08",567,66.599999999999994,20,51.8,16,495,16000,11,13000,1,3000,0.8125,800,650,2,1,"계",66]
["연수동 솔밭마을","93.05",1200,69.8,21,49.6,15,1200,15900,6,15000,3,900,0.94339622641509435,757.14285714285711,714.28571428571433,2,1,"복",69]
["선학동 대진","91.06",300,81.099999999999994,25,64.400000000000006,19,180,15500,5,13000,null,2500,0.83870967741935487,620,520,2,1,"계",81]
["선학동 태산","91.06",300,81.099999999999994,25,64.400000000000006,19,180,15500,4,14000,2,1500,0.90322580645161288,620,560,2,1,"계",81]
["연수동 문남마을","94.12",400,59.7,18,49.2,15,400,15000,4,13000,5,2000,0.8666666666666667,833.33333333333337,722.22222222222217,2,1,"계",59]
["연수동 연수시영1차","92.05",370,62.5,19,44.2,13,150,14500,5,13000,null,{"$f":"I100-K100","v":1500},{"$f":"IF(ISERROR(K100/I100),\"\",K100/I100)","v":0.89655172413793105},{"$f":"I100/E100","v":763.15789473684208},{"$f":"K100/E100","v":684.21052631578948},2,1,"복",62]
["연수동 연수주공3단지","93.11",1170,61.3,19,44.7,14,1170,14000,7,13000,3,1000,0.9285714285714286,736.84210526315792,684.21052631578948,2,1,"복",61]
["연수동 연수주공2단지","92.06",960,60.3,18,41.3,12,240,13500,10,12500,7,1000,0.92592592592592593,750,694.44444444444446,2,1,"복",60]
["연수동 성일","94.1",414,54.7,17,39.700000000000003,12,192,13000,6,12500,6,500,0.96153846153846156,764.70588235294122,735.29411764705878,2,1,"복",54]
["연수동 세경","97.08",567,46.7,14,36.299999999999997,11,72,11700,10,9500,null,2200,0.81196581196581197,835.71428571428567,678.57142857142856,1,1,"계",46]
["연수동 승기마을","92.05",1000,38,12,26.8,8,1000,8500,6,8500,null,0,1,708.33333333333337,708.33333333333337,1,1,"복",38]
["선학동 대동","92.05",390,100.9,31,84.4,26,180,null,null,null,null,0,"",0,0,3,2,"계",100]

{"sheet":"동별가격표","index":2,"n_rows":69,"n_cols":23,"rows_kept":69,"cut":false,"hidden":false,"merged":[[3,0,3,2],[4,0,4,2],[5,0,5,2]]}
[]
[]
[]
["동1",null,null,"동춘동","선학동"]
["동2",null,null,null,"연수동"]
["동3"]
["전체",null,null,{"$f":"D4&IF(D5=\"\",\"\",\",\"&D5)&IF(D6=\"\",\"\",\",\"&D6)","v":"동춘동"},{"$f":"E4&IF(E5=\"\",\"\",\",\"&E5)&IF(E6=\"\",\"\",\",\"&E6)","v":"선학동,연수동"},"","","","","","","","","","","","","","","","","",""]
[8,"~"]
[7,"~",8]
[6,"~",7,"송도파크자이(33평/6.0)"]
[5,"~",6,"송도파크자이(30평/5.5)\r\n송도파크레인동일하이빌(31평/5.0)"]
[4,"~",5,"송도파크레인동일하이빌(35평/4.9)\r\n동일하이빌파크포레(34평/4.7)\r\n송도파크레인동일하이빌(28평/4.5)\r\n연수서해그랑블1단지(34평/4.5)"]
[3,"~",4,"연수서해그랑블1단지(29평/3.9)\r\n동일하이빌파크포레(26평/3.6)\r\n현대1차(33평/3.5)\r\n연수풍림2차(32평/3.2)\r\n인천연수서해그랑블3단지(24평/3.2)\r\n인천연수서해그랑블포레스트(24평/3.1)","우성2차(32평/3.6)\r\n대동(29평/3.1)\r\n대림(32평/3.0)"]
[2.5,"~",3,"무지개마을(32평/3.0)\r\n한양2차(30평/2.7)\r\n인천연수풍림3차(30평/2.7)\r\n한양2차(25평/2.6)\r\n건영(30평/2.5)\r\n대동(32평/2.5)","우성2차(23평/3.0)\r\n금호타운(32평/2.8)\r\n연수경남(32평/2.7)\r\n연수풍림1차(32평/2.6)\r\n대림(24평/2.6)\r\n연수경남(27평/2.5)\r\n태산(32평/2.5)"]
[2,"~",2.5,"무지개마을(24평/2.4)\r\n건영(26평/2.3)\r\n아주(30평/2.2)\r\n동춘마을(24평/2.1)\r\n연수풍림2차(19평/2.0)","뉴서울1차(31평/2.5)\r\n연수유천(31평/2.5)\r\n윤성(31평/2.4)\r\n연수풍림1차(26평/2.4)\r\n효정(31평/2.4)\r\n대동(22평/2.3)\r\n아주(30평/2.2)\r\n태경(33평/2.1)\r\n대동(27평/2.1)\r\n태산(32평/2.1)\r\n인향(33평/2.1)\r\n우주(33평/2.0)\r\n대진(32평/2.0)\r\n정광(32평/2.0)\r\n연수유천(23평/2.0)\r\n영남(32평/2.0)"]
[1.5,"~",2,"동남(21평/1.7)\r\n대림3차(20평/1.6)","우성2차(17평/1.9)\r\n성일(25평/1.7)\r\n윤성(25평/1.7)\r\n연수시영1차(21평/1.7)\r\n정광(25평/1.6)\r\n연수주공2단지(22평/1.6)\r\n세경(20평/1.6)\r\n솔밭마을(21평/1.6)\r\n대진(25평/1.6)\r\n태산(25평/1.6)\r\n문남마을(18평/1.5)"]
[1,"~",1.5,null,"연수시영1차(19평/1.5)\r\n연수주공3단지(19평/1.4)\r\n연수주공2단지(18평/1.4)\r\n성일(17평/1.3)"]
[]
[]
["30평대",null,null,{"$f":"D7","v":"동춘동"},{"$f":"E7","v":"선학동,연수동"},"","","","","","","","","","","","","","","","","",""]
[{"$f":"IF(A8=\"\",\"\",A8)","v":8},{"$f":"IF(B8=\"\",\"\",B8)","v":"~"},{"$f":"IF(C8=\"\",\"\",C8)","v":""}]
[{"$f":"IF(A9=\"\",\"\",A9)","v":7},"~",8]
[6,"~",7,"송도파크자이('19/6.0)"]
[5,"~",6,"송도파크자이('19/5.5)\r\n송도파크레인동일하이빌('19/5.0)"]
[4,"~",5,"송도파크레인동일하이빌('19/4.9)\r\n동일하이빌파크포레('19/4.7)\r\n연수서해그랑블1단지('17/4.5)"]
[3,"~",4,"현대1차('93/3.5)\r\n연수풍림2차('93/3.2)","우성2차('95/3.6)\r\n대림('93/3.0)"]
[2.5,"~",3,"무지개마을('95/3.0)\r\n한양2차('95/2.7)\r\n인천연수풍림3차('93/2.7)\r\n건영('94/2.5)\r\n대동('94/2.5)","금호타운('93/2.8)\r\n연수경남('93/2.7)\r\n연수풍림1차('92/2.6)\r\n태산('94/2.5)"]
[2,"~",2.5,"아주('94/2.2)","뉴서울1차('92/2.5)\r\n연수유천('93/2.5)\r\n윤성('95/2.4)\r\n효정('94/2.4)\r\n아주('92/2.2)\r\n태경('92/2.1)\r\n태산('91/2.1)\r\n인향('92/2.1)\r\n우주('92/2.0)\r\n대진('91/2.0)\r\n정광('91/2.0)\r\n영남('92/2.0)"]
[1.5,"~",2]
[1,"~",1.5]
[]
[]
["20평대(방3)",null,null,{"$f":"D20","v":"동춘동"},{"$f":"E20","v":"선학동,연수동"},"","","","","","","","","","","","","","","","","",""]
[{"$f":"IF(A21=\"\",\"\",A21)","v":8},{"$f":"IF(B21=\"\",\"\",B21)","v":"~"},{"$f":"IF(C21=\"\",\"\",C21)","v":""}]
[{"$f":"IF(A22=\"\",\"\",A22)","v":7},"~",8]
[6,"~",7]
[5,"~",6]
[4,"~",5,"송도파크레인동일하이빌('19/4.5)"]
[3,"~",4,"연수서해그랑블1단지('17/3.9)\r\n동일하이빌파크포레('19/3.6)\r\n인천연수서해그랑블3단지('19/3.2)\r\n인천연수서해그랑블포레스트('19/3.1)","대동('93/3.1)"]
[2.5,"~",3,"한양2차('95/2.6)","우성2차('95/3.0)\r\n대림('93/2.6)\r\n연수경남('93/2.5)"]
[2,"~",2.5,"무지개마을('95/2.4)\r\n건영('94/2.3)\r\n동춘마을('94/2.1)","연수풍림1차('92/2.4)\r\n대동('93/2.3)\r\n대동('92/2.1)\r\n연수유천('93/2.0)"]
[1.5,"~",2,null,"성일('94/1.7)"]
[1,"~",1.5]
[]
[]
["20평대(방2)",null,null,{"$f":"D33","v":"동춘동"},{"$f":"E33","v":"선학동,연수동"},"","","","","","","","","","","","","","","","","",""]
[{"$f":"IF(A34=\"\",\"\",A34)","v":8},{"$f":"IF(B34=\"\",\"\",B34)","v":"~"},{"$f":"IF(C34=\"\",\"\",C34)","v":""}]
[{"$f":"IF(A35=\"\",\"\",A35)","v":7},"~",8]
[6,"~",7]
[5,"~",6]
[4,"~",5]
[3,"~",4]
[2.5,"~",3]
[2,"~",2.5]
[1.5,"~",2,"동남('94/1.7)\r\n대림3차('93/1.6)","윤성('95/1.7)\r\n연수시영1차('92/1.7)\r\n정광('91/1.6)\r\n연수주공2단지('92/1.6)\r\n세경('97/1.6)\r\n솔밭마을('93/1.6)\r\n대진('91/1.6)\r\n태산('91/1.6)"]
[1,"~",1.5]
[]
[]
["10평대",null,null,{"$f":"D46","v":"동춘동"},{"$f":"E46","v":"선학동,연수동"},"","","","","","","","","","","","","","","","","",""]
[{"$f":"IF(A47=\"\",\"\",A47)","v":8},{"$f":"IF(B47=\"\",\"\",B47)","v":"~"},{"$f":"IF(C47=\"\",\"\",C47)","v":""}]
[{"$f":"IF(A48=\"\",\"\",A48)","v":7},"~",8]
[6,"~",7]
[5,"~",6]
[4,"~",5]
[3,"~",4]
[2.5,"~",3]
[2,"~",2.5,"연수풍림2차('93/2.0)"]
[1.5,"~",2,null,"우성2차('95/1.9)\r\n문남마을('94/1.5)"]
[1,"~",1.5,null,"연수시영1차('92/1.5)\r\n연수주공3단지('93/1.4)\r\n연수주공2단지('92/1.4)\r\n성일('94/1.3)"]

{"sheet":"정보입력(KB)","index":3,"n_rows":62,"n_cols":3,"rows_kept":62,"cut":false,"hidden":false,"merged":[]}
["동 이름 :","동춘동"]
["송도파크자이"]
["인천광역시 연수구 동춘동 동춘1구역 7블록"]
["공급면적","총세대","준공월"]
["100~132㎡","1023세대",2019.05]
["단지정보"]
["시세/실거래가"]
["매물보기"]
["관리비"]
["학교정보"]
["평면도"]
["동호수"]
["평면도"]
[]
["기본형"]
["100.47Bm²"]
["공급/전용면적 100.47B/76.98m² 평"]
["방수3개"]
["욕실수2개"]
["세대수111세대"]
[]
["기본형"]
["100.57Am²"]
["공급/전용면적 100.57A/76.76m² 평"]
["방수3개"]
["욕실수2개"]
["세대수142세대"]
[]
["기본형"]
["109.8Bm²"]
["공급/전용면적 109.8B/84.92m² 평"]
["방수3개"]
["욕실수2개"]
["세대수296세대"]
[]
["기본형"]
["109.89Am²"]
["공급/전용면적 109.89A/84.89m² 평"]
["방수3개"]
["욕실수2개"]
["세대수381세대"]
[]
["기본형"]
["111.92Pm²"]
["공급/전용면적 111.92P/84.8m² 평"]
["방수2개"]
["욕실수2개"]
["세대수3세대"]
[]
["기본형"]
["131.23Am²"]
["공급/전용면적 131.23A/101.95m² 평"]
["방수4개"]
["욕실수2개"]
["세대수87세대"]
[]
["기본형"]
["132.74Pm²"]
["공급/전용면적 132.74P/101.2m² 평"]
["방수4개"]
["욕실수2개"]
["세대수3세대"]

{"sheet":"정보입력","index":4,"n_rows":703,"n_cols":58,"rows_kept":703,"cut":false,"hidden":false,"merged":[]}
["[관동동]",null,1,"죽림마을7단지한림풀에버",2013.09,1497,{"$f":"H1/3.3","v":27.569696969696974},90.98,{"$f":"J1/3.3","v":19.624242424242428},64.760000000000005,172,null,null,null,null,0,0,0,0,3,2,"계단식","90A",null,null,null,null,null,null,null,null,null,null,null,null,null,null,null,null,null,null,null,null,null,null,null,null,null,null,"기준연도","기준월"]
["[관동동]",null,1,"죽림마을7단지한림풀에버",2013.09,1497,{"$f":"H2/3.3","v":27.675757575757576},91.33,{"$f":"J2/3.3","v":19.621212121212121},64.75,160,null,null,null,null,0,0,0,0,3,2,"계단식","91B",null,null,null,null,null,null,null,null,null,null,null,null,null,null,null,null,null,null,null,null,null,null,null,null,null,null,{"$f":"YEAR(A2)","v":{"$error":"#VALUE!"}},9]
["[관동동]",null,1,"죽림마을7단지한림풀에버",2013.09,1497,34.075757575757578,112.45,25.754545454545454,84.99,587,null,null,null,null,0,0,0,0,3,2,"계단식","112A",null,null,null,null,null,null,null,null,null,null,null,null,null,null,null,null,null,null,null,null,null,null,null,null,null,null,"입주연도","입주월",null,null,{"$f":"AX2-10","v":{"$error":"#VALUE!"}},{"$f":"BB3-10","v":{"$error":"#VALUE!"}},{"$f":"BC3-10","v":{"$error":"#VALUE!"}},{"$f":"AX2-30","v":{"$error":"#VALUE!"}}]
["[관동동]",null,1,"죽림마을7단지한림풀에버",2013.09,1497,34.190909090909095,112.83,25.733333333333334,84.92,578,null,null,null,null,0,0,0,0,3,2,"계단식","112B",null,null,null,null,null,null,null,null,null,null,null,null,null,null,null,null,null,null,null,null,null,null,null,null,null,null,{"$f":"IF(B4=\"\",\"\",_xlfn.NUMBERVALUE(IF(_xlfn.NUMBERVALUE(RIGHT(B4,2))=0.1,IF(_xlfn.NUMBERVALUE(LEFT(RIGHT(B4,4),2))>70,\"19\"&LEFT(RIGHT(B4,4),2),\"20\"&LEFT(RIGHT(B4,4),2)),IF(_xlfn.NUMBERVALUE(LEFT(RIGHT(B4,5),2))>70,\"19\"&LEFT(RIGHT(B4,5),2),\"20\"&LEFT(RIGHT(B4,5),2)))))","v":""},{"$f":"IF(B4=\"\",\"\",IF(_xlfn.NUMBERVALUE(RIGHT(B4,2))=0.1,1,_xlfn.NUMBERVALUE(RIGHT(B4,2))))","v":""},null,null,"10년 이하","10~20년","20~30년","30년 이상","합계"]
["[관동동]",null,1,"팔판마을3단지부영e그린타운",2004.05,1304,23.3,76.89,18.175757575757576,59.98,1304,null,null,null,null,0,0,0,0,3,2,"계단식",76,null,null,null,null,null,null,null,null,null,null,null,null,null,null,null,null,null,null,null,null,null,null,null,null,null,null,{"$f":"IF(B5=\"\",\"\",_xlfn.NUMBERVALUE(IF(_xlfn.NUMBERVALUE(RIGHT(B5,2))=0.1,IF(_xlfn.NUMBERVALUE(LEFT(RIGHT(B5,4),2))>70,\"19\"&LEFT(RIGHT(B5,4),2),\"20\"&LEFT(RIGHT(B5,4),2)),IF(_xlfn.NUMBERVALUE(LEFT(RIGHT(B5,5),2))>70,\"19\"&LEFT(RIGHT(B5,5),2),\"20\"&LEFT(RIGHT(B5,5),2)))))","v":""},{"$f":"IF(B5=\"\",\"\",IF(_xlfn.NUMBERVALUE(RIGHT(B5,2))=0.1,1,_xlfn.NUMBERVALUE(RIGHT(B5,2))))","v":""},null,"10평대",{"$f":"SUMIFS(H:H,AX:AX,\">\"&BB3,E:E,\"<20\")+SUMIFS(H:H,AX:AX,\"=\"&BB3,AY:AY,\">=\"&AY2,E:E,\"<20\")","v":0},{"$f":"SUMIFS(H:H,AX:AX,\">\"&BC3,AX:AX,\"<\"&BB3,E:E,\"<20\")+SUMIFS(H:H,AX:AX,\"=\"&BC3,AY:AY,\">=\"&AY2,E:E,\"<20\")+SUMIFS(H:H,AX:AX,\"=\"&BB3,AY:AY,\"<\"&AY2,E:E,\"<20\")","v":0},{"$f":"SUMIFS(H:H,AX:AX,\">\"&BD3,AX:AX,\"<\"&BC3,E:E,\"<20\")+SUMIFS(H:H,AX:AX,\"=\"&BD3,AY:AY,\">=\"&AY2,E:E,\"<20\")+SUMIFS(H:H,AX:AX,\"=\"&BC3,AY:AY,\"<\"&AY2,E:E,\"<20\")","v":0},{"$f":"SUMIFS(H:H,AX:AX,\"<\"&BD3,E:E,\"<20\")+SUMIFS(H:H,AX:AX,\"=\"&BD3,AY:AY,\"<\"&AY2,E:E,\"<20\")","v":0},{"$f":"SUM(BB5:BE5)","v":0}]
["[관동동]",null,1,"팔판마을1단지부영e그린타운",2005.06,794,31.921212121212125,105.34,25.690909090909091,84.78,794,null,null,null,null,0,0,0,0,3,2,"계단식",105,null,null,null,null,null,null,null,null,null,null,null,null,null,null,null,null,null,null,null,null,null,null,null,null,null,null,"","",null,"20평대",{"$f":"SUMIFS(H:H,AX:AX,\">\"&BB3,E:E,\"<30\",E:E,\">=20\")+SUMIFS(H:H,AX:AX,\"=\"&BB3,AY:AY,\">=\"&AY2,E:E,\"<30\",E:E,\">=20\")","v":0},{"$f":"SUMIFS(H:H,AX:AX,\">\"&BC3,AX:AX,\"<\"&BB3,E:E,\"<30\",E:E,\">=20\")+SUMIFS(H:H,AX:AX,\"=\"&BC3,AY:AY,\">=\"&AY2,E:E,\"<30\",E:E,\">=20\")+SUMIFS(H:H,AX:AX,\"=\"&BB3,AY:AY,\"<\"&AY2,E:E,\"<30\",E:E,\">=20\")","v":0},{"$f":"SUMIFS(H:H,AX:AX,\">\"&BD3,AX:AX,\"<\"&BC3,E:E,\"<30\",E:E,\">=20\")+SUMIFS(H:H,AX:AX,\"=\"&BD3,AY:AY,\">=\"&AY2,E:E,\"<30\",E:E,\">=20\")+SUMIFS(H:H,AX:AX,\"=\"&BC3,AY:AY,\"<\"&AY2,E:E,\"<30\",E:E,\">=20\")","v":0},{"$f":"SUMIFS(H:H,AX:AX,\"<\"&BD3,E:E,\"<30\",E:E,\">=20\")+SUMIFS(H:H,AX:AX,\"=\"&BD3,AY:AY,\"<\"&AY2,E:E,\"<30\",E:E,\">=20\")","v":0},{"$f":"SUM(BB6:BE6)","v":0}]
["[관동동]",null,1,"김해율하서희스타힐스",2017.02,682,27.88787878787879,92.03,21.072727272727274,69.540000000000006,132,null,null,null,null,0,0,0,0,3,2,"계단식","92A",null,null,null,null,null,null,null,null,null,null,null,null,null,null,null,null,null,null,null,null,null,null,null,null,null,null,"","",null,"30평대",{"$f":"SUMIFS(H:H,AX:AX,\">\"&BB3,E:E,\"<40\",E:E,\">=30\")+SUMIFS(H:H,AX:AX,\"=\"&BB3,AY:AY,\">=\"&AY2,E:E,\"<40\",E:E,\">=30\")","v":0},{"$f":"SUMIFS(H:H,AX:AX,\">\"&BC3,AX:AX,\"<\"&BB3,E:E,\"<40\",E:E,\">=30\")+SUMIFS(H:H,AX:AX,\"=\"&BC3,AY:AY,\">=\"&AY2,E:E,\"<40\",E:E,\">=30\")+SUMIFS(H:H,AX:AX,\"=\"&BB3,AY:AY,\"<\"&AY2,E:E,\"<40\",E:E,\">=30\")","v":0},{"$f":"SUMIFS(H:H,AX:AX,\">\"&BD3,AX:AX,\"<\"&BC3,E:E,\"<40\",E:E,\">=30\")+SUMIFS(H:H,AX:AX,\"=\"&BD3,AY:AY,\">=\"&AY2,E:E,\"<40\",E:E,\">=30\")+SUMIFS(H:H,AX:AX,\"=\"&BC3,AY:AY,\"<\"&AY2,E:E,\"<40\",E:E,\">=30\")","v":0},{"$f":"SUMIFS(H:H,AX:AX,\"<\"&BD3,E:E,\"<40\",E:E,\">=30\")+SUMIFS(H:H,AX:AX,\"=\"&BD3,AY:AY,\"<\"&AY2,E:E,\"<40\",E:E,\">=30\")","v":0},{"$f":"SUM(BB7:BE7)","v":0}]
["[관동동]",null,2,{"$f":"HYPERLINK(\"https://land.naver.com/article/groundPlan.nhn?rletNo=2291&cortarNo=2818510500\",\"연수풍림2차\")","v":"연수풍림2차"},1993.06,682,33.684848484848487,111.16,25.687878787878788,84.77,158,null,null,null,null,0,0,0,0,3,2,"계단식","111B",null,null,null,null,null,null,null,null,null,null,null,null,null,null,null,null,null,null,null,null,null,null,null,null,null,null,"","",null,"40평대↑",{"$f":"SUMIFS(H:H,AX:AX,\">\"&BB3,E:E,\">=40\")+SUMIFS(H:H,AX:AX,\"=\"&BB3,AY:AY,\">=\"&AY2,E:E,\">=40\")","v":292.45},{"$f":"SUMIFS(H:H,AX:AX,\">\"&BC3,AX:AX,\"<\"&BB3,E:E,\">=40\")+SUMIFS(H:H,AX:AX,\"=\"&BC3,AY:AY,\">=\"&AY2,E:E,\">=40\")+SUMIFS(H:H,AX:AX,\"=\"&BB3,AY:AY,\"<\"&AY2,E:E,\">=40\")","v":402.24},{"$f":"SUMIFS(H:H,AX:AX,\">\"&BD3,AX:AX,\"<\"&BC3,E:E,\">=40\")+SUMIFS(H:H,AX:AX,\"=\"&BD3,AY:AY,\">=\"&AY2,E:E,\">=40\")+SUMIFS(H:H,AX:AX,\"=\"&BC3,AY:AY,\"<\"&AY2,E:E,\">=40\")","v":402.24},{"$f":"SUMIFS(H:H,AX:AX,\"<\"&BD3,E:E,\">=40\")+SUMIFS(H:H,AX:AX,\"=\"&BD3,AY:AY,\"<\"&AY2,E:E,\">=40\")","v":310.91000000000003},{"$f":"SUM(BB8:BE8)","v":1407.8400000000001}]
["[관동동]",null,3,{"$f":"HYPERLINK(\"https://land.naver.com/article/groundPlan.nhn?rletNo=114950&cortarNo=2818510500\",\"송도파크레인동일하이빌\")","v":"송도파크레인동일하이빌"},2019.03,682,33.766666666666673,111.43,25.751515151515154,84.98,129,null,null,null,null,0,0,0,0,4,2,"계단식","111D",null,null,null,null,null,null,null,null,null,null,null,null,null,null,null,null,null,null,null,null,null,null,null,null,null,null,"","",null,"합계",{"$f":"SUM(BB5:BB8)","v":292.45},{"$f":"SUM(BC5:BC8)","v":402.24},{"$f":"SUM(BD5:BD8)","v":402.24},{"$f":"SUM(BE5:BE8)","v":310.91000000000003},{"$f":"SUM(BB9:BE9)","v":1407.8400000000001}]
["[관동동]",null,4,{"$f":"HYPERLINK(\"https://land.naver.com/article/groundPlan.nhn?rletNo=114950&cortarNo=2818510500\",\"송도파크레인동일하이빌\")","v":"송도파크레인동일하이빌"},2019.03,682,33.915151515151514,111.92,25.736363636363638,84.93,263,null,null,null,null,0,0,0,0,4,2,"계단식","111C",null,null,null,null,null,null,null,null,null,null,null,null,null,null,null,null,null,null,null,null,null,null,null,null,null,null,"",""]
["[관동동]",null,1,"힐스테이트김해",2019.08,630,24.40909090909091,80.55,18.142424242424244,59.87,16,null,null,null,null,0,0,0,0,3,2,"계단식","80B",null,null,null,null,null,null,null,null,null,null,null,null,null,null,null,null,null,null,null,null,null,null,null,null,null,null,"","",null,null,"10년 이하","10~20년","20~30년","30년 이상","합계"]
["[관동동]",null,2,"힐스테이트김해",2020.08,630,24.624242424242428,81.260000000000005,18.175757575757576,59.98,196,null,null,null,null,0,0,0,0,3,2,"계단식","81A",null,null,null,null,null,null,null,null,null,null,null,null,null,null,null,null,null,null,null,null,null,null,null,null,null,null,"","",null,"10평대",{"$f":"BB5/BF9","v":0},{"$f":"BC5/BF9","v":0},{"$f":"BD5/BF9","v":0},{"$f":"BE5/BF9","v":0},{"$f":"BF5/BF9","v":0}]
["[관동동]",null,3,"힐스테이트김해",2021.08,630,24.651515151515152,81.349999999999994,18.145454545454548,59.88,88,null,null,null,null,0,0,0,0,3,2,"계단식","81C",null,null,null,null,null,null,null,null,null,null,null,null,null,null,null,null,null,null,null,null,null,null,null,null,null,null,"","",null,"20평대",{"$f":"BB6/BF9","v":0},{"$f":"BC6/BF9","v":0},{"$f":"BD6/BF9","v":0},{"$f":"BE6/BF9","v":0},{"$f":"BF6/BF9","v":0}]
["[관동동]",null,4,"힐스테이트김해",2022.08,630,33.275757575757581,109.81,25.681818181818183,84.75,330,null,null,null,null,0,0,0,0,3,2,"계단식",109,null,null,null,null,null,null,null,null,null,null,null,null,null,null,null,null,null,null,null,null,null,null,null,null,null,null,"","",null,"30평대",{"$f":"BB7/BF9","v":0},{"$f":"BC7/BF9","v":0},{"$f":"BD7/BF9","v":0},{"$f":"BE7/BF9","v":0},{"$f":"BF7/BF9","v":0}]
["[관동동]",null,1,{"$f":"HYPERLINK(\"https://land.naver.com/article/groundPlan.nhn?rletNo=17357&cortarNo=4825013000\",\"팔판마을6단지푸르지오\")","v":"팔판마을6단지푸르지오"},2005.03,588,36.142424242424241,119.27,27.621212121212125,91.15,100,null,null,null,null,0,0,0,0,3,2,"계단식","119A",null,null,null,null,null,null,null,null,null,null,null,null,null,null,null,null,null,null,null,null,null,null,null,null,null,null,"","",null,"40평대↑",{"$f":"BB8/BF9","v":0.20772957154222069},{"$f":"BC8/BF9","v":0.2857142857142857},{"$f":"BD8/BF9","v":0.2857142857142857},{"$f":"BE8/BF9","v":0.22084185702920786},{"$f":"BF8/BF9","v":1}]
["[관동동]",null,2,{"$f":"HYPERLINK(\"https://land.naver.com/article/groundPlan.nhn?rletNo=17357&cortarNo=4825013000\",\"팔판마을6단지푸르지오\")","v":"팔판마을6단지푸르지오"},2005.03,588,36.20606060606061,119.48,28.081818181818186,92.67,228,null,null,null,null,0,0,0,0,3,2,"계단식","119B",null,null,null,null,null,null,null,null,null,null,null,null,null,null,null,null,null,null,null,null,null,null,null,null,null,null,"","",null,"합계",{"$f":"BB9/BF9","v":0.20772957154222069},{"$f":"BC9/BF9","v":0.2857142857142857},{"$f":"BD9/BF9","v":0.2857142857142857},{"$f":"BE9/BF9","v":0.22084185702920786},{"$f":"BF9/BF9","v":1}]
["[관동동]",null,3,{"$f":"HYPERLINK(\"https://land.naver.com/article/groundPlan.nhn?rletNo=17357&cortarNo=4825013000\",\"팔판마을6단지푸르지오\")","v":"팔판마을6단지푸르지오"},2005.03,588,36.651515151515156,120.95,28.927272727272726,95.46,80,null,null,null,null,0,0,0,0,4,2,"계단식","120C"]
["[관동동]",null,4,{"$f":"HYPERLINK(\"https://land.naver.com/article/groundPlan.nhn?rletNo=17357&cortarNo=4825013000\",\"팔판마을6단지푸르지오\")","v":"팔판마을6단지푸르지오"},2005.03,588,42.912121212121221,141.61000000000001,35.624242424242425,117.56,60,null,null,null,null,0,0,0,0,4,2,"계단식",141]
["[관동동]",null,5,{"$f":"HYPERLINK(\"https://land.naver.com/article/groundPlan.nhn?rletNo=17357&cortarNo=4825013000\",\"팔판마을6단지푸르지오\")","v":"팔판마을6단지푸르지오"},2005.03,588,50.6,166.98,41.993939393939399,138.58000000000001,120,null,null,null,null,0,0,0,0,4,2,"계단식",166]
["[관동동]",null,1,{"$f":"HYPERLINK(\"https://land.naver.com/article/groundPlan.nhn?rletNo=13400&cortarNo=4825013000\",\"팔판마을4단지푸르지오\")","v":"팔판마을4단지푸르지오"},2005.06,481,36.042424242424246,118.94,27.621212121212125,91.15,36,null,null,null,null,0,0,0,0,3,2,"복도식","118A"]
["[관동동]",null,2,{"$f":"HYPERLINK(\"https://land.naver.com/article/groundPlan.nhn?rletNo=13400&cortarNo=4825013000\",\"팔판마을4단지푸르지오\")","v":"팔판마을4단지푸르지오"},2005.06,481,36.187878787878788,119.42,28.081818181818186,92.67,291,null,null,null,null,0,0,0,0,3,2,"복도식","119B"]
["[관동동]",null,3,{"$f":"HYPERLINK(\"https://land.naver.com/article/groundPlan.nhn?rletNo=13400&cortarNo=4825013000\",\"팔판마을4단지푸르지오\")","v":"팔판마을4단지푸르지오"},2005.06,481,36.893939393939398,121.75,28.927272727272726,95.46,34,null,null,null,null,0,0,0,0,4,2,"복도식","121C"]
["[관동동]",null,4,{"$f":"HYPERLINK(\"https://land.naver.com/article/groundPlan.nhn?rletNo=13400&cortarNo=4825013000\",\"팔판마을4단지푸르지오\")","v":"팔판마을4단지푸르지오"},2005.06,481,42.912121212121221,141.61000000000001,35.624242424242425,117.56,60,null,null,null,null,0,0,0,0,4,2,"복도식",141]
["[관동동]",null,5,{"$f":"HYPERLINK(\"https://land.naver.com/article/groundPlan.nhn?rletNo=13400&cortarNo=4825013000\",\"팔판마을4단지푸르지오\")","v":"팔판마을4단지푸르지오"},2005.06,481,50.7,167.31,41.993939393939399,138.58000000000001,60,null,null,null,null,0,0,0,0,4,2,"복도식",167]
["[관동동]",null,1,{"$f":"HYPERLINK(\"https://land.naver.com/article/groundPlan.nhn?rletNo=17358&cortarNo=4825013000\",\"팔판마을5단지푸르지오\")","v":"팔판마을5단지푸르지오"},2005.03,389,36.027272727272731,118.89,27.621212121212125,91.15,84,null,null,null,null,0,0,0,0,3,2,"계단식","118A"]
["[관동동]",null,2,{"$f":"HYPERLINK(\"https://land.naver.com/article/groundPlan.nhn?rletNo=17358&cortarNo=4825013000\",\"팔판마을5단지푸르지오\")","v":"팔판마을5단지푸르지오"},2005.03,389,36.236363636363635,119.58,28.081818181818186,92.67,173,null,null,null,null,0,0,0,0,3,2,"계단식","119B"]
["[관동동]",null,3,{"$f":"HYPERLINK(\"https://land.naver.com/article/groundPlan.nhn?rletNo=17358&cortarNo=4825013000\",\"팔판마을5단지푸르지오\")","v":"팔판마을5단지푸르지오"},2005.03,389,36.645454545454548,120.93,28.927272727272726,95.46,72,null,null,null,null,0,0,0,0,4,2,"계단식","120C"]
["[관동동]",null,4,{"$f":"HYPERLINK(\"https://land.naver.com/article/groundPlan.nhn?rletNo=17358&cortarNo=4825013000\",\"팔판마을5단지푸르지오\")","v":"팔판마을5단지푸르지오"},2005.03,389,42.912121212121221,141.61000000000001,35.624242424242425,117.56,60,null,null,null,null,0,0,0,0,4,2,"계단식",141]
["[관동동]",null,1,{"$f":"HYPERLINK(\"https://land.naver.com/article/groundPlan.nhn?rletNo=102427&cortarNo=4825013000\",\"율곡마을세영리첼\")","v":"율곡마을세영리첼"},2009.01,348,32.827272727272728,108.33,25.751515151515154,84.98,94,null,null,null,null,0,0,0,0,3,2,"계단식",108]
["[관동동]",null,2,{"$f":"HYPERLINK(\"https://land.naver.com/article/groundPlan.nhn?rletNo=102427&cortarNo=4825013000\",\"율곡마을세영리첼\")","v":"율곡마을세영리첼"},2009.01,348,33.503030303030307,110.56,25.754545454545454,84.99,156,null,null,null,null,0,0,0,0,3,2,"계단식","110A"]
["[관동동]",null,3,{"$f":"HYPERLINK(\"https://land.naver.com/article/groundPlan.nhn?rletNo=102427&cortarNo=4825013000\",\"율곡마을세영리첼\")","v":"율곡마을세영리첼"},2009.01,348,33.503030303030307,110.56,25.754545454545454,84.99,98,null,null,null,null,0,0,0,0,3,2,"계단식","110B"]
["[관동동]",null,1,{"$f":"HYPERLINK(\"https://land.naver.com/article/groundPlan.nhn?rletNo=110892&cortarNo=4825013000\",\"김해관동일동미라주더스타\")","v":"김해관동일동미라주더스타"},2017.1,286,33.809090909090912,111.57,25.754545454545454,84.99,187,null,null,null,null,0,0,0,0,3,2,"계단식","111A"]
["[관동동]",null,2,{"$f":"HYPERLINK(\"https://land.naver.com/article/groundPlan.nhn?rletNo=110892&cortarNo=4825013000\",\"김해관동일동미라주더스타\")","v":"김해관동일동미라주더스타"},2017.1,286,34.084848484848486,112.48,25.736363636363638,84.93,71,null,null,null,null,0,0,0,0,3,2,"계단식","112B"]
["[관동동]",null,3,{"$f":"HYPERLINK(\"https://land.naver.com/article/groundPlan.nhn?rletNo=110892&cortarNo=4825013000\",\"김해관동일동미라주더스타\")","v":"김해관동일동미라주더스타"},2017.1,286,39.778787878787881,131.27000000000001,30.251515151515154,99.83,20,null,null,null,null,0,0,0,0,3,2,"계단식",131]
["[관동동]",null,4,{"$f":"HYPERLINK(\"https://land.naver.com/article/groundPlan.nhn?rletNo=110892&cortarNo=4825013000\",\"김해관동일동미라주더스타\")","v":"김해관동일동미라주더스타"},2017.1,286,40.618181818181817,134.04,31.08787878787879,102.59,8,null,null,null,null,0,0,0,0,3,2,"계단식",134]
["[관동동]",null,1,{"$f":"HYPERLINK(\"https://land.naver.com/article/groundPlan.nhn?rletNo=103538&cortarNo=4825013000\",\"죽림마을14단지동원로얄듀크\")","v":"죽림마을14단지동원로얄듀크"},2013.06,230,33.651515151515156,111.05,25.754545454545454,84.99,94,null,null,null,null,0,0,0,0,3,2,"계단식","111A"]
["[관동동]",null,2,{"$f":"HYPERLINK(\"https://land.naver.com/article/groundPlan.nhn?rletNo=103538&cortarNo=4825013000\",\"죽림마을14단지동원로얄듀크\")","v":"죽림마을14단지동원로얄듀크"},2013.06,230,33.70606060606061,111.23,25.751515151515154,84.98,50,null,null,null,null,0,0,0,0,3,2,"계단식","111C"]
["[관동동]",null,3,{"$f":"HYPERLINK(\"https://land.naver.com/article/groundPlan.nhn?rletNo=103538&cortarNo=4825013000\",\"죽림마을14단지동원로얄듀크\")","v":"죽림마을14단지동원로얄듀크"},2013.06,230,33.809090909090912,111.57,25.751515151515154,84.98,86,null,null,null,null,0,0,0,0,3,2,"계단식","111B"]
["[관동동]",null,1,{"$f":"HYPERLINK(\"https://land.naver.com/article/groundPlan.nhn?rletNo=19736&cortarNo=4825013000\",\"팔판마을2단지부영그린타운8차\")","v":"팔판마을2단지부영그린타운8차"},2005.06,224,31.72727272727273,104.7,25.690909090909091,84.78,224,null,null,null,null,0,0,0,0,3,2,"계단식",104]
["[구산동]",null,1,{"$f":"HYPERLINK(\"https://land.naver.com/article/groundPlan.nhn?rletNo=11129&cortarNo=4825010600\",\"구지마을2단지한일유앤아이\")","v":"구지마을2단지한일유앤아이"},2004.06,1308,23.75151515151515,78.38,18.112121212121213,59.77,1308,null,null,null,null,0,0,0,0,3,2,"계단식",78]
["[구산동]",null,1,{"$f":"HYPERLINK(\"https://land.naver.com/article/groundPlan.nhn?rletNo=25417&cortarNo=4825010600\",\"구지마을1단지동원\")","v":"구지마을1단지동원"},2001.12,954,21.212121212121215,70,15.124242424242423,49.91,400,null,null,null,null,0,0,0,0,2,1,"계단식",70]
["[구산동]",null,2,{"$f":"HYPERLINK(\"https://land.naver.com/article/groundPlan.nhn?rletNo=25417&cortarNo=4825010600\",\"구지마을1단지동원\")","v":"구지마을1단지동원"},2001.12,954,24.530303030303031,80.95,18.175757575757576,59.98,554,null,null,null,null,0,0,0,0,3,1,"계단식",80]
["[구산동]",null,1,{"$f":"HYPERLINK(\"https://land.naver.com/article/groundPlan.nhn?rletNo=6067&cortarNo=4825010600\",\"광남백조\")","v":"광남백조"},1994.01,836,14.942424242424243,49.31,11.509090909090908,37.979999999999997,24,null,null,null,null,0,0,0,0,2,1,"계단식",49]
["[구산동]",null,2,{"$f":"HYPERLINK(\"https://land.naver.com/article/groundPlan.nhn?rletNo=6067&cortarNo=4825010600\",\"광남백조\")","v":"광남백조"},1994.01,836,21.878787878787882,72.2,18.206060606060607,60.08,812,null,null,null,null,0,0,0,0,3,1,"계단식",72]
["[구산동]",null,1,{"$f":"HYPERLINK(\"https://land.naver.com/article/groundPlan.nhn?rletNo=6093&cortarNo=4825010600\",\"김해구산주공3단지\")","v":"김해구산주공3단지"},2000.03,810,20.693939393939395,68.290000000000006,16.966666666666669,55.99,1,null,null,null,null,0,0,0,0,3,1,"계단식","68B"]
["[구산동]",null,2,{"$f":"HYPERLINK(\"https://land.naver.com/article/groundPlan.nhn?rletNo=6093&cortarNo=4825010600\",\"김해구산주공3단지\")","v":"김해구산주공3단지"},2000.03,810,21.857575757575756,72.13,18.133333333333336,59.84,30,null,null,null,null,0,0,0,0,3,1,"계단식","72C"]
["[구산동]",null,3,{"$f":"HYPERLINK(\"https://land.naver.com/article/groundPlan.nhn?rletNo=6093&cortarNo=4825010600\",\"김해구산주공3단지\")","v":"김해구산주공3단지"},2000.03,810,21.90606060606061,72.290000000000006,18.17878787878788,59.99,599,null,null,null,null,0,0,0,0,3,1,"계단식","72A"]
["[구산동]",null,4,{"$f":"HYPERLINK(\"https://land.naver.com/article/groundPlan.nhn?rletNo=6093&cortarNo=4825010600\",\"김해구산주공3단지\")","v":"김해구산주공3단지"},2000.03,810,29.512121212121215,97.39,25.72727272727273,84.9,180,null,null,null,null,0,0,0,0,3,2,"계단식",97]
["[구산동]",null,1,{"$f":"HYPERLINK(\"https://land.naver.com/article/groundPlan.nhn?rletNo=23141&cortarNo=4825010600\",\"한라비발디\")","v":"한라비발디"},2007.08,749,34.203030303030303,112.87,25.751515151515154,84.98,389,null,null,null,null,0,0,0,0,3,2,"계단식",112]
["[구산동]",null,2,{"$f":"HYPERLINK(\"https://land.naver.com/article/groundPlan.nhn?rletNo=23141&cortarNo=4825010600\",\"한라비발디\")","v":"한라비발디"},2007.08,749,46.187878787878788,152.41999999999999,38.533333333333331,127.16,210,null,null,null,null,0,0,0,0,4,2,"계단식",152]
["[구산동]",null,3,{"$f":"HYPERLINK(\"https://land.naver.com/article/groundPlan.nhn?rletNo=23141&cortarNo=4825010600\",\"한라비발디\")","v":"한라비발디"},2007.08,749,55.4,182.82,47.145454545454555,155.58000000000001,150,null,null,null,null,0,0,0,0,4,2,"계단식",182]
["[구산동]",null,1,{"$f":"HYPERLINK(\"https://land.naver.com/article/groundPlan.nhn?rletNo=103540&cortarNo=4825010600\",\"구산이진캐스빌2단지\")","v":"구산이진캐스빌2단지"},2013.09,668,28.584848484848486,94.33,22.154545454545456,73.11,122,null,null,null,null,0,0,0,0,3,2,"계단식",94]
["[구산동]",null,2,"구산이진캐스빌2단지",2013.09,668,33.269696969696973,109.79,25.751515151515154,84.98,242,null,null,null,null,0,0,0,0,3,2,"계단식","109A",null,null,null,null,null,null,null,null,null,null,null,null,null,null,null,null,null,null,null,null,null,null,null,null,null,null,{"$f":"_xlfn.NUMBERVALUE(LEFT($A$2,4))","v":{"$error":"#VALUE!"}},{"$f":"_xlfn.NUMBERVALUE(MID($A$2,6,2))","v":0}]
["[구산동]",null,3,"구산이진캐스빌2단지",2013.09,668,33.621212121212125,110.95,25.754545454545454,84.99,235,null,null,null,null,0,0,0,0,3,2,"계단식","110B"]
["[구산동]",null,4,"구산이진캐스빌2단지",2013.09,668,43.721212121212126,144.28,34.457575757575761,113.71,62,null,null,null,null,0,0,0,0,4,2,"계단식",144,null,null,null,null,null,null,null,null,null,null,null,null,null,null,null,null,null,null,null,null,null,null,null,null,null,null,"입주연도","입주월",null,null,{"$f":"AX54-10","v":-10},{"$f":"BB55-10","v":-20},{"$f":"BC55-10","v":-30},{"$f":"AX54-30","v":-30}]
["[구산동]",null,5,"구산이진캐스빌2단지",2013.09,668,64.551515151515162,213.02,50.433333333333337,166.43,5,null,null,null,null,0,0,0,0,4,2,"계단식",213]
["[구산동]",null,6,"구산이진캐스빌2단지",2013.09,668,84.415151515151521,278.57,66.675757575757586,220.03,2,null,null,null,null,0,0,0,0,4,2,"계단식",278,null,null,null,null,null,null,null,null,null,null,null,null,null,null,null,null,null,null,null,null,null,null,null,null,null,null,{"$f":"IF(B57=\"\",\"\",_xlfn.NUMBERVALUE(IF(_xlfn.NUMBERVALUE(LEFT(RIGHT(B57,5),2))>70,\"19\"&LEFT(RIGHT(B57,5),2),\"20\"&LEFT(RIGHT(B57,5),2))))","v":""},{"$f":"IF(B57=\"\",\"\",_xlfn.NUMBERVALUE(RIGHT(B57,2)))","v":""},null,null,"10년 이하","10~20년","20~30년","30년 이상","합계"]
["[구산동]",null,1,{"$f":"HYPERLINK(\"https://land.naver.com/article/groundPlan.nhn?rletNo=6089&cortarNo=4825010600\",\"구산주공2단지\")","v":"구산주공2단지"},1992.05,623,17.430303030303033,57.52,12.681818181818183,41.85,623,null,null,null,null,0,0,0,0,2,1,"복도식",57,null,null,null,null,null,null,null,null,null,null,null,null,null,null,null,null,null,null,null,null,null,null,null,null,null,null,{"$f":"IF(B58=\"\",\"\",_xlfn.NUMBERVALUE(IF(_xlfn.NUMBERVALUE(LEFT(RIGHT(B58,5),2))>70,\"19\"&LEFT(RIGHT(B58,5),2),\"20\"&LEFT(RIGHT(B58,5),2))))","v":""},{"$f":"IF(B58=\"\",\"\",_xlfn.NUMBERVALUE(RIGHT(B58,2)))","v":""},null,"10평대",{"$f":"SUMIFS(H:H,AX:AX,\">\"&BB57,E:E,\"<20\")+SUMIFS(H:H,AX:AX,\"=\"&BB57,AY:AY,\">=\"&AY56,E:E,\"<20\")","v":0},{"$f":"SUMIFS(H:H,AX:AX,\">\"&BC57,AX:AX,\"<\"&BB57,E:E,\"<20\")+SUMIFS(H:H,AX:AX,\"=\"&BC57,AY:AY,\">=\"&AY56,E:E,\"<20\")+SUMIFS(H:H,AX:AX,\"=\"&BB57,AY:AY,\"<\"&AY56,E:E,\"<20\")","v":0},{"$f":"SUMIFS(H:H,AX:AX,\">\"&BD57,AX:AX,\"<\"&BC57,E:E,\"<20\")+SUMIFS(H:H,AX:AX,\"=\"&BD57,AY:AY,\">=\"&AY56,E:E,\"<20\")+SUMIFS(H:H,AX:AX,\"=\"&BC57,AY:AY,\"<\"&AY56,E:E,\"<20\")","v":0},{"$f":"SUMIFS(H:H,AX:AX,\"<\"&BD57,E:E,\"<20\")+SUMIFS(H:H,AX:AX,\"=\"&BD57,AY:AY,\"<\"&AY56,E:E,\"<20\")","v":0},{"$f":"SUM(BB58:BE58)","v":0}]
["[구산동]",null,1,{"$f":"HYPERLINK(\"https://land.naver.com/article/groundPlan.nhn?rletNo=103201&cortarNo=4825010600\",\"일동미라주\")","v":"일동미라주"},2013.06,596,34.875757575757582,115.09,25.618181818181821,84.54,116,null,null,null,null,0,0,0,0,3,2,"계단식","115C"]
["[구산동]",null,2,"일동미라주",2013.06,596,25.40909090909091,83.85,18.015151515151516,59.45,2,null,null,null,null,0,0,0,0,3,2,"계단식","83F",null,null,null,null,null,null,null,null,null,null,null,null,null,null,null,null,null,null,null,null,null,null,null,null,null,null,{"$f":"IF(B60=\"\",\"\",_xlfn.NUMBERVALUE(IF(_xlfn.NUMBERVALUE(LEFT(RIGHT(B60,5),2))>70,\"19\"&LEFT(RIGHT(B60,5),2),\"20\"&LEFT(RIGHT(B60,5),2))))","v":""},{"$f":"IF(B60=\"\",\"\",_xlfn.NUMBERVALUE(RIGHT(B60,2)))","v":""},null,"30평대",{"$f":"SUMIFS(H:H,AX:AX,\">\"&#REF!,E:E,\"<40\",E:E,\">=30\")+SUMIFS(H:H,AX:AX,\"=\"&#REF!,AY:AY,\">=\"&AY57,E:E,\"<40\",E:E,\">=30\")","v":0},{"$f":"SUMIFS(H:H,AX:AX,\">\"&#REF!,AX:AX,\"<\"&#REF!,E:E,\"<40\",E:E,\">=30\")+SUMIFS(H:H,AX:AX,\"=\"&#REF!,AY:AY,\">=\"&AY57,E:E,\"<40\",E:E,\">=30\")+SUMIFS(H:H,AX:AX,\"=\"&#REF!,AY:AY,\"<\"&AY57,E:E,\"<40\",E:E,\">=30\")","v":0},{"$f":"SUMIFS(H:H,AX:AX,\">\"&#REF!,AX:AX,\"<\"&#REF!,E:E,\"<40\",E:E,\">=30\")+SUMIFS(H:H,AX:AX,\"=\"&#REF!,AY:AY,\">=\"&AY57,E:E,\"<40\",E:E,\">=30\")+SUMIFS(H:H,AX:AX,\"=\"&#REF!,AY:AY,\"<\"&AY57,E:E,\"<40\",E:E,\">=30\")","v":0},{"$f":"SUMIFS(H:H,AX:AX,\"<\"&#REF!,E:E,\"<40\",E:E,\">=30\")+SUMIFS(H:H,AX:AX,\"=\"&#REF!,AY:AY,\"<\"&AY57,E:E,\"<40\",E:E,\">=30\")","v":0},{"$f":"SUM(BB60:BE60)","v":0}]
["[구산동]",null,3,"일동미라주",2013.06,596,25.584848484848489,84.43,18.145454545454548,59.88,60,null,null,null,null,0,0,0,0,3,2,"계단식","84E"]
["[구산동]",null,4,"일동미라주",2013.06,596,25.790909090909093,85.11,18.172727272727272,59.97,117,null,null,null,null,0,0,0,0,3,2,"계단식","85D",null,null,null,null,null,null,null,null,null,null,null,null,null,null,null,null,null,null,null,null,null,null,null,null,null,null,{"$f":"IF(B62=\"\",\"\",_xlfn.NUMBERVALUE(IF(_xlfn.NUMBERVALUE(LEFT(RIGHT(B62,5),2))>70,\"19\"&LEFT(RIGHT(B62,5),2),\"20\"&LEFT(RIGHT(B62,5),2))))","v":""},{"$f":"IF(B62=\"\",\"\",_xlfn.NUMBERVALUE(RIGHT(B62,2)))","v":""},null,"40평대↑",{"$f":"SUMIFS(H:H,AX:AX,\">\"&BB58,E:E,\">=40\")+SUMIFS(H:H,AX:AX,\"=\"&BB58,AY:AY,\">=\"&#REF!,E:E,\">=40\")","v":265.05},{"$f":"SUMIFS(H:H,AX:AX,\">\"&BC58,AX:AX,\"<\"&BB58,E:E,\">=40\")+SUMIFS(H:H,AX:AX,\"=\"&BC58,AY:AY,\">=\"&#REF!,E:E,\">=40\")+SUMIFS(H:H,AX:AX,\"=\"&BB58,AY:AY,\"<\"&#REF!,E:E,\">=40\")","v":0},{"$f":"SUMIFS(H:H,AX:AX,\">\"&BD58,AX:AX,\"<\"&BC58,E:E,\">=40\")+SUMIFS(H:H,AX:AX,\"=\"&BD58,AY:AY,\">=\"&#REF!,E:E,\">=40\")+SUMIFS(H:H,AX:AX,\"=\"&BC58,AY:AY,\"<\"&#REF!,E:E,\">=40\")","v":0},{"$f":"SUMIFS(H:H,AX:AX,\"<\"&BD58,E:E,\">=40\")+SUMIFS(H:H,AX:AX,\"=\"&BD58,AY:AY,\"<\"&#REF!,E:E,\">=40\")","v":0},{"$f":"SUM(BB62:BE62)","v":265.05}]
["[구산동]",null,5,"일동미라주",2013.06,596,25.878787878787882,85.4,18.036363636363639,59.52,2,null,null,null,null,0,0,0,0,3,2,"계단식","85B"]
["[구산동]",null,6,"일동미라주",2013.06,596,26.006060606060604,85.82,18.133333333333336,59.84,127,null,null,null,null,0,0,0,0,3,2,"계단식","85A",null,null,null,null,null,null,null,null,null,null,null,null,null,null,null,null,null,null,null,null,null,null,null,null,null,null,{"$f":"IF(B64=\"\",\"\",_xlfn.NUMBERVALUE(IF(_xlfn.NUMBERVALUE(LEFT(RIGHT(B64,5),2))>70,\"19\"&LEFT(RIGHT(B64,5),2),\"20\"&LEFT(RIGHT(B64,5),2))))","v":""},{"$f":"IF(B64=\"\",\"\",_xlfn.NUMBERVALUE(RIGHT(B64,2)))","v":""},null,"합계",{"$f":"SUM(BB60:BB63)","v":265.05},{"$f":"SUM(BC60:BC63)","v":0},{"$f":"SUM(BD60:BD63)","v":0},{"$f":"SUM(BE60:BE63)","v":0},{"$f":"SUM(BB64:BE64)","v":265.05}]
["[구산동]",null,7,"일동미라주",2013.06,596,26.006060606060604,85.82,18.133333333333336,59.84,6,null,null,null,null,0,0,0,0,3,2,"계단식","85C"]
["[구산동]",null,8,"일동미라주",2013.06,596,{"$f":"H66/3.3","v":31.957575757575757},105.46,{"$f":"J66/3.3","v":24.878787878787879},82.1,59,null,null,null,null,0,0,0,0,3,2,"계단식","105A"]
["[구산동]",null,9,"일동미라주",2013.06,596,31.957575757575757,105.46,24.878787878787879,82.1,1,null,null,null,null,0,0,0,0,3,2,"계단식","105B"]
["[구산동]",null,10,"일동미라주",2013.06,596,34.863636363636367,115.05,25.73030303030303,84.91,104,null,null,null,null,0,0,0,0,3,2,"계단식","115A"]
["[구산동]",null,11,"일동미라주",2013.06,596,34.863636363636367,115.05,25.73030303030303,84.91,2,null,null,null,null,0,0,0,0,3,2,"계단식","115B"]
["[구산동]",null,1,{"$f":"HYPERLINK(\"https://land.naver.com/article/groundPlan.nhn?rletNo=6076&cortarNo=4825010600\",\"시영\")","v":"시영"},1994.01,567,20.018181818181819,66.06,15.115151515151517,49.88,413,null,null,null,null,0,0,0,0,2,1,"복도식",66]
["[구산동]",null,2,{"$f":"HYPERLINK(\"https://land.naver.com/article/groundPlan.nhn?rletNo=6076&cortarNo=4825010600\",\"시영\")","v":"시영"},1994.01,567,23.715151515151518,78.260000000000005,18.109090909090909,59.76,154,null,null,null,null,0,0,0,0,3,1,"복도식",78]
["[구산동]",null,1,{"$f":"HYPERLINK(\"https://land.naver.com/article/groundPlan.nhn?rletNo=16547&cortarNo=4825010600\",\"김해구산주공5단지\")","v":"김해구산주공5단지"},1999.02,560,18.542424242424243,61.19,14.887878787878789,49.13,140,null,null,null,null,0,0,0,0,2,1,"복도식",61]
["[구산동]",null,2,{"$f":"HYPERLINK(\"https://land.naver.com/article/groundPlan.nhn?rletNo=16547&cortarNo=4825010600\",\"김해구산주공5단지\")","v":"김해구산주공5단지"},1999.02,560,21.90606060606061,72.290000000000006,18.17878787878788,59.99,120,null,null,null,null,0,0,0,0,3,1,"복도식",72]
["[구산동]",null,3,{"$f":"HYPERLINK(\"https://land.naver.com/article/groundPlan.nhn?rletNo=16547&cortarNo=4825010600\",\"김해구산주공5단지\")","v":"김해구산주공5단지"},1999.02,560,22.642424242424244,74.72,18.17878787878788,59.99,300,null,null,null,null,0,0,0,0,3,1,"복도식",74]
["[구산동]",null,1,{"$f":"HYPERLINK(\"https://land.naver.com/article/groundPlan.nhn?rletNo=103539&cortarNo=4825010600\",\"구산이진캐스빌1단지\")","v":"구산이진캐스빌1단지"},2013.09,510,29.018181818181823,95.76,22.154545454545456,73.11,223,null,null,null,null,0,0,0,0,3,2,"계단식",95]
["[구산동]",null,2,"구산이진캐스빌1단지",2013.09,510,33.181818181818187,109.5,25.751515151515154,84.98,113,null,null,null,null,0,0,0,0,3,2,"계단식","109A"]
["[구산동]",null,3,"구산이진캐스빌1단지",2013.09,510,33.533333333333331,110.66,25.754545454545454,84.99,138,null,null,null,null,0,0,0,0,3,2,"계단식","110B"]
["[구산동]",null,4,"구산이진캐스빌1단지",2013.09,510,43.909090909090914,144.9,34.457575757575761,113.71,32,null,null,null,null,0,0,0,0,4,2,"계단식",144]
["[구산동]",null,5,"구산이진캐스빌1단지",2013.09,510,64.796969696969711,213.83,50.433333333333337,166.43,3,null,null,null,null,0,0,0,0,4,2,"계단식",213]
["[구산동]",null,6,"구산이진캐스빌1단지",2013.09,510,84.336363636363643,278.31,66.675757575757586,220.03,1,null,null,null,null,0,0,0,0,4,2,"계단식",278]
["[구산동]",null,1,{"$f":"HYPERLINK(\"https://land.naver.com/article/groundPlan.nhn?rletNo=16545&cortarNo=4825010600\",\"김해구산주공4단지\")","v":"김해구산주공4단지"},1999.02,503,19.390909090909094,63.99,15.036363636363637,49.62,503,null,null,null,null,0,0,0,0,2,1,"복도식",63]
["[구산동]",null,1,{"$f":"HYPERLINK(\"https://land.naver.com/article/groundPlan.nhn?rletNo=6071&cortarNo=4825010600\",\"대동\")","v":"대동"},1993.05,240,33.757575757575758,111.4,28.036363636363635,92.52,45,null,null,null,null,0,0,0,0,3,2,"계단식",111]
["[구산동]",null,2,{"$f":"HYPERLINK(\"https://land.naver.com/article/groundPlan.nhn?rletNo=6071&cortarNo=4825010600\",\"대동\")","v":"대동"},1993.05,240,37.4969696969697,123.74,31.527272727272731,104.04,60,null,null,null,null,0,0,0,0,3,2,"계단식",123]
["[구산동]",null,3,{"$f":"HYPERLINK(\"https://land.naver.com/article/groundPlan.nhn?rletNo=6071&cortarNo=4825010600\",\"대동\")","v":"대동"},1993.05,240,47.057575757575755,155.29,40.436363636363637,133.44,120,null,null,null,null,0,0,0,0,4,2,"계단식","155A"]
["[구산동]",null,4,{"$f":"HYPERLINK(\"https://land.naver.com/article/groundPlan.nhn?rletNo=6071&cortarNo=4825010600\",\"대동\")","v":"대동"},1993.05,240,47.148484848484856,155.59,40.521212121212123,133.72,15,null,null,null,null,0,0,0,0,4,2,"계단식","155B"]
["[구산동]",null,1,{"$f":"HYPERLINK(\"https://land.naver.com/article/groundPlan.nhn?rletNo=104583&cortarNo=4825010600\",\"구산아이파크\")","v":"구산아이파크"},2013.12,203,29.060606060606062,95.9,22.084848484848486,72.88,16,null,null,null,null,0,0,0,0,3,2,"계단식","95B"]
["[구산동]",null,2,{"$f":"HYPERLINK(\"https://land.naver.com/article/groundPlan.nhn?rletNo=104583&cortarNo=4825010600\",\"구산아이파크\")","v":"구산아이파크"},2013.12,203,29.757575757575761,98.2,22.054545454545455,72.78,34,null,null,null,null,0,0,0,0,3,2,"계단식","98A"]
["[구산동]",null,3,{"$f":"HYPERLINK(\"https://land.naver.com/article/groundPlan.nhn?rletNo=104583&cortarNo=4825010600\",\"구산아이파크\")","v":"구산아이파크"},2013.12,203,33.709090909090911,111.24,25.742424242424246,84.95,19,null,null,null,null,0,0,0,0,3,2,"계단식","111A"]
["[구산동]",null,4,{"$f":"HYPERLINK(\"https://land.naver.com/article/groundPlan.nhn?rletNo=104583&cortarNo=4825010600\",\"구산아이파크\")","v":"구산아이파크"},2013.12,203,33.81515151515152,111.59,25.754545454545454,84.99,78,null,null,null,null,0,0,0,0,3,2,"계단식","111B"]
["[구산동]",null,5,{"$f":"HYPERLINK(\"https://land.naver.com/article/groundPlan.nhn?rletNo=104583&cortarNo=4825010600\",\"구산아이파크\")","v":"구산아이파크"},2013.12,203,34.403030303030306,113.53,25.754545454545454,84.99,56,null,null,null,null,0,0,0,0,3,2,"계단식","113C"]
["[구산동]",null,1,{"$f":"HYPERLINK(\"https://land.naver.com/article/groundPlan.nhn?rletNo=6061&cortarNo=4825010600\",\"거송월드타운\")","v":"거송월드타운"},1990.12,154,28.557575757575759,94.24,23.112121212121213,76.27,22,null,null,null,null,0,0,0,0,3,1,"계단식",94]
["[구산동]",null,1,{"$f":"HYPERLINK(\"https://land.naver.com/article/groundPlan.nhn?rletNo=6061&cortarNo=4825010600\",\"거송월드타운\")","v":"거송월드타운"},1990.12,154,29.896969696969698,98.66,24.321212121212124,80.260000000000005,66,null,null,null,null,0,0,0,0,3,1,"계단식",98]
["[구산동]",null,1,{"$f":"HYPERLINK(\"https://land.naver.com/article/groundPlan.nhn?rletNo=6061&cortarNo=4825010600\",\"거송월드타운\")","v":"거송월드타운"},1990.12,154,31.593939393939397,104.26,25.745454545454546,84.96,66,null,null,null,null,0,0,0,0,3,2,"계단식",104]
["[내덕동]",null,1,{"$f":"HYPERLINK(\"https://land.naver.com/article/groundPlan.nhn?rletNo=111279&cortarNo=4825012400\",\"내덕서희스타힐스\")","v":"내덕서희스타힐스"},2016.12,990,24.65757575757576,81.37,18.154545454545456,59.91,305,null,null,null,null,0,0,0,0,3,2,"계단식","81A"]
["[내덕동]",null,2,{"$f":"HYPERLINK(\"https://land.naver.com/article/groundPlan.nhn?rletNo=111279&cortarNo=4825012400\",\"내덕서희스타힐스\")","v":"내덕서희스타힐스"},2016.12,990,24.775757575757577,81.760000000000005,18.148484848484848,59.89,18,null,null,null,null,0,0,0,0,3,2,"계단식","81B"]
["[내덕동]",null,3,{"$f":"HYPERLINK(\"https://land.naver.com/article/groundPlan.nhn?rletNo=111279&cortarNo=4825012400\",\"내덕서희스타힐스\")","v":"내덕서희스타힐스"},2016.12,990,27.233333333333338,89.87,19.936363636363641,65.790000000000006,321,null,null,null,null,0,0,0,0,3,2,"계단식",89]
["[내덕동]",null,4,{"$f":"HYPERLINK(\"https://land.naver.com/article/groundPlan.nhn?rletNo=111279&cortarNo=4825012400\",\"내덕서희스타힐스\")","v":"내덕서희스타힐스"},2016.12,990,30.572727272727274,100.89,22.606060606060606,74.599999999999994,346,null,null,null,null,0,0,0,0,3,2,"계단식",100]
["[내동]",null,1,{"$f":"HYPERLINK(\"https://land.naver.com/article/groundPlan.nhn?rletNo=16555&cortarNo=4825010800\",\"내동한일\")","v":"내동한일"},1986.07,936,18.736363636363638,61.83,13.200000000000001,43.56,192,null,null,null,null,0,0,0,0,2,1,"복도식",61]
["[내동]",null,2,{"$f":"HYPERLINK(\"https://land.naver.com/article/groundPlan.nhn?rletNo=16555&cortarNo=4825010800\",\"내동한일\")","v":"내동한일"},1986.07,936,23.130303030303033,76.33,17.363636363636363,57.3,744,null,null,null,null,0,0,0,0,2,1,"복도식",76]
["[내동]",null,1,{"$f":"HYPERLINK(\"https://land.naver.com/article/groundPlan.nhn?rletNo=6113&cortarNo=4825010800\",\"삼성\")","v":"삼성"},1996.06,862,22.463636363636365,74.13,18.081818181818182,59.67,220,null,null,null,null,0,0,0,0,3,1,"계단식","74A"]
["[내동]",null,2,{"$f":"HYPERLINK(\"https://land.naver.com/article/groundPlan.nhn?rletNo=6113&cortarNo=4825010800\",\"삼성\")","v":"삼성"},1996.06,862,22.475757575757576,74.17,18.145454545454548,59.88,240,null,null,null,null,0,0,0,0,3,1,"계단식","74B"]
["[내동]",null,3,{"$f":"HYPERLINK(\"https://land.naver.com/article/groundPlan.nhn?rletNo=6113&cortarNo=4825010800\",\"삼성\")","v":"삼성"},1996.06,862,30.112121212121217,99.37,25.754545454545454,84.99,402,null,null,null,null,0,0,0,0,3,2,"계단식",99]
["[내동]",null,1,{"$f":"HYPERLINK(\"https://land.naver.com/article/groundPlan.nhn?rletNo=6107&cortarNo=4825010800\",\"동아1차\")","v":"동아1차"},1997.01,720,36.560606060606062,120.65,30.303030303030305,100,300,null,null,null,null,0,0,0,0,4,2,"계단식",120]
["[내동]",null,2,{"$f":"HYPERLINK(\"https://land.naver.com/article/groundPlan.nhn?rletNo=6107&cortarNo=4825010800\",\"동아1차\")","v":"동아1차"},1997.01,720,45.654545454545456,150.66,38.693939393939395,127.69,360,null,null,null,null,0,0,0,0,4,2,"계단식",150]
["[내동]",null,3,{"$f":"HYPERLINK(\"https://land.naver.com/article/groundPlan.nhn?rletNo=6107&cortarNo=4825010800\",\"동아1차\")","v":"동아1차"},1997.01,720,58.74848484848485,193.87,49.990909090909092,164.97,60,null,null,null,null,0,0,0,0,5,2,"계단식",193]
["[내동]",null,1,{"$f":"HYPERLINK(\"https://land.naver.com/article/groundPlan.nhn?rletNo=6159&cortarNo=4825010800\",\"홍익\")","v":"홍익"},1990.07,708,20.109090909090909,66.36,18.115151515151517,59.78,708,null,null,null,null,0,0,0,0,3,1,"계단식",66]
["[내동]",null,1,{"$f":"HYPERLINK(\"https://land.naver.com/article/groundPlan.nhn?rletNo=6100&cortarNo=4825010800\",\"건영\")","v":"건영"},1998.12,558,25.993939393939396,85.78,25.736363636363638,84.93,120,null,null,null,null,0,0,0,0,3,2,"계단식",85]
["[내동]",null,2,{"$f":"HYPERLINK(\"https://land.naver.com/article/groundPlan.nhn?rletNo=6100&cortarNo=4825010800\",\"건영\")","v":"건영"},1998.12,558,34.354545454545459,113.37,30.290909090909089,99.96,408,null,null,null,null,0,0,0,0,4,2,"계단식",113]
["[내동]",null,3,{"$f":"HYPERLINK(\"https://land.naver.com/article/groundPlan.nhn?rletNo=6100&cortarNo=4825010800\",\"건영\")","v":"건영"},1998.12,558,45.009090909090915,148.53,40.851515151515152,134.81,30,null,null,null,null,0,0,0,0,4,2,"계단식",148]
["[내동]",null,1,{"$f":"HYPERLINK(\"https://land.naver.com/article/groundPlan.nhn?rletNo=6105&cortarNo=4825010800\",\"내외대우\")","v":"내외대우"},1996.06,504,29.675757575757579,97.93,25.742424242424246,84.95,150,null,null,null,null,0,0,0,0,3,2,"계단식","97B"]
["[내동]",null,2,{"$f":"HYPERLINK(\"https://land.naver.com/article/groundPlan.nhn?rletNo=6105&cortarNo=4825010800\",\"내외대우\")","v":"내외대우"},1996.06,504,21.860606060606063,72.14,17.957575757575757,59.26,88,null,null,null,null,0,0,0,0,3,1,"계단식","72A"]
["[내동]",null,3,{"$f":"HYPERLINK(\"https://land.naver.com/article/groundPlan.nhn?rletNo=6105&cortarNo=4825010800\",\"내외대우\")","v":"내외대우"},1996.06,504,22.066666666666666,72.819999999999993,18.127272727272729,59.82,116,null,null,null,null,0,0,0,0,3,1,"계단식","72B"]
["[내동]",null,4,{"$f":"HYPERLINK(\"https://land.naver.com/article/groundPlan.nhn?rletNo=6105&cortarNo=4825010800\",\"내외대우\")","v":"내외대우"},1996.06,504,29.490909090909092,97.32,25.578787878787878,84.41,150,null,null,null,null,0,0,0,0,3,2,"계단식","97A"]
["[내동]",null,1,{"$f":"HYPERLINK(\"https://land.naver.com/article/groundPlan.nhn?rletNo=6120&cortarNo=4825010800\",\"현대2차\")","v":"현대2차"},1996.03,493,29.515151515151519,97.4,25.745454545454546,84.96,233,null,null,null,null,0,0,0,0,3,2,"계단식",97]
["[내동]",null,2,{"$f":"HYPERLINK(\"https://land.naver.com/article/groundPlan.nhn?rletNo=6120&cortarNo=4825010800\",\"현대2차\")","v":"현대2차"},1996.03,493,34.603030303030302,114.19,30.884848484848487,101.92,204,null,null,null,null,0,0,0,0,4,2,"계단식",114]
["[내동]",null,3,{"$f":"HYPERLINK(\"https://land.naver.com/article/groundPlan.nhn?rletNo=6120&cortarNo=4825010800\",\"현대2차\")","v":"현대2차"},1996.03,493,45.442424242424245,149.96,40.799999999999997,134.63999999999999,56,null,null,null,null,0,0,0,0,4,2,"계단식",149]
["[내동]",null,1,{"$f":"HYPERLINK(\"https://land.naver.com/article/groundPlan.nhn?rletNo=16556&cortarNo=4825010800\",\"한진\")","v":"한진"},1992.05,474,20.951515151515153,69.14,15.054545454545455,49.68,299,null,null,null,null,0,0,0,0,2,1,"복도식",69]
["[내동]",null,1,{"$f":"HYPERLINK(\"https://land.naver.com/article/groundPlan.nhn?rletNo=6127&cortarNo=4825010800\",\"현대4차\")","v":"현대4차"},1998.06,419,28.842424242424247,95.18,25.457575757575761,84.01,1,null,null,null,null,0,0,0,0,3,2,"계단식","95A"]
["[내동]",null,2,"현대4차",1998.06,419,29.166666666666668,96.25,25.745454545454546,84.96,209,null,null,null,null,0,0,0,0,3,1,"계단식","96B"]
["[내동]",null,3,"현대4차",1998.06,419,34.278787878787881,113.12,30.257575757575758,99.85,119,null,null,null,null,0,0,0,0,3,2,"계단식","113A"]
["[내동]",null,4,"현대4차",1998.06,419,34.300000000000004,113.19,30.275757575757577,99.91,30,null,null,null,null,0,0,0,0,4,2,"계단식","113B"]
["[내동]",null,5,"현대4차",1998.06,419,{"$f":"H122/3.3","v":46.272727272727273},152.69999999999999,{"$f":"J122/3.3","v":40.842424242424244},134.78,30,null,null,null,null,0,0,0,0,4,2,"계단식",152]
["[내동]",null,6,"현대4차",1998.06,419,56.575757575757578,186.7,49.936363636363637,164.79,30,null,null,null,null,0,0,0,0,5,2,"계단식",186]
["[내동]",null,1,{"$f":"HYPERLINK(\"https://land.naver.com/article/groundPlan.nhn?rletNo=12902&cortarNo=4825010800\",\"동부\")","v":"동부"},1996.12,402,22.503030303030307,74.260000000000005,18.175757575757576,59.98,134,null,null,null,null,0,0,0,0,3,1,"계단식",74]
["[내동]",null,2,{"$f":"HYPERLINK(\"https://land.naver.com/article/groundPlan.nhn?rletNo=12902&cortarNo=4825010800\",\"동부\")","v":"동부"},1996.12,402,25.972727272727273,85.71,22.103030303030305,72.94,88,null,null,null,null,0,0,0,0,3,1,"계단식",85]
["[내동]",null,3,{"$f":"HYPERLINK(\"https://land.naver.com/article/groundPlan.nhn?rletNo=12902&cortarNo=4825010800\",\"동부\")","v":"동부"},1996.12,402,30.306060606060608,100.01,25.733333333333334,84.92,180,null,null,null,null,0,0,0,0,3,2,"계단식",100]
["[내동]",null,1,{"$f":"HYPERLINK(\"https://land.naver.com/article/groundPlan.nhn?rletNo=6115&cortarNo=4825010800\",\"현대1차\")","v":"현대1차"},1995.09,402,22.784848484848485,75.19,18.166666666666668,59.95,180,null,null,null,null,0,0,0,0,3,1,"계단식",75]
["[내동]",null,2,{"$f":"HYPERLINK(\"https://land.naver.com/article/groundPlan.nhn?rletNo=6115&cortarNo=4825010800\",\"현대1차\")","v":"현대1차"},1995.09,402,32.287878787878789,106.55,25.745454545454546,84.96,222,null,null,null,null,0,0,0,0,3,2,"계단식",106]
["[내동]",null,1,{"$f":"HYPERLINK(\"https://land.naver.com/article/groundPlan.nhn?rletNo=6124&cortarNo=4825010800\",\"현대3차\")","v":"현대3차"},1998.04,376,28.957575757575761,95.56,25.457575757575761,84.01,1,null,null,null,null,0,0,0,0,3,2,"계단식","95A"]
["[내동]",null,2,{"$f":"HYPERLINK(\"https://land.naver.com/article/groundPlan.nhn?rletNo=6124&cortarNo=4825010800\",\"현대3차\")","v":"현대3차"},1998.04,376,29.284848484848485,96.64,25.745454545454546,84.96,166,null,null,null,null,0,0,0,0,3,2,"계단식","96B"]
["[내동]",null,3,{"$f":"HYPERLINK(\"https://land.naver.com/article/groundPlan.nhn?rletNo=6124&cortarNo=4825010800\",\"현대3차\")","v":"현대3차"},1998.04,376,34.418181818181822,113.58,30.257575757575758,99.85,89,null,null,null,null,0,0,0,0,3,2,"계단식","113A"]
["[내동]",null,4,{"$f":"HYPERLINK(\"https://land.naver.com/article/groundPlan.nhn?rletNo=6124&cortarNo=4825010800\",\"현대3차\")","v":"현대3차"},1998.04,376,34.439393939393945,113.65,30.275757575757577,99.91,60,null,null,null,null,0,0,0,0,4,2,"계단식","113B"]
["[내동]",null,5,{"$f":"HYPERLINK(\"https://land.naver.com/article/groundPlan.nhn?rletNo=6124&cortarNo=4825010800\",\"현대3차\")","v":"현대3차"},1998.04,376,46.457575757575761,153.31,40.842424242424244,134.78,60,null,null,null,null,0,0,0,0,4,2,"계단식",153]
["[내동]",null,1,{"$f":"HYPERLINK(\"https://land.naver.com/article/groundPlan.nhn?rletNo=6110&cortarNo=4825010800\",\"동아2차\")","v":"동아2차"},1998.01,324,29.700000000000003,98.01,25.754545454545454,84.99,150,null,null,null,null,0,0,0,0,3,2,"계단식",98]
["[내동]",null,2,{"$f":"HYPERLINK(\"https://land.naver.com/article/groundPlan.nhn?rletNo=6110&cortarNo=4825010800\",\"동아2차\")","v":"동아2차"},1998.01,324,34.263636363636365,113.07,30.248484848484846,99.82,126,null,null,null,null,0,0,0,0,3,2,"계단식",113]
["[내동]",null,3,{"$f":"HYPERLINK(\"https://land.naver.com/article/groundPlan.nhn?rletNo=6110&cortarNo=4825010800\",\"동아2차\")","v":"동아2차"},1998.01,324,45.627272727272725,150.57,40.839393939393943,134.77000000000001,48,null,null,null,null,0,0,0,0,4,2,"계단식",150]
["[대성동]",127356,2,{"$f":"HYPERLINK(\"https://land.naver.com/article/groundPlan.nhn?rletNo=127356&cortarNo=4825010500\",\"동호맨션\")","v":"동호맨션"},1989.05,40,23.52,77.75,20.99,69.39,5,null,null,null,null,0,0,0,0,3,1,"계단식","77A"]
["[대성동]",110345,1,{"$f":"HYPERLINK(\"https://land.naver.com/article/groundPlan.nhn?rletNo=110345&cortarNo=4825010500\",\"부림\")","v":"부림"},1986.01,58,20.440000000000001,67.58,17.95,59.35,58,null,null,null,null,0,0,0,0,3,1,"계단식",67]
["[대성동]",124419,1,{"$f":"HYPERLINK(\"https://land.naver.com/article/groundPlan.nhn?rletNo=124419&cortarNo=4825010500\",\"대성\")","v":"대성"},1985.04,69,18.11,59.88,15.98,52.83,21,null,null,null,null,0,0,0,0,2,1,"계단식",59]
["[대성동]",124419,2,{"$f":"HYPERLINK(\"https://land.naver.com/article/groundPlan.nhn?rletNo=124419&cortarNo=4825010500\",\"대성\")","v":"대성"},1985.04,69,18.82,62.22,16.690000000000001,55.17,48,null,null,null,null,0,0,0,0,2,1,"계단식",62]
["[대성동]",126098,1,{"$f":"HYPERLINK(\"https://land.naver.com/article/groundPlan.nhn?rletNo=126098&cortarNo=4825010500\",\"북부\")","v":"북부"},1984.02,40,18.16,60.02,15.98,52.82,15,null,null,null,null,0,0,0,0,2,1,"계단식",60]
["[대성동]",126098,2,{"$f":"HYPERLINK(\"https://land.naver.com/article/groundPlan.nhn?rletNo=126098&cortarNo=4825010500\",\"북부\")","v":"북부"},1984.02,40,19.96,65.97,17.78,58.77,25,null,null,null,null,0,0,0,0,3,1,"계단식",65]
["[대성동]",127356,1,{"$f":"HYPERLINK(\"https://land.naver.com/article/groundPlan.nhn?rletNo=127356&cortarNo=4825010500\",\"동호맨션\")","v":"동호맨션"},1989.05,40,23.46,77.56,20.94,69.209999999999994,30,null,null,null,null,0,0,0,0,3,1,"계단식",77]
["[대성동]",127356,3,{"$f":"HYPERLINK(\"https://land.naver.com/article/groundPlan.nhn?rletNo=127356&cortarNo=4825010500\",\"동호맨션\")","v":"동호맨션"},1989.05,40,23.71,78.39,21.18,70.010000000000005,5,null,null,null,null,0,0,0,0,3,1,"계단식","78B"]
["[대성동]",23241,1,{"$f":"HYPERLINK(\"https://land.naver.com/article/groundPlan.nhn?rletNo=23241&cortarNo=4825010500\",\"가람\")","v":"가람"},1995.09,108,12.27,40.549999999999997,8.98,29.7,22,null,null,null,null,0,0,0,0,3,2,"계단식",40]
["[대성동]",23241,2,{"$f":"HYPERLINK(\"https://land.naver.com/article/groundPlan.nhn?rletNo=23241&cortarNo=4825010500\",\"가람\")","v":"가람"},1995.09,108,23.98,79.27,18.350000000000001,60.66,11,null,null,null,null,0,0,0,0,3,2,"복합식",79]
["[대성동]",23241,3,{"$f":"HYPERLINK(\"https://land.naver.com/article/groundPlan.nhn?rletNo=23241&cortarNo=4825010500\",\"가람\")","v":"가람"},1995.09,108,28.48,94.15,21.62,71.459999999999994,45,null,null,null,null,0,0,0,0,3,2,"계단식",94,null,null,null,null,null,null,null,null,null,null,null,null,null,null,null,null,null,null,null,null,null,null,null,null,null,null,{"$f":"IF(B147=\"\",\"\",_xlfn.NUMBERVALUE(IF(_xlfn.NUMBERVALUE(LEFT(RIGHT(B147,5),2))>70,\"19\"&LEFT(RIGHT(B147,5),2),\"20\"&LEFT(RIGHT(B147,5),2))))","v":2023},{"$f":"IF(B147=\"\",\"\",_xlfn.NUMBERVALUE(RIGHT(B147,2)))","v":41},null,"20평대",{"$f":"BB140/BF143","v":{"$error":"#DIV/0!"}},{"$f":"BC140/BF143","v":{"$error":"#DIV/0!"}},{"$f":"BD140/BF143","v":{"$error":"#DIV/0!"}},{"$f":"BE140/BF143","v":{"$error":"#DIV/0!"}},{"$f":"BF140/BF143","v":{"$error":"#DIV/0!"}}]
["[대성동]",23241,4,{"$f":"HYPERLINK(\"https://land.naver.com/article/groundPlan.nhn?rletNo=23241&cortarNo=4825010500\",\"가람\")","v":"가람"},1995.09,108,28.66,94.76,24.95,82.47,30,null,null,null,null,0,0,0,0,3,2,"계단식",94,null,null,null,null,null,null,null,null,null,null,null,null,null,null,null,null,null,null,null,null,null,null,null,null,null,null,{"$f":"IF(B148=\"\",\"\",_xlfn.NUMBERVALUE(IF(_xlfn.NUMBERVALUE(LEFT(RIGHT(B148,5),2))>70,\"19\"&LEFT(RIGHT(B148,5),2),\"20\"&LEFT(RIGHT(B148,5),2))))","v":2023},{"$f":"IF(B148=\"\",\"\",_xlfn.NUMBERVALUE(RIGHT(B148,2)))","v":41},null,"30평대",{"$f":"BB141/BF143","v":{"$error":"#DIV/0!"}},{"$f":"BC141/BF143","v":{"$error":"#DIV/0!"}},{"$f":"BD141/BF143","v":{"$error":"#DIV/0!"}},{"$f":"BE141/BF143","v":{"$error":"#DIV/0!"}},{"$f":"BF141/BF143","v":{"$error":"#DIV/0!"}}]
["[대성동]",6167,1,{"$f":"HYPERLINK(\"https://land.naver.com/article/groundPlan.nhn?rletNo=6167&cortarNo=4825010500\",\"홍익\")","v":"홍익"},1990.07,134,23.03,76.14,21.09,69.72,42,null,null,null,null,0,0,0,0,3,1,"계단식",76,null,null,null,null,null,null,null,null,null,null,null,null,null,null,null,null,null,null,null,null,null,null,null,null,null,null,{"$f":"IF(B149=\"\",\"\",_xlfn.NUMBERVALUE(IF(_xlfn.NUMBERVALUE(LEFT(RIGHT(B149,5),2))>70,\"19\"&LEFT(RIGHT(B149,5),2),\"20\"&LEFT(RIGHT(B149,5),2))))","v":2061},{"$f":"IF(B149=\"\",\"\",_xlfn.NUMBERVALUE(RIGHT(B149,2)))","v":67},null,"40평대↑",{"$f":"BB142/BF143","v":{"$error":"#DIV/0!"}},{"$f":"BC142/BF143","v":{"$error":"#DIV/0!"}},{"$f":"BD142/BF143","v":{"$error":"#DIV/0!"}},{"$f":"BE142/BF143","v":{"$error":"#DIV/0!"}},{"$f":"BF142/BF143","v":{"$error":"#DIV/0!"}}]
["[대성동]",6167,2,{"$f":"HYPERLINK(\"https://land.naver.com/article/groundPlan.nhn?rletNo=6167&cortarNo=4825010500\",\"홍익\")","v":"홍익"},1990.07,134,23.63,78.099999999999994,21.68,71.67,30,null,null,null,null,0,0,0,0,3,1,"계단식",78]
["[대성동]",6167,3,{"$f":"HYPERLINK(\"https://land.naver.com/article/groundPlan.nhn?rletNo=6167&cortarNo=4825010500\",\"홍익\")","v":"홍익"},1990.07,134,24.24,80.14,22.3,73.709999999999994,18,null,null,null,null,0,0,0,0,3,1,"계단식",80]
["[대성동]",6167,4,{"$f":"HYPERLINK(\"https://land.naver.com/article/groundPlan.nhn?rletNo=6167&cortarNo=4825010500\",\"홍익\")","v":"홍익"},1990.07,134,26.5,87.61,24.21,80.03,12,null,null,null,null,0,0,0,0,3,1,"복합식",87]
["[대성동]",6167,5,{"$f":"HYPERLINK(\"https://land.naver.com/article/groundPlan.nhn?rletNo=6167&cortarNo=4825010500\",\"홍익\")","v":"홍익"},1990.07,134,27.94,92.38,24.63,81.41,32,null,null,null,null,0,0,0,0,3,2,"계단식",92]
["[대청동]",null,1,{"$f":"HYPERLINK(\"https://land.naver.com/article/groundPlan.nhn?rletNo=23946&cortarNo=4825012900\",\"갑오마을4단지부영\")","v":"갑오마을4단지부영"},2002.07,760,31.230303030303034,103.06,24.466666666666665,80.739999999999995,760,null,null,null,null,0,0,0,0,3,2,"계단식",162]
["[대청동]",null,1,{"$f":"HYPERLINK(\"https://land.naver.com/article/groundPlan.nhn?rletNo=23965&cortarNo=4825012900\",\"갑오마을7단지부영\")","v":"갑오마을7단지부영"},2002.09,730,23.890909090909094,78.84,17.90909090909091,59.1,730,null,null,null,null,0,0,0,0,3,2,"계단식","72B"]
["[대청동]",null,1,{"$f":"HYPERLINK(\"https://land.naver.com/article/groundPlan.nhn?rletNo=23947&cortarNo=4825012900\",\"갑오마을6단지부영\")","v":"갑오마을6단지부영"},2002.07,606,31.063636363636366,102.51,24.466666666666665,80.739999999999995,606,null,null,null,null,0,0,0,0,3,2,"계단식","72C"]
["[대청동]",null,1,{"$f":"HYPERLINK(\"https://land.naver.com/article/groundPlan.nhn?rletNo=100977&cortarNo=4825012900\",\"갑오마을2단지주공\")","v":"갑오마을2단지주공"},2002.11,495,21.830303030303032,72.040000000000006,15.603030303030305,51.49,171,null,null,null,null,0,0,0,0,2,1,"계단식","72A"]
["[대청동]",null,2,{"$f":"HYPERLINK(\"https://land.naver.com/article/groundPlan.nhn?rletNo=100977&cortarNo=4825012900\",\"갑오마을2단지주공\")","v":"갑오마을2단지주공"},2002.11,495,21.927272727272729,72.36,15.672727272727274,51.72,76,null,null,null,null,0,0,0,0,2,1,"계단식",83]
["[대청동]",null,3,{"$f":"HYPERLINK(\"https://land.naver.com/article/groundPlan.nhn?rletNo=100977&cortarNo=4825012900\",\"갑오마을2단지주공\")","v":"갑오마을2단지주공"},2002.11,495,21.936363636363637,72.39,15.67878787878788,51.74,108,null,null,null,null,0,0,0,0,2,1,"계단식",152]
["[대청동]",null,4,{"$f":"HYPERLINK(\"https://land.naver.com/article/groundPlan.nhn?rletNo=100977&cortarNo=4825012900\",\"갑오마을2단지주공\")","v":"갑오마을2단지주공"},2002.11,495,25.284848484848485,83.44,18.072727272727274,59.64,140,null,null,null,null,0,0,0,0,3,1,"계단식",186]
["[대청동]",null,1,{"$f":"HYPERLINK(\"https://land.naver.com/article/groundPlan.nhn?rletNo=23945&cortarNo=4825012900\",\"갑오마을5단지부영\")","v":"갑오마을5단지부영"},2002.08,400,31.081818181818182,102.57,24.466666666666665,80.739999999999995,400,null,null,null,null,0,0,0,0,3,2,"계단식",126]
["[대청동]",null,1,{"$f":"HYPERLINK(\"https://land.naver.com/article/groundPlan.nhn?rletNo=17355&cortarNo=4825012900\",\"갑오마을8단지푸르지오\")","v":"갑오마을8단지푸르지오"},2005.01,304,46.060606060606062,152,38.284848484848489,126.34,160,null,null,null,null,0,0,0,0,4,2,"계단식",140]
["[대청동]",null,2,{"$f":"HYPERLINK(\"https://land.naver.com/article/groundPlan.nhn?rletNo=17355&cortarNo=4825012900\",\"갑오마을8단지푸르지오\")","v":"갑오마을8단지푸르지오"},2005.01,304,56.457575757575761,186.31,47.903030303030306,158.08000000000001,144,null,null,null,null,0,0,0,0,4,2,"계단식",102]
["[대청동]",null,1,{"$f":"HYPERLINK(\"https://land.naver.com/article/groundPlan.nhn?rletNo=6389&cortarNo=4825012900\",\"갑오마을3단지대동다숲\")","v":"갑오마을3단지대동다숲"},2000.07,298,49.351515151515159,162.86000000000001,38.327272727272728,126.48,160,null,null,null,null,0,0,0,0,4,2,"계단식",103]
["[대청동]",null,2,{"$f":"HYPERLINK(\"https://land.naver.com/article/groundPlan.nhn?rletNo=6389&cortarNo=4825012900\",\"갑오마을3단지대동다숲\")","v":"갑오마을3단지대동다숲"},2000.07,298,37.575757575757578,124,32.312121212121212,106.63,138,null,null,null,null,0,0,0,0,3,2,"계단식",102]
["[대청동]",null,1,{"$f":"HYPERLINK(\"https://land.naver.com/article/groundPlan.nhn?rletNo=13422&cortarNo=4825012900\",\"갑오마을9단지푸르지오\")","v":"갑오마을9단지푸르지오"},2005.08,298,37.457575757575761,123.61,30.912121212121214,102.01,28,null,null,null,null,0,0,0,0,3,2,"복합식",78]
["[대청동]",null,2,{"$f":"HYPERLINK(\"https://land.naver.com/article/groundPlan.nhn?rletNo=13422&cortarNo=4825012900\",\"갑오마을9단지푸르지오\")","v":"갑오마을9단지푸르지오"},2005.08,298,38.524242424242424,127.13,30.936363636363637,102.09,80,null,null,null,null,0,0,0,0,3,2,"복합식",124]
["[대청동]",null,3,{"$f":"HYPERLINK(\"https://land.naver.com/article/groundPlan.nhn?rletNo=13422&cortarNo=4825012900\",\"갑오마을9단지푸르지오\")","v":"갑오마을9단지푸르지오"},2005.08,298,44.612121212121217,147.22,36.669696969696972,121.01,140,null,null,null,null,0,0,0,0,4,2,"복합식",123]
["[대청동]",null,1,{"$f":"HYPERLINK(\"https://land.naver.com/article/groundPlan.nhn?rletNo=17356&cortarNo=4825012900\",\"갑오마을1단지푸르지오\")","v":"갑오마을1단지푸르지오"},2005.01,236,38.406060606060606,126.74,30.884848484848487,101.92,179,null,null,null,null,0,0,0,0,3,2,"계단식",147]
["[대청동]",null,2,{"$f":"HYPERLINK(\"https://land.naver.com/article/groundPlan.nhn?rletNo=17356&cortarNo=4825012900\",\"갑오마을1단지푸르지오\")","v":"갑오마을1단지푸르지오"},2005.01,236,42.518181818181823,140.31,35.20606060606061,116.18,57,null,null,null,null,0,0,0,0,4,2,"계단식",160]
["[동상동]",null,1,{"$f":"HYPERLINK(\"https://land.naver.com/article/groundPlan.nhn?rletNo=17611&cortarNo=4825010100\",\"롯데캐슬가야1단지\")","v":"롯데캐슬가야1단지"},2005.12,482,32.803030303030305,108.25,25.751515151515154,84.98,81,null,null,null,null,0,0,0,0,3,2,"계단식","108A"]
["[동상동]",null,2,"롯데캐슬가야1단지",2005.12,482,32.803030303030305,108.25,25.751515151515154,84.98,27,null,null,null,null,0,0,0,0,3,2,"계단식","108B"]
["[동상동]",null,3,"롯데캐슬가야1단지",2005.12,482,38.978787878787877,128.63,30.803030303030308,101.65,44,null,null,null,null,0,0,0,0,3,2,"계단식",128]
["[동상동]",null,4,"롯데캐슬가야1단지",2005.12,482,49.915151515151514,164.72,40.736363636363642,134.43,154,null,null,null,null,0,0,0,0,4,2,"계단식","164A"]
["[동상동]",null,5,"롯데캐슬가야1단지",2005.12,482,49.915151515151514,164.72,40.736363636363642,134.43,22,null,null,null,null,0,0,0,0,4,2,"계단식","164B"]
["[동상동]",null,6,"롯데캐슬가야1단지",2005.12,482,55.74545454545455,183.96,46.354545454545459,152.97,154,null,null,null,null,0,0,0,0,4,2,"계단식",183]
["[동상동]",null,1,{"$f":"HYPERLINK(\"https://land.naver.com/article/groundPlan.nhn?rletNo=6177&cortarNo=4825010100\",\"한덕타워\")","v":"한덕타워"},1994.12,298,16.675757575757576,55.03,13.490909090909092,44.52,25,null,null,null,null,0,0,0,0,3,1,"계단식",55,null,null,null,null,null,null,null,null,null,null,null,null,null,null,null,null,null,null,null,null,null,null,null,null,null,null,{"$f":"IF(B177=\"\",\"\",_xlfn.NUMBERVALUE(IF(_xlfn.NUMBERVALUE(LEFT(RIGHT(B177,5),2))>70,\"19\"&LEFT(RIGHT(B177,5),2),\"20\"&LEFT(RIGHT(B177,5),2))))","v":""},{"$f":"IF(B177=\"\",\"\",_xlfn.NUMBERVALUE(RIGHT(B177,2)))","v":""},null,null,"10년 이하","10~20년","20~30년","30년 이상","합계"]
["[동상동]",null,2,"한덕타워",1994.12,298,{"$f":"H178/3.3","v":22.603030303030305},74.59,{"$f":"J178/3.3","v":18.100000000000001},59.73,104,null,null,null,null,0,0,0,0,3,1,"계단식",74,null,null,null,null,null,null,null,null,null,null,null,null,null,null,null,null,null,null,null,null,null,null,null,null,null,null,{"$f":"IF(B178=\"\",\"\",_xlfn.NUMBERVALUE(IF(_xlfn.NUMBERVALUE(LEFT(RIGHT(B178,5),2))>70,\"19\"&LEFT(RIGHT(B178,5),2),\"20\"&LEFT(RIGHT(B178,5),2))))","v":""},{"$f":"IF(B178=\"\",\"\",_xlfn.NUMBERVALUE(RIGHT(B178,2)))","v":""},null,"10평대",{"$f":"BB172/BF176","v":{"$error":"#DIV/0!"}},{"$f":"BC172/BF176","v":{"$error":"#DIV/0!"}},{"$f":"BD172/BF176","v":{"$error":"#DIV/0!"}},{"$f":"BE172/BF176","v":{"$error":"#DIV/0!"}},{"$f":"BF172/BF176","v":{"$error":"#DIV/0!"}}]
["[동상동]",null,3,"한덕타워",1994.12,298,23.957575757575761,79.06,19.381818181818183,63.96,17,null,null,null,null,0,0,0,0,3,1,"계단식",79]
["[동상동]",null,4,"한덕타워",1994.12,298,29.560606060606062,97.55,24.927272727272729,82.26,2,null,null,null,null,0,0,0,0,3,2,"계단식","97A"]
["[동상동]",null,5,"한덕타워",1994.12,298,30.427272727272729,100.41,25.663636363636364,84.69,50,null,null,null,null,0,0,0,0,3,2,"계단식","100B"]
["[동상동]",null,6,"한덕타워",1994.12,298,30.463636363636365,100.53,25.754545454545454,84.99,68,null,null,null,null,0,0,0,0,3,2,"계단식","100C"]
["[동상동]",null,7,"한덕타워",1994.12,298,34.954545454545453,115.35,25.754545454545454,84.99,7,null,null,null,null,0,0,0,0,3,2,"계단식",115]
["[동상동]",null,8,"한덕타워",1994.12,298,42.833333333333336,141.35,37.327272727272728,123.18,25,null,null,null,null,0,0,0,0,4,2,"계단식",141]
["[동상동]",null,1,{"$f":"HYPERLINK(\"https://land.naver.com/article/groundPlan.nhn?rletNo=17614&cortarNo=4825010100\",\"롯데캐슬가야2단지\")","v":"롯데캐슬가야2단지"},2005.12,214,32.803030303030305,108.25,25.751515151515154,84.98,120,null,null,null,null,0,0,0,0,3,2,"계단식",108]
["[동상동]",null,2,{"$f":"HYPERLINK(\"https://land.naver.com/article/groundPlan.nhn?rletNo=17614&cortarNo=4825010100\",\"롯데캐슬가야2단지\")","v":"롯데캐슬가야2단지"},2005.12,214,38.9969696969697,128.69,30.803030303030308,101.65,20,null,null,null,null,0,0,0,0,3,2,"계단식",128]
["[동상동]",null,3,{"$f":"HYPERLINK(\"https://land.naver.com/article/groundPlan.nhn?rletNo=17614&cortarNo=4825010100\",\"롯데캐슬가야2단지\")","v":"롯데캐슬가야2단지"},2005.12,214,49.933333333333337,164.78,40.736363636363642,134.43,20,null,null,null,null,0,0,0,0,4,2,"계단식",164]
["[동상동]",null,4,{"$f":"HYPERLINK(\"https://land.naver.com/article/groundPlan.nhn?rletNo=17614&cortarNo=4825010100\",\"롯데캐슬가야2단지\")","v":"롯데캐슬가야2단지"},2005.12,214,55.787878787878789,184.1,46.354545454545459,152.97,54,null,null,null,null,0,0,0,0,4,2,"계단식",184]
["[동상동]",null,1,{"$f":"HYPERLINK(\"https://land.naver.com/article/groundPlan.nhn?rletNo=114963&cortarNo=4825010100\",\"동상베스티움\")","v":"동상베스티움"},2017.05,203,24.303030303030305,80.2,17.987878787878788,59.36,80,null,null,null,null,0,0,0,0,3,2,"계단식","80B"]
["[동상동]",null,2,{"$f":"HYPERLINK(\"https://land.naver.com/article/groundPlan.nhn?rletNo=114963&cortarNo=4825010100\",\"동상베스티움\")","v":"동상베스티움"},2017.05,203,24.487878787878788,80.81,18.17878787878788,59.99,9,null,null,null,null,0,0,0,0,3,2,"계단식","80C"]
["[동상동]",null,3,{"$f":"HYPERLINK(\"https://land.naver.com/article/groundPlan.nhn?rletNo=114963&cortarNo=4825010100\",\"동상베스티움\")","v":"동상베스티움"},2017.05,203,24.603030303030305,81.19,18.154545454545456,59.91,92,null,null,null,null,0,0,0,0,3,2,"계단식","81A"]
["[동상동]",null,4,{"$f":"HYPERLINK(\"https://land.naver.com/article/groundPlan.nhn?rletNo=114963&cortarNo=4825010100\",\"동상베스티움\")","v":"동상베스티움"},2017.05,203,28.469696969696972,93.95,21.24848484848485,70.12,11,null,null,null,null,0,0,0,0,3,2,"계단식","93A"]
["[동상동]",null,5,{"$f":"HYPERLINK(\"https://land.naver.com/article/groundPlan.nhn?rletNo=114963&cortarNo=4825010100\",\"동상베스티움\")","v":"동상베스티움"},2017.05,203,28.533333333333335,94.16,{"$f":"J193/3.3","v":21.296969696969697},70.28,11,null,null,null,null,0,0,0,0,3,2,"계단식","94B"]
["[동상동]",null,1,{"$f":"HYPERLINK(\"https://land.naver.com/article/groundPlan.nhn?rletNo=113127&cortarNo=4825010100\",\"김해캐슬아리스타궁\")","v":"김해캐슬아리스타궁"},2017.12,184,27.945454545454545,92.22,21.312121212121212,70.33,2,null,null,null,null,0,0,0,0,3,2,"계단식","92F"]
["[동상동]",null,2,"김해캐슬아리스타궁",2017.12,184,31.975757575757576,105.52,24.345454545454547,80.34,2,null,null,null,null,0,0,0,0,3,2,"계단식","105C-1"]
["[동상동]",null,3,"김해캐슬아리스타궁",2017.12,184,32.181818181818187,106.2,24.218181818181819,79.92,34,null,null,null,null,0,0,0,0,3,2,"계단식","106D"]
["[동상동]",null,4,"김해캐슬아리스타궁",2017.12,184,33.554545454545455,110.73,25.612121212121213,84.52,38,null,null,null,null,0,0,0,0,3,2,"계단식","110A"]
["[동상동]",null,5,"김해캐슬아리스타궁",2017.12,184,33.663636363636364,111.09,25.666666666666668,84.7,32,null,null,null,null,0,0,0,0,3,2,"계단식","111C"]
["[동상동]",null,6,"김해캐슬아리스타궁",2017.12,184,33.960606060606061,112.07,25.72727272727273,84.9,72,null,null,null,null,0,0,0,0,3,2,"계단식","112B"]
["[동상동]",null,7,"김해캐슬아리스타궁",2017.12,184,39.578787878787885,130.61000000000001,30.396969696969698,100.31,2,null,null,null,null,0,0,0,0,4,2,"계단식","130G"]
["[동상동]",null,8,"김해캐슬아리스타궁",2017.12,184,50.154545454545456,165.51,38.490909090909092,127.02,2,null,null,null,null,0,0,0,0,5,2,"계단식","165E"]
["[무계동]",null,1,{"$f":"HYPERLINK(\"https://land.naver.com/article/groundPlan.nhn?rletNo=23942&cortarNo=4825012600\",\"석봉마을9단지부영\")","v":"석봉마을9단지부영"},2002.05,1578,20.81818181818182,68.7,14.357575757575759,47.38,1578,null,null,null,null,0,0,0,0,2,1,"계단식",82]
["[무계동]",null,1,{"$f":"HYPERLINK(\"https://land.naver.com/article/groundPlan.nhn?rletNo=6392&cortarNo=4825012600\",\"석봉대동1단지\")","v":"석봉대동1단지"},2000.07,998,22.696969696969699,74.900000000000006,18.151515151515152,59.9,320,null,null,null,null,0,0,0,0,2,1,"계단식",86]
["[무계동]",null,2,{"$f":"HYPERLINK(\"https://land.naver.com/article/groundPlan.nhn?rletNo=6392&cortarNo=4825012600\",\"석봉대동1단지\")","v":"석봉대동1단지"},2000.07,998,23.836363636363636,78.66,18.145454545454548,59.88,678,null,null,null,null,0,0,0,0,3,1,"계단식",99]
["[무계동]",null,1,{"$f":"HYPERLINK(\"https://land.naver.com/article/groundPlan.nhn?rletNo=113278&cortarNo=4825012600\",\"e편한세상장유2차\")","v":"e편한세상장유2차"},2018.12,512,24.966666666666669,82.39,18.151515151515152,59.9,68,null,null,null,null,0,0,0,0,3,2,"계단식",111]
["[무계동]",null,2,{"$f":"HYPERLINK(\"https://land.naver.com/article/groundPlan.nhn?rletNo=113278&cortarNo=4825012600\",\"e편한세상장유2차\")","v":"e편한세상장유2차"},2018.12,512,26.224242424242426,86.54,19.154545454545456,63.21,49,null,null,null,null,0,0,0,0,3,2,"계단식",87]
["[무계동]",null,3,{"$f":"HYPERLINK(\"https://land.naver.com/article/groundPlan.nhn?rletNo=113278&cortarNo=4825012600\",\"e편한세상장유2차\")","v":"e편한세상장유2차"},2018.12,512,30,99,22.7,74.91,181,null,null,null,null,0,0,0,0,3,2,"계단식",103]
["[무계동]",null,4,{"$f":"HYPERLINK(\"https://land.naver.com/article/groundPlan.nhn?rletNo=113278&cortarNo=4825012600\",\"e편한세상장유2차\")","v":"e편한세상장유2차"},2018.12,512,33.718181818181819,111.27,25.736363636363638,84.93,214,null,null,null,null,0,0,0,0,3,2,"계단식",68]
["[무계동]",null,1,{"$f":"HYPERLINK(\"https://land.naver.com/article/groundPlan.nhn?rletNo=24274&cortarNo=4825012600\",\"장유더샵\")","v":"장유더샵"},2007.01,242,34.109090909090909,112.56,25.754545454545454,84.99,210,null,null,null,null,0,0,0,0,3,2,"계단식",74]
["[무계동]",null,2,{"$f":"HYPERLINK(\"https://land.naver.com/article/groundPlan.nhn?rletNo=24274&cortarNo=4825012600\",\"장유더샵\")","v":"장유더샵"},2007.01,242,34.11212121212121,112.57,25.754545454545454,84.99,32,null,null,null,null,0,0,0,0,3,2,"계단식",78]
["[무계동]",null,1,{"$f":"HYPERLINK(\"https://land.naver.com/article/groundPlan.nhn?rletNo=15403&cortarNo=4825012600\",\"백조\")","v":"백조"},1991.12,140,26.651515151515152,87.95,22.484848484848488,74.2,5,null,null,null,null,0,0,0,0,3,2,"계단식","112A"]
["[무계동]",null,2,{"$f":"HYPERLINK(\"https://land.naver.com/article/groundPlan.nhn?rletNo=15403&cortarNo=4825012600\",\"백조\")","v":"백조"},1991.12,140,31.384848484848483,103.57,25.6,84.48,120,null,null,null,null,0,0,0,0,3,2,"계단식","112B"]
["[봉황동]",null,1,{"$f":"HYPERLINK(\"https://land.naver.com/article/groundPlan.nhn?rletNo=109438&cortarNo=4825010400\",\"e편한세상봉황역\")","v":"e편한세상봉황역"},2017.06,936,24.74848484848485,81.67,18.154545454545456,59.91,34,null,null,null,null,0,0,0,0,3,2,"계단식","81D"]
["[봉황동]",null,2,"e편한세상봉황역",2017.06,936,24.790909090909093,81.81,18.169696969696972,59.96,95,null,null,null,null,0,0,0,0,3,2,"계단식","81C"]
["[봉황동]",null,3,"e편한세상봉황역",2017.06,936,24.830303030303032,81.94,18.175757575757576,59.98,64,null,null,null,null,0,0,0,0,3,2,"계단식","81B"]
["[봉황동]",null,4,"e편한세상봉황역",2017.06,936,24.951515151515153,82.34,18.169696969696972,59.96,66,null,null,null,null,0,0,0,0,3,2,"계단식","82A"]
["[봉황동]",null,5,"e편한세상봉황역",2017.06,936,30.518181818181819,100.71,22.390909090909091,73.89,98,null,null,null,null,0,0,0,0,3,2,"계단식",100]
["[봉황동]",null,6,"e편한세상봉황역",2017.06,936,34.593939393939394,114.16,25.703030303030303,84.82,149,null,null,null,null,0,0,0,0,3,2,"계단식","114C"]
["[봉황동]",null,7,"e편한세상봉황역",2017.06,936,34.739393939393942,114.64,25.672727272727276,84.72,123,null,null,null,null,0,0,0,0,3,2,"계단식","114B"]
["[봉황동]",null,8,"e편한세상봉황역",2017.06,936,34.842424242424244,114.98,25.593939393939394,84.46,123,null,null,null,null,0,0,0,0,3,2,"계단식","114D"]
["[봉황동]",null,9,"e편한세상봉황역",2017.06,936,34.984848484848484,115.45,25.65757575757576,84.67,120,null,null,null,null,0,0,0,0,3,2,"계단식","115A"]
["[봉황동]",null,10,"e편한세상봉황역",2017.06,936,34.681818181818187,114.45,25.706060606060607,84.83,56,null,null,null,null,0,0,0,0,3,2,"계단식","114E"]
["[봉황동]",null,11,"e편한세상봉황역",2017.06,936,53.478787878787877,176.48,38.863636363636367,128.25,1,null,null,null,null,0,0,0,0,4,2,"계단식",176]
["[봉황동]",null,12,"e편한세상봉황역",2017.06,936,54.448484848484853,179.68,39.74848484848485,131.16999999999999,2,null,null,null,null,0,0,0,0,4,2,"계단식",179]
["[봉황동]",null,13,"e편한세상봉황역",2017.06,936,60.239393939393942,198.79,44.078787878787885,145.46,2,null,null,null,null,0,0,0,0,4,2,"계단식",198]
["[봉황동]",null,14,"e편한세상봉황역",2017.06,936,62.278787878787888,205.52,45.769696969696973,151.04,2,null,null,null,null,0,0,0,0,4,2,"계단식",205]
["[봉황동]",null,15,"e편한세상봉황역",2017.06,936,63.881818181818183,210.81,46.921212121212122,154.84,1,null,null,null,null,0,0,0,0,4,2,"계단식",210]
["[부곡동]",null,1,{"$f":"HYPERLINK(\"https://land.naver.com/article/groundPlan.nhn?rletNo=23959&cortarNo=4825012500\",\"석봉마을4단지부영\")","v":"석봉마을4단지부영"},2004.02,1010,30.578787878787878,100.91,24.509090909090908,80.88,1010,null,null,null,null,0,0,0,0,3,2,"계단식","120C"]
["[부곡동]",null,1,{"$f":"HYPERLINK(\"https://land.naver.com/article/groundPlan.nhn?rletNo=23964&cortarNo=4825012500\",\"석봉마을7단지부영\")","v":"석봉마을7단지부영"},2004.02,808,30.639393939393941,101.11,24.509090909090908,80.88,808,null,null,null,null,0,0,0,0,3,2,"복합식",63]
["[부곡동]",null,1,{"$f":"HYPERLINK(\"https://land.naver.com/article/groundPlan.nhn?rletNo=23951&cortarNo=4825012500\",\"월산마을1단지부영\")","v":"월산마을1단지부영"},2002.09,734,21.196969696969699,69.95,14.357575757575759,47.38,734,null,null,null,null,0,0,0,0,2,1,"복도식",79]
["[부곡동]",null,1,{"$f":"HYPERLINK(\"https://land.naver.com/article/groundPlan.nhn?rletNo=23957&cortarNo=4825012500\",\"월산마을3단지부영\")","v":"월산마을3단지부영"},2002.1,680,31.08787878787879,102.59,24.466666666666665,80.739999999999995,680,null,null,null,null,0,0,0,0,3,2,"계단식",99]
["[부곡동]",null,1,{"$f":"HYPERLINK(\"https://land.naver.com/article/groundPlan.nhn?rletNo=23955&cortarNo=4825012500\",\"석봉마을8단지부영\")","v":"석봉마을8단지부영"},2003.09,660,23.466666666666669,77.44,{"$f":"J232/3.3","v":18.175757575757576},59.98,660,null,null,null,null,0,0,0,0,3,2,"계단식",113]
["[부곡동]",null,1,{"$f":"HYPERLINK(\"https://land.naver.com/article/groundPlan.nhn?rletNo=6382&cortarNo=4825012500\",\"석봉대동2단지\")","v":"석봉대동2단지"},2000.07,594,27.209090909090911,89.79,22.166666666666668,73.150000000000006,152,null,null,null,null,0,0,0,0,3,2,"계단식",97]
["[부곡동]",null,3,{"$f":"HYPERLINK(\"https://land.naver.com/article/groundPlan.nhn?rletNo=6382&cortarNo=4825012500\",\"석봉대동2단지\")","v":"석봉대동2단지"},2000.07,594,30.624242424242425,101.06,25.690909090909091,84.78,192,null,null,null,null,0,0,0,0,3,2,"계단식",114]
["[부곡동]",null,4,{"$f":"HYPERLINK(\"https://land.naver.com/article/groundPlan.nhn?rletNo=6382&cortarNo=4825012500\",\"석봉대동2단지\")","v":"석봉대동2단지"},2000.07,594,30.645454545454545,101.13,25.703030303030303,84.82,250,null,null,null,null,0,0,0,0,3,2,"계단식",125]
["[부곡동]",null,1,{"$f":"HYPERLINK(\"https://land.naver.com/article/groundPlan.nhn?rletNo=23956&cortarNo=4825012500\",\"월산마을6단지부영\")","v":"월산마을6단지부영"},2001.12,576,{"$f":"H236/3.3","v":31.06969696969697},102.53,24.466666666666665,80.739999999999995,576,null,null,null,null,0,0,0,0,3,2,"계단식",155]
["[부곡동]",null,1,{"$f":"HYPERLINK(\"https://land.naver.com/article/groundPlan.nhn?rletNo=23948&cortarNo=4825012500\",\"월산마을8단지부영\")","v":"월산마을8단지부영"},2004.02,570,30.481818181818184,100.59,24.509090909090908,80.88,570,null,null,null,null,0,0,0,0,3,2,"복합식",125]
["[부곡동]",null,1,{"$f":"HYPERLINK(\"https://land.naver.com/article/groundPlan.nhn?rletNo=101835&cortarNo=4825012500\",\"월산마을7단지주공\")","v":"월산마을7단지주공"},2004.03,556,19.269696969696973,63.59,14.436363636363637,47.64,2,null,null,null,null,0,0,0,0,2,1,"계단식",155]
["[부곡동]",null,2,{"$f":"HYPERLINK(\"https://land.naver.com/article/groundPlan.nhn?rletNo=101835&cortarNo=4825012500\",\"월산마을7단지주공\")","v":"월산마을7단지주공"},2004.03,556,24.160606060606064,79.73,18.100000000000001,59.73,346,null,null,null,null,0,0,0,0,3,2,"계단식",106]
["[부곡동]",null,3,{"$f":"HYPERLINK(\"https://land.naver.com/article/groundPlan.nhn?rletNo=101835&cortarNo=4825012500\",\"월산마을7단지주공\")","v":"월산마을7단지주공"},2004.03,556,30.266666666666666,99.88,22.672727272727272,74.819999999999993,144,null,null,null,null,0,0,0,0,3,2,"계단식","120B"]
["[부곡동]",null,4,{"$f":"HYPERLINK(\"https://land.naver.com/article/groundPlan.nhn?rletNo=101835&cortarNo=4825012500\",\"월산마을7단지주공\")","v":"월산마을7단지주공"},2004.03,556,34.339393939393936,113.32,25.724242424242426,84.89,64,null,null,null,null,0,0,0,0,3,2,"계단식","139A"]
["[부곡동]",null,1,{"$f":"HYPERLINK(\"https://land.naver.com/article/groundPlan.nhn?rletNo=11186&cortarNo=4825012500\",\"월산마을13단지푸르지오\")","v":"월산마을13단지푸르지오"},2004.08,494,29.40909090909091,97.05,22.778787878787881,75.17,134,null,null,null,null,0,0,0,0,3,2,"계단식",102]
["[부곡동]",null,2,{"$f":"HYPERLINK(\"https://land.naver.com/article/groundPlan.nhn?rletNo=11186&cortarNo=4825012500\",\"월산마을13단지푸르지오\")","v":"월산마을13단지푸르지오"},2004.08,494,34.551515151515154,114.02,25.733333333333334,84.92,360,null,null,null,null,0,0,0,0,3,2,"계단식",100]
["[부곡동]",null,1,{"$f":"HYPERLINK(\"https://land.naver.com/article/groundPlan.nhn?rletNo=23962&cortarNo=4825012500\",\"월산마을4단지부영19차\")","v":"월산마을4단지부영19차"},2004.09,434,30.721212121212123,101.38,24.509090909090908,80.88,434,null,null,null,null,0,0,0,0,3,2,"계단식",102]
["[부곡동]",null,1,{"$f":"HYPERLINK(\"https://land.naver.com/article/groundPlan.nhn?rletNo=6384&cortarNo=4825012500\",\"석봉대동6단지\")","v":"석봉대동6단지"},2000.07,432,37.587878787878793,124.04,32.312121212121212,106.63,56,null,null,null,null,0,0,0,0,3,2,"계단식",69]
["[부곡동]",null,2,{"$f":"HYPERLINK(\"https://land.naver.com/article/groundPlan.nhn?rletNo=6384&cortarNo=4825012500\",\"석봉대동6단지\")","v":"석봉대동6단지"},2000.07,432,42.587878787878786,140.54,37.087878787878793,122.39,112,null,null,null,null,0,0,0,0,3,2,"계단식",101]
["[부곡동]",null,3,{"$f":"HYPERLINK(\"https://land.naver.com/article/groundPlan.nhn?rletNo=6384&cortarNo=4825012500\",\"석봉대동6단지\")","v":"석봉대동6단지"},2000.07,432,43.787878787878789,144.5,38.327272727272728,126.48,98,null,null,null,null,0,0,0,0,4,2,"계단식",77]
["[부곡동]",null,4,{"$f":"HYPERLINK(\"https://land.naver.com/article/groundPlan.nhn?rletNo=6384&cortarNo=4825012500\",\"석봉대동6단지\")","v":"석봉대동6단지"},2000.07,432,49.575757575757578,163.6,44.093939393939394,145.51,126,null,null,null,null,0,0,0,0,4,2,"계단식",102]
["[부곡동]",null,5,{"$f":"HYPERLINK(\"https://land.naver.com/article/groundPlan.nhn?rletNo=6384&cortarNo=4825012500\",\"석봉대동6단지\")","v":"석봉대동6단지"},2000.07,432,55.436363636363637,182.94,49.978787878787884,164.93,40,null,null,null,null,0,0,0,0,4,3,"계단식",102]
["[부곡동]",null,1,{"$f":"HYPERLINK(\"https://land.naver.com/article/groundPlan.nhn?rletNo=6395&cortarNo=4825012500\",\"석봉5단지대동\")","v":"석봉5단지대동"},2000.07,418,37.587878787878793,124.04,32.312121212121212,106.63,56,null,null,null,null,0,0,0,0,3,2,"계단식",100]
["[부곡동]",null,2,{"$f":"HYPERLINK(\"https://land.naver.com/article/groundPlan.nhn?rletNo=6395&cortarNo=4825012500\",\"석봉5단지대동\")","v":"석봉5단지대동"},2000.07,418,42.454545454545453,140.1,37.087878787878793,122.39,84,null,null,null,null,0,0,0,0,3,2,"계단식",103]
["[부곡동]",null,3,{"$f":"HYPERLINK(\"https://land.naver.com/article/groundPlan.nhn?rletNo=6395&cortarNo=4825012500\",\"석봉5단지대동\")","v":"석봉5단지대동"},2000.07,418,43.821212121212127,144.61000000000001,38.327272727272728,126.48,84,null,null,null,null,0,0,0,0,4,2,"계단식",101]
["[부곡동]",null,4,{"$f":"HYPERLINK(\"https://land.naver.com/article/groundPlan.nhn?rletNo=6395&cortarNo=4825012500\",\"석봉5단지대동\")","v":"석봉5단지대동"},2000.07,418,49.621212121212125,163.75,44.093939393939394,145.51,144,null,null,null,null,0,0,0,0,4,2,"계단식",101]
["[부곡동]",null,5,{"$f":"HYPERLINK(\"https://land.naver.com/article/groundPlan.nhn?rletNo=6395&cortarNo=4825012500\",\"석봉5단지대동\")","v":"석봉5단지대동"},2000.07,418,55.403030303030313,182.83,49.978787878787884,164.93,50,null,null,null,null,0,0,0,0,4,3,"계단식","89A"]
["[부곡동]",null,1,{"$f":"HYPERLINK(\"https://land.naver.com/article/groundPlan.nhn?rletNo=17364&cortarNo=4825012500\",\"월산마을5단지두산위브\")","v":"월산마을5단지두산위브"},2004.08,368,32.278787878787881,106.52,25.73030303030303,84.91,368,null,null,null,null,0,0,0,0,3,2,"계단식","101B"]
["[부곡동]",null,1,{"$f":"HYPERLINK(\"https://land.naver.com/article/groundPlan.nhn?rletNo=23950&cortarNo=4825012500\",\"월산마을12단지부영\")","v":"월산마을12단지부영"},2001.12,335,31.133333333333333,102.74,24.466666666666665,80.739999999999995,335,null,null,null,null,0,0,0,0,3,2,"계단식","101C"]
["[부곡동]",null,1,{"$f":"HYPERLINK(\"https://land.naver.com/article/groundPlan.nhn?rletNo=23953&cortarNo=4825012500\",\"월산마을4단지부영18차\")","v":"월산마을4단지부영18차"},2004.08,332,30.669696969696968,101.21,24.509090909090908,80.88,332,null,null,null,null,0,0,0,0,3,2,"계단식",124]
["[부곡동]",null,1,{"$f":"HYPERLINK(\"https://land.naver.com/article/groundPlan.nhn?rletNo=23961&cortarNo=4825012500\",\"월산마을9단지부영\")","v":"월산마을9단지부영"},2002.05,328,31.457575757575761,103.81,24.466666666666665,80.739999999999995,328,null,null,null,null,0,0,0,0,3,2,"계단식",140]
["[부곡동]",null,1,{"$f":"HYPERLINK(\"https://land.naver.com/article/groundPlan.nhn?rletNo=23944&cortarNo=4825012500\",\"월산마을2단지부영\")","v":"월산마을2단지부영"},2002.1,284,31.127272727272729,102.72,24.466666666666665,80.739999999999995,284,null,null,null,null,0,0,0,0,3,2,"계단식",144]
["[부곡동]",null,1,{"$f":"HYPERLINK(\"https://land.naver.com/article/groundPlan.nhn?rletNo=17361&cortarNo=4825012500\",\"석봉마을대동피렌체2단지\")","v":"석봉마을대동피렌체2단지"},2004.1,266,38.015151515151516,125.45,30.857575757575759,101.83,190,null,null,null,null,0,0,0,0,3,2,"계단식",163]
["[부곡동]",null,2,{"$f":"HYPERLINK(\"https://land.naver.com/article/groundPlan.nhn?rletNo=17361&cortarNo=4825012500\",\"석봉마을대동피렌체2단지\")","v":"석봉마을대동피렌체2단지"},2004.1,266,47.20303030303031,155.77000000000001,38.548484848484847,127.21,76,null,null,null,null,0,0,0,0,4,2,"계단식",182]
["[부곡동]",null,3,{"$f":"HYPERLINK(\"https://land.naver.com/article/groundPlan.nhn?rletNo=17362&cortarNo=4825012500\",\"석봉마을대동피렌체3단지\")","v":"석봉마을대동피렌체3단지"},2004.1,226,37.975757575757576,125.32,30.857575757575759,101.83,176,null,null,null,null,0,0,0,0,3,2,"계단식",124]
["[부곡동]",null,4,{"$f":"HYPERLINK(\"https://land.naver.com/article/groundPlan.nhn?rletNo=17362&cortarNo=4825012500\",\"석봉마을대동피렌체3단지\")","v":"석봉마을대동피렌체3단지"},2004.1,226,47.184848484848487,155.71,38.548484848484847,127.21,50,null,null,null,null,0,0,0,0,4,2,"계단식",140]
["[부곡동]",null,1,{"$f":"HYPERLINK(\"https://land.naver.com/article/groundPlan.nhn?rletNo=17419&cortarNo=4825012500\",\"월산마을10단지SK뷰\")","v":"월산마을10단지SK뷰"},2005.12,159,36.381818181818183,120.06,27.293939393939393,90.07,1,null,null,null,null,0,0,0,0,3,2,"계단식",144]
["[부곡동]",null,2,{"$f":"HYPERLINK(\"https://land.naver.com/article/groundPlan.nhn?rletNo=17419&cortarNo=4825012500\",\"월산마을10단지SK뷰\")","v":"월산마을10단지SK뷰"},2005.12,159,36.381818181818183,120.06,27.293939393939393,90.07,122,null,null,null,null,0,0,0,0,3,2,"계단식",163]
["[부곡동]",null,3,{"$f":"HYPERLINK(\"https://land.naver.com/article/groundPlan.nhn?rletNo=17419&cortarNo=4825012500\",\"월산마을10단지SK뷰\")","v":"월산마을10단지SK뷰"},2005.12,159,42.390909090909091,139.88999999999999,34.0030303030303,112.21,36,null,null,null,null,0,0,0,0,4,2,"계단식",182]
["[부원동]",null,1,{"$f":"HYPERLINK(\"https://land.naver.com/article/groundPlan.nhn?rletNo=104220&cortarNo=4825010300\",\"부원역푸르지오\")","v":"부원역푸르지오"},2014.08,915,33.327272727272728,109.98,24.8,81.84,300,null,null,null,null,0,0,0,0,3,2,"계단식",109]
["[부원동]",null,2,"부원역푸르지오",2014.08,915,34.530303030303031,113.95,25.754545454545454,84.99,300,null,null,null,null,0,0,0,0,3,2,"계단식","113A"]
["[부원동]",null,3,"부원역푸르지오",2014.08,915,34.618181818181817,114.24,25.751515151515154,84.98,120,null,null,null,null,0,0,0,0,3,2,"계단식","114B"]
["[부원동]",null,4,"부원역푸르지오",2014.08,915,46.339393939393936,152.91999999999999,34.81818181818182,114.9,60,null,null,null,null,0,0,0,0,4,2,"계단식",152]
["[부원동]",null,5,"부원역푸르지오",2014.08,915,48.821212121212127,161.11000000000001,36.74848484848485,121.27,60,null,null,null,null,0,0,0,0,4,2,"계단식",161]
["[부원동]",null,6,"부원역푸르지오",2014.08,915,55.742424242424242,183.95,42.18181818181818,139.19999999999999,60,null,null,null,null,0,0,0,0,4,2,"계단식",183]
["[부원동]",null,7,"부원역푸르지오",2014.08,915,70.412121212121221,232.36,52.93030303030303,174.67,10,null,null,null,null,0,0,0,0,4,3,"계단식",232]
["[부원동]",null,8,"부원역푸르지오",2014.08,915,73.139393939393941,241.36,55.081818181818186,181.77,2,null,null,null,null,0,0,0,0,4,3,"계단식",241]
["[부원동]",null,9,"부원역푸르지오",2014.08,915,88.160606060606071,290.93,66.633333333333326,219.89,1,null,null,null,null,0,0,0,0,4,4,"계단식",290]
["[부원동]",null,10,"부원역푸르지오",2014.08,915,90.512121212121215,298.69,68.303030303030312,225.4,1,null,null,null,null,0,0,0,0,4,4,"계단식",298]
["[부원동]",null,11,"부원역푸르지오",2014.08,915,98.466666666666669,324.94,74.184848484848487,244.81,1,null,null,null,null,0,0,0,0,4,4,"계단식",324]
["[부원동]",null,1,{"$f":"HYPERLINK(\"https://land.naver.com/article/groundPlan.nhn?rletNo=111219&cortarNo=4825010300\",\"부원역그린코아더센텀\")","v":"부원역그린코아더센텀"},2019.01,390,35.072727272727271,115.74,25.663636363636364,84.69,126,null,null,null,null,0,0,0,0,3,2,"계단식","115B"]
["[부원동]",null,2,{"$f":"HYPERLINK(\"https://land.naver.com/article/groundPlan.nhn?rletNo=111219&cortarNo=4825010300\",\"부원역그린코아더센텀\")","v":"부원역그린코아더센텀"},2019.01,390,35.133333333333333,115.94,25.703030303030303,84.82,132,null,null,null,null,0,0,0,0,3,2,"계단식","115C"]
["[부원동]",null,3,{"$f":"HYPERLINK(\"https://land.naver.com/article/groundPlan.nhn?rletNo=111219&cortarNo=4825010300\",\"부원역그린코아더센텀\")","v":"부원역그린코아더센텀"},2019.01,390,35.621212121212125,117.55,25.754545454545454,84.99,126,null,null,null,null,0,0,0,0,3,2,"계단식","117A"]
["[부원동]",null,4,{"$f":"HYPERLINK(\"https://land.naver.com/article/groundPlan.nhn?rletNo=111219&cortarNo=4825010300\",\"부원역그린코아더센텀\")","v":"부원역그린코아더센텀"},2019.01,390,56.52121212121213,186.52,40.939393939393938,135.1,4,null,null,null,null,0,0,0,0,4,2,"계단식",186]
["[부원동]",null,5,{"$f":"HYPERLINK(\"https://land.naver.com/article/groundPlan.nhn?rletNo=111219&cortarNo=4825010300\",\"부원역그린코아더센텀\")","v":"부원역그린코아더센텀"},2019.01,390,69.88181818181819,230.61,50.793939393939397,167.62,2,null,null,null,null,0,0,0,0,4,2,"계단식",230]
["[삼계동]",null,1,{"$f":"HYPERLINK(\"https://land.naver.com/article/groundPlan.nhn?rletNo=23933&cortarNo=4825010700\",\"화정마을6단지부영\")","v":"화정마을6단지부영"},2003.07,1396,20.687878787878788,68.27,15.103030303030305,49.84,1126,null,null,null,null,0,0,0,0,2,1,"계단식",68]
["[삼계동]",null,2,{"$f":"HYPERLINK(\"https://land.naver.com/article/groundPlan.nhn?rletNo=23933&cortarNo=4825010700\",\"화정마을6단지부영\")","v":"화정마을6단지부영"},2003.07,1396,23.421212121212125,77.290000000000006,18.133333333333336,59.84,270,null,null,null,null,0,0,0,0,3,2,"계단식",77]
["[삼계동]",null,1,{"$f":"HYPERLINK(\"https://land.naver.com/article/groundPlan.nhn?rletNo=11598&cortarNo=4825010700\",\"분성마을1단지현대\")","v":"분성마을1단지현대"},2001.11,1226,27.9,92.07,23.360606060606063,77.09,438,null,null,null,null,0,0,0,0,3,2,"계단식",92]
["[삼계동]",null,2,{"$f":"HYPERLINK(\"https://land.naver.com/article/groundPlan.nhn?rletNo=11598&cortarNo=4825010700\",\"분성마을1단지현대\")","v":"분성마을1단지현대"},2001.11,1226,30.754545454545454,101.49,25.751515151515154,84.98,492,null,null,null,null,0,0,0,0,3,2,"계단식","101A"]
["[삼계동]",null,1,{"$f":"HYPERLINK(\"https://land.naver.com/article/groundPlan.nhn?rletNo=18467&cortarNo=4825010700\",\"구지마을3단지푸르지오\")","v":"구지마을3단지푸르지오"},2007.04,1098,34.63333333333334,114.29,25.72727272727273,84.9,104,null,null,null,null,0,0,0,0,3,2,"계단식",114]
["[삼계동]",null,2,{"$f":"HYPERLINK(\"https://land.naver.com/article/groundPlan.nhn?rletNo=18467&cortarNo=4825010700\",\"구지마을3단지푸르지오\")","v":"구지마을3단지푸르지오"},2007.04,1098,39.487878787878792,130.31,30.56969696969697,100.88,390,null,null,null,null,0,0,0,0,3,2,"계단식",130]
["[삼계동]",null,3,{"$f":"HYPERLINK(\"https://land.naver.com/article/groundPlan.nhn?rletNo=18467&cortarNo=4825010700\",\"구지마을3단지푸르지오\")","v":"구지마을3단지푸르지오"},2007.04,1098,47.057575757575755,155.29,37.648484848484848,124.24,202,null,null,null,null,0,0,0,0,4,2,"계단식",155]
["[삼계동]",null,4,{"$f":"HYPERLINK(\"https://land.naver.com/article/groundPlan.nhn?rletNo=18467&cortarNo=4825010700\",\"구지마을3단지푸르지오\")","v":"구지마을3단지푸르지오"},2007.04,1098,50.609090909090909,167.01,41.487878787878792,136.91,100,null,null,null,null,0,0,0,0,4,2,"계단식",167]
["[삼계동]",null,5,{"$f":"HYPERLINK(\"https://land.naver.com/article/groundPlan.nhn?rletNo=18467&cortarNo=4825010700\",\"구지마을3단지푸르지오\")","v":"구지마을3단지푸르지오"},2007.04,1098,55.551515151515154,183.32,45.309090909090912,149.52000000000001,154,null,null,null,null,0,0,0,0,4,2,"계단식",183]
["[삼계동]",null,1,{"$f":"HYPERLINK(\"https://land.naver.com/article/groundPlan.nhn?rletNo=13911&cortarNo=4825010700\",\"분성마을5단지푸르지오\")","v":"분성마을5단지푸르지오"},2006.01,1072,25.4,83.82,18.072727272727274,59.64,358,null,null,null,null,0,0,0,0,3,2,"계단식",83]
["[삼계동]",null,2,{"$f":"HYPERLINK(\"https://land.naver.com/article/groundPlan.nhn?rletNo=13911&cortarNo=4825010700\",\"분성마을5단지푸르지오\")","v":"분성마을5단지푸르지오"},2006.01,1072,30.606060606060609,101,22.875757575757575,75.489999999999995,110,null,null,null,null,0,0,0,0,3,2,"계단식",101]
["[삼계동]",null,3,{"$f":"HYPERLINK(\"https://land.naver.com/article/groundPlan.nhn?rletNo=13911&cortarNo=4825010700\",\"분성마을5단지푸르지오\")","v":"분성마을5단지푸르지오"},2006.01,1072,34.969696969696976,115.4,25.736363636363638,84.93,507,null,null,null,null,0,0,0,0,3,2,"계단식","115A"]
["[삼계동]",null,1,{"$f":"HYPERLINK(\"https://land.naver.com/article/groundPlan.nhn?rletNo=23938&cortarNo=4825010700\",\"분성마을2단지부영\")","v":"분성마을2단지부영"},2005.03,952,23.863636363636363,78.75,18.133333333333336,59.84,144,null,null,null,null,0,0,0,0,3,2,"계단식",78]
["[삼계동]",null,2,{"$f":"HYPERLINK(\"https://land.naver.com/article/groundPlan.nhn?rletNo=23938&cortarNo=4825010700\",\"분성마을2단지부영\")","v":"분성마을2단지부영"},2005.03,952,32.13333333333334,106.04,{"$f":"J296/3.3","v":25.690909090909091},84.78,807,null,null,null,null,0,0,0,0,3,2,"계단식","106A"]
["[삼계동]",null,1,{"$f":"HYPERLINK(\"https://land.naver.com/article/groundPlan.nhn?rletNo=11901&cortarNo=4825010700\",\"분성마을3단지동원로얄듀크\")","v":"분성마을3단지동원로얄듀크"},2005.03,942,28.303030303030305,93.4,20.590909090909093,67.95,272,null,null,null,null,0,0,0,0,3,2,"계단식","93A"]
["[삼계동]",null,2,{"$f":"HYPERLINK(\"https://land.naver.com/article/groundPlan.nhn?rletNo=11901&cortarNo=4825010700\",\"분성마을3단지동원로얄듀크\")","v":"분성마을3단지동원로얄듀크"},2005.03,942,31.542424242424246,104.09,23.957575757575761,79.06,239,null,null,null,null,0,0,0,0,3,2,"계단식",104]
["[삼계동]",null,3,{"$f":"HYPERLINK(\"https://land.naver.com/article/groundPlan.nhn?rletNo=11901&cortarNo=4825010700\",\"분성마을3단지동원로얄듀크\")","v":"분성마을3단지동원로얄듀크"},2005.03,942,35.096969696969694,115.82,25.74848484848485,84.97,430,null,null,null,null,0,0,0,0,3,2,"계단식",115]
["[삼계동]",null,1,{"$f":"HYPERLINK(\"https://land.naver.com/article/groundPlan.nhn?rletNo=22951&cortarNo=4825010700\",\"삼계이안\")","v":"삼계이안"},2007.11,856,{"$f":"H300/3.3","v":31.330303030303032},103.39,25.745454545454546,84.96,46,null,null,null,null,0,0,0,0,3,2,"계단식",103]
["[삼계동]",null,2,{"$f":"HYPERLINK(\"https://land.naver.com/article/groundPlan.nhn?rletNo=22951&cortarNo=4825010700\",\"삼계이안\")","v":"삼계이안"},2007.11,856,33.948484848484853,112.03,25.742424242424246,84.95,442,null,null,null,null,0,0,0,0,3,2,"계단식",112]
["[삼계동]",null,3,{"$f":"HYPERLINK(\"https://land.naver.com/article/groundPlan.nhn?rletNo=22951&cortarNo=4825010700\",\"삼계이안\")","v":"삼계이안"},2007.11,856,45.796969696969697,151.13,37.460606060606061,123.62,266,null,null,null,null,0,0,0,0,4,2,"계단식",151]
["[삼계동]",null,1,{"$f":"HYPERLINK(\"https://land.naver.com/article/groundPlan.nhn?rletNo=11900&cortarNo=4825010700\",\"화정마을4단지아이파크가야\")","v":"화정마을4단지아이파크가야"},2004.08,851,33.969696969696969,112.1,25.745454545454546,84.96,126,null,null,null,null,0,0,0,0,3,2,"계단식",112]
["[삼계동]",null,2,{"$f":"HYPERLINK(\"https://land.naver.com/article/groundPlan.nhn?rletNo=11900&cortarNo=4825010700\",\"화정마을4단지아이파크가야\")","v":"화정마을4단지아이파크가야"},2004.08,851,39.369696969696967,129.91999999999999,30.896969696969698,101.96,448,null,null,null,null,0,0,0,0,3,2,"계단식",129]
["[삼계동]",null,3,{"$f":"HYPERLINK(\"https://land.naver.com/article/groundPlan.nhn?rletNo=11900&cortarNo=4825010700\",\"화정마을4단지아이파크가야\")","v":"화정마을4단지아이파크가야"},2004.08,851,40.769696969696966,134.54,34.330303030303035,113.29,60,null,null,null,null,0,0,0,0,4,2,"계단식",134]
["[삼계동]",null,4,{"$f":"HYPERLINK(\"https://land.naver.com/article/groundPlan.nhn?rletNo=11900&cortarNo=4825010700\",\"화정마을4단지아이파크가야\")","v":"화정마을4단지아이파크가야"},2004.08,851,46.327272727272728,152.88,36.354545454545459,119.97,187,null,null,null,null,0,0,0,0,4,2,"계단식",152]
["[삼계동]",null,5,{"$f":"HYPERLINK(\"https://land.naver.com/article/groundPlan.nhn?rletNo=11900&cortarNo=4825010700\",\"화정마을4단지아이파크가야\")","v":"화정마을4단지아이파크가야"},2004.08,851,51.060606060606062,168.5,40.869696969696975,134.87,30,null,null,null,null,0,0,0,0,4,2,"계단식",168]
["[삼계동]",null,1,{"$f":"HYPERLINK(\"https://land.naver.com/article/groundPlan.nhn?rletNo=110346&cortarNo=4825010700\",\"김해삼계서희스타힐스\")","v":"김해삼계서희스타힐스"},2019.09,798,25.036363636363639,82.62,18.151515151515152,59.9,277,null,null,null,null,0,0,0,0,3,2,"계단식","82C"]
["[삼계동]",null,2,{"$f":"HYPERLINK(\"https://land.naver.com/article/groundPlan.nhn?rletNo=110346&cortarNo=4825010700\",\"김해삼계서희스타힐스\")","v":"김해삼계서희스타힐스"},2019.09,798,30.669696969696968,101.21,22.442424242424245,74.06,224,null,null,null,null,0,0,0,0,3,2,"계단식","101A"]
["[삼계동]",null,3,{"$f":"HYPERLINK(\"https://land.naver.com/article/groundPlan.nhn?rletNo=110346&cortarNo=4825010700\",\"김해삼계서희스타힐스\")","v":"김해삼계서희스타힐스"},2019.09,798,35.087878787878793,115.79,25.724242424242426,84.89,303,null,null,null,null,0,0,0,0,3,2,"계단식",115]
["[삼계동]",null,1,{"$f":"HYPERLINK(\"https://land.naver.com/article/groundPlan.nhn?rletNo=13712&cortarNo=4825010700\",\"분성마을4단지한솔솔파크\")","v":"분성마을4단지한솔솔파크"},2005.03,646,30.178787878787883,99.59,23.481818181818181,77.489999999999995,230,null,null,null,null,0,0,0,0,3,2,"계단식",99]
["[삼계동]",null,2,{"$f":"HYPERLINK(\"https://land.naver.com/article/groundPlan.nhn?rletNo=13712&cortarNo=4825010700\",\"분성마을4단지한솔솔파크\")","v":"분성마을4단지한솔솔파크"},2005.03,646,33.412121212121214,110.26,25.754545454545454,84.99,416,null,null,null,null,0,0,0,0,3,2,"계단식",110]
["[삼계동]",null,1,{"$f":"HYPERLINK(\"https://land.naver.com/article/groundPlan.nhn?rletNo=23937&cortarNo=4825010700\",\"화정마을1단지부영\")","v":"화정마을1단지부영"},2003.06,612,32.503030303030307,107.26,25.751515151515154,84.98,612,null,null,null,null,0,0,0,0,3,2,"계단식",107]
["[삼계동]",null,1,{"$f":"HYPERLINK(\"https://land.naver.com/article/groundPlan.nhn?rletNo=23940&cortarNo=4825010700\",\"화정마을5단지부영\")","v":"화정마을5단지부영"},2002.08,534,32.4969696969697,107.24,25.751515151515154,84.98,534,null,null,null,null,0,0,0,0,3,2,"계단식",107]
["[삼계동]",null,1,{"$f":"HYPERLINK(\"https://land.naver.com/article/groundPlan.nhn?rletNo=23936&cortarNo=4825010700\",\"화정마을3단지부영\")","v":"화정마을3단지부영"},2002.08,454,32.300000000000004,106.59,25.751515151515154,84.98,454,null,null,null,null,0,0,0,0,3,2,"계단식",106]
["[삼계동]",null,1,{"$f":"HYPERLINK(\"https://land.naver.com/article/groundPlan.nhn?rletNo=6197&cortarNo=4825010700\",\"동신\")","v":"동신"},1994.01,450,20.484848484848484,67.599999999999994,15.066666666666666,49.72,135,null,null,null,null,0,0,0,0,2,1,"복도식",67]
["[삼계동]",null,2,{"$f":"HYPERLINK(\"https://land.naver.com/article/groundPlan.nhn?rletNo=6197&cortarNo=4825010700\",\"동신\")","v":"동신"},1994.01,450,29.112121212121213,96.07,23.739393939393942,78.34,87,null,null,null,null,0,0,0,0,3,1,"계단식",96]
["[삼계동]",null,3,{"$f":"HYPERLINK(\"https://land.naver.com/article/groundPlan.nhn?rletNo=6197&cortarNo=4825010700\",\"동신\")","v":"동신"},1994.01,450,31.569696969696974,104.18,25.742424242424246,84.95,150,null,null,null,null,0,0,0,0,3,1,"복합식",104]
["[삼계동]",null,1,{"$f":"HYPERLINK(\"https://land.naver.com/article/groundPlan.nhn?rletNo=104582&cortarNo=4825010700\",\"삼계아이파크\")","v":"삼계아이파크"},2013.12,399,28.74848484848485,94.87,22.115151515151517,72.98,92,null,null,null,null,0,0,0,0,3,2,"계단식",94]
["[삼계동]",null,2,{"$f":"HYPERLINK(\"https://land.naver.com/article/groundPlan.nhn?rletNo=104582&cortarNo=4825010700\",\"삼계아이파크\")","v":"삼계아이파크"},2013.12,399,33.427272727272729,110.31,25.754545454545454,84.99,208,null,null,null,null,0,0,0,0,3,2,"계단식","110B"]
["[삼계동]",null,1,{"$f":"HYPERLINK(\"https://land.naver.com/article/groundPlan.nhn?rletNo=18903&cortarNo=4825010700\",\"김해북부두산위브\")","v":"김해북부두산위브"},2005.09,378,32.56666666666667,107.47,25.751515151515154,84.98,115,null,null,null,null,0,0,0,0,3,2,"계단식","107A"]
["[삼계동]",null,2,{"$f":"HYPERLINK(\"https://land.naver.com/article/groundPlan.nhn?rletNo=18903&cortarNo=4825010700\",\"김해북부두산위브\")","v":"김해북부두산위브"},2005.09,378,46.851515151515159,154.61000000000001,38.960606060606061,128.57,72,null,null,null,null,0,0,0,0,4,2,"계단식","154B"]
["[삼계동]",null,1,{"$f":"HYPERLINK(\"https://land.naver.com/article/groundPlan.nhn?rletNo=24801&cortarNo=4825010700\",\"명지세인트빌\")","v":"명지세인트빌"},2008.02,323,32.615151515151517,107.63,25.739393939393938,84.94,162,null,null,null,null,0,0,0,0,3,2,"계단식",107]
["[삼계동]",null,2,{"$f":"HYPERLINK(\"https://land.naver.com/article/groundPlan.nhn?rletNo=24801&cortarNo=4825010700\",\"명지세인트빌\")","v":"명지세인트빌"},2008.02,323,45.142424242424248,148.97,35.772727272727273,118.05,161,null,null,null,null,0,0,0,0,4,2,"계단식",148]
["[삼계동]",null,1,{"$f":"HYPERLINK(\"https://land.naver.com/article/groundPlan.nhn?rletNo=103491&cortarNo=4825010700\",\"장신대역양우내안애\")","v":"장신대역양우내안애"},2013.08,306,25.515151515151519,84.2,19.242424242424242,63.5,36,null,null,null,null,0,0,0,0,3,2,"계단식",84]
["[삼계동]",null,2,{"$f":"HYPERLINK(\"https://land.naver.com/article/groundPlan.nhn?rletNo=103491&cortarNo=4825010700\",\"장신대역양우내안애\")","v":"장신대역양우내안애"},2013.08,306,29.257575757575758,96.55,22.278787878787877,73.52,69,null,null,null,null,0,0,0,0,3,2,"계단식",96]
["[삼계동]",null,3,{"$f":"HYPERLINK(\"https://land.naver.com/article/groundPlan.nhn?rletNo=103491&cortarNo=4825010700\",\"장신대역양우내안애\")","v":"장신대역양우내안애"},2013.08,306,32.548484848484847,107.41,24.884848484848487,82.12,29,null,null,null,null,0,0,0,0,3,2,"계단식",107]
["[삼문동]",null,1,{"$f":"HYPERLINK(\"https://land.naver.com/article/groundPlan.nhn?rletNo=23952&cortarNo=4825012800\",\"젤미마을1단지부영\")","v":"젤미마을1단지부영"},2002.08,1530,20.669696969696968,68.209999999999994,14.357575757575759,47.38,1530,null,null,null,null,0,0,0,0,2,1,"복도식",68]
["[삼문동]",null,1,{"$f":"HYPERLINK(\"https://land.naver.com/article/groundPlan.nhn?rletNo=110640&cortarNo=4825012800\",\"장유덕산아내에코캐슬\")","v":"장유덕산아내에코캐슬"},2018.07,998,28.624242424242425,94.46,20.918181818181818,69.03,215,null,null,null,null,0,0,0,0,3,2,"계단식",94]
["[삼문동]",null,2,{"$f":"HYPERLINK(\"https://land.naver.com/article/groundPlan.nhn?rletNo=110640&cortarNo=4825012800\",\"장유덕산아내에코캐슬\")","v":"장유덕산아내에코캐슬"},2018.07,998,34.196969696969695,112.85,25.700000000000003,84.81,392,null,null,null,null,0,0,0,0,3,2,"계단식","112A"]
["[삼문동]",null,1,{"$f":"HYPERLINK(\"https://land.naver.com/article/groundPlan.nhn?rletNo=109458&cortarNo=4825012800\",\"신장유일동미라주더파크\")","v":"신장유일동미라주더파크"},2017.06,782,24.242424242424242,80,18.16060606060606,59.93,159,null,null,null,null,0,0,0,0,3,2,"계단식",80]
["[삼문동]",null,2,{"$f":"HYPERLINK(\"https://land.naver.com/article/groundPlan.nhn?rletNo=109458&cortarNo=4825012800\",\"신장유일동미라주더파크\")","v":"신장유일동미라주더파크"},2017.06,782,30.157575757575756,99.52,22.70606060606061,74.930000000000007,166,null,null,null,null,0,0,0,0,3,2,"계단식","99A"]
["[삼문동]",null,3,{"$f":"HYPERLINK(\"https://land.naver.com/article/groundPlan.nhn?rletNo=109458&cortarNo=4825012800\",\"신장유일동미라주더파크\")","v":"신장유일동미라주더파크"},2017.06,782,33.939393939393938,112,25.757575757575758,85,166,null,null,null,null,0,0,0,0,3,2,"계단식","99A"]
["[삼문동]",null,1,{"$f":"HYPERLINK(\"https://land.naver.com/article/groundPlan.nhn?rletNo=13305&cortarNo=4825012800\",\"젤미마을4단지부영\")","v":"젤미마을4단지부영"},2004.09,516,31.772727272727273,104.85,25.681818181818183,84.75,516,null,null,null,null,0,0,0,0,3,2,"계단식",104]
["[삼문동]",null,1,{"$f":"HYPERLINK(\"https://land.naver.com/article/groundPlan.nhn?rletNo=13421&cortarNo=4825012800\",\"젤미마을5단지푸르지오\")","v":"젤미마을5단지푸르지오"},2005.08,464,33.109090909090909,109.26,25.754545454545454,84.99,286,null,null,null,null,0,0,0,0,3,2,"복합식","109B"]
["[삼문동]",null,1,{"$f":"HYPERLINK(\"https://land.naver.com/article/groundPlan.nhn?rletNo=17573&cortarNo=4825012800\",\"갑오마을10단지부영e그린타운\")","v":"갑오마을10단지부영e그린타운"},2003.08,446,30.509090909090911,100.68,24.509090909090908,80.88,446,null,null,null,null,0,0,0,0,3,2,"계단식",100]
["[삼문동]",null,1,{"$f":"HYPERLINK(\"https://land.naver.com/article/groundPlan.nhn?rletNo=101002&cortarNo=4825012800\",\"젤미마을6단지주공\")","v":"젤미마을6단지주공"},2003.04,407,21.642424242424244,71.42,15.603030303030305,51.49,19,null,null,null,null,0,0,0,0,2,1,"계단식",71]
["[삼문동]",null,2,{"$f":"HYPERLINK(\"https://land.naver.com/article/groundPlan.nhn?rletNo=101002&cortarNo=4825012800\",\"젤미마을6단지주공\")","v":"젤미마을6단지주공"},2003.04,407,23.93030303030303,78.97,17.957575757575757,59.26,348,null,null,null,null,0,0,0,0,3,2,"계단식","78A"]
["[삼문동]",null,1,{"$f":"HYPERLINK(\"https://land.naver.com/article/groundPlan.nhn?rletNo=13307&cortarNo=4825012800\",\"젤미마을9단지부영그린타운5차\")","v":"젤미마을9단지부영그린타운5차"},2004.1,394,31.824242424242424,105.02,25.681818181818183,84.75,394,null,null,null,null,0,0,0,0,3,2,"계단식",105]
["[삼문동]",null,1,{"$f":"HYPERLINK(\"https://land.naver.com/article/groundPlan.nhn?rletNo=13306&cortarNo=4825012800\",\"젤미마을7단지부영e그린타운6차\")","v":"젤미마을7단지부영e그린타운6차"},2004.05,372,29.045454545454547,95.85,23.133333333333336,76.34,18,null,null,null,null,0,0,0,0,3,2,"계단식",95]
["[삼문동]",null,1,{"$f":"HYPERLINK(\"https://land.naver.com/article/groundPlan.nhn?rletNo=13306&cortarNo=4825012800\",\"젤미마을7단지부영e그린타운6차\")","v":"젤미마을7단지부영e그린타운6차"},2004.05,372,30.739393939393942,101.44,24.509090909090908,80.88,354,null,null,null,null,0,0,0,0,3,2,"계단식",101]
["[삼문동]",null,1,{"$f":"HYPERLINK(\"https://land.naver.com/article/groundPlan.nhn?rletNo=17365&cortarNo=4825012800\",\"젤미마을10단지한림리츠빌\")","v":"젤미마을10단지한림리츠빌"},2004.1,360,39.857575757575759,131.53,33.036363636363639,109.02,180,null,null,null,null,0,0,0,0,3,2,"계단식",131]
["[삼문동]",null,2,{"$f":"HYPERLINK(\"https://land.naver.com/article/groundPlan.nhn?rletNo=17365&cortarNo=4825012800\",\"젤미마을10단지한림리츠빌\")","v":"젤미마을10단지한림리츠빌"},2004.1,360,47.042424242424246,155.24,39.545454545454547,130.5,140,null,null,null,null,0,0,0,0,4,2,"계단식",155]
["[삼문동]",null,3,{"$f":"HYPERLINK(\"https://land.naver.com/article/groundPlan.nhn?rletNo=17365&cortarNo=4825012800\",\"젤미마을10단지한림리츠빌\")","v":"젤미마을10단지한림리츠빌"},2004.1,360,52.378787878787882,172.85,43.775757575757581,144.46,40,null,null,null,null,0,0,0,0,4,2,"계단식",172]
["[삼문동]",null,1,{"$f":"HYPERLINK(\"https://land.naver.com/article/groundPlan.nhn?rletNo=26817&cortarNo=4825012800\",\"갑오마을11단지부영e그린타운\")","v":"갑오마을11단지부영e그린타운"},2003.09,324,23.533333333333335,77.66,18.175757575757576,59.98,324,null,null,null,null,0,0,0,0,3,1,"계단식",77]
["[삼문동]",null,1,{"$f":"HYPERLINK(\"https://land.naver.com/article/groundPlan.nhn?rletNo=11837&cortarNo=4825012800\",\"젤미마을3단지대동피렌체앙코르\")","v":"젤미마을3단지대동피렌체앙코르"},2004.12,320,39.096969696969701,129.02000000000001,31.721212121212126,104.68,284,null,null,null,null,0,0,0,0,3,2,"계단식",129]
["[삼문동]",null,2,{"$f":"HYPERLINK(\"https://land.naver.com/article/groundPlan.nhn?rletNo=11837&cortarNo=4825012800\",\"젤미마을3단지대동피렌체앙코르\")","v":"젤미마을3단지대동피렌체앙코르"},2004.12,320,48.621212121212118,160.44999999999999,39.533333333333339,130.46,36,null,null,null,null,0,0,0,0,4,2,"계단식",160]
["[삼문동]",null,1,{"$f":"HYPERLINK(\"https://land.naver.com/article/groundPlan.nhn?rletNo=15406&cortarNo=4825012800\",\"젤미마을8단지파크뷰\")","v":"젤미마을8단지파크뷰"},2002.09,318,24.236363636363638,79.98,18.169696969696972,59.96,318,null,null,null,null,0,0,0,0,3,1,"계단식",79]
["[삼방동]",14311,1,{"$f":"HYPERLINK(\"https://land.naver.com/article/groundPlan.nhn?rletNo=14311&cortarNo=4825011900\",\"국제쇼핑타운\")","v":"국제쇼핑타운"},1993.11,126,20.87,69,18.100000000000001,59.85,50,null,null,null,null,0,0,0,0,2,1,"계단식",69]
["[삼방동]",114048,1,{"$f":"HYPERLINK(\"https://land.naver.com/article/groundPlan.nhn?rletNo=114048&cortarNo=4825011900\",\"신우\")","v":"신우"},1984.01,30,18.72,61.9,16.96,56.05,15,null,null,null,null,0,0,0,0,3,1,"계단식",61]
["[삼방동]",114048,2,{"$f":"HYPERLINK(\"https://land.naver.com/article/groundPlan.nhn?rletNo=114048&cortarNo=4825011900\",\"신우\")","v":"신우"},1984.01,30,19.649999999999999,64.959999999999994,17.88,59.11,15,null,null,null,null,0,0,0,0,3,1,"계단식",64]
["[삼방동]",116186,1,{"$f":"HYPERLINK(\"https://land.naver.com/article/groundPlan.nhn?rletNo=116186&cortarNo=4825011900\",\"이호\")","v":"이호"},2017.03,18,28.62,94.62,21.14,69.87,18,null,null,null,null,0,0,0,0,3,2,"계단식",94]
["[삼방동]",116774,1,{"$f":"HYPERLINK(\"https://land.naver.com/article/groundPlan.nhn?rletNo=116774&cortarNo=4825011900\",\"백송\")","v":"백송"},2015.02,48,21.81,72.11,15.77,52.12,12,null,null,null,null,0,0,0,0,3,1,"계단식",72]
["[삼방동]",116774,2,{"$f":"HYPERLINK(\"https://land.naver.com/article/groundPlan.nhn?rletNo=116774&cortarNo=4825011900\",\"백송\")","v":"백송"},2015.02,48,22.59,74.680000000000007,16.32,53.94,12,null,null,null,null,0,0,0,0,3,1,"계단식","74A"]
["[삼방동]",116774,3,{"$f":"HYPERLINK(\"https://land.naver.com/article/groundPlan.nhn?rletNo=116774&cortarNo=4825011900\",\"백송\")","v":"백송"},2015.02,48,22.61,74.739999999999995,16.38,54.16,24,null,null,null,null,0,0,0,0,3,1,"계단식","74B"]
["[삼방동]",117913,1,{"$f":"HYPERLINK(\"https://land.naver.com/article/groundPlan.nhn?rletNo=117913&cortarNo=4825011900\",\"경성\")","v":"경성"},2004.03,17,28.25,93.38,24.99,82.6,1,null,null,null,null,0,0,0,0,3,2,"계단식",93]
["[삼방동]",117913,2,{"$f":"HYPERLINK(\"https://land.naver.com/article/groundPlan.nhn?rletNo=117913&cortarNo=4825011900\",\"경성\")","v":"경성"},2004.03,17,29.02,95.93,25.67,84.85,16,null,null,null,null,0,0,0,0,3,2,"계단식",95]
["[삼방동]",119048,1,{"$f":"HYPERLINK(\"https://land.naver.com/article/groundPlan.nhn?rletNo=119048&cortarNo=4825011900\",\"아르테미스\")","v":"아르테미스"},2017.11,24,34.840000000000003,115.19,25.64,84.75,24,null,null,null,null,0,0,0,0,3,2,"계단식",115]
["[삼방동]",119111,1,{"$f":"HYPERLINK(\"https://land.naver.com/article/groundPlan.nhn?rletNo=119111&cortarNo=4825011900\",\"블루스카이\")","v":"블루스카이"},2016.06,24,34.36,113.59,25.71,84.98,1,null,null,null,null,0,0,0,0,3,2,"계단식","113A"]
["[삼방동]",119111,2,{"$f":"HYPERLINK(\"https://land.naver.com/article/groundPlan.nhn?rletNo=119111&cortarNo=4825011900\",\"블루스카이\")","v":"블루스카이"},2016.06,24,34.36,113.59,25.71,84.98,23,null,null,null,null,0,0,0,0,3,2,"계단식","113B"]
["[삼방동]",127190,1,{"$f":"HYPERLINK(\"https://land.naver.com/article/groundPlan.nhn?rletNo=127190&cortarNo=4825011900\",\"해피하우스\")","v":"해피하우스"},2012.09,18,35.61,117.73,25.52,84.37,18,null,null,null,null,0,0,0,0,3,2,"계단식",117]
["[삼방동]",14311,2,{"$f":"HYPERLINK(\"https://land.naver.com/article/groundPlan.nhn?rletNo=14311&cortarNo=4825011900\",\"국제쇼핑타운\")","v":"국제쇼핑타운"},1993.11,126,25.52,84.36,22.13,73.17,20,null,null,null,null,0,0,0,0,3,1,"계단식",84]
["[삼방동]",14311,3,"국제쇼핑타운",1993.11,126,29.51,97.54,25.59,84.6,24,null,null,null,null,0,0,0,0,3,2,"계단식",97]
["[삼방동]",14311,4,"국제쇼핑타운",1993.11,126,35.090000000000003,116.01,30.44,100.62,10,null,null,null,null,0,0,0,0,3,2,"계단식",116]
["[삼방동]",14311,5,"국제쇼핑타운",1993.11,126,37.64,124.42,32.64,107.91,6,null,null,null,null,0,0,0,0,3,2,"계단식",124]
["[삼방동]",14311,6,"국제쇼핑타운",1993.11,126,40.18,132.82,34.85,115.2,10,null,null,null,null,0,0,0,0,3,2,"계단식",132]
["[삼방동]",14311,7,"국제쇼핑타운",1993.11,126,49.88,164.89,43.26,143.01,6,null,null,null,null,0,0,0,0,4,2,"계단식",164]
["[삼방동]",6205,1,{"$f":"HYPERLINK(\"https://land.naver.com/article/groundPlan.nhn?rletNo=6205&cortarNo=4825011900\",\"대동\")","v":"대동"},1991.01,216,22.01,72.760000000000005,17.399999999999999,57.53,2,null,null,null,null,0,0,0,0,2,1,"복도식",72]
["[삼방동]",6205,2,{"$f":"HYPERLINK(\"https://land.naver.com/article/groundPlan.nhn?rletNo=6205&cortarNo=4825011900\",\"대동\")","v":"대동"},1991.01,216,25.46,84.15,19.829999999999998,65.569999999999993,96,null,null,null,null,0,0,0,0,3,1,"복도식",84]
["[삼방동]",6205,3,{"$f":"HYPERLINK(\"https://land.naver.com/article/groundPlan.nhn?rletNo=6205&cortarNo=4825011900\",\"대동\")","v":"대동"},1991.01,216,26.15,86.46,20.68,68.36,118,null,null,null,null,0,0,0,0,3,1,"복도식",86]
["[삼방동]",6209,1,{"$f":"HYPERLINK(\"https://land.naver.com/article/groundPlan.nhn?rletNo=6209&cortarNo=4825011900\",\"동성\")","v":"동성"},1991.04,570,21.61,71.430000000000007,18.13,59.94,570,null,null,null,null,0,0,0,0,3,1,"계단식",71]
["[삼방동]",6210,1,{"$f":"HYPERLINK(\"https://land.naver.com/article/groundPlan.nhn?rletNo=6210&cortarNo=4825011900\",\"동원\")","v":"동원"},1992.01,1026,22.66,74.91,18.14,59.96,882,null,null,null,null,0,0,0,0,3,1,"계단식",74]
["[삼방동]",6210,2,{"$f":"HYPERLINK(\"https://land.naver.com/article/groundPlan.nhn?rletNo=6210&cortarNo=4825011900\",\"동원\")","v":"동원"},1992.01,1026,31.25,103.29,25.67,84.85,144,null,null,null,null,0,0,0,0,3,1,"계단식",103]
["[삼방동]",6214,1,{"$f":"HYPERLINK(\"https://land.naver.com/article/groundPlan.nhn?rletNo=6214&cortarNo=4825011900\",\"한일\")","v":"한일"},1992.07,834,27.22,89.97,22.43,74.14,234,null,null,null,null,0,0,0,0,3,1,"계단식",89]
["[삼방동]",6214,2,{"$f":"HYPERLINK(\"https://land.naver.com/article/groundPlan.nhn?rletNo=6214&cortarNo=4825011900\",\"한일\")","v":"한일"},1992.07,834,30.72,101.57,25.67,84.86,450,null,null,null,null,0,0,0,0,3,2,"계단식",101]
["[삼방동]",6214,3,{"$f":"HYPERLINK(\"https://land.naver.com/article/groundPlan.nhn?rletNo=6214&cortarNo=4825011900\",\"한일\")","v":"한일"},1992.07,834,40.729999999999997,134.66,35,115.7,60,null,null,null,null,0,0,0,0,4,2,"계단식",134]
["[삼방동]",6214,4,{"$f":"HYPERLINK(\"https://land.naver.com/article/groundPlan.nhn?rletNo=6214&cortarNo=4825011900\",\"한일\")","v":"한일"},1992.07,834,45.21,149.47,39.07,129.16999999999999,90,null,null,null,null,0,0,0,0,4,2,"계단식",149]
["[삼방동]",6221,1,{"$f":"HYPERLINK(\"https://land.naver.com/article/groundPlan.nhn?rletNo=6221&cortarNo=4825011900\",\"화인\")","v":"화인"},1992.07,930,22.03,72.84,17.82,58.91,150,null,null,null,null,0,0,0,0,3,1,"계단식",72]
["[삼방동]",6221,2,{"$f":"HYPERLINK(\"https://land.naver.com/article/groundPlan.nhn?rletNo=6221&cortarNo=4825011900\",\"화인\")","v":"화인"},1992.07,930,23.96,79.2,19.57,64.69,60,null,null,null,null,0,0,0,0,3,1,"계단식",79]
["[삼방동]",6221,3,{"$f":"HYPERLINK(\"https://land.naver.com/article/groundPlan.nhn?rletNo=6221&cortarNo=4825011900\",\"화인\")","v":"화인"},1992.07,930,27.17,89.81,22.36,73.930000000000007,180,null,null,null,null,0,0,0,0,3,1,"계단식",89]
["[삼방동]",6221,4,{"$f":"HYPERLINK(\"https://land.naver.com/article/groundPlan.nhn?rletNo=6221&cortarNo=4825011900\",\"화인\")","v":"화인"},1992.07,930,30.98,102.41,25.55,84.46,330,null,null,null,null,0,0,0,0,3,2,"계단식","102A"]
["[삼방동]",6221,5,{"$f":"HYPERLINK(\"https://land.naver.com/article/groundPlan.nhn?rletNo=6221&cortarNo=4825011900\",\"화인\")","v":"화인"},1992.07,930,31.08,102.74,25.61,84.66,210,null,null,null,null,0,0,0,0,3,2,"계단식","102B"]
["[삼정동]",117489,3,{"$f":"HYPERLINK(\"https://land.naver.com/article/groundPlan.nhn?rletNo=117489&cortarNo=4825011700\",\"드림캐슬\")","v":"드림캐슬"},2002.08,15,28.88,95.48,25.59,84.59,13,null,null,null,null,0,0,0,0,3,2,"계단식",95]
["[삼정동]",101208,1,{"$f":"HYPERLINK(\"https://land.naver.com/article/groundPlan.nhn?rletNo=101208&cortarNo=4825011700\",\"화인아트2차\")","v":"화인아트2차"},null,56,20.260000000000002,66.97,15.06,49.8,20,null,null,null,null,0,0,0,0,2,1,"계단식",66]
["[삼정동]",101208,2,{"$f":"HYPERLINK(\"https://land.naver.com/article/groundPlan.nhn?rletNo=101208&cortarNo=4825011700\",\"화인아트2차\")","v":"화인아트2차"},null,56,32.369999999999997,107,25.45,84.13,36,null,null,null,null,0,0,0,0,3,2,"계단식",107]
["[삼정동]",109197,1,{"$f":"HYPERLINK(\"https://land.naver.com/article/groundPlan.nhn?rletNo=109197&cortarNo=4825011700\",\"경남캐스빌\")","v":"경남캐스빌"},2004.05,18,18.29,60.45,18.29,60.45,1,null,null,null,null,0,0,0,0,3,1,"계단식",60]
["[삼정동]",109197,2,{"$f":"HYPERLINK(\"https://land.naver.com/article/groundPlan.nhn?rletNo=109197&cortarNo=4825011700\",\"경남캐스빌\")","v":"경남캐스빌"},2004.05,18,28.77,95.12,25.71,84.99,15,null,null,null,null,0,0,0,0,3,2,"계단식",95]
["[삼정동]",109197,3,{"$f":"HYPERLINK(\"https://land.naver.com/article/groundPlan.nhn?rletNo=109197&cortarNo=4825011700\",\"경남캐스빌\")","v":"경남캐스빌"},2004.05,18,32.33,106.88,28.89,95.52,1,null,null,null,null,0,0,0,0,3,2,"계단식",106]
["[삼정동]",109197,4,{"$f":"HYPERLINK(\"https://land.naver.com/article/groundPlan.nhn?rletNo=109197&cortarNo=4825011700\",\"경남캐스빌\")","v":"경남캐스빌"},2004.05,18,34.159999999999997,112.92,30.53,100.91,1,null,null,null,null,0,0,0,0,3,2,"계단식",112]
["[삼정동]",117489,1,{"$f":"HYPERLINK(\"https://land.naver.com/article/groundPlan.nhn?rletNo=117489&cortarNo=4825011700\",\"드림캐슬\")","v":"드림캐슬"},2002.08,15,25.8,85.3,22.85,75.55,1,null,null,null,null,0,0,0,0,3,2,"계단식",85]
["[삼정동]",117489,2,{"$f":"HYPERLINK(\"https://land.naver.com/article/groundPlan.nhn?rletNo=117489&cortarNo=4825011700\",\"드림캐슬\")","v":"드림캐슬"},2002.08,15,27.48,90.85,24.34,80.47,1,null,null,null,null,0,0,0,0,3,2,"계단식",90]
["[삼정동]",121578,1,{"$f":"HYPERLINK(\"https://land.naver.com/article/groundPlan.nhn?rletNo=121578&cortarNo=4825011700\",\"백송\")","v":"백송"},2013.09,19,25.18,83.25,22.4,74.05,10,null,null,null,null,0,0,0,0,3,2,"계단식","83A"]
["[삼정동]",121578,2,{"$f":"HYPERLINK(\"https://land.naver.com/article/groundPlan.nhn?rletNo=121578&cortarNo=4825011700\",\"백송\")","v":"백송"},2013.09,19,25.38,83.89,22.4,74.05,1,null,null,null,null,0,0,0,0,3,2,"계단식","83B"]
["[삼정동]",121578,3,{"$f":"HYPERLINK(\"https://land.naver.com/article/groundPlan.nhn?rletNo=121578&cortarNo=4825011700\",\"백송\")","v":"백송"},2013.09,19,27.07,89.5,24.09,79.62,8,null,null,null,null,0,0,0,0,3,2,"계단식",89]
["[삼정동]",123067,1,{"$f":"HYPERLINK(\"https://land.naver.com/article/groundPlan.nhn?rletNo=123067&cortarNo=4825011700\",\"해비치카운티\")","v":"해비치카운티"},2011.06,16,23.29,76.98,19.149999999999999,63.3,2,null,null,null,null,0,0,0,0,3,1,"계단식",76]
["[삼정동]",123067,2,{"$f":"HYPERLINK(\"https://land.naver.com/article/groundPlan.nhn?rletNo=123067&cortarNo=4825011700\",\"해비치카운티\")","v":"해비치카운티"},2011.06,16,31.02,102.54,25.51,84.32,2,null,null,null,null,0,0,0,0,3,2,"계단식","102A"]
["[삼정동]",123067,3,{"$f":"HYPERLINK(\"https://land.naver.com/article/groundPlan.nhn?rletNo=123067&cortarNo=4825011700\",\"해비치카운티\")","v":"해비치카운티"},2011.06,16,31.25,103.32,25.7,84.96,12,null,null,null,null,0,0,0,0,3,2,"계단식","103B"]
["[삼정동]",123524,1,{"$f":"HYPERLINK(\"https://land.naver.com/article/groundPlan.nhn?rletNo=123524&cortarNo=4825011700\",\"금농드림빌\")","v":"금농드림빌"},2003.01,18,28.18,93.15,24.93,82.4,2,null,null,null,null,0,0,0,0,3,2,"계단식",93]
["[삼정동]",123524,2,{"$f":"HYPERLINK(\"https://land.naver.com/article/groundPlan.nhn?rletNo=123524&cortarNo=4825011700\",\"금농드림빌\")","v":"금농드림빌"},2003.01,18,28.54,94.34,25.24,83.45,16,null,null,null,null,0,0,0,0,3,2,"계단식",94]
["[삼정동]",123785,1,{"$f":"HYPERLINK(\"https://land.naver.com/article/groundPlan.nhn?rletNo=123785&cortarNo=4825011700\",\"가야\")","v":"가야"},2001.09,19,29.21,96.56,25.66,84.81,19,null,null,null,null,0,0,0,0,3,2,"계단식",96]
["[삼정동]",123878,1,{"$f":"HYPERLINK(\"https://land.naver.com/article/groundPlan.nhn?rletNo=123878&cortarNo=4825011700\",\"청구이트\")","v":"청구이트"},2002.1,16,29.05,96.03,25.68,84.9,16,null,null,null,null,0,0,0,0,3,2,"계단식",96]
["[삼정동]",123929,1,{"$f":"HYPERLINK(\"https://land.naver.com/article/groundPlan.nhn?rletNo=123929&cortarNo=4825011700\",\"청해\")","v":"청해"},1998.02,48,21.8,72.08,18.11,59.87,24,null,null,null,null,0,0,0,0,3,1,"계단식","72A"]
["[삼정동]",123929,2,{"$f":"HYPERLINK(\"https://land.naver.com/article/groundPlan.nhn?rletNo=123929&cortarNo=4825011700\",\"청해\")","v":"청해"},1998.02,48,21.83,72.150000000000006,18.13,59.93,18,null,null,null,null,0,0,0,0,3,1,"계단식","72B"]
["[삼정동]",123929,3,{"$f":"HYPERLINK(\"https://land.naver.com/article/groundPlan.nhn?rletNo=123929&cortarNo=4825011700\",\"청해\")","v":"청해"},1998.02,48,30.84,101.96,25.62,84.69,4,null,null,null,null,0,0,0,0,3,2,"계단식","101A"]
["[삼정동]",123929,4,{"$f":"HYPERLINK(\"https://land.naver.com/article/groundPlan.nhn?rletNo=123929&cortarNo=4825011700\",\"청해\")","v":"청해"},1998.02,48,30.95,102.3,25.7,84.97,2,null,null,null,null,0,0,0,0,3,2,"계단식","102B"]
["[삼정동]",124022,1,{"$f":"HYPERLINK(\"https://land.naver.com/article/groundPlan.nhn?rletNo=124022&cortarNo=4825011700\",\"포세이돈\")","v":"포세이돈"},2015.09,18,24.12,79.739999999999995,19.59,64.75,9,null,null,null,null,0,0,0,0,3,1,"계단식","79A"]
["[삼정동]",124022,2,{"$f":"HYPERLINK(\"https://land.naver.com/article/groundPlan.nhn?rletNo=124022&cortarNo=4825011700\",\"포세이돈\")","v":"포세이돈"},2015.09,18,24.44,80.78,19.84,65.59,9,null,null,null,null,0,0,0,0,3,1,"계단식","80B"]
["[삼정동]",125291,1,{"$f":"HYPERLINK(\"https://land.naver.com/article/groundPlan.nhn?rletNo=125291&cortarNo=4825011700\",\"자연빛2차\")","v":"자연빛2차"},2012.01,19,29.48,97.47,25.63,84.72,19,null,null,null,null,0,0,0,0,3,2,"복합식",97]
["[삼정동]",125507,1,{"$f":"HYPERLINK(\"https://land.naver.com/article/groundPlan.nhn?rletNo=125507&cortarNo=4825011700\",\"자연빛\")","v":"자연빛"},2011.05,19,28.97,95.76,25.52,84.38,19,null,null,null,null,0,0,0,0,3,2,"계단식",95]
["[삼정동]",125508,1,{"$f":"HYPERLINK(\"https://land.naver.com/article/groundPlan.nhn?rletNo=125508&cortarNo=4825011700\",\"그라니아\")","v":"그라니아"},2012.11,19,33.119999999999997,109.49,25.69,84.94,19,null,null,null,null,0,0,0,0,3,2,"계단식",109]
["[삼정동]",125510,1,{"$f":"HYPERLINK(\"https://land.naver.com/article/groundPlan.nhn?rletNo=125510&cortarNo=4825011700\",\"연화\")","v":"연화"},1997.07,16,20.71,68.459999999999994,16.86,55.74,1,null,null,null,null,0,0,0,0,3,1,"계단식",68]
["[삼정동]",125510,2,{"$f":"HYPERLINK(\"https://land.naver.com/article/groundPlan.nhn?rletNo=125510&cortarNo=4825011700\",\"연화\")","v":"연화"},1997.07,16,28.12,92.97,22.9,75.69,1,null,null,null,null,0,0,0,0,3,2,"계단식",92]
["[삼정동]",125510,3,{"$f":"HYPERLINK(\"https://land.naver.com/article/groundPlan.nhn?rletNo=125510&cortarNo=4825011700\",\"연화\")","v":"연화"},1997.07,16,28.69,94.85,23.36,77.22,1,null,null,null,null,0,0,0,0,3,2,"계단식",94]
["[삼정동]",125510,4,{"$f":"HYPERLINK(\"https://land.naver.com/article/groundPlan.nhn?rletNo=125510&cortarNo=4825011700\",\"연화\")","v":"연화"},1997.07,16,31.07,102.71,25.3,83.62,7,null,null,null,null,0,0,0,0,3,2,"계단식","102A"]
["[삼정동]",125510,5,{"$f":"HYPERLINK(\"https://land.naver.com/article/groundPlan.nhn?rletNo=125510&cortarNo=4825011700\",\"연화\")","v":"연화"},1997.07,16,31.18,103.06,25.38,83.91,6,null,null,null,null,0,0,0,0,3,2,"계단식","103B"]
["[삼정동]",125513,1,{"$f":"HYPERLINK(\"https://land.naver.com/article/groundPlan.nhn?rletNo=125513&cortarNo=4825011700\",\"경주\")","v":"경주"},2000.12,19,28.9,95.53,25.69,84.92,19,null,null,null,null,0,0,0,0,3,2,"계단식",95]
["[삼정동]",125514,1,{"$f":"HYPERLINK(\"https://land.naver.com/article/groundPlan.nhn?rletNo=125514&cortarNo=4825011700\",\"유신파크맨션\")","v":"유신파크맨션"},1990.06,38,25.22,83.36,19.7,65.14,18,null,null,null,null,0,0,0,0,3,2,"계단식",83]
["[삼정동]",125514,2,{"$f":"HYPERLINK(\"https://land.naver.com/article/groundPlan.nhn?rletNo=125514&cortarNo=4825011700\",\"유신파크맨션\")","v":"유신파크맨션"},1990.06,38,32.06,105.99,25.69,84.94,20,null,null,null,null,0,0,0,0,3,2,"계단식",105]
["[삼정동]",125692,1,{"$f":"HYPERLINK(\"https://land.naver.com/article/groundPlan.nhn?rletNo=125692&cortarNo=4825011700\",\"경성빌\")","v":"경성빌"},2002.06,14,23.15,76.53,20.46,67.64,1,null,null,null,null,0,0,0,0,3,1,"계단식",76]
["[삼정동]",125692,2,{"$f":"HYPERLINK(\"https://land.naver.com/article/groundPlan.nhn?rletNo=125692&cortarNo=4825011700\",\"경성빌\")","v":"경성빌"},2002.06,14,26.6,87.92,23.51,77.709999999999994,1,null,null,null,null,0,0,0,0,3,2,"계단식",87]
["[삼정동]",125692,3,{"$f":"HYPERLINK(\"https://land.naver.com/article/groundPlan.nhn?rletNo=125692&cortarNo=4825011700\",\"경성빌\")","v":"경성빌"},2002.06,14,29.05,96.03,25.69,84.91,12,null,null,null,null,0,0,0,0,3,2,"계단식",96]
["[삼정동]",126399,1,{"$f":"HYPERLINK(\"https://land.naver.com/article/groundPlan.nhn?rletNo=126399&cortarNo=4825011700\",\"삼영\")","v":"삼영"},2001.09,14,27.56,91.1,24.6,81.31,1,null,null,null,null,0,0,0,0,3,2,"계단식","91A"]
["[삼정동]",126399,2,{"$f":"HYPERLINK(\"https://land.naver.com/article/groundPlan.nhn?rletNo=126399&cortarNo=4825011700\",\"삼영\")","v":"삼영"},2001.09,14,28.1,92.9,25.08,82.91,6,null,null,null,null,0,0,0,0,3,2,"계단식","92B"]
["[삼정동]",126399,3,{"$f":"HYPERLINK(\"https://land.naver.com/article/groundPlan.nhn?rletNo=126399&cortarNo=4825011700\",\"삼영\")","v":"삼영"},2001.09,14,28.14,93.01,25.11,83.01,7,null,null,null,null,0,0,0,0,3,2,"계단식","93C"]
["[삼정동]",126400,1,{"$f":"HYPERLINK(\"https://land.naver.com/article/groundPlan.nhn?rletNo=126400&cortarNo=4825011700\",\"청구현\")","v":"청구현"},1999.06,16,28.22,93.3,25.59,84.6,16,null,null,null,null,0,0,0,0,3,2,"계단식",93]
["[삼정동]",126673,1,{"$f":"HYPERLINK(\"https://land.naver.com/article/groundPlan.nhn?rletNo=126673&cortarNo=4825011700\",\"샛별빌라트\")","v":"샛별빌라트"},2000.07,16,21.46,70.95,19.260000000000002,63.66,1,null,null,null,null,0,0,0,0,3,2,"계단식",70]
["[삼정동]",126673,2,{"$f":"HYPERLINK(\"https://land.naver.com/article/groundPlan.nhn?rletNo=126673&cortarNo=4825011700\",\"샛별빌라트\")","v":"샛별빌라트"},2000.07,16,28.63,94.66,25.7,84.97,15,null,null,null,null,0,0,0,0,3,2,"계단식",94]
["[삼정동]",126710,1,{"$f":"HYPERLINK(\"https://land.naver.com/article/groundPlan.nhn?rletNo=126710&cortarNo=4825011700\",\"성우쉐르빌\")","v":"성우쉐르빌"},2001.1,16,23.43,77.47,20.62,68.17,1,null,null,null,null,0,0,0,0,3,1,"계단식",77]
["[삼정동]",126710,2,{"$f":"HYPERLINK(\"https://land.naver.com/article/groundPlan.nhn?rletNo=126710&cortarNo=4825011700\",\"성우쉐르빌\")","v":"성우쉐르빌"},2001.1,16,28.94,95.68,25.47,84.2,15,null,null,null,null,0,0,0,0,3,2,"계단식",95]
["[삼정동]",126764,1,{"$f":"HYPERLINK(\"https://land.naver.com/article/groundPlan.nhn?rletNo=126764&cortarNo=4825011700\",\"경남궁전\")","v":"경남궁전"},2000.12,18,28.42,93.95,25.64,84.76,18,null,null,null,null,0,0,0,0,3,2,"복합식",93]
["[삼정동]",127017,1,{"$f":"HYPERLINK(\"https://land.naver.com/article/groundPlan.nhn?rletNo=127017&cortarNo=4825011700\",\"가야2차\")","v":"가야2차"},2001.05,14,27.86,92.11,24.52,81.069999999999993,1,null,null,null,null,0,0,0,0,3,2,"계단식",92]
["[삼정동]",127017,2,{"$f":"HYPERLINK(\"https://land.naver.com/article/groundPlan.nhn?rletNo=127017&cortarNo=4825011700\",\"가야2차\")","v":"가야2차"},2001.05,14,29.09,96.16,25.6,84.63,13,null,null,null,null,0,0,0,0,3,2,"계단식",96]
["[삼정동]",127404,1,{"$f":"HYPERLINK(\"https://land.naver.com/article/groundPlan.nhn?rletNo=127404&cortarNo=4825011700\",\"삼성빌라트\")","v":"삼성빌라트"},2001.06,14,24.16,79.86,21.55,71.239999999999995,1,null,null,null,null,0,0,0,0,3,1,"계단식",79]
["[삼정동]",127404,2,{"$f":"HYPERLINK(\"https://land.naver.com/article/groundPlan.nhn?rletNo=127404&cortarNo=4825011700\",\"삼성빌라트\")","v":"삼성빌라트"},2001.06,14,27.81,91.92,24.8,82,6,null,null,null,null,0,0,0,0,3,2,"계단식",91]
["[삼정동]",127404,3,{"$f":"HYPERLINK(\"https://land.naver.com/article/groundPlan.nhn?rletNo=127404&cortarNo=4825011700\",\"삼성빌라트\")","v":"삼성빌라트"},2001.06,14,28.59,94.51,25.5,84.31,7,null,null,null,null,0,0,0,0,3,2,"계단식",94]
["[삼정동]",16568,1,{"$f":"HYPERLINK(\"https://land.naver.com/article/groundPlan.nhn?rletNo=16568&cortarNo=4825011700\",\"삼정백제데파트\")","v":"삼정백제데파트"},1993.05,110,24.17,79.91,18.13,59.94,39,null,null,null,null,0,0,0,0,2,1,"복도식",79]
["[삼정동]",16568,2,{"$f":"HYPERLINK(\"https://land.naver.com/article/groundPlan.nhn?rletNo=16568&cortarNo=4825011700\",\"삼정백제데파트\")","v":"삼정백제데파트"},1993.05,110,29.69,98.16,22.26,73.59,14,null,null,null,null,0,0,0,0,2,1,"복도식",98]
["[삼정동]",16568,3,{"$f":"HYPERLINK(\"https://land.naver.com/article/groundPlan.nhn?rletNo=16568&cortarNo=4825011700\",\"삼정백제데파트\")","v":"삼정백제데파트"},1993.05,110,34.25,113.21,25.68,84.9,57,null,null,null,null,0,0,0,0,3,2,"복도식",113]
["[삼정동]",16570,1,{"$f":"HYPERLINK(\"https://land.naver.com/article/groundPlan.nhn?rletNo=16570&cortarNo=4825011700\",\"유신그린코아맨션\")","v":"유신그린코아맨션"},1991.08,61,28.62,94.6,20.07,66.34,61,null,null,null,null,0,0,0,0,3,1,"계단식",94]
["[삼정동]",23923,1,{"$f":"HYPERLINK(\"https://land.naver.com/article/groundPlan.nhn?rletNo=23923&cortarNo=4825011700\",\"유한미소안\")","v":"유한미소안"},2006.01,124,23.05,76.19,18.07,59.74,72,null,null,null,null,0,0,0,0,3,1,"계단식",76]
["[삼정동]",23923,2,{"$f":"HYPERLINK(\"https://land.naver.com/article/groundPlan.nhn?rletNo=23923&cortarNo=4825011700\",\"유한미소안\")","v":"유한미소안"},2006.01,124,32.549999999999997,107.61,25.71,84.98,52,null,null,null,null,0,0,0,0,3,2,"계단식",107]
["[삼정동]",23924,1,{"$f":"HYPERLINK(\"https://land.naver.com/article/groundPlan.nhn?rletNo=23924&cortarNo=4825011700\",\"청구쉐르타운\")","v":"청구쉐르타운"},2005.11,19,25.56,84.51,22.48,74.3,1,null,null,null,null,0,0,0,0,3,1,"복합식",84]
["[삼정동]",23924,2,{"$f":"HYPERLINK(\"https://land.naver.com/article/groundPlan.nhn?rletNo=23924&cortarNo=4825011700\",\"청구쉐르타운\")","v":"청구쉐르타운"},2005.11,19,29.23,96.62,25.69,84.94,18,null,null,null,null,0,0,0,0,3,2,"계단식",96]
["[삼정동]",6248,1,{"$f":"HYPERLINK(\"https://land.naver.com/article/groundPlan.nhn?rletNo=6248&cortarNo=4825011700\",\"화인아트1차\")","v":"화인아트1차"},1991.01,76,27.5,90.92,22.05,72.89,16,null,null,null,null,0,0,0,0,3,1,"계단식",90]
["[삼정동]",6248,2,{"$f":"HYPERLINK(\"https://land.naver.com/article/groundPlan.nhn?rletNo=6248&cortarNo=4825011700\",\"화인아트1차\")","v":"화인아트1차"},1991.01,76,31.32,103.54,25.52,84.35,30,null,null,null,null,0,0,0,0,3,1,"계단식",103]
["[삼정동]",6248,3,{"$f":"HYPERLINK(\"https://land.naver.com/article/groundPlan.nhn?rletNo=6248&cortarNo=4825011700\",\"화인아트1차\")","v":"화인아트1차"},1991.01,76,43.35,143.30000000000001,36.380000000000003,120.25,30,null,null,null,null,0,0,0,0,4,2,"계단식",143]
["[삼정동]",116605,1,{"$f":"HYPERLINK(\"https://land.naver.com/article/groundPlan.nhn?rletNo=116605&cortarNo=4825011700\",\"활천호성\")","v":"활천호성"},1994.11,35,22.46,74.239999999999995,17.829999999999998,58.95,2,null,null,null,null,0,0,0,0,3,1,"복합식",74]
["[삼정동]",116605,2,"활천호성",1994.11,35,22.85,75.55,18.149999999999999,59.99,16,null,null,null,null,0,0,0,0,3,1,"복합식",75]
["[삼정동]",116605,3,"활천호성",1994.11,35,31.22,103.22,24.79,81.96,1,null,null,null,null,0,0,0,0,3,2,"복합식",103]
["[삼정동]",116605,4,"활천호성",1994.11,35,32.340000000000003,106.92,25.68,84.9,7,null,null,null,null,0,0,0,0,3,2,"복합식","106A"]
["[삼정동]",116605,5,"활천호성",1994.11,35,32.36,106.97,25.69,84.94,8,null,null,null,null,0,0,0,0,3,2,"복합식","106B"]
["[삼정동]",116605,6,"활천호성",1994.11,35,32.369999999999997,107.01,25.7,84.97,1,null,null,null,null,0,0,0,0,3,2,"복합식","107C"]
["[생림면]",118553,1,{"$f":"HYPERLINK(\"https://land.naver.com/article/groundPlan.nhn?rletNo=118553&cortarNo=4825035000\",\"AK휴엘\")","v":"AK휴엘"},2017.09,28,27.45,90.73,19.66,64.98,21,null,null,null,null,0,0,0,0,3,2,"계단식",90]
["[생림면]",118553,2,{"$f":"HYPERLINK(\"https://land.naver.com/article/groundPlan.nhn?rletNo=118553&cortarNo=4825035000\",\"AK휴엘\")","v":"AK휴엘"},2017.09,28,32.549999999999997,107.59,23.39,77.31,7,null,null,null,null,0,0,0,0,3,2,"계단식",107]
["[서상동]",118462,2,{"$f":"HYPERLINK(\"https://land.naver.com/article/groundPlan.nhn?rletNo=118462&cortarNo=4825010200\",\"금오\")","v":"금오"},1983.06,50,27.27,90.14,25.06,82.83,20,null,null,null,null,0,0,0,0,3,2,"계단식",90]
["[서상동]",118462,1,{"$f":"HYPERLINK(\"https://land.naver.com/article/groundPlan.nhn?rletNo=118462&cortarNo=4825010200\",\"금오\")","v":"금오"},1983.06,50,19.47,64.38,17.29,57.15,30,null,null,null,null,0,0,0,0,2,1,"계단식",64]
["[신문동]",null,1,{"$f":"HYPERLINK(\"https://land.naver.com/article/groundPlan.nhn?rletNo=112034&cortarNo=4825012700\",\"장유경동리인하이스트\")","v":"장유경동리인하이스트"},2019.07,909,{"$f":"H457/3.3","v":28.24848484848485},93.22,{"$f":"J457/3.3","v":19.996969696969696},65.989999999999995,390,null,null,null,null,0,0,0,0,3,2,"계단식","93B"]
["[신문동]",null,2,{"$f":"HYPERLINK(\"https://land.naver.com/article/groundPlan.nhn?rletNo=112034&cortarNo=4825012700\",\"장유경동리인하이스트\")","v":"장유경동리인하이스트"},2019.07,909,31.666666666666668,104.5,22.387878787878787,73.88,273,null,null,null,null,0,0,0,0,3,2,"계단식",104]
["[신문동]",null,3,{"$f":"HYPERLINK(\"https://land.naver.com/article/groundPlan.nhn?rletNo=112034&cortarNo=4825012700\",\"장유경동리인하이스트\")","v":"장유경동리인하이스트"},2019.07,909,33.739393939393942,111.34,23.936363636363637,78.989999999999995,117,null,null,null,null,0,0,0,0,3,2,"계단식",111]
["[신문동]",null,4,{"$f":"HYPERLINK(\"https://land.naver.com/article/groundPlan.nhn?rletNo=112034&cortarNo=4825012700\",\"장유경동리인하이스트\")","v":"장유경동리인하이스트"},2019.07,909,52.56363636363637,173.46,41.390909090909091,136.59,1,null,null,null,null,0,0,0,0,4,2,"계단식",173]
["[신문동]",null,5,{"$f":"HYPERLINK(\"https://land.naver.com/article/groundPlan.nhn?rletNo=112034&cortarNo=4825012700\",\"장유경동리인하이스트\")","v":"장유경동리인하이스트"},2019.07,909,43.466666666666669,143.44,34.533333333333331,113.96,52,null,null,null,null,0,0,0,0,4,2,"계단식",143]
["[신문동]",null,1,{"$f":"HYPERLINK(\"https://land.naver.com/article/groundPlan.nhn?rletNo=24272&cortarNo=4825012700\",\"장유쌍용예가1차\")","v":"장유쌍용예가1차"},2007.12,583,29.736363636363638,98.13,23.557575757575759,77.739999999999995,82,null,null,null,null,0,0,0,0,3,2,"계단식","98A"]
["[신문동]",null,2,{"$f":"HYPERLINK(\"https://land.naver.com/article/groundPlan.nhn?rletNo=24272&cortarNo=4825012700\",\"장유쌍용예가1차\")","v":"장유쌍용예가1차"},2007.12,583,32.378787878787875,106.85,25.754545454545454,84.99,142,null,null,null,null,0,0,0,0,3,2,"계단식","106C"]
["[신문동]",null,3,{"$f":"HYPERLINK(\"https://land.naver.com/article/groundPlan.nhn?rletNo=24272&cortarNo=4825012700\",\"장유쌍용예가1차\")","v":"장유쌍용예가1차"},2007.12,583,45.657575757575756,150.66999999999999,36.25151515151515,119.63,120,null,null,null,null,0,0,0,0,4,2,"계단식",150]
["[신문동]",null,4,{"$f":"HYPERLINK(\"https://land.naver.com/article/groundPlan.nhn?rletNo=24272&cortarNo=4825012700\",\"장유쌍용예가1차\")","v":"장유쌍용예가1차"},2007.12,583,52.427272727272729,173.01,41.9969696969697,138.59,28,null,null,null,null,0,0,0,0,4,2,"계단식",173]
["[신문동]",null,1,{"$f":"HYPERLINK(\"https://land.naver.com/article/groundPlan.nhn?rletNo=25301&cortarNo=4825012700\",\"장유쌍용예가2차\")","v":"장유쌍용예가2차"},2008.07,526,32.81515151515152,108.29,25.754545454545454,84.99,56,null,null,null,null,0,0,0,0,3,2,"계단식",108]
["[신문동]",null,2,{"$f":"HYPERLINK(\"https://land.naver.com/article/groundPlan.nhn?rletNo=25301&cortarNo=4825012700\",\"장유쌍용예가2차\")","v":"장유쌍용예가2차"},2008.07,526,46.2,152.46,37.003030303030307,122.11,112,null,null,null,null,0,0,0,0,4,2,"계단식","152A"]
["[신문동]",null,3,{"$f":"HYPERLINK(\"https://land.naver.com/article/groundPlan.nhn?rletNo=25301&cortarNo=4825012700\",\"장유쌍용예가2차\")","v":"장유쌍용예가2차"},2008.07,526,48.687878787878788,160.66999999999999,38.778787878787881,127.97,43,null,null,null,null,0,0,0,0,4,2,"계단식",160]
["[신문동]",null,4,{"$f":"HYPERLINK(\"https://land.naver.com/article/groundPlan.nhn?rletNo=25301&cortarNo=4825012700\",\"장유쌍용예가2차\")","v":"장유쌍용예가2차"},2008.07,526,54.096969696969701,178.52,45.396969696969698,149.81,114,null,null,null,null,0,0,0,0,4,2,"계단식",178]
["[신문동]",null,1,{"$f":"HYPERLINK(\"https://land.naver.com/article/groundPlan.nhn?rletNo=24273&cortarNo=4825012700\",\"장유e-편한세상\")","v":"장유e-편한세상"},2007.02,506,28.327272727272732,93.48,21.536363636363635,71.069999999999993,58,null,null,null,null,0,0,0,0,3,2,"계단식",93]
["[신문동]",null,2,{"$f":"HYPERLINK(\"https://land.naver.com/article/groundPlan.nhn?rletNo=24273&cortarNo=4825012700\",\"장유e-편한세상\")","v":"장유e-편한세상"},2007.02,506,33.406060606060606,110.24,25.74848484848485,84.97,390,null,null,null,null,0,0,0,0,3,2,"계단식",110]
["[신문동]",null,3,{"$f":"HYPERLINK(\"https://land.naver.com/article/groundPlan.nhn?rletNo=24273&cortarNo=4825012700\",\"장유e-편한세상\")","v":"장유e-편한세상"},2007.02,506,40.112121212121217,132.37,32.793939393939397,108.22,58,null,null,null,null,0,0,0,0,3,2,"계단식",132]
["[안동]",null,1,{"$f":"HYPERLINK(\"https://land.naver.com/article/groundPlan.nhn?rletNo=6263&cortarNo=4825012000\",\"한일\")","v":"한일"},1998.07,896,22.690909090909091,74.88,18.109090909090909,59.76,332,null,null,null,null,0,0,0,0,3,1,"계단식",74]
["[안동]",null,2,{"$f":"HYPERLINK(\"https://land.naver.com/article/groundPlan.nhn?rletNo=6263&cortarNo=4825012000\",\"한일\")","v":"한일"},1998.07,896,31.103030303030305,102.64,25.706060606060607,84.83,518,null,null,null,null,0,0,0,0,3,2,"계단식",102]
["[안동]",null,1,{"$f":"HYPERLINK(\"https://land.naver.com/article/groundPlan.nhn?rletNo=6266&cortarNo=4825012000\",\"한효\")","v":"한효"},1995.06,391,30.003030303030307,99.01,25.609090909090913,84.51,102,null,null,null,null,0,0,0,0,3,2,"계단식","99A"]
["[안동]",null,2,{"$f":"HYPERLINK(\"https://land.naver.com/article/groundPlan.nhn?rletNo=6266&cortarNo=4825012000\",\"한효\")","v":"한효"},1995.06,391,37.221212121212126,122.83,33.063636363636363,109.11,68,null,null,null,null,0,0,0,0,4,2,"계단식",122]
["[안동]",null,1,{"$f":"HYPERLINK(\"https://land.naver.com/article/groundPlan.nhn?rletNo=6255&cortarNo=4825012000\",\"대아\")","v":"대아"},1992.1,321,26.678787878787883,88.04,23.681818181818183,78.150000000000006,60,null,null,null,null,0,0,0,0,3,1,"계단식",88]
["[안동]",null,2,{"$f":"HYPERLINK(\"https://land.naver.com/article/groundPlan.nhn?rletNo=6255&cortarNo=4825012000\",\"대아\")","v":"대아"},1992.1,321,27.557575757575759,90.94,25.396969696969698,83.81,10,null,null,null,null,0,0,0,0,3,1,"계단식",90]
["[안동]",null,3,{"$f":"HYPERLINK(\"https://land.naver.com/article/groundPlan.nhn?rletNo=6255&cortarNo=4825012000\",\"대아\")","v":"대아"},1992.1,321,28.775757575757574,94.96,25.542424242424246,84.29,191,null,null,null,null,0,0,0,0,3,2,"계단식",94]
["[안동]",null,4,{"$f":"HYPERLINK(\"https://land.naver.com/article/groundPlan.nhn?rletNo=6255&cortarNo=4825012000\",\"대아\")","v":"대아"},1992.1,321,40.539393939393939,133.78,35.987878787878792,118.76,45,null,null,null,null,0,0,0,0,4,2,"계단식",133]
["[안동]",null,1,{"$f":"HYPERLINK(\"https://land.naver.com/article/groundPlan.nhn?rletNo=15387&cortarNo=4825012000\",\"한일유앤아이2차\")","v":"한일유앤아이2차"},2001.09,237,23.257575757575758,76.75,18.009090909090911,59.43,237,null,null,null,null,0,0,0,0,3,1,"계단식",76]
["[율하동]",null,1,{"$f":"HYPERLINK(\"https://land.naver.com/article/groundPlan.nhn?rletNo=24999&cortarNo=4825013100\",\"신리마을중앙하이츠8단지\")","v":"신리마을중앙하이츠8단지"},2009.01,1290,39.187878787878788,129.32,32.939393939393945,108.7,431,null,null,null,null,0,0,0,0,3,2,"계단식","129B"]
["[율하동]",null,2,"신리마을중앙하이츠8단지",2009.01,1290,39.396969696969698,130.01,32.709090909090911,107.94,97,null,null,null,null,0,0,0,0,3,2,"계단식","130A"]
["[율하동]",null,3,"신리마을중앙하이츠8단지",2009.01,1290,46.942424242424245,154.91,38.957575757575761,128.56,436,null,null,null,null,0,0,0,0,4,2,"계단식","154B"]
["[율하동]",null,4,"신리마을중앙하이츠8단지",2009.01,1290,47.072727272727278,155.34,39.596969696969694,130.66999999999999,97,null,null,null,null,0,0,0,0,3,2,"계단식","155A"]
["[율하동]",null,5,"신리마을중앙하이츠8단지",2009.01,1290,54.293939393939397,179.17,46.384848484848483,153.07,113,null,null,null,null,0,0,0,0,4,2,"계단식",179]
["[율하동]",null,6,"신리마을중앙하이츠8단지",2009.01,1290,58.106060606060609,191.75,49.403030303030306,163.03,116,null,null,null,null,0,0,0,0,3,2,"계단식",191]
["[율하동]",null,1,{"$f":"HYPERLINK(\"https://land.naver.com/article/groundPlan.nhn?rletNo=103705&cortarNo=4825013100\",\"율현마을9단지e편한세상\")","v":"율현마을9단지e편한세상"},2013.1,999,33.115151515151517,109.28,{"$f":"J488/3.3","v":25.718181818181822},84.87,494,null,null,null,null,0,0,0,0,3,2,"계단식","109A"]
["[율하동]",null,2,{"$f":"HYPERLINK(\"https://land.naver.com/article/groundPlan.nhn?rletNo=103705&cortarNo=4825013100\",\"율현마을9단지e편한세상\")","v":"율현마을9단지e편한세상"},2013.1,999,33.224242424242426,109.64,25.709090909090911,84.84,302,null,null,null,null,0,0,0,0,3,2,"계단식","109B"]
["[율하동]",null,3,{"$f":"HYPERLINK(\"https://land.naver.com/article/groundPlan.nhn?rletNo=103705&cortarNo=4825013100\",\"율현마을9단지e편한세상\")","v":"율현마을9단지e편한세상"},2013.1,999,33.509090909090908,110.58,25.74848484848485,84.97,203,null,null,null,null,0,0,0,0,3,2,"계단식","110C"]
["[율하동]",null,1,{"$f":"HYPERLINK(\"https://land.naver.com/article/groundPlan.nhn?rletNo=102317&cortarNo=4825013100\",\"율상마을5단지모아미래도\")","v":"율상마을5단지모아미래도"},2012.03,786,34.757575757575758,114.7,25.733333333333334,84.92,510,null,null,null,null,0,0,0,0,3,2,"계단식","114B"]
["[율하동]",null,2,{"$f":"HYPERLINK(\"https://land.naver.com/article/groundPlan.nhn?rletNo=102317&cortarNo=4825013100\",\"율상마을5단지모아미래도\")","v":"율상마을5단지모아미래도"},2012.03,786,{"$f":"H492/3.3","v":35.893939393939398},118.45,25.733333333333334,84.92,276,null,null,null,null,0,0,0,0,3,2,"계단식","118A"]
["[율하동]",null,1,{"$f":"HYPERLINK(\"https://land.naver.com/article/groundPlan.nhn?rletNo=102524&cortarNo=4825013100\",\"율현마을동원로얄듀크1차\")","v":"율현마을동원로얄듀크1차"},2013.04,750,33.078787878787878,109.16,25.751515151515154,84.98,168,null,null,null,null,0,0,0,0,3,2,"계단식","109C"]
["[율하동]",null,2,{"$f":"HYPERLINK(\"https://land.naver.com/article/groundPlan.nhn?rletNo=102524&cortarNo=4825013100\",\"율현마을동원로얄듀크1차\")","v":"율현마을동원로얄듀크1차"},2013.04,750,33.130303030303033,109.33,25.754545454545454,84.99,168,null,null,null,null,0,0,0,0,3,2,"계단식","109B"]
["[율하동]",null,3,{"$f":"HYPERLINK(\"https://land.naver.com/article/groundPlan.nhn?rletNo=102524&cortarNo=4825013100\",\"율현마을동원로얄듀크1차\")","v":"율현마을동원로얄듀크1차"},2013.04,750,33.575757575757578,110.8,25.751515151515154,84.98,414,null,null,null,null,0,0,0,0,3,2,"계단식","110A"]
["[율하동]",null,1,{"$f":"HYPERLINK(\"https://land.naver.com/article/groundPlan.nhn?rletNo=25123&cortarNo=4825013100\",\"율상마을3단지푸르지오\")","v":"율상마을3단지푸르지오"},2008.12,632,33.021212121212123,108.97,25.751515151515154,84.98,66,null,null,null,null,0,0,0,0,3,2,"계단식","108B"]
["[율하동]",null,2,{"$f":"HYPERLINK(\"https://land.naver.com/article/groundPlan.nhn?rletNo=25123&cortarNo=4825013100\",\"율상마을3단지푸르지오\")","v":"율상마을3단지푸르지오"},2008.12,632,33.175757575757579,109.48,25.745454545454546,84.96,490,null,null,null,null,0,0,0,0,3,2,"계단식","109A"]
["[율하동]",null,3,{"$f":"HYPERLINK(\"https://land.naver.com/article/groundPlan.nhn?rletNo=25123&cortarNo=4825013100\",\"율상마을3단지푸르지오\")","v":"율상마을3단지푸르지오"},2008.12,632,33.812121212121212,111.58,25.754545454545454,84.99,76,null,null,null,null,0,0,0,0,3,2,"계단식",111]
["[율하동]",null,1,{"$f":"HYPERLINK(\"https://land.naver.com/article/groundPlan.nhn?rletNo=104117&cortarNo=4825013100\",\"율상마을6단지모아미래도\")","v":"율상마을6단지모아미래도"},2014.05,630,34.657575757575763,114.37,25.651515151515156,84.65,192,null,null,null,null,0,0,0,0,3,2,"계단식","114C"]
["[율하동]",null,2,"율상마을6단지모아미래도",2014.05,630,34.806060606060605,114.86,25.745454545454546,84.96,48,null,null,null,null,0,0,0,0,3,2,"계단식","114F"]
["[율하동]",null,3,"율상마을6단지모아미래도",2014.05,630,34.875757575757582,115.09,25.663636363636364,84.69,111,null,null,null,null,0,0,0,0,3,2,"계단식","115E"]
["[율하동]",null,4,"율상마을6단지모아미래도",2014.05,630,34.942424242424245,115.31,25.693939393939399,84.79,60,null,null,null,null,0,0,0,0,3,2,"계단식","115B"]
["[율하동]",null,5,"율상마을6단지모아미래도",2014.05,630,35.369696969696975,116.72,25.745454545454546,84.96,111,null,null,null,null,0,0,0,0,3,2,"계단식","116A"]
["[율하동]",null,6,"율상마을6단지모아미래도",2014.05,630,35.56666666666667,117.37,25.615151515151517,84.53,108,null,null,null,null,0,0,0,0,3,2,"계단식","117D"]
["[율하동]",null,1,{"$f":"HYPERLINK(\"https://land.naver.com/article/groundPlan.nhn?rletNo=25120&cortarNo=4825013100\",\"율하율현마을e-편한세상\")","v":"율하율현마을e-편한세상"},2009.01,585,33.524242424242424,110.63,25.715151515151515,84.86,336,null,null,null,null,0,0,0,0,3,2,"계단식","110A"]
["[율하동]",null,2,{"$f":"HYPERLINK(\"https://land.naver.com/article/groundPlan.nhn?rletNo=25120&cortarNo=4825013100\",\"율하율현마을e-편한세상\")","v":"율하율현마을e-편한세상"},2009.01,585,33.596969696969701,110.87,25.706060606060607,84.83,249,null,null,null,null,0,0,0,0,3,2,"계단식","110B"]
["[율하동]",null,1,{"$f":"HYPERLINK(\"https://land.naver.com/article/groundPlan.nhn?rletNo=25121&cortarNo=4825013100\",\"율상마을4단지푸르지오\")","v":"율상마을4단지푸르지오"},2008.12,348,43.533333333333331,143.66,35.299999999999997,116.49,144,null,null,null,null,0,0,0,0,4,2,"계단식",143]
["[율하동]",null,2,{"$f":"HYPERLINK(\"https://land.naver.com/article/groundPlan.nhn?rletNo=25121&cortarNo=4825013100\",\"율상마을4단지푸르지오\")","v":"율상마을4단지푸르지오"},2008.12,348,48.293939393939397,159.37,38.972727272727276,128.61000000000001,68,null,null,null,null,0,0,0,0,4,2,"계단식","159A"]
["[율하동]",null,3,{"$f":"HYPERLINK(\"https://land.naver.com/article/groundPlan.nhn?rletNo=25121&cortarNo=4825013100\",\"율상마을4단지푸르지오\")","v":"율상마을4단지푸르지오"},2008.12,348,48.327272727272728,159.47999999999999,39.190909090909095,129.33000000000001,68,null,null,null,null,0,0,0,0,4,2,"계단식","159B"]
["[율하동]",null,4,{"$f":"HYPERLINK(\"https://land.naver.com/article/groundPlan.nhn?rletNo=25121&cortarNo=4825013100\",\"율상마을4단지푸르지오\")","v":"율상마을4단지푸르지오"},2008.12,348,53.615151515151517,176.93,43.833333333333336,144.65,68,null,null,null,null,0,0,0,0,4,2,"계단식",176]
["[어방동]",null,1,{"$f":"HYPERLINK(\"https://land.naver.com/article/groundPlan.nhn?rletNo=6273&cortarNo=4825011800\",\"대우유토피아\")","v":"대우유토피아"},1994.12,2041,22.76969696969697,75.14,18.17878787878788,59.99,762,null,null,null,null,0,0,0,0,3,1,"계단식",75]
["[어방동]",null,2,{"$f":"HYPERLINK(\"https://land.naver.com/article/groundPlan.nhn?rletNo=6273&cortarNo=4825011800\",\"대우유토피아\")","v":"대우유토피아"},1994.12,2041,27.957575757575761,92.26,23.503030303030304,77.56,389,null,null,null,null,0,0,0,0,3,1,"계단식",92]
["[어방동]",null,3,{"$f":"HYPERLINK(\"https://land.naver.com/article/groundPlan.nhn?rletNo=6273&cortarNo=4825011800\",\"대우유토피아\")","v":"대우유토피아"},1994.12,2041,31.627272727272729,104.37,25.618181818181821,84.54,530,null,null,null,null,0,0,0,0,3,2,"계단식",104]
["[어방동]",null,4,{"$f":"HYPERLINK(\"https://land.naver.com/article/groundPlan.nhn?rletNo=6273&cortarNo=4825011800\",\"대우유토피아\")","v":"대우유토피아"},1994.12,2041,41.972727272727269,138.51,35.372727272727275,116.73,240,null,null,null,null,0,0,0,0,4,2,"계단식",138]
["[어방동]",null,5,{"$f":"HYPERLINK(\"https://land.naver.com/article/groundPlan.nhn?rletNo=6273&cortarNo=4825011800\",\"대우유토피아\")","v":"대우유토피아"},1994.12,2041,49.312121212121212,162.72999999999999,42.527272727272731,140.34,120,null,null,null,null,0,0,0,0,4,2,"계단식",162]
["[어방동]",null,1,{"$f":"HYPERLINK(\"https://land.naver.com/article/groundPlan.nhn?rletNo=6287&cortarNo=4825011800\",\"어방동원\")","v":"어방동원"},1998.04,900,22.512121212121215,74.290000000000006,18.145454545454548,59.88,360,null,null,null,null,0,0,0,0,3,1,"계단식",74]
["[어방동]",null,2,{"$f":"HYPERLINK(\"https://land.naver.com/article/groundPlan.nhn?rletNo=6287&cortarNo=4825011800\",\"어방동원\")","v":"어방동원"},1998.04,900,26.933333333333334,88.88,21.709090909090911,71.64,60,null,null,null,null,0,0,0,0,3,1,"계단식",88]
["[어방동]",null,3,{"$f":"HYPERLINK(\"https://land.naver.com/article/groundPlan.nhn?rletNo=6287&cortarNo=4825011800\",\"어방동원\")","v":"어방동원"},1998.04,900,31.930303030303033,105.37,25.736363636363638,84.93,480,null,null,null,null,0,0,0,0,3,2,"계단식",105]
["[어방동]",null,1,{"$f":"HYPERLINK(\"https://land.naver.com/article/groundPlan.nhn?rletNo=6291&cortarNo=4825011800\",\"어방화인\")","v":"어방화인"},1996.12,727,24.042424242424246,79.34,18.133333333333336,59.84,630,null,null,null,null,0,0,0,0,3,1,"계단식",79]
["[어방동]",null,2,{"$f":"HYPERLINK(\"https://land.naver.com/article/groundPlan.nhn?rletNo=6291&cortarNo=4825011800\",\"어방화인\")","v":"어방화인"},1996.12,727,32.187878787878788,106.22,25.681818181818183,84.75,97,null,null,null,null,0,0,0,0,3,2,"계단식",106]
["[어방동]",null,1,{"$f":"HYPERLINK(\"https://land.naver.com/article/groundPlan.nhn?rletNo=25320&cortarNo=4825011800\",\"김해신성미소지움\")","v":"김해신성미소지움"},2008.11,358,29.260606060606062,96.56,21.772727272727273,71.849999999999994,74,null,null,null,null,0,0,0,0,3,2,"계단식",96]
["[어방동]",null,2,{"$f":"HYPERLINK(\"https://land.naver.com/article/groundPlan.nhn?rletNo=25320&cortarNo=4825011800\",\"김해신성미소지움\")","v":"김해신성미소지움"},2008.11,358,31.403030303030302,103.63,23.854545454545455,78.72,105,null,null,null,null,0,0,0,0,3,2,"계단식",103]
["[어방동]",null,3,{"$f":"HYPERLINK(\"https://land.naver.com/article/groundPlan.nhn?rletNo=25320&cortarNo=4825011800\",\"김해신성미소지움\")","v":"김해신성미소지움"},2008.11,358,33.539393939393946,110.68,25.603030303030302,84.49,119,null,null,null,null,0,0,0,0,3,2,"계단식",110]
["[어방동]",null,4,{"$f":"HYPERLINK(\"https://land.naver.com/article/groundPlan.nhn?rletNo=25320&cortarNo=4825011800\",\"김해신성미소지움\")","v":"김해신성미소지움"},2008.11,358,46.106060606060609,152.15,36.6,120.78,60,null,null,null,null,0,0,0,0,4,2,"계단식",152]
["[어방동]",null,1,{"$f":"HYPERLINK(\"https://land.naver.com/article/groundPlan.nhn?rletNo=6281&cortarNo=4825011800\",\"시영\")","v":"시영"},1991.02,318,21.381818181818183,70.56,15.115151515151517,49.88,101,null,null,null,null,0,0,0,0,3,1,"복도식",70]
["[어방동]",null,2,{"$f":"HYPERLINK(\"https://land.naver.com/article/groundPlan.nhn?rletNo=6281&cortarNo=4825011800\",\"시영\")","v":"시영"},1991.02,318,25.618181818181821,84.54,18.109090909090909,59.76,101,null,null,null,null,0,0,0,0,3,1,"복도식","84A"]
["[어방동]",null,3,{"$f":"HYPERLINK(\"https://land.naver.com/article/groundPlan.nhn?rletNo=6281&cortarNo=4825011800\",\"시영\")","v":"시영"},1991.02,318,26.26969696969697,86.69,18.145454545454548,59.88,116,null,null,null,null,0,0,0,0,3,1,"복도식","86B"]
["[외동]",null,1,{"$f":"HYPERLINK(\"https://land.naver.com/article/groundPlan.nhn?rletNo=11224&cortarNo=4825010900\",\"한국2차\")","v":"한국2차"},1998.12,2250,10.787878787878789,35.6,8.3757575757575768,27.64,390,null,null,null,null,0,0,0,0,1,1,"복도식",35]
["[외동]",null,2,{"$f":"HYPERLINK(\"https://land.naver.com/article/groundPlan.nhn?rletNo=11224&cortarNo=4825010900\",\"한국2차\")","v":"한국2차"},1998.12,2250,21.181818181818183,69.900000000000006,18.163636363636364,59.94,1380,null,null,null,null,0,0,0,0,3,1,"계단식","69A"]
["[외동]",null,1,{"$f":"HYPERLINK(\"https://land.naver.com/article/groundPlan.nhn?rletNo=6334&cortarNo=4825010900\",\"일동한신\")","v":"일동한신"},1999.12,1740,22.733333333333334,75.02,18.175757575757576,59.98,268,null,null,null,null,0,0,0,0,3,1,"계단식",75]
["[외동]",null,2,{"$f":"HYPERLINK(\"https://land.naver.com/article/groundPlan.nhn?rletNo=6334&cortarNo=4825010900\",\"일동한신\")","v":"일동한신"},1999.12,1740,26.472727272727273,87.36,21.918181818181818,72.33,204,null,null,null,null,0,0,0,0,3,1,"계단식",87]
["[외동]",null,3,{"$f":"HYPERLINK(\"https://land.naver.com/article/groundPlan.nhn?rletNo=6334&cortarNo=4825010900\",\"일동한신\")","v":"일동한신"},1999.12,1740,30.2969696969697,99.98,25.739393939393938,84.94,828,null,null,null,null,0,0,0,0,3,2,"계단식",99]
["[외동]",null,4,{"$f":"HYPERLINK(\"https://land.naver.com/article/groundPlan.nhn?rletNo=6334&cortarNo=4825010900\",\"일동한신\")","v":"일동한신"},1999.12,1740,34.836363636363636,114.96,30.281818181818185,99.93,236,null,null,null,null,0,0,0,0,4,2,"계단식",114]
["[외동]",null,5,{"$f":"HYPERLINK(\"https://land.naver.com/article/groundPlan.nhn?rletNo=6334&cortarNo=4825010900\",\"일동한신\")","v":"일동한신"},1999.12,1740,41.839393939393936,138.07,37.284848484848489,123.04,204,null,null,null,null,0,0,0,0,4,2,"계단식",138]
["[외동]",null,1,{"$f":"HYPERLINK(\"https://land.naver.com/article/groundPlan.nhn?rletNo=6364&cortarNo=4825010900\",\"한국1차\")","v":"한국1차"},1996.12,1530,15.55757575757576,51.34,12.000000000000002,39.6,180,null,null,null,null,0,0,0,0,2,1,"복도식",51]
["[외동]",null,2,"한국1차",1996.12,1530,17.809090909090912,58.77,14.954545454545455,49.35,270,null,null,null,null,0,0,0,0,2,1,"계단식","58A"]
["[외동]",null,3,"한국1차",1996.12,1530,17.836363636363636,58.86,14.972727272727273,49.41,210,null,null,null,null,0,0,0,0,2,1,"계단식","58B"]
["[외동]",null,4,"한국1차",1996.12,1530,17.872727272727271,58.98,15.018181818181819,49.56,360,null,null,null,null,0,0,0,0,2,1,"계단식","58C"]
["[외동]",null,5,"한국1차",1996.12,1530,17.900000000000002,59.07,15.045454545454545,49.65,270,null,null,null,null,0,0,0,0,2,1,"계단식","59D"]
["[외동]",null,6,"한국1차",1996.12,1530,20.936363636363637,69.09,18.042424242424243,59.54,240,null,null,null,null,0,0,0,0,3,1,"계단식",69]
["[외동]",null,1,{"$f":"HYPERLINK(\"https://land.naver.com/article/groundPlan.nhn?rletNo=6302&cortarNo=4825010900\",\"대동한마음타운\")","v":"대동한마음타운"},1995.11,1440,21.139393939393941,69.760000000000005,18.121212121212121,59.8,870,null,null,null,null,0,0,0,0,3,1,"계단식","69B"]
["[외동]",null,1,{"$f":"HYPERLINK(\"https://land.naver.com/article/groundPlan.nhn?rletNo=6325&cortarNo=4825010900\",\"뜨란채\")","v":"뜨란채"},1996.08,1350,16.7,55.11,12.042424242424243,39.74,90,null,null,null,null,0,0,0,0,2,1,"복도식",55]
["[외동]",null,2,{"$f":"HYPERLINK(\"https://land.naver.com/article/groundPlan.nhn?rletNo=6325&cortarNo=4825010900\",\"뜨란채\")","v":"뜨란채"},1996.08,1350,23.384848484848487,77.17,18.17878787878788,59.99,1260,null,null,null,null,0,0,0,0,3,1,"계단식",77]
["[외동]",null,1,{"$f":"HYPERLINK(\"https://land.naver.com/article/groundPlan.nhn?rletNo=112556&cortarNo=4825010900\",\"김해외동협성엘리시안\")","v":"김해외동협성엘리시안"},2019.02,942,25.503030303030304,84.16,18.154545454545456,59.91,273,null,null,null,null,0,0,0,0,3,2,"계단식","84A"]
["[외동]",null,2,{"$f":"HYPERLINK(\"https://land.naver.com/article/groundPlan.nhn?rletNo=112556&cortarNo=4825010900\",\"김해외동협성엘리시안\")","v":"김해외동협성엘리시안"},2019.02,942,29.987878787878788,98.96,21.812121212121216,71.98,286,null,null,null,null,0,0,0,0,3,2,"계단식","98C"]
["[외동]",null,3,{"$f":"HYPERLINK(\"https://land.naver.com/article/groundPlan.nhn?rletNo=112556&cortarNo=4825010900\",\"김해외동협성엘리시안\")","v":"김해외동협성엘리시안"},2019.02,942,34.148484848484848,112.69,25.754545454545454,84.99,254,null,null,null,null,0,0,0,0,3,2,"계단식","112D"]
["[외동]",null,1,{"$f":"HYPERLINK(\"https://land.naver.com/article/groundPlan.nhn?rletNo=6355&cortarNo=4825010900\",\"주공\")","v":"주공"},1988.06,920,8.963636363636363,29.58,7.6181818181818191,25.14,7,null,null,null,null,0,0,0,0,1,1,"계단식",29]
["[외동]",null,2,"주공",1988.06,920,11.484848484848484,37.9,9.827272727272728,32.43,108,null,null,null,null,0,0,0,0,2,1,"계단식",37]
["[외동]",null,3,"주공",1988.06,920,13.681818181818182,45.15,11.909090909090908,39.299999999999997,110,null,null,null,null,0,0,0,0,2,1,"계단식","45A"]
["[외동]",null,4,"주공",1988.06,920,13.8,45.54,12.027272727272727,39.69,110,null,null,null,null,0,0,0,0,2,1,"계단식","45B"]
["[외동]",null,5,"주공",1988.06,920,14.033333333333335,46.31,12.00909090909091,39.630000000000003,115,null,null,null,null,0,0,0,0,2,1,"계단식","46C"]
["[외동]",null,6,"주공",1988.06,920,15.91818181818182,52.53,{"$f":"J552/3.3","v":14.145454545454546},46.68,230,null,null,null,null,0,0,0,0,2,1,"계단식","52A"]
["[외동]",null,7,"주공",1988.06,920,16.018181818181819,52.86,14.245454545454546,47.01,240,null,null,null,null,0,0,0,0,2,1,"계단식","52B"]
["[외동]",null,1,{"$f":"HYPERLINK(\"https://land.naver.com/article/groundPlan.nhn?rletNo=6307&cortarNo=4825010900\",\"덕산베스트타운\")","v":"덕산베스트타운"},1997.03,900,21.375757575757579,70.540000000000006,18.166666666666668,59.95,750,null,null,null,null,0,0,0,0,3,1,"계단식",70]
["[외동]",null,1,{"$f":"HYPERLINK(\"https://land.naver.com/article/groundPlan.nhn?rletNo=6374&cortarNo=4825010900\",\"한덕한신타워\")","v":"한덕한신타워"},1992.1,676,26.345454545454547,86.94,22.448484848484849,74.08,152,null,null,null,null,0,0,0,0,3,1,"계단식",86]
["[외동]",null,2,"한덕한신타워",1992.1,676,{"$f":"H556/3.3","v":28.981818181818184},95.64,24.693939393939395,81.489999999999995,228,null,null,null,null,0,0,0,0,3,1,"계단식",95]
["[외동]",null,3,"한덕한신타워",1992.1,676,30.439393939393941,100.45,25.751515151515154,84.98,148,null,null,null,null,0,0,0,0,3,2,"계단식",100]
["[외동]",null,4,"한덕한신타워",1992.1,676,37.754545454545458,124.59,33.230303030303034,109.66,76,null,null,null,null,0,0,0,0,4,2,"계단식",124]
["[외동]",null,5,"한덕한신타워",1992.1,676,42.403030303030306,139.93,37.587878787878793,124.04,36,null,null,null,null,0,0,0,0,4,2,"계단식",139]
["[외동]",null,6,"한덕한신타워",1992.1,676,50.042424242424239,165.14,44.042424242424246,145.34,36,null,null,null,null,0,0,0,0,4,2,"계단식",165]
["[외동]",null,1,{"$f":"HYPERLINK(\"https://land.naver.com/article/groundPlan.nhn?rletNo=6313&cortarNo=4825010900\",\"동성\")","v":"동성"},1991.01,490,20.057575757575759,66.19,14.945454545454547,49.32,80,null,null,null,null,0,0,0,0,3,1,"계단식",66]
["[외동]",null,2,{"$f":"HYPERLINK(\"https://land.naver.com/article/groundPlan.nhn?rletNo=6313&cortarNo=4825010900\",\"동성\")","v":"동성"},1991.01,490,23.990909090909092,79.17,18.172727272727272,59.97,410,null,null,null,null,0,0,0,0,3,1,"계단식",79]
["[외동]",null,1,{"$f":"HYPERLINK(\"https://land.naver.com/article/groundPlan.nhn?rletNo=17616&cortarNo=4825010900\",\"쌍용스윗닷홈\")","v":"쌍용스윗닷홈"},2005.07,440,27.130303030303033,89.53,21.066666666666666,69.52,64,null,null,null,null,0,0,0,0,3,2,"계단식","89A"]
["[외동]",null,2,{"$f":"HYPERLINK(\"https://land.naver.com/article/groundPlan.nhn?rletNo=17616&cortarNo=4825010900\",\"쌍용스윗닷홈\")","v":"쌍용스윗닷홈"},2005.07,440,32.784848484848489,108.19,25.74848484848485,84.97,376,null,null,null,null,0,0,0,0,3,2,"계단식","108A"]
["[외동]",null,null,{"$f":"HYPERLINK(\"https://land.naver.com/article/groundPlan.nhn?rletNo=6379&cortarNo=4825010900\",\"동일\")","v":"동일"},1995.11,375,21.300000000000004,70.290000000000006,18.136363636363637,59.85,300,null,null,null,null,0,0,0,0,3,1,"계단식","70A"]
["[외동]",null,1,{"$f":"HYPERLINK(\"https://land.naver.com/article/groundPlan.nhn?rletNo=6319&cortarNo=4825010900\",\"서광\")","v":"서광"},1997.03,366,21.142424242424241,69.77,18.121212121212121,59.8,300,null,null,null,null,0,0,0,0,3,1,"계단식",69]
["[외동]",null,1,{"$f":"HYPERLINK(\"https://land.naver.com/article/groundPlan.nhn?rletNo=6346&cortarNo=4825010900\",\"외동조흥\")","v":"외동조흥"},1993.11,299,23.418181818181822,77.28,17.981818181818184,59.34,105,null,null,null,null,0,0,0,0,3,1,"계단식",77]
["[외동]",null,2,{"$f":"HYPERLINK(\"https://land.naver.com/article/groundPlan.nhn?rletNo=6346&cortarNo=4825010900\",\"외동조흥\")","v":"외동조흥"},1993.11,299,31.812121212121216,104.98,25.736363636363638,84.93,194,null,null,null,null,0,0,0,0,3,2,"계단식",104]
["[외동]",null,1,{"$f":"HYPERLINK(\"https://land.naver.com/article/groundPlan.nhn?rletNo=22918&cortarNo=4825010900\",\"한솔빌리지\")","v":"한솔빌리지"},2004.07,298,27.357575757575759,90.28,22.921212121212122,75.64,118,null,null,null,null,0,0,0,0,3,1,"계단식",90]
["[외동]",null,2,{"$f":"HYPERLINK(\"https://land.naver.com/article/groundPlan.nhn?rletNo=22918&cortarNo=4825010900\",\"한솔빌리지\")","v":"한솔빌리지"},2004.07,298,30.327272727272728,100.08,25.74848484848485,84.97,60,null,null,null,null,0,0,0,0,3,2,"계단식",100]
["[외동]",null,3,{"$f":"HYPERLINK(\"https://land.naver.com/article/groundPlan.nhn?rletNo=22918&cortarNo=4825010900\",\"한솔빌리지\")","v":"한솔빌리지"},2004.07,298,39.863636363636367,131.55000000000001,35.9,118.47,20,null,null,null,null,0,0,0,0,4,2,"계단식",131]
["[외동]",null,4,{"$f":"HYPERLINK(\"https://land.naver.com/article/groundPlan.nhn?rletNo=22918&cortarNo=4825010900\",\"한솔빌리지\")","v":"한솔빌리지"},2004.07,298,22.70606060606061,74.930000000000007,18.072727272727274,59.64,100,null,null,null,null,0,0,0,0,2,1,"계단식",74]
["[외동]",null,1,{"$f":"HYPERLINK(\"https://land.naver.com/article/groundPlan.nhn?rletNo=6316&cortarNo=4825010900\",\"동아그린\")","v":"동아그린"},1994.08,288,22.90606060606061,75.59,18.172727272727272,59.97,90,null,null,null,null,0,0,0,0,3,1,"계단식","75B"]
["[외동]",null,2,{"$f":"HYPERLINK(\"https://land.naver.com/article/groundPlan.nhn?rletNo=6316&cortarNo=4825010900\",\"동아그린\")","v":"동아그린"},1994.08,288,27.209090909090911,89.79,22.090909090909093,72.900000000000006,30,null,null,null,null,0,0,0,0,3,2,"계단식",89]
["[외동]",null,3,{"$f":"HYPERLINK(\"https://land.naver.com/article/groundPlan.nhn?rletNo=6316&cortarNo=4825010900\",\"동아그린\")","v":"동아그린"},1994.08,288,31.042424242424243,102.44,25.74848484848485,84.97,84,null,null,null,null,0,0,0,0,3,2,"계단식",102]
["[외동]",null,1,{"$f":"HYPERLINK(\"https://land.naver.com/article/groundPlan.nhn?rletNo=104079&cortarNo=4825010900\",\"김해외동이진캐스빌2차\")","v":"김해외동이진캐스빌2차"},2013.09,216,26.012121212121215,85.84,18.124242424242425,59.81,74,null,null,null,null,0,0,0,0,3,2,"계단식",85]
["[외동]",null,2,{"$f":"HYPERLINK(\"https://land.naver.com/article/groundPlan.nhn?rletNo=104079&cortarNo=4825010900\",\"김해외동이진캐스빌2차\")","v":"김해외동이진캐스빌2차"},2013.09,216,33.88787878787879,111.83,25.754545454545454,84.99,142,null,null,null,null,0,0,0,0,3,2,"계단식",111]
["[장유동]",null,1,{"$f":"HYPERLINK(\"https://land.naver.com/article/groundPlan.nhn?rletNo=115947&cortarNo=4825013200\",\"율하자이힐스테이트\")","v":"율하자이힐스테이트"},2019.05,1245,30.081818181818182,99.27,22.639393939393937,74.709999999999994,213,null,null,null,null,0,0,0,0,3,2,"계단식",99]
["[장유동]",null,2,{"$f":"HYPERLINK(\"https://land.naver.com/article/groundPlan.nhn?rletNo=115947&cortarNo=4825013200\",\"율하자이힐스테이트\")","v":"율하자이힐스테이트"},2019.05,1245,34.212121212121218,112.9,25.74848484848485,84.97,674,null,null,null,null,0,0,0,0,3,2,"계단식","112A"]
["[장유동]",null,1,"김해율하시티프라디움",2019.1,1081,33.030303030303031,109,25.757575757575758,85,null,null,null,null,null,0,0,0,0]
["[장유동]",null,1,{"$f":"HYPERLINK(\"https://land.naver.com/article/groundPlan.nhn?rletNo=115502&cortarNo=4825013200\",\"김해율하원메이저힐스테이트\")","v":"김해율하원메이저힐스테이트"},2018.12,1052,34.127272727272732,112.62,25.745454545454546,84.96,460,null,null,null,null,0,0,0,0,3,2,"계단식","112A"]
["[장유동]",null,2,{"$f":"HYPERLINK(\"https://land.naver.com/article/groundPlan.nhn?rletNo=115502&cortarNo=4825013200\",\"김해율하원메이저힐스테이트\")","v":"김해율하원메이저힐스테이트"},2018.12,1052,44.196969696969695,145.85,36.184848484848487,119.41,451,null,null,null,null,0,0,0,0,4,2,"계단식",145]
["[장유동]",null,1,{"$f":"HYPERLINK(\"https://land.naver.com/article/groundPlan.nhn?rletNo=115501&cortarNo=4825013200\",\"김해율하원메이저자이\")","v":"김해율하원메이저자이"},2018.12,708,25.321212121212124,83.56,18.17878787878788,59.99,198,null,null,null,null,0,0,0,0,3,2,"계단식","83A"]
["[장유동]",null,2,{"$f":"HYPERLINK(\"https://land.naver.com/article/groundPlan.nhn?rletNo=115501&cortarNo=4825013200\",\"김해율하원메이저자이\")","v":"김해율하원메이저자이"},2018.12,708,30.651515151515156,101.15,22.715151515151515,74.959999999999994,176,null,null,null,null,0,0,0,0,3,2,"계단식",101]
["[장유동]",null,3,{"$f":"HYPERLINK(\"https://land.naver.com/article/groundPlan.nhn?rletNo=115501&cortarNo=4825013200\",\"김해율하원메이저자이\")","v":"김해율하원메이저자이"},2018.12,708,34.263636363636365,113.07,25.745454545454546,84.96,234,null,null,null,null,0,0,0,0,3,2,"계단식","113A"]
["[장유동]",null,1,{"$f":"HYPERLINK(\"https://land.naver.com/article/groundPlan.nhn?rletNo=115478&cortarNo=4825013200\",\"김해율하원메이저푸르지오\")","v":"김해율하원메이저푸르지오"},2018.12,631,30.642424242424244,101.12,22.715151515151515,74.959999999999994,92,null,null,null,null,0,0,0,0,3,2,"계단식",101]
["[장유동]",null,2,{"$f":"HYPERLINK(\"https://land.naver.com/article/groundPlan.nhn?rletNo=115478&cortarNo=4825013200\",\"김해율하원메이저푸르지오\")","v":"김해율하원메이저푸르지오"},2018.12,631,34.363636363636367,113.4,25.745454545454546,84.96,297,null,null,null,null,0,0,0,0,3,2,"계단식","113A"]
["[주촌면]",null,1,{"$f":"HYPERLINK(\"https://land.naver.com/article/groundPlan.nhn?rletNo=112477&cortarNo=4825032000\",\"김해센텀두산위브더제니스\")","v":"김해센텀두산위브더제니스"},2019.02,3435,24.612121212121213,81.22,18.154545454545456,59.91,338,null,null,null,null,0,0,0,0,3,2,"계단식","81A"]
["[주촌면]",null,2,{"$f":"HYPERLINK(\"https://land.naver.com/article/groundPlan.nhn?rletNo=112477&cortarNo=4825032000\",\"김해센텀두산위브더제니스\")","v":"김해센텀두산위브더제니스"},2019.02,3435,30.560606060606059,100.85,23.006060606060608,75.92,1563,null,null,null,null,0,0,0,0,3,2,"계단식","100A"]
["[주촌면]",null,3,{"$f":"HYPERLINK(\"https://land.naver.com/article/groundPlan.nhn?rletNo=112477&cortarNo=4825032000\",\"김해센텀두산위브더제니스\")","v":"김해센텀두산위브더제니스"},2019.02,3435,34.366666666666667,113.41,25.751515151515154,84.98,600,null,null,null,null,0,0,0,0,3,2,"계단식","113A"]
["[주촌면]",null,4,{"$f":"HYPERLINK(\"https://land.naver.com/article/groundPlan.nhn?rletNo=112477&cortarNo=4825032000\",\"김해센텀두산위브더제니스\")","v":"김해센텀두산위브더제니스"},2019.02,3435,42.275757575757574,139.51,32.306060606060605,106.61,165,null,null,null,null,0,0,0,0,4,2,"계단식",139]
["[주촌면]",null,1,{"$f":"HYPERLINK(\"https://land.naver.com/article/groundPlan.nhn?rletNo=109930&cortarNo=4825032000\",\"김해센텀큐시티\")","v":"김해센텀큐시티"},2018.05,1518,26.239393939393942,86.59,18.169696969696972,59.96,282,null,null,null,null,0,0,0,0,3,2,"계단식","86B"]
["[주촌면]",null,2,{"$f":"HYPERLINK(\"https://land.naver.com/article/groundPlan.nhn?rletNo=109930&cortarNo=4825032000\",\"김해센텀큐시티\")","v":"김해센텀큐시티"},2018.05,1518,28.415151515151514,93.77,20.581818181818182,67.92,394,null,null,null,null,0,0,0,0,3,2,"계단식",93]
["[주촌면]",null,3,{"$f":"HYPERLINK(\"https://land.naver.com/article/groundPlan.nhn?rletNo=109930&cortarNo=4825032000\",\"김해센텀큐시티\")","v":"김해센텀큐시티"},2018.05,1518,31.542424242424246,104.09,23.58787878787879,77.84,184,null,null,null,null,0,0,0,0,3,2,"계단식","104B"]
["[주촌면]",null,4,{"$f":"HYPERLINK(\"https://land.naver.com/article/groundPlan.nhn?rletNo=109930&cortarNo=4825032000\",\"김해센텀큐시티\")","v":"김해센텀큐시티"},2018.05,1518,33.924242424242429,111.95,25.742424242424246,84.95,196,null,null,null,null,0,0,0,0,3,2,"계단식",111]
["[주촌면]",null,1,"김해주촌두산위브더제니스",2019.11,851,26.666666666666668,88,20.606060606060606,68,57,null,null,null,null,0,0,0,0,3,2,"계단식"]
["[주촌면]",null,2,"김해주촌두산위브더제니스",2019.11,851,33.030303030303031,109,25.757575757575758,85,508,null,null,null,null,0,0,0,0,3,2,"계단식"]
["[진영읍]",null,1,{"$f":"HYPERLINK(\"https://land.naver.com/article/groundPlan.nhn?rletNo=115475&cortarNo=4825025000\",\"김해진영2지구중흥S-클래스에코시티\")","v":"김해진영2지구중흥S-클래스에코시티"},2019.03,1521,31.715151515151515,104.66,24.23030303030303,79.959999999999994,200,null,null,null,null,0,0,0,0,3,2,"계단식",104]
["[진영읍]",null,2,{"$f":"HYPERLINK(\"https://land.naver.com/article/groundPlan.nhn?rletNo=115475&cortarNo=4825025000\",\"김해진영2지구중흥S-클래스에코시티\")","v":"김해진영2지구중흥S-클래스에코시티"},2019.03,1521,33.660606060606064,111.08,25.742424242424246,84.95,693,null,null,null,null,0,0,0,0,3,2,"계단식","111A"]
["[진영읍]",null,3,{"$f":"HYPERLINK(\"https://land.naver.com/article/groundPlan.nhn?rletNo=115475&cortarNo=4825025000\",\"김해진영2지구중흥S-클래스에코시티\")","v":"김해진영2지구중흥S-클래스에코시티"},2019.03,1521,39.1,129.03,30.20606060606061,99.68,180,null,null,null,null,0,0,0,0,4,2,"계단식",129]
["[진영읍]",null,4,{"$f":"HYPERLINK(\"https://land.naver.com/article/groundPlan.nhn?rletNo=115475&cortarNo=4825025000\",\"김해진영2지구중흥S-클래스에코시티\")","v":"김해진영2지구중흥S-클래스에코시티"},2019.03,1521,43.412121212121214,143.26,33.463636363636368,110.43,84,null,null,null,null,0,0,0,0,4,2,"계단식",143]
["[진영읍]",null,1,{"$f":"HYPERLINK(\"https://land.naver.com/article/groundPlan.nhn?rletNo=24994&cortarNo=4825025000\",\"진영중흥S-클래스1단지\")","v":"진영중흥S-클래스1단지"},2006.02,1380,24.600000000000005,81.180000000000007,18.172727272727272,59.97,1380,null,null,null,null,0,0,0,0,3,2,"복합식",81]
["[진영읍]",null,1,{"$f":"HYPERLINK(\"https://land.naver.com/article/groundPlan.nhn?rletNo=108476&cortarNo=4825025000\",\"진영이진캐스빌\")","v":"진영이진캐스빌"},2017.05,992,28.76969696969697,94.94,21.454545454545453,70.8,183,null,null,null,null,0,0,0,0,3,2,"계단식","94A"]
["[진영읍]",null,2,{"$f":"HYPERLINK(\"https://land.naver.com/article/groundPlan.nhn?rletNo=108476&cortarNo=4825025000\",\"진영이진캐스빌\")","v":"진영이진캐스빌"},2017.05,992,34.269696969696973,113.09,25.74848484848485,84.97,378,null,null,null,null,0,0,0,0,3,2,"계단식","113A"]
["[진영읍]",null,1,{"$f":"HYPERLINK(\"https://land.naver.com/article/groundPlan.nhn?rletNo=24973&cortarNo=4825025000\",\"진영자이\")","v":"진영자이"},2007.12,977,31.063636363636366,102.51,22.981818181818184,75.84,116,null,null,null,null,0,0,0,0,3,2,"계단식",102]
["[진영읍]",null,2,{"$f":"HYPERLINK(\"https://land.naver.com/article/groundPlan.nhn?rletNo=24973&cortarNo=4825025000\",\"진영자이\")","v":"진영자이"},2007.12,977,35.381818181818183,116.76,25.745454545454546,84.96,338,null,null,null,null,0,0,0,0,3,2,"계단식","116D"]
["[진영읍]",null,1,{"$f":"HYPERLINK(\"https://land.naver.com/article/groundPlan.nhn?rletNo=25932&cortarNo=4825025000\",\"김해진영코아루\")","v":"김해진영코아루"},2007.09,953,29.22727272727273,96.45,22.130303030303033,73.03,89,null,null,null,null,0,0,0,0,3,2,"계단식",96]
["[진영읍]",null,2,{"$f":"HYPERLINK(\"https://land.naver.com/article/groundPlan.nhn?rletNo=25932&cortarNo=4825025000\",\"김해진영코아루\")","v":"김해진영코아루"},2007.09,953,35.154545454545456,116.01,25.739393939393938,84.94,358,null,null,null,null,0,0,0,0,3,2,"계단식","116A"]
["[진영읍]",null,3,{"$f":"HYPERLINK(\"https://land.naver.com/article/groundPlan.nhn?rletNo=25932&cortarNo=4825025000\",\"김해진영코아루\")","v":"김해진영코아루"},2007.09,953,46.915151515151514,154.82,36.684848484848487,121.06,224,null,null,null,null,0,0,0,0,4,2,"계단식",154]
["[진영읍]",null,1,{"$f":"HYPERLINK(\"https://land.naver.com/article/groundPlan.nhn?rletNo=13809&cortarNo=4825025000\",\"진영중흥S-클래스2단지\")","v":"진영중흥S-클래스2단지"},2006.02,630,28.618181818181817,94.44,22.460606060606064,74.12,124,null,null,null,null,0,0,0,0,3,2,"복합식",94]
["[진영읍]",null,2,{"$f":"HYPERLINK(\"https://land.naver.com/article/groundPlan.nhn?rletNo=13809&cortarNo=4825025000\",\"진영중흥S-클래스2단지\")","v":"진영중흥S-클래스2단지"},2006.02,630,33.084848484848486,109.18,25.745454545454546,84.96,276,null,null,null,null,0,0,0,0,3,2,"계단식","109A"]
["[진영읍]",null,1,{"$f":"HYPERLINK(\"https://land.naver.com/article/groundPlan.nhn?rletNo=109578&cortarNo=4825025000\",\"협성휴포레진영\")","v":"협성휴포레진영"},2017.03,534,26.609090909090913,87.81,20.415151515151518,67.37,224,null,null,null,null,0,0,0,0,3,2,"계단식",87]
["[진영읍]",null,2,{"$f":"HYPERLINK(\"https://land.naver.com/article/groundPlan.nhn?rletNo=109578&cortarNo=4825025000\",\"협성휴포레진영\")","v":"협성휴포레진영"},2017.03,534,30.239393939393942,99.79,23.239393939393938,76.69,76,null,null,null,null,0,0,0,0,3,2,"계단식",99]
["[진영읍]",null,1,{"$f":"HYPERLINK(\"https://land.naver.com/article/groundPlan.nhn?rletNo=106122&cortarNo=4825025000\",\"김해진영동문굿모닝힐1차\")","v":"김해진영동문굿모닝힐1차"},2015.1,503,24.936363636363641,82.29,18.169696969696972,59.96,101,null,null,null,null,0,0,0,0,3,2,"계단식",82]
["[진영읍]",null,2,{"$f":"HYPERLINK(\"https://land.naver.com/article/groundPlan.nhn?rletNo=106122&cortarNo=4825025000\",\"김해진영동문굿모닝힐1차\")","v":"김해진영동문굿모닝힐1차"},2015.1,503,29.009090909090911,95.73,21.990909090909089,72.569999999999993,208,null,null,null,null,0,0,0,0,3,2,"계단식","95A"]
["[진영읍]",null,1,{"$f":"HYPERLINK(\"https://land.naver.com/article/groundPlan.nhn?rletNo=110829&cortarNo=4825025000\",\"김해진영휴먼빌\")","v":"김해진영휴먼빌"},2016.1,497,27.518181818181819,90.81,{"$f":"J616/3.3","v":20.584848484848489},67.930000000000007,144,null,null,null,null,0,0,0,0,3,2,"계단식",90]
["[진영읍]",null,2,{"$f":"HYPERLINK(\"https://land.naver.com/article/groundPlan.nhn?rletNo=110829&cortarNo=4825025000\",\"김해진영휴먼빌\")","v":"김해진영휴먼빌"},2016.1,497,34.315151515151513,113.24,25.754545454545454,84.99,281,null,null,null,null,0,0,0,0,3,2,"계단식","113A"]
["[진영읍]",null,1,{"$f":"HYPERLINK(\"https://land.naver.com/article/groundPlan.nhn?rletNo=15427&cortarNo=4825025000\",\"협성팔레스타운\")","v":"협성팔레스타운"},2001.12,465,18.100000000000001,59.73,13.290909090909091,43.86,30,null,null,null,null,0,0,0,0,2,1,"계단식",59]
["[진영읍]",null,2,{"$f":"HYPERLINK(\"https://land.naver.com/article/groundPlan.nhn?rletNo=15427&cortarNo=4825025000\",\"협성팔레스타운\")","v":"협성팔레스타운"},2001.12,465,23.3,76.89,18.106060606060606,59.75,285,null,null,null,null,0,0,0,0,3,1,"계단식",76]
["[진영읍]",null,3,{"$f":"HYPERLINK(\"https://land.naver.com/article/groundPlan.nhn?rletNo=15427&cortarNo=4825025000\",\"협성팔레스타운\")","v":"협성팔레스타운"},2001.12,465,{"$f":"H620/3.3","v":28.136363636363637},92.85,22.581818181818182,74.52,90,null,null,null,null,0,0,0,0,3,2,"계단식",92]
["[진영읍]",null,4,{"$f":"HYPERLINK(\"https://land.naver.com/article/groundPlan.nhn?rletNo=15427&cortarNo=4825025000\",\"협성팔레스타운\")","v":"협성팔레스타운"},2001.12,465,31.966666666666669,105.49,25.715151515151515,84.86,30,null,null,null,null,0,0,0,0,3,2,"계단식",105]
["[진영읍]",null,1,{"$f":"HYPERLINK(\"https://land.naver.com/article/groundPlan.nhn?rletNo=112670&cortarNo=4825025000\",\"진영한림풀에버1단지\")","v":"진영한림풀에버1단지"},2018.06,350,24.760606060606062,81.709999999999994,18.16060606060606,59.93,92,null,null,null,null,0,0,0,0,3,2,"계단식",81]
["[진영읍]",null,2,{"$f":"HYPERLINK(\"https://land.naver.com/article/groundPlan.nhn?rletNo=112670&cortarNo=4825025000\",\"진영한림풀에버1단지\")","v":"진영한림풀에버1단지"},2018.06,350,30.669696969696968,101.21,22.70606060606061,74.930000000000007,155,null,null,null,null,0,0,0,0,3,2,"계단식","101B"]
["[진영읍]",null,1,{"$f":"HYPERLINK(\"https://land.naver.com/article/groundPlan.nhn?rletNo=10303&cortarNo=4825025000\",\"진영거성\")","v":"진영거성"},1997.07,342,21.954545454545457,72.45,17.772727272727273,58.65,252,null,null,null,null,0,0,0,0,3,1,"계단식","72A"]
["[진영읍]",null,2,{"$f":"HYPERLINK(\"https://land.naver.com/article/groundPlan.nhn?rletNo=10303&cortarNo=4825025000\",\"진영거성\")","v":"진영거성"},1997.07,342,32.733333333333334,108.02,28.724242424242426,94.79,18,null,null,null,null,0,0,0,0,3,2,"계단식",108]
["[진영읍]",null,1,{"$f":"HYPERLINK(\"https://land.naver.com/article/groundPlan.nhn?rletNo=24913&cortarNo=4825025000\",\"동창원IC하우스토리\")","v":"동창원IC하우스토리"},2008.03,325,34.13636363636364,112.65,25.73030303030303,84.91,146,null,null,null,null,0,0,0,0,3,2,"계단식",112]
["[진영읍]",null,2,{"$f":"HYPERLINK(\"https://land.naver.com/article/groundPlan.nhn?rletNo=24913&cortarNo=4825025000\",\"동창원IC하우스토리\")","v":"동창원IC하우스토리"},2008.03,325,47.336363636363643,156.21,38.375757575757575,126.64,179,null,null,null,null,0,0,0,0,4,2,"계단식",156]
["[진영읍]",null,1,{"$f":"HYPERLINK(\"https://land.naver.com/article/groundPlan.nhn?rletNo=108519&cortarNo=4825025000\",\"신우희가로\")","v":"신우희가로"},2016.01,299,28.669696969696972,94.61,20.781818181818181,68.58,86,null,null,null,null,0,0,0,0,3,2,"계단식",94]
["[진영읍]",null,2,{"$f":"HYPERLINK(\"https://land.naver.com/article/groundPlan.nhn?rletNo=108519&cortarNo=4825025000\",\"신우희가로\")","v":"신우희가로"},2016.01,299,31.233333333333334,103.07,22.68181818181818,74.849999999999994,213,null,null,null,null,0,0,0,0,3,2,"계단식",103]
["[진영읍]",null,1,{"$f":"HYPERLINK(\"https://land.naver.com/article/groundPlan.nhn?rletNo=101705&cortarNo=4825025000\",\"세일\")","v":"세일"},2001.11,288,23.130303030303033,76.33,18.078787878787878,59.66,192,null,null,null,null,0,0,0,0,2,1,"계단식",76]
["[진영읍]",null,2,{"$f":"HYPERLINK(\"https://land.naver.com/article/groundPlan.nhn?rletNo=101705&cortarNo=4825025000\",\"세일\")","v":"세일"},2001.11,288,32.642424242424241,107.72,25.512121212121212,84.19,96,null,null,null,null,0,0,0,0,3,2,"계단식",107]
["[진영읍]",null,1,{"$f":"HYPERLINK(\"https://land.naver.com/article/groundPlan.nhn?rletNo=106158&cortarNo=4825025000\",\"김해진영마루애\")","v":"김해진영마루애"},2014.05,265,24.436363636363637,80.64,18.17878787878788,59.99,63,null,null,null,null,0,0,0,0,3,1,"계단식","80C"]
["[진영읍]",null,2,{"$f":"HYPERLINK(\"https://land.naver.com/article/groundPlan.nhn?rletNo=106158&cortarNo=4825025000\",\"김해진영마루애\")","v":"김해진영마루애"},2014.05,265,34.160606060606064,112.73,25.630303030303033,84.58,179,null,null,null,null,0,0,0,0,3,2,"계단식","112A"]
["[진영읍]",null,1,{"$f":"HYPERLINK(\"https://land.naver.com/article/groundPlan.nhn?rletNo=112669&cortarNo=4825025000\",\"김해진영한림풀에버2단지\")","v":"김해진영한림풀에버2단지"},2018.06,237,24.436363636363637,80.64,18.16060606060606,59.93,34,null,null,null,null,0,0,0,0,3,2,"계단식",80]
["[진영읍]",null,2,{"$f":"HYPERLINK(\"https://land.naver.com/article/groundPlan.nhn?rletNo=112669&cortarNo=4825025000\",\"김해진영한림풀에버2단지\")","v":"김해진영한림풀에버2단지"},2018.06,237,30.266666666666666,99.88,22.70606060606061,74.930000000000007,62,null,null,null,null,0,0,0,0,3,2,"계단식","99B"]
["[진영읍]",null,3,{"$f":"HYPERLINK(\"https://land.naver.com/article/groundPlan.nhn?rletNo=112669&cortarNo=4825025000\",\"김해진영한림풀에버2단지\")","v":"김해진영한림풀에버2단지"},2018.06,237,34.203030303030303,112.87,25.74848484848485,84.97,141,null,null,null,null,0,0,0,0,3,2,"계단식",112]
["[전하동]",null,1,{"$f":"HYPERLINK(\"https://land.naver.com/article/groundPlan.nhn?rletNo=6405&cortarNo=4825011500\",\"반도보라\")","v":"반도보라"},1998.01,446,23.493939393939396,77.53,18.163636363636364,59.94,176,null,null,null,null,0,0,0,0,3,1,"계단식",77]
["[전하동]",null,2,{"$f":"HYPERLINK(\"https://land.naver.com/article/groundPlan.nhn?rletNo=6405&cortarNo=4825011500\",\"반도보라\")","v":"반도보라"},1998.01,446,31.187878787878791,102.92,25.712121212121211,84.85,270,null,null,null,null,0,0,0,0,3,2,"계단식",102]
["[풍유동]",112459,2,{"$f":"HYPERLINK(\"https://land.naver.com/article/groundPlan.nhn?rletNo=112459&cortarNo=4825011100\",\"청담\")","v":"청담"},2012.12,56,24.91,82.34,22.37,73.95,8,null,null,null,null,0,0,0,0,3,1,"계단식",82]
["[풍유동]",112459,1,"청담",2012.12,56,24.21,80.02,21.72,71.790000000000006,1,null,null,null,null,0,0,0,0,3,1,"계단식",80]
["[풍유동]",112459,3,"청담",2012.12,56,27.82,91.96,24.98,82.59,1,null,null,null,null,0,0,0,0,3,2,"계단식","91A"]
["[풍유동]",112459,4,"청담",2012.12,56,28.1,92.88,25.2,83.29,8,null,null,null,null,0,0,0,0,3,2,"계단식","92D"]
["[풍유동]",112459,5,"청담",2012.12,56,28.27,93.46,25.39,83.94,9,null,null,null,null,0,0,0,0,3,2,"계단식","93B"]
["[풍유동]",112459,6,"청담",2012.12,56,28.29,93.52,25.06,82.84,18,null,null,null,null,0,0,0,0,3,2,"계단식","93C"]
["[풍유동]",112459,7,"청담",2012.12,56,28.43,93.97,25.49,84.27,10,null,null,null,null,0,0,0,0,3,2,"계단식","93E"]
["[풍유동]",112459,8,"청담",2012.12,56,28.53,94.32,25.59,84.58,1,null,null,null,null,0,0,0,0,3,2,"복합식",94]
["[풍유동]",121962,1,{"$f":"HYPERLINK(\"https://land.naver.com/article/groundPlan.nhn?rletNo=121962&cortarNo=4825011100\",\"청호아트빌\")","v":"청호아트빌"},2003.02,76,32.35,106.94,25.66,84.81,38,null,null,null,null,0,0,0,0,3,2,"계단식",106]
["[풍유동]",121962,2,{"$f":"HYPERLINK(\"https://land.naver.com/article/groundPlan.nhn?rletNo=121962&cortarNo=4825011100\",\"청호아트빌\")","v":"청호아트빌"},2003.02,76,32.61,107.81,25.71,84.98,38,null,null,null,null,0,0,0,0,3,2,"계단식",107]
["[지내동]",123366,3,{"$f":"HYPERLINK(\"https://land.naver.com/article/groundPlan.nhn?rletNo=123366&cortarNo=4825012100\",\"동원하우스\")","v":"동원하우스"},2011.1,14,28.63,94.66,24.96,82.5,1,null,null,null,null,0,0,0,0,3,2,"계단식","94A"]
["[지내동]",105195,1,{"$f":"HYPERLINK(\"https://land.naver.com/article/groundPlan.nhn?rletNo=105195&cortarNo=4825012100\",\"지내양지마을동원2차\")","v":"지내양지마을동원2차"},2002.05,605,23.22,76.75,17.989999999999998,59.48,292,null,null,null,null,0,0,0,0,3,1,"계단식",76]
["[지내동]",105195,2,{"$f":"HYPERLINK(\"https://land.naver.com/article/groundPlan.nhn?rletNo=105195&cortarNo=4825012100\",\"지내양지마을동원2차\")","v":"지내양지마을동원2차"},2002.05,605,26.2,86.62,20.46,67.650000000000006,43,null,null,null,null,0,0,0,0,3,2,"계단식",86]
["[지내동]",105195,3,{"$f":"HYPERLINK(\"https://land.naver.com/article/groundPlan.nhn?rletNo=105195&cortarNo=4825012100\",\"지내양지마을동원2차\")","v":"지내양지마을동원2차"},2002.05,605,29.81,98.54,24.2,80,210,null,null,null,null,0,0,0,0,3,2,"계단식",98]
["[지내동]",105195,4,{"$f":"HYPERLINK(\"https://land.naver.com/article/groundPlan.nhn?rletNo=105195&cortarNo=4825012100\",\"지내양지마을동원2차\")","v":"지내양지마을동원2차"},2002.05,605,31.19,103.1,24.41,80.709999999999994,45,null,null,null,null,0,0,0,0,3,2,"계단식",103]
["[지내동]",105195,5,{"$f":"HYPERLINK(\"https://land.naver.com/article/groundPlan.nhn?rletNo=105195&cortarNo=4825012100\",\"지내양지마을동원2차\")","v":"지내양지마을동원2차"},2002.05,605,32.75,108.26,24.2,80,15,null,null,null,null,0,0,0,0,3,2,"계단식",108]
["[지내동]",108277,1,{"$f":"HYPERLINK(\"https://land.naver.com/article/groundPlan.nhn?rletNo=108277&cortarNo=4825012100\",\"동원4차\")","v":"동원4차"},2004.07,27,25.03,82.74,18.12,59.91,27,null,null,null,null,0,0,0,0,3,1,"계단식",82]
["[지내동]",108279,1,{"$f":"HYPERLINK(\"https://land.naver.com/article/groundPlan.nhn?rletNo=108279&cortarNo=4825012100\",\"스타뷰\")","v":"스타뷰"},2013.02,47,32.22,106.5,25.7,84.97,47,null,null,null,null,0,0,0,0,3,2,"복합식",106]
["[지내동]",11280,1,{"$f":"HYPERLINK(\"https://land.naver.com/article/groundPlan.nhn?rletNo=11280&cortarNo=4825012100\",\"21세기(동원3차)\")","v":"21세기(동원3차)"},2003.05,172,23.25,76.849999999999994,18.02,59.56,172,null,null,null,null,0,0,0,0,3,2,"계단식",76]
["[지내동]",114841,1,{"$f":"HYPERLINK(\"https://land.naver.com/article/groundPlan.nhn?rletNo=114841&cortarNo=4825012100\",\"성민\")","v":"성민"},2003.01,19,28.68,94.81,25.46,84.17,15,null,null,null,null,0,0,0,0,3,2,"계단식","94A"]
["[지내동]",114841,2,{"$f":"HYPERLINK(\"https://land.naver.com/article/groundPlan.nhn?rletNo=114841&cortarNo=4825012100\",\"성민\")","v":"성민"},2003.01,19,28.94,95.66,25.69,84.93,4,null,null,null,null,0,0,0,0,3,2,"계단식","95B"]
["[지내동]",123366,1,{"$f":"HYPERLINK(\"https://land.naver.com/article/groundPlan.nhn?rletNo=123366&cortarNo=4825012100\",\"동원하우스\")","v":"동원하우스"},2011.1,14,23,76.040000000000006,20.05,66.27,1,null,null,null,null,0,0,0,0,3,1,"계단식",76]
["[지내동]",123366,2,{"$f":"HYPERLINK(\"https://land.naver.com/article/groundPlan.nhn?rletNo=123366&cortarNo=4825012100\",\"동원하우스\")","v":"동원하우스"},2011.1,14,28.34,93.7,24.7,81.66,1,null,null,null,null,0,0,0,0,3,2,"계단식",93]
["[지내동]",123366,4,{"$f":"HYPERLINK(\"https://land.naver.com/article/groundPlan.nhn?rletNo=123366&cortarNo=4825012100\",\"동원하우스\")","v":"동원하우스"},2011.1,14,29.2,96.52,25.45,84.12,5,null,null,null,null,0,0,0,0,3,2,"계단식","96B"]
["[지내동]",123366,5,{"$f":"HYPERLINK(\"https://land.naver.com/article/groundPlan.nhn?rletNo=123366&cortarNo=4825012100\",\"동원하우스\")","v":"동원하우스"},2011.1,14,29.38,97.11,25.6,84.63,6,null,null,null,null,0,0,0,0,3,2,"계단식","97C"]
["[지내동]",16589,1,{"$f":"HYPERLINK(\"https://land.naver.com/article/groundPlan.nhn?rletNo=16589&cortarNo=4825012100\",\"대영맨션\")","v":"대영맨션"},1989.1,71,25,82.65,22.27,73.61,59,null,null,null,null,0,0,0,0,3,1,"계단식",82]
["[지내동]",16589,2,{"$f":"HYPERLINK(\"https://land.naver.com/article/groundPlan.nhn?rletNo=16589&cortarNo=4825012100\",\"대영맨션\")","v":"대영맨션"},1989.1,71,26,85.95,23.22,76.760000000000005,12,null,null,null,null,0,0,0,0,3,1,"계단식",85]
["[지내동]",23926,1,{"$f":"HYPERLINK(\"https://land.naver.com/article/groundPlan.nhn?rletNo=23926&cortarNo=4825012100\",\"청솔1차\")","v":"청솔1차"},2004.04,19,23.58,77.94,21.44,70.88,2,null,null,null,null,0,0,0,0,2,1,"계단식",77]
["[지내동]",23926,2,{"$f":"HYPERLINK(\"https://land.naver.com/article/groundPlan.nhn?rletNo=23926&cortarNo=4825012100\",\"청솔1차\")","v":"청솔1차"},2004.04,19,28.27,93.44,25.71,84.98,17,null,null,null,null,0,0,0,0,3,1,"계단식",93]
["[지내동]",26335,1,{"$f":"HYPERLINK(\"https://land.naver.com/article/groundPlan.nhn?rletNo=26335&cortarNo=4825012100\",\"청솔2차\")","v":"청솔2차"},2007.09,54,33.08,109.34,25.71,84.99,54,null,null,null,null,0,0,0,0,3,2,"복합식",109]
["[지내동]",6409,1,{"$f":"HYPERLINK(\"https://land.naver.com/article/groundPlan.nhn?rletNo=6409&cortarNo=4825012100\",\"동원1차\")","v":"동원1차"},2000.04,810,22.1,73.069999999999993,18.079999999999998,59.76,300,null,null,null,null,0,0,0,0,3,1,"계단식",73]
["[지내동]",6409,2,"동원1차",2000.04,810,28.14,93.02,23.43,77.45,60,null,null,null,null,0,0,0,0,3,2,"복도식",93]
["[지내동]",6409,3,"동원1차",2000.04,810,29.72,98.24,25.69,84.93,330,null,null,null,null,0,0,0,0,3,2,"계단식",98]
["[지내동]",6409,4,"동원1차",2000.04,810,30.72,101.56,25.58,84.56,15,null,null,null,null,0,0,0,0,3,2,"복도식","101A"]
["[지내동]",6409,5,"동원1차",2000.04,810,30.86,102.01,25.69,84.93,60,null,null,null,null,0,0,0,0,3,2,"복도식","102C"]
["[지내동]",6409,6,"동원1차",2000.04,810,30.88,102.08,25.71,84.99,45,null,null,null,null,0,0,0,0,3,2,"복도식","102B"]
["[지내동]",120592,1,{"$f":"HYPERLINK(\"https://land.naver.com/article/groundPlan.nhn?rletNo=120592&cortarNo=4825012100\",\"태림리치몬드하임\")","v":"태림리치몬드하임"},2017.12,49,25.74,85.09,18.420000000000002,60.9,12,null,null,null,null,0,0,0,0,3,2,"계단식",85]
["[지내동]",120592,2,{"$f":"HYPERLINK(\"https://land.naver.com/article/groundPlan.nhn?rletNo=120592&cortarNo=4825012100\",\"태림리치몬드하임\")","v":"태림리치몬드하임"},2017.12,49,31.22,103.21,23.82,78.75,13,null,null,null,null,0,0,0,0,3,2,"계단식",103]
["[지내동]",120592,3,{"$f":"HYPERLINK(\"https://land.naver.com/article/groundPlan.nhn?rletNo=120592&cortarNo=4825012100\",\"태림리치몬드하임\")","v":"태림리치몬드하임"},2017.12,49,33.33,110.18,24.1,79.66,24,null,null,null,null,0,0,0,0,3,2,"계단식",110]
["[한림면]",23658,1,{"$f":"HYPERLINK(\"https://land.naver.com/article/groundPlan.nhn?rletNo=23658&cortarNo=4825034000\",\"청원한마을\")","v":"청원한마을"},1998.01,150,18.899999999999999,62.47,15.1,49.92,50,null,null,null,null,0,0,0,0,2,1,"계단식",62]
["[한림면]",23658,2,{"$f":"HYPERLINK(\"https://land.naver.com/article/groundPlan.nhn?rletNo=23658&cortarNo=4825034000\",\"청원한마을\")","v":"청원한마을"},1998.01,150,22.67,74.95,18.12,59.89,100,null,null,null,null,0,0,0,0,3,2,"계단식",74]
["[흥동]",105584,1,{"$f":"HYPERLINK(\"https://land.naver.com/article/groundPlan.nhn?rletNo=105584&cortarNo=4825011000\",\"나경디아너스\")","v":"나경디아너스"},2012.03,17,31.28,103.39,25.41,84,8,null,null,null,null,0,0,0,0,3,2,"계단식",103]
["[흥동]",105163,1,{"$f":"HYPERLINK(\"https://land.naver.com/article/groundPlan.nhn?rletNo=105163&cortarNo=4825011000\",\"청호그린\")","v":"청호그린"},2001.06,108,30.13,99.6,25.71,84.99,38,null,null,null,null,0,0,0,0,3,2,"계단식","99B"]
["[흥동]",105163,2,{"$f":"HYPERLINK(\"https://land.naver.com/article/groundPlan.nhn?rletNo=105163&cortarNo=4825011000\",\"청호그린\")","v":"청호그린"},2001.06,108,30.3,100.17,25.71,84.99,19,null,null,null,null,0,0,0,0,3,2,"계단식","100A"]
["[흥동]",105163,3,{"$f":"HYPERLINK(\"https://land.naver.com/article/groundPlan.nhn?rletNo=105163&cortarNo=4825011000\",\"청호그린\")","v":"청호그린"},2001.06,108,30.54,100.97,25.71,84.99,36,null,null,null,null,0,0,0,0,3,2,"계단식",100]
["[흥동]",105163,4,{"$f":"HYPERLINK(\"https://land.naver.com/article/groundPlan.nhn?rletNo=105163&cortarNo=4825011000\",\"청호그린\")","v":"청호그린"},2001.06,108,31.81,105.15,25.71,84.99,15,null,null,null,null,0,0,0,0,3,2,"계단식",105]
["[흥동]",105584,2,{"$f":"HYPERLINK(\"https://land.naver.com/article/groundPlan.nhn?rletNo=105584&cortarNo=4825011000\",\"나경디아너스\")","v":"나경디아너스"},2012.03,17,31.57,104.36,25.67,84.87,9,null,null,null,null,0,0,0,0,3,2,"복합식",104]
["[흥동]",108717,1,{"$f":"HYPERLINK(\"https://land.naver.com/article/groundPlan.nhn?rletNo=108717&cortarNo=4825011000\",\"두산프리빌리지\")","v":"두산프리빌리지"},2003.11,14,29.7,98.18,25.51,84.33,14,null,null,null,null,0,0,0,0,3,2,"계단식",98]
["[흥동]",108719,1,{"$f":"HYPERLINK(\"https://land.naver.com/article/groundPlan.nhn?rletNo=108719&cortarNo=4825011000\",\"청운\")","v":"청운"},2003.06,31,32.72,108.18,25.52,84.38,31,null,null,null,null,0,0,0,0,3,2,"계단식",108]
["[흥동]",108722,1,{"$f":"HYPERLINK(\"https://land.naver.com/article/groundPlan.nhn?rletNo=108722&cortarNo=4825011000\",\"한빛드림빌\")","v":"한빛드림빌"},2001.09,17,36.43,120.43,32.78,108.38,17,null,null,null,null,0,0,0,0,3,2,"계단식",120]
["[흥동]",112267,1,{"$f":"HYPERLINK(\"https://land.naver.com/article/groundPlan.nhn?rletNo=112267&cortarNo=4825011000\",\"청호아트빌(101동)\")","v":"청호아트빌(101동)"},2002.07,19,41.52,137.27000000000001,36.83,121.74,19,null,null,null,null,0,0,0,0,3,2,"계단식",137]
["[흥동]",115560,1,{"$f":"HYPERLINK(\"https://land.naver.com/article/groundPlan.nhn?rletNo=115560&cortarNo=4825011000\",\"한빛타운\")","v":"한빛타운"},2003.08,55,33.31,110.13,29.58,97.8,18,null,null,null,null,0,0,0,0,3,2,"복합식",110]
["[흥동]",115560,2,{"$f":"HYPERLINK(\"https://land.naver.com/article/groundPlan.nhn?rletNo=115560&cortarNo=4825011000\",\"한빛타운\")","v":"한빛타운"},2003.08,55,38.99,128.88,35.53,117.45,18,null,null,null,null,0,0,0,0,3,2,"복합식",128]
["[흥동]",115560,3,{"$f":"HYPERLINK(\"https://land.naver.com/article/groundPlan.nhn?rletNo=115560&cortarNo=4825011000\",\"한빛타운\")","v":"한빛타운"},2003.08,55,43.35,143.31,39.36,130.11000000000001,19,null,null,null,null,0,0,0,0,4,2,"복합식",143]
["[흥동]",117545,1,{"$f":"HYPERLINK(\"https://land.naver.com/article/groundPlan.nhn?rletNo=117545&cortarNo=4825011000\",\"두산임호빌\")","v":"두산임호빌"},2003.07,18,29.78,98.44,25.64,84.77,18,null,null,null,null,0,0,0,0,3,2,"계단식",98]
["[흥동]",117834,1,{"$f":"HYPERLINK(\"https://land.naver.com/article/groundPlan.nhn?rletNo=117834&cortarNo=4825011000\",\"청호아트빌(102동)\")","v":"청호아트빌(102동)"},2002.1,19,39.229999999999997,129.66999999999999,34.9,115.36,10,null,null,null,null,0,0,0,0,3,2,"계단식",129]
["[흥동]",117834,2,{"$f":"HYPERLINK(\"https://land.naver.com/article/groundPlan.nhn?rletNo=117834&cortarNo=4825011000\",\"청호아트빌(102동)\")","v":"청호아트빌(102동)"},2002.1,19,44.14,145.91999999999999,39.270000000000003,129.81,9,null,null,null,null,0,0,0,0,4,2,"계단식",145]
["[흥동]",117835,1,{"$f":"HYPERLINK(\"https://land.naver.com/article/groundPlan.nhn?rletNo=117835&cortarNo=4825011000\",\"청호아트빌(301동,302동)\")","v":"청호아트빌(301동,302동)"},2004.02,36,38.32,126.68,32.61,107.8,18,null,null,null,null,0,0,0,0,3,2,"계단식","126A"]
["[흥동]",117835,2,{"$f":"HYPERLINK(\"https://land.naver.com/article/groundPlan.nhn?rletNo=117835&cortarNo=4825011000\",\"청호아트빌(301동,302동)\")","v":"청호아트빌(301동,302동)"},2004.02,36,38.32,126.68,32.61,107.8,18,null,null,null,null,0,0,0,0,3,2,"계단식","126B"]
["[흥동]",119814,1,{"$f":"HYPERLINK(\"https://land.naver.com/article/groundPlan.nhn?rletNo=119814&cortarNo=4825011000\",\"두산리츠빌\")","v":"두산리츠빌"},2004.07,16,31.73,104.89,25.69,84.94,16,null,null,null,null,0,0,0,0,2,1,"계단식",104]
["[흥동]",127825,1,{"$f":"HYPERLINK(\"https://land.naver.com/article/groundPlan.nhn?rletNo=127825&cortarNo=4825011000\",\"두산함박빌라트2차\")","v":"두산함박빌라트2차"},2004.03,18,31.61,104.5,25.63,84.72,18,null,null,null,null,0,0,0,0,3,2,"계단식",104]
["[흥동]",127552,1,{"$f":"HYPERLINK(\"https://land.naver.com/article/groundPlan.nhn?rletNo=127552&cortarNo=4825011000\",\"휴먼팰리스\")","v":"휴먼팰리스"},2014.02,17,19.28,63.72,14.35,47.43,2,null,null,null,null,0,0,0,0,2,1,"계단식",63]
["[흥동]",127552,2,{"$f":"HYPERLINK(\"https://land.naver.com/article/groundPlan.nhn?rletNo=127552&cortarNo=4825011000\",\"휴먼팰리스\")","v":"휴먼팰리스"},2014.02,17,20.14,66.569999999999993,14.48,47.88,1,null,null,null,null,0,0,0,0,2,1,"계단식",66]
["[흥동]",127552,3,{"$f":"HYPERLINK(\"https://land.naver.com/article/groundPlan.nhn?rletNo=127552&cortarNo=4825011000\",\"휴먼팰리스\")","v":"휴먼팰리스"},2014.02,17,24.07,79.58,18.12,59.9,2,null,null,null,null,0,0,0,0,2,1,"계단식",79]
["[흥동]",127552,4,{"$f":"HYPERLINK(\"https://land.naver.com/article/groundPlan.nhn?rletNo=127552&cortarNo=4825011000\",\"휴먼팰리스\")","v":"휴먼팰리스"},2014.02,17,24.85,82.14,18.760000000000002,62,12,null,null,null,null,0,0,0,0,3,2,"계단식",82]

{"sheet":"옥계동","index":5,"n_rows":53,"n_cols":48,"rows_kept":53,"cut":false,"hidden":false,"merged":[[0,35,0,39]]}
[{"$f":"단지추출!A1","v":"구미시"},null,null,null,null,null,null,null,"추출대상",null,null,null,null,null,null,null,null,null,null,null,null,null,null,"매매가 최대(색상 최대)",null,null,{"$f":"단지추출!AA1","v":70000},null,null,null,null,null,null,{"$f":"A1","v":"구미시"},null,{"$f":"A1&\" 전체 등급\"","v":"구미시 전체 등급"},null,null,null,null,{"$f":"단지추출!AO1","v":80},{"$f":"단지추출!AP1","v":45000},{"$f":"단지추출!AQ1","v":1000},{"$f":"단지추출!AR1","v":6000},null,null,{"$f":"단지추출!AU1","v":300}]
[{"$f":"단지추출!A2","v":"2022-01-01"},null,null,null,null,null,null,null,null,null,null,null,null,null,null,null,null,null,null,null,null,null,null,"매매가 최소(색상 최소)",null,null,{"$f":"단지추출!AA2","v":10000},null,null,null,null,null,null,{"$f":"AH1 &\" \" &A4","v":"구미시 옥계동"},null,{"$f":"단지추출!AJ2","v":"A-"},{"$f":"단지추출!AK2","v":"A"},{"$f":"단지추출!AL2","v":"A"},{"$f":"단지추출!AM2","v":"A"},{"$f":"단지추출!AN2","v":"C"},"원금보전",null,null,"수익성",null,"환금성"]
["단지명","입주\n연도","총세\n대수","공급\n(m2)","공급\n면적","전용\n(m2)","전용\n면적","세대","매매\n최저가","층","전세\n최고가","층","매전갭","전세\n가율","매매\n평단","전세\n평단","방","욕\n실","구\n조","매/전/월\nType","비고",null,"공급\n(m2)","공급\n면적","세대","매매가","전세가","매전갭","전세\n가율","평단가","구\n조","방/\n욕실",null,{"$f":"IF(A3=\"\",\"\",A3)","v":"단지명"},{"$f":"IF(E3=\"\",\"\",E3)","v":"공급\n면적"},"직장","교통","학군","환경","공급",{"$f":"\"전세가율★\n(\"&AO1&\"%↑)\"","v":"전세가율★\n(80%↑)"},{"$f":"\"절대가★\n(\"&AP1/10000&\"억↓)\"","v":"절대가★\n(4.5억↓)"},{"$f":"\"지역평단가\n(\"&AQ1&\"↓)\"","v":"지역평단가\n(1000↓)"},{"$f":"\"투자규모★\n(갭\"&AR1/1000&\"천↓)\"","v":"투자규모★\n(갭6천↓)"},"전고점\n이하","평형★\n(15~34평)",{"$f":"\"단지규모★\n(\"&AU1&\"^↑)\"","v":"단지규모★\n(300^↑)"},"투자후보"]
["옥계동",null,null,null,null,null,null,null,null,null,null,null,null,null,null,null,null,null,null,null,null,null,null,null,null,null,null,null,null,null,null,null,null,null,""]
[null,null,null,null,null,null,null,null,null,null,null,null,null,null,null,null,null,null,null,null,null,null,{"$f":"$A$4&\" \"&A6&\"(\"&B6&\",\"&C6&\"^)\"","v":"옥계동 대동한마음타운('95.05,690^)"},null,null,null,null,null,null,null,null,null,null,{"$f":"IF(A5=\"\",\"\",A5)","v":""},""]
["대동한마음타운","'95.05",690,83.7,25,59.63,18,420,7200,6,7000,1,{"$f":"I6-K6","v":200},{"$f":"IF(ISERROR(K6/I6),\"\",K6/I6)","v":0.97222222222222221},{"$f":"I6/E6","v":288},{"$f":"K6/E6","v":280},3,1,"계","83A",null,null,{"$f":"D6","v":83.7},25,{"$f":"H6","v":420},7200,{"$f":"K6","v":7000},{"$f":"M6","v":200},0.97222222222222221,288,{"$f":"S6","v":"계"},{"$f":"Q6&\"/\"&R6","v":"3/1"},null,"대동한마음타운",25,{"$f":"IF(AI6=\"\",\"\",$AJ$2)","v":"A-"},"A","A+","B+",{"$f":"IF(AI6=\"\",\"\",$AN$2)","v":"C"},{"$f":"IF(N6=\"\",\"\",IF(N6>=$AO$1/100,\"O\",\"X\"))","v":"O"},{"$f":"IF(I6=\"\",\"\",IF(I6<=$AP$1,\"O\",\"X\"))","v":"O"},{"$f":"IF(O6=\"\",\"\",IF(O6<=$AQ$1,\"O\",\"X\"))","v":"O"},{"$f":"IF(M6=\"\",\"\",IF(M6<=$AR$1,\"O\",\"X\"))","v":"O"},"X",{"$f":"IF(OR(F6=\"\",AI6=\"\"),\"\",IF(AND((F6<=85),(AI6>=15)),\"O\",\"X\"))","v":"O"},{"$f":"IF(C6=\"\",\"\",IF(C6>=$AU$1,\"O\",\"X\"))","v":"O"},{"$f":"IF(AO6=\"\",\"\",IF(AND(AO6=\"O\",AP6=\"O\",AR6=\"O\",AT6=\"O\",AU6=\"O\"),\"후보\",\"X\"))","v":"후보"}]
["대동한마음타운","'95.05",690,83.94,25,59.6,18,270,7200,6,7000,1,{"$f":"I7-K7","v":200},{"$f":"IF(ISERROR(K7/I7),\"\",K7/I7)","v":0.97222222222222221},{"$f":"I7/E7","v":288},{"$f":"K7/E7","v":280},3,1,"계","83B",null,null,83.94,25,270,7200,{"$f":"K7","v":7000},200,0.97222222222222221,288,{"$f":"S7","v":"계"},{"$f":"Q7&\"/\"&R7","v":"3/1"},null,"대동한마음타운",25,{"$f":"IF(AI7=\"\",\"\",$AJ$2)","v":"A-"},"A","A+","B+",{"$f":"IF(AI7=\"\",\"\",$AN$2)","v":"C"},{"$f":"IF(N7=\"\",\"\",IF(N7>=$AO$1/100,\"O\",\"X\"))","v":"O"},{"$f":"IF(I7=\"\",\"\",IF(I7<=$AP$1,\"O\",\"X\"))","v":"O"},{"$f":"IF(O7=\"\",\"\",IF(O7<=$AQ$1,\"O\",\"X\"))","v":"O"},{"$f":"IF(M7=\"\",\"\",IF(M7<=$AR$1,\"O\",\"X\"))","v":"O"},"X",{"$f":"IF(OR(F7=\"\",AI7=\"\"),\"\",IF(AND((F7<=85),(AI7>=15)),\"O\",\"X\"))","v":"O"},{"$f":"IF(C7=\"\",\"\",IF(C7>=$AU$1,\"O\",\"X\"))","v":"O"},{"$f":"IF(AO7=\"\",\"\",IF(AND(AO7=\"O\",AP7=\"O\",AR7=\"O\",AT7=\"O\",AU7=\"O\"),\"후보\",\"X\"))","v":"후보"}]
[null,null,null,null,null,null,null,null,null,null,null,null,null,null,null,null,null,null,null,null,null,null,{"$f":"$A$4&\" \"&A9&\"(\"&B9&\",\"&C9&\"^)\"","v":"옥계동 동우대백('94.06,730^)"},null,null,null,null,null,null,null,null,null,null,"",""]
["동우대백","'94.06",730,79.34,24,59.85,18.100000000000001,730,6500,4,6500,3,{"$f":"I9-K9","v":0},{"$f":"IF(ISERROR(K9/I9),\"\",K9/I9)","v":1},{"$f":"I9/E9","v":270.83333333333331},{"$f":"K9/E9","v":270.83333333333331},2,1,"복",76,"복도식",null,{"$f":"D9","v":79.34},{"$f":"E9","v":24},{"$f":"H9","v":730},{"$f":"I9","v":6500},{"$f":"K9","v":6500},{"$f":"M9","v":0},{"$f":"N9","v":1},{"$f":"O9","v":270.83333333333331},{"$f":"S9","v":"복"},{"$f":"Q9&\"/\"&R9","v":"2/1"},null,"동우대백",24,{"$f":"IF(AI9=\"\",\"\",$AJ$2)","v":"A-"},"A","A+","B+",{"$f":"IF(AI9=\"\",\"\",$AN$2)","v":"C"},{"$f":"IF(N9=\"\",\"\",IF(N9>=$AO$1/100,\"O\",\"X\"))","v":"O"},{"$f":"IF(I9=\"\",\"\",IF(I9<=$AP$1,\"O\",\"X\"))","v":"O"},{"$f":"IF(O9=\"\",\"\",IF(O9<=$AQ$1,\"O\",\"X\"))","v":"O"},{"$f":"IF(M9=\"\",\"\",IF(M9<=$AR$1,\"O\",\"X\"))","v":"O"},"X",{"$f":"IF(OR(F9=\"\",AI9=\"\"),\"\",IF(AND((F9<=85),(AI9>=15)),\"O\",\"X\"))","v":"O"},{"$f":"IF(C9=\"\",\"\",IF(C9>=$AU$1,\"O\",\"X\"))","v":"O"},{"$f":"IF(AO9=\"\",\"\",IF(AND(AO9=\"O\",AP9=\"O\",AR9=\"O\",AT9=\"O\",AU9=\"O\"),\"후보\",\"X\"))","v":"후보"}]
[null,null,null,null,null,null,null,null,null,null,null,null,null,null,null,null,null,null,null,null,null,null,{"$f":"$A$4&\" \"&A11&\"(\"&B11&\",\"&C11&\"^)\"","v":"옥계동 에덴('96.09,1050^)"},null,null,null,null,null,null,null,null,null,null,"",""]
["에덴","'96.09",1050,72.14,21.82,60,18.149999999999999,1050,10500,6,9500,15,{"$f":"I11-K11","v":1000},{"$f":"IF(ISERROR(K11/I11),\"\",K11/I11)","v":0.90476190476190477},{"$f":"I11/E11","v":481.20989917506876},{"$f":"K11/E11","v":435.38038496791933},3,2,"계",105,null,null,{"$f":"D11","v":72.14},{"$f":"E11","v":21.82},{"$f":"H11","v":1050},{"$f":"I11","v":10500},{"$f":"K11","v":9500},{"$f":"M11","v":1000},{"$f":"N11","v":0.90476190476190477},{"$f":"O11","v":481.20989917506876},{"$f":"S11","v":"계"},{"$f":"Q11&\"/\"&R11","v":"3/2"},null,"에덴",21.82,{"$f":"IF(AI11=\"\",\"\",$AJ$2)","v":"A-"},"A","A+","B+",{"$f":"IF(AI11=\"\",\"\",$AN$2)","v":"C"},{"$f":"IF(N11=\"\",\"\",IF(N11>=$AO$1/100,\"O\",\"X\"))","v":"O"},{"$f":"IF(I11=\"\",\"\",IF(I11<=$AP$1,\"O\",\"X\"))","v":"O"},{"$f":"IF(O11=\"\",\"\",IF(O11<=$AQ$1,\"O\",\"X\"))","v":"O"},{"$f":"IF(M11=\"\",\"\",IF(M11<=$AR$1,\"O\",\"X\"))","v":"O"},"X",{"$f":"IF(OR(F11=\"\",AI11=\"\"),\"\",IF(AND((F11<=85),(AI11>=15)),\"O\",\"X\"))","v":"O"},{"$f":"IF(C11=\"\",\"\",IF(C11>=$AU$1,\"O\",\"X\"))","v":"O"},{"$f":"IF(AO11=\"\",\"\",IF(AND(AO11=\"O\",AP11=\"O\",AR11=\"O\",AT11=\"O\",AU11=\"O\"),\"후보\",\"X\"))","v":"후보"}]
[null,null,null,null,null,null,null,null,null,null,null,null,null,null,null,null,null,null,null,null,null,null,{"$f":"$A$4&\" \"&A13&\"(\"&B13&\",\"&C13&\"^)\"","v":"옥계동 옥계동화타운('98.12,570^)"},null,null,null,null,null,null,null,null,null,null,"",""]
["옥계동화타운","'98.12",570,76.64,23,59.64,18.13,370,10500,6,11000,9,{"$f":"I13-K13","v":-500},{"$f":"IF(ISERROR(K13/I13),\"\",K13/I13)","v":1.0476190476190477},{"$f":"I13/E13","v":456.52173913043481},{"$f":"K13/E13","v":478.26086956521738},3,2,"계","92A",null,null,{"$f":"D13","v":76.64},{"$f":"E13","v":23},{"$f":"H13","v":370},{"$f":"I13","v":10500},{"$f":"K13","v":11000},{"$f":"M13","v":-500},{"$f":"N13","v":1.0476190476190477},{"$f":"O13","v":456.52173913043481},{"$f":"S13","v":"계"},{"$f":"Q13&\"/\"&R13","v":"3/2"},null,"옥계동화타운",23,{"$f":"IF(AI13=\"\",\"\",$AJ$2)","v":"A-"},"A","A+","B+",{"$f":"IF(AI13=\"\",\"\",$AN$2)","v":"C"},{"$f":"IF(N13=\"\",\"\",IF(N13>=$AO$1/100,\"O\",\"X\"))","v":"O"},{"$f":"IF(I13=\"\",\"\",IF(I13<=$AP$1,\"O\",\"X\"))","v":"O"},{"$f":"IF(O13=\"\",\"\",IF(O13<=$AQ$1,\"O\",\"X\"))","v":"O"},{"$f":"IF(M13=\"\",\"\",IF(M13<=$AR$1,\"O\",\"X\"))","v":"O"},"X",{"$f":"IF(OR(F13=\"\",AI13=\"\"),\"\",IF(AND((F13<=85),(AI13>=15)),\"O\",\"X\"))","v":"O"},{"$f":"IF(C13=\"\",\"\",IF(C13>=$AU$1,\"O\",\"X\"))","v":"O"},{"$f":"IF(AO13=\"\",\"\",IF(AND(AO13=\"O\",AP13=\"O\",AR13=\"O\",AT13=\"O\",AU13=\"O\"),\"후보\",\"X\"))","v":"후보"}]
["옥계동화타운","'98.12",570,76.040000000000006,23,59.74,18.07,140,11000,9,11000,3,{"$f":"I14-K14","v":0},{"$f":"IF(ISERROR(K14/I14),\"\",K14/I14)","v":1},null,null,null,null,null,null,null,null,{"$f":"$A$4&\" \"&A15&\"(\"&B15&\",\"&C15&\"^)\"","v":"옥계동 옥계동화타운('98.12,570^)"},null,null,null,null,null,null,null,null,null,null,"옥계동화타운",23]
["옥계동화타운","'98.12",570,104.21,31,84.8,25.66,60,19000,10,17600,13,{"$f":"I15-K15","v":1400},{"$f":"IF(ISERROR(K15/I15),\"\",K15/I15)","v":0.9263157894736842},{"$f":"I15/E15","v":612.90322580645159},{"$f":"K15/E15","v":567.74193548387098},3,2,"계","111B",null,null,{"$f":"D15","v":104.21},{"$f":"E15","v":31},{"$f":"H15","v":60},{"$f":"I15","v":19000},{"$f":"K15","v":17600},{"$f":"M15","v":1400},{"$f":"N15","v":0.9263157894736842},{"$f":"O15","v":612.90322580645159},{"$f":"S15","v":"계"},{"$f":"Q15&\"/\"&R15","v":"3/2"},null,"옥계동화타운",31,{"$f":"IF(AI15=\"\",\"\",$AJ$2)","v":"A-"},"A","A+","B+",{"$f":"IF(AI15=\"\",\"\",$AN$2)","v":"C"},{"$f":"IF(N15=\"\",\"\",IF(N15>=$AO$1/100,\"O\",\"X\"))","v":"O"},{"$f":"IF(I15=\"\",\"\",IF(I15<=$AP$1,\"O\",\"X\"))","v":"O"},{"$f":"IF(O15=\"\",\"\",IF(O15<=$AQ$1,\"O\",\"X\"))","v":"O"},{"$f":"IF(M15=\"\",\"\",IF(M15<=$AR$1,\"O\",\"X\"))","v":"O"},"X",{"$f":"IF(OR(F15=\"\",AI15=\"\"),\"\",IF(AND((F15<=85),(AI15>=15)),\"O\",\"X\"))","v":"O"},{"$f":"IF(C15=\"\",\"\",IF(C15>=$AU$1,\"O\",\"X\"))","v":"O"},{"$f":"IF(AO15=\"\",\"\",IF(AND(AO15=\"O\",AP15=\"O\",AR15=\"O\",AT15=\"O\",AU15=\"O\"),\"후보\",\"X\"))","v":"후보"}]
[null,null,null,null,null,null,null,null,null,null,null,null,null,null,null,null,null,null,null,null,null,null,{"$f":"$A$4&\" \"&A17&\"(\"&B17&\",\"&C17&\"^)\"","v":"옥계동 옥계부영1차('99.05,896^)"},null,null,null,null,null,null,null,null,null,null,"",""]
["옥계부영1차","'99.05",896,67.7,20.48,49.14,14.86,129,8000,14,7500,5,{"$f":"I17-K17","v":500},{"$f":"IF(ISERROR(K17/I17),\"\",K17/I17)","v":0.9375},{"$f":"I17/E17","v":390.625},{"$f":"K17/E17","v":366.2109375},4,2,"복","111D","복도식,임대162 포함",null,{"$f":"D17","v":67.7},{"$f":"E17","v":20.48},{"$f":"H17","v":129},{"$f":"I17","v":8000},{"$f":"K17","v":7500},{"$f":"M17","v":500},0.9375,390.625,{"$f":"S17","v":"복"},{"$f":"Q17&\"/\"&R17","v":"4/2"},null,"옥계부영1차",20.48,{"$f":"IF(AI17=\"\",\"\",$AJ$2)","v":"A-"},"A","A+","B+",{"$f":"IF(AI17=\"\",\"\",$AN$2)","v":"C"},{"$f":"IF(N17=\"\",\"\",IF(N17>=$AO$1/100,\"O\",\"X\"))","v":"O"},{"$f":"IF(I17=\"\",\"\",IF(I17<=$AP$1,\"O\",\"X\"))","v":"O"},{"$f":"IF(O17=\"\",\"\",IF(O17<=$AQ$1,\"O\",\"X\"))","v":"O"},{"$f":"IF(M17=\"\",\"\",IF(M17<=$AR$1,\"O\",\"X\"))","v":"O"},"X",{"$f":"IF(OR(F17=\"\",AI17=\"\"),\"\",IF(AND((F17<=85),(AI17>=15)),\"O\",\"X\"))","v":"O"},{"$f":"IF(C17=\"\",\"\",IF(C17>=$AU$1,\"O\",\"X\"))","v":"O"},{"$f":"IF(AO17=\"\",\"\",IF(AND(AO17=\"O\",AP17=\"O\",AR17=\"O\",AT17=\"O\",AU17=\"O\"),\"후보\",\"X\"))","v":"후보"}]
["옥계부영1차","'99.05",896,105.34,31.86,85.35,25.81,263,null,null,null,null,{"$f":"I18-K18","v":0},{"$f":"IF(ISERROR(K18/I18),\"\",K18/I18)","v":""},{"$f":"I18/E18","v":0},{"$f":"K18/E18","v":0},4,2,"계","111C","임대162포함",null,{"$f":"D18","v":105.34},{"$f":"E18","v":31.86},{"$f":"H18","v":263},{"$f":"I18","v":0},{"$f":"K18","v":0},0,"",0,{"$f":"S18","v":"계"},{"$f":"Q18&\"/\"&R18","v":"4/2"},null,"옥계부영1차",31.86,{"$f":"IF(AI18=\"\",\"\",$AJ$2)","v":"A-"},"A","A+","B+",{"$f":"IF(AI18=\"\",\"\",$AN$2)","v":"C"},{"$f":"IF(N18=\"\",\"\",IF(N18>=$AO$1/100,\"O\",\"X\"))","v":""},{"$f":"IF(I18=\"\",\"\",IF(I18<=$AP$1,\"O\",\"X\"))","v":""},{"$f":"IF(O18=\"\",\"\",IF(O18<=$AQ$1,\"O\",\"X\"))","v":"O"},{"$f":"IF(M18=\"\",\"\",IF(M18<=$AR$1,\"O\",\"X\"))","v":"O"},"X",{"$f":"IF(OR(F18=\"\",AI18=\"\"),\"\",IF(AND((F18<=85),(AI18>=15)),\"O\",\"X\"))","v":"X"},{"$f":"IF(C18=\"\",\"\",IF(C18>=$AU$1,\"O\",\"X\"))","v":"O"},{"$f":"IF(AO18=\"\",\"\",IF(AND(AO18=\"O\",AP18=\"O\",AR18=\"O\",AT18=\"O\",AU18=\"O\"),\"후보\",\"X\"))","v":""}]
[null,null,null,null,null,null,null,null,null,null,null,null,null,null,null,null,null,null,null,null,null,null,{"$f":"$A$4&\" \"&A20&\"(\"&B20&\",\"&C20&\"^)\"","v":"옥계동 옥계부영2차('99.05,723^)"},null,null,null,null,null,null,null,null,null,null,"",""]
["옥계부영2차","'99.05",723,68.56,20.07,49.14,14.86,461,null,null,null,null,{"$f":"I20-K20","v":0},{"$f":"IF(ISERROR(K20/I20),\"\",K20/I20)","v":""},{"$f":"I20/E20","v":0},{"$f":"K20/E20","v":0},3,2,"계","80B",null,null,{"$f":"D20","v":68.56},20.07,{"$f":"H20","v":461},0,{"$f":"K20","v":0},{"$f":"M20","v":0},"",0,{"$f":"S20","v":"계"},{"$f":"Q20&\"/\"&R20","v":"3/2"},null,"옥계부영2차",20.07,{"$f":"IF(AI20=\"\",\"\",$AJ$2)","v":"A-"},"A","A+","B+",{"$f":"IF(AI20=\"\",\"\",$AN$2)","v":"C"},{"$f":"IF(N20=\"\",\"\",IF(N20>=$AO$1/100,\"O\",\"X\"))","v":""},{"$f":"IF(I20=\"\",\"\",IF(I20<=$AP$1,\"O\",\"X\"))","v":""},{"$f":"IF(O20=\"\",\"\",IF(O20<=$AQ$1,\"O\",\"X\"))","v":"O"},{"$f":"IF(M20=\"\",\"\",IF(M20<=$AR$1,\"O\",\"X\"))","v":"O"},"X",{"$f":"IF(OR(F20=\"\",AI20=\"\"),\"\",IF(AND((F20<=85),(AI20>=15)),\"O\",\"X\"))","v":"O"},{"$f":"IF(C20=\"\",\"\",IF(C20>=$AU$1,\"O\",\"X\"))","v":"O"},{"$f":"IF(AO20=\"\",\"\",IF(AND(AO20=\"O\",AP20=\"O\",AR20=\"O\",AT20=\"O\",AU20=\"O\"),\"후보\",\"X\"))","v":""}]
["옥계부영2차","'99.05",723,105.99,32.06,85.35,25.81,100,null,null,null,null,{"$f":"I21-K21","v":0},{"$f":"IF(ISERROR(K21/I21),\"\",K21/I21)","v":""},{"$f":"I21/E21","v":0},{"$f":"K21/E21","v":0},3,2,"계","81A",null,null,105.99,32.06,100,0,{"$f":"K21","v":0},0,"",0,{"$f":"S21","v":"계"},{"$f":"Q21&\"/\"&R21","v":"3/2"},null,"옥계부영2차",32.06,{"$f":"IF(AI21=\"\",\"\",$AJ$2)","v":"A-"},"A","A+","B+",{"$f":"IF(AI21=\"\",\"\",$AN$2)","v":"C"},{"$f":"IF(N21=\"\",\"\",IF(N21>=$AO$1/100,\"O\",\"X\"))","v":""},{"$f":"IF(I21=\"\",\"\",IF(I21<=$AP$1,\"O\",\"X\"))","v":""},{"$f":"IF(O21=\"\",\"\",IF(O21<=$AQ$1,\"O\",\"X\"))","v":"O"},{"$f":"IF(M21=\"\",\"\",IF(M21<=$AR$1,\"O\",\"X\"))","v":"O"},"X",{"$f":"IF(OR(F21=\"\",AI21=\"\"),\"\",IF(AND((F21<=85),(AI21>=15)),\"O\",\"X\"))","v":"X"},{"$f":"IF(C21=\"\",\"\",IF(C21>=$AU$1,\"O\",\"X\"))","v":"O"},{"$f":"IF(AO21=\"\",\"\",IF(AND(AO21=\"O\",AP21=\"O\",AR21=\"O\",AT21=\"O\",AU21=\"O\"),\"후보\",\"X\"))","v":""}]
[null,null,null,null,null,null,null,null,null,null,null,null,null,null,null,null,null,null,null,null,null,null,{"$f":"$A$4&\" \"&A23&\"(\"&B23&\",\"&C23&\"^)\"","v":"옥계동 신나리2차('05.08,340^)"},null,null,null,null,null,null,null,null,null,null,"",""]
["신나리2차","'05.08",340,66.23,{"$f":"D23/3.305785","v":20.03457575129659},48.46,{"$f":"F23/3.305785","v":14.659150549718145},114,13000,13,12000,7,{"$f":"I23-K23","v":1000},{"$f":"IF(ISERROR(K23/I23),\"\",K23/I23)","v":0.92307692307692313},{"$f":"I23/E23","v":648.87822738940065},{"$f":"K23/E23","v":598.96451759021591},2,1,"계","66",null,null,{"$f":"D23","v":66.23},20.03457575129659,{"$f":"H23","v":114},13000,{"$f":"K23","v":12000},{"$f":"M23","v":1000},0.92307692307692313,648.87822738940065,{"$f":"S23","v":"계"},{"$f":"Q23&\"/\"&R23","v":"2/1"},null,"신나리2차",20.03457575129659,{"$f":"IF(AI23=\"\",\"\",$AJ$2)","v":"A-"},"A","A+","B+",{"$f":"IF(AI23=\"\",\"\",$AN$2)","v":"C"},{"$f":"IF(N23=\"\",\"\",IF(N23>=$AO$1/100,\"O\",\"X\"))","v":"O"},{"$f":"IF(I23=\"\",\"\",IF(I23<=$AP$1,\"O\",\"X\"))","v":"O"},{"$f":"IF(O23=\"\",\"\",IF(O23<=$AQ$1,\"O\",\"X\"))","v":"O"},{"$f":"IF(M23=\"\",\"\",IF(M23<=$AR$1,\"O\",\"X\"))","v":"O"},"X",{"$f":"IF(OR(F23=\"\",AI23=\"\"),\"\",IF(AND((F23<=85),(AI23>=15)),\"O\",\"X\"))","v":"O"},{"$f":"IF(C23=\"\",\"\",IF(C23>=$AU$1,\"O\",\"X\"))","v":"O"},{"$f":"IF(AO23=\"\",\"\",IF(AND(AO23=\"O\",AP23=\"O\",AR23=\"O\",AT23=\"O\",AU23=\"O\"),\"후보\",\"X\"))","v":"후보"}]
["신나리2차","'05.08",340,69.84,{"$f":"D24/3.305785","v":21.12660079224753},49.21,{"$f":"F24/3.305785","v":14.886025558225958},58,13000,6,11500,10,{"$f":"I24-K24","v":1500},{"$f":"IF(ISERROR(K24/I24),\"\",K24/I24)","v":0.88461538461538458},{"$f":"I24/E24","v":615.33798682703321},{"$f":"K24/E24","v":544.33744988545243},2,1,"계","69",null,null,69.84,21.12660079224753,58,13000,{"$f":"K24","v":11500},1500,0.88461538461538458,615.33798682703321,{"$f":"S24","v":"계"},{"$f":"Q24&\"/\"&R24","v":"2/1"},null,"신나리2차",21.12660079224753,{"$f":"IF(AI24=\"\",\"\",$AJ$2)","v":"A-"},"A","A+","B+",{"$f":"IF(AI24=\"\",\"\",$AN$2)","v":"C"},{"$f":"IF(N24=\"\",\"\",IF(N24>=$AO$1/100,\"O\",\"X\"))","v":"O"},{"$f":"IF(I24=\"\",\"\",IF(I24<=$AP$1,\"O\",\"X\"))","v":"O"},{"$f":"IF(O24=\"\",\"\",IF(O24<=$AQ$1,\"O\",\"X\"))","v":"O"},{"$f":"IF(M24=\"\",\"\",IF(M24<=$AR$1,\"O\",\"X\"))","v":"O"},"X",{"$f":"IF(OR(F24=\"\",AI24=\"\"),\"\",IF(AND((F24<=85),(AI24>=15)),\"O\",\"X\"))","v":"O"},{"$f":"IF(C24=\"\",\"\",IF(C24>=$AU$1,\"O\",\"X\"))","v":"O"},{"$f":"IF(AO24=\"\",\"\",IF(AND(AO24=\"O\",AP24=\"O\",AR24=\"O\",AT24=\"O\",AU24=\"O\"),\"후보\",\"X\"))","v":"후보"}]
["신나리2차","'05.08",340,75.05,22.702625851348468,56.83,17.191075644665336,58,15500,13,11700,1,{"$f":"I25-K25","v":3800},{"$f":"IF(ISERROR(K25/I25),\"\",K25/I25)","v":0.75483870967741939},{"$f":"I25/E25","v":682.74040639573616},{"$f":"K25/E25","v":515.35888740839448},2,1,"계","75",null,null,75.05,22.702625851348468,58,15500,{"$f":"K25","v":11700},3800,0.75483870967741939,682.74040639573616,{"$f":"S25","v":"계"},{"$f":"Q25&\"/\"&R25","v":"2/1"},null,"신나리2차",22.702625851348468,{"$f":"IF(AI25=\"\",\"\",$AJ$2)","v":"A-"},"A","A+","B+",{"$f":"IF(AI25=\"\",\"\",$AN$2)","v":"C"},{"$f":"IF(N25=\"\",\"\",IF(N25>=$AO$1/100,\"O\",\"X\"))","v":"X"},{"$f":"IF(I25=\"\",\"\",IF(I25<=$AP$1,\"O\",\"X\"))","v":"O"},{"$f":"IF(O25=\"\",\"\",IF(O25<=$AQ$1,\"O\",\"X\"))","v":"O"},{"$f":"IF(M25=\"\",\"\",IF(M25<=$AR$1,\"O\",\"X\"))","v":"O"},"X",{"$f":"IF(OR(F25=\"\",AI25=\"\"),\"\",IF(AND((F25<=85),(AI25>=15)),\"O\",\"X\"))","v":"O"},{"$f":"IF(C25=\"\",\"\",IF(C25>=$AU$1,\"O\",\"X\"))","v":"O"},{"$f":"IF(AO25=\"\",\"\",IF(AND(AO25=\"O\",AP25=\"O\",AR25=\"O\",AT25=\"O\",AU25=\"O\"),\"후보\",\"X\"))","v":"X"}]
["신나리2차","'05.08",340,94.69,28.643726074139725,75.94,22.971850861444405,110,17800,3,16000,6,{"$f":"I26-K26","v":1800},{"$f":"IF(ISERROR(K26/I26),\"\",K26/I26)","v":0.898876404494382},{"$f":"I26/E26","v":621.42753194635134},{"$f":"K26/E26","v":558.58654556975398},3,2,"계","94",null,null,94.69,28.643726074139725,110,17800,{"$f":"K26","v":16000},1800,0.898876404494382,621.42753194635134,{"$f":"S26","v":"계"},{"$f":"Q26&\"/\"&R26","v":"3/2"},null,"신나리2차",28.643726074139725,{"$f":"IF(AI26=\"\",\"\",$AJ$2)","v":"A-"},"A","A+","B+",{"$f":"IF(AI26=\"\",\"\",$AN$2)","v":"C"},{"$f":"IF(N26=\"\",\"\",IF(N26>=$AO$1/100,\"O\",\"X\"))","v":"O"},{"$f":"IF(I26=\"\",\"\",IF(I26<=$AP$1,\"O\",\"X\"))","v":"O"},{"$f":"IF(O26=\"\",\"\",IF(O26<=$AQ$1,\"O\",\"X\"))","v":"O"},{"$f":"IF(M26=\"\",\"\",IF(M26<=$AR$1,\"O\",\"X\"))","v":"O"},"X",{"$f":"IF(OR(F26=\"\",AI26=\"\"),\"\",IF(AND((F26<=85),(AI26>=15)),\"O\",\"X\"))","v":"O"},{"$f":"IF(C26=\"\",\"\",IF(C26>=$AU$1,\"O\",\"X\"))","v":"O"},{"$f":"IF(AO26=\"\",\"\",IF(AND(AO26=\"O\",AP26=\"O\",AR26=\"O\",AT26=\"O\",AU26=\"O\"),\"후보\",\"X\"))","v":"후보"}]
[null,null,null,null,0,null,0,null,null,null,null,null,null,null,null,null,null,null,null,null,null,null,{"$f":"$A$4&\" \"&A28&\"(\"&B28&\",\"&C28&\"^)\"","v":"옥계동 삼구트리니엔('08.10,642^)"},null,null,null,null,null,null,null,null,null,null,"",0]
["삼구트리니엔","'08.10",642,121.92,36.880801383030047,84.96,25.700400963765034,336,29500,9,28000,12,{"$f":"I28-K28","v":1500},{"$f":"IF(ISERROR(K28/I28),\"\",K28/I28)","v":0.94915254237288138},{"$f":"I28/E28","v":799.87415928477697},{"$f":"K28/E28","v":759.20259186351711},3,2,"계","121A",null,null,{"$f":"D28","v":121.92},36.880801383030047,{"$f":"H28","v":336},29500,{"$f":"K28","v":28000},{"$f":"M28","v":1500},0.94915254237288138,799.87415928477697,{"$f":"S28","v":"계"},{"$f":"Q28&\"/\"&R28","v":"3/2"},null,"삼구트리니엔",36.880801383030047,{"$f":"IF(AI28=\"\",\"\",$AJ$2)","v":"A-"},"A","A+","B+",{"$f":"IF(AI28=\"\",\"\",$AN$2)","v":"C"},{"$f":"IF(N28=\"\",\"\",IF(N28>=$AO$1/100,\"O\",\"X\"))","v":"O"},{"$f":"IF(I28=\"\",\"\",IF(I28<=$AP$1,\"O\",\"X\"))","v":"O"},{"$f":"IF(O28=\"\",\"\",IF(O28<=$AQ$1,\"O\",\"X\"))","v":"O"},{"$f":"IF(M28=\"\",\"\",IF(M28<=$AR$1,\"O\",\"X\"))","v":"O"},"X",{"$f":"IF(OR(F28=\"\",AI28=\"\"),\"\",IF(AND((F28<=85),(AI28>=15)),\"O\",\"X\"))","v":"O"},{"$f":"IF(C28=\"\",\"\",IF(C28>=$AU$1,\"O\",\"X\"))","v":"O"},{"$f":"IF(AO28=\"\",\"\",IF(AND(AO28=\"O\",AP28=\"O\",AR28=\"O\",AT28=\"O\",AU28=\"O\"),\"후보\",\"X\"))","v":"후보"}]
["삼구트리니엔","'08.10",642,121.5,36.753751378265676,84.95,25.697375963651599,114,28000,5,29000,"중",{"$f":"I29-K29","v":-1000},{"$f":"IF(ISERROR(K29/I29),\"\",K29/I29)","v":1.0357142857142858},{"$f":"I29/E29","v":761.82699588477362},{"$f":"K29/E29","v":789.03510288065843},3,2,"계","121B",null,null,121.5,36.753751378265676,114,28000,{"$f":"K29","v":29000},-1000,1.0357142857142858,761.82699588477362,{"$f":"S29","v":"계"},{"$f":"Q29&\"/\"&R29","v":"3/2"},null,"삼구트리니엔",36.753751378265676,{"$f":"IF(AI29=\"\",\"\",$AJ$2)","v":"A-"},"A","A+","B+",{"$f":"IF(AI29=\"\",\"\",$AN$2)","v":"C"},{"$f":"IF(N29=\"\",\"\",IF(N29>=$AO$1/100,\"O\",\"X\"))","v":"O"},{"$f":"IF(I29=\"\",\"\",IF(I29<=$AP$1,\"O\",\"X\"))","v":"O"},{"$f":"IF(O29=\"\",\"\",IF(O29<=$AQ$1,\"O\",\"X\"))","v":"O"},{"$f":"IF(M29=\"\",\"\",IF(M29<=$AR$1,\"O\",\"X\"))","v":"O"},"X",{"$f":"IF(OR(F29=\"\",AI29=\"\"),\"\",IF(AND((F29<=85),(AI29>=15)),\"O\",\"X\"))","v":"O"},{"$f":"IF(C29=\"\",\"\",IF(C29>=$AU$1,\"O\",\"X\"))","v":"O"},{"$f":"IF(AO29=\"\",\"\",IF(AND(AO29=\"O\",AP29=\"O\",AR29=\"O\",AT29=\"O\",AU29=\"O\"),\"후보\",\"X\"))","v":"후보"}]
["삼구트리니엔","'08.10",642,171.1,51.757751940915696,131.76,39.857401494652549,44,43500,4,34000,26,{"$f":"I30-K30","v":9500},{"$f":"IF(ISERROR(K30/I30),\"\",K30/I30)","v":0.7816091954022989},{"$f":"I30/E30","v":840.45381355932204},{"$f":"K30/E30","v":656.90642898889541},4,2,"계","171A",null,null,171.1,51.757751940915696,44,43500,{"$f":"K30","v":34000},9500,0.7816091954022989,840.45381355932204,{"$f":"S30","v":"계"},{"$f":"Q30&\"/\"&R30","v":"4/2"},null,"삼구트리니엔",{"$f":"IF(E30=\"\",\"\",E30)","v":51.757751940915696},{"$f":"IF(AI30=\"\",\"\",$AJ$2)","v":"A-"},"A","A+","B+",{"$f":"IF(AI30=\"\",\"\",$AN$2)","v":"C"},{"$f":"IF(N30=\"\",\"\",IF(N30>=$AO$1/100,\"O\",\"X\"))","v":"X"},{"$f":"IF(I30=\"\",\"\",IF(I30<=$AP$1,\"O\",\"X\"))","v":"O"},{"$f":"IF(O30=\"\",\"\",IF(O30<=$AQ$1,\"O\",\"X\"))","v":"O"},{"$f":"IF(M30=\"\",\"\",IF(M30<=$AR$1,\"O\",\"X\"))","v":"X"},"X",{"$f":"IF(OR(F30=\"\",AI30=\"\"),\"\",IF(AND((F30<=85),(AI30>=15)),\"O\",\"X\"))","v":"X"},{"$f":"IF(C30=\"\",\"\",IF(C30>=$AU$1,\"O\",\"X\"))","v":"O"},{"$f":"IF(AO30=\"\",\"\",IF(AND(AO30=\"O\",AP30=\"O\",AR30=\"O\",AT30=\"O\",AU30=\"O\"),\"후보\",\"X\"))","v":"X"}]
["삼구트리니엔","'08.10",642,173.12,52.368801963830073,132.4,40.051001501912559,100,41000,8,35000,4,{"$f":"I31-K31","v":6000},{"$f":"IF(ISERROR(K31/I31),\"\",K31/I31)","v":0.85365853658536583},{"$f":"I31/E31","v":782.90887823475043},{"$f":"K31/E31","v":668.33684727356751},4,2,"계","173B",null,null,173.12,52.368801963830073,100,41000,{"$f":"K31","v":35000},6000,0.85365853658536583,782.90887823475043,{"$f":"S31","v":"계"},{"$f":"Q31&\"/\"&R31","v":"4/2"},null,"삼구트리니엔",52.368801963830073,{"$f":"IF(AI31=\"\",\"\",$AJ$2)","v":"A-"},"A","A+","B+",{"$f":"IF(AI31=\"\",\"\",$AN$2)","v":"C"},{"$f":"IF(N31=\"\",\"\",IF(N31>=$AO$1/100,\"O\",\"X\"))","v":"O"},{"$f":"IF(I31=\"\",\"\",IF(I31<=$AP$1,\"O\",\"X\"))","v":"O"},{"$f":"IF(O31=\"\",\"\",IF(O31<=$AQ$1,\"O\",\"X\"))","v":"O"},{"$f":"IF(M31=\"\",\"\",IF(M31<=$AR$1,\"O\",\"X\"))","v":"O"},"X",{"$f":"IF(OR(F31=\"\",AI31=\"\"),\"\",IF(AND((F31<=85),(AI31>=15)),\"O\",\"X\"))","v":"X"},{"$f":"IF(C31=\"\",\"\",IF(C31>=$AU$1,\"O\",\"X\"))","v":"O"},{"$f":"IF(AO31=\"\",\"\",IF(AND(AO31=\"O\",AP31=\"O\",AR31=\"O\",AT31=\"O\",AU31=\"O\"),\"후보\",\"X\"))","v":"X"}]
["삼구트리니엔","'08.10",642,200.54,60.663352274875706,158.54,47.958351798438187,48,48000,6,35000,3,{"$f":"I32-K32","v":13000},{"$f":"IF(ISERROR(K32/I32),\"\",K32/I32)","v":0.72916666666666663},{"$f":"I32/E32","v":791.25201954722252},{"$f":"K32/E32","v":576.95459758651646},4,2,"계","200",null,null,200.54,60.663352274875706,48,48000,{"$f":"K32","v":35000},13000,0.72916666666666663,791.25201954722252,{"$f":"S32","v":"계"},{"$f":"Q32&\"/\"&R32","v":"4/2"},null,{"$f":"IF(A32=\"\",\"\",A32)","v":"삼구트리니엔"},60.663352274875706,{"$f":"IF(AI32=\"\",\"\",$AJ$2)","v":"A-"},"A","A+","B+",{"$f":"IF(AI32=\"\",\"\",$AN$2)","v":"C"},{"$f":"IF(N32=\"\",\"\",IF(N32>=$AO$1/100,\"O\",\"X\"))","v":"X"},{"$f":"IF(I32=\"\",\"\",IF(I32<=$AP$1,\"O\",\"X\"))","v":"X"},{"$f":"IF(O32=\"\",\"\",IF(O32<=$AQ$1,\"O\",\"X\"))","v":"O"},{"$f":"IF(M32=\"\",\"\",IF(M32<=$AR$1,\"O\",\"X\"))","v":"X"},"X",{"$f":"IF(OR(F32=\"\",AI32=\"\"),\"\",IF(AND((F32<=85),(AI32>=15)),\"O\",\"X\"))","v":"X"},{"$f":"IF(C32=\"\",\"\",IF(C32>=$AU$1,\"O\",\"X\"))","v":"O"},{"$f":"IF(AO32=\"\",\"\",IF(AND(AO32=\"O\",AP32=\"O\",AR32=\"O\",AT32=\"O\",AU32=\"O\"),\"후보\",\"X\"))","v":"X"}]
[null,null,null,null,null,null,null,null,null,null,null,null,null,null,null,null,null,null,null,null,null,null,{"$f":"$A$4&\" \"&A34&\"(\"&B34&\",\"&C34&\"^)\"","v":"옥계동 옥계현진에버빌('09.04,1378^)"},null,null,null,null,null,null,null,null,null,null,"",""]
["옥계현진에버빌","'09.04",1378,117.16,{"$f":"D34/3.305785","v":35.4409013290338},91.58,{"$f":"F34/3.305785","v":27.702951038860661},297,36000,16,32000,"중",{"$f":"I34-K34","v":4000},{"$f":"IF(ISERROR(K34/I34),\"\",K34/I34)","v":0.88888888888888884},{"$f":"I34/E34","v":1015.7755206555138},{"$f":"K34/E34","v":902.91157391601234},3,2,"계","117",null,null,{"$f":"D34","v":117.16},35.4409013290338,{"$f":"H34","v":297},36000,{"$f":"K34","v":32000},{"$f":"M34","v":4000},0.88888888888888884,1015.7755206555138,{"$f":"S34","v":"계"},{"$f":"Q34&\"/\"&R34","v":"3/2"},null,"옥계현진에버빌",35.4409013290338,{"$f":"IF(AI34=\"\",\"\",$AJ$2)","v":"A-"},"A","A+","B+",{"$f":"IF(AI34=\"\",\"\",$AN$2)","v":"C"},{"$f":"IF(N34=\"\",\"\",IF(N34>=$AO$1/100,\"O\",\"X\"))","v":"O"},{"$f":"IF(I34=\"\",\"\",IF(I34<=$AP$1,\"O\",\"X\"))","v":"O"},{"$f":"IF(O34=\"\",\"\",IF(O34<=$AQ$1,\"O\",\"X\"))","v":"X"},{"$f":"IF(M34=\"\",\"\",IF(M34<=$AR$1,\"O\",\"X\"))","v":"O"},"X",{"$f":"IF(OR(F34=\"\",AI34=\"\"),\"\",IF(AND((F34<=85),(AI34>=15)),\"O\",\"X\"))","v":"X"},{"$f":"IF(C34=\"\",\"\",IF(C34>=$AU$1,\"O\",\"X\"))","v":"O"},{"$f":"IF(AO34=\"\",\"\",IF(AND(AO34=\"O\",AP34=\"O\",AR34=\"O\",AT34=\"O\",AU34=\"O\"),\"후보\",\"X\"))","v":"X"}]
["옥계현진에버빌","'09.04",1378,124.96,{"$f":"D35/3.305785","v":37.800401417515047},98.83,{"$f":"F35/3.305785","v":29.896076121102851},134,36000,16,34000,10,{"$f":"I35-K35","v":2000},{"$f":"IF(ISERROR(K35/I35),\"\",K35/I35)","v":0.94444444444444442},{"$f":"I35/E35","v":952.37083866837406},{"$f":"K35/E35","v":899.46134763124212},3,2,"계","124",null,null,124.96,37.800401417515047,134,36000,34000,2000,0.94444444444444442,952.37083866837406,{"$f":"S35","v":"계"},{"$f":"Q35&\"/\"&R35","v":"3/2"},null,"옥계현진에버빌",37.800401417515047,{"$f":"IF(AI35=\"\",\"\",$AJ$2)","v":"A-"},"A","A+","B+",{"$f":"IF(AI35=\"\",\"\",$AN$2)","v":"C"},{"$f":"IF(N35=\"\",\"\",IF(N35>=$AO$1/100,\"O\",\"X\"))","v":"O"},"O",{"$f":"IF(O35=\"\",\"\",IF(O35<=$AQ$1,\"O\",\"X\"))","v":"O"},{"$f":"IF(M35=\"\",\"\",IF(M35<=$AR$1,\"O\",\"X\"))","v":"O"},"X",{"$f":"IF(OR(F35=\"\",AI35=\"\"),\"\",IF(AND((F35<=85),(AI35>=15)),\"O\",\"X\"))","v":"X"},{"$f":"IF(C35=\"\",\"\",IF(C35>=$AU$1,\"O\",\"X\"))","v":"O"},{"$f":"IF(AO35=\"\",\"\",IF(AND(AO35=\"O\",AP35=\"O\",AR35=\"O\",AT35=\"O\",AU35=\"O\"),\"후보\",\"X\"))","v":"X"}]
["옥계현진에버빌","'09.04",1378,131.88999999999999,39.896726496127236,103.51,31.311776174191607,345,40300,4,35000,5,{"$f":"I36-K36","v":5300},{"$f":"IF(ISERROR(K36/I36),\"\",K36/I36)","v":0.86848635235732008},{"$f":"I36/E36","v":1010.1079346425053},{"$f":"K36/E36","v":877.26495564485572},3,2,"계","131B",null,null,131.88999999999999,39.896726496127236,345,40300,35000,5300,0.86848635235732008,1010.1079346425053,{"$f":"S36","v":"계"},{"$f":"Q36&\"/\"&R36","v":"3/2"},null,"옥계현진에버빌",39.896726496127236,{"$f":"IF(AI36=\"\",\"\",$AJ$2)","v":"A-"},"A","A+","B+",{"$f":"IF(AI36=\"\",\"\",$AN$2)","v":"C"},{"$f":"IF(N36=\"\",\"\",IF(N36>=$AO$1/100,\"O\",\"X\"))","v":"O"},"O",{"$f":"IF(O36=\"\",\"\",IF(O36<=$AQ$1,\"O\",\"X\"))","v":"X"},{"$f":"IF(M36=\"\",\"\",IF(M36<=$AR$1,\"O\",\"X\"))","v":"O"},"X",{"$f":"IF(OR(F36=\"\",AI36=\"\"),\"\",IF(AND((F36<=85),(AI36>=15)),\"O\",\"X\"))","v":"X"},{"$f":"IF(C36=\"\",\"\",IF(C36>=$AU$1,\"O\",\"X\"))","v":"O"},{"$f":"IF(AO36=\"\",\"\",IF(AND(AO36=\"O\",AP36=\"O\",AR36=\"O\",AT36=\"O\",AU36=\"O\"),\"후보\",\"X\"))","v":"X"}]
["옥계현진에버빌","'09.04",1378,131.72,39.8453014941988,102.52,31.01230116296129,133,39500,"중",30000,16,{"$f":"I37-K37","v":9500},{"$f":"IF(ISERROR(K37/I37),\"\",K37/I37)","v":0.759493670886076},{"$f":"I37/E37","v":991.33394700880672},{"$f":"K37/E37","v":752.91185848770124},3,2,"계","131A",null,null,131.72,39.8453014941988,133,39500,30000,9500,0.759493670886076,991.33394700880672,{"$f":"S37","v":"계"},{"$f":"Q37&\"/\"&R37","v":"3/2"},null,"옥계현진에버빌",39.8453014941988,{"$f":"IF(AI37=\"\",\"\",$AJ$2)","v":"A-"},"A","A+","B+",{"$f":"IF(AI37=\"\",\"\",$AN$2)","v":"C"},{"$f":"IF(N37=\"\",\"\",IF(N37>=$AO$1/100,\"O\",\"X\"))","v":"X"},"O",{"$f":"IF(O37=\"\",\"\",IF(O37<=$AQ$1,\"O\",\"X\"))","v":"O"},{"$f":"IF(M37=\"\",\"\",IF(M37<=$AR$1,\"O\",\"X\"))","v":"X"},"X",{"$f":"IF(OR(F37=\"\",AI37=\"\"),\"\",IF(AND((F37<=85),(AI37>=15)),\"O\",\"X\"))","v":"X"},{"$f":"IF(C37=\"\",\"\",IF(C37>=$AU$1,\"O\",\"X\"))","v":"O"},{"$f":"IF(AO37=\"\",\"\",IF(AND(AO37=\"O\",AP37=\"O\",AR37=\"O\",AT37=\"O\",AU37=\"O\"),\"후보\",\"X\"))","v":"X"}]
["옥계현진에버빌","'09.04",1378,142.27000000000001,43.036676613875372,113.69,34.391226289670982,61,45000,9,40000,8,{"$f":"I38-K38","v":5000},{"$f":"IF(ISERROR(K38/I38),\"\",K38/I38)","v":0.88888888888888884},{"$f":"I38/E38","v":1045.6197722640052},{"$f":"K38/E38","v":929.43979756800456},3,2,"계","142",null,null,{"$f":"$A$4&\" \"&A39&\"(\"&B39&\",\"&C39&\"^)\"","v":"옥계동 옥계현진에버빌('09.04,1378^)"},null,null,null,40000,null,null,null,null,null,null,"옥계현진에버빌",43.036676613875372,null,null,null,null,null,null,"O"]
["옥계현진에버빌","'09.04",1378,161.36000000000001,48.81140183042757,129.78,39.258451472191929,256,50000,23,40000,27,10000,0.8,1024.3508304412494,819.4806643529995,4,2,"계","161",null,null,{"$f":"D39","v":161.36000000000001},48.81140183042757,{"$f":"H39","v":256},50000,40000,{"$f":"M39","v":10000},0.8,1024.3508304412494,{"$f":"S39","v":"계"},{"$f":"Q39&\"/\"&R39","v":"4/2"},null,"옥계현진에버빌",48.81140183042757,{"$f":"IF(AI39=\"\",\"\",$AJ$2)","v":"A-"},"A","A+","B+",{"$f":"IF(AI39=\"\",\"\",$AN$2)","v":"C"},{"$f":"IF(N39=\"\",\"\",IF(N39>=$AO$1/100,\"O\",\"X\"))","v":"O"},"X",{"$f":"IF(O39=\"\",\"\",IF(O39<=$AQ$1,\"O\",\"X\"))","v":"X"},{"$f":"IF(M39=\"\",\"\",IF(M39<=$AR$1,\"O\",\"X\"))","v":"X"},"X",{"$f":"IF(OR(F39=\"\",AI39=\"\"),\"\",IF(AND((F39<=85),(AI39>=15)),\"O\",\"X\"))","v":"X"},{"$f":"IF(C39=\"\",\"\",IF(C39>=$AU$1,\"O\",\"X\"))","v":"O"},{"$f":"IF(AO39=\"\",\"\",IF(AND(AO39=\"O\",AP39=\"O\",AR39=\"O\",AT39=\"O\",AU39=\"O\"),\"후보\",\"X\"))","v":"X"}]
["옥계현진에버빌","'09.04",1378,194.88,58.951202210670075,154.88,46.851201756920062,128,58500,4,48000,33,10500,0.82051282051282048,992.34617456896569,814.23275862068976,4,2,"계","194",null,null,194.88,58.951202210670075,128,58500,48000,10500,0.82051282051282048,992.34617456896569,{"$f":"S40","v":"계"},{"$f":"Q40&\"/\"&R40","v":"4/2"},null,"옥계현진에버빌",58.951202210670075,{"$f":"IF(AI40=\"\",\"\",$AJ$2)","v":"A-"},"A","A+","B+",{"$f":"IF(AI40=\"\",\"\",$AN$2)","v":"C"},{"$f":"IF(N40=\"\",\"\",IF(N40>=$AO$1/100,\"O\",\"X\"))","v":"O"},"X",{"$f":"IF(O40=\"\",\"\",IF(O40<=$AQ$1,\"O\",\"X\"))","v":"O"},{"$f":"IF(M40=\"\",\"\",IF(M40<=$AR$1,\"O\",\"X\"))","v":"X"},"X",{"$f":"IF(OR(F40=\"\",AI40=\"\"),\"\",IF(AND((F40<=85),(AI40>=15)),\"O\",\"X\"))","v":"X"},{"$f":"IF(C40=\"\",\"\",IF(C40>=$AU$1,\"O\",\"X\"))","v":"O"},{"$f":"IF(AO40=\"\",\"\",IF(AND(AO40=\"O\",AP40=\"O\",AR40=\"O\",AT40=\"O\",AU40=\"O\"),\"후보\",\"X\"))","v":"X"}]
["옥계현진에버빌","'09.04",1378,226.67,68.567677571287902,187.67,56.770177128881635,12,62000,37,null,null,62000,0,904.21612917457105,0,4,3,"계","226B",null,null,226.67,68.567677571287902,12,62000,0,62000,0,904.21612917457105,{"$f":"S41","v":"계"},{"$f":"Q41&\"/\"&R41","v":"4/3"},null,"옥계현진에버빌",68.567677571287902,{"$f":"IF(AI41=\"\",\"\",$AJ$2)","v":"A-"},"A","A+","B+",{"$f":"IF(AI41=\"\",\"\",$AN$2)","v":"C"},{"$f":"IF(N41=\"\",\"\",IF(N41>=$AO$1/100,\"O\",\"X\"))","v":"X"},"X",{"$f":"IF(O41=\"\",\"\",IF(O41<=$AQ$1,\"O\",\"X\"))","v":"O"},{"$f":"IF(M41=\"\",\"\",IF(M41<=$AR$1,\"O\",\"X\"))","v":"X"},"X",{"$f":"IF(OR(F41=\"\",AI41=\"\"),\"\",IF(AND((F41<=85),(AI41>=15)),\"O\",\"X\"))","v":"X"},{"$f":"IF(C41=\"\",\"\",IF(C41>=$AU$1,\"O\",\"X\"))","v":"O"},{"$f":"IF(AO41=\"\",\"\",IF(AND(AO41=\"O\",AP41=\"O\",AR41=\"O\",AT41=\"O\",AU41=\"O\"),\"후보\",\"X\"))","v":"X"}]
["옥계현진에버빌","'09.04",1378,227.49,68.81572758058978,183.07,55.378677076700384,12,63000,35,null,null,63000,0,915.4883950942899,0,4,3,"계","227A",null,null,{"$f":"$A$4&\" \"&A44&\"(\"&B44&\",\"&C44&\"^)\"","v":"옥계동 김해관동일동미라주더스타('17.1,286^)"},null,null,null,null,null,null,null,null,null,null,"옥계현진에버빌",68.81572758058978,null,null,null,null,null,null,"X"]
[]
["김해관동일동미라주더스타","'17.1",286,111.6,33.759001265962546,85,25.712500964218783,187,null,null,null,null,{"$f":"I44-K44","v":0},{"$f":"IF(ISERROR(K44/I44),\"\",K44/I44)","v":""},{"$f":"I44/E44","v":0},{"$f":"K44/E44","v":0},3,2,"계","111A",null,null,{"$f":"D44","v":111.6},33.759001265962546,{"$f":"H44","v":187},0,{"$f":"K44","v":0},{"$f":"M44","v":0},"",0,{"$f":"S44","v":"계"},{"$f":"Q44&\"/\"&R44","v":"3/2"},null,"김해관동일동미라주더스타",33.759001265962546,{"$f":"IF(AI44=\"\",\"\",$AJ$2)","v":"A-"},"A","A+","B+",{"$f":"IF(AI44=\"\",\"\",$AN$2)","v":"C"},{"$f":"IF(N44=\"\",\"\",IF(N44>=$AO$1/100,\"O\",\"X\"))","v":""},{"$f":"IF(I44=\"\",\"\",IF(I44<=$AP$1,\"O\",\"X\"))","v":""},{"$f":"IF(O44=\"\",\"\",IF(O44<=$AQ$1,\"O\",\"X\"))","v":"O"},{"$f":"IF(M44=\"\",\"\",IF(M44<=$AR$1,\"O\",\"X\"))","v":"O"},"X",{"$f":"IF(OR(F44=\"\",AI44=\"\"),\"\",IF(AND((F44<=85),(AI44>=15)),\"O\",\"X\"))","v":"O"},{"$f":"IF(C44=\"\",\"\",IF(C44>=$AU$1,\"O\",\"X\"))","v":"X"},{"$f":"IF(AO44=\"\",\"\",IF(AND(AO44=\"O\",AP44=\"O\",AR44=\"O\",AT44=\"O\",AU44=\"O\"),\"후보\",\"X\"))","v":""}]
["김해관동일동미라주더스타","'17.1",286,112.5,34.031251276171922,84.9,25.68225096308441,71,null,null,null,null,{"$f":"I45-K45","v":0},{"$f":"IF(ISERROR(K45/I45),\"\",K45/I45)","v":""},{"$f":"I45/E45","v":0},{"$f":"K45/E45","v":0},3,2,"계","112B",null,null,112.5,34.031251276171922,71,0,{"$f":"K45","v":0},0,"",0,{"$f":"S45","v":"계"},{"$f":"Q45&\"/\"&R45","v":"3/2"},null,"김해관동일동미라주더스타",34.031251276171922,{"$f":"IF(AI45=\"\",\"\",$AJ$2)","v":"A-"},"A","A+","B+",{"$f":"IF(AI45=\"\",\"\",$AN$2)","v":"C"},{"$f":"IF(N45=\"\",\"\",IF(N45>=$AO$1/100,\"O\",\"X\"))","v":""},{"$f":"IF(I45=\"\",\"\",IF(I45<=$AP$1,\"O\",\"X\"))","v":""},{"$f":"IF(O45=\"\",\"\",IF(O45<=$AQ$1,\"O\",\"X\"))","v":"O"},{"$f":"IF(M45=\"\",\"\",IF(M45<=$AR$1,\"O\",\"X\"))","v":"O"},"X",{"$f":"IF(OR(F45=\"\",AI45=\"\"),\"\",IF(AND((F45<=85),(AI45>=15)),\"O\",\"X\"))","v":"O"},{"$f":"IF(C45=\"\",\"\",IF(C45>=$AU$1,\"O\",\"X\"))","v":"X"},{"$f":"IF(AO45=\"\",\"\",IF(AND(AO45=\"O\",AP45=\"O\",AR45=\"O\",AT45=\"O\",AU45=\"O\"),\"후보\",\"X\"))","v":""}]
["김해관동일동미라주더스타","'17.1",286,131.30000000000001,39.718251489434429,99.8,30.18950113210629,20,null,null,null,null,{"$f":"I46-K46","v":0},{"$f":"IF(ISERROR(K46/I46),\"\",K46/I46)","v":""},{"$f":"I46/E46","v":0},{"$f":"K46/E46","v":0},3,2,"계",131,null,null,131.30000000000001,39.718251489434429,20,0,{"$f":"K46","v":0},0,"",0,{"$f":"S46","v":"계"},{"$f":"Q46&\"/\"&R46","v":"3/2"},null,"김해관동일동미라주더스타",39.718251489434429,{"$f":"IF(AI46=\"\",\"\",$AJ$2)","v":"A-"},"A","A+","B+",{"$f":"IF(AI46=\"\",\"\",$AN$2)","v":"C"},{"$f":"IF(N46=\"\",\"\",IF(N46>=$AO$1/100,\"O\",\"X\"))","v":""},{"$f":"IF(I46=\"\",\"\",IF(I46<=$AP$1,\"O\",\"X\"))","v":""},{"$f":"IF(O46=\"\",\"\",IF(O46<=$AQ$1,\"O\",\"X\"))","v":"O"},{"$f":"IF(M46=\"\",\"\",IF(M46<=$AR$1,\"O\",\"X\"))","v":"O"},"X",{"$f":"IF(OR(F46=\"\",AI46=\"\"),\"\",IF(AND((F46<=85),(AI46>=15)),\"O\",\"X\"))","v":"X"},{"$f":"IF(C46=\"\",\"\",IF(C46>=$AU$1,\"O\",\"X\"))","v":"X"},{"$f":"IF(AO46=\"\",\"\",IF(AND(AO46=\"O\",AP46=\"O\",AR46=\"O\",AT46=\"O\",AU46=\"O\"),\"후보\",\"X\"))","v":""}]
["김해관동일동미라주더스타","'17.1",286,134,40.535001520062558,102.6,31.036501163868792,8,null,null,null,null,{"$f":"I47-K47","v":0},{"$f":"IF(ISERROR(K47/I47),\"\",K47/I47)","v":""},{"$f":"I47/E47","v":0},{"$f":"K47/E47","v":0},3,2,"계",134,null,null,134,40.535001520062558,8,0,{"$f":"K47","v":0},0,"",0,{"$f":"S47","v":"계"},{"$f":"Q47&\"/\"&R47","v":"3/2"},null,"김해관동일동미라주더스타",40.535001520062558,{"$f":"IF(AI47=\"\",\"\",$AJ$2)","v":"A-"},"A","A+","B+",{"$f":"IF(AI47=\"\",\"\",$AN$2)","v":"C"},{"$f":"IF(N47=\"\",\"\",IF(N47>=$AO$1/100,\"O\",\"X\"))","v":""},{"$f":"IF(I47=\"\",\"\",IF(I47<=$AP$1,\"O\",\"X\"))","v":""},{"$f":"IF(O47=\"\",\"\",IF(O47<=$AQ$1,\"O\",\"X\"))","v":"O"},{"$f":"IF(M47=\"\",\"\",IF(M47<=$AR$1,\"O\",\"X\"))","v":"O"},"X",{"$f":"IF(OR(F47=\"\",AI47=\"\"),\"\",IF(AND((F47<=85),(AI47>=15)),\"O\",\"X\"))","v":"X"},{"$f":"IF(C47=\"\",\"\",IF(C47>=$AU$1,\"O\",\"X\"))","v":"X"},{"$f":"IF(AO47=\"\",\"\",IF(AND(AO47=\"O\",AP47=\"O\",AR47=\"O\",AT47=\"O\",AU47=\"O\"),\"후보\",\"X\"))","v":""}]
[null,null,null,null,null,null,null,null,null,null,null,null,null,null,null,null,null,null,null,null,null,null,{"$f":"$A$4&\" \"&A49&\"(\"&B49&\",\"&C49&\"^)\"","v":"옥계동 죽림마을14단지동원로얄듀크('13.06,230^)"},null,null,null,null,null,null,null,null,null,null,"",""]
["죽림마을14단지동원로얄듀크","'13.06",230,111.1,33.607751260290669,85,25.712500964218783,94,null,null,null,null,{"$f":"I49-K49","v":0},{"$f":"IF(ISERROR(K49/I49),\"\",K49/I49)","v":""},{"$f":"I49/E49","v":0},{"$f":"K49/E49","v":0},3,2,"계","111A",null,null,{"$f":"D49","v":111.1},33.607751260290669,{"$f":"H49","v":94},0,{"$f":"K49","v":0},{"$f":"M49","v":0},"",0,{"$f":"S49","v":"계"},{"$f":"Q49&\"/\"&R49","v":"3/2"},null,"죽림마을14단지동원로얄듀크",33.607751260290669,{"$f":"IF(AI49=\"\",\"\",$AJ$2)","v":"A-"},"A","A+","B+",{"$f":"IF(AI49=\"\",\"\",$AN$2)","v":"C"},{"$f":"IF(N49=\"\",\"\",IF(N49>=$AO$1/100,\"O\",\"X\"))","v":""},{"$f":"IF(I49=\"\",\"\",IF(I49<=$AP$1,\"O\",\"X\"))","v":""},{"$f":"IF(O49=\"\",\"\",IF(O49<=$AQ$1,\"O\",\"X\"))","v":"O"},{"$f":"IF(M49=\"\",\"\",IF(M49<=$AR$1,\"O\",\"X\"))","v":"O"},"X",{"$f":"IF(OR(F49=\"\",AI49=\"\"),\"\",IF(AND((F49<=85),(AI49>=15)),\"O\",\"X\"))","v":"O"},{"$f":"IF(C49=\"\",\"\",IF(C49>=$AU$1,\"O\",\"X\"))","v":"X"},{"$f":"IF(AO49=\"\",\"\",IF(AND(AO49=\"O\",AP49=\"O\",AR49=\"O\",AT49=\"O\",AU49=\"O\"),\"후보\",\"X\"))","v":""}]
["죽림마을14단지동원로얄듀크","'13.06",230,111.2,33.638001261425046,85,25.712500964218783,50,null,null,null,null,{"$f":"I50-K50","v":0},{"$f":"IF(ISERROR(K50/I50),\"\",K50/I50)","v":""},{"$f":"I50/E50","v":0},{"$f":"K50/E50","v":0},3,2,"계","111C",null,null,111.2,33.638001261425046,50,0,{"$f":"K50","v":0},0,"",0,{"$f":"S50","v":"계"},{"$f":"Q50&\"/\"&R50","v":"3/2"},null,"죽림마을14단지동원로얄듀크",33.638001261425046,{"$f":"IF(AI50=\"\",\"\",$AJ$2)","v":"A-"},"A","A+","B+",{"$f":"IF(AI50=\"\",\"\",$AN$2)","v":"C"},{"$f":"IF(N50=\"\",\"\",IF(N50>=$AO$1/100,\"O\",\"X\"))","v":""},{"$f":"IF(I50=\"\",\"\",IF(I50<=$AP$1,\"O\",\"X\"))","v":""},{"$f":"IF(O50=\"\",\"\",IF(O50<=$AQ$1,\"O\",\"X\"))","v":"O"},{"$f":"IF(M50=\"\",\"\",IF(M50<=$AR$1,\"O\",\"X\"))","v":"O"},"X",{"$f":"IF(OR(F50=\"\",AI50=\"\"),\"\",IF(AND((F50<=85),(AI50>=15)),\"O\",\"X\"))","v":"O"},{"$f":"IF(C50=\"\",\"\",IF(C50>=$AU$1,\"O\",\"X\"))","v":"X"},{"$f":"IF(AO50=\"\",\"\",IF(AND(AO50=\"O\",AP50=\"O\",AR50=\"O\",AT50=\"O\",AU50=\"O\"),\"후보\",\"X\"))","v":""}]
["죽림마을14단지동원로얄듀크","'13.06",230,111.6,33.759001265962546,85,25.712500964218783,86,null,null,null,null,{"$f":"I51-K51","v":0},{"$f":"IF(ISERROR(K51/I51),\"\",K51/I51)","v":""},{"$f":"I51/E51","v":0},{"$f":"K51/E51","v":0},3,2,"계","111B",null,null,111.6,33.759001265962546,86,0,{"$f":"K51","v":0},0,"",0,{"$f":"S51","v":"계"},{"$f":"Q51&\"/\"&R51","v":"3/2"},null,"죽림마을14단지동원로얄듀크",33.759001265962546,{"$f":"IF(AI51=\"\",\"\",$AJ$2)","v":"A-"},"A","A+","B+",{"$f":"IF(AI51=\"\",\"\",$AN$2)","v":"C"},{"$f":"IF(N51=\"\",\"\",IF(N51>=$AO$1/100,\"O\",\"X\"))","v":""},{"$f":"IF(I51=\"\",\"\",IF(I51<=$AP$1,\"O\",\"X\"))","v":""},{"$f":"IF(O51=\"\",\"\",IF(O51<=$AQ$1,\"O\",\"X\"))","v":"O"},{"$f":"IF(M51=\"\",\"\",IF(M51<=$AR$1,\"O\",\"X\"))","v":"O"},"X",{"$f":"IF(OR(F51=\"\",AI51=\"\"),\"\",IF(AND((F51<=85),(AI51>=15)),\"O\",\"X\"))","v":"O"},{"$f":"IF(C51=\"\",\"\",IF(C51>=$AU$1,\"O\",\"X\"))","v":"X"},{"$f":"IF(AO51=\"\",\"\",IF(AND(AO51=\"O\",AP51=\"O\",AR51=\"O\",AT51=\"O\",AU51=\"O\"),\"후보\",\"X\"))","v":""}]
[null,null,null,null,null,null,null,null,null,null,null,null,null,null,null,null,null,null,null,null,null,null,{"$f":"$A$4&\" \"&A53&\"(\"&B53&\",\"&C53&\"^)\"","v":"옥계동 팔판마을2단지부영그린타운8차('05.06,224^)"},null,null,null,null,null,null,null,null,null,null,"",""]
["팔판마을2단지부영그린타운8차","'05.06",224,104.7,31.671751187690667,84.8,25.652000961950034,224,null,null,null,null,{"$f":"I53-K53","v":0},{"$f":"IF(ISERROR(K53/I53),\"\",K53/I53)","v":""},{"$f":"I53/E53","v":0},{"$f":"K53/E53","v":0},3,2,"계",104,null,null,{"$f":"D53","v":104.7},{"$f":"E53","v":31.671751187690667},{"$f":"H53","v":224},{"$f":"I53","v":0},{"$f":"K53","v":0},{"$f":"M53","v":0},{"$f":"N53","v":""},{"$f":"O53","v":0},{"$f":"S53","v":"계"},{"$f":"Q53&\"/\"&R53","v":"3/2"},null,"팔판마을2단지부영그린타운8차",31.671751187690667,{"$f":"IF(AI53=\"\",\"\",$AJ$2)","v":"A-"},"A","A+","B+",{"$f":"IF(AI53=\"\",\"\",$AN$2)","v":"C"},{"$f":"IF(N53=\"\",\"\",IF(N53>=$AO$1/100,\"O\",\"X\"))","v":""},{"$f":"IF(I53=\"\",\"\",IF(I53<=$AP$1,\"O\",\"X\"))","v":""},{"$f":"IF(O53=\"\",\"\",IF(O53<=$AQ$1,\"O\",\"X\"))","v":"O"},{"$f":"IF(M53=\"\",\"\",IF(M53<=$AR$1,\"O\",\"X\"))","v":"O"},"X",{"$f":"IF(OR(F53=\"\",AI53=\"\"),\"\",IF(AND((F53<=85),(AI53>=15)),\"O\",\"X\"))","v":"O"},{"$f":"IF(C53=\"\",\"\",IF(C53>=$AU$1,\"O\",\"X\"))","v":"X"},{"$f":"IF(AO53=\"\",\"\",IF(AND(AO53=\"O\",AP53=\"O\",AR53=\"O\",AT53=\"O\",AU53=\"O\"),\"후보\",\"X\"))","v":""}]

{"sheet":"봉곡동","index":6,"n_rows":69,"n_cols":48,"rows_kept":69,"cut":false,"hidden":false,"merged":[[0,35,0,39]]}
[{"$f":"단지추출!A1","v":"구미시"},null,null,null,null,null,null,null,"추출대상",null,null,null,null,null,null,null,null,null,null,null,null,null,null,"매매가 최대(색상 최대)",null,null,{"$f":"단지추출!AA1","v":70000},null,null,null,null,null,null,{"$f":"A1","v":"구미시"},null,{"$f":"A1&\" 전체 등급\"","v":"구미시 전체 등급"},null,null,null,null,{"$f":"단지추출!AO1","v":80},{"$f":"단지추출!AP1","v":45000},{"$f":"단지추출!AQ1","v":1000},{"$f":"단지추출!AR1","v":6000},null,null,{"$f":"단지추출!AU1","v":300}]
[{"$f":"단지추출!A2","v":"2022-01-01"},null,null,null,null,null,null,null,null,null,null,null,null,null,null,null,null,null,null,null,null,null,null,"매매가 최소(색상 최소)",null,null,{"$f":"단지추출!AA2","v":10000},null,null,null,null,null,null,{"$f":"AH1 &\" \" &A4","v":"구미시 구산동"},null,{"$f":"단지추출!AJ2","v":"A-"},{"$f":"단지추출!AK2","v":"A"},{"$f":"단지추출!AL2","v":"A"},{"$f":"단지추출!AM2","v":"A"},{"$f":"단지추출!AN2","v":"C"},"원금보전",null,null,"수익성",null,"환금성"]
["단지명","입주\n연도","총세\n대수","공급\n(m2)","공급\n면적","전용\n(m2)","전용\n면적","세대","매매\n최저가","층","전세\n최고가","층","매전갭","전세\n가율","매매\n평단","전세\n평단","방","욕\n실","구\n조","매/전/월\nType","비고",null,"공급\n(m2)","공급\n면적","세대","매매가","전세가","매전갭","전세\n가율","평단가","구\n조","방/\n욕실",null,{"$f":"IF(A3=\"\",\"\",A3)","v":"단지명"},{"$f":"IF(E3=\"\",\"\",E3)","v":"공급\n면적"},"직장","교통","학군","환경","공급",{"$f":"\"전세가율★\n(\"&AO1&\"%↑)\"","v":"전세가율★\n(80%↑)"},{"$f":"\"절대가★\n(\"&AP1/10000&\"억↓)\"","v":"절대가★\n(4.5억↓)"},{"$f":"\"지역평단가\n(\"&AQ1&\"↓)\"","v":"지역평단가\n(1000↓)"},{"$f":"\"투자규모★\n(갭\"&AR1/1000&\"천↓)\"","v":"투자규모★\n(갭6천↓)"},"전고점\n이하","평형★\n(15~34평)",{"$f":"\"단지규모★\n(\"&AU1&\"^↑)\"","v":"단지규모★\n(300^↑)"},"투자후보"]
["구산동",null,null,null,null,null,null,null,null,null,null,null,null,null,null,null,null,null,null,null,null,null,null,null,null,null,null,null,null,null,null,null,null,null,""]
[null,null,null,null,null,null,null,null,null,null,null,null,null,null,null,null,null,null,null,null,null,null,{"$f":"$A$4&\" \"&A6&\"(\"&B6&\",\"&C6&\"^)\"","v":"구산동 구지마을2단지한일유앤아이('04.06,1308^)"},null,null,null,null,null,null,null,null,null,null,{"$f":"IF(A5=\"\",\"\",A5)","v":""},""]
["구지마을2단지한일유앤아이","'04.06",1308,78.400000000000006,24,59.8,18,1308,null,null,null,null,{"$f":"I6-K6","v":0},{"$f":"IF(ISERROR(K6/I6),\"\",K6/I6)","v":""},{"$f":"I6/E6","v":0},{"$f":"K6/E6","v":0},3,2,"계",78,null,null,{"$f":"D6","v":78.400000000000006},{"$f":"E6","v":24},{"$f":"H6","v":1308},{"$f":"I6","v":0},{"$f":"K6","v":0},{"$f":"M6","v":0},{"$f":"N6","v":""},{"$f":"O6","v":0},{"$f":"S6","v":"계"},{"$f":"Q6&\"/\"&R6","v":"3/2"},null,"구지마을2단지한일유앤아이",24,{"$f":"IF(AI6=\"\",\"\",$AJ$2)","v":"A-"},"A","A+","B+",{"$f":"IF(AI6=\"\",\"\",$AN$2)","v":"C"},{"$f":"IF(N6=\"\",\"\",IF(N6>=$AO$1/100,\"O\",\"X\"))","v":""},{"$f":"IF(I6=\"\",\"\",IF(I6<=$AP$1,\"O\",\"X\"))","v":""},{"$f":"IF(O6=\"\",\"\",IF(O6<=$AQ$1,\"O\",\"X\"))","v":"O"},{"$f":"IF(M6=\"\",\"\",IF(M6<=$AR$1,\"O\",\"X\"))","v":"O"},"X",{"$f":"IF(OR(F6=\"\",AI6=\"\"),\"\",IF(AND((F6<=85),(AI6>=15)),\"O\",\"X\"))","v":"O"},{"$f":"IF(C6=\"\",\"\",IF(C6>=$AU$1,\"O\",\"X\"))","v":"O"},{"$f":"IF(AO6=\"\",\"\",IF(AND(AO6=\"O\",AP6=\"O\",AR6=\"O\",AT6=\"O\",AU6=\"O\"),\"후보\",\"X\"))","v":""}]
[null,null,null,null,null,null,null,null,null,null,null,null,null,null,null,null,null,null,null,null,null,null,{"$f":"$A$4&\" \"&A8&\"(\"&B8&\",\"&C8&\"^)\"","v":"구산동 구지마을1단지동원('01.12,954^)"},null,null,null,null,null,null,null,null,null,null,"",""]
["구지마을1단지동원","'01.12",954,70,21,49.9,15,400,null,null,null,null,{"$f":"I8-K8","v":0},{"$f":"IF(ISERROR(K8/I8),\"\",K8/I8)","v":""},{"$f":"I8/E8","v":0},{"$f":"K8/E8","v":0},2,1,"계",70,null,null,{"$f":"D8","v":70},{"$f":"E8","v":21},{"$f":"H8","v":400},{"$f":"I8","v":0},{"$f":"K8","v":0},{"$f":"M8","v":0},"",0,{"$f":"S8","v":"계"},{"$f":"Q8&\"/\"&R8","v":"2/1"},null,"구지마을1단지동원",21,{"$f":"IF(AI8=\"\",\"\",$AJ$2)","v":"A-"},"A","A+","B+",{"$f":"IF(AI8=\"\",\"\",$AN$2)","v":"C"},{"$f":"IF(N8=\"\",\"\",IF(N8>=$AO$1/100,\"O\",\"X\"))","v":""},{"$f":"IF(I8=\"\",\"\",IF(I8<=$AP$1,\"O\",\"X\"))","v":""},{"$f":"IF(O8=\"\",\"\",IF(O8<=$AQ$1,\"O\",\"X\"))","v":"O"},{"$f":"IF(M8=\"\",\"\",IF(M8<=$AR$1,\"O\",\"X\"))","v":"O"},"X",{"$f":"IF(OR(F8=\"\",AI8=\"\"),\"\",IF(AND((F8<=85),(AI8>=15)),\"O\",\"X\"))","v":"O"},{"$f":"IF(C8=\"\",\"\",IF(C8>=$AU$1,\"O\",\"X\"))","v":"O"},{"$f":"IF(AO8=\"\",\"\",IF(AND(AO8=\"O\",AP8=\"O\",AR8=\"O\",AT8=\"O\",AU8=\"O\"),\"후보\",\"X\"))","v":""}]
["구지마을1단지동원","'01.12",954,81,25,60,18,554,null,null,null,null,{"$f":"I9-K9","v":0},{"$f":"IF(ISERROR(K9/I9),\"\",K9/I9)","v":""},{"$f":"I9/E9","v":0},{"$f":"K9/E9","v":0},3,1,"계",80,null,null,{"$f":"D9","v":81},{"$f":"E9","v":25},{"$f":"H9","v":554},{"$f":"I9","v":0},{"$f":"K9","v":0},0,"",0,{"$f":"S9","v":"계"},{"$f":"Q9&\"/\"&R9","v":"3/1"},null,"구지마을1단지동원",25,{"$f":"IF(AI9=\"\",\"\",$AJ$2)","v":"A-"},"A","A+","B+",{"$f":"IF(AI9=\"\",\"\",$AN$2)","v":"C"},{"$f":"IF(N9=\"\",\"\",IF(N9>=$AO$1/100,\"O\",\"X\"))","v":""},{"$f":"IF(I9=\"\",\"\",IF(I9<=$AP$1,\"O\",\"X\"))","v":""},{"$f":"IF(O9=\"\",\"\",IF(O9<=$AQ$1,\"O\",\"X\"))","v":"O"},{"$f":"IF(M9=\"\",\"\",IF(M9<=$AR$1,\"O\",\"X\"))","v":"O"},"X",{"$f":"IF(OR(F9=\"\",AI9=\"\"),\"\",IF(AND((F9<=85),(AI9>=15)),\"O\",\"X\"))","v":"O"},{"$f":"IF(C9=\"\",\"\",IF(C9>=$AU$1,\"O\",\"X\"))","v":"O"},{"$f":"IF(AO9=\"\",\"\",IF(AND(AO9=\"O\",AP9=\"O\",AR9=\"O\",AT9=\"O\",AU9=\"O\"),\"후보\",\"X\"))","v":""}]
[null,null,null,null,null,null,null,null,null,null,null,null,null,null,null,null,null,null,null,null,null,null,{"$f":"$A$4&\" \"&A11&\"(\"&B11&\",\"&C11&\"^)\"","v":"구산동 광남백조('94.01,836^)"},null,null,null,null,null,null,null,null,null,null,"",""]
["광남백조","'94.01",836,49.3,15,38,12,24,null,null,null,null,{"$f":"I11-K11","v":0},{"$f":"IF(ISERROR(K11/I11),\"\",K11/I11)","v":""},{"$f":"I11/E11","v":0},{"$f":"K11/E11","v":0},2,1,"계",49,null,null,{"$f":"D11","v":49.3},{"$f":"E11","v":15},{"$f":"H11","v":24},{"$f":"I11","v":0},{"$f":"K11","v":0},{"$f":"M11","v":0},"",0,{"$f":"S11","v":"계"},{"$f":"Q11&\"/\"&R11","v":"2/1"},null,"광남백조",15,{"$f":"IF(AI11=\"\",\"\",$AJ$2)","v":"A-"},"A","A+","B+",{"$f":"IF(AI11=\"\",\"\",$AN$2)","v":"C"},{"$f":"IF(N11=\"\",\"\",IF(N11>=$AO$1/100,\"O\",\"X\"))","v":""},{"$f":"IF(I11=\"\",\"\",IF(I11<=$AP$1,\"O\",\"X\"))","v":""},{"$f":"IF(O11=\"\",\"\",IF(O11<=$AQ$1,\"O\",\"X\"))","v":"O"},{"$f":"IF(M11=\"\",\"\",IF(M11<=$AR$1,\"O\",\"X\"))","v":"O"},"X",{"$f":"IF(OR(F11=\"\",AI11=\"\"),\"\",IF(AND((F11<=85),(AI11>=15)),\"O\",\"X\"))","v":"O"},{"$f":"IF(C11=\"\",\"\",IF(C11>=$AU$1,\"O\",\"X\"))","v":"O"},{"$f":"IF(AO11=\"\",\"\",IF(AND(AO11=\"O\",AP11=\"O\",AR11=\"O\",AT11=\"O\",AU11=\"O\"),\"후보\",\"X\"))","v":""}]
["광남백조","'94.01",836,72.2,22,60.1,18,812,null,null,null,null,{"$f":"I12-K12","v":0},{"$f":"IF(ISERROR(K12/I12),\"\",K12/I12)","v":""},{"$f":"I12/E12","v":0},{"$f":"K12/E12","v":0},3,1,"계",72,null,null,{"$f":"D12","v":72.2},{"$f":"E12","v":22},{"$f":"H12","v":812},{"$f":"I12","v":0},{"$f":"K12","v":0},0,"",0,{"$f":"S12","v":"계"},{"$f":"Q12&\"/\"&R12","v":"3/1"},null,"광남백조",22,{"$f":"IF(AI12=\"\",\"\",$AJ$2)","v":"A-"},"A","A+","B+",{"$f":"IF(AI12=\"\",\"\",$AN$2)","v":"C"},{"$f":"IF(N12=\"\",\"\",IF(N12>=$AO$1/100,\"O\",\"X\"))","v":""},{"$f":"IF(I12=\"\",\"\",IF(I12<=$AP$1,\"O\",\"X\"))","v":""},{"$f":"IF(O12=\"\",\"\",IF(O12<=$AQ$1,\"O\",\"X\"))","v":"O"},{"$f":"IF(M12=\"\",\"\",IF(M12<=$AR$1,\"O\",\"X\"))","v":"O"},"X",{"$f":"IF(OR(F12=\"\",AI12=\"\"),\"\",IF(AND((F12<=85),(AI12>=15)),\"O\",\"X\"))","v":"O"},{"$f":"IF(C12=\"\",\"\",IF(C12>=$AU$1,\"O\",\"X\"))","v":"O"},{"$f":"IF(AO12=\"\",\"\",IF(AND(AO12=\"O\",AP12=\"O\",AR12=\"O\",AT12=\"O\",AU12=\"O\"),\"후보\",\"X\"))","v":""}]
[null,null,null,null,null,null,null,null,null,null,null,null,null,null,null,null,null,null,null,null,null,null,{"$f":"$A$4&\" \"&A14&\"(\"&B14&\",\"&C14&\"^)\"","v":"구산동 김해구산주공3단지('00.03,810^)"},null,null,null,null,null,null,null,null,null,null,"",""]
["김해구산주공3단지","'00.03",810,68.3,21,56,17,1,null,null,null,null,{"$f":"I14-K14","v":0},{"$f":"IF(ISERROR(K14/I14),\"\",K14/I14)","v":""},{"$f":"I14/E14","v":0},{"$f":"K14/E14","v":0},3,1,"계","68B",null,null,{"$f":"D14","v":68.3},21,{"$f":"H14","v":1},0,{"$f":"K14","v":0},{"$f":"M14","v":0},"",0,{"$f":"S14","v":"계"},{"$f":"Q14&\"/\"&R14","v":"3/1"},null,"김해구산주공3단지",21,{"$f":"IF(AI14=\"\",\"\",$AJ$2)","v":"A-"},"A","A+","B+",{"$f":"IF(AI14=\"\",\"\",$AN$2)","v":"C"},{"$f":"IF(N14=\"\",\"\",IF(N14>=$AO$1/100,\"O\",\"X\"))","v":""},{"$f":"IF(I14=\"\",\"\",IF(I14<=$AP$1,\"O\",\"X\"))","v":""},{"$f":"IF(O14=\"\",\"\",IF(O14<=$AQ$1,\"O\",\"X\"))","v":"O"},{"$f":"IF(M14=\"\",\"\",IF(M14<=$AR$1,\"O\",\"X\"))","v":"O"},"X",{"$f":"IF(OR(F14=\"\",AI14=\"\"),\"\",IF(AND((F14<=85),(AI14>=15)),\"O\",\"X\"))","v":"O"},{"$f":"IF(C14=\"\",\"\",IF(C14>=$AU$1,\"O\",\"X\"))","v":"O"},{"$f":"IF(AO14=\"\",\"\",IF(AND(AO14=\"O\",AP14=\"O\",AR14=\"O\",AT14=\"O\",AU14=\"O\"),\"후보\",\"X\"))","v":""}]
["김해구산주공3단지","'00.03",810,72.099999999999994,22,59.8,18,30,null,null,null,null,{"$f":"I15-K15","v":0},{"$f":"IF(ISERROR(K15/I15),\"\",K15/I15)","v":""},{"$f":"I15/E15","v":0},{"$f":"K15/E15","v":0},3,1,"계","72C",null,null,72.099999999999994,22,30,0,{"$f":"K15","v":0},0,"",0,{"$f":"S15","v":"계"},{"$f":"Q15&\"/\"&R15","v":"3/1"},null,"김해구산주공3단지",22,{"$f":"IF(AI15=\"\",\"\",$AJ$2)","v":"A-"},"A","A+","B+",{"$f":"IF(AI15=\"\",\"\",$AN$2)","v":"C"},{"$f":"IF(N15=\"\",\"\",IF(N15>=$AO$1/100,\"O\",\"X\"))","v":""},{"$f":"IF(I15=\"\",\"\",IF(I15<=$AP$1,\"O\",\"X\"))","v":""},{"$f":"IF(O15=\"\",\"\",IF(O15<=$AQ$1,\"O\",\"X\"))","v":"O"},{"$f":"IF(M15=\"\",\"\",IF(M15<=$AR$1,\"O\",\"X\"))","v":"O"},"X",{"$f":"IF(OR(F15=\"\",AI15=\"\"),\"\",IF(AND((F15<=85),(AI15>=15)),\"O\",\"X\"))","v":"O"},{"$f":"IF(C15=\"\",\"\",IF(C15>=$AU$1,\"O\",\"X\"))","v":"O"},{"$f":"IF(AO15=\"\",\"\",IF(AND(AO15=\"O\",AP15=\"O\",AR15=\"O\",AT15=\"O\",AU15=\"O\"),\"후보\",\"X\"))","v":""}]
["김해구산주공3단지","'00.03",810,72.3,22,60,18,599,null,null,null,null,{"$f":"I16-K16","v":0},{"$f":"IF(ISERROR(K16/I16),\"\",K16/I16)","v":""},{"$f":"I16/E16","v":0},{"$f":"K16/E16","v":0},3,1,"계","72A",null,null,72.3,22,599,0,{"$f":"K16","v":0},0,"",0,{"$f":"S16","v":"계"},{"$f":"Q16&\"/\"&R16","v":"3/1"},null,"김해구산주공3단지",22,{"$f":"IF(AI16=\"\",\"\",$AJ$2)","v":"A-"},"A","A+","B+",{"$f":"IF(AI16=\"\",\"\",$AN$2)","v":"C"},{"$f":"IF(N16=\"\",\"\",IF(N16>=$AO$1/100,\"O\",\"X\"))","v":""},{"$f":"IF(I16=\"\",\"\",IF(I16<=$AP$1,\"O\",\"X\"))","v":""},{"$f":"IF(O16=\"\",\"\",IF(O16<=$AQ$1,\"O\",\"X\"))","v":"O"},{"$f":"IF(M16=\"\",\"\",IF(M16<=$AR$1,\"O\",\"X\"))","v":"O"},"X",{"$f":"IF(OR(F16=\"\",AI16=\"\"),\"\",IF(AND((F16<=85),(AI16>=15)),\"O\",\"X\"))","v":"O"},{"$f":"IF(C16=\"\",\"\",IF(C16>=$AU$1,\"O\",\"X\"))","v":"O"},{"$f":"IF(AO16=\"\",\"\",IF(AND(AO16=\"O\",AP16=\"O\",AR16=\"O\",AT16=\"O\",AU16=\"O\"),\"후보\",\"X\"))","v":""}]
["김해구산주공3단지","'00.03",810,97.4,30,84.9,26,180,null,null,null,null,{"$f":"I17-K17","v":0},{"$f":"IF(ISERROR(K17/I17),\"\",K17/I17)","v":""},{"$f":"I17/E17","v":0},{"$f":"K17/E17","v":0},3,2,"계",97,null,null,97.4,30,180,0,{"$f":"K17","v":0},0,"",0,{"$f":"S17","v":"계"},{"$f":"Q17&\"/\"&R17","v":"3/2"},null,"김해구산주공3단지",30,{"$f":"IF(AI17=\"\",\"\",$AJ$2)","v":"A-"},"A","A+","B+",{"$f":"IF(AI17=\"\",\"\",$AN$2)","v":"C"},{"$f":"IF(N17=\"\",\"\",IF(N17>=$AO$1/100,\"O\",\"X\"))","v":""},{"$f":"IF(I17=\"\",\"\",IF(I17<=$AP$1,\"O\",\"X\"))","v":""},{"$f":"IF(O17=\"\",\"\",IF(O17<=$AQ$1,\"O\",\"X\"))","v":"O"},{"$f":"IF(M17=\"\",\"\",IF(M17<=$AR$1,\"O\",\"X\"))","v":"O"},"X",{"$f":"IF(OR(F17=\"\",AI17=\"\"),\"\",IF(AND((F17<=85),(AI17>=15)),\"O\",\"X\"))","v":"O"},{"$f":"IF(C17=\"\",\"\",IF(C17>=$AU$1,\"O\",\"X\"))","v":"O"},{"$f":"IF(AO17=\"\",\"\",IF(AND(AO17=\"O\",AP17=\"O\",AR17=\"O\",AT17=\"O\",AU17=\"O\"),\"후보\",\"X\"))","v":""}]
[null,null,null,null,null,null,null,null,null,null,null,null,null,null,null,null,null,null,null,null,null,null,{"$f":"$A$4&\" \"&A19&\"(\"&B19&\",\"&C19&\"^)\"","v":"구산동 한라비발디('07.08,749^)"},null,null,null,null,null,null,null,null,null,null,"",""]
["한라비발디","'07.08",749,112.9,34,85,26,389,null,null,null,null,{"$f":"I19-K19","v":0},{"$f":"IF(ISERROR(K19/I19),\"\",K19/I19)","v":""},{"$f":"I19/E19","v":0},{"$f":"K19/E19","v":0},3,2,"계",112,null,null,{"$f":"D19","v":112.9},34,{"$f":"H19","v":389},0,{"$f":"K19","v":0},{"$f":"M19","v":0},"",0,{"$f":"S19","v":"계"},{"$f":"Q19&\"/\"&R19","v":"3/2"},null,"한라비발디",34,{"$f":"IF(AI19=\"\",\"\",$AJ$2)","v":"A-"},"A","A+","B+",{"$f":"IF(AI19=\"\",\"\",$AN$2)","v":"C"},{"$f":"IF(N19=\"\",\"\",IF(N19>=$AO$1/100,\"O\",\"X\"))","v":""},{"$f":"IF(I19=\"\",\"\",IF(I19<=$AP$1,\"O\",\"X\"))","v":""},{"$f":"IF(O19=\"\",\"\",IF(O19<=$AQ$1,\"O\",\"X\"))","v":"O"},{"$f":"IF(M19=\"\",\"\",IF(M19<=$AR$1,\"O\",\"X\"))","v":"O"},"X",{"$f":"IF(OR(F19=\"\",AI19=\"\"),\"\",IF(AND((F19<=85),(AI19>=15)),\"O\",\"X\"))","v":"O"},{"$f":"IF(C19=\"\",\"\",IF(C19>=$AU$1,\"O\",\"X\"))","v":"O"},{"$f":"IF(AO19=\"\",\"\",IF(AND(AO19=\"O\",AP19=\"O\",AR19=\"O\",AT19=\"O\",AU19=\"O\"),\"후보\",\"X\"))","v":""}]
["한라비발디","'07.08",749,152.4,46,127.2,39,210,null,null,null,null,{"$f":"I20-K20","v":0},{"$f":"IF(ISERROR(K20/I20),\"\",K20/I20)","v":""},{"$f":"I20/E20","v":0},{"$f":"K20/E20","v":0},4,2,"계",152,null,null,152.4,46,210,0,{"$f":"K20","v":0},0,"",0,{"$f":"S20","v":"계"},{"$f":"Q20&\"/\"&R20","v":"4/2"},null,"한라비발디",46,{"$f":"IF(AI20=\"\",\"\",$AJ$2)","v":"A-"},"A","A+","B+",{"$f":"IF(AI20=\"\",\"\",$AN$2)","v":"C"},{"$f":"IF(N20=\"\",\"\",IF(N20>=$AO$1/100,\"O\",\"X\"))","v":""},{"$f":"IF(I20=\"\",\"\",IF(I20<=$AP$1,\"O\",\"X\"))","v":""},{"$f":"IF(O20=\"\",\"\",IF(O20<=$AQ$1,\"O\",\"X\"))","v":"O"},{"$f":"IF(M20=\"\",\"\",IF(M20<=$AR$1,\"O\",\"X\"))","v":"O"},"X",{"$f":"IF(OR(F20=\"\",AI20=\"\"),\"\",IF(AND((F20<=85),(AI20>=15)),\"O\",\"X\"))","v":"X"},{"$f":"IF(C20=\"\",\"\",IF(C20>=$AU$1,\"O\",\"X\"))","v":"O"},{"$f":"IF(AO20=\"\",\"\",IF(AND(AO20=\"O\",AP20=\"O\",AR20=\"O\",AT20=\"O\",AU20=\"O\"),\"후보\",\"X\"))","v":""}]
["한라비발디","'07.08",749,182.8,55,155.6,47,150,null,null,null,null,{"$f":"I21-K21","v":0},{"$f":"IF(ISERROR(K21/I21),\"\",K21/I21)","v":""},{"$f":"I21/E21","v":0},{"$f":"K21/E21","v":0},4,2,"계",182,null,null,182.8,55,150,0,{"$f":"K21","v":0},0,"",0,{"$f":"S21","v":"계"},{"$f":"Q21&\"/\"&R21","v":"4/2"},null,"한라비발디",55,{"$f":"IF(AI21=\"\",\"\",$AJ$2)","v":"A-"},"A","A+","B+",{"$f":"IF(AI21=\"\",\"\",$AN$2)","v":"C"},{"$f":"IF(N21=\"\",\"\",IF(N21>=$AO$1/100,\"O\",\"X\"))","v":""},{"$f":"IF(I21=\"\",\"\",IF(I21<=$AP$1,\"O\",\"X\"))","v":""},{"$f":"IF(O21=\"\",\"\",IF(O21<=$AQ$1,\"O\",\"X\"))","v":"O"},{"$f":"IF(M21=\"\",\"\",IF(M21<=$AR$1,\"O\",\"X\"))","v":"O"},"X",{"$f":"IF(OR(F21=\"\",AI21=\"\"),\"\",IF(AND((F21<=85),(AI21>=15)),\"O\",\"X\"))","v":"X"},{"$f":"IF(C21=\"\",\"\",IF(C21>=$AU$1,\"O\",\"X\"))","v":"O"},{"$f":"IF(AO21=\"\",\"\",IF(AND(AO21=\"O\",AP21=\"O\",AR21=\"O\",AT21=\"O\",AU21=\"O\"),\"후보\",\"X\"))","v":""}]
[null,null,null,null,null,null,null,null,null,null,null,null,null,null,null,null,null,null,null,null,null,null,{"$f":"$A$4&\" \"&A23&\"(\"&B23&\",\"&C23&\"^)\"","v":"구산동 구산이진캐스빌2단지('13.09,668^)"},null,null,null,null,null,null,null,null,null,null,"",""]
["구산이진캐스빌2단지","'13.09",668,94.3,29,73.099999999999994,22,122,null,null,null,null,{"$f":"I23-K23","v":0},{"$f":"IF(ISERROR(K23/I23),\"\",K23/I23)","v":""},{"$f":"I23/E23","v":0},{"$f":"K23/E23","v":0},3,2,"계",94,null,null,{"$f":"D23","v":94.3},29,{"$f":"H23","v":122},0,{"$f":"K23","v":0},{"$f":"M23","v":0},"",0,{"$f":"S23","v":"계"},{"$f":"Q23&\"/\"&R23","v":"3/2"},null,"구산이진캐스빌2단지",29,{"$f":"IF(AI23=\"\",\"\",$AJ$2)","v":"A-"},"A","A+","B+",{"$f":"IF(AI23=\"\",\"\",$AN$2)","v":"C"},{"$f":"IF(N23=\"\",\"\",IF(N23>=$AO$1/100,\"O\",\"X\"))","v":""},{"$f":"IF(I23=\"\",\"\",IF(I23<=$AP$1,\"O\",\"X\"))","v":""},{"$f":"IF(O23=\"\",\"\",IF(O23<=$AQ$1,\"O\",\"X\"))","v":"O"},{"$f":"IF(M23=\"\",\"\",IF(M23<=$AR$1,\"O\",\"X\"))","v":"O"},"X",{"$f":"IF(OR(F23=\"\",AI23=\"\"),\"\",IF(AND((F23<=85),(AI23>=15)),\"O\",\"X\"))","v":"O"},{"$f":"IF(C23=\"\",\"\",IF(C23>=$AU$1,\"O\",\"X\"))","v":"O"},{"$f":"IF(AO23=\"\",\"\",IF(AND(AO23=\"O\",AP23=\"O\",AR23=\"O\",AT23=\"O\",AU23=\"O\"),\"후보\",\"X\"))","v":""}]
["구산이진캐스빌2단지","'13.09",668,109.8,33,85,26,242,null,null,null,null,0,"",0,0,3,2,"계","109A",null,null,109.8,33,242,0,0,0,"",0,"계","3/2",null,"구산이진캐스빌2단지",33,"A-","A","A+","B+","C","","","O","O","X","O","O",""]
["구산이진캐스빌2단지","'13.09",668,111,34,85,26,235,null,null,null,null,0,"",0,0,3,2,"계","110B",null,null,111,34,235,0,0,0,"",0,"계","3/2",null,"구산이진캐스빌2단지",34,"A-","A","A+","B+","C","","","O","O","X","O","O",""]
["구산이진캐스빌2단지","'13.09",668,144.30000000000001,44,113.7,34,62,null,null,null,null,0,"",0,0,4,2,"계",144,null,null,144.30000000000001,44,62,0,0,0,"",0,"계","4/2",null,"구산이진캐스빌2단지",44,"A-","A","A+","B+","C","","","O","O","X","X","O",""]
["구산이진캐스빌2단지","'13.09",668,213,65,166.4,50,5,null,null,null,null,0,"",0,0,4,2,"계",213,null,null,213,65,5,0,0,0,"",0,"계","4/2",null,"구산이진캐스빌2단지",65,"A-","A","A+","B+","C","","","O","O","X","X","O",""]
["구산이진캐스빌2단지","'13.09",668,278.60000000000002,84,220,67,2,null,null,null,null,0,"",0,0,4,2,"계",278,null,null,278.60000000000002,84,2,0,0,0,"",0,"계","4/2",null,"구산이진캐스빌2단지",84,"A-","A","A+","B+","C","","","O","O","X","X","O",""]
[null,null,null,null,null,null,null,null,null,null,null,null,null,null,null,null,null,null,null,null,null,null,{"$f":"$A$4&\" \"&A30&\"(\"&B30&\",\"&C30&\"^)\"","v":"구산동 구산주공2단지('92.05,623^)"},null,null,null,null,null,null,null,null,null,null,"",""]
["구산주공2단지","'92.05",623,57.5,17,41.9,13,623,null,null,null,null,{"$f":"I30-K30","v":0},{"$f":"IF(ISERROR(K30/I30),\"\",K30/I30)","v":""},{"$f":"I30/E30","v":0},{"$f":"K30/E30","v":0},2,1,"복",57,null,null,{"$f":"D30","v":57.5},{"$f":"E30","v":17},{"$f":"H30","v":623},{"$f":"I30","v":0},{"$f":"K30","v":0},{"$f":"M30","v":0},{"$f":"N30","v":""},{"$f":"O30","v":0},{"$f":"S30","v":"복"},{"$f":"Q30&\"/\"&R30","v":"2/1"},null,"구산주공2단지",17,{"$f":"IF(AI30=\"\",\"\",$AJ$2)","v":"A-"},"A","A+","B+",{"$f":"IF(AI30=\"\",\"\",$AN$2)","v":"C"},{"$f":"IF(N30=\"\",\"\",IF(N30>=$AO$1/100,\"O\",\"X\"))","v":""},{"$f":"IF(I30=\"\",\"\",IF(I30<=$AP$1,\"O\",\"X\"))","v":""},{"$f":"IF(O30=\"\",\"\",IF(O30<=$AQ$1,\"O\",\"X\"))","v":"O"},{"$f":"IF(M30=\"\",\"\",IF(M30<=$AR$1,\"O\",\"X\"))","v":"O"},"X",{"$f":"IF(OR(F30=\"\",AI30=\"\"),\"\",IF(AND((F30<=85),(AI30>=15)),\"O\",\"X\"))","v":"O"},{"$f":"IF(C30=\"\",\"\",IF(C30>=$AU$1,\"O\",\"X\"))","v":"O"},{"$f":"IF(AO30=\"\",\"\",IF(AND(AO30=\"O\",AP30=\"O\",AR30=\"O\",AT30=\"O\",AU30=\"O\"),\"후보\",\"X\"))","v":""}]
[null,null,null,null,null,null,null,null,null,null,null,null,null,null,null,null,null,null,null,null,null,null,{"$f":"$A$4&\" \"&A32&\"(\"&B32&\",\"&C32&\"^)\"","v":"구산동 일동미라주('13.06,596^)"},null,null,null,null,null,null,null,null,null,null,"",""]
["일동미라주","'13.06",596,115.1,35,84.5,26,116,null,null,null,null,{"$f":"I32-K32","v":0},{"$f":"IF(ISERROR(K32/I32),\"\",K32/I32)","v":""},{"$f":"I32/E32","v":0},{"$f":"K32/E32","v":0},3,2,"계","115C",null,null,{"$f":"D32","v":115.1},{"$f":"E32","v":35},{"$f":"H32","v":116},{"$f":"I32","v":0},{"$f":"K32","v":0},{"$f":"M32","v":0},{"$f":"N32","v":""},{"$f":"O32","v":0},{"$f":"S32","v":"계"},{"$f":"Q32&\"/\"&R32","v":"3/2"},null,"일동미라주",35,{"$f":"IF(AI32=\"\",\"\",$AJ$2)","v":"A-"},"A","A+","B+",{"$f":"IF(AI32=\"\",\"\",$AN$2)","v":"C"},{"$f":"IF(N32=\"\",\"\",IF(N32>=$AO$1/100,\"O\",\"X\"))","v":""},{"$f":"IF(I32=\"\",\"\",IF(I32<=$AP$1,\"O\",\"X\"))","v":""},{"$f":"IF(O32=\"\",\"\",IF(O32<=$AQ$1,\"O\",\"X\"))","v":"O"},{"$f":"IF(M32=\"\",\"\",IF(M32<=$AR$1,\"O\",\"X\"))","v":"O"},"X",{"$f":"IF(OR(F32=\"\",AI32=\"\"),\"\",IF(AND((F32<=85),(AI32>=15)),\"O\",\"X\"))","v":"O"},{"$f":"IF(C32=\"\",\"\",IF(C32>=$AU$1,\"O\",\"X\"))","v":"O"},{"$f":"IF(AO32=\"\",\"\",IF(AND(AO32=\"O\",AP32=\"O\",AR32=\"O\",AT32=\"O\",AU32=\"O\"),\"후보\",\"X\"))","v":""}]
["일동미라주","'13.06",596,83.9,25,59.5,18,2,null,null,null,null,0,"",0,0,3,2,"계","83F",null,null,83.9,25,2,0,0,0,"",0,"계","3/2",null,"일동미라주",25,"A-","A","A+","B+","C","","","O","O","X","O","O",""]
["일동미라주","'13.06",596,84.4,26,59.9,18,60,null,null,null,null,0,"",0,0,3,2,"계","84E",null,null,84.4,26,60,0,0,0,"",0,"계","3/2",null,"일동미라주",26,"A-","A","A+","B+","C","","","O","O","X","O","O",""]
["일동미라주","'13.06",596,85.1,26,60,18,117,null,null,null,null,0,"",0,0,3,2,"계","85D",null,null,85.1,26,117,0,0,0,"",0,"계","3/2",null,"일동미라주",{"$f":"IF(E35=\"\",\"\",E35)","v":26},"A-","A","A+","B+","C","","","O","O","X","O","O",""]
["일동미라주","'13.06",596,85.4,26,59.5,18,2,null,null,null,null,0,"",0,0,3,2,"계","85B",null,null,85.4,26,2,0,0,0,"",0,"계","3/2",null,"일동미라주",26,"A-","A","A+","B+","C","","","O","O","X","O","O",""]
["일동미라주","'13.06",596,85.8,26,59.8,18,127,null,null,null,null,0,"",0,0,3,2,"계","85A",null,null,85.8,26,127,0,0,0,"",0,"계","3/2",null,{"$f":"IF(A37=\"\",\"\",A37)","v":"일동미라주"},26,"A-","A","A+","B+","C","","","O","O","X","O","O",""]
["일동미라주","'13.06",596,85.8,26,59.8,18,6,null,null,null,null,0,"",0,0,3,2,"계","85C",null,null,85.8,26,6,0,0,0,"",0,"계","3/2",null,"일동미라주",26,"A-","A","A+","B+","C","","","O","O","X","O","O",""]
["일동미라주","'13.06",596,105.5,32,82.1,25,59,null,null,null,null,0,"",0,0,3,2,"계","105A",null,null,105.5,32,59,0,0,0,"",0,"계","3/2",null,"일동미라주",32,"A-","A","A+","B+","C","","","O","O","X","O","O",""]
["일동미라주","'13.06",596,105.5,32,82.1,25,1,null,null,null,null,0,"",0,0,3,2,"계","105B",null,null,105.5,32,1,0,0,0,"",0,"계","3/2",null,"일동미라주",32,"A-","A","A+","B+","C","","","O","O","X","O","O",""]
["일동미라주","'13.06",596,115.1,35,84.9,26,104,null,null,null,null,0,"",0,0,3,2,"계","115A",null,null,115.1,35,104,0,0,0,"",0,"계","3/2",null,"일동미라주",35,"A-","A","A+","B+","C","","","O","O","X","O","O",""]
["일동미라주","'13.06",596,115.1,35,84.9,26,2,null,null,null,null,0,"",0,0,3,2,"계","115B",null,null,115.1,35,2,0,0,0,"",0,"계","3/2",null,"일동미라주",35,"A-","A","A+","B+","C","","","O","O","X","O","O",""]
[null,null,null,null,null,null,null,null,null,null,null,null,null,null,null,null,null,null,null,null,null,null,{"$f":"$A$4&\" \"&A44&\"(\"&B44&\",\"&C44&\"^)\"","v":"구산동 시영('94.01,567^)"},null,null,null,null,null,null,null,null,null,null,"",""]
["시영","'94.01",567,66.099999999999994,20,49.9,15,413,null,null,null,null,{"$f":"I44-K44","v":0},{"$f":"IF(ISERROR(K44/I44),\"\",K44/I44)","v":""},{"$f":"I44/E44","v":0},{"$f":"K44/E44","v":0},2,1,"복",66,null,null,{"$f":"D44","v":66.099999999999994},{"$f":"E44","v":20},{"$f":"H44","v":413},{"$f":"I44","v":0},{"$f":"K44","v":0},{"$f":"M44","v":0},"",0,{"$f":"S44","v":"복"},{"$f":"Q44&\"/\"&R44","v":"2/1"},null,"시영",20,{"$f":"IF(AI44=\"\",\"\",$AJ$2)","v":"A-"},"A","A+","B+",{"$f":"IF(AI44=\"\",\"\",$AN$2)","v":"C"},{"$f":"IF(N44=\"\",\"\",IF(N44>=$AO$1/100,\"O\",\"X\"))","v":""},{"$f":"IF(I44=\"\",\"\",IF(I44<=$AP$1,\"O\",\"X\"))","v":""},{"$f":"IF(O44=\"\",\"\",IF(O44<=$AQ$1,\"O\",\"X\"))","v":"O"},{"$f":"IF(M44=\"\",\"\",IF(M44<=$AR$1,\"O\",\"X\"))","v":"O"},"X",{"$f":"IF(OR(F44=\"\",AI44=\"\"),\"\",IF(AND((F44<=85),(AI44>=15)),\"O\",\"X\"))","v":"O"},{"$f":"IF(C44=\"\",\"\",IF(C44>=$AU$1,\"O\",\"X\"))","v":"O"},{"$f":"IF(AO44=\"\",\"\",IF(AND(AO44=\"O\",AP44=\"O\",AR44=\"O\",AT44=\"O\",AU44=\"O\"),\"후보\",\"X\"))","v":""}]
["시영","'94.01",567,78.3,24,59.8,18,154,null,null,null,null,{"$f":"I45-K45","v":0},{"$f":"IF(ISERROR(K45/I45),\"\",K45/I45)","v":""},{"$f":"I45/E45","v":0},{"$f":"K45/E45","v":0},3,1,"복",78,null,null,{"$f":"D45","v":78.3},{"$f":"E45","v":24},{"$f":"H45","v":154},{"$f":"I45","v":0},{"$f":"K45","v":0},0,"",0,{"$f":"S45","v":"복"},{"$f":"Q45&\"/\"&R45","v":"3/1"},null,"시영",24,{"$f":"IF(AI45=\"\",\"\",$AJ$2)","v":"A-"},"A","A+","B+",{"$f":"IF(AI45=\"\",\"\",$AN$2)","v":"C"},{"$f":"IF(N45=\"\",\"\",IF(N45>=$AO$1/100,\"O\",\"X\"))","v":""},{"$f":"IF(I45=\"\",\"\",IF(I45<=$AP$1,\"O\",\"X\"))","v":""},{"$f":"IF(O45=\"\",\"\",IF(O45<=$AQ$1,\"O\",\"X\"))","v":"O"},{"$f":"IF(M45=\"\",\"\",IF(M45<=$AR$1,\"O\",\"X\"))","v":"O"},"X",{"$f":"IF(OR(F45=\"\",AI45=\"\"),\"\",IF(AND((F45<=85),(AI45>=15)),\"O\",\"X\"))","v":"O"},{"$f":"IF(C45=\"\",\"\",IF(C45>=$AU$1,\"O\",\"X\"))","v":"O"},{"$f":"IF(AO45=\"\",\"\",IF(AND(AO45=\"O\",AP45=\"O\",AR45=\"O\",AT45=\"O\",AU45=\"O\"),\"후보\",\"X\"))","v":""}]
[null,null,null,null,null,null,null,null,null,null,null,null,null,null,null,null,null,null,null,null,null,null,{"$f":"$A$4&\" \"&A47&\"(\"&B47&\",\"&C47&\"^)\"","v":"구산동 김해구산주공5단지('99.02,560^)"},null,null,null,null,null,null,null,null,null,null,"",""]
["김해구산주공5단지","'99.02",560,61.2,19,49.1,15,140,null,null,null,null,{"$f":"I47-K47","v":0},{"$f":"IF(ISERROR(K47/I47),\"\",K47/I47)","v":""},{"$f":"I47/E47","v":0},{"$f":"K47/E47","v":0},2,1,"복",61,null,null,{"$f":"D47","v":61.2},19,{"$f":"H47","v":140},0,{"$f":"K47","v":0},{"$f":"M47","v":0},"",0,{"$f":"S47","v":"복"},{"$f":"Q47&\"/\"&R47","v":"2/1"},null,"김해구산주공5단지",19,{"$f":"IF(AI47=\"\",\"\",$AJ$2)","v":"A-"},"A","A+","B+",{"$f":"IF(AI47=\"\",\"\",$AN$2)","v":"C"},{"$f":"IF(N47=\"\",\"\",IF(N47>=$AO$1/100,\"O\",\"X\"))","v":""},{"$f":"IF(I47=\"\",\"\",IF(I47<=$AP$1,\"O\",\"X\"))","v":""},{"$f":"IF(O47=\"\",\"\",IF(O47<=$AQ$1,\"O\",\"X\"))","v":"O"},{"$f":"IF(M47=\"\",\"\",IF(M47<=$AR$1,\"O\",\"X\"))","v":"O"},"X",{"$f":"IF(OR(F47=\"\",AI47=\"\"),\"\",IF(AND((F47<=85),(AI47>=15)),\"O\",\"X\"))","v":"O"},{"$f":"IF(C47=\"\",\"\",IF(C47>=$AU$1,\"O\",\"X\"))","v":"O"},{"$f":"IF(AO47=\"\",\"\",IF(AND(AO47=\"O\",AP47=\"O\",AR47=\"O\",AT47=\"O\",AU47=\"O\"),\"후보\",\"X\"))","v":""}]
["김해구산주공5단지","'99.02",560,72.3,22,60,18,120,null,null,null,null,{"$f":"I48-K48","v":0},{"$f":"IF(ISERROR(K48/I48),\"\",K48/I48)","v":""},{"$f":"I48/E48","v":0},{"$f":"K48/E48","v":0},3,1,"복",72,null,null,72.3,22,120,0,{"$f":"K48","v":0},0,"",0,{"$f":"S48","v":"복"},{"$f":"Q48&\"/\"&R48","v":"3/1"},null,"김해구산주공5단지",22,{"$f":"IF(AI48=\"\",\"\",$AJ$2)","v":"A-"},"A","A+","B+",{"$f":"IF(AI48=\"\",\"\",$AN$2)","v":"C"},{"$f":"IF(N48=\"\",\"\",IF(N48>=$AO$1/100,\"O\",\"X\"))","v":""},{"$f":"IF(I48=\"\",\"\",IF(I48<=$AP$1,\"O\",\"X\"))","v":""},{"$f":"IF(O48=\"\",\"\",IF(O48<=$AQ$1,\"O\",\"X\"))","v":"O"},{"$f":"IF(M48=\"\",\"\",IF(M48<=$AR$1,\"O\",\"X\"))","v":"O"},"X",{"$f":"IF(OR(F48=\"\",AI48=\"\"),\"\",IF(AND((F48<=85),(AI48>=15)),\"O\",\"X\"))","v":"O"},{"$f":"IF(C48=\"\",\"\",IF(C48>=$AU$1,\"O\",\"X\"))","v":"O"},{"$f":"IF(AO48=\"\",\"\",IF(AND(AO48=\"O\",AP48=\"O\",AR48=\"O\",AT48=\"O\",AU48=\"O\"),\"후보\",\"X\"))","v":""}]
["김해구산주공5단지","'99.02",560,74.7,23,60,18,300,null,null,null,null,{"$f":"I49-K49","v":0},{"$f":"IF(ISERROR(K49/I49),\"\",K49/I49)","v":""},{"$f":"I49/E49","v":0},{"$f":"K49/E49","v":0},3,1,"복",74,null,null,74.7,23,300,0,{"$f":"K49","v":0},0,"",0,{"$f":"S49","v":"복"},{"$f":"Q49&\"/\"&R49","v":"3/1"},null,"김해구산주공5단지",23,{"$f":"IF(AI49=\"\",\"\",$AJ$2)","v":"A-"},"A","A+","B+",{"$f":"IF(AI49=\"\",\"\",$AN$2)","v":"C"},{"$f":"IF(N49=\"\",\"\",IF(N49>=$AO$1/100,\"O\",\"X\"))","v":""},{"$f":"IF(I49=\"\",\"\",IF(I49<=$AP$1,\"O\",\"X\"))","v":""},{"$f":"IF(O49=\"\",\"\",IF(O49<=$AQ$1,\"O\",\"X\"))","v":"O"},{"$f":"IF(M49=\"\",\"\",IF(M49<=$AR$1,\"O\",\"X\"))","v":"O"},"X",{"$f":"IF(OR(F49=\"\",AI49=\"\"),\"\",IF(AND((F49<=85),(AI49>=15)),\"O\",\"X\"))","v":"O"},{"$f":"IF(C49=\"\",\"\",IF(C49>=$AU$1,\"O\",\"X\"))","v":"O"},{"$f":"IF(AO49=\"\",\"\",IF(AND(AO49=\"O\",AP49=\"O\",AR49=\"O\",AT49=\"O\",AU49=\"O\"),\"후보\",\"X\"))","v":""}]
[null,null,null,null,null,null,null,null,null,null,null,null,null,null,null,null,null,null,null,null,null,null,{"$f":"$A$4&\" \"&A51&\"(\"&B51&\",\"&C51&\"^)\"","v":"구산동 구산이진캐스빌1단지('13.09,510^)"},null,null,null,null,null,null,null,null,null,null,"",""]
["구산이진캐스빌1단지","'13.09",510,95.8,29,73.099999999999994,22,223,null,null,null,null,{"$f":"I51-K51","v":0},{"$f":"IF(ISERROR(K51/I51),\"\",K51/I51)","v":""},{"$f":"I51/E51","v":0},{"$f":"K51/E51","v":0},3,2,"계",95,null,null,{"$f":"D51","v":95.8},29,{"$f":"H51","v":223},0,{"$f":"K51","v":0},{"$f":"M51","v":0},"",0,{"$f":"S51","v":"계"},{"$f":"Q51&\"/\"&R51","v":"3/2"},null,"구산이진캐스빌1단지",29,{"$f":"IF(AI51=\"\",\"\",$AJ$2)","v":"A-"},"A","A+","B+",{"$f":"IF(AI51=\"\",\"\",$AN$2)","v":"C"},{"$f":"IF(N51=\"\",\"\",IF(N51>=$AO$1/100,\"O\",\"X\"))","v":""},{"$f":"IF(I51=\"\",\"\",IF(I51<=$AP$1,\"O\",\"X\"))","v":""},{"$f":"IF(O51=\"\",\"\",IF(O51<=$AQ$1,\"O\",\"X\"))","v":"O"},{"$f":"IF(M51=\"\",\"\",IF(M51<=$AR$1,\"O\",\"X\"))","v":"O"},"X",{"$f":"IF(OR(F51=\"\",AI51=\"\"),\"\",IF(AND((F51<=85),(AI51>=15)),\"O\",\"X\"))","v":"O"},{"$f":"IF(C51=\"\",\"\",IF(C51>=$AU$1,\"O\",\"X\"))","v":"O"},{"$f":"IF(AO51=\"\",\"\",IF(AND(AO51=\"O\",AP51=\"O\",AR51=\"O\",AT51=\"O\",AU51=\"O\"),\"후보\",\"X\"))","v":""}]
["구산이진캐스빌1단지","'13.09",510,109.5,33,85,26,113,null,null,null,null,0,"",0,0,3,2,"계","109A",null,null,109.5,33,113,0,0,0,"",0,"계","3/2",null,"구산이진캐스빌1단지",33,"A-","A","A+","B+","C","","","O","O","X","O","O",""]
["구산이진캐스빌1단지","'13.09",510,110.7,34,85,26,138,null,null,null,null,0,"",0,0,3,2,"계","110B",null,null,110.7,34,138,0,0,0,"",0,"계","3/2",null,"구산이진캐스빌1단지",34,"A-","A","A+","B+","C","","","O","O","X","O","O",""]
["구산이진캐스빌1단지","'13.09",510,144.9,44,113.7,34,32,null,null,null,null,0,"",0,0,4,2,"계",144,null,null,144.9,44,32,0,0,0,"",0,"계","4/2",null,"구산이진캐스빌1단지",44,"A-","A","A+","B+","C","","","O","O","X","X","O",""]
["구산이진캐스빌1단지","'13.09",510,213.8,65,166.4,50,3,null,null,null,null,0,"",0,0,4,2,"계",213,null,null,213.8,65,3,0,0,0,"",0,"계","4/2",null,"구산이진캐스빌1단지",65,"A-","A","A+","B+","C","","","O","O","X","X","O",""]
["구산이진캐스빌1단지","'13.09",510,278.3,84,220,67,1,null,null,null,null,0,"",0,0,4,2,"계",278,null,null,278.3,84,1,0,0,0,"",0,"계","4/2",null,"구산이진캐스빌1단지",84,"A-","A","A+","B+","C","","","O","O","X","X","O",""]
[null,null,null,null,null,null,null,null,null,null,null,null,null,null,null,null,null,null,null,null,null,null,{"$f":"$A$4&\" \"&A58&\"(\"&B58&\",\"&C58&\"^)\"","v":"구산동 김해구산주공4단지('99.02,503^)"},null,null,null,null,null,null,null,null,null,null,"",""]
["김해구산주공4단지","'99.02",503,64,19,49.6,15,503,null,null,null,null,{"$f":"I58-K58","v":0},{"$f":"IF(ISERROR(K58/I58),\"\",K58/I58)","v":""},{"$f":"I58/E58","v":0},{"$f":"K58/E58","v":0},2,1,"복",63,null,null,{"$f":"D58","v":64},{"$f":"E58","v":19},{"$f":"H58","v":503},{"$f":"I58","v":0},{"$f":"K58","v":0},{"$f":"M58","v":0},{"$f":"N58","v":""},{"$f":"O58","v":0},{"$f":"S58","v":"복"},{"$f":"Q58&\"/\"&R58","v":"2/1"},null,"김해구산주공4단지",19,{"$f":"IF(AI58=\"\",\"\",$AJ$2)","v":"A-"},"A","A+","B+",{"$f":"IF(AI58=\"\",\"\",$AN$2)","v":"C"},{"$f":"IF(N58=\"\",\"\",IF(N58>=$AO$1/100,\"O\",\"X\"))","v":""},{"$f":"IF(I58=\"\",\"\",IF(I58<=$AP$1,\"O\",\"X\"))","v":""},{"$f":"IF(O58=\"\",\"\",IF(O58<=$AQ$1,\"O\",\"X\"))","v":"O"},{"$f":"IF(M58=\"\",\"\",IF(M58<=$AR$1,\"O\",\"X\"))","v":"O"},"X",{"$f":"IF(OR(F58=\"\",AI58=\"\"),\"\",IF(AND((F58<=85),(AI58>=15)),\"O\",\"X\"))","v":"O"},{"$f":"IF(C58=\"\",\"\",IF(C58>=$AU$1,\"O\",\"X\"))","v":"O"},{"$f":"IF(AO58=\"\",\"\",IF(AND(AO58=\"O\",AP58=\"O\",AR58=\"O\",AT58=\"O\",AU58=\"O\"),\"후보\",\"X\"))","v":""}]
[null,null,null,null,null,null,null,null,null,null,null,null,null,null,null,null,null,null,null,null,null,null,{"$f":"$A$4&\" \"&A60&\"(\"&B60&\",\"&C60&\"^)\"","v":"구산동 대동('93.05,240^)"},null,null,null,null,null,null,null,null,null,null,"",""]
["대동","'93.05",240,111.4,34,92.5,28,45,null,null,null,null,{"$f":"I60-K60","v":0},{"$f":"IF(ISERROR(K60/I60),\"\",K60/I60)","v":""},{"$f":"I60/E60","v":0},{"$f":"K60/E60","v":0},3,2,"계",111,null,null,{"$f":"D60","v":111.4},34,{"$f":"H60","v":45},0,{"$f":"K60","v":0},{"$f":"M60","v":0},"",0,{"$f":"S60","v":"계"},{"$f":"Q60&\"/\"&R60","v":"3/2"},null,"대동",34,{"$f":"IF(AI60=\"\",\"\",$AJ$2)","v":"A-"},"A","A+","B+",{"$f":"IF(AI60=\"\",\"\",$AN$2)","v":"C"},{"$f":"IF(N60=\"\",\"\",IF(N60>=$AO$1/100,\"O\",\"X\"))","v":""},{"$f":"IF(I60=\"\",\"\",IF(I60<=$AP$1,\"O\",\"X\"))","v":""},{"$f":"IF(O60=\"\",\"\",IF(O60<=$AQ$1,\"O\",\"X\"))","v":"O"},{"$f":"IF(M60=\"\",\"\",IF(M60<=$AR$1,\"O\",\"X\"))","v":"O"},"X",{"$f":"IF(OR(F60=\"\",AI60=\"\"),\"\",IF(AND((F60<=85),(AI60>=15)),\"O\",\"X\"))","v":"X"},{"$f":"IF(C60=\"\",\"\",IF(C60>=$AU$1,\"O\",\"X\"))","v":"X"},{"$f":"IF(AO60=\"\",\"\",IF(AND(AO60=\"O\",AP60=\"O\",AR60=\"O\",AT60=\"O\",AU60=\"O\"),\"후보\",\"X\"))","v":""}]
["대동","'93.05",240,123.7,37,104,32,60,null,null,null,null,{"$f":"I61-K61","v":0},{"$f":"IF(ISERROR(K61/I61),\"\",K61/I61)","v":""},{"$f":"I61/E61","v":0},{"$f":"K61/E61","v":0},3,2,"계",123,null,null,123.7,37,60,0,{"$f":"K61","v":0},0,"",0,{"$f":"S61","v":"계"},{"$f":"Q61&\"/\"&R61","v":"3/2"},null,"대동",37,{"$f":"IF(AI61=\"\",\"\",$AJ$2)","v":"A-"},"A","A+","B+",{"$f":"IF(AI61=\"\",\"\",$AN$2)","v":"C"},{"$f":"IF(N61=\"\",\"\",IF(N61>=$AO$1/100,\"O\",\"X\"))","v":""},{"$f":"IF(I61=\"\",\"\",IF(I61<=$AP$1,\"O\",\"X\"))","v":""},{"$f":"IF(O61=\"\",\"\",IF(O61<=$AQ$1,\"O\",\"X\"))","v":"O"},{"$f":"IF(M61=\"\",\"\",IF(M61<=$AR$1,\"O\",\"X\"))","v":"O"},"X",{"$f":"IF(OR(F61=\"\",AI61=\"\"),\"\",IF(AND((F61<=85),(AI61>=15)),\"O\",\"X\"))","v":"X"},{"$f":"IF(C61=\"\",\"\",IF(C61>=$AU$1,\"O\",\"X\"))","v":"X"},{"$f":"IF(AO61=\"\",\"\",IF(AND(AO61=\"O\",AP61=\"O\",AR61=\"O\",AT61=\"O\",AU61=\"O\"),\"후보\",\"X\"))","v":""}]
["대동","'93.05",240,155.30000000000001,47,133.4,40,120,null,null,null,null,{"$f":"I62-K62","v":0},{"$f":"IF(ISERROR(K62/I62),\"\",K62/I62)","v":""},{"$f":"I62/E62","v":0},{"$f":"K62/E62","v":0},4,2,"계","155A",null,null,155.30000000000001,47,120,0,{"$f":"K62","v":0},0,"",0,{"$f":"S62","v":"계"},{"$f":"Q62&\"/\"&R62","v":"4/2"},null,"대동",47,{"$f":"IF(AI62=\"\",\"\",$AJ$2)","v":"A-"},"A","A+","B+",{"$f":"IF(AI62=\"\",\"\",$AN$2)","v":"C"},{"$f":"IF(N62=\"\",\"\",IF(N62>=$AO$1/100,\"O\",\"X\"))","v":""},{"$f":"IF(I62=\"\",\"\",IF(I62<=$AP$1,\"O\",\"X\"))","v":""},{"$f":"IF(O62=\"\",\"\",IF(O62<=$AQ$1,\"O\",\"X\"))","v":"O"},{"$f":"IF(M62=\"\",\"\",IF(M62<=$AR$1,\"O\",\"X\"))","v":"O"},"X",{"$f":"IF(OR(F62=\"\",AI62=\"\"),\"\",IF(AND((F62<=85),(AI62>=15)),\"O\",\"X\"))","v":"X"},{"$f":"IF(C62=\"\",\"\",IF(C62>=$AU$1,\"O\",\"X\"))","v":"X"},{"$f":"IF(AO62=\"\",\"\",IF(AND(AO62=\"O\",AP62=\"O\",AR62=\"O\",AT62=\"O\",AU62=\"O\"),\"후보\",\"X\"))","v":""}]
["대동","'93.05",240,155.6,47,133.69999999999999,41,15,null,null,null,null,{"$f":"I63-K63","v":0},{"$f":"IF(ISERROR(K63/I63),\"\",K63/I63)","v":""},{"$f":"I63/E63","v":0},{"$f":"K63/E63","v":0},4,2,"계","155B",null,null,155.6,47,15,0,{"$f":"K63","v":0},0,"",0,{"$f":"S63","v":"계"},{"$f":"Q63&\"/\"&R63","v":"4/2"},null,"대동",47,{"$f":"IF(AI63=\"\",\"\",$AJ$2)","v":"A-"},"A","A+","B+",{"$f":"IF(AI63=\"\",\"\",$AN$2)","v":"C"},{"$f":"IF(N63=\"\",\"\",IF(N63>=$AO$1/100,\"O\",\"X\"))","v":""},{"$f":"IF(I63=\"\",\"\",IF(I63<=$AP$1,\"O\",\"X\"))","v":""},{"$f":"IF(O63=\"\",\"\",IF(O63<=$AQ$1,\"O\",\"X\"))","v":"O"},{"$f":"IF(M63=\"\",\"\",IF(M63<=$AR$1,\"O\",\"X\"))","v":"O"},"X",{"$f":"IF(OR(F63=\"\",AI63=\"\"),\"\",IF(AND((F63<=85),(AI63>=15)),\"O\",\"X\"))","v":"X"},{"$f":"IF(C63=\"\",\"\",IF(C63>=$AU$1,\"O\",\"X\"))","v":"X"},{"$f":"IF(AO63=\"\",\"\",IF(AND(AO63=\"O\",AP63=\"O\",AR63=\"O\",AT63=\"O\",AU63=\"O\"),\"후보\",\"X\"))","v":""}]
[null,null,null,null,null,null,null,null,null,null,null,null,null,null,null,null,null,null,null,null,null,null,{"$f":"$A$4&\" \"&A65&\"(\"&B65&\",\"&C65&\"^)\"","v":"구산동 구산아이파크('13.12,203^)"},null,null,null,null,null,null,null,null,null,null,"",""]
["구산아이파크","'13.12",203,95.9,29,72.900000000000006,22,16,null,null,null,null,{"$f":"I65-K65","v":0},{"$f":"IF(ISERROR(K65/I65),\"\",K65/I65)","v":""},{"$f":"I65/E65","v":0},{"$f":"K65/E65","v":0},3,2,"계","95B",null,null,{"$f":"D65","v":95.9},29,{"$f":"H65","v":16},0,{"$f":"K65","v":0},{"$f":"M65","v":0},"",0,{"$f":"S65","v":"계"},{"$f":"Q65&\"/\"&R65","v":"3/2"},null,"구산아이파크",29,{"$f":"IF(AI65=\"\",\"\",$AJ$2)","v":"A-"},"A","A+","B+",{"$f":"IF(AI65=\"\",\"\",$AN$2)","v":"C"},{"$f":"IF(N65=\"\",\"\",IF(N65>=$AO$1/100,\"O\",\"X\"))","v":""},{"$f":"IF(I65=\"\",\"\",IF(I65<=$AP$1,\"O\",\"X\"))","v":""},{"$f":"IF(O65=\"\",\"\",IF(O65<=$AQ$1,\"O\",\"X\"))","v":"O"},{"$f":"IF(M65=\"\",\"\",IF(M65<=$AR$1,\"O\",\"X\"))","v":"O"},"X",{"$f":"IF(OR(F65=\"\",AI65=\"\"),\"\",IF(AND((F65<=85),(AI65>=15)),\"O\",\"X\"))","v":"O"},{"$f":"IF(C65=\"\",\"\",IF(C65>=$AU$1,\"O\",\"X\"))","v":"X"},{"$f":"IF(AO65=\"\",\"\",IF(AND(AO65=\"O\",AP65=\"O\",AR65=\"O\",AT65=\"O\",AU65=\"O\"),\"후보\",\"X\"))","v":""}]
["구산아이파크","'13.12",203,98.2,30,72.8,22,34,null,null,null,null,{"$f":"I66-K66","v":0},{"$f":"IF(ISERROR(K66/I66),\"\",K66/I66)","v":""},{"$f":"I66/E66","v":0},{"$f":"K66/E66","v":0},3,2,"계","98A",null,null,98.2,30,34,0,{"$f":"K66","v":0},0,"",0,{"$f":"S66","v":"계"},{"$f":"Q66&\"/\"&R66","v":"3/2"},null,"구산아이파크",30,{"$f":"IF(AI66=\"\",\"\",$AJ$2)","v":"A-"},"A","A+","B+",{"$f":"IF(AI66=\"\",\"\",$AN$2)","v":"C"},{"$f":"IF(N66=\"\",\"\",IF(N66>=$AO$1/100,\"O\",\"X\"))","v":""},{"$f":"IF(I66=\"\",\"\",IF(I66<=$AP$1,\"O\",\"X\"))","v":""},{"$f":"IF(O66=\"\",\"\",IF(O66<=$AQ$1,\"O\",\"X\"))","v":"O"},{"$f":"IF(M66=\"\",\"\",IF(M66<=$AR$1,\"O\",\"X\"))","v":"O"},"X",{"$f":"IF(OR(F66=\"\",AI66=\"\"),\"\",IF(AND((F66<=85),(AI66>=15)),\"O\",\"X\"))","v":"O"},{"$f":"IF(C66=\"\",\"\",IF(C66>=$AU$1,\"O\",\"X\"))","v":"X"},{"$f":"IF(AO66=\"\",\"\",IF(AND(AO66=\"O\",AP66=\"O\",AR66=\"O\",AT66=\"O\",AU66=\"O\"),\"후보\",\"X\"))","v":""}]
["구산아이파크","'13.12",203,111.2,34,85,26,19,null,null,null,null,{"$f":"I67-K67","v":0},{"$f":"IF(ISERROR(K67/I67),\"\",K67/I67)","v":""},{"$f":"I67/E67","v":0},{"$f":"K67/E67","v":0},3,2,"계","111A",null,null,111.2,34,19,0,{"$f":"K67","v":0},0,"",0,{"$f":"S67","v":"계"},{"$f":"Q67&\"/\"&R67","v":"3/2"},null,"구산아이파크",34,{"$f":"IF(AI67=\"\",\"\",$AJ$2)","v":"A-"},"A","A+","B+",{"$f":"IF(AI67=\"\",\"\",$AN$2)","v":"C"},{"$f":"IF(N67=\"\",\"\",IF(N67>=$AO$1/100,\"O\",\"X\"))","v":""},{"$f":"IF(I67=\"\",\"\",IF(I67<=$AP$1,\"O\",\"X\"))","v":""},{"$f":"IF(O67=\"\",\"\",IF(O67<=$AQ$1,\"O\",\"X\"))","v":"O"},{"$f":"IF(M67=\"\",\"\",IF(M67<=$AR$1,\"O\",\"X\"))","v":"O"},"X",{"$f":"IF(OR(F67=\"\",AI67=\"\"),\"\",IF(AND((F67<=85),(AI67>=15)),\"O\",\"X\"))","v":"O"},{"$f":"IF(C67=\"\",\"\",IF(C67>=$AU$1,\"O\",\"X\"))","v":"X"},{"$f":"IF(AO67=\"\",\"\",IF(AND(AO67=\"O\",AP67=\"O\",AR67=\"O\",AT67=\"O\",AU67=\"O\"),\"후보\",\"X\"))","v":""}]
["구산아이파크","'13.12",203,111.6,34,85,26,78,null,null,null,null,{"$f":"I68-K68","v":0},{"$f":"IF(ISERROR(K68/I68),\"\",K68/I68)","v":""},{"$f":"I68/E68","v":0},{"$f":"K68/E68","v":0},3,2,"계","111B",null,null,111.6,34,78,0,{"$f":"K68","v":0},0,"",0,{"$f":"S68","v":"계"},{"$f":"Q68&\"/\"&R68","v":"3/2"},null,"구산아이파크",34,{"$f":"IF(AI68=\"\",\"\",$AJ$2)","v":"A-"},"A","A+","B+",{"$f":"IF(AI68=\"\",\"\",$AN$2)","v":"C"},{"$f":"IF(N68=\"\",\"\",IF(N68>=$AO$1/100,\"O\",\"X\"))","v":""},{"$f":"IF(I68=\"\",\"\",IF(I68<=$AP$1,\"O\",\"X\"))","v":""},{"$f":"IF(O68=\"\",\"\",IF(O68<=$AQ$1,\"O\",\"X\"))","v":"O"},{"$f":"IF(M68=\"\",\"\",IF(M68<=$AR$1,\"O\",\"X\"))","v":"O"},"X",{"$f":"IF(OR(F68=\"\",AI68=\"\"),\"\",IF(AND((F68<=85),(AI68>=15)),\"O\",\"X\"))","v":"O"},{"$f":"IF(C68=\"\",\"\",IF(C68>=$AU$1,\"O\",\"X\"))","v":"X"},{"$f":"IF(AO68=\"\",\"\",IF(AND(AO68=\"O\",AP68=\"O\",AR68=\"O\",AT68=\"O\",AU68=\"O\"),\"후보\",\"X\"))","v":""}]
["구산아이파크","'13.12",203,113.5,34,85,26,56,null,null,null,null,{"$f":"I69-K69","v":0},{"$f":"IF(ISERROR(K69/I69),\"\",K69/I69)","v":""},{"$f":"I69/E69","v":0},{"$f":"K69/E69","v":0},3,2,"계","113C",null,null,113.5,34,56,0,{"$f":"K69","v":0},0,"",0,{"$f":"S69","v":"계"},{"$f":"Q69&\"/\"&R69","v":"3/2"},null,"구산아이파크",34,{"$f":"IF(AI69=\"\",\"\",$AJ$2)","v":"A-"},"A","A+","B+",{"$f":"IF(AI69=\"\",\"\",$AN$2)","v":"C"},{"$f":"IF(N69=\"\",\"\",IF(N69>=$AO$1/100,\"O\",\"X\"))","v":""},{"$f":"IF(I69=\"\",\"\",IF(I69<=$AP$1,\"O\",\"X\"))","v":""},{"$f":"IF(O69=\"\",\"\",IF(O69<=$AQ$1,\"O\",\"X\"))","v":"O"},{"$f":"IF(M69=\"\",\"\",IF(M69<=$AR$1,\"O\",\"X\"))","v":"O"},"X",{"$f":"IF(OR(F69=\"\",AI69=\"\"),\"\",IF(AND((F69<=85),(AI69>=15)),\"O\",\"X\"))","v":"O"},{"$f":"IF(C69=\"\",\"\",IF(C69>=$AU$1,\"O\",\"X\"))","v":"X"},{"$f":"IF(AO69=\"\",\"\",IF(AND(AO69=\"O\",AP69=\"O\",AR69=\"O\",AT69=\"O\",AU69=\"O\"),\"후보\",\"X\"))","v":""}]

{"sheet":"도량동","index":7,"n_rows":56,"n_cols":48,"rows_kept":56,"cut":false,"hidden":false,"merged":[[0,35,0,39]]}
[{"$f":"단지추출!A1","v":"구미시"},null,null,null,null,null,null,null,"추출대상",null,null,null,null,null,null,null,null,null,null,null,null,null,null,"매매가 최대(색상 최대)",null,null,{"$f":"단지추출!AA1","v":70000},null,null,null,null,null,null,{"$f":"A1","v":"구미시"},null,{"$f":"A1&\" 전체 등급\"","v":"구미시 전체 등급"},null,null,null,null,{"$f":"단지추출!AO1","v":80},{"$f":"단지추출!AP1","v":45000},{"$f":"단지추출!AQ1","v":1000},{"$f":"단지추출!AR1","v":6000},null,null,{"$f":"단지추출!AU1","v":300}]
[{"$f":"단지추출!A2","v":"2022-01-01"},null,null,null,null,null,null,null,null,null,null,null,null,null,null,null,null,null,null,null,null,null,null,"매매가 최소(색상 최소)",null,null,{"$f":"단지추출!AA2","v":10000},null,null,null,null,null,null,{"$f":"AH1 &\" \" &A4","v":"구미시 내동"},null,{"$f":"단지추출!AJ2","v":"A-"},{"$f":"단지추출!AK2","v":"A"},{"$f":"단지추출!AL2","v":"A"},{"$f":"단지추출!AM2","v":"A"},{"$f":"단지추출!AN2","v":"C"},"원금보전",null,null,"수익성",null,"환금성"]
["단지명","입주\n연도","총세\n대수","공급\n(m2)","공급\n면적","전용\n(m2)","전용\n면적","세대","매매\n최저가","층","전세\n최고가","층","매전갭","전세\n가율","매매\n평단","전세\n평단","방","욕\n실","구\n조","매/전/월\nType","비고",null,"공급\n(m2)","공급\n면적","세대","매매가","전세가","매전갭","전세\n가율","평단가","구\n조","방/\n욕실",null,{"$f":"IF(A3=\"\",\"\",A3)","v":"단지명"},{"$f":"IF(E3=\"\",\"\",E3)","v":"공급\n면적"},"직장","교통","학군","환경","공급",{"$f":"\"전세가율★\n(\"&AO1&\"%↑)\"","v":"전세가율★\n(80%↑)"},{"$f":"\"절대가★\n(\"&AP1/10000&\"억↓)\"","v":"절대가★\n(4.5억↓)"},{"$f":"\"지역평단가\n(\"&AQ1&\"↓)\"","v":"지역평단가\n(1000↓)"},{"$f":"\"투자규모★\n(갭\"&AR1/1000&\"천↓)\"","v":"투자규모★\n(갭6천↓)"},"전고점\n이하","평형★\n(15~34평)",{"$f":"\"단지규모★\n(\"&AU1&\"^↑)\"","v":"단지규모★\n(300^↑)"},"투자후보"]
["내동",null,null,null,null,null,null,null,null,null,null,null,null,null,null,null,null,null,null,null,null,null,null,null,null,null,null,null,null,null,null,null,null,null,""]
[null,null,null,null,null,null,null,null,null,null,null,null,null,null,null,null,null,null,null,null,null,null,{"$f":"$A$4&\" \"&A6&\"(\"&B6&\",\"&C6&\"^)\"","v":"내동 내동한일('86.07,936^)"},null,null,null,null,null,null,null,null,null,null,{"$f":"IF(A5=\"\",\"\",A5)","v":""},""]
["내동한일","'86.07",936,61.8,19,43.6,13,192,null,null,null,null,{"$f":"I6-K6","v":0},{"$f":"IF(ISERROR(K6/I6),\"\",K6/I6)","v":""},{"$f":"I6/E6","v":0},{"$f":"K6/E6","v":0},2,1,"복",61,null,null,{"$f":"D6","v":61.8},{"$f":"E6","v":19},{"$f":"H6","v":192},{"$f":"I6","v":0},{"$f":"K6","v":0},{"$f":"M6","v":0},"",0,{"$f":"S6","v":"복"},{"$f":"Q6&\"/\"&R6","v":"2/1"},null,"내동한일",19,{"$f":"IF(AI6=\"\",\"\",$AJ$2)","v":"A-"},"A","A+","B+",{"$f":"IF(AI6=\"\",\"\",$AN$2)","v":"C"},{"$f":"IF(N6=\"\",\"\",IF(N6>=$AO$1/100,\"O\",\"X\"))","v":""},{"$f":"IF(I6=\"\",\"\",IF(I6<=$AP$1,\"O\",\"X\"))","v":""},{"$f":"IF(O6=\"\",\"\",IF(O6<=$AQ$1,\"O\",\"X\"))","v":"O"},{"$f":"IF(M6=\"\",\"\",IF(M6<=$AR$1,\"O\",\"X\"))","v":"O"},"X",{"$f":"IF(OR(F6=\"\",AI6=\"\"),\"\",IF(AND((F6<=85),(AI6>=15)),\"O\",\"X\"))","v":"O"},{"$f":"IF(C6=\"\",\"\",IF(C6>=$AU$1,\"O\",\"X\"))","v":"O"},{"$f":"IF(AO6=\"\",\"\",IF(AND(AO6=\"O\",AP6=\"O\",AR6=\"O\",AT6=\"O\",AU6=\"O\"),\"후보\",\"X\"))","v":""}]
["내동한일","'86.07",936,76.3,23,57.3,17,744,null,null,null,null,{"$f":"I7-K7","v":0},{"$f":"IF(ISERROR(K7/I7),\"\",K7/I7)","v":""},{"$f":"I7/E7","v":0},{"$f":"K7/E7","v":0},2,1,"복",76,null,null,{"$f":"D7","v":76.3},{"$f":"E7","v":23},{"$f":"H7","v":744},{"$f":"I7","v":0},{"$f":"K7","v":0},0,"",0,{"$f":"S7","v":"복"},{"$f":"Q7&\"/\"&R7","v":"2/1"},null,"내동한일",23,{"$f":"IF(AI7=\"\",\"\",$AJ$2)","v":"A-"},"A","A+","B+",{"$f":"IF(AI7=\"\",\"\",$AN$2)","v":"C"},{"$f":"IF(N7=\"\",\"\",IF(N7>=$AO$1/100,\"O\",\"X\"))","v":""},{"$f":"IF(I7=\"\",\"\",IF(I7<=$AP$1,\"O\",\"X\"))","v":""},{"$f":"IF(O7=\"\",\"\",IF(O7<=$AQ$1,\"O\",\"X\"))","v":"O"},{"$f":"IF(M7=\"\",\"\",IF(M7<=$AR$1,\"O\",\"X\"))","v":"O"},"X",{"$f":"IF(OR(F7=\"\",AI7=\"\"),\"\",IF(AND((F7<=85),(AI7>=15)),\"O\",\"X\"))","v":"O"},{"$f":"IF(C7=\"\",\"\",IF(C7>=$AU$1,\"O\",\"X\"))","v":"O"},{"$f":"IF(AO7=\"\",\"\",IF(AND(AO7=\"O\",AP7=\"O\",AR7=\"O\",AT7=\"O\",AU7=\"O\"),\"후보\",\"X\"))","v":""}]
[null,null,null,null,null,null,null,null,null,null,null,null,null,null,null,null,null,null,null,null,null,null,{"$f":"$A$4&\" \"&A9&\"(\"&B9&\",\"&C9&\"^)\"","v":"내동 삼성('96.06,862^)"},null,null,null,null,null,null,null,null,null,null,"",""]
["삼성","'96.06",862,74.099999999999994,22,59.7,18,220,null,null,null,null,{"$f":"I9-K9","v":0},{"$f":"IF(ISERROR(K9/I9),\"\",K9/I9)","v":""},{"$f":"I9/E9","v":0},{"$f":"K9/E9","v":0},3,1,"계","74A",null,null,{"$f":"D9","v":74.099999999999994},22,{"$f":"H9","v":220},0,{"$f":"K9","v":0},{"$f":"M9","v":0},"",0,{"$f":"S9","v":"계"},{"$f":"Q9&\"/\"&R9","v":"3/1"},null,"삼성",22,{"$f":"IF(AI9=\"\",\"\",$AJ$2)","v":"A-"},"A","A+","B+",{"$f":"IF(AI9=\"\",\"\",$AN$2)","v":"C"},{"$f":"IF(N9=\"\",\"\",IF(N9>=$AO$1/100,\"O\",\"X\"))","v":""},{"$f":"IF(I9=\"\",\"\",IF(I9<=$AP$1,\"O\",\"X\"))","v":""},{"$f":"IF(O9=\"\",\"\",IF(O9<=$AQ$1,\"O\",\"X\"))","v":"O"},{"$f":"IF(M9=\"\",\"\",IF(M9<=$AR$1,\"O\",\"X\"))","v":"O"},"X",{"$f":"IF(OR(F9=\"\",AI9=\"\"),\"\",IF(AND((F9<=85),(AI9>=15)),\"O\",\"X\"))","v":"O"},{"$f":"IF(C9=\"\",\"\",IF(C9>=$AU$1,\"O\",\"X\"))","v":"O"},{"$f":"IF(AO9=\"\",\"\",IF(AND(AO9=\"O\",AP9=\"O\",AR9=\"O\",AT9=\"O\",AU9=\"O\"),\"후보\",\"X\"))","v":""}]
["삼성","'96.06",862,74.2,22,59.9,18,240,null,null,null,null,{"$f":"I10-K10","v":0},{"$f":"IF(ISERROR(K10/I10),\"\",K10/I10)","v":""},{"$f":"I10/E10","v":0},{"$f":"K10/E10","v":0},3,1,"계","74B",null,null,74.2,22,240,0,{"$f":"K10","v":0},0,"",0,{"$f":"S10","v":"계"},{"$f":"Q10&\"/\"&R10","v":"3/1"},null,"삼성",22,{"$f":"IF(AI10=\"\",\"\",$AJ$2)","v":"A-"},"A","A+","B+",{"$f":"IF(AI10=\"\",\"\",$AN$2)","v":"C"},{"$f":"IF(N10=\"\",\"\",IF(N10>=$AO$1/100,\"O\",\"X\"))","v":""},{"$f":"IF(I10=\"\",\"\",IF(I10<=$AP$1,\"O\",\"X\"))","v":""},{"$f":"IF(O10=\"\",\"\",IF(O10<=$AQ$1,\"O\",\"X\"))","v":"O"},{"$f":"IF(M10=\"\",\"\",IF(M10<=$AR$1,\"O\",\"X\"))","v":"O"},"X",{"$f":"IF(OR(F10=\"\",AI10=\"\"),\"\",IF(AND((F10<=85),(AI10>=15)),\"O\",\"X\"))","v":"O"},{"$f":"IF(C10=\"\",\"\",IF(C10>=$AU$1,\"O\",\"X\"))","v":"O"},{"$f":"IF(AO10=\"\",\"\",IF(AND(AO10=\"O\",AP10=\"O\",AR10=\"O\",AT10=\"O\",AU10=\"O\"),\"후보\",\"X\"))","v":""}]
["삼성","'96.06",862,99.4,30,85,26,402,null,null,null,null,{"$f":"I11-K11","v":0},{"$f":"IF(ISERROR(K11/I11),\"\",K11/I11)","v":""},{"$f":"I11/E11","v":0},{"$f":"K11/E11","v":0},3,2,"계",99,null,null,99.4,30,402,0,{"$f":"K11","v":0},0,"",0,{"$f":"S11","v":"계"},{"$f":"Q11&\"/\"&R11","v":"3/2"},null,"삼성",30,{"$f":"IF(AI11=\"\",\"\",$AJ$2)","v":"A-"},"A","A+","B+",{"$f":"IF(AI11=\"\",\"\",$AN$2)","v":"C"},{"$f":"IF(N11=\"\",\"\",IF(N11>=$AO$1/100,\"O\",\"X\"))","v":""},{"$f":"IF(I11=\"\",\"\",IF(I11<=$AP$1,\"O\",\"X\"))","v":""},{"$f":"IF(O11=\"\",\"\",IF(O11<=$AQ$1,\"O\",\"X\"))","v":"O"},{"$f":"IF(M11=\"\",\"\",IF(M11<=$AR$1,\"O\",\"X\"))","v":"O"},"X",{"$f":"IF(OR(F11=\"\",AI11=\"\"),\"\",IF(AND((F11<=85),(AI11>=15)),\"O\",\"X\"))","v":"O"},{"$f":"IF(C11=\"\",\"\",IF(C11>=$AU$1,\"O\",\"X\"))","v":"O"},{"$f":"IF(AO11=\"\",\"\",IF(AND(AO11=\"O\",AP11=\"O\",AR11=\"O\",AT11=\"O\",AU11=\"O\"),\"후보\",\"X\"))","v":""}]
[null,null,null,null,null,null,null,null,null,null,null,null,null,null,null,null,null,null,null,null,null,null,{"$f":"$A$4&\" \"&A13&\"(\"&B13&\",\"&C13&\"^)\"","v":"내동 동아1차('97.01,720^)"},null,null,null,null,null,null,null,null,null,null,"",""]
["동아1차","'97.01",720,120.7,37,100,30,300,null,null,null,null,{"$f":"I13-K13","v":0},{"$f":"IF(ISERROR(K13/I13),\"\",K13/I13)","v":""},{"$f":"I13/E13","v":0},{"$f":"K13/E13","v":0},4,2,"계",120,null,null,{"$f":"D13","v":120.7},37,{"$f":"H13","v":300},0,{"$f":"K13","v":0},{"$f":"M13","v":0},"",0,{"$f":"S13","v":"계"},{"$f":"Q13&\"/\"&R13","v":"4/2"},null,"동아1차",37,{"$f":"IF(AI13=\"\",\"\",$AJ$2)","v":"A-"},"A","A+","B+",{"$f":"IF(AI13=\"\",\"\",$AN$2)","v":"C"},{"$f":"IF(N13=\"\",\"\",IF(N13>=$AO$1/100,\"O\",\"X\"))","v":""},{"$f":"IF(I13=\"\",\"\",IF(I13<=$AP$1,\"O\",\"X\"))","v":""},{"$f":"IF(O13=\"\",\"\",IF(O13<=$AQ$1,\"O\",\"X\"))","v":"O"},{"$f":"IF(M13=\"\",\"\",IF(M13<=$AR$1,\"O\",\"X\"))","v":"O"},"X",{"$f":"IF(OR(F13=\"\",AI13=\"\"),\"\",IF(AND((F13<=85),(AI13>=15)),\"O\",\"X\"))","v":"X"},{"$f":"IF(C13=\"\",\"\",IF(C13>=$AU$1,\"O\",\"X\"))","v":"O"},{"$f":"IF(AO13=\"\",\"\",IF(AND(AO13=\"O\",AP13=\"O\",AR13=\"O\",AT13=\"O\",AU13=\"O\"),\"후보\",\"X\"))","v":""}]
["동아1차","'97.01",720,150.69999999999999,46,127.7,39,360,null,null,null,null,{"$f":"I14-K14","v":0},{"$f":"IF(ISERROR(K14/I14),\"\",K14/I14)","v":""},{"$f":"I14/E14","v":0},{"$f":"K14/E14","v":0},4,2,"계",150,null,null,150.69999999999999,46,360,0,{"$f":"K14","v":0},0,"",0,{"$f":"S14","v":"계"},{"$f":"Q14&\"/\"&R14","v":"4/2"},null,"동아1차",46,{"$f":"IF(AI14=\"\",\"\",$AJ$2)","v":"A-"},"A","A+","B+",{"$f":"IF(AI14=\"\",\"\",$AN$2)","v":"C"},{"$f":"IF(N14=\"\",\"\",IF(N14>=$AO$1/100,\"O\",\"X\"))","v":""},{"$f":"IF(I14=\"\",\"\",IF(I14<=$AP$1,\"O\",\"X\"))","v":""},{"$f":"IF(O14=\"\",\"\",IF(O14<=$AQ$1,\"O\",\"X\"))","v":"O"},{"$f":"IF(M14=\"\",\"\",IF(M14<=$AR$1,\"O\",\"X\"))","v":"O"},"X",{"$f":"IF(OR(F14=\"\",AI14=\"\"),\"\",IF(AND((F14<=85),(AI14>=15)),\"O\",\"X\"))","v":"X"},{"$f":"IF(C14=\"\",\"\",IF(C14>=$AU$1,\"O\",\"X\"))","v":"O"},{"$f":"IF(AO14=\"\",\"\",IF(AND(AO14=\"O\",AP14=\"O\",AR14=\"O\",AT14=\"O\",AU14=\"O\"),\"후보\",\"X\"))","v":""}]
["동아1차","'97.01",720,193.9,59,165,50,60,null,null,null,null,{"$f":"I15-K15","v":0},{"$f":"IF(ISERROR(K15/I15),\"\",K15/I15)","v":""},{"$f":"I15/E15","v":0},{"$f":"K15/E15","v":0},5,2,"계",193,null,null,193.9,59,60,0,{"$f":"K15","v":0},0,"",0,{"$f":"S15","v":"계"},{"$f":"Q15&\"/\"&R15","v":"5/2"},null,"동아1차",59,{"$f":"IF(AI15=\"\",\"\",$AJ$2)","v":"A-"},"A","A+","B+",{"$f":"IF(AI15=\"\",\"\",$AN$2)","v":"C"},{"$f":"IF(N15=\"\",\"\",IF(N15>=$AO$1/100,\"O\",\"X\"))","v":""},{"$f":"IF(I15=\"\",\"\",IF(I15<=$AP$1,\"O\",\"X\"))","v":""},{"$f":"IF(O15=\"\",\"\",IF(O15<=$AQ$1,\"O\",\"X\"))","v":"O"},{"$f":"IF(M15=\"\",\"\",IF(M15<=$AR$1,\"O\",\"X\"))","v":"O"},"X",{"$f":"IF(OR(F15=\"\",AI15=\"\"),\"\",IF(AND((F15<=85),(AI15>=15)),\"O\",\"X\"))","v":"X"},{"$f":"IF(C15=\"\",\"\",IF(C15>=$AU$1,\"O\",\"X\"))","v":"O"},{"$f":"IF(AO15=\"\",\"\",IF(AND(AO15=\"O\",AP15=\"O\",AR15=\"O\",AT15=\"O\",AU15=\"O\"),\"후보\",\"X\"))","v":""}]
[null,null,null,null,null,null,null,null,null,null,null,null,null,null,null,null,null,null,null,null,null,null,{"$f":"$A$4&\" \"&A17&\"(\"&B17&\",\"&C17&\"^)\"","v":"내동 홍익('90.07,708^)"},null,null,null,null,null,null,null,null,null,null,"",""]
["홍익","'90.07",708,66.400000000000006,20,59.8,18,708,null,null,null,null,{"$f":"I17-K17","v":0},{"$f":"IF(ISERROR(K17/I17),\"\",K17/I17)","v":""},{"$f":"I17/E17","v":0},{"$f":"K17/E17","v":0},3,1,"계",66,null,null,{"$f":"D17","v":66.400000000000006},{"$f":"E17","v":20},{"$f":"H17","v":708},{"$f":"I17","v":0},{"$f":"K17","v":0},{"$f":"M17","v":0},{"$f":"N17","v":""},{"$f":"O17","v":0},{"$f":"S17","v":"계"},{"$f":"Q17&\"/\"&R17","v":"3/1"},null,"홍익",20,{"$f":"IF(AI17=\"\",\"\",$AJ$2)","v":"A-"},"A","A+","B+",{"$f":"IF(AI17=\"\",\"\",$AN$2)","v":"C"},{"$f":"IF(N17=\"\",\"\",IF(N17>=$AO$1/100,\"O\",\"X\"))","v":""},{"$f":"IF(I17=\"\",\"\",IF(I17<=$AP$1,\"O\",\"X\"))","v":""},{"$f":"IF(O17=\"\",\"\",IF(O17<=$AQ$1,\"O\",\"X\"))","v":"O"},{"$f":"IF(M17=\"\",\"\",IF(M17<=$AR$1,\"O\",\"X\"))","v":"O"},"X",{"$f":"IF(OR(F17=\"\",AI17=\"\"),\"\",IF(AND((F17<=85),(AI17>=15)),\"O\",\"X\"))","v":"O"},{"$f":"IF(C17=\"\",\"\",IF(C17>=$AU$1,\"O\",\"X\"))","v":"O"},{"$f":"IF(AO17=\"\",\"\",IF(AND(AO17=\"O\",AP17=\"O\",AR17=\"O\",AT17=\"O\",AU17=\"O\"),\"후보\",\"X\"))","v":""}]
[null,null,null,null,null,null,null,null,null,null,null,null,null,null,null,null,null,null,null,null,null,null,{"$f":"$A$4&\" \"&A19&\"(\"&B19&\",\"&C19&\"^)\"","v":"내동 건영('98.12,558^)"},null,null,null,null,null,null,null,null,null,null,"",""]
["건영","'98.12",558,85.8,26,84.9,26,120,null,null,null,null,{"$f":"I19-K19","v":0},{"$f":"IF(ISERROR(K19/I19),\"\",K19/I19)","v":""},{"$f":"I19/E19","v":0},{"$f":"K19/E19","v":0},3,2,"계",85,null,null,{"$f":"D19","v":85.8},26,{"$f":"H19","v":120},0,{"$f":"K19","v":0},{"$f":"M19","v":0},"",0,{"$f":"S19","v":"계"},{"$f":"Q19&\"/\"&R19","v":"3/2"},null,"건영",26,{"$f":"IF(AI19=\"\",\"\",$AJ$2)","v":"A-"},"A","A+","B+",{"$f":"IF(AI19=\"\",\"\",$AN$2)","v":"C"},{"$f":"IF(N19=\"\",\"\",IF(N19>=$AO$1/100,\"O\",\"X\"))","v":""},{"$f":"IF(I19=\"\",\"\",IF(I19<=$AP$1,\"O\",\"X\"))","v":""},{"$f":"IF(O19=\"\",\"\",IF(O19<=$AQ$1,\"O\",\"X\"))","v":"O"},{"$f":"IF(M19=\"\",\"\",IF(M19<=$AR$1,\"O\",\"X\"))","v":"O"},"X",{"$f":"IF(OR(F19=\"\",AI19=\"\"),\"\",IF(AND((F19<=85),(AI19>=15)),\"O\",\"X\"))","v":"O"},{"$f":"IF(C19=\"\",\"\",IF(C19>=$AU$1,\"O\",\"X\"))","v":"O"},{"$f":"IF(AO19=\"\",\"\",IF(AND(AO19=\"O\",AP19=\"O\",AR19=\"O\",AT19=\"O\",AU19=\"O\"),\"후보\",\"X\"))","v":""}]
["건영","'98.12",558,113.4,34,100,30,408,null,null,null,null,{"$f":"I20-K20","v":0},{"$f":"IF(ISERROR(K20/I20),\"\",K20/I20)","v":""},{"$f":"I20/E20","v":0},{"$f":"K20/E20","v":0},4,2,"계",113,null,null,113.4,34,408,0,{"$f":"K20","v":0},0,"",0,{"$f":"S20","v":"계"},{"$f":"Q20&\"/\"&R20","v":"4/2"},null,"건영",34,{"$f":"IF(AI20=\"\",\"\",$AJ$2)","v":"A-"},"A","A+","B+",{"$f":"IF(AI20=\"\",\"\",$AN$2)","v":"C"},{"$f":"IF(N20=\"\",\"\",IF(N20>=$AO$1/100,\"O\",\"X\"))","v":""},{"$f":"IF(I20=\"\",\"\",IF(I20<=$AP$1,\"O\",\"X\"))","v":""},{"$f":"IF(O20=\"\",\"\",IF(O20<=$AQ$1,\"O\",\"X\"))","v":"O"},{"$f":"IF(M20=\"\",\"\",IF(M20<=$AR$1,\"O\",\"X\"))","v":"O"},"X",{"$f":"IF(OR(F20=\"\",AI20=\"\"),\"\",IF(AND((F20<=85),(AI20>=15)),\"O\",\"X\"))","v":"X"},{"$f":"IF(C20=\"\",\"\",IF(C20>=$AU$1,\"O\",\"X\"))","v":"O"},{"$f":"IF(AO20=\"\",\"\",IF(AND(AO20=\"O\",AP20=\"O\",AR20=\"O\",AT20=\"O\",AU20=\"O\"),\"후보\",\"X\"))","v":""}]
["건영","'98.12",558,148.5,45,134.80000000000001,41,30,null,null,null,null,{"$f":"I21-K21","v":0},{"$f":"IF(ISERROR(K21/I21),\"\",K21/I21)","v":""},{"$f":"I21/E21","v":0},{"$f":"K21/E21","v":0},4,2,"계",148,null,null,148.5,45,30,0,{"$f":"K21","v":0},0,"",0,{"$f":"S21","v":"계"},{"$f":"Q21&\"/\"&R21","v":"4/2"},null,"건영",45,{"$f":"IF(AI21=\"\",\"\",$AJ$2)","v":"A-"},"A","A+","B+",{"$f":"IF(AI21=\"\",\"\",$AN$2)","v":"C"},{"$f":"IF(N21=\"\",\"\",IF(N21>=$AO$1/100,\"O\",\"X\"))","v":""},{"$f":"IF(I21=\"\",\"\",IF(I21<=$AP$1,\"O\",\"X\"))","v":""},{"$f":"IF(O21=\"\",\"\",IF(O21<=$AQ$1,\"O\",\"X\"))","v":"O"},{"$f":"IF(M21=\"\",\"\",IF(M21<=$AR$1,\"O\",\"X\"))","v":"O"},"X",{"$f":"IF(OR(F21=\"\",AI21=\"\"),\"\",IF(AND((F21<=85),(AI21>=15)),\"O\",\"X\"))","v":"X"},{"$f":"IF(C21=\"\",\"\",IF(C21>=$AU$1,\"O\",\"X\"))","v":"O"},{"$f":"IF(AO21=\"\",\"\",IF(AND(AO21=\"O\",AP21=\"O\",AR21=\"O\",AT21=\"O\",AU21=\"O\"),\"후보\",\"X\"))","v":""}]
[null,null,null,null,null,null,null,null,null,null,null,null,null,null,null,null,null,null,null,null,null,null,{"$f":"$A$4&\" \"&A23&\"(\"&B23&\",\"&C23&\"^)\"","v":"내동 내외대우('96.06,504^)"},null,null,null,null,null,null,null,null,null,null,"",""]
["내외대우","'96.06",504,97.9,30,85,26,150,null,null,null,null,{"$f":"I23-K23","v":0},{"$f":"IF(ISERROR(K23/I23),\"\",K23/I23)","v":""},{"$f":"I23/E23","v":0},{"$f":"K23/E23","v":0},3,2,"계","97B",null,null,{"$f":"D23","v":97.9},30,{"$f":"H23","v":150},0,{"$f":"K23","v":0},{"$f":"M23","v":0},"",0,{"$f":"S23","v":"계"},{"$f":"Q23&\"/\"&R23","v":"3/2"},null,"내외대우",30,{"$f":"IF(AI23=\"\",\"\",$AJ$2)","v":"A-"},"A","A+","B+",{"$f":"IF(AI23=\"\",\"\",$AN$2)","v":"C"},{"$f":"IF(N23=\"\",\"\",IF(N23>=$AO$1/100,\"O\",\"X\"))","v":""},{"$f":"IF(I23=\"\",\"\",IF(I23<=$AP$1,\"O\",\"X\"))","v":""},{"$f":"IF(O23=\"\",\"\",IF(O23<=$AQ$1,\"O\",\"X\"))","v":"O"},{"$f":"IF(M23=\"\",\"\",IF(M23<=$AR$1,\"O\",\"X\"))","v":"O"},"X",{"$f":"IF(OR(F23=\"\",AI23=\"\"),\"\",IF(AND((F23<=85),(AI23>=15)),\"O\",\"X\"))","v":"O"},{"$f":"IF(C23=\"\",\"\",IF(C23>=$AU$1,\"O\",\"X\"))","v":"O"},{"$f":"IF(AO23=\"\",\"\",IF(AND(AO23=\"O\",AP23=\"O\",AR23=\"O\",AT23=\"O\",AU23=\"O\"),\"후보\",\"X\"))","v":""}]
["내외대우","'96.06",504,72.099999999999994,22,59.3,18,88,null,null,null,null,{"$f":"I24-K24","v":0},{"$f":"IF(ISERROR(K24/I24),\"\",K24/I24)","v":""},{"$f":"I24/E24","v":0},{"$f":"K24/E24","v":0},3,1,"계","72A",null,null,72.099999999999994,22,88,0,{"$f":"K24","v":0},0,"",0,{"$f":"S24","v":"계"},{"$f":"Q24&\"/\"&R24","v":"3/1"},null,"내외대우",22,{"$f":"IF(AI24=\"\",\"\",$AJ$2)","v":"A-"},"A","A+","B+",{"$f":"IF(AI24=\"\",\"\",$AN$2)","v":"C"},{"$f":"IF(N24=\"\",\"\",IF(N24>=$AO$1/100,\"O\",\"X\"))","v":""},{"$f":"IF(I24=\"\",\"\",IF(I24<=$AP$1,\"O\",\"X\"))","v":""},{"$f":"IF(O24=\"\",\"\",IF(O24<=$AQ$1,\"O\",\"X\"))","v":"O"},{"$f":"IF(M24=\"\",\"\",IF(M24<=$AR$1,\"O\",\"X\"))","v":"O"},"X",{"$f":"IF(OR(F24=\"\",AI24=\"\"),\"\",IF(AND((F24<=85),(AI24>=15)),\"O\",\"X\"))","v":"O"},{"$f":"IF(C24=\"\",\"\",IF(C24>=$AU$1,\"O\",\"X\"))","v":"O"},{"$f":"IF(AO24=\"\",\"\",IF(AND(AO24=\"O\",AP24=\"O\",AR24=\"O\",AT24=\"O\",AU24=\"O\"),\"후보\",\"X\"))","v":""}]
["내외대우","'96.06",504,72.8,22,59.8,18,116,null,null,null,null,{"$f":"I25-K25","v":0},{"$f":"IF(ISERROR(K25/I25),\"\",K25/I25)","v":""},{"$f":"I25/E25","v":0},{"$f":"K25/E25","v":0},3,1,"계","72B",null,null,72.8,22,116,0,{"$f":"K25","v":0},0,"",0,{"$f":"S25","v":"계"},{"$f":"Q25&\"/\"&R25","v":"3/1"},null,"내외대우",22,{"$f":"IF(AI25=\"\",\"\",$AJ$2)","v":"A-"},"A","A+","B+",{"$f":"IF(AI25=\"\",\"\",$AN$2)","v":"C"},{"$f":"IF(N25=\"\",\"\",IF(N25>=$AO$1/100,\"O\",\"X\"))","v":""},{"$f":"IF(I25=\"\",\"\",IF(I25<=$AP$1,\"O\",\"X\"))","v":""},{"$f":"IF(O25=\"\",\"\",IF(O25<=$AQ$1,\"O\",\"X\"))","v":"O"},{"$f":"IF(M25=\"\",\"\",IF(M25<=$AR$1,\"O\",\"X\"))","v":"O"},"X",{"$f":"IF(OR(F25=\"\",AI25=\"\"),\"\",IF(AND((F25<=85),(AI25>=15)),\"O\",\"X\"))","v":"O"},{"$f":"IF(C25=\"\",\"\",IF(C25>=$AU$1,\"O\",\"X\"))","v":"O"},{"$f":"IF(AO25=\"\",\"\",IF(AND(AO25=\"O\",AP25=\"O\",AR25=\"O\",AT25=\"O\",AU25=\"O\"),\"후보\",\"X\"))","v":""}]
["내외대우","'96.06",504,97.3,29,84.4,26,150,null,null,null,null,{"$f":"I26-K26","v":0},{"$f":"IF(ISERROR(K26/I26),\"\",K26/I26)","v":""},{"$f":"I26/E26","v":0},{"$f":"K26/E26","v":0},3,2,"계","97A",null,null,97.3,29,150,0,{"$f":"K26","v":0},0,"",0,{"$f":"S26","v":"계"},{"$f":"Q26&\"/\"&R26","v":"3/2"},null,"내외대우",29,{"$f":"IF(AI26=\"\",\"\",$AJ$2)","v":"A-"},"A","A+","B+",{"$f":"IF(AI26=\"\",\"\",$AN$2)","v":"C"},{"$f":"IF(N26=\"\",\"\",IF(N26>=$AO$1/100,\"O\",\"X\"))","v":""},{"$f":"IF(I26=\"\",\"\",IF(I26<=$AP$1,\"O\",\"X\"))","v":""},{"$f":"IF(O26=\"\",\"\",IF(O26<=$AQ$1,\"O\",\"X\"))","v":"O"},{"$f":"IF(M26=\"\",\"\",IF(M26<=$AR$1,\"O\",\"X\"))","v":"O"},"X",{"$f":"IF(OR(F26=\"\",AI26=\"\"),\"\",IF(AND((F26<=85),(AI26>=15)),\"O\",\"X\"))","v":"O"},{"$f":"IF(C26=\"\",\"\",IF(C26>=$AU$1,\"O\",\"X\"))","v":"O"},{"$f":"IF(AO26=\"\",\"\",IF(AND(AO26=\"O\",AP26=\"O\",AR26=\"O\",AT26=\"O\",AU26=\"O\"),\"후보\",\"X\"))","v":""}]
[null,null,null,null,null,null,null,null,null,null,null,null,null,null,null,null,null,null,null,null,null,null,{"$f":"$A$4&\" \"&A28&\"(\"&B28&\",\"&C28&\"^)\"","v":"내동 현대2차('96.03,493^)"},null,null,null,null,null,null,null,null,null,null,"",""]
["현대2차","'96.03",493,97.4,30,85,26,233,null,null,null,null,{"$f":"I28-K28","v":0},{"$f":"IF(ISERROR(K28/I28),\"\",K28/I28)","v":""},{"$f":"I28/E28","v":0},{"$f":"K28/E28","v":0},3,2,"계",97,null,null,{"$f":"D28","v":97.4},30,{"$f":"H28","v":233},0,{"$f":"K28","v":0},{"$f":"M28","v":0},"",0,{"$f":"S28","v":"계"},{"$f":"Q28&\"/\"&R28","v":"3/2"},null,"현대2차",30,{"$f":"IF(AI28=\"\",\"\",$AJ$2)","v":"A-"},"A","A+","B+",{"$f":"IF(AI28=\"\",\"\",$AN$2)","v":"C"},{"$f":"IF(N28=\"\",\"\",IF(N28>=$AO$1/100,\"O\",\"X\"))","v":""},{"$f":"IF(I28=\"\",\"\",IF(I28<=$AP$1,\"O\",\"X\"))","v":""},{"$f":"IF(O28=\"\",\"\",IF(O28<=$AQ$1,\"O\",\"X\"))","v":"O"},{"$f":"IF(M28=\"\",\"\",IF(M28<=$AR$1,\"O\",\"X\"))","v":"O"},"X",{"$f":"IF(OR(F28=\"\",AI28=\"\"),\"\",IF(AND((F28<=85),(AI28>=15)),\"O\",\"X\"))","v":"O"},{"$f":"IF(C28=\"\",\"\",IF(C28>=$AU$1,\"O\",\"X\"))","v":"O"},{"$f":"IF(AO28=\"\",\"\",IF(AND(AO28=\"O\",AP28=\"O\",AR28=\"O\",AT28=\"O\",AU28=\"O\"),\"후보\",\"X\"))","v":""}]
["현대2차","'96.03",493,114.2,35,101.9,31,204,null,null,null,null,{"$f":"I29-K29","v":0},{"$f":"IF(ISERROR(K29/I29),\"\",K29/I29)","v":""},{"$f":"I29/E29","v":0},{"$f":"K29/E29","v":0},4,2,"계",114,null,null,114.2,35,204,0,{"$f":"K29","v":0},0,"",0,{"$f":"S29","v":"계"},{"$f":"Q29&\"/\"&R29","v":"4/2"},null,"현대2차",35,{"$f":"IF(AI29=\"\",\"\",$AJ$2)","v":"A-"},"A","A+","B+",{"$f":"IF(AI29=\"\",\"\",$AN$2)","v":"C"},{"$f":"IF(N29=\"\",\"\",IF(N29>=$AO$1/100,\"O\",\"X\"))","v":""},{"$f":"IF(I29=\"\",\"\",IF(I29<=$AP$1,\"O\",\"X\"))","v":""},{"$f":"IF(O29=\"\",\"\",IF(O29<=$AQ$1,\"O\",\"X\"))","v":"O"},{"$f":"IF(M29=\"\",\"\",IF(M29<=$AR$1,\"O\",\"X\"))","v":"O"},"X",{"$f":"IF(OR(F29=\"\",AI29=\"\"),\"\",IF(AND((F29<=85),(AI29>=15)),\"O\",\"X\"))","v":"X"},{"$f":"IF(C29=\"\",\"\",IF(C29>=$AU$1,\"O\",\"X\"))","v":"O"},{"$f":"IF(AO29=\"\",\"\",IF(AND(AO29=\"O\",AP29=\"O\",AR29=\"O\",AT29=\"O\",AU29=\"O\"),\"후보\",\"X\"))","v":""}]
["현대2차","'96.03",493,150,45,134.6,41,56,null,null,null,null,{"$f":"I30-K30","v":0},{"$f":"IF(ISERROR(K30/I30),\"\",K30/I30)","v":""},{"$f":"I30/E30","v":0},{"$f":"K30/E30","v":0},4,2,"계",149,null,null,150,45,56,0,{"$f":"K30","v":0},0,"",0,{"$f":"S30","v":"계"},{"$f":"Q30&\"/\"&R30","v":"4/2"},null,"현대2차",45,{"$f":"IF(AI30=\"\",\"\",$AJ$2)","v":"A-"},"A","A+","B+",{"$f":"IF(AI30=\"\",\"\",$AN$2)","v":"C"},{"$f":"IF(N30=\"\",\"\",IF(N30>=$AO$1/100,\"O\",\"X\"))","v":""},{"$f":"IF(I30=\"\",\"\",IF(I30<=$AP$1,\"O\",\"X\"))","v":""},{"$f":"IF(O30=\"\",\"\",IF(O30<=$AQ$1,\"O\",\"X\"))","v":"O"},{"$f":"IF(M30=\"\",\"\",IF(M30<=$AR$1,\"O\",\"X\"))","v":"O"},"X",{"$f":"IF(OR(F30=\"\",AI30=\"\"),\"\",IF(AND((F30<=85),(AI30>=15)),\"O\",\"X\"))","v":"X"},{"$f":"IF(C30=\"\",\"\",IF(C30>=$AU$1,\"O\",\"X\"))","v":"O"},{"$f":"IF(AO30=\"\",\"\",IF(AND(AO30=\"O\",AP30=\"O\",AR30=\"O\",AT30=\"O\",AU30=\"O\"),\"후보\",\"X\"))","v":""}]
[null,null,null,null,null,null,null,null,null,null,null,null,null,null,null,null,null,null,null,null,null,null,{"$f":"$A$4&\" \"&A32&\"(\"&B32&\",\"&C32&\"^)\"","v":"내동 한진('92.05,474^)"},null,null,null,null,null,null,null,null,null,null,"",""]
["한진","'92.05",474,69.099999999999994,21,49.7,15,299,null,null,null,null,{"$f":"I32-K32","v":0},{"$f":"IF(ISERROR(K32/I32),\"\",K32/I32)","v":""},{"$f":"I32/E32","v":0},{"$f":"K32/E32","v":0},2,1,"복",69,null,null,{"$f":"D32","v":69.099999999999994},{"$f":"E32","v":21},{"$f":"H32","v":299},{"$f":"I32","v":0},{"$f":"K32","v":0},{"$f":"M32","v":0},{"$f":"N32","v":""},{"$f":"O32","v":0},{"$f":"S32","v":"복"},{"$f":"Q32&\"/\"&R32","v":"2/1"},null,"한진",21,{"$f":"IF(AI32=\"\",\"\",$AJ$2)","v":"A-"},"A","A+","B+",{"$f":"IF(AI32=\"\",\"\",$AN$2)","v":"C"},{"$f":"IF(N32=\"\",\"\",IF(N32>=$AO$1/100,\"O\",\"X\"))","v":""},{"$f":"IF(I32=\"\",\"\",IF(I32<=$AP$1,\"O\",\"X\"))","v":""},{"$f":"IF(O32=\"\",\"\",IF(O32<=$AQ$1,\"O\",\"X\"))","v":"O"},{"$f":"IF(M32=\"\",\"\",IF(M32<=$AR$1,\"O\",\"X\"))","v":"O"},"X",{"$f":"IF(OR(F32=\"\",AI32=\"\"),\"\",IF(AND((F32<=85),(AI32>=15)),\"O\",\"X\"))","v":"O"},{"$f":"IF(C32=\"\",\"\",IF(C32>=$AU$1,\"O\",\"X\"))","v":"O"},{"$f":"IF(AO32=\"\",\"\",IF(AND(AO32=\"O\",AP32=\"O\",AR32=\"O\",AT32=\"O\",AU32=\"O\"),\"후보\",\"X\"))","v":""}]
[null,null,null,null,null,null,null,null,null,null,null,null,null,null,null,null,null,null,null,null,null,null,{"$f":"$A$4&\" \"&A34&\"(\"&B34&\",\"&C34&\"^)\"","v":"내동 현대4차('98.06,419^)"},null,null,null,null,null,null,null,null,null,null,"",""]
["현대4차","'98.06",419,95.2,29,84,25,1,null,null,null,null,{"$f":"I34-K34","v":0},{"$f":"IF(ISERROR(K34/I34),\"\",K34/I34)","v":""},{"$f":"I34/E34","v":0},{"$f":"K34/E34","v":0},3,2,"계","95A",null,null,{"$f":"D34","v":95.2},29,{"$f":"H34","v":1},0,{"$f":"K34","v":0},{"$f":"M34","v":0},"",0,{"$f":"S34","v":"계"},{"$f":"Q34&\"/\"&R34","v":"3/2"},null,"현대4차",29,{"$f":"IF(AI34=\"\",\"\",$AJ$2)","v":"A-"},"A","A+","B+",{"$f":"IF(AI34=\"\",\"\",$AN$2)","v":"C"},{"$f":"IF(N34=\"\",\"\",IF(N34>=$AO$1/100,\"O\",\"X\"))","v":""},{"$f":"IF(I34=\"\",\"\",IF(I34<=$AP$1,\"O\",\"X\"))","v":""},{"$f":"IF(O34=\"\",\"\",IF(O34<=$AQ$1,\"O\",\"X\"))","v":"O"},{"$f":"IF(M34=\"\",\"\",IF(M34<=$AR$1,\"O\",\"X\"))","v":"O"},"X",{"$f":"IF(OR(F34=\"\",AI34=\"\"),\"\",IF(AND((F34<=85),(AI34>=15)),\"O\",\"X\"))","v":"O"},{"$f":"IF(C34=\"\",\"\",IF(C34>=$AU$1,\"O\",\"X\"))","v":"O"},{"$f":"IF(AO34=\"\",\"\",IF(AND(AO34=\"O\",AP34=\"O\",AR34=\"O\",AT34=\"O\",AU34=\"O\"),\"후보\",\"X\"))","v":""}]
["현대4차","'98.06",419,96.3,29,85,26,209,null,null,null,null,0,"",0,0,3,1,"계","96B",null,null,96.3,29,209,0,0,0,"",0,"계","3/1",null,"현대4차",{"$f":"IF(E35=\"\",\"\",E35)","v":29},"A-","A","A+","B+","C","","","O","O","X","O","O",""]
["현대4차","'98.06",419,113.1,34,99.9,30,119,null,null,null,null,0,"",0,0,3,2,"계","113A",null,null,113.1,34,119,0,0,0,"",0,"계","3/2",null,"현대4차",34,"A-","A","A+","B+","C","","","O","O","X","X","O",""]
["현대4차","'98.06",419,113.2,34,99.9,30,30,null,null,null,null,0,"",0,0,4,2,"계","113B",null,null,113.2,34,30,0,0,0,"",0,"계","4/2",null,{"$f":"IF(A37=\"\",\"\",A37)","v":"현대4차"},34,"A-","A","A+","B+","C","","","O","O","X","X","O",""]
["현대4차","'98.06",419,152.69999999999999,46,134.80000000000001,41,30,null,null,null,null,0,"",0,0,4,2,"계",152,null,null,152.69999999999999,46,30,0,0,0,"",0,"계","4/2",null,"현대4차",46,"A-","A","A+","B+","C","","","O","O","X","X","O",""]
["현대4차","'98.06",419,186.7,57,164.8,50,30,null,null,null,null,0,"",0,0,5,2,"계",186,null,null,186.7,57,30,0,0,0,"",0,"계","5/2",null,"현대4차",57,"A-","A","A+","B+","C","","","O","O","X","X","O",""]
[null,null,null,null,null,null,null,null,null,null,null,null,null,null,null,null,null,null,null,null,null,null,{"$f":"$A$4&\" \"&A41&\"(\"&B41&\",\"&C41&\"^)\"","v":"내동 동부('96.12,402^)"},null,null,null,null,null,null,null,null,null,null,"",""]
["동부","'96.12",402,74.3,23,60,18,134,null,null,null,null,{"$f":"I41-K41","v":0},{"$f":"IF(ISERROR(K41/I41),\"\",K41/I41)","v":""},{"$f":"I41/E41","v":0},{"$f":"K41/E41","v":0},3,1,"계",74,null,null,{"$f":"D41","v":74.3},23,{"$f":"H41","v":134},0,{"$f":"K41","v":0},{"$f":"M41","v":0},"",0,{"$f":"S41","v":"계"},{"$f":"Q41&\"/\"&R41","v":"3/1"},null,"동부",23,{"$f":"IF(AI41=\"\",\"\",$AJ$2)","v":"A-"},"A","A+","B+",{"$f":"IF(AI41=\"\",\"\",$AN$2)","v":"C"},{"$f":"IF(N41=\"\",\"\",IF(N41>=$AO$1/100,\"O\",\"X\"))","v":""},{"$f":"IF(I41=\"\",\"\",IF(I41<=$AP$1,\"O\",\"X\"))","v":""},{"$f":"IF(O41=\"\",\"\",IF(O41<=$AQ$1,\"O\",\"X\"))","v":"O"},{"$f":"IF(M41=\"\",\"\",IF(M41<=$AR$1,\"O\",\"X\"))","v":"O"},"X",{"$f":"IF(OR(F41=\"\",AI41=\"\"),\"\",IF(AND((F41<=85),(AI41>=15)),\"O\",\"X\"))","v":"O"},{"$f":"IF(C41=\"\",\"\",IF(C41>=$AU$1,\"O\",\"X\"))","v":"O"},{"$f":"IF(AO41=\"\",\"\",IF(AND(AO41=\"O\",AP41=\"O\",AR41=\"O\",AT41=\"O\",AU41=\"O\"),\"후보\",\"X\"))","v":""}]
["동부","'96.12",402,85.7,26,72.900000000000006,22,88,null,null,null,null,{"$f":"I42-K42","v":0},{"$f":"IF(ISERROR(K42/I42),\"\",K42/I42)","v":""},{"$f":"I42/E42","v":0},{"$f":"K42/E42","v":0},3,1,"계",85,null,null,85.7,26,88,0,{"$f":"K42","v":0},0,"",0,{"$f":"S42","v":"계"},{"$f":"Q42&\"/\"&R42","v":"3/1"},null,"동부",26,{"$f":"IF(AI42=\"\",\"\",$AJ$2)","v":"A-"},"A","A+","B+",{"$f":"IF(AI42=\"\",\"\",$AN$2)","v":"C"},{"$f":"IF(N42=\"\",\"\",IF(N42>=$AO$1/100,\"O\",\"X\"))","v":""},{"$f":"IF(I42=\"\",\"\",IF(I42<=$AP$1,\"O\",\"X\"))","v":""},{"$f":"IF(O42=\"\",\"\",IF(O42<=$AQ$1,\"O\",\"X\"))","v":"O"},{"$f":"IF(M42=\"\",\"\",IF(M42<=$AR$1,\"O\",\"X\"))","v":"O"},"X",{"$f":"IF(OR(F42=\"\",AI42=\"\"),\"\",IF(AND((F42<=85),(AI42>=15)),\"O\",\"X\"))","v":"O"},{"$f":"IF(C42=\"\",\"\",IF(C42>=$AU$1,\"O\",\"X\"))","v":"O"},{"$f":"IF(AO42=\"\",\"\",IF(AND(AO42=\"O\",AP42=\"O\",AR42=\"O\",AT42=\"O\",AU42=\"O\"),\"후보\",\"X\"))","v":""}]
["동부","'96.12",402,100,30,84.9,26,180,null,null,null,null,{"$f":"I43-K43","v":0},{"$f":"IF(ISERROR(K43/I43),\"\",K43/I43)","v":""},{"$f":"I43/E43","v":0},{"$f":"K43/E43","v":0},3,2,"계",100,null,null,100,30,180,0,{"$f":"K43","v":0},0,"",0,{"$f":"S43","v":"계"},{"$f":"Q43&\"/\"&R43","v":"3/2"},null,"동부",30,{"$f":"IF(AI43=\"\",\"\",$AJ$2)","v":"A-"},"A","A+","B+",{"$f":"IF(AI43=\"\",\"\",$AN$2)","v":"C"},{"$f":"IF(N43=\"\",\"\",IF(N43>=$AO$1/100,\"O\",\"X\"))","v":""},{"$f":"IF(I43=\"\",\"\",IF(I43<=$AP$1,\"O\",\"X\"))","v":""},{"$f":"IF(O43=\"\",\"\",IF(O43<=$AQ$1,\"O\",\"X\"))","v":"O"},{"$f":"IF(M43=\"\",\"\",IF(M43<=$AR$1,\"O\",\"X\"))","v":"O"},"X",{"$f":"IF(OR(F43=\"\",AI43=\"\"),\"\",IF(AND((F43<=85),(AI43>=15)),\"O\",\"X\"))","v":"O"},{"$f":"IF(C43=\"\",\"\",IF(C43>=$AU$1,\"O\",\"X\"))","v":"O"},{"$f":"IF(AO43=\"\",\"\",IF(AND(AO43=\"O\",AP43=\"O\",AR43=\"O\",AT43=\"O\",AU43=\"O\"),\"후보\",\"X\"))","v":""}]
[null,null,null,null,null,null,null,null,null,null,null,null,null,null,null,null,null,null,null,null,null,null,{"$f":"$A$4&\" \"&A45&\"(\"&B45&\",\"&C45&\"^)\"","v":"내동 현대1차('95.09,402^)"},null,null,null,null,null,null,null,null,null,null,"",""]
["현대1차","'95.09",402,75.2,23,60,18,180,null,null,null,null,{"$f":"I45-K45","v":0},{"$f":"IF(ISERROR(K45/I45),\"\",K45/I45)","v":""},{"$f":"I45/E45","v":0},{"$f":"K45/E45","v":0},3,1,"계",75,null,null,{"$f":"D45","v":75.2},{"$f":"E45","v":23},{"$f":"H45","v":180},{"$f":"I45","v":0},{"$f":"K45","v":0},{"$f":"M45","v":0},"",0,{"$f":"S45","v":"계"},{"$f":"Q45&\"/\"&R45","v":"3/1"},null,"현대1차",23,{"$f":"IF(AI45=\"\",\"\",$AJ$2)","v":"A-"},"A","A+","B+",{"$f":"IF(AI45=\"\",\"\",$AN$2)","v":"C"},{"$f":"IF(N45=\"\",\"\",IF(N45>=$AO$1/100,\"O\",\"X\"))","v":""},{"$f":"IF(I45=\"\",\"\",IF(I45<=$AP$1,\"O\",\"X\"))","v":""},{"$f":"IF(O45=\"\",\"\",IF(O45<=$AQ$1,\"O\",\"X\"))","v":"O"},{"$f":"IF(M45=\"\",\"\",IF(M45<=$AR$1,\"O\",\"X\"))","v":"O"},"X",{"$f":"IF(OR(F45=\"\",AI45=\"\"),\"\",IF(AND((F45<=85),(AI45>=15)),\"O\",\"X\"))","v":"O"},{"$f":"IF(C45=\"\",\"\",IF(C45>=$AU$1,\"O\",\"X\"))","v":"O"},{"$f":"IF(AO45=\"\",\"\",IF(AND(AO45=\"O\",AP45=\"O\",AR45=\"O\",AT45=\"O\",AU45=\"O\"),\"후보\",\"X\"))","v":""}]
["현대1차","'95.09",402,106.6,32,85,26,222,null,null,null,null,{"$f":"I46-K46","v":0},{"$f":"IF(ISERROR(K46/I46),\"\",K46/I46)","v":""},{"$f":"I46/E46","v":0},{"$f":"K46/E46","v":0},3,2,"계",106,null,null,{"$f":"D46","v":106.6},{"$f":"E46","v":32},{"$f":"H46","v":222},{"$f":"I46","v":0},{"$f":"K46","v":0},0,"",0,{"$f":"S46","v":"계"},{"$f":"Q46&\"/\"&R46","v":"3/2"},null,"현대1차",32,{"$f":"IF(AI46=\"\",\"\",$AJ$2)","v":"A-"},"A","A+","B+",{"$f":"IF(AI46=\"\",\"\",$AN$2)","v":"C"},{"$f":"IF(N46=\"\",\"\",IF(N46>=$AO$1/100,\"O\",\"X\"))","v":""},{"$f":"IF(I46=\"\",\"\",IF(I46<=$AP$1,\"O\",\"X\"))","v":""},{"$f":"IF(O46=\"\",\"\",IF(O46<=$AQ$1,\"O\",\"X\"))","v":"O"},{"$f":"IF(M46=\"\",\"\",IF(M46<=$AR$1,\"O\",\"X\"))","v":"O"},"X",{"$f":"IF(OR(F46=\"\",AI46=\"\"),\"\",IF(AND((F46<=85),(AI46>=15)),\"O\",\"X\"))","v":"O"},{"$f":"IF(C46=\"\",\"\",IF(C46>=$AU$1,\"O\",\"X\"))","v":"O"},{"$f":"IF(AO46=\"\",\"\",IF(AND(AO46=\"O\",AP46=\"O\",AR46=\"O\",AT46=\"O\",AU46=\"O\"),\"후보\",\"X\"))","v":""}]
[null,null,null,null,null,null,null,null,null,null,null,null,null,null,null,null,null,null,null,null,null,null,{"$f":"$A$4&\" \"&A48&\"(\"&B48&\",\"&C48&\"^)\"","v":"내동 현대3차('98.04,376^)"},null,null,null,null,null,null,null,null,null,null,"",""]
["현대3차","'98.04",376,95.6,29,84,25,1,null,null,null,null,{"$f":"I48-K48","v":0},{"$f":"IF(ISERROR(K48/I48),\"\",K48/I48)","v":""},{"$f":"I48/E48","v":0},{"$f":"K48/E48","v":0},3,2,"계","95A",null,null,{"$f":"D48","v":95.6},29,{"$f":"H48","v":1},0,{"$f":"K48","v":0},{"$f":"M48","v":0},"",0,{"$f":"S48","v":"계"},{"$f":"Q48&\"/\"&R48","v":"3/2"},null,"현대3차",29,{"$f":"IF(AI48=\"\",\"\",$AJ$2)","v":"A-"},"A","A+","B+",{"$f":"IF(AI48=\"\",\"\",$AN$2)","v":"C"},{"$f":"IF(N48=\"\",\"\",IF(N48>=$AO$1/100,\"O\",\"X\"))","v":""},{"$f":"IF(I48=\"\",\"\",IF(I48<=$AP$1,\"O\",\"X\"))","v":""},{"$f":"IF(O48=\"\",\"\",IF(O48<=$AQ$1,\"O\",\"X\"))","v":"O"},{"$f":"IF(M48=\"\",\"\",IF(M48<=$AR$1,\"O\",\"X\"))","v":"O"},"X",{"$f":"IF(OR(F48=\"\",AI48=\"\"),\"\",IF(AND((F48<=85),(AI48>=15)),\"O\",\"X\"))","v":"O"},{"$f":"IF(C48=\"\",\"\",IF(C48>=$AU$1,\"O\",\"X\"))","v":"O"},{"$f":"IF(AO48=\"\",\"\",IF(AND(AO48=\"O\",AP48=\"O\",AR48=\"O\",AT48=\"O\",AU48=\"O\"),\"후보\",\"X\"))","v":""}]
["현대3차","'98.04",376,96.6,29,85,26,166,null,null,null,null,{"$f":"I49-K49","v":0},{"$f":"IF(ISERROR(K49/I49),\"\",K49/I49)","v":""},{"$f":"I49/E49","v":0},{"$f":"K49/E49","v":0},3,2,"계","96B",null,null,96.6,29,166,0,{"$f":"K49","v":0},0,"",0,{"$f":"S49","v":"계"},{"$f":"Q49&\"/\"&R49","v":"3/2"},null,"현대3차",29,{"$f":"IF(AI49=\"\",\"\",$AJ$2)","v":"A-"},"A","A+","B+",{"$f":"IF(AI49=\"\",\"\",$AN$2)","v":"C"},{"$f":"IF(N49=\"\",\"\",IF(N49>=$AO$1/100,\"O\",\"X\"))","v":""},{"$f":"IF(I49=\"\",\"\",IF(I49<=$AP$1,\"O\",\"X\"))","v":""},{"$f":"IF(O49=\"\",\"\",IF(O49<=$AQ$1,\"O\",\"X\"))","v":"O"},{"$f":"IF(M49=\"\",\"\",IF(M49<=$AR$1,\"O\",\"X\"))","v":"O"},"X",{"$f":"IF(OR(F49=\"\",AI49=\"\"),\"\",IF(AND((F49<=85),(AI49>=15)),\"O\",\"X\"))","v":"O"},{"$f":"IF(C49=\"\",\"\",IF(C49>=$AU$1,\"O\",\"X\"))","v":"O"},{"$f":"IF(AO49=\"\",\"\",IF(AND(AO49=\"O\",AP49=\"O\",AR49=\"O\",AT49=\"O\",AU49=\"O\"),\"후보\",\"X\"))","v":""}]
["현대3차","'98.04",376,113.6,34,99.9,30,89,null,null,null,null,{"$f":"I50-K50","v":0},{"$f":"IF(ISERROR(K50/I50),\"\",K50/I50)","v":""},{"$f":"I50/E50","v":0},{"$f":"K50/E50","v":0},3,2,"계","113A",null,null,113.6,34,89,0,{"$f":"K50","v":0},0,"",0,{"$f":"S50","v":"계"},{"$f":"Q50&\"/\"&R50","v":"3/2"},null,"현대3차",34,{"$f":"IF(AI50=\"\",\"\",$AJ$2)","v":"A-"},"A","A+","B+",{"$f":"IF(AI50=\"\",\"\",$AN$2)","v":"C"},{"$f":"IF(N50=\"\",\"\",IF(N50>=$AO$1/100,\"O\",\"X\"))","v":""},{"$f":"IF(I50=\"\",\"\",IF(I50<=$AP$1,\"O\",\"X\"))","v":""},{"$f":"IF(O50=\"\",\"\",IF(O50<=$AQ$1,\"O\",\"X\"))","v":"O"},{"$f":"IF(M50=\"\",\"\",IF(M50<=$AR$1,\"O\",\"X\"))","v":"O"},"X",{"$f":"IF(OR(F50=\"\",AI50=\"\"),\"\",IF(AND((F50<=85),(AI50>=15)),\"O\",\"X\"))","v":"X"},{"$f":"IF(C50=\"\",\"\",IF(C50>=$AU$1,\"O\",\"X\"))","v":"O"},{"$f":"IF(AO50=\"\",\"\",IF(AND(AO50=\"O\",AP50=\"O\",AR50=\"O\",AT50=\"O\",AU50=\"O\"),\"후보\",\"X\"))","v":""}]
["현대3차","'98.04",376,113.7,34,99.9,30,60,null,null,null,null,{"$f":"I51-K51","v":0},{"$f":"IF(ISERROR(K51/I51),\"\",K51/I51)","v":""},{"$f":"I51/E51","v":0},{"$f":"K51/E51","v":0},4,2,"계","113B",null,null,113.7,34,60,0,{"$f":"K51","v":0},0,"",0,{"$f":"S51","v":"계"},{"$f":"Q51&\"/\"&R51","v":"4/2"},null,"현대3차",34,{"$f":"IF(AI51=\"\",\"\",$AJ$2)","v":"A-"},"A","A+","B+",{"$f":"IF(AI51=\"\",\"\",$AN$2)","v":"C"},{"$f":"IF(N51=\"\",\"\",IF(N51>=$AO$1/100,\"O\",\"X\"))","v":""},{"$f":"IF(I51=\"\",\"\",IF(I51<=$AP$1,\"O\",\"X\"))","v":""},{"$f":"IF(O51=\"\",\"\",IF(O51<=$AQ$1,\"O\",\"X\"))","v":"O"},{"$f":"IF(M51=\"\",\"\",IF(M51<=$AR$1,\"O\",\"X\"))","v":"O"},"X",{"$f":"IF(OR(F51=\"\",AI51=\"\"),\"\",IF(AND((F51<=85),(AI51>=15)),\"O\",\"X\"))","v":"X"},{"$f":"IF(C51=\"\",\"\",IF(C51>=$AU$1,\"O\",\"X\"))","v":"O"},{"$f":"IF(AO51=\"\",\"\",IF(AND(AO51=\"O\",AP51=\"O\",AR51=\"O\",AT51=\"O\",AU51=\"O\"),\"후보\",\"X\"))","v":""}]
["현대3차","'98.04",376,153.30000000000001,46,134.80000000000001,41,60,null,null,null,null,{"$f":"I52-K52","v":0},{"$f":"IF(ISERROR(K52/I52),\"\",K52/I52)","v":""},{"$f":"I52/E52","v":0},{"$f":"K52/E52","v":0},4,2,"계",153,null,null,153.30000000000001,46,60,0,{"$f":"K52","v":0},0,"",0,{"$f":"S52","v":"계"},{"$f":"Q52&\"/\"&R52","v":"4/2"},null,"현대3차",46,{"$f":"IF(AI52=\"\",\"\",$AJ$2)","v":"A-"},"A","A+","B+",{"$f":"IF(AI52=\"\",\"\",$AN$2)","v":"C"},{"$f":"IF(N52=\"\",\"\",IF(N52>=$AO$1/100,\"O\",\"X\"))","v":""},{"$f":"IF(I52=\"\",\"\",IF(I52<=$AP$1,\"O\",\"X\"))","v":""},{"$f":"IF(O52=\"\",\"\",IF(O52<=$AQ$1,\"O\",\"X\"))","v":"O"},{"$f":"IF(M52=\"\",\"\",IF(M52<=$AR$1,\"O\",\"X\"))","v":"O"},"X",{"$f":"IF(OR(F52=\"\",AI52=\"\"),\"\",IF(AND((F52<=85),(AI52>=15)),\"O\",\"X\"))","v":"X"},{"$f":"IF(C52=\"\",\"\",IF(C52>=$AU$1,\"O\",\"X\"))","v":"O"},{"$f":"IF(AO52=\"\",\"\",IF(AND(AO52=\"O\",AP52=\"O\",AR52=\"O\",AT52=\"O\",AU52=\"O\"),\"후보\",\"X\"))","v":""}]
[null,null,null,null,null,null,null,null,null,null,null,null,null,null,null,null,null,null,null,null,null,null,{"$f":"$A$4&\" \"&A54&\"(\"&B54&\",\"&C54&\"^)\"","v":"내동 동아2차('98.01,324^)"},null,null,null,null,null,null,null,null,null,null,"",""]
["동아2차","'98.01",324,98,30,85,26,150,null,null,null,null,{"$f":"I54-K54","v":0},{"$f":"IF(ISERROR(K54/I54),\"\",K54/I54)","v":""},{"$f":"I54/E54","v":0},{"$f":"K54/E54","v":0},3,2,"계",98,null,null,{"$f":"D54","v":98},30,{"$f":"H54","v":150},0,{"$f":"K54","v":0},{"$f":"M54","v":0},"",0,{"$f":"S54","v":"계"},{"$f":"Q54&\"/\"&R54","v":"3/2"},null,"동아2차",30,{"$f":"IF(AI54=\"\",\"\",$AJ$2)","v":"A-"},"A","A+","B+",{"$f":"IF(AI54=\"\",\"\",$AN$2)","v":"C"},{"$f":"IF(N54=\"\",\"\",IF(N54>=$AO$1/100,\"O\",\"X\"))","v":""},{"$f":"IF(I54=\"\",\"\",IF(I54<=$AP$1,\"O\",\"X\"))","v":""},{"$f":"IF(O54=\"\",\"\",IF(O54<=$AQ$1,\"O\",\"X\"))","v":"O"},{"$f":"IF(M54=\"\",\"\",IF(M54<=$AR$1,\"O\",\"X\"))","v":"O"},"X",{"$f":"IF(OR(F54=\"\",AI54=\"\"),\"\",IF(AND((F54<=85),(AI54>=15)),\"O\",\"X\"))","v":"O"},{"$f":"IF(C54=\"\",\"\",IF(C54>=$AU$1,\"O\",\"X\"))","v":"O"},{"$f":"IF(AO54=\"\",\"\",IF(AND(AO54=\"O\",AP54=\"O\",AR54=\"O\",AT54=\"O\",AU54=\"O\"),\"후보\",\"X\"))","v":""}]
["동아2차","'98.01",324,113.1,34,99.8,30,126,null,null,null,null,{"$f":"I55-K55","v":0},{"$f":"IF(ISERROR(K55/I55),\"\",K55/I55)","v":""},{"$f":"I55/E55","v":0},{"$f":"K55/E55","v":0},3,2,"계",113,null,null,113.1,34,126,0,{"$f":"K55","v":0},0,"",0,{"$f":"S55","v":"계"},{"$f":"Q55&\"/\"&R55","v":"3/2"},null,"동아2차",34,{"$f":"IF(AI55=\"\",\"\",$AJ$2)","v":"A-"},"A","A+","B+",{"$f":"IF(AI55=\"\",\"\",$AN$2)","v":"C"},{"$f":"IF(N55=\"\",\"\",IF(N55>=$AO$1/100,\"O\",\"X\"))","v":""},{"$f":"IF(I55=\"\",\"\",IF(I55<=$AP$1,\"O\",\"X\"))","v":""},{"$f":"IF(O55=\"\",\"\",IF(O55<=$AQ$1,\"O\",\"X\"))","v":"O"},{"$f":"IF(M55=\"\",\"\",IF(M55<=$AR$1,\"O\",\"X\"))","v":"O"},"X",{"$f":"IF(OR(F55=\"\",AI55=\"\"),\"\",IF(AND((F55<=85),(AI55>=15)),\"O\",\"X\"))","v":"X"},{"$f":"IF(C55=\"\",\"\",IF(C55>=$AU$1,\"O\",\"X\"))","v":"O"},{"$f":"IF(AO55=\"\",\"\",IF(AND(AO55=\"O\",AP55=\"O\",AR55=\"O\",AT55=\"O\",AU55=\"O\"),\"후보\",\"X\"))","v":""}]
["동아2차","'98.01",324,150.6,46,134.80000000000001,41,48,null,null,null,null,{"$f":"I56-K56","v":0},{"$f":"IF(ISERROR(K56/I56),\"\",K56/I56)","v":""},{"$f":"I56/E56","v":0},{"$f":"K56/E56","v":0},4,2,"계",150,null,null,150.6,46,48,0,{"$f":"K56","v":0},0,"",0,{"$f":"S56","v":"계"},{"$f":"Q56&\"/\"&R56","v":"4/2"},null,"동아2차",46,{"$f":"IF(AI56=\"\",\"\",$AJ$2)","v":"A-"},"A","A+","B+",{"$f":"IF(AI56=\"\",\"\",$AN$2)","v":"C"},{"$f":"IF(N56=\"\",\"\",IF(N56>=$AO$1/100,\"O\",\"X\"))","v":""},{"$f":"IF(I56=\"\",\"\",IF(I56<=$AP$1,\"O\",\"X\"))","v":""},{"$f":"IF(O56=\"\",\"\",IF(O56<=$AQ$1,\"O\",\"X\"))","v":"O"},{"$f":"IF(M56=\"\",\"\",IF(M56<=$AR$1,\"O\",\"X\"))","v":"O"},"X",{"$f":"IF(OR(F56=\"\",AI56=\"\"),\"\",IF(AND((F56<=85),(AI56>=15)),\"O\",\"X\"))","v":"X"},{"$f":"IF(C56=\"\",\"\",IF(C56>=$AU$1,\"O\",\"X\"))","v":"O"},{"$f":"IF(AO56=\"\",\"\",IF(AND(AO56=\"O\",AP56=\"O\",AR56=\"O\",AT56=\"O\",AU56=\"O\"),\"후보\",\"X\"))","v":""}]

{"sheet":"고아읍","index":8,"n_rows":30,"n_cols":48,"rows_kept":30,"cut":false,"hidden":false,"merged":[[0,35,0,39]]}
[{"$f":"단지추출!A1","v":"구미시"},null,null,null,null,null,null,null,"추출대상",null,null,null,null,null,null,null,null,null,null,null,null,null,null,"매매가 최대(색상 최대)",null,null,{"$f":"단지추출!AA1","v":70000},null,null,null,null,null,null,{"$f":"A1","v":"구미시"},null,{"$f":"A1&\" 전체 등급\"","v":"구미시 전체 등급"},null,null,null,null,{"$f":"단지추출!AO1","v":80},{"$f":"단지추출!AP1","v":45000},{"$f":"단지추출!AQ1","v":1000},{"$f":"단지추출!AR1","v":6000},null,null,{"$f":"단지추출!AU1","v":300}]
[{"$f":"단지추출!A2","v":"2022-01-01"},null,null,null,null,null,null,null,null,null,null,null,null,null,null,null,null,null,null,null,null,null,null,"매매가 최소(색상 최소)",null,null,{"$f":"단지추출!AA2","v":10000},null,null,null,null,null,null,{"$f":"AH1 &\" \" &A4","v":"구미시 대청동"},null,{"$f":"단지추출!AJ2","v":"A-"},{"$f":"단지추출!AK2","v":"A"},{"$f":"단지추출!AL2","v":"A"},{"$f":"단지추출!AM2","v":"A"},{"$f":"단지추출!AN2","v":"C"},"원금보전",null,null,"수익성",null,"환금성"]
["단지명","입주\n연도","총세\n대수","공급\n(m2)","공급\n면적","전용\n(m2)","전용\n면적","세대","매매\n최저가","층","전세\n최고가","층","매전갭","전세\n가율","매매\n평단","전세\n평단","방","욕\n실","구\n조","매/전/월\nType","비고",null,"공급\n(m2)","공급\n면적","세대","매매가","전세가","매전갭","전세\n가율","평단가","구\n조","방/\n욕실",null,{"$f":"IF(A3=\"\",\"\",A3)","v":"단지명"},{"$f":"IF(E3=\"\",\"\",E3)","v":"공급\n면적"},"직장","교통","학군","환경","공급",{"$f":"\"전세가율★\n(\"&AO1&\"%↑)\"","v":"전세가율★\n(80%↑)"},{"$f":"\"절대가★\n(\"&AP1/10000&\"억↓)\"","v":"절대가★\n(4.5억↓)"},{"$f":"\"지역평단가\n(\"&AQ1&\"↓)\"","v":"지역평단가\n(1000↓)"},{"$f":"\"투자규모★\n(갭\"&AR1/1000&\"천↓)\"","v":"투자규모★\n(갭6천↓)"},"전고점\n이하","평형★\n(15~34평)",{"$f":"\"단지규모★\n(\"&AU1&\"^↑)\"","v":"단지규모★\n(300^↑)"},"투자후보"]
["대청동",null,null,null,null,null,null,null,null,null,null,null,null,null,null,null,null,null,null,null,null,null,null,null,null,null,null,null,null,null,null,null,null,null,""]
[null,null,null,null,null,null,null,null,null,null,null,null,null,null,null,null,null,null,null,null,null,null,{"$f":"$A$4&\" \"&A6&\"(\"&B6&\",\"&C6&\"^)\"","v":"대청동 갑오마을4단지부영('02.07,760^)"},null,null,null,null,null,null,null,null,null,null,{"$f":"IF(A5=\"\",\"\",A5)","v":""},""]
["갑오마을4단지부영","'02.07",760,103.1,31,80.7,24,760,null,null,null,null,{"$f":"I6-K6","v":0},{"$f":"IF(ISERROR(K6/I6),\"\",K6/I6)","v":""},{"$f":"I6/E6","v":0},{"$f":"K6/E6","v":0},3,2,"계",162,null,null,{"$f":"D6","v":103.1},{"$f":"E6","v":31},{"$f":"H6","v":760},{"$f":"I6","v":0},{"$f":"K6","v":0},{"$f":"M6","v":0},{"$f":"N6","v":""},{"$f":"O6","v":0},{"$f":"S6","v":"계"},{"$f":"Q6&\"/\"&R6","v":"3/2"},null,"갑오마을4단지부영",31,{"$f":"IF(AI6=\"\",\"\",$AJ$2)","v":"A-"},"A","A+","B+",{"$f":"IF(AI6=\"\",\"\",$AN$2)","v":"C"},{"$f":"IF(N6=\"\",\"\",IF(N6>=$AO$1/100,\"O\",\"X\"))","v":""},{"$f":"IF(I6=\"\",\"\",IF(I6<=$AP$1,\"O\",\"X\"))","v":""},{"$f":"IF(O6=\"\",\"\",IF(O6<=$AQ$1,\"O\",\"X\"))","v":"O"},{"$f":"IF(M6=\"\",\"\",IF(M6<=$AR$1,\"O\",\"X\"))","v":"O"},"X",{"$f":"IF(OR(F6=\"\",AI6=\"\"),\"\",IF(AND((F6<=85),(AI6>=15)),\"O\",\"X\"))","v":"O"},{"$f":"IF(C6=\"\",\"\",IF(C6>=$AU$1,\"O\",\"X\"))","v":"O"},{"$f":"IF(AO6=\"\",\"\",IF(AND(AO6=\"O\",AP6=\"O\",AR6=\"O\",AT6=\"O\",AU6=\"O\"),\"후보\",\"X\"))","v":""}]
[null,null,null,null,null,null,null,null,null,null,null,null,null,null,null,null,null,null,null,null,null,null,{"$f":"$A$4&\" \"&A8&\"(\"&B8&\",\"&C8&\"^)\"","v":"대청동 갑오마을7단지부영('02.09,730^)"},null,null,null,null,null,null,null,null,null,null,"",""]
["갑오마을7단지부영","'02.09",730,78.8,24,59.1,18,730,null,null,null,null,{"$f":"I8-K8","v":0},{"$f":"IF(ISERROR(K8/I8),\"\",K8/I8)","v":""},{"$f":"I8/E8","v":0},{"$f":"K8/E8","v":0},3,2,"계","72B",null,null,{"$f":"D8","v":78.8},{"$f":"E8","v":24},{"$f":"H8","v":730},{"$f":"I8","v":0},{"$f":"K8","v":0},{"$f":"M8","v":0},{"$f":"N8","v":""},{"$f":"O8","v":0},{"$f":"S8","v":"계"},{"$f":"Q8&\"/\"&R8","v":"3/2"},null,"갑오마을7단지부영",24,{"$f":"IF(AI8=\"\",\"\",$AJ$2)","v":"A-"},"A","A+","B+",{"$f":"IF(AI8=\"\",\"\",$AN$2)","v":"C"},{"$f":"IF(N8=\"\",\"\",IF(N8>=$AO$1/100,\"O\",\"X\"))","v":""},{"$f":"IF(I8=\"\",\"\",IF(I8<=$AP$1,\"O\",\"X\"))","v":""},{"$f":"IF(O8=\"\",\"\",IF(O8<=$AQ$1,\"O\",\"X\"))","v":"O"},{"$f":"IF(M8=\"\",\"\",IF(M8<=$AR$1,\"O\",\"X\"))","v":"O"},"X",{"$f":"IF(OR(F8=\"\",AI8=\"\"),\"\",IF(AND((F8<=85),(AI8>=15)),\"O\",\"X\"))","v":"O"},{"$f":"IF(C8=\"\",\"\",IF(C8>=$AU$1,\"O\",\"X\"))","v":"O"},{"$f":"IF(AO8=\"\",\"\",IF(AND(AO8=\"O\",AP8=\"O\",AR8=\"O\",AT8=\"O\",AU8=\"O\"),\"후보\",\"X\"))","v":""}]
[null,null,null,null,null,null,null,null,null,null,null,null,null,null,null,null,null,null,null,null,null,null,{"$f":"$A$4&\" \"&A10&\"(\"&B10&\",\"&C10&\"^)\"","v":"대청동 갑오마을6단지부영('02.07,606^)"},null,null,null,null,null,null,null,null,null,null,"",""]
["갑오마을6단지부영","'02.07",606,102.5,31,80.7,24,606,null,null,null,null,{"$f":"I10-K10","v":0},{"$f":"IF(ISERROR(K10/I10),\"\",K10/I10)","v":""},{"$f":"I10/E10","v":0},{"$f":"K10/E10","v":0},3,2,"계","72C",null,null,{"$f":"D10","v":102.5},{"$f":"E10","v":31},{"$f":"H10","v":606},{"$f":"I10","v":0},{"$f":"K10","v":0},{"$f":"M10","v":0},{"$f":"N10","v":""},{"$f":"O10","v":0},{"$f":"S10","v":"계"},{"$f":"Q10&\"/\"&R10","v":"3/2"},null,"갑오마을6단지부영",31,{"$f":"IF(AI10=\"\",\"\",$AJ$2)","v":"A-"},"A","A+","B+",{"$f":"IF(AI10=\"\",\"\",$AN$2)","v":"C"},{"$f":"IF(N10=\"\",\"\",IF(N10>=$AO$1/100,\"O\",\"X\"))","v":""},{"$f":"IF(I10=\"\",\"\",IF(I10<=$AP$1,\"O\",\"X\"))","v":""},{"$f":"IF(O10=\"\",\"\",IF(O10<=$AQ$1,\"O\",\"X\"))","v":"O"},{"$f":"IF(M10=\"\",\"\",IF(M10<=$AR$1,\"O\",\"X\"))","v":"O"},"X",{"$f":"IF(OR(F10=\"\",AI10=\"\"),\"\",IF(AND((F10<=85),(AI10>=15)),\"O\",\"X\"))","v":"O"},{"$f":"IF(C10=\"\",\"\",IF(C10>=$AU$1,\"O\",\"X\"))","v":"O"},{"$f":"IF(AO10=\"\",\"\",IF(AND(AO10=\"O\",AP10=\"O\",AR10=\"O\",AT10=\"O\",AU10=\"O\"),\"후보\",\"X\"))","v":""}]
[null,null,null,null,null,null,null,null,null,null,null,null,null,null,null,null,null,null,null,null,null,null,{"$f":"$A$4&\" \"&A12&\"(\"&B12&\",\"&C12&\"^)\"","v":"대청동 갑오마을2단지주공('02.11,495^)"},null,null,null,null,null,null,null,null,null,null,"",""]
["갑오마을2단지주공","'02.11",495,72,22,51.5,16,171,null,null,null,null,{"$f":"I12-K12","v":0},{"$f":"IF(ISERROR(K12/I12),\"\",K12/I12)","v":""},{"$f":"I12/E12","v":0},{"$f":"K12/E12","v":0},2,1,"계","72A",null,null,{"$f":"D12","v":72},22,{"$f":"H12","v":171},0,{"$f":"K12","v":0},{"$f":"M12","v":0},"",0,{"$f":"S12","v":"계"},{"$f":"Q12&\"/\"&R12","v":"2/1"},null,"갑오마을2단지주공",22,{"$f":"IF(AI12=\"\",\"\",$AJ$2)","v":"A-"},"A","A+","B+",{"$f":"IF(AI12=\"\",\"\",$AN$2)","v":"C"},{"$f":"IF(N12=\"\",\"\",IF(N12>=$AO$1/100,\"O\",\"X\"))","v":""},{"$f":"IF(I12=\"\",\"\",IF(I12<=$AP$1,\"O\",\"X\"))","v":""},{"$f":"IF(O12=\"\",\"\",IF(O12<=$AQ$1,\"O\",\"X\"))","v":"O"},{"$f":"IF(M12=\"\",\"\",IF(M12<=$AR$1,\"O\",\"X\"))","v":"O"},"X",{"$f":"IF(OR(F12=\"\",AI12=\"\"),\"\",IF(AND((F12<=85),(AI12>=15)),\"O\",\"X\"))","v":"O"},{"$f":"IF(C12=\"\",\"\",IF(C12>=$AU$1,\"O\",\"X\"))","v":"O"},{"$f":"IF(AO12=\"\",\"\",IF(AND(AO12=\"O\",AP12=\"O\",AR12=\"O\",AT12=\"O\",AU12=\"O\"),\"후보\",\"X\"))","v":""}]
["갑오마을2단지주공","'02.11",495,72.400000000000006,22,51.7,16,76,null,null,null,null,{"$f":"I13-K13","v":0},{"$f":"IF(ISERROR(K13/I13),\"\",K13/I13)","v":""},{"$f":"I13/E13","v":0},{"$f":"K13/E13","v":0},2,1,"계",83,null,null,72.400000000000006,22,76,0,{"$f":"K13","v":0},0,"",0,{"$f":"S13","v":"계"},{"$f":"Q13&\"/\"&R13","v":"2/1"},null,"갑오마을2단지주공",22,{"$f":"IF(AI13=\"\",\"\",$AJ$2)","v":"A-"},"A","A+","B+",{"$f":"IF(AI13=\"\",\"\",$AN$2)","v":"C"},{"$f":"IF(N13=\"\",\"\",IF(N13>=$AO$1/100,\"O\",\"X\"))","v":""},{"$f":"IF(I13=\"\",\"\",IF(I13<=$AP$1,\"O\",\"X\"))","v":""},{"$f":"IF(O13=\"\",\"\",IF(O13<=$AQ$1,\"O\",\"X\"))","v":"O"},{"$f":"IF(M13=\"\",\"\",IF(M13<=$AR$1,\"O\",\"X\"))","v":"O"},"X",{"$f":"IF(OR(F13=\"\",AI13=\"\"),\"\",IF(AND((F13<=85),(AI13>=15)),\"O\",\"X\"))","v":"O"},{"$f":"IF(C13=\"\",\"\",IF(C13>=$AU$1,\"O\",\"X\"))","v":"O"},{"$f":"IF(AO13=\"\",\"\",IF(AND(AO13=\"O\",AP13=\"O\",AR13=\"O\",AT13=\"O\",AU13=\"O\"),\"후보\",\"X\"))","v":""}]
["갑오마을2단지주공","'02.11",495,72.400000000000006,22,51.7,16,108,null,null,null,null,{"$f":"I14-K14","v":0},{"$f":"IF(ISERROR(K14/I14),\"\",K14/I14)","v":""},{"$f":"I14/E14","v":0},{"$f":"K14/E14","v":0},2,1,"계",152,null,null,72.400000000000006,22,108,0,{"$f":"K14","v":0},0,"",0,{"$f":"S14","v":"계"},{"$f":"Q14&\"/\"&R14","v":"2/1"},null,"갑오마을2단지주공",22,{"$f":"IF(AI14=\"\",\"\",$AJ$2)","v":"A-"},"A","A+","B+",{"$f":"IF(AI14=\"\",\"\",$AN$2)","v":"C"},{"$f":"IF(N14=\"\",\"\",IF(N14>=$AO$1/100,\"O\",\"X\"))","v":""},{"$f":"IF(I14=\"\",\"\",IF(I14<=$AP$1,\"O\",\"X\"))","v":""},{"$f":"IF(O14=\"\",\"\",IF(O14<=$AQ$1,\"O\",\"X\"))","v":"O"},{"$f":"IF(M14=\"\",\"\",IF(M14<=$AR$1,\"O\",\"X\"))","v":"O"},"X",{"$f":"IF(OR(F14=\"\",AI14=\"\"),\"\",IF(AND((F14<=85),(AI14>=15)),\"O\",\"X\"))","v":"O"},{"$f":"IF(C14=\"\",\"\",IF(C14>=$AU$1,\"O\",\"X\"))","v":"O"},{"$f":"IF(AO14=\"\",\"\",IF(AND(AO14=\"O\",AP14=\"O\",AR14=\"O\",AT14=\"O\",AU14=\"O\"),\"후보\",\"X\"))","v":""}]
["갑오마을2단지주공","'02.11",495,83.4,25,59.6,18,140,null,null,null,null,{"$f":"I15-K15","v":0},{"$f":"IF(ISERROR(K15/I15),\"\",K15/I15)","v":""},{"$f":"I15/E15","v":0},{"$f":"K15/E15","v":0},3,1,"계",186,null,null,83.4,25,140,0,{"$f":"K15","v":0},0,"",0,{"$f":"S15","v":"계"},{"$f":"Q15&\"/\"&R15","v":"3/1"},null,"갑오마을2단지주공",25,{"$f":"IF(AI15=\"\",\"\",$AJ$2)","v":"A-"},"A","A+","B+",{"$f":"IF(AI15=\"\",\"\",$AN$2)","v":"C"},{"$f":"IF(N15=\"\",\"\",IF(N15>=$AO$1/100,\"O\",\"X\"))","v":""},{"$f":"IF(I15=\"\",\"\",IF(I15<=$AP$1,\"O\",\"X\"))","v":""},{"$f":"IF(O15=\"\",\"\",IF(O15<=$AQ$1,\"O\",\"X\"))","v":"O"},{"$f":"IF(M15=\"\",\"\",IF(M15<=$AR$1,\"O\",\"X\"))","v":"O"},"X",{"$f":"IF(OR(F15=\"\",AI15=\"\"),\"\",IF(AND((F15<=85),(AI15>=15)),\"O\",\"X\"))","v":"O"},{"$f":"IF(C15=\"\",\"\",IF(C15>=$AU$1,\"O\",\"X\"))","v":"O"},{"$f":"IF(AO15=\"\",\"\",IF(AND(AO15=\"O\",AP15=\"O\",AR15=\"O\",AT15=\"O\",AU15=\"O\"),\"후보\",\"X\"))","v":""}]
[null,null,null,null,null,null,null,null,null,null,null,null,null,null,null,null,null,null,null,null,null,null,{"$f":"$A$4&\" \"&A17&\"(\"&B17&\",\"&C17&\"^)\"","v":"대청동 갑오마을5단지부영('02.08,400^)"},null,null,null,null,null,null,null,null,null,null,"",""]
["갑오마을5단지부영","'02.08",400,102.6,31,80.7,24,400,null,null,null,null,{"$f":"I17-K17","v":0},{"$f":"IF(ISERROR(K17/I17),\"\",K17/I17)","v":""},{"$f":"I17/E17","v":0},{"$f":"K17/E17","v":0},3,2,"계",126,null,null,{"$f":"D17","v":102.6},{"$f":"E17","v":31},{"$f":"H17","v":400},{"$f":"I17","v":0},{"$f":"K17","v":0},{"$f":"M17","v":0},{"$f":"N17","v":""},{"$f":"O17","v":0},{"$f":"S17","v":"계"},{"$f":"Q17&\"/\"&R17","v":"3/2"},null,"갑오마을5단지부영",31,{"$f":"IF(AI17=\"\",\"\",$AJ$2)","v":"A-"},"A","A+","B+",{"$f":"IF(AI17=\"\",\"\",$AN$2)","v":"C"},{"$f":"IF(N17=\"\",\"\",IF(N17>=$AO$1/100,\"O\",\"X\"))","v":""},{"$f":"IF(I17=\"\",\"\",IF(I17<=$AP$1,\"O\",\"X\"))","v":""},{"$f":"IF(O17=\"\",\"\",IF(O17<=$AQ$1,\"O\",\"X\"))","v":"O"},{"$f":"IF(M17=\"\",\"\",IF(M17<=$AR$1,\"O\",\"X\"))","v":"O"},"X",{"$f":"IF(OR(F17=\"\",AI17=\"\"),\"\",IF(AND((F17<=85),(AI17>=15)),\"O\",\"X\"))","v":"O"},{"$f":"IF(C17=\"\",\"\",IF(C17>=$AU$1,\"O\",\"X\"))","v":"O"},{"$f":"IF(AO17=\"\",\"\",IF(AND(AO17=\"O\",AP17=\"O\",AR17=\"O\",AT17=\"O\",AU17=\"O\"),\"후보\",\"X\"))","v":""}]
[null,null,null,null,null,null,null,null,null,null,null,null,null,null,null,null,null,null,null,null,null,null,{"$f":"$A$4&\" \"&A19&\"(\"&B19&\",\"&C19&\"^)\"","v":"대청동 갑오마을8단지푸르지오('05.01,304^)"},null,null,null,null,null,null,null,null,null,null,"",""]
["갑오마을8단지푸르지오","'05.01",304,152,46,126.3,38,160,null,null,null,null,{"$f":"I19-K19","v":0},{"$f":"IF(ISERROR(K19/I19),\"\",K19/I19)","v":""},{"$f":"I19/E19","v":0},{"$f":"K19/E19","v":0},4,2,"계",140,null,null,{"$f":"D19","v":152},{"$f":"E19","v":46},{"$f":"H19","v":160},{"$f":"I19","v":0},{"$f":"K19","v":0},{"$f":"M19","v":0},"",0,{"$f":"S19","v":"계"},{"$f":"Q19&\"/\"&R19","v":"4/2"},null,"갑오마을8단지푸르지오",46,{"$f":"IF(AI19=\"\",\"\",$AJ$2)","v":"A-"},"A","A+","B+",{"$f":"IF(AI19=\"\",\"\",$AN$2)","v":"C"},{"$f":"IF(N19=\"\",\"\",IF(N19>=$AO$1/100,\"O\",\"X\"))","v":""},{"$f":"IF(I19=\"\",\"\",IF(I19<=$AP$1,\"O\",\"X\"))","v":""},{"$f":"IF(O19=\"\",\"\",IF(O19<=$AQ$1,\"O\",\"X\"))","v":"O"},{"$f":"IF(M19=\"\",\"\",IF(M19<=$AR$1,\"O\",\"X\"))","v":"O"},"X",{"$f":"IF(OR(F19=\"\",AI19=\"\"),\"\",IF(AND((F19<=85),(AI19>=15)),\"O\",\"X\"))","v":"X"},{"$f":"IF(C19=\"\",\"\",IF(C19>=$AU$1,\"O\",\"X\"))","v":"O"},{"$f":"IF(AO19=\"\",\"\",IF(AND(AO19=\"O\",AP19=\"O\",AR19=\"O\",AT19=\"O\",AU19=\"O\"),\"후보\",\"X\"))","v":""}]
["갑오마을8단지푸르지오","'05.01",304,186.3,56,158.1,48,144,null,null,null,null,{"$f":"I20-K20","v":0},{"$f":"IF(ISERROR(K20/I20),\"\",K20/I20)","v":""},{"$f":"I20/E20","v":0},{"$f":"K20/E20","v":0},4,2,"계",102,null,null,{"$f":"D20","v":186.3},{"$f":"E20","v":56},{"$f":"H20","v":144},{"$f":"I20","v":0},{"$f":"K20","v":0},0,"",0,{"$f":"S20","v":"계"},{"$f":"Q20&\"/\"&R20","v":"4/2"},null,"갑오마을8단지푸르지오",56,{"$f":"IF(AI20=\"\",\"\",$AJ$2)","v":"A-"},"A","A+","B+",{"$f":"IF(AI20=\"\",\"\",$AN$2)","v":"C"},{"$f":"IF(N20=\"\",\"\",IF(N20>=$AO$1/100,\"O\",\"X\"))","v":""},{"$f":"IF(I20=\"\",\"\",IF(I20<=$AP$1,\"O\",\"X\"))","v":""},{"$f":"IF(O20=\"\",\"\",IF(O20<=$AQ$1,\"O\",\"X\"))","v":"O"},{"$f":"IF(M20=\"\",\"\",IF(M20<=$AR$1,\"O\",\"X\"))","v":"O"},"X",{"$f":"IF(OR(F20=\"\",AI20=\"\"),\"\",IF(AND((F20<=85),(AI20>=15)),\"O\",\"X\"))","v":"X"},{"$f":"IF(C20=\"\",\"\",IF(C20>=$AU$1,\"O\",\"X\"))","v":"O"},{"$f":"IF(AO20=\"\",\"\",IF(AND(AO20=\"O\",AP20=\"O\",AR20=\"O\",AT20=\"O\",AU20=\"O\"),\"후보\",\"X\"))","v":""}]
[null,null,null,null,null,null,null,null,null,null,null,null,null,null,null,null,null,null,null,null,null,null,{"$f":"$A$4&\" \"&A22&\"(\"&B22&\",\"&C22&\"^)\"","v":"대청동 갑오마을3단지대동다숲('00.07,298^)"},null,null,null,null,null,null,null,null,null,null,"",""]
["갑오마을3단지대동다숲","'00.07",298,162.9,49,126.5,38,160,null,null,null,null,{"$f":"I22-K22","v":0},{"$f":"IF(ISERROR(K22/I22),\"\",K22/I22)","v":""},{"$f":"I22/E22","v":0},{"$f":"K22/E22","v":0},4,2,"계",103,null,null,{"$f":"D22","v":162.9},{"$f":"E22","v":49},{"$f":"H22","v":160},{"$f":"I22","v":0},{"$f":"K22","v":0},{"$f":"M22","v":0},"",0,{"$f":"S22","v":"계"},{"$f":"Q22&\"/\"&R22","v":"4/2"},null,"갑오마을3단지대동다숲",49,{"$f":"IF(AI22=\"\",\"\",$AJ$2)","v":"A-"},"A","A+","B+",{"$f":"IF(AI22=\"\",\"\",$AN$2)","v":"C"},{"$f":"IF(N22=\"\",\"\",IF(N22>=$AO$1/100,\"O\",\"X\"))","v":""},{"$f":"IF(I22=\"\",\"\",IF(I22<=$AP$1,\"O\",\"X\"))","v":""},{"$f":"IF(O22=\"\",\"\",IF(O22<=$AQ$1,\"O\",\"X\"))","v":"O"},{"$f":"IF(M22=\"\",\"\",IF(M22<=$AR$1,\"O\",\"X\"))","v":"O"},"X",{"$f":"IF(OR(F22=\"\",AI22=\"\"),\"\",IF(AND((F22<=85),(AI22>=15)),\"O\",\"X\"))","v":"X"},{"$f":"IF(C22=\"\",\"\",IF(C22>=$AU$1,\"O\",\"X\"))","v":"X"},{"$f":"IF(AO22=\"\",\"\",IF(AND(AO22=\"O\",AP22=\"O\",AR22=\"O\",AT22=\"O\",AU22=\"O\"),\"후보\",\"X\"))","v":""}]
["갑오마을3단지대동다숲","'00.07",298,124,38,106.6,32,138,null,null,null,null,{"$f":"I23-K23","v":0},{"$f":"IF(ISERROR(K23/I23),\"\",K23/I23)","v":""},{"$f":"I23/E23","v":0},{"$f":"K23/E23","v":0},3,2,"계",102,null,null,{"$f":"D23","v":124},{"$f":"E23","v":38},{"$f":"H23","v":138},{"$f":"I23","v":0},{"$f":"K23","v":0},0,"",0,{"$f":"S23","v":"계"},{"$f":"Q23&\"/\"&R23","v":"3/2"},null,"갑오마을3단지대동다숲",38,{"$f":"IF(AI23=\"\",\"\",$AJ$2)","v":"A-"},"A","A+","B+",{"$f":"IF(AI23=\"\",\"\",$AN$2)","v":"C"},{"$f":"IF(N23=\"\",\"\",IF(N23>=$AO$1/100,\"O\",\"X\"))","v":""},{"$f":"IF(I23=\"\",\"\",IF(I23<=$AP$1,\"O\",\"X\"))","v":""},{"$f":"IF(O23=\"\",\"\",IF(O23<=$AQ$1,\"O\",\"X\"))","v":"O"},{"$f":"IF(M23=\"\",\"\",IF(M23<=$AR$1,\"O\",\"X\"))","v":"O"},"X",{"$f":"IF(OR(F23=\"\",AI23=\"\"),\"\",IF(AND((F23<=85),(AI23>=15)),\"O\",\"X\"))","v":"X"},{"$f":"IF(C23=\"\",\"\",IF(C23>=$AU$1,\"O\",\"X\"))","v":"X"},{"$f":"IF(AO23=\"\",\"\",IF(AND(AO23=\"O\",AP23=\"O\",AR23=\"O\",AT23=\"O\",AU23=\"O\"),\"후보\",\"X\"))","v":""}]
[null,null,null,null,null,null,null,null,null,null,null,null,null,null,null,null,null,null,null,null,null,null,{"$f":"$A$4&\" \"&A25&\"(\"&B25&\",\"&C25&\"^)\"","v":"대청동 갑오마을9단지푸르지오('05.08,298^)"},null,null,null,null,null,null,null,null,null,null,"",""]
["갑오마을9단지푸르지오","'05.08",298,123.6,37,102,31,28,null,null,null,null,{"$f":"I25-K25","v":0},{"$f":"IF(ISERROR(K25/I25),\"\",K25/I25)","v":""},{"$f":"I25/E25","v":0},{"$f":"K25/E25","v":0},3,2,"합",78,null,null,{"$f":"D25","v":123.6},37,{"$f":"H25","v":28},0,{"$f":"K25","v":0},{"$f":"M25","v":0},"",0,{"$f":"S25","v":"합"},{"$f":"Q25&\"/\"&R25","v":"3/2"},null,"갑오마을9단지푸르지오",37,{"$f":"IF(AI25=\"\",\"\",$AJ$2)","v":"A-"},"A","A+","B+",{"$f":"IF(AI25=\"\",\"\",$AN$2)","v":"C"},{"$f":"IF(N25=\"\",\"\",IF(N25>=$AO$1/100,\"O\",\"X\"))","v":""},{"$f":"IF(I25=\"\",\"\",IF(I25<=$AP$1,\"O\",\"X\"))","v":""},{"$f":"IF(O25=\"\",\"\",IF(O25<=$AQ$1,\"O\",\"X\"))","v":"O"},{"$f":"IF(M25=\"\",\"\",IF(M25<=$AR$1,\"O\",\"X\"))","v":"O"},"X",{"$f":"IF(OR(F25=\"\",AI25=\"\"),\"\",IF(AND((F25<=85),(AI25>=15)),\"O\",\"X\"))","v":"X"},{"$f":"IF(C25=\"\",\"\",IF(C25>=$AU$1,\"O\",\"X\"))","v":"X"},{"$f":"IF(AO25=\"\",\"\",IF(AND(AO25=\"O\",AP25=\"O\",AR25=\"O\",AT25=\"O\",AU25=\"O\"),\"후보\",\"X\"))","v":""}]
["갑오마을9단지푸르지오","'05.08",298,127.1,39,102.1,31,80,null,null,null,null,{"$f":"I26-K26","v":0},{"$f":"IF(ISERROR(K26/I26),\"\",K26/I26)","v":""},{"$f":"I26/E26","v":0},{"$f":"K26/E26","v":0},3,2,"합",124,null,null,127.1,39,80,0,{"$f":"K26","v":0},0,"",0,{"$f":"S26","v":"합"},{"$f":"Q26&\"/\"&R26","v":"3/2"},null,"갑오마을9단지푸르지오",39,{"$f":"IF(AI26=\"\",\"\",$AJ$2)","v":"A-"},"A","A+","B+",{"$f":"IF(AI26=\"\",\"\",$AN$2)","v":"C"},{"$f":"IF(N26=\"\",\"\",IF(N26>=$AO$1/100,\"O\",\"X\"))","v":""},{"$f":"IF(I26=\"\",\"\",IF(I26<=$AP$1,\"O\",\"X\"))","v":""},{"$f":"IF(O26=\"\",\"\",IF(O26<=$AQ$1,\"O\",\"X\"))","v":"O"},{"$f":"IF(M26=\"\",\"\",IF(M26<=$AR$1,\"O\",\"X\"))","v":"O"},"X",{"$f":"IF(OR(F26=\"\",AI26=\"\"),\"\",IF(AND((F26<=85),(AI26>=15)),\"O\",\"X\"))","v":"X"},{"$f":"IF(C26=\"\",\"\",IF(C26>=$AU$1,\"O\",\"X\"))","v":"X"},{"$f":"IF(AO26=\"\",\"\",IF(AND(AO26=\"O\",AP26=\"O\",AR26=\"O\",AT26=\"O\",AU26=\"O\"),\"후보\",\"X\"))","v":""}]
["갑오마을9단지푸르지오","'05.08",298,147.19999999999999,45,121,37,140,null,null,null,null,{"$f":"I27-K27","v":0},{"$f":"IF(ISERROR(K27/I27),\"\",K27/I27)","v":""},{"$f":"I27/E27","v":0},{"$f":"K27/E27","v":0},4,2,"합",123,null,null,147.19999999999999,45,140,0,{"$f":"K27","v":0},0,"",0,{"$f":"S27","v":"합"},{"$f":"Q27&\"/\"&R27","v":"4/2"},null,"갑오마을9단지푸르지오",45,{"$f":"IF(AI27=\"\",\"\",$AJ$2)","v":"A-"},"A","A+","B+",{"$f":"IF(AI27=\"\",\"\",$AN$2)","v":"C"},{"$f":"IF(N27=\"\",\"\",IF(N27>=$AO$1/100,\"O\",\"X\"))","v":""},{"$f":"IF(I27=\"\",\"\",IF(I27<=$AP$1,\"O\",\"X\"))","v":""},{"$f":"IF(O27=\"\",\"\",IF(O27<=$AQ$1,\"O\",\"X\"))","v":"O"},{"$f":"IF(M27=\"\",\"\",IF(M27<=$AR$1,\"O\",\"X\"))","v":"O"},"X",{"$f":"IF(OR(F27=\"\",AI27=\"\"),\"\",IF(AND((F27<=85),(AI27>=15)),\"O\",\"X\"))","v":"X"},{"$f":"IF(C27=\"\",\"\",IF(C27>=$AU$1,\"O\",\"X\"))","v":"X"},{"$f":"IF(AO27=\"\",\"\",IF(AND(AO27=\"O\",AP27=\"O\",AR27=\"O\",AT27=\"O\",AU27=\"O\"),\"후보\",\"X\"))","v":""}]
[null,null,null,null,null,null,null,null,null,null,null,null,null,null,null,null,null,null,null,null,null,null,{"$f":"$A$4&\" \"&A29&\"(\"&B29&\",\"&C29&\"^)\"","v":"대청동 갑오마을1단지푸르지오('05.01,236^)"},null,null,null,null,null,null,null,null,null,null,"",""]
["갑오마을1단지푸르지오","'05.01",236,126.7,38,101.9,31,179,null,null,null,null,{"$f":"I29-K29","v":0},{"$f":"IF(ISERROR(K29/I29),\"\",K29/I29)","v":""},{"$f":"I29/E29","v":0},{"$f":"K29/E29","v":0},3,2,"계",147,null,null,{"$f":"D29","v":126.7},{"$f":"E29","v":38},{"$f":"H29","v":179},{"$f":"I29","v":0},{"$f":"K29","v":0},{"$f":"M29","v":0},"",0,{"$f":"S29","v":"계"},{"$f":"Q29&\"/\"&R29","v":"3/2"},null,"갑오마을1단지푸르지오",38,{"$f":"IF(AI29=\"\",\"\",$AJ$2)","v":"A-"},"A","A+","B+",{"$f":"IF(AI29=\"\",\"\",$AN$2)","v":"C"},{"$f":"IF(N29=\"\",\"\",IF(N29>=$AO$1/100,\"O\",\"X\"))","v":""},{"$f":"IF(I29=\"\",\"\",IF(I29<=$AP$1,\"O\",\"X\"))","v":""},{"$f":"IF(O29=\"\",\"\",IF(O29<=$AQ$1,\"O\",\"X\"))","v":"O"},{"$f":"IF(M29=\"\",\"\",IF(M29<=$AR$1,\"O\",\"X\"))","v":"O"},"X",{"$f":"IF(OR(F29=\"\",AI29=\"\"),\"\",IF(AND((F29<=85),(AI29>=15)),\"O\",\"X\"))","v":"X"},{"$f":"IF(C29=\"\",\"\",IF(C29>=$AU$1,\"O\",\"X\"))","v":"X"},{"$f":"IF(AO29=\"\",\"\",IF(AND(AO29=\"O\",AP29=\"O\",AR29=\"O\",AT29=\"O\",AU29=\"O\"),\"후보\",\"X\"))","v":""}]
["갑오마을1단지푸르지오","'05.01",236,140.30000000000001,43,116.2,35,57,null,null,null,null,{"$f":"I30-K30","v":0},{"$f":"IF(ISERROR(K30/I30),\"\",K30/I30)","v":""},{"$f":"I30/E30","v":0},{"$f":"K30/E30","v":0},4,2,"계",160,null,null,{"$f":"D30","v":140.30000000000001},{"$f":"E30","v":43},{"$f":"H30","v":57},{"$f":"I30","v":0},{"$f":"K30","v":0},0,"",0,{"$f":"S30","v":"계"},{"$f":"Q30&\"/\"&R30","v":"4/2"},null,"갑오마을1단지푸르지오",43,{"$f":"IF(AI30=\"\",\"\",$AJ$2)","v":"A-"},"A","A+","B+",{"$f":"IF(AI30=\"\",\"\",$AN$2)","v":"C"},{"$f":"IF(N30=\"\",\"\",IF(N30>=$AO$1/100,\"O\",\"X\"))","v":""},{"$f":"IF(I30=\"\",\"\",IF(I30<=$AP$1,\"O\",\"X\"))","v":""},{"$f":"IF(O30=\"\",\"\",IF(O30<=$AQ$1,\"O\",\"X\"))","v":"O"},{"$f":"IF(M30=\"\",\"\",IF(M30<=$AR$1,\"O\",\"X\"))","v":"O"},"X",{"$f":"IF(OR(F30=\"\",AI30=\"\"),\"\",IF(AND((F30<=85),(AI30>=15)),\"O\",\"X\"))","v":"X"},{"$f":"IF(C30=\"\",\"\",IF(C30>=$AU$1,\"O\",\"X\"))","v":"X"},{"$f":"IF(AO30=\"\",\"\",IF(AND(AO30=\"O\",AP30=\"O\",AR30=\"O\",AT30=\"O\",AU30=\"O\"),\"후보\",\"X\"))","v":""}]

{"sheet":"남통동","index":9,"n_rows":31,"n_cols":48,"rows_kept":31,"cut":false,"hidden":false,"merged":[[0,35,0,39]]}
[{"$f":"단지추출!A1","v":"구미시"},null,null,null,null,null,null,null,"추출대상",null,null,null,null,null,null,null,null,null,null,null,null,null,null,"매매가 최대(색상 최대)",null,null,{"$f":"단지추출!AA1","v":70000},null,null,null,null,null,null,{"$f":"A1","v":"구미시"},null,{"$f":"A1&\" 전체 등급\"","v":"구미시 전체 등급"},null,null,null,null,{"$f":"단지추출!AO1","v":80},{"$f":"단지추출!AP1","v":45000},{"$f":"단지추출!AQ1","v":1000},{"$f":"단지추출!AR1","v":6000},null,null,{"$f":"단지추출!AU1","v":300}]
[{"$f":"단지추출!A2","v":"2022-01-01"},null,null,null,null,null,null,null,null,null,null,null,null,null,null,null,null,null,null,null,null,null,null,"매매가 최소(색상 최소)",null,null,{"$f":"단지추출!AA2","v":10000},null,null,null,null,null,null,{"$f":"AH1 &\" \" &A4","v":"구미시 동상동"},null,{"$f":"단지추출!AJ2","v":"A-"},{"$f":"단지추출!AK2","v":"A"},{"$f":"단지추출!AL2","v":"A"},{"$f":"단지추출!AM2","v":"A"},{"$f":"단지추출!AN2","v":"C"},"원금보전",null,null,"수익성",null,"환금성"]
["단지명","입주\n연도","총세\n대수","공급\n(m2)","공급\n면적","전용\n(m2)","전용\n면적","세대","매매\n최저가","층","전세\n최고가","층","매전갭","전세\n가율","매매\n평단","전세\n평단","방","욕\n실","구\n조","매/전/월\nType","비고",null,"공급\n(m2)","공급\n면적","세대","매매가","전세가","매전갭","전세\n가율","평단가","구\n조","방/\n욕실",null,{"$f":"IF(A3=\"\",\"\",A3)","v":"단지명"},{"$f":"IF(E3=\"\",\"\",E3)","v":"공급\n면적"},"직장","교통","학군","환경","공급",{"$f":"\"전세가율★\n(\"&AO1&\"%↑)\"","v":"전세가율★\n(80%↑)"},{"$f":"\"절대가★\n(\"&AP1/10000&\"억↓)\"","v":"절대가★\n(4.5억↓)"},{"$f":"\"지역평단가\n(\"&AQ1&\"↓)\"","v":"지역평단가\n(1000↓)"},{"$f":"\"투자규모★\n(갭\"&AR1/1000&\"천↓)\"","v":"투자규모★\n(갭6천↓)"},"전고점\n이하","평형★\n(15~34평)",{"$f":"\"단지규모★\n(\"&AU1&\"^↑)\"","v":"단지규모★\n(300^↑)"},"투자후보"]
["동상동",null,null,null,null,null,null,null,null,null,null,null,null,null,null,null,null,null,null,null,null,null,null,null,null,null,null,null,null,null,null,null,null,null,""]
[null,null,null,null,null,null,null,null,null,null,null,null,null,null,null,null,null,null,null,null,null,null,{"$f":"$A$4&\" \"&A6&\"(\"&B6&\",\"&C6&\"^)\"","v":"동상동 롯데캐슬가야1단지('05.12,482^)"},null,null,null,null,null,null,null,null,null,null,{"$f":"IF(A5=\"\",\"\",A5)","v":""},""]
["롯데캐슬가야1단지","'05.12",482,108.3,33,85,26,81,null,null,null,null,{"$f":"I6-K6","v":0},{"$f":"IF(ISERROR(K6/I6),\"\",K6/I6)","v":""},{"$f":"I6/E6","v":0},{"$f":"K6/E6","v":0},3,2,"계","108A",null,null,{"$f":"D6","v":108.3},33,{"$f":"H6","v":81},0,{"$f":"K6","v":0},{"$f":"M6","v":0},"",0,{"$f":"S6","v":"계"},{"$f":"Q6&\"/\"&R6","v":"3/2"},null,"롯데캐슬가야1단지",33,{"$f":"IF(AI6=\"\",\"\",$AJ$2)","v":"A-"},"A","A+","B+",{"$f":"IF(AI6=\"\",\"\",$AN$2)","v":"C"},{"$f":"IF(N6=\"\",\"\",IF(N6>=$AO$1/100,\"O\",\"X\"))","v":""},{"$f":"IF(I6=\"\",\"\",IF(I6<=$AP$1,\"O\",\"X\"))","v":""},{"$f":"IF(O6=\"\",\"\",IF(O6<=$AQ$1,\"O\",\"X\"))","v":"O"},{"$f":"IF(M6=\"\",\"\",IF(M6<=$AR$1,\"O\",\"X\"))","v":"O"},"X",{"$f":"IF(OR(F6=\"\",AI6=\"\"),\"\",IF(AND((F6<=85),(AI6>=15)),\"O\",\"X\"))","v":"O"},{"$f":"IF(C6=\"\",\"\",IF(C6>=$AU$1,\"O\",\"X\"))","v":"O"},{"$f":"IF(AO6=\"\",\"\",IF(AND(AO6=\"O\",AP6=\"O\",AR6=\"O\",AT6=\"O\",AU6=\"O\"),\"후보\",\"X\"))","v":""}]
["롯데캐슬가야1단지","'05.12",482,108.3,33,85,26,27,null,null,null,null,0,"",0,0,3,2,"계","108B",null,null,108.3,33,27,0,0,0,"",0,"계","3/2",null,"롯데캐슬가야1단지",33,"A-","A","A+","B+","C","","","O","O","X","O","O",""]
["롯데캐슬가야1단지","'05.12",482,128.6,39,101.7,31,44,null,null,null,null,0,"",0,0,3,2,"계",128,null,null,128.6,39,44,0,0,0,"",0,"계","3/2",null,"롯데캐슬가야1단지",39,"A-","A","A+","B+","C","","","O","O","X","X","O",""]
["롯데캐슬가야1단지","'05.12",482,164.7,50,134.4,41,154,null,null,null,null,0,"",0,0,4,2,"계","164A",null,null,164.7,50,154,0,0,0,"",0,"계","4/2",null,"롯데캐슬가야1단지",50,"A-","A","A+","B+","C","","","O","O","X","X","O",""]
["롯데캐슬가야1단지","'05.12",482,164.7,50,134.4,41,22,null,null,null,null,0,"",0,0,4,2,"계","164B",null,null,164.7,50,22,0,0,0,"",0,"계","4/2",null,"롯데캐슬가야1단지",50,"A-","A","A+","B+","C","","","O","O","X","X","O",""]
["롯데캐슬가야1단지","'05.12",482,184,56,153,46,154,null,null,null,null,0,"",0,0,4,2,"계",183,null,null,184,56,154,0,0,0,"",0,"계","4/2",null,"롯데캐슬가야1단지",56,"A-","A","A+","B+","C","","","O","O","X","X","O",""]
[null,null,null,null,null,null,null,null,null,null,null,null,null,null,null,null,null,null,null,null,null,null,{"$f":"$A$4&\" \"&A13&\"(\"&B13&\",\"&C13&\"^)\"","v":"동상동 한덕타워('94.12,298^)"},null,null,null,null,null,null,null,null,null,null,"",""]
["한덕타워","'94.12",298,55,17,44.5,13,25,null,null,null,null,{"$f":"I13-K13","v":0},{"$f":"IF(ISERROR(K13/I13),\"\",K13/I13)","v":""},{"$f":"I13/E13","v":0},{"$f":"K13/E13","v":0},3,1,"계",55,null,null,{"$f":"D13","v":55},17,{"$f":"H13","v":25},0,{"$f":"K13","v":0},{"$f":"M13","v":0},"",0,{"$f":"S13","v":"계"},{"$f":"Q13&\"/\"&R13","v":"3/1"},null,"한덕타워",17,{"$f":"IF(AI13=\"\",\"\",$AJ$2)","v":"A-"},"A","A+","B+",{"$f":"IF(AI13=\"\",\"\",$AN$2)","v":"C"},{"$f":"IF(N13=\"\",\"\",IF(N13>=$AO$1/100,\"O\",\"X\"))","v":""},{"$f":"IF(I13=\"\",\"\",IF(I13<=$AP$1,\"O\",\"X\"))","v":""},{"$f":"IF(O13=\"\",\"\",IF(O13<=$AQ$1,\"O\",\"X\"))","v":"O"},{"$f":"IF(M13=\"\",\"\",IF(M13<=$AR$1,\"O\",\"X\"))","v":"O"},"X",{"$f":"IF(OR(F13=\"\",AI13=\"\"),\"\",IF(AND((F13<=85),(AI13>=15)),\"O\",\"X\"))","v":"O"},{"$f":"IF(C13=\"\",\"\",IF(C13>=$AU$1,\"O\",\"X\"))","v":"X"},{"$f":"IF(AO13=\"\",\"\",IF(AND(AO13=\"O\",AP13=\"O\",AR13=\"O\",AT13=\"O\",AU13=\"O\"),\"후보\",\"X\"))","v":""}]
["한덕타워","'94.12",298,74.599999999999994,23,59.7,18,104,null,null,null,null,0,"",0,0,3,1,"계",74,null,null,74.599999999999994,23,104,0,0,0,"",0,"계","3/1",null,"한덕타워",23,"A-","A","A+","B+","C","","","O","O","X","O","X",""]
["한덕타워","'94.12",298,79.099999999999994,24,64,19,17,null,null,null,null,0,"",0,0,3,1,"계",79,null,null,79.099999999999994,24,17,0,0,0,"",0,"계","3/1",null,"한덕타워",24,"A-","A","A+","B+","C","","","O","O","X","O","X",""]
["한덕타워","'94.12",298,97.6,30,82.3,25,2,null,null,null,null,0,"",0,0,3,2,"계","97A",null,null,97.6,30,2,0,0,0,"",0,"계","3/2",null,"한덕타워",30,"A-","A","A+","B+","C","","","O","O","X","O","X",""]
["한덕타워","'94.12",298,100.4,30,84.7,26,50,null,null,null,null,0,"",0,0,3,2,"계","100B",null,null,100.4,30,50,0,0,0,"",0,"계","3/2",null,"한덕타워",30,"A-","A","A+","B+","C","","","O","O","X","O","X",""]
["한덕타워","'94.12",298,100.5,30,85,26,68,null,null,null,null,0,"",0,0,3,2,"계","100C",null,null,100.5,30,68,0,0,0,"",0,"계","3/2",null,"한덕타워",30,"A-","A","A+","B+","C","","","O","O","X","O","X",""]
["한덕타워","'94.12",298,115.4,35,85,26,7,null,null,null,null,0,"",0,0,3,2,"계",115,null,null,115.4,35,7,0,0,0,"",0,"계","3/2",null,"한덕타워",35,"A-","A","A+","B+","C","","","O","O","X","O","X",""]
["한덕타워","'94.12",298,141.4,43,123.2,37,25,null,null,null,null,0,"",0,0,4,2,"계",141,null,null,141.4,43,25,0,0,0,"",0,"계","4/2",null,"한덕타워",43,"A-","A","A+","B+","C","","","O","O","X","X","X",""]
[null,null,null,null,null,null,null,null,null,null,null,null,null,null,null,null,null,null,null,null,null,null,{"$f":"$A$4&\" \"&A22&\"(\"&B22&\",\"&C22&\"^)\"","v":"동상동 롯데캐슬가야2단지('05.12,214^)"},null,null,null,null,null,null,null,null,null,null,"",""]
["롯데캐슬가야2단지","'05.12",214,108.3,33,85,26,120,null,null,null,null,{"$f":"I22-K22","v":0},{"$f":"IF(ISERROR(K22/I22),\"\",K22/I22)","v":""},{"$f":"I22/E22","v":0},{"$f":"K22/E22","v":0},3,2,"계",108,null,null,{"$f":"D22","v":108.3},33,{"$f":"H22","v":120},0,{"$f":"K22","v":0},{"$f":"M22","v":0},"",0,{"$f":"S22","v":"계"},{"$f":"Q22&\"/\"&R22","v":"3/2"},null,"롯데캐슬가야2단지",33,{"$f":"IF(AI22=\"\",\"\",$AJ$2)","v":"A-"},"A","A+","B+",{"$f":"IF(AI22=\"\",\"\",$AN$2)","v":"C"},{"$f":"IF(N22=\"\",\"\",IF(N22>=$AO$1/100,\"O\",\"X\"))","v":""},{"$f":"IF(I22=\"\",\"\",IF(I22<=$AP$1,\"O\",\"X\"))","v":""},{"$f":"IF(O22=\"\",\"\",IF(O22<=$AQ$1,\"O\",\"X\"))","v":"O"},{"$f":"IF(M22=\"\",\"\",IF(M22<=$AR$1,\"O\",\"X\"))","v":"O"},"X",{"$f":"IF(OR(F22=\"\",AI22=\"\"),\"\",IF(AND((F22<=85),(AI22>=15)),\"O\",\"X\"))","v":"O"},{"$f":"IF(C22=\"\",\"\",IF(C22>=$AU$1,\"O\",\"X\"))","v":"X"},{"$f":"IF(AO22=\"\",\"\",IF(AND(AO22=\"O\",AP22=\"O\",AR22=\"O\",AT22=\"O\",AU22=\"O\"),\"후보\",\"X\"))","v":""}]
["롯데캐슬가야2단지","'05.12",214,128.69999999999999,39,101.7,31,20,null,null,null,null,{"$f":"I23-K23","v":0},{"$f":"IF(ISERROR(K23/I23),\"\",K23/I23)","v":""},{"$f":"I23/E23","v":0},{"$f":"K23/E23","v":0},3,2,"계",128,null,null,128.69999999999999,39,20,0,{"$f":"K23","v":0},0,"",0,{"$f":"S23","v":"계"},{"$f":"Q23&\"/\"&R23","v":"3/2"},null,"롯데캐슬가야2단지",39,{"$f":"IF(AI23=\"\",\"\",$AJ$2)","v":"A-"},"A","A+","B+",{"$f":"IF(AI23=\"\",\"\",$AN$2)","v":"C"},{"$f":"IF(N23=\"\",\"\",IF(N23>=$AO$1/100,\"O\",\"X\"))","v":""},{"$f":"IF(I23=\"\",\"\",IF(I23<=$AP$1,\"O\",\"X\"))","v":""},{"$f":"IF(O23=\"\",\"\",IF(O23<=$AQ$1,\"O\",\"X\"))","v":"O"},{"$f":"IF(M23=\"\",\"\",IF(M23<=$AR$1,\"O\",\"X\"))","v":"O"},"X",{"$f":"IF(OR(F23=\"\",AI23=\"\"),\"\",IF(AND((F23<=85),(AI23>=15)),\"O\",\"X\"))","v":"X"},{"$f":"IF(C23=\"\",\"\",IF(C23>=$AU$1,\"O\",\"X\"))","v":"X"},{"$f":"IF(AO23=\"\",\"\",IF(AND(AO23=\"O\",AP23=\"O\",AR23=\"O\",AT23=\"O\",AU23=\"O\"),\"후보\",\"X\"))","v":""}]
["롯데캐슬가야2단지","'05.12",214,164.8,50,134.4,41,20,null,null,null,null,{"$f":"I24-K24","v":0},{"$f":"IF(ISERROR(K24/I24),\"\",K24/I24)","v":""},{"$f":"I24/E24","v":0},{"$f":"K24/E24","v":0},4,2,"계",164,null,null,164.8,50,20,0,{"$f":"K24","v":0},0,"",0,{"$f":"S24","v":"계"},{"$f":"Q24&\"/\"&R24","v":"4/2"},null,"롯데캐슬가야2단지",50,{"$f":"IF(AI24=\"\",\"\",$AJ$2)","v":"A-"},"A","A+","B+",{"$f":"IF(AI24=\"\",\"\",$AN$2)","v":"C"},{"$f":"IF(N24=\"\",\"\",IF(N24>=$AO$1/100,\"O\",\"X\"))","v":""},{"$f":"IF(I24=\"\",\"\",IF(I24<=$AP$1,\"O\",\"X\"))","v":""},{"$f":"IF(O24=\"\",\"\",IF(O24<=$AQ$1,\"O\",\"X\"))","v":"O"},{"$f":"IF(M24=\"\",\"\",IF(M24<=$AR$1,\"O\",\"X\"))","v":"O"},"X",{"$f":"IF(OR(F24=\"\",AI24=\"\"),\"\",IF(AND((F24<=85),(AI24>=15)),\"O\",\"X\"))","v":"X"},{"$f":"IF(C24=\"\",\"\",IF(C24>=$AU$1,\"O\",\"X\"))","v":"X"},{"$f":"IF(AO24=\"\",\"\",IF(AND(AO24=\"O\",AP24=\"O\",AR24=\"O\",AT24=\"O\",AU24=\"O\"),\"후보\",\"X\"))","v":""}]
["롯데캐슬가야2단지","'05.12",214,184.1,56,153,46,54,null,null,null,null,{"$f":"I25-K25","v":0},{"$f":"IF(ISERROR(K25/I25),\"\",K25/I25)","v":""},{"$f":"I25/E25","v":0},{"$f":"K25/E25","v":0},4,2,"계",184,null,null,184.1,56,54,0,{"$f":"K25","v":0},0,"",0,{"$f":"S25","v":"계"},{"$f":"Q25&\"/\"&R25","v":"4/2"},null,"롯데캐슬가야2단지",56,{"$f":"IF(AI25=\"\",\"\",$AJ$2)","v":"A-"},"A","A+","B+",{"$f":"IF(AI25=\"\",\"\",$AN$2)","v":"C"},{"$f":"IF(N25=\"\",\"\",IF(N25>=$AO$1/100,\"O\",\"X\"))","v":""},{"$f":"IF(I25=\"\",\"\",IF(I25<=$AP$1,\"O\",\"X\"))","v":""},{"$f":"IF(O25=\"\",\"\",IF(O25<=$AQ$1,\"O\",\"X\"))","v":"O"},{"$f":"IF(M25=\"\",\"\",IF(M25<=$AR$1,\"O\",\"X\"))","v":"O"},"X",{"$f":"IF(OR(F25=\"\",AI25=\"\"),\"\",IF(AND((F25<=85),(AI25>=15)),\"O\",\"X\"))","v":"X"},{"$f":"IF(C25=\"\",\"\",IF(C25>=$AU$1,\"O\",\"X\"))","v":"X"},{"$f":"IF(AO25=\"\",\"\",IF(AND(AO25=\"O\",AP25=\"O\",AR25=\"O\",AT25=\"O\",AU25=\"O\"),\"후보\",\"X\"))","v":""}]
[null,null,null,null,null,null,null,null,null,null,null,null,null,null,null,null,null,null,null,null,null,null,{"$f":"$A$4&\" \"&A27&\"(\"&B27&\",\"&C27&\"^)\"","v":"동상동 동상베스티움('17.05,203^)"},null,null,null,null,null,null,null,null,null,null,"",""]
["동상베스티움","'17.05",203,80.2,24,59.4,18,80,null,null,null,null,{"$f":"I27-K27","v":0},{"$f":"IF(ISERROR(K27/I27),\"\",K27/I27)","v":""},{"$f":"I27/E27","v":0},{"$f":"K27/E27","v":0},3,2,"계","80B",null,null,{"$f":"D27","v":80.2},24,{"$f":"H27","v":80},0,{"$f":"K27","v":0},{"$f":"M27","v":0},"",0,{"$f":"S27","v":"계"},{"$f":"Q27&\"/\"&R27","v":"3/2"},null,"동상베스티움",24,{"$f":"IF(AI27=\"\",\"\",$AJ$2)","v":"A-"},"A","A+","B+",{"$f":"IF(AI27=\"\",\"\",$AN$2)","v":"C"},{"$f":"IF(N27=\"\",\"\",IF(N27>=$AO$1/100,\"O\",\"X\"))","v":""},{"$f":"IF(I27=\"\",\"\",IF(I27<=$AP$1,\"O\",\"X\"))","v":""},{"$f":"IF(O27=\"\",\"\",IF(O27<=$AQ$1,\"O\",\"X\"))","v":"O"},{"$f":"IF(M27=\"\",\"\",IF(M27<=$AR$1,\"O\",\"X\"))","v":"O"},"X",{"$f":"IF(OR(F27=\"\",AI27=\"\"),\"\",IF(AND((F27<=85),(AI27>=15)),\"O\",\"X\"))","v":"O"},{"$f":"IF(C27=\"\",\"\",IF(C27>=$AU$1,\"O\",\"X\"))","v":"X"},{"$f":"IF(AO27=\"\",\"\",IF(AND(AO27=\"O\",AP27=\"O\",AR27=\"O\",AT27=\"O\",AU27=\"O\"),\"후보\",\"X\"))","v":""}]
["동상베스티움","'17.05",203,80.8,24,60,18,9,null,null,null,null,{"$f":"I28-K28","v":0},{"$f":"IF(ISERROR(K28/I28),\"\",K28/I28)","v":""},{"$f":"I28/E28","v":0},{"$f":"K28/E28","v":0},3,2,"계","80C",null,null,80.8,24,9,0,{"$f":"K28","v":0},0,"",0,{"$f":"S28","v":"계"},{"$f":"Q28&\"/\"&R28","v":"3/2"},null,"동상베스티움",24,{"$f":"IF(AI28=\"\",\"\",$AJ$2)","v":"A-"},"A","A+","B+",{"$f":"IF(AI28=\"\",\"\",$AN$2)","v":"C"},{"$f":"IF(N28=\"\",\"\",IF(N28>=$AO$1/100,\"O\",\"X\"))","v":""},{"$f":"IF(I28=\"\",\"\",IF(I28<=$AP$1,\"O\",\"X\"))","v":""},{"$f":"IF(O28=\"\",\"\",IF(O28<=$AQ$1,\"O\",\"X\"))","v":"O"},{"$f":"IF(M28=\"\",\"\",IF(M28<=$AR$1,\"O\",\"X\"))","v":"O"},"X",{"$f":"IF(OR(F28=\"\",AI28=\"\"),\"\",IF(AND((F28<=85),(AI28>=15)),\"O\",\"X\"))","v":"O"},{"$f":"IF(C28=\"\",\"\",IF(C28>=$AU$1,\"O\",\"X\"))","v":"X"},{"$f":"IF(AO28=\"\",\"\",IF(AND(AO28=\"O\",AP28=\"O\",AR28=\"O\",AT28=\"O\",AU28=\"O\"),\"후보\",\"X\"))","v":""}]
["동상베스티움","'17.05",203,81.2,25,59.9,18,92,null,null,null,null,{"$f":"I29-K29","v":0},{"$f":"IF(ISERROR(K29/I29),\"\",K29/I29)","v":""},{"$f":"I29/E29","v":0},{"$f":"K29/E29","v":0},3,2,"계","81A",null,null,81.2,25,92,0,{"$f":"K29","v":0},0,"",0,{"$f":"S29","v":"계"},{"$f":"Q29&\"/\"&R29","v":"3/2"},null,"동상베스티움",25,{"$f":"IF(AI29=\"\",\"\",$AJ$2)","v":"A-"},"A","A+","B+",{"$f":"IF(AI29=\"\",\"\",$AN$2)","v":"C"},{"$f":"IF(N29=\"\",\"\",IF(N29>=$AO$1/100,\"O\",\"X\"))","v":""},{"$f":"IF(I29=\"\",\"\",IF(I29<=$AP$1,\"O\",\"X\"))","v":""},{"$f":"IF(O29=\"\",\"\",IF(O29<=$AQ$1,\"O\",\"X\"))","v":"O"},{"$f":"IF(M29=\"\",\"\",IF(M29<=$AR$1,\"O\",\"X\"))","v":"O"},"X",{"$f":"IF(OR(F29=\"\",AI29=\"\"),\"\",IF(AND((F29<=85),(AI29>=15)),\"O\",\"X\"))","v":"O"},{"$f":"IF(C29=\"\",\"\",IF(C29>=$AU$1,\"O\",\"X\"))","v":"X"},{"$f":"IF(AO29=\"\",\"\",IF(AND(AO29=\"O\",AP29=\"O\",AR29=\"O\",AT29=\"O\",AU29=\"O\"),\"후보\",\"X\"))","v":""}]
["동상베스티움","'17.05",203,94,28,70.099999999999994,21,11,null,null,null,null,{"$f":"I30-K30","v":0},{"$f":"IF(ISERROR(K30/I30),\"\",K30/I30)","v":""},{"$f":"I30/E30","v":0},{"$f":"K30/E30","v":0},3,2,"계","93A",null,null,94,28,11,0,{"$f":"K30","v":0},0,"",0,{"$f":"S30","v":"계"},{"$f":"Q30&\"/\"&R30","v":"3/2"},null,"동상베스티움",28,{"$f":"IF(AI30=\"\",\"\",$AJ$2)","v":"A-"},"A","A+","B+",{"$f":"IF(AI30=\"\",\"\",$AN$2)","v":"C"},{"$f":"IF(N30=\"\",\"\",IF(N30>=$AO$1/100,\"O\",\"X\"))","v":""},{"$f":"IF(I30=\"\",\"\",IF(I30<=$AP$1,\"O\",\"X\"))","v":""},{"$f":"IF(O30=\"\",\"\",IF(O30<=$AQ$1,\"O\",\"X\"))","v":"O"},{"$f":"IF(M30=\"\",\"\",IF(M30<=$AR$1,\"O\",\"X\"))","v":"O"},"X",{"$f":"IF(OR(F30=\"\",AI30=\"\"),\"\",IF(AND((F30<=85),(AI30>=15)),\"O\",\"X\"))","v":"O"},{"$f":"IF(C30=\"\",\"\",IF(C30>=$AU$1,\"O\",\"X\"))","v":"X"},{"$f":"IF(AO30=\"\",\"\",IF(AND(AO30=\"O\",AP30=\"O\",AR30=\"O\",AT30=\"O\",AU30=\"O\"),\"후보\",\"X\"))","v":""}]
["동상베스티움","'17.05",203,94.2,29,70.3,21,11,null,null,null,null,{"$f":"I31-K31","v":0},{"$f":"IF(ISERROR(K31/I31),\"\",K31/I31)","v":""},{"$f":"I31/E31","v":0},{"$f":"K31/E31","v":0},3,2,"계","94B",null,null,94.2,29,11,0,{"$f":"K31","v":0},0,"",0,{"$f":"S31","v":"계"},{"$f":"Q31&\"/\"&R31","v":"3/2"},null,"동상베스티움",29,{"$f":"IF(AI31=\"\",\"\",$AJ$2)","v":"A-"},"A","A+","B+",{"$f":"IF(AI31=\"\",\"\",$AN$2)","v":"C"},{"$f":"IF(N31=\"\",\"\",IF(N31>=$AO$1/100,\"O\",\"X\"))","v":""},{"$f":"IF(I31=\"\",\"\",IF(I31<=$AP$1,\"O\",\"X\"))","v":""},{"$f":"IF(O31=\"\",\"\",IF(O31<=$AQ$1,\"O\",\"X\"))","v":"O"},{"$f":"IF(M31=\"\",\"\",IF(M31<=$AR$1,\"O\",\"X\"))","v":"O"},"X",{"$f":"IF(OR(F31=\"\",AI31=\"\"),\"\",IF(AND((F31<=85),(AI31>=15)),\"O\",\"X\"))","v":"O"},{"$f":"IF(C31=\"\",\"\",IF(C31>=$AU$1,\"O\",\"X\"))","v":"X"},{"$f":"IF(AO31=\"\",\"\",IF(AND(AO31=\"O\",AP31=\"O\",AR31=\"O\",AT31=\"O\",AU31=\"O\"),\"후보\",\"X\"))","v":""}]

{"sheet":"원평동","index":10,"n_rows":17,"n_cols":48,"rows_kept":17,"cut":false,"hidden":false,"merged":[[0,35,0,39]]}
[{"$f":"단지추출!A1","v":"구미시"},null,null,null,null,null,null,null,"추출대상",null,null,null,null,null,null,null,null,null,null,null,null,null,null,"매매가 최대(색상 최대)",null,null,{"$f":"단지추출!AA1","v":70000},null,null,null,null,null,null,{"$f":"A1","v":"구미시"},null,{"$f":"A1&\" 전체 등급\"","v":"구미시 전체 등급"},null,null,null,null,{"$f":"단지추출!AO1","v":80},{"$f":"단지추출!AP1","v":45000},{"$f":"단지추출!AQ1","v":1000},{"$f":"단지추출!AR1","v":6000},null,null,{"$f":"단지추출!AU1","v":300}]
[{"$f":"단지추출!A2","v":"2022-01-01"},null,null,null,null,null,null,null,null,null,null,null,null,null,null,null,null,null,null,null,null,null,null,"매매가 최소(색상 최소)",null,null,{"$f":"단지추출!AA2","v":10000},null,null,null,null,null,null,{"$f":"AH1 &\" \" &A4","v":"구미시 무계동"},null,{"$f":"단지추출!AJ2","v":"A-"},{"$f":"단지추출!AK2","v":"A"},{"$f":"단지추출!AL2","v":"A"},{"$f":"단지추출!AM2","v":"A"},{"$f":"단지추출!AN2","v":"C"},"원금보전",null,null,"수익성",null,"환금성"]
["단지명","입주\n연도","총세\n대수","공급\n(m2)","공급\n면적","전용\n(m2)","전용\n면적","세대","매매\n최저가","층","전세\n최고가","층","매전갭","전세\n가율","매매\n평단","전세\n평단","방","욕\n실","구\n조","매/전/월\nType","비고",null,"공급\n(m2)","공급\n면적","세대","매매가","전세가","매전갭","전세\n가율","평단가","구\n조","방/\n욕실",null,{"$f":"IF(A3=\"\",\"\",A3)","v":"단지명"},{"$f":"IF(E3=\"\",\"\",E3)","v":"공급\n면적"},"직장","교통","학군","환경","공급",{"$f":"\"전세가율★\n(\"&AO1&\"%↑)\"","v":"전세가율★\n(80%↑)"},{"$f":"\"절대가★\n(\"&AP1/10000&\"억↓)\"","v":"절대가★\n(4.5억↓)"},{"$f":"\"지역평단가\n(\"&AQ1&\"↓)\"","v":"지역평단가\n(1000↓)"},{"$f":"\"투자규모★\n(갭\"&AR1/1000&\"천↓)\"","v":"투자규모★\n(갭6천↓)"},"전고점\n이하","평형★\n(15~34평)",{"$f":"\"단지규모★\n(\"&AU1&\"^↑)\"","v":"단지규모★\n(300^↑)"},"투자후보"]
["무계동",null,null,null,null,null,null,null,null,null,null,null,null,null,null,null,null,null,null,null,null,null,null,null,null,null,null,null,null,null,null,null,null,null,""]
[null,null,null,null,null,null,null,null,null,null,null,null,null,null,null,null,null,null,null,null,null,null,{"$f":"$A$4&\" \"&A6&\"(\"&B6&\",\"&C6&\"^)\"","v":"무계동 석봉마을9단지부영('02.05,1578^)"},null,null,null,null,null,null,null,null,null,null,{"$f":"IF(A5=\"\",\"\",A5)","v":""},""]
["석봉마을9단지부영","'02.05",1578,68.7,21,47.4,14,1578,null,null,null,null,{"$f":"I6-K6","v":0},{"$f":"IF(ISERROR(K6/I6),\"\",K6/I6)","v":""},{"$f":"I6/E6","v":0},{"$f":"K6/E6","v":0},2,1,"계",82,null,null,{"$f":"D6","v":68.7},{"$f":"E6","v":21},{"$f":"H6","v":1578},{"$f":"I6","v":0},{"$f":"K6","v":0},{"$f":"M6","v":0},{"$f":"N6","v":""},{"$f":"O6","v":0},{"$f":"S6","v":"계"},{"$f":"Q6&\"/\"&R6","v":"2/1"},null,"석봉마을9단지부영",21,{"$f":"IF(AI6=\"\",\"\",$AJ$2)","v":"A-"},"A","A+","B+",{"$f":"IF(AI6=\"\",\"\",$AN$2)","v":"C"},{"$f":"IF(N6=\"\",\"\",IF(N6>=$AO$1/100,\"O\",\"X\"))","v":""},{"$f":"IF(I6=\"\",\"\",IF(I6<=$AP$1,\"O\",\"X\"))","v":""},{"$f":"IF(O6=\"\",\"\",IF(O6<=$AQ$1,\"O\",\"X\"))","v":"O"},{"$f":"IF(M6=\"\",\"\",IF(M6<=$AR$1,\"O\",\"X\"))","v":"O"},"X",{"$f":"IF(OR(F6=\"\",AI6=\"\"),\"\",IF(AND((F6<=85),(AI6>=15)),\"O\",\"X\"))","v":"O"},{"$f":"IF(C6=\"\",\"\",IF(C6>=$AU$1,\"O\",\"X\"))","v":"O"},{"$f":"IF(AO6=\"\",\"\",IF(AND(AO6=\"O\",AP6=\"O\",AR6=\"O\",AT6=\"O\",AU6=\"O\"),\"후보\",\"X\"))","v":""}]
[null,null,null,null,null,null,null,null,null,null,null,null,null,null,null,null,null,null,null,null,null,null,{"$f":"$A$4&\" \"&A8&\"(\"&B8&\",\"&C8&\"^)\"","v":"무계동 석봉대동1단지('00.07,998^)"},null,null,null,null,null,null,null,null,null,null,"",""]
["석봉대동1단지","'00.07",998,74.900000000000006,23,59.9,18,320,null,null,null,null,{"$f":"I8-K8","v":0},{"$f":"IF(ISERROR(K8/I8),\"\",K8/I8)","v":""},{"$f":"I8/E8","v":0},{"$f":"K8/E8","v":0},2,1,"계",86,null,null,{"$f":"D8","v":74.900000000000006},{"$f":"E8","v":23},{"$f":"H8","v":320},{"$f":"I8","v":0},{"$f":"K8","v":0},{"$f":"M8","v":0},"",0,{"$f":"S8","v":"계"},{"$f":"Q8&\"/\"&R8","v":"2/1"},null,"석봉대동1단지",23,{"$f":"IF(AI8=\"\",\"\",$AJ$2)","v":"A-"},"A","A+","B+",{"$f":"IF(AI8=\"\",\"\",$AN$2)","v":"C"},{"$f":"IF(N8=\"\",\"\",IF(N8>=$AO$1/100,\"O\",\"X\"))","v":""},{"$f":"IF(I8=\"\",\"\",IF(I8<=$AP$1,\"O\",\"X\"))","v":""},{"$f":"IF(O8=\"\",\"\",IF(O8<=$AQ$1,\"O\",\"X\"))","v":"O"},{"$f":"IF(M8=\"\",\"\",IF(M8<=$AR$1,\"O\",\"X\"))","v":"O"},"X",{"$f":"IF(OR(F8=\"\",AI8=\"\"),\"\",IF(AND((F8<=85),(AI8>=15)),\"O\",\"X\"))","v":"O"},{"$f":"IF(C8=\"\",\"\",IF(C8>=$AU$1,\"O\",\"X\"))","v":"O"},{"$f":"IF(AO8=\"\",\"\",IF(AND(AO8=\"O\",AP8=\"O\",AR8=\"O\",AT8=\"O\",AU8=\"O\"),\"후보\",\"X\"))","v":""}]
["석봉대동1단지","'00.07",998,78.7,24,59.9,18,678,null,null,null,null,{"$f":"I9-K9","v":0},{"$f":"IF(ISERROR(K9/I9),\"\",K9/I9)","v":""},{"$f":"I9/E9","v":0},{"$f":"K9/E9","v":0},3,1,"계",99,null,null,{"$f":"D9","v":78.7},{"$f":"E9","v":24},{"$f":"H9","v":678},{"$f":"I9","v":0},{"$f":"K9","v":0},0,"",0,{"$f":"S9","v":"계"},{"$f":"Q9&\"/\"&R9","v":"3/1"},null,"석봉대동1단지",24,{"$f":"IF(AI9=\"\",\"\",$AJ$2)","v":"A-"},"A","A+","B+",{"$f":"IF(AI9=\"\",\"\",$AN$2)","v":"C"},{"$f":"IF(N9=\"\",\"\",IF(N9>=$AO$1/100,\"O\",\"X\"))","v":""},{"$f":"IF(I9=\"\",\"\",IF(I9<=$AP$1,\"O\",\"X\"))","v":""},{"$f":"IF(O9=\"\",\"\",IF(O9<=$AQ$1,\"O\",\"X\"))","v":"O"},{"$f":"IF(M9=\"\",\"\",IF(M9<=$AR$1,\"O\",\"X\"))","v":"O"},"X",{"$f":"IF(OR(F9=\"\",AI9=\"\"),\"\",IF(AND((F9<=85),(AI9>=15)),\"O\",\"X\"))","v":"O"},{"$f":"IF(C9=\"\",\"\",IF(C9>=$AU$1,\"O\",\"X\"))","v":"O"},{"$f":"IF(AO9=\"\",\"\",IF(AND(AO9=\"O\",AP9=\"O\",AR9=\"O\",AT9=\"O\",AU9=\"O\"),\"후보\",\"X\"))","v":""}]
[null,null,null,null,null,null,null,null,null,null,null,null,null,null,null,null,null,null,null,null,null,null,{"$f":"$A$4&\" \"&A11&\"(\"&B11&\",\"&C11&\"^)\"","v":"무계동 e편한세상장유2차('18.12,512^)"},null,null,null,null,null,null,null,null,null,null,"",""]
["e편한세상장유2차","'18.12",512,82.4,25,59.9,18,68,null,null,null,null,{"$f":"I11-K11","v":0},{"$f":"IF(ISERROR(K11/I11),\"\",K11/I11)","v":""},{"$f":"I11/E11","v":0},{"$f":"K11/E11","v":0},3,2,"계",111,null,null,{"$f":"D11","v":82.4},25,{"$f":"H11","v":68},0,{"$f":"K11","v":0},{"$f":"M11","v":0},"",0,{"$f":"S11","v":"계"},{"$f":"Q11&\"/\"&R11","v":"3/2"},null,"e편한세상장유2차",25,{"$f":"IF(AI11=\"\",\"\",$AJ$2)","v":"A-"},"A","A+","B+",{"$f":"IF(AI11=\"\",\"\",$AN$2)","v":"C"},{"$f":"IF(N11=\"\",\"\",IF(N11>=$AO$1/100,\"O\",\"X\"))","v":""},{"$f":"IF(I11=\"\",\"\",IF(I11<=$AP$1,\"O\",\"X\"))","v":""},{"$f":"IF(O11=\"\",\"\",IF(O11<=$AQ$1,\"O\",\"X\"))","v":"O"},{"$f":"IF(M11=\"\",\"\",IF(M11<=$AR$1,\"O\",\"X\"))","v":"O"},"X",{"$f":"IF(OR(F11=\"\",AI11=\"\"),\"\",IF(AND((F11<=85),(AI11>=15)),\"O\",\"X\"))","v":"O"},{"$f":"IF(C11=\"\",\"\",IF(C11>=$AU$1,\"O\",\"X\"))","v":"O"},{"$f":"IF(AO11=\"\",\"\",IF(AND(AO11=\"O\",AP11=\"O\",AR11=\"O\",AT11=\"O\",AU11=\"O\"),\"후보\",\"X\"))","v":""}]
["e편한세상장유2차","'18.12",512,86.5,26,63.2,19,49,null,null,null,null,{"$f":"I12-K12","v":0},{"$f":"IF(ISERROR(K12/I12),\"\",K12/I12)","v":""},{"$f":"I12/E12","v":0},{"$f":"K12/E12","v":0},3,2,"계",87,null,null,86.5,26,49,0,{"$f":"K12","v":0},0,"",0,{"$f":"S12","v":"계"},{"$f":"Q12&\"/\"&R12","v":"3/2"},null,"e편한세상장유2차",26,{"$f":"IF(AI12=\"\",\"\",$AJ$2)","v":"A-"},"A","A+","B+",{"$f":"IF(AI12=\"\",\"\",$AN$2)","v":"C"},{"$f":"IF(N12=\"\",\"\",IF(N12>=$AO$1/100,\"O\",\"X\"))","v":""},{"$f":"IF(I12=\"\",\"\",IF(I12<=$AP$1,\"O\",\"X\"))","v":""},{"$f":"IF(O12=\"\",\"\",IF(O12<=$AQ$1,\"O\",\"X\"))","v":"O"},{"$f":"IF(M12=\"\",\"\",IF(M12<=$AR$1,\"O\",\"X\"))","v":"O"},"X",{"$f":"IF(OR(F12=\"\",AI12=\"\"),\"\",IF(AND((F12<=85),(AI12>=15)),\"O\",\"X\"))","v":"O"},{"$f":"IF(C12=\"\",\"\",IF(C12>=$AU$1,\"O\",\"X\"))","v":"O"},{"$f":"IF(AO12=\"\",\"\",IF(AND(AO12=\"O\",AP12=\"O\",AR12=\"O\",AT12=\"O\",AU12=\"O\"),\"후보\",\"X\"))","v":""}]
["e편한세상장유2차","'18.12",512,99,30,74.900000000000006,23,181,null,null,null,null,{"$f":"I13-K13","v":0},{"$f":"IF(ISERROR(K13/I13),\"\",K13/I13)","v":""},{"$f":"I13/E13","v":0},{"$f":"K13/E13","v":0},3,2,"계",103,null,null,99,30,181,0,{"$f":"K13","v":0},0,"",0,{"$f":"S13","v":"계"},{"$f":"Q13&\"/\"&R13","v":"3/2"},null,"e편한세상장유2차",30,{"$f":"IF(AI13=\"\",\"\",$AJ$2)","v":"A-"},"A","A+","B+",{"$f":"IF(AI13=\"\",\"\",$AN$2)","v":"C"},{"$f":"IF(N13=\"\",\"\",IF(N13>=$AO$1/100,\"O\",\"X\"))","v":""},{"$f":"IF(I13=\"\",\"\",IF(I13<=$AP$1,\"O\",\"X\"))","v":""},{"$f":"IF(O13=\"\",\"\",IF(O13<=$AQ$1,\"O\",\"X\"))","v":"O"},{"$f":"IF(M13=\"\",\"\",IF(M13<=$AR$1,\"O\",\"X\"))","v":"O"},"X",{"$f":"IF(OR(F13=\"\",AI13=\"\"),\"\",IF(AND((F13<=85),(AI13>=15)),\"O\",\"X\"))","v":"O"},{"$f":"IF(C13=\"\",\"\",IF(C13>=$AU$1,\"O\",\"X\"))","v":"O"},{"$f":"IF(AO13=\"\",\"\",IF(AND(AO13=\"O\",AP13=\"O\",AR13=\"O\",AT13=\"O\",AU13=\"O\"),\"후보\",\"X\"))","v":""}]
["e편한세상장유2차","'18.12",512,111.3,34,84.9,26,214,null,null,null,null,{"$f":"I14-K14","v":0},{"$f":"IF(ISERROR(K14/I14),\"\",K14/I14)","v":""},{"$f":"I14/E14","v":0},{"$f":"K14/E14","v":0},3,2,"계",68,null,null,111.3,34,214,0,{"$f":"K14","v":0},0,"",0,{"$f":"S14","v":"계"},{"$f":"Q14&\"/\"&R14","v":"3/2"},null,"e편한세상장유2차",34,{"$f":"IF(AI14=\"\",\"\",$AJ$2)","v":"A-"},"A","A+","B+",{"$f":"IF(AI14=\"\",\"\",$AN$2)","v":"C"},{"$f":"IF(N14=\"\",\"\",IF(N14>=$AO$1/100,\"O\",\"X\"))","v":""},{"$f":"IF(I14=\"\",\"\",IF(I14<=$AP$1,\"O\",\"X\"))","v":""},{"$f":"IF(O14=\"\",\"\",IF(O14<=$AQ$1,\"O\",\"X\"))","v":"O"},{"$f":"IF(M14=\"\",\"\",IF(M14<=$AR$1,\"O\",\"X\"))","v":"O"},"X",{"$f":"IF(OR(F14=\"\",AI14=\"\"),\"\",IF(AND((F14<=85),(AI14>=15)),\"O\",\"X\"))","v":"O"},{"$f":"IF(C14=\"\",\"\",IF(C14>=$AU$1,\"O\",\"X\"))","v":"O"},{"$f":"IF(AO14=\"\",\"\",IF(AND(AO14=\"O\",AP14=\"O\",AR14=\"O\",AT14=\"O\",AU14=\"O\"),\"후보\",\"X\"))","v":""}]
[null,null,null,null,null,null,null,null,null,null,null,null,null,null,null,null,null,null,null,null,null,null,{"$f":"$A$4&\" \"&A16&\"(\"&B16&\",\"&C16&\"^)\"","v":"무계동 장유더샵('07.01,242^)"},null,null,null,null,null,null,null,null,null,null,"",""]
["장유더샵","'07.01",242,112.6,34,85,26,210,null,null,null,null,{"$f":"I16-K16","v":0},{"$f":"IF(ISERROR(K16/I16),\"\",K16/I16)","v":""},{"$f":"I16/E16","v":0},{"$f":"K16/E16","v":0},3,2,"계",74,null,null,{"$f":"D16","v":112.6},{"$f":"E16","v":34},{"$f":"H16","v":210},{"$f":"I16","v":0},{"$f":"K16","v":0},{"$f":"M16","v":0},"",0,{"$f":"S16","v":"계"},{"$f":"Q16&\"/\"&R16","v":"3/2"},null,"장유더샵",34,{"$f":"IF(AI16=\"\",\"\",$AJ$2)","v":"A-"},"A","A+","B+",{"$f":"IF(AI16=\"\",\"\",$AN$2)","v":"C"},{"$f":"IF(N16=\"\",\"\",IF(N16>=$AO$1/100,\"O\",\"X\"))","v":""},{"$f":"IF(I16=\"\",\"\",IF(I16<=$AP$1,\"O\",\"X\"))","v":""},{"$f":"IF(O16=\"\",\"\",IF(O16<=$AQ$1,\"O\",\"X\"))","v":"O"},{"$f":"IF(M16=\"\",\"\",IF(M16<=$AR$1,\"O\",\"X\"))","v":"O"},"X",{"$f":"IF(OR(F16=\"\",AI16=\"\"),\"\",IF(AND((F16<=85),(AI16>=15)),\"O\",\"X\"))","v":"O"},{"$f":"IF(C16=\"\",\"\",IF(C16>=$AU$1,\"O\",\"X\"))","v":"X"},{"$f":"IF(AO16=\"\",\"\",IF(AND(AO16=\"O\",AP16=\"O\",AR16=\"O\",AT16=\"O\",AU16=\"O\"),\"후보\",\"X\"))","v":""}]
["장유더샵","'07.01",242,112.6,34,85,26,32,null,null,null,null,{"$f":"I17-K17","v":0},{"$f":"IF(ISERROR(K17/I17),\"\",K17/I17)","v":""},{"$f":"I17/E17","v":0},{"$f":"K17/E17","v":0},3,2,"계",78,null,null,{"$f":"D17","v":112.6},{"$f":"E17","v":34},{"$f":"H17","v":32},{"$f":"I17","v":0},{"$f":"K17","v":0},0,"",0,{"$f":"S17","v":"계"},{"$f":"Q17&\"/\"&R17","v":"3/2"},null,"장유더샵",34,{"$f":"IF(AI17=\"\",\"\",$AJ$2)","v":"A-"},"A","A+","B+",{"$f":"IF(AI17=\"\",\"\",$AN$2)","v":"C"},{"$f":"IF(N17=\"\",\"\",IF(N17>=$AO$1/100,\"O\",\"X\"))","v":""},{"$f":"IF(I17=\"\",\"\",IF(I17<=$AP$1,\"O\",\"X\"))","v":""},{"$f":"IF(O17=\"\",\"\",IF(O17<=$AQ$1,\"O\",\"X\"))","v":"O"},{"$f":"IF(M17=\"\",\"\",IF(M17<=$AR$1,\"O\",\"X\"))","v":"O"},"X",{"$f":"IF(OR(F17=\"\",AI17=\"\"),\"\",IF(AND((F17<=85),(AI17>=15)),\"O\",\"X\"))","v":"O"},{"$f":"IF(C17=\"\",\"\",IF(C17>=$AU$1,\"O\",\"X\"))","v":"X"},{"$f":"IF(AO17=\"\",\"\",IF(AND(AO17=\"O\",AP17=\"O\",AR17=\"O\",AT17=\"O\",AU17=\"O\"),\"후보\",\"X\"))","v":""}]

{"sheet":"송정동","index":11,"n_rows":20,"n_cols":48,"rows_kept":20,"cut":false,"hidden":false,"merged":[[0,35,0,39]]}
[{"$f":"단지추출!A1","v":"구미시"},null,null,null,null,null,null,null,"추출대상",null,null,null,null,null,null,null,null,null,null,null,null,null,null,"매매가 최대(색상 최대)",null,null,{"$f":"단지추출!AA1","v":70000},null,null,null,null,null,null,{"$f":"A1","v":"구미시"},null,{"$f":"A1&\" 전체 등급\"","v":"구미시 전체 등급"},null,null,null,null,{"$f":"단지추출!AO1","v":80},{"$f":"단지추출!AP1","v":45000},{"$f":"단지추출!AQ1","v":1000},{"$f":"단지추출!AR1","v":6000},null,null,{"$f":"단지추출!AU1","v":300}]
[{"$f":"단지추출!A2","v":"2022-01-01"},null,null,null,null,null,null,null,null,null,null,null,null,null,null,null,null,null,null,null,null,null,null,"매매가 최소(색상 최소)",null,null,{"$f":"단지추출!AA2","v":10000},null,null,null,null,null,null,{"$f":"AH1 &\" \" &A4","v":"구미시 봉황동"},null,{"$f":"단지추출!AJ2","v":"A-"},{"$f":"단지추출!AK2","v":"A"},{"$f":"단지추출!AL2","v":"A"},{"$f":"단지추출!AM2","v":"A"},{"$f":"단지추출!AN2","v":"C"},"원금보전",null,null,"수익성",null,"환금성"]
["단지명","입주\n연도","총세\n대수","공급\n(m2)","공급\n면적","전용\n(m2)","전용\n면적","세대","매매\n최저가","층","전세\n최고가","층","매전갭","전세\n가율","매매\n평단","전세\n평단","방","욕\n실","구\n조","매/전/월\nType","비고",null,"공급\n(m2)","공급\n면적","세대","매매가","전세가","매전갭","전세\n가율","평단가","구\n조","방/\n욕실",null,{"$f":"IF(A3=\"\",\"\",A3)","v":"단지명"},{"$f":"IF(E3=\"\",\"\",E3)","v":"공급\n면적"},"직장","교통","학군","환경","공급",{"$f":"\"전세가율★\n(\"&AO1&\"%↑)\"","v":"전세가율★\n(80%↑)"},{"$f":"\"절대가★\n(\"&AP1/10000&\"억↓)\"","v":"절대가★\n(4.5억↓)"},{"$f":"\"지역평단가\n(\"&AQ1&\"↓)\"","v":"지역평단가\n(1000↓)"},{"$f":"\"투자규모★\n(갭\"&AR1/1000&\"천↓)\"","v":"투자규모★\n(갭6천↓)"},"전고점\n이하","평형★\n(15~34평)",{"$f":"\"단지규모★\n(\"&AU1&\"^↑)\"","v":"단지규모★\n(300^↑)"},"투자후보"]
["봉황동",null,null,null,null,null,null,null,null,null,null,null,null,null,null,null,null,null,null,null,null,null,null,null,null,null,null,null,null,null,null,null,null,null,""]
[null,null,null,null,null,null,null,null,null,null,null,null,null,null,null,null,null,null,null,null,null,null,{"$f":"$A$4&\" \"&A6&\"(\"&B6&\",\"&C6&\"^)\"","v":"봉황동 e편한세상봉황역('17.06,936^)"},null,null,null,null,null,null,null,null,null,null,{"$f":"IF(A5=\"\",\"\",A5)","v":""},""]
["e편한세상봉황역","'17.06",936,81.7,25,59.9,18,34,null,null,null,null,{"$f":"I6-K6","v":0},{"$f":"IF(ISERROR(K6/I6),\"\",K6/I6)","v":""},{"$f":"I6/E6","v":0},{"$f":"K6/E6","v":0},3,2,"계","81D",null,null,{"$f":"D6","v":81.7},{"$f":"E6","v":25},{"$f":"H6","v":34},{"$f":"I6","v":0},{"$f":"K6","v":0},{"$f":"M6","v":0},{"$f":"N6","v":""},{"$f":"O6","v":0},{"$f":"S6","v":"계"},{"$f":"Q6&\"/\"&R6","v":"3/2"},null,"e편한세상봉황역",25,{"$f":"IF(AI6=\"\",\"\",$AJ$2)","v":"A-"},"A","A+","B+",{"$f":"IF(AI6=\"\",\"\",$AN$2)","v":"C"},{"$f":"IF(N6=\"\",\"\",IF(N6>=$AO$1/100,\"O\",\"X\"))","v":""},{"$f":"IF(I6=\"\",\"\",IF(I6<=$AP$1,\"O\",\"X\"))","v":""},{"$f":"IF(O6=\"\",\"\",IF(O6<=$AQ$1,\"O\",\"X\"))","v":"O"},{"$f":"IF(M6=\"\",\"\",IF(M6<=$AR$1,\"O\",\"X\"))","v":"O"},"X",{"$f":"IF(OR(F6=\"\",AI6=\"\"),\"\",IF(AND((F6<=85),(AI6>=15)),\"O\",\"X\"))","v":"O"},{"$f":"IF(C6=\"\",\"\",IF(C6>=$AU$1,\"O\",\"X\"))","v":"O"},{"$f":"IF(AO6=\"\",\"\",IF(AND(AO6=\"O\",AP6=\"O\",AR6=\"O\",AT6=\"O\",AU6=\"O\"),\"후보\",\"X\"))","v":""}]
["e편한세상봉황역","'17.06",936,81.8,25,60,18,95,null,null,null,null,0,"",0,0,3,2,"계","81C",null,null,81.8,25,95,0,0,0,"",0,"계","3/2",null,"e편한세상봉황역",25,"A-","A","A+","B+","C","","","O","O","X","O","O",""]
["e편한세상봉황역","'17.06",936,81.900000000000006,25,60,18,64,null,null,null,null,0,"",0,0,3,2,"계","81B",null,null,81.900000000000006,25,64,0,0,0,"",0,"계","3/2",null,"e편한세상봉황역",25,"A-","A","A+","B+","C","","","O","O","X","O","O",""]
["e편한세상봉황역","'17.06",936,82.3,25,60,18,66,null,null,null,null,0,"",0,0,3,2,"계","82A",null,null,82.3,25,66,0,0,0,"",0,"계","3/2",null,"e편한세상봉황역",25,"A-","A","A+","B+","C","","","O","O","X","O","O",""]
["e편한세상봉황역","'17.06",936,100.7,31,73.900000000000006,22,98,null,null,null,null,0,"",0,0,3,2,"계",100,null,null,100.7,31,98,0,0,0,"",0,"계","3/2",null,"e편한세상봉황역",31,"A-","A","A+","B+","C","","","O","O","X","O","O",""]
["e편한세상봉황역","'17.06",936,114.2,35,84.8,26,149,null,null,null,null,0,"",0,0,3,2,"계","114C",null,null,114.2,35,149,0,0,0,"",0,"계","3/2",null,"e편한세상봉황역",35,"A-","A","A+","B+","C","","","O","O","X","O","O",""]
["e편한세상봉황역","'17.06",936,114.6,35,84.7,26,123,null,null,null,null,0,"",0,0,3,2,"계","114B",null,null,114.6,35,123,0,0,0,"",0,"계","3/2",null,"e편한세상봉황역",35,"A-","A","A+","B+","C","","","O","O","X","O","O",""]
["e편한세상봉황역","'17.06",936,115,35,84.5,26,123,null,null,null,null,0,"",0,0,3,2,"계","114D",null,null,115,35,123,0,0,0,"",0,"계","3/2",null,"e편한세상봉황역",35,"A-","A","A+","B+","C","","","O","O","X","O","O",""]
["e편한세상봉황역","'17.06",936,115.5,35,84.7,26,120,null,null,null,null,0,"",0,0,3,2,"계","115A",null,null,115.5,35,120,0,0,0,"",0,"계","3/2",null,"e편한세상봉황역",35,"A-","A","A+","B+","C","","","O","O","X","O","O",""]
["e편한세상봉황역","'17.06",936,114.5,35,84.8,26,56,null,null,null,null,0,"",0,0,3,2,"계","114E",null,null,114.5,35,56,0,0,0,"",0,"계","3/2",null,"e편한세상봉황역",35,"A-","A","A+","B+","C","","","O","O","X","O","O",""]
["e편한세상봉황역","'17.06",936,176.5,53,128.30000000000001,39,1,null,null,null,null,0,"",0,0,4,2,"계",176,null,null,176.5,53,1,0,0,0,"",0,"계","4/2",null,"e편한세상봉황역",53,"A-","A","A+","B+","C","","","O","O","X","X","O",""]
["e편한세상봉황역","'17.06",936,179.7,54,131.19999999999999,40,2,null,null,null,null,0,"",0,0,4,2,"계",179,null,null,179.7,54,2,0,0,0,"",0,"계","4/2",null,"e편한세상봉황역",54,"A-","A","A+","B+","C","","","O","O","X","X","O",""]
["e편한세상봉황역","'17.06",936,198.8,60,145.5,44,2,null,null,null,null,0,"",0,0,4,2,"계",198,null,null,198.8,60,2,0,0,0,"",0,"계","4/2",null,"e편한세상봉황역",60,"A-","A","A+","B+","C","","","O","O","X","X","O",""]
["e편한세상봉황역","'17.06",936,205.5,62,151,46,2,null,null,null,null,0,"",0,0,4,2,"계",205,null,null,205.5,62,2,0,0,0,"",0,"계","4/2",null,"e편한세상봉황역",62,"A-","A","A+","B+","C","","","O","O","X","X","O",""]
["e편한세상봉황역","'17.06",936,210.8,64,154.80000000000001,47,1,null,null,null,null,0,"",0,0,4,2,"계",210,null,null,210.8,64,1,0,0,0,"",0,"계","4/2",null,"e편한세상봉황역",64,"A-","A","A+","B+","C","","","O","O","X","X","O",""]

{"sheet":"형곡동","index":12,"n_rows":60,"n_cols":48,"rows_kept":60,"cut":false,"hidden":false,"merged":[[0,35,0,39]]}
[{"$f":"단지추출!A1","v":"구미시"},null,null,null,null,null,null,null,"추출대상",null,null,null,null,null,null,null,null,null,null,null,null,null,null,"매매가 최대(색상 최대)",null,null,{"$f":"단지추출!AA1","v":70000},null,null,null,null,null,null,{"$f":"A1","v":"구미시"},null,{"$f":"A1&\" 전체 등급\"","v":"구미시 전체 등급"},null,null,null,null,{"$f":"단지추출!AO1","v":80},{"$f":"단지추출!AP1","v":45000},{"$f":"단지추출!AQ1","v":1000},{"$f":"단지추출!AR1","v":6000},null,null,{"$f":"단지추출!AU1","v":300}]
[{"$f":"단지추출!A2","v":"2022-01-01"},null,null,null,null,null,null,null,null,null,null,null,null,null,null,null,null,null,null,null,null,null,null,"매매가 최소(색상 최소)",null,null,{"$f":"단지추출!AA2","v":10000},null,null,null,null,null,null,{"$f":"AH1 &\" \" &A4","v":"구미시 부곡동"},null,{"$f":"단지추출!AJ2","v":"A-"},{"$f":"단지추출!AK2","v":"A"},{"$f":"단지추출!AL2","v":"A"},{"$f":"단지추출!AM2","v":"A"},{"$f":"단지추출!AN2","v":"C"},"원금보전",null,null,"수익성",null,"환금성"]
["단지명","입주\n연도","총세\n대수","공급\n(m2)","공급\n면적","전용\n(m2)","전용\n면적","세대","매매\n최저가","층","전세\n최고가","층","매전갭","전세\n가율","매매\n평단","전세\n평단","방","욕\n실","구\n조","매/전/월\nType","비고",null,"공급\n(m2)","공급\n면적","세대","매매가","전세가","매전갭","전세\n가율","평단가","구\n조","방/\n욕실",null,{"$f":"IF(A3=\"\",\"\",A3)","v":"단지명"},{"$f":"IF(E3=\"\",\"\",E3)","v":"공급\n면적"},"직장","교통","학군","환경","공급",{"$f":"\"전세가율★\n(\"&AO1&\"%↑)\"","v":"전세가율★\n(80%↑)"},{"$f":"\"절대가★\n(\"&AP1/10000&\"억↓)\"","v":"절대가★\n(4.5억↓)"},{"$f":"\"지역평단가\n(\"&AQ1&\"↓)\"","v":"지역평단가\n(1000↓)"},{"$f":"\"투자규모★\n(갭\"&AR1/1000&\"천↓)\"","v":"투자규모★\n(갭6천↓)"},"전고점\n이하","평형★\n(15~34평)",{"$f":"\"단지규모★\n(\"&AU1&\"^↑)\"","v":"단지규모★\n(300^↑)"},"투자후보"]
["부곡동",null,null,null,null,null,null,null,null,null,null,null,null,null,null,null,null,null,null,null,null,null,null,null,null,null,null,null,null,null,null,null,null,null,""]
[null,null,null,null,null,null,null,null,null,null,null,null,null,null,null,null,null,null,null,null,null,null,{"$f":"$A$4&\" \"&A6&\"(\"&B6&\",\"&C6&\"^)\"","v":"부곡동 석봉마을4단지부영('04.02,1010^)"},null,null,null,null,null,null,null,null,null,null,{"$f":"IF(A5=\"\",\"\",A5)","v":""},""]
["석봉마을4단지부영","'04.02",1010,100.9,31,80.900000000000006,25,1010,null,null,null,null,{"$f":"I6-K6","v":0},{"$f":"IF(ISERROR(K6/I6),\"\",K6/I6)","v":""},{"$f":"I6/E6","v":0},{"$f":"K6/E6","v":0},3,2,"계","120C",null,null,{"$f":"D6","v":100.9},{"$f":"E6","v":31},{"$f":"H6","v":1010},{"$f":"I6","v":0},{"$f":"K6","v":0},{"$f":"M6","v":0},{"$f":"N6","v":""},{"$f":"O6","v":0},{"$f":"S6","v":"계"},{"$f":"Q6&\"/\"&R6","v":"3/2"},null,"석봉마을4단지부영",31,{"$f":"IF(AI6=\"\",\"\",$AJ$2)","v":"A-"},"A","A+","B+",{"$f":"IF(AI6=\"\",\"\",$AN$2)","v":"C"},{"$f":"IF(N6=\"\",\"\",IF(N6>=$AO$1/100,\"O\",\"X\"))","v":""},{"$f":"IF(I6=\"\",\"\",IF(I6<=$AP$1,\"O\",\"X\"))","v":""},{"$f":"IF(O6=\"\",\"\",IF(O6<=$AQ$1,\"O\",\"X\"))","v":"O"},{"$f":"IF(M6=\"\",\"\",IF(M6<=$AR$1,\"O\",\"X\"))","v":"O"},"X",{"$f":"IF(OR(F6=\"\",AI6=\"\"),\"\",IF(AND((F6<=85),(AI6>=15)),\"O\",\"X\"))","v":"O"},{"$f":"IF(C6=\"\",\"\",IF(C6>=$AU$1,\"O\",\"X\"))","v":"O"},{"$f":"IF(AO6=\"\",\"\",IF(AND(AO6=\"O\",AP6=\"O\",AR6=\"O\",AT6=\"O\",AU6=\"O\"),\"후보\",\"X\"))","v":""}]
[null,null,null,null,null,null,null,null,null,null,null,null,null,null,null,null,null,null,null,null,null,null,{"$f":"$A$4&\" \"&A8&\"(\"&B8&\",\"&C8&\"^)\"","v":"부곡동 석봉마을7단지부영('04.02,808^)"},null,null,null,null,null,null,null,null,null,null,"",""]
["석봉마을7단지부영","'04.02",808,101.1,31,80.900000000000006,25,808,null,null,null,null,{"$f":"I8-K8","v":0},{"$f":"IF(ISERROR(K8/I8),\"\",K8/I8)","v":""},{"$f":"I8/E8","v":0},{"$f":"K8/E8","v":0},3,2,"합",63,null,null,{"$f":"D8","v":101.1},{"$f":"E8","v":31},{"$f":"H8","v":808},{"$f":"I8","v":0},{"$f":"K8","v":0},{"$f":"M8","v":0},{"$f":"N8","v":""},{"$f":"O8","v":0},{"$f":"S8","v":"합"},{"$f":"Q8&\"/\"&R8","v":"3/2"},null,"석봉마을7단지부영",31,{"$f":"IF(AI8=\"\",\"\",$AJ$2)","v":"A-"},"A","A+","B+",{"$f":"IF(AI8=\"\",\"\",$AN$2)","v":"C"},{"$f":"IF(N8=\"\",\"\",IF(N8>=$AO$1/100,\"O\",\"X\"))","v":""},{"$f":"IF(I8=\"\",\"\",IF(I8<=$AP$1,\"O\",\"X\"))","v":""},{"$f":"IF(O8=\"\",\"\",IF(O8<=$AQ$1,\"O\",\"X\"))","v":"O"},{"$f":"IF(M8=\"\",\"\",IF(M8<=$AR$1,\"O\",\"X\"))","v":"O"},"X",{"$f":"IF(OR(F8=\"\",AI8=\"\"),\"\",IF(AND((F8<=85),(AI8>=15)),\"O\",\"X\"))","v":"O"},{"$f":"IF(C8=\"\",\"\",IF(C8>=$AU$1,\"O\",\"X\"))","v":"O"},{"$f":"IF(AO8=\"\",\"\",IF(AND(AO8=\"O\",AP8=\"O\",AR8=\"O\",AT8=\"O\",AU8=\"O\"),\"후보\",\"X\"))","v":""}]
[null,null,null,null,null,null,null,null,null,null,null,null,null,null,null,null,null,null,null,null,null,null,{"$f":"$A$4&\" \"&A10&\"(\"&B10&\",\"&C10&\"^)\"","v":"부곡동 월산마을1단지부영('02.09,734^)"},null,null,null,null,null,null,null,null,null,null,"",""]
["월산마을1단지부영","'02.09",734,70,21,47.4,14,734,null,null,null,null,{"$f":"I10-K10","v":0},{"$f":"IF(ISERROR(K10/I10),\"\",K10/I10)","v":""},{"$f":"I10/E10","v":0},{"$f":"K10/E10","v":0},2,1,"복",79,null,null,{"$f":"D10","v":70},{"$f":"E10","v":21},{"$f":"H10","v":734},{"$f":"I10","v":0},{"$f":"K10","v":0},{"$f":"M10","v":0},{"$f":"N10","v":""},{"$f":"O10","v":0},{"$f":"S10","v":"복"},{"$f":"Q10&\"/\"&R10","v":"2/1"},null,"월산마을1단지부영",21,{"$f":"IF(AI10=\"\",\"\",$AJ$2)","v":"A-"},"A","A+","B+",{"$f":"IF(AI10=\"\",\"\",$AN$2)","v":"C"},{"$f":"IF(N10=\"\",\"\",IF(N10>=$AO$1/100,\"O\",\"X\"))","v":""},{"$f":"IF(I10=\"\",\"\",IF(I10<=$AP$1,\"O\",\"X\"))","v":""},{"$f":"IF(O10=\"\",\"\",IF(O10<=$AQ$1,\"O\",\"X\"))","v":"O"},{"$f":"IF(M10=\"\",\"\",IF(M10<=$AR$1,\"O\",\"X\"))","v":"O"},"X",{"$f":"IF(OR(F10=\"\",AI10=\"\"),\"\",IF(AND((F10<=85),(AI10>=15)),\"O\",\"X\"))","v":"O"},{"$f":"IF(C10=\"\",\"\",IF(C10>=$AU$1,\"O\",\"X\"))","v":"O"},{"$f":"IF(AO10=\"\",\"\",IF(AND(AO10=\"O\",AP10=\"O\",AR10=\"O\",AT10=\"O\",AU10=\"O\"),\"후보\",\"X\"))","v":""}]
[null,null,null,null,null,null,null,null,null,null,null,null,null,null,null,null,null,null,null,null,null,null,{"$f":"$A$4&\" \"&A12&\"(\"&B12&\",\"&C12&\"^)\"","v":"부곡동 월산마을3단지부영('02.1,680^)"},null,null,null,null,null,null,null,null,null,null,"",""]
["월산마을3단지부영","'02.1",680,102.6,31,80.7,24,680,null,null,null,null,{"$f":"I12-K12","v":0},{"$f":"IF(ISERROR(K12/I12),\"\",K12/I12)","v":""},{"$f":"I12/E12","v":0},{"$f":"K12/E12","v":0},3,2,"계",99,null,null,{"$f":"D12","v":102.6},{"$f":"E12","v":31},{"$f":"H12","v":680},{"$f":"I12","v":0},{"$f":"K12","v":0},{"$f":"M12","v":0},{"$f":"N12","v":""},{"$f":"O12","v":0},{"$f":"S12","v":"계"},{"$f":"Q12&\"/\"&R12","v":"3/2"},null,"월산마을3단지부영",31,{"$f":"IF(AI12=\"\",\"\",$AJ$2)","v":"A-"},"A","A+","B+",{"$f":"IF(AI12=\"\",\"\",$AN$2)","v":"C"},{"$f":"IF(N12=\"\",\"\",IF(N12>=$AO$1/100,\"O\",\"X\"))","v":""},{"$f":"IF(I12=\"\",\"\",IF(I12<=$AP$1,\"O\",\"X\"))","v":""},{"$f":"IF(O12=\"\",\"\",IF(O12<=$AQ$1,\"O\",\"X\"))","v":"O"},{"$f":"IF(M12=\"\",\"\",IF(M12<=$AR$1,\"O\",\"X\"))","v":"O"},"X",{"$f":"IF(OR(F12=\"\",AI12=\"\"),\"\",IF(AND((F12<=85),(AI12>=15)),\"O\",\"X\"))","v":"O"},{"$f":"IF(C12=\"\",\"\",IF(C12>=$AU$1,\"O\",\"X\"))","v":"O"},{"$f":"IF(AO12=\"\",\"\",IF(AND(AO12=\"O\",AP12=\"O\",AR12=\"O\",AT12=\"O\",AU12=\"O\"),\"후보\",\"X\"))","v":""}]
[null,null,null,null,null,null,null,null,null,null,null,null,null,null,null,null,null,null,null,null,null,null,{"$f":"$A$4&\" \"&A14&\"(\"&B14&\",\"&C14&\"^)\"","v":"부곡동 석봉마을8단지부영('03.09,660^)"},null,null,null,null,null,null,null,null,null,null,"",""]
["석봉마을8단지부영","'03.09",660,77.400000000000006,23,60,18,660,null,null,null,null,{"$f":"I14-K14","v":0},{"$f":"IF(ISERROR(K14/I14),\"\",K14/I14)","v":""},{"$f":"I14/E14","v":0},{"$f":"K14/E14","v":0},3,2,"계",113,null,null,{"$f":"D14","v":77.400000000000006},{"$f":"E14","v":23},{"$f":"H14","v":660},{"$f":"I14","v":0},{"$f":"K14","v":0},{"$f":"M14","v":0},{"$f":"N14","v":""},{"$f":"O14","v":0},{"$f":"S14","v":"계"},{"$f":"Q14&\"/\"&R14","v":"3/2"},null,"석봉마을8단지부영",23,{"$f":"IF(AI14=\"\",\"\",$AJ$2)","v":"A-"},"A","A+","B+",{"$f":"IF(AI14=\"\",\"\",$AN$2)","v":"C"},{"$f":"IF(N14=\"\",\"\",IF(N14>=$AO$1/100,\"O\",\"X\"))","v":""},{"$f":"IF(I14=\"\",\"\",IF(I14<=$AP$1,\"O\",\"X\"))","v":""},{"$f":"IF(O14=\"\",\"\",IF(O14<=$AQ$1,\"O\",\"X\"))","v":"O"},{"$f":"IF(M14=\"\",\"\",IF(M14<=$AR$1,\"O\",\"X\"))","v":"O"},"X",{"$f":"IF(OR(F14=\"\",AI14=\"\"),\"\",IF(AND((F14<=85),(AI14>=15)),\"O\",\"X\"))","v":"O"},{"$f":"IF(C14=\"\",\"\",IF(C14>=$AU$1,\"O\",\"X\"))","v":"O"},{"$f":"IF(AO14=\"\",\"\",IF(AND(AO14=\"O\",AP14=\"O\",AR14=\"O\",AT14=\"O\",AU14=\"O\"),\"후보\",\"X\"))","v":""}]
[null,null,null,null,null,null,null,null,null,null,null,null,null,null,null,null,null,null,null,null,null,null,{"$f":"$A$4&\" \"&A16&\"(\"&B16&\",\"&C16&\"^)\"","v":"부곡동 석봉대동2단지('00.07,594^)"},null,null,null,null,null,null,null,null,null,null,"",""]
["석봉대동2단지","'00.07",594,89.8,27,73.2,22,152,null,null,null,null,{"$f":"I16-K16","v":0},{"$f":"IF(ISERROR(K16/I16),\"\",K16/I16)","v":""},{"$f":"I16/E16","v":0},{"$f":"K16/E16","v":0},3,2,"계",97,null,null,{"$f":"D16","v":89.8},27,{"$f":"H16","v":152},0,{"$f":"K16","v":0},{"$f":"M16","v":0},"",0,{"$f":"S16","v":"계"},{"$f":"Q16&\"/\"&R16","v":"3/2"},null,"석봉대동2단지",27,{"$f":"IF(AI16=\"\",\"\",$AJ$2)","v":"A-"},"A","A+","B+",{"$f":"IF(AI16=\"\",\"\",$AN$2)","v":"C"},{"$f":"IF(N16=\"\",\"\",IF(N16>=$AO$1/100,\"O\",\"X\"))","v":""},{"$f":"IF(I16=\"\",\"\",IF(I16<=$AP$1,\"O\",\"X\"))","v":""},{"$f":"IF(O16=\"\",\"\",IF(O16<=$AQ$1,\"O\",\"X\"))","v":"O"},{"$f":"IF(M16=\"\",\"\",IF(M16<=$AR$1,\"O\",\"X\"))","v":"O"},"X",{"$f":"IF(OR(F16=\"\",AI16=\"\"),\"\",IF(AND((F16<=85),(AI16>=15)),\"O\",\"X\"))","v":"O"},{"$f":"IF(C16=\"\",\"\",IF(C16>=$AU$1,\"O\",\"X\"))","v":"O"},{"$f":"IF(AO16=\"\",\"\",IF(AND(AO16=\"O\",AP16=\"O\",AR16=\"O\",AT16=\"O\",AU16=\"O\"),\"후보\",\"X\"))","v":""}]
["석봉대동2단지","'00.07",594,101.1,31,84.8,26,192,null,null,null,null,{"$f":"I17-K17","v":0},{"$f":"IF(ISERROR(K17/I17),\"\",K17/I17)","v":""},{"$f":"I17/E17","v":0},{"$f":"K17/E17","v":0},3,2,"계",114,null,null,101.1,31,192,0,{"$f":"K17","v":0},0,"",0,{"$f":"S17","v":"계"},{"$f":"Q17&\"/\"&R17","v":"3/2"},null,"석봉대동2단지",31,{"$f":"IF(AI17=\"\",\"\",$AJ$2)","v":"A-"},"A","A+","B+",{"$f":"IF(AI17=\"\",\"\",$AN$2)","v":"C"},{"$f":"IF(N17=\"\",\"\",IF(N17>=$AO$1/100,\"O\",\"X\"))","v":""},{"$f":"IF(I17=\"\",\"\",IF(I17<=$AP$1,\"O\",\"X\"))","v":""},{"$f":"IF(O17=\"\",\"\",IF(O17<=$AQ$1,\"O\",\"X\"))","v":"O"},{"$f":"IF(M17=\"\",\"\",IF(M17<=$AR$1,\"O\",\"X\"))","v":"O"},"X",{"$f":"IF(OR(F17=\"\",AI17=\"\"),\"\",IF(AND((F17<=85),(AI17>=15)),\"O\",\"X\"))","v":"O"},{"$f":"IF(C17=\"\",\"\",IF(C17>=$AU$1,\"O\",\"X\"))","v":"O"},{"$f":"IF(AO17=\"\",\"\",IF(AND(AO17=\"O\",AP17=\"O\",AR17=\"O\",AT17=\"O\",AU17=\"O\"),\"후보\",\"X\"))","v":""}]
["석봉대동2단지","'00.07",594,101.1,31,84.8,26,250,null,null,null,null,{"$f":"I18-K18","v":0},{"$f":"IF(ISERROR(K18/I18),\"\",K18/I18)","v":""},{"$f":"I18/E18","v":0},{"$f":"K18/E18","v":0},3,2,"계",125,null,null,101.1,31,250,0,{"$f":"K18","v":0},0,"",0,{"$f":"S18","v":"계"},{"$f":"Q18&\"/\"&R18","v":"3/2"},null,"석봉대동2단지",31,{"$f":"IF(AI18=\"\",\"\",$AJ$2)","v":"A-"},"A","A+","B+",{"$f":"IF(AI18=\"\",\"\",$AN$2)","v":"C"},{"$f":"IF(N18=\"\",\"\",IF(N18>=$AO$1/100,\"O\",\"X\"))","v":""},{"$f":"IF(I18=\"\",\"\",IF(I18<=$AP$1,\"O\",\"X\"))","v":""},{"$f":"IF(O18=\"\",\"\",IF(O18<=$AQ$1,\"O\",\"X\"))","v":"O"},{"$f":"IF(M18=\"\",\"\",IF(M18<=$AR$1,\"O\",\"X\"))","v":"O"},"X",{"$f":"IF(OR(F18=\"\",AI18=\"\"),\"\",IF(AND((F18<=85),(AI18>=15)),\"O\",\"X\"))","v":"O"},{"$f":"IF(C18=\"\",\"\",IF(C18>=$AU$1,\"O\",\"X\"))","v":"O"},{"$f":"IF(AO18=\"\",\"\",IF(AND(AO18=\"O\",AP18=\"O\",AR18=\"O\",AT18=\"O\",AU18=\"O\"),\"후보\",\"X\"))","v":""}]
[null,null,null,null,null,null,null,null,null,null,null,null,null,null,null,null,null,null,null,null,null,null,{"$f":"$A$4&\" \"&A20&\"(\"&B20&\",\"&C20&\"^)\"","v":"부곡동 월산마을6단지부영('01.12,576^)"},null,null,null,null,null,null,null,null,null,null,"",""]
["월산마을6단지부영","'01.12",576,102.5,31,80.7,24,576,null,null,null,null,{"$f":"I20-K20","v":0},{"$f":"IF(ISERROR(K20/I20),\"\",K20/I20)","v":""},{"$f":"I20/E20","v":0},{"$f":"K20/E20","v":0},3,2,"계",155,null,null,{"$f":"D20","v":102.5},{"$f":"E20","v":31},{"$f":"H20","v":576},{"$f":"I20","v":0},{"$f":"K20","v":0},{"$f":"M20","v":0},{"$f":"N20","v":""},{"$f":"O20","v":0},{"$f":"S20","v":"계"},{"$f":"Q20&\"/\"&R20","v":"3/2"},null,"월산마을6단지부영",31,{"$f":"IF(AI20=\"\",\"\",$AJ$2)","v":"A-"},"A","A+","B+",{"$f":"IF(AI20=\"\",\"\",$AN$2)","v":"C"},{"$f":"IF(N20=\"\",\"\",IF(N20>=$AO$1/100,\"O\",\"X\"))","v":""},{"$f":"IF(I20=\"\",\"\",IF(I20<=$AP$1,\"O\",\"X\"))","v":""},{"$f":"IF(O20=\"\",\"\",IF(O20<=$AQ$1,\"O\",\"X\"))","v":"O"},{"$f":"IF(M20=\"\",\"\",IF(M20<=$AR$1,\"O\",\"X\"))","v":"O"},"X",{"$f":"IF(OR(F20=\"\",AI20=\"\"),\"\",IF(AND((F20<=85),(AI20>=15)),\"O\",\"X\"))","v":"O"},{"$f":"IF(C20=\"\",\"\",IF(C20>=$AU$1,\"O\",\"X\"))","v":"O"},{"$f":"IF(AO20=\"\",\"\",IF(AND(AO20=\"O\",AP20=\"O\",AR20=\"O\",AT20=\"O\",AU20=\"O\"),\"후보\",\"X\"))","v":""}]
[null,null,null,null,null,null,null,null,null,null,null,null,null,null,null,null,null,null,null,null,null,null,{"$f":"$A$4&\" \"&A22&\"(\"&B22&\",\"&C22&\"^)\"","v":"부곡동 월산마을8단지부영('04.02,570^)"},null,null,null,null,null,null,null,null,null,null,"",""]
["월산마을8단지부영","'04.02",570,100.6,30,80.900000000000006,25,570,null,null,null,null,{"$f":"I22-K22","v":0},{"$f":"IF(ISERROR(K22/I22),\"\",K22/I22)","v":""},{"$f":"I22/E22","v":0},{"$f":"K22/E22","v":0},3,2,"합",125,null,null,{"$f":"D22","v":100.6},{"$f":"E22","v":30},{"$f":"H22","v":570},{"$f":"I22","v":0},{"$f":"K22","v":0},{"$f":"M22","v":0},{"$f":"N22","v":""},{"$f":"O22","v":0},{"$f":"S22","v":"합"},{"$f":"Q22&\"/\"&R22","v":"3/2"},null,"월산마을8단지부영",30,{"$f":"IF(AI22=\"\",\"\",$AJ$2)","v":"A-"},"A","A+","B+",{"$f":"IF(AI22=\"\",\"\",$AN$2)","v":"C"},{"$f":"IF(N22=\"\",\"\",IF(N22>=$AO$1/100,\"O\",\"X\"))","v":""},{"$f":"IF(I22=\"\",\"\",IF(I22<=$AP$1,\"O\",\"X\"))","v":""},{"$f":"IF(O22=\"\",\"\",IF(O22<=$AQ$1,\"O\",\"X\"))","v":"O"},{"$f":"IF(M22=\"\",\"\",IF(M22<=$AR$1,\"O\",\"X\"))","v":"O"},"X",{"$f":"IF(OR(F22=\"\",AI22=\"\"),\"\",IF(AND((F22<=85),(AI22>=15)),\"O\",\"X\"))","v":"O"},{"$f":"IF(C22=\"\",\"\",IF(C22>=$AU$1,\"O\",\"X\"))","v":"O"},{"$f":"IF(AO22=\"\",\"\",IF(AND(AO22=\"O\",AP22=\"O\",AR22=\"O\",AT22=\"O\",AU22=\"O\"),\"후보\",\"X\"))","v":""}]
[null,null,null,null,null,null,null,null,null,null,null,null,null,null,null,null,null,null,null,null,null,null,{"$f":"$A$4&\" \"&A24&\"(\"&B24&\",\"&C24&\"^)\"","v":"부곡동 월산마을7단지주공('04.03,556^)"},null,null,null,null,null,null,null,null,null,null,"",""]
["월산마을7단지주공","'04.03",556,63.6,19,47.6,14,2,null,null,null,null,{"$f":"I24-K24","v":0},{"$f":"IF(ISERROR(K24/I24),\"\",K24/I24)","v":""},{"$f":"I24/E24","v":0},{"$f":"K24/E24","v":0},2,1,"계",155,null,null,{"$f":"D24","v":63.6},19,{"$f":"H24","v":2},0,{"$f":"K24","v":0},{"$f":"M24","v":0},"",0,{"$f":"S24","v":"계"},{"$f":"Q24&\"/\"&R24","v":"2/1"},null,"월산마을7단지주공",19,{"$f":"IF(AI24=\"\",\"\",$AJ$2)","v":"A-"},"A","A+","B+",{"$f":"IF(AI24=\"\",\"\",$AN$2)","v":"C"},{"$f":"IF(N24=\"\",\"\",IF(N24>=$AO$1/100,\"O\",\"X\"))","v":""},{"$f":"IF(I24=\"\",\"\",IF(I24<=$AP$1,\"O\",\"X\"))","v":""},{"$f":"IF(O24=\"\",\"\",IF(O24<=$AQ$1,\"O\",\"X\"))","v":"O"},{"$f":"IF(M24=\"\",\"\",IF(M24<=$AR$1,\"O\",\"X\"))","v":"O"},"X",{"$f":"IF(OR(F24=\"\",AI24=\"\"),\"\",IF(AND((F24<=85),(AI24>=15)),\"O\",\"X\"))","v":"O"},{"$f":"IF(C24=\"\",\"\",IF(C24>=$AU$1,\"O\",\"X\"))","v":"O"},{"$f":"IF(AO24=\"\",\"\",IF(AND(AO24=\"O\",AP24=\"O\",AR24=\"O\",AT24=\"O\",AU24=\"O\"),\"후보\",\"X\"))","v":""}]
["월산마을7단지주공","'04.03",556,79.7,24,59.7,18,346,null,null,null,null,{"$f":"I25-K25","v":0},{"$f":"IF(ISERROR(K25/I25),\"\",K25/I25)","v":""},{"$f":"I25/E25","v":0},{"$f":"K25/E25","v":0},3,2,"계",106,null,null,79.7,24,346,0,{"$f":"K25","v":0},0,"",0,{"$f":"S25","v":"계"},{"$f":"Q25&\"/\"&R25","v":"3/2"},null,"월산마을7단지주공",24,{"$f":"IF(AI25=\"\",\"\",$AJ$2)","v":"A-"},"A","A+","B+",{"$f":"IF(AI25=\"\",\"\",$AN$2)","v":"C"},{"$f":"IF(N25=\"\",\"\",IF(N25>=$AO$1/100,\"O\",\"X\"))","v":""},{"$f":"IF(I25=\"\",\"\",IF(I25<=$AP$1,\"O\",\"X\"))","v":""},{"$f":"IF(O25=\"\",\"\",IF(O25<=$AQ$1,\"O\",\"X\"))","v":"O"},{"$f":"IF(M25=\"\",\"\",IF(M25<=$AR$1,\"O\",\"X\"))","v":"O"},"X",{"$f":"IF(OR(F25=\"\",AI25=\"\"),\"\",IF(AND((F25<=85),(AI25>=15)),\"O\",\"X\"))","v":"O"},{"$f":"IF(C25=\"\",\"\",IF(C25>=$AU$1,\"O\",\"X\"))","v":"O"},{"$f":"IF(AO25=\"\",\"\",IF(AND(AO25=\"O\",AP25=\"O\",AR25=\"O\",AT25=\"O\",AU25=\"O\"),\"후보\",\"X\"))","v":""}]
["월산마을7단지주공","'04.03",556,99.9,30,74.8,23,144,null,null,null,null,{"$f":"I26-K26","v":0},{"$f":"IF(ISERROR(K26/I26),\"\",K26/I26)","v":""},{"$f":"I26/E26","v":0},{"$f":"K26/E26","v":0},3,2,"계","120B",null,null,99.9,30,144,0,{"$f":"K26","v":0},0,"",0,{"$f":"S26","v":"계"},{"$f":"Q26&\"/\"&R26","v":"3/2"},null,"월산마을7단지주공",30,{"$f":"IF(AI26=\"\",\"\",$AJ$2)","v":"A-"},"A","A+","B+",{"$f":"IF(AI26=\"\",\"\",$AN$2)","v":"C"},{"$f":"IF(N26=\"\",\"\",IF(N26>=$AO$1/100,\"O\",\"X\"))","v":""},{"$f":"IF(I26=\"\",\"\",IF(I26<=$AP$1,\"O\",\"X\"))","v":""},{"$f":"IF(O26=\"\",\"\",IF(O26<=$AQ$1,\"O\",\"X\"))","v":"O"},{"$f":"IF(M26=\"\",\"\",IF(M26<=$AR$1,\"O\",\"X\"))","v":"O"},"X",{"$f":"IF(OR(F26=\"\",AI26=\"\"),\"\",IF(AND((F26<=85),(AI26>=15)),\"O\",\"X\"))","v":"O"},{"$f":"IF(C26=\"\",\"\",IF(C26>=$AU$1,\"O\",\"X\"))","v":"O"},{"$f":"IF(AO26=\"\",\"\",IF(AND(AO26=\"O\",AP26=\"O\",AR26=\"O\",AT26=\"O\",AU26=\"O\"),\"후보\",\"X\"))","v":""}]
["월산마을7단지주공","'04.03",556,113.3,34,84.9,26,64,null,null,null,null,{"$f":"I27-K27","v":0},{"$f":"IF(ISERROR(K27/I27),\"\",K27/I27)","v":""},{"$f":"I27/E27","v":0},{"$f":"K27/E27","v":0},3,2,"계","139A",null,null,113.3,34,64,0,{"$f":"K27","v":0},0,"",0,{"$f":"S27","v":"계"},{"$f":"Q27&\"/\"&R27","v":"3/2"},null,"월산마을7단지주공",34,{"$f":"IF(AI27=\"\",\"\",$AJ$2)","v":"A-"},"A","A+","B+",{"$f":"IF(AI27=\"\",\"\",$AN$2)","v":"C"},{"$f":"IF(N27=\"\",\"\",IF(N27>=$AO$1/100,\"O\",\"X\"))","v":""},{"$f":"IF(I27=\"\",\"\",IF(I27<=$AP$1,\"O\",\"X\"))","v":""},{"$f":"IF(O27=\"\",\"\",IF(O27<=$AQ$1,\"O\",\"X\"))","v":"O"},{"$f":"IF(M27=\"\",\"\",IF(M27<=$AR$1,\"O\",\"X\"))","v":"O"},"X",{"$f":"IF(OR(F27=\"\",AI27=\"\"),\"\",IF(AND((F27<=85),(AI27>=15)),\"O\",\"X\"))","v":"O"},{"$f":"IF(C27=\"\",\"\",IF(C27>=$AU$1,\"O\",\"X\"))","v":"O"},{"$f":"IF(AO27=\"\",\"\",IF(AND(AO27=\"O\",AP27=\"O\",AR27=\"O\",AT27=\"O\",AU27=\"O\"),\"후보\",\"X\"))","v":""}]
[null,null,null,null,null,null,null,null,null,null,null,null,null,null,null,null,null,null,null,null,null,null,{"$f":"$A$4&\" \"&A29&\"(\"&B29&\",\"&C29&\"^)\"","v":"부곡동 월산마을13단지푸르지오('04.08,494^)"},null,null,null,null,null,null,null,null,null,null,"",""]
["월산마을13단지푸르지오","'04.08",494,97.1,29,75.2,23,134,null,null,null,null,{"$f":"I29-K29","v":0},{"$f":"IF(ISERROR(K29/I29),\"\",K29/I29)","v":""},{"$f":"I29/E29","v":0},{"$f":"K29/E29","v":0},3,2,"계",102,null,null,{"$f":"D29","v":97.1},{"$f":"E29","v":29},{"$f":"H29","v":134},{"$f":"I29","v":0},{"$f":"K29","v":0},{"$f":"M29","v":0},"",0,{"$f":"S29","v":"계"},{"$f":"Q29&\"/\"&R29","v":"3/2"},null,"월산마을13단지푸르지오",29,{"$f":"IF(AI29=\"\",\"\",$AJ$2)","v":"A-"},"A","A+","B+",{"$f":"IF(AI29=\"\",\"\",$AN$2)","v":"C"},{"$f":"IF(N29=\"\",\"\",IF(N29>=$AO$1/100,\"O\",\"X\"))","v":""},{"$f":"IF(I29=\"\",\"\",IF(I29<=$AP$1,\"O\",\"X\"))","v":""},{"$f":"IF(O29=\"\",\"\",IF(O29<=$AQ$1,\"O\",\"X\"))","v":"O"},{"$f":"IF(M29=\"\",\"\",IF(M29<=$AR$1,\"O\",\"X\"))","v":"O"},"X",{"$f":"IF(OR(F29=\"\",AI29=\"\"),\"\",IF(AND((F29<=85),(AI29>=15)),\"O\",\"X\"))","v":"O"},{"$f":"IF(C29=\"\",\"\",IF(C29>=$AU$1,\"O\",\"X\"))","v":"O"},{"$f":"IF(AO29=\"\",\"\",IF(AND(AO29=\"O\",AP29=\"O\",AR29=\"O\",AT29=\"O\",AU29=\"O\"),\"후보\",\"X\"))","v":""}]
["월산마을13단지푸르지오","'04.08",494,114,35,84.9,26,360,null,null,null,null,{"$f":"I30-K30","v":0},{"$f":"IF(ISERROR(K30/I30),\"\",K30/I30)","v":""},{"$f":"I30/E30","v":0},{"$f":"K30/E30","v":0},3,2,"계",100,null,null,{"$f":"D30","v":114},{"$f":"E30","v":35},{"$f":"H30","v":360},{"$f":"I30","v":0},{"$f":"K30","v":0},0,"",0,{"$f":"S30","v":"계"},{"$f":"Q30&\"/\"&R30","v":"3/2"},null,"월산마을13단지푸르지오",35,{"$f":"IF(AI30=\"\",\"\",$AJ$2)","v":"A-"},"A","A+","B+",{"$f":"IF(AI30=\"\",\"\",$AN$2)","v":"C"},{"$f":"IF(N30=\"\",\"\",IF(N30>=$AO$1/100,\"O\",\"X\"))","v":""},{"$f":"IF(I30=\"\",\"\",IF(I30<=$AP$1,\"O\",\"X\"))","v":""},{"$f":"IF(O30=\"\",\"\",IF(O30<=$AQ$1,\"O\",\"X\"))","v":"O"},{"$f":"IF(M30=\"\",\"\",IF(M30<=$AR$1,\"O\",\"X\"))","v":"O"},"X",{"$f":"IF(OR(F30=\"\",AI30=\"\"),\"\",IF(AND((F30<=85),(AI30>=15)),\"O\",\"X\"))","v":"O"},{"$f":"IF(C30=\"\",\"\",IF(C30>=$AU$1,\"O\",\"X\"))","v":"O"},{"$f":"IF(AO30=\"\",\"\",IF(AND(AO30=\"O\",AP30=\"O\",AR30=\"O\",AT30=\"O\",AU30=\"O\"),\"후보\",\"X\"))","v":""}]
[null,null,null,null,null,null,null,null,null,null,null,null,null,null,null,null,null,null,null,null,null,null,{"$f":"$A$4&\" \"&A32&\"(\"&B32&\",\"&C32&\"^)\"","v":"부곡동 월산마을4단지부영19차('04.09,434^)"},null,null,null,null,null,null,null,null,null,null,"",""]
["월산마을4단지부영19차","'04.09",434,101.4,31,80.900000000000006,25,434,null,null,null,null,{"$f":"I32-K32","v":0},{"$f":"IF(ISERROR(K32/I32),\"\",K32/I32)","v":""},{"$f":"I32/E32","v":0},{"$f":"K32/E32","v":0},3,2,"계",102,null,null,{"$f":"D32","v":101.4},{"$f":"E32","v":31},{"$f":"H32","v":434},{"$f":"I32","v":0},{"$f":"K32","v":0},{"$f":"M32","v":0},{"$f":"N32","v":""},{"$f":"O32","v":0},{"$f":"S32","v":"계"},{"$f":"Q32&\"/\"&R32","v":"3/2"},null,"월산마을4단지부영19차",31,{"$f":"IF(AI32=\"\",\"\",$AJ$2)","v":"A-"},"A","A+","B+",{"$f":"IF(AI32=\"\",\"\",$AN$2)","v":"C"},{"$f":"IF(N32=\"\",\"\",IF(N32>=$AO$1/100,\"O\",\"X\"))","v":""},{"$f":"IF(I32=\"\",\"\",IF(I32<=$AP$1,\"O\",\"X\"))","v":""},{"$f":"IF(O32=\"\",\"\",IF(O32<=$AQ$1,\"O\",\"X\"))","v":"O"},{"$f":"IF(M32=\"\",\"\",IF(M32<=$AR$1,\"O\",\"X\"))","v":"O"},"X",{"$f":"IF(OR(F32=\"\",AI32=\"\"),\"\",IF(AND((F32<=85),(AI32>=15)),\"O\",\"X\"))","v":"O"},{"$f":"IF(C32=\"\",\"\",IF(C32>=$AU$1,\"O\",\"X\"))","v":"O"},{"$f":"IF(AO32=\"\",\"\",IF(AND(AO32=\"O\",AP32=\"O\",AR32=\"O\",AT32=\"O\",AU32=\"O\"),\"후보\",\"X\"))","v":""}]
[null,null,null,null,null,null,null,null,null,null,null,null,null,null,null,null,null,null,null,null,null,null,{"$f":"$A$4&\" \"&A34&\"(\"&B34&\",\"&C34&\"^)\"","v":"부곡동 석봉대동6단지('00.07,432^)"},null,null,null,null,null,null,null,null,null,null,"",""]
["석봉대동6단지","'00.07",432,124,38,106.6,32,56,null,null,null,null,{"$f":"I34-K34","v":0},{"$f":"IF(ISERROR(K34/I34),\"\",K34/I34)","v":""},{"$f":"I34/E34","v":0},{"$f":"K34/E34","v":0},3,2,"계",69,null,null,{"$f":"D34","v":124},38,{"$f":"H34","v":56},0,{"$f":"K34","v":0},{"$f":"M34","v":0},"",0,{"$f":"S34","v":"계"},{"$f":"Q34&\"/\"&R34","v":"3/2"},null,"석봉대동6단지",38,{"$f":"IF(AI34=\"\",\"\",$AJ$2)","v":"A-"},"A","A+","B+",{"$f":"IF(AI34=\"\",\"\",$AN$2)","v":"C"},{"$f":"IF(N34=\"\",\"\",IF(N34>=$AO$1/100,\"O\",\"X\"))","v":""},{"$f":"IF(I34=\"\",\"\",IF(I34<=$AP$1,\"O\",\"X\"))","v":""},{"$f":"IF(O34=\"\",\"\",IF(O34<=$AQ$1,\"O\",\"X\"))","v":"O"},{"$f":"IF(M34=\"\",\"\",IF(M34<=$AR$1,\"O\",\"X\"))","v":"O"},"X",{"$f":"IF(OR(F34=\"\",AI34=\"\"),\"\",IF(AND((F34<=85),(AI34>=15)),\"O\",\"X\"))","v":"X"},{"$f":"IF(C34=\"\",\"\",IF(C34>=$AU$1,\"O\",\"X\"))","v":"O"},{"$f":"IF(AO34=\"\",\"\",IF(AND(AO34=\"O\",AP34=\"O\",AR34=\"O\",AT34=\"O\",AU34=\"O\"),\"후보\",\"X\"))","v":""}]
["석봉대동6단지","'00.07",432,140.5,43,122.4,37,112,null,null,null,null,{"$f":"I35-K35","v":0},{"$f":"IF(ISERROR(K35/I35),\"\",K35/I35)","v":""},{"$f":"I35/E35","v":0},{"$f":"K35/E35","v":0},3,2,"계",101,null,null,140.5,43,112,0,{"$f":"K35","v":0},0,"",0,{"$f":"S35","v":"계"},{"$f":"Q35&\"/\"&R35","v":"3/2"},null,"석봉대동6단지",{"$f":"IF(E35=\"\",\"\",E35)","v":43},{"$f":"IF(AI35=\"\",\"\",$AJ$2)","v":"A-"},"A","A+","B+",{"$f":"IF(AI35=\"\",\"\",$AN$2)","v":"C"},{"$f":"IF(N35=\"\",\"\",IF(N35>=$AO$1/100,\"O\",\"X\"))","v":""},{"$f":"IF(I35=\"\",\"\",IF(I35<=$AP$1,\"O\",\"X\"))","v":""},{"$f":"IF(O35=\"\",\"\",IF(O35<=$AQ$1,\"O\",\"X\"))","v":"O"},{"$f":"IF(M35=\"\",\"\",IF(M35<=$AR$1,\"O\",\"X\"))","v":"O"},"X",{"$f":"IF(OR(F35=\"\",AI35=\"\"),\"\",IF(AND((F35<=85),(AI35>=15)),\"O\",\"X\"))","v":"X"},{"$f":"IF(C35=\"\",\"\",IF(C35>=$AU$1,\"O\",\"X\"))","v":"O"},{"$f":"IF(AO35=\"\",\"\",IF(AND(AO35=\"O\",AP35=\"O\",AR35=\"O\",AT35=\"O\",AU35=\"O\"),\"후보\",\"X\"))","v":""}]
["석봉대동6단지","'00.07",432,144.5,44,126.5,38,98,null,null,null,null,{"$f":"I36-K36","v":0},{"$f":"IF(ISERROR(K36/I36),\"\",K36/I36)","v":""},{"$f":"I36/E36","v":0},{"$f":"K36/E36","v":0},4,2,"계",77,null,null,144.5,44,98,0,{"$f":"K36","v":0},0,"",0,{"$f":"S36","v":"계"},{"$f":"Q36&\"/\"&R36","v":"4/2"},null,"석봉대동6단지",44,{"$f":"IF(AI36=\"\",\"\",$AJ$2)","v":"A-"},"A","A+","B+",{"$f":"IF(AI36=\"\",\"\",$AN$2)","v":"C"},{"$f":"IF(N36=\"\",\"\",IF(N36>=$AO$1/100,\"O\",\"X\"))","v":""},{"$f":"IF(I36=\"\",\"\",IF(I36<=$AP$1,\"O\",\"X\"))","v":""},{"$f":"IF(O36=\"\",\"\",IF(O36<=$AQ$1,\"O\",\"X\"))","v":"O"},{"$f":"IF(M36=\"\",\"\",IF(M36<=$AR$1,\"O\",\"X\"))","v":"O"},"X",{"$f":"IF(OR(F36=\"\",AI36=\"\"),\"\",IF(AND((F36<=85),(AI36>=15)),\"O\",\"X\"))","v":"X"},{"$f":"IF(C36=\"\",\"\",IF(C36>=$AU$1,\"O\",\"X\"))","v":"O"},{"$f":"IF(AO36=\"\",\"\",IF(AND(AO36=\"O\",AP36=\"O\",AR36=\"O\",AT36=\"O\",AU36=\"O\"),\"후보\",\"X\"))","v":""}]
["석봉대동6단지","'00.07",432,163.6,50,145.5,44,126,null,null,null,null,{"$f":"I37-K37","v":0},{"$f":"IF(ISERROR(K37/I37),\"\",K37/I37)","v":""},{"$f":"I37/E37","v":0},{"$f":"K37/E37","v":0},4,2,"계",102,null,null,163.6,50,126,0,{"$f":"K37","v":0},0,"",0,{"$f":"S37","v":"계"},{"$f":"Q37&\"/\"&R37","v":"4/2"},null,{"$f":"IF(A37=\"\",\"\",A37)","v":"석봉대동6단지"},50,{"$f":"IF(AI37=\"\",\"\",$AJ$2)","v":"A-"},"A","A+","B+",{"$f":"IF(AI37=\"\",\"\",$AN$2)","v":"C"},{"$f":"IF(N37=\"\",\"\",IF(N37>=$AO$1/100,\"O\",\"X\"))","v":""},{"$f":"IF(I37=\"\",\"\",IF(I37<=$AP$1,\"O\",\"X\"))","v":""},{"$f":"IF(O37=\"\",\"\",IF(O37<=$AQ$1,\"O\",\"X\"))","v":"O"},{"$f":"IF(M37=\"\",\"\",IF(M37<=$AR$1,\"O\",\"X\"))","v":"O"},"X",{"$f":"IF(OR(F37=\"\",AI37=\"\"),\"\",IF(AND((F37<=85),(AI37>=15)),\"O\",\"X\"))","v":"X"},{"$f":"IF(C37=\"\",\"\",IF(C37>=$AU$1,\"O\",\"X\"))","v":"O"},{"$f":"IF(AO37=\"\",\"\",IF(AND(AO37=\"O\",AP37=\"O\",AR37=\"O\",AT37=\"O\",AU37=\"O\"),\"후보\",\"X\"))","v":""}]
["석봉대동6단지","'00.07",432,182.9,55,164.9,50,40,null,null,null,null,{"$f":"I38-K38","v":0},{"$f":"IF(ISERROR(K38/I38),\"\",K38/I38)","v":""},{"$f":"I38/E38","v":0},{"$f":"K38/E38","v":0},4,3,"계",102,null,null,182.9,55,40,0,{"$f":"K38","v":0},0,"",0,{"$f":"S38","v":"계"},{"$f":"Q38&\"/\"&R38","v":"4/3"},null,"석봉대동6단지",55,{"$f":"IF(AI38=\"\",\"\",$AJ$2)","v":"A-"},"A","A+","B+",{"$f":"IF(AI38=\"\",\"\",$AN$2)","v":"C"},{"$f":"IF(N38=\"\",\"\",IF(N38>=$AO$1/100,\"O\",\"X\"))","v":""},{"$f":"IF(I38=\"\",\"\",IF(I38<=$AP$1,\"O\",\"X\"))","v":""},{"$f":"IF(O38=\"\",\"\",IF(O38<=$AQ$1,\"O\",\"X\"))","v":"O"},{"$f":"IF(M38=\"\",\"\",IF(M38<=$AR$1,\"O\",\"X\"))","v":"O"},"X",{"$f":"IF(OR(F38=\"\",AI38=\"\"),\"\",IF(AND((F38<=85),(AI38>=15)),\"O\",\"X\"))","v":"X"},{"$f":"IF(C38=\"\",\"\",IF(C38>=$AU$1,\"O\",\"X\"))","v":"O"},{"$f":"IF(AO38=\"\",\"\",IF(AND(AO38=\"O\",AP38=\"O\",AR38=\"O\",AT38=\"O\",AU38=\"O\"),\"후보\",\"X\"))","v":""}]
[null,null,null,null,null,null,null,null,null,null,null,null,null,null,null,null,null,null,null,null,null,null,{"$f":"$A$4&\" \"&A40&\"(\"&B40&\",\"&C40&\"^)\"","v":"부곡동 석봉5단지대동('00.07,418^)"},null,null,null,null,null,null,null,null,null,null,"",""]
["석봉5단지대동","'00.07",418,124,38,106.6,32,56,null,null,null,null,{"$f":"I40-K40","v":0},{"$f":"IF(ISERROR(K40/I40),\"\",K40/I40)","v":""},{"$f":"I40/E40","v":0},{"$f":"K40/E40","v":0},3,2,"계",100,null,null,{"$f":"D40","v":124},38,{"$f":"H40","v":56},0,{"$f":"K40","v":0},{"$f":"M40","v":0},"",0,{"$f":"S40","v":"계"},{"$f":"Q40&\"/\"&R40","v":"3/2"},null,"석봉5단지대동",38,{"$f":"IF(AI40=\"\",\"\",$AJ$2)","v":"A-"},"A","A+","B+",{"$f":"IF(AI40=\"\",\"\",$AN$2)","v":"C"},{"$f":"IF(N40=\"\",\"\",IF(N40>=$AO$1/100,\"O\",\"X\"))","v":""},{"$f":"IF(I40=\"\",\"\",IF(I40<=$AP$1,\"O\",\"X\"))","v":""},{"$f":"IF(O40=\"\",\"\",IF(O40<=$AQ$1,\"O\",\"X\"))","v":"O"},{"$f":"IF(M40=\"\",\"\",IF(M40<=$AR$1,\"O\",\"X\"))","v":"O"},"X",{"$f":"IF(OR(F40=\"\",AI40=\"\"),\"\",IF(AND((F40<=85),(AI40>=15)),\"O\",\"X\"))","v":"X"},{"$f":"IF(C40=\"\",\"\",IF(C40>=$AU$1,\"O\",\"X\"))","v":"O"},{"$f":"IF(AO40=\"\",\"\",IF(AND(AO40=\"O\",AP40=\"O\",AR40=\"O\",AT40=\"O\",AU40=\"O\"),\"후보\",\"X\"))","v":""}]
["석봉5단지대동","'00.07",418,140.1,42,122.4,37,84,null,null,null,null,{"$f":"I41-K41","v":0},{"$f":"IF(ISERROR(K41/I41),\"\",K41/I41)","v":""},{"$f":"I41/E41","v":0},{"$f":"K41/E41","v":0},3,2,"계",103,null,null,140.1,42,84,0,{"$f":"K41","v":0},0,"",0,{"$f":"S41","v":"계"},{"$f":"Q41&\"/\"&R41","v":"3/2"},null,"석봉5단지대동",42,{"$f":"IF(AI41=\"\",\"\",$AJ$2)","v":"A-"},"A","A+","B+",{"$f":"IF(AI41=\"\",\"\",$AN$2)","v":"C"},{"$f":"IF(N41=\"\",\"\",IF(N41>=$AO$1/100,\"O\",\"X\"))","v":""},{"$f":"IF(I41=\"\",\"\",IF(I41<=$AP$1,\"O\",\"X\"))","v":""},{"$f":"IF(O41=\"\",\"\",IF(O41<=$AQ$1,\"O\",\"X\"))","v":"O"},{"$f":"IF(M41=\"\",\"\",IF(M41<=$AR$1,\"O\",\"X\"))","v":"O"},"X",{"$f":"IF(OR(F41=\"\",AI41=\"\"),\"\",IF(AND((F41<=85),(AI41>=15)),\"O\",\"X\"))","v":"X"},{"$f":"IF(C41=\"\",\"\",IF(C41>=$AU$1,\"O\",\"X\"))","v":"O"},{"$f":"IF(AO41=\"\",\"\",IF(AND(AO41=\"O\",AP41=\"O\",AR41=\"O\",AT41=\"O\",AU41=\"O\"),\"후보\",\"X\"))","v":""}]
["석봉5단지대동","'00.07",418,144.6,44,126.5,38,84,null,null,null,null,{"$f":"I42-K42","v":0},{"$f":"IF(ISERROR(K42/I42),\"\",K42/I42)","v":""},{"$f":"I42/E42","v":0},{"$f":"K42/E42","v":0},4,2,"계",101,null,null,144.6,44,84,0,{"$f":"K42","v":0},0,"",0,{"$f":"S42","v":"계"},{"$f":"Q42&\"/\"&R42","v":"4/2"},null,"석봉5단지대동",44,{"$f":"IF(AI42=\"\",\"\",$AJ$2)","v":"A-"},"A","A+","B+",{"$f":"IF(AI42=\"\",\"\",$AN$2)","v":"C"},{"$f":"IF(N42=\"\",\"\",IF(N42>=$AO$1/100,\"O\",\"X\"))","v":""},{"$f":"IF(I42=\"\",\"\",IF(I42<=$AP$1,\"O\",\"X\"))","v":""},{"$f":"IF(O42=\"\",\"\",IF(O42<=$AQ$1,\"O\",\"X\"))","v":"O"},{"$f":"IF(M42=\"\",\"\",IF(M42<=$AR$1,\"O\",\"X\"))","v":"O"},"X",{"$f":"IF(OR(F42=\"\",AI42=\"\"),\"\",IF(AND((F42<=85),(AI42>=15)),\"O\",\"X\"))","v":"X"},{"$f":"IF(C42=\"\",\"\",IF(C42>=$AU$1,\"O\",\"X\"))","v":"O"},{"$f":"IF(AO42=\"\",\"\",IF(AND(AO42=\"O\",AP42=\"O\",AR42=\"O\",AT42=\"O\",AU42=\"O\"),\"후보\",\"X\"))","v":""}]
["석봉5단지대동","'00.07",418,163.80000000000001,50,145.5,44,144,null,null,null,null,{"$f":"I43-K43","v":0},{"$f":"IF(ISERROR(K43/I43),\"\",K43/I43)","v":""},{"$f":"I43/E43","v":0},{"$f":"K43/E43","v":0},4,2,"계",101,null,null,163.80000000000001,50,144,0,{"$f":"K43","v":0},0,"",0,{"$f":"S43","v":"계"},{"$f":"Q43&\"/\"&R43","v":"4/2"},null,"석봉5단지대동",50,{"$f":"IF(AI43=\"\",\"\",$AJ$2)","v":"A-"},"A","A+","B+",{"$f":"IF(AI43=\"\",\"\",$AN$2)","v":"C"},{"$f":"IF(N43=\"\",\"\",IF(N43>=$AO$1/100,\"O\",\"X\"))","v":""},{"$f":"IF(I43=\"\",\"\",IF(I43<=$AP$1,\"O\",\"X\"))","v":""},{"$f":"IF(O43=\"\",\"\",IF(O43<=$AQ$1,\"O\",\"X\"))","v":"O"},{"$f":"IF(M43=\"\",\"\",IF(M43<=$AR$1,\"O\",\"X\"))","v":"O"},"X",{"$f":"IF(OR(F43=\"\",AI43=\"\"),\"\",IF(AND((F43<=85),(AI43>=15)),\"O\",\"X\"))","v":"X"},{"$f":"IF(C43=\"\",\"\",IF(C43>=$AU$1,\"O\",\"X\"))","v":"O"},{"$f":"IF(AO43=\"\",\"\",IF(AND(AO43=\"O\",AP43=\"O\",AR43=\"O\",AT43=\"O\",AU43=\"O\"),\"후보\",\"X\"))","v":""}]
["석봉5단지대동","'00.07",418,182.8,55,164.9,50,50,null,null,null,null,{"$f":"I44-K44","v":0},{"$f":"IF(ISERROR(K44/I44),\"\",K44/I44)","v":""},{"$f":"I44/E44","v":0},{"$f":"K44/E44","v":0},4,3,"계","89A",null,null,182.8,55,50,0,{"$f":"K44","v":0},0,"",0,{"$f":"S44","v":"계"},{"$f":"Q44&\"/\"&R44","v":"4/3"},null,"석봉5단지대동",55,{"$f":"IF(AI44=\"\",\"\",$AJ$2)","v":"A-"},"A","A+","B+",{"$f":"IF(AI44=\"\",\"\",$AN$2)","v":"C"},{"$f":"IF(N44=\"\",\"\",IF(N44>=$AO$1/100,\"O\",\"X\"))","v":""},{"$f":"IF(I44=\"\",\"\",IF(I44<=$AP$1,\"O\",\"X\"))","v":""},{"$f":"IF(O44=\"\",\"\",IF(O44<=$AQ$1,\"O\",\"X\"))","v":"O"},{"$f":"IF(M44=\"\",\"\",IF(M44<=$AR$1,\"O\",\"X\"))","v":"O"},"X",{"$f":"IF(OR(F44=\"\",AI44=\"\"),\"\",IF(AND((F44<=85),(AI44>=15)),\"O\",\"X\"))","v":"X"},{"$f":"IF(C44=\"\",\"\",IF(C44>=$AU$1,\"O\",\"X\"))","v":"O"},{"$f":"IF(AO44=\"\",\"\",IF(AND(AO44=\"O\",AP44=\"O\",AR44=\"O\",AT44=\"O\",AU44=\"O\"),\"후보\",\"X\"))","v":""}]
[null,null,null,null,null,null,null,null,null,null,null,null,null,null,null,null,null,null,null,null,null,null,{"$f":"$A$4&\" \"&A46&\"(\"&B46&\",\"&C46&\"^)\"","v":"부곡동 월산마을5단지두산위브('04.08,368^)"},null,null,null,null,null,null,null,null,null,null,"",""]
["월산마을5단지두산위브","'04.08",368,106.5,32,84.9,26,368,null,null,null,null,{"$f":"I46-K46","v":0},{"$f":"IF(ISERROR(K46/I46),\"\",K46/I46)","v":""},{"$f":"I46/E46","v":0},{"$f":"K46/E46","v":0},3,2,"계","101B",null,null,{"$f":"D46","v":106.5},{"$f":"E46","v":32},{"$f":"H46","v":368},{"$f":"I46","v":0},{"$f":"K46","v":0},{"$f":"M46","v":0},{"$f":"N46","v":""},{"$f":"O46","v":0},{"$f":"S46","v":"계"},{"$f":"Q46&\"/\"&R46","v":"3/2"},null,"월산마을5단지두산위브",32,{"$f":"IF(AI46=\"\",\"\",$AJ$2)","v":"A-"},"A","A+","B+",{"$f":"IF(AI46=\"\",\"\",$AN$2)","v":"C"},{"$f":"IF(N46=\"\",\"\",IF(N46>=$AO$1/100,\"O\",\"X\"))","v":""},{"$f":"IF(I46=\"\",\"\",IF(I46<=$AP$1,\"O\",\"X\"))","v":""},{"$f":"IF(O46=\"\",\"\",IF(O46<=$AQ$1,\"O\",\"X\"))","v":"O"},{"$f":"IF(M46=\"\",\"\",IF(M46<=$AR$1,\"O\",\"X\"))","v":"O"},"X",{"$f":"IF(OR(F46=\"\",AI46=\"\"),\"\",IF(AND((F46<=85),(AI46>=15)),\"O\",\"X\"))","v":"O"},{"$f":"IF(C46=\"\",\"\",IF(C46>=$AU$1,\"O\",\"X\"))","v":"O"},{"$f":"IF(AO46=\"\",\"\",IF(AND(AO46=\"O\",AP46=\"O\",AR46=\"O\",AT46=\"O\",AU46=\"O\"),\"후보\",\"X\"))","v":""}]
[null,null,null,null,null,null,null,null,null,null,null,null,null,null,null,null,null,null,null,null,null,null,{"$f":"$A$4&\" \"&A48&\"(\"&B48&\",\"&C48&\"^)\"","v":"부곡동 월산마을12단지부영('01.12,335^)"},null,null,null,null,null,null,null,null,null,null,"",""]
["월산마을12단지부영","'01.12",335,102.7,31,80.7,24,335,null,null,null,null,{"$f":"I48-K48","v":0},{"$f":"IF(ISERROR(K48/I48),\"\",K48/I48)","v":""},{"$f":"I48/E48","v":0},{"$f":"K48/E48","v":0},3,2,"계","101C",null,null,{"$f":"D48","v":102.7},{"$f":"E48","v":31},{"$f":"H48","v":335},{"$f":"I48","v":0},{"$f":"K48","v":0},{"$f":"M48","v":0},{"$f":"N48","v":""},{"$f":"O48","v":0},{"$f":"S48","v":"계"},{"$f":"Q48&\"/\"&R48","v":"3/2"},null,"월산마을12단지부영",31,{"$f":"IF(AI48=\"\",\"\",$AJ$2)","v":"A-"},"A","A+","B+",{"$f":"IF(AI48=\"\",\"\",$AN$2)","v":"C"},{"$f":"IF(N48=\"\",\"\",IF(N48>=$AO$1/100,\"O\",\"X\"))","v":""},{"$f":"IF(I48=\"\",\"\",IF(I48<=$AP$1,\"O\",\"X\"))","v":""},{"$f":"IF(O48=\"\",\"\",IF(O48<=$AQ$1,\"O\",\"X\"))","v":"O"},{"$f":"IF(M48=\"\",\"\",IF(M48<=$AR$1,\"O\",\"X\"))","v":"O"},"X",{"$f":"IF(OR(F48=\"\",AI48=\"\"),\"\",IF(AND((F48<=85),(AI48>=15)),\"O\",\"X\"))","v":"O"},{"$f":"IF(C48=\"\",\"\",IF(C48>=$AU$1,\"O\",\"X\"))","v":"O"},{"$f":"IF(AO48=\"\",\"\",IF(AND(AO48=\"O\",AP48=\"O\",AR48=\"O\",AT48=\"O\",AU48=\"O\"),\"후보\",\"X\"))","v":""}]
[null,null,null,null,null,null,null,null,null,null,null,null,null,null,null,null,null,null,null,null,null,null,{"$f":"$A$4&\" \"&A50&\"(\"&B50&\",\"&C50&\"^)\"","v":"부곡동 월산마을4단지부영18차('04.08,332^)"},null,null,null,null,null,null,null,null,null,null,"",""]
["월산마을4단지부영18차","'04.08",332,101.2,31,80.900000000000006,25,332,null,null,null,null,{"$f":"I50-K50","v":0},{"$f":"IF(ISERROR(K50/I50),\"\",K50/I50)","v":""},{"$f":"I50/E50","v":0},{"$f":"K50/E50","v":0},3,2,"계",124,null,null,{"$f":"D50","v":101.2},{"$f":"E50","v":31},{"$f":"H50","v":332},{"$f":"I50","v":0},{"$f":"K50","v":0},{"$f":"M50","v":0},{"$f":"N50","v":""},{"$f":"O50","v":0},{"$f":"S50","v":"계"},{"$f":"Q50&\"/\"&R50","v":"3/2"},null,"월산마을4단지부영18차",31,{"$f":"IF(AI50=\"\",\"\",$AJ$2)","v":"A-"},"A","A+","B+",{"$f":"IF(AI50=\"\",\"\",$AN$2)","v":"C"},{"$f":"IF(N50=\"\",\"\",IF(N50>=$AO$1/100,\"O\",\"X\"))","v":""},{"$f":"IF(I50=\"\",\"\",IF(I50<=$AP$1,\"O\",\"X\"))","v":""},{"$f":"IF(O50=\"\",\"\",IF(O50<=$AQ$1,\"O\",\"X\"))","v":"O"},{"$f":"IF(M50=\"\",\"\",IF(M50<=$AR$1,\"O\",\"X\"))","v":"O"},"X",{"$f":"IF(OR(F50=\"\",AI50=\"\"),\"\",IF(AND((F50<=85),(AI50>=15)),\"O\",\"X\"))","v":"O"},{"$f":"IF(C50=\"\",\"\",IF(C50>=$AU$1,\"O\",\"X\"))","v":"O"},{"$f":"IF(AO50=\"\",\"\",IF(AND(AO50=\"O\",AP50=\"O\",AR50=\"O\",AT50=\"O\",AU50=\"O\"),\"후보\",\"X\"))","v":""}]
[null,null,null,null,null,null,null,null,null,null,null,null,null,null,null,null,null,null,null,null,null,null,{"$f":"$A$4&\" \"&A52&\"(\"&B52&\",\"&C52&\"^)\"","v":"부곡동 월산마을9단지부영('02.05,328^)"},null,null,null,null,null,null,null,null,null,null,"",""]
["월산마을9단지부영","'02.05",328,103.8,31,80.7,24,328,null,null,null,null,{"$f":"I52-K52","v":0},{"$f":"IF(ISERROR(K52/I52),\"\",K52/I52)","v":""},{"$f":"I52/E52","v":0},{"$f":"K52/E52","v":0},3,2,"계",140,null,null,{"$f":"D52","v":103.8},{"$f":"E52","v":31},{"$f":"H52","v":328},{"$f":"I52","v":0},{"$f":"K52","v":0},{"$f":"M52","v":0},{"$f":"N52","v":""},{"$f":"O52","v":0},{"$f":"S52","v":"계"},{"$f":"Q52&\"/\"&R52","v":"3/2"},null,"월산마을9단지부영",31,{"$f":"IF(AI52=\"\",\"\",$AJ$2)","v":"A-"},"A","A+","B+",{"$f":"IF(AI52=\"\",\"\",$AN$2)","v":"C"},{"$f":"IF(N52=\"\",\"\",IF(N52>=$AO$1/100,\"O\",\"X\"))","v":""},{"$f":"IF(I52=\"\",\"\",IF(I52<=$AP$1,\"O\",\"X\"))","v":""},{"$f":"IF(O52=\"\",\"\",IF(O52<=$AQ$1,\"O\",\"X\"))","v":"O"},{"$f":"IF(M52=\"\",\"\",IF(M52<=$AR$1,\"O\",\"X\"))","v":"O"},"X",{"$f":"IF(OR(F52=\"\",AI52=\"\"),\"\",IF(AND((F52<=85),(AI52>=15)),\"O\",\"X\"))","v":"O"},{"$f":"IF(C52=\"\",\"\",IF(C52>=$AU$1,\"O\",\"X\"))","v":"O"},{"$f":"IF(AO52=\"\",\"\",IF(AND(AO52=\"O\",AP52=\"O\",AR52=\"O\",AT52=\"O\",AU52=\"O\"),\"후보\",\"X\"))","v":""}]
[null,null,null,null,null,null,null,null,null,null,null,null,null,null,null,null,null,null,null,null,null,null,{"$f":"$A$4&\" \"&A54&\"(\"&B54&\",\"&C54&\"^)\"","v":"부곡동 월산마을2단지부영('02.1,284^)"},null,null,null,null,null,null,null,null,null,null,"",""]
["월산마을2단지부영","'02.1",284,102.7,31,80.7,24,284,null,null,null,null,{"$f":"I54-K54","v":0},{"$f":"IF(ISERROR(K54/I54),\"\",K54/I54)","v":""},{"$f":"I54/E54","v":0},{"$f":"K54/E54","v":0},3,2,"계",144,null,null,{"$f":"D54","v":102.7},{"$f":"E54","v":31},{"$f":"H54","v":284},{"$f":"I54","v":0},{"$f":"K54","v":0},{"$f":"M54","v":0},{"$f":"N54","v":""},{"$f":"O54","v":0},{"$f":"S54","v":"계"},{"$f":"Q54&\"/\"&R54","v":"3/2"},null,"월산마을2단지부영",31,{"$f":"IF(AI54=\"\",\"\",$AJ$2)","v":"A-"},"A","A+","B+",{"$f":"IF(AI54=\"\",\"\",$AN$2)","v":"C"},{"$f":"IF(N54=\"\",\"\",IF(N54>=$AO$1/100,\"O\",\"X\"))","v":""},{"$f":"IF(I54=\"\",\"\",IF(I54<=$AP$1,\"O\",\"X\"))","v":""},{"$f":"IF(O54=\"\",\"\",IF(O54<=$AQ$1,\"O\",\"X\"))","v":"O"},{"$f":"IF(M54=\"\",\"\",IF(M54<=$AR$1,\"O\",\"X\"))","v":"O"},"X",{"$f":"IF(OR(F54=\"\",AI54=\"\"),\"\",IF(AND((F54<=85),(AI54>=15)),\"O\",\"X\"))","v":"O"},{"$f":"IF(C54=\"\",\"\",IF(C54>=$AU$1,\"O\",\"X\"))","v":"X"},{"$f":"IF(AO54=\"\",\"\",IF(AND(AO54=\"O\",AP54=\"O\",AR54=\"O\",AT54=\"O\",AU54=\"O\"),\"후보\",\"X\"))","v":""}]
[null,null,null,null,null,null,null,null,null,null,null,null,null,null,null,null,null,null,null,null,null,null,{"$f":"$A$4&\" \"&A56&\"(\"&B56&\",\"&C56&\"^)\"","v":"부곡동 석봉마을대동피렌체2단지('04.1,266^)"},null,null,null,null,null,null,null,null,null,null,"",""]
["석봉마을대동피렌체2단지","'04.1",266,125.5,38,101.8,31,190,null,null,null,null,{"$f":"I56-K56","v":0},{"$f":"IF(ISERROR(K56/I56),\"\",K56/I56)","v":""},{"$f":"I56/E56","v":0},{"$f":"K56/E56","v":0},3,2,"계",163,null,null,{"$f":"D56","v":125.5},{"$f":"E56","v":38},{"$f":"H56","v":190},{"$f":"I56","v":0},{"$f":"K56","v":0},{"$f":"M56","v":0},"",0,{"$f":"S56","v":"계"},{"$f":"Q56&\"/\"&R56","v":"3/2"},null,"석봉마을대동피렌체2단지",38,{"$f":"IF(AI56=\"\",\"\",$AJ$2)","v":"A-"},"A","A+","B+",{"$f":"IF(AI56=\"\",\"\",$AN$2)","v":"C"},{"$f":"IF(N56=\"\",\"\",IF(N56>=$AO$1/100,\"O\",\"X\"))","v":""},{"$f":"IF(I56=\"\",\"\",IF(I56<=$AP$1,\"O\",\"X\"))","v":""},{"$f":"IF(O56=\"\",\"\",IF(O56<=$AQ$1,\"O\",\"X\"))","v":"O"},{"$f":"IF(M56=\"\",\"\",IF(M56<=$AR$1,\"O\",\"X\"))","v":"O"},"X",{"$f":"IF(OR(F56=\"\",AI56=\"\"),\"\",IF(AND((F56<=85),(AI56>=15)),\"O\",\"X\"))","v":"X"},{"$f":"IF(C56=\"\",\"\",IF(C56>=$AU$1,\"O\",\"X\"))","v":"X"},{"$f":"IF(AO56=\"\",\"\",IF(AND(AO56=\"O\",AP56=\"O\",AR56=\"O\",AT56=\"O\",AU56=\"O\"),\"후보\",\"X\"))","v":""}]
["석봉마을대동피렌체2단지","'04.1",266,155.80000000000001,47,127.2,39,76,null,null,null,null,{"$f":"I57-K57","v":0},{"$f":"IF(ISERROR(K57/I57),\"\",K57/I57)","v":""},{"$f":"I57/E57","v":0},{"$f":"K57/E57","v":0},4,2,"계",182,null,null,{"$f":"D57","v":155.80000000000001},{"$f":"E57","v":47},{"$f":"H57","v":76},{"$f":"I57","v":0},{"$f":"K57","v":0},0,"",0,{"$f":"S57","v":"계"},{"$f":"Q57&\"/\"&R57","v":"4/2"},null,"석봉마을대동피렌체2단지",47,{"$f":"IF(AI57=\"\",\"\",$AJ$2)","v":"A-"},"A","A+","B+",{"$f":"IF(AI57=\"\",\"\",$AN$2)","v":"C"},{"$f":"IF(N57=\"\",\"\",IF(N57>=$AO$1/100,\"O\",\"X\"))","v":""},{"$f":"IF(I57=\"\",\"\",IF(I57<=$AP$1,\"O\",\"X\"))","v":""},{"$f":"IF(O57=\"\",\"\",IF(O57<=$AQ$1,\"O\",\"X\"))","v":"O"},{"$f":"IF(M57=\"\",\"\",IF(M57<=$AR$1,\"O\",\"X\"))","v":"O"},"X",{"$f":"IF(OR(F57=\"\",AI57=\"\"),\"\",IF(AND((F57<=85),(AI57>=15)),\"O\",\"X\"))","v":"X"},{"$f":"IF(C57=\"\",\"\",IF(C57>=$AU$1,\"O\",\"X\"))","v":"X"},{"$f":"IF(AO57=\"\",\"\",IF(AND(AO57=\"O\",AP57=\"O\",AR57=\"O\",AT57=\"O\",AU57=\"O\"),\"후보\",\"X\"))","v":""}]
[null,null,null,null,null,null,null,null,null,null,null,null,null,null,null,null,null,null,null,null,null,null,{"$f":"$A$4&\" \"&A59&\"(\"&B59&\",\"&C59&\"^)\"","v":"부곡동 석봉마을대동피렌체3단지('04.1,226^)"},null,null,null,null,null,null,null,null,null,null,"",""]
["석봉마을대동피렌체3단지","'04.1",226,125.3,38,101.8,31,176,null,null,null,null,{"$f":"I59-K59","v":0},{"$f":"IF(ISERROR(K59/I59),\"\",K59/I59)","v":""},{"$f":"I59/E59","v":0},{"$f":"K59/E59","v":0},3,2,"계",124,null,null,{"$f":"D59","v":125.3},{"$f":"E59","v":38},{"$f":"H59","v":176},{"$f":"I59","v":0},{"$f":"K59","v":0},{"$f":"M59","v":0},"",0,{"$f":"S59","v":"계"},{"$f":"Q59&\"/\"&R59","v":"3/2"},null,"석봉마을대동피렌체3단지",38,{"$f":"IF(AI59=\"\",\"\",$AJ$2)","v":"A-"},"A","A+","B+",{"$f":"IF(AI59=\"\",\"\",$AN$2)","v":"C"},{"$f":"IF(N59=\"\",\"\",IF(N59>=$AO$1/100,\"O\",\"X\"))","v":""},{"$f":"IF(I59=\"\",\"\",IF(I59<=$AP$1,\"O\",\"X\"))","v":""},{"$f":"IF(O59=\"\",\"\",IF(O59<=$AQ$1,\"O\",\"X\"))","v":"O"},{"$f":"IF(M59=\"\",\"\",IF(M59<=$AR$1,\"O\",\"X\"))","v":"O"},"X",{"$f":"IF(OR(F59=\"\",AI59=\"\"),\"\",IF(AND((F59<=85),(AI59>=15)),\"O\",\"X\"))","v":"X"},{"$f":"IF(C59=\"\",\"\",IF(C59>=$AU$1,\"O\",\"X\"))","v":"X"},{"$f":"IF(AO59=\"\",\"\",IF(AND(AO59=\"O\",AP59=\"O\",AR59=\"O\",AT59=\"O\",AU59=\"O\"),\"후보\",\"X\"))","v":""}]
["석봉마을대동피렌체3단지","'04.1",226,155.69999999999999,47,127.2,39,50,null,null,null,null,{"$f":"I60-K60","v":0},{"$f":"IF(ISERROR(K60/I60),\"\",K60/I60)","v":""},{"$f":"I60/E60","v":0},{"$f":"K60/E60","v":0},4,2,"계",140,null,null,{"$f":"D60","v":155.69999999999999},{"$f":"E60","v":47},{"$f":"H60","v":50},{"$f":"I60","v":0},{"$f":"K60","v":0},0,"",0,{"$f":"S60","v":"계"},{"$f":"Q60&\"/\"&R60","v":"4/2"},null,"석봉마을대동피렌체3단지",47,{"$f":"IF(AI60=\"\",\"\",$AJ$2)","v":"A-"},"A","A+","B+",{"$f":"IF(AI60=\"\",\"\",$AN$2)","v":"C"},{"$f":"IF(N60=\"\",\"\",IF(N60>=$AO$1/100,\"O\",\"X\"))","v":""},{"$f":"IF(I60=\"\",\"\",IF(I60<=$AP$1,\"O\",\"X\"))","v":""},{"$f":"IF(O60=\"\",\"\",IF(O60<=$AQ$1,\"O\",\"X\"))","v":"O"},{"$f":"IF(M60=\"\",\"\",IF(M60<=$AR$1,\"O\",\"X\"))","v":"O"},"X",{"$f":"IF(OR(F60=\"\",AI60=\"\"),\"\",IF(AND((F60<=85),(AI60>=15)),\"O\",\"X\"))","v":"X"},{"$f":"IF(C60=\"\",\"\",IF(C60>=$AU$1,\"O\",\"X\"))","v":"X"},{"$f":"IF(AO60=\"\",\"\",IF(AND(AO60=\"O\",AP60=\"O\",AR60=\"O\",AT60=\"O\",AU60=\"O\"),\"후보\",\"X\"))","v":""}]

{"sheet":"광평동","index":13,"n_rows":9,"n_cols":48,"rows_kept":9,"cut":false,"hidden":false,"merged":[[0,35,0,39]]}
[{"$f":"단지추출!A1","v":"구미시"},null,null,null,null,null,null,null,"추출대상",null,null,null,null,null,null,null,null,null,null,null,null,null,null,"매매가 최대(색상 최대)",null,null,{"$f":"단지추출!AA1","v":70000},null,null,null,null,null,null,{"$f":"A1","v":"구미시"},null,{"$f":"A1&\" 전체 등급\"","v":"구미시 전체 등급"},null,null,null,null,{"$f":"단지추출!AO1","v":80},{"$f":"단지추출!AP1","v":45000},{"$f":"단지추출!AQ1","v":1000},{"$f":"단지추출!AR1","v":6000},null,null,{"$f":"단지추출!AU1","v":300}]
[{"$f":"단지추출!A2","v":"2022-01-01"},null,null,null,null,null,null,null,null,null,null,null,null,null,null,null,null,null,null,null,null,null,null,"매매가 최소(색상 최소)",null,null,{"$f":"단지추출!AA2","v":10000},null,null,null,null,null,null,{"$f":"AH1 &\" \" &A4","v":"구미시 내덕동"},null,{"$f":"단지추출!AJ2","v":"A-"},{"$f":"단지추출!AK2","v":"A"},{"$f":"단지추출!AL2","v":"A"},{"$f":"단지추출!AM2","v":"A"},{"$f":"단지추출!AN2","v":"C"},"원금보전",null,null,"수익성",null,"환금성"]
["단지명","입주\n연도","총세\n대수","공급\n(m2)","공급\n면적","전용\n(m2)","전용\n면적","세대","매매\n최저가","층","전세\n최고가","층","매전갭","전세\n가율","매매\n평단","전세\n평단","방","욕\n실","구\n조","매/전/월\nType","비고",null,"공급\n(m2)","공급\n면적","세대","매매가","전세가","매전갭","전세\n가율","평단가","구\n조","방/\n욕실",null,{"$f":"IF(A3=\"\",\"\",A3)","v":"단지명"},{"$f":"IF(E3=\"\",\"\",E3)","v":"공급\n면적"},"직장","교통","학군","환경","공급",{"$f":"\"전세가율★\n(\"&AO1&\"%↑)\"","v":"전세가율★\n(80%↑)"},{"$f":"\"절대가★\n(\"&AP1/10000&\"억↓)\"","v":"절대가★\n(4.5억↓)"},{"$f":"\"지역평단가\n(\"&AQ1&\"↓)\"","v":"지역평단가\n(1000↓)"},{"$f":"\"투자규모★\n(갭\"&AR1/1000&\"천↓)\"","v":"투자규모★\n(갭6천↓)"},"전고점\n이하","평형★\n(15~34평)",{"$f":"\"단지규모★\n(\"&AU1&\"^↑)\"","v":"단지규모★\n(300^↑)"},"투자후보"]
["내덕동",null,null,null,null,null,null,null,null,null,null,null,null,null,null,null,null,null,null,null,null,null,null,null,null,null,null,null,null,null,null,null,null,null,""]
[null,null,null,null,null,null,null,null,null,null,null,null,null,null,null,null,null,null,null,null,null,null,{"$f":"$A$4&\" \"&A6&\"(\"&B6&\",\"&C6&\"^)\"","v":"내덕동 내덕서희스타힐스('16.12,990^)"},null,null,null,null,null,null,null,null,null,null,{"$f":"IF(A5=\"\",\"\",A5)","v":""},""]
["내덕서희스타힐스","'16.12",990,81.400000000000006,25,59.9,18,305,null,null,null,null,{"$f":"I6-K6","v":0},{"$f":"IF(ISERROR(K6/I6),\"\",K6/I6)","v":""},{"$f":"I6/E6","v":0},{"$f":"K6/E6","v":0},3,2,"계","81A",null,null,{"$f":"D6","v":81.400000000000006},25,{"$f":"H6","v":305},0,{"$f":"K6","v":0},{"$f":"M6","v":0},"",0,{"$f":"S6","v":"계"},{"$f":"Q6&\"/\"&R6","v":"3/2"},null,{"$f":"IF(A6=\"\",\"\",A6)","v":"내덕서희스타힐스"},25,{"$f":"IF(AI6=\"\",\"\",$AJ$2)","v":"A-"},"A","A+","B+",{"$f":"IF(AI6=\"\",\"\",$AN$2)","v":"C"},{"$f":"IF(N6=\"\",\"\",IF(N6>=$AO$1/100,\"O\",\"X\"))","v":""},{"$f":"IF(I6=\"\",\"\",IF(I6<=$AP$1,\"O\",\"X\"))","v":""},{"$f":"IF(O6=\"\",\"\",IF(O6<=$AQ$1,\"O\",\"X\"))","v":"O"},{"$f":"IF(M6=\"\",\"\",IF(M6<=$AR$1,\"O\",\"X\"))","v":"O"},"X",{"$f":"IF(OR(F6=\"\",AI6=\"\"),\"\",IF(AND((F6<=85),(AI6>=15)),\"O\",\"X\"))","v":"O"},{"$f":"IF(C6=\"\",\"\",IF(C6>=$AU$1,\"O\",\"X\"))","v":"O"},{"$f":"IF(AO6=\"\",\"\",IF(AND(AO6=\"O\",AP6=\"O\",AR6=\"O\",AT6=\"O\",AU6=\"O\"),\"후보\",\"X\"))","v":""}]
["내덕서희스타힐스","'16.12",990,81.8,25,59.9,18,18,null,null,null,null,{"$f":"I7-K7","v":0},{"$f":"IF(ISERROR(K7/I7),\"\",K7/I7)","v":""},{"$f":"I7/E7","v":0},{"$f":"K7/E7","v":0},3,2,"계","81B",null,null,81.8,25,18,0,{"$f":"K7","v":0},0,"",0,{"$f":"S7","v":"계"},{"$f":"Q7&\"/\"&R7","v":"3/2"},null,{"$f":"IF(A7=\"\",\"\",A7)","v":"내덕서희스타힐스"},25,{"$f":"IF(AI7=\"\",\"\",$AJ$2)","v":"A-"},"A","A+","B+",{"$f":"IF(AI7=\"\",\"\",$AN$2)","v":"C"},{"$f":"IF(N7=\"\",\"\",IF(N7>=$AO$1/100,\"O\",\"X\"))","v":""},{"$f":"IF(I7=\"\",\"\",IF(I7<=$AP$1,\"O\",\"X\"))","v":""},{"$f":"IF(O7=\"\",\"\",IF(O7<=$AQ$1,\"O\",\"X\"))","v":"O"},{"$f":"IF(M7=\"\",\"\",IF(M7<=$AR$1,\"O\",\"X\"))","v":"O"},"X",{"$f":"IF(OR(F7=\"\",AI7=\"\"),\"\",IF(AND((F7<=85),(AI7>=15)),\"O\",\"X\"))","v":"O"},{"$f":"IF(C7=\"\",\"\",IF(C7>=$AU$1,\"O\",\"X\"))","v":"O"},{"$f":"IF(AO7=\"\",\"\",IF(AND(AO7=\"O\",AP7=\"O\",AR7=\"O\",AT7=\"O\",AU7=\"O\"),\"후보\",\"X\"))","v":""}]
["내덕서희스타힐스","'16.12",990,89.9,27,65.8,20,321,null,null,null,null,{"$f":"I8-K8","v":0},{"$f":"IF(ISERROR(K8/I8),\"\",K8/I8)","v":""},{"$f":"I8/E8","v":0},{"$f":"K8/E8","v":0},3,2,"계",89,null,null,89.9,27,321,0,{"$f":"K8","v":0},0,"",0,{"$f":"S8","v":"계"},{"$f":"Q8&\"/\"&R8","v":"3/2"},null,{"$f":"IF(A8=\"\",\"\",A8)","v":"내덕서희스타힐스"},27,{"$f":"IF(AI8=\"\",\"\",$AJ$2)","v":"A-"},"A","A+","B+",{"$f":"IF(AI8=\"\",\"\",$AN$2)","v":"C"},{"$f":"IF(N8=\"\",\"\",IF(N8>=$AO$1/100,\"O\",\"X\"))","v":""},{"$f":"IF(I8=\"\",\"\",IF(I8<=$AP$1,\"O\",\"X\"))","v":""},{"$f":"IF(O8=\"\",\"\",IF(O8<=$AQ$1,\"O\",\"X\"))","v":"O"},{"$f":"IF(M8=\"\",\"\",IF(M8<=$AR$1,\"O\",\"X\"))","v":"O"},"X",{"$f":"IF(OR(F8=\"\",AI8=\"\"),\"\",IF(AND((F8<=85),(AI8>=15)),\"O\",\"X\"))","v":"O"},{"$f":"IF(C8=\"\",\"\",IF(C8>=$AU$1,\"O\",\"X\"))","v":"O"},{"$f":"IF(AO8=\"\",\"\",IF(AND(AO8=\"O\",AP8=\"O\",AR8=\"O\",AT8=\"O\",AU8=\"O\"),\"후보\",\"X\"))","v":""}]
["내덕서희스타힐스","'16.12",990,100.9,31,74.599999999999994,23,346,null,null,null,null,{"$f":"I9-K9","v":0},{"$f":"IF(ISERROR(K9/I9),\"\",K9/I9)","v":""},{"$f":"I9/E9","v":0},{"$f":"K9/E9","v":0},3,2,"계",100,null,null,100.9,31,346,0,{"$f":"K9","v":0},0,"",0,{"$f":"S9","v":"계"},{"$f":"Q9&\"/\"&R9","v":"3/2"},null,{"$f":"IF(A9=\"\",\"\",A9)","v":"내덕서희스타힐스"},31,{"$f":"IF(AI9=\"\",\"\",$AJ$2)","v":"A-"},"A","A+","B+",{"$f":"IF(AI9=\"\",\"\",$AN$2)","v":"C"},{"$f":"IF(N9=\"\",\"\",IF(N9>=$AO$1/100,\"O\",\"X\"))","v":""},{"$f":"IF(I9=\"\",\"\",IF(I9<=$AP$1,\"O\",\"X\"))","v":""},{"$f":"IF(O9=\"\",\"\",IF(O9<=$AQ$1,\"O\",\"X\"))","v":"O"},{"$f":"IF(M9=\"\",\"\",IF(M9<=$AR$1,\"O\",\"X\"))","v":"O"},"X",{"$f":"IF(OR(F9=\"\",AI9=\"\"),\"\",IF(AND((F9<=85),(AI9>=15)),\"O\",\"X\"))","v":"O"},{"$f":"IF(C9=\"\",\"\",IF(C9>=$AU$1,\"O\",\"X\"))","v":"O"},{"$f":"IF(AO9=\"\",\"\",IF(AND(AO9=\"O\",AP9=\"O\",AR9=\"O\",AT9=\"O\",AU9=\"O\"),\"후보\",\"X\"))","v":""}]

{"sheet":"사곡동","index":14,"n_rows":22,"n_cols":48,"rows_kept":22,"cut":false,"hidden":false,"merged":[[0,35,0,39]]}
[{"$f":"단지추출!A1","v":"구미시"},null,null,null,null,null,null,null,"추출대상",null,null,null,null,null,null,null,null,null,null,null,null,null,null,"매매가 최대(색상 최대)",null,null,{"$f":"단지추출!AA1","v":70000},null,null,null,null,null,null,{"$f":"A1","v":"구미시"},null,{"$f":"A1&\" 전체 등급\"","v":"구미시 전체 등급"},null,null,null,null,{"$f":"단지추출!AO1","v":80},{"$f":"단지추출!AP1","v":45000},{"$f":"단지추출!AQ1","v":1000},{"$f":"단지추출!AR1","v":6000},null,null,{"$f":"단지추출!AU1","v":300}]
[{"$f":"단지추출!A2","v":"2022-01-01"},null,null,null,null,null,null,null,null,null,null,null,null,null,null,null,null,null,null,null,null,null,null,"매매가 최소(색상 최소)",null,null,{"$f":"단지추출!AA2","v":10000},null,null,null,null,null,null,{"$f":"AH1 &\" \" &A4","v":"구미시 부원동"},null,{"$f":"단지추출!AJ2","v":"A-"},{"$f":"단지추출!AK2","v":"A"},{"$f":"단지추출!AL2","v":"A"},{"$f":"단지추출!AM2","v":"A"},{"$f":"단지추출!AN2","v":"C"},"원금보전",null,null,"수익성",null,"환금성"]
["단지명","입주\n연도","총세\n대수","공급\n(m2)","공급\n면적","전용\n(m2)","전용\n면적","세대","매매\n최저가","층","전세\n최고가","층","매전갭","전세\n가율","매매\n평단","전세\n평단","방","욕\n실","구\n조","매/전/월\nType","비고",null,"공급\n(m2)","공급\n면적","세대","매매가","전세가","매전갭","전세\n가율","평단가","구\n조","방/\n욕실",null,{"$f":"IF(A3=\"\",\"\",A3)","v":"단지명"},{"$f":"IF(E3=\"\",\"\",E3)","v":"공급\n면적"},"직장","교통","학군","환경","공급",{"$f":"\"전세가율★\n(\"&AO1&\"%↑)\"","v":"전세가율★\n(80%↑)"},{"$f":"\"절대가★\n(\"&AP1/10000&\"억↓)\"","v":"절대가★\n(4.5억↓)"},{"$f":"\"지역평단가\n(\"&AQ1&\"↓)\"","v":"지역평단가\n(1000↓)"},{"$f":"\"투자규모★\n(갭\"&AR1/1000&\"천↓)\"","v":"투자규모★\n(갭6천↓)"},"전고점\n이하","평형★\n(15~34평)",{"$f":"\"단지규모★\n(\"&AU1&\"^↑)\"","v":"단지규모★\n(300^↑)"},"투자후보"]
["부원동",null,null,null,null,null,null,null,null,null,null,null,null,null,null,null,null,null,null,null,null,null,null,null,null,null,null,null,null,null,null,null,null,null,""]
[null,null,null,null,null,null,null,null,null,null,null,null,null,null,null,null,null,null,null,null,null,null,{"$f":"$A$4&\" \"&A6&\"(\"&B6&\",\"&C6&\"^)\"","v":"부원동 부원역푸르지오('14.08,915^)"},null,null,null,null,null,null,null,null,null,null,{"$f":"IF(A5=\"\",\"\",A5)","v":""},""]
["부원역푸르지오","'14.08",915,110,33,81.8,25,300,null,null,null,null,{"$f":"I6-K6","v":0},{"$f":"IF(ISERROR(K6/I6),\"\",K6/I6)","v":""},{"$f":"I6/E6","v":0},{"$f":"K6/E6","v":0},3,2,"계",109,null,null,{"$f":"D6","v":110},{"$f":"E6","v":33},{"$f":"H6","v":300},{"$f":"I6","v":0},{"$f":"K6","v":0},{"$f":"M6","v":0},{"$f":"N6","v":""},{"$f":"O6","v":0},{"$f":"S6","v":"계"},{"$f":"Q6&\"/\"&R6","v":"3/2"},null,"부원역푸르지오",33,{"$f":"IF(AI6=\"\",\"\",$AJ$2)","v":"A-"},"A","A+","B+",{"$f":"IF(AI6=\"\",\"\",$AN$2)","v":"C"},{"$f":"IF(N6=\"\",\"\",IF(N6>=$AO$1/100,\"O\",\"X\"))","v":""},{"$f":"IF(I6=\"\",\"\",IF(I6<=$AP$1,\"O\",\"X\"))","v":""},{"$f":"IF(O6=\"\",\"\",IF(O6<=$AQ$1,\"O\",\"X\"))","v":"O"},{"$f":"IF(M6=\"\",\"\",IF(M6<=$AR$1,\"O\",\"X\"))","v":"O"},"X",{"$f":"IF(OR(F6=\"\",AI6=\"\"),\"\",IF(AND((F6<=85),(AI6>=15)),\"O\",\"X\"))","v":"O"},{"$f":"IF(C6=\"\",\"\",IF(C6>=$AU$1,\"O\",\"X\"))","v":"O"},{"$f":"IF(AO6=\"\",\"\",IF(AND(AO6=\"O\",AP6=\"O\",AR6=\"O\",AT6=\"O\",AU6=\"O\"),\"후보\",\"X\"))","v":""}]
["부원역푸르지오","'14.08",915,114,35,85,26,300,null,null,null,null,0,"",0,0,3,2,"계","113A",null,null,114,35,300,0,0,0,"",0,"계","3/2",null,"부원역푸르지오",35,"A-","A","A+","B+","C","","","O","O","X","O","O",""]
["부원역푸르지오","'14.08",915,114.2,35,85,26,120,null,null,null,null,0,"",0,0,3,2,"계","114B",null,null,114.2,35,120,0,0,0,"",0,"계","3/2",null,"부원역푸르지오",35,"A-","A","A+","B+","C","","","O","O","X","O","O",""]
["부원역푸르지오","'14.08",915,152.9,46,114.9,35,60,null,null,null,null,0,"",0,0,4,2,"계",152,null,null,152.9,46,60,0,0,0,"",0,"계","4/2",null,"부원역푸르지오",46,"A-","A","A+","B+","C","","","O","O","X","X","O",""]
["부원역푸르지오","'14.08",915,161.1,49,121.3,37,60,null,null,null,null,0,"",0,0,4,2,"계",161,null,null,161.1,49,60,0,0,0,"",0,"계","4/2",null,"부원역푸르지오",49,"A-","A","A+","B+","C","","","O","O","X","X","O",""]
["부원역푸르지오","'14.08",915,184,56,139.19999999999999,42,60,null,null,null,null,0,"",0,0,4,2,"계",183,null,null,184,56,60,0,0,0,"",0,"계","4/2",null,"부원역푸르지오",56,"A-","A","A+","B+","C","","","O","O","X","X","O",""]
["부원역푸르지오","'14.08",915,232.4,70,174.7,53,10,null,null,null,null,0,"",0,0,4,3,"계",232,null,null,232.4,70,10,0,0,0,"",0,"계","4/3",null,"부원역푸르지오",70,"A-","A","A+","B+","C","","","O","O","X","X","O",""]
["부원역푸르지오","'14.08",915,241.4,73,181.8,55,2,null,null,null,null,0,"",0,0,4,3,"계",241,null,null,241.4,73,2,0,0,0,"",0,"계","4/3",null,"부원역푸르지오",73,"A-","A","A+","B+","C","","","O","O","X","X","O",""]
["부원역푸르지오","'14.08",915,290.89999999999998,88,219.9,67,1,null,null,null,null,0,"",0,0,4,4,"계",290,null,null,290.89999999999998,88,1,0,0,0,"",0,"계","4/4",null,"부원역푸르지오",88,"A-","A","A+","B+","C","","","O","O","X","X","O",""]
["부원역푸르지오","'14.08",915,298.7,91,225.4,68,1,null,null,null,null,0,"",0,0,4,4,"계",298,null,null,298.7,91,1,0,0,0,"",0,"계","4/4",null,"부원역푸르지오",91,"A-","A","A+","B+","C","","","O","O","X","X","O",""]
["부원역푸르지오","'14.08",915,324.89999999999998,98,244.8,74,1,null,null,null,null,0,"",0,0,4,4,"계",324,null,null,324.89999999999998,98,1,0,0,0,"",0,"계","4/4",null,"부원역푸르지오",98,"A-","A","A+","B+","C","","","O","O","X","X","O",""]
[null,null,null,null,null,null,null,null,null,null,null,null,null,null,null,null,null,null,null,null,null,null,{"$f":"$A$4&\" \"&A18&\"(\"&B18&\",\"&C18&\"^)\"","v":"부원동 부원역그린코아더센텀('19.01,390^)"},null,null,null,null,null,null,null,null,null,null,"",""]
["부원역그린코아더센텀","'19.01",390,115.7,35,84.7,26,126,null,null,null,null,{"$f":"I18-K18","v":0},{"$f":"IF(ISERROR(K18/I18),\"\",K18/I18)","v":""},{"$f":"I18/E18","v":0},{"$f":"K18/E18","v":0},3,2,"계","115B",null,null,{"$f":"D18","v":115.7},35,{"$f":"H18","v":126},0,{"$f":"K18","v":0},{"$f":"M18","v":0},"",0,{"$f":"S18","v":"계"},{"$f":"Q18&\"/\"&R18","v":"3/2"},null,"부원역그린코아더센텀",35,{"$f":"IF(AI18=\"\",\"\",$AJ$2)","v":"A-"},"A","A+","B+",{"$f":"IF(AI18=\"\",\"\",$AN$2)","v":"C"},{"$f":"IF(N18=\"\",\"\",IF(N18>=$AO$1/100,\"O\",\"X\"))","v":""},{"$f":"IF(I18=\"\",\"\",IF(I18<=$AP$1,\"O\",\"X\"))","v":""},{"$f":"IF(O18=\"\",\"\",IF(O18<=$AQ$1,\"O\",\"X\"))","v":"O"},{"$f":"IF(M18=\"\",\"\",IF(M18<=$AR$1,\"O\",\"X\"))","v":"O"},"X",{"$f":"IF(OR(F18=\"\",AI18=\"\"),\"\",IF(AND((F18<=85),(AI18>=15)),\"O\",\"X\"))","v":"O"},{"$f":"IF(C18=\"\",\"\",IF(C18>=$AU$1,\"O\",\"X\"))","v":"O"},{"$f":"IF(AO18=\"\",\"\",IF(AND(AO18=\"O\",AP18=\"O\",AR18=\"O\",AT18=\"O\",AU18=\"O\"),\"후보\",\"X\"))","v":""}]
["부원역그린코아더센텀","'19.01",390,115.9,35,84.8,26,132,null,null,null,null,{"$f":"I19-K19","v":0},{"$f":"IF(ISERROR(K19/I19),\"\",K19/I19)","v":""},{"$f":"I19/E19","v":0},{"$f":"K19/E19","v":0},3,2,"계","115C",null,null,115.9,35,132,0,{"$f":"K19","v":0},0,"",0,{"$f":"S19","v":"계"},{"$f":"Q19&\"/\"&R19","v":"3/2"},null,"부원역그린코아더센텀",35,{"$f":"IF(AI19=\"\",\"\",$AJ$2)","v":"A-"},"A","A+","B+",{"$f":"IF(AI19=\"\",\"\",$AN$2)","v":"C"},{"$f":"IF(N19=\"\",\"\",IF(N19>=$AO$1/100,\"O\",\"X\"))","v":""},{"$f":"IF(I19=\"\",\"\",IF(I19<=$AP$1,\"O\",\"X\"))","v":""},{"$f":"IF(O19=\"\",\"\",IF(O19<=$AQ$1,\"O\",\"X\"))","v":"O"},{"$f":"IF(M19=\"\",\"\",IF(M19<=$AR$1,\"O\",\"X\"))","v":"O"},"X",{"$f":"IF(OR(F19=\"\",AI19=\"\"),\"\",IF(AND((F19<=85),(AI19>=15)),\"O\",\"X\"))","v":"O"},{"$f":"IF(C19=\"\",\"\",IF(C19>=$AU$1,\"O\",\"X\"))","v":"O"},{"$f":"IF(AO19=\"\",\"\",IF(AND(AO19=\"O\",AP19=\"O\",AR19=\"O\",AT19=\"O\",AU19=\"O\"),\"후보\",\"X\"))","v":""}]
["부원역그린코아더센텀","'19.01",390,117.6,36,85,26,126,null,null,null,null,{"$f":"I20-K20","v":0},{"$f":"IF(ISERROR(K20/I20),\"\",K20/I20)","v":""},{"$f":"I20/E20","v":0},{"$f":"K20/E20","v":0},3,2,"계","117A",null,null,117.6,36,126,0,{"$f":"K20","v":0},0,"",0,{"$f":"S20","v":"계"},{"$f":"Q20&\"/\"&R20","v":"3/2"},null,"부원역그린코아더센텀",36,{"$f":"IF(AI20=\"\",\"\",$AJ$2)","v":"A-"},"A","A+","B+",{"$f":"IF(AI20=\"\",\"\",$AN$2)","v":"C"},{"$f":"IF(N20=\"\",\"\",IF(N20>=$AO$1/100,\"O\",\"X\"))","v":""},{"$f":"IF(I20=\"\",\"\",IF(I20<=$AP$1,\"O\",\"X\"))","v":""},{"$f":"IF(O20=\"\",\"\",IF(O20<=$AQ$1,\"O\",\"X\"))","v":"O"},{"$f":"IF(M20=\"\",\"\",IF(M20<=$AR$1,\"O\",\"X\"))","v":"O"},"X",{"$f":"IF(OR(F20=\"\",AI20=\"\"),\"\",IF(AND((F20<=85),(AI20>=15)),\"O\",\"X\"))","v":"O"},{"$f":"IF(C20=\"\",\"\",IF(C20>=$AU$1,\"O\",\"X\"))","v":"O"},{"$f":"IF(AO20=\"\",\"\",IF(AND(AO20=\"O\",AP20=\"O\",AR20=\"O\",AT20=\"O\",AU20=\"O\"),\"후보\",\"X\"))","v":""}]
["부원역그린코아더센텀","'19.01",390,186.5,57,135.1,41,4,null,null,null,null,{"$f":"I21-K21","v":0},{"$f":"IF(ISERROR(K21/I21),\"\",K21/I21)","v":""},{"$f":"I21/E21","v":0},{"$f":"K21/E21","v":0},4,2,"계",186,null,null,186.5,57,4,0,{"$f":"K21","v":0},0,"",0,{"$f":"S21","v":"계"},{"$f":"Q21&\"/\"&R21","v":"4/2"},null,"부원역그린코아더센텀",57,{"$f":"IF(AI21=\"\",\"\",$AJ$2)","v":"A-"},"A","A+","B+",{"$f":"IF(AI21=\"\",\"\",$AN$2)","v":"C"},{"$f":"IF(N21=\"\",\"\",IF(N21>=$AO$1/100,\"O\",\"X\"))","v":""},{"$f":"IF(I21=\"\",\"\",IF(I21<=$AP$1,\"O\",\"X\"))","v":""},{"$f":"IF(O21=\"\",\"\",IF(O21<=$AQ$1,\"O\",\"X\"))","v":"O"},{"$f":"IF(M21=\"\",\"\",IF(M21<=$AR$1,\"O\",\"X\"))","v":"O"},"X",{"$f":"IF(OR(F21=\"\",AI21=\"\"),\"\",IF(AND((F21<=85),(AI21>=15)),\"O\",\"X\"))","v":"X"},{"$f":"IF(C21=\"\",\"\",IF(C21>=$AU$1,\"O\",\"X\"))","v":"O"},{"$f":"IF(AO21=\"\",\"\",IF(AND(AO21=\"O\",AP21=\"O\",AR21=\"O\",AT21=\"O\",AU21=\"O\"),\"후보\",\"X\"))","v":""}]
["부원역그린코아더센텀","'19.01",390,230.6,70,167.6,51,2,null,null,null,null,{"$f":"I22-K22","v":0},{"$f":"IF(ISERROR(K22/I22),\"\",K22/I22)","v":""},{"$f":"I22/E22","v":0},{"$f":"K22/E22","v":0},4,2,"계",230,null,null,230.6,70,2,0,{"$f":"K22","v":0},0,"",0,{"$f":"S22","v":"계"},{"$f":"Q22&\"/\"&R22","v":"4/2"},null,"부원역그린코아더센텀",70,{"$f":"IF(AI22=\"\",\"\",$AJ$2)","v":"A-"},"A","A+","B+",{"$f":"IF(AI22=\"\",\"\",$AN$2)","v":"C"},{"$f":"IF(N22=\"\",\"\",IF(N22>=$AO$1/100,\"O\",\"X\"))","v":""},{"$f":"IF(I22=\"\",\"\",IF(I22<=$AP$1,\"O\",\"X\"))","v":""},{"$f":"IF(O22=\"\",\"\",IF(O22<=$AQ$1,\"O\",\"X\"))","v":"O"},{"$f":"IF(M22=\"\",\"\",IF(M22<=$AR$1,\"O\",\"X\"))","v":"O"},"X",{"$f":"IF(OR(F22=\"\",AI22=\"\"),\"\",IF(AND((F22<=85),(AI22>=15)),\"O\",\"X\"))","v":"X"},{"$f":"IF(C22=\"\",\"\",IF(C22>=$AU$1,\"O\",\"X\"))","v":"O"},{"$f":"IF(AO22=\"\",\"\",IF(AND(AO22=\"O\",AP22=\"O\",AR22=\"O\",AT22=\"O\",AU22=\"O\"),\"후보\",\"X\"))","v":""}]

{"sheet":"상모동","index":15,"n_rows":67,"n_cols":48,"rows_kept":67,"cut":false,"hidden":false,"merged":[[0,35,0,39]]}
[{"$f":"단지추출!A1","v":"구미시"},null,null,null,null,null,null,null,"추출대상",null,null,null,null,null,null,null,null,null,null,null,null,null,null,"매매가 최대(색상 최대)",null,null,{"$f":"단지추출!AA1","v":70000},null,null,null,null,null,null,{"$f":"A1","v":"구미시"},null,{"$f":"A1&\" 전체 등급\"","v":"구미시 전체 등급"},null,null,null,null,{"$f":"단지추출!AO1","v":80},{"$f":"단지추출!AP1","v":45000},{"$f":"단지추출!AQ1","v":1000},{"$f":"단지추출!AR1","v":6000},null,null,{"$f":"단지추출!AU1","v":300}]
[{"$f":"단지추출!A2","v":"2022-01-01"},null,null,null,null,null,null,null,null,null,null,null,null,null,null,null,null,null,null,null,null,null,null,"매매가 최소(색상 최소)",null,null,{"$f":"단지추출!AA2","v":10000},null,null,null,null,null,null,{"$f":"AH1 &\" \" &A4","v":"구미시 삼계동"},null,{"$f":"단지추출!AJ2","v":"A-"},{"$f":"단지추출!AK2","v":"A"},{"$f":"단지추출!AL2","v":"A"},{"$f":"단지추출!AM2","v":"A"},{"$f":"단지추출!AN2","v":"C"},"원금보전",null,null,"수익성",null,"환금성"]
["단지명","입주\n연도","총세\n대수","공급\n(m2)","공급\n면적","전용\n(m2)","전용\n면적","세대","매매\n최저가","층","전세\n최고가","층","매전갭","전세\n가율","매매\n평단","전세\n평단","방","욕\n실","구\n조","매/전/월\nType","비고",null,"공급\n(m2)","공급\n면적","세대","매매가","전세가","매전갭","전세\n가율","평단가","구\n조","방/\n욕실",null,{"$f":"IF(A3=\"\",\"\",A3)","v":"단지명"},{"$f":"IF(E3=\"\",\"\",E3)","v":"공급\n면적"},"직장","교통","학군","환경","공급",{"$f":"\"전세가율★\n(\"&AO1&\"%↑)\"","v":"전세가율★\n(80%↑)"},{"$f":"\"절대가★\n(\"&AP1/10000&\"억↓)\"","v":"절대가★\n(4.5억↓)"},{"$f":"\"지역평단가\n(\"&AQ1&\"↓)\"","v":"지역평단가\n(1000↓)"},{"$f":"\"투자규모★\n(갭\"&AR1/1000&\"천↓)\"","v":"투자규모★\n(갭6천↓)"},"전고점\n이하","평형★\n(15~34평)",{"$f":"\"단지규모★\n(\"&AU1&\"^↑)\"","v":"단지규모★\n(300^↑)"},"투자후보"]
["삼계동",null,null,null,null,null,null,null,null,null,null,null,null,null,null,null,null,null,null,null,null,null,null,null,null,null,null,null,null,null,null,null,null,null,""]
[null,null,null,null,null,null,null,null,null,null,null,null,null,null,null,null,null,null,null,null,null,null,{"$f":"$A$4&\" \"&A6&\"(\"&B6&\",\"&C6&\"^)\"","v":"삼계동 화정마을6단지부영('03.07,1396^)"},null,null,null,null,null,null,null,null,null,null,{"$f":"IF(A5=\"\",\"\",A5)","v":""},""]
["화정마을6단지부영","'03.07",1396,68.3,21,49.8,15,1126,null,null,null,null,{"$f":"I6-K6","v":0},{"$f":"IF(ISERROR(K6/I6),\"\",K6/I6)","v":""},{"$f":"I6/E6","v":0},{"$f":"K6/E6","v":0},2,1,"계",68,null,null,{"$f":"D6","v":68.3},{"$f":"E6","v":21},{"$f":"H6","v":1126},{"$f":"I6","v":0},{"$f":"K6","v":0},{"$f":"M6","v":0},"",0,{"$f":"S6","v":"계"},{"$f":"Q6&\"/\"&R6","v":"2/1"},null,"화정마을6단지부영",21,{"$f":"IF(AI6=\"\",\"\",$AJ$2)","v":"A-"},"A","A+","B+",{"$f":"IF(AI6=\"\",\"\",$AN$2)","v":"C"},{"$f":"IF(N6=\"\",\"\",IF(N6>=$AO$1/100,\"O\",\"X\"))","v":""},{"$f":"IF(I6=\"\",\"\",IF(I6<=$AP$1,\"O\",\"X\"))","v":""},{"$f":"IF(O6=\"\",\"\",IF(O6<=$AQ$1,\"O\",\"X\"))","v":"O"},{"$f":"IF(M6=\"\",\"\",IF(M6<=$AR$1,\"O\",\"X\"))","v":"O"},"X",{"$f":"IF(OR(F6=\"\",AI6=\"\"),\"\",IF(AND((F6<=85),(AI6>=15)),\"O\",\"X\"))","v":"O"},{"$f":"IF(C6=\"\",\"\",IF(C6>=$AU$1,\"O\",\"X\"))","v":"O"},{"$f":"IF(AO6=\"\",\"\",IF(AND(AO6=\"O\",AP6=\"O\",AR6=\"O\",AT6=\"O\",AU6=\"O\"),\"후보\",\"X\"))","v":""}]
["화정마을6단지부영","'03.07",1396,77.3,23,59.8,18,270,null,null,null,null,{"$f":"I7-K7","v":0},{"$f":"IF(ISERROR(K7/I7),\"\",K7/I7)","v":""},{"$f":"I7/E7","v":0},{"$f":"K7/E7","v":0},3,2,"계",77,null,null,{"$f":"D7","v":77.3},{"$f":"E7","v":23},{"$f":"H7","v":270},{"$f":"I7","v":0},{"$f":"K7","v":0},0,"",0,{"$f":"S7","v":"계"},{"$f":"Q7&\"/\"&R7","v":"3/2"},null,"화정마을6단지부영",23,{"$f":"IF(AI7=\"\",\"\",$AJ$2)","v":"A-"},"A","A+","B+",{"$f":"IF(AI7=\"\",\"\",$AN$2)","v":"C"},{"$f":"IF(N7=\"\",\"\",IF(N7>=$AO$1/100,\"O\",\"X\"))","v":""},{"$f":"IF(I7=\"\",\"\",IF(I7<=$AP$1,\"O\",\"X\"))","v":""},{"$f":"IF(O7=\"\",\"\",IF(O7<=$AQ$1,\"O\",\"X\"))","v":"O"},{"$f":"IF(M7=\"\",\"\",IF(M7<=$AR$1,\"O\",\"X\"))","v":"O"},"X",{"$f":"IF(OR(F7=\"\",AI7=\"\"),\"\",IF(AND((F7<=85),(AI7>=15)),\"O\",\"X\"))","v":"O"},{"$f":"IF(C7=\"\",\"\",IF(C7>=$AU$1,\"O\",\"X\"))","v":"O"},{"$f":"IF(AO7=\"\",\"\",IF(AND(AO7=\"O\",AP7=\"O\",AR7=\"O\",AT7=\"O\",AU7=\"O\"),\"후보\",\"X\"))","v":""}]
[null,null,null,null,null,null,null,null,null,null,null,null,null,null,null,null,null,null,null,null,null,null,{"$f":"$A$4&\" \"&A9&\"(\"&B9&\",\"&C9&\"^)\"","v":"삼계동 분성마을1단지현대('01.11,1226^)"},null,null,null,null,null,null,null,null,null,null,"",""]
["분성마을1단지현대","'01.11",1226,92.1,28,77.099999999999994,23,438,null,null,null,null,{"$f":"I9-K9","v":0},{"$f":"IF(ISERROR(K9/I9),\"\",K9/I9)","v":""},{"$f":"I9/E9","v":0},{"$f":"K9/E9","v":0},3,2,"계",92,null,null,{"$f":"D9","v":92.1},{"$f":"E9","v":28},{"$f":"H9","v":438},{"$f":"I9","v":0},{"$f":"K9","v":0},{"$f":"M9","v":0},"",0,{"$f":"S9","v":"계"},{"$f":"Q9&\"/\"&R9","v":"3/2"},null,"분성마을1단지현대",28,{"$f":"IF(AI9=\"\",\"\",$AJ$2)","v":"A-"},"A","A+","B+",{"$f":"IF(AI9=\"\",\"\",$AN$2)","v":"C"},{"$f":"IF(N9=\"\",\"\",IF(N9>=$AO$1/100,\"O\",\"X\"))","v":""},{"$f":"IF(I9=\"\",\"\",IF(I9<=$AP$1,\"O\",\"X\"))","v":""},{"$f":"IF(O9=\"\",\"\",IF(O9<=$AQ$1,\"O\",\"X\"))","v":"O"},{"$f":"IF(M9=\"\",\"\",IF(M9<=$AR$1,\"O\",\"X\"))","v":"O"},"X",{"$f":"IF(OR(F9=\"\",AI9=\"\"),\"\",IF(AND((F9<=85),(AI9>=15)),\"O\",\"X\"))","v":"O"},{"$f":"IF(C9=\"\",\"\",IF(C9>=$AU$1,\"O\",\"X\"))","v":"O"},{"$f":"IF(AO9=\"\",\"\",IF(AND(AO9=\"O\",AP9=\"O\",AR9=\"O\",AT9=\"O\",AU9=\"O\"),\"후보\",\"X\"))","v":""}]
["분성마을1단지현대","'01.11",1226,101.5,31,85,26,492,null,null,null,null,{"$f":"I10-K10","v":0},{"$f":"IF(ISERROR(K10/I10),\"\",K10/I10)","v":""},{"$f":"I10/E10","v":0},{"$f":"K10/E10","v":0},3,2,"계","101A",null,null,{"$f":"D10","v":101.5},{"$f":"E10","v":31},{"$f":"H10","v":492},{"$f":"I10","v":0},{"$f":"K10","v":0},0,"",0,{"$f":"S10","v":"계"},{"$f":"Q10&\"/\"&R10","v":"3/2"},null,"분성마을1단지현대",31,{"$f":"IF(AI10=\"\",\"\",$AJ$2)","v":"A-"},"A","A+","B+",{"$f":"IF(AI10=\"\",\"\",$AN$2)","v":"C"},{"$f":"IF(N10=\"\",\"\",IF(N10>=$AO$1/100,\"O\",\"X\"))","v":""},{"$f":"IF(I10=\"\",\"\",IF(I10<=$AP$1,\"O\",\"X\"))","v":""},{"$f":"IF(O10=\"\",\"\",IF(O10<=$AQ$1,\"O\",\"X\"))","v":"O"},{"$f":"IF(M10=\"\",\"\",IF(M10<=$AR$1,\"O\",\"X\"))","v":"O"},"X",{"$f":"IF(OR(F10=\"\",AI10=\"\"),\"\",IF(AND((F10<=85),(AI10>=15)),\"O\",\"X\"))","v":"O"},{"$f":"IF(C10=\"\",\"\",IF(C10>=$AU$1,\"O\",\"X\"))","v":"O"},{"$f":"IF(AO10=\"\",\"\",IF(AND(AO10=\"O\",AP10=\"O\",AR10=\"O\",AT10=\"O\",AU10=\"O\"),\"후보\",\"X\"))","v":""}]
[null,null,null,null,null,null,null,null,null,null,null,null,null,null,null,null,null,null,null,null,null,null,{"$f":"$A$4&\" \"&A12&\"(\"&B12&\",\"&C12&\"^)\"","v":"삼계동 구지마을3단지푸르지오('07.04,1098^)"},null,null,null,null,null,null,null,null,null,null,"",""]
["구지마을3단지푸르지오","'07.04",1098,114.3,35,84.9,26,104,null,null,null,null,{"$f":"I12-K12","v":0},{"$f":"IF(ISERROR(K12/I12),\"\",K12/I12)","v":""},{"$f":"I12/E12","v":0},{"$f":"K12/E12","v":0},3,2,"계",114,null,null,{"$f":"D12","v":114.3},35,{"$f":"H12","v":104},0,{"$f":"K12","v":0},{"$f":"M12","v":0},"",0,{"$f":"S12","v":"계"},{"$f":"Q12&\"/\"&R12","v":"3/2"},null,"구지마을3단지푸르지오",35,{"$f":"IF(AI12=\"\",\"\",$AJ$2)","v":"A-"},"A","A+","B+",{"$f":"IF(AI12=\"\",\"\",$AN$2)","v":"C"},{"$f":"IF(N12=\"\",\"\",IF(N12>=$AO$1/100,\"O\",\"X\"))","v":""},{"$f":"IF(I12=\"\",\"\",IF(I12<=$AP$1,\"O\",\"X\"))","v":""},{"$f":"IF(O12=\"\",\"\",IF(O12<=$AQ$1,\"O\",\"X\"))","v":"O"},{"$f":"IF(M12=\"\",\"\",IF(M12<=$AR$1,\"O\",\"X\"))","v":"O"},"X",{"$f":"IF(OR(F12=\"\",AI12=\"\"),\"\",IF(AND((F12<=85),(AI12>=15)),\"O\",\"X\"))","v":"O"},{"$f":"IF(C12=\"\",\"\",IF(C12>=$AU$1,\"O\",\"X\"))","v":"O"},{"$f":"IF(AO12=\"\",\"\",IF(AND(AO12=\"O\",AP12=\"O\",AR12=\"O\",AT12=\"O\",AU12=\"O\"),\"후보\",\"X\"))","v":""}]
["구지마을3단지푸르지오","'07.04",1098,130.30000000000001,39,100.9,31,390,null,null,null,null,{"$f":"I13-K13","v":0},{"$f":"IF(ISERROR(K13/I13),\"\",K13/I13)","v":""},{"$f":"I13/E13","v":0},{"$f":"K13/E13","v":0},3,2,"계",130,null,null,130.30000000000001,39,390,0,{"$f":"K13","v":0},0,"",0,{"$f":"S13","v":"계"},{"$f":"Q13&\"/\"&R13","v":"3/2"},null,"구지마을3단지푸르지오",39,{"$f":"IF(AI13=\"\",\"\",$AJ$2)","v":"A-"},"A","A+","B+",{"$f":"IF(AI13=\"\",\"\",$AN$2)","v":"C"},{"$f":"IF(N13=\"\",\"\",IF(N13>=$AO$1/100,\"O\",\"X\"))","v":""},{"$f":"IF(I13=\"\",\"\",IF(I13<=$AP$1,\"O\",\"X\"))","v":""},{"$f":"IF(O13=\"\",\"\",IF(O13<=$AQ$1,\"O\",\"X\"))","v":"O"},{"$f":"IF(M13=\"\",\"\",IF(M13<=$AR$1,\"O\",\"X\"))","v":"O"},"X",{"$f":"IF(OR(F13=\"\",AI13=\"\"),\"\",IF(AND((F13<=85),(AI13>=15)),\"O\",\"X\"))","v":"X"},{"$f":"IF(C13=\"\",\"\",IF(C13>=$AU$1,\"O\",\"X\"))","v":"O"},{"$f":"IF(AO13=\"\",\"\",IF(AND(AO13=\"O\",AP13=\"O\",AR13=\"O\",AT13=\"O\",AU13=\"O\"),\"후보\",\"X\"))","v":""}]
["구지마을3단지푸르지오","'07.04",1098,155.30000000000001,47,124.2,38,202,null,null,null,null,{"$f":"I14-K14","v":0},{"$f":"IF(ISERROR(K14/I14),\"\",K14/I14)","v":""},{"$f":"I14/E14","v":0},{"$f":"K14/E14","v":0},4,2,"계",155,null,null,155.30000000000001,47,202,0,{"$f":"K14","v":0},0,"",0,{"$f":"S14","v":"계"},{"$f":"Q14&\"/\"&R14","v":"4/2"},null,"구지마을3단지푸르지오",47,{"$f":"IF(AI14=\"\",\"\",$AJ$2)","v":"A-"},"A","A+","B+",{"$f":"IF(AI14=\"\",\"\",$AN$2)","v":"C"},{"$f":"IF(N14=\"\",\"\",IF(N14>=$AO$1/100,\"O\",\"X\"))","v":""},{"$f":"IF(I14=\"\",\"\",IF(I14<=$AP$1,\"O\",\"X\"))","v":""},{"$f":"IF(O14=\"\",\"\",IF(O14<=$AQ$1,\"O\",\"X\"))","v":"O"},{"$f":"IF(M14=\"\",\"\",IF(M14<=$AR$1,\"O\",\"X\"))","v":"O"},"X",{"$f":"IF(OR(F14=\"\",AI14=\"\"),\"\",IF(AND((F14<=85),(AI14>=15)),\"O\",\"X\"))","v":"X"},{"$f":"IF(C14=\"\",\"\",IF(C14>=$AU$1,\"O\",\"X\"))","v":"O"},{"$f":"IF(AO14=\"\",\"\",IF(AND(AO14=\"O\",AP14=\"O\",AR14=\"O\",AT14=\"O\",AU14=\"O\"),\"후보\",\"X\"))","v":""}]
["구지마을3단지푸르지오","'07.04",1098,167,51,136.9,41,100,null,null,null,null,{"$f":"I15-K15","v":0},{"$f":"IF(ISERROR(K15/I15),\"\",K15/I15)","v":""},{"$f":"I15/E15","v":0},{"$f":"K15/E15","v":0},4,2,"계",167,null,null,167,51,100,0,{"$f":"K15","v":0},0,"",0,{"$f":"S15","v":"계"},{"$f":"Q15&\"/\"&R15","v":"4/2"},null,"구지마을3단지푸르지오",51,{"$f":"IF(AI15=\"\",\"\",$AJ$2)","v":"A-"},"A","A+","B+",{"$f":"IF(AI15=\"\",\"\",$AN$2)","v":"C"},{"$f":"IF(N15=\"\",\"\",IF(N15>=$AO$1/100,\"O\",\"X\"))","v":""},{"$f":"IF(I15=\"\",\"\",IF(I15<=$AP$1,\"O\",\"X\"))","v":""},{"$f":"IF(O15=\"\",\"\",IF(O15<=$AQ$1,\"O\",\"X\"))","v":"O"},{"$f":"IF(M15=\"\",\"\",IF(M15<=$AR$1,\"O\",\"X\"))","v":"O"},"X",{"$f":"IF(OR(F15=\"\",AI15=\"\"),\"\",IF(AND((F15<=85),(AI15>=15)),\"O\",\"X\"))","v":"X"},{"$f":"IF(C15=\"\",\"\",IF(C15>=$AU$1,\"O\",\"X\"))","v":"O"},{"$f":"IF(AO15=\"\",\"\",IF(AND(AO15=\"O\",AP15=\"O\",AR15=\"O\",AT15=\"O\",AU15=\"O\"),\"후보\",\"X\"))","v":""}]
["구지마을3단지푸르지오","'07.04",1098,183.3,56,149.5,45,154,null,null,null,null,{"$f":"I16-K16","v":0},{"$f":"IF(ISERROR(K16/I16),\"\",K16/I16)","v":""},{"$f":"I16/E16","v":0},{"$f":"K16/E16","v":0},4,2,"계",183,null,null,183.3,56,154,0,{"$f":"K16","v":0},0,"",0,{"$f":"S16","v":"계"},{"$f":"Q16&\"/\"&R16","v":"4/2"},null,"구지마을3단지푸르지오",56,{"$f":"IF(AI16=\"\",\"\",$AJ$2)","v":"A-"},"A","A+","B+",{"$f":"IF(AI16=\"\",\"\",$AN$2)","v":"C"},{"$f":"IF(N16=\"\",\"\",IF(N16>=$AO$1/100,\"O\",\"X\"))","v":""},{"$f":"IF(I16=\"\",\"\",IF(I16<=$AP$1,\"O\",\"X\"))","v":""},{"$f":"IF(O16=\"\",\"\",IF(O16<=$AQ$1,\"O\",\"X\"))","v":"O"},{"$f":"IF(M16=\"\",\"\",IF(M16<=$AR$1,\"O\",\"X\"))","v":"O"},"X",{"$f":"IF(OR(F16=\"\",AI16=\"\"),\"\",IF(AND((F16<=85),(AI16>=15)),\"O\",\"X\"))","v":"X"},{"$f":"IF(C16=\"\",\"\",IF(C16>=$AU$1,\"O\",\"X\"))","v":"O"},{"$f":"IF(AO16=\"\",\"\",IF(AND(AO16=\"O\",AP16=\"O\",AR16=\"O\",AT16=\"O\",AU16=\"O\"),\"후보\",\"X\"))","v":""}]
[null,null,null,null,null,null,null,null,null,null,null,null,null,null,null,null,null,null,null,null,null,null,{"$f":"$A$4&\" \"&A18&\"(\"&B18&\",\"&C18&\"^)\"","v":"삼계동 분성마을5단지푸르지오('06.01,1072^)"},null,null,null,null,null,null,null,null,null,null,"",""]
["분성마을5단지푸르지오","'06.01",1072,83.8,25,59.6,18,358,null,null,null,null,{"$f":"I18-K18","v":0},{"$f":"IF(ISERROR(K18/I18),\"\",K18/I18)","v":""},{"$f":"I18/E18","v":0},{"$f":"K18/E18","v":0},3,2,"계",83,null,null,{"$f":"D18","v":83.8},25,{"$f":"H18","v":358},0,{"$f":"K18","v":0},{"$f":"M18","v":0},"",0,{"$f":"S18","v":"계"},{"$f":"Q18&\"/\"&R18","v":"3/2"},null,"분성마을5단지푸르지오",25,{"$f":"IF(AI18=\"\",\"\",$AJ$2)","v":"A-"},"A","A+","B+",{"$f":"IF(AI18=\"\",\"\",$AN$2)","v":"C"},{"$f":"IF(N18=\"\",\"\",IF(N18>=$AO$1/100,\"O\",\"X\"))","v":""},{"$f":"IF(I18=\"\",\"\",IF(I18<=$AP$1,\"O\",\"X\"))","v":""},{"$f":"IF(O18=\"\",\"\",IF(O18<=$AQ$1,\"O\",\"X\"))","v":"O"},{"$f":"IF(M18=\"\",\"\",IF(M18<=$AR$1,\"O\",\"X\"))","v":"O"},"X",{"$f":"IF(OR(F18=\"\",AI18=\"\"),\"\",IF(AND((F18<=85),(AI18>=15)),\"O\",\"X\"))","v":"O"},{"$f":"IF(C18=\"\",\"\",IF(C18>=$AU$1,\"O\",\"X\"))","v":"O"},{"$f":"IF(AO18=\"\",\"\",IF(AND(AO18=\"O\",AP18=\"O\",AR18=\"O\",AT18=\"O\",AU18=\"O\"),\"후보\",\"X\"))","v":""}]
["분성마을5단지푸르지오","'06.01",1072,101,31,75.5,23,110,null,null,null,null,{"$f":"I19-K19","v":0},{"$f":"IF(ISERROR(K19/I19),\"\",K19/I19)","v":""},{"$f":"I19/E19","v":0},{"$f":"K19/E19","v":0},3,2,"계",101,null,null,101,31,110,0,{"$f":"K19","v":0},0,"",0,{"$f":"S19","v":"계"},{"$f":"Q19&\"/\"&R19","v":"3/2"},null,"분성마을5단지푸르지오",31,{"$f":"IF(AI19=\"\",\"\",$AJ$2)","v":"A-"},"A","A+","B+",{"$f":"IF(AI19=\"\",\"\",$AN$2)","v":"C"},{"$f":"IF(N19=\"\",\"\",IF(N19>=$AO$1/100,\"O\",\"X\"))","v":""},{"$f":"IF(I19=\"\",\"\",IF(I19<=$AP$1,\"O\",\"X\"))","v":""},{"$f":"IF(O19=\"\",\"\",IF(O19<=$AQ$1,\"O\",\"X\"))","v":"O"},{"$f":"IF(M19=\"\",\"\",IF(M19<=$AR$1,\"O\",\"X\"))","v":"O"},"X",{"$f":"IF(OR(F19=\"\",AI19=\"\"),\"\",IF(AND((F19<=85),(AI19>=15)),\"O\",\"X\"))","v":"O"},{"$f":"IF(C19=\"\",\"\",IF(C19>=$AU$1,\"O\",\"X\"))","v":"O"},{"$f":"IF(AO19=\"\",\"\",IF(AND(AO19=\"O\",AP19=\"O\",AR19=\"O\",AT19=\"O\",AU19=\"O\"),\"후보\",\"X\"))","v":""}]
["분성마을5단지푸르지오","'06.01",1072,115.4,35,84.9,26,507,null,null,null,null,{"$f":"I20-K20","v":0},{"$f":"IF(ISERROR(K20/I20),\"\",K20/I20)","v":""},{"$f":"I20/E20","v":0},{"$f":"K20/E20","v":0},3,2,"계","115A",null,null,115.4,35,507,0,{"$f":"K20","v":0},0,"",0,{"$f":"S20","v":"계"},{"$f":"Q20&\"/\"&R20","v":"3/2"},null,"분성마을5단지푸르지오",35,{"$f":"IF(AI20=\"\",\"\",$AJ$2)","v":"A-"},"A","A+","B+",{"$f":"IF(AI20=\"\",\"\",$AN$2)","v":"C"},{"$f":"IF(N20=\"\",\"\",IF(N20>=$AO$1/100,\"O\",\"X\"))","v":""},{"$f":"IF(I20=\"\",\"\",IF(I20<=$AP$1,\"O\",\"X\"))","v":""},{"$f":"IF(O20=\"\",\"\",IF(O20<=$AQ$1,\"O\",\"X\"))","v":"O"},{"$f":"IF(M20=\"\",\"\",IF(M20<=$AR$1,\"O\",\"X\"))","v":"O"},"X",{"$f":"IF(OR(F20=\"\",AI20=\"\"),\"\",IF(AND((F20<=85),(AI20>=15)),\"O\",\"X\"))","v":"O"},{"$f":"IF(C20=\"\",\"\",IF(C20>=$AU$1,\"O\",\"X\"))","v":"O"},{"$f":"IF(AO20=\"\",\"\",IF(AND(AO20=\"O\",AP20=\"O\",AR20=\"O\",AT20=\"O\",AU20=\"O\"),\"후보\",\"X\"))","v":""}]
[null,null,null,null,null,null,null,null,null,null,null,null,null,null,null,null,null,null,null,null,null,null,{"$f":"$A$4&\" \"&A22&\"(\"&B22&\",\"&C22&\"^)\"","v":"삼계동 분성마을2단지부영('05.03,952^)"},null,null,null,null,null,null,null,null,null,null,"",""]
["분성마을2단지부영","'05.03",952,78.8,24,59.8,18,144,null,null,null,null,{"$f":"I22-K22","v":0},{"$f":"IF(ISERROR(K22/I22),\"\",K22/I22)","v":""},{"$f":"I22/E22","v":0},{"$f":"K22/E22","v":0},3,2,"계",78,null,null,{"$f":"D22","v":78.8},{"$f":"E22","v":24},{"$f":"H22","v":144},{"$f":"I22","v":0},{"$f":"K22","v":0},{"$f":"M22","v":0},"",0,{"$f":"S22","v":"계"},{"$f":"Q22&\"/\"&R22","v":"3/2"},null,"분성마을2단지부영",24,{"$f":"IF(AI22=\"\",\"\",$AJ$2)","v":"A-"},"A","A+","B+",{"$f":"IF(AI22=\"\",\"\",$AN$2)","v":"C"},{"$f":"IF(N22=\"\",\"\",IF(N22>=$AO$1/100,\"O\",\"X\"))","v":""},{"$f":"IF(I22=\"\",\"\",IF(I22<=$AP$1,\"O\",\"X\"))","v":""},{"$f":"IF(O22=\"\",\"\",IF(O22<=$AQ$1,\"O\",\"X\"))","v":"O"},{"$f":"IF(M22=\"\",\"\",IF(M22<=$AR$1,\"O\",\"X\"))","v":"O"},"X",{"$f":"IF(OR(F22=\"\",AI22=\"\"),\"\",IF(AND((F22<=85),(AI22>=15)),\"O\",\"X\"))","v":"O"},{"$f":"IF(C22=\"\",\"\",IF(C22>=$AU$1,\"O\",\"X\"))","v":"O"},{"$f":"IF(AO22=\"\",\"\",IF(AND(AO22=\"O\",AP22=\"O\",AR22=\"O\",AT22=\"O\",AU22=\"O\"),\"후보\",\"X\"))","v":""}]
["분성마을2단지부영","'05.03",952,106,32,84.8,26,807,null,null,null,null,{"$f":"I23-K23","v":0},{"$f":"IF(ISERROR(K23/I23),\"\",K23/I23)","v":""},{"$f":"I23/E23","v":0},{"$f":"K23/E23","v":0},3,2,"계","106A",null,null,{"$f":"D23","v":106},{"$f":"E23","v":32},{"$f":"H23","v":807},{"$f":"I23","v":0},{"$f":"K23","v":0},0,"",0,{"$f":"S23","v":"계"},{"$f":"Q23&\"/\"&R23","v":"3/2"},null,"분성마을2단지부영",32,{"$f":"IF(AI23=\"\",\"\",$AJ$2)","v":"A-"},"A","A+","B+",{"$f":"IF(AI23=\"\",\"\",$AN$2)","v":"C"},{"$f":"IF(N23=\"\",\"\",IF(N23>=$AO$1/100,\"O\",\"X\"))","v":""},{"$f":"IF(I23=\"\",\"\",IF(I23<=$AP$1,\"O\",\"X\"))","v":""},{"$f":"IF(O23=\"\",\"\",IF(O23<=$AQ$1,\"O\",\"X\"))","v":"O"},{"$f":"IF(M23=\"\",\"\",IF(M23<=$AR$1,\"O\",\"X\"))","v":"O"},"X",{"$f":"IF(OR(F23=\"\",AI23=\"\"),\"\",IF(AND((F23<=85),(AI23>=15)),\"O\",\"X\"))","v":"O"},{"$f":"IF(C23=\"\",\"\",IF(C23>=$AU$1,\"O\",\"X\"))","v":"O"},{"$f":"IF(AO23=\"\",\"\",IF(AND(AO23=\"O\",AP23=\"O\",AR23=\"O\",AT23=\"O\",AU23=\"O\"),\"후보\",\"X\"))","v":""}]
[null,null,null,null,null,null,null,null,null,null,null,null,null,null,null,null,null,null,null,null,null,null,{"$f":"$A$4&\" \"&A25&\"(\"&B25&\",\"&C25&\"^)\"","v":"삼계동 분성마을3단지동원로얄듀크('05.03,942^)"},null,null,null,null,null,null,null,null,null,null,"",""]
["분성마을3단지동원로얄듀크","'05.03",942,93.4,28,68,21,272,null,null,null,null,{"$f":"I25-K25","v":0},{"$f":"IF(ISERROR(K25/I25),\"\",K25/I25)","v":""},{"$f":"I25/E25","v":0},{"$f":"K25/E25","v":0},3,2,"계","93A",null,null,{"$f":"D25","v":93.4},28,{"$f":"H25","v":272},0,{"$f":"K25","v":0},{"$f":"M25","v":0},"",0,{"$f":"S25","v":"계"},{"$f":"Q25&\"/\"&R25","v":"3/2"},null,"분성마을3단지동원로얄듀크",28,{"$f":"IF(AI25=\"\",\"\",$AJ$2)","v":"A-"},"A","A+","B+",{"$f":"IF(AI25=\"\",\"\",$AN$2)","v":"C"},{"$f":"IF(N25=\"\",\"\",IF(N25>=$AO$1/100,\"O\",\"X\"))","v":""},{"$f":"IF(I25=\"\",\"\",IF(I25<=$AP$1,\"O\",\"X\"))","v":""},{"$f":"IF(O25=\"\",\"\",IF(O25<=$AQ$1,\"O\",\"X\"))","v":"O"},{"$f":"IF(M25=\"\",\"\",IF(M25<=$AR$1,\"O\",\"X\"))","v":"O"},"X",{"$f":"IF(OR(F25=\"\",AI25=\"\"),\"\",IF(AND((F25<=85),(AI25>=15)),\"O\",\"X\"))","v":"O"},{"$f":"IF(C25=\"\",\"\",IF(C25>=$AU$1,\"O\",\"X\"))","v":"O"},{"$f":"IF(AO25=\"\",\"\",IF(AND(AO25=\"O\",AP25=\"O\",AR25=\"O\",AT25=\"O\",AU25=\"O\"),\"후보\",\"X\"))","v":""}]
["분성마을3단지동원로얄듀크","'05.03",942,104.1,32,79.099999999999994,24,239,null,null,null,null,{"$f":"I26-K26","v":0},{"$f":"IF(ISERROR(K26/I26),\"\",K26/I26)","v":""},{"$f":"I26/E26","v":0},{"$f":"K26/E26","v":0},3,2,"계",104,null,null,104.1,32,239,0,{"$f":"K26","v":0},0,"",0,{"$f":"S26","v":"계"},{"$f":"Q26&\"/\"&R26","v":"3/2"},null,"분성마을3단지동원로얄듀크",32,{"$f":"IF(AI26=\"\",\"\",$AJ$2)","v":"A-"},"A","A+","B+",{"$f":"IF(AI26=\"\",\"\",$AN$2)","v":"C"},{"$f":"IF(N26=\"\",\"\",IF(N26>=$AO$1/100,\"O\",\"X\"))","v":""},{"$f":"IF(I26=\"\",\"\",IF(I26<=$AP$1,\"O\",\"X\"))","v":""},{"$f":"IF(O26=\"\",\"\",IF(O26<=$AQ$1,\"O\",\"X\"))","v":"O"},{"$f":"IF(M26=\"\",\"\",IF(M26<=$AR$1,\"O\",\"X\"))","v":"O"},"X",{"$f":"IF(OR(F26=\"\",AI26=\"\"),\"\",IF(AND((F26<=85),(AI26>=15)),\"O\",\"X\"))","v":"O"},{"$f":"IF(C26=\"\",\"\",IF(C26>=$AU$1,\"O\",\"X\"))","v":"O"},{"$f":"IF(AO26=\"\",\"\",IF(AND(AO26=\"O\",AP26=\"O\",AR26=\"O\",AT26=\"O\",AU26=\"O\"),\"후보\",\"X\"))","v":""}]
["분성마을3단지동원로얄듀크","'05.03",942,115.8,35,85,26,430,null,null,null,null,{"$f":"I27-K27","v":0},{"$f":"IF(ISERROR(K27/I27),\"\",K27/I27)","v":""},{"$f":"I27/E27","v":0},{"$f":"K27/E27","v":0},3,2,"계",115,null,null,115.8,35,430,0,{"$f":"K27","v":0},0,"",0,{"$f":"S27","v":"계"},{"$f":"Q27&\"/\"&R27","v":"3/2"},null,"분성마을3단지동원로얄듀크",35,{"$f":"IF(AI27=\"\",\"\",$AJ$2)","v":"A-"},"A","A+","B+",{"$f":"IF(AI27=\"\",\"\",$AN$2)","v":"C"},{"$f":"IF(N27=\"\",\"\",IF(N27>=$AO$1/100,\"O\",\"X\"))","v":""},{"$f":"IF(I27=\"\",\"\",IF(I27<=$AP$1,\"O\",\"X\"))","v":""},{"$f":"IF(O27=\"\",\"\",IF(O27<=$AQ$1,\"O\",\"X\"))","v":"O"},{"$f":"IF(M27=\"\",\"\",IF(M27<=$AR$1,\"O\",\"X\"))","v":"O"},"X",{"$f":"IF(OR(F27=\"\",AI27=\"\"),\"\",IF(AND((F27<=85),(AI27>=15)),\"O\",\"X\"))","v":"O"},{"$f":"IF(C27=\"\",\"\",IF(C27>=$AU$1,\"O\",\"X\"))","v":"O"},{"$f":"IF(AO27=\"\",\"\",IF(AND(AO27=\"O\",AP27=\"O\",AR27=\"O\",AT27=\"O\",AU27=\"O\"),\"후보\",\"X\"))","v":""}]
[null,null,null,null,null,null,null,null,null,null,null,null,null,null,null,null,null,null,null,null,null,null,{"$f":"$A$4&\" \"&A29&\"(\"&B29&\",\"&C29&\"^)\"","v":"삼계동 삼계이안('07.11,856^)"},null,null,null,null,null,null,null,null,null,null,"",""]
["삼계이안","'07.11",856,103.4,31,85,26,46,null,null,null,null,{"$f":"I29-K29","v":0},{"$f":"IF(ISERROR(K29/I29),\"\",K29/I29)","v":""},{"$f":"I29/E29","v":0},{"$f":"K29/E29","v":0},3,2,"계",103,null,null,{"$f":"D29","v":103.4},31,{"$f":"H29","v":46},0,{"$f":"K29","v":0},{"$f":"M29","v":0},"",0,{"$f":"S29","v":"계"},{"$f":"Q29&\"/\"&R29","v":"3/2"},null,"삼계이안",31,{"$f":"IF(AI29=\"\",\"\",$AJ$2)","v":"A-"},"A","A+","B+",{"$f":"IF(AI29=\"\",\"\",$AN$2)","v":"C"},{"$f":"IF(N29=\"\",\"\",IF(N29>=$AO$1/100,\"O\",\"X\"))","v":""},{"$f":"IF(I29=\"\",\"\",IF(I29<=$AP$1,\"O\",\"X\"))","v":""},{"$f":"IF(O29=\"\",\"\",IF(O29<=$AQ$1,\"O\",\"X\"))","v":"O"},{"$f":"IF(M29=\"\",\"\",IF(M29<=$AR$1,\"O\",\"X\"))","v":"O"},"X",{"$f":"IF(OR(F29=\"\",AI29=\"\"),\"\",IF(AND((F29<=85),(AI29>=15)),\"O\",\"X\"))","v":"O"},{"$f":"IF(C29=\"\",\"\",IF(C29>=$AU$1,\"O\",\"X\"))","v":"O"},{"$f":"IF(AO29=\"\",\"\",IF(AND(AO29=\"O\",AP29=\"O\",AR29=\"O\",AT29=\"O\",AU29=\"O\"),\"후보\",\"X\"))","v":""}]
["삼계이안","'07.11",856,112,34,85,26,442,null,null,null,null,{"$f":"I30-K30","v":0},{"$f":"IF(ISERROR(K30/I30),\"\",K30/I30)","v":""},{"$f":"I30/E30","v":0},{"$f":"K30/E30","v":0},3,2,"계",112,null,null,112,34,442,0,{"$f":"K30","v":0},0,"",0,{"$f":"S30","v":"계"},{"$f":"Q30&\"/\"&R30","v":"3/2"},null,"삼계이안",34,{"$f":"IF(AI30=\"\",\"\",$AJ$2)","v":"A-"},"A","A+","B+",{"$f":"IF(AI30=\"\",\"\",$AN$2)","v":"C"},{"$f":"IF(N30=\"\",\"\",IF(N30>=$AO$1/100,\"O\",\"X\"))","v":""},{"$f":"IF(I30=\"\",\"\",IF(I30<=$AP$1,\"O\",\"X\"))","v":""},{"$f":"IF(O30=\"\",\"\",IF(O30<=$AQ$1,\"O\",\"X\"))","v":"O"},{"$f":"IF(M30=\"\",\"\",IF(M30<=$AR$1,\"O\",\"X\"))","v":"O"},"X",{"$f":"IF(OR(F30=\"\",AI30=\"\"),\"\",IF(AND((F30<=85),(AI30>=15)),\"O\",\"X\"))","v":"O"},{"$f":"IF(C30=\"\",\"\",IF(C30>=$AU$1,\"O\",\"X\"))","v":"O"},{"$f":"IF(AO30=\"\",\"\",IF(AND(AO30=\"O\",AP30=\"O\",AR30=\"O\",AT30=\"O\",AU30=\"O\"),\"후보\",\"X\"))","v":""}]
["삼계이안","'07.11",856,151.1,46,123.6,37,266,null,null,null,null,{"$f":"I31-K31","v":0},{"$f":"IF(ISERROR(K31/I31),\"\",K31/I31)","v":""},{"$f":"I31/E31","v":0},{"$f":"K31/E31","v":0},4,2,"계",151,null,null,151.1,46,266,0,{"$f":"K31","v":0},0,"",0,{"$f":"S31","v":"계"},{"$f":"Q31&\"/\"&R31","v":"4/2"},null,"삼계이안",46,{"$f":"IF(AI31=\"\",\"\",$AJ$2)","v":"A-"},"A","A+","B+",{"$f":"IF(AI31=\"\",\"\",$AN$2)","v":"C"},{"$f":"IF(N31=\"\",\"\",IF(N31>=$AO$1/100,\"O\",\"X\"))","v":""},{"$f":"IF(I31=\"\",\"\",IF(I31<=$AP$1,\"O\",\"X\"))","v":""},{"$f":"IF(O31=\"\",\"\",IF(O31<=$AQ$1,\"O\",\"X\"))","v":"O"},{"$f":"IF(M31=\"\",\"\",IF(M31<=$AR$1,\"O\",\"X\"))","v":"O"},"X",{"$f":"IF(OR(F31=\"\",AI31=\"\"),\"\",IF(AND((F31<=85),(AI31>=15)),\"O\",\"X\"))","v":"X"},{"$f":"IF(C31=\"\",\"\",IF(C31>=$AU$1,\"O\",\"X\"))","v":"O"},{"$f":"IF(AO31=\"\",\"\",IF(AND(AO31=\"O\",AP31=\"O\",AR31=\"O\",AT31=\"O\",AU31=\"O\"),\"후보\",\"X\"))","v":""}]
[null,null,null,null,null,null,null,null,null,null,null,null,null,null,null,null,null,null,null,null,null,null,{"$f":"$A$4&\" \"&A33&\"(\"&B33&\",\"&C33&\"^)\"","v":"삼계동 화정마을4단지아이파크가야('04.08,851^)"},null,null,null,null,null,null,null,null,null,null,"",""]
["화정마을4단지아이파크가야","'04.08",851,112.1,34,85,26,126,null,null,null,null,{"$f":"I33-K33","v":0},{"$f":"IF(ISERROR(K33/I33),\"\",K33/I33)","v":""},{"$f":"I33/E33","v":0},{"$f":"K33/E33","v":0},3,2,"계",112,null,null,{"$f":"D33","v":112.1},34,{"$f":"H33","v":126},0,{"$f":"K33","v":0},{"$f":"M33","v":0},"",0,{"$f":"S33","v":"계"},{"$f":"Q33&\"/\"&R33","v":"3/2"},null,"화정마을4단지아이파크가야",34,{"$f":"IF(AI33=\"\",\"\",$AJ$2)","v":"A-"},"A","A+","B+",{"$f":"IF(AI33=\"\",\"\",$AN$2)","v":"C"},{"$f":"IF(N33=\"\",\"\",IF(N33>=$AO$1/100,\"O\",\"X\"))","v":""},{"$f":"IF(I33=\"\",\"\",IF(I33<=$AP$1,\"O\",\"X\"))","v":""},{"$f":"IF(O33=\"\",\"\",IF(O33<=$AQ$1,\"O\",\"X\"))","v":"O"},{"$f":"IF(M33=\"\",\"\",IF(M33<=$AR$1,\"O\",\"X\"))","v":"O"},"X",{"$f":"IF(OR(F33=\"\",AI33=\"\"),\"\",IF(AND((F33<=85),(AI33>=15)),\"O\",\"X\"))","v":"O"},{"$f":"IF(C33=\"\",\"\",IF(C33>=$AU$1,\"O\",\"X\"))","v":"O"},{"$f":"IF(AO33=\"\",\"\",IF(AND(AO33=\"O\",AP33=\"O\",AR33=\"O\",AT33=\"O\",AU33=\"O\"),\"후보\",\"X\"))","v":""}]
["화정마을4단지아이파크가야","'04.08",851,129.9,39,102,31,448,null,null,null,null,{"$f":"I34-K34","v":0},{"$f":"IF(ISERROR(K34/I34),\"\",K34/I34)","v":""},{"$f":"I34/E34","v":0},{"$f":"K34/E34","v":0},3,2,"계",129,null,null,129.9,39,448,0,{"$f":"K34","v":0},0,"",0,{"$f":"S34","v":"계"},{"$f":"Q34&\"/\"&R34","v":"3/2"},null,"화정마을4단지아이파크가야",39,{"$f":"IF(AI34=\"\",\"\",$AJ$2)","v":"A-"},"A","A+","B+",{"$f":"IF(AI34=\"\",\"\",$AN$2)","v":"C"},{"$f":"IF(N34=\"\",\"\",IF(N34>=$AO$1/100,\"O\",\"X\"))","v":""},{"$f":"IF(I34=\"\",\"\",IF(I34<=$AP$1,\"O\",\"X\"))","v":""},{"$f":"IF(O34=\"\",\"\",IF(O34<=$AQ$1,\"O\",\"X\"))","v":"O"},{"$f":"IF(M34=\"\",\"\",IF(M34<=$AR$1,\"O\",\"X\"))","v":"O"},"X",{"$f":"IF(OR(F34=\"\",AI34=\"\"),\"\",IF(AND((F34<=85),(AI34>=15)),\"O\",\"X\"))","v":"X"},{"$f":"IF(C34=\"\",\"\",IF(C34>=$AU$1,\"O\",\"X\"))","v":"O"},{"$f":"IF(AO34=\"\",\"\",IF(AND(AO34=\"O\",AP34=\"O\",AR34=\"O\",AT34=\"O\",AU34=\"O\"),\"후보\",\"X\"))","v":""}]
["화정마을4단지아이파크가야","'04.08",851,134.5,41,113.3,34,60,null,null,null,null,{"$f":"I35-K35","v":0},{"$f":"IF(ISERROR(K35/I35),\"\",K35/I35)","v":""},{"$f":"I35/E35","v":0},{"$f":"K35/E35","v":0},4,2,"계",134,null,null,134.5,41,60,0,{"$f":"K35","v":0},0,"",0,{"$f":"S35","v":"계"},{"$f":"Q35&\"/\"&R35","v":"4/2"},null,"화정마을4단지아이파크가야",{"$f":"IF(E35=\"\",\"\",E35)","v":41},{"$f":"IF(AI35=\"\",\"\",$AJ$2)","v":"A-"},"A","A+","B+",{"$f":"IF(AI35=\"\",\"\",$AN$2)","v":"C"},{"$f":"IF(N35=\"\",\"\",IF(N35>=$AO$1/100,\"O\",\"X\"))","v":""},{"$f":"IF(I35=\"\",\"\",IF(I35<=$AP$1,\"O\",\"X\"))","v":""},{"$f":"IF(O35=\"\",\"\",IF(O35<=$AQ$1,\"O\",\"X\"))","v":"O"},{"$f":"IF(M35=\"\",\"\",IF(M35<=$AR$1,\"O\",\"X\"))","v":"O"},"X",{"$f":"IF(OR(F35=\"\",AI35=\"\"),\"\",IF(AND((F35<=85),(AI35>=15)),\"O\",\"X\"))","v":"X"},{"$f":"IF(C35=\"\",\"\",IF(C35>=$AU$1,\"O\",\"X\"))","v":"O"},{"$f":"IF(AO35=\"\",\"\",IF(AND(AO35=\"O\",AP35=\"O\",AR35=\"O\",AT35=\"O\",AU35=\"O\"),\"후보\",\"X\"))","v":""}]
["화정마을4단지아이파크가야","'04.08",851,152.9,46,120,36,187,null,null,null,null,{"$f":"I36-K36","v":0},{"$f":"IF(ISERROR(K36/I36),\"\",K36/I36)","v":""},{"$f":"I36/E36","v":0},{"$f":"K36/E36","v":0},4,2,"계",152,null,null,152.9,46,187,0,{"$f":"K36","v":0},0,"",0,{"$f":"S36","v":"계"},{"$f":"Q36&\"/\"&R36","v":"4/2"},null,"화정마을4단지아이파크가야",46,{"$f":"IF(AI36=\"\",\"\",$AJ$2)","v":"A-"},"A","A+","B+",{"$f":"IF(AI36=\"\",\"\",$AN$2)","v":"C"},{"$f":"IF(N36=\"\",\"\",IF(N36>=$AO$1/100,\"O\",\"X\"))","v":""},{"$f":"IF(I36=\"\",\"\",IF(I36<=$AP$1,\"O\",\"X\"))","v":""},{"$f":"IF(O36=\"\",\"\",IF(O36<=$AQ$1,\"O\",\"X\"))","v":"O"},{"$f":"IF(M36=\"\",\"\",IF(M36<=$AR$1,\"O\",\"X\"))","v":"O"},"X",{"$f":"IF(OR(F36=\"\",AI36=\"\"),\"\",IF(AND((F36<=85),(AI36>=15)),\"O\",\"X\"))","v":"X"},{"$f":"IF(C36=\"\",\"\",IF(C36>=$AU$1,\"O\",\"X\"))","v":"O"},{"$f":"IF(AO36=\"\",\"\",IF(AND(AO36=\"O\",AP36=\"O\",AR36=\"O\",AT36=\"O\",AU36=\"O\"),\"후보\",\"X\"))","v":""}]
["화정마을4단지아이파크가야","'04.08",851,168.5,51,134.9,41,30,null,null,null,null,{"$f":"I37-K37","v":0},{"$f":"IF(ISERROR(K37/I37),\"\",K37/I37)","v":""},{"$f":"I37/E37","v":0},{"$f":"K37/E37","v":0},4,2,"계",168,null,null,168.5,51,30,0,{"$f":"K37","v":0},0,"",0,{"$f":"S37","v":"계"},{"$f":"Q37&\"/\"&R37","v":"4/2"},null,{"$f":"IF(A37=\"\",\"\",A37)","v":"화정마을4단지아이파크가야"},51,{"$f":"IF(AI37=\"\",\"\",$AJ$2)","v":"A-"},"A","A+","B+",{"$f":"IF(AI37=\"\",\"\",$AN$2)","v":"C"},{"$f":"IF(N37=\"\",\"\",IF(N37>=$AO$1/100,\"O\",\"X\"))","v":""},{"$f":"IF(I37=\"\",\"\",IF(I37<=$AP$1,\"O\",\"X\"))","v":""},{"$f":"IF(O37=\"\",\"\",IF(O37<=$AQ$1,\"O\",\"X\"))","v":"O"},{"$f":"IF(M37=\"\",\"\",IF(M37<=$AR$1,\"O\",\"X\"))","v":"O"},"X",{"$f":"IF(OR(F37=\"\",AI37=\"\"),\"\",IF(AND((F37<=85),(AI37>=15)),\"O\",\"X\"))","v":"X"},{"$f":"IF(C37=\"\",\"\",IF(C37>=$AU$1,\"O\",\"X\"))","v":"O"},{"$f":"IF(AO37=\"\",\"\",IF(AND(AO37=\"O\",AP37=\"O\",AR37=\"O\",AT37=\"O\",AU37=\"O\"),\"후보\",\"X\"))","v":""}]
[null,null,null,null,null,null,null,null,null,null,null,null,null,null,null,null,null,null,null,null,null,null,{"$f":"$A$4&\" \"&A39&\"(\"&B39&\",\"&C39&\"^)\"","v":"삼계동 김해삼계서희스타힐스('19.09,798^)"},null,null,null,null,null,null,null,null,null,null,"",""]
["김해삼계서희스타힐스","'19.09",798,82.6,25,59.9,18,277,null,null,null,null,{"$f":"I39-K39","v":0},{"$f":"IF(ISERROR(K39/I39),\"\",K39/I39)","v":""},{"$f":"I39/E39","v":0},{"$f":"K39/E39","v":0},3,2,"계","82C",null,null,{"$f":"D39","v":82.6},25,{"$f":"H39","v":277},0,{"$f":"K39","v":0},{"$f":"M39","v":0},"",0,{"$f":"S39","v":"계"},{"$f":"Q39&\"/\"&R39","v":"3/2"},null,"김해삼계서희스타힐스",25,{"$f":"IF(AI39=\"\",\"\",$AJ$2)","v":"A-"},"A","A+","B+",{"$f":"IF(AI39=\"\",\"\",$AN$2)","v":"C"},{"$f":"IF(N39=\"\",\"\",IF(N39>=$AO$1/100,\"O\",\"X\"))","v":""},{"$f":"IF(I39=\"\",\"\",IF(I39<=$AP$1,\"O\",\"X\"))","v":""},{"$f":"IF(O39=\"\",\"\",IF(O39<=$AQ$1,\"O\",\"X\"))","v":"O"},{"$f":"IF(M39=\"\",\"\",IF(M39<=$AR$1,\"O\",\"X\"))","v":"O"},"X",{"$f":"IF(OR(F39=\"\",AI39=\"\"),\"\",IF(AND((F39<=85),(AI39>=15)),\"O\",\"X\"))","v":"O"},{"$f":"IF(C39=\"\",\"\",IF(C39>=$AU$1,\"O\",\"X\"))","v":"O"},{"$f":"IF(AO39=\"\",\"\",IF(AND(AO39=\"O\",AP39=\"O\",AR39=\"O\",AT39=\"O\",AU39=\"O\"),\"후보\",\"X\"))","v":""}]
["김해삼계서희스타힐스","'19.09",798,101.2,31,74.099999999999994,22,224,null,null,null,null,{"$f":"I40-K40","v":0},{"$f":"IF(ISERROR(K40/I40),\"\",K40/I40)","v":""},{"$f":"I40/E40","v":0},{"$f":"K40/E40","v":0},3,2,"계","101A",null,null,101.2,31,224,0,{"$f":"K40","v":0},0,"",0,{"$f":"S40","v":"계"},{"$f":"Q40&\"/\"&R40","v":"3/2"},null,"김해삼계서희스타힐스",31,{"$f":"IF(AI40=\"\",\"\",$AJ$2)","v":"A-"},"A","A+","B+",{"$f":"IF(AI40=\"\",\"\",$AN$2)","v":"C"},{"$f":"IF(N40=\"\",\"\",IF(N40>=$AO$1/100,\"O\",\"X\"))","v":""},{"$f":"IF(I40=\"\",\"\",IF(I40<=$AP$1,\"O\",\"X\"))","v":""},{"$f":"IF(O40=\"\",\"\",IF(O40<=$AQ$1,\"O\",\"X\"))","v":"O"},{"$f":"IF(M40=\"\",\"\",IF(M40<=$AR$1,\"O\",\"X\"))","v":"O"},"X",{"$f":"IF(OR(F40=\"\",AI40=\"\"),\"\",IF(AND((F40<=85),(AI40>=15)),\"O\",\"X\"))","v":"O"},{"$f":"IF(C40=\"\",\"\",IF(C40>=$AU$1,\"O\",\"X\"))","v":"O"},{"$f":"IF(AO40=\"\",\"\",IF(AND(AO40=\"O\",AP40=\"O\",AR40=\"O\",AT40=\"O\",AU40=\"O\"),\"후보\",\"X\"))","v":""}]
["김해삼계서희스타힐스","'19.09",798,115.8,35,84.9,26,303,null,null,null,null,{"$f":"I41-K41","v":0},{"$f":"IF(ISERROR(K41/I41),\"\",K41/I41)","v":""},{"$f":"I41/E41","v":0},{"$f":"K41/E41","v":0},3,2,"계",115,null,null,115.8,35,303,0,{"$f":"K41","v":0},0,"",0,{"$f":"S41","v":"계"},{"$f":"Q41&\"/\"&R41","v":"3/2"},null,"김해삼계서희스타힐스",35,{"$f":"IF(AI41=\"\",\"\",$AJ$2)","v":"A-"},"A","A+","B+",{"$f":"IF(AI41=\"\",\"\",$AN$2)","v":"C"},{"$f":"IF(N41=\"\",\"\",IF(N41>=$AO$1/100,\"O\",\"X\"))","v":""},{"$f":"IF(I41=\"\",\"\",IF(I41<=$AP$1,\"O\",\"X\"))","v":""},{"$f":"IF(O41=\"\",\"\",IF(O41<=$AQ$1,\"O\",\"X\"))","v":"O"},{"$f":"IF(M41=\"\",\"\",IF(M41<=$AR$1,\"O\",\"X\"))","v":"O"},"X",{"$f":"IF(OR(F41=\"\",AI41=\"\"),\"\",IF(AND((F41<=85),(AI41>=15)),\"O\",\"X\"))","v":"O"},{"$f":"IF(C41=\"\",\"\",IF(C41>=$AU$1,\"O\",\"X\"))","v":"O"},{"$f":"IF(AO41=\"\",\"\",IF(AND(AO41=\"O\",AP41=\"O\",AR41=\"O\",AT41=\"O\",AU41=\"O\"),\"후보\",\"X\"))","v":""}]
[null,null,null,null,null,null,null,null,null,null,null,null,null,null,null,null,null,null,null,null,null,null,{"$f":"$A$4&\" \"&A43&\"(\"&B43&\",\"&C43&\"^)\"","v":"삼계동 분성마을4단지한솔솔파크('05.03,646^)"},null,null,null,null,null,null,null,null,null,null,"",""]
["분성마을4단지한솔솔파크","'05.03",646,99.6,30,77.5,23,230,null,null,null,null,{"$f":"I43-K43","v":0},{"$f":"IF(ISERROR(K43/I43),\"\",K43/I43)","v":""},{"$f":"I43/E43","v":0},{"$f":"K43/E43","v":0},3,2,"계",99,null,null,{"$f":"D43","v":99.6},{"$f":"E43","v":30},{"$f":"H43","v":230},{"$f":"I43","v":0},{"$f":"K43","v":0},{"$f":"M43","v":0},"",0,{"$f":"S43","v":"계"},{"$f":"Q43&\"/\"&R43","v":"3/2"},null,"분성마을4단지한솔솔파크",30,{"$f":"IF(AI43=\"\",\"\",$AJ$2)","v":"A-"},"A","A+","B+",{"$f":"IF(AI43=\"\",\"\",$AN$2)","v":"C"},{"$f":"IF(N43=\"\",\"\",IF(N43>=$AO$1/100,\"O\",\"X\"))","v":""},{"$f":"IF(I43=\"\",\"\",IF(I43<=$AP$1,\"O\",\"X\"))","v":""},{"$f":"IF(O43=\"\",\"\",IF(O43<=$AQ$1,\"O\",\"X\"))","v":"O"},{"$f":"IF(M43=\"\",\"\",IF(M43<=$AR$1,\"O\",\"X\"))","v":"O"},"X",{"$f":"IF(OR(F43=\"\",AI43=\"\"),\"\",IF(AND((F43<=85),(AI43>=15)),\"O\",\"X\"))","v":"O"},{"$f":"IF(C43=\"\",\"\",IF(C43>=$AU$1,\"O\",\"X\"))","v":"O"},{"$f":"IF(AO43=\"\",\"\",IF(AND(AO43=\"O\",AP43=\"O\",AR43=\"O\",AT43=\"O\",AU43=\"O\"),\"후보\",\"X\"))","v":""}]
["분성마을4단지한솔솔파크","'05.03",646,110.3,33,85,26,416,null,null,null,null,{"$f":"I44-K44","v":0},{"$f":"IF(ISERROR(K44/I44),\"\",K44/I44)","v":""},{"$f":"I44/E44","v":0},{"$f":"K44/E44","v":0},3,2,"계",110,null,null,{"$f":"D44","v":110.3},{"$f":"E44","v":33},{"$f":"H44","v":416},{"$f":"I44","v":0},{"$f":"K44","v":0},0,"",0,{"$f":"S44","v":"계"},{"$f":"Q44&\"/\"&R44","v":"3/2"},null,"분성마을4단지한솔솔파크",33,{"$f":"IF(AI44=\"\",\"\",$AJ$2)","v":"A-"},"A","A+","B+",{"$f":"IF(AI44=\"\",\"\",$AN$2)","v":"C"},{"$f":"IF(N44=\"\",\"\",IF(N44>=$AO$1/100,\"O\",\"X\"))","v":""},{"$f":"IF(I44=\"\",\"\",IF(I44<=$AP$1,\"O\",\"X\"))","v":""},{"$f":"IF(O44=\"\",\"\",IF(O44<=$AQ$1,\"O\",\"X\"))","v":"O"},{"$f":"IF(M44=\"\",\"\",IF(M44<=$AR$1,\"O\",\"X\"))","v":"O"},"X",{"$f":"IF(OR(F44=\"\",AI44=\"\"),\"\",IF(AND((F44<=85),(AI44>=15)),\"O\",\"X\"))","v":"O"},{"$f":"IF(C44=\"\",\"\",IF(C44>=$AU$1,\"O\",\"X\"))","v":"O"},{"$f":"IF(AO44=\"\",\"\",IF(AND(AO44=\"O\",AP44=\"O\",AR44=\"O\",AT44=\"O\",AU44=\"O\"),\"후보\",\"X\"))","v":""}]
[null,null,null,null,null,null,null,null,null,null,null,null,null,null,null,null,null,null,null,null,null,null,{"$f":"$A$4&\" \"&A46&\"(\"&B46&\",\"&C46&\"^)\"","v":"삼계동 화정마을1단지부영('03.06,612^)"},null,null,null,null,null,null,null,null,null,null,"",""]
["화정마을1단지부영","'03.06",612,107.3,33,85,26,612,null,null,null,null,{"$f":"I46-K46","v":0},{"$f":"IF(ISERROR(K46/I46),\"\",K46/I46)","v":""},{"$f":"I46/E46","v":0},{"$f":"K46/E46","v":0},3,2,"계",107,null,null,{"$f":"D46","v":107.3},{"$f":"E46","v":33},{"$f":"H46","v":612},{"$f":"I46","v":0},{"$f":"K46","v":0},{"$f":"M46","v":0},{"$f":"N46","v":""},{"$f":"O46","v":0},{"$f":"S46","v":"계"},{"$f":"Q46&\"/\"&R46","v":"3/2"},null,"화정마을1단지부영",33,{"$f":"IF(AI46=\"\",\"\",$AJ$2)","v":"A-"},"A","A+","B+",{"$f":"IF(AI46=\"\",\"\",$AN$2)","v":"C"},{"$f":"IF(N46=\"\",\"\",IF(N46>=$AO$1/100,\"O\",\"X\"))","v":""},{"$f":"IF(I46=\"\",\"\",IF(I46<=$AP$1,\"O\",\"X\"))","v":""},{"$f":"IF(O46=\"\",\"\",IF(O46<=$AQ$1,\"O\",\"X\"))","v":"O"},{"$f":"IF(M46=\"\",\"\",IF(M46<=$AR$1,\"O\",\"X\"))","v":"O"},"X",{"$f":"IF(OR(F46=\"\",AI46=\"\"),\"\",IF(AND((F46<=85),(AI46>=15)),\"O\",\"X\"))","v":"O"},{"$f":"IF(C46=\"\",\"\",IF(C46>=$AU$1,\"O\",\"X\"))","v":"O"},{"$f":"IF(AO46=\"\",\"\",IF(AND(AO46=\"O\",AP46=\"O\",AR46=\"O\",AT46=\"O\",AU46=\"O\"),\"후보\",\"X\"))","v":""}]
[null,null,null,null,null,null,null,null,null,null,null,null,null,null,null,null,null,null,null,null,null,null,{"$f":"$A$4&\" \"&A48&\"(\"&B48&\",\"&C48&\"^)\"","v":"삼계동 화정마을5단지부영('02.08,534^)"},null,null,null,null,null,null,null,null,null,null,"",""]
["화정마을5단지부영","'02.08",534,107.2,32,85,26,534,null,null,null,null,{"$f":"I48-K48","v":0},{"$f":"IF(ISERROR(K48/I48),\"\",K48/I48)","v":""},{"$f":"I48/E48","v":0},{"$f":"K48/E48","v":0},3,2,"계",107,null,null,{"$f":"D48","v":107.2},{"$f":"E48","v":32},{"$f":"H48","v":534},{"$f":"I48","v":0},{"$f":"K48","v":0},{"$f":"M48","v":0},{"$f":"N48","v":""},{"$f":"O48","v":0},{"$f":"S48","v":"계"},{"$f":"Q48&\"/\"&R48","v":"3/2"},null,"화정마을5단지부영",32,{"$f":"IF(AI48=\"\",\"\",$AJ$2)","v":"A-"},"A","A+","B+",{"$f":"IF(AI48=\"\",\"\",$AN$2)","v":"C"},{"$f":"IF(N48=\"\",\"\",IF(N48>=$AO$1/100,\"O\",\"X\"))","v":""},{"$f":"IF(I48=\"\",\"\",IF(I48<=$AP$1,\"O\",\"X\"))","v":""},{"$f":"IF(O48=\"\",\"\",IF(O48<=$AQ$1,\"O\",\"X\"))","v":"O"},{"$f":"IF(M48=\"\",\"\",IF(M48<=$AR$1,\"O\",\"X\"))","v":"O"},"X",{"$f":"IF(OR(F48=\"\",AI48=\"\"),\"\",IF(AND((F48<=85),(AI48>=15)),\"O\",\"X\"))","v":"O"},{"$f":"IF(C48=\"\",\"\",IF(C48>=$AU$1,\"O\",\"X\"))","v":"O"},{"$f":"IF(AO48=\"\",\"\",IF(AND(AO48=\"O\",AP48=\"O\",AR48=\"O\",AT48=\"O\",AU48=\"O\"),\"후보\",\"X\"))","v":""}]
[null,null,null,null,null,null,null,null,null,null,null,null,null,null,null,null,null,null,null,null,null,null,{"$f":"$A$4&\" \"&A50&\"(\"&B50&\",\"&C50&\"^)\"","v":"삼계동 화정마을3단지부영('02.08,454^)"},null,null,null,null,null,null,null,null,null,null,"",""]
["화정마을3단지부영","'02.08",454,106.6,32,85,26,454,null,null,null,null,{"$f":"I50-K50","v":0},{"$f":"IF(ISERROR(K50/I50),\"\",K50/I50)","v":""},{"$f":"I50/E50","v":0},{"$f":"K50/E50","v":0},3,2,"계",106,null,null,{"$f":"D50","v":106.6},{"$f":"E50","v":32},{"$f":"H50","v":454},{"$f":"I50","v":0},{"$f":"K50","v":0},{"$f":"M50","v":0},{"$f":"N50","v":""},{"$f":"O50","v":0},{"$f":"S50","v":"계"},{"$f":"Q50&\"/\"&R50","v":"3/2"},null,"화정마을3단지부영",32,{"$f":"IF(AI50=\"\",\"\",$AJ$2)","v":"A-"},"A","A+","B+",{"$f":"IF(AI50=\"\",\"\",$AN$2)","v":"C"},{"$f":"IF(N50=\"\",\"\",IF(N50>=$AO$1/100,\"O\",\"X\"))","v":""},{"$f":"IF(I50=\"\",\"\",IF(I50<=$AP$1,\"O\",\"X\"))","v":""},{"$f":"IF(O50=\"\",\"\",IF(O50<=$AQ$1,\"O\",\"X\"))","v":"O"},{"$f":"IF(M50=\"\",\"\",IF(M50<=$AR$1,\"O\",\"X\"))","v":"O"},"X",{"$f":"IF(OR(F50=\"\",AI50=\"\"),\"\",IF(AND((F50<=85),(AI50>=15)),\"O\",\"X\"))","v":"O"},{"$f":"IF(C50=\"\",\"\",IF(C50>=$AU$1,\"O\",\"X\"))","v":"O"},{"$f":"IF(AO50=\"\",\"\",IF(AND(AO50=\"O\",AP50=\"O\",AR50=\"O\",AT50=\"O\",AU50=\"O\"),\"후보\",\"X\"))","v":""}]
[null,null,null,null,null,null,null,null,null,null,null,null,null,null,null,null,null,null,null,null,null,null,{"$f":"$A$4&\" \"&A52&\"(\"&B52&\",\"&C52&\"^)\"","v":"삼계동 동신('94.01,450^)"},null,null,null,null,null,null,null,null,null,null,"",""]
["동신","'94.01",450,67.599999999999994,20,49.7,15,135,null,null,null,null,{"$f":"I52-K52","v":0},{"$f":"IF(ISERROR(K52/I52),\"\",K52/I52)","v":""},{"$f":"I52/E52","v":0},{"$f":"K52/E52","v":0},2,1,"복",67,null,null,{"$f":"D52","v":67.599999999999994},20,{"$f":"H52","v":135},0,{"$f":"K52","v":0},{"$f":"M52","v":0},"",0,{"$f":"S52","v":"복"},{"$f":"Q52&\"/\"&R52","v":"2/1"},null,"동신",20,{"$f":"IF(AI52=\"\",\"\",$AJ$2)","v":"A-"},"A","A+","B+",{"$f":"IF(AI52=\"\",\"\",$AN$2)","v":"C"},{"$f":"IF(N52=\"\",\"\",IF(N52>=$AO$1/100,\"O\",\"X\"))","v":""},{"$f":"IF(I52=\"\",\"\",IF(I52<=$AP$1,\"O\",\"X\"))","v":""},{"$f":"IF(O52=\"\",\"\",IF(O52<=$AQ$1,\"O\",\"X\"))","v":"O"},{"$f":"IF(M52=\"\",\"\",IF(M52<=$AR$1,\"O\",\"X\"))","v":"O"},"X",{"$f":"IF(OR(F52=\"\",AI52=\"\"),\"\",IF(AND((F52<=85),(AI52>=15)),\"O\",\"X\"))","v":"O"},{"$f":"IF(C52=\"\",\"\",IF(C52>=$AU$1,\"O\",\"X\"))","v":"O"},{"$f":"IF(AO52=\"\",\"\",IF(AND(AO52=\"O\",AP52=\"O\",AR52=\"O\",AT52=\"O\",AU52=\"O\"),\"후보\",\"X\"))","v":""}]
["동신","'94.01",450,96.1,29,78.3,24,87,null,null,null,null,{"$f":"I53-K53","v":0},{"$f":"IF(ISERROR(K53/I53),\"\",K53/I53)","v":""},{"$f":"I53/E53","v":0},{"$f":"K53/E53","v":0},3,1,"계",96,null,null,96.1,29,87,0,{"$f":"K53","v":0},0,"",0,{"$f":"S53","v":"계"},{"$f":"Q53&\"/\"&R53","v":"3/1"},null,"동신",29,{"$f":"IF(AI53=\"\",\"\",$AJ$2)","v":"A-"},"A","A+","B+",{"$f":"IF(AI53=\"\",\"\",$AN$2)","v":"C"},{"$f":"IF(N53=\"\",\"\",IF(N53>=$AO$1/100,\"O\",\"X\"))","v":""},{"$f":"IF(I53=\"\",\"\",IF(I53<=$AP$1,\"O\",\"X\"))","v":""},{"$f":"IF(O53=\"\",\"\",IF(O53<=$AQ$1,\"O\",\"X\"))","v":"O"},{"$f":"IF(M53=\"\",\"\",IF(M53<=$AR$1,\"O\",\"X\"))","v":"O"},"X",{"$f":"IF(OR(F53=\"\",AI53=\"\"),\"\",IF(AND((F53<=85),(AI53>=15)),\"O\",\"X\"))","v":"O"},{"$f":"IF(C53=\"\",\"\",IF(C53>=$AU$1,\"O\",\"X\"))","v":"O"},{"$f":"IF(AO53=\"\",\"\",IF(AND(AO53=\"O\",AP53=\"O\",AR53=\"O\",AT53=\"O\",AU53=\"O\"),\"후보\",\"X\"))","v":""}]
["동신","'94.01",450,104.2,32,85,26,150,null,null,null,null,{"$f":"I54-K54","v":0},{"$f":"IF(ISERROR(K54/I54),\"\",K54/I54)","v":""},{"$f":"I54/E54","v":0},{"$f":"K54/E54","v":0},3,1,"합",104,null,null,104.2,32,150,0,{"$f":"K54","v":0},0,"",0,{"$f":"S54","v":"합"},{"$f":"Q54&\"/\"&R54","v":"3/1"},null,"동신",32,{"$f":"IF(AI54=\"\",\"\",$AJ$2)","v":"A-"},"A","A+","B+",{"$f":"IF(AI54=\"\",\"\",$AN$2)","v":"C"},{"$f":"IF(N54=\"\",\"\",IF(N54>=$AO$1/100,\"O\",\"X\"))","v":""},{"$f":"IF(I54=\"\",\"\",IF(I54<=$AP$1,\"O\",\"X\"))","v":""},{"$f":"IF(O54=\"\",\"\",IF(O54<=$AQ$1,\"O\",\"X\"))","v":"O"},{"$f":"IF(M54=\"\",\"\",IF(M54<=$AR$1,\"O\",\"X\"))","v":"O"},"X",{"$f":"IF(OR(F54=\"\",AI54=\"\"),\"\",IF(AND((F54<=85),(AI54>=15)),\"O\",\"X\"))","v":"O"},{"$f":"IF(C54=\"\",\"\",IF(C54>=$AU$1,\"O\",\"X\"))","v":"O"},{"$f":"IF(AO54=\"\",\"\",IF(AND(AO54=\"O\",AP54=\"O\",AR54=\"O\",AT54=\"O\",AU54=\"O\"),\"후보\",\"X\"))","v":""}]
[null,null,null,null,null,null,null,null,null,null,null,null,null,null,null,null,null,null,null,null,null,null,{"$f":"$A$4&\" \"&A56&\"(\"&B56&\",\"&C56&\"^)\"","v":"삼계동 삼계아이파크('13.12,399^)"},null,null,null,null,null,null,null,null,null,null,"",""]
["삼계아이파크","'13.12",399,94.9,29,73,22,92,null,null,null,null,{"$f":"I56-K56","v":0},{"$f":"IF(ISERROR(K56/I56),\"\",K56/I56)","v":""},{"$f":"I56/E56","v":0},{"$f":"K56/E56","v":0},3,2,"계",94,null,null,{"$f":"D56","v":94.9},{"$f":"E56","v":29},{"$f":"H56","v":92},{"$f":"I56","v":0},{"$f":"K56","v":0},{"$f":"M56","v":0},"",0,{"$f":"S56","v":"계"},{"$f":"Q56&\"/\"&R56","v":"3/2"},null,"삼계아이파크",29,{"$f":"IF(AI56=\"\",\"\",$AJ$2)","v":"A-"},"A","A+","B+",{"$f":"IF(AI56=\"\",\"\",$AN$2)","v":"C"},{"$f":"IF(N56=\"\",\"\",IF(N56>=$AO$1/100,\"O\",\"X\"))","v":""},{"$f":"IF(I56=\"\",\"\",IF(I56<=$AP$1,\"O\",\"X\"))","v":""},{"$f":"IF(O56=\"\",\"\",IF(O56<=$AQ$1,\"O\",\"X\"))","v":"O"},{"$f":"IF(M56=\"\",\"\",IF(M56<=$AR$1,\"O\",\"X\"))","v":"O"},"X",{"$f":"IF(OR(F56=\"\",AI56=\"\"),\"\",IF(AND((F56<=85),(AI56>=15)),\"O\",\"X\"))","v":"O"},{"$f":"IF(C56=\"\",\"\",IF(C56>=$AU$1,\"O\",\"X\"))","v":"O"},{"$f":"IF(AO56=\"\",\"\",IF(AND(AO56=\"O\",AP56=\"O\",AR56=\"O\",AT56=\"O\",AU56=\"O\"),\"후보\",\"X\"))","v":""}]
["삼계아이파크","'13.12",399,110.3,33,85,26,208,null,null,null,null,{"$f":"I57-K57","v":0},{"$f":"IF(ISERROR(K57/I57),\"\",K57/I57)","v":""},{"$f":"I57/E57","v":0},{"$f":"K57/E57","v":0},3,2,"계","110B",null,null,{"$f":"D57","v":110.3},{"$f":"E57","v":33},{"$f":"H57","v":208},{"$f":"I57","v":0},{"$f":"K57","v":0},0,"",0,{"$f":"S57","v":"계"},{"$f":"Q57&\"/\"&R57","v":"3/2"},null,"삼계아이파크",33,{"$f":"IF(AI57=\"\",\"\",$AJ$2)","v":"A-"},"A","A+","B+",{"$f":"IF(AI57=\"\",\"\",$AN$2)","v":"C"},{"$f":"IF(N57=\"\",\"\",IF(N57>=$AO$1/100,\"O\",\"X\"))","v":""},{"$f":"IF(I57=\"\",\"\",IF(I57<=$AP$1,\"O\",\"X\"))","v":""},{"$f":"IF(O57=\"\",\"\",IF(O57<=$AQ$1,\"O\",\"X\"))","v":"O"},{"$f":"IF(M57=\"\",\"\",IF(M57<=$AR$1,\"O\",\"X\"))","v":"O"},"X",{"$f":"IF(OR(F57=\"\",AI57=\"\"),\"\",IF(AND((F57<=85),(AI57>=15)),\"O\",\"X\"))","v":"O"},{"$f":"IF(C57=\"\",\"\",IF(C57>=$AU$1,\"O\",\"X\"))","v":"O"},{"$f":"IF(AO57=\"\",\"\",IF(AND(AO57=\"O\",AP57=\"O\",AR57=\"O\",AT57=\"O\",AU57=\"O\"),\"후보\",\"X\"))","v":""}]
[null,null,null,null,null,null,null,null,null,null,null,null,null,null,null,null,null,null,null,null,null,null,{"$f":"$A$4&\" \"&A59&\"(\"&B59&\",\"&C59&\"^)\"","v":"삼계동 김해북부두산위브('05.09,378^)"},null,null,null,null,null,null,null,null,null,null,"",""]
["김해북부두산위브","'05.09",378,107.5,33,85,26,115,null,null,null,null,{"$f":"I59-K59","v":0},{"$f":"IF(ISERROR(K59/I59),\"\",K59/I59)","v":""},{"$f":"I59/E59","v":0},{"$f":"K59/E59","v":0},3,2,"계","107A",null,null,{"$f":"D59","v":107.5},{"$f":"E59","v":33},{"$f":"H59","v":115},{"$f":"I59","v":0},{"$f":"K59","v":0},{"$f":"M59","v":0},"",0,{"$f":"S59","v":"계"},{"$f":"Q59&\"/\"&R59","v":"3/2"},null,"김해북부두산위브",33,{"$f":"IF(AI59=\"\",\"\",$AJ$2)","v":"A-"},"A","A+","B+",{"$f":"IF(AI59=\"\",\"\",$AN$2)","v":"C"},{"$f":"IF(N59=\"\",\"\",IF(N59>=$AO$1/100,\"O\",\"X\"))","v":""},{"$f":"IF(I59=\"\",\"\",IF(I59<=$AP$1,\"O\",\"X\"))","v":""},{"$f":"IF(O59=\"\",\"\",IF(O59<=$AQ$1,\"O\",\"X\"))","v":"O"},{"$f":"IF(M59=\"\",\"\",IF(M59<=$AR$1,\"O\",\"X\"))","v":"O"},"X",{"$f":"IF(OR(F59=\"\",AI59=\"\"),\"\",IF(AND((F59<=85),(AI59>=15)),\"O\",\"X\"))","v":"O"},{"$f":"IF(C59=\"\",\"\",IF(C59>=$AU$1,\"O\",\"X\"))","v":"O"},{"$f":"IF(AO59=\"\",\"\",IF(AND(AO59=\"O\",AP59=\"O\",AR59=\"O\",AT59=\"O\",AU59=\"O\"),\"후보\",\"X\"))","v":""}]
["김해북부두산위브","'05.09",378,154.6,47,128.6,39,72,null,null,null,null,{"$f":"I60-K60","v":0},{"$f":"IF(ISERROR(K60/I60),\"\",K60/I60)","v":""},{"$f":"I60/E60","v":0},{"$f":"K60/E60","v":0},4,2,"계","154B",null,null,{"$f":"D60","v":154.6},{"$f":"E60","v":47},{"$f":"H60","v":72},{"$f":"I60","v":0},{"$f":"K60","v":0},0,"",0,{"$f":"S60","v":"계"},{"$f":"Q60&\"/\"&R60","v":"4/2"},null,"김해북부두산위브",47,{"$f":"IF(AI60=\"\",\"\",$AJ$2)","v":"A-"},"A","A+","B+",{"$f":"IF(AI60=\"\",\"\",$AN$2)","v":"C"},{"$f":"IF(N60=\"\",\"\",IF(N60>=$AO$1/100,\"O\",\"X\"))","v":""},{"$f":"IF(I60=\"\",\"\",IF(I60<=$AP$1,\"O\",\"X\"))","v":""},{"$f":"IF(O60=\"\",\"\",IF(O60<=$AQ$1,\"O\",\"X\"))","v":"O"},{"$f":"IF(M60=\"\",\"\",IF(M60<=$AR$1,\"O\",\"X\"))","v":"O"},"X",{"$f":"IF(OR(F60=\"\",AI60=\"\"),\"\",IF(AND((F60<=85),(AI60>=15)),\"O\",\"X\"))","v":"X"},{"$f":"IF(C60=\"\",\"\",IF(C60>=$AU$1,\"O\",\"X\"))","v":"O"},{"$f":"IF(AO60=\"\",\"\",IF(AND(AO60=\"O\",AP60=\"O\",AR60=\"O\",AT60=\"O\",AU60=\"O\"),\"후보\",\"X\"))","v":""}]
[null,null,null,null,null,null,null,null,null,null,null,null,null,null,null,null,null,null,null,null,null,null,{"$f":"$A$4&\" \"&A62&\"(\"&B62&\",\"&C62&\"^)\"","v":"삼계동 명지세인트빌('08.02,323^)"},null,null,null,null,null,null,null,null,null,null,"",""]
["명지세인트빌","'08.02",323,107.6,33,84.9,26,162,null,null,null,null,{"$f":"I62-K62","v":0},{"$f":"IF(ISERROR(K62/I62),\"\",K62/I62)","v":""},{"$f":"I62/E62","v":0},{"$f":"K62/E62","v":0},3,2,"계",107,null,null,{"$f":"D62","v":107.6},{"$f":"E62","v":33},{"$f":"H62","v":162},{"$f":"I62","v":0},{"$f":"K62","v":0},{"$f":"M62","v":0},"",0,{"$f":"S62","v":"계"},{"$f":"Q62&\"/\"&R62","v":"3/2"},null,"명지세인트빌",33,{"$f":"IF(AI62=\"\",\"\",$AJ$2)","v":"A-"},"A","A+","B+",{"$f":"IF(AI62=\"\",\"\",$AN$2)","v":"C"},{"$f":"IF(N62=\"\",\"\",IF(N62>=$AO$1/100,\"O\",\"X\"))","v":""},{"$f":"IF(I62=\"\",\"\",IF(I62<=$AP$1,\"O\",\"X\"))","v":""},{"$f":"IF(O62=\"\",\"\",IF(O62<=$AQ$1,\"O\",\"X\"))","v":"O"},{"$f":"IF(M62=\"\",\"\",IF(M62<=$AR$1,\"O\",\"X\"))","v":"O"},"X",{"$f":"IF(OR(F62=\"\",AI62=\"\"),\"\",IF(AND((F62<=85),(AI62>=15)),\"O\",\"X\"))","v":"O"},{"$f":"IF(C62=\"\",\"\",IF(C62>=$AU$1,\"O\",\"X\"))","v":"O"},{"$f":"IF(AO62=\"\",\"\",IF(AND(AO62=\"O\",AP62=\"O\",AR62=\"O\",AT62=\"O\",AU62=\"O\"),\"후보\",\"X\"))","v":""}]
["명지세인트빌","'08.02",323,149,45,118.1,36,161,null,null,null,null,{"$f":"I63-K63","v":0},{"$f":"IF(ISERROR(K63/I63),\"\",K63/I63)","v":""},{"$f":"I63/E63","v":0},{"$f":"K63/E63","v":0},4,2,"계",148,null,null,{"$f":"D63","v":149},{"$f":"E63","v":45},{"$f":"H63","v":161},{"$f":"I63","v":0},{"$f":"K63","v":0},0,"",0,{"$f":"S63","v":"계"},{"$f":"Q63&\"/\"&R63","v":"4/2"},null,"명지세인트빌",45,{"$f":"IF(AI63=\"\",\"\",$AJ$2)","v":"A-"},"A","A+","B+",{"$f":"IF(AI63=\"\",\"\",$AN$2)","v":"C"},{"$f":"IF(N63=\"\",\"\",IF(N63>=$AO$1/100,\"O\",\"X\"))","v":""},{"$f":"IF(I63=\"\",\"\",IF(I63<=$AP$1,\"O\",\"X\"))","v":""},{"$f":"IF(O63=\"\",\"\",IF(O63<=$AQ$1,\"O\",\"X\"))","v":"O"},{"$f":"IF(M63=\"\",\"\",IF(M63<=$AR$1,\"O\",\"X\"))","v":"O"},"X",{"$f":"IF(OR(F63=\"\",AI63=\"\"),\"\",IF(AND((F63<=85),(AI63>=15)),\"O\",\"X\"))","v":"X"},{"$f":"IF(C63=\"\",\"\",IF(C63>=$AU$1,\"O\",\"X\"))","v":"O"},{"$f":"IF(AO63=\"\",\"\",IF(AND(AO63=\"O\",AP63=\"O\",AR63=\"O\",AT63=\"O\",AU63=\"O\"),\"후보\",\"X\"))","v":""}]
[null,null,null,null,null,null,null,null,null,null,null,null,null,null,null,null,null,null,null,null,null,null,{"$f":"$A$4&\" \"&A65&\"(\"&B65&\",\"&C65&\"^)\"","v":"삼계동 장신대역양우내안애('13.08,306^)"},null,null,null,null,null,null,null,null,null,null,"",""]
["장신대역양우내안애","'13.08",306,84.2,26,63.5,19,36,null,null,null,null,{"$f":"I65-K65","v":0},{"$f":"IF(ISERROR(K65/I65),\"\",K65/I65)","v":""},{"$f":"I65/E65","v":0},{"$f":"K65/E65","v":0},3,2,"계",84,null,null,{"$f":"D65","v":84.2},26,{"$f":"H65","v":36},0,{"$f":"K65","v":0},{"$f":"M65","v":0},"",0,{"$f":"S65","v":"계"},{"$f":"Q65&\"/\"&R65","v":"3/2"},null,"장신대역양우내안애",26,{"$f":"IF(AI65=\"\",\"\",$AJ$2)","v":"A-"},"A","A+","B+",{"$f":"IF(AI65=\"\",\"\",$AN$2)","v":"C"},{"$f":"IF(N65=\"\",\"\",IF(N65>=$AO$1/100,\"O\",\"X\"))","v":""},{"$f":"IF(I65=\"\",\"\",IF(I65<=$AP$1,\"O\",\"X\"))","v":""},{"$f":"IF(O65=\"\",\"\",IF(O65<=$AQ$1,\"O\",\"X\"))","v":"O"},{"$f":"IF(M65=\"\",\"\",IF(M65<=$AR$1,\"O\",\"X\"))","v":"O"},"X",{"$f":"IF(OR(F65=\"\",AI65=\"\"),\"\",IF(AND((F65<=85),(AI65>=15)),\"O\",\"X\"))","v":"O"},{"$f":"IF(C65=\"\",\"\",IF(C65>=$AU$1,\"O\",\"X\"))","v":"O"},{"$f":"IF(AO65=\"\",\"\",IF(AND(AO65=\"O\",AP65=\"O\",AR65=\"O\",AT65=\"O\",AU65=\"O\"),\"후보\",\"X\"))","v":""}]
["장신대역양우내안애","'13.08",306,96.6,29,73.5,22,69,null,null,null,null,{"$f":"I66-K66","v":0},{"$f":"IF(ISERROR(K66/I66),\"\",K66/I66)","v":""},{"$f":"I66/E66","v":0},{"$f":"K66/E66","v":0},3,2,"계",96,null,null,96.6,29,69,0,{"$f":"K66","v":0},0,"",0,{"$f":"S66","v":"계"},{"$f":"Q66&\"/\"&R66","v":"3/2"},null,"장신대역양우내안애",29,{"$f":"IF(AI66=\"\",\"\",$AJ$2)","v":"A-"},"A","A+","B+",{"$f":"IF(AI66=\"\",\"\",$AN$2)","v":"C"},{"$f":"IF(N66=\"\",\"\",IF(N66>=$AO$1/100,\"O\",\"X\"))","v":""},{"$f":"IF(I66=\"\",\"\",IF(I66<=$AP$1,\"O\",\"X\"))","v":""},{"$f":"IF(O66=\"\",\"\",IF(O66<=$AQ$1,\"O\",\"X\"))","v":"O"},{"$f":"IF(M66=\"\",\"\",IF(M66<=$AR$1,\"O\",\"X\"))","v":"O"},"X",{"$f":"IF(OR(F66=\"\",AI66=\"\"),\"\",IF(AND((F66<=85),(AI66>=15)),\"O\",\"X\"))","v":"O"},{"$f":"IF(C66=\"\",\"\",IF(C66>=$AU$1,\"O\",\"X\"))","v":"O"},{"$f":"IF(AO66=\"\",\"\",IF(AND(AO66=\"O\",AP66=\"O\",AR66=\"O\",AT66=\"O\",AU66=\"O\"),\"후보\",\"X\"))","v":""}]
["장신대역양우내안애","'13.08",306,107.4,33,82.1,25,29,null,null,null,null,{"$f":"I67-K67","v":0},{"$f":"IF(ISERROR(K67/I67),\"\",K67/I67)","v":""},{"$f":"I67/E67","v":0},{"$f":"K67/E67","v":0},3,2,"계",107,null,null,107.4,33,29,0,{"$f":"K67","v":0},0,"",0,{"$f":"S67","v":"계"},{"$f":"Q67&\"/\"&R67","v":"3/2"},null,"장신대역양우내안애",33,{"$f":"IF(AI67=\"\",\"\",$AJ$2)","v":"A-"},"A","A+","B+",{"$f":"IF(AI67=\"\",\"\",$AN$2)","v":"C"},{"$f":"IF(N67=\"\",\"\",IF(N67>=$AO$1/100,\"O\",\"X\"))","v":""},{"$f":"IF(I67=\"\",\"\",IF(I67<=$AP$1,\"O\",\"X\"))","v":""},{"$f":"IF(O67=\"\",\"\",IF(O67<=$AQ$1,\"O\",\"X\"))","v":"O"},{"$f":"IF(M67=\"\",\"\",IF(M67<=$AR$1,\"O\",\"X\"))","v":"O"},"X",{"$f":"IF(OR(F67=\"\",AI67=\"\"),\"\",IF(AND((F67<=85),(AI67>=15)),\"O\",\"X\"))","v":"O"},{"$f":"IF(C67=\"\",\"\",IF(C67>=$AU$1,\"O\",\"X\"))","v":"O"},{"$f":"IF(AO67=\"\",\"\",IF(AND(AO67=\"O\",AP67=\"O\",AR67=\"O\",AT67=\"O\",AU67=\"O\"),\"후보\",\"X\"))","v":""}]

{"sheet":"임은동","index":16,"n_rows":38,"n_cols":48,"rows_kept":38,"cut":false,"hidden":false,"merged":[[0,35,0,39]]}
[{"$f":"단지추출!A1","v":"구미시"},null,null,null,null,null,null,null,"추출대상",null,null,null,null,null,null,null,null,null,null,null,null,null,null,"매매가 최대(색상 최대)",null,null,{"$f":"단지추출!AA1","v":70000},null,null,null,null,null,null,{"$f":"A1","v":"구미시"},null,{"$f":"A1&\" 전체 등급\"","v":"구미시 전체 등급"},null,null,null,null,{"$f":"단지추출!AO1","v":80},{"$f":"단지추출!AP1","v":45000},{"$f":"단지추출!AQ1","v":1000},{"$f":"단지추출!AR1","v":6000},null,null,{"$f":"단지추출!AU1","v":300}]
[{"$f":"단지추출!A2","v":"2022-01-01"},null,null,null,null,null,null,null,null,null,null,null,null,null,null,null,null,null,null,null,null,null,null,"매매가 최소(색상 최소)",null,null,{"$f":"단지추출!AA2","v":10000},null,null,null,null,null,null,{"$f":"AH1 &\" \" &A4","v":"구미시 삼문동"},null,{"$f":"단지추출!AJ2","v":"A-"},{"$f":"단지추출!AK2","v":"A"},{"$f":"단지추출!AL2","v":"A"},{"$f":"단지추출!AM2","v":"A"},{"$f":"단지추출!AN2","v":"C"},"원금보전",null,null,"수익성",null,"환금성"]
["단지명","입주\n연도","총세\n대수","공급\n(m2)","공급\n면적","전용\n(m2)","전용\n면적","세대","매매\n최저가","층","전세\n최고가","층","매전갭","전세\n가율","매매\n평단","전세\n평단","방","욕\n실","구\n조","매/전/월\nType","비고",null,"공급\n(m2)","공급\n면적","세대","매매가","전세가","매전갭","전세\n가율","평단가","구\n조","방/\n욕실",null,{"$f":"IF(A3=\"\",\"\",A3)","v":"단지명"},{"$f":"IF(E3=\"\",\"\",E3)","v":"공급\n면적"},"직장","교통","학군","환경","공급",{"$f":"\"전세가율★\n(\"&AO1&\"%↑)\"","v":"전세가율★\n(80%↑)"},{"$f":"\"절대가★\n(\"&AP1/10000&\"억↓)\"","v":"절대가★\n(4.5억↓)"},{"$f":"\"지역평단가\n(\"&AQ1&\"↓)\"","v":"지역평단가\n(1000↓)"},{"$f":"\"투자규모★\n(갭\"&AR1/1000&\"천↓)\"","v":"투자규모★\n(갭6천↓)"},"전고점\n이하","평형★\n(15~34평)",{"$f":"\"단지규모★\n(\"&AU1&\"^↑)\"","v":"단지규모★\n(300^↑)"},"투자후보"]
["삼문동",null,null,null,null,null,null,null,null,null,null,null,null,null,null,null,null,null,null,null,null,null,null,null,null,null,null,null,null,null,null,null,null,null,""]
[null,null,null,null,null,null,null,null,null,null,null,null,null,null,null,null,null,null,null,null,null,null,{"$f":"$A$4&\" \"&A6&\"(\"&B6&\",\"&C6&\"^)\"","v":"삼문동 젤미마을1단지부영('02.08,1530^)"},null,null,null,null,null,null,null,null,null,null,{"$f":"IF(A5=\"\",\"\",A5)","v":""},""]
["젤미마을1단지부영","'02.08",1530,68.2,21,47.4,14,1530,null,null,null,null,{"$f":"I6-K6","v":0},{"$f":"IF(ISERROR(K6/I6),\"\",K6/I6)","v":""},{"$f":"I6/E6","v":0},{"$f":"K6/E6","v":0},2,1,"복",68,null,null,{"$f":"D6","v":68.2},{"$f":"E6","v":21},{"$f":"H6","v":1530},{"$f":"I6","v":0},{"$f":"K6","v":0},{"$f":"M6","v":0},{"$f":"N6","v":""},{"$f":"O6","v":0},{"$f":"S6","v":"복"},{"$f":"Q6&\"/\"&R6","v":"2/1"},null,"젤미마을1단지부영",21,{"$f":"IF(AI6=\"\",\"\",$AJ$2)","v":"A-"},"A","A+","B+",{"$f":"IF(AI6=\"\",\"\",$AN$2)","v":"C"},{"$f":"IF(N6=\"\",\"\",IF(N6>=$AO$1/100,\"O\",\"X\"))","v":""},{"$f":"IF(I6=\"\",\"\",IF(I6<=$AP$1,\"O\",\"X\"))","v":""},{"$f":"IF(O6=\"\",\"\",IF(O6<=$AQ$1,\"O\",\"X\"))","v":"O"},{"$f":"IF(M6=\"\",\"\",IF(M6<=$AR$1,\"O\",\"X\"))","v":"O"},"X",{"$f":"IF(OR(F6=\"\",AI6=\"\"),\"\",IF(AND((F6<=85),(AI6>=15)),\"O\",\"X\"))","v":"O"},{"$f":"IF(C6=\"\",\"\",IF(C6>=$AU$1,\"O\",\"X\"))","v":"O"},{"$f":"IF(AO6=\"\",\"\",IF(AND(AO6=\"O\",AP6=\"O\",AR6=\"O\",AT6=\"O\",AU6=\"O\"),\"후보\",\"X\"))","v":""}]
[null,null,null,null,null,null,null,null,null,null,null,null,null,null,null,null,null,null,null,null,null,null,{"$f":"$A$4&\" \"&A8&\"(\"&B8&\",\"&C8&\"^)\"","v":"삼문동 장유덕산아내에코캐슬('18.07,998^)"},null,null,null,null,null,null,null,null,null,null,"",""]
["장유덕산아내에코캐슬","'18.07",998,94.5,29,69,21,215,null,null,null,null,{"$f":"I8-K8","v":0},{"$f":"IF(ISERROR(K8/I8),\"\",K8/I8)","v":""},{"$f":"I8/E8","v":0},{"$f":"K8/E8","v":0},3,2,"계",94,null,null,{"$f":"D8","v":94.5},{"$f":"E8","v":29},{"$f":"H8","v":215},{"$f":"I8","v":0},{"$f":"K8","v":0},{"$f":"M8","v":0},"",0,{"$f":"S8","v":"계"},{"$f":"Q8&\"/\"&R8","v":"3/2"},null,"장유덕산아내에코캐슬",29,{"$f":"IF(AI8=\"\",\"\",$AJ$2)","v":"A-"},"A","A+","B+",{"$f":"IF(AI8=\"\",\"\",$AN$2)","v":"C"},{"$f":"IF(N8=\"\",\"\",IF(N8>=$AO$1/100,\"O\",\"X\"))","v":""},{"$f":"IF(I8=\"\",\"\",IF(I8<=$AP$1,\"O\",\"X\"))","v":""},{"$f":"IF(O8=\"\",\"\",IF(O8<=$AQ$1,\"O\",\"X\"))","v":"O"},{"$f":"IF(M8=\"\",\"\",IF(M8<=$AR$1,\"O\",\"X\"))","v":"O"},"X",{"$f":"IF(OR(F8=\"\",AI8=\"\"),\"\",IF(AND((F8<=85),(AI8>=15)),\"O\",\"X\"))","v":"O"},{"$f":"IF(C8=\"\",\"\",IF(C8>=$AU$1,\"O\",\"X\"))","v":"O"},{"$f":"IF(AO8=\"\",\"\",IF(AND(AO8=\"O\",AP8=\"O\",AR8=\"O\",AT8=\"O\",AU8=\"O\"),\"후보\",\"X\"))","v":""}]
["장유덕산아내에코캐슬","'18.07",998,112.9,34,84.8,26,392,null,null,null,null,{"$f":"I9-K9","v":0},{"$f":"IF(ISERROR(K9/I9),\"\",K9/I9)","v":""},{"$f":"I9/E9","v":0},{"$f":"K9/E9","v":0},3,2,"계","112A",null,null,{"$f":"D9","v":112.9},{"$f":"E9","v":34},{"$f":"H9","v":392},{"$f":"I9","v":0},{"$f":"K9","v":0},0,"",0,{"$f":"S9","v":"계"},{"$f":"Q9&\"/\"&R9","v":"3/2"},null,"장유덕산아내에코캐슬",34,{"$f":"IF(AI9=\"\",\"\",$AJ$2)","v":"A-"},"A","A+","B+",{"$f":"IF(AI9=\"\",\"\",$AN$2)","v":"C"},{"$f":"IF(N9=\"\",\"\",IF(N9>=$AO$1/100,\"O\",\"X\"))","v":""},{"$f":"IF(I9=\"\",\"\",IF(I9<=$AP$1,\"O\",\"X\"))","v":""},{"$f":"IF(O9=\"\",\"\",IF(O9<=$AQ$1,\"O\",\"X\"))","v":"O"},{"$f":"IF(M9=\"\",\"\",IF(M9<=$AR$1,\"O\",\"X\"))","v":"O"},"X",{"$f":"IF(OR(F9=\"\",AI9=\"\"),\"\",IF(AND((F9<=85),(AI9>=15)),\"O\",\"X\"))","v":"O"},{"$f":"IF(C9=\"\",\"\",IF(C9>=$AU$1,\"O\",\"X\"))","v":"O"},{"$f":"IF(AO9=\"\",\"\",IF(AND(AO9=\"O\",AP9=\"O\",AR9=\"O\",AT9=\"O\",AU9=\"O\"),\"후보\",\"X\"))","v":""}]
[null,null,null,null,null,null,null,null,null,null,null,null,null,null,null,null,null,null,null,null,null,null,{"$f":"$A$4&\" \"&A11&\"(\"&B11&\",\"&C11&\"^)\"","v":"삼문동 신장유일동미라주더파크('17.06,782^)"},null,null,null,null,null,null,null,null,null,null,"",""]
["신장유일동미라주더파크","'17.06",782,80,24,59.9,18,159,null,null,null,null,{"$f":"I11-K11","v":0},{"$f":"IF(ISERROR(K11/I11),\"\",K11/I11)","v":""},{"$f":"I11/E11","v":0},{"$f":"K11/E11","v":0},3,2,"계",80,null,null,{"$f":"D11","v":80},24,{"$f":"H11","v":159},0,{"$f":"K11","v":0},{"$f":"M11","v":0},"",0,{"$f":"S11","v":"계"},{"$f":"Q11&\"/\"&R11","v":"3/2"},null,"신장유일동미라주더파크",24,{"$f":"IF(AI11=\"\",\"\",$AJ$2)","v":"A-"},"A","A+","B+",{"$f":"IF(AI11=\"\",\"\",$AN$2)","v":"C"},{"$f":"IF(N11=\"\",\"\",IF(N11>=$AO$1/100,\"O\",\"X\"))","v":""},{"$f":"IF(I11=\"\",\"\",IF(I11<=$AP$1,\"O\",\"X\"))","v":""},{"$f":"IF(O11=\"\",\"\",IF(O11<=$AQ$1,\"O\",\"X\"))","v":"O"},{"$f":"IF(M11=\"\",\"\",IF(M11<=$AR$1,\"O\",\"X\"))","v":"O"},"X",{"$f":"IF(OR(F11=\"\",AI11=\"\"),\"\",IF(AND((F11<=85),(AI11>=15)),\"O\",\"X\"))","v":"O"},{"$f":"IF(C11=\"\",\"\",IF(C11>=$AU$1,\"O\",\"X\"))","v":"O"},{"$f":"IF(AO11=\"\",\"\",IF(AND(AO11=\"O\",AP11=\"O\",AR11=\"O\",AT11=\"O\",AU11=\"O\"),\"후보\",\"X\"))","v":""}]
["신장유일동미라주더파크","'17.06",782,99.5,30,74.900000000000006,23,166,null,null,null,null,{"$f":"I12-K12","v":0},{"$f":"IF(ISERROR(K12/I12),\"\",K12/I12)","v":""},{"$f":"I12/E12","v":0},{"$f":"K12/E12","v":0},3,2,"계","99A",null,null,99.5,30,166,0,{"$f":"K12","v":0},0,"",0,{"$f":"S12","v":"계"},{"$f":"Q12&\"/\"&R12","v":"3/2"},null,"신장유일동미라주더파크",30,{"$f":"IF(AI12=\"\",\"\",$AJ$2)","v":"A-"},"A","A+","B+",{"$f":"IF(AI12=\"\",\"\",$AN$2)","v":"C"},{"$f":"IF(N12=\"\",\"\",IF(N12>=$AO$1/100,\"O\",\"X\"))","v":""},{"$f":"IF(I12=\"\",\"\",IF(I12<=$AP$1,\"O\",\"X\"))","v":""},{"$f":"IF(O12=\"\",\"\",IF(O12<=$AQ$1,\"O\",\"X\"))","v":"O"},{"$f":"IF(M12=\"\",\"\",IF(M12<=$AR$1,\"O\",\"X\"))","v":"O"},"X",{"$f":"IF(OR(F12=\"\",AI12=\"\"),\"\",IF(AND((F12<=85),(AI12>=15)),\"O\",\"X\"))","v":"O"},{"$f":"IF(C12=\"\",\"\",IF(C12>=$AU$1,\"O\",\"X\"))","v":"O"},{"$f":"IF(AO12=\"\",\"\",IF(AND(AO12=\"O\",AP12=\"O\",AR12=\"O\",AT12=\"O\",AU12=\"O\"),\"후보\",\"X\"))","v":""}]
["신장유일동미라주더파크","'17.06",782,112,34,85,26,166,null,null,null,null,{"$f":"I13-K13","v":0},{"$f":"IF(ISERROR(K13/I13),\"\",K13/I13)","v":""},{"$f":"I13/E13","v":0},{"$f":"K13/E13","v":0},3,2,"계","99A",null,null,112,34,166,0,{"$f":"K13","v":0},0,"",0,{"$f":"S13","v":"계"},{"$f":"Q13&\"/\"&R13","v":"3/2"},null,"신장유일동미라주더파크",34,{"$f":"IF(AI13=\"\",\"\",$AJ$2)","v":"A-"},"A","A+","B+",{"$f":"IF(AI13=\"\",\"\",$AN$2)","v":"C"},{"$f":"IF(N13=\"\",\"\",IF(N13>=$AO$1/100,\"O\",\"X\"))","v":""},{"$f":"IF(I13=\"\",\"\",IF(I13<=$AP$1,\"O\",\"X\"))","v":""},{"$f":"IF(O13=\"\",\"\",IF(O13<=$AQ$1,\"O\",\"X\"))","v":"O"},{"$f":"IF(M13=\"\",\"\",IF(M13<=$AR$1,\"O\",\"X\"))","v":"O"},"X",{"$f":"IF(OR(F13=\"\",AI13=\"\"),\"\",IF(AND((F13<=85),(AI13>=15)),\"O\",\"X\"))","v":"O"},{"$f":"IF(C13=\"\",\"\",IF(C13>=$AU$1,\"O\",\"X\"))","v":"O"},{"$f":"IF(AO13=\"\",\"\",IF(AND(AO13=\"O\",AP13=\"O\",AR13=\"O\",AT13=\"O\",AU13=\"O\"),\"후보\",\"X\"))","v":""}]
[null,null,null,null,null,null,null,null,null,null,null,null,null,null,null,null,null,null,null,null,null,null,{"$f":"$A$4&\" \"&A15&\"(\"&B15&\",\"&C15&\"^)\"","v":"삼문동 젤미마을4단지부영('04.09,516^)"},null,null,null,null,null,null,null,null,null,null,"",""]
["젤미마을4단지부영","'04.09",516,104.9,32,84.8,26,516,null,null,null,null,{"$f":"I15-K15","v":0},{"$f":"IF(ISERROR(K15/I15),\"\",K15/I15)","v":""},{"$f":"I15/E15","v":0},{"$f":"K15/E15","v":0},3,2,"계",104,null,null,{"$f":"D15","v":104.9},{"$f":"E15","v":32},{"$f":"H15","v":516},{"$f":"I15","v":0},{"$f":"K15","v":0},{"$f":"M15","v":0},{"$f":"N15","v":""},{"$f":"O15","v":0},{"$f":"S15","v":"계"},{"$f":"Q15&\"/\"&R15","v":"3/2"},null,"젤미마을4단지부영",32,{"$f":"IF(AI15=\"\",\"\",$AJ$2)","v":"A-"},"A","A+","B+",{"$f":"IF(AI15=\"\",\"\",$AN$2)","v":"C"},{"$f":"IF(N15=\"\",\"\",IF(N15>=$AO$1/100,\"O\",\"X\"))","v":""},{"$f":"IF(I15=\"\",\"\",IF(I15<=$AP$1,\"O\",\"X\"))","v":""},{"$f":"IF(O15=\"\",\"\",IF(O15<=$AQ$1,\"O\",\"X\"))","v":"O"},{"$f":"IF(M15=\"\",\"\",IF(M15<=$AR$1,\"O\",\"X\"))","v":"O"},"X",{"$f":"IF(OR(F15=\"\",AI15=\"\"),\"\",IF(AND((F15<=85),(AI15>=15)),\"O\",\"X\"))","v":"O"},{"$f":"IF(C15=\"\",\"\",IF(C15>=$AU$1,\"O\",\"X\"))","v":"O"},{"$f":"IF(AO15=\"\",\"\",IF(AND(AO15=\"O\",AP15=\"O\",AR15=\"O\",AT15=\"O\",AU15=\"O\"),\"후보\",\"X\"))","v":""}]
[null,null,null,null,null,null,null,null,null,null,null,null,null,null,null,null,null,null,null,null,null,null,{"$f":"$A$4&\" \"&A17&\"(\"&B17&\",\"&C17&\"^)\"","v":"삼문동 젤미마을5단지푸르지오('05.08,464^)"},null,null,null,null,null,null,null,null,null,null,"",""]
["젤미마을5단지푸르지오","'05.08",464,109.3,33,85,26,286,null,null,null,null,{"$f":"I17-K17","v":0},{"$f":"IF(ISERROR(K17/I17),\"\",K17/I17)","v":""},{"$f":"I17/E17","v":0},{"$f":"K17/E17","v":0},3,2,"합","109B",null,null,{"$f":"D17","v":109.3},{"$f":"E17","v":33},{"$f":"H17","v":286},{"$f":"I17","v":0},{"$f":"K17","v":0},{"$f":"M17","v":0},{"$f":"N17","v":""},{"$f":"O17","v":0},{"$f":"S17","v":"합"},{"$f":"Q17&\"/\"&R17","v":"3/2"},null,"젤미마을5단지푸르지오",33,{"$f":"IF(AI17=\"\",\"\",$AJ$2)","v":"A-"},"A","A+","B+",{"$f":"IF(AI17=\"\",\"\",$AN$2)","v":"C"},{"$f":"IF(N17=\"\",\"\",IF(N17>=$AO$1/100,\"O\",\"X\"))","v":""},{"$f":"IF(I17=\"\",\"\",IF(I17<=$AP$1,\"O\",\"X\"))","v":""},{"$f":"IF(O17=\"\",\"\",IF(O17<=$AQ$1,\"O\",\"X\"))","v":"O"},{"$f":"IF(M17=\"\",\"\",IF(M17<=$AR$1,\"O\",\"X\"))","v":"O"},"X",{"$f":"IF(OR(F17=\"\",AI17=\"\"),\"\",IF(AND((F17<=85),(AI17>=15)),\"O\",\"X\"))","v":"O"},{"$f":"IF(C17=\"\",\"\",IF(C17>=$AU$1,\"O\",\"X\"))","v":"O"},{"$f":"IF(AO17=\"\",\"\",IF(AND(AO17=\"O\",AP17=\"O\",AR17=\"O\",AT17=\"O\",AU17=\"O\"),\"후보\",\"X\"))","v":""}]
[null,null,null,null,null,null,null,null,null,null,null,null,null,null,null,null,null,null,null,null,null,null,{"$f":"$A$4&\" \"&A19&\"(\"&B19&\",\"&C19&\"^)\"","v":"삼문동 갑오마을10단지부영e그린타운('03.08,446^)"},null,null,null,null,null,null,null,null,null,null,"",""]
["갑오마을10단지부영e그린타운","'03.08",446,100.7,31,80.900000000000006,25,446,null,null,null,null,{"$f":"I19-K19","v":0},{"$f":"IF(ISERROR(K19/I19),\"\",K19/I19)","v":""},{"$f":"I19/E19","v":0},{"$f":"K19/E19","v":0},3,2,"계",100,null,null,{"$f":"D19","v":100.7},{"$f":"E19","v":31},{"$f":"H19","v":446},{"$f":"I19","v":0},{"$f":"K19","v":0},{"$f":"M19","v":0},{"$f":"N19","v":""},{"$f":"O19","v":0},{"$f":"S19","v":"계"},{"$f":"Q19&\"/\"&R19","v":"3/2"},null,"갑오마을10단지부영e그린타운",31,{"$f":"IF(AI19=\"\",\"\",$AJ$2)","v":"A-"},"A","A+","B+",{"$f":"IF(AI19=\"\",\"\",$AN$2)","v":"C"},{"$f":"IF(N19=\"\",\"\",IF(N19>=$AO$1/100,\"O\",\"X\"))","v":""},{"$f":"IF(I19=\"\",\"\",IF(I19<=$AP$1,\"O\",\"X\"))","v":""},{"$f":"IF(O19=\"\",\"\",IF(O19<=$AQ$1,\"O\",\"X\"))","v":"O"},{"$f":"IF(M19=\"\",\"\",IF(M19<=$AR$1,\"O\",\"X\"))","v":"O"},"X",{"$f":"IF(OR(F19=\"\",AI19=\"\"),\"\",IF(AND((F19<=85),(AI19>=15)),\"O\",\"X\"))","v":"O"},{"$f":"IF(C19=\"\",\"\",IF(C19>=$AU$1,\"O\",\"X\"))","v":"O"},{"$f":"IF(AO19=\"\",\"\",IF(AND(AO19=\"O\",AP19=\"O\",AR19=\"O\",AT19=\"O\",AU19=\"O\"),\"후보\",\"X\"))","v":""}]
[null,null,null,null,null,null,null,null,null,null,null,null,null,null,null,null,null,null,null,null,null,null,{"$f":"$A$4&\" \"&A21&\"(\"&B21&\",\"&C21&\"^)\"","v":"삼문동 젤미마을6단지주공('03.04,407^)"},null,null,null,null,null,null,null,null,null,null,"",""]
["젤미마을6단지주공","'03.04",407,71.400000000000006,22,51.5,16,19,null,null,null,null,{"$f":"I21-K21","v":0},{"$f":"IF(ISERROR(K21/I21),\"\",K21/I21)","v":""},{"$f":"I21/E21","v":0},{"$f":"K21/E21","v":0},2,1,"계",71,null,null,{"$f":"D21","v":71.400000000000006},{"$f":"E21","v":22},{"$f":"H21","v":19},{"$f":"I21","v":0},{"$f":"K21","v":0},{"$f":"M21","v":0},"",0,{"$f":"S21","v":"계"},{"$f":"Q21&\"/\"&R21","v":"2/1"},null,"젤미마을6단지주공",22,{"$f":"IF(AI21=\"\",\"\",$AJ$2)","v":"A-"},"A","A+","B+",{"$f":"IF(AI21=\"\",\"\",$AN$2)","v":"C"},{"$f":"IF(N21=\"\",\"\",IF(N21>=$AO$1/100,\"O\",\"X\"))","v":""},{"$f":"IF(I21=\"\",\"\",IF(I21<=$AP$1,\"O\",\"X\"))","v":""},{"$f":"IF(O21=\"\",\"\",IF(O21<=$AQ$1,\"O\",\"X\"))","v":"O"},{"$f":"IF(M21=\"\",\"\",IF(M21<=$AR$1,\"O\",\"X\"))","v":"O"},"X",{"$f":"IF(OR(F21=\"\",AI21=\"\"),\"\",IF(AND((F21<=85),(AI21>=15)),\"O\",\"X\"))","v":"O"},{"$f":"IF(C21=\"\",\"\",IF(C21>=$AU$1,\"O\",\"X\"))","v":"O"},{"$f":"IF(AO21=\"\",\"\",IF(AND(AO21=\"O\",AP21=\"O\",AR21=\"O\",AT21=\"O\",AU21=\"O\"),\"후보\",\"X\"))","v":""}]
["젤미마을6단지주공","'03.04",407,79,24,59.3,18,348,null,null,null,null,{"$f":"I22-K22","v":0},{"$f":"IF(ISERROR(K22/I22),\"\",K22/I22)","v":""},{"$f":"I22/E22","v":0},{"$f":"K22/E22","v":0},3,2,"계","78A",null,null,{"$f":"D22","v":79},{"$f":"E22","v":24},{"$f":"H22","v":348},{"$f":"I22","v":0},{"$f":"K22","v":0},0,"",0,{"$f":"S22","v":"계"},{"$f":"Q22&\"/\"&R22","v":"3/2"},null,"젤미마을6단지주공",24,{"$f":"IF(AI22=\"\",\"\",$AJ$2)","v":"A-"},"A","A+","B+",{"$f":"IF(AI22=\"\",\"\",$AN$2)","v":"C"},{"$f":"IF(N22=\"\",\"\",IF(N22>=$AO$1/100,\"O\",\"X\"))","v":""},{"$f":"IF(I22=\"\",\"\",IF(I22<=$AP$1,\"O\",\"X\"))","v":""},{"$f":"IF(O22=\"\",\"\",IF(O22<=$AQ$1,\"O\",\"X\"))","v":"O"},{"$f":"IF(M22=\"\",\"\",IF(M22<=$AR$1,\"O\",\"X\"))","v":"O"},"X",{"$f":"IF(OR(F22=\"\",AI22=\"\"),\"\",IF(AND((F22<=85),(AI22>=15)),\"O\",\"X\"))","v":"O"},{"$f":"IF(C22=\"\",\"\",IF(C22>=$AU$1,\"O\",\"X\"))","v":"O"},{"$f":"IF(AO22=\"\",\"\",IF(AND(AO22=\"O\",AP22=\"O\",AR22=\"O\",AT22=\"O\",AU22=\"O\"),\"후보\",\"X\"))","v":""}]
[null,null,null,null,null,null,null,null,null,null,null,null,null,null,null,null,null,null,null,null,null,null,{"$f":"$A$4&\" \"&A24&\"(\"&B24&\",\"&C24&\"^)\"","v":"삼문동 젤미마을9단지부영그린타운5차('04.1,394^)"},null,null,null,null,null,null,null,null,null,null,"",""]
["젤미마을9단지부영그린타운5차","'04.1",394,105,32,84.8,26,394,null,null,null,null,{"$f":"I24-K24","v":0},{"$f":"IF(ISERROR(K24/I24),\"\",K24/I24)","v":""},{"$f":"I24/E24","v":0},{"$f":"K24/E24","v":0},3,2,"계",105,null,null,{"$f":"D24","v":105},{"$f":"E24","v":32},{"$f":"H24","v":394},{"$f":"I24","v":0},{"$f":"K24","v":0},{"$f":"M24","v":0},{"$f":"N24","v":""},{"$f":"O24","v":0},{"$f":"S24","v":"계"},{"$f":"Q24&\"/\"&R24","v":"3/2"},null,"젤미마을9단지부영그린타운5차",32,{"$f":"IF(AI24=\"\",\"\",$AJ$2)","v":"A-"},"A","A+","B+",{"$f":"IF(AI24=\"\",\"\",$AN$2)","v":"C"},{"$f":"IF(N24=\"\",\"\",IF(N24>=$AO$1/100,\"O\",\"X\"))","v":""},{"$f":"IF(I24=\"\",\"\",IF(I24<=$AP$1,\"O\",\"X\"))","v":""},{"$f":"IF(O24=\"\",\"\",IF(O24<=$AQ$1,\"O\",\"X\"))","v":"O"},{"$f":"IF(M24=\"\",\"\",IF(M24<=$AR$1,\"O\",\"X\"))","v":"O"},"X",{"$f":"IF(OR(F24=\"\",AI24=\"\"),\"\",IF(AND((F24<=85),(AI24>=15)),\"O\",\"X\"))","v":"O"},{"$f":"IF(C24=\"\",\"\",IF(C24>=$AU$1,\"O\",\"X\"))","v":"O"},{"$f":"IF(AO24=\"\",\"\",IF(AND(AO24=\"O\",AP24=\"O\",AR24=\"O\",AT24=\"O\",AU24=\"O\"),\"후보\",\"X\"))","v":""}]
[null,null,null,null,null,null,null,null,null,null,null,null,null,null,null,null,null,null,null,null,null,null,{"$f":"$A$4&\" \"&A26&\"(\"&B26&\",\"&C26&\"^)\"","v":"삼문동 젤미마을7단지부영e그린타운6차('04.05,372^)"},null,null,null,null,null,null,null,null,null,null,"",""]
["젤미마을7단지부영e그린타운6차","'04.05",372,95.9,29,76.3,23,18,null,null,null,null,{"$f":"I26-K26","v":0},{"$f":"IF(ISERROR(K26/I26),\"\",K26/I26)","v":""},{"$f":"I26/E26","v":0},{"$f":"K26/E26","v":0},3,2,"계",95,null,null,{"$f":"D26","v":95.9},{"$f":"E26","v":29},{"$f":"H26","v":18},{"$f":"I26","v":0},{"$f":"K26","v":0},{"$f":"M26","v":0},"",0,{"$f":"S26","v":"계"},{"$f":"Q26&\"/\"&R26","v":"3/2"},null,"젤미마을7단지부영e그린타운6차",29,{"$f":"IF(AI26=\"\",\"\",$AJ$2)","v":"A-"},"A","A+","B+",{"$f":"IF(AI26=\"\",\"\",$AN$2)","v":"C"},{"$f":"IF(N26=\"\",\"\",IF(N26>=$AO$1/100,\"O\",\"X\"))","v":""},{"$f":"IF(I26=\"\",\"\",IF(I26<=$AP$1,\"O\",\"X\"))","v":""},{"$f":"IF(O26=\"\",\"\",IF(O26<=$AQ$1,\"O\",\"X\"))","v":"O"},{"$f":"IF(M26=\"\",\"\",IF(M26<=$AR$1,\"O\",\"X\"))","v":"O"},"X",{"$f":"IF(OR(F26=\"\",AI26=\"\"),\"\",IF(AND((F26<=85),(AI26>=15)),\"O\",\"X\"))","v":"O"},{"$f":"IF(C26=\"\",\"\",IF(C26>=$AU$1,\"O\",\"X\"))","v":"O"},{"$f":"IF(AO26=\"\",\"\",IF(AND(AO26=\"O\",AP26=\"O\",AR26=\"O\",AT26=\"O\",AU26=\"O\"),\"후보\",\"X\"))","v":""}]
["젤미마을7단지부영e그린타운6차","'04.05",372,101.4,31,80.900000000000006,25,354,null,null,null,null,{"$f":"I27-K27","v":0},{"$f":"IF(ISERROR(K27/I27),\"\",K27/I27)","v":""},{"$f":"I27/E27","v":0},{"$f":"K27/E27","v":0},3,2,"계",101,null,null,{"$f":"D27","v":101.4},{"$f":"E27","v":31},{"$f":"H27","v":354},{"$f":"I27","v":0},{"$f":"K27","v":0},0,"",0,{"$f":"S27","v":"계"},{"$f":"Q27&\"/\"&R27","v":"3/2"},null,"젤미마을7단지부영e그린타운6차",31,{"$f":"IF(AI27=\"\",\"\",$AJ$2)","v":"A-"},"A","A+","B+",{"$f":"IF(AI27=\"\",\"\",$AN$2)","v":"C"},{"$f":"IF(N27=\"\",\"\",IF(N27>=$AO$1/100,\"O\",\"X\"))","v":""},{"$f":"IF(I27=\"\",\"\",IF(I27<=$AP$1,\"O\",\"X\"))","v":""},{"$f":"IF(O27=\"\",\"\",IF(O27<=$AQ$1,\"O\",\"X\"))","v":"O"},{"$f":"IF(M27=\"\",\"\",IF(M27<=$AR$1,\"O\",\"X\"))","v":"O"},"X",{"$f":"IF(OR(F27=\"\",AI27=\"\"),\"\",IF(AND((F27<=85),(AI27>=15)),\"O\",\"X\"))","v":"O"},{"$f":"IF(C27=\"\",\"\",IF(C27>=$AU$1,\"O\",\"X\"))","v":"O"},{"$f":"IF(AO27=\"\",\"\",IF(AND(AO27=\"O\",AP27=\"O\",AR27=\"O\",AT27=\"O\",AU27=\"O\"),\"후보\",\"X\"))","v":""}]
[null,null,null,null,null,null,null,null,null,null,null,null,null,null,null,null,null,null,null,null,null,null,{"$f":"$A$4&\" \"&A29&\"(\"&B29&\",\"&C29&\"^)\"","v":"삼문동 젤미마을10단지한림리츠빌('04.1,360^)"},null,null,null,null,null,null,null,null,null,null,"",""]
["젤미마을10단지한림리츠빌","'04.1",360,131.5,40,109,33,180,null,null,null,null,{"$f":"I29-K29","v":0},{"$f":"IF(ISERROR(K29/I29),\"\",K29/I29)","v":""},{"$f":"I29/E29","v":0},{"$f":"K29/E29","v":0},3,2,"계",131,null,null,{"$f":"D29","v":131.5},40,{"$f":"H29","v":180},0,{"$f":"K29","v":0},{"$f":"M29","v":0},"",0,{"$f":"S29","v":"계"},{"$f":"Q29&\"/\"&R29","v":"3/2"},null,"젤미마을10단지한림리츠빌",40,{"$f":"IF(AI29=\"\",\"\",$AJ$2)","v":"A-"},"A","A+","B+",{"$f":"IF(AI29=\"\",\"\",$AN$2)","v":"C"},{"$f":"IF(N29=\"\",\"\",IF(N29>=$AO$1/100,\"O\",\"X\"))","v":""},{"$f":"IF(I29=\"\",\"\",IF(I29<=$AP$1,\"O\",\"X\"))","v":""},{"$f":"IF(O29=\"\",\"\",IF(O29<=$AQ$1,\"O\",\"X\"))","v":"O"},{"$f":"IF(M29=\"\",\"\",IF(M29<=$AR$1,\"O\",\"X\"))","v":"O"},"X",{"$f":"IF(OR(F29=\"\",AI29=\"\"),\"\",IF(AND((F29<=85),(AI29>=15)),\"O\",\"X\"))","v":"X"},{"$f":"IF(C29=\"\",\"\",IF(C29>=$AU$1,\"O\",\"X\"))","v":"O"},{"$f":"IF(AO29=\"\",\"\",IF(AND(AO29=\"O\",AP29=\"O\",AR29=\"O\",AT29=\"O\",AU29=\"O\"),\"후보\",\"X\"))","v":""}]
["젤미마을10단지한림리츠빌","'04.1",360,155.19999999999999,47,130.5,40,140,null,null,null,null,{"$f":"I30-K30","v":0},{"$f":"IF(ISERROR(K30/I30),\"\",K30/I30)","v":""},{"$f":"I30/E30","v":0},{"$f":"K30/E30","v":0},4,2,"계",155,null,null,155.19999999999999,47,140,0,{"$f":"K30","v":0},0,"",0,{"$f":"S30","v":"계"},{"$f":"Q30&\"/\"&R30","v":"4/2"},null,"젤미마을10단지한림리츠빌",47,{"$f":"IF(AI30=\"\",\"\",$AJ$2)","v":"A-"},"A","A+","B+",{"$f":"IF(AI30=\"\",\"\",$AN$2)","v":"C"},{"$f":"IF(N30=\"\",\"\",IF(N30>=$AO$1/100,\"O\",\"X\"))","v":""},{"$f":"IF(I30=\"\",\"\",IF(I30<=$AP$1,\"O\",\"X\"))","v":""},{"$f":"IF(O30=\"\",\"\",IF(O30<=$AQ$1,\"O\",\"X\"))","v":"O"},{"$f":"IF(M30=\"\",\"\",IF(M30<=$AR$1,\"O\",\"X\"))","v":"O"},"X",{"$f":"IF(OR(F30=\"\",AI30=\"\"),\"\",IF(AND((F30<=85),(AI30>=15)),\"O\",\"X\"))","v":"X"},{"$f":"IF(C30=\"\",\"\",IF(C30>=$AU$1,\"O\",\"X\"))","v":"O"},{"$f":"IF(AO30=\"\",\"\",IF(AND(AO30=\"O\",AP30=\"O\",AR30=\"O\",AT30=\"O\",AU30=\"O\"),\"후보\",\"X\"))","v":""}]
["젤미마을10단지한림리츠빌","'04.1",360,172.9,52,144.5,44,40,null,null,null,null,{"$f":"I31-K31","v":0},{"$f":"IF(ISERROR(K31/I31),\"\",K31/I31)","v":""},{"$f":"I31/E31","v":0},{"$f":"K31/E31","v":0},4,2,"계",172,null,null,172.9,52,40,0,{"$f":"K31","v":0},0,"",0,{"$f":"S31","v":"계"},{"$f":"Q31&\"/\"&R31","v":"4/2"},null,"젤미마을10단지한림리츠빌",52,{"$f":"IF(AI31=\"\",\"\",$AJ$2)","v":"A-"},"A","A+","B+",{"$f":"IF(AI31=\"\",\"\",$AN$2)","v":"C"},{"$f":"IF(N31=\"\",\"\",IF(N31>=$AO$1/100,\"O\",\"X\"))","v":""},{"$f":"IF(I31=\"\",\"\",IF(I31<=$AP$1,\"O\",\"X\"))","v":""},{"$f":"IF(O31=\"\",\"\",IF(O31<=$AQ$1,\"O\",\"X\"))","v":"O"},{"$f":"IF(M31=\"\",\"\",IF(M31<=$AR$1,\"O\",\"X\"))","v":"O"},"X",{"$f":"IF(OR(F31=\"\",AI31=\"\"),\"\",IF(AND((F31<=85),(AI31>=15)),\"O\",\"X\"))","v":"X"},{"$f":"IF(C31=\"\",\"\",IF(C31>=$AU$1,\"O\",\"X\"))","v":"O"},{"$f":"IF(AO31=\"\",\"\",IF(AND(AO31=\"O\",AP31=\"O\",AR31=\"O\",AT31=\"O\",AU31=\"O\"),\"후보\",\"X\"))","v":""}]
[null,null,null,null,null,null,null,null,null,null,null,null,null,null,null,null,null,null,null,null,null,null,{"$f":"$A$4&\" \"&A33&\"(\"&B33&\",\"&C33&\"^)\"","v":"삼문동 갑오마을11단지부영e그린타운('03.09,324^)"},null,null,null,null,null,null,null,null,null,null,"",""]
["갑오마을11단지부영e그린타운","'03.09",324,77.7,24,60,18,324,null,null,null,null,{"$f":"I33-K33","v":0},{"$f":"IF(ISERROR(K33/I33),\"\",K33/I33)","v":""},{"$f":"I33/E33","v":0},{"$f":"K33/E33","v":0},3,1,"계",77,null,null,{"$f":"D33","v":77.7},{"$f":"E33","v":24},{"$f":"H33","v":324},{"$f":"I33","v":0},{"$f":"K33","v":0},{"$f":"M33","v":0},{"$f":"N33","v":""},{"$f":"O33","v":0},{"$f":"S33","v":"계"},{"$f":"Q33&\"/\"&R33","v":"3/1"},null,"갑오마을11단지부영e그린타운",24,{"$f":"IF(AI33=\"\",\"\",$AJ$2)","v":"A-"},"A","A+","B+",{"$f":"IF(AI33=\"\",\"\",$AN$2)","v":"C"},{"$f":"IF(N33=\"\",\"\",IF(N33>=$AO$1/100,\"O\",\"X\"))","v":""},{"$f":"IF(I33=\"\",\"\",IF(I33<=$AP$1,\"O\",\"X\"))","v":""},{"$f":"IF(O33=\"\",\"\",IF(O33<=$AQ$1,\"O\",\"X\"))","v":"O"},{"$f":"IF(M33=\"\",\"\",IF(M33<=$AR$1,\"O\",\"X\"))","v":"O"},"X",{"$f":"IF(OR(F33=\"\",AI33=\"\"),\"\",IF(AND((F33<=85),(AI33>=15)),\"O\",\"X\"))","v":"O"},{"$f":"IF(C33=\"\",\"\",IF(C33>=$AU$1,\"O\",\"X\"))","v":"O"},{"$f":"IF(AO33=\"\",\"\",IF(AND(AO33=\"O\",AP33=\"O\",AR33=\"O\",AT33=\"O\",AU33=\"O\"),\"후보\",\"X\"))","v":""}]
[null,null,null,null,null,null,null,null,null,null,null,null,null,null,null,null,null,null,null,null,null,null,{"$f":"$A$4&\" \"&A35&\"(\"&B35&\",\"&C35&\"^)\"","v":"삼문동 젤미마을3단지대동피렌체앙코르('04.12,320^)"},null,null,null,null,null,null,null,null,null,null,"",""]
["젤미마을3단지대동피렌체앙코르","'04.12",320,129,39,104.7,32,284,null,null,null,null,{"$f":"I35-K35","v":0},{"$f":"IF(ISERROR(K35/I35),\"\",K35/I35)","v":""},{"$f":"I35/E35","v":0},{"$f":"K35/E35","v":0},3,2,"계",129,null,null,{"$f":"D35","v":129},{"$f":"E35","v":39},{"$f":"H35","v":284},{"$f":"I35","v":0},{"$f":"K35","v":0},{"$f":"M35","v":0},"",0,{"$f":"S35","v":"계"},{"$f":"Q35&\"/\"&R35","v":"3/2"},null,"젤미마을3단지대동피렌체앙코르",39,{"$f":"IF(AI35=\"\",\"\",$AJ$2)","v":"A-"},"A","A+","B+",{"$f":"IF(AI35=\"\",\"\",$AN$2)","v":"C"},{"$f":"IF(N35=\"\",\"\",IF(N35>=$AO$1/100,\"O\",\"X\"))","v":""},{"$f":"IF(I35=\"\",\"\",IF(I35<=$AP$1,\"O\",\"X\"))","v":""},{"$f":"IF(O35=\"\",\"\",IF(O35<=$AQ$1,\"O\",\"X\"))","v":"O"},{"$f":"IF(M35=\"\",\"\",IF(M35<=$AR$1,\"O\",\"X\"))","v":"O"},"X",{"$f":"IF(OR(F35=\"\",AI35=\"\"),\"\",IF(AND((F35<=85),(AI35>=15)),\"O\",\"X\"))","v":"X"},{"$f":"IF(C35=\"\",\"\",IF(C35>=$AU$1,\"O\",\"X\"))","v":"O"},{"$f":"IF(AO35=\"\",\"\",IF(AND(AO35=\"O\",AP35=\"O\",AR35=\"O\",AT35=\"O\",AU35=\"O\"),\"후보\",\"X\"))","v":""}]
["젤미마을3단지대동피렌체앙코르","'04.12",320,160.5,49,130.5,40,36,null,null,null,null,{"$f":"I36-K36","v":0},{"$f":"IF(ISERROR(K36/I36),\"\",K36/I36)","v":""},{"$f":"I36/E36","v":0},{"$f":"K36/E36","v":0},4,2,"계",160,null,null,{"$f":"D36","v":160.5},{"$f":"E36","v":49},{"$f":"H36","v":36},{"$f":"I36","v":0},{"$f":"K36","v":0},0,"",0,{"$f":"S36","v":"계"},{"$f":"Q36&\"/\"&R36","v":"4/2"},null,"젤미마을3단지대동피렌체앙코르",49,{"$f":"IF(AI36=\"\",\"\",$AJ$2)","v":"A-"},"A","A+","B+",{"$f":"IF(AI36=\"\",\"\",$AN$2)","v":"C"},{"$f":"IF(N36=\"\",\"\",IF(N36>=$AO$1/100,\"O\",\"X\"))","v":""},{"$f":"IF(I36=\"\",\"\",IF(I36<=$AP$1,\"O\",\"X\"))","v":""},{"$f":"IF(O36=\"\",\"\",IF(O36<=$AQ$1,\"O\",\"X\"))","v":"O"},{"$f":"IF(M36=\"\",\"\",IF(M36<=$AR$1,\"O\",\"X\"))","v":"O"},"X",{"$f":"IF(OR(F36=\"\",AI36=\"\"),\"\",IF(AND((F36<=85),(AI36>=15)),\"O\",\"X\"))","v":"X"},{"$f":"IF(C36=\"\",\"\",IF(C36>=$AU$1,\"O\",\"X\"))","v":"O"},{"$f":"IF(AO36=\"\",\"\",IF(AND(AO36=\"O\",AP36=\"O\",AR36=\"O\",AT36=\"O\",AU36=\"O\"),\"후보\",\"X\"))","v":""}]
[null,null,null,null,null,null,null,null,null,null,null,null,null,null,null,null,null,null,null,null,null,null,{"$f":"$A$4&\" \"&A38&\"(\"&B38&\",\"&C38&\"^)\"","v":"삼문동 젤미마을8단지파크뷰('02.09,318^)"},null,null,null,null,null,null,null,null,null,null,"",""]
["젤미마을8단지파크뷰","'02.09",318,80,24,60,18,318,null,null,null,null,{"$f":"I38-K38","v":0},{"$f":"IF(ISERROR(K38/I38),\"\",K38/I38)","v":""},{"$f":"I38/E38","v":0},{"$f":"K38/E38","v":0},3,1,"계",79,null,null,{"$f":"D38","v":80},{"$f":"E38","v":24},{"$f":"H38","v":318},{"$f":"I38","v":0},{"$f":"K38","v":0},{"$f":"M38","v":0},{"$f":"N38","v":""},{"$f":"O38","v":0},{"$f":"S38","v":"계"},{"$f":"Q38&\"/\"&R38","v":"3/1"},null,"젤미마을8단지파크뷰",24,{"$f":"IF(AI38=\"\",\"\",$AJ$2)","v":"A-"},"A","A+","B+",{"$f":"IF(AI38=\"\",\"\",$AN$2)","v":"C"},{"$f":"IF(N38=\"\",\"\",IF(N38>=$AO$1/100,\"O\",\"X\"))","v":""},{"$f":"IF(I38=\"\",\"\",IF(I38<=$AP$1,\"O\",\"X\"))","v":""},{"$f":"IF(O38=\"\",\"\",IF(O38<=$AQ$1,\"O\",\"X\"))","v":"O"},{"$f":"IF(M38=\"\",\"\",IF(M38<=$AR$1,\"O\",\"X\"))","v":"O"},"X",{"$f":"IF(OR(F38=\"\",AI38=\"\"),\"\",IF(AND((F38<=85),(AI38>=15)),\"O\",\"X\"))","v":"O"},{"$f":"IF(C38=\"\",\"\",IF(C38>=$AU$1,\"O\",\"X\"))","v":"O"},{"$f":"IF(AO38=\"\",\"\",IF(AND(AO38=\"O\",AP38=\"O\",AR38=\"O\",AT38=\"O\",AU38=\"O\"),\"후보\",\"X\"))","v":""}]

{"sheet":"오태동","index":17,"n_rows":24,"n_cols":48,"rows_kept":24,"cut":false,"hidden":false,"merged":[[0,35,0,39]]}
[{"$f":"단지추출!A1","v":"구미시"},null,null,null,null,null,null,null,"추출대상",null,null,null,null,null,null,null,null,null,null,null,null,null,null,"매매가 최대(색상 최대)",null,null,{"$f":"단지추출!AA1","v":70000},null,null,null,null,null,null,{"$f":"A1","v":"구미시"},null,{"$f":"A1&\" 전체 등급\"","v":"구미시 전체 등급"},null,null,null,null,{"$f":"단지추출!AO1","v":80},{"$f":"단지추출!AP1","v":45000},{"$f":"단지추출!AQ1","v":1000},{"$f":"단지추출!AR1","v":6000},null,null,{"$f":"단지추출!AU1","v":300}]
[{"$f":"단지추출!A2","v":"2022-01-01"},null,null,null,null,null,null,null,null,null,null,null,null,null,null,null,null,null,null,null,null,null,null,"매매가 최소(색상 최소)",null,null,{"$f":"단지추출!AA2","v":10000},null,null,null,null,null,null,{"$f":"AH1 &\" \" &A4","v":"구미시 삼방동"},null,{"$f":"단지추출!AJ2","v":"A-"},{"$f":"단지추출!AK2","v":"A"},{"$f":"단지추출!AL2","v":"A"},{"$f":"단지추출!AM2","v":"A"},{"$f":"단지추출!AN2","v":"C"},"원금보전",null,null,"수익성",null,"환금성"]
["단지명","입주\n연도","총세\n대수","공급\n(m2)","공급\n면적","전용\n(m2)","전용\n면적","세대","매매\n최저가","층","전세\n최고가","층","매전갭","전세\n가율","매매\n평단","전세\n평단","방","욕\n실","구\n조","매/전/월\nType","비고",null,"공급\n(m2)","공급\n면적","세대","매매가","전세가","매전갭","전세\n가율","평단가","구\n조","방/\n욕실",null,{"$f":"IF(A3=\"\",\"\",A3)","v":"단지명"},{"$f":"IF(E3=\"\",\"\",E3)","v":"공급\n면적"},"직장","교통","학군","환경","공급",{"$f":"\"전세가율★\n(\"&AO1&\"%↑)\"","v":"전세가율★\n(80%↑)"},{"$f":"\"절대가★\n(\"&AP1/10000&\"억↓)\"","v":"절대가★\n(4.5억↓)"},{"$f":"\"지역평단가\n(\"&AQ1&\"↓)\"","v":"지역평단가\n(1000↓)"},{"$f":"\"투자규모★\n(갭\"&AR1/1000&\"천↓)\"","v":"투자규모★\n(갭6천↓)"},"전고점\n이하","평형★\n(15~34평)",{"$f":"\"단지규모★\n(\"&AU1&\"^↑)\"","v":"단지규모★\n(300^↑)"},"투자후보"]
["삼방동",null,null,null,null,null,null,null,null,null,null,null,null,null,null,null,null,null,null,null,null,null,null,null,null,null,null,null,null,null,null,null,null,null,""]
[null,null,null,null,null,null,null,null,null,null,null,null,null,null,null,null,null,null,null,null,null,null,{"$f":"$A$4&\" \"&A6&\"(\"&B6&\",\"&C6&\"^)\"","v":"삼방동 대동('91.01,216^)"},null,null,null,null,null,null,null,null,null,null,{"$f":"IF(A5=\"\",\"\",A5)","v":""},""]
["대동","'91.01",216,72.8,22,57.5,17,2,null,null,null,null,{"$f":"I6-K6","v":0},{"$f":"IF(ISERROR(K6/I6),\"\",K6/I6)","v":""},{"$f":"I6/E6","v":0},{"$f":"K6/E6","v":0},2,1,"복",72,null,null,{"$f":"D6","v":72.8},22,{"$f":"H6","v":2},0,{"$f":"K6","v":0},{"$f":"M6","v":0},"",0,{"$f":"S6","v":"복"},{"$f":"Q6&\"/\"&R6","v":"2/1"},null,"대동",22,{"$f":"IF(AI6=\"\",\"\",$AJ$2)","v":"A-"},"A","A+","B+",{"$f":"IF(AI6=\"\",\"\",$AN$2)","v":"C"},{"$f":"IF(N6=\"\",\"\",IF(N6>=$AO$1/100,\"O\",\"X\"))","v":""},{"$f":"IF(I6=\"\",\"\",IF(I6<=$AP$1,\"O\",\"X\"))","v":""},{"$f":"IF(O6=\"\",\"\",IF(O6<=$AQ$1,\"O\",\"X\"))","v":"O"},{"$f":"IF(M6=\"\",\"\",IF(M6<=$AR$1,\"O\",\"X\"))","v":"O"},"X",{"$f":"IF(OR(F6=\"\",AI6=\"\"),\"\",IF(AND((F6<=85),(AI6>=15)),\"O\",\"X\"))","v":"O"},{"$f":"IF(C6=\"\",\"\",IF(C6>=$AU$1,\"O\",\"X\"))","v":"X"},{"$f":"IF(AO6=\"\",\"\",IF(AND(AO6=\"O\",AP6=\"O\",AR6=\"O\",AT6=\"O\",AU6=\"O\"),\"후보\",\"X\"))","v":""}]
["대동","'91.01",216,84.2,25,65.599999999999994,20,96,null,null,null,null,{"$f":"I7-K7","v":0},{"$f":"IF(ISERROR(K7/I7),\"\",K7/I7)","v":""},{"$f":"I7/E7","v":0},{"$f":"K7/E7","v":0},3,1,"복",84,null,null,84.2,25,96,0,{"$f":"K7","v":0},0,"",0,{"$f":"S7","v":"복"},{"$f":"Q7&\"/\"&R7","v":"3/1"},null,"대동",25,{"$f":"IF(AI7=\"\",\"\",$AJ$2)","v":"A-"},"A","A+","B+",{"$f":"IF(AI7=\"\",\"\",$AN$2)","v":"C"},{"$f":"IF(N7=\"\",\"\",IF(N7>=$AO$1/100,\"O\",\"X\"))","v":""},{"$f":"IF(I7=\"\",\"\",IF(I7<=$AP$1,\"O\",\"X\"))","v":""},{"$f":"IF(O7=\"\",\"\",IF(O7<=$AQ$1,\"O\",\"X\"))","v":"O"},{"$f":"IF(M7=\"\",\"\",IF(M7<=$AR$1,\"O\",\"X\"))","v":"O"},"X",{"$f":"IF(OR(F7=\"\",AI7=\"\"),\"\",IF(AND((F7<=85),(AI7>=15)),\"O\",\"X\"))","v":"O"},{"$f":"IF(C7=\"\",\"\",IF(C7>=$AU$1,\"O\",\"X\"))","v":"X"},{"$f":"IF(AO7=\"\",\"\",IF(AND(AO7=\"O\",AP7=\"O\",AR7=\"O\",AT7=\"O\",AU7=\"O\"),\"후보\",\"X\"))","v":""}]
["대동","'91.01",216,86.5,26,68.400000000000006,21,118,null,null,null,null,{"$f":"I8-K8","v":0},{"$f":"IF(ISERROR(K8/I8),\"\",K8/I8)","v":""},{"$f":"I8/E8","v":0},{"$f":"K8/E8","v":0},3,1,"복",86,null,null,86.5,26,118,0,{"$f":"K8","v":0},0,"",0,{"$f":"S8","v":"복"},{"$f":"Q8&\"/\"&R8","v":"3/1"},null,"대동",26,{"$f":"IF(AI8=\"\",\"\",$AJ$2)","v":"A-"},"A","A+","B+",{"$f":"IF(AI8=\"\",\"\",$AN$2)","v":"C"},{"$f":"IF(N8=\"\",\"\",IF(N8>=$AO$1/100,\"O\",\"X\"))","v":""},{"$f":"IF(I8=\"\",\"\",IF(I8<=$AP$1,\"O\",\"X\"))","v":""},{"$f":"IF(O8=\"\",\"\",IF(O8<=$AQ$1,\"O\",\"X\"))","v":"O"},{"$f":"IF(M8=\"\",\"\",IF(M8<=$AR$1,\"O\",\"X\"))","v":"O"},"X",{"$f":"IF(OR(F8=\"\",AI8=\"\"),\"\",IF(AND((F8<=85),(AI8>=15)),\"O\",\"X\"))","v":"O"},{"$f":"IF(C8=\"\",\"\",IF(C8>=$AU$1,\"O\",\"X\"))","v":"X"},{"$f":"IF(AO8=\"\",\"\",IF(AND(AO8=\"O\",AP8=\"O\",AR8=\"O\",AT8=\"O\",AU8=\"O\"),\"후보\",\"X\"))","v":""}]
[null,null,null,null,null,null,null,null,null,null,null,null,null,null,null,null,null,null,null,null,null,null,{"$f":"$A$4&\" \"&A10&\"(\"&B10&\",\"&C10&\"^)\"","v":"삼방동 동성('91.04,570^)"},null,null,null,null,null,null,null,null,null,null,"",""]
["동성","'91.04",570,71.400000000000006,22,59.9,18,570,null,null,null,null,{"$f":"I10-K10","v":0},{"$f":"IF(ISERROR(K10/I10),\"\",K10/I10)","v":""},{"$f":"I10/E10","v":0},{"$f":"K10/E10","v":0},3,1,"계",71,null,null,{"$f":"D10","v":71.400000000000006},{"$f":"E10","v":22},{"$f":"H10","v":570},{"$f":"I10","v":0},{"$f":"K10","v":0},{"$f":"M10","v":0},{"$f":"N10","v":""},{"$f":"O10","v":0},{"$f":"S10","v":"계"},{"$f":"Q10&\"/\"&R10","v":"3/1"},null,"동성",22,{"$f":"IF(AI10=\"\",\"\",$AJ$2)","v":"A-"},"A","A+","B+",{"$f":"IF(AI10=\"\",\"\",$AN$2)","v":"C"},{"$f":"IF(N10=\"\",\"\",IF(N10>=$AO$1/100,\"O\",\"X\"))","v":""},{"$f":"IF(I10=\"\",\"\",IF(I10<=$AP$1,\"O\",\"X\"))","v":""},{"$f":"IF(O10=\"\",\"\",IF(O10<=$AQ$1,\"O\",\"X\"))","v":"O"},{"$f":"IF(M10=\"\",\"\",IF(M10<=$AR$1,\"O\",\"X\"))","v":"O"},"X",{"$f":"IF(OR(F10=\"\",AI10=\"\"),\"\",IF(AND((F10<=85),(AI10>=15)),\"O\",\"X\"))","v":"O"},{"$f":"IF(C10=\"\",\"\",IF(C10>=$AU$1,\"O\",\"X\"))","v":"O"},{"$f":"IF(AO10=\"\",\"\",IF(AND(AO10=\"O\",AP10=\"O\",AR10=\"O\",AT10=\"O\",AU10=\"O\"),\"후보\",\"X\"))","v":""}]
[null,null,null,null,null,null,null,null,null,null,null,null,null,null,null,null,null,null,null,null,null,null,{"$f":"$A$4&\" \"&A12&\"(\"&B12&\",\"&C12&\"^)\"","v":"삼방동 동원('92.01,1026^)"},null,null,null,null,null,null,null,null,null,null,"",""]
["동원","'92.01",1026,74.900000000000006,23,60,18,882,null,null,null,null,{"$f":"I12-K12","v":0},{"$f":"IF(ISERROR(K12/I12),\"\",K12/I12)","v":""},{"$f":"I12/E12","v":0},{"$f":"K12/E12","v":0},3,1,"계",74,null,null,{"$f":"D12","v":74.900000000000006},{"$f":"E12","v":23},{"$f":"H12","v":882},{"$f":"I12","v":0},{"$f":"K12","v":0},{"$f":"M12","v":0},"",0,{"$f":"S12","v":"계"},{"$f":"Q12&\"/\"&R12","v":"3/1"},null,"동원",23,{"$f":"IF(AI12=\"\",\"\",$AJ$2)","v":"A-"},"A","A+","B+",{"$f":"IF(AI12=\"\",\"\",$AN$2)","v":"C"},{"$f":"IF(N12=\"\",\"\",IF(N12>=$AO$1/100,\"O\",\"X\"))","v":""},{"$f":"IF(I12=\"\",\"\",IF(I12<=$AP$1,\"O\",\"X\"))","v":""},{"$f":"IF(O12=\"\",\"\",IF(O12<=$AQ$1,\"O\",\"X\"))","v":"O"},{"$f":"IF(M12=\"\",\"\",IF(M12<=$AR$1,\"O\",\"X\"))","v":"O"},"X",{"$f":"IF(OR(F12=\"\",AI12=\"\"),\"\",IF(AND((F12<=85),(AI12>=15)),\"O\",\"X\"))","v":"O"},{"$f":"IF(C12=\"\",\"\",IF(C12>=$AU$1,\"O\",\"X\"))","v":"O"},{"$f":"IF(AO12=\"\",\"\",IF(AND(AO12=\"O\",AP12=\"O\",AR12=\"O\",AT12=\"O\",AU12=\"O\"),\"후보\",\"X\"))","v":""}]
["동원","'92.01",1026,103.3,31,84.9,26,144,null,null,null,null,{"$f":"I13-K13","v":0},{"$f":"IF(ISERROR(K13/I13),\"\",K13/I13)","v":""},{"$f":"I13/E13","v":0},{"$f":"K13/E13","v":0},3,1,"계",103,null,null,{"$f":"D13","v":103.3},{"$f":"E13","v":31},{"$f":"H13","v":144},{"$f":"I13","v":0},{"$f":"K13","v":0},0,"",0,{"$f":"S13","v":"계"},{"$f":"Q13&\"/\"&R13","v":"3/1"},null,"동원",31,{"$f":"IF(AI13=\"\",\"\",$AJ$2)","v":"A-"},"A","A+","B+",{"$f":"IF(AI13=\"\",\"\",$AN$2)","v":"C"},{"$f":"IF(N13=\"\",\"\",IF(N13>=$AO$1/100,\"O\",\"X\"))","v":""},{"$f":"IF(I13=\"\",\"\",IF(I13<=$AP$1,\"O\",\"X\"))","v":""},{"$f":"IF(O13=\"\",\"\",IF(O13<=$AQ$1,\"O\",\"X\"))","v":"O"},{"$f":"IF(M13=\"\",\"\",IF(M13<=$AR$1,\"O\",\"X\"))","v":"O"},"X",{"$f":"IF(OR(F13=\"\",AI13=\"\"),\"\",IF(AND((F13<=85),(AI13>=15)),\"O\",\"X\"))","v":"O"},{"$f":"IF(C13=\"\",\"\",IF(C13>=$AU$1,\"O\",\"X\"))","v":"O"},{"$f":"IF(AO13=\"\",\"\",IF(AND(AO13=\"O\",AP13=\"O\",AR13=\"O\",AT13=\"O\",AU13=\"O\"),\"후보\",\"X\"))","v":""}]
[null,null,null,null,null,null,null,null,null,null,null,null,null,null,null,null,null,null,null,null,null,null,{"$f":"$A$4&\" \"&A15&\"(\"&B15&\",\"&C15&\"^)\"","v":"삼방동 한일('92.07,834^)"},null,null,null,null,null,null,null,null,null,null,"",""]
["한일","'92.07",834,90,27,74.099999999999994,22,234,null,null,null,null,{"$f":"I15-K15","v":0},{"$f":"IF(ISERROR(K15/I15),\"\",K15/I15)","v":""},{"$f":"I15/E15","v":0},{"$f":"K15/E15","v":0},3,1,"계",89,null,null,{"$f":"D15","v":90},27,{"$f":"H15","v":234},0,{"$f":"K15","v":0},{"$f":"M15","v":0},"",0,{"$f":"S15","v":"계"},{"$f":"Q15&\"/\"&R15","v":"3/1"},null,"한일",27,{"$f":"IF(AI15=\"\",\"\",$AJ$2)","v":"A-"},"A","A+","B+",{"$f":"IF(AI15=\"\",\"\",$AN$2)","v":"C"},{"$f":"IF(N15=\"\",\"\",IF(N15>=$AO$1/100,\"O\",\"X\"))","v":""},{"$f":"IF(I15=\"\",\"\",IF(I15<=$AP$1,\"O\",\"X\"))","v":""},{"$f":"IF(O15=\"\",\"\",IF(O15<=$AQ$1,\"O\",\"X\"))","v":"O"},{"$f":"IF(M15=\"\",\"\",IF(M15<=$AR$1,\"O\",\"X\"))","v":"O"},"X",{"$f":"IF(OR(F15=\"\",AI15=\"\"),\"\",IF(AND((F15<=85),(AI15>=15)),\"O\",\"X\"))","v":"O"},{"$f":"IF(C15=\"\",\"\",IF(C15>=$AU$1,\"O\",\"X\"))","v":"O"},{"$f":"IF(AO15=\"\",\"\",IF(AND(AO15=\"O\",AP15=\"O\",AR15=\"O\",AT15=\"O\",AU15=\"O\"),\"후보\",\"X\"))","v":""}]
["한일","'92.07",834,101.6,31,84.9,26,450,null,null,null,null,{"$f":"I16-K16","v":0},{"$f":"IF(ISERROR(K16/I16),\"\",K16/I16)","v":""},{"$f":"I16/E16","v":0},{"$f":"K16/E16","v":0},3,2,"계",101,null,null,101.6,31,450,0,{"$f":"K16","v":0},0,"",0,{"$f":"S16","v":"계"},{"$f":"Q16&\"/\"&R16","v":"3/2"},null,"한일",31,{"$f":"IF(AI16=\"\",\"\",$AJ$2)","v":"A-"},"A","A+","B+",{"$f":"IF(AI16=\"\",\"\",$AN$2)","v":"C"},{"$f":"IF(N16=\"\",\"\",IF(N16>=$AO$1/100,\"O\",\"X\"))","v":""},{"$f":"IF(I16=\"\",\"\",IF(I16<=$AP$1,\"O\",\"X\"))","v":""},{"$f":"IF(O16=\"\",\"\",IF(O16<=$AQ$1,\"O\",\"X\"))","v":"O"},{"$f":"IF(M16=\"\",\"\",IF(M16<=$AR$1,\"O\",\"X\"))","v":"O"},"X",{"$f":"IF(OR(F16=\"\",AI16=\"\"),\"\",IF(AND((F16<=85),(AI16>=15)),\"O\",\"X\"))","v":"O"},{"$f":"IF(C16=\"\",\"\",IF(C16>=$AU$1,\"O\",\"X\"))","v":"O"},{"$f":"IF(AO16=\"\",\"\",IF(AND(AO16=\"O\",AP16=\"O\",AR16=\"O\",AT16=\"O\",AU16=\"O\"),\"후보\",\"X\"))","v":""}]
["한일","'92.07",834,134.69999999999999,41,115.7,35,60,null,null,null,null,{"$f":"I17-K17","v":0},{"$f":"IF(ISERROR(K17/I17),\"\",K17/I17)","v":""},{"$f":"I17/E17","v":0},{"$f":"K17/E17","v":0},4,2,"계",134,null,null,134.69999999999999,41,60,0,{"$f":"K17","v":0},0,"",0,{"$f":"S17","v":"계"},{"$f":"Q17&\"/\"&R17","v":"4/2"},null,"한일",41,{"$f":"IF(AI17=\"\",\"\",$AJ$2)","v":"A-"},"A","A+","B+",{"$f":"IF(AI17=\"\",\"\",$AN$2)","v":"C"},{"$f":"IF(N17=\"\",\"\",IF(N17>=$AO$1/100,\"O\",\"X\"))","v":""},{"$f":"IF(I17=\"\",\"\",IF(I17<=$AP$1,\"O\",\"X\"))","v":""},{"$f":"IF(O17=\"\",\"\",IF(O17<=$AQ$1,\"O\",\"X\"))","v":"O"},{"$f":"IF(M17=\"\",\"\",IF(M17<=$AR$1,\"O\",\"X\"))","v":"O"},"X",{"$f":"IF(OR(F17=\"\",AI17=\"\"),\"\",IF(AND((F17<=85),(AI17>=15)),\"O\",\"X\"))","v":"X"},{"$f":"IF(C17=\"\",\"\",IF(C17>=$AU$1,\"O\",\"X\"))","v":"O"},{"$f":"IF(AO17=\"\",\"\",IF(AND(AO17=\"O\",AP17=\"O\",AR17=\"O\",AT17=\"O\",AU17=\"O\"),\"후보\",\"X\"))","v":""}]
["한일","'92.07",834,149.5,45,129.19999999999999,39,90,null,null,null,null,{"$f":"I18-K18","v":0},{"$f":"IF(ISERROR(K18/I18),\"\",K18/I18)","v":""},{"$f":"I18/E18","v":0},{"$f":"K18/E18","v":0},4,2,"계",149,null,null,149.5,45,90,0,{"$f":"K18","v":0},0,"",0,{"$f":"S18","v":"계"},{"$f":"Q18&\"/\"&R18","v":"4/2"},null,"한일",45,{"$f":"IF(AI18=\"\",\"\",$AJ$2)","v":"A-"},"A","A+","B+",{"$f":"IF(AI18=\"\",\"\",$AN$2)","v":"C"},{"$f":"IF(N18=\"\",\"\",IF(N18>=$AO$1/100,\"O\",\"X\"))","v":""},{"$f":"IF(I18=\"\",\"\",IF(I18<=$AP$1,\"O\",\"X\"))","v":""},{"$f":"IF(O18=\"\",\"\",IF(O18<=$AQ$1,\"O\",\"X\"))","v":"O"},{"$f":"IF(M18=\"\",\"\",IF(M18<=$AR$1,\"O\",\"X\"))","v":"O"},"X",{"$f":"IF(OR(F18=\"\",AI18=\"\"),\"\",IF(AND((F18<=85),(AI18>=15)),\"O\",\"X\"))","v":"X"},{"$f":"IF(C18=\"\",\"\",IF(C18>=$AU$1,\"O\",\"X\"))","v":"O"},{"$f":"IF(AO18=\"\",\"\",IF(AND(AO18=\"O\",AP18=\"O\",AR18=\"O\",AT18=\"O\",AU18=\"O\"),\"후보\",\"X\"))","v":""}]
[null,null,null,null,null,null,null,null,null,null,null,null,null,null,null,null,null,null,null,null,null,null,{"$f":"$A$4&\" \"&A20&\"(\"&B20&\",\"&C20&\"^)\"","v":"삼방동 화인('92.07,930^)"},null,null,null,null,null,null,null,null,null,null,"",""]
["화인","'92.07",930,72.8,22,58.9,18,150,null,null,null,null,{"$f":"I20-K20","v":0},{"$f":"IF(ISERROR(K20/I20),\"\",K20/I20)","v":""},{"$f":"I20/E20","v":0},{"$f":"K20/E20","v":0},3,1,"계",72,null,null,{"$f":"D20","v":72.8},22,{"$f":"H20","v":150},0,{"$f":"K20","v":0},{"$f":"M20","v":0},"",0,{"$f":"S20","v":"계"},{"$f":"Q20&\"/\"&R20","v":"3/1"},null,"화인",22,{"$f":"IF(AI20=\"\",\"\",$AJ$2)","v":"A-"},"A","A+","B+",{"$f":"IF(AI20=\"\",\"\",$AN$2)","v":"C"},{"$f":"IF(N20=\"\",\"\",IF(N20>=$AO$1/100,\"O\",\"X\"))","v":""},{"$f":"IF(I20=\"\",\"\",IF(I20<=$AP$1,\"O\",\"X\"))","v":""},{"$f":"IF(O20=\"\",\"\",IF(O20<=$AQ$1,\"O\",\"X\"))","v":"O"},{"$f":"IF(M20=\"\",\"\",IF(M20<=$AR$1,\"O\",\"X\"))","v":"O"},"X",{"$f":"IF(OR(F20=\"\",AI20=\"\"),\"\",IF(AND((F20<=85),(AI20>=15)),\"O\",\"X\"))","v":"O"},{"$f":"IF(C20=\"\",\"\",IF(C20>=$AU$1,\"O\",\"X\"))","v":"O"},{"$f":"IF(AO20=\"\",\"\",IF(AND(AO20=\"O\",AP20=\"O\",AR20=\"O\",AT20=\"O\",AU20=\"O\"),\"후보\",\"X\"))","v":""}]
["화인","'92.07",930,79.2,24,64.7,20,60,null,null,null,null,{"$f":"I21-K21","v":0},{"$f":"IF(ISERROR(K21/I21),\"\",K21/I21)","v":""},{"$f":"I21/E21","v":0},{"$f":"K21/E21","v":0},3,1,"계",79,null,null,79.2,24,60,0,{"$f":"K21","v":0},0,"",0,{"$f":"S21","v":"계"},{"$f":"Q21&\"/\"&R21","v":"3/1"},null,"화인",24,{"$f":"IF(AI21=\"\",\"\",$AJ$2)","v":"A-"},"A","A+","B+",{"$f":"IF(AI21=\"\",\"\",$AN$2)","v":"C"},{"$f":"IF(N21=\"\",\"\",IF(N21>=$AO$1/100,\"O\",\"X\"))","v":""},{"$f":"IF(I21=\"\",\"\",IF(I21<=$AP$1,\"O\",\"X\"))","v":""},{"$f":"IF(O21=\"\",\"\",IF(O21<=$AQ$1,\"O\",\"X\"))","v":"O"},{"$f":"IF(M21=\"\",\"\",IF(M21<=$AR$1,\"O\",\"X\"))","v":"O"},"X",{"$f":"IF(OR(F21=\"\",AI21=\"\"),\"\",IF(AND((F21<=85),(AI21>=15)),\"O\",\"X\"))","v":"O"},{"$f":"IF(C21=\"\",\"\",IF(C21>=$AU$1,\"O\",\"X\"))","v":"O"},{"$f":"IF(AO21=\"\",\"\",IF(AND(AO21=\"O\",AP21=\"O\",AR21=\"O\",AT21=\"O\",AU21=\"O\"),\"후보\",\"X\"))","v":""}]
["화인","'92.07",930,89.8,27,73.900000000000006,22,180,null,null,null,null,{"$f":"I22-K22","v":0},{"$f":"IF(ISERROR(K22/I22),\"\",K22/I22)","v":""},{"$f":"I22/E22","v":0},{"$f":"K22/E22","v":0},3,1,"계",89,null,null,89.8,27,180,0,{"$f":"K22","v":0},0,"",0,{"$f":"S22","v":"계"},{"$f":"Q22&\"/\"&R22","v":"3/1"},null,"화인",27,{"$f":"IF(AI22=\"\",\"\",$AJ$2)","v":"A-"},"A","A+","B+",{"$f":"IF(AI22=\"\",\"\",$AN$2)","v":"C"},{"$f":"IF(N22=\"\",\"\",IF(N22>=$AO$1/100,\"O\",\"X\"))","v":""},{"$f":"IF(I22=\"\",\"\",IF(I22<=$AP$1,\"O\",\"X\"))","v":""},{"$f":"IF(O22=\"\",\"\",IF(O22<=$AQ$1,\"O\",\"X\"))","v":"O"},{"$f":"IF(M22=\"\",\"\",IF(M22<=$AR$1,\"O\",\"X\"))","v":"O"},"X",{"$f":"IF(OR(F22=\"\",AI22=\"\"),\"\",IF(AND((F22<=85),(AI22>=15)),\"O\",\"X\"))","v":"O"},{"$f":"IF(C22=\"\",\"\",IF(C22>=$AU$1,\"O\",\"X\"))","v":"O"},{"$f":"IF(AO22=\"\",\"\",IF(AND(AO22=\"O\",AP22=\"O\",AR22=\"O\",AT22=\"O\",AU22=\"O\"),\"후보\",\"X\"))","v":""}]
["화인","'92.07",930,102.4,31,84.5,26,330,null,null,null,null,{"$f":"I23-K23","v":0},{"$f":"IF(ISERROR(K23/I23),\"\",K23/I23)","v":""},{"$f":"I23/E23","v":0},{"$f":"K23/E23","v":0},3,2,"계","102A",null,null,102.4,31,330,0,{"$f":"K23","v":0},0,"",0,{"$f":"S23","v":"계"},{"$f":"Q23&\"/\"&R23","v":"3/2"},null,"화인",31,{"$f":"IF(AI23=\"\",\"\",$AJ$2)","v":"A-"},"A","A+","B+",{"$f":"IF(AI23=\"\",\"\",$AN$2)","v":"C"},{"$f":"IF(N23=\"\",\"\",IF(N23>=$AO$1/100,\"O\",\"X\"))","v":""},{"$f":"IF(I23=\"\",\"\",IF(I23<=$AP$1,\"O\",\"X\"))","v":""},{"$f":"IF(O23=\"\",\"\",IF(O23<=$AQ$1,\"O\",\"X\"))","v":"O"},{"$f":"IF(M23=\"\",\"\",IF(M23<=$AR$1,\"O\",\"X\"))","v":"O"},"X",{"$f":"IF(OR(F23=\"\",AI23=\"\"),\"\",IF(AND((F23<=85),(AI23>=15)),\"O\",\"X\"))","v":"O"},{"$f":"IF(C23=\"\",\"\",IF(C23>=$AU$1,\"O\",\"X\"))","v":"O"},{"$f":"IF(AO23=\"\",\"\",IF(AND(AO23=\"O\",AP23=\"O\",AR23=\"O\",AT23=\"O\",AU23=\"O\"),\"후보\",\"X\"))","v":""}]
["화인","'92.07",930,102.7,31,84.7,26,210,null,null,null,null,{"$f":"I24-K24","v":0},{"$f":"IF(ISERROR(K24/I24),\"\",K24/I24)","v":""},{"$f":"I24/E24","v":0},{"$f":"K24/E24","v":0},3,2,"계","102B",null,null,102.7,31,210,0,{"$f":"K24","v":0},0,"",0,{"$f":"S24","v":"계"},{"$f":"Q24&\"/\"&R24","v":"3/2"},null,"화인",31,{"$f":"IF(AI24=\"\",\"\",$AJ$2)","v":"A-"},"A","A+","B+",{"$f":"IF(AI24=\"\",\"\",$AN$2)","v":"C"},{"$f":"IF(N24=\"\",\"\",IF(N24>=$AO$1/100,\"O\",\"X\"))","v":""},{"$f":"IF(I24=\"\",\"\",IF(I24<=$AP$1,\"O\",\"X\"))","v":""},{"$f":"IF(O24=\"\",\"\",IF(O24<=$AQ$1,\"O\",\"X\"))","v":"O"},{"$f":"IF(M24=\"\",\"\",IF(M24<=$AR$1,\"O\",\"X\"))","v":"O"},"X",{"$f":"IF(OR(F24=\"\",AI24=\"\"),\"\",IF(AND((F24<=85),(AI24>=15)),\"O\",\"X\"))","v":"O"},{"$f":"IF(C24=\"\",\"\",IF(C24>=$AU$1,\"O\",\"X\"))","v":"O"},{"$f":"IF(AO24=\"\",\"\",IF(AND(AO24=\"O\",AP24=\"O\",AR24=\"O\",AT24=\"O\",AU24=\"O\"),\"후보\",\"X\"))","v":""}]

{"sheet":"진평동","index":18,"n_rows":24,"n_cols":48,"rows_kept":24,"cut":false,"hidden":false,"merged":[[0,35,0,39]]}
[{"$f":"단지추출!A1","v":"구미시"},null,null,null,null,null,null,null,"추출대상",null,null,null,null,null,null,null,null,null,null,null,null,null,null,"매매가 최대(색상 최대)",null,null,{"$f":"단지추출!AA1","v":70000},null,null,null,null,null,null,{"$f":"A1","v":"구미시"},null,{"$f":"A1&\" 전체 등급\"","v":"구미시 전체 등급"},null,null,null,null,{"$f":"단지추출!AO1","v":80},{"$f":"단지추출!AP1","v":45000},{"$f":"단지추출!AQ1","v":1000},{"$f":"단지추출!AR1","v":6000},null,null,{"$f":"단지추출!AU1","v":300}]
[{"$f":"단지추출!A2","v":"2022-01-01"},null,null,null,null,null,null,null,null,null,null,null,null,null,null,null,null,null,null,null,null,null,null,"매매가 최소(색상 최소)",null,null,{"$f":"단지추출!AA2","v":10000},null,null,null,null,null,null,{"$f":"AH1 &\" \" &A4","v":"구미시 신문동"},null,{"$f":"단지추출!AJ2","v":"A-"},{"$f":"단지추출!AK2","v":"A"},{"$f":"단지추출!AL2","v":"A"},{"$f":"단지추출!AM2","v":"A"},{"$f":"단지추출!AN2","v":"C"},"원금보전",null,null,"수익성",null,"환금성"]
["단지명","입주\n연도","총세\n대수","공급\n(m2)","공급\n면적","전용\n(m2)","전용\n면적","세대","매매\n최저가","층","전세\n최고가","층","매전갭","전세\n가율","매매\n평단","전세\n평단","방","욕\n실","구\n조","매/전/월\nType","비고",null,"공급\n(m2)","공급\n면적","세대","매매가","전세가","매전갭","전세\n가율","평단가","구\n조","방/\n욕실",null,{"$f":"IF(A3=\"\",\"\",A3)","v":"단지명"},{"$f":"IF(E3=\"\",\"\",E3)","v":"공급\n면적"},"직장","교통","학군","환경","공급",{"$f":"\"전세가율★\n(\"&AO1&\"%↑)\"","v":"전세가율★\n(80%↑)"},{"$f":"\"절대가★\n(\"&AP1/10000&\"억↓)\"","v":"절대가★\n(4.5억↓)"},{"$f":"\"지역평단가\n(\"&AQ1&\"↓)\"","v":"지역평단가\n(1000↓)"},{"$f":"\"투자규모★\n(갭\"&AR1/1000&\"천↓)\"","v":"투자규모★\n(갭6천↓)"},"전고점\n이하","평형★\n(15~34평)",{"$f":"\"단지규모★\n(\"&AU1&\"^↑)\"","v":"단지규모★\n(300^↑)"},"투자후보"]
["신문동",null,null,null,null,null,null,null,null,null,null,null,null,null,null,null,null,null,null,null,null,null,null,null,null,null,null,null,null,null,null,null,null,null,""]
[null,null,null,null,null,null,null,null,null,null,null,null,null,null,null,null,null,null,null,null,null,null,{"$f":"$A$4&\" \"&A6&\"(\"&B6&\",\"&C6&\"^)\"","v":"신문동 장유경동리인하이스트('19.07,909^)"},null,null,null,null,null,null,null,null,null,null,{"$f":"IF(A5=\"\",\"\",A5)","v":""},""]
["장유경동리인하이스트","'19.07",909,93.2,28,66,20,390,null,null,null,null,{"$f":"I6-K6","v":0},{"$f":"IF(ISERROR(K6/I6),\"\",K6/I6)","v":""},{"$f":"I6/E6","v":0},{"$f":"K6/E6","v":0},3,2,"계","93B",null,null,{"$f":"D6","v":93.2},28,{"$f":"H6","v":390},0,{"$f":"K6","v":0},{"$f":"M6","v":0},"",0,{"$f":"S6","v":"계"},{"$f":"Q6&\"/\"&R6","v":"3/2"},null,"장유경동리인하이스트",28,{"$f":"IF(AI6=\"\",\"\",$AJ$2)","v":"A-"},"A","A+","B+",{"$f":"IF(AI6=\"\",\"\",$AN$2)","v":"C"},{"$f":"IF(N6=\"\",\"\",IF(N6>=$AO$1/100,\"O\",\"X\"))","v":""},{"$f":"IF(I6=\"\",\"\",IF(I6<=$AP$1,\"O\",\"X\"))","v":""},{"$f":"IF(O6=\"\",\"\",IF(O6<=$AQ$1,\"O\",\"X\"))","v":"O"},{"$f":"IF(M6=\"\",\"\",IF(M6<=$AR$1,\"O\",\"X\"))","v":"O"},"X",{"$f":"IF(OR(F6=\"\",AI6=\"\"),\"\",IF(AND((F6<=85),(AI6>=15)),\"O\",\"X\"))","v":"O"},{"$f":"IF(C6=\"\",\"\",IF(C6>=$AU$1,\"O\",\"X\"))","v":"O"},{"$f":"IF(AO6=\"\",\"\",IF(AND(AO6=\"O\",AP6=\"O\",AR6=\"O\",AT6=\"O\",AU6=\"O\"),\"후보\",\"X\"))","v":""}]
["장유경동리인하이스트","'19.07",909,104.5,32,73.900000000000006,22,273,null,null,null,null,{"$f":"I7-K7","v":0},{"$f":"IF(ISERROR(K7/I7),\"\",K7/I7)","v":""},{"$f":"I7/E7","v":0},{"$f":"K7/E7","v":0},3,2,"계",104,null,null,104.5,32,273,0,{"$f":"K7","v":0},0,"",0,{"$f":"S7","v":"계"},{"$f":"Q7&\"/\"&R7","v":"3/2"},null,"장유경동리인하이스트",32,{"$f":"IF(AI7=\"\",\"\",$AJ$2)","v":"A-"},"A","A+","B+",{"$f":"IF(AI7=\"\",\"\",$AN$2)","v":"C"},{"$f":"IF(N7=\"\",\"\",IF(N7>=$AO$1/100,\"O\",\"X\"))","v":""},{"$f":"IF(I7=\"\",\"\",IF(I7<=$AP$1,\"O\",\"X\"))","v":""},{"$f":"IF(O7=\"\",\"\",IF(O7<=$AQ$1,\"O\",\"X\"))","v":"O"},{"$f":"IF(M7=\"\",\"\",IF(M7<=$AR$1,\"O\",\"X\"))","v":"O"},"X",{"$f":"IF(OR(F7=\"\",AI7=\"\"),\"\",IF(AND((F7<=85),(AI7>=15)),\"O\",\"X\"))","v":"O"},{"$f":"IF(C7=\"\",\"\",IF(C7>=$AU$1,\"O\",\"X\"))","v":"O"},{"$f":"IF(AO7=\"\",\"\",IF(AND(AO7=\"O\",AP7=\"O\",AR7=\"O\",AT7=\"O\",AU7=\"O\"),\"후보\",\"X\"))","v":""}]
["장유경동리인하이스트","'19.07",909,111.3,34,79,24,117,null,null,null,null,{"$f":"I8-K8","v":0},{"$f":"IF(ISERROR(K8/I8),\"\",K8/I8)","v":""},{"$f":"I8/E8","v":0},{"$f":"K8/E8","v":0},3,2,"계",111,null,null,111.3,34,117,0,{"$f":"K8","v":0},0,"",0,{"$f":"S8","v":"계"},{"$f":"Q8&\"/\"&R8","v":"3/2"},null,"장유경동리인하이스트",34,{"$f":"IF(AI8=\"\",\"\",$AJ$2)","v":"A-"},"A","A+","B+",{"$f":"IF(AI8=\"\",\"\",$AN$2)","v":"C"},{"$f":"IF(N8=\"\",\"\",IF(N8>=$AO$1/100,\"O\",\"X\"))","v":""},{"$f":"IF(I8=\"\",\"\",IF(I8<=$AP$1,\"O\",\"X\"))","v":""},{"$f":"IF(O8=\"\",\"\",IF(O8<=$AQ$1,\"O\",\"X\"))","v":"O"},{"$f":"IF(M8=\"\",\"\",IF(M8<=$AR$1,\"O\",\"X\"))","v":"O"},"X",{"$f":"IF(OR(F8=\"\",AI8=\"\"),\"\",IF(AND((F8<=85),(AI8>=15)),\"O\",\"X\"))","v":"O"},{"$f":"IF(C8=\"\",\"\",IF(C8>=$AU$1,\"O\",\"X\"))","v":"O"},{"$f":"IF(AO8=\"\",\"\",IF(AND(AO8=\"O\",AP8=\"O\",AR8=\"O\",AT8=\"O\",AU8=\"O\"),\"후보\",\"X\"))","v":""}]
["장유경동리인하이스트","'19.07",909,173.5,53,136.6,41,1,null,null,null,null,{"$f":"I9-K9","v":0},{"$f":"IF(ISERROR(K9/I9),\"\",K9/I9)","v":""},{"$f":"I9/E9","v":0},{"$f":"K9/E9","v":0},4,2,"계",173,null,null,173.5,53,1,0,{"$f":"K9","v":0},0,"",0,{"$f":"S9","v":"계"},{"$f":"Q9&\"/\"&R9","v":"4/2"},null,"장유경동리인하이스트",53,{"$f":"IF(AI9=\"\",\"\",$AJ$2)","v":"A-"},"A","A+","B+",{"$f":"IF(AI9=\"\",\"\",$AN$2)","v":"C"},{"$f":"IF(N9=\"\",\"\",IF(N9>=$AO$1/100,\"O\",\"X\"))","v":""},{"$f":"IF(I9=\"\",\"\",IF(I9<=$AP$1,\"O\",\"X\"))","v":""},{"$f":"IF(O9=\"\",\"\",IF(O9<=$AQ$1,\"O\",\"X\"))","v":"O"},{"$f":"IF(M9=\"\",\"\",IF(M9<=$AR$1,\"O\",\"X\"))","v":"O"},"X",{"$f":"IF(OR(F9=\"\",AI9=\"\"),\"\",IF(AND((F9<=85),(AI9>=15)),\"O\",\"X\"))","v":"X"},{"$f":"IF(C9=\"\",\"\",IF(C9>=$AU$1,\"O\",\"X\"))","v":"O"},{"$f":"IF(AO9=\"\",\"\",IF(AND(AO9=\"O\",AP9=\"O\",AR9=\"O\",AT9=\"O\",AU9=\"O\"),\"후보\",\"X\"))","v":""}]
["장유경동리인하이스트","'19.07",909,143.4,43,114,35,52,null,null,null,null,{"$f":"I10-K10","v":0},{"$f":"IF(ISERROR(K10/I10),\"\",K10/I10)","v":""},{"$f":"I10/E10","v":0},{"$f":"K10/E10","v":0},4,2,"계",143,null,null,143.4,43,52,0,{"$f":"K10","v":0},0,"",0,{"$f":"S10","v":"계"},{"$f":"Q10&\"/\"&R10","v":"4/2"},null,"장유경동리인하이스트",43,{"$f":"IF(AI10=\"\",\"\",$AJ$2)","v":"A-"},"A","A+","B+",{"$f":"IF(AI10=\"\",\"\",$AN$2)","v":"C"},{"$f":"IF(N10=\"\",\"\",IF(N10>=$AO$1/100,\"O\",\"X\"))","v":""},{"$f":"IF(I10=\"\",\"\",IF(I10<=$AP$1,\"O\",\"X\"))","v":""},{"$f":"IF(O10=\"\",\"\",IF(O10<=$AQ$1,\"O\",\"X\"))","v":"O"},{"$f":"IF(M10=\"\",\"\",IF(M10<=$AR$1,\"O\",\"X\"))","v":"O"},"X",{"$f":"IF(OR(F10=\"\",AI10=\"\"),\"\",IF(AND((F10<=85),(AI10>=15)),\"O\",\"X\"))","v":"X"},{"$f":"IF(C10=\"\",\"\",IF(C10>=$AU$1,\"O\",\"X\"))","v":"O"},{"$f":"IF(AO10=\"\",\"\",IF(AND(AO10=\"O\",AP10=\"O\",AR10=\"O\",AT10=\"O\",AU10=\"O\"),\"후보\",\"X\"))","v":""}]
[null,null,null,null,null,null,null,null,null,null,null,null,null,null,null,null,null,null,null,null,null,null,{"$f":"$A$4&\" \"&A12&\"(\"&B12&\",\"&C12&\"^)\"","v":"신문동 장유쌍용예가1차('07.12,583^)"},null,null,null,null,null,null,null,null,null,null,"",""]
["장유쌍용예가1차","'07.12",583,98.1,30,77.7,24,82,null,null,null,null,{"$f":"I12-K12","v":0},{"$f":"IF(ISERROR(K12/I12),\"\",K12/I12)","v":""},{"$f":"I12/E12","v":0},{"$f":"K12/E12","v":0},3,2,"계","98A",null,null,{"$f":"D12","v":98.1},30,{"$f":"H12","v":82},0,{"$f":"K12","v":0},{"$f":"M12","v":0},"",0,{"$f":"S12","v":"계"},{"$f":"Q12&\"/\"&R12","v":"3/2"},null,"장유쌍용예가1차",30,{"$f":"IF(AI12=\"\",\"\",$AJ$2)","v":"A-"},"A","A+","B+",{"$f":"IF(AI12=\"\",\"\",$AN$2)","v":"C"},{"$f":"IF(N12=\"\",\"\",IF(N12>=$AO$1/100,\"O\",\"X\"))","v":""},{"$f":"IF(I12=\"\",\"\",IF(I12<=$AP$1,\"O\",\"X\"))","v":""},{"$f":"IF(O12=\"\",\"\",IF(O12<=$AQ$1,\"O\",\"X\"))","v":"O"},{"$f":"IF(M12=\"\",\"\",IF(M12<=$AR$1,\"O\",\"X\"))","v":"O"},"X",{"$f":"IF(OR(F12=\"\",AI12=\"\"),\"\",IF(AND((F12<=85),(AI12>=15)),\"O\",\"X\"))","v":"O"},{"$f":"IF(C12=\"\",\"\",IF(C12>=$AU$1,\"O\",\"X\"))","v":"O"},{"$f":"IF(AO12=\"\",\"\",IF(AND(AO12=\"O\",AP12=\"O\",AR12=\"O\",AT12=\"O\",AU12=\"O\"),\"후보\",\"X\"))","v":""}]
["장유쌍용예가1차","'07.12",583,106.9,32,85,26,142,null,null,null,null,{"$f":"I13-K13","v":0},{"$f":"IF(ISERROR(K13/I13),\"\",K13/I13)","v":""},{"$f":"I13/E13","v":0},{"$f":"K13/E13","v":0},3,2,"계","106C",null,null,106.9,32,142,0,{"$f":"K13","v":0},0,"",0,{"$f":"S13","v":"계"},{"$f":"Q13&\"/\"&R13","v":"3/2"},null,"장유쌍용예가1차",32,{"$f":"IF(AI13=\"\",\"\",$AJ$2)","v":"A-"},"A","A+","B+",{"$f":"IF(AI13=\"\",\"\",$AN$2)","v":"C"},{"$f":"IF(N13=\"\",\"\",IF(N13>=$AO$1/100,\"O\",\"X\"))","v":""},{"$f":"IF(I13=\"\",\"\",IF(I13<=$AP$1,\"O\",\"X\"))","v":""},{"$f":"IF(O13=\"\",\"\",IF(O13<=$AQ$1,\"O\",\"X\"))","v":"O"},{"$f":"IF(M13=\"\",\"\",IF(M13<=$AR$1,\"O\",\"X\"))","v":"O"},"X",{"$f":"IF(OR(F13=\"\",AI13=\"\"),\"\",IF(AND((F13<=85),(AI13>=15)),\"O\",\"X\"))","v":"O"},{"$f":"IF(C13=\"\",\"\",IF(C13>=$AU$1,\"O\",\"X\"))","v":"O"},{"$f":"IF(AO13=\"\",\"\",IF(AND(AO13=\"O\",AP13=\"O\",AR13=\"O\",AT13=\"O\",AU13=\"O\"),\"후보\",\"X\"))","v":""}]
["장유쌍용예가1차","'07.12",583,150.69999999999999,46,119.6,36,120,null,null,null,null,{"$f":"I14-K14","v":0},{"$f":"IF(ISERROR(K14/I14),\"\",K14/I14)","v":""},{"$f":"I14/E14","v":0},{"$f":"K14/E14","v":0},4,2,"계",150,null,null,150.69999999999999,46,120,0,{"$f":"K14","v":0},0,"",0,{"$f":"S14","v":"계"},{"$f":"Q14&\"/\"&R14","v":"4/2"},null,"장유쌍용예가1차",46,{"$f":"IF(AI14=\"\",\"\",$AJ$2)","v":"A-"},"A","A+","B+",{"$f":"IF(AI14=\"\",\"\",$AN$2)","v":"C"},{"$f":"IF(N14=\"\",\"\",IF(N14>=$AO$1/100,\"O\",\"X\"))","v":""},{"$f":"IF(I14=\"\",\"\",IF(I14<=$AP$1,\"O\",\"X\"))","v":""},{"$f":"IF(O14=\"\",\"\",IF(O14<=$AQ$1,\"O\",\"X\"))","v":"O"},{"$f":"IF(M14=\"\",\"\",IF(M14<=$AR$1,\"O\",\"X\"))","v":"O"},"X",{"$f":"IF(OR(F14=\"\",AI14=\"\"),\"\",IF(AND((F14<=85),(AI14>=15)),\"O\",\"X\"))","v":"X"},{"$f":"IF(C14=\"\",\"\",IF(C14>=$AU$1,\"O\",\"X\"))","v":"O"},{"$f":"IF(AO14=\"\",\"\",IF(AND(AO14=\"O\",AP14=\"O\",AR14=\"O\",AT14=\"O\",AU14=\"O\"),\"후보\",\"X\"))","v":""}]
["장유쌍용예가1차","'07.12",583,173,52,138.6,42,28,null,null,null,null,{"$f":"I15-K15","v":0},{"$f":"IF(ISERROR(K15/I15),\"\",K15/I15)","v":""},{"$f":"I15/E15","v":0},{"$f":"K15/E15","v":0},4,2,"계",173,null,null,173,52,28,0,{"$f":"K15","v":0},0,"",0,{"$f":"S15","v":"계"},{"$f":"Q15&\"/\"&R15","v":"4/2"},null,"장유쌍용예가1차",52,{"$f":"IF(AI15=\"\",\"\",$AJ$2)","v":"A-"},"A","A+","B+",{"$f":"IF(AI15=\"\",\"\",$AN$2)","v":"C"},{"$f":"IF(N15=\"\",\"\",IF(N15>=$AO$1/100,\"O\",\"X\"))","v":""},{"$f":"IF(I15=\"\",\"\",IF(I15<=$AP$1,\"O\",\"X\"))","v":""},{"$f":"IF(O15=\"\",\"\",IF(O15<=$AQ$1,\"O\",\"X\"))","v":"O"},{"$f":"IF(M15=\"\",\"\",IF(M15<=$AR$1,\"O\",\"X\"))","v":"O"},"X",{"$f":"IF(OR(F15=\"\",AI15=\"\"),\"\",IF(AND((F15<=85),(AI15>=15)),\"O\",\"X\"))","v":"X"},{"$f":"IF(C15=\"\",\"\",IF(C15>=$AU$1,\"O\",\"X\"))","v":"O"},{"$f":"IF(AO15=\"\",\"\",IF(AND(AO15=\"O\",AP15=\"O\",AR15=\"O\",AT15=\"O\",AU15=\"O\"),\"후보\",\"X\"))","v":""}]
[null,null,null,null,null,null,null,null,null,null,null,null,null,null,null,null,null,null,null,null,null,null,{"$f":"$A$4&\" \"&A17&\"(\"&B17&\",\"&C17&\"^)\"","v":"신문동 장유쌍용예가2차('08.07,526^)"},null,null,null,null,null,null,null,null,null,null,"",""]
["장유쌍용예가2차","'08.07",526,108.3,33,85,26,56,null,null,null,null,{"$f":"I17-K17","v":0},{"$f":"IF(ISERROR(K17/I17),\"\",K17/I17)","v":""},{"$f":"I17/E17","v":0},{"$f":"K17/E17","v":0},3,2,"계",108,null,null,{"$f":"D17","v":108.3},33,{"$f":"H17","v":56},0,{"$f":"K17","v":0},{"$f":"M17","v":0},"",0,{"$f":"S17","v":"계"},{"$f":"Q17&\"/\"&R17","v":"3/2"},null,"장유쌍용예가2차",33,{"$f":"IF(AI17=\"\",\"\",$AJ$2)","v":"A-"},"A","A+","B+",{"$f":"IF(AI17=\"\",\"\",$AN$2)","v":"C"},{"$f":"IF(N17=\"\",\"\",IF(N17>=$AO$1/100,\"O\",\"X\"))","v":""},{"$f":"IF(I17=\"\",\"\",IF(I17<=$AP$1,\"O\",\"X\"))","v":""},{"$f":"IF(O17=\"\",\"\",IF(O17<=$AQ$1,\"O\",\"X\"))","v":"O"},{"$f":"IF(M17=\"\",\"\",IF(M17<=$AR$1,\"O\",\"X\"))","v":"O"},"X",{"$f":"IF(OR(F17=\"\",AI17=\"\"),\"\",IF(AND((F17<=85),(AI17>=15)),\"O\",\"X\"))","v":"O"},{"$f":"IF(C17=\"\",\"\",IF(C17>=$AU$1,\"O\",\"X\"))","v":"O"},{"$f":"IF(AO17=\"\",\"\",IF(AND(AO17=\"O\",AP17=\"O\",AR17=\"O\",AT17=\"O\",AU17=\"O\"),\"후보\",\"X\"))","v":""}]
["장유쌍용예가2차","'08.07",526,152.5,46,122.1,37,112,null,null,null,null,{"$f":"I18-K18","v":0},{"$f":"IF(ISERROR(K18/I18),\"\",K18/I18)","v":""},{"$f":"I18/E18","v":0},{"$f":"K18/E18","v":0},4,2,"계","152A",null,null,152.5,46,112,0,{"$f":"K18","v":0},0,"",0,{"$f":"S18","v":"계"},{"$f":"Q18&\"/\"&R18","v":"4/2"},null,"장유쌍용예가2차",46,{"$f":"IF(AI18=\"\",\"\",$AJ$2)","v":"A-"},"A","A+","B+",{"$f":"IF(AI18=\"\",\"\",$AN$2)","v":"C"},{"$f":"IF(N18=\"\",\"\",IF(N18>=$AO$1/100,\"O\",\"X\"))","v":""},{"$f":"IF(I18=\"\",\"\",IF(I18<=$AP$1,\"O\",\"X\"))","v":""},{"$f":"IF(O18=\"\",\"\",IF(O18<=$AQ$1,\"O\",\"X\"))","v":"O"},{"$f":"IF(M18=\"\",\"\",IF(M18<=$AR$1,\"O\",\"X\"))","v":"O"},"X",{"$f":"IF(OR(F18=\"\",AI18=\"\"),\"\",IF(AND((F18<=85),(AI18>=15)),\"O\",\"X\"))","v":"X"},{"$f":"IF(C18=\"\",\"\",IF(C18>=$AU$1,\"O\",\"X\"))","v":"O"},{"$f":"IF(AO18=\"\",\"\",IF(AND(AO18=\"O\",AP18=\"O\",AR18=\"O\",AT18=\"O\",AU18=\"O\"),\"후보\",\"X\"))","v":""}]
["장유쌍용예가2차","'08.07",526,160.69999999999999,49,128,39,43,null,null,null,null,{"$f":"I19-K19","v":0},{"$f":"IF(ISERROR(K19/I19),\"\",K19/I19)","v":""},{"$f":"I19/E19","v":0},{"$f":"K19/E19","v":0},4,2,"계",160,null,null,160.69999999999999,49,43,0,{"$f":"K19","v":0},0,"",0,{"$f":"S19","v":"계"},{"$f":"Q19&\"/\"&R19","v":"4/2"},null,"장유쌍용예가2차",49,{"$f":"IF(AI19=\"\",\"\",$AJ$2)","v":"A-"},"A","A+","B+",{"$f":"IF(AI19=\"\",\"\",$AN$2)","v":"C"},{"$f":"IF(N19=\"\",\"\",IF(N19>=$AO$1/100,\"O\",\"X\"))","v":""},{"$f":"IF(I19=\"\",\"\",IF(I19<=$AP$1,\"O\",\"X\"))","v":""},{"$f":"IF(O19=\"\",\"\",IF(O19<=$AQ$1,\"O\",\"X\"))","v":"O"},{"$f":"IF(M19=\"\",\"\",IF(M19<=$AR$1,\"O\",\"X\"))","v":"O"},"X",{"$f":"IF(OR(F19=\"\",AI19=\"\"),\"\",IF(AND((F19<=85),(AI19>=15)),\"O\",\"X\"))","v":"X"},{"$f":"IF(C19=\"\",\"\",IF(C19>=$AU$1,\"O\",\"X\"))","v":"O"},{"$f":"IF(AO19=\"\",\"\",IF(AND(AO19=\"O\",AP19=\"O\",AR19=\"O\",AT19=\"O\",AU19=\"O\"),\"후보\",\"X\"))","v":""}]
["장유쌍용예가2차","'08.07",526,178.5,54,149.80000000000001,45,114,null,null,null,null,{"$f":"I20-K20","v":0},{"$f":"IF(ISERROR(K20/I20),\"\",K20/I20)","v":""},{"$f":"I20/E20","v":0},{"$f":"K20/E20","v":0},4,2,"계",178,null,null,178.5,54,114,0,{"$f":"K20","v":0},0,"",0,{"$f":"S20","v":"계"},{"$f":"Q20&\"/\"&R20","v":"4/2"},null,"장유쌍용예가2차",54,{"$f":"IF(AI20=\"\",\"\",$AJ$2)","v":"A-"},"A","A+","B+",{"$f":"IF(AI20=\"\",\"\",$AN$2)","v":"C"},{"$f":"IF(N20=\"\",\"\",IF(N20>=$AO$1/100,\"O\",\"X\"))","v":""},{"$f":"IF(I20=\"\",\"\",IF(I20<=$AP$1,\"O\",\"X\"))","v":""},{"$f":"IF(O20=\"\",\"\",IF(O20<=$AQ$1,\"O\",\"X\"))","v":"O"},{"$f":"IF(M20=\"\",\"\",IF(M20<=$AR$1,\"O\",\"X\"))","v":"O"},"X",{"$f":"IF(OR(F20=\"\",AI20=\"\"),\"\",IF(AND((F20<=85),(AI20>=15)),\"O\",\"X\"))","v":"X"},{"$f":"IF(C20=\"\",\"\",IF(C20>=$AU$1,\"O\",\"X\"))","v":"O"},{"$f":"IF(AO20=\"\",\"\",IF(AND(AO20=\"O\",AP20=\"O\",AR20=\"O\",AT20=\"O\",AU20=\"O\"),\"후보\",\"X\"))","v":""}]
[null,null,null,null,null,null,null,null,null,null,null,null,null,null,null,null,null,null,null,null,null,null,{"$f":"$A$4&\" \"&A22&\"(\"&B22&\",\"&C22&\"^)\"","v":"신문동 장유e-편한세상('07.02,506^)"},null,null,null,null,null,null,null,null,null,null,"",""]
["장유e-편한세상","'07.02",506,93.5,28,71.099999999999994,22,58,null,null,null,null,{"$f":"I22-K22","v":0},{"$f":"IF(ISERROR(K22/I22),\"\",K22/I22)","v":""},{"$f":"I22/E22","v":0},{"$f":"K22/E22","v":0},3,2,"계",93,null,null,{"$f":"D22","v":93.5},28,{"$f":"H22","v":58},0,{"$f":"K22","v":0},{"$f":"M22","v":0},"",0,{"$f":"S22","v":"계"},{"$f":"Q22&\"/\"&R22","v":"3/2"},null,"장유e-편한세상",28,{"$f":"IF(AI22=\"\",\"\",$AJ$2)","v":"A-"},"A","A+","B+",{"$f":"IF(AI22=\"\",\"\",$AN$2)","v":"C"},{"$f":"IF(N22=\"\",\"\",IF(N22>=$AO$1/100,\"O\",\"X\"))","v":""},{"$f":"IF(I22=\"\",\"\",IF(I22<=$AP$1,\"O\",\"X\"))","v":""},{"$f":"IF(O22=\"\",\"\",IF(O22<=$AQ$1,\"O\",\"X\"))","v":"O"},{"$f":"IF(M22=\"\",\"\",IF(M22<=$AR$1,\"O\",\"X\"))","v":"O"},"X",{"$f":"IF(OR(F22=\"\",AI22=\"\"),\"\",IF(AND((F22<=85),(AI22>=15)),\"O\",\"X\"))","v":"O"},{"$f":"IF(C22=\"\",\"\",IF(C22>=$AU$1,\"O\",\"X\"))","v":"O"},{"$f":"IF(AO22=\"\",\"\",IF(AND(AO22=\"O\",AP22=\"O\",AR22=\"O\",AT22=\"O\",AU22=\"O\"),\"후보\",\"X\"))","v":""}]
["장유e-편한세상","'07.02",506,110.2,33,85,26,390,null,null,null,null,{"$f":"I23-K23","v":0},{"$f":"IF(ISERROR(K23/I23),\"\",K23/I23)","v":""},{"$f":"I23/E23","v":0},{"$f":"K23/E23","v":0},3,2,"계",110,null,null,110.2,33,390,0,{"$f":"K23","v":0},0,"",0,{"$f":"S23","v":"계"},{"$f":"Q23&\"/\"&R23","v":"3/2"},null,"장유e-편한세상",33,{"$f":"IF(AI23=\"\",\"\",$AJ$2)","v":"A-"},"A","A+","B+",{"$f":"IF(AI23=\"\",\"\",$AN$2)","v":"C"},{"$f":"IF(N23=\"\",\"\",IF(N23>=$AO$1/100,\"O\",\"X\"))","v":""},{"$f":"IF(I23=\"\",\"\",IF(I23<=$AP$1,\"O\",\"X\"))","v":""},{"$f":"IF(O23=\"\",\"\",IF(O23<=$AQ$1,\"O\",\"X\"))","v":"O"},{"$f":"IF(M23=\"\",\"\",IF(M23<=$AR$1,\"O\",\"X\"))","v":"O"},"X",{"$f":"IF(OR(F23=\"\",AI23=\"\"),\"\",IF(AND((F23<=85),(AI23>=15)),\"O\",\"X\"))","v":"O"},{"$f":"IF(C23=\"\",\"\",IF(C23>=$AU$1,\"O\",\"X\"))","v":"O"},{"$f":"IF(AO23=\"\",\"\",IF(AND(AO23=\"O\",AP23=\"O\",AR23=\"O\",AT23=\"O\",AU23=\"O\"),\"후보\",\"X\"))","v":""}]
["장유e-편한세상","'07.02",506,132.4,40,108.2,33,58,null,null,null,null,{"$f":"I24-K24","v":0},{"$f":"IF(ISERROR(K24/I24),\"\",K24/I24)","v":""},{"$f":"I24/E24","v":0},{"$f":"K24/E24","v":0},3,2,"계",132,null,null,132.4,40,58,0,{"$f":"K24","v":0},0,"",0,{"$f":"S24","v":"계"},{"$f":"Q24&\"/\"&R24","v":"3/2"},null,"장유e-편한세상",40,{"$f":"IF(AI24=\"\",\"\",$AJ$2)","v":"A-"},"A","A+","B+",{"$f":"IF(AI24=\"\",\"\",$AN$2)","v":"C"},{"$f":"IF(N24=\"\",\"\",IF(N24>=$AO$1/100,\"O\",\"X\"))","v":""},{"$f":"IF(I24=\"\",\"\",IF(I24<=$AP$1,\"O\",\"X\"))","v":""},{"$f":"IF(O24=\"\",\"\",IF(O24<=$AQ$1,\"O\",\"X\"))","v":"O"},{"$f":"IF(M24=\"\",\"\",IF(M24<=$AR$1,\"O\",\"X\"))","v":"O"},"X",{"$f":"IF(OR(F24=\"\",AI24=\"\"),\"\",IF(AND((F24<=85),(AI24>=15)),\"O\",\"X\"))","v":"X"},{"$f":"IF(C24=\"\",\"\",IF(C24>=$AU$1,\"O\",\"X\"))","v":"O"},{"$f":"IF(AO24=\"\",\"\",IF(AND(AO24=\"O\",AP24=\"O\",AR24=\"O\",AT24=\"O\",AU24=\"O\"),\"후보\",\"X\"))","v":""}]

{"sheet":"구평동","index":19,"n_rows":17,"n_cols":48,"rows_kept":17,"cut":false,"hidden":false,"merged":[[0,35,0,39]]}
[{"$f":"단지추출!A1","v":"구미시"},null,null,null,null,null,null,null,"추출대상",null,null,null,null,null,null,null,null,null,null,null,null,null,null,"매매가 최대(색상 최대)",null,null,{"$f":"단지추출!AA1","v":70000},null,null,null,null,null,null,{"$f":"A1","v":"구미시"},null,{"$f":"A1&\" 전체 등급\"","v":"구미시 전체 등급"},null,null,null,null,{"$f":"단지추출!AO1","v":80},{"$f":"단지추출!AP1","v":45000},{"$f":"단지추출!AQ1","v":1000},{"$f":"단지추출!AR1","v":6000},null,null,{"$f":"단지추출!AU1","v":300}]
[{"$f":"단지추출!A2","v":"2022-01-01"},null,null,null,null,null,null,null,null,null,null,null,null,null,null,null,null,null,null,null,null,null,null,"매매가 최소(색상 최소)",null,null,{"$f":"단지추출!AA2","v":10000},null,null,null,null,null,null,{"$f":"AH1 &\" \" &A4","v":"구미시 안동"},null,{"$f":"단지추출!AJ2","v":"A-"},{"$f":"단지추출!AK2","v":"A"},{"$f":"단지추출!AL2","v":"A"},{"$f":"단지추출!AM2","v":"A"},{"$f":"단지추출!AN2","v":"C"},"원금보전",null,null,"수익성",null,"환금성"]
["단지명","입주\n연도","총세\n대수","공급\n(m2)","공급\n면적","전용\n(m2)","전용\n면적","세대","매매\n최저가","층","전세\n최고가","층","매전갭","전세\n가율","매매\n평단","전세\n평단","방","욕\n실","구\n조","매/전/월\nType","비고",null,"공급\n(m2)","공급\n면적","세대","매매가","전세가","매전갭","전세\n가율","평단가","구\n조","방/\n욕실",null,{"$f":"IF(A3=\"\",\"\",A3)","v":"단지명"},{"$f":"IF(E3=\"\",\"\",E3)","v":"공급\n면적"},"직장","교통","학군","환경","공급",{"$f":"\"전세가율★\n(\"&AO1&\"%↑)\"","v":"전세가율★\n(80%↑)"},{"$f":"\"절대가★\n(\"&AP1/10000&\"억↓)\"","v":"절대가★\n(4.5억↓)"},{"$f":"\"지역평단가\n(\"&AQ1&\"↓)\"","v":"지역평단가\n(1000↓)"},{"$f":"\"투자규모★\n(갭\"&AR1/1000&\"천↓)\"","v":"투자규모★\n(갭6천↓)"},"전고점\n이하","평형★\n(15~34평)",{"$f":"\"단지규모★\n(\"&AU1&\"^↑)\"","v":"단지규모★\n(300^↑)"},"투자후보"]
["안동",null,null,null,null,null,null,null,null,null,null,null,null,null,null,null,null,null,null,null,null,null,null,null,null,null,null,null,null,null,null,null,null,null,""]
[null,null,null,null,null,null,null,null,null,null,null,null,null,null,null,null,null,null,null,null,null,null,{"$f":"$A$4&\" \"&A6&\"(\"&B6&\",\"&C6&\"^)\"","v":"안동 한일('98.07,896^)"},null,null,null,null,null,null,null,null,null,null,{"$f":"IF(A5=\"\",\"\",A5)","v":""},""]
["한일","'98.07",896,74.900000000000006,23,59.8,18,332,null,null,null,null,{"$f":"I6-K6","v":0},{"$f":"IF(ISERROR(K6/I6),\"\",K6/I6)","v":""},{"$f":"I6/E6","v":0},{"$f":"K6/E6","v":0},3,1,"계",74,null,null,{"$f":"D6","v":74.900000000000006},{"$f":"E6","v":23},{"$f":"H6","v":332},{"$f":"I6","v":0},{"$f":"K6","v":0},{"$f":"M6","v":0},"",0,{"$f":"S6","v":"계"},{"$f":"Q6&\"/\"&R6","v":"3/1"},null,"한일",23,{"$f":"IF(AI6=\"\",\"\",$AJ$2)","v":"A-"},"A","A+","B+",{"$f":"IF(AI6=\"\",\"\",$AN$2)","v":"C"},{"$f":"IF(N6=\"\",\"\",IF(N6>=$AO$1/100,\"O\",\"X\"))","v":""},{"$f":"IF(I6=\"\",\"\",IF(I6<=$AP$1,\"O\",\"X\"))","v":""},{"$f":"IF(O6=\"\",\"\",IF(O6<=$AQ$1,\"O\",\"X\"))","v":"O"},{"$f":"IF(M6=\"\",\"\",IF(M6<=$AR$1,\"O\",\"X\"))","v":"O"},"X",{"$f":"IF(OR(F6=\"\",AI6=\"\"),\"\",IF(AND((F6<=85),(AI6>=15)),\"O\",\"X\"))","v":"O"},{"$f":"IF(C6=\"\",\"\",IF(C6>=$AU$1,\"O\",\"X\"))","v":"O"},{"$f":"IF(AO6=\"\",\"\",IF(AND(AO6=\"O\",AP6=\"O\",AR6=\"O\",AT6=\"O\",AU6=\"O\"),\"후보\",\"X\"))","v":""}]
["한일","'98.07",896,102.6,31,84.8,26,518,null,null,null,null,{"$f":"I7-K7","v":0},{"$f":"IF(ISERROR(K7/I7),\"\",K7/I7)","v":""},{"$f":"I7/E7","v":0},{"$f":"K7/E7","v":0},3,2,"계",102,null,null,{"$f":"D7","v":102.6},{"$f":"E7","v":31},{"$f":"H7","v":518},{"$f":"I7","v":0},{"$f":"K7","v":0},0,"",0,{"$f":"S7","v":"계"},{"$f":"Q7&\"/\"&R7","v":"3/2"},null,"한일",31,{"$f":"IF(AI7=\"\",\"\",$AJ$2)","v":"A-"},"A","A+","B+",{"$f":"IF(AI7=\"\",\"\",$AN$2)","v":"C"},{"$f":"IF(N7=\"\",\"\",IF(N7>=$AO$1/100,\"O\",\"X\"))","v":""},{"$f":"IF(I7=\"\",\"\",IF(I7<=$AP$1,\"O\",\"X\"))","v":""},{"$f":"IF(O7=\"\",\"\",IF(O7<=$AQ$1,\"O\",\"X\"))","v":"O"},{"$f":"IF(M7=\"\",\"\",IF(M7<=$AR$1,\"O\",\"X\"))","v":"O"},"X",{"$f":"IF(OR(F7=\"\",AI7=\"\"),\"\",IF(AND((F7<=85),(AI7>=15)),\"O\",\"X\"))","v":"O"},{"$f":"IF(C7=\"\",\"\",IF(C7>=$AU$1,\"O\",\"X\"))","v":"O"},{"$f":"IF(AO7=\"\",\"\",IF(AND(AO7=\"O\",AP7=\"O\",AR7=\"O\",AT7=\"O\",AU7=\"O\"),\"후보\",\"X\"))","v":""}]
[null,null,null,null,null,null,null,null,null,null,null,null,null,null,null,null,null,null,null,null,null,null,{"$f":"$A$4&\" \"&A9&\"(\"&B9&\",\"&C9&\"^)\"","v":"안동 한효('95.06,391^)"},null,null,null,null,null,null,null,null,null,null,"",""]
["한효","'95.06",391,99,30,84.5,26,102,null,null,null,null,{"$f":"I9-K9","v":0},{"$f":"IF(ISERROR(K9/I9),\"\",K9/I9)","v":""},{"$f":"I9/E9","v":0},{"$f":"K9/E9","v":0},3,2,"계","99A",null,null,{"$f":"D9","v":99},{"$f":"E9","v":30},{"$f":"H9","v":102},{"$f":"I9","v":0},{"$f":"K9","v":0},{"$f":"M9","v":0},"",0,{"$f":"S9","v":"계"},{"$f":"Q9&\"/\"&R9","v":"3/2"},null,"한효",30,{"$f":"IF(AI9=\"\",\"\",$AJ$2)","v":"A-"},"A","A+","B+",{"$f":"IF(AI9=\"\",\"\",$AN$2)","v":"C"},{"$f":"IF(N9=\"\",\"\",IF(N9>=$AO$1/100,\"O\",\"X\"))","v":""},{"$f":"IF(I9=\"\",\"\",IF(I9<=$AP$1,\"O\",\"X\"))","v":""},{"$f":"IF(O9=\"\",\"\",IF(O9<=$AQ$1,\"O\",\"X\"))","v":"O"},{"$f":"IF(M9=\"\",\"\",IF(M9<=$AR$1,\"O\",\"X\"))","v":"O"},"X",{"$f":"IF(OR(F9=\"\",AI9=\"\"),\"\",IF(AND((F9<=85),(AI9>=15)),\"O\",\"X\"))","v":"O"},{"$f":"IF(C9=\"\",\"\",IF(C9>=$AU$1,\"O\",\"X\"))","v":"O"},{"$f":"IF(AO9=\"\",\"\",IF(AND(AO9=\"O\",AP9=\"O\",AR9=\"O\",AT9=\"O\",AU9=\"O\"),\"후보\",\"X\"))","v":""}]
["한효","'95.06",391,122.8,37,109.1,33,68,null,null,null,null,{"$f":"I10-K10","v":0},{"$f":"IF(ISERROR(K10/I10),\"\",K10/I10)","v":""},{"$f":"I10/E10","v":0},{"$f":"K10/E10","v":0},4,2,"계",122,null,null,{"$f":"D10","v":122.8},{"$f":"E10","v":37},{"$f":"H10","v":68},{"$f":"I10","v":0},{"$f":"K10","v":0},0,"",0,{"$f":"S10","v":"계"},{"$f":"Q10&\"/\"&R10","v":"4/2"},null,"한효",37,{"$f":"IF(AI10=\"\",\"\",$AJ$2)","v":"A-"},"A","A+","B+",{"$f":"IF(AI10=\"\",\"\",$AN$2)","v":"C"},{"$f":"IF(N10=\"\",\"\",IF(N10>=$AO$1/100,\"O\",\"X\"))","v":""},{"$f":"IF(I10=\"\",\"\",IF(I10<=$AP$1,\"O\",\"X\"))","v":""},{"$f":"IF(O10=\"\",\"\",IF(O10<=$AQ$1,\"O\",\"X\"))","v":"O"},{"$f":"IF(M10=\"\",\"\",IF(M10<=$AR$1,\"O\",\"X\"))","v":"O"},"X",{"$f":"IF(OR(F10=\"\",AI10=\"\"),\"\",IF(AND((F10<=85),(AI10>=15)),\"O\",\"X\"))","v":"X"},{"$f":"IF(C10=\"\",\"\",IF(C10>=$AU$1,\"O\",\"X\"))","v":"O"},{"$f":"IF(AO10=\"\",\"\",IF(AND(AO10=\"O\",AP10=\"O\",AR10=\"O\",AT10=\"O\",AU10=\"O\"),\"후보\",\"X\"))","v":""}]
[null,null,null,null,null,null,null,null,null,null,null,null,null,null,null,null,null,null,null,null,null,null,{"$f":"$A$4&\" \"&A12&\"(\"&B12&\",\"&C12&\"^)\"","v":"안동 대아('92.1,321^)"},null,null,null,null,null,null,null,null,null,null,"",""]
["대아","'92.1",321,88,27,78.2,24,60,null,null,null,null,{"$f":"I12-K12","v":0},{"$f":"IF(ISERROR(K12/I12),\"\",K12/I12)","v":""},{"$f":"I12/E12","v":0},{"$f":"K12/E12","v":0},3,1,"계",88,null,null,{"$f":"D12","v":88},27,{"$f":"H12","v":60},0,{"$f":"K12","v":0},{"$f":"M12","v":0},"",0,{"$f":"S12","v":"계"},{"$f":"Q12&\"/\"&R12","v":"3/1"},null,"대아",27,{"$f":"IF(AI12=\"\",\"\",$AJ$2)","v":"A-"},"A","A+","B+",{"$f":"IF(AI12=\"\",\"\",$AN$2)","v":"C"},{"$f":"IF(N12=\"\",\"\",IF(N12>=$AO$1/100,\"O\",\"X\"))","v":""},{"$f":"IF(I12=\"\",\"\",IF(I12<=$AP$1,\"O\",\"X\"))","v":""},{"$f":"IF(O12=\"\",\"\",IF(O12<=$AQ$1,\"O\",\"X\"))","v":"O"},{"$f":"IF(M12=\"\",\"\",IF(M12<=$AR$1,\"O\",\"X\"))","v":"O"},"X",{"$f":"IF(OR(F12=\"\",AI12=\"\"),\"\",IF(AND((F12<=85),(AI12>=15)),\"O\",\"X\"))","v":"O"},{"$f":"IF(C12=\"\",\"\",IF(C12>=$AU$1,\"O\",\"X\"))","v":"O"},{"$f":"IF(AO12=\"\",\"\",IF(AND(AO12=\"O\",AP12=\"O\",AR12=\"O\",AT12=\"O\",AU12=\"O\"),\"후보\",\"X\"))","v":""}]
["대아","'92.1",321,90.9,28,83.8,25,10,null,null,null,null,{"$f":"I13-K13","v":0},{"$f":"IF(ISERROR(K13/I13),\"\",K13/I13)","v":""},{"$f":"I13/E13","v":0},{"$f":"K13/E13","v":0},3,1,"계",90,null,null,90.9,28,10,0,{"$f":"K13","v":0},0,"",0,{"$f":"S13","v":"계"},{"$f":"Q13&\"/\"&R13","v":"3/1"},null,"대아",28,{"$f":"IF(AI13=\"\",\"\",$AJ$2)","v":"A-"},"A","A+","B+",{"$f":"IF(AI13=\"\",\"\",$AN$2)","v":"C"},{"$f":"IF(N13=\"\",\"\",IF(N13>=$AO$1/100,\"O\",\"X\"))","v":""},{"$f":"IF(I13=\"\",\"\",IF(I13<=$AP$1,\"O\",\"X\"))","v":""},{"$f":"IF(O13=\"\",\"\",IF(O13<=$AQ$1,\"O\",\"X\"))","v":"O"},{"$f":"IF(M13=\"\",\"\",IF(M13<=$AR$1,\"O\",\"X\"))","v":"O"},"X",{"$f":"IF(OR(F13=\"\",AI13=\"\"),\"\",IF(AND((F13<=85),(AI13>=15)),\"O\",\"X\"))","v":"O"},{"$f":"IF(C13=\"\",\"\",IF(C13>=$AU$1,\"O\",\"X\"))","v":"O"},{"$f":"IF(AO13=\"\",\"\",IF(AND(AO13=\"O\",AP13=\"O\",AR13=\"O\",AT13=\"O\",AU13=\"O\"),\"후보\",\"X\"))","v":""}]
["대아","'92.1",321,95,29,84.3,26,191,null,null,null,null,{"$f":"I14-K14","v":0},{"$f":"IF(ISERROR(K14/I14),\"\",K14/I14)","v":""},{"$f":"I14/E14","v":0},{"$f":"K14/E14","v":0},3,2,"계",94,null,null,95,29,191,0,{"$f":"K14","v":0},0,"",0,{"$f":"S14","v":"계"},{"$f":"Q14&\"/\"&R14","v":"3/2"},null,"대아",29,{"$f":"IF(AI14=\"\",\"\",$AJ$2)","v":"A-"},"A","A+","B+",{"$f":"IF(AI14=\"\",\"\",$AN$2)","v":"C"},{"$f":"IF(N14=\"\",\"\",IF(N14>=$AO$1/100,\"O\",\"X\"))","v":""},{"$f":"IF(I14=\"\",\"\",IF(I14<=$AP$1,\"O\",\"X\"))","v":""},{"$f":"IF(O14=\"\",\"\",IF(O14<=$AQ$1,\"O\",\"X\"))","v":"O"},{"$f":"IF(M14=\"\",\"\",IF(M14<=$AR$1,\"O\",\"X\"))","v":"O"},"X",{"$f":"IF(OR(F14=\"\",AI14=\"\"),\"\",IF(AND((F14<=85),(AI14>=15)),\"O\",\"X\"))","v":"O"},{"$f":"IF(C14=\"\",\"\",IF(C14>=$AU$1,\"O\",\"X\"))","v":"O"},{"$f":"IF(AO14=\"\",\"\",IF(AND(AO14=\"O\",AP14=\"O\",AR14=\"O\",AT14=\"O\",AU14=\"O\"),\"후보\",\"X\"))","v":""}]
["대아","'92.1",321,133.80000000000001,41,118.8,36,45,null,null,null,null,{"$f":"I15-K15","v":0},{"$f":"IF(ISERROR(K15/I15),\"\",K15/I15)","v":""},{"$f":"I15/E15","v":0},{"$f":"K15/E15","v":0},4,2,"계",133,null,null,133.80000000000001,41,45,0,{"$f":"K15","v":0},0,"",0,{"$f":"S15","v":"계"},{"$f":"Q15&\"/\"&R15","v":"4/2"},null,"대아",41,{"$f":"IF(AI15=\"\",\"\",$AJ$2)","v":"A-"},"A","A+","B+",{"$f":"IF(AI15=\"\",\"\",$AN$2)","v":"C"},{"$f":"IF(N15=\"\",\"\",IF(N15>=$AO$1/100,\"O\",\"X\"))","v":""},{"$f":"IF(I15=\"\",\"\",IF(I15<=$AP$1,\"O\",\"X\"))","v":""},{"$f":"IF(O15=\"\",\"\",IF(O15<=$AQ$1,\"O\",\"X\"))","v":"O"},{"$f":"IF(M15=\"\",\"\",IF(M15<=$AR$1,\"O\",\"X\"))","v":"O"},"X",{"$f":"IF(OR(F15=\"\",AI15=\"\"),\"\",IF(AND((F15<=85),(AI15>=15)),\"O\",\"X\"))","v":"X"},{"$f":"IF(C15=\"\",\"\",IF(C15>=$AU$1,\"O\",\"X\"))","v":"O"},{"$f":"IF(AO15=\"\",\"\",IF(AND(AO15=\"O\",AP15=\"O\",AR15=\"O\",AT15=\"O\",AU15=\"O\"),\"후보\",\"X\"))","v":""}]
[null,null,null,null,null,null,null,null,null,null,null,null,null,null,null,null,null,null,null,null,null,null,{"$f":"$A$4&\" \"&A17&\"(\"&B17&\",\"&C17&\"^)\"","v":"안동 한일유앤아이2차('01.09,237^)"},null,null,null,null,null,null,null,null,null,null,"",""]
["한일유앤아이2차","'01.09",237,76.8,23,59.4,18,237,null,null,null,null,{"$f":"I17-K17","v":0},{"$f":"IF(ISERROR(K17/I17),\"\",K17/I17)","v":""},{"$f":"I17/E17","v":0},{"$f":"K17/E17","v":0},3,1,"계",76,null,null,{"$f":"D17","v":76.8},{"$f":"E17","v":23},{"$f":"H17","v":237},{"$f":"I17","v":0},{"$f":"K17","v":0},{"$f":"M17","v":0},{"$f":"N17","v":""},{"$f":"O17","v":0},{"$f":"S17","v":"계"},{"$f":"Q17&\"/\"&R17","v":"3/1"},null,"한일유앤아이2차",23,{"$f":"IF(AI17=\"\",\"\",$AJ$2)","v":"A-"},"A","A+","B+",{"$f":"IF(AI17=\"\",\"\",$AN$2)","v":"C"},{"$f":"IF(N17=\"\",\"\",IF(N17>=$AO$1/100,\"O\",\"X\"))","v":""},{"$f":"IF(I17=\"\",\"\",IF(I17<=$AP$1,\"O\",\"X\"))","v":""},{"$f":"IF(O17=\"\",\"\",IF(O17<=$AQ$1,\"O\",\"X\"))","v":"O"},{"$f":"IF(M17=\"\",\"\",IF(M17<=$AR$1,\"O\",\"X\"))","v":"O"},"X",{"$f":"IF(OR(F17=\"\",AI17=\"\"),\"\",IF(AND((F17<=85),(AI17>=15)),\"O\",\"X\"))","v":"O"},{"$f":"IF(C17=\"\",\"\",IF(C17>=$AU$1,\"O\",\"X\"))","v":"X"},{"$f":"IF(AO17=\"\",\"\",IF(AND(AO17=\"O\",AP17=\"O\",AR17=\"O\",AT17=\"O\",AU17=\"O\"),\"후보\",\"X\"))","v":""}]

{"sheet":"인의동","index":20,"n_rows":41,"n_cols":48,"rows_kept":41,"cut":false,"hidden":false,"merged":[[0,35,0,39]]}
[{"$f":"단지추출!A1","v":"구미시"},null,null,null,null,null,null,null,"추출대상",null,null,null,null,null,null,null,null,null,null,null,null,null,null,"매매가 최대(색상 최대)",null,null,{"$f":"단지추출!AA1","v":70000},null,null,null,null,null,null,{"$f":"A1","v":"구미시"},null,{"$f":"A1&\" 전체 등급\"","v":"구미시 전체 등급"},null,null,null,null,{"$f":"단지추출!AO1","v":80},{"$f":"단지추출!AP1","v":45000},{"$f":"단지추출!AQ1","v":1000},{"$f":"단지추출!AR1","v":6000},null,null,{"$f":"단지추출!AU1","v":300}]
[{"$f":"단지추출!A2","v":"2022-01-01"},null,null,null,null,null,null,null,null,null,null,null,null,null,null,null,null,null,null,null,null,null,null,"매매가 최소(색상 최소)",null,null,{"$f":"단지추출!AA2","v":10000},null,null,null,null,null,null,{"$f":"AH1 &\" \" &A4","v":"구미시 율하동"},null,{"$f":"단지추출!AJ2","v":"A-"},{"$f":"단지추출!AK2","v":"A"},{"$f":"단지추출!AL2","v":"A"},{"$f":"단지추출!AM2","v":"A"},{"$f":"단지추출!AN2","v":"C"},"원금보전",null,null,"수익성",null,"환금성"]
["단지명","입주\n연도","총세\n대수","공급\n(m2)","공급\n면적","전용\n(m2)","전용\n면적","세대","매매\n최저가","층","전세\n최고가","층","매전갭","전세\n가율","매매\n평단","전세\n평단","방","욕\n실","구\n조","매/전/월\nType","비고",null,"공급\n(m2)","공급\n면적","세대","매매가","전세가","매전갭","전세\n가율","평단가","구\n조","방/\n욕실",null,{"$f":"IF(A3=\"\",\"\",A3)","v":"단지명"},{"$f":"IF(E3=\"\",\"\",E3)","v":"공급\n면적"},"직장","교통","학군","환경","공급",{"$f":"\"전세가율★\n(\"&AO1&\"%↑)\"","v":"전세가율★\n(80%↑)"},{"$f":"\"절대가★\n(\"&AP1/10000&\"억↓)\"","v":"절대가★\n(4.5억↓)"},{"$f":"\"지역평단가\n(\"&AQ1&\"↓)\"","v":"지역평단가\n(1000↓)"},{"$f":"\"투자규모★\n(갭\"&AR1/1000&\"천↓)\"","v":"투자규모★\n(갭6천↓)"},"전고점\n이하","평형★\n(15~34평)",{"$f":"\"단지규모★\n(\"&AU1&\"^↑)\"","v":"단지규모★\n(300^↑)"},"투자후보"]
["율하동",null,null,null,null,null,null,null,null,null,null,null,null,null,null,null,null,null,null,null,null,null,null,null,null,null,null,null,null,null,null,null,null,null,""]
[null,null,null,null,null,null,null,null,null,null,null,null,null,null,null,null,null,null,null,null,null,null,{"$f":"$A$4&\" \"&A6&\"(\"&B6&\",\"&C6&\"^)\"","v":"율하동 신리마을중앙하이츠8단지('09.01,1290^)"},null,null,null,null,null,null,null,null,null,null,{"$f":"IF(A5=\"\",\"\",A5)","v":""},""]
["신리마을중앙하이츠8단지","'09.01",1290,129.30000000000001,39,108.7,33,431,null,null,null,null,{"$f":"I6-K6","v":0},{"$f":"IF(ISERROR(K6/I6),\"\",K6/I6)","v":""},{"$f":"I6/E6","v":0},{"$f":"K6/E6","v":0},3,2,"계","129B",null,null,{"$f":"D6","v":129.30000000000001},39,{"$f":"H6","v":431},0,{"$f":"K6","v":0},{"$f":"M6","v":0},"",0,{"$f":"S6","v":"계"},{"$f":"Q6&\"/\"&R6","v":"3/2"},null,"신리마을중앙하이츠8단지",39,{"$f":"IF(AI6=\"\",\"\",$AJ$2)","v":"A-"},"A","A+","B+",{"$f":"IF(AI6=\"\",\"\",$AN$2)","v":"C"},{"$f":"IF(N6=\"\",\"\",IF(N6>=$AO$1/100,\"O\",\"X\"))","v":""},{"$f":"IF(I6=\"\",\"\",IF(I6<=$AP$1,\"O\",\"X\"))","v":""},{"$f":"IF(O6=\"\",\"\",IF(O6<=$AQ$1,\"O\",\"X\"))","v":"O"},{"$f":"IF(M6=\"\",\"\",IF(M6<=$AR$1,\"O\",\"X\"))","v":"O"},"X",{"$f":"IF(OR(F6=\"\",AI6=\"\"),\"\",IF(AND((F6<=85),(AI6>=15)),\"O\",\"X\"))","v":"X"},{"$f":"IF(C6=\"\",\"\",IF(C6>=$AU$1,\"O\",\"X\"))","v":"O"},{"$f":"IF(AO6=\"\",\"\",IF(AND(AO6=\"O\",AP6=\"O\",AR6=\"O\",AT6=\"O\",AU6=\"O\"),\"후보\",\"X\"))","v":""}]
["신리마을중앙하이츠8단지","'09.01",1290,130,39,107.9,33,97,null,null,null,null,0,"",0,0,3,2,"계","130A",null,null,130,39,97,0,0,0,"",0,"계","3/2",null,"신리마을중앙하이츠8단지",39,"A-","A","A+","B+","C","","","O","O","X","X","O",""]
["신리마을중앙하이츠8단지","'09.01",1290,154.9,47,128.6,39,436,null,null,null,null,0,"",0,0,4,2,"계","154B",null,null,154.9,47,436,0,0,0,"",0,"계","4/2",null,"신리마을중앙하이츠8단지",47,"A-","A","A+","B+","C","","","O","O","X","X","O",""]
["신리마을중앙하이츠8단지","'09.01",1290,155.30000000000001,47,130.69999999999999,40,97,null,null,null,null,0,"",0,0,3,2,"계","155A",null,null,155.30000000000001,47,97,0,0,0,"",0,"계","3/2",null,"신리마을중앙하이츠8단지",47,"A-","A","A+","B+","C","","","O","O","X","X","O",""]
["신리마을중앙하이츠8단지","'09.01",1290,179.2,54,153.1,46,113,null,null,null,null,0,"",0,0,4,2,"계",179,null,null,179.2,54,113,0,0,0,"",0,"계","4/2",null,"신리마을중앙하이츠8단지",54,"A-","A","A+","B+","C","","","O","O","X","X","O",""]
["신리마을중앙하이츠8단지","'09.01",1290,191.8,58,163,49,116,null,null,null,null,0,"",0,0,3,2,"계",191,null,null,191.8,58,116,0,0,0,"",0,"계","3/2",null,"신리마을중앙하이츠8단지",58,"A-","A","A+","B+","C","","","O","O","X","X","O",""]
[null,null,null,null,null,null,null,null,null,null,null,null,null,null,null,null,null,null,null,null,null,null,{"$f":"$A$4&\" \"&A13&\"(\"&B13&\",\"&C13&\"^)\"","v":"율하동 율현마을9단지e편한세상('13.1,999^)"},null,null,null,null,null,null,null,null,null,null,"",""]
["율현마을9단지e편한세상","'13.1",999,109.3,33,84.9,26,494,null,null,null,null,{"$f":"I13-K13","v":0},{"$f":"IF(ISERROR(K13/I13),\"\",K13/I13)","v":""},{"$f":"I13/E13","v":0},{"$f":"K13/E13","v":0},3,2,"계","109A",null,null,{"$f":"D13","v":109.3},33,{"$f":"H13","v":494},0,{"$f":"K13","v":0},{"$f":"M13","v":0},"",0,{"$f":"S13","v":"계"},{"$f":"Q13&\"/\"&R13","v":"3/2"},null,"율현마을9단지e편한세상",33,{"$f":"IF(AI13=\"\",\"\",$AJ$2)","v":"A-"},"A","A+","B+",{"$f":"IF(AI13=\"\",\"\",$AN$2)","v":"C"},{"$f":"IF(N13=\"\",\"\",IF(N13>=$AO$1/100,\"O\",\"X\"))","v":""},{"$f":"IF(I13=\"\",\"\",IF(I13<=$AP$1,\"O\",\"X\"))","v":""},{"$f":"IF(O13=\"\",\"\",IF(O13<=$AQ$1,\"O\",\"X\"))","v":"O"},{"$f":"IF(M13=\"\",\"\",IF(M13<=$AR$1,\"O\",\"X\"))","v":"O"},"X",{"$f":"IF(OR(F13=\"\",AI13=\"\"),\"\",IF(AND((F13<=85),(AI13>=15)),\"O\",\"X\"))","v":"O"},{"$f":"IF(C13=\"\",\"\",IF(C13>=$AU$1,\"O\",\"X\"))","v":"O"},{"$f":"IF(AO13=\"\",\"\",IF(AND(AO13=\"O\",AP13=\"O\",AR13=\"O\",AT13=\"O\",AU13=\"O\"),\"후보\",\"X\"))","v":""}]
["율현마을9단지e편한세상","'13.1",999,109.6,33,84.8,26,302,null,null,null,null,{"$f":"I14-K14","v":0},{"$f":"IF(ISERROR(K14/I14),\"\",K14/I14)","v":""},{"$f":"I14/E14","v":0},{"$f":"K14/E14","v":0},3,2,"계","109B",null,null,109.6,33,302,0,{"$f":"K14","v":0},0,"",0,{"$f":"S14","v":"계"},{"$f":"Q14&\"/\"&R14","v":"3/2"},null,"율현마을9단지e편한세상",33,{"$f":"IF(AI14=\"\",\"\",$AJ$2)","v":"A-"},"A","A+","B+",{"$f":"IF(AI14=\"\",\"\",$AN$2)","v":"C"},{"$f":"IF(N14=\"\",\"\",IF(N14>=$AO$1/100,\"O\",\"X\"))","v":""},{"$f":"IF(I14=\"\",\"\",IF(I14<=$AP$1,\"O\",\"X\"))","v":""},{"$f":"IF(O14=\"\",\"\",IF(O14<=$AQ$1,\"O\",\"X\"))","v":"O"},{"$f":"IF(M14=\"\",\"\",IF(M14<=$AR$1,\"O\",\"X\"))","v":"O"},"X",{"$f":"IF(OR(F14=\"\",AI14=\"\"),\"\",IF(AND((F14<=85),(AI14>=15)),\"O\",\"X\"))","v":"O"},{"$f":"IF(C14=\"\",\"\",IF(C14>=$AU$1,\"O\",\"X\"))","v":"O"},{"$f":"IF(AO14=\"\",\"\",IF(AND(AO14=\"O\",AP14=\"O\",AR14=\"O\",AT14=\"O\",AU14=\"O\"),\"후보\",\"X\"))","v":""}]
["율현마을9단지e편한세상","'13.1",999,110.6,34,85,26,203,null,null,null,null,{"$f":"I15-K15","v":0},{"$f":"IF(ISERROR(K15/I15),\"\",K15/I15)","v":""},{"$f":"I15/E15","v":0},{"$f":"K15/E15","v":0},3,2,"계","110C",null,null,110.6,34,203,0,{"$f":"K15","v":0},0,"",0,{"$f":"S15","v":"계"},{"$f":"Q15&\"/\"&R15","v":"3/2"},null,"율현마을9단지e편한세상",34,{"$f":"IF(AI15=\"\",\"\",$AJ$2)","v":"A-"},"A","A+","B+",{"$f":"IF(AI15=\"\",\"\",$AN$2)","v":"C"},{"$f":"IF(N15=\"\",\"\",IF(N15>=$AO$1/100,\"O\",\"X\"))","v":""},{"$f":"IF(I15=\"\",\"\",IF(I15<=$AP$1,\"O\",\"X\"))","v":""},{"$f":"IF(O15=\"\",\"\",IF(O15<=$AQ$1,\"O\",\"X\"))","v":"O"},{"$f":"IF(M15=\"\",\"\",IF(M15<=$AR$1,\"O\",\"X\"))","v":"O"},"X",{"$f":"IF(OR(F15=\"\",AI15=\"\"),\"\",IF(AND((F15<=85),(AI15>=15)),\"O\",\"X\"))","v":"O"},{"$f":"IF(C15=\"\",\"\",IF(C15>=$AU$1,\"O\",\"X\"))","v":"O"},{"$f":"IF(AO15=\"\",\"\",IF(AND(AO15=\"O\",AP15=\"O\",AR15=\"O\",AT15=\"O\",AU15=\"O\"),\"후보\",\"X\"))","v":""}]
[null,null,null,null,null,null,null,null,null,null,null,null,null,null,null,null,null,null,null,null,null,null,{"$f":"$A$4&\" \"&A17&\"(\"&B17&\",\"&C17&\"^)\"","v":"율하동 율상마을5단지모아미래도('12.03,786^)"},null,null,null,null,null,null,null,null,null,null,"",""]
["율상마을5단지모아미래도","'12.03",786,114.7,35,84.9,26,510,null,null,null,null,{"$f":"I17-K17","v":0},{"$f":"IF(ISERROR(K17/I17),\"\",K17/I17)","v":""},{"$f":"I17/E17","v":0},{"$f":"K17/E17","v":0},3,2,"계","114B",null,null,{"$f":"D17","v":114.7},{"$f":"E17","v":35},{"$f":"H17","v":510},{"$f":"I17","v":0},{"$f":"K17","v":0},{"$f":"M17","v":0},"",0,{"$f":"S17","v":"계"},{"$f":"Q17&\"/\"&R17","v":"3/2"},null,"율상마을5단지모아미래도",35,{"$f":"IF(AI17=\"\",\"\",$AJ$2)","v":"A-"},"A","A+","B+",{"$f":"IF(AI17=\"\",\"\",$AN$2)","v":"C"},{"$f":"IF(N17=\"\",\"\",IF(N17>=$AO$1/100,\"O\",\"X\"))","v":""},{"$f":"IF(I17=\"\",\"\",IF(I17<=$AP$1,\"O\",\"X\"))","v":""},{"$f":"IF(O17=\"\",\"\",IF(O17<=$AQ$1,\"O\",\"X\"))","v":"O"},{"$f":"IF(M17=\"\",\"\",IF(M17<=$AR$1,\"O\",\"X\"))","v":"O"},"X",{"$f":"IF(OR(F17=\"\",AI17=\"\"),\"\",IF(AND((F17<=85),(AI17>=15)),\"O\",\"X\"))","v":"O"},{"$f":"IF(C17=\"\",\"\",IF(C17>=$AU$1,\"O\",\"X\"))","v":"O"},{"$f":"IF(AO17=\"\",\"\",IF(AND(AO17=\"O\",AP17=\"O\",AR17=\"O\",AT17=\"O\",AU17=\"O\"),\"후보\",\"X\"))","v":""}]
["율상마을5단지모아미래도","'12.03",786,118.5,36,84.9,26,276,null,null,null,null,{"$f":"I18-K18","v":0},{"$f":"IF(ISERROR(K18/I18),\"\",K18/I18)","v":""},{"$f":"I18/E18","v":0},{"$f":"K18/E18","v":0},3,2,"계","118A",null,null,{"$f":"D18","v":118.5},{"$f":"E18","v":36},{"$f":"H18","v":276},{"$f":"I18","v":0},{"$f":"K18","v":0},0,"",0,{"$f":"S18","v":"계"},{"$f":"Q18&\"/\"&R18","v":"3/2"},null,"율상마을5단지모아미래도",36,{"$f":"IF(AI18=\"\",\"\",$AJ$2)","v":"A-"},"A","A+","B+",{"$f":"IF(AI18=\"\",\"\",$AN$2)","v":"C"},{"$f":"IF(N18=\"\",\"\",IF(N18>=$AO$1/100,\"O\",\"X\"))","v":""},{"$f":"IF(I18=\"\",\"\",IF(I18<=$AP$1,\"O\",\"X\"))","v":""},{"$f":"IF(O18=\"\",\"\",IF(O18<=$AQ$1,\"O\",\"X\"))","v":"O"},{"$f":"IF(M18=\"\",\"\",IF(M18<=$AR$1,\"O\",\"X\"))","v":"O"},"X",{"$f":"IF(OR(F18=\"\",AI18=\"\"),\"\",IF(AND((F18<=85),(AI18>=15)),\"O\",\"X\"))","v":"O"},{"$f":"IF(C18=\"\",\"\",IF(C18>=$AU$1,\"O\",\"X\"))","v":"O"},{"$f":"IF(AO18=\"\",\"\",IF(AND(AO18=\"O\",AP18=\"O\",AR18=\"O\",AT18=\"O\",AU18=\"O\"),\"후보\",\"X\"))","v":""}]
[null,null,null,null,null,null,null,null,null,null,null,null,null,null,null,null,null,null,null,null,null,null,{"$f":"$A$4&\" \"&A20&\"(\"&B20&\",\"&C20&\"^)\"","v":"율하동 율현마을동원로얄듀크1차('13.04,750^)"},null,null,null,null,null,null,null,null,null,null,"",""]
["율현마을동원로얄듀크1차","'13.04",750,109.2,33,85,26,168,null,null,null,null,{"$f":"I20-K20","v":0},{"$f":"IF(ISERROR(K20/I20),\"\",K20/I20)","v":""},{"$f":"I20/E20","v":0},{"$f":"K20/E20","v":0},3,2,"계","109C",null,null,{"$f":"D20","v":109.2},33,{"$f":"H20","v":168},0,{"$f":"K20","v":0},{"$f":"M20","v":0},"",0,{"$f":"S20","v":"계"},{"$f":"Q20&\"/\"&R20","v":"3/2"},null,"율현마을동원로얄듀크1차",33,{"$f":"IF(AI20=\"\",\"\",$AJ$2)","v":"A-"},"A","A+","B+",{"$f":"IF(AI20=\"\",\"\",$AN$2)","v":"C"},{"$f":"IF(N20=\"\",\"\",IF(N20>=$AO$1/100,\"O\",\"X\"))","v":""},{"$f":"IF(I20=\"\",\"\",IF(I20<=$AP$1,\"O\",\"X\"))","v":""},{"$f":"IF(O20=\"\",\"\",IF(O20<=$AQ$1,\"O\",\"X\"))","v":"O"},{"$f":"IF(M20=\"\",\"\",IF(M20<=$AR$1,\"O\",\"X\"))","v":"O"},"X",{"$f":"IF(OR(F20=\"\",AI20=\"\"),\"\",IF(AND((F20<=85),(AI20>=15)),\"O\",\"X\"))","v":"O"},{"$f":"IF(C20=\"\",\"\",IF(C20>=$AU$1,\"O\",\"X\"))","v":"O"},{"$f":"IF(AO20=\"\",\"\",IF(AND(AO20=\"O\",AP20=\"O\",AR20=\"O\",AT20=\"O\",AU20=\"O\"),\"후보\",\"X\"))","v":""}]
["율현마을동원로얄듀크1차","'13.04",750,109.3,33,85,26,168,null,null,null,null,{"$f":"I21-K21","v":0},{"$f":"IF(ISERROR(K21/I21),\"\",K21/I21)","v":""},{"$f":"I21/E21","v":0},{"$f":"K21/E21","v":0},3,2,"계","109B",null,null,109.3,33,168,0,{"$f":"K21","v":0},0,"",0,{"$f":"S21","v":"계"},{"$f":"Q21&\"/\"&R21","v":"3/2"},null,"율현마을동원로얄듀크1차",33,{"$f":"IF(AI21=\"\",\"\",$AJ$2)","v":"A-"},"A","A+","B+",{"$f":"IF(AI21=\"\",\"\",$AN$2)","v":"C"},{"$f":"IF(N21=\"\",\"\",IF(N21>=$AO$1/100,\"O\",\"X\"))","v":""},{"$f":"IF(I21=\"\",\"\",IF(I21<=$AP$1,\"O\",\"X\"))","v":""},{"$f":"IF(O21=\"\",\"\",IF(O21<=$AQ$1,\"O\",\"X\"))","v":"O"},{"$f":"IF(M21=\"\",\"\",IF(M21<=$AR$1,\"O\",\"X\"))","v":"O"},"X",{"$f":"IF(OR(F21=\"\",AI21=\"\"),\"\",IF(AND((F21<=85),(AI21>=15)),\"O\",\"X\"))","v":"O"},{"$f":"IF(C21=\"\",\"\",IF(C21>=$AU$1,\"O\",\"X\"))","v":"O"},{"$f":"IF(AO21=\"\",\"\",IF(AND(AO21=\"O\",AP21=\"O\",AR21=\"O\",AT21=\"O\",AU21=\"O\"),\"후보\",\"X\"))","v":""}]
["율현마을동원로얄듀크1차","'13.04",750,110.8,34,85,26,414,null,null,null,null,{"$f":"I22-K22","v":0},{"$f":"IF(ISERROR(K22/I22),\"\",K22/I22)","v":""},{"$f":"I22/E22","v":0},{"$f":"K22/E22","v":0},3,2,"계","110A",null,null,110.8,34,414,0,{"$f":"K22","v":0},0,"",0,{"$f":"S22","v":"계"},{"$f":"Q22&\"/\"&R22","v":"3/2"},null,"율현마을동원로얄듀크1차",34,{"$f":"IF(AI22=\"\",\"\",$AJ$2)","v":"A-"},"A","A+","B+",{"$f":"IF(AI22=\"\",\"\",$AN$2)","v":"C"},{"$f":"IF(N22=\"\",\"\",IF(N22>=$AO$1/100,\"O\",\"X\"))","v":""},{"$f":"IF(I22=\"\",\"\",IF(I22<=$AP$1,\"O\",\"X\"))","v":""},{"$f":"IF(O22=\"\",\"\",IF(O22<=$AQ$1,\"O\",\"X\"))","v":"O"},{"$f":"IF(M22=\"\",\"\",IF(M22<=$AR$1,\"O\",\"X\"))","v":"O"},"X",{"$f":"IF(OR(F22=\"\",AI22=\"\"),\"\",IF(AND((F22<=85),(AI22>=15)),\"O\",\"X\"))","v":"O"},{"$f":"IF(C22=\"\",\"\",IF(C22>=$AU$1,\"O\",\"X\"))","v":"O"},{"$f":"IF(AO22=\"\",\"\",IF(AND(AO22=\"O\",AP22=\"O\",AR22=\"O\",AT22=\"O\",AU22=\"O\"),\"후보\",\"X\"))","v":""}]
[null,null,null,null,null,null,null,null,null,null,null,null,null,null,null,null,null,null,null,null,null,null,{"$f":"$A$4&\" \"&A24&\"(\"&B24&\",\"&C24&\"^)\"","v":"율하동 율상마을3단지푸르지오('08.12,632^)"},null,null,null,null,null,null,null,null,null,null,"",""]
["율상마을3단지푸르지오","'08.12",632,109,33,85,26,66,null,null,null,null,{"$f":"I24-K24","v":0},{"$f":"IF(ISERROR(K24/I24),\"\",K24/I24)","v":""},{"$f":"I24/E24","v":0},{"$f":"K24/E24","v":0},3,2,"계","108B",null,null,{"$f":"D24","v":109},33,{"$f":"H24","v":66},0,{"$f":"K24","v":0},{"$f":"M24","v":0},"",0,{"$f":"S24","v":"계"},{"$f":"Q24&\"/\"&R24","v":"3/2"},null,"율상마을3단지푸르지오",33,{"$f":"IF(AI24=\"\",\"\",$AJ$2)","v":"A-"},"A","A+","B+",{"$f":"IF(AI24=\"\",\"\",$AN$2)","v":"C"},{"$f":"IF(N24=\"\",\"\",IF(N24>=$AO$1/100,\"O\",\"X\"))","v":""},{"$f":"IF(I24=\"\",\"\",IF(I24<=$AP$1,\"O\",\"X\"))","v":""},{"$f":"IF(O24=\"\",\"\",IF(O24<=$AQ$1,\"O\",\"X\"))","v":"O"},{"$f":"IF(M24=\"\",\"\",IF(M24<=$AR$1,\"O\",\"X\"))","v":"O"},"X",{"$f":"IF(OR(F24=\"\",AI24=\"\"),\"\",IF(AND((F24<=85),(AI24>=15)),\"O\",\"X\"))","v":"O"},{"$f":"IF(C24=\"\",\"\",IF(C24>=$AU$1,\"O\",\"X\"))","v":"O"},{"$f":"IF(AO24=\"\",\"\",IF(AND(AO24=\"O\",AP24=\"O\",AR24=\"O\",AT24=\"O\",AU24=\"O\"),\"후보\",\"X\"))","v":""}]
["율상마을3단지푸르지오","'08.12",632,109.5,33,85,26,490,null,null,null,null,{"$f":"I25-K25","v":0},{"$f":"IF(ISERROR(K25/I25),\"\",K25/I25)","v":""},{"$f":"I25/E25","v":0},{"$f":"K25/E25","v":0},3,2,"계","109A",null,null,109.5,33,490,0,{"$f":"K25","v":0},0,"",0,{"$f":"S25","v":"계"},{"$f":"Q25&\"/\"&R25","v":"3/2"},null,"율상마을3단지푸르지오",33,{"$f":"IF(AI25=\"\",\"\",$AJ$2)","v":"A-"},"A","A+","B+",{"$f":"IF(AI25=\"\",\"\",$AN$2)","v":"C"},{"$f":"IF(N25=\"\",\"\",IF(N25>=$AO$1/100,\"O\",\"X\"))","v":""},{"$f":"IF(I25=\"\",\"\",IF(I25<=$AP$1,\"O\",\"X\"))","v":""},{"$f":"IF(O25=\"\",\"\",IF(O25<=$AQ$1,\"O\",\"X\"))","v":"O"},{"$f":"IF(M25=\"\",\"\",IF(M25<=$AR$1,\"O\",\"X\"))","v":"O"},"X",{"$f":"IF(OR(F25=\"\",AI25=\"\"),\"\",IF(AND((F25<=85),(AI25>=15)),\"O\",\"X\"))","v":"O"},{"$f":"IF(C25=\"\",\"\",IF(C25>=$AU$1,\"O\",\"X\"))","v":"O"},{"$f":"IF(AO25=\"\",\"\",IF(AND(AO25=\"O\",AP25=\"O\",AR25=\"O\",AT25=\"O\",AU25=\"O\"),\"후보\",\"X\"))","v":""}]
["율상마을3단지푸르지오","'08.12",632,111.6,34,85,26,76,null,null,null,null,{"$f":"I26-K26","v":0},{"$f":"IF(ISERROR(K26/I26),\"\",K26/I26)","v":""},{"$f":"I26/E26","v":0},{"$f":"K26/E26","v":0},3,2,"계",111,null,null,111.6,34,76,0,{"$f":"K26","v":0},0,"",0,{"$f":"S26","v":"계"},{"$f":"Q26&\"/\"&R26","v":"3/2"},null,"율상마을3단지푸르지오",34,{"$f":"IF(AI26=\"\",\"\",$AJ$2)","v":"A-"},"A","A+","B+",{"$f":"IF(AI26=\"\",\"\",$AN$2)","v":"C"},{"$f":"IF(N26=\"\",\"\",IF(N26>=$AO$1/100,\"O\",\"X\"))","v":""},{"$f":"IF(I26=\"\",\"\",IF(I26<=$AP$1,\"O\",\"X\"))","v":""},{"$f":"IF(O26=\"\",\"\",IF(O26<=$AQ$1,\"O\",\"X\"))","v":"O"},{"$f":"IF(M26=\"\",\"\",IF(M26<=$AR$1,\"O\",\"X\"))","v":"O"},"X",{"$f":"IF(OR(F26=\"\",AI26=\"\"),\"\",IF(AND((F26<=85),(AI26>=15)),\"O\",\"X\"))","v":"O"},{"$f":"IF(C26=\"\",\"\",IF(C26>=$AU$1,\"O\",\"X\"))","v":"O"},{"$f":"IF(AO26=\"\",\"\",IF(AND(AO26=\"O\",AP26=\"O\",AR26=\"O\",AT26=\"O\",AU26=\"O\"),\"후보\",\"X\"))","v":""}]
[null,null,null,null,null,null,null,null,null,null,null,null,null,null,null,null,null,null,null,null,null,null,{"$f":"$A$4&\" \"&A28&\"(\"&B28&\",\"&C28&\"^)\"","v":"율하동 율상마을6단지모아미래도('14.05,630^)"},null,null,null,null,null,null,null,null,null,null,"",""]
["율상마을6단지모아미래도","'14.05",630,114.4,35,84.7,26,192,null,null,null,null,{"$f":"I28-K28","v":0},{"$f":"IF(ISERROR(K28/I28),\"\",K28/I28)","v":""},{"$f":"I28/E28","v":0},{"$f":"K28/E28","v":0},3,2,"계","114C",null,null,{"$f":"D28","v":114.4},35,{"$f":"H28","v":192},0,{"$f":"K28","v":0},{"$f":"M28","v":0},"",0,{"$f":"S28","v":"계"},{"$f":"Q28&\"/\"&R28","v":"3/2"},null,"율상마을6단지모아미래도",35,{"$f":"IF(AI28=\"\",\"\",$AJ$2)","v":"A-"},"A","A+","B+",{"$f":"IF(AI28=\"\",\"\",$AN$2)","v":"C"},{"$f":"IF(N28=\"\",\"\",IF(N28>=$AO$1/100,\"O\",\"X\"))","v":""},{"$f":"IF(I28=\"\",\"\",IF(I28<=$AP$1,\"O\",\"X\"))","v":""},{"$f":"IF(O28=\"\",\"\",IF(O28<=$AQ$1,\"O\",\"X\"))","v":"O"},{"$f":"IF(M28=\"\",\"\",IF(M28<=$AR$1,\"O\",\"X\"))","v":"O"},"X",{"$f":"IF(OR(F28=\"\",AI28=\"\"),\"\",IF(AND((F28<=85),(AI28>=15)),\"O\",\"X\"))","v":"O"},{"$f":"IF(C28=\"\",\"\",IF(C28>=$AU$1,\"O\",\"X\"))","v":"O"},{"$f":"IF(AO28=\"\",\"\",IF(AND(AO28=\"O\",AP28=\"O\",AR28=\"O\",AT28=\"O\",AU28=\"O\"),\"후보\",\"X\"))","v":""}]
["율상마을6단지모아미래도","'14.05",630,114.9,35,85,26,48,null,null,null,null,0,"",0,0,3,2,"계","114F",null,null,114.9,35,48,0,0,0,"",0,"계","3/2",null,"율상마을6단지모아미래도",35,"A-","A","A+","B+","C","","","O","O","X","O","O",""]
["율상마을6단지모아미래도","'14.05",630,115.1,35,84.7,26,111,null,null,null,null,0,"",0,0,3,2,"계","115E",null,null,115.1,35,111,0,0,0,"",0,"계","3/2",null,"율상마을6단지모아미래도",35,"A-","A","A+","B+","C","","","O","O","X","O","O",""]
["율상마을6단지모아미래도","'14.05",630,115.3,35,84.8,26,60,null,null,null,null,0,"",0,0,3,2,"계","115B",null,null,115.3,35,60,0,0,0,"",0,"계","3/2",null,"율상마을6단지모아미래도",35,"A-","A","A+","B+","C","","","O","O","X","O","O",""]
["율상마을6단지모아미래도","'14.05",630,116.7,35,85,26,111,null,null,null,null,0,"",0,0,3,2,"계","116A",null,null,116.7,35,111,0,0,0,"",0,"계","3/2",null,"율상마을6단지모아미래도",35,"A-","A","A+","B+","C","","","O","O","X","O","O",""]
["율상마을6단지모아미래도","'14.05",630,117.4,36,84.5,26,108,null,null,null,null,0,"",0,0,3,2,"계","117D",null,null,117.4,36,108,0,0,0,"",0,"계","3/2",null,"율상마을6단지모아미래도",36,"A-","A","A+","B+","C","","","O","O","X","O","O",""]
[null,null,null,null,null,null,null,null,null,null,null,null,null,null,null,null,null,null,null,null,null,null,{"$f":"$A$4&\" \"&A35&\"(\"&B35&\",\"&C35&\"^)\"","v":"율하동 율하율현마을e-편한세상('09.01,585^)"},null,null,null,null,null,null,null,null,null,null,"",""]
["율하율현마을e-편한세상","'09.01",585,110.6,34,84.9,26,336,null,null,null,null,{"$f":"I35-K35","v":0},{"$f":"IF(ISERROR(K35/I35),\"\",K35/I35)","v":""},{"$f":"I35/E35","v":0},{"$f":"K35/E35","v":0},3,2,"계","110A",null,null,{"$f":"D35","v":110.6},{"$f":"E35","v":34},{"$f":"H35","v":336},{"$f":"I35","v":0},{"$f":"K35","v":0},{"$f":"M35","v":0},"",0,{"$f":"S35","v":"계"},{"$f":"Q35&\"/\"&R35","v":"3/2"},null,"율하율현마을e-편한세상",34,{"$f":"IF(AI35=\"\",\"\",$AJ$2)","v":"A-"},"A","A+","B+",{"$f":"IF(AI35=\"\",\"\",$AN$2)","v":"C"},{"$f":"IF(N35=\"\",\"\",IF(N35>=$AO$1/100,\"O\",\"X\"))","v":""},{"$f":"IF(I35=\"\",\"\",IF(I35<=$AP$1,\"O\",\"X\"))","v":""},{"$f":"IF(O35=\"\",\"\",IF(O35<=$AQ$1,\"O\",\"X\"))","v":"O"},{"$f":"IF(M35=\"\",\"\",IF(M35<=$AR$1,\"O\",\"X\"))","v":"O"},"X",{"$f":"IF(OR(F35=\"\",AI35=\"\"),\"\",IF(AND((F35<=85),(AI35>=15)),\"O\",\"X\"))","v":"O"},{"$f":"IF(C35=\"\",\"\",IF(C35>=$AU$1,\"O\",\"X\"))","v":"O"},{"$f":"IF(AO35=\"\",\"\",IF(AND(AO35=\"O\",AP35=\"O\",AR35=\"O\",AT35=\"O\",AU35=\"O\"),\"후보\",\"X\"))","v":""}]
["율하율현마을e-편한세상","'09.01",585,110.9,34,84.8,26,249,null,null,null,null,{"$f":"I36-K36","v":0},{"$f":"IF(ISERROR(K36/I36),\"\",K36/I36)","v":""},{"$f":"I36/E36","v":0},{"$f":"K36/E36","v":0},3,2,"계","110B",null,null,{"$f":"D36","v":110.9},{"$f":"E36","v":34},{"$f":"H36","v":249},{"$f":"I36","v":0},{"$f":"K36","v":0},0,"",0,{"$f":"S36","v":"계"},{"$f":"Q36&\"/\"&R36","v":"3/2"},null,"율하율현마을e-편한세상",34,{"$f":"IF(AI36=\"\",\"\",$AJ$2)","v":"A-"},"A","A+","B+",{"$f":"IF(AI36=\"\",\"\",$AN$2)","v":"C"},{"$f":"IF(N36=\"\",\"\",IF(N36>=$AO$1/100,\"O\",\"X\"))","v":""},{"$f":"IF(I36=\"\",\"\",IF(I36<=$AP$1,\"O\",\"X\"))","v":""},{"$f":"IF(O36=\"\",\"\",IF(O36<=$AQ$1,\"O\",\"X\"))","v":"O"},{"$f":"IF(M36=\"\",\"\",IF(M36<=$AR$1,\"O\",\"X\"))","v":"O"},"X",{"$f":"IF(OR(F36=\"\",AI36=\"\"),\"\",IF(AND((F36<=85),(AI36>=15)),\"O\",\"X\"))","v":"O"},{"$f":"IF(C36=\"\",\"\",IF(C36>=$AU$1,\"O\",\"X\"))","v":"O"},{"$f":"IF(AO36=\"\",\"\",IF(AND(AO36=\"O\",AP36=\"O\",AR36=\"O\",AT36=\"O\",AU36=\"O\"),\"후보\",\"X\"))","v":""}]
[null,null,null,null,null,null,null,null,null,null,null,null,null,null,null,null,null,null,null,null,null,null,{"$f":"$A$4&\" \"&A38&\"(\"&B38&\",\"&C38&\"^)\"","v":"율하동 율상마을4단지푸르지오('08.12,348^)"},null,null,null,null,null,null,null,null,null,null,"",""]
["율상마을4단지푸르지오","'08.12",348,143.69999999999999,44,116.5,35,144,null,null,null,null,{"$f":"I38-K38","v":0},{"$f":"IF(ISERROR(K38/I38),\"\",K38/I38)","v":""},{"$f":"I38/E38","v":0},{"$f":"K38/E38","v":0},4,2,"계",143,null,null,{"$f":"D38","v":143.69999999999999},44,{"$f":"H38","v":144},0,{"$f":"K38","v":0},{"$f":"M38","v":0},"",0,{"$f":"S38","v":"계"},{"$f":"Q38&\"/\"&R38","v":"4/2"},null,"율상마을4단지푸르지오",44,{"$f":"IF(AI38=\"\",\"\",$AJ$2)","v":"A-"},"A","A+","B+",{"$f":"IF(AI38=\"\",\"\",$AN$2)","v":"C"},{"$f":"IF(N38=\"\",\"\",IF(N38>=$AO$1/100,\"O\",\"X\"))","v":""},{"$f":"IF(I38=\"\",\"\",IF(I38<=$AP$1,\"O\",\"X\"))","v":""},{"$f":"IF(O38=\"\",\"\",IF(O38<=$AQ$1,\"O\",\"X\"))","v":"O"},{"$f":"IF(M38=\"\",\"\",IF(M38<=$AR$1,\"O\",\"X\"))","v":"O"},"X",{"$f":"IF(OR(F38=\"\",AI38=\"\"),\"\",IF(AND((F38<=85),(AI38>=15)),\"O\",\"X\"))","v":"X"},{"$f":"IF(C38=\"\",\"\",IF(C38>=$AU$1,\"O\",\"X\"))","v":"O"},{"$f":"IF(AO38=\"\",\"\",IF(AND(AO38=\"O\",AP38=\"O\",AR38=\"O\",AT38=\"O\",AU38=\"O\"),\"후보\",\"X\"))","v":""}]
["율상마을4단지푸르지오","'08.12",348,159.4,48,128.6,39,68,null,null,null,null,{"$f":"I39-K39","v":0},{"$f":"IF(ISERROR(K39/I39),\"\",K39/I39)","v":""},{"$f":"I39/E39","v":0},{"$f":"K39/E39","v":0},4,2,"계","159A",null,null,159.4,48,68,0,{"$f":"K39","v":0},0,"",0,{"$f":"S39","v":"계"},{"$f":"Q39&\"/\"&R39","v":"4/2"},null,"율상마을4단지푸르지오",48,{"$f":"IF(AI39=\"\",\"\",$AJ$2)","v":"A-"},"A","A+","B+",{"$f":"IF(AI39=\"\",\"\",$AN$2)","v":"C"},{"$f":"IF(N39=\"\",\"\",IF(N39>=$AO$1/100,\"O\",\"X\"))","v":""},{"$f":"IF(I39=\"\",\"\",IF(I39<=$AP$1,\"O\",\"X\"))","v":""},{"$f":"IF(O39=\"\",\"\",IF(O39<=$AQ$1,\"O\",\"X\"))","v":"O"},{"$f":"IF(M39=\"\",\"\",IF(M39<=$AR$1,\"O\",\"X\"))","v":"O"},"X",{"$f":"IF(OR(F39=\"\",AI39=\"\"),\"\",IF(AND((F39<=85),(AI39>=15)),\"O\",\"X\"))","v":"X"},{"$f":"IF(C39=\"\",\"\",IF(C39>=$AU$1,\"O\",\"X\"))","v":"O"},{"$f":"IF(AO39=\"\",\"\",IF(AND(AO39=\"O\",AP39=\"O\",AR39=\"O\",AT39=\"O\",AU39=\"O\"),\"후보\",\"X\"))","v":""}]
["율상마을4단지푸르지오","'08.12",348,159.5,48,129.30000000000001,39,68,null,null,null,null,{"$f":"I40-K40","v":0},{"$f":"IF(ISERROR(K40/I40),\"\",K40/I40)","v":""},{"$f":"I40/E40","v":0},{"$f":"K40/E40","v":0},4,2,"계","159B",null,null,159.5,48,68,0,{"$f":"K40","v":0},0,"",0,{"$f":"S40","v":"계"},{"$f":"Q40&\"/\"&R40","v":"4/2"},null,"율상마을4단지푸르지오",48,{"$f":"IF(AI40=\"\",\"\",$AJ$2)","v":"A-"},"A","A+","B+",{"$f":"IF(AI40=\"\",\"\",$AN$2)","v":"C"},{"$f":"IF(N40=\"\",\"\",IF(N40>=$AO$1/100,\"O\",\"X\"))","v":""},{"$f":"IF(I40=\"\",\"\",IF(I40<=$AP$1,\"O\",\"X\"))","v":""},{"$f":"IF(O40=\"\",\"\",IF(O40<=$AQ$1,\"O\",\"X\"))","v":"O"},{"$f":"IF(M40=\"\",\"\",IF(M40<=$AR$1,\"O\",\"X\"))","v":"O"},"X",{"$f":"IF(OR(F40=\"\",AI40=\"\"),\"\",IF(AND((F40<=85),(AI40>=15)),\"O\",\"X\"))","v":"X"},{"$f":"IF(C40=\"\",\"\",IF(C40>=$AU$1,\"O\",\"X\"))","v":"O"},{"$f":"IF(AO40=\"\",\"\",IF(AND(AO40=\"O\",AP40=\"O\",AR40=\"O\",AT40=\"O\",AU40=\"O\"),\"후보\",\"X\"))","v":""}]
["율상마을4단지푸르지오","'08.12",348,176.9,54,144.69999999999999,44,68,null,null,null,null,{"$f":"I41-K41","v":0},{"$f":"IF(ISERROR(K41/I41),\"\",K41/I41)","v":""},{"$f":"I41/E41","v":0},{"$f":"K41/E41","v":0},4,2,"계",176,null,null,176.9,54,68,0,{"$f":"K41","v":0},0,"",0,{"$f":"S41","v":"계"},{"$f":"Q41&\"/\"&R41","v":"4/2"},null,"율상마을4단지푸르지오",54,{"$f":"IF(AI41=\"\",\"\",$AJ$2)","v":"A-"},"A","A+","B+",{"$f":"IF(AI41=\"\",\"\",$AN$2)","v":"C"},{"$f":"IF(N41=\"\",\"\",IF(N41>=$AO$1/100,\"O\",\"X\"))","v":""},{"$f":"IF(I41=\"\",\"\",IF(I41<=$AP$1,\"O\",\"X\"))","v":""},{"$f":"IF(O41=\"\",\"\",IF(O41<=$AQ$1,\"O\",\"X\"))","v":"O"},{"$f":"IF(M41=\"\",\"\",IF(M41<=$AR$1,\"O\",\"X\"))","v":"O"},"X",{"$f":"IF(OR(F41=\"\",AI41=\"\"),\"\",IF(AND((F41<=85),(AI41>=15)),\"O\",\"X\"))","v":"X"},{"$f":"IF(C41=\"\",\"\",IF(C41>=$AU$1,\"O\",\"X\"))","v":"O"},{"$f":"IF(AO41=\"\",\"\",IF(AND(AO41=\"O\",AP41=\"O\",AR41=\"O\",AT41=\"O\",AU41=\"O\"),\"후보\",\"X\"))","v":""}]

{"sheet":"황상동","index":21,"n_rows":26,"n_cols":48,"rows_kept":26,"cut":false,"hidden":false,"merged":[[0,35,0,39]]}
[{"$f":"단지추출!A1","v":"구미시"},null,null,null,null,null,null,null,"추출대상",null,null,null,null,null,null,null,null,null,null,null,null,null,null,"매매가 최대(색상 최대)",null,null,{"$f":"단지추출!AA1","v":70000},null,null,null,null,null,null,{"$f":"A1","v":"구미시"},null,{"$f":"A1&\" 전체 등급\"","v":"구미시 전체 등급"},null,null,null,null,{"$f":"단지추출!AO1","v":80},{"$f":"단지추출!AP1","v":45000},{"$f":"단지추출!AQ1","v":1000},{"$f":"단지추출!AR1","v":6000},null,null,{"$f":"단지추출!AU1","v":300}]
[{"$f":"단지추출!A2","v":"2022-01-01"},null,null,null,null,null,null,null,null,null,null,null,null,null,null,null,null,null,null,null,null,null,null,"매매가 최소(색상 최소)",null,null,{"$f":"단지추출!AA2","v":10000},null,null,null,null,null,null,{"$f":"AH1 &\" \" &A4","v":"구미시 어방동"},null,{"$f":"단지추출!AJ2","v":"A-"},{"$f":"단지추출!AK2","v":"A"},{"$f":"단지추출!AL2","v":"A"},{"$f":"단지추출!AM2","v":"A"},{"$f":"단지추출!AN2","v":"C"},"원금보전",null,null,"수익성",null,"환금성"]
["단지명","입주\n연도","총세\n대수","공급\n(m2)","공급\n면적","전용\n(m2)","전용\n면적","세대","매매\n최저가","층","전세\n최고가","층","매전갭","전세\n가율","매매\n평단","전세\n평단","방","욕\n실","구\n조","매/전/월\nType","비고",null,"공급\n(m2)","공급\n면적","세대","매매가","전세가","매전갭","전세\n가율","평단가","구\n조","방/\n욕실",null,{"$f":"IF(A3=\"\",\"\",A3)","v":"단지명"},{"$f":"IF(E3=\"\",\"\",E3)","v":"공급\n면적"},"직장","교통","학군","환경","공급",{"$f":"\"전세가율★\n(\"&AO1&\"%↑)\"","v":"전세가율★\n(80%↑)"},{"$f":"\"절대가★\n(\"&AP1/10000&\"억↓)\"","v":"절대가★\n(4.5억↓)"},{"$f":"\"지역평단가\n(\"&AQ1&\"↓)\"","v":"지역평단가\n(1000↓)"},{"$f":"\"투자규모★\n(갭\"&AR1/1000&\"천↓)\"","v":"투자규모★\n(갭6천↓)"},"전고점\n이하","평형★\n(15~34평)",{"$f":"\"단지규모★\n(\"&AU1&\"^↑)\"","v":"단지규모★\n(300^↑)"},"투자후보"]
["어방동",null,null,null,null,null,null,null,null,null,null,null,null,null,null,null,null,null,null,null,null,null,null,null,null,null,null,null,null,null,null,null,null,null,""]
[null,null,null,null,null,null,null,null,null,null,null,null,null,null,null,null,null,null,null,null,null,null,{"$f":"$A$4&\" \"&A6&\"(\"&B6&\",\"&C6&\"^)\"","v":"어방동 대우유토피아('94.12,2041^)"},null,null,null,null,null,null,null,null,null,null,{"$f":"IF(A5=\"\",\"\",A5)","v":""},""]
["대우유토피아","'94.12",2041,75.099999999999994,23,60,18,762,null,null,null,null,{"$f":"I6-K6","v":0},{"$f":"IF(ISERROR(K6/I6),\"\",K6/I6)","v":""},{"$f":"I6/E6","v":0},{"$f":"K6/E6","v":0},3,1,"계",75,null,null,{"$f":"D6","v":75.099999999999994},23,{"$f":"H6","v":762},0,{"$f":"K6","v":0},{"$f":"M6","v":0},"",0,{"$f":"S6","v":"계"},{"$f":"Q6&\"/\"&R6","v":"3/1"},null,"대우유토피아",23,{"$f":"IF(AI6=\"\",\"\",$AJ$2)","v":"A-"},"A","A+","B+",{"$f":"IF(AI6=\"\",\"\",$AN$2)","v":"C"},{"$f":"IF(N6=\"\",\"\",IF(N6>=$AO$1/100,\"O\",\"X\"))","v":""},{"$f":"IF(I6=\"\",\"\",IF(I6<=$AP$1,\"O\",\"X\"))","v":""},{"$f":"IF(O6=\"\",\"\",IF(O6<=$AQ$1,\"O\",\"X\"))","v":"O"},{"$f":"IF(M6=\"\",\"\",IF(M6<=$AR$1,\"O\",\"X\"))","v":"O"},"X",{"$f":"IF(OR(F6=\"\",AI6=\"\"),\"\",IF(AND((F6<=85),(AI6>=15)),\"O\",\"X\"))","v":"O"},{"$f":"IF(C6=\"\",\"\",IF(C6>=$AU$1,\"O\",\"X\"))","v":"O"},{"$f":"IF(AO6=\"\",\"\",IF(AND(AO6=\"O\",AP6=\"O\",AR6=\"O\",AT6=\"O\",AU6=\"O\"),\"후보\",\"X\"))","v":""}]
["대우유토피아","'94.12",2041,92.3,28,77.599999999999994,24,389,null,null,null,null,{"$f":"I7-K7","v":0},{"$f":"IF(ISERROR(K7/I7),\"\",K7/I7)","v":""},{"$f":"I7/E7","v":0},{"$f":"K7/E7","v":0},3,1,"계",92,null,null,92.3,28,389,0,{"$f":"K7","v":0},0,"",0,{"$f":"S7","v":"계"},{"$f":"Q7&\"/\"&R7","v":"3/1"},null,"대우유토피아",28,{"$f":"IF(AI7=\"\",\"\",$AJ$2)","v":"A-"},"A","A+","B+",{"$f":"IF(AI7=\"\",\"\",$AN$2)","v":"C"},{"$f":"IF(N7=\"\",\"\",IF(N7>=$AO$1/100,\"O\",\"X\"))","v":""},{"$f":"IF(I7=\"\",\"\",IF(I7<=$AP$1,\"O\",\"X\"))","v":""},{"$f":"IF(O7=\"\",\"\",IF(O7<=$AQ$1,\"O\",\"X\"))","v":"O"},{"$f":"IF(M7=\"\",\"\",IF(M7<=$AR$1,\"O\",\"X\"))","v":"O"},"X",{"$f":"IF(OR(F7=\"\",AI7=\"\"),\"\",IF(AND((F7<=85),(AI7>=15)),\"O\",\"X\"))","v":"O"},{"$f":"IF(C7=\"\",\"\",IF(C7>=$AU$1,\"O\",\"X\"))","v":"O"},{"$f":"IF(AO7=\"\",\"\",IF(AND(AO7=\"O\",AP7=\"O\",AR7=\"O\",AT7=\"O\",AU7=\"O\"),\"후보\",\"X\"))","v":""}]
["대우유토피아","'94.12",2041,104.4,32,84.5,26,530,null,null,null,null,{"$f":"I8-K8","v":0},{"$f":"IF(ISERROR(K8/I8),\"\",K8/I8)","v":""},{"$f":"I8/E8","v":0},{"$f":"K8/E8","v":0},3,2,"계",104,null,null,104.4,32,530,0,{"$f":"K8","v":0},0,"",0,{"$f":"S8","v":"계"},{"$f":"Q8&\"/\"&R8","v":"3/2"},null,"대우유토피아",32,{"$f":"IF(AI8=\"\",\"\",$AJ$2)","v":"A-"},"A","A+","B+",{"$f":"IF(AI8=\"\",\"\",$AN$2)","v":"C"},{"$f":"IF(N8=\"\",\"\",IF(N8>=$AO$1/100,\"O\",\"X\"))","v":""},{"$f":"IF(I8=\"\",\"\",IF(I8<=$AP$1,\"O\",\"X\"))","v":""},{"$f":"IF(O8=\"\",\"\",IF(O8<=$AQ$1,\"O\",\"X\"))","v":"O"},{"$f":"IF(M8=\"\",\"\",IF(M8<=$AR$1,\"O\",\"X\"))","v":"O"},"X",{"$f":"IF(OR(F8=\"\",AI8=\"\"),\"\",IF(AND((F8<=85),(AI8>=15)),\"O\",\"X\"))","v":"O"},{"$f":"IF(C8=\"\",\"\",IF(C8>=$AU$1,\"O\",\"X\"))","v":"O"},{"$f":"IF(AO8=\"\",\"\",IF(AND(AO8=\"O\",AP8=\"O\",AR8=\"O\",AT8=\"O\",AU8=\"O\"),\"후보\",\"X\"))","v":""}]
["대우유토피아","'94.12",2041,138.5,42,116.7,35,240,null,null,null,null,{"$f":"I9-K9","v":0},{"$f":"IF(ISERROR(K9/I9),\"\",K9/I9)","v":""},{"$f":"I9/E9","v":0},{"$f":"K9/E9","v":0},4,2,"계",138,null,null,138.5,42,240,0,{"$f":"K9","v":0},0,"",0,{"$f":"S9","v":"계"},{"$f":"Q9&\"/\"&R9","v":"4/2"},null,"대우유토피아",42,{"$f":"IF(AI9=\"\",\"\",$AJ$2)","v":"A-"},"A","A+","B+",{"$f":"IF(AI9=\"\",\"\",$AN$2)","v":"C"},{"$f":"IF(N9=\"\",\"\",IF(N9>=$AO$1/100,\"O\",\"X\"))","v":""},{"$f":"IF(I9=\"\",\"\",IF(I9<=$AP$1,\"O\",\"X\"))","v":""},{"$f":"IF(O9=\"\",\"\",IF(O9<=$AQ$1,\"O\",\"X\"))","v":"O"},{"$f":"IF(M9=\"\",\"\",IF(M9<=$AR$1,\"O\",\"X\"))","v":"O"},"X",{"$f":"IF(OR(F9=\"\",AI9=\"\"),\"\",IF(AND((F9<=85),(AI9>=15)),\"O\",\"X\"))","v":"X"},{"$f":"IF(C9=\"\",\"\",IF(C9>=$AU$1,\"O\",\"X\"))","v":"O"},{"$f":"IF(AO9=\"\",\"\",IF(AND(AO9=\"O\",AP9=\"O\",AR9=\"O\",AT9=\"O\",AU9=\"O\"),\"후보\",\"X\"))","v":""}]
["대우유토피아","'94.12",2041,162.69999999999999,49,140.30000000000001,43,120,null,null,null,null,{"$f":"I10-K10","v":0},{"$f":"IF(ISERROR(K10/I10),\"\",K10/I10)","v":""},{"$f":"I10/E10","v":0},{"$f":"K10/E10","v":0},4,2,"계",162,null,null,162.69999999999999,49,120,0,{"$f":"K10","v":0},0,"",0,{"$f":"S10","v":"계"},{"$f":"Q10&\"/\"&R10","v":"4/2"},null,"대우유토피아",49,{"$f":"IF(AI10=\"\",\"\",$AJ$2)","v":"A-"},"A","A+","B+",{"$f":"IF(AI10=\"\",\"\",$AN$2)","v":"C"},{"$f":"IF(N10=\"\",\"\",IF(N10>=$AO$1/100,\"O\",\"X\"))","v":""},{"$f":"IF(I10=\"\",\"\",IF(I10<=$AP$1,\"O\",\"X\"))","v":""},{"$f":"IF(O10=\"\",\"\",IF(O10<=$AQ$1,\"O\",\"X\"))","v":"O"},{"$f":"IF(M10=\"\",\"\",IF(M10<=$AR$1,\"O\",\"X\"))","v":"O"},"X",{"$f":"IF(OR(F10=\"\",AI10=\"\"),\"\",IF(AND((F10<=85),(AI10>=15)),\"O\",\"X\"))","v":"X"},{"$f":"IF(C10=\"\",\"\",IF(C10>=$AU$1,\"O\",\"X\"))","v":"O"},{"$f":"IF(AO10=\"\",\"\",IF(AND(AO10=\"O\",AP10=\"O\",AR10=\"O\",AT10=\"O\",AU10=\"O\"),\"후보\",\"X\"))","v":""}]
[null,null,null,null,null,null,null,null,null,null,null,null,null,null,null,null,null,null,null,null,null,null,{"$f":"$A$4&\" \"&A12&\"(\"&B12&\",\"&C12&\"^)\"","v":"어방동 어방동원('98.04,900^)"},null,null,null,null,null,null,null,null,null,null,"",""]
["어방동원","'98.04",900,74.3,23,59.9,18,360,null,null,null,null,{"$f":"I12-K12","v":0},{"$f":"IF(ISERROR(K12/I12),\"\",K12/I12)","v":""},{"$f":"I12/E12","v":0},{"$f":"K12/E12","v":0},3,1,"계",74,null,null,{"$f":"D12","v":74.3},23,{"$f":"H12","v":360},0,{"$f":"K12","v":0},{"$f":"M12","v":0},"",0,{"$f":"S12","v":"계"},{"$f":"Q12&\"/\"&R12","v":"3/1"},null,"어방동원",23,{"$f":"IF(AI12=\"\",\"\",$AJ$2)","v":"A-"},"A","A+","B+",{"$f":"IF(AI12=\"\",\"\",$AN$2)","v":"C"},{"$f":"IF(N12=\"\",\"\",IF(N12>=$AO$1/100,\"O\",\"X\"))","v":""},{"$f":"IF(I12=\"\",\"\",IF(I12<=$AP$1,\"O\",\"X\"))","v":""},{"$f":"IF(O12=\"\",\"\",IF(O12<=$AQ$1,\"O\",\"X\"))","v":"O"},{"$f":"IF(M12=\"\",\"\",IF(M12<=$AR$1,\"O\",\"X\"))","v":"O"},"X",{"$f":"IF(OR(F12=\"\",AI12=\"\"),\"\",IF(AND((F12<=85),(AI12>=15)),\"O\",\"X\"))","v":"O"},{"$f":"IF(C12=\"\",\"\",IF(C12>=$AU$1,\"O\",\"X\"))","v":"O"},{"$f":"IF(AO12=\"\",\"\",IF(AND(AO12=\"O\",AP12=\"O\",AR12=\"O\",AT12=\"O\",AU12=\"O\"),\"후보\",\"X\"))","v":""}]
["어방동원","'98.04",900,88.9,27,71.599999999999994,22,60,null,null,null,null,{"$f":"I13-K13","v":0},{"$f":"IF(ISERROR(K13/I13),\"\",K13/I13)","v":""},{"$f":"I13/E13","v":0},{"$f":"K13/E13","v":0},3,1,"계",88,null,null,88.9,27,60,0,{"$f":"K13","v":0},0,"",0,{"$f":"S13","v":"계"},{"$f":"Q13&\"/\"&R13","v":"3/1"},null,"어방동원",27,{"$f":"IF(AI13=\"\",\"\",$AJ$2)","v":"A-"},"A","A+","B+",{"$f":"IF(AI13=\"\",\"\",$AN$2)","v":"C"},{"$f":"IF(N13=\"\",\"\",IF(N13>=$AO$1/100,\"O\",\"X\"))","v":""},{"$f":"IF(I13=\"\",\"\",IF(I13<=$AP$1,\"O\",\"X\"))","v":""},{"$f":"IF(O13=\"\",\"\",IF(O13<=$AQ$1,\"O\",\"X\"))","v":"O"},{"$f":"IF(M13=\"\",\"\",IF(M13<=$AR$1,\"O\",\"X\"))","v":"O"},"X",{"$f":"IF(OR(F13=\"\",AI13=\"\"),\"\",IF(AND((F13<=85),(AI13>=15)),\"O\",\"X\"))","v":"O"},{"$f":"IF(C13=\"\",\"\",IF(C13>=$AU$1,\"O\",\"X\"))","v":"O"},{"$f":"IF(AO13=\"\",\"\",IF(AND(AO13=\"O\",AP13=\"O\",AR13=\"O\",AT13=\"O\",AU13=\"O\"),\"후보\",\"X\"))","v":""}]
["어방동원","'98.04",900,105.4,32,84.9,26,480,null,null,null,null,{"$f":"I14-K14","v":0},{"$f":"IF(ISERROR(K14/I14),\"\",K14/I14)","v":""},{"$f":"I14/E14","v":0},{"$f":"K14/E14","v":0},3,2,"계",105,null,null,105.4,32,480,0,{"$f":"K14","v":0},0,"",0,{"$f":"S14","v":"계"},{"$f":"Q14&\"/\"&R14","v":"3/2"},null,"어방동원",32,{"$f":"IF(AI14=\"\",\"\",$AJ$2)","v":"A-"},"A","A+","B+",{"$f":"IF(AI14=\"\",\"\",$AN$2)","v":"C"},{"$f":"IF(N14=\"\",\"\",IF(N14>=$AO$1/100,\"O\",\"X\"))","v":""},{"$f":"IF(I14=\"\",\"\",IF(I14<=$AP$1,\"O\",\"X\"))","v":""},{"$f":"IF(O14=\"\",\"\",IF(O14<=$AQ$1,\"O\",\"X\"))","v":"O"},{"$f":"IF(M14=\"\",\"\",IF(M14<=$AR$1,\"O\",\"X\"))","v":"O"},"X",{"$f":"IF(OR(F14=\"\",AI14=\"\"),\"\",IF(AND((F14<=85),(AI14>=15)),\"O\",\"X\"))","v":"O"},{"$f":"IF(C14=\"\",\"\",IF(C14>=$AU$1,\"O\",\"X\"))","v":"O"},{"$f":"IF(AO14=\"\",\"\",IF(AND(AO14=\"O\",AP14=\"O\",AR14=\"O\",AT14=\"O\",AU14=\"O\"),\"후보\",\"X\"))","v":""}]
[null,null,null,null,null,null,null,null,null,null,null,null,null,null,null,null,null,null,null,null,null,null,{"$f":"$A$4&\" \"&A16&\"(\"&B16&\",\"&C16&\"^)\"","v":"어방동 어방화인('96.12,727^)"},null,null,null,null,null,null,null,null,null,null,"",""]
["어방화인","'96.12",727,79.3,24,59.8,18,630,null,null,null,null,{"$f":"I16-K16","v":0},{"$f":"IF(ISERROR(K16/I16),\"\",K16/I16)","v":""},{"$f":"I16/E16","v":0},{"$f":"K16/E16","v":0},3,1,"계",79,null,null,{"$f":"D16","v":79.3},{"$f":"E16","v":24},{"$f":"H16","v":630},{"$f":"I16","v":0},{"$f":"K16","v":0},{"$f":"M16","v":0},"",0,{"$f":"S16","v":"계"},{"$f":"Q16&\"/\"&R16","v":"3/1"},null,"어방화인",24,{"$f":"IF(AI16=\"\",\"\",$AJ$2)","v":"A-"},"A","A+","B+",{"$f":"IF(AI16=\"\",\"\",$AN$2)","v":"C"},{"$f":"IF(N16=\"\",\"\",IF(N16>=$AO$1/100,\"O\",\"X\"))","v":""},{"$f":"IF(I16=\"\",\"\",IF(I16<=$AP$1,\"O\",\"X\"))","v":""},{"$f":"IF(O16=\"\",\"\",IF(O16<=$AQ$1,\"O\",\"X\"))","v":"O"},{"$f":"IF(M16=\"\",\"\",IF(M16<=$AR$1,\"O\",\"X\"))","v":"O"},"X",{"$f":"IF(OR(F16=\"\",AI16=\"\"),\"\",IF(AND((F16<=85),(AI16>=15)),\"O\",\"X\"))","v":"O"},{"$f":"IF(C16=\"\",\"\",IF(C16>=$AU$1,\"O\",\"X\"))","v":"O"},{"$f":"IF(AO16=\"\",\"\",IF(AND(AO16=\"O\",AP16=\"O\",AR16=\"O\",AT16=\"O\",AU16=\"O\"),\"후보\",\"X\"))","v":""}]
["어방화인","'96.12",727,106.2,32,84.8,26,97,null,null,null,null,{"$f":"I17-K17","v":0},{"$f":"IF(ISERROR(K17/I17),\"\",K17/I17)","v":""},{"$f":"I17/E17","v":0},{"$f":"K17/E17","v":0},3,2,"계",106,null,null,{"$f":"D17","v":106.2},{"$f":"E17","v":32},{"$f":"H17","v":97},{"$f":"I17","v":0},{"$f":"K17","v":0},0,"",0,{"$f":"S17","v":"계"},{"$f":"Q17&\"/\"&R17","v":"3/2"},null,"어방화인",32,{"$f":"IF(AI17=\"\",\"\",$AJ$2)","v":"A-"},"A","A+","B+",{"$f":"IF(AI17=\"\",\"\",$AN$2)","v":"C"},{"$f":"IF(N17=\"\",\"\",IF(N17>=$AO$1/100,\"O\",\"X\"))","v":""},{"$f":"IF(I17=\"\",\"\",IF(I17<=$AP$1,\"O\",\"X\"))","v":""},{"$f":"IF(O17=\"\",\"\",IF(O17<=$AQ$1,\"O\",\"X\"))","v":"O"},{"$f":"IF(M17=\"\",\"\",IF(M17<=$AR$1,\"O\",\"X\"))","v":"O"},"X",{"$f":"IF(OR(F17=\"\",AI17=\"\"),\"\",IF(AND((F17<=85),(AI17>=15)),\"O\",\"X\"))","v":"O"},{"$f":"IF(C17=\"\",\"\",IF(C17>=$AU$1,\"O\",\"X\"))","v":"O"},{"$f":"IF(AO17=\"\",\"\",IF(AND(AO17=\"O\",AP17=\"O\",AR17=\"O\",AT17=\"O\",AU17=\"O\"),\"후보\",\"X\"))","v":""}]
[null,null,null,null,null,null,null,null,null,null,null,null,null,null,null,null,null,null,null,null,null,null,{"$f":"$A$4&\" \"&A19&\"(\"&B19&\",\"&C19&\"^)\"","v":"어방동 김해신성미소지움('08.11,358^)"},null,null,null,null,null,null,null,null,null,null,"",""]
["김해신성미소지움","'08.11",358,96.6,29,71.900000000000006,22,74,null,null,null,null,{"$f":"I19-K19","v":0},{"$f":"IF(ISERROR(K19/I19),\"\",K19/I19)","v":""},{"$f":"I19/E19","v":0},{"$f":"K19/E19","v":0},3,2,"계",96,null,null,{"$f":"D19","v":96.6},29,{"$f":"H19","v":74},0,{"$f":"K19","v":0},{"$f":"M19","v":0},"",0,{"$f":"S19","v":"계"},{"$f":"Q19&\"/\"&R19","v":"3/2"},null,"김해신성미소지움",29,{"$f":"IF(AI19=\"\",\"\",$AJ$2)","v":"A-"},"A","A+","B+",{"$f":"IF(AI19=\"\",\"\",$AN$2)","v":"C"},{"$f":"IF(N19=\"\",\"\",IF(N19>=$AO$1/100,\"O\",\"X\"))","v":""},{"$f":"IF(I19=\"\",\"\",IF(I19<=$AP$1,\"O\",\"X\"))","v":""},{"$f":"IF(O19=\"\",\"\",IF(O19<=$AQ$1,\"O\",\"X\"))","v":"O"},{"$f":"IF(M19=\"\",\"\",IF(M19<=$AR$1,\"O\",\"X\"))","v":"O"},"X",{"$f":"IF(OR(F19=\"\",AI19=\"\"),\"\",IF(AND((F19<=85),(AI19>=15)),\"O\",\"X\"))","v":"O"},{"$f":"IF(C19=\"\",\"\",IF(C19>=$AU$1,\"O\",\"X\"))","v":"O"},{"$f":"IF(AO19=\"\",\"\",IF(AND(AO19=\"O\",AP19=\"O\",AR19=\"O\",AT19=\"O\",AU19=\"O\"),\"후보\",\"X\"))","v":""}]
["김해신성미소지움","'08.11",358,103.6,31,78.7,24,105,null,null,null,null,{"$f":"I20-K20","v":0},{"$f":"IF(ISERROR(K20/I20),\"\",K20/I20)","v":""},{"$f":"I20/E20","v":0},{"$f":"K20/E20","v":0},3,2,"계",103,null,null,103.6,31,105,0,{"$f":"K20","v":0},0,"",0,{"$f":"S20","v":"계"},{"$f":"Q20&\"/\"&R20","v":"3/2"},null,"김해신성미소지움",31,{"$f":"IF(AI20=\"\",\"\",$AJ$2)","v":"A-"},"A","A+","B+",{"$f":"IF(AI20=\"\",\"\",$AN$2)","v":"C"},{"$f":"IF(N20=\"\",\"\",IF(N20>=$AO$1/100,\"O\",\"X\"))","v":""},{"$f":"IF(I20=\"\",\"\",IF(I20<=$AP$1,\"O\",\"X\"))","v":""},{"$f":"IF(O20=\"\",\"\",IF(O20<=$AQ$1,\"O\",\"X\"))","v":"O"},{"$f":"IF(M20=\"\",\"\",IF(M20<=$AR$1,\"O\",\"X\"))","v":"O"},"X",{"$f":"IF(OR(F20=\"\",AI20=\"\"),\"\",IF(AND((F20<=85),(AI20>=15)),\"O\",\"X\"))","v":"O"},{"$f":"IF(C20=\"\",\"\",IF(C20>=$AU$1,\"O\",\"X\"))","v":"O"},{"$f":"IF(AO20=\"\",\"\",IF(AND(AO20=\"O\",AP20=\"O\",AR20=\"O\",AT20=\"O\",AU20=\"O\"),\"후보\",\"X\"))","v":""}]
["김해신성미소지움","'08.11",358,110.7,34,84.5,26,119,null,null,null,null,{"$f":"I21-K21","v":0},{"$f":"IF(ISERROR(K21/I21),\"\",K21/I21)","v":""},{"$f":"I21/E21","v":0},{"$f":"K21/E21","v":0},3,2,"계",110,null,null,110.7,34,119,0,{"$f":"K21","v":0},0,"",0,{"$f":"S21","v":"계"},{"$f":"Q21&\"/\"&R21","v":"3/2"},null,"김해신성미소지움",34,{"$f":"IF(AI21=\"\",\"\",$AJ$2)","v":"A-"},"A","A+","B+",{"$f":"IF(AI21=\"\",\"\",$AN$2)","v":"C"},{"$f":"IF(N21=\"\",\"\",IF(N21>=$AO$1/100,\"O\",\"X\"))","v":""},{"$f":"IF(I21=\"\",\"\",IF(I21<=$AP$1,\"O\",\"X\"))","v":""},{"$f":"IF(O21=\"\",\"\",IF(O21<=$AQ$1,\"O\",\"X\"))","v":"O"},{"$f":"IF(M21=\"\",\"\",IF(M21<=$AR$1,\"O\",\"X\"))","v":"O"},"X",{"$f":"IF(OR(F21=\"\",AI21=\"\"),\"\",IF(AND((F21<=85),(AI21>=15)),\"O\",\"X\"))","v":"O"},{"$f":"IF(C21=\"\",\"\",IF(C21>=$AU$1,\"O\",\"X\"))","v":"O"},{"$f":"IF(AO21=\"\",\"\",IF(AND(AO21=\"O\",AP21=\"O\",AR21=\"O\",AT21=\"O\",AU21=\"O\"),\"후보\",\"X\"))","v":""}]
["김해신성미소지움","'08.11",358,152.19999999999999,46,120.8,37,60,null,null,null,null,{"$f":"I22-K22","v":0},{"$f":"IF(ISERROR(K22/I22),\"\",K22/I22)","v":""},{"$f":"I22/E22","v":0},{"$f":"K22/E22","v":0},4,2,"계",152,null,null,152.19999999999999,46,60,0,{"$f":"K22","v":0},0,"",0,{"$f":"S22","v":"계"},{"$f":"Q22&\"/\"&R22","v":"4/2"},null,"김해신성미소지움",46,{"$f":"IF(AI22=\"\",\"\",$AJ$2)","v":"A-"},"A","A+","B+",{"$f":"IF(AI22=\"\",\"\",$AN$2)","v":"C"},{"$f":"IF(N22=\"\",\"\",IF(N22>=$AO$1/100,\"O\",\"X\"))","v":""},{"$f":"IF(I22=\"\",\"\",IF(I22<=$AP$1,\"O\",\"X\"))","v":""},{"$f":"IF(O22=\"\",\"\",IF(O22<=$AQ$1,\"O\",\"X\"))","v":"O"},{"$f":"IF(M22=\"\",\"\",IF(M22<=$AR$1,\"O\",\"X\"))","v":"O"},"X",{"$f":"IF(OR(F22=\"\",AI22=\"\"),\"\",IF(AND((F22<=85),(AI22>=15)),\"O\",\"X\"))","v":"X"},{"$f":"IF(C22=\"\",\"\",IF(C22>=$AU$1,\"O\",\"X\"))","v":"O"},{"$f":"IF(AO22=\"\",\"\",IF(AND(AO22=\"O\",AP22=\"O\",AR22=\"O\",AT22=\"O\",AU22=\"O\"),\"후보\",\"X\"))","v":""}]
[null,null,null,null,null,null,null,null,null,null,null,null,null,null,null,null,null,null,null,null,null,null,{"$f":"$A$4&\" \"&A24&\"(\"&B24&\",\"&C24&\"^)\"","v":"어방동 시영('91.02,318^)"},null,null,null,null,null,null,null,null,null,null,"",""]
["시영","'91.02",318,70.599999999999994,21,49.9,15,101,null,null,null,null,{"$f":"I24-K24","v":0},{"$f":"IF(ISERROR(K24/I24),\"\",K24/I24)","v":""},{"$f":"I24/E24","v":0},{"$f":"K24/E24","v":0},3,1,"복",70,null,null,{"$f":"D24","v":70.599999999999994},21,{"$f":"H24","v":101},0,{"$f":"K24","v":0},{"$f":"M24","v":0},"",0,{"$f":"S24","v":"복"},{"$f":"Q24&\"/\"&R24","v":"3/1"},null,"시영",21,{"$f":"IF(AI24=\"\",\"\",$AJ$2)","v":"A-"},"A","A+","B+",{"$f":"IF(AI24=\"\",\"\",$AN$2)","v":"C"},{"$f":"IF(N24=\"\",\"\",IF(N24>=$AO$1/100,\"O\",\"X\"))","v":""},{"$f":"IF(I24=\"\",\"\",IF(I24<=$AP$1,\"O\",\"X\"))","v":""},{"$f":"IF(O24=\"\",\"\",IF(O24<=$AQ$1,\"O\",\"X\"))","v":"O"},{"$f":"IF(M24=\"\",\"\",IF(M24<=$AR$1,\"O\",\"X\"))","v":"O"},"X",{"$f":"IF(OR(F24=\"\",AI24=\"\"),\"\",IF(AND((F24<=85),(AI24>=15)),\"O\",\"X\"))","v":"O"},{"$f":"IF(C24=\"\",\"\",IF(C24>=$AU$1,\"O\",\"X\"))","v":"O"},{"$f":"IF(AO24=\"\",\"\",IF(AND(AO24=\"O\",AP24=\"O\",AR24=\"O\",AT24=\"O\",AU24=\"O\"),\"후보\",\"X\"))","v":""}]
["시영","'91.02",318,84.5,26,59.8,18,101,null,null,null,null,{"$f":"I25-K25","v":0},{"$f":"IF(ISERROR(K25/I25),\"\",K25/I25)","v":""},{"$f":"I25/E25","v":0},{"$f":"K25/E25","v":0},3,1,"복","84A",null,null,84.5,26,101,0,{"$f":"K25","v":0},0,"",0,{"$f":"S25","v":"복"},{"$f":"Q25&\"/\"&R25","v":"3/1"},null,"시영",26,{"$f":"IF(AI25=\"\",\"\",$AJ$2)","v":"A-"},"A","A+","B+",{"$f":"IF(AI25=\"\",\"\",$AN$2)","v":"C"},{"$f":"IF(N25=\"\",\"\",IF(N25>=$AO$1/100,\"O\",\"X\"))","v":""},{"$f":"IF(I25=\"\",\"\",IF(I25<=$AP$1,\"O\",\"X\"))","v":""},{"$f":"IF(O25=\"\",\"\",IF(O25<=$AQ$1,\"O\",\"X\"))","v":"O"},{"$f":"IF(M25=\"\",\"\",IF(M25<=$AR$1,\"O\",\"X\"))","v":"O"},"X",{"$f":"IF(OR(F25=\"\",AI25=\"\"),\"\",IF(AND((F25<=85),(AI25>=15)),\"O\",\"X\"))","v":"O"},{"$f":"IF(C25=\"\",\"\",IF(C25>=$AU$1,\"O\",\"X\"))","v":"O"},{"$f":"IF(AO25=\"\",\"\",IF(AND(AO25=\"O\",AP25=\"O\",AR25=\"O\",AT25=\"O\",AU25=\"O\"),\"후보\",\"X\"))","v":""}]
["시영","'91.02",318,86.7,26,59.9,18,116,null,null,null,null,{"$f":"I26-K26","v":0},{"$f":"IF(ISERROR(K26/I26),\"\",K26/I26)","v":""},{"$f":"I26/E26","v":0},{"$f":"K26/E26","v":0},3,1,"복","86B",null,null,86.7,26,116,0,{"$f":"K26","v":0},0,"",0,{"$f":"S26","v":"복"},{"$f":"Q26&\"/\"&R26","v":"3/1"},null,"시영",26,{"$f":"IF(AI26=\"\",\"\",$AJ$2)","v":"A-"},"A","A+","B+",{"$f":"IF(AI26=\"\",\"\",$AN$2)","v":"C"},{"$f":"IF(N26=\"\",\"\",IF(N26>=$AO$1/100,\"O\",\"X\"))","v":""},{"$f":"IF(I26=\"\",\"\",IF(I26<=$AP$1,\"O\",\"X\"))","v":""},{"$f":"IF(O26=\"\",\"\",IF(O26<=$AQ$1,\"O\",\"X\"))","v":"O"},{"$f":"IF(M26=\"\",\"\",IF(M26<=$AR$1,\"O\",\"X\"))","v":"O"},"X",{"$f":"IF(OR(F26=\"\",AI26=\"\"),\"\",IF(AND((F26<=85),(AI26>=15)),\"O\",\"X\"))","v":"O"},{"$f":"IF(C26=\"\",\"\",IF(C26>=$AU$1,\"O\",\"X\"))","v":"O"},{"$f":"IF(AO26=\"\",\"\",IF(AND(AO26=\"O\",AP26=\"O\",AR26=\"O\",AT26=\"O\",AU26=\"O\"),\"후보\",\"X\"))","v":""}]

{"sheet":"구포동","index":22,"n_rows":71,"n_cols":48,"rows_kept":71,"cut":false,"hidden":false,"merged":[[0,35,0,39]]}
[{"$f":"단지추출!A1","v":"구미시"},null,null,null,null,null,null,null,"추출대상",null,null,null,null,null,null,null,null,null,null,null,null,null,null,"매매가 최대(색상 최대)",null,null,{"$f":"단지추출!AA1","v":70000},null,null,null,null,null,null,{"$f":"A1","v":"구미시"},null,{"$f":"A1&\" 전체 등급\"","v":"구미시 전체 등급"},null,null,null,null,{"$f":"단지추출!AO1","v":80},{"$f":"단지추출!AP1","v":45000},{"$f":"단지추출!AQ1","v":1000},{"$f":"단지추출!AR1","v":6000},null,null,{"$f":"단지추출!AU1","v":300}]
[{"$f":"단지추출!A2","v":"2022-01-01"},null,null,null,null,null,null,null,null,null,null,null,null,null,null,null,null,null,null,null,null,null,null,"매매가 최소(색상 최소)",null,null,{"$f":"단지추출!AA2","v":10000},null,null,null,null,null,null,{"$f":"AH1 &\" \" &A4","v":"구미시 외동"},null,{"$f":"단지추출!AJ2","v":"A-"},{"$f":"단지추출!AK2","v":"A"},{"$f":"단지추출!AL2","v":"A"},{"$f":"단지추출!AM2","v":"A"},{"$f":"단지추출!AN2","v":"C"},"원금보전",null,null,"수익성",null,"환금성"]
["단지명","입주\n연도","총세\n대수","공급\n(m2)","공급\n면적","전용\n(m2)","전용\n면적","세대","매매\n최저가","층","전세\n최고가","층","매전갭","전세\n가율","매매\n평단","전세\n평단","방","욕\n실","구\n조","매/전/월\nType","비고",null,"공급\n(m2)","공급\n면적","세대","매매가","전세가","매전갭","전세\n가율","평단가","구\n조","방/\n욕실",null,{"$f":"IF(A3=\"\",\"\",A3)","v":"단지명"},{"$f":"IF(E3=\"\",\"\",E3)","v":"공급\n면적"},"직장","교통","학군","환경","공급",{"$f":"\"전세가율★\n(\"&AO1&\"%↑)\"","v":"전세가율★\n(80%↑)"},{"$f":"\"절대가★\n(\"&AP1/10000&\"억↓)\"","v":"절대가★\n(4.5억↓)"},{"$f":"\"지역평단가\n(\"&AQ1&\"↓)\"","v":"지역평단가\n(1000↓)"},{"$f":"\"투자규모★\n(갭\"&AR1/1000&\"천↓)\"","v":"투자규모★\n(갭6천↓)"},"전고점\n이하","평형★\n(15~34평)",{"$f":"\"단지규모★\n(\"&AU1&\"^↑)\"","v":"단지규모★\n(300^↑)"},"투자후보"]
["외동",null,null,null,null,null,null,null,null,null,null,null,null,null,null,null,null,null,null,null,null,null,null,null,null,null,null,null,null,null,null,null,null,null,""]
[null,null,null,null,null,null,null,null,null,null,null,null,null,null,null,null,null,null,null,null,null,null,{"$f":"$A$4&\" \"&A6&\"(\"&B6&\",\"&C6&\"^)\"","v":"외동 한국2차('98.12,2250^)"},null,null,null,null,null,null,null,null,null,null,{"$f":"IF(A5=\"\",\"\",A5)","v":""},""]
["한국2차","'98.12",2250,35.6,11,27.6,8,390,null,null,null,null,{"$f":"I6-K6","v":0},{"$f":"IF(ISERROR(K6/I6),\"\",K6/I6)","v":""},{"$f":"I6/E6","v":0},{"$f":"K6/E6","v":0},1,1,"복",35,null,null,{"$f":"D6","v":35.6},{"$f":"E6","v":11},{"$f":"H6","v":390},{"$f":"I6","v":0},{"$f":"K6","v":0},{"$f":"M6","v":0},"",0,{"$f":"S6","v":"복"},{"$f":"Q6&\"/\"&R6","v":"1/1"},null,"한국2차",11,{"$f":"IF(AI6=\"\",\"\",$AJ$2)","v":"A-"},"A","A+","B+",{"$f":"IF(AI6=\"\",\"\",$AN$2)","v":"C"},{"$f":"IF(N6=\"\",\"\",IF(N6>=$AO$1/100,\"O\",\"X\"))","v":""},{"$f":"IF(I6=\"\",\"\",IF(I6<=$AP$1,\"O\",\"X\"))","v":""},{"$f":"IF(O6=\"\",\"\",IF(O6<=$AQ$1,\"O\",\"X\"))","v":"O"},{"$f":"IF(M6=\"\",\"\",IF(M6<=$AR$1,\"O\",\"X\"))","v":"O"},"X",{"$f":"IF(OR(F6=\"\",AI6=\"\"),\"\",IF(AND((F6<=85),(AI6>=15)),\"O\",\"X\"))","v":"X"},{"$f":"IF(C6=\"\",\"\",IF(C6>=$AU$1,\"O\",\"X\"))","v":"O"},{"$f":"IF(AO6=\"\",\"\",IF(AND(AO6=\"O\",AP6=\"O\",AR6=\"O\",AT6=\"O\",AU6=\"O\"),\"후보\",\"X\"))","v":""}]
["한국2차","'98.12",2250,69.900000000000006,21,59.9,18,1380,null,null,null,null,{"$f":"I7-K7","v":0},{"$f":"IF(ISERROR(K7/I7),\"\",K7/I7)","v":""},{"$f":"I7/E7","v":0},{"$f":"K7/E7","v":0},3,1,"계","69A",null,null,{"$f":"D7","v":69.900000000000006},{"$f":"E7","v":21},{"$f":"H7","v":1380},{"$f":"I7","v":0},{"$f":"K7","v":0},0,"",0,{"$f":"S7","v":"계"},{"$f":"Q7&\"/\"&R7","v":"3/1"},null,"한국2차",21,{"$f":"IF(AI7=\"\",\"\",$AJ$2)","v":"A-"},"A","A+","B+",{"$f":"IF(AI7=\"\",\"\",$AN$2)","v":"C"},{"$f":"IF(N7=\"\",\"\",IF(N7>=$AO$1/100,\"O\",\"X\"))","v":""},{"$f":"IF(I7=\"\",\"\",IF(I7<=$AP$1,\"O\",\"X\"))","v":""},{"$f":"IF(O7=\"\",\"\",IF(O7<=$AQ$1,\"O\",\"X\"))","v":"O"},{"$f":"IF(M7=\"\",\"\",IF(M7<=$AR$1,\"O\",\"X\"))","v":"O"},"X",{"$f":"IF(OR(F7=\"\",AI7=\"\"),\"\",IF(AND((F7<=85),(AI7>=15)),\"O\",\"X\"))","v":"O"},{"$f":"IF(C7=\"\",\"\",IF(C7>=$AU$1,\"O\",\"X\"))","v":"O"},{"$f":"IF(AO7=\"\",\"\",IF(AND(AO7=\"O\",AP7=\"O\",AR7=\"O\",AT7=\"O\",AU7=\"O\"),\"후보\",\"X\"))","v":""}]
[null,null,null,null,null,null,null,null,null,null,null,null,null,null,null,null,null,null,null,null,null,null,{"$f":"$A$4&\" \"&A9&\"(\"&B9&\",\"&C9&\"^)\"","v":"외동 일동한신('99.12,1740^)"},null,null,null,null,null,null,null,null,null,null,"",""]
["일동한신","'99.12",1740,75,23,60,18,268,null,null,null,null,{"$f":"I9-K9","v":0},{"$f":"IF(ISERROR(K9/I9),\"\",K9/I9)","v":""},{"$f":"I9/E9","v":0},{"$f":"K9/E9","v":0},3,1,"계",75,null,null,{"$f":"D9","v":75},23,{"$f":"H9","v":268},0,{"$f":"K9","v":0},{"$f":"M9","v":0},"",0,{"$f":"S9","v":"계"},{"$f":"Q9&\"/\"&R9","v":"3/1"},null,"일동한신",23,{"$f":"IF(AI9=\"\",\"\",$AJ$2)","v":"A-"},"A","A+","B+",{"$f":"IF(AI9=\"\",\"\",$AN$2)","v":"C"},{"$f":"IF(N9=\"\",\"\",IF(N9>=$AO$1/100,\"O\",\"X\"))","v":""},{"$f":"IF(I9=\"\",\"\",IF(I9<=$AP$1,\"O\",\"X\"))","v":""},{"$f":"IF(O9=\"\",\"\",IF(O9<=$AQ$1,\"O\",\"X\"))","v":"O"},{"$f":"IF(M9=\"\",\"\",IF(M9<=$AR$1,\"O\",\"X\"))","v":"O"},"X",{"$f":"IF(OR(F9=\"\",AI9=\"\"),\"\",IF(AND((F9<=85),(AI9>=15)),\"O\",\"X\"))","v":"O"},{"$f":"IF(C9=\"\",\"\",IF(C9>=$AU$1,\"O\",\"X\"))","v":"O"},{"$f":"IF(AO9=\"\",\"\",IF(AND(AO9=\"O\",AP9=\"O\",AR9=\"O\",AT9=\"O\",AU9=\"O\"),\"후보\",\"X\"))","v":""}]
["일동한신","'99.12",1740,87.4,26,72.3,22,204,null,null,null,null,{"$f":"I10-K10","v":0},{"$f":"IF(ISERROR(K10/I10),\"\",K10/I10)","v":""},{"$f":"I10/E10","v":0},{"$f":"K10/E10","v":0},3,1,"계",87,null,null,87.4,26,204,0,{"$f":"K10","v":0},0,"",0,{"$f":"S10","v":"계"},{"$f":"Q10&\"/\"&R10","v":"3/1"},null,"일동한신",26,{"$f":"IF(AI10=\"\",\"\",$AJ$2)","v":"A-"},"A","A+","B+",{"$f":"IF(AI10=\"\",\"\",$AN$2)","v":"C"},{"$f":"IF(N10=\"\",\"\",IF(N10>=$AO$1/100,\"O\",\"X\"))","v":""},{"$f":"IF(I10=\"\",\"\",IF(I10<=$AP$1,\"O\",\"X\"))","v":""},{"$f":"IF(O10=\"\",\"\",IF(O10<=$AQ$1,\"O\",\"X\"))","v":"O"},{"$f":"IF(M10=\"\",\"\",IF(M10<=$AR$1,\"O\",\"X\"))","v":"O"},"X",{"$f":"IF(OR(F10=\"\",AI10=\"\"),\"\",IF(AND((F10<=85),(AI10>=15)),\"O\",\"X\"))","v":"O"},{"$f":"IF(C10=\"\",\"\",IF(C10>=$AU$1,\"O\",\"X\"))","v":"O"},{"$f":"IF(AO10=\"\",\"\",IF(AND(AO10=\"O\",AP10=\"O\",AR10=\"O\",AT10=\"O\",AU10=\"O\"),\"후보\",\"X\"))","v":""}]
["일동한신","'99.12",1740,100,30,84.9,26,828,null,null,null,null,{"$f":"I11-K11","v":0},{"$f":"IF(ISERROR(K11/I11),\"\",K11/I11)","v":""},{"$f":"I11/E11","v":0},{"$f":"K11/E11","v":0},3,2,"계",99,null,null,100,30,828,0,{"$f":"K11","v":0},0,"",0,{"$f":"S11","v":"계"},{"$f":"Q11&\"/\"&R11","v":"3/2"},null,"일동한신",30,{"$f":"IF(AI11=\"\",\"\",$AJ$2)","v":"A-"},"A","A+","B+",{"$f":"IF(AI11=\"\",\"\",$AN$2)","v":"C"},{"$f":"IF(N11=\"\",\"\",IF(N11>=$AO$1/100,\"O\",\"X\"))","v":""},{"$f":"IF(I11=\"\",\"\",IF(I11<=$AP$1,\"O\",\"X\"))","v":""},{"$f":"IF(O11=\"\",\"\",IF(O11<=$AQ$1,\"O\",\"X\"))","v":"O"},{"$f":"IF(M11=\"\",\"\",IF(M11<=$AR$1,\"O\",\"X\"))","v":"O"},"X",{"$f":"IF(OR(F11=\"\",AI11=\"\"),\"\",IF(AND((F11<=85),(AI11>=15)),\"O\",\"X\"))","v":"O"},{"$f":"IF(C11=\"\",\"\",IF(C11>=$AU$1,\"O\",\"X\"))","v":"O"},{"$f":"IF(AO11=\"\",\"\",IF(AND(AO11=\"O\",AP11=\"O\",AR11=\"O\",AT11=\"O\",AU11=\"O\"),\"후보\",\"X\"))","v":""}]
["일동한신","'99.12",1740,115,35,99.9,30,236,null,null,null,null,{"$f":"I12-K12","v":0},{"$f":"IF(ISERROR(K12/I12),\"\",K12/I12)","v":""},{"$f":"I12/E12","v":0},{"$f":"K12/E12","v":0},4,2,"계",114,null,null,115,35,236,0,{"$f":"K12","v":0},0,"",0,{"$f":"S12","v":"계"},{"$f":"Q12&\"/\"&R12","v":"4/2"},null,"일동한신",35,{"$f":"IF(AI12=\"\",\"\",$AJ$2)","v":"A-"},"A","A+","B+",{"$f":"IF(AI12=\"\",\"\",$AN$2)","v":"C"},{"$f":"IF(N12=\"\",\"\",IF(N12>=$AO$1/100,\"O\",\"X\"))","v":""},{"$f":"IF(I12=\"\",\"\",IF(I12<=$AP$1,\"O\",\"X\"))","v":""},{"$f":"IF(O12=\"\",\"\",IF(O12<=$AQ$1,\"O\",\"X\"))","v":"O"},{"$f":"IF(M12=\"\",\"\",IF(M12<=$AR$1,\"O\",\"X\"))","v":"O"},"X",{"$f":"IF(OR(F12=\"\",AI12=\"\"),\"\",IF(AND((F12<=85),(AI12>=15)),\"O\",\"X\"))","v":"X"},{"$f":"IF(C12=\"\",\"\",IF(C12>=$AU$1,\"O\",\"X\"))","v":"O"},{"$f":"IF(AO12=\"\",\"\",IF(AND(AO12=\"O\",AP12=\"O\",AR12=\"O\",AT12=\"O\",AU12=\"O\"),\"후보\",\"X\"))","v":""}]
["일동한신","'99.12",1740,138.1,42,123,37,204,null,null,null,null,{"$f":"I13-K13","v":0},{"$f":"IF(ISERROR(K13/I13),\"\",K13/I13)","v":""},{"$f":"I13/E13","v":0},{"$f":"K13/E13","v":0},4,2,"계",138,null,null,138.1,42,204,0,{"$f":"K13","v":0},0,"",0,{"$f":"S13","v":"계"},{"$f":"Q13&\"/\"&R13","v":"4/2"},null,"일동한신",42,{"$f":"IF(AI13=\"\",\"\",$AJ$2)","v":"A-"},"A","A+","B+",{"$f":"IF(AI13=\"\",\"\",$AN$2)","v":"C"},{"$f":"IF(N13=\"\",\"\",IF(N13>=$AO$1/100,\"O\",\"X\"))","v":""},{"$f":"IF(I13=\"\",\"\",IF(I13<=$AP$1,\"O\",\"X\"))","v":""},{"$f":"IF(O13=\"\",\"\",IF(O13<=$AQ$1,\"O\",\"X\"))","v":"O"},{"$f":"IF(M13=\"\",\"\",IF(M13<=$AR$1,\"O\",\"X\"))","v":"O"},"X",{"$f":"IF(OR(F13=\"\",AI13=\"\"),\"\",IF(AND((F13<=85),(AI13>=15)),\"O\",\"X\"))","v":"X"},{"$f":"IF(C13=\"\",\"\",IF(C13>=$AU$1,\"O\",\"X\"))","v":"O"},{"$f":"IF(AO13=\"\",\"\",IF(AND(AO13=\"O\",AP13=\"O\",AR13=\"O\",AT13=\"O\",AU13=\"O\"),\"후보\",\"X\"))","v":""}]
[null,null,null,null,null,null,null,null,null,null,null,null,null,null,null,null,null,null,null,null,null,null,{"$f":"$A$4&\" \"&A15&\"(\"&B15&\",\"&C15&\"^)\"","v":"외동 한국1차('96.12,1530^)"},null,null,null,null,null,null,null,null,null,null,"",""]
["한국1차","'96.12",1530,51.3,16,39.6,12,180,null,null,null,null,{"$f":"I15-K15","v":0},{"$f":"IF(ISERROR(K15/I15),\"\",K15/I15)","v":""},{"$f":"I15/E15","v":0},{"$f":"K15/E15","v":0},2,1,"복",51,null,null,{"$f":"D15","v":51.3},16,{"$f":"H15","v":180},0,{"$f":"K15","v":0},{"$f":"M15","v":0},"",0,{"$f":"S15","v":"복"},{"$f":"Q15&\"/\"&R15","v":"2/1"},null,"한국1차",16,{"$f":"IF(AI15=\"\",\"\",$AJ$2)","v":"A-"},"A","A+","B+",{"$f":"IF(AI15=\"\",\"\",$AN$2)","v":"C"},{"$f":"IF(N15=\"\",\"\",IF(N15>=$AO$1/100,\"O\",\"X\"))","v":""},{"$f":"IF(I15=\"\",\"\",IF(I15<=$AP$1,\"O\",\"X\"))","v":""},{"$f":"IF(O15=\"\",\"\",IF(O15<=$AQ$1,\"O\",\"X\"))","v":"O"},{"$f":"IF(M15=\"\",\"\",IF(M15<=$AR$1,\"O\",\"X\"))","v":"O"},"X",{"$f":"IF(OR(F15=\"\",AI15=\"\"),\"\",IF(AND((F15<=85),(AI15>=15)),\"O\",\"X\"))","v":"O"},{"$f":"IF(C15=\"\",\"\",IF(C15>=$AU$1,\"O\",\"X\"))","v":"O"},{"$f":"IF(AO15=\"\",\"\",IF(AND(AO15=\"O\",AP15=\"O\",AR15=\"O\",AT15=\"O\",AU15=\"O\"),\"후보\",\"X\"))","v":""}]
["한국1차","'96.12",1530,58.8,18,49.4,15,270,null,null,null,null,0,"",0,0,2,1,"계","58A",null,null,58.8,18,270,0,0,0,"",0,"계","2/1",null,"한국1차",18,"A-","A","A+","B+","C","","","O","O","X","O","O",""]
["한국1차","'96.12",1530,58.9,18,49.4,15,210,null,null,null,null,0,"",0,0,2,1,"계","58B",null,null,58.9,18,210,0,0,0,"",0,"계","2/1",null,"한국1차",18,"A-","A","A+","B+","C","","","O","O","X","O","O",""]
["한국1차","'96.12",1530,59,18,49.6,15,360,null,null,null,null,0,"",0,0,2,1,"계","58C",null,null,59,18,360,0,0,0,"",0,"계","2/1",null,"한국1차",18,"A-","A","A+","B+","C","","","O","O","X","O","O",""]
["한국1차","'96.12",1530,59.1,18,49.7,15,270,null,null,null,null,0,"",0,0,2,1,"계","59D",null,null,59.1,18,270,0,0,0,"",0,"계","2/1",null,"한국1차",18,"A-","A","A+","B+","C","","","O","O","X","O","O",""]
["한국1차","'96.12",1530,69.099999999999994,21,59.5,18,240,null,null,null,null,0,"",0,0,3,1,"계",69,null,null,69.099999999999994,21,240,0,0,0,"",0,"계","3/1",null,"한국1차",21,"A-","A","A+","B+","C","","","O","O","X","O","O",""]
[null,null,null,null,null,null,null,null,null,null,null,null,null,null,null,null,null,null,null,null,null,null,{"$f":"$A$4&\" \"&A22&\"(\"&B22&\",\"&C22&\"^)\"","v":"외동 대동한마음타운('95.11,1440^)"},null,null,null,null,null,null,null,null,null,null,"",""]
["대동한마음타운","'95.11",1440,69.8,21,59.8,18,870,null,null,null,null,{"$f":"I22-K22","v":0},{"$f":"IF(ISERROR(K22/I22),\"\",K22/I22)","v":""},{"$f":"I22/E22","v":0},{"$f":"K22/E22","v":0},3,1,"계","69B",null,null,{"$f":"D22","v":69.8},{"$f":"E22","v":21},{"$f":"H22","v":870},{"$f":"I22","v":0},{"$f":"K22","v":0},{"$f":"M22","v":0},{"$f":"N22","v":""},{"$f":"O22","v":0},{"$f":"S22","v":"계"},{"$f":"Q22&\"/\"&R22","v":"3/1"},null,"대동한마음타운",21,{"$f":"IF(AI22=\"\",\"\",$AJ$2)","v":"A-"},"A","A+","B+",{"$f":"IF(AI22=\"\",\"\",$AN$2)","v":"C"},{"$f":"IF(N22=\"\",\"\",IF(N22>=$AO$1/100,\"O\",\"X\"))","v":""},{"$f":"IF(I22=\"\",\"\",IF(I22<=$AP$1,\"O\",\"X\"))","v":""},{"$f":"IF(O22=\"\",\"\",IF(O22<=$AQ$1,\"O\",\"X\"))","v":"O"},{"$f":"IF(M22=\"\",\"\",IF(M22<=$AR$1,\"O\",\"X\"))","v":"O"},"X",{"$f":"IF(OR(F22=\"\",AI22=\"\"),\"\",IF(AND((F22<=85),(AI22>=15)),\"O\",\"X\"))","v":"O"},{"$f":"IF(C22=\"\",\"\",IF(C22>=$AU$1,\"O\",\"X\"))","v":"O"},{"$f":"IF(AO22=\"\",\"\",IF(AND(AO22=\"O\",AP22=\"O\",AR22=\"O\",AT22=\"O\",AU22=\"O\"),\"후보\",\"X\"))","v":""}]
[null,null,null,null,null,null,null,null,null,null,null,null,null,null,null,null,null,null,null,null,null,null,{"$f":"$A$4&\" \"&A24&\"(\"&B24&\",\"&C24&\"^)\"","v":"외동 뜨란채('96.08,1350^)"},null,null,null,null,null,null,null,null,null,null,"",""]
["뜨란채","'96.08",1350,55.1,17,39.700000000000003,12,90,null,null,null,null,{"$f":"I24-K24","v":0},{"$f":"IF(ISERROR(K24/I24),\"\",K24/I24)","v":""},{"$f":"I24/E24","v":0},{"$f":"K24/E24","v":0},2,1,"복",55,null,null,{"$f":"D24","v":55.1},{"$f":"E24","v":17},{"$f":"H24","v":90},{"$f":"I24","v":0},{"$f":"K24","v":0},{"$f":"M24","v":0},"",0,{"$f":"S24","v":"복"},{"$f":"Q24&\"/\"&R24","v":"2/1"},null,"뜨란채",17,{"$f":"IF(AI24=\"\",\"\",$AJ$2)","v":"A-"},"A","A+","B+",{"$f":"IF(AI24=\"\",\"\",$AN$2)","v":"C"},{"$f":"IF(N24=\"\",\"\",IF(N24>=$AO$1/100,\"O\",\"X\"))","v":""},{"$f":"IF(I24=\"\",\"\",IF(I24<=$AP$1,\"O\",\"X\"))","v":""},{"$f":"IF(O24=\"\",\"\",IF(O24<=$AQ$1,\"O\",\"X\"))","v":"O"},{"$f":"IF(M24=\"\",\"\",IF(M24<=$AR$1,\"O\",\"X\"))","v":"O"},"X",{"$f":"IF(OR(F24=\"\",AI24=\"\"),\"\",IF(AND((F24<=85),(AI24>=15)),\"O\",\"X\"))","v":"O"},{"$f":"IF(C24=\"\",\"\",IF(C24>=$AU$1,\"O\",\"X\"))","v":"O"},{"$f":"IF(AO24=\"\",\"\",IF(AND(AO24=\"O\",AP24=\"O\",AR24=\"O\",AT24=\"O\",AU24=\"O\"),\"후보\",\"X\"))","v":""}]
["뜨란채","'96.08",1350,77.2,23,60,18,1260,null,null,null,null,{"$f":"I25-K25","v":0},{"$f":"IF(ISERROR(K25/I25),\"\",K25/I25)","v":""},{"$f":"I25/E25","v":0},{"$f":"K25/E25","v":0},3,1,"계",77,null,null,{"$f":"D25","v":77.2},{"$f":"E25","v":23},{"$f":"H25","v":1260},{"$f":"I25","v":0},{"$f":"K25","v":0},0,"",0,{"$f":"S25","v":"계"},{"$f":"Q25&\"/\"&R25","v":"3/1"},null,"뜨란채",23,{"$f":"IF(AI25=\"\",\"\",$AJ$2)","v":"A-"},"A","A+","B+",{"$f":"IF(AI25=\"\",\"\",$AN$2)","v":"C"},{"$f":"IF(N25=\"\",\"\",IF(N25>=$AO$1/100,\"O\",\"X\"))","v":""},{"$f":"IF(I25=\"\",\"\",IF(I25<=$AP$1,\"O\",\"X\"))","v":""},{"$f":"IF(O25=\"\",\"\",IF(O25<=$AQ$1,\"O\",\"X\"))","v":"O"},{"$f":"IF(M25=\"\",\"\",IF(M25<=$AR$1,\"O\",\"X\"))","v":"O"},"X",{"$f":"IF(OR(F25=\"\",AI25=\"\"),\"\",IF(AND((F25<=85),(AI25>=15)),\"O\",\"X\"))","v":"O"},{"$f":"IF(C25=\"\",\"\",IF(C25>=$AU$1,\"O\",\"X\"))","v":"O"},{"$f":"IF(AO25=\"\",\"\",IF(AND(AO25=\"O\",AP25=\"O\",AR25=\"O\",AT25=\"O\",AU25=\"O\"),\"후보\",\"X\"))","v":""}]
[null,null,null,null,null,null,null,null,null,null,null,null,null,null,null,null,null,null,null,null,null,null,{"$f":"$A$4&\" \"&A27&\"(\"&B27&\",\"&C27&\"^)\"","v":"외동 김해외동협성엘리시안('19.02,942^)"},null,null,null,null,null,null,null,null,null,null,"",""]
["김해외동협성엘리시안","'19.02",942,84.2,26,59.9,18,273,null,null,null,null,{"$f":"I27-K27","v":0},{"$f":"IF(ISERROR(K27/I27),\"\",K27/I27)","v":""},{"$f":"I27/E27","v":0},{"$f":"K27/E27","v":0},3,2,"계","84A",null,null,{"$f":"D27","v":84.2},26,{"$f":"H27","v":273},0,{"$f":"K27","v":0},{"$f":"M27","v":0},"",0,{"$f":"S27","v":"계"},{"$f":"Q27&\"/\"&R27","v":"3/2"},null,"김해외동협성엘리시안",26,{"$f":"IF(AI27=\"\",\"\",$AJ$2)","v":"A-"},"A","A+","B+",{"$f":"IF(AI27=\"\",\"\",$AN$2)","v":"C"},{"$f":"IF(N27=\"\",\"\",IF(N27>=$AO$1/100,\"O\",\"X\"))","v":""},{"$f":"IF(I27=\"\",\"\",IF(I27<=$AP$1,\"O\",\"X\"))","v":""},{"$f":"IF(O27=\"\",\"\",IF(O27<=$AQ$1,\"O\",\"X\"))","v":"O"},{"$f":"IF(M27=\"\",\"\",IF(M27<=$AR$1,\"O\",\"X\"))","v":"O"},"X",{"$f":"IF(OR(F27=\"\",AI27=\"\"),\"\",IF(AND((F27<=85),(AI27>=15)),\"O\",\"X\"))","v":"O"},{"$f":"IF(C27=\"\",\"\",IF(C27>=$AU$1,\"O\",\"X\"))","v":"O"},{"$f":"IF(AO27=\"\",\"\",IF(AND(AO27=\"O\",AP27=\"O\",AR27=\"O\",AT27=\"O\",AU27=\"O\"),\"후보\",\"X\"))","v":""}]
["김해외동협성엘리시안","'19.02",942,99,30,72,22,286,null,null,null,null,{"$f":"I28-K28","v":0},{"$f":"IF(ISERROR(K28/I28),\"\",K28/I28)","v":""},{"$f":"I28/E28","v":0},{"$f":"K28/E28","v":0},3,2,"계","98C",null,null,99,30,286,0,{"$f":"K28","v":0},0,"",0,{"$f":"S28","v":"계"},{"$f":"Q28&\"/\"&R28","v":"3/2"},null,"김해외동협성엘리시안",30,{"$f":"IF(AI28=\"\",\"\",$AJ$2)","v":"A-"},"A","A+","B+",{"$f":"IF(AI28=\"\",\"\",$AN$2)","v":"C"},{"$f":"IF(N28=\"\",\"\",IF(N28>=$AO$1/100,\"O\",\"X\"))","v":""},{"$f":"IF(I28=\"\",\"\",IF(I28<=$AP$1,\"O\",\"X\"))","v":""},{"$f":"IF(O28=\"\",\"\",IF(O28<=$AQ$1,\"O\",\"X\"))","v":"O"},{"$f":"IF(M28=\"\",\"\",IF(M28<=$AR$1,\"O\",\"X\"))","v":"O"},"X",{"$f":"IF(OR(F28=\"\",AI28=\"\"),\"\",IF(AND((F28<=85),(AI28>=15)),\"O\",\"X\"))","v":"O"},{"$f":"IF(C28=\"\",\"\",IF(C28>=$AU$1,\"O\",\"X\"))","v":"O"},{"$f":"IF(AO28=\"\",\"\",IF(AND(AO28=\"O\",AP28=\"O\",AR28=\"O\",AT28=\"O\",AU28=\"O\"),\"후보\",\"X\"))","v":""}]
["김해외동협성엘리시안","'19.02",942,112.7,34,85,26,254,null,null,null,null,{"$f":"I29-K29","v":0},{"$f":"IF(ISERROR(K29/I29),\"\",K29/I29)","v":""},{"$f":"I29/E29","v":0},{"$f":"K29/E29","v":0},3,2,"계","112D",null,null,112.7,34,254,0,{"$f":"K29","v":0},0,"",0,{"$f":"S29","v":"계"},{"$f":"Q29&\"/\"&R29","v":"3/2"},null,"김해외동협성엘리시안",34,{"$f":"IF(AI29=\"\",\"\",$AJ$2)","v":"A-"},"A","A+","B+",{"$f":"IF(AI29=\"\",\"\",$AN$2)","v":"C"},{"$f":"IF(N29=\"\",\"\",IF(N29>=$AO$1/100,\"O\",\"X\"))","v":""},{"$f":"IF(I29=\"\",\"\",IF(I29<=$AP$1,\"O\",\"X\"))","v":""},{"$f":"IF(O29=\"\",\"\",IF(O29<=$AQ$1,\"O\",\"X\"))","v":"O"},{"$f":"IF(M29=\"\",\"\",IF(M29<=$AR$1,\"O\",\"X\"))","v":"O"},"X",{"$f":"IF(OR(F29=\"\",AI29=\"\"),\"\",IF(AND((F29<=85),(AI29>=15)),\"O\",\"X\"))","v":"O"},{"$f":"IF(C29=\"\",\"\",IF(C29>=$AU$1,\"O\",\"X\"))","v":"O"},{"$f":"IF(AO29=\"\",\"\",IF(AND(AO29=\"O\",AP29=\"O\",AR29=\"O\",AT29=\"O\",AU29=\"O\"),\"후보\",\"X\"))","v":""}]
[null,null,null,null,null,null,null,null,null,null,null,null,null,null,null,null,null,null,null,null,null,null,{"$f":"$A$4&\" \"&A31&\"(\"&B31&\",\"&C31&\"^)\"","v":"외동 주공('88.06,920^)"},null,null,null,null,null,null,null,null,null,null,"",""]
["주공","'88.06",920,29.6,9,25.1,8,7,null,null,null,null,{"$f":"I31-K31","v":0},{"$f":"IF(ISERROR(K31/I31),\"\",K31/I31)","v":""},{"$f":"I31/E31","v":0},{"$f":"K31/E31","v":0},1,1,"계",29,null,null,{"$f":"D31","v":29.6},9,{"$f":"H31","v":7},0,{"$f":"K31","v":0},{"$f":"M31","v":0},"",0,{"$f":"S31","v":"계"},{"$f":"Q31&\"/\"&R31","v":"1/1"},null,"주공",9,{"$f":"IF(AI31=\"\",\"\",$AJ$2)","v":"A-"},"A","A+","B+",{"$f":"IF(AI31=\"\",\"\",$AN$2)","v":"C"},{"$f":"IF(N31=\"\",\"\",IF(N31>=$AO$1/100,\"O\",\"X\"))","v":""},{"$f":"IF(I31=\"\",\"\",IF(I31<=$AP$1,\"O\",\"X\"))","v":""},{"$f":"IF(O31=\"\",\"\",IF(O31<=$AQ$1,\"O\",\"X\"))","v":"O"},{"$f":"IF(M31=\"\",\"\",IF(M31<=$AR$1,\"O\",\"X\"))","v":"O"},"X",{"$f":"IF(OR(F31=\"\",AI31=\"\"),\"\",IF(AND((F31<=85),(AI31>=15)),\"O\",\"X\"))","v":"X"},{"$f":"IF(C31=\"\",\"\",IF(C31>=$AU$1,\"O\",\"X\"))","v":"O"},{"$f":"IF(AO31=\"\",\"\",IF(AND(AO31=\"O\",AP31=\"O\",AR31=\"O\",AT31=\"O\",AU31=\"O\"),\"후보\",\"X\"))","v":""}]
["주공","'88.06",920,37.9,11,32.4,10,108,null,null,null,null,0,"",0,0,2,1,"계",37,null,null,37.9,11,108,0,0,0,"",0,"계","2/1",null,"주공",11,"A-","A","A+","B+","C","","","O","O","X","X","O",""]
["주공","'88.06",920,45.2,14,39.299999999999997,12,110,null,null,null,null,0,"",0,0,2,1,"계","45A",null,null,45.2,14,110,0,0,0,"",0,"계","2/1",null,"주공",14,"A-","A","A+","B+","C","","","O","O","X","X","O",""]
["주공","'88.06",920,45.5,14,39.700000000000003,12,110,null,null,null,null,0,"",0,0,2,1,"계","45B",null,null,45.5,14,110,0,0,0,"",0,"계","2/1",null,"주공",14,"A-","A","A+","B+","C","","","O","O","X","X","O",""]
["주공","'88.06",920,46.3,14,39.6,12,115,null,null,null,null,0,"",0,0,2,1,"계","46C",null,null,46.3,14,115,0,0,0,"",0,"계","2/1",null,"주공",{"$f":"IF(E35=\"\",\"\",E35)","v":14},"A-","A","A+","B+","C","","","O","O","X","X","O",""]
["주공","'88.06",920,52.5,16,46.7,14,230,null,null,null,null,0,"",0,0,2,1,"계","52A",null,null,52.5,16,230,0,0,0,"",0,"계","2/1",null,"주공",16,"A-","A","A+","B+","C","","","O","O","X","O","O",""]
["주공","'88.06",920,52.9,16,47,14,240,null,null,null,null,0,"",0,0,2,1,"계","52B",null,null,52.9,16,240,0,0,0,"",0,"계","2/1",null,{"$f":"IF(A37=\"\",\"\",A37)","v":"주공"},16,"A-","A","A+","B+","C","","","O","O","X","O","O",""]
[null,null,null,null,null,null,null,null,null,null,null,null,null,null,null,null,null,null,null,null,null,null,{"$f":"$A$4&\" \"&A39&\"(\"&B39&\",\"&C39&\"^)\"","v":"외동 덕산베스트타운('97.03,900^)"},null,null,null,null,null,null,null,null,null,null,"",""]
["덕산베스트타운","'97.03",900,70.5,21,60,18,750,null,null,null,null,{"$f":"I39-K39","v":0},{"$f":"IF(ISERROR(K39/I39),\"\",K39/I39)","v":""},{"$f":"I39/E39","v":0},{"$f":"K39/E39","v":0},3,1,"계",70,null,null,{"$f":"D39","v":70.5},{"$f":"E39","v":21},{"$f":"H39","v":750},{"$f":"I39","v":0},{"$f":"K39","v":0},{"$f":"M39","v":0},{"$f":"N39","v":""},{"$f":"O39","v":0},{"$f":"S39","v":"계"},{"$f":"Q39&\"/\"&R39","v":"3/1"},null,"덕산베스트타운",21,{"$f":"IF(AI39=\"\",\"\",$AJ$2)","v":"A-"},"A","A+","B+",{"$f":"IF(AI39=\"\",\"\",$AN$2)","v":"C"},{"$f":"IF(N39=\"\",\"\",IF(N39>=$AO$1/100,\"O\",\"X\"))","v":""},{"$f":"IF(I39=\"\",\"\",IF(I39<=$AP$1,\"O\",\"X\"))","v":""},{"$f":"IF(O39=\"\",\"\",IF(O39<=$AQ$1,\"O\",\"X\"))","v":"O"},{"$f":"IF(M39=\"\",\"\",IF(M39<=$AR$1,\"O\",\"X\"))","v":"O"},"X",{"$f":"IF(OR(F39=\"\",AI39=\"\"),\"\",IF(AND((F39<=85),(AI39>=15)),\"O\",\"X\"))","v":"O"},{"$f":"IF(C39=\"\",\"\",IF(C39>=$AU$1,\"O\",\"X\"))","v":"O"},{"$f":"IF(AO39=\"\",\"\",IF(AND(AO39=\"O\",AP39=\"O\",AR39=\"O\",AT39=\"O\",AU39=\"O\"),\"후보\",\"X\"))","v":""}]
[null,null,null,null,null,null,null,null,null,null,null,null,null,null,null,null,null,null,null,null,null,null,{"$f":"$A$4&\" \"&A41&\"(\"&B41&\",\"&C41&\"^)\"","v":"외동 한덕한신타워('92.1,676^)"},null,null,null,null,null,null,null,null,null,null,"",""]
["한덕한신타워","'92.1",676,86.9,26,74.099999999999994,22,152,null,null,null,null,{"$f":"I41-K41","v":0},{"$f":"IF(ISERROR(K41/I41),\"\",K41/I41)","v":""},{"$f":"I41/E41","v":0},{"$f":"K41/E41","v":0},3,1,"계",86,null,null,{"$f":"D41","v":86.9},26,{"$f":"H41","v":152},0,{"$f":"K41","v":0},{"$f":"M41","v":0},"",0,{"$f":"S41","v":"계"},{"$f":"Q41&\"/\"&R41","v":"3/1"},null,"한덕한신타워",26,{"$f":"IF(AI41=\"\",\"\",$AJ$2)","v":"A-"},"A","A+","B+",{"$f":"IF(AI41=\"\",\"\",$AN$2)","v":"C"},{"$f":"IF(N41=\"\",\"\",IF(N41>=$AO$1/100,\"O\",\"X\"))","v":""},{"$f":"IF(I41=\"\",\"\",IF(I41<=$AP$1,\"O\",\"X\"))","v":""},{"$f":"IF(O41=\"\",\"\",IF(O41<=$AQ$1,\"O\",\"X\"))","v":"O"},{"$f":"IF(M41=\"\",\"\",IF(M41<=$AR$1,\"O\",\"X\"))","v":"O"},"X",{"$f":"IF(OR(F41=\"\",AI41=\"\"),\"\",IF(AND((F41<=85),(AI41>=15)),\"O\",\"X\"))","v":"O"},{"$f":"IF(C41=\"\",\"\",IF(C41>=$AU$1,\"O\",\"X\"))","v":"O"},{"$f":"IF(AO41=\"\",\"\",IF(AND(AO41=\"O\",AP41=\"O\",AR41=\"O\",AT41=\"O\",AU41=\"O\"),\"후보\",\"X\"))","v":""}]
["한덕한신타워","'92.1",676,95.6,29,81.5,25,228,null,null,null,null,0,"",0,0,3,1,"계",95,null,null,95.6,29,228,0,0,0,"",0,"계","3/1",null,"한덕한신타워",29,"A-","A","A+","B+","C","","","O","O","X","O","O",""]
["한덕한신타워","'92.1",676,100.5,30,85,26,148,null,null,null,null,0,"",0,0,3,2,"계",100,null,null,100.5,30,148,0,0,0,"",0,"계","3/2",null,"한덕한신타워",30,"A-","A","A+","B+","C","","","O","O","X","O","O",""]
["한덕한신타워","'92.1",676,124.6,38,109.7,33,76,null,null,null,null,0,"",0,0,4,2,"계",124,null,null,124.6,38,76,0,0,0,"",0,"계","4/2",null,"한덕한신타워",38,"A-","A","A+","B+","C","","","O","O","X","X","O",""]
["한덕한신타워","'92.1",676,139.9,42,124,38,36,null,null,null,null,0,"",0,0,4,2,"계",139,null,null,139.9,42,36,0,0,0,"",0,"계","4/2",null,"한덕한신타워",42,"A-","A","A+","B+","C","","","O","O","X","X","O",""]
["한덕한신타워","'92.1",676,165.1,50,145.30000000000001,44,36,null,null,null,null,0,"",0,0,4,2,"계",165,null,null,165.1,50,36,0,0,0,"",0,"계","4/2",null,"한덕한신타워",50,"A-","A","A+","B+","C","","","O","O","X","X","O",""]
[null,null,null,null,null,null,null,null,null,null,null,null,null,null,null,null,null,null,null,null,null,null,{"$f":"$A$4&\" \"&A48&\"(\"&B48&\",\"&C48&\"^)\"","v":"외동 동성('91.01,490^)"},null,null,null,null,null,null,null,null,null,null,"",""]
["동성","'91.01",490,66.2,20,49.3,15,80,null,null,null,null,{"$f":"I48-K48","v":0},{"$f":"IF(ISERROR(K48/I48),\"\",K48/I48)","v":""},{"$f":"I48/E48","v":0},{"$f":"K48/E48","v":0},3,1,"계",66,null,null,{"$f":"D48","v":66.2},{"$f":"E48","v":20},{"$f":"H48","v":80},{"$f":"I48","v":0},{"$f":"K48","v":0},{"$f":"M48","v":0},"",0,{"$f":"S48","v":"계"},{"$f":"Q48&\"/\"&R48","v":"3/1"},null,"동성",20,{"$f":"IF(AI48=\"\",\"\",$AJ$2)","v":"A-"},"A","A+","B+",{"$f":"IF(AI48=\"\",\"\",$AN$2)","v":"C"},{"$f":"IF(N48=\"\",\"\",IF(N48>=$AO$1/100,\"O\",\"X\"))","v":""},{"$f":"IF(I48=\"\",\"\",IF(I48<=$AP$1,\"O\",\"X\"))","v":""},{"$f":"IF(O48=\"\",\"\",IF(O48<=$AQ$1,\"O\",\"X\"))","v":"O"},{"$f":"IF(M48=\"\",\"\",IF(M48<=$AR$1,\"O\",\"X\"))","v":"O"},"X",{"$f":"IF(OR(F48=\"\",AI48=\"\"),\"\",IF(AND((F48<=85),(AI48>=15)),\"O\",\"X\"))","v":"O"},{"$f":"IF(C48=\"\",\"\",IF(C48>=$AU$1,\"O\",\"X\"))","v":"O"},{"$f":"IF(AO48=\"\",\"\",IF(AND(AO48=\"O\",AP48=\"O\",AR48=\"O\",AT48=\"O\",AU48=\"O\"),\"후보\",\"X\"))","v":""}]
["동성","'91.01",490,79.2,24,60,18,410,null,null,null,null,{"$f":"I49-K49","v":0},{"$f":"IF(ISERROR(K49/I49),\"\",K49/I49)","v":""},{"$f":"I49/E49","v":0},{"$f":"K49/E49","v":0},3,1,"계",79,null,null,{"$f":"D49","v":79.2},{"$f":"E49","v":24},{"$f":"H49","v":410},{"$f":"I49","v":0},{"$f":"K49","v":0},0,"",0,{"$f":"S49","v":"계"},{"$f":"Q49&\"/\"&R49","v":"3/1"},null,"동성",24,{"$f":"IF(AI49=\"\",\"\",$AJ$2)","v":"A-"},"A","A+","B+",{"$f":"IF(AI49=\"\",\"\",$AN$2)","v":"C"},{"$f":"IF(N49=\"\",\"\",IF(N49>=$AO$1/100,\"O\",\"X\"))","v":""},{"$f":"IF(I49=\"\",\"\",IF(I49<=$AP$1,\"O\",\"X\"))","v":""},{"$f":"IF(O49=\"\",\"\",IF(O49<=$AQ$1,\"O\",\"X\"))","v":"O"},{"$f":"IF(M49=\"\",\"\",IF(M49<=$AR$1,\"O\",\"X\"))","v":"O"},"X",{"$f":"IF(OR(F49=\"\",AI49=\"\"),\"\",IF(AND((F49<=85),(AI49>=15)),\"O\",\"X\"))","v":"O"},{"$f":"IF(C49=\"\",\"\",IF(C49>=$AU$1,\"O\",\"X\"))","v":"O"},{"$f":"IF(AO49=\"\",\"\",IF(AND(AO49=\"O\",AP49=\"O\",AR49=\"O\",AT49=\"O\",AU49=\"O\"),\"후보\",\"X\"))","v":""}]
[null,null,null,null,null,null,null,null,null,null,null,null,null,null,null,null,null,null,null,null,null,null,{"$f":"$A$4&\" \"&A51&\"(\"&B51&\",\"&C51&\"^)\"","v":"외동 쌍용스윗닷홈('05.07,440^)"},null,null,null,null,null,null,null,null,null,null,"",""]
["쌍용스윗닷홈","'05.07",440,89.5,27,69.5,21,64,null,null,null,null,{"$f":"I51-K51","v":0},{"$f":"IF(ISERROR(K51/I51),\"\",K51/I51)","v":""},{"$f":"I51/E51","v":0},{"$f":"K51/E51","v":0},3,2,"계","89A",null,null,{"$f":"D51","v":89.5},{"$f":"E51","v":27},{"$f":"H51","v":64},{"$f":"I51","v":0},{"$f":"K51","v":0},{"$f":"M51","v":0},"",0,{"$f":"S51","v":"계"},{"$f":"Q51&\"/\"&R51","v":"3/2"},null,"쌍용스윗닷홈",27,{"$f":"IF(AI51=\"\",\"\",$AJ$2)","v":"A-"},"A","A+","B+",{"$f":"IF(AI51=\"\",\"\",$AN$2)","v":"C"},{"$f":"IF(N51=\"\",\"\",IF(N51>=$AO$1/100,\"O\",\"X\"))","v":""},{"$f":"IF(I51=\"\",\"\",IF(I51<=$AP$1,\"O\",\"X\"))","v":""},{"$f":"IF(O51=\"\",\"\",IF(O51<=$AQ$1,\"O\",\"X\"))","v":"O"},{"$f":"IF(M51=\"\",\"\",IF(M51<=$AR$1,\"O\",\"X\"))","v":"O"},"X",{"$f":"IF(OR(F51=\"\",AI51=\"\"),\"\",IF(AND((F51<=85),(AI51>=15)),\"O\",\"X\"))","v":"O"},{"$f":"IF(C51=\"\",\"\",IF(C51>=$AU$1,\"O\",\"X\"))","v":"O"},{"$f":"IF(AO51=\"\",\"\",IF(AND(AO51=\"O\",AP51=\"O\",AR51=\"O\",AT51=\"O\",AU51=\"O\"),\"후보\",\"X\"))","v":""}]
["쌍용스윗닷홈","'05.07",440,108.2,33,85,26,376,null,null,null,null,{"$f":"I52-K52","v":0},{"$f":"IF(ISERROR(K52/I52),\"\",K52/I52)","v":""},{"$f":"I52/E52","v":0},{"$f":"K52/E52","v":0},3,2,"계","108A",null,null,{"$f":"D52","v":108.2},{"$f":"E52","v":33},{"$f":"H52","v":376},{"$f":"I52","v":0},{"$f":"K52","v":0},0,"",0,{"$f":"S52","v":"계"},{"$f":"Q52&\"/\"&R52","v":"3/2"},null,"쌍용스윗닷홈",33,{"$f":"IF(AI52=\"\",\"\",$AJ$2)","v":"A-"},"A","A+","B+",{"$f":"IF(AI52=\"\",\"\",$AN$2)","v":"C"},{"$f":"IF(N52=\"\",\"\",IF(N52>=$AO$1/100,\"O\",\"X\"))","v":""},{"$f":"IF(I52=\"\",\"\",IF(I52<=$AP$1,\"O\",\"X\"))","v":""},{"$f":"IF(O52=\"\",\"\",IF(O52<=$AQ$1,\"O\",\"X\"))","v":"O"},{"$f":"IF(M52=\"\",\"\",IF(M52<=$AR$1,\"O\",\"X\"))","v":"O"},"X",{"$f":"IF(OR(F52=\"\",AI52=\"\"),\"\",IF(AND((F52<=85),(AI52>=15)),\"O\",\"X\"))","v":"O"},{"$f":"IF(C52=\"\",\"\",IF(C52>=$AU$1,\"O\",\"X\"))","v":"O"},{"$f":"IF(AO52=\"\",\"\",IF(AND(AO52=\"O\",AP52=\"O\",AR52=\"O\",AT52=\"O\",AU52=\"O\"),\"후보\",\"X\"))","v":""}]
[null,null,null,null,null,null,null,null,null,null,null,null,null,null,null,null,null,null,null,null,null,null,{"$f":"$A$4&\" \"&A54&\"(\"&B54&\",\"&C54&\"^)\"","v":"외동 동일('95.11,375^)"},null,null,null,null,null,null,null,null,null,null,"",""]
["동일","'95.11",375,70.3,21,59.9,18,300,null,null,null,null,{"$f":"I54-K54","v":0},{"$f":"IF(ISERROR(K54/I54),\"\",K54/I54)","v":""},{"$f":"I54/E54","v":0},{"$f":"K54/E54","v":0},3,1,"계","70A",null,null,{"$f":"D54","v":70.3},{"$f":"E54","v":21},{"$f":"H54","v":300},{"$f":"I54","v":0},{"$f":"K54","v":0},{"$f":"M54","v":0},{"$f":"N54","v":""},{"$f":"O54","v":0},{"$f":"S54","v":"계"},{"$f":"Q54&\"/\"&R54","v":"3/1"},null,"동일",21,{"$f":"IF(AI54=\"\",\"\",$AJ$2)","v":"A-"},"A","A+","B+",{"$f":"IF(AI54=\"\",\"\",$AN$2)","v":"C"},{"$f":"IF(N54=\"\",\"\",IF(N54>=$AO$1/100,\"O\",\"X\"))","v":""},{"$f":"IF(I54=\"\",\"\",IF(I54<=$AP$1,\"O\",\"X\"))","v":""},{"$f":"IF(O54=\"\",\"\",IF(O54<=$AQ$1,\"O\",\"X\"))","v":"O"},{"$f":"IF(M54=\"\",\"\",IF(M54<=$AR$1,\"O\",\"X\"))","v":"O"},"X",{"$f":"IF(OR(F54=\"\",AI54=\"\"),\"\",IF(AND((F54<=85),(AI54>=15)),\"O\",\"X\"))","v":"O"},{"$f":"IF(C54=\"\",\"\",IF(C54>=$AU$1,\"O\",\"X\"))","v":"O"},{"$f":"IF(AO54=\"\",\"\",IF(AND(AO54=\"O\",AP54=\"O\",AR54=\"O\",AT54=\"O\",AU54=\"O\"),\"후보\",\"X\"))","v":""}]
[null,null,null,null,null,null,null,null,null,null,null,null,null,null,null,null,null,null,null,null,null,null,{"$f":"$A$4&\" \"&A56&\"(\"&B56&\",\"&C56&\"^)\"","v":"외동 서광('97.03,366^)"},null,null,null,null,null,null,null,null,null,null,"",""]
["서광","'97.03",366,69.8,21,59.8,18,300,null,null,null,null,{"$f":"I56-K56","v":0},{"$f":"IF(ISERROR(K56/I56),\"\",K56/I56)","v":""},{"$f":"I56/E56","v":0},{"$f":"K56/E56","v":0},3,1,"계",69,null,null,{"$f":"D56","v":69.8},{"$f":"E56","v":21},{"$f":"H56","v":300},{"$f":"I56","v":0},{"$f":"K56","v":0},{"$f":"M56","v":0},{"$f":"N56","v":""},{"$f":"O56","v":0},{"$f":"S56","v":"계"},{"$f":"Q56&\"/\"&R56","v":"3/1"},null,"서광",21,{"$f":"IF(AI56=\"\",\"\",$AJ$2)","v":"A-"},"A","A+","B+",{"$f":"IF(AI56=\"\",\"\",$AN$2)","v":"C"},{"$f":"IF(N56=\"\",\"\",IF(N56>=$AO$1/100,\"O\",\"X\"))","v":""},{"$f":"IF(I56=\"\",\"\",IF(I56<=$AP$1,\"O\",\"X\"))","v":""},{"$f":"IF(O56=\"\",\"\",IF(O56<=$AQ$1,\"O\",\"X\"))","v":"O"},{"$f":"IF(M56=\"\",\"\",IF(M56<=$AR$1,\"O\",\"X\"))","v":"O"},"X",{"$f":"IF(OR(F56=\"\",AI56=\"\"),\"\",IF(AND((F56<=85),(AI56>=15)),\"O\",\"X\"))","v":"O"},{"$f":"IF(C56=\"\",\"\",IF(C56>=$AU$1,\"O\",\"X\"))","v":"O"},{"$f":"IF(AO56=\"\",\"\",IF(AND(AO56=\"O\",AP56=\"O\",AR56=\"O\",AT56=\"O\",AU56=\"O\"),\"후보\",\"X\"))","v":""}]
[null,null,null,null,null,null,null,null,null,null,null,null,null,null,null,null,null,null,null,null,null,null,{"$f":"$A$4&\" \"&A58&\"(\"&B58&\",\"&C58&\"^)\"","v":"외동 외동조흥('93.11,299^)"},null,null,null,null,null,null,null,null,null,null,"",""]
["외동조흥","'93.11",299,77.3,23,59.3,18,105,null,null,null,null,{"$f":"I58-K58","v":0},{"$f":"IF(ISERROR(K58/I58),\"\",K58/I58)","v":""},{"$f":"I58/E58","v":0},{"$f":"K58/E58","v":0},3,1,"계",77,null,null,{"$f":"D58","v":77.3},{"$f":"E58","v":23},{"$f":"H58","v":105},{"$f":"I58","v":0},{"$f":"K58","v":0},{"$f":"M58","v":0},"",0,{"$f":"S58","v":"계"},{"$f":"Q58&\"/\"&R58","v":"3/1"},null,"외동조흥",23,{"$f":"IF(AI58=\"\",\"\",$AJ$2)","v":"A-"},"A","A+","B+",{"$f":"IF(AI58=\"\",\"\",$AN$2)","v":"C"},{"$f":"IF(N58=\"\",\"\",IF(N58>=$AO$1/100,\"O\",\"X\"))","v":""},{"$f":"IF(I58=\"\",\"\",IF(I58<=$AP$1,\"O\",\"X\"))","v":""},{"$f":"IF(O58=\"\",\"\",IF(O58<=$AQ$1,\"O\",\"X\"))","v":"O"},{"$f":"IF(M58=\"\",\"\",IF(M58<=$AR$1,\"O\",\"X\"))","v":"O"},"X",{"$f":"IF(OR(F58=\"\",AI58=\"\"),\"\",IF(AND((F58<=85),(AI58>=15)),\"O\",\"X\"))","v":"O"},{"$f":"IF(C58=\"\",\"\",IF(C58>=$AU$1,\"O\",\"X\"))","v":"X"},{"$f":"IF(AO58=\"\",\"\",IF(AND(AO58=\"O\",AP58=\"O\",AR58=\"O\",AT58=\"O\",AU58=\"O\"),\"후보\",\"X\"))","v":""}]
["외동조흥","'93.11",299,105,32,84.9,26,194,null,null,null,null,{"$f":"I59-K59","v":0},{"$f":"IF(ISERROR(K59/I59),\"\",K59/I59)","v":""},{"$f":"I59/E59","v":0},{"$f":"K59/E59","v":0},3,2,"계",104,null,null,{"$f":"D59","v":105},{"$f":"E59","v":32},{"$f":"H59","v":194},{"$f":"I59","v":0},{"$f":"K59","v":0},0,"",0,{"$f":"S59","v":"계"},{"$f":"Q59&\"/\"&R59","v":"3/2"},null,"외동조흥",32,{"$f":"IF(AI59=\"\",\"\",$AJ$2)","v":"A-"},"A","A+","B+",{"$f":"IF(AI59=\"\",\"\",$AN$2)","v":"C"},{"$f":"IF(N59=\"\",\"\",IF(N59>=$AO$1/100,\"O\",\"X\"))","v":""},{"$f":"IF(I59=\"\",\"\",IF(I59<=$AP$1,\"O\",\"X\"))","v":""},{"$f":"IF(O59=\"\",\"\",IF(O59<=$AQ$1,\"O\",\"X\"))","v":"O"},{"$f":"IF(M59=\"\",\"\",IF(M59<=$AR$1,\"O\",\"X\"))","v":"O"},"X",{"$f":"IF(OR(F59=\"\",AI59=\"\"),\"\",IF(AND((F59<=85),(AI59>=15)),\"O\",\"X\"))","v":"O"},{"$f":"IF(C59=\"\",\"\",IF(C59>=$AU$1,\"O\",\"X\"))","v":"X"},{"$f":"IF(AO59=\"\",\"\",IF(AND(AO59=\"O\",AP59=\"O\",AR59=\"O\",AT59=\"O\",AU59=\"O\"),\"후보\",\"X\"))","v":""}]
[null,null,null,null,null,null,null,null,null,null,null,null,null,null,null,null,null,null,null,null,null,null,{"$f":"$A$4&\" \"&A61&\"(\"&B61&\",\"&C61&\"^)\"","v":"외동 한솔빌리지('04.07,298^)"},null,null,null,null,null,null,null,null,null,null,"",""]
["한솔빌리지","'04.07",298,90.3,27,75.599999999999994,23,118,null,null,null,null,{"$f":"I61-K61","v":0},{"$f":"IF(ISERROR(K61/I61),\"\",K61/I61)","v":""},{"$f":"I61/E61","v":0},{"$f":"K61/E61","v":0},3,1,"계",90,null,null,{"$f":"D61","v":90.3},27,{"$f":"H61","v":118},0,{"$f":"K61","v":0},{"$f":"M61","v":0},"",0,{"$f":"S61","v":"계"},{"$f":"Q61&\"/\"&R61","v":"3/1"},null,"한솔빌리지",27,{"$f":"IF(AI61=\"\",\"\",$AJ$2)","v":"A-"},"A","A+","B+",{"$f":"IF(AI61=\"\",\"\",$AN$2)","v":"C"},{"$f":"IF(N61=\"\",\"\",IF(N61>=$AO$1/100,\"O\",\"X\"))","v":""},{"$f":"IF(I61=\"\",\"\",IF(I61<=$AP$1,\"O\",\"X\"))","v":""},{"$f":"IF(O61=\"\",\"\",IF(O61<=$AQ$1,\"O\",\"X\"))","v":"O"},{"$f":"IF(M61=\"\",\"\",IF(M61<=$AR$1,\"O\",\"X\"))","v":"O"},"X",{"$f":"IF(OR(F61=\"\",AI61=\"\"),\"\",IF(AND((F61<=85),(AI61>=15)),\"O\",\"X\"))","v":"O"},{"$f":"IF(C61=\"\",\"\",IF(C61>=$AU$1,\"O\",\"X\"))","v":"X"},{"$f":"IF(AO61=\"\",\"\",IF(AND(AO61=\"O\",AP61=\"O\",AR61=\"O\",AT61=\"O\",AU61=\"O\"),\"후보\",\"X\"))","v":""}]
["한솔빌리지","'04.07",298,100.1,30,85,26,60,null,null,null,null,{"$f":"I62-K62","v":0},{"$f":"IF(ISERROR(K62/I62),\"\",K62/I62)","v":""},{"$f":"I62/E62","v":0},{"$f":"K62/E62","v":0},3,2,"계",100,null,null,100.1,30,60,0,{"$f":"K62","v":0},0,"",0,{"$f":"S62","v":"계"},{"$f":"Q62&\"/\"&R62","v":"3/2"},null,"한솔빌리지",30,{"$f":"IF(AI62=\"\",\"\",$AJ$2)","v":"A-"},"A","A+","B+",{"$f":"IF(AI62=\"\",\"\",$AN$2)","v":"C"},{"$f":"IF(N62=\"\",\"\",IF(N62>=$AO$1/100,\"O\",\"X\"))","v":""},{"$f":"IF(I62=\"\",\"\",IF(I62<=$AP$1,\"O\",\"X\"))","v":""},{"$f":"IF(O62=\"\",\"\",IF(O62<=$AQ$1,\"O\",\"X\"))","v":"O"},{"$f":"IF(M62=\"\",\"\",IF(M62<=$AR$1,\"O\",\"X\"))","v":"O"},"X",{"$f":"IF(OR(F62=\"\",AI62=\"\"),\"\",IF(AND((F62<=85),(AI62>=15)),\"O\",\"X\"))","v":"O"},{"$f":"IF(C62=\"\",\"\",IF(C62>=$AU$1,\"O\",\"X\"))","v":"X"},{"$f":"IF(AO62=\"\",\"\",IF(AND(AO62=\"O\",AP62=\"O\",AR62=\"O\",AT62=\"O\",AU62=\"O\"),\"후보\",\"X\"))","v":""}]
["한솔빌리지","'04.07",298,131.6,40,118.5,36,20,null,null,null,null,{"$f":"I63-K63","v":0},{"$f":"IF(ISERROR(K63/I63),\"\",K63/I63)","v":""},{"$f":"I63/E63","v":0},{"$f":"K63/E63","v":0},4,2,"계",131,null,null,131.6,40,20,0,{"$f":"K63","v":0},0,"",0,{"$f":"S63","v":"계"},{"$f":"Q63&\"/\"&R63","v":"4/2"},null,"한솔빌리지",40,{"$f":"IF(AI63=\"\",\"\",$AJ$2)","v":"A-"},"A","A+","B+",{"$f":"IF(AI63=\"\",\"\",$AN$2)","v":"C"},{"$f":"IF(N63=\"\",\"\",IF(N63>=$AO$1/100,\"O\",\"X\"))","v":""},{"$f":"IF(I63=\"\",\"\",IF(I63<=$AP$1,\"O\",\"X\"))","v":""},{"$f":"IF(O63=\"\",\"\",IF(O63<=$AQ$1,\"O\",\"X\"))","v":"O"},{"$f":"IF(M63=\"\",\"\",IF(M63<=$AR$1,\"O\",\"X\"))","v":"O"},"X",{"$f":"IF(OR(F63=\"\",AI63=\"\"),\"\",IF(AND((F63<=85),(AI63>=15)),\"O\",\"X\"))","v":"X"},{"$f":"IF(C63=\"\",\"\",IF(C63>=$AU$1,\"O\",\"X\"))","v":"X"},{"$f":"IF(AO63=\"\",\"\",IF(AND(AO63=\"O\",AP63=\"O\",AR63=\"O\",AT63=\"O\",AU63=\"O\"),\"후보\",\"X\"))","v":""}]
["한솔빌리지","'04.07",298,74.900000000000006,23,59.6,18,100,null,null,null,null,{"$f":"I64-K64","v":0},{"$f":"IF(ISERROR(K64/I64),\"\",K64/I64)","v":""},{"$f":"I64/E64","v":0},{"$f":"K64/E64","v":0},2,1,"계",74,null,null,74.900000000000006,23,100,0,{"$f":"K64","v":0},0,"",0,{"$f":"S64","v":"계"},{"$f":"Q64&\"/\"&R64","v":"2/1"},null,"한솔빌리지",23,{"$f":"IF(AI64=\"\",\"\",$AJ$2)","v":"A-"},"A","A+","B+",{"$f":"IF(AI64=\"\",\"\",$AN$2)","v":"C"},{"$f":"IF(N64=\"\",\"\",IF(N64>=$AO$1/100,\"O\",\"X\"))","v":""},{"$f":"IF(I64=\"\",\"\",IF(I64<=$AP$1,\"O\",\"X\"))","v":""},{"$f":"IF(O64=\"\",\"\",IF(O64<=$AQ$1,\"O\",\"X\"))","v":"O"},{"$f":"IF(M64=\"\",\"\",IF(M64<=$AR$1,\"O\",\"X\"))","v":"O"},"X",{"$f":"IF(OR(F64=\"\",AI64=\"\"),\"\",IF(AND((F64<=85),(AI64>=15)),\"O\",\"X\"))","v":"O"},{"$f":"IF(C64=\"\",\"\",IF(C64>=$AU$1,\"O\",\"X\"))","v":"X"},{"$f":"IF(AO64=\"\",\"\",IF(AND(AO64=\"O\",AP64=\"O\",AR64=\"O\",AT64=\"O\",AU64=\"O\"),\"후보\",\"X\"))","v":""}]
[null,null,null,null,null,null,null,null,null,null,null,null,null,null,null,null,null,null,null,null,null,null,{"$f":"$A$4&\" \"&A66&\"(\"&B66&\",\"&C66&\"^)\"","v":"외동 동아그린('94.08,288^)"},null,null,null,null,null,null,null,null,null,null,"",""]
["동아그린","'94.08",288,75.599999999999994,23,60,18,90,null,null,null,null,{"$f":"I66-K66","v":0},{"$f":"IF(ISERROR(K66/I66),\"\",K66/I66)","v":""},{"$f":"I66/E66","v":0},{"$f":"K66/E66","v":0},3,1,"계","75B",null,null,{"$f":"D66","v":75.599999999999994},23,{"$f":"H66","v":90},0,{"$f":"K66","v":0},{"$f":"M66","v":0},"",0,{"$f":"S66","v":"계"},{"$f":"Q66&\"/\"&R66","v":"3/1"},null,"동아그린",23,{"$f":"IF(AI66=\"\",\"\",$AJ$2)","v":"A-"},"A","A+","B+",{"$f":"IF(AI66=\"\",\"\",$AN$2)","v":"C"},{"$f":"IF(N66=\"\",\"\",IF(N66>=$AO$1/100,\"O\",\"X\"))","v":""},{"$f":"IF(I66=\"\",\"\",IF(I66<=$AP$1,\"O\",\"X\"))","v":""},{"$f":"IF(O66=\"\",\"\",IF(O66<=$AQ$1,\"O\",\"X\"))","v":"O"},{"$f":"IF(M66=\"\",\"\",IF(M66<=$AR$1,\"O\",\"X\"))","v":"O"},"X",{"$f":"IF(OR(F66=\"\",AI66=\"\"),\"\",IF(AND((F66<=85),(AI66>=15)),\"O\",\"X\"))","v":"O"},{"$f":"IF(C66=\"\",\"\",IF(C66>=$AU$1,\"O\",\"X\"))","v":"X"},{"$f":"IF(AO66=\"\",\"\",IF(AND(AO66=\"O\",AP66=\"O\",AR66=\"O\",AT66=\"O\",AU66=\"O\"),\"후보\",\"X\"))","v":""}]
["동아그린","'94.08",288,89.8,27,72.900000000000006,22,30,null,null,null,null,{"$f":"I67-K67","v":0},{"$f":"IF(ISERROR(K67/I67),\"\",K67/I67)","v":""},{"$f":"I67/E67","v":0},{"$f":"K67/E67","v":0},3,2,"계",89,null,null,89.8,27,30,0,{"$f":"K67","v":0},0,"",0,{"$f":"S67","v":"계"},{"$f":"Q67&\"/\"&R67","v":"3/2"},null,"동아그린",27,{"$f":"IF(AI67=\"\",\"\",$AJ$2)","v":"A-"},"A","A+","B+",{"$f":"IF(AI67=\"\",\"\",$AN$2)","v":"C"},{"$f":"IF(N67=\"\",\"\",IF(N67>=$AO$1/100,\"O\",\"X\"))","v":""},{"$f":"IF(I67=\"\",\"\",IF(I67<=$AP$1,\"O\",\"X\"))","v":""},{"$f":"IF(O67=\"\",\"\",IF(O67<=$AQ$1,\"O\",\"X\"))","v":"O"},{"$f":"IF(M67=\"\",\"\",IF(M67<=$AR$1,\"O\",\"X\"))","v":"O"},"X",{"$f":"IF(OR(F67=\"\",AI67=\"\"),\"\",IF(AND((F67<=85),(AI67>=15)),\"O\",\"X\"))","v":"O"},{"$f":"IF(C67=\"\",\"\",IF(C67>=$AU$1,\"O\",\"X\"))","v":"X"},{"$f":"IF(AO67=\"\",\"\",IF(AND(AO67=\"O\",AP67=\"O\",AR67=\"O\",AT67=\"O\",AU67=\"O\"),\"후보\",\"X\"))","v":""}]
["동아그린","'94.08",288,102.4,31,85,26,84,null,null,null,null,{"$f":"I68-K68","v":0},{"$f":"IF(ISERROR(K68/I68),\"\",K68/I68)","v":""},{"$f":"I68/E68","v":0},{"$f":"K68/E68","v":0},3,2,"계",102,null,null,102.4,31,84,0,{"$f":"K68","v":0},0,"",0,{"$f":"S68","v":"계"},{"$f":"Q68&\"/\"&R68","v":"3/2"},null,"동아그린",31,{"$f":"IF(AI68=\"\",\"\",$AJ$2)","v":"A-"},"A","A+","B+",{"$f":"IF(AI68=\"\",\"\",$AN$2)","v":"C"},{"$f":"IF(N68=\"\",\"\",IF(N68>=$AO$1/100,\"O\",\"X\"))","v":""},{"$f":"IF(I68=\"\",\"\",IF(I68<=$AP$1,\"O\",\"X\"))","v":""},{"$f":"IF(O68=\"\",\"\",IF(O68<=$AQ$1,\"O\",\"X\"))","v":"O"},{"$f":"IF(M68=\"\",\"\",IF(M68<=$AR$1,\"O\",\"X\"))","v":"O"},"X",{"$f":"IF(OR(F68=\"\",AI68=\"\"),\"\",IF(AND((F68<=85),(AI68>=15)),\"O\",\"X\"))","v":"O"},{"$f":"IF(C68=\"\",\"\",IF(C68>=$AU$1,\"O\",\"X\"))","v":"X"},{"$f":"IF(AO68=\"\",\"\",IF(AND(AO68=\"O\",AP68=\"O\",AR68=\"O\",AT68=\"O\",AU68=\"O\"),\"후보\",\"X\"))","v":""}]
[null,null,null,null,null,null,null,null,null,null,null,null,null,null,null,null,null,null,null,null,null,null,{"$f":"$A$4&\" \"&A70&\"(\"&B70&\",\"&C70&\"^)\"","v":"외동 김해외동이진캐스빌2차('13.09,216^)"},null,null,null,null,null,null,null,null,null,null,"",""]
["김해외동이진캐스빌2차","'13.09",216,85.8,26,59.8,18,74,null,null,null,null,{"$f":"I70-K70","v":0},{"$f":"IF(ISERROR(K70/I70),\"\",K70/I70)","v":""},{"$f":"I70/E70","v":0},{"$f":"K70/E70","v":0},3,2,"계",85,null,null,{"$f":"D70","v":85.8},{"$f":"E70","v":26},{"$f":"H70","v":74},{"$f":"I70","v":0},{"$f":"K70","v":0},{"$f":"M70","v":0},"",0,{"$f":"S70","v":"계"},{"$f":"Q70&\"/\"&R70","v":"3/2"},null,"김해외동이진캐스빌2차",26,{"$f":"IF(AI70=\"\",\"\",$AJ$2)","v":"A-"},"A","A+","B+",{"$f":"IF(AI70=\"\",\"\",$AN$2)","v":"C"},{"$f":"IF(N70=\"\",\"\",IF(N70>=$AO$1/100,\"O\",\"X\"))","v":""},{"$f":"IF(I70=\"\",\"\",IF(I70<=$AP$1,\"O\",\"X\"))","v":""},{"$f":"IF(O70=\"\",\"\",IF(O70<=$AQ$1,\"O\",\"X\"))","v":"O"},{"$f":"IF(M70=\"\",\"\",IF(M70<=$AR$1,\"O\",\"X\"))","v":"O"},"X",{"$f":"IF(OR(F70=\"\",AI70=\"\"),\"\",IF(AND((F70<=85),(AI70>=15)),\"O\",\"X\"))","v":"O"},{"$f":"IF(C70=\"\",\"\",IF(C70>=$AU$1,\"O\",\"X\"))","v":"X"},{"$f":"IF(AO70=\"\",\"\",IF(AND(AO70=\"O\",AP70=\"O\",AR70=\"O\",AT70=\"O\",AU70=\"O\"),\"후보\",\"X\"))","v":""}]
["김해외동이진캐스빌2차","'13.09",216,111.8,34,85,26,142,null,null,null,null,{"$f":"I71-K71","v":0},{"$f":"IF(ISERROR(K71/I71),\"\",K71/I71)","v":""},{"$f":"I71/E71","v":0},{"$f":"K71/E71","v":0},3,2,"계",111,null,null,{"$f":"D71","v":111.8},{"$f":"E71","v":34},{"$f":"H71","v":142},{"$f":"I71","v":0},{"$f":"K71","v":0},0,"",0,{"$f":"S71","v":"계"},{"$f":"Q71&\"/\"&R71","v":"3/2"},null,"김해외동이진캐스빌2차",34,{"$f":"IF(AI71=\"\",\"\",$AJ$2)","v":"A-"},"A","A+","B+",{"$f":"IF(AI71=\"\",\"\",$AN$2)","v":"C"},{"$f":"IF(N71=\"\",\"\",IF(N71>=$AO$1/100,\"O\",\"X\"))","v":""},{"$f":"IF(I71=\"\",\"\",IF(I71<=$AP$1,\"O\",\"X\"))","v":""},{"$f":"IF(O71=\"\",\"\",IF(O71<=$AQ$1,\"O\",\"X\"))","v":"O"},{"$f":"IF(M71=\"\",\"\",IF(M71<=$AR$1,\"O\",\"X\"))","v":"O"},"X",{"$f":"IF(OR(F71=\"\",AI71=\"\"),\"\",IF(AND((F71<=85),(AI71>=15)),\"O\",\"X\"))","v":"O"},{"$f":"IF(C71=\"\",\"\",IF(C71>=$AU$1,\"O\",\"X\"))","v":"X"},{"$f":"IF(AO71=\"\",\"\",IF(AND(AO71=\"O\",AP71=\"O\",AR71=\"O\",AT71=\"O\",AU71=\"O\"),\"후보\",\"X\"))","v":""}]

{"sheet":"거의동","index":23,"n_rows":19,"n_cols":48,"rows_kept":19,"cut":false,"hidden":false,"merged":[[0,35,0,39]]}
[{"$f":"단지추출!A1","v":"구미시"},null,null,null,null,null,null,null,"추출대상",null,null,null,null,null,null,null,null,null,null,null,null,null,null,"매매가 최대(색상 최대)",null,null,{"$f":"단지추출!AA1","v":70000},null,null,null,null,null,null,{"$f":"A1","v":"구미시"},null,{"$f":"A1&\" 전체 등급\"","v":"구미시 전체 등급"},null,null,null,null,{"$f":"단지추출!AO1","v":80},{"$f":"단지추출!AP1","v":45000},{"$f":"단지추출!AQ1","v":1000},{"$f":"단지추출!AR1","v":6000},null,null,{"$f":"단지추출!AU1","v":300}]
[{"$f":"단지추출!A2","v":"2022-01-01"},null,null,null,null,null,null,null,null,null,null,null,null,null,null,null,null,null,null,null,null,null,null,"매매가 최소(색상 최소)",null,null,{"$f":"단지추출!AA2","v":10000},null,null,null,null,null,null,{"$f":"AH1 &\" \" &A4","v":"구미시 장유동"},null,{"$f":"단지추출!AJ2","v":"A-"},{"$f":"단지추출!AK2","v":"A"},{"$f":"단지추출!AL2","v":"A"},{"$f":"단지추출!AM2","v":"A"},{"$f":"단지추출!AN2","v":"C"},"원금보전",null,null,"수익성",null,"환금성"]
["단지명","입주\n연도","총세\n대수","공급\n(m2)","공급\n면적","전용\n(m2)","전용\n면적","세대","매매\n최저가","층","전세\n최고가","층","매전갭","전세\n가율","매매\n평단","전세\n평단","방","욕\n실","구\n조","매/전/월\nType","비고",null,"공급\n(m2)","공급\n면적","세대","매매가","전세가","매전갭","전세\n가율","평단가","구\n조","방/\n욕실",null,{"$f":"IF(A3=\"\",\"\",A3)","v":"단지명"},{"$f":"IF(E3=\"\",\"\",E3)","v":"공급\n면적"},"직장","교통","학군","환경","공급",{"$f":"\"전세가율★\n(\"&AO1&\"%↑)\"","v":"전세가율★\n(80%↑)"},{"$f":"\"절대가★\n(\"&AP1/10000&\"억↓)\"","v":"절대가★\n(4.5억↓)"},{"$f":"\"지역평단가\n(\"&AQ1&\"↓)\"","v":"지역평단가\n(1000↓)"},{"$f":"\"투자규모★\n(갭\"&AR1/1000&\"천↓)\"","v":"투자규모★\n(갭6천↓)"},"전고점\n이하","평형★\n(15~34평)",{"$f":"\"단지규모★\n(\"&AU1&\"^↑)\"","v":"단지규모★\n(300^↑)"},"투자후보"]
["장유동",null,null,null,null,null,null,null,null,null,null,null,null,null,null,null,null,null,null,null,null,null,null,null,null,null,null,null,null,null,null,null,null,null,""]
[null,null,null,null,null,null,null,null,null,null,null,null,null,null,null,null,null,null,null,null,null,null,{"$f":"$A$4&\" \"&A6&\"(\"&B6&\",\"&C6&\"^)\"","v":"장유동 율하자이힐스테이트('19.05,1245^)"},null,null,null,null,null,null,null,null,null,null,{"$f":"IF(A5=\"\",\"\",A5)","v":""},""]
["율하자이힐스테이트","'19.05",1245,99.3,30,74.7,23,213,null,null,null,null,{"$f":"I6-K6","v":0},{"$f":"IF(ISERROR(K6/I6),\"\",K6/I6)","v":""},{"$f":"I6/E6","v":0},{"$f":"K6/E6","v":0},3,2,"계",99,null,null,{"$f":"D6","v":99.3},{"$f":"E6","v":30},{"$f":"H6","v":213},{"$f":"I6","v":0},{"$f":"K6","v":0},{"$f":"M6","v":0},"",0,{"$f":"S6","v":"계"},{"$f":"Q6&\"/\"&R6","v":"3/2"},null,"율하자이힐스테이트",30,{"$f":"IF(AI6=\"\",\"\",$AJ$2)","v":"A-"},"A","A+","B+",{"$f":"IF(AI6=\"\",\"\",$AN$2)","v":"C"},{"$f":"IF(N6=\"\",\"\",IF(N6>=$AO$1/100,\"O\",\"X\"))","v":""},{"$f":"IF(I6=\"\",\"\",IF(I6<=$AP$1,\"O\",\"X\"))","v":""},{"$f":"IF(O6=\"\",\"\",IF(O6<=$AQ$1,\"O\",\"X\"))","v":"O"},{"$f":"IF(M6=\"\",\"\",IF(M6<=$AR$1,\"O\",\"X\"))","v":"O"},"X",{"$f":"IF(OR(F6=\"\",AI6=\"\"),\"\",IF(AND((F6<=85),(AI6>=15)),\"O\",\"X\"))","v":"O"},{"$f":"IF(C6=\"\",\"\",IF(C6>=$AU$1,\"O\",\"X\"))","v":"O"},{"$f":"IF(AO6=\"\",\"\",IF(AND(AO6=\"O\",AP6=\"O\",AR6=\"O\",AT6=\"O\",AU6=\"O\"),\"후보\",\"X\"))","v":""}]
["율하자이힐스테이트","'19.05",1245,112.9,34,85,26,674,null,null,null,null,{"$f":"I7-K7","v":0},{"$f":"IF(ISERROR(K7/I7),\"\",K7/I7)","v":""},{"$f":"I7/E7","v":0},{"$f":"K7/E7","v":0},3,2,"계","112A",null,null,{"$f":"D7","v":112.9},{"$f":"E7","v":34},{"$f":"H7","v":674},{"$f":"I7","v":0},{"$f":"K7","v":0},0,"",0,{"$f":"S7","v":"계"},{"$f":"Q7&\"/\"&R7","v":"3/2"},null,"율하자이힐스테이트",34,{"$f":"IF(AI7=\"\",\"\",$AJ$2)","v":"A-"},"A","A+","B+",{"$f":"IF(AI7=\"\",\"\",$AN$2)","v":"C"},{"$f":"IF(N7=\"\",\"\",IF(N7>=$AO$1/100,\"O\",\"X\"))","v":""},{"$f":"IF(I7=\"\",\"\",IF(I7<=$AP$1,\"O\",\"X\"))","v":""},{"$f":"IF(O7=\"\",\"\",IF(O7<=$AQ$1,\"O\",\"X\"))","v":"O"},{"$f":"IF(M7=\"\",\"\",IF(M7<=$AR$1,\"O\",\"X\"))","v":"O"},"X",{"$f":"IF(OR(F7=\"\",AI7=\"\"),\"\",IF(AND((F7<=85),(AI7>=15)),\"O\",\"X\"))","v":"O"},{"$f":"IF(C7=\"\",\"\",IF(C7>=$AU$1,\"O\",\"X\"))","v":"O"},{"$f":"IF(AO7=\"\",\"\",IF(AND(AO7=\"O\",AP7=\"O\",AR7=\"O\",AT7=\"O\",AU7=\"O\"),\"후보\",\"X\"))","v":""}]
[null,null,null,null,null,null,null,null,null,null,null,null,null,null,null,null,null,null,null,null,null,null,{"$f":"$A$4&\" \"&A9&\"(\"&B9&\",\"&C9&\"^)\"","v":"장유동 김해율하시티프라디움('19.1,1081^)"},null,null,null,null,null,null,null,null,null,null,"",""]
["김해율하시티프라디움","'19.1",1081,109,33,85,26,null,null,null,null,null,{"$f":"I9-K9","v":0},{"$f":"IF(ISERROR(K9/I9),\"\",K9/I9)","v":""},{"$f":"I9/E9","v":0},{"$f":"K9/E9","v":0},null,null,"계",null,null,null,{"$f":"D9","v":109},{"$f":"E9","v":33},{"$f":"H9","v":0},{"$f":"I9","v":0},{"$f":"K9","v":0},{"$f":"M9","v":0},{"$f":"N9","v":""},{"$f":"O9","v":0},{"$f":"S9","v":"계"},{"$f":"Q9&\"/\"&R9","v":"/"},null,"김해율하시티프라디움",33,{"$f":"IF(AI9=\"\",\"\",$AJ$2)","v":"A-"},"A","A+","B+",{"$f":"IF(AI9=\"\",\"\",$AN$2)","v":"C"},{"$f":"IF(N9=\"\",\"\",IF(N9>=$AO$1/100,\"O\",\"X\"))","v":""},{"$f":"IF(I9=\"\",\"\",IF(I9<=$AP$1,\"O\",\"X\"))","v":""},{"$f":"IF(O9=\"\",\"\",IF(O9<=$AQ$1,\"O\",\"X\"))","v":"O"},{"$f":"IF(M9=\"\",\"\",IF(M9<=$AR$1,\"O\",\"X\"))","v":"O"},"X",{"$f":"IF(OR(F9=\"\",AI9=\"\"),\"\",IF(AND((F9<=85),(AI9>=15)),\"O\",\"X\"))","v":"O"},{"$f":"IF(C9=\"\",\"\",IF(C9>=$AU$1,\"O\",\"X\"))","v":"O"},{"$f":"IF(AO9=\"\",\"\",IF(AND(AO9=\"O\",AP9=\"O\",AR9=\"O\",AT9=\"O\",AU9=\"O\"),\"후보\",\"X\"))","v":""}]
[null,null,null,null,null,null,null,null,null,null,null,null,null,null,null,null,null,null,null,null,null,null,{"$f":"$A$4&\" \"&A11&\"(\"&B11&\",\"&C11&\"^)\"","v":"장유동 김해율하원메이저힐스테이트('18.12,1052^)"},null,null,null,null,null,null,null,null,null,null,"",""]
["김해율하원메이저힐스테이트","'18.12",1052,112.6,34,85,26,460,null,null,null,null,{"$f":"I11-K11","v":0},{"$f":"IF(ISERROR(K11/I11),\"\",K11/I11)","v":""},{"$f":"I11/E11","v":0},{"$f":"K11/E11","v":0},3,2,"계","112A",null,null,{"$f":"D11","v":112.6},{"$f":"E11","v":34},{"$f":"H11","v":460},{"$f":"I11","v":0},{"$f":"K11","v":0},{"$f":"M11","v":0},"",0,{"$f":"S11","v":"계"},{"$f":"Q11&\"/\"&R11","v":"3/2"},null,"김해율하원메이저힐스테이트",34,{"$f":"IF(AI11=\"\",\"\",$AJ$2)","v":"A-"},"A","A+","B+",{"$f":"IF(AI11=\"\",\"\",$AN$2)","v":"C"},{"$f":"IF(N11=\"\",\"\",IF(N11>=$AO$1/100,\"O\",\"X\"))","v":""},{"$f":"IF(I11=\"\",\"\",IF(I11<=$AP$1,\"O\",\"X\"))","v":""},{"$f":"IF(O11=\"\",\"\",IF(O11<=$AQ$1,\"O\",\"X\"))","v":"O"},{"$f":"IF(M11=\"\",\"\",IF(M11<=$AR$1,\"O\",\"X\"))","v":"O"},"X",{"$f":"IF(OR(F11=\"\",AI11=\"\"),\"\",IF(AND((F11<=85),(AI11>=15)),\"O\",\"X\"))","v":"O"},{"$f":"IF(C11=\"\",\"\",IF(C11>=$AU$1,\"O\",\"X\"))","v":"O"},{"$f":"IF(AO11=\"\",\"\",IF(AND(AO11=\"O\",AP11=\"O\",AR11=\"O\",AT11=\"O\",AU11=\"O\"),\"후보\",\"X\"))","v":""}]
["김해율하원메이저힐스테이트","'18.12",1052,145.9,44,119.4,36,451,null,null,null,null,{"$f":"I12-K12","v":0},{"$f":"IF(ISERROR(K12/I12),\"\",K12/I12)","v":""},{"$f":"I12/E12","v":0},{"$f":"K12/E12","v":0},4,2,"계",145,null,null,{"$f":"D12","v":145.9},{"$f":"E12","v":44},{"$f":"H12","v":451},{"$f":"I12","v":0},{"$f":"K12","v":0},0,"",0,{"$f":"S12","v":"계"},{"$f":"Q12&\"/\"&R12","v":"4/2"},null,"김해율하원메이저힐스테이트",44,{"$f":"IF(AI12=\"\",\"\",$AJ$2)","v":"A-"},"A","A+","B+",{"$f":"IF(AI12=\"\",\"\",$AN$2)","v":"C"},{"$f":"IF(N12=\"\",\"\",IF(N12>=$AO$1/100,\"O\",\"X\"))","v":""},{"$f":"IF(I12=\"\",\"\",IF(I12<=$AP$1,\"O\",\"X\"))","v":""},{"$f":"IF(O12=\"\",\"\",IF(O12<=$AQ$1,\"O\",\"X\"))","v":"O"},{"$f":"IF(M12=\"\",\"\",IF(M12<=$AR$1,\"O\",\"X\"))","v":"O"},"X",{"$f":"IF(OR(F12=\"\",AI12=\"\"),\"\",IF(AND((F12<=85),(AI12>=15)),\"O\",\"X\"))","v":"X"},{"$f":"IF(C12=\"\",\"\",IF(C12>=$AU$1,\"O\",\"X\"))","v":"O"},{"$f":"IF(AO12=\"\",\"\",IF(AND(AO12=\"O\",AP12=\"O\",AR12=\"O\",AT12=\"O\",AU12=\"O\"),\"후보\",\"X\"))","v":""}]
[null,null,null,null,null,null,null,null,null,null,null,null,null,null,null,null,null,null,null,null,null,null,{"$f":"$A$4&\" \"&A14&\"(\"&B14&\",\"&C14&\"^)\"","v":"장유동 김해율하원메이저자이('18.12,708^)"},null,null,null,null,null,null,null,null,null,null,"",""]
["김해율하원메이저자이","'18.12",708,83.6,25,60,18,198,null,null,null,null,{"$f":"I14-K14","v":0},{"$f":"IF(ISERROR(K14/I14),\"\",K14/I14)","v":""},{"$f":"I14/E14","v":0},{"$f":"K14/E14","v":0},3,2,"계","83A",null,null,{"$f":"D14","v":83.6},25,{"$f":"H14","v":198},0,{"$f":"K14","v":0},{"$f":"M14","v":0},"",0,{"$f":"S14","v":"계"},{"$f":"Q14&\"/\"&R14","v":"3/2"},null,"김해율하원메이저자이",25,{"$f":"IF(AI14=\"\",\"\",$AJ$2)","v":"A-"},"A","A+","B+",{"$f":"IF(AI14=\"\",\"\",$AN$2)","v":"C"},{"$f":"IF(N14=\"\",\"\",IF(N14>=$AO$1/100,\"O\",\"X\"))","v":""},{"$f":"IF(I14=\"\",\"\",IF(I14<=$AP$1,\"O\",\"X\"))","v":""},{"$f":"IF(O14=\"\",\"\",IF(O14<=$AQ$1,\"O\",\"X\"))","v":"O"},{"$f":"IF(M14=\"\",\"\",IF(M14<=$AR$1,\"O\",\"X\"))","v":"O"},"X",{"$f":"IF(OR(F14=\"\",AI14=\"\"),\"\",IF(AND((F14<=85),(AI14>=15)),\"O\",\"X\"))","v":"O"},{"$f":"IF(C14=\"\",\"\",IF(C14>=$AU$1,\"O\",\"X\"))","v":"O"},{"$f":"IF(AO14=\"\",\"\",IF(AND(AO14=\"O\",AP14=\"O\",AR14=\"O\",AT14=\"O\",AU14=\"O\"),\"후보\",\"X\"))","v":""}]
["김해율하원메이저자이","'18.12",708,101.2,31,75,23,176,null,null,null,null,{"$f":"I15-K15","v":0},{"$f":"IF(ISERROR(K15/I15),\"\",K15/I15)","v":""},{"$f":"I15/E15","v":0},{"$f":"K15/E15","v":0},3,2,"계",101,null,null,101.2,31,176,0,{"$f":"K15","v":0},0,"",0,{"$f":"S15","v":"계"},{"$f":"Q15&\"/\"&R15","v":"3/2"},null,"김해율하원메이저자이",31,{"$f":"IF(AI15=\"\",\"\",$AJ$2)","v":"A-"},"A","A+","B+",{"$f":"IF(AI15=\"\",\"\",$AN$2)","v":"C"},{"$f":"IF(N15=\"\",\"\",IF(N15>=$AO$1/100,\"O\",\"X\"))","v":""},{"$f":"IF(I15=\"\",\"\",IF(I15<=$AP$1,\"O\",\"X\"))","v":""},{"$f":"IF(O15=\"\",\"\",IF(O15<=$AQ$1,\"O\",\"X\"))","v":"O"},{"$f":"IF(M15=\"\",\"\",IF(M15<=$AR$1,\"O\",\"X\"))","v":"O"},"X",{"$f":"IF(OR(F15=\"\",AI15=\"\"),\"\",IF(AND((F15<=85),(AI15>=15)),\"O\",\"X\"))","v":"O"},{"$f":"IF(C15=\"\",\"\",IF(C15>=$AU$1,\"O\",\"X\"))","v":"O"},{"$f":"IF(AO15=\"\",\"\",IF(AND(AO15=\"O\",AP15=\"O\",AR15=\"O\",AT15=\"O\",AU15=\"O\"),\"후보\",\"X\"))","v":""}]
["김해율하원메이저자이","'18.12",708,113.1,34,85,26,234,null,null,null,null,{"$f":"I16-K16","v":0},{"$f":"IF(ISERROR(K16/I16),\"\",K16/I16)","v":""},{"$f":"I16/E16","v":0},{"$f":"K16/E16","v":0},3,2,"계","113A",null,null,113.1,34,234,0,{"$f":"K16","v":0},0,"",0,{"$f":"S16","v":"계"},{"$f":"Q16&\"/\"&R16","v":"3/2"},null,"김해율하원메이저자이",34,{"$f":"IF(AI16=\"\",\"\",$AJ$2)","v":"A-"},"A","A+","B+",{"$f":"IF(AI16=\"\",\"\",$AN$2)","v":"C"},{"$f":"IF(N16=\"\",\"\",IF(N16>=$AO$1/100,\"O\",\"X\"))","v":""},{"$f":"IF(I16=\"\",\"\",IF(I16<=$AP$1,\"O\",\"X\"))","v":""},{"$f":"IF(O16=\"\",\"\",IF(O16<=$AQ$1,\"O\",\"X\"))","v":"O"},{"$f":"IF(M16=\"\",\"\",IF(M16<=$AR$1,\"O\",\"X\"))","v":"O"},"X",{"$f":"IF(OR(F16=\"\",AI16=\"\"),\"\",IF(AND((F16<=85),(AI16>=15)),\"O\",\"X\"))","v":"O"},{"$f":"IF(C16=\"\",\"\",IF(C16>=$AU$1,\"O\",\"X\"))","v":"O"},{"$f":"IF(AO16=\"\",\"\",IF(AND(AO16=\"O\",AP16=\"O\",AR16=\"O\",AT16=\"O\",AU16=\"O\"),\"후보\",\"X\"))","v":""}]
[null,null,null,null,null,null,null,null,null,null,null,null,null,null,null,null,null,null,null,null,null,null,{"$f":"$A$4&\" \"&A18&\"(\"&B18&\",\"&C18&\"^)\"","v":"장유동 김해율하원메이저푸르지오('18.12,631^)"},null,null,null,null,null,null,null,null,null,null,"",""]
["김해율하원메이저푸르지오","'18.12",631,101.1,31,75,23,92,null,null,null,null,{"$f":"I18-K18","v":0},{"$f":"IF(ISERROR(K18/I18),\"\",K18/I18)","v":""},{"$f":"I18/E18","v":0},{"$f":"K18/E18","v":0},3,2,"계",101,null,null,{"$f":"D18","v":101.1},{"$f":"E18","v":31},{"$f":"H18","v":92},{"$f":"I18","v":0},{"$f":"K18","v":0},{"$f":"M18","v":0},"",0,{"$f":"S18","v":"계"},{"$f":"Q18&\"/\"&R18","v":"3/2"},null,"김해율하원메이저푸르지오",31,{"$f":"IF(AI18=\"\",\"\",$AJ$2)","v":"A-"},"A","A+","B+",{"$f":"IF(AI18=\"\",\"\",$AN$2)","v":"C"},{"$f":"IF(N18=\"\",\"\",IF(N18>=$AO$1/100,\"O\",\"X\"))","v":""},{"$f":"IF(I18=\"\",\"\",IF(I18<=$AP$1,\"O\",\"X\"))","v":""},{"$f":"IF(O18=\"\",\"\",IF(O18<=$AQ$1,\"O\",\"X\"))","v":"O"},{"$f":"IF(M18=\"\",\"\",IF(M18<=$AR$1,\"O\",\"X\"))","v":"O"},"X",{"$f":"IF(OR(F18=\"\",AI18=\"\"),\"\",IF(AND((F18<=85),(AI18>=15)),\"O\",\"X\"))","v":"O"},{"$f":"IF(C18=\"\",\"\",IF(C18>=$AU$1,\"O\",\"X\"))","v":"O"},{"$f":"IF(AO18=\"\",\"\",IF(AND(AO18=\"O\",AP18=\"O\",AR18=\"O\",AT18=\"O\",AU18=\"O\"),\"후보\",\"X\"))","v":""}]
["김해율하원메이저푸르지오","'18.12",631,113.4,34,85,26,297,null,null,null,null,{"$f":"I19-K19","v":0},{"$f":"IF(ISERROR(K19/I19),\"\",K19/I19)","v":""},{"$f":"I19/E19","v":0},{"$f":"K19/E19","v":0},3,2,"계","113A",null,null,{"$f":"D19","v":113.4},{"$f":"E19","v":34},{"$f":"H19","v":297},{"$f":"I19","v":0},{"$f":"K19","v":0},0,"",0,{"$f":"S19","v":"계"},{"$f":"Q19&\"/\"&R19","v":"3/2"},null,"김해율하원메이저푸르지오",34,{"$f":"IF(AI19=\"\",\"\",$AJ$2)","v":"A-"},"A","A+","B+",{"$f":"IF(AI19=\"\",\"\",$AN$2)","v":"C"},{"$f":"IF(N19=\"\",\"\",IF(N19>=$AO$1/100,\"O\",\"X\"))","v":""},{"$f":"IF(I19=\"\",\"\",IF(I19<=$AP$1,\"O\",\"X\"))","v":""},{"$f":"IF(O19=\"\",\"\",IF(O19<=$AQ$1,\"O\",\"X\"))","v":"O"},{"$f":"IF(M19=\"\",\"\",IF(M19<=$AR$1,\"O\",\"X\"))","v":"O"},"X",{"$f":"IF(OR(F19=\"\",AI19=\"\"),\"\",IF(AND((F19<=85),(AI19>=15)),\"O\",\"X\"))","v":"O"},{"$f":"IF(C19=\"\",\"\",IF(C19>=$AU$1,\"O\",\"X\"))","v":"O"},{"$f":"IF(AO19=\"\",\"\",IF(AND(AO19=\"O\",AP19=\"O\",AR19=\"O\",AT19=\"O\",AU19=\"O\"),\"후보\",\"X\"))","v":""}]

{"sheet":"산동읍","index":24,"n_rows":17,"n_cols":48,"rows_kept":17,"cut":false,"hidden":false,"merged":[[0,35,0,39]]}
[{"$f":"단지추출!A1","v":"구미시"},null,null,null,null,null,null,null,"추출대상",null,null,null,null,null,null,null,null,null,null,null,null,null,null,"매매가 최대(색상 최대)",null,null,{"$f":"단지추출!AA1","v":70000},null,null,null,null,null,null,{"$f":"A1","v":"구미시"},null,{"$f":"A1&\" 전체 등급\"","v":"구미시 전체 등급"},null,null,null,null,{"$f":"단지추출!AO1","v":80},{"$f":"단지추출!AP1","v":45000},{"$f":"단지추출!AQ1","v":1000},{"$f":"단지추출!AR1","v":6000},null,null,{"$f":"단지추출!AU1","v":300}]
[{"$f":"단지추출!A2","v":"2022-01-01"},null,null,null,null,null,null,null,null,null,null,null,null,null,null,null,null,null,null,null,null,null,null,"매매가 최소(색상 최소)",null,null,{"$f":"단지추출!AA2","v":10000},null,null,null,null,null,null,{"$f":"AH1 &\" \" &A4","v":"구미시 주촌면"},null,{"$f":"단지추출!AJ2","v":"A-"},{"$f":"단지추출!AK2","v":"A"},{"$f":"단지추출!AL2","v":"A"},{"$f":"단지추출!AM2","v":"A"},{"$f":"단지추출!AN2","v":"C"},"원금보전",null,null,"수익성",null,"환금성"]
["단지명","입주\n연도","총세\n대수","공급\n(m2)","공급\n면적","전용\n(m2)","전용\n면적","세대","매매\n최저가","층","전세\n최고가","층","매전갭","전세\n가율","매매\n평단","전세\n평단","방","욕\n실","구\n조","매/전/월\nType","비고",null,"공급\n(m2)","공급\n면적","세대","매매가","전세가","매전갭","전세\n가율","평단가","구\n조","방/\n욕실",null,{"$f":"IF(A3=\"\",\"\",A3)","v":"단지명"},{"$f":"IF(E3=\"\",\"\",E3)","v":"공급\n면적"},"직장","교통","학군","환경","공급",{"$f":"\"전세가율★\n(\"&AO1&\"%↑)\"","v":"전세가율★\n(80%↑)"},{"$f":"\"절대가★\n(\"&AP1/10000&\"억↓)\"","v":"절대가★\n(4.5억↓)"},{"$f":"\"지역평단가\n(\"&AQ1&\"↓)\"","v":"지역평단가\n(1000↓)"},{"$f":"\"투자규모★\n(갭\"&AR1/1000&\"천↓)\"","v":"투자규모★\n(갭6천↓)"},"전고점\n이하","평형★\n(15~34평)",{"$f":"\"단지규모★\n(\"&AU1&\"^↑)\"","v":"단지규모★\n(300^↑)"},"투자후보"]
["주촌면",null,null,null,null,null,null,null,null,null,null,null,null,null,null,null,null,null,null,null,null,null,null,null,null,null,null,null,null,null,null,null,null,null,""]
[null,null,null,null,null,null,null,null,null,null,null,null,null,null,null,null,null,null,null,null,null,null,{"$f":"$A$4&\" \"&A6&\"(\"&B6&\",\"&C6&\"^)\"","v":"주촌면 김해센텀두산위브더제니스('19.02,3435^)"},null,null,null,null,null,null,null,null,null,null,{"$f":"IF(A5=\"\",\"\",A5)","v":""},""]
["김해센텀두산위브더제니스","'19.02",3435,81.2,25,59.9,18,338,null,null,null,null,{"$f":"I6-K6","v":0},{"$f":"IF(ISERROR(K6/I6),\"\",K6/I6)","v":""},{"$f":"I6/E6","v":0},{"$f":"K6/E6","v":0},3,2,"계","81A",null,null,{"$f":"D6","v":81.2},25,{"$f":"H6","v":338},0,{"$f":"K6","v":0},{"$f":"M6","v":0},"",0,{"$f":"S6","v":"계"},{"$f":"Q6&\"/\"&R6","v":"3/2"},null,"김해센텀두산위브더제니스",25,{"$f":"IF(AI6=\"\",\"\",$AJ$2)","v":"A-"},"A","A+","B+",{"$f":"IF(AI6=\"\",\"\",$AN$2)","v":"C"},{"$f":"IF(N6=\"\",\"\",IF(N6>=$AO$1/100,\"O\",\"X\"))","v":""},{"$f":"IF(I6=\"\",\"\",IF(I6<=$AP$1,\"O\",\"X\"))","v":""},{"$f":"IF(O6=\"\",\"\",IF(O6<=$AQ$1,\"O\",\"X\"))","v":"O"},{"$f":"IF(M6=\"\",\"\",IF(M6<=$AR$1,\"O\",\"X\"))","v":"O"},"X",{"$f":"IF(OR(F6=\"\",AI6=\"\"),\"\",IF(AND((F6<=85),(AI6>=15)),\"O\",\"X\"))","v":"O"},{"$f":"IF(C6=\"\",\"\",IF(C6>=$AU$1,\"O\",\"X\"))","v":"O"},{"$f":"IF(AO6=\"\",\"\",IF(AND(AO6=\"O\",AP6=\"O\",AR6=\"O\",AT6=\"O\",AU6=\"O\"),\"후보\",\"X\"))","v":""}]
["김해센텀두산위브더제니스","'19.02",3435,100.9,31,75.900000000000006,23,1563,null,null,null,null,{"$f":"I7-K7","v":0},{"$f":"IF(ISERROR(K7/I7),\"\",K7/I7)","v":""},{"$f":"I7/E7","v":0},{"$f":"K7/E7","v":0},3,2,"계","100A",null,null,100.9,31,1563,0,{"$f":"K7","v":0},0,"",0,{"$f":"S7","v":"계"},{"$f":"Q7&\"/\"&R7","v":"3/2"},null,"김해센텀두산위브더제니스",31,{"$f":"IF(AI7=\"\",\"\",$AJ$2)","v":"A-"},"A","A+","B+",{"$f":"IF(AI7=\"\",\"\",$AN$2)","v":"C"},{"$f":"IF(N7=\"\",\"\",IF(N7>=$AO$1/100,\"O\",\"X\"))","v":""},{"$f":"IF(I7=\"\",\"\",IF(I7<=$AP$1,\"O\",\"X\"))","v":""},{"$f":"IF(O7=\"\",\"\",IF(O7<=$AQ$1,\"O\",\"X\"))","v":"O"},{"$f":"IF(M7=\"\",\"\",IF(M7<=$AR$1,\"O\",\"X\"))","v":"O"},"X",{"$f":"IF(OR(F7=\"\",AI7=\"\"),\"\",IF(AND((F7<=85),(AI7>=15)),\"O\",\"X\"))","v":"O"},{"$f":"IF(C7=\"\",\"\",IF(C7>=$AU$1,\"O\",\"X\"))","v":"O"},{"$f":"IF(AO7=\"\",\"\",IF(AND(AO7=\"O\",AP7=\"O\",AR7=\"O\",AT7=\"O\",AU7=\"O\"),\"후보\",\"X\"))","v":""}]
["김해센텀두산위브더제니스","'19.02",3435,113.4,34,85,26,600,null,null,null,null,{"$f":"I8-K8","v":0},{"$f":"IF(ISERROR(K8/I8),\"\",K8/I8)","v":""},{"$f":"I8/E8","v":0},{"$f":"K8/E8","v":0},3,2,"계","113A",null,null,113.4,34,600,0,{"$f":"K8","v":0},0,"",0,{"$f":"S8","v":"계"},{"$f":"Q8&\"/\"&R8","v":"3/2"},null,"김해센텀두산위브더제니스",34,{"$f":"IF(AI8=\"\",\"\",$AJ$2)","v":"A-"},"A","A+","B+",{"$f":"IF(AI8=\"\",\"\",$AN$2)","v":"C"},{"$f":"IF(N8=\"\",\"\",IF(N8>=$AO$1/100,\"O\",\"X\"))","v":""},{"$f":"IF(I8=\"\",\"\",IF(I8<=$AP$1,\"O\",\"X\"))","v":""},{"$f":"IF(O8=\"\",\"\",IF(O8<=$AQ$1,\"O\",\"X\"))","v":"O"},{"$f":"IF(M8=\"\",\"\",IF(M8<=$AR$1,\"O\",\"X\"))","v":"O"},"X",{"$f":"IF(OR(F8=\"\",AI8=\"\"),\"\",IF(AND((F8<=85),(AI8>=15)),\"O\",\"X\"))","v":"O"},{"$f":"IF(C8=\"\",\"\",IF(C8>=$AU$1,\"O\",\"X\"))","v":"O"},{"$f":"IF(AO8=\"\",\"\",IF(AND(AO8=\"O\",AP8=\"O\",AR8=\"O\",AT8=\"O\",AU8=\"O\"),\"후보\",\"X\"))","v":""}]
["김해센텀두산위브더제니스","'19.02",3435,139.5,42,106.6,32,165,null,null,null,null,{"$f":"I9-K9","v":0},{"$f":"IF(ISERROR(K9/I9),\"\",K9/I9)","v":""},{"$f":"I9/E9","v":0},{"$f":"K9/E9","v":0},4,2,"계",139,null,null,139.5,42,165,0,{"$f":"K9","v":0},0,"",0,{"$f":"S9","v":"계"},{"$f":"Q9&\"/\"&R9","v":"4/2"},null,"김해센텀두산위브더제니스",42,{"$f":"IF(AI9=\"\",\"\",$AJ$2)","v":"A-"},"A","A+","B+",{"$f":"IF(AI9=\"\",\"\",$AN$2)","v":"C"},{"$f":"IF(N9=\"\",\"\",IF(N9>=$AO$1/100,\"O\",\"X\"))","v":""},{"$f":"IF(I9=\"\",\"\",IF(I9<=$AP$1,\"O\",\"X\"))","v":""},{"$f":"IF(O9=\"\",\"\",IF(O9<=$AQ$1,\"O\",\"X\"))","v":"O"},{"$f":"IF(M9=\"\",\"\",IF(M9<=$AR$1,\"O\",\"X\"))","v":"O"},"X",{"$f":"IF(OR(F9=\"\",AI9=\"\"),\"\",IF(AND((F9<=85),(AI9>=15)),\"O\",\"X\"))","v":"X"},{"$f":"IF(C9=\"\",\"\",IF(C9>=$AU$1,\"O\",\"X\"))","v":"O"},{"$f":"IF(AO9=\"\",\"\",IF(AND(AO9=\"O\",AP9=\"O\",AR9=\"O\",AT9=\"O\",AU9=\"O\"),\"후보\",\"X\"))","v":""}]
[null,null,null,null,null,null,null,null,null,null,null,null,null,null,null,null,null,null,null,null,null,null,{"$f":"$A$4&\" \"&A11&\"(\"&B11&\",\"&C11&\"^)\"","v":"주촌면 김해센텀큐시티('18.05,1518^)"},null,null,null,null,null,null,null,null,null,null,"",""]
["김해센텀큐시티","'18.05",1518,86.6,26,60,18,282,null,null,null,null,{"$f":"I11-K11","v":0},{"$f":"IF(ISERROR(K11/I11),\"\",K11/I11)","v":""},{"$f":"I11/E11","v":0},{"$f":"K11/E11","v":0},3,2,"계","86B",null,null,{"$f":"D11","v":86.6},26,{"$f":"H11","v":282},0,{"$f":"K11","v":0},{"$f":"M11","v":0},"",0,{"$f":"S11","v":"계"},{"$f":"Q11&\"/\"&R11","v":"3/2"},null,"김해센텀큐시티",26,{"$f":"IF(AI11=\"\",\"\",$AJ$2)","v":"A-"},"A","A+","B+",{"$f":"IF(AI11=\"\",\"\",$AN$2)","v":"C"},{"$f":"IF(N11=\"\",\"\",IF(N11>=$AO$1/100,\"O\",\"X\"))","v":""},{"$f":"IF(I11=\"\",\"\",IF(I11<=$AP$1,\"O\",\"X\"))","v":""},{"$f":"IF(O11=\"\",\"\",IF(O11<=$AQ$1,\"O\",\"X\"))","v":"O"},{"$f":"IF(M11=\"\",\"\",IF(M11<=$AR$1,\"O\",\"X\"))","v":"O"},"X",{"$f":"IF(OR(F11=\"\",AI11=\"\"),\"\",IF(AND((F11<=85),(AI11>=15)),\"O\",\"X\"))","v":"O"},{"$f":"IF(C11=\"\",\"\",IF(C11>=$AU$1,\"O\",\"X\"))","v":"O"},{"$f":"IF(AO11=\"\",\"\",IF(AND(AO11=\"O\",AP11=\"O\",AR11=\"O\",AT11=\"O\",AU11=\"O\"),\"후보\",\"X\"))","v":""}]
["김해센텀큐시티","'18.05",1518,93.8,28,67.900000000000006,21,394,null,null,null,null,{"$f":"I12-K12","v":0},{"$f":"IF(ISERROR(K12/I12),\"\",K12/I12)","v":""},{"$f":"I12/E12","v":0},{"$f":"K12/E12","v":0},3,2,"계",93,null,null,93.8,28,394,0,{"$f":"K12","v":0},0,"",0,{"$f":"S12","v":"계"},{"$f":"Q12&\"/\"&R12","v":"3/2"},null,"김해센텀큐시티",28,{"$f":"IF(AI12=\"\",\"\",$AJ$2)","v":"A-"},"A","A+","B+",{"$f":"IF(AI12=\"\",\"\",$AN$2)","v":"C"},{"$f":"IF(N12=\"\",\"\",IF(N12>=$AO$1/100,\"O\",\"X\"))","v":""},{"$f":"IF(I12=\"\",\"\",IF(I12<=$AP$1,\"O\",\"X\"))","v":""},{"$f":"IF(O12=\"\",\"\",IF(O12<=$AQ$1,\"O\",\"X\"))","v":"O"},{"$f":"IF(M12=\"\",\"\",IF(M12<=$AR$1,\"O\",\"X\"))","v":"O"},"X",{"$f":"IF(OR(F12=\"\",AI12=\"\"),\"\",IF(AND((F12<=85),(AI12>=15)),\"O\",\"X\"))","v":"O"},{"$f":"IF(C12=\"\",\"\",IF(C12>=$AU$1,\"O\",\"X\"))","v":"O"},{"$f":"IF(AO12=\"\",\"\",IF(AND(AO12=\"O\",AP12=\"O\",AR12=\"O\",AT12=\"O\",AU12=\"O\"),\"후보\",\"X\"))","v":""}]
["김해센텀큐시티","'18.05",1518,104.1,32,77.8,24,184,null,null,null,null,{"$f":"I13-K13","v":0},{"$f":"IF(ISERROR(K13/I13),\"\",K13/I13)","v":""},{"$f":"I13/E13","v":0},{"$f":"K13/E13","v":0},3,2,"계","104B",null,null,104.1,32,184,0,{"$f":"K13","v":0},0,"",0,{"$f":"S13","v":"계"},{"$f":"Q13&\"/\"&R13","v":"3/2"},null,"김해센텀큐시티",32,{"$f":"IF(AI13=\"\",\"\",$AJ$2)","v":"A-"},"A","A+","B+",{"$f":"IF(AI13=\"\",\"\",$AN$2)","v":"C"},{"$f":"IF(N13=\"\",\"\",IF(N13>=$AO$1/100,\"O\",\"X\"))","v":""},{"$f":"IF(I13=\"\",\"\",IF(I13<=$AP$1,\"O\",\"X\"))","v":""},{"$f":"IF(O13=\"\",\"\",IF(O13<=$AQ$1,\"O\",\"X\"))","v":"O"},{"$f":"IF(M13=\"\",\"\",IF(M13<=$AR$1,\"O\",\"X\"))","v":"O"},"X",{"$f":"IF(OR(F13=\"\",AI13=\"\"),\"\",IF(AND((F13<=85),(AI13>=15)),\"O\",\"X\"))","v":"O"},{"$f":"IF(C13=\"\",\"\",IF(C13>=$AU$1,\"O\",\"X\"))","v":"O"},{"$f":"IF(AO13=\"\",\"\",IF(AND(AO13=\"O\",AP13=\"O\",AR13=\"O\",AT13=\"O\",AU13=\"O\"),\"후보\",\"X\"))","v":""}]
["김해센텀큐시티","'18.05",1518,112,34,85,26,196,null,null,null,null,{"$f":"I14-K14","v":0},{"$f":"IF(ISERROR(K14/I14),\"\",K14/I14)","v":""},{"$f":"I14/E14","v":0},{"$f":"K14/E14","v":0},3,2,"계",111,null,null,112,34,196,0,{"$f":"K14","v":0},0,"",0,{"$f":"S14","v":"계"},{"$f":"Q14&\"/\"&R14","v":"3/2"},null,"김해센텀큐시티",34,{"$f":"IF(AI14=\"\",\"\",$AJ$2)","v":"A-"},"A","A+","B+",{"$f":"IF(AI14=\"\",\"\",$AN$2)","v":"C"},{"$f":"IF(N14=\"\",\"\",IF(N14>=$AO$1/100,\"O\",\"X\"))","v":""},{"$f":"IF(I14=\"\",\"\",IF(I14<=$AP$1,\"O\",\"X\"))","v":""},{"$f":"IF(O14=\"\",\"\",IF(O14<=$AQ$1,\"O\",\"X\"))","v":"O"},{"$f":"IF(M14=\"\",\"\",IF(M14<=$AR$1,\"O\",\"X\"))","v":"O"},"X",{"$f":"IF(OR(F14=\"\",AI14=\"\"),\"\",IF(AND((F14<=85),(AI14>=15)),\"O\",\"X\"))","v":"O"},{"$f":"IF(C14=\"\",\"\",IF(C14>=$AU$1,\"O\",\"X\"))","v":"O"},{"$f":"IF(AO14=\"\",\"\",IF(AND(AO14=\"O\",AP14=\"O\",AR14=\"O\",AT14=\"O\",AU14=\"O\"),\"후보\",\"X\"))","v":""}]
[null,null,null,null,null,null,null,null,null,null,null,null,null,null,null,null,null,null,null,null,null,null,{"$f":"$A$4&\" \"&A16&\"(\"&B16&\",\"&C16&\"^)\"","v":"주촌면 김해주촌두산위브더제니스('19.11,851^)"},null,null,null,null,null,null,null,null,null,null,"",""]
["김해주촌두산위브더제니스","'19.11",851,88,27,68,21,57,null,null,null,null,{"$f":"I16-K16","v":0},{"$f":"IF(ISERROR(K16/I16),\"\",K16/I16)","v":""},{"$f":"I16/E16","v":0},{"$f":"K16/E16","v":0},3,2,"계",null,null,null,{"$f":"D16","v":88},{"$f":"E16","v":27},{"$f":"H16","v":57},{"$f":"I16","v":0},{"$f":"K16","v":0},{"$f":"M16","v":0},"",0,{"$f":"S16","v":"계"},{"$f":"Q16&\"/\"&R16","v":"3/2"},null,"김해주촌두산위브더제니스",27,{"$f":"IF(AI16=\"\",\"\",$AJ$2)","v":"A-"},"A","A+","B+",{"$f":"IF(AI16=\"\",\"\",$AN$2)","v":"C"},{"$f":"IF(N16=\"\",\"\",IF(N16>=$AO$1/100,\"O\",\"X\"))","v":""},{"$f":"IF(I16=\"\",\"\",IF(I16<=$AP$1,\"O\",\"X\"))","v":""},{"$f":"IF(O16=\"\",\"\",IF(O16<=$AQ$1,\"O\",\"X\"))","v":"O"},{"$f":"IF(M16=\"\",\"\",IF(M16<=$AR$1,\"O\",\"X\"))","v":"O"},"X",{"$f":"IF(OR(F16=\"\",AI16=\"\"),\"\",IF(AND((F16<=85),(AI16>=15)),\"O\",\"X\"))","v":"O"},{"$f":"IF(C16=\"\",\"\",IF(C16>=$AU$1,\"O\",\"X\"))","v":"O"},{"$f":"IF(AO16=\"\",\"\",IF(AND(AO16=\"O\",AP16=\"O\",AR16=\"O\",AT16=\"O\",AU16=\"O\"),\"후보\",\"X\"))","v":""}]
["김해주촌두산위브더제니스","'19.11",851,109,33,85,26,508,null,null,null,null,{"$f":"I17-K17","v":0},{"$f":"IF(ISERROR(K17/I17),\"\",K17/I17)","v":""},{"$f":"I17/E17","v":0},{"$f":"K17/E17","v":0},3,2,"계",null,null,null,{"$f":"D17","v":109},{"$f":"E17","v":33},{"$f":"H17","v":508},{"$f":"I17","v":0},{"$f":"K17","v":0},0,"",0,{"$f":"S17","v":"계"},{"$f":"Q17&\"/\"&R17","v":"3/2"},null,"김해주촌두산위브더제니스",33,{"$f":"IF(AI17=\"\",\"\",$AJ$2)","v":"A-"},"A","A+","B+",{"$f":"IF(AI17=\"\",\"\",$AN$2)","v":"C"},{"$f":"IF(N17=\"\",\"\",IF(N17>=$AO$1/100,\"O\",\"X\"))","v":""},{"$f":"IF(I17=\"\",\"\",IF(I17<=$AP$1,\"O\",\"X\"))","v":""},{"$f":"IF(O17=\"\",\"\",IF(O17<=$AQ$1,\"O\",\"X\"))","v":"O"},{"$f":"IF(M17=\"\",\"\",IF(M17<=$AR$1,\"O\",\"X\"))","v":"O"},"X",{"$f":"IF(OR(F17=\"\",AI17=\"\"),\"\",IF(AND((F17<=85),(AI17>=15)),\"O\",\"X\"))","v":"O"},{"$f":"IF(C17=\"\",\"\",IF(C17>=$AU$1,\"O\",\"X\"))","v":"O"},{"$f":"IF(AO17=\"\",\"\",IF(AND(AO17=\"O\",AP17=\"O\",AR17=\"O\",AT17=\"O\",AU17=\"O\"),\"후보\",\"X\"))","v":""}]

{"sheet":"양식","index":25,"n_rows":6,"n_cols":48,"rows_kept":6,"cut":false,"hidden":false,"merged":[[0,35,0,39]]}
[{"$f":"단지추출!A1","v":"구미시"},null,null,null,null,null,null,null,"추출대상",null,null,null,null,null,null,null,null,null,null,null,null,null,null,"매매가 최대(색상 최대)",null,null,{"$f":"단지추출!AA1","v":70000},null,null,null,null,null,null,{"$f":"A1","v":"구미시"},null,{"$f":"A1&\" 전체 등급\"","v":"구미시 전체 등급"},null,null,null,null,{"$f":"단지추출!AO1","v":80},{"$f":"단지추출!AP1","v":45000},{"$f":"단지추출!AQ1","v":1000},{"$f":"단지추출!AR1","v":6000},null,null,{"$f":"단지추출!AU1","v":300}]
[{"$f":"단지추출!A2","v":"2022-01-01"},null,null,null,null,null,null,null,null,null,null,null,null,null,null,null,null,null,null,null,null,null,null,"매매가 최소(색상 최소)",null,null,{"$f":"단지추출!AA2","v":10000},null,null,null,null,null,null,{"$f":"AH1 &\" \" &A4","v":"구미시 동명"},null,{"$f":"단지추출!AJ2","v":"A-"},{"$f":"단지추출!AK2","v":"A"},{"$f":"단지추출!AL2","v":"A"},{"$f":"단지추출!AM2","v":"A"},{"$f":"단지추출!AN2","v":"C"},"원금보전",null,null,"수익성",null,"환금성"]
["단지명","입주\n연도","총세\n대수","공급\n(m2)","공급\n면적","전용\n(m2)","전용\n면적","세대","매매\n최저가","층","전세\n최고가","층","매전갭","전세\n가율","매매\n평단","전세\n평단","방","욕\n실","구\n조","매/전/월\nType","비고",null,"공급\n(m2)","공급\n면적","세대","매매가","전세가","매전갭","전세\n가율","평단가","구\n조","방/\n욕실",null,{"$f":"IF(A3=\"\",\"\",A3)","v":"단지명"},{"$f":"IF(E3=\"\",\"\",E3)","v":"공급\n면적"},"직장","교통","학군","환경","공급",{"$f":"\"전세가율★\n(\"&AO1&\"%↑)\"","v":"전세가율★\n(80%↑)"},{"$f":"\"절대가★\n(\"&AP1/10000&\"억↓)\"","v":"절대가★\n(4.5억↓)"},{"$f":"\"지역평단가\n(\"&AQ1&\"↓)\"","v":"지역평단가\n(1000↓)"},{"$f":"\"투자규모★\n(갭\"&AR1/1000&\"천↓)\"","v":"투자규모★\n(갭6천↓)"},"전고점\n이하","평형★\n(15~34평)",{"$f":"\"단지규모★\n(\"&AU1&\"^↑)\"","v":"단지규모★\n(300^↑)"},"투자후보"]
["동명",null,null,null,null,null,null,null,null,null,null,null,null,null,null,null,null,null,null,null,null,null,null,null,null,null,null,null,null,null,null,null,null,null,{"$f":"IF(E4=\"\",\"\",E4)","v":""}]
[null,null,null,null,null,null,null,null,null,null,null,null,null,null,null,null,null,null,null,null,null,null,{"$f":"$A$4&\" \"&A6&\"(\"&B6&\",\"&C6&\"^)\"","v":"동명 단지명('19.04,905^)"},null,null,null,null,null,null,null,null,null,null,{"$f":"IF(A5=\"\",\"\",A5)","v":""},{"$f":"IF(E5=\"\",\"\",E5)","v":""}]
["단지명","'19.04",905,79.3,24,59.8,18,240,null,null,null,null,{"$f":"I6-K6","v":0},{"$f":"IF(ISERROR(K6/I6),\"\",K6/I6)","v":""},{"$f":"I6/E6","v":0},{"$f":"K6/E6","v":0},3,2,"계",79,null,null,{"$f":"D6","v":79.3},{"$f":"E6","v":24},{"$f":"H6","v":240},{"$f":"I6","v":0},{"$f":"K6","v":0},{"$f":"M6","v":0},{"$f":"N6","v":""},{"$f":"O6","v":0},{"$f":"S6","v":"계"},{"$f":"Q6&\"/\"&R6","v":"3/2"},null,{"$f":"IF(A6=\"\",\"\",A6)","v":"단지명"},{"$f":"IF(E6=\"\",\"\",E6)","v":24},{"$f":"IF(AI6=\"\",\"\",$AJ$2)","v":"A-"},"A","A+","B+",{"$f":"IF(AI6=\"\",\"\",$AN$2)","v":"C"},{"$f":"IF(N6=\"\",\"\",IF(N6>=$AO$1/100,\"O\",\"X\"))","v":""},{"$f":"IF(I6=\"\",\"\",IF(I6<=$AP$1,\"O\",\"X\"))","v":""},{"$f":"IF(O6=\"\",\"\",IF(O6<=$AQ$1,\"O\",\"X\"))","v":"O"},{"$f":"IF(M6=\"\",\"\",IF(M6<=$AR$1,\"O\",\"X\"))","v":"O"},"X",{"$f":"IF(OR(F6=\"\",AI6=\"\"),\"\",IF(AND((F6<=85),(AI6>=15)),\"O\",\"X\"))","v":"O"},{"$f":"IF(C6=\"\",\"\",IF(C6>=$AU$1,\"O\",\"X\"))","v":"O"},{"$f":"IF(AO6=\"\",\"\",IF(AND(AO6=\"O\",AP6=\"O\",AR6=\"O\",AT6=\"O\",AU6=\"O\"),\"후보\",\"X\"))","v":""}]