{"text_format":"1","workbook":"xlsx","n_sheets":2,"sheets":["번호추출","자료실"],"not_rendered":{"charts":1,"images":0,"macros":1,"external_links":0,"defined_names":0,"comments":0,"pivot_tables":0},"unopened":[],"bounds":{"document_bytes":16777216,"sheet_cells":100000,"rows_first":2000,"rows_last":500,"rows_between":2000,"halvings":0,"cell_chars":16384,"cell_head_chars":4096},"cells_cut":0,"cells_raw":0,"read":"whole","date_system":"1900"}

{"sheet":"번호추출","index":0,"n_rows":53,"n_cols":54,"rows_kept":53,"cut":false,"hidden":false,"merged":[[1,12,3,18],[7,28,7,32],[7,21,8,21],[7,22,7,27],[6,1,6,10]]}
[]
[null,null,null,null,null,null,null,null,null,null,null,null,1044]
[]
[]
[null,null,null,null,null,null,null,null,null,null,null,null,{"$f":"SUMIF(자료실!$A:$A,$M$2,자료실!C:C)","v":12},{"$f":"SUMIF(자료실!$A:$A,$M$2,자료실!D:D)","v":17},{"$f":"SUMIF(자료실!$A:$A,$M$2,자료실!E:E)","v":20},{"$f":"SUMIF(자료실!$A:$A,$M$2,자료실!F:F)","v":26},{"$f":"SUMIF(자료실!$A:$A,$M$2,자료실!G:G)","v":28},{"$f":"SUMIF(자료실!$A:$A,$M$2,자료실!H:H)","v":36},{"$f":"SUMIF(자료실!$A:$A,$M$2,자료실!I:I)","v":4}]
[null,null,null,null,null,null,null,null,null,null,null,null,null,null,null,null,null,"추첨일",{"$f":"VLOOKUP(M2,자료실!A:B,2,FALSE)","v":"2022.12.03"}]
[null,"* 숫자 옆에 번호를 넣으세요"]
[null,1,1,11,1,21,1,31,1,41,1,null,null,null,null,null,null,null,null,null,null,"순서","로또번호",null,null,null,null,null,"로또번당첨갯수",null,null,null,null,null,null,null,null,null,null,null,null,null,null,null,null,null,null,null,null,null,null,null,"번호","개수"]
[null,2,1,12,1,22,1,32,1,42,1,null,null,null,{"$f":"COUNTIF(자료실!$V:$AB,\"1등\")","v":0},{"$f":"COUNTIF(자료실!$V:$AB,\"2등\")","v":0},{"$f":"COUNTIF(자료실!$V:$AB,\"3등\")","v":0},{"$f":"COUNTIF(자료실!$V:$AB,\"4등\")","v":8},{"$f":"COUNTIF(자료실!$V:$AB,\"5등\")","v":36},null,null,null,"첫째","둘째","셋째","넷째","다섯째","여섯째","1등","2등","3등","4등","5등",null,null,null,null,null,null,null,null,null,null,null,null,null,null,null,null,null,null,null,1,{"$f":"COUNTIF($W$10:$AB$29,BA9)","v":2}]
[null,3,1,13,1,23,1,33,1,43,1,null,null,null,null,null,null,null,null,null,null,"1번",5,6,18,27,29,32,0,0,0,1,39,null,null,null,null,null,null,null,null,null,null,null,null,null,null,null,null,null,null,null,2,{"$f":"COUNTIF($W$10:$AB$29,BA10)","v":1}]
[null,4,1,14,1,24,1,34,1,44,1,null,null,null,null,null,null,null,null,null,null,"2번",1,21,22,27,39,40,0,0,0,3,31,null,null,null,null,null,null,null,null,null,null,null,null,null,null,null,null,null,null,null,3,3]
[null,5,1,15,1,25,1,35,1,45,1,null,null,null,null,null,null,null,null,null,null,"3번",4,10,12,15,22,32,0,0,0,5,42,null,null,null,null,null,null,null,null,null,null,null,null,null,null,null,null,null,null,null,4,5]
[null,6,1,16,1,26,1,36,1,null,null,null,null,4,15,18,25,33,45,null,null,"4번",13,17,23,27,28,36,0,0,1,3,39,null,null,null,null,null,null,null,null,null,null,null,null,null,null,null,null,null,null,null,5,2]
[null,7,1,17,1,27,1,37,1,null,null,null,null,null,null,null,null,null,null,null,null,"5번",4,7,20,21,32,34,0,0,1,2,39,null,null,null,null,null,null,null,null,null,null,null,null,null,null,null,null,null,null,null,6,3]
[null,8,1,18,1,28,1,38,1,null,null,null,null,"고정수",null,null,null,null,null,null,null,"6번",25,27,30,34,41,43,0,0,0,2,45,null,null,null,null,null,null,null,null,null,null,null,null,null,null,null,null,null,null,null,7,3]
[null,9,1,19,1,29,1,39,1,null,null,null,null,null,null,null,null,null,null,null,null,"7번",4,7,12,26,27,43,0,0,0,3,53,null,null,null,null,null,null,null,null,null,null,null,null,null,null,null,null,null,null,null,8,2]
[null,10,1,20,1,30,1,40,1,null,null,null,null,null,null,null,null,null,null,null,null,"8번",4,6,20,25,40,43,0,0,0,5,44,null,null,null,null,null,null,null,null,null,null,null,null,null,null,null,null,null,null,null,9,1]
[null,null,null,null,null,null,null,null,null,null,null,null,null,null,null,null,null,null,null,null,null,"9번",9,10,26,38,40,43,0,0,0,3,56,null,null,null,null,null,null,null,null,null,null,null,null,null,null,null,null,null,null,null,10,6]
[null,null,null,null,null,null,null,null,null,null,null,null,null,null,null,null,null,null,null,null,null,"10번",3,7,13,28,30,43,0,0,0,2,43,null,null,null,null,null,null,null,null,null,null,null,null,null,null,null,null,null,null,null,11,1]
[null,null,null,null,null,null,null,null,null,null,null,null,null,null,null,null,null,null,null,null,null,"11번",14,20,25,27,28,35,0,0,0,1,40,null,null,null,null,null,null,null,null,null,null,null,null,null,null,null,null,null,null,null,12,5]
[null,null,null,null,null,null,null,null,null,null,null,null,null,null,null,null,null,null,null,null,null,"12번",8,29,31,35,38,42,0,0,0,6,33,null,null,null,null,null,null,null,null,null,null,null,null,null,null,null,null,null,null,null,13,2]
[null,null,null,null,null,null,null,null,null,null,null,null,null,null,null,null,null,null,null,null,null,"13번",18,34,35,37,41,44,0,0,0,1,36,null,null,null,null,null,null,null,null,null,null,null,null,null,null,null,null,null,null,null,14,2]
[null,null,null,null,null,null,null,null,null,null,null,null,null,null,null,null,null,null,null,null,null,"14번",1,6,20,31,34,35,0,0,0,4,48,null,null,null,null,null,null,null,null,null,null,null,null,null,null,null,null,null,null,null,15,2]
[null,null,null,null,null,null,null,null,null,null,null,null,null,null,null,null,null,null,null,null,null,"15번",4,10,12,23,24,28,0,0,1,4,37,null,null,null,null,null,null,null,null,null,null,null,null,null,null,null,null,null,null,null,16,0]
[null,null,null,null,null,null,null,null,null,null,null,null,null,null,null,null,null,null,null,null,null,"16번",11,15,21,27,42,44,0,0,0,2,47,null,null,null,null,null,null,null,null,null,null,null,null,null,null,null,null,null,null,null,17,1]
[null,null,null,null,null,null,null,null,null,null,null,null,null,null,null,null,null,null,null,null,null,"17번",3,10,37,40,43,45,0,0,0,3,48,null,null,null,null,null,null,null,null,null,null,null,null,null,null,null,null,null,null,null,18,2]
[null,null,null,null,null,null,null,null,null,null,null,null,null,null,null,null,null,null,null,null,null,"18번",2,3,5,12,22,33,0,0,0,6,47,null,null,null,null,null,null,null,null,null,null,null,null,null,null,null,null,null,null,null,19,0]
[null,null,null,null,null,null,null,null,null,null,null,null,null,null,null,null,null,null,null,null,null,"19번",8,10,23,25,41,43,0,0,0,3,28,null,null,null,null,null,null,null,null,null,null,null,null,null,null,null,null,null,null,null,20,4]
[null,null,null,null,null,null,null,null,null,null,null,null,null,null,null,null,null,null,null,null,null,"20번",10,12,14,22,35,43,0,0,0,3,48,null,null,null,null,null,null,null,null,null,null,null,null,null,null,null,null,null,null,null,21,3]
[null,null,null,null,null,null,null,null,null,null,null,null,null,null,null,null,null,null,null,null,null,null,null,null,null,null,null,null,null,null,null,null,null,null,null,null,null,null,null,null,null,null,null,null,null,null,null,null,null,null,null,null,22,4]
[null,null,null,null,null,null,null,null,null,null,null,null,null,null,null,null,null,null,null,null,null,null,null,null,null,null,null,null,null,null,null,null,null,null,null,null,null,null,null,null,null,null,null,null,null,null,null,null,null,null,null,null,23,3]
[null,null,null,null,null,null,null,null,null,null,null,null,null,null,null,null,null,null,null,null,null,null,null,null,null,null,null,null,null,null,null,null,null,null,null,null,null,null,null,null,null,null,null,null,null,null,null,null,null,null,null,null,24,1]
[null,null,null,null,null,null,null,null,null,null,null,null,null,null,null,null,null,null,null,null,null,null,null,null,null,null,null,null,null,null,null,null,null,null,null,null,null,null,null,null,null,null,null,null,null,null,null,null,null,null,null,null,25,4]
[null,null,null,null,null,null,null,null,null,null,null,null,null,null,null,null,null,null,null,null,null,null,null,null,null,null,null,null,null,null,null,null,null,null,null,null,null,null,null,null,null,null,null,null,null,null,null,null,null,null,null,null,26,2]
[null,null,null,null,null,null,null,null,null,null,null,null,null,null,null,null,null,null,null,null,null,null,null,null,null,null,null,null,null,null,null,null,null,null,null,null,null,null,null,null,null,null,null,null,null,null,null,null,null,null,null,null,27,7]
[null,null,null,null,null,null,null,null,null,null,null,null,null,null,null,null,null,null,null,null,null,null,null,null,null,null,null,null,null,null,null,null,null,null,null,null,null,null,null,null,null,null,null,null,null,null,null,null,null,null,null,null,28,4]
[null,null,null,null,null,null,null,null,null,null,null,null,null,null,null,null,null,null,null,null,null,null,null,null,null,null,null,null,null,null,null,null,null,null,null,null,null,null,null,null,null,null,null,null,null,null,null,null,null,null,null,null,29,2]
[null,null,null,null,null,null,null,null,null,null,null,null,null,null,null,null,null,null,null,null,null,null,null,null,null,null,null,null,null,null,null,null,null,null,null,null,null,null,null,null,null,null,null,null,null,null,null,null,null,null,null,null,30,2]
[null,null,null,null,null,null,null,null,null,null,null,null,null,null,null,null,null,null,null,null,null,null,null,null,null,null,null,null,null,null,null,null,null,null,null,null,null,null,null,null,null,null,null,null,null,null,null,null,null,null,null,null,31,2]
[null,null,null,null,null,null,null,null,null,null,null,null,null,null,null,null,null,null,null,null,null,null,null,null,null,null,null,null,null,null,null,null,null,null,null,null,null,null,null,null,null,null,null,null,null,null,null,null,null,null,null,null,32,3]
[null,null,null,null,null,null,null,null,null,null,null,null,null,null,null,null,null,null,null,null,null,null,null,null,null,null,null,null,null,null,null,null,null,null,null,null,null,null,null,null,null,null,null,null,null,null,null,null,null,null,null,null,33,1]
[null,null,null,null,null,null,null,null,null,null,null,null,null,null,null,null,null,null,null,null,null,null,null,null,null,null,null,null,null,null,null,null,null,null,null,null,null,null,null,null,null,null,null,null,null,null,null,null,null,null,null,null,34,4]
[null,null,null,null,null,null,null,null,null,null,null,null,null,null,null,null,null,null,null,null,null,null,null,null,null,null,null,null,null,null,null,null,null,null,null,null,null,null,null,null,null,null,null,null,null,null,null,null,null,null,null,null,35,5]
[null,null,null,null,null,null,null,null,null,null,null,null,null,null,null,null,null,null,null,null,null,null,null,null,null,null,null,null,null,null,null,null,null,null,null,null,null,null,null,null,null,null,null,null,null,null,null,null,null,null,null,null,36,1]
[null,null,null,null,null,null,null,null,null,null,null,null,null,null,null,null,null,null,null,null,null,null,null,null,null,null,null,null,null,null,null,null,null,null,null,null,null,null,null,null,null,null,null,null,null,null,null,null,null,null,null,null,37,2]
[null,null,null,null,null,null,null,null,null,null,null,null,null,null,null,null,null,null,null,null,null,null,null,null,null,null,null,null,null,null,null,null,null,null,null,null,null,null,null,null,null,null,null,null,null,null,null,null,null,null,null,null,38,2]
[null,null,null,null,null,null,null,null,null,null,null,null,null,null,null,null,null,null,null,null,null,null,null,null,null,null,null,null,null,null,null,null,null,null,null,null,null,null,null,null,null,null,null,null,null,null,null,null,null,null,null,null,39,1]
[null,null,null,null,null,null,null,null,null,null,null,null,null,null,null,null,null,null,null,null,null,null,null,null,null,null,null,null,null,null,null,null,null,null,null,null,null,null,null,null,null,null,null,null,null,null,null,null,null,null,null,null,40,4]
[null,null,null,null,null,null,null,null,null,null,null,null,null,null,null,null,null,null,null,null,null,null,null,null,null,null,null,null,null,null,null,null,null,null,null,null,null,null,null,null,null,null,null,null,null,null,null,null,null,null,null,null,41,3]
[null,null,null,null,null,null,null,null,null,null,null,null,null,null,null,null,null,null,null,null,null,null,null,null,null,null,null,null,0,0,0,3,28,null,null,null,null,null,null,null,null,null,null,null,null,null,null,null,null,null,null,null,42,2]
[null,null,null,null,null,null,null,null,null,null,null,null,null,null,null,null,null,null,null,null,null,null,null,null,null,null,null,null,null,null,null,null,null,null,null,null,null,null,null,null,null,null,null,null,null,null,null,null,null,null,null,null,43,8]
[null,null,null,null,null,null,null,null,null,null,null,null,null,null,null,null,null,null,null,null,null,null,null,null,null,null,null,null,null,null,null,null,null,null,null,null,null,null,null,null,null,null,null,null,null,null,null,null,null,null,null,null,44,2]
[null,null,null,null,null,null,null,null,null,null,null,null,null,null,null,null,null,null,null,null,null,null,null,null,null,null,null,null,null,null,null,null,null,null,null,null,null,null,null,null,null,null,null,null,null,null,null,null,null,null,null,null,45,1]

{"sheet":"자료실","index":1,"n_rows":1278,"n_cols":28,"rows_kept":1278,"cut":false,"hidden":false,"merged":[[0,0,1,0],[0,1,1,1],[0,2,0,8],[0,11,0,18],[0,20,0,27]]}
["회차","추첨일","당첨번호",null,null,null,null,null,null,null,null,"등수 정리",null,null,null,null,null,null,null,null,"등수 정리2"]
[null,null,"1)","2)","3)","4)","5)","6)","보너스",null,null,"회차",1,2,3,4,5,6,"보",null,"합계",1,2,3,4,5,6,"보"]
[1,"2002.12.07",10,23,29,33,37,40,16,null,null,{"$f":"A3","v":1},{"$f":"COUNTIF(번호추출!$N$13:$S$13,자료실!C3)","v":0},{"$f":"COUNTIF(번호추출!$N$13:$S$13,자료실!D3)","v":0},{"$f":"COUNTIF(번호추출!$N$13:$S$13,자료실!E3)","v":0},{"$f":"COUNTIF(번호추출!$N$13:$S$13,자료실!F3)","v":1},{"$f":"COUNTIF(번호추출!$N$13:$S$13,자료실!G3)","v":0},{"$f":"COUNTIF(번호추출!$N$13:$S$13,자료실!H3)","v":0},{"$f":"IF(COUNTIF(번호추출!$N$13:$S$13,I3),7,0)","v":0},{"$f":"SUM(M3:R3)","v":1},{"$f":"SUM(M3:S3)","v":1},{"$f":"IF(1=U3,\"꽝\",IF(0<T3,\"꽝\",0))","v":"꽝"},{"$f":"IF(2=U3,\"꽝\",IF(1<T3,\"꽝\",0))","v":0},{"$f":"IF(3=U3,\"5등\",IF(2<T3,\"5등\",0))","v":0},{"$f":"IF(4=U3,\"4등\",IF(3<T3,\"4등\",0))","v":0},{"$f":"IF(5=U3,\"3등\",IF(4<T3,\"3등\",0))","v":0},{"$f":"IF(6=U3,\"1등\",IF(13=U3,\"1등\",0))","v":0},{"$f":"IF(U3=12,\"2등\",0)","v":0}]
[2,"2002.12.14",9,13,21,25,32,42,2,null,null,{"$f":"A4","v":2},{"$f":"COUNTIF(번호추출!$N$13:$S$13,자료실!C4)","v":0},{"$f":"COUNTIF(번호추출!$N$13:$S$13,자료실!D4)","v":0},{"$f":"COUNTIF(번호추출!$N$13:$S$13,자료실!E4)","v":0},{"$f":"COUNTIF(번호추출!$N$13:$S$13,자료실!F4)","v":1},{"$f":"COUNTIF(번호추출!$N$13:$S$13,자료실!G4)","v":0},{"$f":"COUNTIF(번호추출!$N$13:$S$13,자료실!H4)","v":0},{"$f":"IF(COUNTIF(번호추출!$N$13:$S$13,I4),7,0)","v":0},{"$f":"SUM(M4:R4)","v":1},{"$f":"SUM(M4:S4)","v":1},{"$f":"IF(1=U4,\"꽝\",IF(0<T4,\"꽝\",0))","v":"꽝"},{"$f":"IF(2=U4,\"꽝\",IF(1<T4,\"꽝\",0))","v":0},{"$f":"IF(3=U4,\"5등\",IF(2<T4,\"5등\",0))","v":0},{"$f":"IF(4=U4,\"4등\",IF(3<T4,\"4등\",0))","v":0},{"$f":"IF(5=U4,\"3등\",IF(4<T4,\"3등\",0))","v":0},{"$f":"IF(6=U4,\"1등\",IF(13=U4,\"1등\",0))","v":0},{"$f":"IF(U4=12,\"2등\",0)","v":0}]
[3,"2002.12.21",11,16,19,21,27,31,30,null,null,3,{"$f":"COUNTIF(번호추출!$N$13:$S$13,자료실!C5)","v":0},{"$f":"COUNTIF(번호추출!$N$13:$S$13,자료실!D5)","v":0},{"$f":"COUNTIF(번호추출!$N$13:$S$13,자료실!E5)","v":0},{"$f":"COUNTIF(번호추출!$N$13:$S$13,자료실!F5)","v":0},{"$f":"COUNTIF(번호추출!$N$13:$S$13,자료실!G5)","v":0},{"$f":"COUNTIF(번호추출!$N$13:$S$13,자료실!H5)","v":0},{"$f":"IF(COUNTIF(번호추출!$N$13:$S$13,I5),7,0)","v":0},0,0,0,0,0,0,0,{"$f":"IF(6=U5,\"1등\",IF(13=U5,\"1등\",0))","v":0},0]
[4,"2002.12.28",14,27,30,31,40,42,2,null,null,4,{"$f":"COUNTIF(번호추출!$N$13:$S$13,자료실!C6)","v":0},{"$f":"COUNTIF(번호추출!$N$13:$S$13,자료실!D6)","v":0},{"$f":"COUNTIF(번호추출!$N$13:$S$13,자료실!E6)","v":0},{"$f":"COUNTIF(번호추출!$N$13:$S$13,자료실!F6)","v":0},{"$f":"COUNTIF(번호추출!$N$13:$S$13,자료실!G6)","v":0},{"$f":"COUNTIF(번호추출!$N$13:$S$13,자료실!H6)","v":0},{"$f":"IF(COUNTIF(번호추출!$N$13:$S$13,I6),7,0)","v":0},0,0,0,0,0,0,0,{"$f":"IF(6=U6,\"1등\",IF(13=U6,\"1등\",0))","v":0},0]
[5,"2003.01.04",16,24,29,40,41,42,3,null,null,5,{"$f":"COUNTIF(번호추출!$N$13:$S$13,자료실!C7)","v":0},{"$f":"COUNTIF(번호추출!$N$13:$S$13,자료실!D7)","v":0},{"$f":"COUNTIF(번호추출!$N$13:$S$13,자료실!E7)","v":0},{"$f":"COUNTIF(번호추출!$N$13:$S$13,자료실!F7)","v":0},{"$f":"COUNTIF(번호추출!$N$13:$S$13,자료실!G7)","v":0},{"$f":"COUNTIF(번호추출!$N$13:$S$13,자료실!H7)","v":0},{"$f":"IF(COUNTIF(번호추출!$N$13:$S$13,I7),7,0)","v":0},0,0,0,0,0,0,0,{"$f":"IF(6=U7,\"1등\",IF(13=U7,\"1등\",0))","v":0},0]
[6,"2003.01.11",14,15,26,27,40,42,34,null,null,6,{"$f":"COUNTIF(번호추출!$N$13:$S$13,자료실!C8)","v":0},{"$f":"COUNTIF(번호추출!$N$13:$S$13,자료실!D8)","v":1},{"$f":"COUNTIF(번호추출!$N$13:$S$13,자료실!E8)","v":0},{"$f":"COUNTIF(번호추출!$N$13:$S$13,자료실!F8)","v":0},{"$f":"COUNTIF(번호추출!$N$13:$S$13,자료실!G8)","v":0},{"$f":"COUNTIF(번호추출!$N$13:$S$13,자료실!H8)","v":0},{"$f":"IF(COUNTIF(번호추출!$N$13:$S$13,I8),7,0)","v":0},1,1,"꽝",0,0,0,0,{"$f":"IF(6=U8,\"1등\",IF(13=U8,\"1등\",0))","v":0},0]
[7,"2003.01.18",2,9,16,25,26,40,42,null,null,7,{"$f":"COUNTIF(번호추출!$N$13:$S$13,자료실!C9)","v":0},{"$f":"COUNTIF(번호추출!$N$13:$S$13,자료실!D9)","v":0},{"$f":"COUNTIF(번호추출!$N$13:$S$13,자료실!E9)","v":0},{"$f":"COUNTIF(번호추출!$N$13:$S$13,자료실!F9)","v":1},{"$f":"COUNTIF(번호추출!$N$13:$S$13,자료실!G9)","v":0},{"$f":"COUNTIF(번호추출!$N$13:$S$13,자료실!H9)","v":0},{"$f":"IF(COUNTIF(번호추출!$N$13:$S$13,I9),7,0)","v":0},1,1,"꽝",0,0,0,0,{"$f":"IF(6=U9,\"1등\",IF(13=U9,\"1등\",0))","v":0},0]
[8,"2003.01.25",8,19,25,34,37,39,9,null,null,8,{"$f":"COUNTIF(번호추출!$N$13:$S$13,자료실!C10)","v":0},{"$f":"COUNTIF(번호추출!$N$13:$S$13,자료실!D10)","v":0},{"$f":"COUNTIF(번호추출!$N$13:$S$13,자료실!E10)","v":1},{"$f":"COUNTIF(번호추출!$N$13:$S$13,자료실!F10)","v":0},{"$f":"COUNTIF(번호추출!$N$13:$S$13,자료실!G10)","v":0},{"$f":"COUNTIF(번호추출!$N$13:$S$13,자료실!H10)","v":0},{"$f":"IF(COUNTIF(번호추출!$N$13:$S$13,I10),7,0)","v":0},1,1,"꽝",0,0,0,0,{"$f":"IF(6=U10,\"1등\",IF(13=U10,\"1등\",0))","v":0},0]
[9,"2003.02.01",2,4,16,17,36,39,14,null,null,9,{"$f":"COUNTIF(번호추출!$N$13:$S$13,자료실!C11)","v":0},{"$f":"COUNTIF(번호추출!$N$13:$S$13,자료실!D11)","v":1},{"$f":"COUNTIF(번호추출!$N$13:$S$13,자료실!E11)","v":0},{"$f":"COUNTIF(번호추출!$N$13:$S$13,자료실!F11)","v":0},{"$f":"COUNTIF(번호추출!$N$13:$S$13,자료실!G11)","v":0},{"$f":"COUNTIF(번호추출!$N$13:$S$13,자료실!H11)","v":0},{"$f":"IF(COUNTIF(번호추출!$N$13:$S$13,I11),7,0)","v":0},1,1,"꽝",0,0,0,0,{"$f":"IF(6=U11,\"1등\",IF(13=U11,\"1등\",0))","v":0},0]
[10,"2003.02.08",9,25,30,33,41,44,6,null,null,10,{"$f":"COUNTIF(번호추출!$N$13:$S$13,자료실!C12)","v":0},{"$f":"COUNTIF(번호추출!$N$13:$S$13,자료실!D12)","v":1},{"$f":"COUNTIF(번호추출!$N$13:$S$13,자료실!E12)","v":0},{"$f":"COUNTIF(번호추출!$N$13:$S$13,자료실!F12)","v":1},{"$f":"COUNTIF(번호추출!$N$13:$S$13,자료실!G12)","v":0},{"$f":"COUNTIF(번호추출!$N$13:$S$13,자료실!H12)","v":0},{"$f":"COUNTIF(번호추출!$N$13:$S$13,I12)","v":0},2,2,"꽝","꽝",0,0,0,{"$f":"IF(6=U12,\"1등\",IF(13=U12,\"1등\",0))","v":0},0]
[11,"2003.02.15",1,7,36,37,41,42,14,null,null,11,{"$f":"COUNTIF(번호추출!$N$13:$S$13,자료실!C13)","v":0},{"$f":"COUNTIF(번호추출!$N$13:$S$13,자료실!D13)","v":0},{"$f":"COUNTIF(번호추출!$N$13:$S$13,자료실!E13)","v":0},{"$f":"COUNTIF(번호추출!$N$13:$S$13,자료실!F13)","v":0},{"$f":"COUNTIF(번호추출!$N$13:$S$13,자료실!G13)","v":0},{"$f":"COUNTIF(번호추출!$N$13:$S$13,자료실!H13)","v":0},{"$f":"COUNTIF(번호추출!$N$13:$S$13,I13)","v":0},0,0,0,0,0,0,0,{"$f":"IF(6=U13,\"1등\",IF(13=U13,\"1등\",0))","v":0},0]
[12,"2003.02.22",2,11,21,25,39,45,44,null,null,12,{"$f":"COUNTIF(번호추출!$N$13:$S$13,자료실!C14)","v":0},{"$f":"COUNTIF(번호추출!$N$13:$S$13,자료실!D14)","v":0},{"$f":"COUNTIF(번호추출!$N$13:$S$13,자료실!E14)","v":0},{"$f":"COUNTIF(번호추출!$N$13:$S$13,자료실!F14)","v":1},{"$f":"COUNTIF(번호추출!$N$13:$S$13,자료실!G14)","v":0},{"$f":"COUNTIF(번호추출!$N$13:$S$13,자료실!H14)","v":1},{"$f":"COUNTIF(번호추출!$N$13:$S$13,I14)","v":0},2,2,{"$f":"IF(1=U14,\"꽝\",IF(0<T14,\"꽝\",0))","v":"꽝"},{"$f":"IF(2=U14,\"꽝\",IF(1<T14,\"꽝\",0))","v":"꽝"},{"$f":"IF(3=U14,\"5등\",IF(2<T14,\"5등\",0))","v":0},{"$f":"IF(4=U14,\"4등\",IF(3<T14,\"4등\",0))","v":0},{"$f":"IF(5=U14,\"3등\",IF(4<T14,\"3등\",0))","v":0},{"$f":"IF(6=U14,\"1등\",IF(13=U14,\"1등\",0))","v":0},{"$f":"IF(U14=12,\"2등\",0)","v":0}]
[13,"2003.03.01",22,23,25,37,38,42,26,null,null,13,{"$f":"COUNTIF(번호추출!$N$13:$S$13,자료실!C15)","v":0},{"$f":"COUNTIF(번호추출!$N$13:$S$13,자료실!D15)","v":0},{"$f":"COUNTIF(번호추출!$N$13:$S$13,자료실!E15)","v":1},{"$f":"COUNTIF(번호추출!$N$13:$S$13,자료실!F15)","v":0},{"$f":"COUNTIF(번호추출!$N$13:$S$13,자료실!G15)","v":0},{"$f":"COUNTIF(번호추출!$N$13:$S$13,자료실!H15)","v":0},{"$f":"COUNTIF(번호추출!$N$13:$S$13,I15)","v":0},1,1,"꽝",0,0,0,0,{"$f":"IF(6=U15,\"1등\",IF(13=U15,\"1등\",0))","v":0},0]
[14,"2003.03.08",2,6,12,31,33,40,15,null,null,14,{"$f":"COUNTIF(번호추출!$N$13:$S$13,자료실!C16)","v":0},{"$f":"COUNTIF(번호추출!$N$13:$S$13,자료실!D16)","v":0},{"$f":"COUNTIF(번호추출!$N$13:$S$13,자료실!E16)","v":0},{"$f":"COUNTIF(번호추출!$N$13:$S$13,자료실!F16)","v":0},{"$f":"COUNTIF(번호추출!$N$13:$S$13,자료실!G16)","v":1},{"$f":"COUNTIF(번호추출!$N$13:$S$13,자료실!H16)","v":0},{"$f":"COUNTIF(번호추출!$N$13:$S$13,I16)","v":1},1,2,"꽝","꽝",0,0,0,{"$f":"IF(6=U16,\"1등\",IF(13=U16,\"1등\",0))","v":0},0]
[15,"2003.03.15",3,4,16,30,31,37,13,null,null,15,{"$f":"COUNTIF(번호추출!$N$13:$S$13,자료실!C17)","v":0},{"$f":"COUNTIF(번호추출!$N$13:$S$13,자료실!D17)","v":1},{"$f":"COUNTIF(번호추출!$N$13:$S$13,자료실!E17)","v":0},{"$f":"COUNTIF(번호추출!$N$13:$S$13,자료실!F17)","v":0},{"$f":"COUNTIF(번호추출!$N$13:$S$13,자료실!G17)","v":0},{"$f":"COUNTIF(번호추출!$N$13:$S$13,자료실!H17)","v":0},{"$f":"COUNTIF(번호추출!$N$13:$S$13,I17)","v":0},1,1,"꽝",0,0,0,0,{"$f":"IF(6=U17,\"1등\",IF(13=U17,\"1등\",0))","v":0},0]
[16,"2003.03.22",6,7,24,37,38,40,33,null,null,16,{"$f":"COUNTIF(번호추출!$N$13:$S$13,자료실!C18)","v":0},{"$f":"COUNTIF(번호추출!$N$13:$S$13,자료실!D18)","v":0},{"$f":"COUNTIF(번호추출!$N$13:$S$13,자료실!E18)","v":0},{"$f":"COUNTIF(번호추출!$N$13:$S$13,자료실!F18)","v":0},{"$f":"COUNTIF(번호추출!$N$13:$S$13,자료실!G18)","v":0},{"$f":"COUNTIF(번호추출!$N$13:$S$13,자료실!H18)","v":0},{"$f":"COUNTIF(번호추출!$N$13:$S$13,I18)","v":1},0,1,"꽝",0,0,0,0,{"$f":"IF(6=U18,\"1등\",IF(13=U18,\"1등\",0))","v":0},0]
[17,"2003.03.29",3,4,9,17,32,37,1,null,null,17,{"$f":"COUNTIF(번호추출!$N$13:$S$13,자료실!C19)","v":0},{"$f":"COUNTIF(번호추출!$N$13:$S$13,자료실!D19)","v":1},{"$f":"COUNTIF(번호추출!$N$13:$S$13,자료실!E19)","v":0},{"$f":"COUNTIF(번호추출!$N$13:$S$13,자료실!F19)","v":0},{"$f":"COUNTIF(번호추출!$N$13:$S$13,자료실!G19)","v":0},{"$f":"COUNTIF(번호추출!$N$13:$S$13,자료실!H19)","v":0},{"$f":"COUNTIF(번호추출!$N$13:$S$13,I19)","v":0},1,1,"꽝",0,0,0,0,{"$f":"IF(6=U19,\"1등\",IF(13=U19,\"1등\",0))","v":0},0]
[18,"2003.04.05",3,12,13,19,32,35,29,null,null,18,{"$f":"COUNTIF(번호추출!$N$13:$S$13,자료실!C20)","v":0},{"$f":"COUNTIF(번호추출!$N$13:$S$13,자료실!D20)","v":0},{"$f":"COUNTIF(번호추출!$N$13:$S$13,자료실!E20)","v":0},{"$f":"COUNTIF(번호추출!$N$13:$S$13,자료실!F20)","v":0},{"$f":"COUNTIF(번호추출!$N$13:$S$13,자료실!G20)","v":0},{"$f":"COUNTIF(번호추출!$N$13:$S$13,자료실!H20)","v":0},{"$f":"COUNTIF(번호추출!$N$13:$S$13,I20)","v":0},0,0,0,0,0,0,0,{"$f":"IF(6=U20,\"1등\",IF(13=U20,\"1등\",0))","v":0},0]
[19,"2003.04.12",6,30,38,39,40,43,26,null,null,19,{"$f":"COUNTIF(번호추출!$N$13:$S$13,자료실!C21)","v":0},{"$f":"COUNTIF(번호추출!$N$13:$S$13,자료실!D21)","v":0},{"$f":"COUNTIF(번호추출!$N$13:$S$13,자료실!E21)","v":0},{"$f":"COUNTIF(번호추출!$N$13:$S$13,자료실!F21)","v":0},{"$f":"COUNTIF(번호추출!$N$13:$S$13,자료실!G21)","v":0},{"$f":"COUNTIF(번호추출!$N$13:$S$13,자료실!H21)","v":0},{"$f":"COUNTIF(번호추출!$N$13:$S$13,I21)","v":0},0,0,0,0,0,0,0,{"$f":"IF(6=U21,\"1등\",IF(13=U21,\"1등\",0))","v":0},0]
[20,"2003.04.19",10,14,18,20,23,30,41,null,null,20,{"$f":"COUNTIF(번호추출!$N$13:$S$13,자료실!C22)","v":0},{"$f":"COUNTIF(번호추출!$N$13:$S$13,자료실!D22)","v":0},{"$f":"COUNTIF(번호추출!$N$13:$S$13,자료실!E22)","v":1},{"$f":"COUNTIF(번호추출!$N$13:$S$13,자료실!F22)","v":0},{"$f":"COUNTIF(번호추출!$N$13:$S$13,자료실!G22)","v":0},{"$f":"COUNTIF(번호추출!$N$13:$S$13,자료실!H22)","v":0},{"$f":"COUNTIF(번호추출!$N$13:$S$13,I22)","v":0},1,1,"꽝",0,0,0,0,{"$f":"IF(6=U22,\"1등\",IF(13=U22,\"1등\",0))","v":0},0]
[21,"2003.04.26",6,12,17,18,31,32,21,null,null,21,{"$f":"COUNTIF(번호추출!$N$13:$S$13,자료실!C23)","v":0},{"$f":"COUNTIF(번호추출!$N$13:$S$13,자료실!D23)","v":0},{"$f":"COUNTIF(번호추출!$N$13:$S$13,자료실!E23)","v":0},{"$f":"COUNTIF(번호추출!$N$13:$S$13,자료실!F23)","v":1},{"$f":"COUNTIF(번호추출!$N$13:$S$13,자료실!G23)","v":0},{"$f":"COUNTIF(번호추출!$N$13:$S$13,자료실!H23)","v":0},{"$f":"COUNTIF(번호추출!$N$13:$S$13,I23)","v":0},1,1,"꽝",0,0,0,0,{"$f":"IF(6=U23,\"1등\",IF(13=U23,\"1등\",0))","v":0},0]
[22,"2003.05.03",4,5,6,8,17,39,25,null,null,22,{"$f":"COUNTIF(번호추출!$N$13:$S$13,자료실!C24)","v":1},{"$f":"COUNTIF(번호추출!$N$13:$S$13,자료실!D24)","v":0},{"$f":"COUNTIF(번호추출!$N$13:$S$13,자료실!E24)","v":0},{"$f":"COUNTIF(번호추출!$N$13:$S$13,자료실!F24)","v":0},{"$f":"COUNTIF(번호추출!$N$13:$S$13,자료실!G24)","v":0},{"$f":"COUNTIF(번호추출!$N$13:$S$13,자료실!H24)","v":0},{"$f":"COUNTIF(번호추출!$N$13:$S$13,I24)","v":1},1,2,"꽝","꽝",0,0,0,{"$f":"IF(6=U24,\"1등\",IF(13=U24,\"1등\",0))","v":0},0]
[23,"2003.05.10",5,13,17,18,33,42,44,null,null,23,{"$f":"COUNTIF(번호추출!$N$13:$S$13,자료실!C25)","v":0},{"$f":"COUNTIF(번호추출!$N$13:$S$13,자료실!D25)","v":0},{"$f":"COUNTIF(번호추출!$N$13:$S$13,자료실!E25)","v":0},{"$f":"COUNTIF(번호추출!$N$13:$S$13,자료실!F25)","v":1},{"$f":"COUNTIF(번호추출!$N$13:$S$13,자료실!G25)","v":1},{"$f":"COUNTIF(번호추출!$N$13:$S$13,자료실!H25)","v":0},{"$f":"COUNTIF(번호추출!$N$13:$S$13,I25)","v":0},2,2,"꽝","꽝",0,0,0,{"$f":"IF(6=U25,\"1등\",IF(13=U25,\"1등\",0))","v":0},0]
[24,"2003.05.17",7,8,27,29,36,43,6,null,null,24,{"$f":"COUNTIF(번호추출!$N$13:$S$13,자료실!C26)","v":0},{"$f":"COUNTIF(번호추출!$N$13:$S$13,자료실!D26)","v":0},{"$f":"COUNTIF(번호추출!$N$13:$S$13,자료실!E26)","v":0},{"$f":"COUNTIF(번호추출!$N$13:$S$13,자료실!F26)","v":0},{"$f":"COUNTIF(번호추출!$N$13:$S$13,자료실!G26)","v":0},{"$f":"COUNTIF(번호추출!$N$13:$S$13,자료실!H26)","v":0},{"$f":"COUNTIF(번호추출!$N$13:$S$13,I26)","v":0},0,0,0,0,0,0,0,{"$f":"IF(6=U26,\"1등\",IF(13=U26,\"1등\",0))","v":0},0]
[25,"2003.05.24",2,4,21,26,43,44,16,null,null,{"$f":"A27","v":25},{"$f":"COUNTIF(번호추출!$N$13:$S$13,자료실!C27)","v":0},{"$f":"COUNTIF(번호추출!$N$13:$S$13,자료실!D27)","v":1},{"$f":"COUNTIF(번호추출!$N$13:$S$13,자료실!E27)","v":0},{"$f":"COUNTIF(번호추출!$N$13:$S$13,자료실!F27)","v":0},{"$f":"COUNTIF(번호추출!$N$13:$S$13,자료실!G27)","v":0},{"$f":"COUNTIF(번호추출!$N$13:$S$13,자료실!H27)","v":0},{"$f":"COUNTIF(번호추출!$N$13:$S$13,I27)","v":0},{"$f":"SUM(M27:R27)","v":1},{"$f":"SUM(M27:S27)","v":1},"꽝",0,0,0,0,{"$f":"IF(6=U27,\"1등\",IF(13=U27,\"1등\",0))","v":0},0]
[26,"2003.05.31",4,5,7,18,20,25,31,null,null,26,{"$f":"COUNTIF(번호추출!$N$13:$S$13,자료실!C28)","v":1},{"$f":"COUNTIF(번호추출!$N$13:$S$13,자료실!D28)","v":0},{"$f":"COUNTIF(번호추출!$N$13:$S$13,자료실!E28)","v":0},{"$f":"COUNTIF(번호추출!$N$13:$S$13,자료실!F28)","v":1},{"$f":"COUNTIF(번호추출!$N$13:$S$13,자료실!G28)","v":0},{"$f":"COUNTIF(번호추출!$N$13:$S$13,자료실!H28)","v":1},{"$f":"COUNTIF(번호추출!$N$13:$S$13,I28)","v":0},3,3,"꽝","꽝","5등",0,0,{"$f":"IF(6=U28,\"1등\",IF(13=U28,\"1등\",0))","v":0},0]
[27,"2003.06.07",1,20,26,28,37,43,27,null,null,27,{"$f":"COUNTIF(번호추출!$N$13:$S$13,자료실!C29)","v":0},{"$f":"COUNTIF(번호추출!$N$13:$S$13,자료실!D29)","v":0},{"$f":"COUNTIF(번호추출!$N$13:$S$13,자료실!E29)","v":0},{"$f":"COUNTIF(번호추출!$N$13:$S$13,자료실!F29)","v":0},{"$f":"COUNTIF(번호추출!$N$13:$S$13,자료실!G29)","v":0},{"$f":"COUNTIF(번호추출!$N$13:$S$13,자료실!H29)","v":0},{"$f":"COUNTIF(번호추출!$N$13:$S$13,I29)","v":0},0,0,0,0,0,0,0,{"$f":"IF(6=U29,\"1등\",IF(13=U29,\"1등\",0))","v":0},0]
[28,"2003.06.14",9,18,23,25,35,37,1,null,null,28,{"$f":"COUNTIF(번호추출!$N$13:$S$13,자료실!C30)","v":0},{"$f":"COUNTIF(번호추출!$N$13:$S$13,자료실!D30)","v":1},{"$f":"COUNTIF(번호추출!$N$13:$S$13,자료실!E30)","v":0},{"$f":"COUNTIF(번호추출!$N$13:$S$13,자료실!F30)","v":1},{"$f":"COUNTIF(번호추출!$N$13:$S$13,자료실!G30)","v":0},{"$f":"COUNTIF(번호추출!$N$13:$S$13,자료실!H30)","v":0},{"$f":"COUNTIF(번호추출!$N$13:$S$13,I30)","v":0},2,2,"꽝","꽝",0,0,0,{"$f":"IF(6=U30,\"1등\",IF(13=U30,\"1등\",0))","v":0},0]
[29,"2003.06.21",1,5,13,34,39,40,11,null,null,29,{"$f":"COUNTIF(번호추출!$N$13:$S$13,자료실!C31)","v":0},{"$f":"COUNTIF(번호추출!$N$13:$S$13,자료실!D31)","v":0},{"$f":"COUNTIF(번호추출!$N$13:$S$13,자료실!E31)","v":0},{"$f":"COUNTIF(번호추출!$N$13:$S$13,자료실!F31)","v":0},{"$f":"COUNTIF(번호추출!$N$13:$S$13,자료실!G31)","v":0},{"$f":"COUNTIF(번호추출!$N$13:$S$13,자료실!H31)","v":0},{"$f":"COUNTIF(번호추출!$N$13:$S$13,I31)","v":0},0,0,0,0,0,0,0,{"$f":"IF(6=U31,\"1등\",IF(13=U31,\"1등\",0))","v":0},0]
[30,"2003.06.28",8,17,20,35,36,44,4,null,null,30,{"$f":"COUNTIF(번호추출!$N$13:$S$13,자료실!C32)","v":0},{"$f":"COUNTIF(번호추출!$N$13:$S$13,자료실!D32)","v":0},{"$f":"COUNTIF(번호추출!$N$13:$S$13,자료실!E32)","v":0},{"$f":"COUNTIF(번호추출!$N$13:$S$13,자료실!F32)","v":0},{"$f":"COUNTIF(번호추출!$N$13:$S$13,자료실!G32)","v":0},{"$f":"COUNTIF(번호추출!$N$13:$S$13,자료실!H32)","v":0},{"$f":"COUNTIF(번호추출!$N$13:$S$13,I32)","v":1},0,1,"꽝",0,0,0,0,{"$f":"IF(6=U32,\"1등\",IF(13=U32,\"1등\",0))","v":0},0]
[31,"2003.07.05",7,9,18,23,28,35,32,null,null,31,{"$f":"COUNTIF(번호추출!$N$13:$S$13,자료실!C33)","v":0},{"$f":"COUNTIF(번호추출!$N$13:$S$13,자료실!D33)","v":0},{"$f":"COUNTIF(번호추출!$N$13:$S$13,자료실!E33)","v":1},{"$f":"COUNTIF(번호추출!$N$13:$S$13,자료실!F33)","v":0},{"$f":"COUNTIF(번호추출!$N$13:$S$13,자료실!G33)","v":0},{"$f":"COUNTIF(번호추출!$N$13:$S$13,자료실!H33)","v":0},{"$f":"COUNTIF(번호추출!$N$13:$S$13,I33)","v":0},1,1,"꽝",0,0,0,0,{"$f":"IF(6=U33,\"1등\",IF(13=U33,\"1등\",0))","v":0},0]
[32,"2003.07.12",6,14,19,25,34,44,11,null,null,32,{"$f":"COUNTIF(번호추출!$N$13:$S$13,자료실!C34)","v":0},{"$f":"COUNTIF(번호추출!$N$13:$S$13,자료실!D34)","v":0},{"$f":"COUNTIF(번호추출!$N$13:$S$13,자료실!E34)","v":0},{"$f":"COUNTIF(번호추출!$N$13:$S$13,자료실!F34)","v":1},{"$f":"COUNTIF(번호추출!$N$13:$S$13,자료실!G34)","v":0},{"$f":"COUNTIF(번호추출!$N$13:$S$13,자료실!H34)","v":0},{"$f":"COUNTIF(번호추출!$N$13:$S$13,I34)","v":0},1,1,"꽝",0,0,0,0,{"$f":"IF(6=U34,\"1등\",IF(13=U34,\"1등\",0))","v":0},0]
[33,"2003.07.19",4,7,32,33,40,41,9,null,null,33,{"$f":"COUNTIF(번호추출!$N$13:$S$13,자료실!C35)","v":1},{"$f":"COUNTIF(번호추출!$N$13:$S$13,자료실!D35)","v":0},{"$f":"COUNTIF(번호추출!$N$13:$S$13,자료실!E35)","v":0},{"$f":"COUNTIF(번호추출!$N$13:$S$13,자료실!F35)","v":1},{"$f":"COUNTIF(번호추출!$N$13:$S$13,자료실!G35)","v":0},{"$f":"COUNTIF(번호추출!$N$13:$S$13,자료실!H35)","v":0},{"$f":"COUNTIF(번호추출!$N$13:$S$13,I35)","v":0},2,2,"꽝","꽝",0,0,0,{"$f":"IF(6=U35,\"1등\",IF(13=U35,\"1등\",0))","v":0},0]
[34,"2003.07.26",9,26,35,37,40,42,2,null,null,34,{"$f":"COUNTIF(번호추출!$N$13:$S$13,자료실!C36)","v":0},{"$f":"COUNTIF(번호추출!$N$13:$S$13,자료실!D36)","v":0},{"$f":"COUNTIF(번호추출!$N$13:$S$13,자료실!E36)","v":0},{"$f":"COUNTIF(번호추출!$N$13:$S$13,자료실!F36)","v":0},{"$f":"COUNTIF(번호추출!$N$13:$S$13,자료실!G36)","v":0},{"$f":"COUNTIF(번호추출!$N$13:$S$13,자료실!H36)","v":0},{"$f":"COUNTIF(번호추출!$N$13:$S$13,I36)","v":0},0,0,0,0,0,0,0,{"$f":"IF(6=U36,\"1등\",IF(13=U36,\"1등\",0))","v":0},0]
[35,"2003.08.02",2,3,11,26,37,43,39,null,null,35,{"$f":"COUNTIF(번호추출!$N$13:$S$13,자료실!C37)","v":0},{"$f":"COUNTIF(번호추출!$N$13:$S$13,자료실!D37)","v":0},{"$f":"COUNTIF(번호추출!$N$13:$S$13,자료실!E37)","v":0},{"$f":"COUNTIF(번호추출!$N$13:$S$13,자료실!F37)","v":0},{"$f":"COUNTIF(번호추출!$N$13:$S$13,자료실!G37)","v":0},{"$f":"COUNTIF(번호추출!$N$13:$S$13,자료실!H37)","v":0},{"$f":"COUNTIF(번호추출!$N$13:$S$13,I37)","v":0},0,0,0,0,0,0,0,{"$f":"IF(6=U37,\"1등\",IF(13=U37,\"1등\",0))","v":0},0]
[36,"2003.08.09",1,10,23,26,28,40,31,null,null,36,{"$f":"COUNTIF(번호추출!$N$13:$S$13,자료실!C38)","v":0},{"$f":"COUNTIF(번호추출!$N$13:$S$13,자료실!D38)","v":0},{"$f":"COUNTIF(번호추출!$N$13:$S$13,자료실!E38)","v":0},{"$f":"COUNTIF(번호추출!$N$13:$S$13,자료실!F38)","v":0},{"$f":"COUNTIF(번호추출!$N$13:$S$13,자료실!G38)","v":0},{"$f":"COUNTIF(번호추출!$N$13:$S$13,자료실!H38)","v":0},{"$f":"COUNTIF(번호추출!$N$13:$S$13,I38)","v":0},0,0,0,0,0,0,0,{"$f":"IF(6=U38,\"1등\",IF(13=U38,\"1등\",0))","v":0},0]
[37,"2003.08.16",7,27,30,33,35,37,42,null,null,37,{"$f":"COUNTIF(번호추출!$N$13:$S$13,자료실!C39)","v":0},{"$f":"COUNTIF(번호추출!$N$13:$S$13,자료실!D39)","v":0},{"$f":"COUNTIF(번호추출!$N$13:$S$13,자료실!E39)","v":0},{"$f":"COUNTIF(번호추출!$N$13:$S$13,자료실!F39)","v":1},{"$f":"COUNTIF(번호추출!$N$13:$S$13,자료실!G39)","v":0},{"$f":"COUNTIF(번호추출!$N$13:$S$13,자료실!H39)","v":0},{"$f":"COUNTIF(번호추출!$N$13:$S$13,I39)","v":0},1,1,"꽝",0,0,0,0,{"$f":"IF(6=U39,\"1등\",IF(13=U39,\"1등\",0))","v":0},0]
[38,"2003.08.23",16,17,22,30,37,43,36,null,null,38,{"$f":"COUNTIF(번호추출!$N$13:$S$13,자료실!C40)","v":0},{"$f":"COUNTIF(번호추출!$N$13:$S$13,자료실!D40)","v":0},{"$f":"COUNTIF(번호추출!$N$13:$S$13,자료실!E40)","v":0},{"$f":"COUNTIF(번호추출!$N$13:$S$13,자료실!F40)","v":0},{"$f":"COUNTIF(번호추출!$N$13:$S$13,자료실!G40)","v":0},{"$f":"COUNTIF(번호추출!$N$13:$S$13,자료실!H40)","v":0},{"$f":"COUNTIF(번호추출!$N$13:$S$13,I40)","v":0},0,0,0,0,0,0,0,{"$f":"IF(6=U40,\"1등\",IF(13=U40,\"1등\",0))","v":0},0]
[39,"2003.08.30",6,7,13,15,21,43,8,null,null,39,{"$f":"COUNTIF(번호추출!$N$13:$S$13,자료실!C41)","v":0},{"$f":"COUNTIF(번호추출!$N$13:$S$13,자료실!D41)","v":0},{"$f":"COUNTIF(번호추출!$N$13:$S$13,자료실!E41)","v":0},{"$f":"COUNTIF(번호추출!$N$13:$S$13,자료실!F41)","v":1},{"$f":"COUNTIF(번호추출!$N$13:$S$13,자료실!G41)","v":0},{"$f":"COUNTIF(번호추출!$N$13:$S$13,자료실!H41)","v":0},{"$f":"COUNTIF(번호추출!$N$13:$S$13,I41)","v":0},1,1,"꽝",0,0,0,0,{"$f":"IF(6=U41,\"1등\",IF(13=U41,\"1등\",0))","v":0},0]
[40,"2003.09.06",7,13,18,19,25,26,6,null,null,40,{"$f":"COUNTIF(번호추출!$N$13:$S$13,자료실!C42)","v":0},{"$f":"COUNTIF(번호추출!$N$13:$S$13,자료실!D42)","v":0},{"$f":"COUNTIF(번호추출!$N$13:$S$13,자료실!E42)","v":1},{"$f":"COUNTIF(번호추출!$N$13:$S$13,자료실!F42)","v":0},{"$f":"COUNTIF(번호추출!$N$13:$S$13,자료실!G42)","v":1},{"$f":"COUNTIF(번호추출!$N$13:$S$13,자료실!H42)","v":0},{"$f":"COUNTIF(번호추출!$N$13:$S$13,I42)","v":0},2,2,"꽝","꽝",0,0,0,{"$f":"IF(6=U42,\"1등\",IF(13=U42,\"1등\",0))","v":0},0]
[41,"2003.09.13",13,20,23,35,38,43,34,null,null,41,{"$f":"COUNTIF(번호추출!$N$13:$S$13,자료실!C43)","v":0},{"$f":"COUNTIF(번호추출!$N$13:$S$13,자료실!D43)","v":0},{"$f":"COUNTIF(번호추출!$N$13:$S$13,자료실!E43)","v":0},{"$f":"COUNTIF(번호추출!$N$13:$S$13,자료실!F43)","v":0},{"$f":"COUNTIF(번호추출!$N$13:$S$13,자료실!G43)","v":0},{"$f":"COUNTIF(번호추출!$N$13:$S$13,자료실!H43)","v":0},{"$f":"COUNTIF(번호추출!$N$13:$S$13,I43)","v":0},0,0,0,0,0,0,0,{"$f":"IF(6=U43,\"1등\",IF(13=U43,\"1등\",0))","v":0},0]
[42,"2003.09.20",17,18,19,21,23,32,1,null,null,42,{"$f":"COUNTIF(번호추출!$N$13:$S$13,자료실!C44)","v":0},{"$f":"COUNTIF(번호추출!$N$13:$S$13,자료실!D44)","v":1},{"$f":"COUNTIF(번호추출!$N$13:$S$13,자료실!E44)","v":0},{"$f":"COUNTIF(번호추출!$N$13:$S$13,자료실!F44)","v":0},{"$f":"COUNTIF(번호추출!$N$13:$S$13,자료실!G44)","v":0},{"$f":"COUNTIF(번호추출!$N$13:$S$13,자료실!H44)","v":0},{"$f":"COUNTIF(번호추출!$N$13:$S$13,I44)","v":0},1,1,"꽝",0,0,0,0,{"$f":"IF(6=U44,\"1등\",IF(13=U44,\"1등\",0))","v":0},0]
[43,"2003.09.27",6,31,35,38,39,44,1,null,null,43,{"$f":"COUNTIF(번호추출!$N$13:$S$13,자료실!C45)","v":0},{"$f":"COUNTIF(번호추출!$N$13:$S$13,자료실!D45)","v":0},{"$f":"COUNTIF(번호추출!$N$13:$S$13,자료실!E45)","v":0},{"$f":"COUNTIF(번호추출!$N$13:$S$13,자료실!F45)","v":0},{"$f":"COUNTIF(번호추출!$N$13:$S$13,자료실!G45)","v":0},{"$f":"COUNTIF(번호추출!$N$13:$S$13,자료실!H45)","v":0},{"$f":"COUNTIF(번호추출!$N$13:$S$13,I45)","v":0},0,0,0,0,0,0,0,{"$f":"IF(6=U45,\"1등\",IF(13=U45,\"1등\",0))","v":0},0]
[44,"2003.10.04",3,11,21,30,38,45,39,null,null,44,{"$f":"COUNTIF(번호추출!$N$13:$S$13,자료실!C46)","v":0},{"$f":"COUNTIF(번호추출!$N$13:$S$13,자료실!D46)","v":0},{"$f":"COUNTIF(번호추출!$N$13:$S$13,자료실!E46)","v":0},{"$f":"COUNTIF(번호추출!$N$13:$S$13,자료실!F46)","v":0},{"$f":"COUNTIF(번호추출!$N$13:$S$13,자료실!G46)","v":0},{"$f":"COUNTIF(번호추출!$N$13:$S$13,자료실!H46)","v":1},{"$f":"COUNTIF(번호추출!$N$13:$S$13,I46)","v":0},1,1,"꽝",0,0,0,0,{"$f":"IF(6=U46,\"1등\",IF(13=U46,\"1등\",0))","v":0},0]
[45,"2003.10.11",1,10,20,27,33,35,17,null,null,45,{"$f":"COUNTIF(번호추출!$N$13:$S$13,자료실!C47)","v":0},{"$f":"COUNTIF(번호추출!$N$13:$S$13,자료실!D47)","v":0},{"$f":"COUNTIF(번호추출!$N$13:$S$13,자료실!E47)","v":0},{"$f":"COUNTIF(번호추출!$N$13:$S$13,자료실!F47)","v":0},{"$f":"COUNTIF(번호추출!$N$13:$S$13,자료실!G47)","v":1},{"$f":"COUNTIF(번호추출!$N$13:$S$13,자료실!H47)","v":0},{"$f":"COUNTIF(번호추출!$N$13:$S$13,I47)","v":0},1,1,"꽝",0,0,0,0,{"$f":"IF(6=U47,\"1등\",IF(13=U47,\"1등\",0))","v":0},0]
[46,"2003.10.18",8,13,15,23,31,38,39,null,null,46,{"$f":"COUNTIF(번호추출!$N$13:$S$13,자료실!C48)","v":0},{"$f":"COUNTIF(번호추출!$N$13:$S$13,자료실!D48)","v":0},{"$f":"COUNTIF(번호추출!$N$13:$S$13,자료실!E48)","v":1},{"$f":"COUNTIF(번호추출!$N$13:$S$13,자료실!F48)","v":0},{"$f":"COUNTIF(번호추출!$N$13:$S$13,자료실!G48)","v":0},{"$f":"COUNTIF(번호추출!$N$13:$S$13,자료실!H48)","v":0},{"$f":"COUNTIF(번호추출!$N$13:$S$13,I48)","v":0},1,1,"꽝",0,0,0,0,{"$f":"IF(6=U48,\"1등\",IF(13=U48,\"1등\",0))","v":0},0]
[47,"2003.10.25",14,17,26,31,36,45,27,null,null,47,{"$f":"COUNTIF(번호추출!$N$13:$S$13,자료실!C49)","v":0},{"$f":"COUNTIF(번호추출!$N$13:$S$13,자료실!D49)","v":0},{"$f":"COUNTIF(번호추출!$N$13:$S$13,자료실!E49)","v":0},{"$f":"COUNTIF(번호추출!$N$13:$S$13,자료실!F49)","v":0},{"$f":"COUNTIF(번호추출!$N$13:$S$13,자료실!G49)","v":0},{"$f":"COUNTIF(번호추출!$N$13:$S$13,자료실!H49)","v":1},{"$f":"COUNTIF(번호추출!$N$13:$S$13,I49)","v":0},1,1,"꽝",0,0,0,0,{"$f":"IF(6=U49,\"1등\",IF(13=U49,\"1등\",0))","v":0},0]
[48,"2003.11.01",6,10,18,26,37,38,3,null,null,48,{"$f":"COUNTIF(번호추출!$N$13:$S$13,자료실!C50)","v":0},{"$f":"COUNTIF(번호추출!$N$13:$S$13,자료실!D50)","v":0},{"$f":"COUNTIF(번호추출!$N$13:$S$13,자료실!E50)","v":1},{"$f":"COUNTIF(번호추출!$N$13:$S$13,자료실!F50)","v":0},{"$f":"COUNTIF(번호추출!$N$13:$S$13,자료실!G50)","v":0},{"$f":"COUNTIF(번호추출!$N$13:$S$13,자료실!H50)","v":0},{"$f":"COUNTIF(번호추출!$N$13:$S$13,I50)","v":0},1,1,"꽝",0,0,0,0,{"$f":"IF(6=U50,\"1등\",IF(13=U50,\"1등\",0))","v":0},0]
[49,"2003.11.08",4,7,16,19,33,40,30,null,null,49,{"$f":"COUNTIF(번호추출!$N$13:$S$13,자료실!C51)","v":1},{"$f":"COUNTIF(번호추출!$N$13:$S$13,자료실!D51)","v":0},{"$f":"COUNTIF(번호추출!$N$13:$S$13,자료실!E51)","v":0},{"$f":"COUNTIF(번호추출!$N$13:$S$13,자료실!F51)","v":0},{"$f":"COUNTIF(번호추출!$N$13:$S$13,자료실!G51)","v":1},{"$f":"COUNTIF(번호추출!$N$13:$S$13,자료실!H51)","v":0},{"$f":"COUNTIF(번호추출!$N$13:$S$13,I51)","v":0},2,2,"꽝","꽝",0,0,0,{"$f":"IF(6=U51,\"1등\",IF(13=U51,\"1등\",0))","v":0},0]
[50,"2003.11.15",2,10,12,15,22,44,1,null,null,50,{"$f":"COUNTIF(번호추출!$N$13:$S$13,자료실!C52)","v":0},{"$f":"COUNTIF(번호추출!$N$13:$S$13,자료실!D52)","v":0},{"$f":"COUNTIF(번호추출!$N$13:$S$13,자료실!E52)","v":0},{"$f":"COUNTIF(번호추출!$N$13:$S$13,자료실!F52)","v":1},{"$f":"COUNTIF(번호추출!$N$13:$S$13,자료실!G52)","v":0},{"$f":"COUNTIF(번호추출!$N$13:$S$13,자료실!H52)","v":0},{"$f":"COUNTIF(번호추출!$N$13:$S$13,I52)","v":0},1,1,"꽝",0,0,0,0,{"$f":"IF(6=U52,\"1등\",IF(13=U52,\"1등\",0))","v":0},0]
[51,"2003.11.22",2,3,11,16,26,44,35,null,null,51,{"$f":"COUNTIF(번호추출!$N$13:$S$13,자료실!C53)","v":0},{"$f":"COUNTIF(번호추출!$N$13:$S$13,자료실!D53)","v":0},{"$f":"COUNTIF(번호추출!$N$13:$S$13,자료실!E53)","v":0},{"$f":"COUNTIF(번호추출!$N$13:$S$13,자료실!F53)","v":0},{"$f":"COUNTIF(번호추출!$N$13:$S$13,자료실!G53)","v":0},{"$f":"COUNTIF(번호추출!$N$13:$S$13,자료실!H53)","v":0},{"$f":"COUNTIF(번호추출!$N$13:$S$13,I53)","v":0},0,0,0,0,0,0,0,{"$f":"IF(6=U53,\"1등\",IF(13=U53,\"1등\",0))","v":0},0]
[52,"2003.11.29",2,4,15,16,20,29,1,null,null,52,{"$f":"COUNTIF(번호추출!$N$13:$S$13,자료실!C54)","v":0},{"$f":"COUNTIF(번호추출!$N$13:$S$13,자료실!D54)","v":1},{"$f":"COUNTIF(번호추출!$N$13:$S$13,자료실!E54)","v":1},{"$f":"COUNTIF(번호추출!$N$13:$S$13,자료실!F54)","v":0},{"$f":"COUNTIF(번호추출!$N$13:$S$13,자료실!G54)","v":0},{"$f":"COUNTIF(번호추출!$N$13:$S$13,자료실!H54)","v":0},{"$f":"COUNTIF(번호추출!$N$13:$S$13,I54)","v":0},2,2,"꽝","꽝",0,0,0,{"$f":"IF(6=U54,\"1등\",IF(13=U54,\"1등\",0))","v":0},0]
[53,"2003.12.06",7,8,14,32,33,39,42,null,null,53,{"$f":"COUNTIF(번호추출!$N$13:$S$13,자료실!C55)","v":0},{"$f":"COUNTIF(번호추출!$N$13:$S$13,자료실!D55)","v":0},{"$f":"COUNTIF(번호추출!$N$13:$S$13,자료실!E55)","v":0},{"$f":"COUNTIF(번호추출!$N$13:$S$13,자료실!F55)","v":0},{"$f":"COUNTIF(번호추출!$N$13:$S$13,자료실!G55)","v":1},{"$f":"COUNTIF(번호추출!$N$13:$S$13,자료실!H55)","v":0},{"$f":"COUNTIF(번호추출!$N$13:$S$13,I55)","v":0},1,1,"꽝",0,0,0,0,{"$f":"IF(6=U55,\"1등\",IF(13=U55,\"1등\",0))","v":0},0]
[54,"2003.12.13",1,8,21,27,36,39,37,null,null,54,{"$f":"COUNTIF(번호추출!$N$13:$S$13,자료실!C56)","v":0},{"$f":"COUNTIF(번호추출!$N$13:$S$13,자료실!D56)","v":0},{"$f":"COUNTIF(번호추출!$N$13:$S$13,자료실!E56)","v":0},{"$f":"COUNTIF(번호추출!$N$13:$S$13,자료실!F56)","v":0},{"$f":"COUNTIF(번호추출!$N$13:$S$13,자료실!G56)","v":0},{"$f":"COUNTIF(번호추출!$N$13:$S$13,자료실!H56)","v":0},{"$f":"COUNTIF(번호추출!$N$13:$S$13,I56)","v":0},0,0,0,0,0,0,0,{"$f":"IF(6=U56,\"1등\",IF(13=U56,\"1등\",0))","v":0},0]
[55,"2003.12.20",17,21,31,37,40,44,7,null,null,55,{"$f":"COUNTIF(번호추출!$N$13:$S$13,자료실!C57)","v":0},{"$f":"COUNTIF(번호추출!$N$13:$S$13,자료실!D57)","v":0},{"$f":"COUNTIF(번호추출!$N$13:$S$13,자료실!E57)","v":0},{"$f":"COUNTIF(번호추출!$N$13:$S$13,자료실!F57)","v":0},{"$f":"COUNTIF(번호추출!$N$13:$S$13,자료실!G57)","v":0},{"$f":"COUNTIF(번호추출!$N$13:$S$13,자료실!H57)","v":0},{"$f":"COUNTIF(번호추출!$N$13:$S$13,I57)","v":0},0,0,0,0,0,0,0,{"$f":"IF(6=U57,\"1등\",IF(13=U57,\"1등\",0))","v":0},0]
[56,"2003.12.27",10,14,30,31,33,37,19,null,null,56,{"$f":"COUNTIF(번호추출!$N$13:$S$13,자료실!C58)","v":0},{"$f":"COUNTIF(번호추출!$N$13:$S$13,자료실!D58)","v":0},{"$f":"COUNTIF(번호추출!$N$13:$S$13,자료실!E58)","v":0},{"$f":"COUNTIF(번호추출!$N$13:$S$13,자료실!F58)","v":0},{"$f":"COUNTIF(번호추출!$N$13:$S$13,자료실!G58)","v":1},{"$f":"COUNTIF(번호추출!$N$13:$S$13,자료실!H58)","v":0},{"$f":"COUNTIF(번호추출!$N$13:$S$13,I58)","v":0},1,1,"꽝",0,0,0,0,{"$f":"IF(6=U58,\"1등\",IF(13=U58,\"1등\",0))","v":0},0]
[57,"2004.01.03",7,10,16,25,29,44,6,null,null,57,{"$f":"COUNTIF(번호추출!$N$13:$S$13,자료실!C59)","v":0},{"$f":"COUNTIF(번호추출!$N$13:$S$13,자료실!D59)","v":0},{"$f":"COUNTIF(번호추출!$N$13:$S$13,자료실!E59)","v":0},{"$f":"COUNTIF(번호추출!$N$13:$S$13,자료실!F59)","v":1},{"$f":"COUNTIF(번호추출!$N$13:$S$13,자료실!G59)","v":0},{"$f":"COUNTIF(번호추출!$N$13:$S$13,자료실!H59)","v":0},{"$f":"COUNTIF(번호추출!$N$13:$S$13,I59)","v":0},1,1,"꽝",0,0,0,0,{"$f":"IF(6=U59,\"1등\",IF(13=U59,\"1등\",0))","v":0},0]
[58,"2004.01.10",10,24,25,33,40,44,1,null,null,58,{"$f":"COUNTIF(번호추출!$N$13:$S$13,자료실!C60)","v":0},{"$f":"COUNTIF(번호추출!$N$13:$S$13,자료실!D60)","v":0},{"$f":"COUNTIF(번호추출!$N$13:$S$13,자료실!E60)","v":1},{"$f":"COUNTIF(번호추출!$N$13:$S$13,자료실!F60)","v":1},{"$f":"COUNTIF(번호추출!$N$13:$S$13,자료실!G60)","v":0},{"$f":"COUNTIF(번호추출!$N$13:$S$13,자료실!H60)","v":0},{"$f":"COUNTIF(번호추출!$N$13:$S$13,I60)","v":0},2,2,"꽝","꽝",0,0,0,{"$f":"IF(6=U60,\"1등\",IF(13=U60,\"1등\",0))","v":0},0]
[59,"2004.01.17",6,29,36,39,41,45,13,null,null,59,{"$f":"COUNTIF(번호추출!$N$13:$S$13,자료실!C61)","v":0},{"$f":"COUNTIF(번호추출!$N$13:$S$13,자료실!D61)","v":0},{"$f":"COUNTIF(번호추출!$N$13:$S$13,자료실!E61)","v":0},{"$f":"COUNTIF(번호추출!$N$13:$S$13,자료실!F61)","v":0},{"$f":"COUNTIF(번호추출!$N$13:$S$13,자료실!G61)","v":0},{"$f":"COUNTIF(번호추출!$N$13:$S$13,자료실!H61)","v":1},{"$f":"COUNTIF(번호추출!$N$13:$S$13,I61)","v":0},1,1,"꽝",0,0,0,0,{"$f":"IF(6=U61,\"1등\",IF(13=U61,\"1등\",0))","v":0},0]
[60,"2004.01.24",2,8,25,36,39,42,11,null,null,60,{"$f":"COUNTIF(번호추출!$N$13:$S$13,자료실!C62)","v":0},{"$f":"COUNTIF(번호추출!$N$13:$S$13,자료실!D62)","v":0},{"$f":"COUNTIF(번호추출!$N$13:$S$13,자료실!E62)","v":1},{"$f":"COUNTIF(번호추출!$N$13:$S$13,자료실!F62)","v":0},{"$f":"COUNTIF(번호추출!$N$13:$S$13,자료실!G62)","v":0},{"$f":"COUNTIF(번호추출!$N$13:$S$13,자료실!H62)","v":0},{"$f":"COUNTIF(번호추출!$N$13:$S$13,I62)","v":0},1,1,"꽝",0,0,0,0,{"$f":"IF(6=U62,\"1등\",IF(13=U62,\"1등\",0))","v":0},0]
[61,"2004.01.31",14,15,19,30,38,43,8,null,null,61,{"$f":"COUNTIF(번호추출!$N$13:$S$13,자료실!C63)","v":0},{"$f":"COUNTIF(번호추출!$N$13:$S$13,자료실!D63)","v":1},{"$f":"COUNTIF(번호추출!$N$13:$S$13,자료실!E63)","v":0},{"$f":"COUNTIF(번호추출!$N$13:$S$13,자료실!F63)","v":0},{"$f":"COUNTIF(번호추출!$N$13:$S$13,자료실!G63)","v":0},{"$f":"COUNTIF(번호추출!$N$13:$S$13,자료실!H63)","v":0},{"$f":"COUNTIF(번호추출!$N$13:$S$13,I63)","v":0},1,1,"꽝",0,0,0,0,{"$f":"IF(6=U63,\"1등\",IF(13=U63,\"1등\",0))","v":0},0]
[62,"2004.02.07",3,8,15,27,29,35,21,null,null,62,{"$f":"COUNTIF(번호추출!$N$13:$S$13,자료실!C64)","v":0},{"$f":"COUNTIF(번호추출!$N$13:$S$13,자료실!D64)","v":0},{"$f":"COUNTIF(번호추출!$N$13:$S$13,자료실!E64)","v":1},{"$f":"COUNTIF(번호추출!$N$13:$S$13,자료실!F64)","v":0},{"$f":"COUNTIF(번호추출!$N$13:$S$13,자료실!G64)","v":0},{"$f":"COUNTIF(번호추출!$N$13:$S$13,자료실!H64)","v":0},{"$f":"COUNTIF(번호추출!$N$13:$S$13,I64)","v":0},1,1,"꽝",0,0,0,0,{"$f":"IF(6=U64,\"1등\",IF(13=U64,\"1등\",0))","v":0},0]
[63,"2004.02.14",3,20,23,36,38,40,5,null,null,63,{"$f":"COUNTIF(번호추출!$N$13:$S$13,자료실!C65)","v":0},{"$f":"COUNTIF(번호추출!$N$13:$S$13,자료실!D65)","v":0},{"$f":"COUNTIF(번호추출!$N$13:$S$13,자료실!E65)","v":0},{"$f":"COUNTIF(번호추출!$N$13:$S$13,자료실!F65)","v":0},{"$f":"COUNTIF(번호추출!$N$13:$S$13,자료실!G65)","v":0},{"$f":"COUNTIF(번호추출!$N$13:$S$13,자료실!H65)","v":0},{"$f":"COUNTIF(번호추출!$N$13:$S$13,I65)","v":0},0,0,0,0,0,0,0,{"$f":"IF(6=U65,\"1등\",IF(13=U65,\"1등\",0))","v":0},0]
[64,"2004.02.21",14,15,18,21,26,36,39,null,null,64,{"$f":"COUNTIF(번호추출!$N$13:$S$13,자료실!C66)","v":0},{"$f":"COUNTIF(번호추출!$N$13:$S$13,자료실!D66)","v":1},{"$f":"COUNTIF(번호추출!$N$13:$S$13,자료실!E66)","v":1},{"$f":"COUNTIF(번호추출!$N$13:$S$13,자료실!F66)","v":0},{"$f":"COUNTIF(번호추출!$N$13:$S$13,자료실!G66)","v":0},{"$f":"COUNTIF(번호추출!$N$13:$S$13,자료실!H66)","v":0},{"$f":"COUNTIF(번호추출!$N$13:$S$13,I66)","v":0},2,2,"꽝","꽝",0,0,0,{"$f":"IF(6=U66,\"1등\",IF(13=U66,\"1등\",0))","v":0},0]
[65,"2004.02.28",4,25,33,36,40,43,39,null,null,65,{"$f":"COUNTIF(번호추출!$N$13:$S$13,자료실!C67)","v":1},{"$f":"COUNTIF(번호추출!$N$13:$S$13,자료실!D67)","v":1},{"$f":"COUNTIF(번호추출!$N$13:$S$13,자료실!E67)","v":1},{"$f":"COUNTIF(번호추출!$N$13:$S$13,자료실!F67)","v":0},{"$f":"COUNTIF(번호추출!$N$13:$S$13,자료실!G67)","v":0},{"$f":"COUNTIF(번호추출!$N$13:$S$13,자료실!H67)","v":0},{"$f":"COUNTIF(번호추출!$N$13:$S$13,I67)","v":0},3,3,"꽝","꽝","5등",0,0,{"$f":"IF(6=U67,\"1등\",IF(13=U67,\"1등\",0))","v":0},0]
[66,"2004.03.06",2,3,7,17,22,24,45,null,null,66,{"$f":"COUNTIF(번호추출!$N$13:$S$13,자료실!C68)","v":0},{"$f":"COUNTIF(번호추출!$N$13:$S$13,자료실!D68)","v":0},{"$f":"COUNTIF(번호추출!$N$13:$S$13,자료실!E68)","v":0},{"$f":"COUNTIF(번호추출!$N$13:$S$13,자료실!F68)","v":0},{"$f":"COUNTIF(번호추출!$N$13:$S$13,자료실!G68)","v":0},{"$f":"COUNTIF(번호추출!$N$13:$S$13,자료실!H68)","v":0},{"$f":"COUNTIF(번호추출!$N$13:$S$13,I68)","v":1},0,1,"꽝",0,0,0,0,{"$f":"IF(6=U68,\"1등\",IF(13=U68,\"1등\",0))","v":0},0]
[67,"2004.03.13",3,7,10,15,36,38,33,null,null,67,{"$f":"COUNTIF(번호추출!$N$13:$S$13,자료실!C69)","v":0},{"$f":"COUNTIF(번호추출!$N$13:$S$13,자료실!D69)","v":0},{"$f":"COUNTIF(번호추출!$N$13:$S$13,자료실!E69)","v":0},{"$f":"COUNTIF(번호추출!$N$13:$S$13,자료실!F69)","v":1},{"$f":"COUNTIF(번호추출!$N$13:$S$13,자료실!G69)","v":0},{"$f":"COUNTIF(번호추출!$N$13:$S$13,자료실!H69)","v":0},{"$f":"COUNTIF(번호추출!$N$13:$S$13,I69)","v":1},1,2,"꽝","꽝",0,0,0,{"$f":"IF(6=U69,\"1등\",IF(13=U69,\"1등\",0))","v":0},0]
[68,"2004.03.20",10,12,15,16,26,39,38,null,null,68,{"$f":"COUNTIF(번호추출!$N$13:$S$13,자료실!C70)","v":0},{"$f":"COUNTIF(번호추출!$N$13:$S$13,자료실!D70)","v":0},{"$f":"COUNTIF(번호추출!$N$13:$S$13,자료실!E70)","v":1},{"$f":"COUNTIF(번호추출!$N$13:$S$13,자료실!F70)","v":0},{"$f":"COUNTIF(번호추출!$N$13:$S$13,자료실!G70)","v":0},{"$f":"COUNTIF(번호추출!$N$13:$S$13,자료실!H70)","v":0},{"$f":"COUNTIF(번호추출!$N$13:$S$13,I70)","v":0},1,1,"꽝",0,0,0,0,{"$f":"IF(6=U70,\"1등\",IF(13=U70,\"1등\",0))","v":0},0]
[69,"2004.03.27",5,8,14,15,19,39,35,null,null,69,{"$f":"COUNTIF(번호추출!$N$13:$S$13,자료실!C71)","v":0},{"$f":"COUNTIF(번호추출!$N$13:$S$13,자료실!D71)","v":0},{"$f":"COUNTIF(번호추출!$N$13:$S$13,자료실!E71)","v":0},{"$f":"COUNTIF(번호추출!$N$13:$S$13,자료실!F71)","v":1},{"$f":"COUNTIF(번호추출!$N$13:$S$13,자료실!G71)","v":0},{"$f":"COUNTIF(번호추출!$N$13:$S$13,자료실!H71)","v":0},{"$f":"COUNTIF(번호추출!$N$13:$S$13,I71)","v":0},1,1,"꽝",0,0,0,0,{"$f":"IF(6=U71,\"1등\",IF(13=U71,\"1등\",0))","v":0},0]
[70,"2004.04.03",5,19,22,25,28,43,26,null,null,70,{"$f":"COUNTIF(번호추출!$N$13:$S$13,자료실!C72)","v":0},{"$f":"COUNTIF(번호추출!$N$13:$S$13,자료실!D72)","v":0},{"$f":"COUNTIF(번호추출!$N$13:$S$13,자료실!E72)","v":0},{"$f":"COUNTIF(번호추출!$N$13:$S$13,자료실!F72)","v":1},{"$f":"COUNTIF(번호추출!$N$13:$S$13,자료실!G72)","v":0},{"$f":"COUNTIF(번호추출!$N$13:$S$13,자료실!H72)","v":0},{"$f":"COUNTIF(번호추출!$N$13:$S$13,I72)","v":0},1,1,"꽝",0,0,0,0,{"$f":"IF(6=U72,\"1등\",IF(13=U72,\"1등\",0))","v":0},0]
[71,"2004.04.10",5,9,12,16,29,41,21,null,null,71,{"$f":"COUNTIF(번호추출!$N$13:$S$13,자료실!C73)","v":0},{"$f":"COUNTIF(번호추출!$N$13:$S$13,자료실!D73)","v":0},{"$f":"COUNTIF(번호추출!$N$13:$S$13,자료실!E73)","v":0},{"$f":"COUNTIF(번호추출!$N$13:$S$13,자료실!F73)","v":0},{"$f":"COUNTIF(번호추출!$N$13:$S$13,자료실!G73)","v":0},{"$f":"COUNTIF(번호추출!$N$13:$S$13,자료실!H73)","v":0},{"$f":"COUNTIF(번호추출!$N$13:$S$13,I73)","v":0},0,0,0,0,0,0,0,{"$f":"IF(6=U73,\"1등\",IF(13=U73,\"1등\",0))","v":0},0]
[72,"2004.04.17",2,4,11,17,26,27,1,null,null,72,{"$f":"COUNTIF(번호추출!$N$13:$S$13,자료실!C74)","v":0},{"$f":"COUNTIF(번호추출!$N$13:$S$13,자료실!D74)","v":1},{"$f":"COUNTIF(번호추출!$N$13:$S$13,자료실!E74)","v":0},{"$f":"COUNTIF(번호추출!$N$13:$S$13,자료실!F74)","v":0},{"$f":"COUNTIF(번호추출!$N$13:$S$13,자료실!G74)","v":0},{"$f":"COUNTIF(번호추출!$N$13:$S$13,자료실!H74)","v":0},{"$f":"COUNTIF(번호추출!$N$13:$S$13,I74)","v":0},1,1,"꽝",0,0,0,0,{"$f":"IF(6=U74,\"1등\",IF(13=U74,\"1등\",0))","v":0},0]
[73,"2004.04.24",3,12,18,32,40,43,38,null,null,73,{"$f":"COUNTIF(번호추출!$N$13:$S$13,자료실!C75)","v":0},{"$f":"COUNTIF(번호추출!$N$13:$S$13,자료실!D75)","v":0},{"$f":"COUNTIF(번호추출!$N$13:$S$13,자료실!E75)","v":1},{"$f":"COUNTIF(번호추출!$N$13:$S$13,자료실!F75)","v":0},{"$f":"COUNTIF(번호추출!$N$13:$S$13,자료실!G75)","v":0},{"$f":"COUNTIF(번호추출!$N$13:$S$13,자료실!H75)","v":0},{"$f":"COUNTIF(번호추출!$N$13:$S$13,I75)","v":0},1,1,"꽝",0,0,0,0,{"$f":"IF(6=U75,\"1등\",IF(13=U75,\"1등\",0))","v":0},0]
[74,"2004.05.01",6,15,17,18,35,40,23,null,null,74,{"$f":"COUNTIF(번호추출!$N$13:$S$13,자료실!C76)","v":0},{"$f":"COUNTIF(번호추출!$N$13:$S$13,자료실!D76)","v":1},{"$f":"COUNTIF(번호추출!$N$13:$S$13,자료실!E76)","v":0},{"$f":"COUNTIF(번호추출!$N$13:$S$13,자료실!F76)","v":1},{"$f":"COUNTIF(번호추출!$N$13:$S$13,자료실!G76)","v":0},{"$f":"COUNTIF(번호추출!$N$13:$S$13,자료실!H76)","v":0},{"$f":"COUNTIF(번호추출!$N$13:$S$13,I76)","v":0},2,2,"꽝","꽝",0,0,0,{"$f":"IF(6=U76,\"1등\",IF(13=U76,\"1등\",0))","v":0},0]
[75,"2004.05.08",2,5,24,32,34,44,28,null,null,75,{"$f":"COUNTIF(번호추출!$N$13:$S$13,자료실!C77)","v":0},{"$f":"COUNTIF(번호추출!$N$13:$S$13,자료실!D77)","v":0},{"$f":"COUNTIF(번호추출!$N$13:$S$13,자료실!E77)","v":0},{"$f":"COUNTIF(번호추출!$N$13:$S$13,자료실!F77)","v":0},{"$f":"COUNTIF(번호추출!$N$13:$S$13,자료실!G77)","v":0},{"$f":"COUNTIF(번호추출!$N$13:$S$13,자료실!H77)","v":0},{"$f":"COUNTIF(번호추출!$N$13:$S$13,I77)","v":0},0,0,0,0,0,0,0,{"$f":"IF(6=U77,\"1등\",IF(13=U77,\"1등\",0))","v":0},0]
[76,"2004.05.15",1,3,15,22,25,37,43,null,null,76,{"$f":"COUNTIF(번호추출!$N$13:$S$13,자료실!C78)","v":0},{"$f":"COUNTIF(번호추출!$N$13:$S$13,자료실!D78)","v":0},{"$f":"COUNTIF(번호추출!$N$13:$S$13,자료실!E78)","v":1},{"$f":"COUNTIF(번호추출!$N$13:$S$13,자료실!F78)","v":0},{"$f":"COUNTIF(번호추출!$N$13:$S$13,자료실!G78)","v":1},{"$f":"COUNTIF(번호추출!$N$13:$S$13,자료실!H78)","v":0},{"$f":"COUNTIF(번호추출!$N$13:$S$13,I78)","v":0},2,2,{"$f":"IF(1=U78,\"꽝\",IF(0<T78,\"꽝\",0))","v":"꽝"},{"$f":"IF(2=U78,\"꽝\",IF(1<T78,\"꽝\",0))","v":"꽝"},{"$f":"IF(3=U78,\"5등\",IF(2<T78,\"5등\",0))","v":0},{"$f":"IF(4=U78,\"4등\",IF(3<T78,\"4등\",0))","v":0},{"$f":"IF(5=U78,\"3등\",IF(4<T78,\"3등\",0))","v":0},{"$f":"IF(6=U78,\"1등\",IF(13=U78,\"1등\",0))","v":0},{"$f":"IF(U78=12,\"2등\",0)","v":0}]
[77,"2004.05.22",2,18,29,32,43,44,37,null,null,77,{"$f":"COUNTIF(번호추출!$N$13:$S$13,자료실!C79)","v":0},{"$f":"COUNTIF(번호추출!$N$13:$S$13,자료실!D79)","v":1},{"$f":"COUNTIF(번호추출!$N$13:$S$13,자료실!E79)","v":0},{"$f":"COUNTIF(번호추출!$N$13:$S$13,자료실!F79)","v":0},{"$f":"COUNTIF(번호추출!$N$13:$S$13,자료실!G79)","v":0},{"$f":"COUNTIF(번호추출!$N$13:$S$13,자료실!H79)","v":0},{"$f":"COUNTIF(번호추출!$N$13:$S$13,I79)","v":0},1,1,"꽝",0,0,0,0,{"$f":"IF(6=U79,\"1등\",IF(13=U79,\"1등\",0))","v":0},0]
[78,"2004.05.29",10,13,25,29,33,35,38,null,null,78,{"$f":"COUNTIF(번호추출!$N$13:$S$13,자료실!C80)","v":0},{"$f":"COUNTIF(번호추출!$N$13:$S$13,자료실!D80)","v":0},{"$f":"COUNTIF(번호추출!$N$13:$S$13,자료실!E80)","v":1},{"$f":"COUNTIF(번호추출!$N$13:$S$13,자료실!F80)","v":0},{"$f":"COUNTIF(번호추출!$N$13:$S$13,자료실!G80)","v":1},{"$f":"COUNTIF(번호추출!$N$13:$S$13,자료실!H80)","v":0},{"$f":"COUNTIF(번호추출!$N$13:$S$13,I80)","v":0},2,2,"꽝","꽝",0,0,0,{"$f":"IF(6=U80,\"1등\",IF(13=U80,\"1등\",0))","v":0},0]
[79,"2004.06.05",3,12,24,27,30,32,14,null,null,79,{"$f":"COUNTIF(번호추출!$N$13:$S$13,자료실!C81)","v":0},{"$f":"COUNTIF(번호추출!$N$13:$S$13,자료실!D81)","v":0},{"$f":"COUNTIF(번호추출!$N$13:$S$13,자료실!E81)","v":0},{"$f":"COUNTIF(번호추출!$N$13:$S$13,자료실!F81)","v":0},{"$f":"COUNTIF(번호추출!$N$13:$S$13,자료실!G81)","v":0},{"$f":"COUNTIF(번호추출!$N$13:$S$13,자료실!H81)","v":0},{"$f":"COUNTIF(번호추출!$N$13:$S$13,I81)","v":0},0,0,0,0,0,0,0,{"$f":"IF(6=U81,\"1등\",IF(13=U81,\"1등\",0))","v":0},0]
[80,"2004.06.12",17,18,24,25,26,30,1,null,null,80,{"$f":"COUNTIF(번호추출!$N$13:$S$13,자료실!C82)","v":0},{"$f":"COUNTIF(번호추출!$N$13:$S$13,자료실!D82)","v":1},{"$f":"COUNTIF(번호추출!$N$13:$S$13,자료실!E82)","v":0},{"$f":"COUNTIF(번호추출!$N$13:$S$13,자료실!F82)","v":1},{"$f":"COUNTIF(번호추출!$N$13:$S$13,자료실!G82)","v":0},{"$f":"COUNTIF(번호추출!$N$13:$S$13,자료실!H82)","v":0},{"$f":"COUNTIF(번호추출!$N$13:$S$13,I82)","v":0},2,2,"꽝","꽝",0,0,0,{"$f":"IF(6=U82,\"1등\",IF(13=U82,\"1등\",0))","v":0},0]
[81,"2004.06.19",5,7,11,13,20,33,6,null,null,81,{"$f":"COUNTIF(번호추출!$N$13:$S$13,자료실!C83)","v":0},{"$f":"COUNTIF(번호추출!$N$13:$S$13,자료실!D83)","v":0},{"$f":"COUNTIF(번호추출!$N$13:$S$13,자료실!E83)","v":0},{"$f":"COUNTIF(번호추출!$N$13:$S$13,자료실!F83)","v":0},{"$f":"COUNTIF(번호추출!$N$13:$S$13,자료실!G83)","v":0},{"$f":"COUNTIF(번호추출!$N$13:$S$13,자료실!H83)","v":1},{"$f":"COUNTIF(번호추출!$N$13:$S$13,I83)","v":0},1,1,"꽝",0,0,0,0,{"$f":"IF(6=U83,\"1등\",IF(13=U83,\"1등\",0))","v":0},0]
[82,"2004.06.26",1,2,3,14,27,42,39,null,null,82,{"$f":"COUNTIF(번호추출!$N$13:$S$13,자료실!C84)","v":0},{"$f":"COUNTIF(번호추출!$N$13:$S$13,자료실!D84)","v":0},{"$f":"COUNTIF(번호추출!$N$13:$S$13,자료실!E84)","v":0},{"$f":"COUNTIF(번호추출!$N$13:$S$13,자료실!F84)","v":0},{"$f":"COUNTIF(번호추출!$N$13:$S$13,자료실!G84)","v":0},{"$f":"COUNTIF(번호추출!$N$13:$S$13,자료실!H84)","v":0},{"$f":"COUNTIF(번호추출!$N$13:$S$13,I84)","v":0},0,0,0,0,0,0,0,{"$f":"IF(6=U84,\"1등\",IF(13=U84,\"1등\",0))","v":0},0]
[83,"2004.07.03",6,10,15,17,19,34,14,null,null,83,{"$f":"COUNTIF(번호추출!$N$13:$S$13,자료실!C85)","v":0},{"$f":"COUNTIF(번호추출!$N$13:$S$13,자료실!D85)","v":0},{"$f":"COUNTIF(번호추출!$N$13:$S$13,자료실!E85)","v":1},{"$f":"COUNTIF(번호추출!$N$13:$S$13,자료실!F85)","v":0},{"$f":"COUNTIF(번호추출!$N$13:$S$13,자료실!G85)","v":0},{"$f":"COUNTIF(번호추출!$N$13:$S$13,자료실!H85)","v":0},{"$f":"COUNTIF(번호추출!$N$13:$S$13,I85)","v":0},1,1,"꽝",0,0,0,0,{"$f":"IF(6=U85,\"1등\",IF(13=U85,\"1등\",0))","v":0},0]
[84,"2004.07.10",16,23,27,34,42,45,11,null,null,84,{"$f":"COUNTIF(번호추출!$N$13:$S$13,자료실!C86)","v":0},{"$f":"COUNTIF(번호추출!$N$13:$S$13,자료실!D86)","v":0},{"$f":"COUNTIF(번호추출!$N$13:$S$13,자료실!E86)","v":0},{"$f":"COUNTIF(번호추출!$N$13:$S$13,자료실!F86)","v":0},{"$f":"COUNTIF(번호추출!$N$13:$S$13,자료실!G86)","v":0},{"$f":"COUNTIF(번호추출!$N$13:$S$13,자료실!H86)","v":1},{"$f":"COUNTIF(번호추출!$N$13:$S$13,I86)","v":0},1,1,"꽝",0,0,0,0,{"$f":"IF(6=U86,\"1등\",IF(13=U86,\"1등\",0))","v":0},0]
[85,"2004.07.17",6,8,13,23,31,36,21,null,null,85,{"$f":"COUNTIF(번호추출!$N$13:$S$13,자료실!C87)","v":0},{"$f":"COUNTIF(번호추출!$N$13:$S$13,자료실!D87)","v":0},{"$f":"COUNTIF(번호추출!$N$13:$S$13,자료실!E87)","v":0},{"$f":"COUNTIF(번호추출!$N$13:$S$13,자료실!F87)","v":0},{"$f":"COUNTIF(번호추출!$N$13:$S$13,자료실!G87)","v":0},{"$f":"COUNTIF(번호추출!$N$13:$S$13,자료실!H87)","v":0},{"$f":"COUNTIF(번호추출!$N$13:$S$13,I87)","v":0},0,0,0,0,0,0,0,{"$f":"IF(6=U87,\"1등\",IF(13=U87,\"1등\",0))","v":0},0]
[86,"2004.07.24",2,12,37,39,41,45,33,null,null,86,{"$f":"COUNTIF(번호추출!$N$13:$S$13,자료실!C88)","v":0},{"$f":"COUNTIF(번호추출!$N$13:$S$13,자료실!D88)","v":0},{"$f":"COUNTIF(번호추출!$N$13:$S$13,자료실!E88)","v":0},{"$f":"COUNTIF(번호추출!$N$13:$S$13,자료실!F88)","v":0},{"$f":"COUNTIF(번호추출!$N$13:$S$13,자료실!G88)","v":0},{"$f":"COUNTIF(번호추출!$N$13:$S$13,자료실!H88)","v":1},{"$f":"COUNTIF(번호추출!$N$13:$S$13,I88)","v":1},1,2,"꽝","꽝",0,0,0,{"$f":"IF(6=U88,\"1등\",IF(13=U88,\"1등\",0))","v":0},0]
[87,"2004.07.31",4,12,16,23,34,43,26,null,null,87,{"$f":"COUNTIF(번호추출!$N$13:$S$13,자료실!C89)","v":1},{"$f":"COUNTIF(번호추출!$N$13:$S$13,자료실!D89)","v":0},{"$f":"COUNTIF(번호추출!$N$13:$S$13,자료실!E89)","v":0},{"$f":"COUNTIF(번호추출!$N$13:$S$13,자료실!F89)","v":0},{"$f":"COUNTIF(번호추출!$N$13:$S$13,자료실!G89)","v":0},{"$f":"COUNTIF(번호추출!$N$13:$S$13,자료실!H89)","v":0},{"$f":"COUNTIF(번호추출!$N$13:$S$13,I89)","v":0},1,1,"꽝",0,0,0,0,{"$f":"IF(6=U89,\"1등\",IF(13=U89,\"1등\",0))","v":0},0]
[88,"2004.08.07",1,17,20,24,30,41,27,null,null,88,{"$f":"COUNTIF(번호추출!$N$13:$S$13,자료실!C90)","v":0},{"$f":"COUNTIF(번호추출!$N$13:$S$13,자료실!D90)","v":0},{"$f":"COUNTIF(번호추출!$N$13:$S$13,자료실!E90)","v":0},{"$f":"COUNTIF(번호추출!$N$13:$S$13,자료실!F90)","v":0},{"$f":"COUNTIF(번호추출!$N$13:$S$13,자료실!G90)","v":0},{"$f":"COUNTIF(번호추출!$N$13:$S$13,자료실!H90)","v":0},{"$f":"COUNTIF(번호추출!$N$13:$S$13,I90)","v":0},0,0,0,0,0,0,0,{"$f":"IF(6=U90,\"1등\",IF(13=U90,\"1등\",0))","v":0},0]
[89,"2004.08.14",4,26,28,29,33,40,37,null,null,{"$f":"A91","v":89},{"$f":"COUNTIF(번호추출!$N$13:$S$13,자료실!C91)","v":1},{"$f":"COUNTIF(번호추출!$N$13:$S$13,자료실!D91)","v":0},{"$f":"COUNTIF(번호추출!$N$13:$S$13,자료실!E91)","v":0},{"$f":"COUNTIF(번호추출!$N$13:$S$13,자료실!F91)","v":0},{"$f":"COUNTIF(번호추출!$N$13:$S$13,자료실!G91)","v":1},{"$f":"COUNTIF(번호추출!$N$13:$S$13,자료실!H91)","v":0},{"$f":"COUNTIF(번호추출!$N$13:$S$13,I91)","v":0},{"$f":"SUM(M91:R91)","v":2},{"$f":"SUM(M91:S91)","v":2},"꽝","꽝",0,0,0,{"$f":"IF(6=U91,\"1등\",IF(13=U91,\"1등\",0))","v":0},0]
[90,"2004.08.21",17,20,29,35,38,44,10,null,null,90,{"$f":"COUNTIF(번호추출!$N$13:$S$13,자료실!C92)","v":0},{"$f":"COUNTIF(번호추출!$N$13:$S$13,자료실!D92)","v":0},{"$f":"COUNTIF(번호추출!$N$13:$S$13,자료실!E92)","v":0},{"$f":"COUNTIF(번호추출!$N$13:$S$13,자료실!F92)","v":0},{"$f":"COUNTIF(번호추출!$N$13:$S$13,자료실!G92)","v":0},{"$f":"COUNTIF(번호추출!$N$13:$S$13,자료실!H92)","v":0},{"$f":"COUNTIF(번호추출!$N$13:$S$13,I92)","v":0},0,0,0,0,0,0,0,{"$f":"IF(6=U92,\"1등\",IF(13=U92,\"1등\",0))","v":0},0]
[91,"2004.08.28",1,21,24,26,29,42,27,null,null,91,{"$f":"COUNTIF(번호추출!$N$13:$S$13,자료실!C93)","v":0},{"$f":"COUNTIF(번호추출!$N$13:$S$13,자료실!D93)","v":0},{"$f":"COUNTIF(번호추출!$N$13:$S$13,자료실!E93)","v":0},{"$f":"COUNTIF(번호추출!$N$13:$S$13,자료실!F93)","v":0},{"$f":"COUNTIF(번호추출!$N$13:$S$13,자료실!G93)","v":0},{"$f":"COUNTIF(번호추출!$N$13:$S$13,자료실!H93)","v":0},{"$f":"COUNTIF(번호추출!$N$13:$S$13,I93)","v":0},0,0,0,0,0,0,0,{"$f":"IF(6=U93,\"1등\",IF(13=U93,\"1등\",0))","v":0},0]
[92,"2004.09.04",3,14,24,33,35,36,17,null,null,92,{"$f":"COUNTIF(번호추출!$N$13:$S$13,자료실!C94)","v":0},{"$f":"COUNTIF(번호추출!$N$13:$S$13,자료실!D94)","v":0},{"$f":"COUNTIF(번호추출!$N$13:$S$13,자료실!E94)","v":0},{"$f":"COUNTIF(번호추출!$N$13:$S$13,자료실!F94)","v":1},{"$f":"COUNTIF(번호추출!$N$13:$S$13,자료실!G94)","v":0},{"$f":"COUNTIF(번호추출!$N$13:$S$13,자료실!H94)","v":0},{"$f":"COUNTIF(번호추출!$N$13:$S$13,I94)","v":0},1,1,"꽝",0,0,0,0,{"$f":"IF(6=U94,\"1등\",IF(13=U94,\"1등\",0))","v":0},0]
[93,"2004.09.11",6,22,24,36,38,44,19,null,null,93,{"$f":"COUNTIF(번호추출!$N$13:$S$13,자료실!C95)","v":0},{"$f":"COUNTIF(번호추출!$N$13:$S$13,자료실!D95)","v":0},{"$f":"COUNTIF(번호추출!$N$13:$S$13,자료실!E95)","v":0},{"$f":"COUNTIF(번호추출!$N$13:$S$13,자료실!F95)","v":0},{"$f":"COUNTIF(번호추출!$N$13:$S$13,자료실!G95)","v":0},{"$f":"COUNTIF(번호추출!$N$13:$S$13,자료실!H95)","v":0},{"$f":"COUNTIF(번호추출!$N$13:$S$13,I95)","v":0},0,0,0,0,0,0,0,{"$f":"IF(6=U95,\"1등\",IF(13=U95,\"1등\",0))","v":0},0]
[94,"2004.09.18",5,32,34,40,41,45,6,null,null,94,{"$f":"COUNTIF(번호추출!$N$13:$S$13,자료실!C96)","v":0},{"$f":"COUNTIF(번호추출!$N$13:$S$13,자료실!D96)","v":0},{"$f":"COUNTIF(번호추출!$N$13:$S$13,자료실!E96)","v":0},{"$f":"COUNTIF(번호추출!$N$13:$S$13,자료실!F96)","v":0},{"$f":"COUNTIF(번호추출!$N$13:$S$13,자료실!G96)","v":0},{"$f":"COUNTIF(번호추출!$N$13:$S$13,자료실!H96)","v":1},{"$f":"COUNTIF(번호추출!$N$13:$S$13,I96)","v":0},1,1,"꽝",0,0,0,0,{"$f":"IF(6=U96,\"1등\",IF(13=U96,\"1등\",0))","v":0},0]
[95,"2004.09.25",8,17,27,31,34,43,14,null,null,95,{"$f":"COUNTIF(번호추출!$N$13:$S$13,자료실!C97)","v":0},{"$f":"COUNTIF(번호추출!$N$13:$S$13,자료실!D97)","v":0},{"$f":"COUNTIF(번호추출!$N$13:$S$13,자료실!E97)","v":0},{"$f":"COUNTIF(번호추출!$N$13:$S$13,자료실!F97)","v":0},{"$f":"COUNTIF(번호추출!$N$13:$S$13,자료실!G97)","v":0},{"$f":"COUNTIF(번호추출!$N$13:$S$13,자료실!H97)","v":0},{"$f":"COUNTIF(번호추출!$N$13:$S$13,I97)","v":0},0,0,0,0,0,0,0,{"$f":"IF(6=U97,\"1등\",IF(13=U97,\"1등\",0))","v":0},0]
[96,"2004.10.02",1,3,8,21,22,31,20,null,null,96,{"$f":"COUNTIF(번호추출!$N$13:$S$13,자료실!C98)","v":0},{"$f":"COUNTIF(번호추출!$N$13:$S$13,자료실!D98)","v":0},{"$f":"COUNTIF(번호추출!$N$13:$S$13,자료실!E98)","v":0},{"$f":"COUNTIF(번호추출!$N$13:$S$13,자료실!F98)","v":0},{"$f":"COUNTIF(번호추출!$N$13:$S$13,자료실!G98)","v":0},{"$f":"COUNTIF(번호추출!$N$13:$S$13,자료실!H98)","v":0},{"$f":"COUNTIF(번호추출!$N$13:$S$13,I98)","v":0},0,0,0,0,0,0,0,{"$f":"IF(6=U98,\"1등\",IF(13=U98,\"1등\",0))","v":0},0]
[97,"2004.10.09",6,7,14,15,20,36,3,null,null,97,{"$f":"COUNTIF(번호추출!$N$13:$S$13,자료실!C99)","v":0},{"$f":"COUNTIF(번호추출!$N$13:$S$13,자료실!D99)","v":0},{"$f":"COUNTIF(번호추출!$N$13:$S$13,자료실!E99)","v":0},{"$f":"COUNTIF(번호추출!$N$13:$S$13,자료실!F99)","v":1},{"$f":"COUNTIF(번호추출!$N$13:$S$13,자료실!G99)","v":0},{"$f":"COUNTIF(번호추출!$N$13:$S$13,자료실!H99)","v":0},{"$f":"COUNTIF(번호추출!$N$13:$S$13,I99)","v":0},1,1,"꽝",0,0,0,0,{"$f":"IF(6=U99,\"1등\",IF(13=U99,\"1등\",0))","v":0},0]
[98,"2004.10.16",6,9,16,23,24,32,43,null,null,98,{"$f":"COUNTIF(번호추출!$N$13:$S$13,자료실!C100)","v":0},{"$f":"COUNTIF(번호추출!$N$13:$S$13,자료실!D100)","v":0},{"$f":"COUNTIF(번호추출!$N$13:$S$13,자료실!E100)","v":0},{"$f":"COUNTIF(번호추출!$N$13:$S$13,자료실!F100)","v":0},{"$f":"COUNTIF(번호추출!$N$13:$S$13,자료실!G100)","v":0},{"$f":"COUNTIF(번호추출!$N$13:$S$13,자료실!H100)","v":0},{"$f":"COUNTIF(번호추출!$N$13:$S$13,I100)","v":0},0,0,0,0,0,0,0,{"$f":"IF(6=U100,\"1등\",IF(13=U100,\"1등\",0))","v":0},0]
[99,"2004.10.23",1,3,10,27,29,37,11,null,null,99,{"$f":"COUNTIF(번호추출!$N$13:$S$13,자료실!C101)","v":0},{"$f":"COUNTIF(번호추출!$N$13:$S$13,자료실!D101)","v":0},{"$f":"COUNTIF(번호추출!$N$13:$S$13,자료실!E101)","v":0},{"$f":"COUNTIF(번호추출!$N$13:$S$13,자료실!F101)","v":0},{"$f":"COUNTIF(번호추출!$N$13:$S$13,자료실!G101)","v":0},{"$f":"COUNTIF(번호추출!$N$13:$S$13,자료실!H101)","v":0},{"$f":"COUNTIF(번호추출!$N$13:$S$13,I101)","v":0},0,0,0,0,0,0,0,{"$f":"IF(6=U101,\"1등\",IF(13=U101,\"1등\",0))","v":0},0]
[100,"2004.10.30",1,7,11,23,37,42,6,null,null,100,{"$f":"COUNTIF(번호추출!$N$13:$S$13,자료실!C102)","v":0},{"$f":"COUNTIF(번호추출!$N$13:$S$13,자료실!D102)","v":0},{"$f":"COUNTIF(번호추출!$N$13:$S$13,자료실!E102)","v":0},{"$f":"COUNTIF(번호추출!$N$13:$S$13,자료실!F102)","v":0},{"$f":"COUNTIF(번호추출!$N$13:$S$13,자료실!G102)","v":0},{"$f":"COUNTIF(번호추출!$N$13:$S$13,자료실!H102)","v":0},{"$f":"COUNTIF(번호추출!$N$13:$S$13,I102)","v":0},0,0,0,0,0,0,0,{"$f":"IF(6=U102,\"1등\",IF(13=U102,\"1등\",0))","v":0},0]
[101,"2004.11.06",1,3,17,32,35,45,8,null,null,101,{"$f":"COUNTIF(번호추출!$N$13:$S$13,자료실!C103)","v":0},{"$f":"COUNTIF(번호추출!$N$13:$S$13,자료실!D103)","v":0},{"$f":"COUNTIF(번호추출!$N$13:$S$13,자료실!E103)","v":0},{"$f":"COUNTIF(번호추출!$N$13:$S$13,자료실!F103)","v":0},{"$f":"COUNTIF(번호추출!$N$13:$S$13,자료실!G103)","v":0},{"$f":"COUNTIF(번호추출!$N$13:$S$13,자료실!H103)","v":1},{"$f":"COUNTIF(번호추출!$N$13:$S$13,I103)","v":0},1,1,"꽝",0,0,0,0,{"$f":"IF(6=U103,\"1등\",IF(13=U103,\"1등\",0))","v":0},0]
[102,"2004.11.13",17,22,24,26,35,40,42,null,null,102,{"$f":"COUNTIF(번호추출!$N$13:$S$13,자료실!C104)","v":0},{"$f":"COUNTIF(번호추출!$N$13:$S$13,자료실!D104)","v":0},{"$f":"COUNTIF(번호추출!$N$13:$S$13,자료실!E104)","v":0},{"$f":"COUNTIF(번호추출!$N$13:$S$13,자료실!F104)","v":0},{"$f":"COUNTIF(번호추출!$N$13:$S$13,자료실!G104)","v":0},{"$f":"COUNTIF(번호추출!$N$13:$S$13,자료실!H104)","v":0},{"$f":"COUNTIF(번호추출!$N$13:$S$13,I104)","v":0},0,0,0,0,0,0,0,{"$f":"IF(6=U104,\"1등\",IF(13=U104,\"1등\",0))","v":0},0]
[103,"2004.11.20",5,14,15,27,30,45,10,null,null,103,{"$f":"COUNTIF(번호추출!$N$13:$S$13,자료실!C105)","v":0},{"$f":"COUNTIF(번호추출!$N$13:$S$13,자료실!D105)","v":0},{"$f":"COUNTIF(번호추출!$N$13:$S$13,자료실!E105)","v":1},{"$f":"COUNTIF(번호추출!$N$13:$S$13,자료실!F105)","v":0},{"$f":"COUNTIF(번호추출!$N$13:$S$13,자료실!G105)","v":0},{"$f":"COUNTIF(번호추출!$N$13:$S$13,자료실!H105)","v":1},{"$f":"COUNTIF(번호추출!$N$13:$S$13,I105)","v":0},2,2,"꽝","꽝",0,0,0,{"$f":"IF(6=U105,\"1등\",IF(13=U105,\"1등\",0))","v":0},0]
[104,"2004.11.27",17,32,33,34,42,44,35,null,null,104,{"$f":"COUNTIF(번호추출!$N$13:$S$13,자료실!C106)","v":0},{"$f":"COUNTIF(번호추출!$N$13:$S$13,자료실!D106)","v":0},{"$f":"COUNTIF(번호추출!$N$13:$S$13,자료실!E106)","v":1},{"$f":"COUNTIF(번호추출!$N$13:$S$13,자료실!F106)","v":0},{"$f":"COUNTIF(번호추출!$N$13:$S$13,자료실!G106)","v":0},{"$f":"COUNTIF(번호추출!$N$13:$S$13,자료실!H106)","v":0},{"$f":"COUNTIF(번호추출!$N$13:$S$13,I106)","v":0},1,1,"꽝",0,0,0,0,{"$f":"IF(6=U106,\"1등\",IF(13=U106,\"1등\",0))","v":0},0]
[105,"2004.12.04",8,10,20,34,41,45,28,null,null,105,{"$f":"COUNTIF(번호추출!$N$13:$S$13,자료실!C107)","v":0},{"$f":"COUNTIF(번호추출!$N$13:$S$13,자료실!D107)","v":0},{"$f":"COUNTIF(번호추출!$N$13:$S$13,자료실!E107)","v":0},{"$f":"COUNTIF(번호추출!$N$13:$S$13,자료실!F107)","v":0},{"$f":"COUNTIF(번호추출!$N$13:$S$13,자료실!G107)","v":0},{"$f":"COUNTIF(번호추출!$N$13:$S$13,자료실!H107)","v":1},{"$f":"COUNTIF(번호추출!$N$13:$S$13,I107)","v":0},1,1,"꽝",0,0,0,0,{"$f":"IF(6=U107,\"1등\",IF(13=U107,\"1등\",0))","v":0},0]
[106,"2004.12.11",4,10,12,22,24,33,29,null,null,106,{"$f":"COUNTIF(번호추출!$N$13:$S$13,자료실!C108)","v":1},{"$f":"COUNTIF(번호추출!$N$13:$S$13,자료실!D108)","v":0},{"$f":"COUNTIF(번호추출!$N$13:$S$13,자료실!E108)","v":0},{"$f":"COUNTIF(번호추출!$N$13:$S$13,자료실!F108)","v":0},{"$f":"COUNTIF(번호추출!$N$13:$S$13,자료실!G108)","v":0},{"$f":"COUNTIF(번호추출!$N$13:$S$13,자료실!H108)","v":1},{"$f":"COUNTIF(번호추출!$N$13:$S$13,I108)","v":0},2,2,"꽝","꽝",0,0,0,{"$f":"IF(6=U108,\"1등\",IF(13=U108,\"1등\",0))","v":0},0]
[107,"2004.12.18",1,4,5,6,9,31,17,null,null,107,{"$f":"COUNTIF(번호추출!$N$13:$S$13,자료실!C109)","v":0},{"$f":"COUNTIF(번호추출!$N$13:$S$13,자료실!D109)","v":1},{"$f":"COUNTIF(번호추출!$N$13:$S$13,자료실!E109)","v":0},{"$f":"COUNTIF(번호추출!$N$13:$S$13,자료실!F109)","v":0},{"$f":"COUNTIF(번호추출!$N$13:$S$13,자료실!G109)","v":0},{"$f":"COUNTIF(번호추출!$N$13:$S$13,자료실!H109)","v":0},{"$f":"COUNTIF(번호추출!$N$13:$S$13,I109)","v":0},1,1,"꽝",0,0,0,0,{"$f":"IF(6=U109,\"1등\",IF(13=U109,\"1등\",0))","v":0},0]
[108,"2004.12.25",7,18,22,23,29,44,12,null,null,108,{"$f":"COUNTIF(번호추출!$N$13:$S$13,자료실!C110)","v":0},{"$f":"COUNTIF(번호추출!$N$13:$S$13,자료실!D110)","v":1},{"$f":"COUNTIF(번호추출!$N$13:$S$13,자료실!E110)","v":0},{"$f":"COUNTIF(번호추출!$N$13:$S$13,자료실!F110)","v":0},{"$f":"COUNTIF(번호추출!$N$13:$S$13,자료실!G110)","v":0},{"$f":"COUNTIF(번호추출!$N$13:$S$13,자료실!H110)","v":0},{"$f":"COUNTIF(번호추출!$N$13:$S$13,I110)","v":0},1,1,"꽝",0,0,0,0,{"$f":"IF(6=U110,\"1등\",IF(13=U110,\"1등\",0))","v":0},0]
[109,"2005.01.01",1,5,34,36,42,44,33,null,null,109,{"$f":"COUNTIF(번호추출!$N$13:$S$13,자료실!C111)","v":0},{"$f":"COUNTIF(번호추출!$N$13:$S$13,자료실!D111)","v":0},{"$f":"COUNTIF(번호추출!$N$13:$S$13,자료실!E111)","v":0},{"$f":"COUNTIF(번호추출!$N$13:$S$13,자료실!F111)","v":0},{"$f":"COUNTIF(번호추출!$N$13:$S$13,자료실!G111)","v":0},{"$f":"COUNTIF(번호추출!$N$13:$S$13,자료실!H111)","v":0},{"$f":"COUNTIF(번호추출!$N$13:$S$13,I111)","v":1},0,1,"꽝",0,0,0,0,{"$f":"IF(6=U111,\"1등\",IF(13=U111,\"1등\",0))","v":0},0]
[110,"2005.01.08",7,20,22,23,29,43,1,null,null,110,{"$f":"COUNTIF(번호추출!$N$13:$S$13,자료실!C112)","v":0},{"$f":"COUNTIF(번호추출!$N$13:$S$13,자료실!D112)","v":0},{"$f":"COUNTIF(번호추출!$N$13:$S$13,자료실!E112)","v":0},{"$f":"COUNTIF(번호추출!$N$13:$S$13,자료실!F112)","v":0},{"$f":"COUNTIF(번호추출!$N$13:$S$13,자료실!G112)","v":0},{"$f":"COUNTIF(번호추출!$N$13:$S$13,자료실!H112)","v":0},{"$f":"COUNTIF(번호추출!$N$13:$S$13,I112)","v":0},0,0,0,0,0,0,0,{"$f":"IF(6=U112,\"1등\",IF(13=U112,\"1등\",0))","v":0},0]
[111,"2005.01.15",7,18,31,33,36,40,27,null,null,111,{"$f":"COUNTIF(번호추출!$N$13:$S$13,자료실!C113)","v":0},{"$f":"COUNTIF(번호추출!$N$13:$S$13,자료실!D113)","v":1},{"$f":"COUNTIF(번호추출!$N$13:$S$13,자료실!E113)","v":0},{"$f":"COUNTIF(번호추출!$N$13:$S$13,자료실!F113)","v":1},{"$f":"COUNTIF(번호추출!$N$13:$S$13,자료실!G113)","v":0},{"$f":"COUNTIF(번호추출!$N$13:$S$13,자료실!H113)","v":0},{"$f":"COUNTIF(번호추출!$N$13:$S$13,I113)","v":0},2,2,"꽝","꽝",0,0,0,{"$f":"IF(6=U113,\"1등\",IF(13=U113,\"1등\",0))","v":0},0]
[112,"2005.01.22",26,29,30,33,41,42,43,null,null,112,{"$f":"COUNTIF(번호추출!$N$13:$S$13,자료실!C114)","v":0},{"$f":"COUNTIF(번호추출!$N$13:$S$13,자료실!D114)","v":0},{"$f":"COUNTIF(번호추출!$N$13:$S$13,자료실!E114)","v":0},{"$f":"COUNTIF(번호추출!$N$13:$S$13,자료실!F114)","v":1},{"$f":"COUNTIF(번호추출!$N$13:$S$13,자료실!G114)","v":0},{"$f":"COUNTIF(번호추출!$N$13:$S$13,자료실!H114)","v":0},{"$f":"COUNTIF(번호추출!$N$13:$S$13,I114)","v":0},1,1,"꽝",0,0,0,0,{"$f":"IF(6=U114,\"1등\",IF(13=U114,\"1등\",0))","v":0},0]
[113,"2005.01.29",4,9,28,33,36,45,26,null,null,113,{"$f":"COUNTIF(번호추출!$N$13:$S$13,자료실!C115)","v":1},{"$f":"COUNTIF(번호추출!$N$13:$S$13,자료실!D115)","v":0},{"$f":"COUNTIF(번호추출!$N$13:$S$13,자료실!E115)","v":0},{"$f":"COUNTIF(번호추출!$N$13:$S$13,자료실!F115)","v":1},{"$f":"COUNTIF(번호추출!$N$13:$S$13,자료실!G115)","v":0},{"$f":"COUNTIF(번호추출!$N$13:$S$13,자료실!H115)","v":1},{"$f":"COUNTIF(번호추출!$N$13:$S$13,I115)","v":0},3,3,"꽝","꽝","5등",0,0,{"$f":"IF(6=U115,\"1등\",IF(13=U115,\"1등\",0))","v":0},0]
[114,"2005.02.05",11,14,19,26,28,41,2,null,null,114,{"$f":"COUNTIF(번호추출!$N$13:$S$13,자료실!C116)","v":0},{"$f":"COUNTIF(번호추출!$N$13:$S$13,자료실!D116)","v":0},{"$f":"COUNTIF(번호추출!$N$13:$S$13,자료실!E116)","v":0},{"$f":"COUNTIF(번호추출!$N$13:$S$13,자료실!F116)","v":0},{"$f":"COUNTIF(번호추출!$N$13:$S$13,자료실!G116)","v":0},{"$f":"COUNTIF(번호추출!$N$13:$S$13,자료실!H116)","v":0},{"$f":"COUNTIF(번호추출!$N$13:$S$13,I116)","v":0},0,0,0,0,0,0,0,{"$f":"IF(6=U116,\"1등\",IF(13=U116,\"1등\",0))","v":0},0]
[115,"2005.02.12",1,2,6,9,25,28,31,null,null,115,{"$f":"COUNTIF(번호추출!$N$13:$S$13,자료실!C117)","v":0},{"$f":"COUNTIF(번호추출!$N$13:$S$13,자료실!D117)","v":0},{"$f":"COUNTIF(번호추출!$N$13:$S$13,자료실!E117)","v":0},{"$f":"COUNTIF(번호추출!$N$13:$S$13,자료실!F117)","v":0},{"$f":"COUNTIF(번호추출!$N$13:$S$13,자료실!G117)","v":1},{"$f":"COUNTIF(번호추출!$N$13:$S$13,자료실!H117)","v":0},{"$f":"COUNTIF(번호추출!$N$13:$S$13,I117)","v":0},1,1,"꽝",0,0,0,0,{"$f":"IF(6=U117,\"1등\",IF(13=U117,\"1등\",0))","v":0},0]
[116,"2005.02.19",2,4,25,31,34,37,17,null,null,116,{"$f":"COUNTIF(번호추출!$N$13:$S$13,자료실!C118)","v":0},{"$f":"COUNTIF(번호추출!$N$13:$S$13,자료실!D118)","v":1},{"$f":"COUNTIF(번호추출!$N$13:$S$13,자료실!E118)","v":1},{"$f":"COUNTIF(번호추출!$N$13:$S$13,자료실!F118)","v":0},{"$f":"COUNTIF(번호추출!$N$13:$S$13,자료실!G118)","v":0},{"$f":"COUNTIF(번호추출!$N$13:$S$13,자료실!H118)","v":0},{"$f":"COUNTIF(번호추출!$N$13:$S$13,I118)","v":0},2,2,"꽝","꽝",0,0,0,{"$f":"IF(6=U118,\"1등\",IF(13=U118,\"1등\",0))","v":0},0]
[117,"2005.02.26",5,10,22,34,36,44,35,null,null,117,{"$f":"COUNTIF(번호추출!$N$13:$S$13,자료실!C119)","v":0},{"$f":"COUNTIF(번호추출!$N$13:$S$13,자료실!D119)","v":0},{"$f":"COUNTIF(번호추출!$N$13:$S$13,자료실!E119)","v":0},{"$f":"COUNTIF(번호추출!$N$13:$S$13,자료실!F119)","v":0},{"$f":"COUNTIF(번호추출!$N$13:$S$13,자료실!G119)","v":0},{"$f":"COUNTIF(번호추출!$N$13:$S$13,자료실!H119)","v":0},{"$f":"COUNTIF(번호추출!$N$13:$S$13,I119)","v":0},0,0,0,0,0,0,0,{"$f":"IF(6=U119,\"1등\",IF(13=U119,\"1등\",0))","v":0},0]
[118,"2005.03.05",3,4,10,17,19,22,38,null,null,118,{"$f":"COUNTIF(번호추출!$N$13:$S$13,자료실!C120)","v":0},{"$f":"COUNTIF(번호추출!$N$13:$S$13,자료실!D120)","v":1},{"$f":"COUNTIF(번호추출!$N$13:$S$13,자료실!E120)","v":0},{"$f":"COUNTIF(번호추출!$N$13:$S$13,자료실!F120)","v":0},{"$f":"COUNTIF(번호추출!$N$13:$S$13,자료실!G120)","v":0},{"$f":"COUNTIF(번호추출!$N$13:$S$13,자료실!H120)","v":0},{"$f":"COUNTIF(번호추출!$N$13:$S$13,I120)","v":0},1,1,"꽝",0,0,0,0,{"$f":"IF(6=U120,\"1등\",IF(13=U120,\"1등\",0))","v":0},0]
[119,"2005.03.12",3,11,13,14,17,21,38,null,null,119,{"$f":"COUNTIF(번호추출!$N$13:$S$13,자료실!C121)","v":0},{"$f":"COUNTIF(번호추출!$N$13:$S$13,자료실!D121)","v":0},{"$f":"COUNTIF(번호추출!$N$13:$S$13,자료실!E121)","v":0},{"$f":"COUNTIF(번호추출!$N$13:$S$13,자료실!F121)","v":0},{"$f":"COUNTIF(번호추출!$N$13:$S$13,자료실!G121)","v":0},{"$f":"COUNTIF(번호추출!$N$13:$S$13,자료실!H121)","v":0},{"$f":"COUNTIF(번호추출!$N$13:$S$13,I121)","v":0},0,0,0,0,0,0,0,{"$f":"IF(6=U121,\"1등\",IF(13=U121,\"1등\",0))","v":0},0]
[120,"2005.03.19",4,6,10,11,32,37,30,null,null,120,{"$f":"COUNTIF(번호추출!$N$13:$S$13,자료실!C122)","v":1},{"$f":"COUNTIF(번호추출!$N$13:$S$13,자료실!D122)","v":0},{"$f":"COUNTIF(번호추출!$N$13:$S$13,자료실!E122)","v":0},{"$f":"COUNTIF(번호추출!$N$13:$S$13,자료실!F122)","v":0},{"$f":"COUNTIF(번호추출!$N$13:$S$13,자료실!G122)","v":0},{"$f":"COUNTIF(번호추출!$N$13:$S$13,자료실!H122)","v":0},{"$f":"COUNTIF(번호추출!$N$13:$S$13,I122)","v":0},1,1,"꽝",0,0,0,0,{"$f":"IF(6=U122,\"1등\",IF(13=U122,\"1등\",0))","v":0},0]
[121,"2005.03.26",12,28,30,34,38,43,9,null,null,121,{"$f":"COUNTIF(번호추출!$N$13:$S$13,자료실!C123)","v":0},{"$f":"COUNTIF(번호추출!$N$13:$S$13,자료실!D123)","v":0},{"$f":"COUNTIF(번호추출!$N$13:$S$13,자료실!E123)","v":0},{"$f":"COUNTIF(번호추출!$N$13:$S$13,자료실!F123)","v":0},{"$f":"COUNTIF(번호추출!$N$13:$S$13,자료실!G123)","v":0},{"$f":"COUNTIF(번호추출!$N$13:$S$13,자료실!H123)","v":0},{"$f":"COUNTIF(번호추출!$N$13:$S$13,I123)","v":0},0,0,0,0,0,0,0,{"$f":"IF(6=U123,\"1등\",IF(13=U123,\"1등\",0))","v":0},0]
[122,"2005.04.02",1,11,16,17,36,40,8,null,null,122,{"$f":"COUNTIF(번호추출!$N$13:$S$13,자료실!C124)","v":0},{"$f":"COUNTIF(번호추출!$N$13:$S$13,자료실!D124)","v":0},{"$f":"COUNTIF(번호추출!$N$13:$S$13,자료실!E124)","v":0},{"$f":"COUNTIF(번호추출!$N$13:$S$13,자료실!F124)","v":0},{"$f":"COUNTIF(번호추출!$N$13:$S$13,자료실!G124)","v":0},{"$f":"COUNTIF(번호추출!$N$13:$S$13,자료실!H124)","v":0},{"$f":"COUNTIF(번호추출!$N$13:$S$13,I124)","v":0},0,0,0,0,0,0,0,{"$f":"IF(6=U124,\"1등\",IF(13=U124,\"1등\",0))","v":0},0]
[123,"2005.04.09",7,17,18,28,30,45,27,null,null,123,{"$f":"COUNTIF(번호추출!$N$13:$S$13,자료실!C125)","v":0},{"$f":"COUNTIF(번호추출!$N$13:$S$13,자료실!D125)","v":0},{"$f":"COUNTIF(번호추출!$N$13:$S$13,자료실!E125)","v":1},{"$f":"COUNTIF(번호추출!$N$13:$S$13,자료실!F125)","v":0},{"$f":"COUNTIF(번호추출!$N$13:$S$13,자료실!G125)","v":0},{"$f":"COUNTIF(번호추출!$N$13:$S$13,자료실!H125)","v":1},{"$f":"COUNTIF(번호추출!$N$13:$S$13,I125)","v":0},2,2,"꽝","꽝",0,0,0,{"$f":"IF(6=U125,\"1등\",IF(13=U125,\"1등\",0))","v":0},0]
[124,"2005.04.16",4,16,23,25,29,42,1,null,null,124,{"$f":"COUNTIF(번호추출!$N$13:$S$13,자료실!C126)","v":1},{"$f":"COUNTIF(번호추출!$N$13:$S$13,자료실!D126)","v":0},{"$f":"COUNTIF(번호추출!$N$13:$S$13,자료실!E126)","v":0},{"$f":"COUNTIF(번호추출!$N$13:$S$13,자료실!F126)","v":1},{"$f":"COUNTIF(번호추출!$N$13:$S$13,자료실!G126)","v":0},{"$f":"COUNTIF(번호추출!$N$13:$S$13,자료실!H126)","v":0},{"$f":"COUNTIF(번호추출!$N$13:$S$13,I126)","v":0},2,2,"꽝","꽝",0,0,0,{"$f":"IF(6=U126,\"1등\",IF(13=U126,\"1등\",0))","v":0},0]
[125,"2005.04.23",2,8,32,33,35,36,18,null,null,125,{"$f":"COUNTIF(번호추출!$N$13:$S$13,자료실!C127)","v":0},{"$f":"COUNTIF(번호추출!$N$13:$S$13,자료실!D127)","v":0},{"$f":"COUNTIF(번호추출!$N$13:$S$13,자료실!E127)","v":0},{"$f":"COUNTIF(번호추출!$N$13:$S$13,자료실!F127)","v":1},{"$f":"COUNTIF(번호추출!$N$13:$S$13,자료실!G127)","v":0},{"$f":"COUNTIF(번호추출!$N$13:$S$13,자료실!H127)","v":0},{"$f":"COUNTIF(번호추출!$N$13:$S$13,I127)","v":1},1,2,"꽝","꽝",0,0,0,{"$f":"IF(6=U127,\"1등\",IF(13=U127,\"1등\",0))","v":0},0]
[126,"2005.04.30",7,20,22,27,40,43,1,null,null,126,{"$f":"COUNTIF(번호추출!$N$13:$S$13,자료실!C128)","v":0},{"$f":"COUNTIF(번호추출!$N$13:$S$13,자료실!D128)","v":0},{"$f":"COUNTIF(번호추출!$N$13:$S$13,자료실!E128)","v":0},{"$f":"COUNTIF(번호추출!$N$13:$S$13,자료실!F128)","v":0},{"$f":"COUNTIF(번호추출!$N$13:$S$13,자료실!G128)","v":0},{"$f":"COUNTIF(번호추출!$N$13:$S$13,자료실!H128)","v":0},{"$f":"COUNTIF(번호추출!$N$13:$S$13,I128)","v":0},0,0,0,0,0,0,0,{"$f":"IF(6=U128,\"1등\",IF(13=U128,\"1등\",0))","v":0},0]
[127,"2005.05.07",3,5,10,29,32,43,35,null,null,127,{"$f":"COUNTIF(번호추출!$N$13:$S$13,자료실!C129)","v":0},{"$f":"COUNTIF(번호추출!$N$13:$S$13,자료실!D129)","v":0},{"$f":"COUNTIF(번호추출!$N$13:$S$13,자료실!E129)","v":0},{"$f":"COUNTIF(번호추출!$N$13:$S$13,자료실!F129)","v":0},{"$f":"COUNTIF(번호추출!$N$13:$S$13,자료실!G129)","v":0},{"$f":"COUNTIF(번호추출!$N$13:$S$13,자료실!H129)","v":0},{"$f":"COUNTIF(번호추출!$N$13:$S$13,I129)","v":0},0,0,0,0,0,0,0,{"$f":"IF(6=U129,\"1등\",IF(13=U129,\"1등\",0))","v":0},0]
[128,"2005.05.14",12,30,34,36,37,45,39,null,null,128,{"$f":"COUNTIF(번호추출!$N$13:$S$13,자료실!C130)","v":0},{"$f":"COUNTIF(번호추출!$N$13:$S$13,자료실!D130)","v":0},{"$f":"COUNTIF(번호추출!$N$13:$S$13,자료실!E130)","v":0},{"$f":"COUNTIF(번호추출!$N$13:$S$13,자료실!F130)","v":0},{"$f":"COUNTIF(번호추출!$N$13:$S$13,자료실!G130)","v":0},{"$f":"COUNTIF(번호추출!$N$13:$S$13,자료실!H130)","v":1},{"$f":"COUNTIF(번호추출!$N$13:$S$13,I130)","v":0},1,1,"꽝",0,0,0,0,{"$f":"IF(6=U130,\"1등\",IF(13=U130,\"1등\",0))","v":0},0]
[129,"2005.05.21",19,23,25,28,38,42,17,null,null,129,{"$f":"COUNTIF(번호추출!$N$13:$S$13,자료실!C131)","v":0},{"$f":"COUNTIF(번호추출!$N$13:$S$13,자료실!D131)","v":0},{"$f":"COUNTIF(번호추출!$N$13:$S$13,자료실!E131)","v":1},{"$f":"COUNTIF(번호추출!$N$13:$S$13,자료실!F131)","v":0},{"$f":"COUNTIF(번호추출!$N$13:$S$13,자료실!G131)","v":0},{"$f":"COUNTIF(번호추출!$N$13:$S$13,자료실!H131)","v":0},{"$f":"COUNTIF(번호추출!$N$13:$S$13,I131)","v":0},1,1,"꽝",0,0,0,0,{"$f":"IF(6=U131,\"1등\",IF(13=U131,\"1등\",0))","v":0},0]
[130,"2005.05.28",7,19,24,27,42,45,31,null,null,130,{"$f":"COUNTIF(번호추출!$N$13:$S$13,자료실!C132)","v":0},{"$f":"COUNTIF(번호추출!$N$13:$S$13,자료실!D132)","v":0},{"$f":"COUNTIF(번호추출!$N$13:$S$13,자료실!E132)","v":0},{"$f":"COUNTIF(번호추출!$N$13:$S$13,자료실!F132)","v":0},{"$f":"COUNTIF(번호추출!$N$13:$S$13,자료실!G132)","v":0},{"$f":"COUNTIF(번호추출!$N$13:$S$13,자료실!H132)","v":1},{"$f":"COUNTIF(번호추출!$N$13:$S$13,I132)","v":0},1,1,"꽝",0,0,0,0,{"$f":"IF(6=U132,\"1등\",IF(13=U132,\"1등\",0))","v":0},0]
[131,"2005.06.04",8,10,11,14,15,21,37,null,null,131,{"$f":"COUNTIF(번호추출!$N$13:$S$13,자료실!C133)","v":0},{"$f":"COUNTIF(번호추출!$N$13:$S$13,자료실!D133)","v":0},{"$f":"COUNTIF(번호추출!$N$13:$S$13,자료실!E133)","v":0},{"$f":"COUNTIF(번호추출!$N$13:$S$13,자료실!F133)","v":0},{"$f":"COUNTIF(번호추출!$N$13:$S$13,자료실!G133)","v":1},{"$f":"COUNTIF(번호추출!$N$13:$S$13,자료실!H133)","v":0},{"$f":"COUNTIF(번호추출!$N$13:$S$13,I133)","v":0},1,1,"꽝",0,0,0,0,{"$f":"IF(6=U133,\"1등\",IF(13=U133,\"1등\",0))","v":0},0]
[132,"2005.06.11",3,17,23,34,41,45,43,null,null,132,{"$f":"COUNTIF(번호추출!$N$13:$S$13,자료실!C134)","v":0},{"$f":"COUNTIF(번호추출!$N$13:$S$13,자료실!D134)","v":0},{"$f":"COUNTIF(번호추출!$N$13:$S$13,자료실!E134)","v":0},{"$f":"COUNTIF(번호추출!$N$13:$S$13,자료실!F134)","v":0},{"$f":"COUNTIF(번호추출!$N$13:$S$13,자료실!G134)","v":0},{"$f":"COUNTIF(번호추출!$N$13:$S$13,자료실!H134)","v":1},{"$f":"COUNTIF(번호추출!$N$13:$S$13,I134)","v":0},1,1,"꽝",0,0,0,0,{"$f":"IF(6=U134,\"1등\",IF(13=U134,\"1등\",0))","v":0},0]
[133,"2005.06.18",4,7,15,18,23,26,13,null,null,133,{"$f":"COUNTIF(번호추출!$N$13:$S$13,자료실!C135)","v":1},{"$f":"COUNTIF(번호추출!$N$13:$S$13,자료실!D135)","v":0},{"$f":"COUNTIF(번호추출!$N$13:$S$13,자료실!E135)","v":1},{"$f":"COUNTIF(번호추출!$N$13:$S$13,자료실!F135)","v":1},{"$f":"COUNTIF(번호추출!$N$13:$S$13,자료실!G135)","v":0},{"$f":"COUNTIF(번호추출!$N$13:$S$13,자료실!H135)","v":0},{"$f":"COUNTIF(번호추출!$N$13:$S$13,I135)","v":0},3,3,"꽝","꽝","5등",0,0,{"$f":"IF(6=U135,\"1등\",IF(13=U135,\"1등\",0))","v":0},0]
[134,"2005.06.25",3,12,20,23,31,35,43,null,null,134,{"$f":"COUNTIF(번호추출!$N$13:$S$13,자료실!C136)","v":0},{"$f":"COUNTIF(번호추출!$N$13:$S$13,자료실!D136)","v":0},{"$f":"COUNTIF(번호추출!$N$13:$S$13,자료실!E136)","v":0},{"$f":"COUNTIF(번호추출!$N$13:$S$13,자료실!F136)","v":0},{"$f":"COUNTIF(번호추출!$N$13:$S$13,자료실!G136)","v":0},{"$f":"COUNTIF(번호추출!$N$13:$S$13,자료실!H136)","v":0},{"$f":"COUNTIF(번호추출!$N$13:$S$13,I136)","v":0},0,0,0,0,0,0,0,{"$f":"IF(6=U136,\"1등\",IF(13=U136,\"1등\",0))","v":0},0]
[135,"2005.07.02",6,14,22,28,35,39,16,null,null,135,{"$f":"COUNTIF(번호추출!$N$13:$S$13,자료실!C137)","v":0},{"$f":"COUNTIF(번호추출!$N$13:$S$13,자료실!D137)","v":0},{"$f":"COUNTIF(번호추출!$N$13:$S$13,자료실!E137)","v":0},{"$f":"COUNTIF(번호추출!$N$13:$S$13,자료실!F137)","v":0},{"$f":"COUNTIF(번호추출!$N$13:$S$13,자료실!G137)","v":0},{"$f":"COUNTIF(번호추출!$N$13:$S$13,자료실!H137)","v":0},{"$f":"COUNTIF(번호추출!$N$13:$S$13,I137)","v":0},0,0,0,0,0,0,0,{"$f":"IF(6=U137,\"1등\",IF(13=U137,\"1등\",0))","v":0},0]
[136,"2005.07.09",2,16,30,36,41,42,11,null,null,136,{"$f":"COUNTIF(번호추출!$N$13:$S$13,자료실!C138)","v":0},{"$f":"COUNTIF(번호추출!$N$13:$S$13,자료실!D138)","v":0},{"$f":"COUNTIF(번호추출!$N$13:$S$13,자료실!E138)","v":0},{"$f":"COUNTIF(번호추출!$N$13:$S$13,자료실!F138)","v":0},{"$f":"COUNTIF(번호추출!$N$13:$S$13,자료실!G138)","v":0},{"$f":"COUNTIF(번호추출!$N$13:$S$13,자료실!H138)","v":0},{"$f":"COUNTIF(번호추출!$N$13:$S$13,I138)","v":0},0,0,0,0,0,0,0,{"$f":"IF(6=U138,\"1등\",IF(13=U138,\"1등\",0))","v":0},0]
[137,"2005.07.16",7,9,20,25,36,39,15,null,null,137,{"$f":"COUNTIF(번호추출!$N$13:$S$13,자료실!C139)","v":0},{"$f":"COUNTIF(번호추출!$N$13:$S$13,자료실!D139)","v":0},{"$f":"COUNTIF(번호추출!$N$13:$S$13,자료실!E139)","v":0},{"$f":"COUNTIF(번호추출!$N$13:$S$13,자료실!F139)","v":1},{"$f":"COUNTIF(번호추출!$N$13:$S$13,자료실!G139)","v":0},{"$f":"COUNTIF(번호추출!$N$13:$S$13,자료실!H139)","v":0},{"$f":"COUNTIF(번호추출!$N$13:$S$13,I139)","v":1},1,2,"꽝","꽝",0,0,0,{"$f":"IF(6=U139,\"1등\",IF(13=U139,\"1등\",0))","v":0},0]
[138,"2005.07.23",10,11,27,28,37,39,19,null,null,138,{"$f":"COUNTIF(번호추출!$N$13:$S$13,자료실!C140)","v":0},{"$f":"COUNTIF(번호추출!$N$13:$S$13,자료실!D140)","v":0},{"$f":"COUNTIF(번호추출!$N$13:$S$13,자료실!E140)","v":0},{"$f":"COUNTIF(번호추출!$N$13:$S$13,자료실!F140)","v":0},{"$f":"COUNTIF(번호추출!$N$13:$S$13,자료실!G140)","v":0},{"$f":"COUNTIF(번호추출!$N$13:$S$13,자료실!H140)","v":0},{"$f":"COUNTIF(번호추출!$N$13:$S$13,I140)","v":0},0,0,0,0,0,0,0,{"$f":"IF(6=U140,\"1등\",IF(13=U140,\"1등\",0))","v":0},0]
[139,"2005.07.30",9,11,15,20,28,43,13,null,null,139,{"$f":"COUNTIF(번호추출!$N$13:$S$13,자료실!C141)","v":0},{"$f":"COUNTIF(번호추출!$N$13:$S$13,자료실!D141)","v":0},{"$f":"COUNTIF(번호추출!$N$13:$S$13,자료실!E141)","v":1},{"$f":"COUNTIF(번호추출!$N$13:$S$13,자료실!F141)","v":0},{"$f":"COUNTIF(번호추출!$N$13:$S$13,자료실!G141)","v":0},{"$f":"COUNTIF(번호추출!$N$13:$S$13,자료실!H141)","v":0},{"$f":"COUNTIF(번호추출!$N$13:$S$13,I141)","v":0},1,1,"꽝",0,0,0,0,{"$f":"IF(6=U141,\"1등\",IF(13=U141,\"1등\",0))","v":0},0]
[140,"2005.08.06",3,13,17,18,19,28,8,null,null,140,{"$f":"COUNTIF(번호추출!$N$13:$S$13,자료실!C142)","v":0},{"$f":"COUNTIF(번호추출!$N$13:$S$13,자료실!D142)","v":0},{"$f":"COUNTIF(번호추출!$N$13:$S$13,자료실!E142)","v":0},{"$f":"COUNTIF(번호추출!$N$13:$S$13,자료실!F142)","v":1},{"$f":"COUNTIF(번호추출!$N$13:$S$13,자료실!G142)","v":0},{"$f":"COUNTIF(번호추출!$N$13:$S$13,자료실!H142)","v":0},{"$f":"COUNTIF(번호추출!$N$13:$S$13,I142)","v":0},1,1,{"$f":"IF(1=U142,\"꽝\",IF(0<T142,\"꽝\",0))","v":"꽝"},{"$f":"IF(2=U142,\"꽝\",IF(1<T142,\"꽝\",0))","v":0},{"$f":"IF(3=U142,\"5등\",IF(2<T142,\"5등\",0))","v":0},{"$f":"IF(4=U142,\"4등\",IF(3<T142,\"4등\",0))","v":0},{"$f":"IF(5=U142,\"3등\",IF(4<T142,\"3등\",0))","v":0},{"$f":"IF(6=U142,\"1등\",IF(13=U142,\"1등\",0))","v":0},{"$f":"IF(U142=12,\"2등\",0)","v":0}]
[141,"2005.08.13",8,12,29,31,42,43,2,null,null,141,{"$f":"COUNTIF(번호추출!$N$13:$S$13,자료실!C143)","v":0},{"$f":"COUNTIF(번호추출!$N$13:$S$13,자료실!D143)","v":0},{"$f":"COUNTIF(번호추출!$N$13:$S$13,자료실!E143)","v":0},{"$f":"COUNTIF(번호추출!$N$13:$S$13,자료실!F143)","v":0},{"$f":"COUNTIF(번호추출!$N$13:$S$13,자료실!G143)","v":0},{"$f":"COUNTIF(번호추출!$N$13:$S$13,자료실!H143)","v":0},{"$f":"COUNTIF(번호추출!$N$13:$S$13,I143)","v":0},0,0,0,0,0,0,0,{"$f":"IF(6=U143,\"1등\",IF(13=U143,\"1등\",0))","v":0},0]
[142,"2005.08.20",12,16,30,34,40,44,19,null,null,142,{"$f":"COUNTIF(번호추출!$N$13:$S$13,자료실!C144)","v":0},{"$f":"COUNTIF(번호추출!$N$13:$S$13,자료실!D144)","v":0},{"$f":"COUNTIF(번호추출!$N$13:$S$13,자료실!E144)","v":0},{"$f":"COUNTIF(번호추출!$N$13:$S$13,자료실!F144)","v":0},{"$f":"COUNTIF(번호추출!$N$13:$S$13,자료실!G144)","v":0},{"$f":"COUNTIF(번호추출!$N$13:$S$13,자료실!H144)","v":0},{"$f":"COUNTIF(번호추출!$N$13:$S$13,I144)","v":0},0,0,0,0,0,0,0,{"$f":"IF(6=U144,\"1등\",IF(13=U144,\"1등\",0))","v":0},0]
[143,"2005.08.27",26,27,28,42,43,45,8,null,null,143,{"$f":"COUNTIF(번호추출!$N$13:$S$13,자료실!C145)","v":0},{"$f":"COUNTIF(번호추출!$N$13:$S$13,자료실!D145)","v":0},{"$f":"COUNTIF(번호추출!$N$13:$S$13,자료실!E145)","v":0},{"$f":"COUNTIF(번호추출!$N$13:$S$13,자료실!F145)","v":0},{"$f":"COUNTIF(번호추출!$N$13:$S$13,자료실!G145)","v":0},{"$f":"COUNTIF(번호추출!$N$13:$S$13,자료실!H145)","v":1},{"$f":"COUNTIF(번호추출!$N$13:$S$13,I145)","v":0},1,1,"꽝",0,0,0,0,{"$f":"IF(6=U145,\"1등\",IF(13=U145,\"1등\",0))","v":0},0]
[144,"2005.09.03",4,15,17,26,36,37,43,null,null,144,{"$f":"COUNTIF(번호추출!$N$13:$S$13,자료실!C146)","v":1},{"$f":"COUNTIF(번호추출!$N$13:$S$13,자료실!D146)","v":1},{"$f":"COUNTIF(번호추출!$N$13:$S$13,자료실!E146)","v":0},{"$f":"COUNTIF(번호추출!$N$13:$S$13,자료실!F146)","v":0},{"$f":"COUNTIF(번호추출!$N$13:$S$13,자료실!G146)","v":0},{"$f":"COUNTIF(번호추출!$N$13:$S$13,자료실!H146)","v":0},{"$f":"COUNTIF(번호추출!$N$13:$S$13,I146)","v":0},2,2,"꽝","꽝",0,0,0,{"$f":"IF(6=U146,\"1등\",IF(13=U146,\"1등\",0))","v":0},0]
[145,"2005.09.10",2,3,13,20,27,44,9,null,null,145,{"$f":"COUNTIF(번호추출!$N$13:$S$13,자료실!C147)","v":0},{"$f":"COUNTIF(번호추출!$N$13:$S$13,자료실!D147)","v":0},{"$f":"COUNTIF(번호추출!$N$13:$S$13,자료실!E147)","v":0},{"$f":"COUNTIF(번호추출!$N$13:$S$13,자료실!F147)","v":0},{"$f":"COUNTIF(번호추출!$N$13:$S$13,자료실!G147)","v":0},{"$f":"COUNTIF(번호추출!$N$13:$S$13,자료실!H147)","v":0},{"$f":"COUNTIF(번호추출!$N$13:$S$13,I147)","v":0},0,0,0,0,0,0,0,{"$f":"IF(6=U147,\"1등\",IF(13=U147,\"1등\",0))","v":0},0]
[146,"2005.09.17",2,19,27,35,41,42,25,null,null,146,{"$f":"COUNTIF(번호추출!$N$13:$S$13,자료실!C148)","v":0},{"$f":"COUNTIF(번호추출!$N$13:$S$13,자료실!D148)","v":0},{"$f":"COUNTIF(번호추출!$N$13:$S$13,자료실!E148)","v":0},{"$f":"COUNTIF(번호추출!$N$13:$S$13,자료실!F148)","v":0},{"$f":"COUNTIF(번호추출!$N$13:$S$13,자료실!G148)","v":0},{"$f":"COUNTIF(번호추출!$N$13:$S$13,자료실!H148)","v":0},{"$f":"COUNTIF(번호추출!$N$13:$S$13,I148)","v":1},0,1,"꽝",0,0,0,0,{"$f":"IF(6=U148,\"1등\",IF(13=U148,\"1등\",0))","v":0},0]
[147,"2005.09.24",4,6,13,21,40,42,36,null,null,147,{"$f":"COUNTIF(번호추출!$N$13:$S$13,자료실!C149)","v":1},{"$f":"COUNTIF(번호추출!$N$13:$S$13,자료실!D149)","v":0},{"$f":"COUNTIF(번호추출!$N$13:$S$13,자료실!E149)","v":0},{"$f":"COUNTIF(번호추출!$N$13:$S$13,자료실!F149)","v":0},{"$f":"COUNTIF(번호추출!$N$13:$S$13,자료실!G149)","v":0},{"$f":"COUNTIF(번호추출!$N$13:$S$13,자료실!H149)","v":0},{"$f":"COUNTIF(번호추출!$N$13:$S$13,I149)","v":0},1,1,"꽝",0,0,0,0,{"$f":"IF(6=U149,\"1등\",IF(13=U149,\"1등\",0))","v":0},0]
[148,"2005.10.01",21,25,33,34,35,36,17,null,null,148,{"$f":"COUNTIF(번호추출!$N$13:$S$13,자료실!C150)","v":0},{"$f":"COUNTIF(번호추출!$N$13:$S$13,자료실!D150)","v":1},{"$f":"COUNTIF(번호추출!$N$13:$S$13,자료실!E150)","v":1},{"$f":"COUNTIF(번호추출!$N$13:$S$13,자료실!F150)","v":0},{"$f":"COUNTIF(번호추출!$N$13:$S$13,자료실!G150)","v":0},{"$f":"COUNTIF(번호추출!$N$13:$S$13,자료실!H150)","v":0},{"$f":"COUNTIF(번호추출!$N$13:$S$13,I150)","v":0},2,2,"꽝","꽝",0,0,0,{"$f":"IF(6=U150,\"1등\",IF(13=U150,\"1등\",0))","v":0},0]
[149,"2005.10.08",2,11,21,34,41,42,27,null,null,149,{"$f":"COUNTIF(번호추출!$N$13:$S$13,자료실!C151)","v":0},{"$f":"COUNTIF(번호추출!$N$13:$S$13,자료실!D151)","v":0},{"$f":"COUNTIF(번호추출!$N$13:$S$13,자료실!E151)","v":0},{"$f":"COUNTIF(번호추출!$N$13:$S$13,자료실!F151)","v":0},{"$f":"COUNTIF(번호추출!$N$13:$S$13,자료실!G151)","v":0},{"$f":"COUNTIF(번호추출!$N$13:$S$13,자료실!H151)","v":0},{"$f":"COUNTIF(번호추출!$N$13:$S$13,I151)","v":0},0,0,0,0,0,0,0,{"$f":"IF(6=U151,\"1등\",IF(13=U151,\"1등\",0))","v":0},0]
[150,"2005.10.15",2,18,25,28,37,39,16,null,null,150,{"$f":"COUNTIF(번호추출!$N$13:$S$13,자료실!C152)","v":0},{"$f":"COUNTIF(번호추출!$N$13:$S$13,자료실!D152)","v":1},{"$f":"COUNTIF(번호추출!$N$13:$S$13,자료실!E152)","v":1},{"$f":"COUNTIF(번호추출!$N$13:$S$13,자료실!F152)","v":0},{"$f":"COUNTIF(번호추출!$N$13:$S$13,자료실!G152)","v":0},{"$f":"COUNTIF(번호추출!$N$13:$S$13,자료실!H152)","v":0},{"$f":"COUNTIF(번호추출!$N$13:$S$13,I152)","v":0},2,2,"꽝","꽝",0,0,0,{"$f":"IF(6=U152,\"1등\",IF(13=U152,\"1등\",0))","v":0},0]
[151,"2005.10.22",1,2,10,13,18,19,15,null,null,151,{"$f":"COUNTIF(번호추출!$N$13:$S$13,자료실!C153)","v":0},{"$f":"COUNTIF(번호추출!$N$13:$S$13,자료실!D153)","v":0},{"$f":"COUNTIF(번호추출!$N$13:$S$13,자료실!E153)","v":0},{"$f":"COUNTIF(번호추출!$N$13:$S$13,자료실!F153)","v":0},{"$f":"COUNTIF(번호추출!$N$13:$S$13,자료실!G153)","v":1},{"$f":"COUNTIF(번호추출!$N$13:$S$13,자료실!H153)","v":0},{"$f":"COUNTIF(번호추출!$N$13:$S$13,I153)","v":1},1,2,"꽝","꽝",0,0,0,{"$f":"IF(6=U153,\"1등\",IF(13=U153,\"1등\",0))","v":0},0]
[152,"2005.10.29",1,5,13,26,29,34,43,null,null,152,{"$f":"COUNTIF(번호추출!$N$13:$S$13,자료실!C154)","v":0},{"$f":"COUNTIF(번호추출!$N$13:$S$13,자료실!D154)","v":0},{"$f":"COUNTIF(번호추출!$N$13:$S$13,자료실!E154)","v":0},{"$f":"COUNTIF(번호추출!$N$13:$S$13,자료실!F154)","v":0},{"$f":"COUNTIF(번호추출!$N$13:$S$13,자료실!G154)","v":0},{"$f":"COUNTIF(번호추출!$N$13:$S$13,자료실!H154)","v":0},{"$f":"COUNTIF(번호추출!$N$13:$S$13,I154)","v":0},0,0,0,0,0,0,0,{"$f":"IF(6=U154,\"1등\",IF(13=U154,\"1등\",0))","v":0},0]
[153,"2005.11.05",3,8,11,12,13,36,33,null,null,{"$f":"A155","v":153},{"$f":"COUNTIF(번호추출!$N$13:$S$13,자료실!C155)","v":0},{"$f":"COUNTIF(번호추출!$N$13:$S$13,자료실!D155)","v":0},{"$f":"COUNTIF(번호추출!$N$13:$S$13,자료실!E155)","v":0},{"$f":"COUNTIF(번호추출!$N$13:$S$13,자료실!F155)","v":0},{"$f":"COUNTIF(번호추출!$N$13:$S$13,자료실!G155)","v":0},{"$f":"COUNTIF(번호추출!$N$13:$S$13,자료실!H155)","v":0},{"$f":"COUNTIF(번호추출!$N$13:$S$13,I155)","v":1},{"$f":"SUM(M155:R155)","v":0},{"$f":"SUM(M155:S155)","v":1},"꽝",0,0,0,0,{"$f":"IF(6=U155,\"1등\",IF(13=U155,\"1등\",0))","v":0},0]
[154,"2005.11.12",6,19,21,35,40,45,20,null,null,154,{"$f":"COUNTIF(번호추출!$N$13:$S$13,자료실!C156)","v":0},{"$f":"COUNTIF(번호추출!$N$13:$S$13,자료실!D156)","v":0},{"$f":"COUNTIF(번호추출!$N$13:$S$13,자료실!E156)","v":0},{"$f":"COUNTIF(번호추출!$N$13:$S$13,자료실!F156)","v":0},{"$f":"COUNTIF(번호추출!$N$13:$S$13,자료실!G156)","v":0},{"$f":"COUNTIF(번호추출!$N$13:$S$13,자료실!H156)","v":1},{"$f":"COUNTIF(번호추출!$N$13:$S$13,I156)","v":0},1,1,"꽝",0,0,0,0,{"$f":"IF(6=U156,\"1등\",IF(13=U156,\"1등\",0))","v":0},0]
[155,"2005.11.19",16,19,20,32,33,41,4,null,null,155,{"$f":"COUNTIF(번호추출!$N$13:$S$13,자료실!C157)","v":0},{"$f":"COUNTIF(번호추출!$N$13:$S$13,자료실!D157)","v":0},{"$f":"COUNTIF(번호추출!$N$13:$S$13,자료실!E157)","v":0},{"$f":"COUNTIF(번호추출!$N$13:$S$13,자료실!F157)","v":0},{"$f":"COUNTIF(번호추출!$N$13:$S$13,자료실!G157)","v":1},{"$f":"COUNTIF(번호추출!$N$13:$S$13,자료실!H157)","v":0},{"$f":"COUNTIF(번호추출!$N$13:$S$13,I157)","v":1},1,2,"꽝","꽝",0,0,0,{"$f":"IF(6=U157,\"1등\",IF(13=U157,\"1등\",0))","v":0},0]
[156,"2005.11.26",5,18,28,30,42,45,2,null,null,156,{"$f":"COUNTIF(번호추출!$N$13:$S$13,자료실!C158)","v":0},{"$f":"COUNTIF(번호추출!$N$13:$S$13,자료실!D158)","v":1},{"$f":"COUNTIF(번호추출!$N$13:$S$13,자료실!E158)","v":0},{"$f":"COUNTIF(번호추출!$N$13:$S$13,자료실!F158)","v":0},{"$f":"COUNTIF(번호추출!$N$13:$S$13,자료실!G158)","v":0},{"$f":"COUNTIF(번호추출!$N$13:$S$13,자료실!H158)","v":1},{"$f":"COUNTIF(번호추출!$N$13:$S$13,I158)","v":0},2,2,"꽝","꽝",0,0,0,{"$f":"IF(6=U158,\"1등\",IF(13=U158,\"1등\",0))","v":0},0]
[157,"2005.12.03",19,26,30,33,35,39,37,null,null,157,{"$f":"COUNTIF(번호추출!$N$13:$S$13,자료실!C159)","v":0},{"$f":"COUNTIF(번호추출!$N$13:$S$13,자료실!D159)","v":0},{"$f":"COUNTIF(번호추출!$N$13:$S$13,자료실!E159)","v":0},{"$f":"COUNTIF(번호추출!$N$13:$S$13,자료실!F159)","v":1},{"$f":"COUNTIF(번호추출!$N$13:$S$13,자료실!G159)","v":0},{"$f":"COUNTIF(번호추출!$N$13:$S$13,자료실!H159)","v":0},{"$f":"COUNTIF(번호추출!$N$13:$S$13,I159)","v":0},1,1,"꽝",0,0,0,0,{"$f":"IF(6=U159,\"1등\",IF(13=U159,\"1등\",0))","v":0},0]
[158,"2005.12.10",4,9,13,18,21,34,7,null,null,158,{"$f":"COUNTIF(번호추출!$N$13:$S$13,자료실!C160)","v":1},{"$f":"COUNTIF(번호추출!$N$13:$S$13,자료실!D160)","v":0},{"$f":"COUNTIF(번호추출!$N$13:$S$13,자료실!E160)","v":0},{"$f":"COUNTIF(번호추출!$N$13:$S$13,자료실!F160)","v":1},{"$f":"COUNTIF(번호추출!$N$13:$S$13,자료실!G160)","v":0},{"$f":"COUNTIF(번호추출!$N$13:$S$13,자료실!H160)","v":0},{"$f":"COUNTIF(번호추출!$N$13:$S$13,I160)","v":0},2,2,"꽝","꽝",0,0,0,{"$f":"IF(6=U160,\"1등\",IF(13=U160,\"1등\",0))","v":0},0]
[159,"2005.12.17",1,18,30,41,42,43,32,null,null,159,{"$f":"COUNTIF(번호추출!$N$13:$S$13,자료실!C161)","v":0},{"$f":"COUNTIF(번호추출!$N$13:$S$13,자료실!D161)","v":1},{"$f":"COUNTIF(번호추출!$N$13:$S$13,자료실!E161)","v":0},{"$f":"COUNTIF(번호추출!$N$13:$S$13,자료실!F161)","v":0},{"$f":"COUNTIF(번호추출!$N$13:$S$13,자료실!G161)","v":0},{"$f":"COUNTIF(번호추출!$N$13:$S$13,자료실!H161)","v":0},{"$f":"COUNTIF(번호추출!$N$13:$S$13,I161)","v":0},1,1,"꽝",0,0,0,0,{"$f":"IF(6=U161,\"1등\",IF(13=U161,\"1등\",0))","v":0},0]
[160,"2005.12.24",3,7,8,34,39,41,1,null,null,160,{"$f":"COUNTIF(번호추출!$N$13:$S$13,자료실!C162)","v":0},{"$f":"COUNTIF(번호추출!$N$13:$S$13,자료실!D162)","v":0},{"$f":"COUNTIF(번호추출!$N$13:$S$13,자료실!E162)","v":0},{"$f":"COUNTIF(번호추출!$N$13:$S$13,자료실!F162)","v":0},{"$f":"COUNTIF(번호추출!$N$13:$S$13,자료실!G162)","v":0},{"$f":"COUNTIF(번호추출!$N$13:$S$13,자료실!H162)","v":0},{"$f":"COUNTIF(번호추출!$N$13:$S$13,I162)","v":0},0,0,0,0,0,0,0,{"$f":"IF(6=U162,\"1등\",IF(13=U162,\"1등\",0))","v":0},0]
[161,"2005.12.31",22,34,36,40,42,45,44,null,null,161,{"$f":"COUNTIF(번호추출!$N$13:$S$13,자료실!C163)","v":0},{"$f":"COUNTIF(번호추출!$N$13:$S$13,자료실!D163)","v":0},{"$f":"COUNTIF(번호추출!$N$13:$S$13,자료실!E163)","v":0},{"$f":"COUNTIF(번호추출!$N$13:$S$13,자료실!F163)","v":0},{"$f":"COUNTIF(번호추출!$N$13:$S$13,자료실!G163)","v":0},{"$f":"COUNTIF(번호추출!$N$13:$S$13,자료실!H163)","v":1},{"$f":"COUNTIF(번호추출!$N$13:$S$13,I163)","v":0},1,1,"꽝",0,0,0,0,{"$f":"IF(6=U163,\"1등\",IF(13=U163,\"1등\",0))","v":0},0]
[162,"2006.01.07",1,5,21,25,38,41,24,null,null,162,{"$f":"COUNTIF(번호추출!$N$13:$S$13,자료실!C164)","v":0},{"$f":"COUNTIF(번호추출!$N$13:$S$13,자료실!D164)","v":0},{"$f":"COUNTIF(번호추출!$N$13:$S$13,자료실!E164)","v":0},{"$f":"COUNTIF(번호추출!$N$13:$S$13,자료실!F164)","v":1},{"$f":"COUNTIF(번호추출!$N$13:$S$13,자료실!G164)","v":0},{"$f":"COUNTIF(번호추출!$N$13:$S$13,자료실!H164)","v":0},{"$f":"COUNTIF(번호추출!$N$13:$S$13,I164)","v":0},1,1,"꽝",0,0,0,0,{"$f":"IF(6=U164,\"1등\",IF(13=U164,\"1등\",0))","v":0},0]
[163,"2006.01.14",7,11,26,28,29,44,16,null,null,163,{"$f":"COUNTIF(번호추출!$N$13:$S$13,자료실!C165)","v":0},{"$f":"COUNTIF(번호추출!$N$13:$S$13,자료실!D165)","v":0},{"$f":"COUNTIF(번호추출!$N$13:$S$13,자료실!E165)","v":0},{"$f":"COUNTIF(번호추출!$N$13:$S$13,자료실!F165)","v":0},{"$f":"COUNTIF(번호추출!$N$13:$S$13,자료실!G165)","v":0},{"$f":"COUNTIF(번호추출!$N$13:$S$13,자료실!H165)","v":0},{"$f":"COUNTIF(번호추출!$N$13:$S$13,I165)","v":0},0,0,0,0,0,0,0,{"$f":"IF(6=U165,\"1등\",IF(13=U165,\"1등\",0))","v":0},0]
[164,"2006.01.21",6,9,10,11,39,41,27,null,null,164,{"$f":"COUNTIF(번호추출!$N$13:$S$13,자료실!C166)","v":0},{"$f":"COUNTIF(번호추출!$N$13:$S$13,자료실!D166)","v":0},{"$f":"COUNTIF(번호추출!$N$13:$S$13,자료실!E166)","v":0},{"$f":"COUNTIF(번호추출!$N$13:$S$13,자료실!F166)","v":0},{"$f":"COUNTIF(번호추출!$N$13:$S$13,자료실!G166)","v":0},{"$f":"COUNTIF(번호추출!$N$13:$S$13,자료실!H166)","v":0},{"$f":"COUNTIF(번호추출!$N$13:$S$13,I166)","v":0},0,0,0,0,0,0,0,{"$f":"IF(6=U166,\"1등\",IF(13=U166,\"1등\",0))","v":0},0]
[165,"2006.01.28",5,13,18,19,22,42,31,null,null,165,{"$f":"COUNTIF(번호추출!$N$13:$S$13,자료실!C167)","v":0},{"$f":"COUNTIF(번호추출!$N$13:$S$13,자료실!D167)","v":0},{"$f":"COUNTIF(번호추출!$N$13:$S$13,자료실!E167)","v":1},{"$f":"COUNTIF(번호추출!$N$13:$S$13,자료실!F167)","v":0},{"$f":"COUNTIF(번호추출!$N$13:$S$13,자료실!G167)","v":0},{"$f":"COUNTIF(번호추출!$N$13:$S$13,자료실!H167)","v":0},{"$f":"COUNTIF(번호추출!$N$13:$S$13,I167)","v":0},1,1,"꽝",0,0,0,0,{"$f":"IF(6=U167,\"1등\",IF(13=U167,\"1등\",0))","v":0},0]
[166,"2006.02.04",9,12,27,36,39,45,14,null,null,166,{"$f":"COUNTIF(번호추출!$N$13:$S$13,자료실!C168)","v":0},{"$f":"COUNTIF(번호추출!$N$13:$S$13,자료실!D168)","v":0},{"$f":"COUNTIF(번호추출!$N$13:$S$13,자료실!E168)","v":0},{"$f":"COUNTIF(번호추출!$N$13:$S$13,자료실!F168)","v":0},{"$f":"COUNTIF(번호추출!$N$13:$S$13,자료실!G168)","v":0},{"$f":"COUNTIF(번호추출!$N$13:$S$13,자료실!H168)","v":1},{"$f":"COUNTIF(번호추출!$N$13:$S$13,I168)","v":0},1,1,"꽝",0,0,0,0,{"$f":"IF(6=U168,\"1등\",IF(13=U168,\"1등\",0))","v":0},0]
[167,"2006.02.11",24,27,28,30,36,39,4,null,null,167,{"$f":"COUNTIF(번호추출!$N$13:$S$13,자료실!C169)","v":0},{"$f":"COUNTIF(번호추출!$N$13:$S$13,자료실!D169)","v":0},{"$f":"COUNTIF(번호추출!$N$13:$S$13,자료실!E169)","v":0},{"$f":"COUNTIF(번호추출!$N$13:$S$13,자료실!F169)","v":0},{"$f":"COUNTIF(번호추출!$N$13:$S$13,자료실!G169)","v":0},{"$f":"COUNTIF(번호추출!$N$13:$S$13,자료실!H169)","v":0},{"$f":"COUNTIF(번호추출!$N$13:$S$13,I169)","v":1},0,1,"꽝",0,0,0,0,{"$f":"IF(6=U169,\"1등\",IF(13=U169,\"1등\",0))","v":0},0]
[168,"2006.02.18",3,10,31,40,42,43,30,null,null,168,{"$f":"COUNTIF(번호추출!$N$13:$S$13,자료실!C170)","v":0},{"$f":"COUNTIF(번호추출!$N$13:$S$13,자료실!D170)","v":0},{"$f":"COUNTIF(번호추출!$N$13:$S$13,자료실!E170)","v":0},{"$f":"COUNTIF(번호추출!$N$13:$S$13,자료실!F170)","v":0},{"$f":"COUNTIF(번호추출!$N$13:$S$13,자료실!G170)","v":0},{"$f":"COUNTIF(번호추출!$N$13:$S$13,자료실!H170)","v":0},{"$f":"COUNTIF(번호추출!$N$13:$S$13,I170)","v":0},0,0,0,0,0,0,0,{"$f":"IF(6=U170,\"1등\",IF(13=U170,\"1등\",0))","v":0},0]
[169,"2006.02.25",16,27,35,37,43,45,19,null,null,169,{"$f":"COUNTIF(번호추출!$N$13:$S$13,자료실!C171)","v":0},{"$f":"COUNTIF(번호추출!$N$13:$S$13,자료실!D171)","v":0},{"$f":"COUNTIF(번호추출!$N$13:$S$13,자료실!E171)","v":0},{"$f":"COUNTIF(번호추출!$N$13:$S$13,자료실!F171)","v":0},{"$f":"COUNTIF(번호추출!$N$13:$S$13,자료실!G171)","v":0},{"$f":"COUNTIF(번호추출!$N$13:$S$13,자료실!H171)","v":1},{"$f":"COUNTIF(번호추출!$N$13:$S$13,I171)","v":0},1,1,"꽝",0,0,0,0,{"$f":"IF(6=U171,\"1등\",IF(13=U171,\"1등\",0))","v":0},0]
[170,"2006.03.04",2,11,13,15,31,42,10,null,null,170,{"$f":"COUNTIF(번호추출!$N$13:$S$13,자료실!C172)","v":0},{"$f":"COUNTIF(번호추출!$N$13:$S$13,자료실!D172)","v":0},{"$f":"COUNTIF(번호추출!$N$13:$S$13,자료실!E172)","v":0},{"$f":"COUNTIF(번호추출!$N$13:$S$13,자료실!F172)","v":1},{"$f":"COUNTIF(번호추출!$N$13:$S$13,자료실!G172)","v":0},{"$f":"COUNTIF(번호추출!$N$13:$S$13,자료실!H172)","v":0},{"$f":"COUNTIF(번호추출!$N$13:$S$13,I172)","v":0},1,1,"꽝",0,0,0,0,{"$f":"IF(6=U172,\"1등\",IF(13=U172,\"1등\",0))","v":0},0]
[171,"2006.03.11",4,16,25,29,34,35,1,null,null,171,{"$f":"COUNTIF(번호추출!$N$13:$S$13,자료실!C173)","v":1},{"$f":"COUNTIF(번호추출!$N$13:$S$13,자료실!D173)","v":0},{"$f":"COUNTIF(번호추출!$N$13:$S$13,자료실!E173)","v":1},{"$f":"COUNTIF(번호추출!$N$13:$S$13,자료실!F173)","v":0},{"$f":"COUNTIF(번호추출!$N$13:$S$13,자료실!G173)","v":0},{"$f":"COUNTIF(번호추출!$N$13:$S$13,자료실!H173)","v":0},{"$f":"COUNTIF(번호추출!$N$13:$S$13,I173)","v":0},2,2,"꽝","꽝",0,0,0,{"$f":"IF(6=U173,\"1등\",IF(13=U173,\"1등\",0))","v":0},0]
[172,"2006.03.18",4,19,21,24,26,41,35,null,null,172,{"$f":"COUNTIF(번호추출!$N$13:$S$13,자료실!C174)","v":1},{"$f":"COUNTIF(번호추출!$N$13:$S$13,자료실!D174)","v":0},{"$f":"COUNTIF(번호추출!$N$13:$S$13,자료실!E174)","v":0},{"$f":"COUNTIF(번호추출!$N$13:$S$13,자료실!F174)","v":0},{"$f":"COUNTIF(번호추출!$N$13:$S$13,자료실!G174)","v":0},{"$f":"COUNTIF(번호추출!$N$13:$S$13,자료실!H174)","v":0},{"$f":"COUNTIF(번호추출!$N$13:$S$13,I174)","v":0},1,1,"꽝",0,0,0,0,{"$f":"IF(6=U174,\"1등\",IF(13=U174,\"1등\",0))","v":0},0]
[173,"2006.03.25",3,9,24,30,33,34,18,null,null,173,{"$f":"COUNTIF(번호추출!$N$13:$S$13,자료실!C175)","v":0},{"$f":"COUNTIF(번호추출!$N$13:$S$13,자료실!D175)","v":0},{"$f":"COUNTIF(번호추출!$N$13:$S$13,자료실!E175)","v":0},{"$f":"COUNTIF(번호추출!$N$13:$S$13,자료실!F175)","v":0},{"$f":"COUNTIF(번호추출!$N$13:$S$13,자료실!G175)","v":1},{"$f":"COUNTIF(번호추출!$N$13:$S$13,자료실!H175)","v":0},{"$f":"COUNTIF(번호추출!$N$13:$S$13,I175)","v":1},1,2,"꽝","꽝",0,0,0,{"$f":"IF(6=U175,\"1등\",IF(13=U175,\"1등\",0))","v":0},0]
[174,"2006.04.01",13,14,18,22,35,39,16,null,null,174,{"$f":"COUNTIF(번호추출!$N$13:$S$13,자료실!C176)","v":0},{"$f":"COUNTIF(번호추출!$N$13:$S$13,자료실!D176)","v":0},{"$f":"COUNTIF(번호추출!$N$13:$S$13,자료실!E176)","v":1},{"$f":"COUNTIF(번호추출!$N$13:$S$13,자료실!F176)","v":0},{"$f":"COUNTIF(번호추출!$N$13:$S$13,자료실!G176)","v":0},{"$f":"COUNTIF(번호추출!$N$13:$S$13,자료실!H176)","v":0},{"$f":"COUNTIF(번호추출!$N$13:$S$13,I176)","v":0},1,1,"꽝",0,0,0,0,{"$f":"IF(6=U176,\"1등\",IF(13=U176,\"1등\",0))","v":0},0]
[175,"2006.04.08",19,26,28,31,33,36,17,null,null,175,{"$f":"COUNTIF(번호추출!$N$13:$S$13,자료실!C177)","v":0},{"$f":"COUNTIF(번호추출!$N$13:$S$13,자료실!D177)","v":0},{"$f":"COUNTIF(번호추출!$N$13:$S$13,자료실!E177)","v":0},{"$f":"COUNTIF(번호추출!$N$13:$S$13,자료실!F177)","v":0},{"$f":"COUNTIF(번호추출!$N$13:$S$13,자료실!G177)","v":1},{"$f":"COUNTIF(번호추출!$N$13:$S$13,자료실!H177)","v":0},{"$f":"COUNTIF(번호추출!$N$13:$S$13,I177)","v":0},1,1,"꽝",0,0,0,0,{"$f":"IF(6=U177,\"1등\",IF(13=U177,\"1등\",0))","v":0},0]
[176,"2006.04.15",4,17,30,32,33,34,15,null,null,176,{"$f":"COUNTIF(번호추출!$N$13:$S$13,자료실!C178)","v":1},{"$f":"COUNTIF(번호추출!$N$13:$S$13,자료실!D178)","v":0},{"$f":"COUNTIF(번호추출!$N$13:$S$13,자료실!E178)","v":0},{"$f":"COUNTIF(번호추출!$N$13:$S$13,자료실!F178)","v":0},{"$f":"COUNTIF(번호추출!$N$13:$S$13,자료실!G178)","v":1},{"$f":"COUNTIF(번호추출!$N$13:$S$13,자료실!H178)","v":0},{"$f":"COUNTIF(번호추출!$N$13:$S$13,I178)","v":1},2,3,"꽝","꽝","5등",0,0,{"$f":"IF(6=U178,\"1등\",IF(13=U178,\"1등\",0))","v":0},0]
[177,"2006.04.22",1,10,13,16,37,43,6,null,null,177,{"$f":"COUNTIF(번호추출!$N$13:$S$13,자료실!C179)","v":0},{"$f":"COUNTIF(번호추출!$N$13:$S$13,자료실!D179)","v":0},{"$f":"COUNTIF(번호추출!$N$13:$S$13,자료실!E179)","v":0},{"$f":"COUNTIF(번호추출!$N$13:$S$13,자료실!F179)","v":0},{"$f":"COUNTIF(번호추출!$N$13:$S$13,자료실!G179)","v":0},{"$f":"COUNTIF(번호추출!$N$13:$S$13,자료실!H179)","v":0},{"$f":"COUNTIF(번호추출!$N$13:$S$13,I179)","v":0},0,0,0,0,0,0,0,{"$f":"IF(6=U179,\"1등\",IF(13=U179,\"1등\",0))","v":0},0]
[178,"2006.04.29",1,5,11,12,18,23,9,null,null,178,{"$f":"COUNTIF(번호추출!$N$13:$S$13,자료실!C180)","v":0},{"$f":"COUNTIF(번호추출!$N$13:$S$13,자료실!D180)","v":0},{"$f":"COUNTIF(번호추출!$N$13:$S$13,자료실!E180)","v":0},{"$f":"COUNTIF(번호추출!$N$13:$S$13,자료실!F180)","v":0},{"$f":"COUNTIF(번호추출!$N$13:$S$13,자료실!G180)","v":1},{"$f":"COUNTIF(번호추출!$N$13:$S$13,자료실!H180)","v":0},{"$f":"COUNTIF(번호추출!$N$13:$S$13,I180)","v":0},1,1,"꽝",0,0,0,0,{"$f":"IF(6=U180,\"1등\",IF(13=U180,\"1등\",0))","v":0},0]
[179,"2006.05.06",5,9,17,25,39,43,32,null,null,179,{"$f":"COUNTIF(번호추출!$N$13:$S$13,자료실!C181)","v":0},{"$f":"COUNTIF(번호추출!$N$13:$S$13,자료실!D181)","v":0},{"$f":"COUNTIF(번호추출!$N$13:$S$13,자료실!E181)","v":0},{"$f":"COUNTIF(번호추출!$N$13:$S$13,자료실!F181)","v":1},{"$f":"COUNTIF(번호추출!$N$13:$S$13,자료실!G181)","v":0},{"$f":"COUNTIF(번호추출!$N$13:$S$13,자료실!H181)","v":0},{"$f":"COUNTIF(번호추출!$N$13:$S$13,I181)","v":0},1,1,"꽝",0,0,0,0,{"$f":"IF(6=U181,\"1등\",IF(13=U181,\"1등\",0))","v":0},0]
[180,"2006.05.13",2,15,20,21,29,34,22,null,null,180,{"$f":"COUNTIF(번호추출!$N$13:$S$13,자료실!C182)","v":0},{"$f":"COUNTIF(번호추출!$N$13:$S$13,자료실!D182)","v":1},{"$f":"COUNTIF(번호추출!$N$13:$S$13,자료실!E182)","v":0},{"$f":"COUNTIF(번호추출!$N$13:$S$13,자료실!F182)","v":0},{"$f":"COUNTIF(번호추출!$N$13:$S$13,자료실!G182)","v":0},{"$f":"COUNTIF(번호추출!$N$13:$S$13,자료실!H182)","v":0},{"$f":"COUNTIF(번호추출!$N$13:$S$13,I182)","v":0},1,1,"꽝",0,0,0,0,{"$f":"IF(6=U182,\"1등\",IF(13=U182,\"1등\",0))","v":0},0]
[181,"2006.05.20",14,21,23,32,40,45,44,null,null,181,{"$f":"COUNTIF(번호추출!$N$13:$S$13,자료실!C183)","v":0},{"$f":"COUNTIF(번호추출!$N$13:$S$13,자료실!D183)","v":0},{"$f":"COUNTIF(번호추출!$N$13:$S$13,자료실!E183)","v":0},{"$f":"COUNTIF(번호추출!$N$13:$S$13,자료실!F183)","v":0},{"$f":"COUNTIF(번호추출!$N$13:$S$13,자료실!G183)","v":0},{"$f":"COUNTIF(번호추출!$N$13:$S$13,자료실!H183)","v":1},{"$f":"COUNTIF(번호추출!$N$13:$S$13,I183)","v":0},1,1,"꽝",0,0,0,0,{"$f":"IF(6=U183,\"1등\",IF(13=U183,\"1등\",0))","v":0},0]
[182,"2006.05.27",13,15,27,29,34,40,35,null,null,182,{"$f":"COUNTIF(번호추출!$N$13:$S$13,자료실!C184)","v":0},{"$f":"COUNTIF(번호추출!$N$13:$S$13,자료실!D184)","v":1},{"$f":"COUNTIF(번호추출!$N$13:$S$13,자료실!E184)","v":0},{"$f":"COUNTIF(번호추출!$N$13:$S$13,자료실!F184)","v":0},{"$f":"COUNTIF(번호추출!$N$13:$S$13,자료실!G184)","v":0},{"$f":"COUNTIF(번호추출!$N$13:$S$13,자료실!H184)","v":0},{"$f":"COUNTIF(번호추출!$N$13:$S$13,I184)","v":0},1,1,"꽝",0,0,0,0,{"$f":"IF(6=U184,\"1등\",IF(13=U184,\"1등\",0))","v":0},0]
[183,"2006.06.03",2,18,24,34,40,42,5,null,null,183,{"$f":"COUNTIF(번호추출!$N$13:$S$13,자료실!C185)","v":0},{"$f":"COUNTIF(번호추출!$N$13:$S$13,자료실!D185)","v":1},{"$f":"COUNTIF(번호추출!$N$13:$S$13,자료실!E185)","v":0},{"$f":"COUNTIF(번호추출!$N$13:$S$13,자료실!F185)","v":0},{"$f":"COUNTIF(번호추출!$N$13:$S$13,자료실!G185)","v":0},{"$f":"COUNTIF(번호추출!$N$13:$S$13,자료실!H185)","v":0},{"$f":"COUNTIF(번호추출!$N$13:$S$13,I185)","v":0},1,1,"꽝",0,0,0,0,{"$f":"IF(6=U185,\"1등\",IF(13=U185,\"1등\",0))","v":0},0]
[184,"2006.06.10",1,2,6,16,20,33,41,null,null,184,{"$f":"COUNTIF(번호추출!$N$13:$S$13,자료실!C186)","v":0},{"$f":"COUNTIF(번호추출!$N$13:$S$13,자료실!D186)","v":0},{"$f":"COUNTIF(번호추출!$N$13:$S$13,자료실!E186)","v":0},{"$f":"COUNTIF(번호추출!$N$13:$S$13,자료실!F186)","v":0},{"$f":"COUNTIF(번호추출!$N$13:$S$13,자료실!G186)","v":0},{"$f":"COUNTIF(번호추출!$N$13:$S$13,자료실!H186)","v":1},{"$f":"COUNTIF(번호추출!$N$13:$S$13,I186)","v":0},1,1,"꽝",0,0,0,0,{"$f":"IF(6=U186,\"1등\",IF(13=U186,\"1등\",0))","v":0},0]
[185,"2006.06.17",1,2,4,8,19,38,14,null,null,185,{"$f":"COUNTIF(번호추출!$N$13:$S$13,자료실!C187)","v":0},{"$f":"COUNTIF(번호추출!$N$13:$S$13,자료실!D187)","v":0},{"$f":"COUNTIF(번호추출!$N$13:$S$13,자료실!E187)","v":1},{"$f":"COUNTIF(번호추출!$N$13:$S$13,자료실!F187)","v":0},{"$f":"COUNTIF(번호추출!$N$13:$S$13,자료실!G187)","v":0},{"$f":"COUNTIF(번호추출!$N$13:$S$13,자료실!H187)","v":0},{"$f":"COUNTIF(번호추출!$N$13:$S$13,I187)","v":0},1,1,"꽝",0,0,0,0,{"$f":"IF(6=U187,\"1등\",IF(13=U187,\"1등\",0))","v":0},0]
[186,"2006.06.24",4,10,14,19,21,45,9,null,null,186,{"$f":"COUNTIF(번호추출!$N$13:$S$13,자료실!C188)","v":1},{"$f":"COUNTIF(번호추출!$N$13:$S$13,자료실!D188)","v":0},{"$f":"COUNTIF(번호추출!$N$13:$S$13,자료실!E188)","v":0},{"$f":"COUNTIF(번호추출!$N$13:$S$13,자료실!F188)","v":0},{"$f":"COUNTIF(번호추출!$N$13:$S$13,자료실!G188)","v":0},{"$f":"COUNTIF(번호추출!$N$13:$S$13,자료실!H188)","v":1},{"$f":"COUNTIF(번호추출!$N$13:$S$13,I188)","v":0},2,2,"꽝","꽝",0,0,0,{"$f":"IF(6=U188,\"1등\",IF(13=U188,\"1등\",0))","v":0},0]
[187,"2006.07.01",1,2,8,18,29,38,42,null,null,187,{"$f":"COUNTIF(번호추출!$N$13:$S$13,자료실!C189)","v":0},{"$f":"COUNTIF(번호추출!$N$13:$S$13,자료실!D189)","v":0},{"$f":"COUNTIF(번호추출!$N$13:$S$13,자료실!E189)","v":0},{"$f":"COUNTIF(번호추출!$N$13:$S$13,자료실!F189)","v":1},{"$f":"COUNTIF(번호추출!$N$13:$S$13,자료실!G189)","v":0},{"$f":"COUNTIF(번호추출!$N$13:$S$13,자료실!H189)","v":0},{"$f":"COUNTIF(번호추출!$N$13:$S$13,I189)","v":0},1,1,"꽝",0,0,0,0,{"$f":"IF(6=U189,\"1등\",IF(13=U189,\"1등\",0))","v":0},0]
[188,"2006.07.08",19,24,27,30,31,34,36,null,null,188,{"$f":"COUNTIF(번호추출!$N$13:$S$13,자료실!C190)","v":0},{"$f":"COUNTIF(번호추출!$N$13:$S$13,자료실!D190)","v":0},{"$f":"COUNTIF(번호추출!$N$13:$S$13,자료실!E190)","v":0},{"$f":"COUNTIF(번호추출!$N$13:$S$13,자료실!F190)","v":0},{"$f":"COUNTIF(번호추출!$N$13:$S$13,자료실!G190)","v":0},{"$f":"COUNTIF(번호추출!$N$13:$S$13,자료실!H190)","v":0},{"$f":"COUNTIF(번호추출!$N$13:$S$13,I190)","v":0},0,0,0,0,0,0,0,{"$f":"IF(6=U190,\"1등\",IF(13=U190,\"1등\",0))","v":0},0]
[189,"2006.07.15",8,14,32,35,37,45,28,null,null,189,{"$f":"COUNTIF(번호추출!$N$13:$S$13,자료실!C191)","v":0},{"$f":"COUNTIF(번호추출!$N$13:$S$13,자료실!D191)","v":0},{"$f":"COUNTIF(번호추출!$N$13:$S$13,자료실!E191)","v":0},{"$f":"COUNTIF(번호추출!$N$13:$S$13,자료실!F191)","v":0},{"$f":"COUNTIF(번호추출!$N$13:$S$13,자료실!G191)","v":0},{"$f":"COUNTIF(번호추출!$N$13:$S$13,자료실!H191)","v":1},{"$f":"COUNTIF(번호추출!$N$13:$S$13,I191)","v":0},1,1,"꽝",0,0,0,0,{"$f":"IF(6=U191,\"1등\",IF(13=U191,\"1등\",0))","v":0},0]
[190,"2006.07.22",8,14,18,30,31,44,15,null,null,190,{"$f":"COUNTIF(번호추출!$N$13:$S$13,자료실!C192)","v":0},{"$f":"COUNTIF(번호추출!$N$13:$S$13,자료실!D192)","v":0},{"$f":"COUNTIF(번호추출!$N$13:$S$13,자료실!E192)","v":1},{"$f":"COUNTIF(번호추출!$N$13:$S$13,자료실!F192)","v":0},{"$f":"COUNTIF(번호추출!$N$13:$S$13,자료실!G192)","v":0},{"$f":"COUNTIF(번호추출!$N$13:$S$13,자료실!H192)","v":0},{"$f":"COUNTIF(번호추출!$N$13:$S$13,I192)","v":1},1,2,"꽝","꽝",0,0,0,{"$f":"IF(6=U192,\"1등\",IF(13=U192,\"1등\",0))","v":0},0]
[191,"2006.07.29",5,6,24,25,32,37,8,null,null,191,{"$f":"COUNTIF(번호추출!$N$13:$S$13,자료실!C193)","v":0},{"$f":"COUNTIF(번호추출!$N$13:$S$13,자료실!D193)","v":0},{"$f":"COUNTIF(번호추출!$N$13:$S$13,자료실!E193)","v":0},{"$f":"COUNTIF(번호추출!$N$13:$S$13,자료실!F193)","v":1},{"$f":"COUNTIF(번호추출!$N$13:$S$13,자료실!G193)","v":0},{"$f":"COUNTIF(번호추출!$N$13:$S$13,자료실!H193)","v":0},{"$f":"COUNTIF(번호추출!$N$13:$S$13,I193)","v":0},1,1,"꽝",0,0,0,0,{"$f":"IF(6=U193,\"1등\",IF(13=U193,\"1등\",0))","v":0},0]
[192,"2006.08.05",4,8,11,18,37,45,33,null,null,192,{"$f":"COUNTIF(번호추출!$N$13:$S$13,자료실!C194)","v":1},{"$f":"COUNTIF(번호추출!$N$13:$S$13,자료실!D194)","v":0},{"$f":"COUNTIF(번호추출!$N$13:$S$13,자료실!E194)","v":0},{"$f":"COUNTIF(번호추출!$N$13:$S$13,자료실!F194)","v":1},{"$f":"COUNTIF(번호추출!$N$13:$S$13,자료실!G194)","v":0},{"$f":"COUNTIF(번호추출!$N$13:$S$13,자료실!H194)","v":1},{"$f":"COUNTIF(번호추출!$N$13:$S$13,I194)","v":1},3,4,"꽝","꽝","5등","4등",0,{"$f":"IF(6=U194,\"1등\",IF(13=U194,\"1등\",0))","v":0},0]
[193,"2006.08.12",6,14,18,26,36,39,13,null,null,193,{"$f":"COUNTIF(번호추출!$N$13:$S$13,자료실!C195)","v":0},{"$f":"COUNTIF(번호추출!$N$13:$S$13,자료실!D195)","v":0},{"$f":"COUNTIF(번호추출!$N$13:$S$13,자료실!E195)","v":1},{"$f":"COUNTIF(번호추출!$N$13:$S$13,자료실!F195)","v":0},{"$f":"COUNTIF(번호추출!$N$13:$S$13,자료실!G195)","v":0},{"$f":"COUNTIF(번호추출!$N$13:$S$13,자료실!H195)","v":0},{"$f":"COUNTIF(번호추출!$N$13:$S$13,I195)","v":0},1,1,"꽝",0,0,0,0,{"$f":"IF(6=U195,\"1등\",IF(13=U195,\"1등\",0))","v":0},0]
[194,"2006.08.19",15,20,23,26,39,44,28,null,null,194,{"$f":"COUNTIF(번호추출!$N$13:$S$13,자료실!C196)","v":1},{"$f":"COUNTIF(번호추출!$N$13:$S$13,자료실!D196)","v":0},{"$f":"COUNTIF(번호추출!$N$13:$S$13,자료실!E196)","v":0},{"$f":"COUNTIF(번호추출!$N$13:$S$13,자료실!F196)","v":0},{"$f":"COUNTIF(번호추출!$N$13:$S$13,자료실!G196)","v":0},{"$f":"COUNTIF(번호추출!$N$13:$S$13,자료실!H196)","v":0},{"$f":"COUNTIF(번호추출!$N$13:$S$13,I196)","v":0},1,1,"꽝",0,0,0,0,{"$f":"IF(6=U196,\"1등\",IF(13=U196,\"1등\",0))","v":0},0]
[195,"2006.08.26",7,10,19,22,35,40,31,null,null,195,{"$f":"COUNTIF(번호추출!$N$13:$S$13,자료실!C197)","v":0},{"$f":"COUNTIF(번호추출!$N$13:$S$13,자료실!D197)","v":0},{"$f":"COUNTIF(번호추출!$N$13:$S$13,자료실!E197)","v":0},{"$f":"COUNTIF(번호추출!$N$13:$S$13,자료실!F197)","v":0},{"$f":"COUNTIF(번호추출!$N$13:$S$13,자료실!G197)","v":0},{"$f":"COUNTIF(번호추출!$N$13:$S$13,자료실!H197)","v":0},{"$f":"COUNTIF(번호추출!$N$13:$S$13,I197)","v":0},0,0,0,0,0,0,0,{"$f":"IF(6=U197,\"1등\",IF(13=U197,\"1등\",0))","v":0},0]
[196,"2006.09.02",35,36,37,41,44,45,30,null,null,196,{"$f":"COUNTIF(번호추출!$N$13:$S$13,자료실!C198)","v":0},{"$f":"COUNTIF(번호추출!$N$13:$S$13,자료실!D198)","v":0},{"$f":"COUNTIF(번호추출!$N$13:$S$13,자료실!E198)","v":0},{"$f":"COUNTIF(번호추출!$N$13:$S$13,자료실!F198)","v":0},{"$f":"COUNTIF(번호추출!$N$13:$S$13,자료실!G198)","v":0},{"$f":"COUNTIF(번호추출!$N$13:$S$13,자료실!H198)","v":1},{"$f":"COUNTIF(번호추출!$N$13:$S$13,I198)","v":0},1,1,"꽝",0,0,0,0,{"$f":"IF(6=U198,\"1등\",IF(13=U198,\"1등\",0))","v":0},0]
[197,"2006.09.09",7,12,16,34,42,45,4,null,null,197,{"$f":"COUNTIF(번호추출!$N$13:$S$13,자료실!C199)","v":0},{"$f":"COUNTIF(번호추출!$N$13:$S$13,자료실!D199)","v":0},{"$f":"COUNTIF(번호추출!$N$13:$S$13,자료실!E199)","v":0},{"$f":"COUNTIF(번호추출!$N$13:$S$13,자료실!F199)","v":0},{"$f":"COUNTIF(번호추출!$N$13:$S$13,자료실!G199)","v":0},{"$f":"COUNTIF(번호추출!$N$13:$S$13,자료실!H199)","v":1},{"$f":"COUNTIF(번호추출!$N$13:$S$13,I199)","v":1},1,2,"꽝","꽝",0,0,0,{"$f":"IF(6=U199,\"1등\",IF(13=U199,\"1등\",0))","v":0},0]
[198,"2006.09.16",12,19,20,25,41,45,2,null,null,198,{"$f":"COUNTIF(번호추출!$N$13:$S$13,자료실!C200)","v":0},{"$f":"COUNTIF(번호추출!$N$13:$S$13,자료실!D200)","v":0},{"$f":"COUNTIF(번호추출!$N$13:$S$13,자료실!E200)","v":0},{"$f":"COUNTIF(번호추출!$N$13:$S$13,자료실!F200)","v":1},{"$f":"COUNTIF(번호추출!$N$13:$S$13,자료실!G200)","v":0},{"$f":"COUNTIF(번호추출!$N$13:$S$13,자료실!H200)","v":1},{"$f":"COUNTIF(번호추출!$N$13:$S$13,I200)","v":0},2,2,"꽝","꽝",0,0,0,{"$f":"IF(6=U200,\"1등\",IF(13=U200,\"1등\",0))","v":0},0]
[199,"2006.09.23",14,21,22,25,30,36,43,null,null,199,{"$f":"COUNTIF(번호추출!$N$13:$S$13,자료실!C201)","v":0},{"$f":"COUNTIF(번호추출!$N$13:$S$13,자료실!D201)","v":0},{"$f":"COUNTIF(번호추출!$N$13:$S$13,자료실!E201)","v":0},{"$f":"COUNTIF(번호추출!$N$13:$S$13,자료실!F201)","v":1},{"$f":"COUNTIF(번호추출!$N$13:$S$13,자료실!G201)","v":0},{"$f":"COUNTIF(번호추출!$N$13:$S$13,자료실!H201)","v":0},{"$f":"COUNTIF(번호추출!$N$13:$S$13,I201)","v":0},1,1,"꽝",0,0,0,0,{"$f":"IF(6=U201,\"1등\",IF(13=U201,\"1등\",0))","v":0},0]
[200,"2006.09.30",5,6,13,14,17,20,7,null,null,200,{"$f":"COUNTIF(번호추출!$N$13:$S$13,자료실!C202)","v":0},{"$f":"COUNTIF(번호추출!$N$13:$S$13,자료실!D202)","v":0},{"$f":"COUNTIF(번호추출!$N$13:$S$13,자료실!E202)","v":0},{"$f":"COUNTIF(번호추출!$N$13:$S$13,자료실!F202)","v":0},{"$f":"COUNTIF(번호추출!$N$13:$S$13,자료실!G202)","v":0},{"$f":"COUNTIF(번호추출!$N$13:$S$13,자료실!H202)","v":0},{"$f":"COUNTIF(번호추출!$N$13:$S$13,I202)","v":0},0,0,0,0,0,0,0,{"$f":"IF(6=U202,\"1등\",IF(13=U202,\"1등\",0))","v":0},0]
[201,"2006.10.07",3,11,24,38,39,44,26,null,null,201,{"$f":"COUNTIF(번호추출!$N$13:$S$13,자료실!C203)","v":0},{"$f":"COUNTIF(번호추출!$N$13:$S$13,자료실!D203)","v":0},{"$f":"COUNTIF(번호추출!$N$13:$S$13,자료실!E203)","v":0},{"$f":"COUNTIF(번호추출!$N$13:$S$13,자료실!F203)","v":0},{"$f":"COUNTIF(번호추출!$N$13:$S$13,자료실!G203)","v":0},{"$f":"COUNTIF(번호추출!$N$13:$S$13,자료실!H203)","v":0},{"$f":"COUNTIF(번호추출!$N$13:$S$13,I203)","v":0},0,0,0,0,0,0,0,{"$f":"IF(6=U203,\"1등\",IF(13=U203,\"1등\",0))","v":0},0]
[202,"2006.10.14",12,14,27,33,39,44,17,null,null,202,{"$f":"COUNTIF(번호추출!$N$13:$S$13,자료실!C204)","v":0},{"$f":"COUNTIF(번호추출!$N$13:$S$13,자료실!D204)","v":0},{"$f":"COUNTIF(번호추출!$N$13:$S$13,자료실!E204)","v":0},{"$f":"COUNTIF(번호추출!$N$13:$S$13,자료실!F204)","v":1},{"$f":"COUNTIF(번호추출!$N$13:$S$13,자료실!G204)","v":0},{"$f":"COUNTIF(번호추출!$N$13:$S$13,자료실!H204)","v":0},{"$f":"COUNTIF(번호추출!$N$13:$S$13,I204)","v":0},1,1,"꽝",0,0,0,0,{"$f":"IF(6=U204,\"1등\",IF(13=U204,\"1등\",0))","v":0},0]
[203,"2006.10.21",1,3,11,24,30,32,7,null,null,203,{"$f":"COUNTIF(번호추출!$N$13:$S$13,자료실!C205)","v":0},{"$f":"COUNTIF(번호추출!$N$13:$S$13,자료실!D205)","v":0},{"$f":"COUNTIF(번호추출!$N$13:$S$13,자료실!E205)","v":0},{"$f":"COUNTIF(번호추출!$N$13:$S$13,자료실!F205)","v":0},{"$f":"COUNTIF(번호추출!$N$13:$S$13,자료실!G205)","v":0},{"$f":"COUNTIF(번호추출!$N$13:$S$13,자료실!H205)","v":0},{"$f":"COUNTIF(번호추출!$N$13:$S$13,I205)","v":0},0,0,0,0,0,0,0,{"$f":"IF(6=U205,\"1등\",IF(13=U205,\"1등\",0))","v":0},0]
[204,"2006.10.28",3,12,14,35,40,45,5,null,null,204,{"$f":"COUNTIF(번호추출!$N$13:$S$13,자료실!C206)","v":0},{"$f":"COUNTIF(번호추출!$N$13:$S$13,자료실!D206)","v":0},{"$f":"COUNTIF(번호추출!$N$13:$S$13,자료실!E206)","v":0},{"$f":"COUNTIF(번호추출!$N$13:$S$13,자료실!F206)","v":0},{"$f":"COUNTIF(번호추출!$N$13:$S$13,자료실!G206)","v":0},{"$f":"COUNTIF(번호추출!$N$13:$S$13,자료실!H206)","v":1},{"$f":"COUNTIF(번호추출!$N$13:$S$13,I206)","v":0},1,1,{"$f":"IF(1=U206,\"꽝\",IF(0<T206,\"꽝\",0))","v":"꽝"},{"$f":"IF(2=U206,\"꽝\",IF(1<T206,\"꽝\",0))","v":0},{"$f":"IF(3=U206,\"5등\",IF(2<T206,\"5등\",0))","v":0},{"$f":"IF(4=U206,\"4등\",IF(3<T206,\"4등\",0))","v":0},{"$f":"IF(5=U206,\"3등\",IF(4<T206,\"3등\",0))","v":0},{"$f":"IF(6=U206,\"1등\",IF(13=U206,\"1등\",0))","v":0},{"$f":"IF(U206=12,\"2등\",0)","v":0}]
[205,"2006.11.04",1,3,21,29,35,37,30,null,null,205,{"$f":"COUNTIF(번호추출!$N$13:$S$13,자료실!C207)","v":0},{"$f":"COUNTIF(번호추출!$N$13:$S$13,자료실!D207)","v":0},{"$f":"COUNTIF(번호추출!$N$13:$S$13,자료실!E207)","v":0},{"$f":"COUNTIF(번호추출!$N$13:$S$13,자료실!F207)","v":0},{"$f":"COUNTIF(번호추출!$N$13:$S$13,자료실!G207)","v":0},{"$f":"COUNTIF(번호추출!$N$13:$S$13,자료실!H207)","v":0},{"$f":"COUNTIF(번호추출!$N$13:$S$13,I207)","v":0},0,0,0,0,0,0,0,{"$f":"IF(6=U207,\"1등\",IF(13=U207,\"1등\",0))","v":0},0]
[206,"2006.11.11",1,2,3,15,20,25,43,null,null,206,{"$f":"COUNTIF(번호추출!$N$13:$S$13,자료실!C208)","v":0},{"$f":"COUNTIF(번호추출!$N$13:$S$13,자료실!D208)","v":0},{"$f":"COUNTIF(번호추출!$N$13:$S$13,자료실!E208)","v":0},{"$f":"COUNTIF(번호추출!$N$13:$S$13,자료실!F208)","v":1},{"$f":"COUNTIF(번호추출!$N$13:$S$13,자료실!G208)","v":0},{"$f":"COUNTIF(번호추출!$N$13:$S$13,자료실!H208)","v":1},{"$f":"COUNTIF(번호추출!$N$13:$S$13,I208)","v":0},2,2,"꽝","꽝",0,0,0,{"$f":"IF(6=U208,\"1등\",IF(13=U208,\"1등\",0))","v":0},0]
[207,"2006.11.18",3,11,14,31,32,37,38,null,null,207,{"$f":"COUNTIF(번호추출!$N$13:$S$13,자료실!C209)","v":0},{"$f":"COUNTIF(번호추출!$N$13:$S$13,자료실!D209)","v":0},{"$f":"COUNTIF(번호추출!$N$13:$S$13,자료실!E209)","v":0},{"$f":"COUNTIF(번호추출!$N$13:$S$13,자료실!F209)","v":0},{"$f":"COUNTIF(번호추출!$N$13:$S$13,자료실!G209)","v":0},{"$f":"COUNTIF(번호추출!$N$13:$S$13,자료실!H209)","v":0},{"$f":"COUNTIF(번호추출!$N$13:$S$13,I209)","v":0},0,0,0,0,0,0,0,{"$f":"IF(6=U209,\"1등\",IF(13=U209,\"1등\",0))","v":0},0]
[208,"2006.11.25",14,25,31,34,40,44,24,null,null,208,{"$f":"COUNTIF(번호추출!$N$13:$S$13,자료실!C210)","v":0},{"$f":"COUNTIF(번호추출!$N$13:$S$13,자료실!D210)","v":1},{"$f":"COUNTIF(번호추출!$N$13:$S$13,자료실!E210)","v":0},{"$f":"COUNTIF(번호추출!$N$13:$S$13,자료실!F210)","v":0},{"$f":"COUNTIF(번호추출!$N$13:$S$13,자료실!G210)","v":0},{"$f":"COUNTIF(번호추출!$N$13:$S$13,자료실!H210)","v":0},{"$f":"COUNTIF(번호추출!$N$13:$S$13,I210)","v":0},1,1,"꽝",0,0,0,0,{"$f":"IF(6=U210,\"1등\",IF(13=U210,\"1등\",0))","v":0},0]
[209,"2006.12.02",2,7,18,20,24,33,37,null,null,209,{"$f":"COUNTIF(번호추출!$N$13:$S$13,자료실!C211)","v":0},{"$f":"COUNTIF(번호추출!$N$13:$S$13,자료실!D211)","v":0},{"$f":"COUNTIF(번호추출!$N$13:$S$13,자료실!E211)","v":1},{"$f":"COUNTIF(번호추출!$N$13:$S$13,자료실!F211)","v":0},{"$f":"COUNTIF(번호추출!$N$13:$S$13,자료실!G211)","v":0},{"$f":"COUNTIF(번호추출!$N$13:$S$13,자료실!H211)","v":1},{"$f":"COUNTIF(번호추출!$N$13:$S$13,I211)","v":0},2,2,"꽝","꽝",0,0,0,{"$f":"IF(6=U211,\"1등\",IF(13=U211,\"1등\",0))","v":0},0]
[210,"2006.12.09",10,19,22,23,25,37,39,null,null,210,{"$f":"COUNTIF(번호추출!$N$13:$S$13,자료실!C212)","v":0},{"$f":"COUNTIF(번호추출!$N$13:$S$13,자료실!D212)","v":0},{"$f":"COUNTIF(번호추출!$N$13:$S$13,자료실!E212)","v":0},{"$f":"COUNTIF(번호추출!$N$13:$S$13,자료실!F212)","v":0},{"$f":"COUNTIF(번호추출!$N$13:$S$13,자료실!G212)","v":1},{"$f":"COUNTIF(번호추출!$N$13:$S$13,자료실!H212)","v":0},{"$f":"COUNTIF(번호추출!$N$13:$S$13,I212)","v":0},1,1,"꽝",0,0,0,0,{"$f":"IF(6=U212,\"1등\",IF(13=U212,\"1등\",0))","v":0},0]
[211,"2006.12.16",12,13,17,20,33,41,8,null,null,211,{"$f":"COUNTIF(번호추출!$N$13:$S$13,자료실!C213)","v":0},{"$f":"COUNTIF(번호추출!$N$13:$S$13,자료실!D213)","v":0},{"$f":"COUNTIF(번호추출!$N$13:$S$13,자료실!E213)","v":0},{"$f":"COUNTIF(번호추출!$N$13:$S$13,자료실!F213)","v":0},{"$f":"COUNTIF(번호추출!$N$13:$S$13,자료실!G213)","v":1},{"$f":"COUNTIF(번호추출!$N$13:$S$13,자료실!H213)","v":0},{"$f":"COUNTIF(번호추출!$N$13:$S$13,I213)","v":0},1,1,"꽝",0,0,0,0,{"$f":"IF(6=U213,\"1등\",IF(13=U213,\"1등\",0))","v":0},0]
[212,"2006.12.23",11,12,18,21,31,38,8,null,null,212,{"$f":"COUNTIF(번호추출!$N$13:$S$13,자료실!C214)","v":0},{"$f":"COUNTIF(번호추출!$N$13:$S$13,자료실!D214)","v":0},{"$f":"COUNTIF(번호추출!$N$13:$S$13,자료실!E214)","v":1},{"$f":"COUNTIF(번호추출!$N$13:$S$13,자료실!F214)","v":0},{"$f":"COUNTIF(번호추출!$N$13:$S$13,자료실!G214)","v":0},{"$f":"COUNTIF(번호추출!$N$13:$S$13,자료실!H214)","v":0},{"$f":"COUNTIF(번호추출!$N$13:$S$13,I214)","v":0},1,1,"꽝",0,0,0,0,{"$f":"IF(6=U214,\"1등\",IF(13=U214,\"1등\",0))","v":0},0]
[213,"2006.12.30",2,3,4,5,20,24,42,null,null,213,{"$f":"COUNTIF(번호추출!$N$13:$S$13,자료실!C215)","v":0},{"$f":"COUNTIF(번호추출!$N$13:$S$13,자료실!D215)","v":0},{"$f":"COUNTIF(번호추출!$N$13:$S$13,자료실!E215)","v":1},{"$f":"COUNTIF(번호추출!$N$13:$S$13,자료실!F215)","v":0},{"$f":"COUNTIF(번호추출!$N$13:$S$13,자료실!G215)","v":0},{"$f":"COUNTIF(번호추출!$N$13:$S$13,자료실!H215)","v":0},{"$f":"COUNTIF(번호추출!$N$13:$S$13,I215)","v":0},1,1,"꽝",0,0,0,0,{"$f":"IF(6=U215,\"1등\",IF(13=U215,\"1등\",0))","v":0},0]
[214,"2007.01.06",5,7,20,25,28,37,32,null,null,214,{"$f":"COUNTIF(번호추출!$N$13:$S$13,자료실!C216)","v":0},{"$f":"COUNTIF(번호추출!$N$13:$S$13,자료실!D216)","v":0},{"$f":"COUNTIF(번호추출!$N$13:$S$13,자료실!E216)","v":0},{"$f":"COUNTIF(번호추출!$N$13:$S$13,자료실!F216)","v":1},{"$f":"COUNTIF(번호추출!$N$13:$S$13,자료실!G216)","v":0},{"$f":"COUNTIF(번호추출!$N$13:$S$13,자료실!H216)","v":0},{"$f":"COUNTIF(번호추출!$N$13:$S$13,I216)","v":0},1,1,"꽝",0,0,0,0,{"$f":"IF(6=U216,\"1등\",IF(13=U216,\"1등\",0))","v":0},0]
[215,"2007.01.13",2,3,7,15,43,44,4,null,null,215,{"$f":"COUNTIF(번호추출!$N$13:$S$13,자료실!C217)","v":0},{"$f":"COUNTIF(번호추출!$N$13:$S$13,자료실!D217)","v":0},{"$f":"COUNTIF(번호추출!$N$13:$S$13,자료실!E217)","v":0},{"$f":"COUNTIF(번호추출!$N$13:$S$13,자료실!F217)","v":1},{"$f":"COUNTIF(번호추출!$N$13:$S$13,자료실!G217)","v":0},{"$f":"COUNTIF(번호추출!$N$13:$S$13,자료실!H217)","v":0},{"$f":"COUNTIF(번호추출!$N$13:$S$13,I217)","v":1},1,2,"꽝","꽝",0,0,0,{"$f":"IF(6=U217,\"1등\",IF(13=U217,\"1등\",0))","v":0},0]
[216,"2007.01.20",7,16,17,33,36,40,1,null,null,216,{"$f":"COUNTIF(번호추출!$N$13:$S$13,자료실!C218)","v":0},{"$f":"COUNTIF(번호추출!$N$13:$S$13,자료실!D218)","v":0},{"$f":"COUNTIF(번호추출!$N$13:$S$13,자료실!E218)","v":0},{"$f":"COUNTIF(번호추출!$N$13:$S$13,자료실!F218)","v":1},{"$f":"COUNTIF(번호추출!$N$13:$S$13,자료실!G218)","v":0},{"$f":"COUNTIF(번호추출!$N$13:$S$13,자료실!H218)","v":0},{"$f":"COUNTIF(번호추출!$N$13:$S$13,I218)","v":0},1,1,"꽝",0,0,0,0,{"$f":"IF(6=U218,\"1등\",IF(13=U218,\"1등\",0))","v":0},0]
[217,"2007.01.27",16,20,27,33,35,39,38,null,null,{"$f":"A219","v":217},{"$f":"COUNTIF(번호추출!$N$13:$S$13,자료실!C219)","v":0},{"$f":"COUNTIF(번호추출!$N$13:$S$13,자료실!D219)","v":0},{"$f":"COUNTIF(번호추출!$N$13:$S$13,자료실!E219)","v":0},{"$f":"COUNTIF(번호추출!$N$13:$S$13,자료실!F219)","v":1},{"$f":"COUNTIF(번호추출!$N$13:$S$13,자료실!G219)","v":0},{"$f":"COUNTIF(번호추출!$N$13:$S$13,자료실!H219)","v":0},{"$f":"COUNTIF(번호추출!$N$13:$S$13,I219)","v":0},{"$f":"SUM(M219:R219)","v":1},{"$f":"SUM(M219:S219)","v":1},"꽝",0,0,0,0,{"$f":"IF(6=U219,\"1등\",IF(13=U219,\"1등\",0))","v":0},0]
[218,"2007.02.03",1,8,14,18,29,44,20,null,null,218,{"$f":"COUNTIF(번호추출!$N$13:$S$13,자료실!C220)","v":0},{"$f":"COUNTIF(번호추출!$N$13:$S$13,자료실!D220)","v":0},{"$f":"COUNTIF(번호추출!$N$13:$S$13,자료실!E220)","v":0},{"$f":"COUNTIF(번호추출!$N$13:$S$13,자료실!F220)","v":1},{"$f":"COUNTIF(번호추출!$N$13:$S$13,자료실!G220)","v":0},{"$f":"COUNTIF(번호추출!$N$13:$S$13,자료실!H220)","v":0},{"$f":"COUNTIF(번호추출!$N$13:$S$13,I220)","v":0},1,1,"꽝",0,0,0,0,{"$f":"IF(6=U220,\"1등\",IF(13=U220,\"1등\",0))","v":0},0]
[219,"2007.02.10",4,11,20,26,35,37,16,null,null,219,{"$f":"COUNTIF(번호추출!$N$13:$S$13,자료실!C221)","v":1},{"$f":"COUNTIF(번호추출!$N$13:$S$13,자료실!D221)","v":0},{"$f":"COUNTIF(번호추출!$N$13:$S$13,자료실!E221)","v":0},{"$f":"COUNTIF(번호추출!$N$13:$S$13,자료실!F221)","v":0},{"$f":"COUNTIF(번호추출!$N$13:$S$13,자료실!G221)","v":0},{"$f":"COUNTIF(번호추출!$N$13:$S$13,자료실!H221)","v":0},{"$f":"COUNTIF(번호추출!$N$13:$S$13,I221)","v":0},1,1,"꽝",0,0,0,0,{"$f":"IF(6=U221,\"1등\",IF(13=U221,\"1등\",0))","v":0},0]
[220,"2007.02.17",5,11,19,21,34,43,31,null,null,220,{"$f":"COUNTIF(번호추출!$N$13:$S$13,자료실!C222)","v":0},{"$f":"COUNTIF(번호추출!$N$13:$S$13,자료실!D222)","v":0},{"$f":"COUNTIF(번호추출!$N$13:$S$13,자료실!E222)","v":0},{"$f":"COUNTIF(번호추출!$N$13:$S$13,자료실!F222)","v":0},{"$f":"COUNTIF(번호추출!$N$13:$S$13,자료실!G222)","v":0},{"$f":"COUNTIF(번호추출!$N$13:$S$13,자료실!H222)","v":0},{"$f":"COUNTIF(번호추출!$N$13:$S$13,I222)","v":0},0,0,0,0,0,0,0,{"$f":"IF(6=U222,\"1등\",IF(13=U222,\"1등\",0))","v":0},0]
[221,"2007.02.24",2,20,33,35,37,40,10,null,null,221,{"$f":"COUNTIF(번호추출!$N$13:$S$13,자료실!C223)","v":0},{"$f":"COUNTIF(번호추출!$N$13:$S$13,자료실!D223)","v":0},{"$f":"COUNTIF(번호추출!$N$13:$S$13,자료실!E223)","v":1},{"$f":"COUNTIF(번호추출!$N$13:$S$13,자료실!F223)","v":0},{"$f":"COUNTIF(번호추출!$N$13:$S$13,자료실!G223)","v":0},{"$f":"COUNTIF(번호추출!$N$13:$S$13,자료실!H223)","v":0},{"$f":"COUNTIF(번호추출!$N$13:$S$13,I223)","v":0},1,1,"꽝",0,0,0,0,{"$f":"IF(6=U223,\"1등\",IF(13=U223,\"1등\",0))","v":0},0]
[222,"2007.03.03",5,7,28,29,39,43,44,null,null,222,{"$f":"COUNTIF(번호추출!$N$13:$S$13,자료실!C224)","v":0},{"$f":"COUNTIF(번호추출!$N$13:$S$13,자료실!D224)","v":0},{"$f":"COUNTIF(번호추출!$N$13:$S$13,자료실!E224)","v":0},{"$f":"COUNTIF(번호추출!$N$13:$S$13,자료실!F224)","v":0},{"$f":"COUNTIF(번호추출!$N$13:$S$13,자료실!G224)","v":0},{"$f":"COUNTIF(번호추출!$N$13:$S$13,자료실!H224)","v":0},{"$f":"COUNTIF(번호추출!$N$13:$S$13,I224)","v":0},0,0,0,0,0,0,0,{"$f":"IF(6=U224,\"1등\",IF(13=U224,\"1등\",0))","v":0},0]
[223,"2007.03.10",1,3,18,20,26,27,38,null,null,223,{"$f":"COUNTIF(번호추출!$N$13:$S$13,자료실!C225)","v":0},{"$f":"COUNTIF(번호추출!$N$13:$S$13,자료실!D225)","v":0},{"$f":"COUNTIF(번호추출!$N$13:$S$13,자료실!E225)","v":1},{"$f":"COUNTIF(번호추출!$N$13:$S$13,자료실!F225)","v":0},{"$f":"COUNTIF(번호추출!$N$13:$S$13,자료실!G225)","v":0},{"$f":"COUNTIF(번호추출!$N$13:$S$13,자료실!H225)","v":0},{"$f":"COUNTIF(번호추출!$N$13:$S$13,I225)","v":0},1,1,"꽝",0,0,0,0,{"$f":"IF(6=U225,\"1등\",IF(13=U225,\"1등\",0))","v":0},0]
[224,"2007.03.17",4,19,26,27,30,42,7,null,null,224,{"$f":"COUNTIF(번호추출!$N$13:$S$13,자료실!C226)","v":1},{"$f":"COUNTIF(번호추출!$N$13:$S$13,자료실!D226)","v":0},{"$f":"COUNTIF(번호추출!$N$13:$S$13,자료실!E226)","v":0},{"$f":"COUNTIF(번호추출!$N$13:$S$13,자료실!F226)","v":0},{"$f":"COUNTIF(번호추출!$N$13:$S$13,자료실!G226)","v":0},{"$f":"COUNTIF(번호추출!$N$13:$S$13,자료실!H226)","v":0},{"$f":"COUNTIF(번호추출!$N$13:$S$13,I226)","v":0},1,1,"꽝",0,0,0,0,{"$f":"IF(6=U226,\"1등\",IF(13=U226,\"1등\",0))","v":0},0]
[225,"2007.03.24",5,11,13,19,31,36,7,null,null,225,{"$f":"COUNTIF(번호추출!$N$13:$S$13,자료실!C227)","v":0},{"$f":"COUNTIF(번호추출!$N$13:$S$13,자료실!D227)","v":0},{"$f":"COUNTIF(번호추출!$N$13:$S$13,자료실!E227)","v":0},{"$f":"COUNTIF(번호추출!$N$13:$S$13,자료실!F227)","v":0},{"$f":"COUNTIF(번호추출!$N$13:$S$13,자료실!G227)","v":0},{"$f":"COUNTIF(번호추출!$N$13:$S$13,자료실!H227)","v":0},{"$f":"COUNTIF(번호추출!$N$13:$S$13,I227)","v":0},0,0,0,0,0,0,0,{"$f":"IF(6=U227,\"1등\",IF(13=U227,\"1등\",0))","v":0},0]
[226,"2007.03.31",2,6,8,14,21,22,34,null,null,226,{"$f":"COUNTIF(번호추출!$N$13:$S$13,자료실!C228)","v":0},{"$f":"COUNTIF(번호추출!$N$13:$S$13,자료실!D228)","v":0},{"$f":"COUNTIF(번호추출!$N$13:$S$13,자료실!E228)","v":0},{"$f":"COUNTIF(번호추출!$N$13:$S$13,자료실!F228)","v":0},{"$f":"COUNTIF(번호추출!$N$13:$S$13,자료실!G228)","v":0},{"$f":"COUNTIF(번호추출!$N$13:$S$13,자료실!H228)","v":0},{"$f":"COUNTIF(번호추출!$N$13:$S$13,I228)","v":0},0,0,0,0,0,0,0,{"$f":"IF(6=U228,\"1등\",IF(13=U228,\"1등\",0))","v":0},0]
[227,"2007.04.07",4,5,15,16,22,42,2,null,null,227,{"$f":"COUNTIF(번호추출!$N$13:$S$13,자료실!C229)","v":1},{"$f":"COUNTIF(번호추출!$N$13:$S$13,자료실!D229)","v":0},{"$f":"COUNTIF(번호추출!$N$13:$S$13,자료실!E229)","v":1},{"$f":"COUNTIF(번호추출!$N$13:$S$13,자료실!F229)","v":0},{"$f":"COUNTIF(번호추출!$N$13:$S$13,자료실!G229)","v":0},{"$f":"COUNTIF(번호추출!$N$13:$S$13,자료실!H229)","v":0},{"$f":"COUNTIF(번호추출!$N$13:$S$13,I229)","v":0},2,2,"꽝","꽝",0,0,0,{"$f":"IF(6=U229,\"1등\",IF(13=U229,\"1등\",0))","v":0},0]
[228,"2007.04.14",17,25,35,36,39,44,23,null,null,228,{"$f":"COUNTIF(번호추출!$N$13:$S$13,자료실!C230)","v":0},{"$f":"COUNTIF(번호추출!$N$13:$S$13,자료실!D230)","v":1},{"$f":"COUNTIF(번호추출!$N$13:$S$13,자료실!E230)","v":0},{"$f":"COUNTIF(번호추출!$N$13:$S$13,자료실!F230)","v":0},{"$f":"COUNTIF(번호추출!$N$13:$S$13,자료실!G230)","v":0},{"$f":"COUNTIF(번호추출!$N$13:$S$13,자료실!H230)","v":0},{"$f":"COUNTIF(번호추출!$N$13:$S$13,I230)","v":0},1,1,"꽝",0,0,0,0,{"$f":"IF(6=U230,\"1등\",IF(13=U230,\"1등\",0))","v":0},0]
[229,"2007.04.21",4,5,9,11,23,38,35,null,null,229,{"$f":"COUNTIF(번호추출!$N$13:$S$13,자료실!C231)","v":1},{"$f":"COUNTIF(번호추출!$N$13:$S$13,자료실!D231)","v":0},{"$f":"COUNTIF(번호추출!$N$13:$S$13,자료실!E231)","v":0},{"$f":"COUNTIF(번호추출!$N$13:$S$13,자료실!F231)","v":0},{"$f":"COUNTIF(번호추출!$N$13:$S$13,자료실!G231)","v":0},{"$f":"COUNTIF(번호추출!$N$13:$S$13,자료실!H231)","v":0},{"$f":"COUNTIF(번호추출!$N$13:$S$13,I231)","v":0},1,1,"꽝",0,0,0,0,{"$f":"IF(6=U231,\"1등\",IF(13=U231,\"1등\",0))","v":0},0]
[230,"2007.04.28",5,11,14,29,32,33,12,null,null,230,{"$f":"COUNTIF(번호추출!$N$13:$S$13,자료실!C232)","v":0},{"$f":"COUNTIF(번호추출!$N$13:$S$13,자료실!D232)","v":0},{"$f":"COUNTIF(번호추출!$N$13:$S$13,자료실!E232)","v":0},{"$f":"COUNTIF(번호추출!$N$13:$S$13,자료실!F232)","v":0},{"$f":"COUNTIF(번호추출!$N$13:$S$13,자료실!G232)","v":0},{"$f":"COUNTIF(번호추출!$N$13:$S$13,자료실!H232)","v":1},{"$f":"COUNTIF(번호추출!$N$13:$S$13,I232)","v":0},1,1,"꽝",0,0,0,0,{"$f":"IF(6=U232,\"1등\",IF(13=U232,\"1등\",0))","v":0},0]
[231,"2007.05.05",5,10,19,31,44,45,27,null,null,231,{"$f":"COUNTIF(번호추출!$N$13:$S$13,자료실!C233)","v":0},{"$f":"COUNTIF(번호추출!$N$13:$S$13,자료실!D233)","v":0},{"$f":"COUNTIF(번호추출!$N$13:$S$13,자료실!E233)","v":0},{"$f":"COUNTIF(번호추출!$N$13:$S$13,자료실!F233)","v":0},{"$f":"COUNTIF(번호추출!$N$13:$S$13,자료실!G233)","v":0},{"$f":"COUNTIF(번호추출!$N$13:$S$13,자료실!H233)","v":1},{"$f":"COUNTIF(번호추출!$N$13:$S$13,I233)","v":0},1,1,"꽝",0,0,0,0,{"$f":"IF(6=U233,\"1등\",IF(13=U233,\"1등\",0))","v":0},0]
[232,"2007.05.12",8,9,10,12,24,44,35,null,null,232,{"$f":"COUNTIF(번호추출!$N$13:$S$13,자료실!C234)","v":0},{"$f":"COUNTIF(번호추출!$N$13:$S$13,자료실!D234)","v":0},{"$f":"COUNTIF(번호추출!$N$13:$S$13,자료실!E234)","v":0},{"$f":"COUNTIF(번호추출!$N$13:$S$13,자료실!F234)","v":0},{"$f":"COUNTIF(번호추출!$N$13:$S$13,자료실!G234)","v":0},{"$f":"COUNTIF(번호추출!$N$13:$S$13,자료실!H234)","v":0},{"$f":"COUNTIF(번호추출!$N$13:$S$13,I234)","v":0},0,0,0,0,0,0,0,{"$f":"IF(6=U234,\"1등\",IF(13=U234,\"1등\",0))","v":0},0]
[233,"2007.05.19",4,6,13,17,28,40,39,null,null,233,{"$f":"COUNTIF(번호추출!$N$13:$S$13,자료실!C235)","v":1},{"$f":"COUNTIF(번호추출!$N$13:$S$13,자료실!D235)","v":0},{"$f":"COUNTIF(번호추출!$N$13:$S$13,자료실!E235)","v":0},{"$f":"COUNTIF(번호추출!$N$13:$S$13,자료실!F235)","v":0},{"$f":"COUNTIF(번호추출!$N$13:$S$13,자료실!G235)","v":0},{"$f":"COUNTIF(번호추출!$N$13:$S$13,자료실!H235)","v":0},{"$f":"COUNTIF(번호추출!$N$13:$S$13,I235)","v":0},1,1,"꽝",0,0,0,0,{"$f":"IF(6=U235,\"1등\",IF(13=U235,\"1등\",0))","v":0},0]
[234,"2007.05.26",13,21,22,24,26,37,4,null,null,234,{"$f":"COUNTIF(번호추출!$N$13:$S$13,자료실!C236)","v":0},{"$f":"COUNTIF(번호추출!$N$13:$S$13,자료실!D236)","v":0},{"$f":"COUNTIF(번호추출!$N$13:$S$13,자료실!E236)","v":0},{"$f":"COUNTIF(번호추출!$N$13:$S$13,자료실!F236)","v":0},{"$f":"COUNTIF(번호추출!$N$13:$S$13,자료실!G236)","v":0},{"$f":"COUNTIF(번호추출!$N$13:$S$13,자료실!H236)","v":0},{"$f":"COUNTIF(번호추출!$N$13:$S$13,I236)","v":1},0,1,"꽝",0,0,0,0,{"$f":"IF(6=U236,\"1등\",IF(13=U236,\"1등\",0))","v":0},0]
[235,"2007.06.02",21,22,26,27,31,37,8,null,null,235,{"$f":"COUNTIF(번호추출!$N$13:$S$13,자료실!C237)","v":0},{"$f":"COUNTIF(번호추출!$N$13:$S$13,자료실!D237)","v":0},{"$f":"COUNTIF(번호추출!$N$13:$S$13,자료실!E237)","v":0},{"$f":"COUNTIF(번호추출!$N$13:$S$13,자료실!F237)","v":0},{"$f":"COUNTIF(번호추출!$N$13:$S$13,자료실!G237)","v":0},{"$f":"COUNTIF(번호추출!$N$13:$S$13,자료실!H237)","v":0},{"$f":"COUNTIF(번호추출!$N$13:$S$13,I237)","v":0},0,0,0,0,0,0,0,{"$f":"IF(6=U237,\"1등\",IF(13=U237,\"1등\",0))","v":0},0]
[236,"2007.06.09",1,4,8,13,37,39,7,null,null,236,{"$f":"COUNTIF(번호추출!$N$13:$S$13,자료실!C238)","v":0},{"$f":"COUNTIF(번호추출!$N$13:$S$13,자료실!D238)","v":1},{"$f":"COUNTIF(번호추출!$N$13:$S$13,자료실!E238)","v":0},{"$f":"COUNTIF(번호추출!$N$13:$S$13,자료실!F238)","v":0},{"$f":"COUNTIF(번호추출!$N$13:$S$13,자료실!G238)","v":0},{"$f":"COUNTIF(번호추출!$N$13:$S$13,자료실!H238)","v":0},{"$f":"COUNTIF(번호추출!$N$13:$S$13,I238)","v":0},1,1,"꽝",0,0,0,0,{"$f":"IF(6=U238,\"1등\",IF(13=U238,\"1등\",0))","v":0},0]
[237,"2007.06.16",1,11,17,21,24,44,33,null,null,237,{"$f":"COUNTIF(번호추출!$N$13:$S$13,자료실!C239)","v":0},{"$f":"COUNTIF(번호추출!$N$13:$S$13,자료실!D239)","v":0},{"$f":"COUNTIF(번호추출!$N$13:$S$13,자료실!E239)","v":0},{"$f":"COUNTIF(번호추출!$N$13:$S$13,자료실!F239)","v":0},{"$f":"COUNTIF(번호추출!$N$13:$S$13,자료실!G239)","v":0},{"$f":"COUNTIF(번호추출!$N$13:$S$13,자료실!H239)","v":0},{"$f":"COUNTIF(번호추출!$N$13:$S$13,I239)","v":1},0,1,"꽝",0,0,0,0,{"$f":"IF(6=U239,\"1등\",IF(13=U239,\"1등\",0))","v":0},0]
[238,"2007.06.23",2,4,15,28,31,34,35,null,null,238,{"$f":"COUNTIF(번호추출!$N$13:$S$13,자료실!C240)","v":0},{"$f":"COUNTIF(번호추출!$N$13:$S$13,자료실!D240)","v":1},{"$f":"COUNTIF(번호추출!$N$13:$S$13,자료실!E240)","v":1},{"$f":"COUNTIF(번호추출!$N$13:$S$13,자료실!F240)","v":0},{"$f":"COUNTIF(번호추출!$N$13:$S$13,자료실!G240)","v":0},{"$f":"COUNTIF(번호추출!$N$13:$S$13,자료실!H240)","v":0},{"$f":"COUNTIF(번호추출!$N$13:$S$13,I240)","v":0},2,2,"꽝","꽝",0,0,0,{"$f":"IF(6=U240,\"1등\",IF(13=U240,\"1등\",0))","v":0},0]
[239,"2007.06.30",11,15,24,39,41,44,7,null,null,239,{"$f":"COUNTIF(번호추출!$N$13:$S$13,자료실!C241)","v":0},{"$f":"COUNTIF(번호추출!$N$13:$S$13,자료실!D241)","v":1},{"$f":"COUNTIF(번호추출!$N$13:$S$13,자료실!E241)","v":0},{"$f":"COUNTIF(번호추출!$N$13:$S$13,자료실!F241)","v":0},{"$f":"COUNTIF(번호추출!$N$13:$S$13,자료실!G241)","v":0},{"$f":"COUNTIF(번호추출!$N$13:$S$13,자료실!H241)","v":0},{"$f":"COUNTIF(번호추출!$N$13:$S$13,I241)","v":0},1,1,"꽝",0,0,0,0,{"$f":"IF(6=U241,\"1등\",IF(13=U241,\"1등\",0))","v":0},0]
[240,"2007.07.07",6,10,16,40,41,43,21,null,null,240,{"$f":"COUNTIF(번호추출!$N$13:$S$13,자료실!C242)","v":0},{"$f":"COUNTIF(번호추출!$N$13:$S$13,자료실!D242)","v":0},{"$f":"COUNTIF(번호추출!$N$13:$S$13,자료실!E242)","v":0},{"$f":"COUNTIF(번호추출!$N$13:$S$13,자료실!F242)","v":0},{"$f":"COUNTIF(번호추출!$N$13:$S$13,자료실!G242)","v":0},{"$f":"COUNTIF(번호추출!$N$13:$S$13,자료실!H242)","v":0},{"$f":"COUNTIF(번호추출!$N$13:$S$13,I242)","v":0},0,0,0,0,0,0,0,{"$f":"IF(6=U242,\"1등\",IF(13=U242,\"1등\",0))","v":0},0]
[241,"2007.07.14",2,16,24,27,28,35,21,null,null,241,{"$f":"COUNTIF(번호추출!$N$13:$S$13,자료실!C243)","v":0},{"$f":"COUNTIF(번호추출!$N$13:$S$13,자료실!D243)","v":0},{"$f":"COUNTIF(번호추출!$N$13:$S$13,자료실!E243)","v":0},{"$f":"COUNTIF(번호추출!$N$13:$S$13,자료실!F243)","v":0},{"$f":"COUNTIF(번호추출!$N$13:$S$13,자료실!G243)","v":0},{"$f":"COUNTIF(번호추출!$N$13:$S$13,자료실!H243)","v":0},{"$f":"COUNTIF(번호추출!$N$13:$S$13,I243)","v":0},0,0,0,0,0,0,0,{"$f":"IF(6=U243,\"1등\",IF(13=U243,\"1등\",0))","v":0},0]
[242,"2007.07.21",4,19,20,21,32,34,43,null,null,242,{"$f":"COUNTIF(번호추출!$N$13:$S$13,자료실!C244)","v":1},{"$f":"COUNTIF(번호추출!$N$13:$S$13,자료실!D244)","v":0},{"$f":"COUNTIF(번호추출!$N$13:$S$13,자료실!E244)","v":0},{"$f":"COUNTIF(번호추출!$N$13:$S$13,자료실!F244)","v":0},{"$f":"COUNTIF(번호추출!$N$13:$S$13,자료실!G244)","v":0},{"$f":"COUNTIF(번호추출!$N$13:$S$13,자료실!H244)","v":0},{"$f":"COUNTIF(번호추출!$N$13:$S$13,I244)","v":0},1,1,"꽝",0,0,0,0,{"$f":"IF(6=U244,\"1등\",IF(13=U244,\"1등\",0))","v":0},0]
[243,"2007.07.28",2,12,17,19,28,42,34,null,null,243,{"$f":"COUNTIF(번호추출!$N$13:$S$13,자료실!C245)","v":0},{"$f":"COUNTIF(번호추출!$N$13:$S$13,자료실!D245)","v":0},{"$f":"COUNTIF(번호추출!$N$13:$S$13,자료실!E245)","v":0},{"$f":"COUNTIF(번호추출!$N$13:$S$13,자료실!F245)","v":0},{"$f":"COUNTIF(번호추출!$N$13:$S$13,자료실!G245)","v":0},{"$f":"COUNTIF(번호추출!$N$13:$S$13,자료실!H245)","v":0},{"$f":"COUNTIF(번호추출!$N$13:$S$13,I245)","v":0},0,0,0,0,0,0,0,{"$f":"IF(6=U245,\"1등\",IF(13=U245,\"1등\",0))","v":0},0]
[244,"2007.08.04",13,16,25,36,37,38,19,null,null,244,{"$f":"COUNTIF(번호추출!$N$13:$S$13,자료실!C246)","v":0},{"$f":"COUNTIF(번호추출!$N$13:$S$13,자료실!D246)","v":0},{"$f":"COUNTIF(번호추출!$N$13:$S$13,자료실!E246)","v":1},{"$f":"COUNTIF(번호추출!$N$13:$S$13,자료실!F246)","v":0},{"$f":"COUNTIF(번호추출!$N$13:$S$13,자료실!G246)","v":0},{"$f":"COUNTIF(번호추출!$N$13:$S$13,자료실!H246)","v":0},{"$f":"COUNTIF(번호추출!$N$13:$S$13,I246)","v":0},1,1,"꽝",0,0,0,0,{"$f":"IF(6=U246,\"1등\",IF(13=U246,\"1등\",0))","v":0},0]
[245,"2007.08.11",9,11,27,31,32,38,22,null,null,245,{"$f":"COUNTIF(번호추출!$N$13:$S$13,자료실!C247)","v":0},{"$f":"COUNTIF(번호추출!$N$13:$S$13,자료실!D247)","v":0},{"$f":"COUNTIF(번호추출!$N$13:$S$13,자료실!E247)","v":0},{"$f":"COUNTIF(번호추출!$N$13:$S$13,자료실!F247)","v":0},{"$f":"COUNTIF(번호추출!$N$13:$S$13,자료실!G247)","v":0},{"$f":"COUNTIF(번호추출!$N$13:$S$13,자료실!H247)","v":0},{"$f":"COUNTIF(번호추출!$N$13:$S$13,I247)","v":0},0,0,0,0,0,0,0,{"$f":"IF(6=U247,\"1등\",IF(13=U247,\"1등\",0))","v":0},0]
[246,"2007.08.18",13,18,21,23,26,39,15,null,null,246,{"$f":"COUNTIF(번호추출!$N$13:$S$13,자료실!C248)","v":0},{"$f":"COUNTIF(번호추출!$N$13:$S$13,자료실!D248)","v":1},{"$f":"COUNTIF(번호추출!$N$13:$S$13,자료실!E248)","v":0},{"$f":"COUNTIF(번호추출!$N$13:$S$13,자료실!F248)","v":0},{"$f":"COUNTIF(번호추출!$N$13:$S$13,자료실!G248)","v":0},{"$f":"COUNTIF(번호추출!$N$13:$S$13,자료실!H248)","v":0},{"$f":"COUNTIF(번호추출!$N$13:$S$13,I248)","v":1},1,2,"꽝","꽝",0,0,0,{"$f":"IF(6=U248,\"1등\",IF(13=U248,\"1등\",0))","v":0},0]
[247,"2007.08.25",12,15,28,36,39,40,13,null,null,247,{"$f":"COUNTIF(번호추출!$N$13:$S$13,자료실!C249)","v":0},{"$f":"COUNTIF(번호추출!$N$13:$S$13,자료실!D249)","v":1},{"$f":"COUNTIF(번호추출!$N$13:$S$13,자료실!E249)","v":0},{"$f":"COUNTIF(번호추출!$N$13:$S$13,자료실!F249)","v":0},{"$f":"COUNTIF(번호추출!$N$13:$S$13,자료실!G249)","v":0},{"$f":"COUNTIF(번호추출!$N$13:$S$13,자료실!H249)","v":0},{"$f":"COUNTIF(번호추출!$N$13:$S$13,I249)","v":0},1,1,"꽝",0,0,0,0,{"$f":"IF(6=U249,\"1등\",IF(13=U249,\"1등\",0))","v":0},0]
[248,"2007.09.01",3,8,17,23,38,45,13,null,null,248,{"$f":"COUNTIF(번호추출!$N$13:$S$13,자료실!C250)","v":0},{"$f":"COUNTIF(번호추출!$N$13:$S$13,자료실!D250)","v":0},{"$f":"COUNTIF(번호추출!$N$13:$S$13,자료실!E250)","v":0},{"$f":"COUNTIF(번호추출!$N$13:$S$13,자료실!F250)","v":0},{"$f":"COUNTIF(번호추출!$N$13:$S$13,자료실!G250)","v":0},{"$f":"COUNTIF(번호추출!$N$13:$S$13,자료실!H250)","v":1},{"$f":"COUNTIF(번호추출!$N$13:$S$13,I250)","v":0},1,1,"꽝",0,0,0,0,{"$f":"IF(6=U250,\"1등\",IF(13=U250,\"1등\",0))","v":0},0]
[249,"2007.09.08",3,8,27,31,41,44,11,null,null,249,{"$f":"COUNTIF(번호추출!$N$13:$S$13,자료실!C251)","v":0},{"$f":"COUNTIF(번호추출!$N$13:$S$13,자료실!D251)","v":0},{"$f":"COUNTIF(번호추출!$N$13:$S$13,자료실!E251)","v":0},{"$f":"COUNTIF(번호추출!$N$13:$S$13,자료실!F251)","v":0},{"$f":"COUNTIF(번호추출!$N$13:$S$13,자료실!G251)","v":0},{"$f":"COUNTIF(번호추출!$N$13:$S$13,자료실!H251)","v":0},{"$f":"COUNTIF(번호추출!$N$13:$S$13,I251)","v":0},0,0,0,0,0,0,0,{"$f":"IF(6=U251,\"1등\",IF(13=U251,\"1등\",0))","v":0},0]
[250,"2007.09.15",19,23,30,37,43,45,38,null,null,250,{"$f":"COUNTIF(번호추출!$N$13:$S$13,자료실!C252)","v":0},{"$f":"COUNTIF(번호추출!$N$13:$S$13,자료실!D252)","v":0},{"$f":"COUNTIF(번호추출!$N$13:$S$13,자료실!E252)","v":0},{"$f":"COUNTIF(번호추출!$N$13:$S$13,자료실!F252)","v":0},{"$f":"COUNTIF(번호추출!$N$13:$S$13,자료실!G252)","v":0},{"$f":"COUNTIF(번호추출!$N$13:$S$13,자료실!H252)","v":1},{"$f":"COUNTIF(번호추출!$N$13:$S$13,I252)","v":0},1,1,"꽝",0,0,0,0,{"$f":"IF(6=U252,\"1등\",IF(13=U252,\"1등\",0))","v":0},0]
[251,"2007.09.22",6,7,19,25,28,38,45,null,null,251,{"$f":"COUNTIF(번호추출!$N$13:$S$13,자료실!C253)","v":0},{"$f":"COUNTIF(번호추출!$N$13:$S$13,자료실!D253)","v":0},{"$f":"COUNTIF(번호추출!$N$13:$S$13,자료실!E253)","v":0},{"$f":"COUNTIF(번호추출!$N$13:$S$13,자료실!F253)","v":1},{"$f":"COUNTIF(번호추출!$N$13:$S$13,자료실!G253)","v":0},{"$f":"COUNTIF(번호추출!$N$13:$S$13,자료실!H253)","v":0},{"$f":"COUNTIF(번호추출!$N$13:$S$13,I253)","v":1},1,2,"꽝","꽝",0,0,0,{"$f":"IF(6=U253,\"1등\",IF(13=U253,\"1등\",0))","v":0},0]
[252,"2007.09.29",14,23,26,31,39,45,28,null,null,252,{"$f":"COUNTIF(번호추출!$N$13:$S$13,자료실!C254)","v":0},{"$f":"COUNTIF(번호추출!$N$13:$S$13,자료실!D254)","v":0},{"$f":"COUNTIF(번호추출!$N$13:$S$13,자료실!E254)","v":0},{"$f":"COUNTIF(번호추출!$N$13:$S$13,자료실!F254)","v":0},{"$f":"COUNTIF(번호추출!$N$13:$S$13,자료실!G254)","v":0},{"$f":"COUNTIF(번호추출!$N$13:$S$13,자료실!H254)","v":1},{"$f":"COUNTIF(번호추출!$N$13:$S$13,I254)","v":0},1,1,"꽝",0,0,0,0,{"$f":"IF(6=U254,\"1등\",IF(13=U254,\"1등\",0))","v":0},0]
[253,"2007.10.06",8,19,25,31,34,36,33,null,null,253,{"$f":"COUNTIF(번호추출!$N$13:$S$13,자료실!C255)","v":0},{"$f":"COUNTIF(번호추출!$N$13:$S$13,자료실!D255)","v":0},{"$f":"COUNTIF(번호추출!$N$13:$S$13,자료실!E255)","v":1},{"$f":"COUNTIF(번호추출!$N$13:$S$13,자료실!F255)","v":0},{"$f":"COUNTIF(번호추출!$N$13:$S$13,자료실!G255)","v":0},{"$f":"COUNTIF(번호추출!$N$13:$S$13,자료실!H255)","v":0},{"$f":"COUNTIF(번호추출!$N$13:$S$13,I255)","v":1},1,2,"꽝","꽝",0,0,0,{"$f":"IF(6=U255,\"1등\",IF(13=U255,\"1등\",0))","v":0},0]
[254,"2007.10.13",1,5,19,20,24,30,27,null,null,254,{"$f":"COUNTIF(번호추출!$N$13:$S$13,자료실!C256)","v":0},{"$f":"COUNTIF(번호추출!$N$13:$S$13,자료실!D256)","v":0},{"$f":"COUNTIF(번호추출!$N$13:$S$13,자료실!E256)","v":0},{"$f":"COUNTIF(번호추출!$N$13:$S$13,자료실!F256)","v":0},{"$f":"COUNTIF(번호추출!$N$13:$S$13,자료실!G256)","v":0},{"$f":"COUNTIF(번호추출!$N$13:$S$13,자료실!H256)","v":0},{"$f":"COUNTIF(번호추출!$N$13:$S$13,I256)","v":0},0,0,0,0,0,0,0,{"$f":"IF(6=U256,\"1등\",IF(13=U256,\"1등\",0))","v":0},0]
[255,"2007.10.20",1,5,6,24,27,42,32,null,null,255,{"$f":"COUNTIF(번호추출!$N$13:$S$13,자료실!C257)","v":0},{"$f":"COUNTIF(번호추출!$N$13:$S$13,자료실!D257)","v":0},{"$f":"COUNTIF(번호추출!$N$13:$S$13,자료실!E257)","v":0},{"$f":"COUNTIF(번호추출!$N$13:$S$13,자료실!F257)","v":0},{"$f":"COUNTIF(번호추출!$N$13:$S$13,자료실!G257)","v":0},{"$f":"COUNTIF(번호추출!$N$13:$S$13,자료실!H257)","v":0},{"$f":"COUNTIF(번호추출!$N$13:$S$13,I257)","v":0},0,0,0,0,0,0,0,{"$f":"IF(6=U257,\"1등\",IF(13=U257,\"1등\",0))","v":0},0]
[256,"2007.10.27",4,11,14,21,23,43,32,null,null,256,{"$f":"COUNTIF(번호추출!$N$13:$S$13,자료실!C258)","v":1},{"$f":"COUNTIF(번호추출!$N$13:$S$13,자료실!D258)","v":0},{"$f":"COUNTIF(번호추출!$N$13:$S$13,자료실!E258)","v":0},{"$f":"COUNTIF(번호추출!$N$13:$S$13,자료실!F258)","v":0},{"$f":"COUNTIF(번호추출!$N$13:$S$13,자료실!G258)","v":0},{"$f":"COUNTIF(번호추출!$N$13:$S$13,자료실!H258)","v":0},{"$f":"COUNTIF(번호추출!$N$13:$S$13,I258)","v":0},1,1,"꽝",0,0,0,0,{"$f":"IF(6=U258,\"1등\",IF(13=U258,\"1등\",0))","v":0},0]
[257,"2007.11.03",6,13,27,31,32,37,4,null,null,257,{"$f":"COUNTIF(번호추출!$N$13:$S$13,자료실!C259)","v":0},{"$f":"COUNTIF(번호추출!$N$13:$S$13,자료실!D259)","v":0},{"$f":"COUNTIF(번호추출!$N$13:$S$13,자료실!E259)","v":0},{"$f":"COUNTIF(번호추출!$N$13:$S$13,자료실!F259)","v":0},{"$f":"COUNTIF(번호추출!$N$13:$S$13,자료실!G259)","v":0},{"$f":"COUNTIF(번호추출!$N$13:$S$13,자료실!H259)","v":0},{"$f":"COUNTIF(번호추출!$N$13:$S$13,I259)","v":1},0,1,"꽝",0,0,0,0,{"$f":"IF(6=U259,\"1등\",IF(13=U259,\"1등\",0))","v":0},0]
[258,"2007.11.10",14,27,30,31,38,40,17,null,null,258,{"$f":"COUNTIF(번호추출!$N$13:$S$13,자료실!C260)","v":0},{"$f":"COUNTIF(번호추출!$N$13:$S$13,자료실!D260)","v":0},{"$f":"COUNTIF(번호추출!$N$13:$S$13,자료실!E260)","v":0},{"$f":"COUNTIF(번호추출!$N$13:$S$13,자료실!F260)","v":0},{"$f":"COUNTIF(번호추출!$N$13:$S$13,자료실!G260)","v":0},{"$f":"COUNTIF(번호추출!$N$13:$S$13,자료실!H260)","v":0},{"$f":"COUNTIF(번호추출!$N$13:$S$13,I260)","v":0},0,0,0,0,0,0,0,{"$f":"IF(6=U260,\"1등\",IF(13=U260,\"1등\",0))","v":0},0]
[259,"2007.11.17",4,5,14,35,42,45,34,null,null,259,{"$f":"COUNTIF(번호추출!$N$13:$S$13,자료실!C261)","v":1},{"$f":"COUNTIF(번호추출!$N$13:$S$13,자료실!D261)","v":0},{"$f":"COUNTIF(번호추출!$N$13:$S$13,자료실!E261)","v":0},{"$f":"COUNTIF(번호추출!$N$13:$S$13,자료실!F261)","v":0},{"$f":"COUNTIF(번호추출!$N$13:$S$13,자료실!G261)","v":0},{"$f":"COUNTIF(번호추출!$N$13:$S$13,자료실!H261)","v":1},{"$f":"COUNTIF(번호추출!$N$13:$S$13,I261)","v":0},2,2,"꽝","꽝",0,0,0,{"$f":"IF(6=U261,\"1등\",IF(13=U261,\"1등\",0))","v":0},0]
[260,"2007.11.24",7,12,15,24,37,40,43,null,null,260,{"$f":"COUNTIF(번호추출!$N$13:$S$13,자료실!C262)","v":0},{"$f":"COUNTIF(번호추출!$N$13:$S$13,자료실!D262)","v":0},{"$f":"COUNTIF(번호추출!$N$13:$S$13,자료실!E262)","v":1},{"$f":"COUNTIF(번호추출!$N$13:$S$13,자료실!F262)","v":0},{"$f":"COUNTIF(번호추출!$N$13:$S$13,자료실!G262)","v":0},{"$f":"COUNTIF(번호추출!$N$13:$S$13,자료실!H262)","v":0},{"$f":"COUNTIF(번호추출!$N$13:$S$13,I262)","v":0},1,1,"꽝",0,0,0,0,{"$f":"IF(6=U262,\"1등\",IF(13=U262,\"1등\",0))","v":0},0]
[261,"2007.12.01",6,11,16,18,31,43,2,null,null,261,{"$f":"COUNTIF(번호추출!$N$13:$S$13,자료실!C263)","v":0},{"$f":"COUNTIF(번호추출!$N$13:$S$13,자료실!D263)","v":0},{"$f":"COUNTIF(번호추출!$N$13:$S$13,자료실!E263)","v":0},{"$f":"COUNTIF(번호추출!$N$13:$S$13,자료실!F263)","v":1},{"$f":"COUNTIF(번호추출!$N$13:$S$13,자료실!G263)","v":0},{"$f":"COUNTIF(번호추출!$N$13:$S$13,자료실!H263)","v":0},{"$f":"COUNTIF(번호추출!$N$13:$S$13,I263)","v":0},1,1,"꽝",0,0,0,0,{"$f":"IF(6=U263,\"1등\",IF(13=U263,\"1등\",0))","v":0},0]
[262,"2007.12.08",9,12,24,25,29,31,36,null,null,262,{"$f":"COUNTIF(번호추출!$N$13:$S$13,자료실!C264)","v":0},{"$f":"COUNTIF(번호추출!$N$13:$S$13,자료실!D264)","v":0},{"$f":"COUNTIF(번호추출!$N$13:$S$13,자료실!E264)","v":0},{"$f":"COUNTIF(번호추출!$N$13:$S$13,자료실!F264)","v":1},{"$f":"COUNTIF(번호추출!$N$13:$S$13,자료실!G264)","v":0},{"$f":"COUNTIF(번호추출!$N$13:$S$13,자료실!H264)","v":0},{"$f":"COUNTIF(번호추출!$N$13:$S$13,I264)","v":0},1,1,"꽝",0,0,0,0,{"$f":"IF(6=U264,\"1등\",IF(13=U264,\"1등\",0))","v":0},0]
[263,"2007.12.15",1,27,28,32,37,40,18,null,null,263,{"$f":"COUNTIF(번호추출!$N$13:$S$13,자료실!C265)","v":0},{"$f":"COUNTIF(번호추출!$N$13:$S$13,자료실!D265)","v":0},{"$f":"COUNTIF(번호추출!$N$13:$S$13,자료실!E265)","v":0},{"$f":"COUNTIF(번호추출!$N$13:$S$13,자료실!F265)","v":0},{"$f":"COUNTIF(번호추출!$N$13:$S$13,자료실!G265)","v":0},{"$f":"COUNTIF(번호추출!$N$13:$S$13,자료실!H265)","v":0},{"$f":"COUNTIF(번호추출!$N$13:$S$13,I265)","v":1},0,1,"꽝",0,0,0,0,{"$f":"IF(6=U265,\"1등\",IF(13=U265,\"1등\",0))","v":0},0]
[264,"2007.12.22",9,16,27,36,41,44,5,null,null,264,{"$f":"COUNTIF(번호추출!$N$13:$S$13,자료실!C266)","v":0},{"$f":"COUNTIF(번호추출!$N$13:$S$13,자료실!D266)","v":0},{"$f":"COUNTIF(번호추출!$N$13:$S$13,자료실!E266)","v":0},{"$f":"COUNTIF(번호추출!$N$13:$S$13,자료실!F266)","v":0},{"$f":"COUNTIF(번호추출!$N$13:$S$13,자료실!G266)","v":0},{"$f":"COUNTIF(번호추출!$N$13:$S$13,자료실!H266)","v":0},{"$f":"COUNTIF(번호추출!$N$13:$S$13,I266)","v":0},0,0,0,0,0,0,0,{"$f":"IF(6=U266,\"1등\",IF(13=U266,\"1등\",0))","v":0},0]
[265,"2007.12.29",5,9,34,37,38,39,12,null,null,265,{"$f":"COUNTIF(번호추출!$N$13:$S$13,자료실!C267)","v":0},{"$f":"COUNTIF(번호추출!$N$13:$S$13,자료실!D267)","v":0},{"$f":"COUNTIF(번호추출!$N$13:$S$13,자료실!E267)","v":0},{"$f":"COUNTIF(번호추출!$N$13:$S$13,자료실!F267)","v":0},{"$f":"COUNTIF(번호추출!$N$13:$S$13,자료실!G267)","v":0},{"$f":"COUNTIF(번호추출!$N$13:$S$13,자료실!H267)","v":0},{"$f":"COUNTIF(번호추출!$N$13:$S$13,I267)","v":0},0,0,0,0,0,0,0,{"$f":"IF(6=U267,\"1등\",IF(13=U267,\"1등\",0))","v":0},0]
[266,"2008.01.05",3,4,9,11,22,42,37,null,null,266,{"$f":"COUNTIF(번호추출!$N$13:$S$13,자료실!C268)","v":0},{"$f":"COUNTIF(번호추출!$N$13:$S$13,자료실!D268)","v":1},{"$f":"COUNTIF(번호추출!$N$13:$S$13,자료실!E268)","v":0},{"$f":"COUNTIF(번호추출!$N$13:$S$13,자료실!F268)","v":0},{"$f":"COUNTIF(번호추출!$N$13:$S$13,자료실!G268)","v":0},{"$f":"COUNTIF(번호추출!$N$13:$S$13,자료실!H268)","v":0},{"$f":"COUNTIF(번호추출!$N$13:$S$13,I268)","v":0},1,1,"꽝",0,0,0,0,{"$f":"IF(6=U268,\"1등\",IF(13=U268,\"1등\",0))","v":0},0]
[267,"2008.01.12",7,8,24,34,36,41,1,null,null,267,{"$f":"COUNTIF(번호추출!$N$13:$S$13,자료실!C269)","v":0},{"$f":"COUNTIF(번호추출!$N$13:$S$13,자료실!D269)","v":0},{"$f":"COUNTIF(번호추출!$N$13:$S$13,자료실!E269)","v":0},{"$f":"COUNTIF(번호추출!$N$13:$S$13,자료실!F269)","v":0},{"$f":"COUNTIF(번호추출!$N$13:$S$13,자료실!G269)","v":0},{"$f":"COUNTIF(번호추출!$N$13:$S$13,자료실!H269)","v":0},{"$f":"COUNTIF(번호추출!$N$13:$S$13,I269)","v":0},0,0,0,0,0,0,0,{"$f":"IF(6=U269,\"1등\",IF(13=U269,\"1등\",0))","v":0},0]
[268,"2008.01.19",3,10,19,24,32,45,12,null,null,268,{"$f":"COUNTIF(번호추출!$N$13:$S$13,자료실!C270)","v":0},{"$f":"COUNTIF(번호추출!$N$13:$S$13,자료실!D270)","v":0},{"$f":"COUNTIF(번호추출!$N$13:$S$13,자료실!E270)","v":0},{"$f":"COUNTIF(번호추출!$N$13:$S$13,자료실!F270)","v":0},{"$f":"COUNTIF(번호추출!$N$13:$S$13,자료실!G270)","v":0},{"$f":"COUNTIF(번호추출!$N$13:$S$13,자료실!H270)","v":1},{"$f":"COUNTIF(번호추출!$N$13:$S$13,I270)","v":0},1,1,{"$f":"IF(1=U270,\"꽝\",IF(0<T270,\"꽝\",0))","v":"꽝"},{"$f":"IF(2=U270,\"꽝\",IF(1<T270,\"꽝\",0))","v":0},{"$f":"IF(3=U270,\"5등\",IF(2<T270,\"5등\",0))","v":0},{"$f":"IF(4=U270,\"4등\",IF(3<T270,\"4등\",0))","v":0},{"$f":"IF(5=U270,\"3등\",IF(4<T270,\"3등\",0))","v":0},{"$f":"IF(6=U270,\"1등\",IF(13=U270,\"1등\",0))","v":0},{"$f":"IF(U270=12,\"2등\",0)","v":0}]
[269,"2008.01.26",5,18,20,36,42,43,32,null,null,269,{"$f":"COUNTIF(번호추출!$N$13:$S$13,자료실!C271)","v":0},{"$f":"COUNTIF(번호추출!$N$13:$S$13,자료실!D271)","v":1},{"$f":"COUNTIF(번호추출!$N$13:$S$13,자료실!E271)","v":0},{"$f":"COUNTIF(번호추출!$N$13:$S$13,자료실!F271)","v":0},{"$f":"COUNTIF(번호추출!$N$13:$S$13,자료실!G271)","v":0},{"$f":"COUNTIF(번호추출!$N$13:$S$13,자료실!H271)","v":0},{"$f":"COUNTIF(번호추출!$N$13:$S$13,I271)","v":0},1,1,"꽝",0,0,0,0,{"$f":"IF(6=U271,\"1등\",IF(13=U271,\"1등\",0))","v":0},0]
[270,"2008.02.02",5,9,12,20,21,26,27,null,null,270,{"$f":"COUNTIF(번호추출!$N$13:$S$13,자료실!C272)","v":0},{"$f":"COUNTIF(번호추출!$N$13:$S$13,자료실!D272)","v":0},{"$f":"COUNTIF(번호추출!$N$13:$S$13,자료실!E272)","v":0},{"$f":"COUNTIF(번호추출!$N$13:$S$13,자료실!F272)","v":0},{"$f":"COUNTIF(번호추출!$N$13:$S$13,자료실!G272)","v":0},{"$f":"COUNTIF(번호추출!$N$13:$S$13,자료실!H272)","v":0},{"$f":"COUNTIF(번호추출!$N$13:$S$13,I272)","v":0},0,0,0,0,0,0,0,{"$f":"IF(6=U272,\"1등\",IF(13=U272,\"1등\",0))","v":0},0]
[271,"2008.02.09",3,8,9,27,29,40,36,null,null,271,{"$f":"COUNTIF(번호추출!$N$13:$S$13,자료실!C273)","v":0},{"$f":"COUNTIF(번호추출!$N$13:$S$13,자료실!D273)","v":0},{"$f":"COUNTIF(번호추출!$N$13:$S$13,자료실!E273)","v":0},{"$f":"COUNTIF(번호추출!$N$13:$S$13,자료실!F273)","v":0},{"$f":"COUNTIF(번호추출!$N$13:$S$13,자료실!G273)","v":0},{"$f":"COUNTIF(번호추출!$N$13:$S$13,자료실!H273)","v":0},{"$f":"COUNTIF(번호추출!$N$13:$S$13,I273)","v":0},0,0,0,0,0,0,0,{"$f":"IF(6=U273,\"1등\",IF(13=U273,\"1등\",0))","v":0},0]
[272,"2008.02.16",7,9,12,27,39,43,28,null,null,272,{"$f":"COUNTIF(번호추출!$N$13:$S$13,자료실!C274)","v":0},{"$f":"COUNTIF(번호추출!$N$13:$S$13,자료실!D274)","v":0},{"$f":"COUNTIF(번호추출!$N$13:$S$13,자료실!E274)","v":0},{"$f":"COUNTIF(번호추출!$N$13:$S$13,자료실!F274)","v":0},{"$f":"COUNTIF(번호추출!$N$13:$S$13,자료실!G274)","v":0},{"$f":"COUNTIF(번호추출!$N$13:$S$13,자료실!H274)","v":0},{"$f":"COUNTIF(번호추출!$N$13:$S$13,I274)","v":0},0,0,0,0,0,0,0,{"$f":"IF(6=U274,\"1등\",IF(13=U274,\"1등\",0))","v":0},0]
[273,"2008.02.23",1,8,24,31,34,44,6,null,null,273,{"$f":"COUNTIF(번호추출!$N$13:$S$13,자료실!C275)","v":0},{"$f":"COUNTIF(번호추출!$N$13:$S$13,자료실!D275)","v":0},{"$f":"COUNTIF(번호추출!$N$13:$S$13,자료실!E275)","v":0},{"$f":"COUNTIF(번호추출!$N$13:$S$13,자료실!F275)","v":0},{"$f":"COUNTIF(번호추출!$N$13:$S$13,자료실!G275)","v":0},{"$f":"COUNTIF(번호추출!$N$13:$S$13,자료실!H275)","v":0},{"$f":"COUNTIF(번호추출!$N$13:$S$13,I275)","v":0},0,0,0,0,0,0,0,{"$f":"IF(6=U275,\"1등\",IF(13=U275,\"1등\",0))","v":0},0]
[274,"2008.03.01",13,14,15,26,35,39,25,null,null,274,{"$f":"COUNTIF(번호추출!$N$13:$S$13,자료실!C276)","v":0},{"$f":"COUNTIF(번호추출!$N$13:$S$13,자료실!D276)","v":0},{"$f":"COUNTIF(번호추출!$N$13:$S$13,자료실!E276)","v":1},{"$f":"COUNTIF(번호추출!$N$13:$S$13,자료실!F276)","v":0},{"$f":"COUNTIF(번호추출!$N$13:$S$13,자료실!G276)","v":0},{"$f":"COUNTIF(번호추출!$N$13:$S$13,자료실!H276)","v":0},{"$f":"COUNTIF(번호추출!$N$13:$S$13,I276)","v":1},1,2,"꽝","꽝",0,0,0,{"$f":"IF(6=U276,\"1등\",IF(13=U276,\"1등\",0))","v":0},0]
[275,"2008.03.08",14,19,20,35,38,40,26,null,null,275,{"$f":"COUNTIF(번호추출!$N$13:$S$13,자료실!C277)","v":0},{"$f":"COUNTIF(번호추출!$N$13:$S$13,자료실!D277)","v":0},{"$f":"COUNTIF(번호추출!$N$13:$S$13,자료실!E277)","v":0},{"$f":"COUNTIF(번호추출!$N$13:$S$13,자료실!F277)","v":0},{"$f":"COUNTIF(번호추출!$N$13:$S$13,자료실!G277)","v":0},{"$f":"COUNTIF(번호추출!$N$13:$S$13,자료실!H277)","v":0},{"$f":"COUNTIF(번호추출!$N$13:$S$13,I277)","v":0},0,0,0,0,0,0,0,{"$f":"IF(6=U277,\"1등\",IF(13=U277,\"1등\",0))","v":0},0]
[276,"2008.03.15",4,15,21,33,39,41,25,null,null,276,{"$f":"COUNTIF(번호추출!$N$13:$S$13,자료실!C278)","v":1},{"$f":"COUNTIF(번호추출!$N$13:$S$13,자료실!D278)","v":1},{"$f":"COUNTIF(번호추출!$N$13:$S$13,자료실!E278)","v":0},{"$f":"COUNTIF(번호추출!$N$13:$S$13,자료실!F278)","v":1},{"$f":"COUNTIF(번호추출!$N$13:$S$13,자료실!G278)","v":0},{"$f":"COUNTIF(번호추출!$N$13:$S$13,자료실!H278)","v":0},{"$f":"COUNTIF(번호추출!$N$13:$S$13,I278)","v":1},3,4,"꽝","꽝","5등","4등",0,{"$f":"IF(6=U278,\"1등\",IF(13=U278,\"1등\",0))","v":0},0]
[277,"2008.03.22",10,12,13,15,25,29,20,null,null,277,{"$f":"COUNTIF(번호추출!$N$13:$S$13,자료실!C279)","v":0},{"$f":"COUNTIF(번호추출!$N$13:$S$13,자료실!D279)","v":0},{"$f":"COUNTIF(번호추출!$N$13:$S$13,자료실!E279)","v":0},{"$f":"COUNTIF(번호추출!$N$13:$S$13,자료실!F279)","v":1},{"$f":"COUNTIF(번호추출!$N$13:$S$13,자료실!G279)","v":1},{"$f":"COUNTIF(번호추출!$N$13:$S$13,자료실!H279)","v":0},{"$f":"COUNTIF(번호추출!$N$13:$S$13,I279)","v":0},2,2,"꽝","꽝",0,0,0,{"$f":"IF(6=U279,\"1등\",IF(13=U279,\"1등\",0))","v":0},0]
[278,"2008.03.29",3,11,37,39,41,43,13,null,null,278,{"$f":"COUNTIF(번호추출!$N$13:$S$13,자료실!C280)","v":0},{"$f":"COUNTIF(번호추출!$N$13:$S$13,자료실!D280)","v":0},{"$f":"COUNTIF(번호추출!$N$13:$S$13,자료실!E280)","v":0},{"$f":"COUNTIF(번호추출!$N$13:$S$13,자료실!F280)","v":0},{"$f":"COUNTIF(번호추출!$N$13:$S$13,자료실!G280)","v":0},{"$f":"COUNTIF(번호추출!$N$13:$S$13,자료실!H280)","v":0},{"$f":"COUNTIF(번호추출!$N$13:$S$13,I280)","v":0},0,0,0,0,0,0,0,{"$f":"IF(6=U280,\"1등\",IF(13=U280,\"1등\",0))","v":0},0]
[279,"2008.04.05",7,16,31,36,37,38,11,null,null,279,{"$f":"COUNTIF(번호추출!$N$13:$S$13,자료실!C281)","v":0},{"$f":"COUNTIF(번호추출!$N$13:$S$13,자료실!D281)","v":0},{"$f":"COUNTIF(번호추출!$N$13:$S$13,자료실!E281)","v":0},{"$f":"COUNTIF(번호추출!$N$13:$S$13,자료실!F281)","v":0},{"$f":"COUNTIF(번호추출!$N$13:$S$13,자료실!G281)","v":0},{"$f":"COUNTIF(번호추출!$N$13:$S$13,자료실!H281)","v":0},{"$f":"COUNTIF(번호추출!$N$13:$S$13,I281)","v":0},0,0,0,0,0,0,0,{"$f":"IF(6=U281,\"1등\",IF(13=U281,\"1등\",0))","v":0},0]
[280,"2008.04.12",10,11,23,24,36,37,35,null,null,280,{"$f":"COUNTIF(번호추출!$N$13:$S$13,자료실!C282)","v":0},{"$f":"COUNTIF(번호추출!$N$13:$S$13,자료실!D282)","v":0},{"$f":"COUNTIF(번호추출!$N$13:$S$13,자료실!E282)","v":0},{"$f":"COUNTIF(번호추출!$N$13:$S$13,자료실!F282)","v":0},{"$f":"COUNTIF(번호추출!$N$13:$S$13,자료실!G282)","v":0},{"$f":"COUNTIF(번호추출!$N$13:$S$13,자료실!H282)","v":0},{"$f":"COUNTIF(번호추출!$N$13:$S$13,I282)","v":0},0,0,0,0,0,0,0,{"$f":"IF(6=U282,\"1등\",IF(13=U282,\"1등\",0))","v":0},0]
[281,"2008.04.19",1,3,4,6,14,41,12,null,null,{"$f":"A283","v":281},{"$f":"COUNTIF(번호추출!$N$13:$S$13,자료실!C283)","v":0},{"$f":"COUNTIF(번호추출!$N$13:$S$13,자료실!D283)","v":0},{"$f":"COUNTIF(번호추출!$N$13:$S$13,자료실!E283)","v":1},{"$f":"COUNTIF(번호추출!$N$13:$S$13,자료실!F283)","v":0},{"$f":"COUNTIF(번호추출!$N$13:$S$13,자료실!G283)","v":0},{"$f":"COUNTIF(번호추출!$N$13:$S$13,자료실!H283)","v":0},{"$f":"COUNTIF(번호추출!$N$13:$S$13,I283)","v":0},{"$f":"SUM(M283:R283)","v":1},{"$f":"SUM(M283:S283)","v":1},"꽝",0,0,0,0,{"$f":"IF(6=U283,\"1등\",IF(13=U283,\"1등\",0))","v":0},0]
[282,"2008.04.26",2,5,10,18,31,32,30,null,null,282,{"$f":"COUNTIF(번호추출!$N$13:$S$13,자료실!C284)","v":0},{"$f":"COUNTIF(번호추출!$N$13:$S$13,자료실!D284)","v":0},{"$f":"COUNTIF(번호추출!$N$13:$S$13,자료실!E284)","v":0},{"$f":"COUNTIF(번호추출!$N$13:$S$13,자료실!F284)","v":1},{"$f":"COUNTIF(번호추출!$N$13:$S$13,자료실!G284)","v":0},{"$f":"COUNTIF(번호추출!$N$13:$S$13,자료실!H284)","v":0},{"$f":"COUNTIF(번호추출!$N$13:$S$13,I284)","v":0},1,1,"꽝",0,0,0,0,{"$f":"IF(6=U284,\"1등\",IF(13=U284,\"1등\",0))","v":0},0]
[283,"2008.05.03",6,8,18,31,38,45,42,null,null,283,{"$f":"COUNTIF(번호추출!$N$13:$S$13,자료실!C285)","v":0},{"$f":"COUNTIF(번호추출!$N$13:$S$13,자료실!D285)","v":0},{"$f":"COUNTIF(번호추출!$N$13:$S$13,자료실!E285)","v":1},{"$f":"COUNTIF(번호추출!$N$13:$S$13,자료실!F285)","v":0},{"$f":"COUNTIF(번호추출!$N$13:$S$13,자료실!G285)","v":0},{"$f":"COUNTIF(번호추출!$N$13:$S$13,자료실!H285)","v":1},{"$f":"COUNTIF(번호추출!$N$13:$S$13,I285)","v":0},2,2,"꽝","꽝",0,0,0,{"$f":"IF(6=U285,\"1등\",IF(13=U285,\"1등\",0))","v":0},0]
[284,"2008.05.10",2,7,15,24,30,45,28,null,null,284,{"$f":"COUNTIF(번호추출!$N$13:$S$13,자료실!C286)","v":0},{"$f":"COUNTIF(번호추출!$N$13:$S$13,자료실!D286)","v":0},{"$f":"COUNTIF(번호추출!$N$13:$S$13,자료실!E286)","v":1},{"$f":"COUNTIF(번호추출!$N$13:$S$13,자료실!F286)","v":0},{"$f":"COUNTIF(번호추출!$N$13:$S$13,자료실!G286)","v":0},{"$f":"COUNTIF(번호추출!$N$13:$S$13,자료실!H286)","v":1},{"$f":"COUNTIF(번호추출!$N$13:$S$13,I286)","v":0},2,2,"꽝","꽝",0,0,0,{"$f":"IF(6=U286,\"1등\",IF(13=U286,\"1등\",0))","v":0},0]
[285,"2008.05.17",13,33,37,40,41,45,2,null,null,285,{"$f":"COUNTIF(번호추출!$N$13:$S$13,자료실!C287)","v":0},{"$f":"COUNTIF(번호추출!$N$13:$S$13,자료실!D287)","v":1},{"$f":"COUNTIF(번호추출!$N$13:$S$13,자료실!E287)","v":0},{"$f":"COUNTIF(번호추출!$N$13:$S$13,자료실!F287)","v":0},{"$f":"COUNTIF(번호추출!$N$13:$S$13,자료실!G287)","v":0},{"$f":"COUNTIF(번호추출!$N$13:$S$13,자료실!H287)","v":1},{"$f":"COUNTIF(번호추출!$N$13:$S$13,I287)","v":0},2,2,"꽝","꽝",0,0,0,{"$f":"IF(6=U287,\"1등\",IF(13=U287,\"1등\",0))","v":0},0]
[286,"2008.05.24",1,15,19,40,42,44,17,null,null,286,{"$f":"COUNTIF(번호추출!$N$13:$S$13,자료실!C288)","v":0},{"$f":"COUNTIF(번호추출!$N$13:$S$13,자료실!D288)","v":1},{"$f":"COUNTIF(번호추출!$N$13:$S$13,자료실!E288)","v":0},{"$f":"COUNTIF(번호추출!$N$13:$S$13,자료실!F288)","v":0},{"$f":"COUNTIF(번호추출!$N$13:$S$13,자료실!G288)","v":0},{"$f":"COUNTIF(번호추출!$N$13:$S$13,자료실!H288)","v":0},{"$f":"COUNTIF(번호추출!$N$13:$S$13,I288)","v":0},1,1,"꽝",0,0,0,0,{"$f":"IF(6=U288,\"1등\",IF(13=U288,\"1등\",0))","v":0},0]
[287,"2008.05.31",6,12,24,27,35,37,41,null,null,287,{"$f":"COUNTIF(번호추출!$N$13:$S$13,자료실!C289)","v":0},{"$f":"COUNTIF(번호추출!$N$13:$S$13,자료실!D289)","v":0},{"$f":"COUNTIF(번호추출!$N$13:$S$13,자료실!E289)","v":0},{"$f":"COUNTIF(번호추출!$N$13:$S$13,자료실!F289)","v":0},{"$f":"COUNTIF(번호추출!$N$13:$S$13,자료실!G289)","v":0},{"$f":"COUNTIF(번호추출!$N$13:$S$13,자료실!H289)","v":0},{"$f":"COUNTIF(번호추출!$N$13:$S$13,I289)","v":0},0,0,0,0,0,0,0,{"$f":"IF(6=U289,\"1등\",IF(13=U289,\"1등\",0))","v":0},0]
[288,"2008.06.07",1,12,17,28,35,41,10,null,null,288,{"$f":"COUNTIF(번호추출!$N$13:$S$13,자료실!C290)","v":0},{"$f":"COUNTIF(번호추출!$N$13:$S$13,자료실!D290)","v":0},{"$f":"COUNTIF(번호추출!$N$13:$S$13,자료실!E290)","v":0},{"$f":"COUNTIF(번호추출!$N$13:$S$13,자료실!F290)","v":0},{"$f":"COUNTIF(번호추출!$N$13:$S$13,자료실!G290)","v":0},{"$f":"COUNTIF(번호추출!$N$13:$S$13,자료실!H290)","v":0},{"$f":"COUNTIF(번호추출!$N$13:$S$13,I290)","v":0},0,0,0,0,0,0,0,{"$f":"IF(6=U290,\"1등\",IF(13=U290,\"1등\",0))","v":0},0]
[289,"2008.06.14",3,14,33,37,38,42,10,null,null,289,{"$f":"COUNTIF(번호추출!$N$13:$S$13,자료실!C291)","v":0},{"$f":"COUNTIF(번호추출!$N$13:$S$13,자료실!D291)","v":0},{"$f":"COUNTIF(번호추출!$N$13:$S$13,자료실!E291)","v":1},{"$f":"COUNTIF(번호추출!$N$13:$S$13,자료실!F291)","v":0},{"$f":"COUNTIF(번호추출!$N$13:$S$13,자료실!G291)","v":0},{"$f":"COUNTIF(번호추출!$N$13:$S$13,자료실!H291)","v":0},{"$f":"COUNTIF(번호추출!$N$13:$S$13,I291)","v":0},1,1,"꽝",0,0,0,0,{"$f":"IF(6=U291,\"1등\",IF(13=U291,\"1등\",0))","v":0},0]
[290,"2008.06.21",8,13,18,32,39,45,7,null,null,290,{"$f":"COUNTIF(번호추출!$N$13:$S$13,자료실!C292)","v":0},{"$f":"COUNTIF(번호추출!$N$13:$S$13,자료실!D292)","v":0},{"$f":"COUNTIF(번호추출!$N$13:$S$13,자료실!E292)","v":1},{"$f":"COUNTIF(번호추출!$N$13:$S$13,자료실!F292)","v":0},{"$f":"COUNTIF(번호추출!$N$13:$S$13,자료실!G292)","v":0},{"$f":"COUNTIF(번호추출!$N$13:$S$13,자료실!H292)","v":1},{"$f":"COUNTIF(번호추출!$N$13:$S$13,I292)","v":0},2,2,"꽝","꽝",0,0,0,{"$f":"IF(6=U292,\"1등\",IF(13=U292,\"1등\",0))","v":0},0]
[291,"2008.06.28",3,7,8,18,20,42,45,null,null,291,{"$f":"COUNTIF(번호추출!$N$13:$S$13,자료실!C293)","v":0},{"$f":"COUNTIF(번호추출!$N$13:$S$13,자료실!D293)","v":0},{"$f":"COUNTIF(번호추출!$N$13:$S$13,자료실!E293)","v":0},{"$f":"COUNTIF(번호추출!$N$13:$S$13,자료실!F293)","v":1},{"$f":"COUNTIF(번호추출!$N$13:$S$13,자료실!G293)","v":0},{"$f":"COUNTIF(번호추출!$N$13:$S$13,자료실!H293)","v":0},{"$f":"COUNTIF(번호추출!$N$13:$S$13,I293)","v":1},1,2,"꽝","꽝",0,0,0,{"$f":"IF(6=U293,\"1등\",IF(13=U293,\"1등\",0))","v":0},0]
[292,"2008.07.05",17,18,31,32,33,34,10,null,null,292,{"$f":"COUNTIF(번호추출!$N$13:$S$13,자료실!C294)","v":0},{"$f":"COUNTIF(번호추출!$N$13:$S$13,자료실!D294)","v":1},{"$f":"COUNTIF(번호추출!$N$13:$S$13,자료실!E294)","v":0},{"$f":"COUNTIF(번호추출!$N$13:$S$13,자료실!F294)","v":0},{"$f":"COUNTIF(번호추출!$N$13:$S$13,자료실!G294)","v":1},{"$f":"COUNTIF(번호추출!$N$13:$S$13,자료실!H294)","v":0},{"$f":"COUNTIF(번호추출!$N$13:$S$13,I294)","v":0},2,2,"꽝","꽝",0,0,0,{"$f":"IF(6=U294,\"1등\",IF(13=U294,\"1등\",0))","v":0},0]
[293,"2008.07.12",1,9,17,21,29,33,24,null,null,293,{"$f":"COUNTIF(번호추출!$N$13:$S$13,자료실!C295)","v":0},{"$f":"COUNTIF(번호추출!$N$13:$S$13,자료실!D295)","v":0},{"$f":"COUNTIF(번호추출!$N$13:$S$13,자료실!E295)","v":0},{"$f":"COUNTIF(번호추출!$N$13:$S$13,자료실!F295)","v":0},{"$f":"COUNTIF(번호추출!$N$13:$S$13,자료실!G295)","v":0},{"$f":"COUNTIF(번호추출!$N$13:$S$13,자료실!H295)","v":1},{"$f":"COUNTIF(번호추출!$N$13:$S$13,I295)","v":0},1,1,"꽝",0,0,0,0,{"$f":"IF(6=U295,\"1등\",IF(13=U295,\"1등\",0))","v":0},0]
[294,"2008.07.19",6,10,17,30,37,38,40,null,null,294,{"$f":"COUNTIF(번호추출!$N$13:$S$13,자료실!C296)","v":0},{"$f":"COUNTIF(번호추출!$N$13:$S$13,자료실!D296)","v":0},{"$f":"COUNTIF(번호추출!$N$13:$S$13,자료실!E296)","v":0},{"$f":"COUNTIF(번호추출!$N$13:$S$13,자료실!F296)","v":0},{"$f":"COUNTIF(번호추출!$N$13:$S$13,자료실!G296)","v":0},{"$f":"COUNTIF(번호추출!$N$13:$S$13,자료실!H296)","v":0},{"$f":"COUNTIF(번호추출!$N$13:$S$13,I296)","v":0},0,0,0,0,0,0,0,{"$f":"IF(6=U296,\"1등\",IF(13=U296,\"1등\",0))","v":0},0]
[295,"2008.07.26",1,4,12,16,18,38,8,null,null,295,{"$f":"COUNTIF(번호추출!$N$13:$S$13,자료실!C297)","v":0},{"$f":"COUNTIF(번호추출!$N$13:$S$13,자료실!D297)","v":1},{"$f":"COUNTIF(번호추출!$N$13:$S$13,자료실!E297)","v":0},{"$f":"COUNTIF(번호추출!$N$13:$S$13,자료실!F297)","v":0},{"$f":"COUNTIF(번호추출!$N$13:$S$13,자료실!G297)","v":1},{"$f":"COUNTIF(번호추출!$N$13:$S$13,자료실!H297)","v":0},{"$f":"COUNTIF(번호추출!$N$13:$S$13,I297)","v":0},2,2,"꽝","꽝",0,0,0,{"$f":"IF(6=U297,\"1등\",IF(13=U297,\"1등\",0))","v":0},0]
[296,"2008.08.02",3,8,15,27,30,45,44,null,null,296,{"$f":"COUNTIF(번호추출!$N$13:$S$13,자료실!C298)","v":0},{"$f":"COUNTIF(번호추출!$N$13:$S$13,자료실!D298)","v":0},{"$f":"COUNTIF(번호추출!$N$13:$S$13,자료실!E298)","v":1},{"$f":"COUNTIF(번호추출!$N$13:$S$13,자료실!F298)","v":0},{"$f":"COUNTIF(번호추출!$N$13:$S$13,자료실!G298)","v":0},{"$f":"COUNTIF(번호추출!$N$13:$S$13,자료실!H298)","v":1},{"$f":"COUNTIF(번호추출!$N$13:$S$13,I298)","v":0},2,2,"꽝","꽝",0,0,0,{"$f":"IF(6=U298,\"1등\",IF(13=U298,\"1등\",0))","v":0},0]
[297,"2008.08.09",6,11,19,20,28,32,34,null,null,297,{"$f":"COUNTIF(번호추출!$N$13:$S$13,자료실!C299)","v":0},{"$f":"COUNTIF(번호추출!$N$13:$S$13,자료실!D299)","v":0},{"$f":"COUNTIF(번호추출!$N$13:$S$13,자료실!E299)","v":0},{"$f":"COUNTIF(번호추출!$N$13:$S$13,자료실!F299)","v":0},{"$f":"COUNTIF(번호추출!$N$13:$S$13,자료실!G299)","v":0},{"$f":"COUNTIF(번호추출!$N$13:$S$13,자료실!H299)","v":0},{"$f":"COUNTIF(번호추출!$N$13:$S$13,I299)","v":0},0,0,0,0,0,0,0,{"$f":"IF(6=U299,\"1등\",IF(13=U299,\"1등\",0))","v":0},0]
[298,"2008.08.16",5,9,27,29,37,40,19,null,null,298,{"$f":"COUNTIF(번호추출!$N$13:$S$13,자료실!C300)","v":0},{"$f":"COUNTIF(번호추출!$N$13:$S$13,자료실!D300)","v":0},{"$f":"COUNTIF(번호추출!$N$13:$S$13,자료실!E300)","v":0},{"$f":"COUNTIF(번호추출!$N$13:$S$13,자료실!F300)","v":0},{"$f":"COUNTIF(번호추출!$N$13:$S$13,자료실!G300)","v":0},{"$f":"COUNTIF(번호추출!$N$13:$S$13,자료실!H300)","v":0},{"$f":"COUNTIF(번호추출!$N$13:$S$13,I300)","v":0},0,0,0,0,0,0,0,{"$f":"IF(6=U300,\"1등\",IF(13=U300,\"1등\",0))","v":0},0]
[299,"2008.08.23",1,3,20,25,36,45,24,null,null,299,{"$f":"COUNTIF(번호추출!$N$13:$S$13,자료실!C301)","v":0},{"$f":"COUNTIF(번호추출!$N$13:$S$13,자료실!D301)","v":0},{"$f":"COUNTIF(번호추출!$N$13:$S$13,자료실!E301)","v":0},{"$f":"COUNTIF(번호추출!$N$13:$S$13,자료실!F301)","v":1},{"$f":"COUNTIF(번호추출!$N$13:$S$13,자료실!G301)","v":0},{"$f":"COUNTIF(번호추출!$N$13:$S$13,자료실!H301)","v":1},{"$f":"COUNTIF(번호추출!$N$13:$S$13,I301)","v":0},2,2,"꽝","꽝",0,0,0,{"$f":"IF(6=U301,\"1등\",IF(13=U301,\"1등\",0))","v":0},0]
[300,"2008.08.30",7,9,10,12,26,38,39,null,null,300,{"$f":"COUNTIF(번호추출!$N$13:$S$13,자료실!C302)","v":0},{"$f":"COUNTIF(번호추출!$N$13:$S$13,자료실!D302)","v":0},{"$f":"COUNTIF(번호추출!$N$13:$S$13,자료실!E302)","v":0},{"$f":"COUNTIF(번호추출!$N$13:$S$13,자료실!F302)","v":0},{"$f":"COUNTIF(번호추출!$N$13:$S$13,자료실!G302)","v":0},{"$f":"COUNTIF(번호추출!$N$13:$S$13,자료실!H302)","v":0},{"$f":"COUNTIF(번호추출!$N$13:$S$13,I302)","v":0},0,0,0,0,0,0,0,{"$f":"IF(6=U302,\"1등\",IF(13=U302,\"1등\",0))","v":0},0]
[301,"2008.09.06",7,11,13,33,37,43,26,null,null,301,{"$f":"COUNTIF(번호추출!$N$13:$S$13,자료실!C303)","v":0},{"$f":"COUNTIF(번호추출!$N$13:$S$13,자료실!D303)","v":0},{"$f":"COUNTIF(번호추출!$N$13:$S$13,자료실!E303)","v":0},{"$f":"COUNTIF(번호추출!$N$13:$S$13,자료실!F303)","v":1},{"$f":"COUNTIF(번호추출!$N$13:$S$13,자료실!G303)","v":0},{"$f":"COUNTIF(번호추출!$N$13:$S$13,자료실!H303)","v":0},{"$f":"COUNTIF(번호추출!$N$13:$S$13,I303)","v":0},1,1,"꽝",0,0,0,0,{"$f":"IF(6=U303,\"1등\",IF(13=U303,\"1등\",0))","v":0},0]
[302,"2008.09.13",13,19,20,32,38,42,4,null,null,302,{"$f":"COUNTIF(번호추출!$N$13:$S$13,자료실!C304)","v":0},{"$f":"COUNTIF(번호추출!$N$13:$S$13,자료실!D304)","v":0},{"$f":"COUNTIF(번호추출!$N$13:$S$13,자료실!E304)","v":0},{"$f":"COUNTIF(번호추출!$N$13:$S$13,자료실!F304)","v":0},{"$f":"COUNTIF(번호추출!$N$13:$S$13,자료실!G304)","v":0},{"$f":"COUNTIF(번호추출!$N$13:$S$13,자료실!H304)","v":0},{"$f":"COUNTIF(번호추출!$N$13:$S$13,I304)","v":1},0,1,"꽝",0,0,0,0,{"$f":"IF(6=U304,\"1등\",IF(13=U304,\"1등\",0))","v":0},0]
[303,"2008.09.20",2,14,17,30,38,45,43,null,null,303,{"$f":"COUNTIF(번호추출!$N$13:$S$13,자료실!C305)","v":0},{"$f":"COUNTIF(번호추출!$N$13:$S$13,자료실!D305)","v":0},{"$f":"COUNTIF(번호추출!$N$13:$S$13,자료실!E305)","v":0},{"$f":"COUNTIF(번호추출!$N$13:$S$13,자료실!F305)","v":0},{"$f":"COUNTIF(번호추출!$N$13:$S$13,자료실!G305)","v":0},{"$f":"COUNTIF(번호추출!$N$13:$S$13,자료실!H305)","v":1},{"$f":"COUNTIF(번호추출!$N$13:$S$13,I305)","v":0},1,1,"꽝",0,0,0,0,{"$f":"IF(6=U305,\"1등\",IF(13=U305,\"1등\",0))","v":0},0]
[304,"2008.09.27",4,10,16,26,33,41,38,null,null,304,{"$f":"COUNTIF(번호추출!$N$13:$S$13,자료실!C306)","v":1},{"$f":"COUNTIF(번호추출!$N$13:$S$13,자료실!D306)","v":0},{"$f":"COUNTIF(번호추출!$N$13:$S$13,자료실!E306)","v":0},{"$f":"COUNTIF(번호추출!$N$13:$S$13,자료실!F306)","v":0},{"$f":"COUNTIF(번호추출!$N$13:$S$13,자료실!G306)","v":1},{"$f":"COUNTIF(번호추출!$N$13:$S$13,자료실!H306)","v":0},{"$f":"COUNTIF(번호추출!$N$13:$S$13,I306)","v":0},2,2,"꽝","꽝",0,0,0,{"$f":"IF(6=U306,\"1등\",IF(13=U306,\"1등\",0))","v":0},0]
[305,"2008.10.04",7,8,18,21,23,39,9,null,null,305,{"$f":"COUNTIF(번호추출!$N$13:$S$13,자료실!C307)","v":0},{"$f":"COUNTIF(번호추출!$N$13:$S$13,자료실!D307)","v":0},{"$f":"COUNTIF(번호추출!$N$13:$S$13,자료실!E307)","v":1},{"$f":"COUNTIF(번호추출!$N$13:$S$13,자료실!F307)","v":0},{"$f":"COUNTIF(번호추출!$N$13:$S$13,자료실!G307)","v":0},{"$f":"COUNTIF(번호추출!$N$13:$S$13,자료실!H307)","v":0},{"$f":"COUNTIF(번호추출!$N$13:$S$13,I307)","v":0},1,1,"꽝",0,0,0,0,{"$f":"IF(6=U307,\"1등\",IF(13=U307,\"1등\",0))","v":0},0]
[306,"2008.10.11",4,18,23,30,34,41,19,null,null,306,{"$f":"COUNTIF(번호추출!$N$13:$S$13,자료실!C308)","v":1},{"$f":"COUNTIF(번호추출!$N$13:$S$13,자료실!D308)","v":1},{"$f":"COUNTIF(번호추출!$N$13:$S$13,자료실!E308)","v":0},{"$f":"COUNTIF(번호추출!$N$13:$S$13,자료실!F308)","v":0},{"$f":"COUNTIF(번호추출!$N$13:$S$13,자료실!G308)","v":0},{"$f":"COUNTIF(번호추출!$N$13:$S$13,자료실!H308)","v":0},{"$f":"COUNTIF(번호추출!$N$13:$S$13,I308)","v":0},2,2,"꽝","꽝",0,0,0,{"$f":"IF(6=U308,\"1등\",IF(13=U308,\"1등\",0))","v":0},0]
[307,"2008.10.18",5,15,21,23,25,45,12,null,null,307,{"$f":"COUNTIF(번호추출!$N$13:$S$13,자료실!C309)","v":0},{"$f":"COUNTIF(번호추출!$N$13:$S$13,자료실!D309)","v":1},{"$f":"COUNTIF(번호추출!$N$13:$S$13,자료실!E309)","v":0},{"$f":"COUNTIF(번호추출!$N$13:$S$13,자료실!F309)","v":0},{"$f":"COUNTIF(번호추출!$N$13:$S$13,자료실!G309)","v":1},{"$f":"COUNTIF(번호추출!$N$13:$S$13,자료실!H309)","v":1},{"$f":"COUNTIF(번호추출!$N$13:$S$13,I309)","v":0},3,3,"꽝","꽝","5등",0,0,{"$f":"IF(6=U309,\"1등\",IF(13=U309,\"1등\",0))","v":0},0]
[308,"2008.10.25",14,15,17,19,37,45,40,null,null,308,{"$f":"COUNTIF(번호추출!$N$13:$S$13,자료실!C310)","v":0},{"$f":"COUNTIF(번호추출!$N$13:$S$13,자료실!D310)","v":1},{"$f":"COUNTIF(번호추출!$N$13:$S$13,자료실!E310)","v":0},{"$f":"COUNTIF(번호추출!$N$13:$S$13,자료실!F310)","v":0},{"$f":"COUNTIF(번호추출!$N$13:$S$13,자료실!G310)","v":0},{"$f":"COUNTIF(번호추출!$N$13:$S$13,자료실!H310)","v":1},{"$f":"COUNTIF(번호추출!$N$13:$S$13,I310)","v":0},2,2,"꽝","꽝",0,0,0,{"$f":"IF(6=U310,\"1등\",IF(13=U310,\"1등\",0))","v":0},0]
[309,"2008.11.01",1,2,5,11,18,36,22,null,null,309,{"$f":"COUNTIF(번호추출!$N$13:$S$13,자료실!C311)","v":0},{"$f":"COUNTIF(번호추출!$N$13:$S$13,자료실!D311)","v":0},{"$f":"COUNTIF(번호추출!$N$13:$S$13,자료실!E311)","v":0},{"$f":"COUNTIF(번호추출!$N$13:$S$13,자료실!F311)","v":0},{"$f":"COUNTIF(번호추출!$N$13:$S$13,자료실!G311)","v":1},{"$f":"COUNTIF(번호추출!$N$13:$S$13,자료실!H311)","v":0},{"$f":"COUNTIF(번호추출!$N$13:$S$13,I311)","v":0},1,1,"꽝",0,0,0,0,{"$f":"IF(6=U311,\"1등\",IF(13=U311,\"1등\",0))","v":0},0]
[310,"2008.11.08",1,5,19,28,34,41,16,null,null,310,{"$f":"COUNTIF(번호추출!$N$13:$S$13,자료실!C312)","v":0},{"$f":"COUNTIF(번호추출!$N$13:$S$13,자료실!D312)","v":0},{"$f":"COUNTIF(번호추출!$N$13:$S$13,자료실!E312)","v":0},{"$f":"COUNTIF(번호추출!$N$13:$S$13,자료실!F312)","v":0},{"$f":"COUNTIF(번호추출!$N$13:$S$13,자료실!G312)","v":0},{"$f":"COUNTIF(번호추출!$N$13:$S$13,자료실!H312)","v":0},{"$f":"COUNTIF(번호추출!$N$13:$S$13,I312)","v":0},0,0,0,0,0,0,0,{"$f":"IF(6=U312,\"1등\",IF(13=U312,\"1등\",0))","v":0},0]
[311,"2008.11.15",4,12,24,27,28,32,10,null,null,311,{"$f":"COUNTIF(번호추출!$N$13:$S$13,자료실!C313)","v":1},{"$f":"COUNTIF(번호추출!$N$13:$S$13,자료실!D313)","v":0},{"$f":"COUNTIF(번호추출!$N$13:$S$13,자료실!E313)","v":0},{"$f":"COUNTIF(번호추출!$N$13:$S$13,자료실!F313)","v":0},{"$f":"COUNTIF(번호추출!$N$13:$S$13,자료실!G313)","v":0},{"$f":"COUNTIF(번호추출!$N$13:$S$13,자료실!H313)","v":0},{"$f":"COUNTIF(번호추출!$N$13:$S$13,I313)","v":0},1,1,"꽝",0,0,0,0,{"$f":"IF(6=U313,\"1등\",IF(13=U313,\"1등\",0))","v":0},0]
[312,"2008.11.22",2,3,5,6,12,20,25,null,null,312,{"$f":"COUNTIF(번호추출!$N$13:$S$13,자료실!C314)","v":0},{"$f":"COUNTIF(번호추출!$N$13:$S$13,자료실!D314)","v":0},{"$f":"COUNTIF(번호추출!$N$13:$S$13,자료실!E314)","v":0},{"$f":"COUNTIF(번호추출!$N$13:$S$13,자료실!F314)","v":0},{"$f":"COUNTIF(번호추출!$N$13:$S$13,자료실!G314)","v":0},{"$f":"COUNTIF(번호추출!$N$13:$S$13,자료실!H314)","v":0},{"$f":"COUNTIF(번호추출!$N$13:$S$13,I314)","v":1},0,1,"꽝",0,0,0,0,{"$f":"IF(6=U314,\"1등\",IF(13=U314,\"1등\",0))","v":0},0]
[313,"2008.11.29",9,17,34,35,43,45,2,null,null,313,{"$f":"COUNTIF(번호추출!$N$13:$S$13,자료실!C315)","v":0},{"$f":"COUNTIF(번호추출!$N$13:$S$13,자료실!D315)","v":0},{"$f":"COUNTIF(번호추출!$N$13:$S$13,자료실!E315)","v":0},{"$f":"COUNTIF(번호추출!$N$13:$S$13,자료실!F315)","v":0},{"$f":"COUNTIF(번호추출!$N$13:$S$13,자료실!G315)","v":0},{"$f":"COUNTIF(번호추출!$N$13:$S$13,자료실!H315)","v":1},{"$f":"COUNTIF(번호추출!$N$13:$S$13,I315)","v":0},1,1,"꽝",0,0,0,0,{"$f":"IF(6=U315,\"1등\",IF(13=U315,\"1등\",0))","v":0},0]
[314,"2008.12.06",15,17,19,34,38,41,2,null,null,314,{"$f":"COUNTIF(번호추출!$N$13:$S$13,자료실!C316)","v":1},{"$f":"COUNTIF(번호추출!$N$13:$S$13,자료실!D316)","v":0},{"$f":"COUNTIF(번호추출!$N$13:$S$13,자료실!E316)","v":0},{"$f":"COUNTIF(번호추출!$N$13:$S$13,자료실!F316)","v":0},{"$f":"COUNTIF(번호추출!$N$13:$S$13,자료실!G316)","v":0},{"$f":"COUNTIF(번호추출!$N$13:$S$13,자료실!H316)","v":0},{"$f":"COUNTIF(번호추출!$N$13:$S$13,I316)","v":0},1,1,"꽝",0,0,0,0,{"$f":"IF(6=U316,\"1등\",IF(13=U316,\"1등\",0))","v":0},0]
[315,"2008.12.13",1,13,33,35,43,45,23,null,null,315,{"$f":"COUNTIF(번호추출!$N$13:$S$13,자료실!C317)","v":0},{"$f":"COUNTIF(번호추출!$N$13:$S$13,자료실!D317)","v":0},{"$f":"COUNTIF(번호추출!$N$13:$S$13,자료실!E317)","v":1},{"$f":"COUNTIF(번호추출!$N$13:$S$13,자료실!F317)","v":0},{"$f":"COUNTIF(번호추출!$N$13:$S$13,자료실!G317)","v":0},{"$f":"COUNTIF(번호추출!$N$13:$S$13,자료실!H317)","v":1},{"$f":"COUNTIF(번호추출!$N$13:$S$13,I317)","v":0},2,2,"꽝","꽝",0,0,0,{"$f":"IF(6=U317,\"1등\",IF(13=U317,\"1등\",0))","v":0},0]
[316,"2008.12.20",10,11,21,27,31,39,43,null,null,316,{"$f":"COUNTIF(번호추출!$N$13:$S$13,자료실!C318)","v":0},{"$f":"COUNTIF(번호추출!$N$13:$S$13,자료실!D318)","v":0},{"$f":"COUNTIF(번호추출!$N$13:$S$13,자료실!E318)","v":0},{"$f":"COUNTIF(번호추출!$N$13:$S$13,자료실!F318)","v":0},{"$f":"COUNTIF(번호추출!$N$13:$S$13,자료실!G318)","v":0},{"$f":"COUNTIF(번호추출!$N$13:$S$13,자료실!H318)","v":0},{"$f":"COUNTIF(번호추출!$N$13:$S$13,I318)","v":0},0,0,0,0,0,0,0,{"$f":"IF(6=U318,\"1등\",IF(13=U318,\"1등\",0))","v":0},0]
[317,"2008.12.27",3,10,11,22,36,39,8,null,null,317,{"$f":"COUNTIF(번호추출!$N$13:$S$13,자료실!C319)","v":0},{"$f":"COUNTIF(번호추출!$N$13:$S$13,자료실!D319)","v":0},{"$f":"COUNTIF(번호추출!$N$13:$S$13,자료실!E319)","v":0},{"$f":"COUNTIF(번호추출!$N$13:$S$13,자료실!F319)","v":0},{"$f":"COUNTIF(번호추출!$N$13:$S$13,자료실!G319)","v":0},{"$f":"COUNTIF(번호추출!$N$13:$S$13,자료실!H319)","v":0},{"$f":"COUNTIF(번호추출!$N$13:$S$13,I319)","v":0},0,0,0,0,0,0,0,{"$f":"IF(6=U319,\"1등\",IF(13=U319,\"1등\",0))","v":0},0]
[318,"2009.01.03",2,17,19,20,34,45,21,null,null,318,{"$f":"COUNTIF(번호추출!$N$13:$S$13,자료실!C320)","v":0},{"$f":"COUNTIF(번호추출!$N$13:$S$13,자료실!D320)","v":0},{"$f":"COUNTIF(번호추출!$N$13:$S$13,자료실!E320)","v":0},{"$f":"COUNTIF(번호추출!$N$13:$S$13,자료실!F320)","v":0},{"$f":"COUNTIF(번호추출!$N$13:$S$13,자료실!G320)","v":0},{"$f":"COUNTIF(번호추출!$N$13:$S$13,자료실!H320)","v":1},{"$f":"COUNTIF(번호추출!$N$13:$S$13,I320)","v":0},1,1,"꽝",0,0,0,0,{"$f":"IF(6=U320,\"1등\",IF(13=U320,\"1등\",0))","v":0},0]
[319,"2009.01.10",5,8,22,28,33,42,37,null,null,319,{"$f":"COUNTIF(번호추출!$N$13:$S$13,자료실!C321)","v":0},{"$f":"COUNTIF(번호추출!$N$13:$S$13,자료실!D321)","v":0},{"$f":"COUNTIF(번호추출!$N$13:$S$13,자료실!E321)","v":0},{"$f":"COUNTIF(번호추출!$N$13:$S$13,자료실!F321)","v":0},{"$f":"COUNTIF(번호추출!$N$13:$S$13,자료실!G321)","v":1},{"$f":"COUNTIF(번호추출!$N$13:$S$13,자료실!H321)","v":0},{"$f":"COUNTIF(번호추출!$N$13:$S$13,I321)","v":0},1,1,"꽝",0,0,0,0,{"$f":"IF(6=U321,\"1등\",IF(13=U321,\"1등\",0))","v":0},0]
[320,"2009.01.17",16,19,23,25,41,45,3,null,null,320,{"$f":"COUNTIF(번호추출!$N$13:$S$13,자료실!C322)","v":0},{"$f":"COUNTIF(번호추출!$N$13:$S$13,자료실!D322)","v":0},{"$f":"COUNTIF(번호추출!$N$13:$S$13,자료실!E322)","v":0},{"$f":"COUNTIF(번호추출!$N$13:$S$13,자료실!F322)","v":1},{"$f":"COUNTIF(번호추출!$N$13:$S$13,자료실!G322)","v":0},{"$f":"COUNTIF(번호추출!$N$13:$S$13,자료실!H322)","v":1},{"$f":"COUNTIF(번호추출!$N$13:$S$13,I322)","v":0},2,2,"꽝","꽝",0,0,0,{"$f":"IF(6=U322,\"1등\",IF(13=U322,\"1등\",0))","v":0},0]
[321,"2009.01.24",12,18,20,21,25,34,42,null,null,321,{"$f":"COUNTIF(번호추출!$N$13:$S$13,자료실!C323)","v":0},{"$f":"COUNTIF(번호추출!$N$13:$S$13,자료실!D323)","v":1},{"$f":"COUNTIF(번호추출!$N$13:$S$13,자료실!E323)","v":0},{"$f":"COUNTIF(번호추출!$N$13:$S$13,자료실!F323)","v":0},{"$f":"COUNTIF(번호추출!$N$13:$S$13,자료실!G323)","v":1},{"$f":"COUNTIF(번호추출!$N$13:$S$13,자료실!H323)","v":0},{"$f":"COUNTIF(번호추출!$N$13:$S$13,I323)","v":0},2,2,"꽝","꽝",0,0,0,{"$f":"IF(6=U323,\"1등\",IF(13=U323,\"1등\",0))","v":0},0]
[322,"2009.01.31",9,18,29,32,38,43,20,null,null,322,{"$f":"COUNTIF(번호추출!$N$13:$S$13,자료실!C324)","v":0},{"$f":"COUNTIF(번호추출!$N$13:$S$13,자료실!D324)","v":1},{"$f":"COUNTIF(번호추출!$N$13:$S$13,자료실!E324)","v":0},{"$f":"COUNTIF(번호추출!$N$13:$S$13,자료실!F324)","v":0},{"$f":"COUNTIF(번호추출!$N$13:$S$13,자료실!G324)","v":0},{"$f":"COUNTIF(번호추출!$N$13:$S$13,자료실!H324)","v":0},{"$f":"COUNTIF(번호추출!$N$13:$S$13,I324)","v":0},1,1,"꽝",0,0,0,0,{"$f":"IF(6=U324,\"1등\",IF(13=U324,\"1등\",0))","v":0},0]
[323,"2009.02.07",10,14,15,32,36,42,3,null,null,323,{"$f":"COUNTIF(번호추출!$N$13:$S$13,자료실!C325)","v":0},{"$f":"COUNTIF(번호추출!$N$13:$S$13,자료실!D325)","v":0},{"$f":"COUNTIF(번호추출!$N$13:$S$13,자료실!E325)","v":1},{"$f":"COUNTIF(번호추출!$N$13:$S$13,자료실!F325)","v":0},{"$f":"COUNTIF(번호추출!$N$13:$S$13,자료실!G325)","v":0},{"$f":"COUNTIF(번호추출!$N$13:$S$13,자료실!H325)","v":0},{"$f":"COUNTIF(번호추출!$N$13:$S$13,I325)","v":0},1,1,"꽝",0,0,0,0,{"$f":"IF(6=U325,\"1등\",IF(13=U325,\"1등\",0))","v":0},0]
[324,"2009.02.14",2,4,21,25,33,36,17,null,null,324,{"$f":"COUNTIF(번호추출!$N$13:$S$13,자료실!C326)","v":0},{"$f":"COUNTIF(번호추출!$N$13:$S$13,자료실!D326)","v":1},{"$f":"COUNTIF(번호추출!$N$13:$S$13,자료실!E326)","v":0},{"$f":"COUNTIF(번호추출!$N$13:$S$13,자료실!F326)","v":1},{"$f":"COUNTIF(번호추출!$N$13:$S$13,자료실!G326)","v":1},{"$f":"COUNTIF(번호추출!$N$13:$S$13,자료실!H326)","v":0},{"$f":"COUNTIF(번호추출!$N$13:$S$13,I326)","v":0},3,3,"꽝","꽝","5등",0,0,{"$f":"IF(6=U326,\"1등\",IF(13=U326,\"1등\",0))","v":0},0]
[325,"2009.02.21",7,17,20,32,44,45,33,null,null,325,{"$f":"COUNTIF(번호추출!$N$13:$S$13,자료실!C327)","v":0},{"$f":"COUNTIF(번호추출!$N$13:$S$13,자료실!D327)","v":0},{"$f":"COUNTIF(번호추출!$N$13:$S$13,자료실!E327)","v":0},{"$f":"COUNTIF(번호추출!$N$13:$S$13,자료실!F327)","v":0},{"$f":"COUNTIF(번호추출!$N$13:$S$13,자료실!G327)","v":0},{"$f":"COUNTIF(번호추출!$N$13:$S$13,자료실!H327)","v":1},{"$f":"COUNTIF(번호추출!$N$13:$S$13,I327)","v":1},1,2,"꽝","꽝",0,0,0,{"$f":"IF(6=U327,\"1등\",IF(13=U327,\"1등\",0))","v":0},0]
[326,"2009.02.28",16,23,25,33,36,39,40,null,null,326,{"$f":"COUNTIF(번호추출!$N$13:$S$13,자료실!C328)","v":0},{"$f":"COUNTIF(번호추출!$N$13:$S$13,자료실!D328)","v":0},{"$f":"COUNTIF(번호추출!$N$13:$S$13,자료실!E328)","v":1},{"$f":"COUNTIF(번호추출!$N$13:$S$13,자료실!F328)","v":1},{"$f":"COUNTIF(번호추출!$N$13:$S$13,자료실!G328)","v":0},{"$f":"COUNTIF(번호추출!$N$13:$S$13,자료실!H328)","v":0},{"$f":"COUNTIF(번호추출!$N$13:$S$13,I328)","v":0},2,2,"꽝","꽝",0,0,0,{"$f":"IF(6=U328,\"1등\",IF(13=U328,\"1등\",0))","v":0},0]
[327,"2009.03.07",6,12,13,17,32,44,24,null,null,327,{"$f":"COUNTIF(번호추출!$N$13:$S$13,자료실!C329)","v":0},{"$f":"COUNTIF(번호추출!$N$13:$S$13,자료실!D329)","v":0},{"$f":"COUNTIF(번호추출!$N$13:$S$13,자료실!E329)","v":0},{"$f":"COUNTIF(번호추출!$N$13:$S$13,자료실!F329)","v":0},{"$f":"COUNTIF(번호추출!$N$13:$S$13,자료실!G329)","v":0},{"$f":"COUNTIF(번호추출!$N$13:$S$13,자료실!H329)","v":0},{"$f":"COUNTIF(번호추출!$N$13:$S$13,I329)","v":0},0,0,0,0,0,0,0,{"$f":"IF(6=U329,\"1등\",IF(13=U329,\"1등\",0))","v":0},0]
[328,"2009.03.14",1,6,9,16,17,28,24,null,null,328,{"$f":"COUNTIF(번호추출!$N$13:$S$13,자료실!C330)","v":0},{"$f":"COUNTIF(번호추출!$N$13:$S$13,자료실!D330)","v":0},{"$f":"COUNTIF(번호추출!$N$13:$S$13,자료실!E330)","v":0},{"$f":"COUNTIF(번호추출!$N$13:$S$13,자료실!F330)","v":0},{"$f":"COUNTIF(번호추출!$N$13:$S$13,자료실!G330)","v":0},{"$f":"COUNTIF(번호추출!$N$13:$S$13,자료실!H330)","v":0},{"$f":"COUNTIF(번호추출!$N$13:$S$13,I330)","v":0},0,0,0,0,0,0,0,{"$f":"IF(6=U330,\"1등\",IF(13=U330,\"1등\",0))","v":0},0]
[329,"2009.03.21",9,17,19,30,35,42,4,null,null,329,{"$f":"COUNTIF(번호추출!$N$13:$S$13,자료실!C331)","v":0},{"$f":"COUNTIF(번호추출!$N$13:$S$13,자료실!D331)","v":0},{"$f":"COUNTIF(번호추출!$N$13:$S$13,자료실!E331)","v":0},{"$f":"COUNTIF(번호추출!$N$13:$S$13,자료실!F331)","v":0},{"$f":"COUNTIF(번호추출!$N$13:$S$13,자료실!G331)","v":0},{"$f":"COUNTIF(번호추출!$N$13:$S$13,자료실!H331)","v":0},{"$f":"COUNTIF(번호추출!$N$13:$S$13,I331)","v":1},0,1,"꽝",0,0,0,0,{"$f":"IF(6=U331,\"1등\",IF(13=U331,\"1등\",0))","v":0},0]
[330,"2009.03.28",3,4,16,17,19,20,23,null,null,330,{"$f":"COUNTIF(번호추출!$N$13:$S$13,자료실!C332)","v":0},{"$f":"COUNTIF(번호추출!$N$13:$S$13,자료실!D332)","v":1},{"$f":"COUNTIF(번호추출!$N$13:$S$13,자료실!E332)","v":0},{"$f":"COUNTIF(번호추출!$N$13:$S$13,자료실!F332)","v":0},{"$f":"COUNTIF(번호추출!$N$13:$S$13,자료실!G332)","v":0},{"$f":"COUNTIF(번호추출!$N$13:$S$13,자료실!H332)","v":0},{"$f":"COUNTIF(번호추출!$N$13:$S$13,I332)","v":0},1,1,"꽝",0,0,0,0,{"$f":"IF(6=U332,\"1등\",IF(13=U332,\"1등\",0))","v":0},0]
[331,"2009.04.04",4,9,14,26,31,44,39,null,null,331,{"$f":"COUNTIF(번호추출!$N$13:$S$13,자료실!C333)","v":1},{"$f":"COUNTIF(번호추출!$N$13:$S$13,자료실!D333)","v":0},{"$f":"COUNTIF(번호추출!$N$13:$S$13,자료실!E333)","v":0},{"$f":"COUNTIF(번호추출!$N$13:$S$13,자료실!F333)","v":0},{"$f":"COUNTIF(번호추출!$N$13:$S$13,자료실!G333)","v":0},{"$f":"COUNTIF(번호추출!$N$13:$S$13,자료실!H333)","v":0},{"$f":"COUNTIF(번호추출!$N$13:$S$13,I333)","v":0},1,1,"꽝",0,0,0,0,{"$f":"IF(6=U333,\"1등\",IF(13=U333,\"1등\",0))","v":0},0]
[332,"2009.04.11",16,17,34,36,42,45,3,null,null,332,{"$f":"COUNTIF(번호추출!$N$13:$S$13,자료실!C334)","v":0},{"$f":"COUNTIF(번호추출!$N$13:$S$13,자료실!D334)","v":0},{"$f":"COUNTIF(번호추출!$N$13:$S$13,자료실!E334)","v":0},{"$f":"COUNTIF(번호추출!$N$13:$S$13,자료실!F334)","v":0},{"$f":"COUNTIF(번호추출!$N$13:$S$13,자료실!G334)","v":0},{"$f":"COUNTIF(번호추출!$N$13:$S$13,자료실!H334)","v":1},{"$f":"COUNTIF(번호추출!$N$13:$S$13,I334)","v":0},1,1,{"$f":"IF(1=U334,\"꽝\",IF(0<T334,\"꽝\",0))","v":"꽝"},{"$f":"IF(2=U334,\"꽝\",IF(1<T334,\"꽝\",0))","v":0},{"$f":"IF(3=U334,\"5등\",IF(2<T334,\"5등\",0))","v":0},{"$f":"IF(4=U334,\"4등\",IF(3<T334,\"4등\",0))","v":0},{"$f":"IF(5=U334,\"3등\",IF(4<T334,\"3등\",0))","v":0},{"$f":"IF(6=U334,\"1등\",IF(13=U334,\"1등\",0))","v":0},{"$f":"IF(U334=12,\"2등\",0)","v":0}]
[333,"2009.04.18",5,14,27,30,39,43,35,null,null,333,{"$f":"COUNTIF(번호추출!$N$13:$S$13,자료실!C335)","v":0},{"$f":"COUNTIF(번호추출!$N$13:$S$13,자료실!D335)","v":0},{"$f":"COUNTIF(번호추출!$N$13:$S$13,자료실!E335)","v":0},{"$f":"COUNTIF(번호추출!$N$13:$S$13,자료실!F335)","v":0},{"$f":"COUNTIF(번호추출!$N$13:$S$13,자료실!G335)","v":0},{"$f":"COUNTIF(번호추출!$N$13:$S$13,자료실!H335)","v":0},{"$f":"COUNTIF(번호추출!$N$13:$S$13,I335)","v":0},0,0,0,0,0,0,0,{"$f":"IF(6=U335,\"1등\",IF(13=U335,\"1등\",0))","v":0},0]
[334,"2009.04.25",13,15,21,29,39,43,33,null,null,334,{"$f":"COUNTIF(번호추출!$N$13:$S$13,자료실!C336)","v":0},{"$f":"COUNTIF(번호추출!$N$13:$S$13,자료실!D336)","v":1},{"$f":"COUNTIF(번호추출!$N$13:$S$13,자료실!E336)","v":0},{"$f":"COUNTIF(번호추출!$N$13:$S$13,자료실!F336)","v":0},{"$f":"COUNTIF(번호추출!$N$13:$S$13,자료실!G336)","v":0},{"$f":"COUNTIF(번호추출!$N$13:$S$13,자료실!H336)","v":0},{"$f":"COUNTIF(번호추출!$N$13:$S$13,I336)","v":1},1,2,"꽝","꽝",0,0,0,{"$f":"IF(6=U336,\"1등\",IF(13=U336,\"1등\",0))","v":0},0]
[335,"2009.05.02",5,9,16,23,26,45,21,null,null,335,{"$f":"COUNTIF(번호추출!$N$13:$S$13,자료실!C337)","v":0},{"$f":"COUNTIF(번호추출!$N$13:$S$13,자료실!D337)","v":0},{"$f":"COUNTIF(번호추출!$N$13:$S$13,자료실!E337)","v":0},{"$f":"COUNTIF(번호추출!$N$13:$S$13,자료실!F337)","v":0},{"$f":"COUNTIF(번호추출!$N$13:$S$13,자료실!G337)","v":0},{"$f":"COUNTIF(번호추출!$N$13:$S$13,자료실!H337)","v":1},{"$f":"COUNTIF(번호추출!$N$13:$S$13,I337)","v":0},1,1,"꽝",0,0,0,0,{"$f":"IF(6=U337,\"1등\",IF(13=U337,\"1등\",0))","v":0},0]
[336,"2009.05.09",3,5,20,34,35,44,16,null,null,336,{"$f":"COUNTIF(번호추출!$N$13:$S$13,자료실!C338)","v":0},{"$f":"COUNTIF(번호추출!$N$13:$S$13,자료실!D338)","v":0},{"$f":"COUNTIF(번호추출!$N$13:$S$13,자료실!E338)","v":0},{"$f":"COUNTIF(번호추출!$N$13:$S$13,자료실!F338)","v":0},{"$f":"COUNTIF(번호추출!$N$13:$S$13,자료실!G338)","v":0},{"$f":"COUNTIF(번호추출!$N$13:$S$13,자료실!H338)","v":0},{"$f":"COUNTIF(번호추출!$N$13:$S$13,I338)","v":0},0,0,0,0,0,0,0,{"$f":"IF(6=U338,\"1등\",IF(13=U338,\"1등\",0))","v":0},0]
[337,"2009.05.16",1,5,14,18,32,37,4,null,null,337,{"$f":"COUNTIF(번호추출!$N$13:$S$13,자료실!C339)","v":0},{"$f":"COUNTIF(번호추출!$N$13:$S$13,자료실!D339)","v":0},{"$f":"COUNTIF(번호추출!$N$13:$S$13,자료실!E339)","v":0},{"$f":"COUNTIF(번호추출!$N$13:$S$13,자료실!F339)","v":1},{"$f":"COUNTIF(번호추출!$N$13:$S$13,자료실!G339)","v":0},{"$f":"COUNTIF(번호추출!$N$13:$S$13,자료실!H339)","v":0},{"$f":"COUNTIF(번호추출!$N$13:$S$13,I339)","v":1},1,2,"꽝","꽝",0,0,0,{"$f":"IF(6=U339,\"1등\",IF(13=U339,\"1등\",0))","v":0},0]
[338,"2009.05.23",2,13,34,38,42,45,16,null,null,338,{"$f":"COUNTIF(번호추출!$N$13:$S$13,자료실!C340)","v":0},{"$f":"COUNTIF(번호추출!$N$13:$S$13,자료실!D340)","v":0},{"$f":"COUNTIF(번호추출!$N$13:$S$13,자료실!E340)","v":0},{"$f":"COUNTIF(번호추출!$N$13:$S$13,자료실!F340)","v":0},{"$f":"COUNTIF(번호추출!$N$13:$S$13,자료실!G340)","v":0},{"$f":"COUNTIF(번호추출!$N$13:$S$13,자료실!H340)","v":1},{"$f":"COUNTIF(번호추출!$N$13:$S$13,I340)","v":0},1,1,"꽝",0,0,0,0,{"$f":"IF(6=U340,\"1등\",IF(13=U340,\"1등\",0))","v":0},0]
[339,"2009.05.30",6,8,14,21,30,37,45,null,null,339,{"$f":"COUNTIF(번호추출!$N$13:$S$13,자료실!C341)","v":0},{"$f":"COUNTIF(번호추출!$N$13:$S$13,자료실!D341)","v":0},{"$f":"COUNTIF(번호추출!$N$13:$S$13,자료실!E341)","v":0},{"$f":"COUNTIF(번호추출!$N$13:$S$13,자료실!F341)","v":0},{"$f":"COUNTIF(번호추출!$N$13:$S$13,자료실!G341)","v":0},{"$f":"COUNTIF(번호추출!$N$13:$S$13,자료실!H341)","v":0},{"$f":"COUNTIF(번호추출!$N$13:$S$13,I341)","v":1},0,1,"꽝",0,0,0,0,{"$f":"IF(6=U341,\"1등\",IF(13=U341,\"1등\",0))","v":0},0]
[340,"2009.06.06",18,24,26,29,34,38,32,null,null,340,{"$f":"COUNTIF(번호추출!$N$13:$S$13,자료실!C342)","v":1},{"$f":"COUNTIF(번호추출!$N$13:$S$13,자료실!D342)","v":0},{"$f":"COUNTIF(번호추출!$N$13:$S$13,자료실!E342)","v":0},{"$f":"COUNTIF(번호추출!$N$13:$S$13,자료실!F342)","v":0},{"$f":"COUNTIF(번호추출!$N$13:$S$13,자료실!G342)","v":0},{"$f":"COUNTIF(번호추출!$N$13:$S$13,자료실!H342)","v":0},{"$f":"COUNTIF(번호추출!$N$13:$S$13,I342)","v":0},1,1,"꽝",0,0,0,0,{"$f":"IF(6=U342,\"1등\",IF(13=U342,\"1등\",0))","v":0},0]
[341,"2009.06.13",1,8,19,34,39,43,41,null,null,341,{"$f":"COUNTIF(번호추출!$N$13:$S$13,자료실!C343)","v":0},{"$f":"COUNTIF(번호추출!$N$13:$S$13,자료실!D343)","v":0},{"$f":"COUNTIF(번호추출!$N$13:$S$13,자료실!E343)","v":0},{"$f":"COUNTIF(번호추출!$N$13:$S$13,자료실!F343)","v":0},{"$f":"COUNTIF(번호추출!$N$13:$S$13,자료실!G343)","v":0},{"$f":"COUNTIF(번호추출!$N$13:$S$13,자료실!H343)","v":0},{"$f":"COUNTIF(번호추출!$N$13:$S$13,I343)","v":0},0,0,0,0,0,0,0,{"$f":"IF(6=U343,\"1등\",IF(13=U343,\"1등\",0))","v":0},0]
[342,"2009.06.20",1,13,14,33,34,43,25,null,null,342,{"$f":"COUNTIF(번호추출!$N$13:$S$13,자료실!C344)","v":0},{"$f":"COUNTIF(번호추출!$N$13:$S$13,자료실!D344)","v":0},{"$f":"COUNTIF(번호추출!$N$13:$S$13,자료실!E344)","v":0},{"$f":"COUNTIF(번호추출!$N$13:$S$13,자료실!F344)","v":1},{"$f":"COUNTIF(번호추출!$N$13:$S$13,자료실!G344)","v":0},{"$f":"COUNTIF(번호추출!$N$13:$S$13,자료실!H344)","v":0},{"$f":"COUNTIF(번호추출!$N$13:$S$13,I344)","v":1},1,2,"꽝","꽝",0,0,0,{"$f":"IF(6=U344,\"1등\",IF(13=U344,\"1등\",0))","v":0},0]
[343,"2009.06.27",1,10,17,29,31,43,15,null,null,343,{"$f":"COUNTIF(번호추출!$N$13:$S$13,자료실!C345)","v":0},{"$f":"COUNTIF(번호추출!$N$13:$S$13,자료실!D345)","v":0},{"$f":"COUNTIF(번호추출!$N$13:$S$13,자료실!E345)","v":0},{"$f":"COUNTIF(번호추출!$N$13:$S$13,자료실!F345)","v":0},{"$f":"COUNTIF(번호추출!$N$13:$S$13,자료실!G345)","v":0},{"$f":"COUNTIF(번호추출!$N$13:$S$13,자료실!H345)","v":0},{"$f":"COUNTIF(번호추출!$N$13:$S$13,I345)","v":1},0,1,"꽝",0,0,0,0,{"$f":"IF(6=U345,\"1등\",IF(13=U345,\"1등\",0))","v":0},0]
[344,"2009.07.04",1,2,15,28,34,45,38,null,null,344,{"$f":"COUNTIF(번호추출!$N$13:$S$13,자료실!C346)","v":0},{"$f":"COUNTIF(번호추출!$N$13:$S$13,자료실!D346)","v":0},{"$f":"COUNTIF(번호추출!$N$13:$S$13,자료실!E346)","v":1},{"$f":"COUNTIF(번호추출!$N$13:$S$13,자료실!F346)","v":0},{"$f":"COUNTIF(번호추출!$N$13:$S$13,자료실!G346)","v":0},{"$f":"COUNTIF(번호추출!$N$13:$S$13,자료실!H346)","v":1},{"$f":"COUNTIF(번호추출!$N$13:$S$13,I346)","v":0},2,2,"꽝","꽝",0,0,0,{"$f":"IF(6=U346,\"1등\",IF(13=U346,\"1등\",0))","v":0},0]
[345,"2009.07.11",15,20,23,29,39,42,2,null,null,{"$f":"A347","v":345},{"$f":"COUNTIF(번호추출!$N$13:$S$13,자료실!C347)","v":1},{"$f":"COUNTIF(번호추출!$N$13:$S$13,자료실!D347)","v":0},{"$f":"COUNTIF(번호추출!$N$13:$S$13,자료실!E347)","v":0},{"$f":"COUNTIF(번호추출!$N$13:$S$13,자료실!F347)","v":0},{"$f":"COUNTIF(번호추출!$N$13:$S$13,자료실!G347)","v":0},{"$f":"COUNTIF(번호추출!$N$13:$S$13,자료실!H347)","v":0},{"$f":"COUNTIF(번호추출!$N$13:$S$13,I347)","v":0},{"$f":"SUM(M347:R347)","v":1},{"$f":"SUM(M347:S347)","v":1},"꽝",0,0,0,0,{"$f":"IF(6=U347,\"1등\",IF(13=U347,\"1등\",0))","v":0},0]
[346,"2009.07.18",5,13,14,22,44,45,33,null,null,346,{"$f":"COUNTIF(번호추출!$N$13:$S$13,자료실!C348)","v":0},{"$f":"COUNTIF(번호추출!$N$13:$S$13,자료실!D348)","v":0},{"$f":"COUNTIF(번호추출!$N$13:$S$13,자료실!E348)","v":0},{"$f":"COUNTIF(번호추출!$N$13:$S$13,자료실!F348)","v":0},{"$f":"COUNTIF(번호추출!$N$13:$S$13,자료실!G348)","v":0},{"$f":"COUNTIF(번호추출!$N$13:$S$13,자료실!H348)","v":1},{"$f":"COUNTIF(번호추출!$N$13:$S$13,I348)","v":1},1,2,"꽝","꽝",0,0,0,{"$f":"IF(6=U348,\"1등\",IF(13=U348,\"1등\",0))","v":0},0]
[347,"2009.07.25",3,8,13,27,32,42,10,null,null,347,{"$f":"COUNTIF(번호추출!$N$13:$S$13,자료실!C349)","v":0},{"$f":"COUNTIF(번호추출!$N$13:$S$13,자료실!D349)","v":0},{"$f":"COUNTIF(번호추출!$N$13:$S$13,자료실!E349)","v":0},{"$f":"COUNTIF(번호추출!$N$13:$S$13,자료실!F349)","v":0},{"$f":"COUNTIF(번호추출!$N$13:$S$13,자료실!G349)","v":0},{"$f":"COUNTIF(번호추출!$N$13:$S$13,자료실!H349)","v":0},{"$f":"COUNTIF(번호추출!$N$13:$S$13,I349)","v":0},0,0,0,0,0,0,0,{"$f":"IF(6=U349,\"1등\",IF(13=U349,\"1등\",0))","v":0},0]
[348,"2009.08.01",3,14,17,20,24,31,34,null,null,348,{"$f":"COUNTIF(번호추출!$N$13:$S$13,자료실!C350)","v":0},{"$f":"COUNTIF(번호추출!$N$13:$S$13,자료실!D350)","v":0},{"$f":"COUNTIF(번호추출!$N$13:$S$13,자료실!E350)","v":0},{"$f":"COUNTIF(번호추출!$N$13:$S$13,자료실!F350)","v":0},{"$f":"COUNTIF(번호추출!$N$13:$S$13,자료실!G350)","v":0},{"$f":"COUNTIF(번호추출!$N$13:$S$13,자료실!H350)","v":0},{"$f":"COUNTIF(번호추출!$N$13:$S$13,I350)","v":0},0,0,0,0,0,0,0,{"$f":"IF(6=U350,\"1등\",IF(13=U350,\"1등\",0))","v":0},0]
[349,"2009.08.08",5,13,14,20,24,25,36,null,null,349,{"$f":"COUNTIF(번호추출!$N$13:$S$13,자료실!C351)","v":0},{"$f":"COUNTIF(번호추출!$N$13:$S$13,자료실!D351)","v":0},{"$f":"COUNTIF(번호추출!$N$13:$S$13,자료실!E351)","v":0},{"$f":"COUNTIF(번호추출!$N$13:$S$13,자료실!F351)","v":0},{"$f":"COUNTIF(번호추출!$N$13:$S$13,자료실!G351)","v":0},{"$f":"COUNTIF(번호추출!$N$13:$S$13,자료실!H351)","v":1},{"$f":"COUNTIF(번호추출!$N$13:$S$13,I351)","v":0},1,1,"꽝",0,0,0,0,{"$f":"IF(6=U351,\"1등\",IF(13=U351,\"1등\",0))","v":0},0]
[350,"2009.08.15",1,8,18,24,29,33,35,null,null,350,{"$f":"COUNTIF(번호추출!$N$13:$S$13,자료실!C352)","v":0},{"$f":"COUNTIF(번호추출!$N$13:$S$13,자료실!D352)","v":0},{"$f":"COUNTIF(번호추출!$N$13:$S$13,자료실!E352)","v":1},{"$f":"COUNTIF(번호추출!$N$13:$S$13,자료실!F352)","v":0},{"$f":"COUNTIF(번호추출!$N$13:$S$13,자료실!G352)","v":0},{"$f":"COUNTIF(번호추출!$N$13:$S$13,자료실!H352)","v":1},{"$f":"COUNTIF(번호추출!$N$13:$S$13,I352)","v":0},2,2,"꽝","꽝",0,0,0,{"$f":"IF(6=U352,\"1등\",IF(13=U352,\"1등\",0))","v":0},0]
[351,"2009.08.22",5,25,27,29,34,36,33,null,null,351,{"$f":"COUNTIF(번호추출!$N$13:$S$13,자료실!C353)","v":0},{"$f":"COUNTIF(번호추출!$N$13:$S$13,자료실!D353)","v":1},{"$f":"COUNTIF(번호추출!$N$13:$S$13,자료실!E353)","v":0},{"$f":"COUNTIF(번호추출!$N$13:$S$13,자료실!F353)","v":0},{"$f":"COUNTIF(번호추출!$N$13:$S$13,자료실!G353)","v":0},{"$f":"COUNTIF(번호추출!$N$13:$S$13,자료실!H353)","v":0},{"$f":"COUNTIF(번호추출!$N$13:$S$13,I353)","v":1},1,2,"꽝","꽝",0,0,0,{"$f":"IF(6=U353,\"1등\",IF(13=U353,\"1등\",0))","v":0},0]
[352,"2009.08.29",5,16,17,20,26,41,24,null,null,352,{"$f":"COUNTIF(번호추출!$N$13:$S$13,자료실!C354)","v":0},{"$f":"COUNTIF(번호추출!$N$13:$S$13,자료실!D354)","v":0},{"$f":"COUNTIF(번호추출!$N$13:$S$13,자료실!E354)","v":0},{"$f":"COUNTIF(번호추출!$N$13:$S$13,자료실!F354)","v":0},{"$f":"COUNTIF(번호추출!$N$13:$S$13,자료실!G354)","v":0},{"$f":"COUNTIF(번호추출!$N$13:$S$13,자료실!H354)","v":0},{"$f":"COUNTIF(번호추출!$N$13:$S$13,I354)","v":0},0,0,0,0,0,0,0,{"$f":"IF(6=U354,\"1등\",IF(13=U354,\"1등\",0))","v":0},0]
[353,"2009.09.05",11,16,19,22,29,36,26,null,null,353,{"$f":"COUNTIF(번호추출!$N$13:$S$13,자료실!C355)","v":0},{"$f":"COUNTIF(번호추출!$N$13:$S$13,자료실!D355)","v":0},{"$f":"COUNTIF(번호추출!$N$13:$S$13,자료실!E355)","v":0},{"$f":"COUNTIF(번호추출!$N$13:$S$13,자료실!F355)","v":0},{"$f":"COUNTIF(번호추출!$N$13:$S$13,자료실!G355)","v":0},{"$f":"COUNTIF(번호추출!$N$13:$S$13,자료실!H355)","v":0},{"$f":"COUNTIF(번호추출!$N$13:$S$13,I355)","v":0},0,0,0,0,0,0,0,{"$f":"IF(6=U355,\"1등\",IF(13=U355,\"1등\",0))","v":0},0]
[354,"2009.09.12",14,19,36,43,44,45,1,null,null,354,{"$f":"COUNTIF(번호추출!$N$13:$S$13,자료실!C356)","v":0},{"$f":"COUNTIF(번호추출!$N$13:$S$13,자료실!D356)","v":0},{"$f":"COUNTIF(번호추출!$N$13:$S$13,자료실!E356)","v":0},{"$f":"COUNTIF(번호추출!$N$13:$S$13,자료실!F356)","v":0},{"$f":"COUNTIF(번호추출!$N$13:$S$13,자료실!G356)","v":0},{"$f":"COUNTIF(번호추출!$N$13:$S$13,자료실!H356)","v":1},{"$f":"COUNTIF(번호추출!$N$13:$S$13,I356)","v":0},1,1,"꽝",0,0,0,0,{"$f":"IF(6=U356,\"1등\",IF(13=U356,\"1등\",0))","v":0},0]
[355,"2009.09.19",5,8,29,30,35,44,38,null,null,355,{"$f":"COUNTIF(번호추출!$N$13:$S$13,자료실!C357)","v":0},{"$f":"COUNTIF(번호추출!$N$13:$S$13,자료실!D357)","v":0},{"$f":"COUNTIF(번호추출!$N$13:$S$13,자료실!E357)","v":0},{"$f":"COUNTIF(번호추출!$N$13:$S$13,자료실!F357)","v":0},{"$f":"COUNTIF(번호추출!$N$13:$S$13,자료실!G357)","v":0},{"$f":"COUNTIF(번호추출!$N$13:$S$13,자료실!H357)","v":0},{"$f":"COUNTIF(번호추출!$N$13:$S$13,I357)","v":0},0,0,0,0,0,0,0,{"$f":"IF(6=U357,\"1등\",IF(13=U357,\"1등\",0))","v":0},0]
[356,"2009.09.26",2,8,14,25,29,45,24,null,null,356,{"$f":"COUNTIF(번호추출!$N$13:$S$13,자료실!C358)","v":0},{"$f":"COUNTIF(번호추출!$N$13:$S$13,자료실!D358)","v":0},{"$f":"COUNTIF(번호추출!$N$13:$S$13,자료실!E358)","v":0},{"$f":"COUNTIF(번호추출!$N$13:$S$13,자료실!F358)","v":1},{"$f":"COUNTIF(번호추출!$N$13:$S$13,자료실!G358)","v":0},{"$f":"COUNTIF(번호추출!$N$13:$S$13,자료실!H358)","v":1},{"$f":"COUNTIF(번호추출!$N$13:$S$13,I358)","v":0},2,2,"꽝","꽝",0,0,0,{"$f":"IF(6=U358,\"1등\",IF(13=U358,\"1등\",0))","v":0},0]
[357,"2009.10.03",10,14,18,21,36,37,5,null,null,357,{"$f":"COUNTIF(번호추출!$N$13:$S$13,자료실!C359)","v":0},{"$f":"COUNTIF(번호추출!$N$13:$S$13,자료실!D359)","v":0},{"$f":"COUNTIF(번호추출!$N$13:$S$13,자료실!E359)","v":1},{"$f":"COUNTIF(번호추출!$N$13:$S$13,자료실!F359)","v":0},{"$f":"COUNTIF(번호추출!$N$13:$S$13,자료실!G359)","v":0},{"$f":"COUNTIF(번호추출!$N$13:$S$13,자료실!H359)","v":0},{"$f":"COUNTIF(번호추출!$N$13:$S$13,I359)","v":0},1,1,"꽝",0,0,0,0,{"$f":"IF(6=U359,\"1등\",IF(13=U359,\"1등\",0))","v":0},0]
[358,"2009.10.10",1,9,10,12,21,40,37,null,null,358,{"$f":"COUNTIF(번호추출!$N$13:$S$13,자료실!C360)","v":0},{"$f":"COUNTIF(번호추출!$N$13:$S$13,자료실!D360)","v":0},{"$f":"COUNTIF(번호추출!$N$13:$S$13,자료실!E360)","v":0},{"$f":"COUNTIF(번호추출!$N$13:$S$13,자료실!F360)","v":0},{"$f":"COUNTIF(번호추출!$N$13:$S$13,자료실!G360)","v":0},{"$f":"COUNTIF(번호추출!$N$13:$S$13,자료실!H360)","v":0},{"$f":"COUNTIF(번호추출!$N$13:$S$13,I360)","v":0},0,0,0,0,0,0,0,{"$f":"IF(6=U360,\"1등\",IF(13=U360,\"1등\",0))","v":0},0]
[359,"2009.10.17",1,10,19,20,24,40,23,null,null,359,{"$f":"COUNTIF(번호추출!$N$13:$S$13,자료실!C361)","v":0},{"$f":"COUNTIF(번호추출!$N$13:$S$13,자료실!D361)","v":0},{"$f":"COUNTIF(번호추출!$N$13:$S$13,자료실!E361)","v":0},{"$f":"COUNTIF(번호추출!$N$13:$S$13,자료실!F361)","v":0},{"$f":"COUNTIF(번호추출!$N$13:$S$13,자료실!G361)","v":0},{"$f":"COUNTIF(번호추출!$N$13:$S$13,자료실!H361)","v":0},{"$f":"COUNTIF(번호추출!$N$13:$S$13,I361)","v":0},0,0,0,0,0,0,0,{"$f":"IF(6=U361,\"1등\",IF(13=U361,\"1등\",0))","v":0},0]
[360,"2009.10.24",4,16,23,25,35,40,27,null,null,360,{"$f":"COUNTIF(번호추출!$N$13:$S$13,자료실!C362)","v":1},{"$f":"COUNTIF(번호추출!$N$13:$S$13,자료실!D362)","v":0},{"$f":"COUNTIF(번호추출!$N$13:$S$13,자료실!E362)","v":0},{"$f":"COUNTIF(번호추출!$N$13:$S$13,자료실!F362)","v":1},{"$f":"COUNTIF(번호추출!$N$13:$S$13,자료실!G362)","v":0},{"$f":"COUNTIF(번호추출!$N$13:$S$13,자료실!H362)","v":0},{"$f":"COUNTIF(번호추출!$N$13:$S$13,I362)","v":0},2,2,"꽝","꽝",0,0,0,{"$f":"IF(6=U362,\"1등\",IF(13=U362,\"1등\",0))","v":0},0]
[361,"2009.10.31",5,10,16,24,27,35,33,null,null,361,{"$f":"COUNTIF(번호추출!$N$13:$S$13,자료실!C363)","v":0},{"$f":"COUNTIF(번호추출!$N$13:$S$13,자료실!D363)","v":0},{"$f":"COUNTIF(번호추출!$N$13:$S$13,자료실!E363)","v":0},{"$f":"COUNTIF(번호추출!$N$13:$S$13,자료실!F363)","v":0},{"$f":"COUNTIF(번호추출!$N$13:$S$13,자료실!G363)","v":0},{"$f":"COUNTIF(번호추출!$N$13:$S$13,자료실!H363)","v":0},{"$f":"COUNTIF(번호추출!$N$13:$S$13,I363)","v":1},0,1,"꽝",0,0,0,0,{"$f":"IF(6=U363,\"1등\",IF(13=U363,\"1등\",0))","v":0},0]
[362,"2009.11.07",2,3,22,27,30,40,29,null,null,362,{"$f":"COUNTIF(번호추출!$N$13:$S$13,자료실!C364)","v":0},{"$f":"COUNTIF(번호추출!$N$13:$S$13,자료실!D364)","v":0},{"$f":"COUNTIF(번호추출!$N$13:$S$13,자료실!E364)","v":0},{"$f":"COUNTIF(번호추출!$N$13:$S$13,자료실!F364)","v":0},{"$f":"COUNTIF(번호추출!$N$13:$S$13,자료실!G364)","v":0},{"$f":"COUNTIF(번호추출!$N$13:$S$13,자료실!H364)","v":0},{"$f":"COUNTIF(번호추출!$N$13:$S$13,I364)","v":0},0,0,0,0,0,0,0,{"$f":"IF(6=U364,\"1등\",IF(13=U364,\"1등\",0))","v":0},0]
[363,"2009.11.14",11,12,14,21,32,38,6,null,null,363,{"$f":"COUNTIF(번호추출!$N$13:$S$13,자료실!C365)","v":0},{"$f":"COUNTIF(번호추출!$N$13:$S$13,자료실!D365)","v":0},{"$f":"COUNTIF(번호추출!$N$13:$S$13,자료실!E365)","v":0},{"$f":"COUNTIF(번호추출!$N$13:$S$13,자료실!F365)","v":0},{"$f":"COUNTIF(번호추출!$N$13:$S$13,자료실!G365)","v":0},{"$f":"COUNTIF(번호추출!$N$13:$S$13,자료실!H365)","v":0},{"$f":"COUNTIF(번호추출!$N$13:$S$13,I365)","v":0},0,0,0,0,0,0,0,{"$f":"IF(6=U365,\"1등\",IF(13=U365,\"1등\",0))","v":0},0]
[364,"2009.11.21",2,5,7,14,16,40,4,null,null,364,{"$f":"COUNTIF(번호추출!$N$13:$S$13,자료실!C366)","v":0},{"$f":"COUNTIF(번호추출!$N$13:$S$13,자료실!D366)","v":0},{"$f":"COUNTIF(번호추출!$N$13:$S$13,자료실!E366)","v":0},{"$f":"COUNTIF(번호추출!$N$13:$S$13,자료실!F366)","v":0},{"$f":"COUNTIF(번호추출!$N$13:$S$13,자료실!G366)","v":0},{"$f":"COUNTIF(번호추출!$N$13:$S$13,자료실!H366)","v":0},{"$f":"COUNTIF(번호추출!$N$13:$S$13,I366)","v":1},0,1,"꽝",0,0,0,0,{"$f":"IF(6=U366,\"1등\",IF(13=U366,\"1등\",0))","v":0},0]
[365,"2009.11.28",5,15,21,25,26,30,31,null,null,365,{"$f":"COUNTIF(번호추출!$N$13:$S$13,자료실!C367)","v":0},{"$f":"COUNTIF(번호추출!$N$13:$S$13,자료실!D367)","v":1},{"$f":"COUNTIF(번호추출!$N$13:$S$13,자료실!E367)","v":0},{"$f":"COUNTIF(번호추출!$N$13:$S$13,자료실!F367)","v":1},{"$f":"COUNTIF(번호추출!$N$13:$S$13,자료실!G367)","v":0},{"$f":"COUNTIF(번호추출!$N$13:$S$13,자료실!H367)","v":0},{"$f":"COUNTIF(번호추출!$N$13:$S$13,I367)","v":0},2,2,"꽝","꽝",0,0,0,{"$f":"IF(6=U367,\"1등\",IF(13=U367,\"1등\",0))","v":0},0]
[366,"2009.12.05",5,12,19,26,27,44,38,null,null,366,{"$f":"COUNTIF(번호추출!$N$13:$S$13,자료실!C368)","v":0},{"$f":"COUNTIF(번호추출!$N$13:$S$13,자료실!D368)","v":0},{"$f":"COUNTIF(번호추출!$N$13:$S$13,자료실!E368)","v":0},{"$f":"COUNTIF(번호추출!$N$13:$S$13,자료실!F368)","v":0},{"$f":"COUNTIF(번호추출!$N$13:$S$13,자료실!G368)","v":0},{"$f":"COUNTIF(번호추출!$N$13:$S$13,자료실!H368)","v":0},{"$f":"COUNTIF(번호추출!$N$13:$S$13,I368)","v":0},0,0,0,0,0,0,0,{"$f":"IF(6=U368,\"1등\",IF(13=U368,\"1등\",0))","v":0},0]
[367,"2009.12.12",3,22,25,29,32,44,19,null,null,367,{"$f":"COUNTIF(번호추출!$N$13:$S$13,자료실!C369)","v":0},{"$f":"COUNTIF(번호추출!$N$13:$S$13,자료실!D369)","v":0},{"$f":"COUNTIF(번호추출!$N$13:$S$13,자료실!E369)","v":1},{"$f":"COUNTIF(번호추출!$N$13:$S$13,자료실!F369)","v":0},{"$f":"COUNTIF(번호추출!$N$13:$S$13,자료실!G369)","v":0},{"$f":"COUNTIF(번호추출!$N$13:$S$13,자료실!H369)","v":0},{"$f":"COUNTIF(번호추출!$N$13:$S$13,I369)","v":0},1,1,"꽝",0,0,0,0,{"$f":"IF(6=U369,\"1등\",IF(13=U369,\"1등\",0))","v":0},0]
[368,"2009.12.19",11,21,24,30,39,45,26,null,null,368,{"$f":"COUNTIF(번호추출!$N$13:$S$13,자료실!C370)","v":0},{"$f":"COUNTIF(번호추출!$N$13:$S$13,자료실!D370)","v":0},{"$f":"COUNTIF(번호추출!$N$13:$S$13,자료실!E370)","v":0},{"$f":"COUNTIF(번호추출!$N$13:$S$13,자료실!F370)","v":0},{"$f":"COUNTIF(번호추출!$N$13:$S$13,자료실!G370)","v":0},{"$f":"COUNTIF(번호추출!$N$13:$S$13,자료실!H370)","v":1},{"$f":"COUNTIF(번호추출!$N$13:$S$13,I370)","v":0},1,1,"꽝",0,0,0,0,{"$f":"IF(6=U370,\"1등\",IF(13=U370,\"1등\",0))","v":0},0]
[369,"2009.12.26",17,20,35,36,41,43,21,null,null,369,{"$f":"COUNTIF(번호추출!$N$13:$S$13,자료실!C371)","v":0},{"$f":"COUNTIF(번호추출!$N$13:$S$13,자료실!D371)","v":0},{"$f":"COUNTIF(번호추출!$N$13:$S$13,자료실!E371)","v":0},{"$f":"COUNTIF(번호추출!$N$13:$S$13,자료실!F371)","v":0},{"$f":"COUNTIF(번호추출!$N$13:$S$13,자료실!G371)","v":0},{"$f":"COUNTIF(번호추출!$N$13:$S$13,자료실!H371)","v":0},{"$f":"COUNTIF(번호추출!$N$13:$S$13,I371)","v":0},0,0,0,0,0,0,0,{"$f":"IF(6=U371,\"1등\",IF(13=U371,\"1등\",0))","v":0},0]
[370,"2010.01.02",16,18,24,42,44,45,17,null,null,370,{"$f":"COUNTIF(번호추출!$N$13:$S$13,자료실!C372)","v":0},{"$f":"COUNTIF(번호추출!$N$13:$S$13,자료실!D372)","v":1},{"$f":"COUNTIF(번호추출!$N$13:$S$13,자료실!E372)","v":0},{"$f":"COUNTIF(번호추출!$N$13:$S$13,자료실!F372)","v":0},{"$f":"COUNTIF(번호추출!$N$13:$S$13,자료실!G372)","v":0},{"$f":"COUNTIF(번호추출!$N$13:$S$13,자료실!H372)","v":1},{"$f":"COUNTIF(번호추출!$N$13:$S$13,I372)","v":0},2,2,"꽝","꽝",0,0,0,{"$f":"IF(6=U372,\"1등\",IF(13=U372,\"1등\",0))","v":0},0]
[371,"2010.01.09",7,9,15,26,27,42,18,null,null,371,{"$f":"COUNTIF(번호추출!$N$13:$S$13,자료실!C373)","v":0},{"$f":"COUNTIF(번호추출!$N$13:$S$13,자료실!D373)","v":0},{"$f":"COUNTIF(번호추출!$N$13:$S$13,자료실!E373)","v":1},{"$f":"COUNTIF(번호추출!$N$13:$S$13,자료실!F373)","v":0},{"$f":"COUNTIF(번호추출!$N$13:$S$13,자료실!G373)","v":0},{"$f":"COUNTIF(번호추출!$N$13:$S$13,자료실!H373)","v":0},{"$f":"COUNTIF(번호추출!$N$13:$S$13,I373)","v":1},1,2,"꽝","꽝",0,0,0,{"$f":"IF(6=U373,\"1등\",IF(13=U373,\"1등\",0))","v":0},0]
[372,"2010.01.16",8,11,14,16,18,21,13,null,null,372,{"$f":"COUNTIF(번호추출!$N$13:$S$13,자료실!C374)","v":0},{"$f":"COUNTIF(번호추출!$N$13:$S$13,자료실!D374)","v":0},{"$f":"COUNTIF(번호추출!$N$13:$S$13,자료실!E374)","v":0},{"$f":"COUNTIF(번호추출!$N$13:$S$13,자료실!F374)","v":0},{"$f":"COUNTIF(번호추출!$N$13:$S$13,자료실!G374)","v":1},{"$f":"COUNTIF(번호추출!$N$13:$S$13,자료실!H374)","v":0},{"$f":"COUNTIF(번호추출!$N$13:$S$13,I374)","v":0},1,1,"꽝",0,0,0,0,{"$f":"IF(6=U374,\"1등\",IF(13=U374,\"1등\",0))","v":0},0]
[373,"2010.01.23",15,26,37,42,43,45,9,null,null,373,{"$f":"COUNTIF(번호추출!$N$13:$S$13,자료실!C375)","v":1},{"$f":"COUNTIF(번호추출!$N$13:$S$13,자료실!D375)","v":0},{"$f":"COUNTIF(번호추출!$N$13:$S$13,자료실!E375)","v":0},{"$f":"COUNTIF(번호추출!$N$13:$S$13,자료실!F375)","v":0},{"$f":"COUNTIF(번호추출!$N$13:$S$13,자료실!G375)","v":0},{"$f":"COUNTIF(번호추출!$N$13:$S$13,자료실!H375)","v":1},{"$f":"COUNTIF(번호추출!$N$13:$S$13,I375)","v":0},2,2,"꽝","꽝",0,0,0,{"$f":"IF(6=U375,\"1등\",IF(13=U375,\"1등\",0))","v":0},0]
[374,"2010.01.30",11,13,15,17,25,34,26,null,null,374,{"$f":"COUNTIF(번호추출!$N$13:$S$13,자료실!C376)","v":0},{"$f":"COUNTIF(번호추출!$N$13:$S$13,자료실!D376)","v":0},{"$f":"COUNTIF(번호추출!$N$13:$S$13,자료실!E376)","v":1},{"$f":"COUNTIF(번호추출!$N$13:$S$13,자료실!F376)","v":0},{"$f":"COUNTIF(번호추출!$N$13:$S$13,자료실!G376)","v":1},{"$f":"COUNTIF(번호추출!$N$13:$S$13,자료실!H376)","v":0},{"$f":"COUNTIF(번호추출!$N$13:$S$13,I376)","v":0},2,2,"꽝","꽝",0,0,0,{"$f":"IF(6=U376,\"1등\",IF(13=U376,\"1등\",0))","v":0},0]
[375,"2010.02.06",4,8,19,25,27,45,7,null,null,375,{"$f":"COUNTIF(번호추출!$N$13:$S$13,자료실!C377)","v":1},{"$f":"COUNTIF(번호추출!$N$13:$S$13,자료실!D377)","v":0},{"$f":"COUNTIF(번호추출!$N$13:$S$13,자료실!E377)","v":0},{"$f":"COUNTIF(번호추출!$N$13:$S$13,자료실!F377)","v":1},{"$f":"COUNTIF(번호추출!$N$13:$S$13,자료실!G377)","v":0},{"$f":"COUNTIF(번호추출!$N$13:$S$13,자료실!H377)","v":1},{"$f":"COUNTIF(번호추출!$N$13:$S$13,I377)","v":0},3,3,"꽝","꽝","5등",0,0,{"$f":"IF(6=U377,\"1등\",IF(13=U377,\"1등\",0))","v":0},0]
[376,"2010.02.13",1,11,13,24,28,40,7,null,null,376,{"$f":"COUNTIF(번호추출!$N$13:$S$13,자료실!C378)","v":0},{"$f":"COUNTIF(번호추출!$N$13:$S$13,자료실!D378)","v":0},{"$f":"COUNTIF(번호추출!$N$13:$S$13,자료실!E378)","v":0},{"$f":"COUNTIF(번호추출!$N$13:$S$13,자료실!F378)","v":0},{"$f":"COUNTIF(번호추출!$N$13:$S$13,자료실!G378)","v":0},{"$f":"COUNTIF(번호추출!$N$13:$S$13,자료실!H378)","v":0},{"$f":"COUNTIF(번호추출!$N$13:$S$13,I378)","v":0},0,0,0,0,0,0,0,{"$f":"IF(6=U378,\"1등\",IF(13=U378,\"1등\",0))","v":0},0]
[377,"2010.02.20",6,22,29,37,43,45,23,null,null,377,{"$f":"COUNTIF(번호추출!$N$13:$S$13,자료실!C379)","v":0},{"$f":"COUNTIF(번호추출!$N$13:$S$13,자료실!D379)","v":0},{"$f":"COUNTIF(번호추출!$N$13:$S$13,자료실!E379)","v":0},{"$f":"COUNTIF(번호추출!$N$13:$S$13,자료실!F379)","v":0},{"$f":"COUNTIF(번호추출!$N$13:$S$13,자료실!G379)","v":0},{"$f":"COUNTIF(번호추출!$N$13:$S$13,자료실!H379)","v":1},{"$f":"COUNTIF(번호추출!$N$13:$S$13,I379)","v":0},1,1,"꽝",0,0,0,0,{"$f":"IF(6=U379,\"1등\",IF(13=U379,\"1등\",0))","v":0},0]
[378,"2010.02.27",5,22,29,31,34,39,43,null,null,378,{"$f":"COUNTIF(번호추출!$N$13:$S$13,자료실!C380)","v":0},{"$f":"COUNTIF(번호추출!$N$13:$S$13,자료실!D380)","v":0},{"$f":"COUNTIF(번호추출!$N$13:$S$13,자료실!E380)","v":0},{"$f":"COUNTIF(번호추출!$N$13:$S$13,자료실!F380)","v":0},{"$f":"COUNTIF(번호추출!$N$13:$S$13,자료실!G380)","v":0},{"$f":"COUNTIF(번호추출!$N$13:$S$13,자료실!H380)","v":0},{"$f":"COUNTIF(번호추출!$N$13:$S$13,I380)","v":0},0,0,0,0,0,0,0,{"$f":"IF(6=U380,\"1등\",IF(13=U380,\"1등\",0))","v":0},0]
[379,"2010.03.06",6,10,22,31,35,40,19,null,null,379,{"$f":"COUNTIF(번호추출!$N$13:$S$13,자료실!C381)","v":0},{"$f":"COUNTIF(번호추출!$N$13:$S$13,자료실!D381)","v":0},{"$f":"COUNTIF(번호추출!$N$13:$S$13,자료실!E381)","v":0},{"$f":"COUNTIF(번호추출!$N$13:$S$13,자료실!F381)","v":0},{"$f":"COUNTIF(번호추출!$N$13:$S$13,자료실!G381)","v":0},{"$f":"COUNTIF(번호추출!$N$13:$S$13,자료실!H381)","v":0},{"$f":"COUNTIF(번호추출!$N$13:$S$13,I381)","v":0},0,0,0,0,0,0,0,{"$f":"IF(6=U381,\"1등\",IF(13=U381,\"1등\",0))","v":0},0]
[380,"2010.03.13",1,2,8,17,26,37,27,null,null,380,{"$f":"COUNTIF(번호추출!$N$13:$S$13,자료실!C382)","v":0},{"$f":"COUNTIF(번호추출!$N$13:$S$13,자료실!D382)","v":0},{"$f":"COUNTIF(번호추출!$N$13:$S$13,자료실!E382)","v":0},{"$f":"COUNTIF(번호추출!$N$13:$S$13,자료실!F382)","v":0},{"$f":"COUNTIF(번호추출!$N$13:$S$13,자료실!G382)","v":0},{"$f":"COUNTIF(번호추출!$N$13:$S$13,자료실!H382)","v":0},{"$f":"COUNTIF(번호추출!$N$13:$S$13,I382)","v":0},0,0,0,0,0,0,0,{"$f":"IF(6=U382,\"1등\",IF(13=U382,\"1등\",0))","v":0},0]
[381,"2010.03.20",1,5,10,12,16,20,11,null,null,381,{"$f":"COUNTIF(번호추출!$N$13:$S$13,자료실!C383)","v":0},{"$f":"COUNTIF(번호추출!$N$13:$S$13,자료실!D383)","v":0},{"$f":"COUNTIF(번호추출!$N$13:$S$13,자료실!E383)","v":0},{"$f":"COUNTIF(번호추출!$N$13:$S$13,자료실!F383)","v":0},{"$f":"COUNTIF(번호추출!$N$13:$S$13,자료실!G383)","v":0},{"$f":"COUNTIF(번호추출!$N$13:$S$13,자료실!H383)","v":0},{"$f":"COUNTIF(번호추출!$N$13:$S$13,I383)","v":0},0,0,0,0,0,0,0,{"$f":"IF(6=U383,\"1등\",IF(13=U383,\"1등\",0))","v":0},0]
[382,"2010.03.27",10,15,22,24,27,42,19,null,null,382,{"$f":"COUNTIF(번호추출!$N$13:$S$13,자료실!C384)","v":0},{"$f":"COUNTIF(번호추출!$N$13:$S$13,자료실!D384)","v":1},{"$f":"COUNTIF(번호추출!$N$13:$S$13,자료실!E384)","v":0},{"$f":"COUNTIF(번호추출!$N$13:$S$13,자료실!F384)","v":0},{"$f":"COUNTIF(번호추출!$N$13:$S$13,자료실!G384)","v":0},{"$f":"COUNTIF(번호추출!$N$13:$S$13,자료실!H384)","v":0},{"$f":"COUNTIF(번호추출!$N$13:$S$13,I384)","v":0},1,1,"꽝",0,0,0,0,{"$f":"IF(6=U384,\"1등\",IF(13=U384,\"1등\",0))","v":0},0]
[383,"2010.04.03",4,15,28,33,37,40,25,null,null,383,{"$f":"COUNTIF(번호추출!$N$13:$S$13,자료실!C385)","v":1},{"$f":"COUNTIF(번호추출!$N$13:$S$13,자료실!D385)","v":1},{"$f":"COUNTIF(번호추출!$N$13:$S$13,자료실!E385)","v":0},{"$f":"COUNTIF(번호추출!$N$13:$S$13,자료실!F385)","v":1},{"$f":"COUNTIF(번호추출!$N$13:$S$13,자료실!G385)","v":0},{"$f":"COUNTIF(번호추출!$N$13:$S$13,자료실!H385)","v":0},{"$f":"COUNTIF(번호추출!$N$13:$S$13,I385)","v":1},3,4,"꽝","꽝","5등","4등",0,{"$f":"IF(6=U385,\"1등\",IF(13=U385,\"1등\",0))","v":0},0]
[384,"2010.04.10",11,22,24,32,36,38,7,null,null,384,{"$f":"COUNTIF(번호추출!$N$13:$S$13,자료실!C386)","v":0},{"$f":"COUNTIF(번호추출!$N$13:$S$13,자료실!D386)","v":0},{"$f":"COUNTIF(번호추출!$N$13:$S$13,자료실!E386)","v":0},{"$f":"COUNTIF(번호추출!$N$13:$S$13,자료실!F386)","v":0},{"$f":"COUNTIF(번호추출!$N$13:$S$13,자료실!G386)","v":0},{"$f":"COUNTIF(번호추출!$N$13:$S$13,자료실!H386)","v":0},{"$f":"COUNTIF(번호추출!$N$13:$S$13,I386)","v":0},0,0,0,0,0,0,0,{"$f":"IF(6=U386,\"1등\",IF(13=U386,\"1등\",0))","v":0},0]
[385,"2010.04.17",7,12,19,21,29,32,9,null,null,385,{"$f":"COUNTIF(번호추출!$N$13:$S$13,자료실!C387)","v":0},{"$f":"COUNTIF(번호추출!$N$13:$S$13,자료실!D387)","v":0},{"$f":"COUNTIF(번호추출!$N$13:$S$13,자료실!E387)","v":0},{"$f":"COUNTIF(번호추출!$N$13:$S$13,자료실!F387)","v":0},{"$f":"COUNTIF(번호추출!$N$13:$S$13,자료실!G387)","v":0},{"$f":"COUNTIF(번호추출!$N$13:$S$13,자료실!H387)","v":0},{"$f":"COUNTIF(번호추출!$N$13:$S$13,I387)","v":0},0,0,0,0,0,0,0,{"$f":"IF(6=U387,\"1등\",IF(13=U387,\"1등\",0))","v":0},0]
[386,"2010.04.24",4,7,10,19,31,40,26,null,null,386,{"$f":"COUNTIF(번호추출!$N$13:$S$13,자료실!C388)","v":1},{"$f":"COUNTIF(번호추출!$N$13:$S$13,자료실!D388)","v":0},{"$f":"COUNTIF(번호추출!$N$13:$S$13,자료실!E388)","v":0},{"$f":"COUNTIF(번호추출!$N$13:$S$13,자료실!F388)","v":0},{"$f":"COUNTIF(번호추출!$N$13:$S$13,자료실!G388)","v":0},{"$f":"COUNTIF(번호추출!$N$13:$S$13,자료실!H388)","v":0},{"$f":"COUNTIF(번호추출!$N$13:$S$13,I388)","v":0},1,1,"꽝",0,0,0,0,{"$f":"IF(6=U388,\"1등\",IF(13=U388,\"1등\",0))","v":0},0]
[387,"2010.05.01",1,26,31,34,40,43,20,null,null,387,{"$f":"COUNTIF(번호추출!$N$13:$S$13,자료실!C389)","v":0},{"$f":"COUNTIF(번호추출!$N$13:$S$13,자료실!D389)","v":0},{"$f":"COUNTIF(번호추출!$N$13:$S$13,자료실!E389)","v":0},{"$f":"COUNTIF(번호추출!$N$13:$S$13,자료실!F389)","v":0},{"$f":"COUNTIF(번호추출!$N$13:$S$13,자료실!G389)","v":0},{"$f":"COUNTIF(번호추출!$N$13:$S$13,자료실!H389)","v":0},{"$f":"COUNTIF(번호추출!$N$13:$S$13,I389)","v":0},0,0,0,0,0,0,0,{"$f":"IF(6=U389,\"1등\",IF(13=U389,\"1등\",0))","v":0},0]
[388,"2010.05.08",1,8,9,17,29,32,45,null,null,388,{"$f":"COUNTIF(번호추출!$N$13:$S$13,자료실!C390)","v":0},{"$f":"COUNTIF(번호추출!$N$13:$S$13,자료실!D390)","v":0},{"$f":"COUNTIF(번호추출!$N$13:$S$13,자료실!E390)","v":0},{"$f":"COUNTIF(번호추출!$N$13:$S$13,자료실!F390)","v":0},{"$f":"COUNTIF(번호추출!$N$13:$S$13,자료실!G390)","v":0},{"$f":"COUNTIF(번호추출!$N$13:$S$13,자료실!H390)","v":0},{"$f":"COUNTIF(번호추출!$N$13:$S$13,I390)","v":1},0,1,"꽝",0,0,0,0,{"$f":"IF(6=U390,\"1등\",IF(13=U390,\"1등\",0))","v":0},0]
[389,"2010.05.15",7,16,18,20,23,26,3,null,null,389,{"$f":"COUNTIF(번호추출!$N$13:$S$13,자료실!C391)","v":0},{"$f":"COUNTIF(번호추출!$N$13:$S$13,자료실!D391)","v":0},{"$f":"COUNTIF(번호추출!$N$13:$S$13,자료실!E391)","v":1},{"$f":"COUNTIF(번호추출!$N$13:$S$13,자료실!F391)","v":0},{"$f":"COUNTIF(번호추출!$N$13:$S$13,자료실!G391)","v":0},{"$f":"COUNTIF(번호추출!$N$13:$S$13,자료실!H391)","v":0},{"$f":"COUNTIF(번호추출!$N$13:$S$13,I391)","v":0},1,1,"꽝",0,0,0,0,{"$f":"IF(6=U391,\"1등\",IF(13=U391,\"1등\",0))","v":0},0]
[390,"2010.05.22",16,17,28,37,39,40,15,null,null,390,{"$f":"COUNTIF(번호추출!$N$13:$S$13,자료실!C392)","v":0},{"$f":"COUNTIF(번호추출!$N$13:$S$13,자료실!D392)","v":0},{"$f":"COUNTIF(번호추출!$N$13:$S$13,자료실!E392)","v":0},{"$f":"COUNTIF(번호추출!$N$13:$S$13,자료실!F392)","v":0},{"$f":"COUNTIF(번호추출!$N$13:$S$13,자료실!G392)","v":0},{"$f":"COUNTIF(번호추출!$N$13:$S$13,자료실!H392)","v":0},{"$f":"COUNTIF(번호추출!$N$13:$S$13,I392)","v":1},0,1,"꽝",0,0,0,0,{"$f":"IF(6=U392,\"1등\",IF(13=U392,\"1등\",0))","v":0},0]
[391,"2010.05.29",10,11,18,22,28,39,30,null,null,391,{"$f":"COUNTIF(번호추출!$N$13:$S$13,자료실!C393)","v":0},{"$f":"COUNTIF(번호추출!$N$13:$S$13,자료실!D393)","v":0},{"$f":"COUNTIF(번호추출!$N$13:$S$13,자료실!E393)","v":1},{"$f":"COUNTIF(번호추출!$N$13:$S$13,자료실!F393)","v":0},{"$f":"COUNTIF(번호추출!$N$13:$S$13,자료실!G393)","v":0},{"$f":"COUNTIF(번호추출!$N$13:$S$13,자료실!H393)","v":0},{"$f":"COUNTIF(번호추출!$N$13:$S$13,I393)","v":0},1,1,"꽝",0,0,0,0,{"$f":"IF(6=U393,\"1등\",IF(13=U393,\"1등\",0))","v":0},0]
[392,"2010.06.05",1,3,7,8,24,42,43,null,null,392,{"$f":"COUNTIF(번호추출!$N$13:$S$13,자료실!C394)","v":0},{"$f":"COUNTIF(번호추출!$N$13:$S$13,자료실!D394)","v":0},{"$f":"COUNTIF(번호추출!$N$13:$S$13,자료실!E394)","v":0},{"$f":"COUNTIF(번호추출!$N$13:$S$13,자료실!F394)","v":0},{"$f":"COUNTIF(번호추출!$N$13:$S$13,자료실!G394)","v":0},{"$f":"COUNTIF(번호추출!$N$13:$S$13,자료실!H394)","v":0},{"$f":"COUNTIF(번호추출!$N$13:$S$13,I394)","v":0},0,0,0,0,0,0,0,{"$f":"IF(6=U394,\"1등\",IF(13=U394,\"1등\",0))","v":0},0]
[393,"2010.06.12",9,16,28,40,41,43,21,null,null,393,{"$f":"COUNTIF(번호추출!$N$13:$S$13,자료실!C395)","v":0},{"$f":"COUNTIF(번호추출!$N$13:$S$13,자료실!D395)","v":0},{"$f":"COUNTIF(번호추출!$N$13:$S$13,자료실!E395)","v":0},{"$f":"COUNTIF(번호추출!$N$13:$S$13,자료실!F395)","v":0},{"$f":"COUNTIF(번호추출!$N$13:$S$13,자료실!G395)","v":0},{"$f":"COUNTIF(번호추출!$N$13:$S$13,자료실!H395)","v":0},{"$f":"COUNTIF(번호추출!$N$13:$S$13,I395)","v":0},0,0,0,0,0,0,0,{"$f":"IF(6=U395,\"1등\",IF(13=U395,\"1등\",0))","v":0},0]
[394,"2010.06.19",1,13,20,22,25,28,15,null,null,394,{"$f":"COUNTIF(번호추출!$N$13:$S$13,자료실!C396)","v":0},{"$f":"COUNTIF(번호추출!$N$13:$S$13,자료실!D396)","v":0},{"$f":"COUNTIF(번호추출!$N$13:$S$13,자료실!E396)","v":0},{"$f":"COUNTIF(번호추출!$N$13:$S$13,자료실!F396)","v":0},{"$f":"COUNTIF(번호추출!$N$13:$S$13,자료실!G396)","v":1},{"$f":"COUNTIF(번호추출!$N$13:$S$13,자료실!H396)","v":0},{"$f":"COUNTIF(번호추출!$N$13:$S$13,I396)","v":1},1,2,"꽝","꽝",0,0,0,{"$f":"IF(6=U396,\"1등\",IF(13=U396,\"1등\",0))","v":0},0]
[395,"2010.06.26",11,15,20,26,31,35,7,null,null,395,{"$f":"COUNTIF(번호추출!$N$13:$S$13,자료실!C397)","v":0},{"$f":"COUNTIF(번호추출!$N$13:$S$13,자료실!D397)","v":1},{"$f":"COUNTIF(번호추출!$N$13:$S$13,자료실!E397)","v":0},{"$f":"COUNTIF(번호추출!$N$13:$S$13,자료실!F397)","v":0},{"$f":"COUNTIF(번호추출!$N$13:$S$13,자료실!G397)","v":0},{"$f":"COUNTIF(번호추출!$N$13:$S$13,자료실!H397)","v":0},{"$f":"COUNTIF(번호추출!$N$13:$S$13,I397)","v":0},1,1,"꽝",0,0,0,0,{"$f":"IF(6=U397,\"1등\",IF(13=U397,\"1등\",0))","v":0},0]
[396,"2010.07.03",18,20,31,34,40,45,30,null,null,396,{"$f":"COUNTIF(번호추출!$N$13:$S$13,자료실!C398)","v":1},{"$f":"COUNTIF(번호추출!$N$13:$S$13,자료실!D398)","v":0},{"$f":"COUNTIF(번호추출!$N$13:$S$13,자료실!E398)","v":0},{"$f":"COUNTIF(번호추출!$N$13:$S$13,자료실!F398)","v":0},{"$f":"COUNTIF(번호추출!$N$13:$S$13,자료실!G398)","v":0},{"$f":"COUNTIF(번호추출!$N$13:$S$13,자료실!H398)","v":1},{"$f":"COUNTIF(번호추출!$N$13:$S$13,I398)","v":0},2,2,{"$f":"IF(1=U398,\"꽝\",IF(0<T398,\"꽝\",0))","v":"꽝"},{"$f":"IF(2=U398,\"꽝\",IF(1<T398,\"꽝\",0))","v":"꽝"},{"$f":"IF(3=U398,\"5등\",IF(2<T398,\"5등\",0))","v":0},{"$f":"IF(4=U398,\"4등\",IF(3<T398,\"4등\",0))","v":0},{"$f":"IF(5=U398,\"3등\",IF(4<T398,\"3등\",0))","v":0},{"$f":"IF(6=U398,\"1등\",IF(13=U398,\"1등\",0))","v":0},{"$f":"IF(U398=12,\"2등\",0)","v":0}]
[397,"2010.07.10",12,13,17,22,25,33,8,null,null,397,{"$f":"COUNTIF(번호추출!$N$13:$S$13,자료실!C399)","v":0},{"$f":"COUNTIF(번호추출!$N$13:$S$13,자료실!D399)","v":0},{"$f":"COUNTIF(번호추출!$N$13:$S$13,자료실!E399)","v":0},{"$f":"COUNTIF(번호추출!$N$13:$S$13,자료실!F399)","v":0},{"$f":"COUNTIF(번호추출!$N$13:$S$13,자료실!G399)","v":1},{"$f":"COUNTIF(번호추출!$N$13:$S$13,자료실!H399)","v":1},{"$f":"COUNTIF(번호추출!$N$13:$S$13,I399)","v":0},2,2,"꽝","꽝",0,0,0,{"$f":"IF(6=U399,\"1등\",IF(13=U399,\"1등\",0))","v":0},0]
[398,"2010.07.17",10,15,20,23,42,44,7,null,null,398,{"$f":"COUNTIF(번호추출!$N$13:$S$13,자료실!C400)","v":0},{"$f":"COUNTIF(번호추출!$N$13:$S$13,자료실!D400)","v":1},{"$f":"COUNTIF(번호추출!$N$13:$S$13,자료실!E400)","v":0},{"$f":"COUNTIF(번호추출!$N$13:$S$13,자료실!F400)","v":0},{"$f":"COUNTIF(번호추출!$N$13:$S$13,자료실!G400)","v":0},{"$f":"COUNTIF(번호추출!$N$13:$S$13,자료실!H400)","v":0},{"$f":"COUNTIF(번호추출!$N$13:$S$13,I400)","v":0},1,1,"꽝",0,0,0,0,{"$f":"IF(6=U400,\"1등\",IF(13=U400,\"1등\",0))","v":0},0]
[399,"2010.07.24",1,2,9,17,19,42,20,null,null,399,{"$f":"COUNTIF(번호추출!$N$13:$S$13,자료실!C401)","v":0},{"$f":"COUNTIF(번호추출!$N$13:$S$13,자료실!D401)","v":0},{"$f":"COUNTIF(번호추출!$N$13:$S$13,자료실!E401)","v":0},{"$f":"COUNTIF(번호추출!$N$13:$S$13,자료실!F401)","v":0},{"$f":"COUNTIF(번호추출!$N$13:$S$13,자료실!G401)","v":0},{"$f":"COUNTIF(번호추출!$N$13:$S$13,자료실!H401)","v":0},{"$f":"COUNTIF(번호추출!$N$13:$S$13,I401)","v":0},0,0,0,0,0,0,0,{"$f":"IF(6=U401,\"1등\",IF(13=U401,\"1등\",0))","v":0},0]
[400,"2010.07.31",9,21,27,34,41,43,2,null,null,400,{"$f":"COUNTIF(번호추출!$N$13:$S$13,자료실!C402)","v":0},{"$f":"COUNTIF(번호추출!$N$13:$S$13,자료실!D402)","v":0},{"$f":"COUNTIF(번호추출!$N$13:$S$13,자료실!E402)","v":0},{"$f":"COUNTIF(번호추출!$N$13:$S$13,자료실!F402)","v":0},{"$f":"COUNTIF(번호추출!$N$13:$S$13,자료실!G402)","v":0},{"$f":"COUNTIF(번호추출!$N$13:$S$13,자료실!H402)","v":0},{"$f":"COUNTIF(번호추출!$N$13:$S$13,I402)","v":0},0,0,0,0,0,0,0,{"$f":"IF(6=U402,\"1등\",IF(13=U402,\"1등\",0))","v":0},0]
[401,"2010.08.07",6,12,18,31,38,43,9,null,null,401,{"$f":"COUNTIF(번호추출!$N$13:$S$13,자료실!C403)","v":0},{"$f":"COUNTIF(번호추출!$N$13:$S$13,자료실!D403)","v":0},{"$f":"COUNTIF(번호추출!$N$13:$S$13,자료실!E403)","v":1},{"$f":"COUNTIF(번호추출!$N$13:$S$13,자료실!F403)","v":0},{"$f":"COUNTIF(번호추출!$N$13:$S$13,자료실!G403)","v":0},{"$f":"COUNTIF(번호추출!$N$13:$S$13,자료실!H403)","v":0},{"$f":"COUNTIF(번호추출!$N$13:$S$13,I403)","v":0},1,1,"꽝",0,0,0,0,{"$f":"IF(6=U403,\"1등\",IF(13=U403,\"1등\",0))","v":0},0]
[402,"2010.08.14",5,9,15,19,22,36,32,null,null,402,{"$f":"COUNTIF(번호추출!$N$13:$S$13,자료실!C404)","v":0},{"$f":"COUNTIF(번호추출!$N$13:$S$13,자료실!D404)","v":0},{"$f":"COUNTIF(번호추출!$N$13:$S$13,자료실!E404)","v":1},{"$f":"COUNTIF(번호추출!$N$13:$S$13,자료실!F404)","v":0},{"$f":"COUNTIF(번호추출!$N$13:$S$13,자료실!G404)","v":0},{"$f":"COUNTIF(번호추출!$N$13:$S$13,자료실!H404)","v":0},{"$f":"COUNTIF(번호추출!$N$13:$S$13,I404)","v":0},1,1,"꽝",0,0,0,0,{"$f":"IF(6=U404,\"1등\",IF(13=U404,\"1등\",0))","v":0},0]
[403,"2010.08.21",10,14,22,24,28,37,26,null,null,403,{"$f":"COUNTIF(번호추출!$N$13:$S$13,자료실!C405)","v":0},{"$f":"COUNTIF(번호추출!$N$13:$S$13,자료실!D405)","v":0},{"$f":"COUNTIF(번호추출!$N$13:$S$13,자료실!E405)","v":0},{"$f":"COUNTIF(번호추출!$N$13:$S$13,자료실!F405)","v":0},{"$f":"COUNTIF(번호추출!$N$13:$S$13,자료실!G405)","v":0},{"$f":"COUNTIF(번호추출!$N$13:$S$13,자료실!H405)","v":0},{"$f":"COUNTIF(번호추출!$N$13:$S$13,I405)","v":0},0,0,0,0,0,0,0,{"$f":"IF(6=U405,\"1등\",IF(13=U405,\"1등\",0))","v":0},0]
[404,"2010.08.28",5,20,21,24,33,40,36,null,null,404,{"$f":"COUNTIF(번호추출!$N$13:$S$13,자료실!C406)","v":0},{"$f":"COUNTIF(번호추출!$N$13:$S$13,자료실!D406)","v":0},{"$f":"COUNTIF(번호추출!$N$13:$S$13,자료실!E406)","v":0},{"$f":"COUNTIF(번호추출!$N$13:$S$13,자료실!F406)","v":0},{"$f":"COUNTIF(번호추출!$N$13:$S$13,자료실!G406)","v":1},{"$f":"COUNTIF(번호추출!$N$13:$S$13,자료실!H406)","v":0},{"$f":"COUNTIF(번호추출!$N$13:$S$13,I406)","v":0},1,1,"꽝",0,0,0,0,{"$f":"IF(6=U406,\"1등\",IF(13=U406,\"1등\",0))","v":0},0]
[405,"2010.09.04",1,2,10,25,26,44,4,null,null,405,{"$f":"COUNTIF(번호추출!$N$13:$S$13,자료실!C407)","v":0},{"$f":"COUNTIF(번호추출!$N$13:$S$13,자료실!D407)","v":0},{"$f":"COUNTIF(번호추출!$N$13:$S$13,자료실!E407)","v":0},{"$f":"COUNTIF(번호추출!$N$13:$S$13,자료실!F407)","v":1},{"$f":"COUNTIF(번호추출!$N$13:$S$13,자료실!G407)","v":0},{"$f":"COUNTIF(번호추출!$N$13:$S$13,자료실!H407)","v":0},{"$f":"COUNTIF(번호추출!$N$13:$S$13,I407)","v":1},1,2,"꽝","꽝",0,0,0,{"$f":"IF(6=U407,\"1등\",IF(13=U407,\"1등\",0))","v":0},0]
[406,"2010.09.11",7,12,21,24,27,36,45,null,null,406,{"$f":"COUNTIF(번호추출!$N$13:$S$13,자료실!C408)","v":0},{"$f":"COUNTIF(번호추출!$N$13:$S$13,자료실!D408)","v":0},{"$f":"COUNTIF(번호추출!$N$13:$S$13,자료실!E408)","v":0},{"$f":"COUNTIF(번호추출!$N$13:$S$13,자료실!F408)","v":0},{"$f":"COUNTIF(번호추출!$N$13:$S$13,자료실!G408)","v":0},{"$f":"COUNTIF(번호추출!$N$13:$S$13,자료실!H408)","v":0},{"$f":"COUNTIF(번호추출!$N$13:$S$13,I408)","v":1},0,1,"꽝",0,0,0,0,{"$f":"IF(6=U408,\"1등\",IF(13=U408,\"1등\",0))","v":0},0]
[407,"2010.09.18",6,7,13,16,24,25,1,null,null,407,{"$f":"COUNTIF(번호추출!$N$13:$S$13,자료실!C409)","v":0},{"$f":"COUNTIF(번호추출!$N$13:$S$13,자료실!D409)","v":0},{"$f":"COUNTIF(번호추출!$N$13:$S$13,자료실!E409)","v":0},{"$f":"COUNTIF(번호추출!$N$13:$S$13,자료실!F409)","v":0},{"$f":"COUNTIF(번호추출!$N$13:$S$13,자료실!G409)","v":0},{"$f":"COUNTIF(번호추출!$N$13:$S$13,자료실!H409)","v":1},{"$f":"COUNTIF(번호추출!$N$13:$S$13,I409)","v":0},1,1,"꽝",0,0,0,0,{"$f":"IF(6=U409,\"1등\",IF(13=U409,\"1등\",0))","v":0},0]
[408,"2010.09.25",9,20,21,22,30,37,16,null,null,408,{"$f":"COUNTIF(번호추출!$N$13:$S$13,자료실!C410)","v":0},{"$f":"COUNTIF(번호추출!$N$13:$S$13,자료실!D410)","v":0},{"$f":"COUNTIF(번호추출!$N$13:$S$13,자료실!E410)","v":0},{"$f":"COUNTIF(번호추출!$N$13:$S$13,자료실!F410)","v":0},{"$f":"COUNTIF(번호추출!$N$13:$S$13,자료실!G410)","v":0},{"$f":"COUNTIF(번호추출!$N$13:$S$13,자료실!H410)","v":0},{"$f":"COUNTIF(번호추출!$N$13:$S$13,I410)","v":0},0,0,0,0,0,0,0,{"$f":"IF(6=U410,\"1등\",IF(13=U410,\"1등\",0))","v":0},0]
[409,"2010.10.02",6,9,21,31,32,40,38,null,null,{"$f":"A411","v":409},{"$f":"COUNTIF(번호추출!$N$13:$S$13,자료실!C411)","v":0},{"$f":"COUNTIF(번호추출!$N$13:$S$13,자료실!D411)","v":0},{"$f":"COUNTIF(번호추출!$N$13:$S$13,자료실!E411)","v":0},{"$f":"COUNTIF(번호추출!$N$13:$S$13,자료실!F411)","v":0},{"$f":"COUNTIF(번호추출!$N$13:$S$13,자료실!G411)","v":0},{"$f":"COUNTIF(번호추출!$N$13:$S$13,자료실!H411)","v":0},{"$f":"COUNTIF(번호추출!$N$13:$S$13,I411)","v":0},{"$f":"SUM(M411:R411)","v":0},{"$f":"SUM(M411:S411)","v":0},0,0,0,0,0,{"$f":"IF(6=U411,\"1등\",IF(13=U411,\"1등\",0))","v":0},0]
[410,"2010.10.09",1,3,18,32,40,41,16,null,null,410,{"$f":"COUNTIF(번호추출!$N$13:$S$13,자료실!C412)","v":0},{"$f":"COUNTIF(번호추출!$N$13:$S$13,자료실!D412)","v":0},{"$f":"COUNTIF(번호추출!$N$13:$S$13,자료실!E412)","v":1},{"$f":"COUNTIF(번호추출!$N$13:$S$13,자료실!F412)","v":0},{"$f":"COUNTIF(번호추출!$N$13:$S$13,자료실!G412)","v":0},{"$f":"COUNTIF(번호추출!$N$13:$S$13,자료실!H412)","v":0},{"$f":"COUNTIF(번호추출!$N$13:$S$13,I412)","v":0},1,1,"꽝",0,0,0,0,{"$f":"IF(6=U412,\"1등\",IF(13=U412,\"1등\",0))","v":0},0]
[411,"2010.10.16",11,14,22,35,37,39,5,null,null,411,{"$f":"COUNTIF(번호추출!$N$13:$S$13,자료실!C413)","v":0},{"$f":"COUNTIF(번호추출!$N$13:$S$13,자료실!D413)","v":0},{"$f":"COUNTIF(번호추출!$N$13:$S$13,자료실!E413)","v":0},{"$f":"COUNTIF(번호추출!$N$13:$S$13,자료실!F413)","v":0},{"$f":"COUNTIF(번호추출!$N$13:$S$13,자료실!G413)","v":0},{"$f":"COUNTIF(번호추출!$N$13:$S$13,자료실!H413)","v":0},{"$f":"COUNTIF(번호추출!$N$13:$S$13,I413)","v":0},0,0,0,0,0,0,0,{"$f":"IF(6=U413,\"1등\",IF(13=U413,\"1등\",0))","v":0},0]
[412,"2010.10.23",4,7,39,41,42,45,40,null,null,412,{"$f":"COUNTIF(번호추출!$N$13:$S$13,자료실!C414)","v":1},{"$f":"COUNTIF(번호추출!$N$13:$S$13,자료실!D414)","v":0},{"$f":"COUNTIF(번호추출!$N$13:$S$13,자료실!E414)","v":0},{"$f":"COUNTIF(번호추출!$N$13:$S$13,자료실!F414)","v":0},{"$f":"COUNTIF(번호추출!$N$13:$S$13,자료실!G414)","v":0},{"$f":"COUNTIF(번호추출!$N$13:$S$13,자료실!H414)","v":1},{"$f":"COUNTIF(번호추출!$N$13:$S$13,I414)","v":0},2,2,"꽝","꽝",0,0,0,{"$f":"IF(6=U414,\"1등\",IF(13=U414,\"1등\",0))","v":0},0]
[413,"2010.10.30",2,9,15,23,34,40,3,null,null,413,{"$f":"COUNTIF(번호추출!$N$13:$S$13,자료실!C415)","v":0},{"$f":"COUNTIF(번호추출!$N$13:$S$13,자료실!D415)","v":0},{"$f":"COUNTIF(번호추출!$N$13:$S$13,자료실!E415)","v":1},{"$f":"COUNTIF(번호추출!$N$13:$S$13,자료실!F415)","v":0},{"$f":"COUNTIF(번호추출!$N$13:$S$13,자료실!G415)","v":0},{"$f":"COUNTIF(번호추출!$N$13:$S$13,자료실!H415)","v":0},{"$f":"COUNTIF(번호추출!$N$13:$S$13,I415)","v":0},1,1,"꽝",0,0,0,0,{"$f":"IF(6=U415,\"1등\",IF(13=U415,\"1등\",0))","v":0},0]
[414,"2010.11.06",2,14,15,22,23,44,43,null,null,414,{"$f":"COUNTIF(번호추출!$N$13:$S$13,자료실!C416)","v":0},{"$f":"COUNTIF(번호추출!$N$13:$S$13,자료실!D416)","v":0},{"$f":"COUNTIF(번호추출!$N$13:$S$13,자료실!E416)","v":1},{"$f":"COUNTIF(번호추출!$N$13:$S$13,자료실!F416)","v":0},{"$f":"COUNTIF(번호추출!$N$13:$S$13,자료실!G416)","v":0},{"$f":"COUNTIF(번호추출!$N$13:$S$13,자료실!H416)","v":0},{"$f":"COUNTIF(번호추출!$N$13:$S$13,I416)","v":0},1,1,"꽝",0,0,0,0,{"$f":"IF(6=U416,\"1등\",IF(13=U416,\"1등\",0))","v":0},0]
[415,"2010.11.13",7,17,20,26,30,40,24,null,null,415,{"$f":"COUNTIF(번호추출!$N$13:$S$13,자료실!C417)","v":0},{"$f":"COUNTIF(번호추출!$N$13:$S$13,자료실!D417)","v":0},{"$f":"COUNTIF(번호추출!$N$13:$S$13,자료실!E417)","v":0},{"$f":"COUNTIF(번호추출!$N$13:$S$13,자료실!F417)","v":0},{"$f":"COUNTIF(번호추출!$N$13:$S$13,자료실!G417)","v":0},{"$f":"COUNTIF(번호추출!$N$13:$S$13,자료실!H417)","v":0},{"$f":"COUNTIF(번호추출!$N$13:$S$13,I417)","v":0},0,0,0,0,0,0,0,{"$f":"IF(6=U417,\"1등\",IF(13=U417,\"1등\",0))","v":0},0]
[416,"2010.11.20",5,6,8,11,22,26,44,null,null,416,{"$f":"COUNTIF(번호추출!$N$13:$S$13,자료실!C418)","v":0},{"$f":"COUNTIF(번호추출!$N$13:$S$13,자료실!D418)","v":0},{"$f":"COUNTIF(번호추출!$N$13:$S$13,자료실!E418)","v":0},{"$f":"COUNTIF(번호추출!$N$13:$S$13,자료실!F418)","v":0},{"$f":"COUNTIF(번호추출!$N$13:$S$13,자료실!G418)","v":0},{"$f":"COUNTIF(번호추출!$N$13:$S$13,자료실!H418)","v":0},{"$f":"COUNTIF(번호추출!$N$13:$S$13,I418)","v":0},0,0,0,0,0,0,0,{"$f":"IF(6=U418,\"1등\",IF(13=U418,\"1등\",0))","v":0},0]
[417,"2010.11.27",4,5,14,20,22,43,44,null,null,417,{"$f":"COUNTIF(번호추출!$N$13:$S$13,자료실!C419)","v":1},{"$f":"COUNTIF(번호추출!$N$13:$S$13,자료실!D419)","v":0},{"$f":"COUNTIF(번호추출!$N$13:$S$13,자료실!E419)","v":0},{"$f":"COUNTIF(번호추출!$N$13:$S$13,자료실!F419)","v":0},{"$f":"COUNTIF(번호추출!$N$13:$S$13,자료실!G419)","v":0},{"$f":"COUNTIF(번호추출!$N$13:$S$13,자료실!H419)","v":0},{"$f":"COUNTIF(번호추출!$N$13:$S$13,I419)","v":0},1,1,"꽝",0,0,0,0,{"$f":"IF(6=U419,\"1등\",IF(13=U419,\"1등\",0))","v":0},0]
[418,"2010.12.04",11,13,15,26,28,34,31,null,null,418,{"$f":"COUNTIF(번호추출!$N$13:$S$13,자료실!C420)","v":0},{"$f":"COUNTIF(번호추출!$N$13:$S$13,자료실!D420)","v":0},{"$f":"COUNTIF(번호추출!$N$13:$S$13,자료실!E420)","v":1},{"$f":"COUNTIF(번호추출!$N$13:$S$13,자료실!F420)","v":0},{"$f":"COUNTIF(번호추출!$N$13:$S$13,자료실!G420)","v":0},{"$f":"COUNTIF(번호추출!$N$13:$S$13,자료실!H420)","v":0},{"$f":"COUNTIF(번호추출!$N$13:$S$13,I420)","v":0},1,1,"꽝",0,0,0,0,{"$f":"IF(6=U420,\"1등\",IF(13=U420,\"1등\",0))","v":0},0]
[419,"2010.12.11",2,11,13,14,28,30,7,null,null,419,{"$f":"COUNTIF(번호추출!$N$13:$S$13,자료실!C421)","v":0},{"$f":"COUNTIF(번호추출!$N$13:$S$13,자료실!D421)","v":0},{"$f":"COUNTIF(번호추출!$N$13:$S$13,자료실!E421)","v":0},{"$f":"COUNTIF(번호추출!$N$13:$S$13,자료실!F421)","v":0},{"$f":"COUNTIF(번호추출!$N$13:$S$13,자료실!G421)","v":0},{"$f":"COUNTIF(번호추출!$N$13:$S$13,자료실!H421)","v":0},{"$f":"COUNTIF(번호추출!$N$13:$S$13,I421)","v":0},0,0,0,0,0,0,0,{"$f":"IF(6=U421,\"1등\",IF(13=U421,\"1등\",0))","v":0},0]
[420,"2010.12.18",4,9,10,29,31,34,27,null,null,420,{"$f":"COUNTIF(번호추출!$N$13:$S$13,자료실!C422)","v":1},{"$f":"COUNTIF(번호추출!$N$13:$S$13,자료실!D422)","v":0},{"$f":"COUNTIF(번호추출!$N$13:$S$13,자료실!E422)","v":0},{"$f":"COUNTIF(번호추출!$N$13:$S$13,자료실!F422)","v":0},{"$f":"COUNTIF(번호추출!$N$13:$S$13,자료실!G422)","v":0},{"$f":"COUNTIF(번호추출!$N$13:$S$13,자료실!H422)","v":0},{"$f":"COUNTIF(번호추출!$N$13:$S$13,I422)","v":0},1,1,"꽝",0,0,0,0,{"$f":"IF(6=U422,\"1등\",IF(13=U422,\"1등\",0))","v":0},0]
[421,"2010.12.25",6,11,26,27,28,44,30,null,null,421,{"$f":"COUNTIF(번호추출!$N$13:$S$13,자료실!C423)","v":0},{"$f":"COUNTIF(번호추출!$N$13:$S$13,자료실!D423)","v":0},{"$f":"COUNTIF(번호추출!$N$13:$S$13,자료실!E423)","v":0},{"$f":"COUNTIF(번호추출!$N$13:$S$13,자료실!F423)","v":0},{"$f":"COUNTIF(번호추출!$N$13:$S$13,자료실!G423)","v":0},{"$f":"COUNTIF(번호추출!$N$13:$S$13,자료실!H423)","v":0},{"$f":"COUNTIF(번호추출!$N$13:$S$13,I423)","v":0},0,0,0,0,0,0,0,{"$f":"IF(6=U423,\"1등\",IF(13=U423,\"1등\",0))","v":0},0]
[422,"2011.01.01",8,15,19,21,34,44,12,null,null,422,{"$f":"COUNTIF(번호추출!$N$13:$S$13,자료실!C424)","v":0},{"$f":"COUNTIF(번호추출!$N$13:$S$13,자료실!D424)","v":1},{"$f":"COUNTIF(번호추출!$N$13:$S$13,자료실!E424)","v":0},{"$f":"COUNTIF(번호추출!$N$13:$S$13,자료실!F424)","v":0},{"$f":"COUNTIF(번호추출!$N$13:$S$13,자료실!G424)","v":0},{"$f":"COUNTIF(번호추출!$N$13:$S$13,자료실!H424)","v":0},{"$f":"COUNTIF(번호추출!$N$13:$S$13,I424)","v":0},1,1,"꽝",0,0,0,0,{"$f":"IF(6=U424,\"1등\",IF(13=U424,\"1등\",0))","v":0},0]
[423,"2011.01.08",1,17,27,28,29,40,5,null,null,423,{"$f":"COUNTIF(번호추출!$N$13:$S$13,자료실!C425)","v":0},{"$f":"COUNTIF(번호추출!$N$13:$S$13,자료실!D425)","v":0},{"$f":"COUNTIF(번호추출!$N$13:$S$13,자료실!E425)","v":0},{"$f":"COUNTIF(번호추출!$N$13:$S$13,자료실!F425)","v":0},{"$f":"COUNTIF(번호추출!$N$13:$S$13,자료실!G425)","v":0},{"$f":"COUNTIF(번호추출!$N$13:$S$13,자료실!H425)","v":0},{"$f":"COUNTIF(번호추출!$N$13:$S$13,I425)","v":0},0,0,0,0,0,0,0,{"$f":"IF(6=U425,\"1등\",IF(13=U425,\"1등\",0))","v":0},0]
[424,"2011.01.15",10,11,26,31,34,44,30,null,null,424,{"$f":"COUNTIF(번호추출!$N$13:$S$13,자료실!C426)","v":0},{"$f":"COUNTIF(번호추출!$N$13:$S$13,자료실!D426)","v":0},{"$f":"COUNTIF(번호추출!$N$13:$S$13,자료실!E426)","v":0},{"$f":"COUNTIF(번호추출!$N$13:$S$13,자료실!F426)","v":0},{"$f":"COUNTIF(번호추출!$N$13:$S$13,자료실!G426)","v":0},{"$f":"COUNTIF(번호추출!$N$13:$S$13,자료실!H426)","v":0},{"$f":"COUNTIF(번호추출!$N$13:$S$13,I426)","v":0},0,0,0,0,0,0,0,{"$f":"IF(6=U426,\"1등\",IF(13=U426,\"1등\",0))","v":0},0]
[425,"2011.01.22",8,10,14,27,33,38,3,null,null,425,{"$f":"COUNTIF(번호추출!$N$13:$S$13,자료실!C427)","v":0},{"$f":"COUNTIF(번호추출!$N$13:$S$13,자료실!D427)","v":0},{"$f":"COUNTIF(번호추출!$N$13:$S$13,자료실!E427)","v":0},{"$f":"COUNTIF(번호추출!$N$13:$S$13,자료실!F427)","v":0},{"$f":"COUNTIF(번호추출!$N$13:$S$13,자료실!G427)","v":1},{"$f":"COUNTIF(번호추출!$N$13:$S$13,자료실!H427)","v":0},{"$f":"COUNTIF(번호추출!$N$13:$S$13,I427)","v":0},1,1,"꽝",0,0,0,0,{"$f":"IF(6=U427,\"1등\",IF(13=U427,\"1등\",0))","v":0},0]
[426,"2011.01.29",4,17,18,27,39,43,19,null,null,426,{"$f":"COUNTIF(번호추출!$N$13:$S$13,자료실!C428)","v":1},{"$f":"COUNTIF(번호추출!$N$13:$S$13,자료실!D428)","v":0},{"$f":"COUNTIF(번호추출!$N$13:$S$13,자료실!E428)","v":1},{"$f":"COUNTIF(번호추출!$N$13:$S$13,자료실!F428)","v":0},{"$f":"COUNTIF(번호추출!$N$13:$S$13,자료실!G428)","v":0},{"$f":"COUNTIF(번호추출!$N$13:$S$13,자료실!H428)","v":0},{"$f":"COUNTIF(번호추출!$N$13:$S$13,I428)","v":0},2,2,"꽝","꽝",0,0,0,{"$f":"IF(6=U428,\"1등\",IF(13=U428,\"1등\",0))","v":0},0]
[427,"2011.02.05",6,7,15,24,28,30,21,null,null,427,{"$f":"COUNTIF(번호추출!$N$13:$S$13,자료실!C429)","v":0},{"$f":"COUNTIF(번호추출!$N$13:$S$13,자료실!D429)","v":0},{"$f":"COUNTIF(번호추출!$N$13:$S$13,자료실!E429)","v":1},{"$f":"COUNTIF(번호추출!$N$13:$S$13,자료실!F429)","v":0},{"$f":"COUNTIF(번호추출!$N$13:$S$13,자료실!G429)","v":0},{"$f":"COUNTIF(번호추출!$N$13:$S$13,자료실!H429)","v":0},{"$f":"COUNTIF(번호추출!$N$13:$S$13,I429)","v":0},1,1,"꽝",0,0,0,0,{"$f":"IF(6=U429,\"1등\",IF(13=U429,\"1등\",0))","v":0},0]
[428,"2011.02.12",12,16,19,22,37,40,8,null,null,428,{"$f":"COUNTIF(번호추출!$N$13:$S$13,자료실!C430)","v":0},{"$f":"COUNTIF(번호추출!$N$13:$S$13,자료실!D430)","v":0},{"$f":"COUNTIF(번호추출!$N$13:$S$13,자료실!E430)","v":0},{"$f":"COUNTIF(번호추출!$N$13:$S$13,자료실!F430)","v":0},{"$f":"COUNTIF(번호추출!$N$13:$S$13,자료실!G430)","v":0},{"$f":"COUNTIF(번호추출!$N$13:$S$13,자료실!H430)","v":0},{"$f":"COUNTIF(번호추출!$N$13:$S$13,I430)","v":0},0,0,0,0,0,0,0,{"$f":"IF(6=U430,\"1등\",IF(13=U430,\"1등\",0))","v":0},0]
[429,"2011.02.19",3,23,28,34,39,42,16,null,null,429,{"$f":"COUNTIF(번호추출!$N$13:$S$13,자료실!C431)","v":0},{"$f":"COUNTIF(번호추출!$N$13:$S$13,자료실!D431)","v":0},{"$f":"COUNTIF(번호추출!$N$13:$S$13,자료실!E431)","v":0},{"$f":"COUNTIF(번호추출!$N$13:$S$13,자료실!F431)","v":0},{"$f":"COUNTIF(번호추출!$N$13:$S$13,자료실!G431)","v":0},{"$f":"COUNTIF(번호추출!$N$13:$S$13,자료실!H431)","v":0},{"$f":"COUNTIF(번호추출!$N$13:$S$13,I431)","v":0},0,0,0,0,0,0,0,{"$f":"IF(6=U431,\"1등\",IF(13=U431,\"1등\",0))","v":0},0]
[430,"2011.02.26",1,3,16,18,30,34,44,null,null,430,{"$f":"COUNTIF(번호추출!$N$13:$S$13,자료실!C432)","v":0},{"$f":"COUNTIF(번호추출!$N$13:$S$13,자료실!D432)","v":0},{"$f":"COUNTIF(번호추출!$N$13:$S$13,자료실!E432)","v":0},{"$f":"COUNTIF(번호추출!$N$13:$S$13,자료실!F432)","v":1},{"$f":"COUNTIF(번호추출!$N$13:$S$13,자료실!G432)","v":0},{"$f":"COUNTIF(번호추출!$N$13:$S$13,자료실!H432)","v":0},{"$f":"COUNTIF(번호추출!$N$13:$S$13,I432)","v":0},1,1,"꽝",0,0,0,0,{"$f":"IF(6=U432,\"1등\",IF(13=U432,\"1등\",0))","v":0},0]
[431,"2011.03.05",18,22,25,31,38,45,6,null,null,431,{"$f":"COUNTIF(번호추출!$N$13:$S$13,자료실!C433)","v":1},{"$f":"COUNTIF(번호추출!$N$13:$S$13,자료실!D433)","v":0},{"$f":"COUNTIF(번호추출!$N$13:$S$13,자료실!E433)","v":1},{"$f":"COUNTIF(번호추출!$N$13:$S$13,자료실!F433)","v":0},{"$f":"COUNTIF(번호추출!$N$13:$S$13,자료실!G433)","v":0},{"$f":"COUNTIF(번호추출!$N$13:$S$13,자료실!H433)","v":1},{"$f":"COUNTIF(번호추출!$N$13:$S$13,I433)","v":0},3,3,"꽝","꽝","5등",0,0,{"$f":"IF(6=U433,\"1등\",IF(13=U433,\"1등\",0))","v":0},0]
[432,"2011.03.12",2,3,5,11,27,39,33,null,null,432,{"$f":"COUNTIF(번호추출!$N$13:$S$13,자료실!C434)","v":0},{"$f":"COUNTIF(번호추출!$N$13:$S$13,자료실!D434)","v":0},{"$f":"COUNTIF(번호추출!$N$13:$S$13,자료실!E434)","v":0},{"$f":"COUNTIF(번호추출!$N$13:$S$13,자료실!F434)","v":0},{"$f":"COUNTIF(번호추출!$N$13:$S$13,자료실!G434)","v":0},{"$f":"COUNTIF(번호추출!$N$13:$S$13,자료실!H434)","v":0},{"$f":"COUNTIF(번호추출!$N$13:$S$13,I434)","v":1},0,1,"꽝",0,0,0,0,{"$f":"IF(6=U434,\"1등\",IF(13=U434,\"1등\",0))","v":0},0]
[433,"2011.03.19",19,23,29,33,35,43,27,null,null,433,{"$f":"COUNTIF(번호추출!$N$13:$S$13,자료실!C435)","v":0},{"$f":"COUNTIF(번호추출!$N$13:$S$13,자료실!D435)","v":0},{"$f":"COUNTIF(번호추출!$N$13:$S$13,자료실!E435)","v":0},{"$f":"COUNTIF(번호추출!$N$13:$S$13,자료실!F435)","v":1},{"$f":"COUNTIF(번호추출!$N$13:$S$13,자료실!G435)","v":0},{"$f":"COUNTIF(번호추출!$N$13:$S$13,자료실!H435)","v":0},{"$f":"COUNTIF(번호추출!$N$13:$S$13,I435)","v":0},1,1,"꽝",0,0,0,0,{"$f":"IF(6=U435,\"1등\",IF(13=U435,\"1등\",0))","v":0},0]
[434,"2011.03.26",3,13,20,24,33,37,35,null,null,434,{"$f":"COUNTIF(번호추출!$N$13:$S$13,자료실!C436)","v":0},{"$f":"COUNTIF(번호추출!$N$13:$S$13,자료실!D436)","v":0},{"$f":"COUNTIF(번호추출!$N$13:$S$13,자료실!E436)","v":0},{"$f":"COUNTIF(번호추출!$N$13:$S$13,자료실!F436)","v":0},{"$f":"COUNTIF(번호추출!$N$13:$S$13,자료실!G436)","v":1},{"$f":"COUNTIF(번호추출!$N$13:$S$13,자료실!H436)","v":0},{"$f":"COUNTIF(번호추출!$N$13:$S$13,I436)","v":0},1,1,"꽝",0,0,0,0,{"$f":"IF(6=U436,\"1등\",IF(13=U436,\"1등\",0))","v":0},0]
[435,"2011.04.02",8,16,26,30,38,45,42,null,null,435,{"$f":"COUNTIF(번호추출!$N$13:$S$13,자료실!C437)","v":0},{"$f":"COUNTIF(번호추출!$N$13:$S$13,자료실!D437)","v":0},{"$f":"COUNTIF(번호추출!$N$13:$S$13,자료실!E437)","v":0},{"$f":"COUNTIF(번호추출!$N$13:$S$13,자료실!F437)","v":0},{"$f":"COUNTIF(번호추출!$N$13:$S$13,자료실!G437)","v":0},{"$f":"COUNTIF(번호추출!$N$13:$S$13,자료실!H437)","v":1},{"$f":"COUNTIF(번호추출!$N$13:$S$13,I437)","v":0},1,1,"꽝",0,0,0,0,{"$f":"IF(6=U437,\"1등\",IF(13=U437,\"1등\",0))","v":0},0]
[436,"2011.04.09",9,14,20,22,33,34,28,null,null,436,{"$f":"COUNTIF(번호추출!$N$13:$S$13,자료실!C438)","v":0},{"$f":"COUNTIF(번호추출!$N$13:$S$13,자료실!D438)","v":0},{"$f":"COUNTIF(번호추출!$N$13:$S$13,자료실!E438)","v":0},{"$f":"COUNTIF(번호추출!$N$13:$S$13,자료실!F438)","v":0},{"$f":"COUNTIF(번호추출!$N$13:$S$13,자료실!G438)","v":1},{"$f":"COUNTIF(번호추출!$N$13:$S$13,자료실!H438)","v":0},{"$f":"COUNTIF(번호추출!$N$13:$S$13,I438)","v":0},1,1,"꽝",0,0,0,0,{"$f":"IF(6=U438,\"1등\",IF(13=U438,\"1등\",0))","v":0},0]
[437,"2011.04.16",11,16,29,38,41,44,21,null,null,437,{"$f":"COUNTIF(번호추출!$N$13:$S$13,자료실!C439)","v":0},{"$f":"COUNTIF(번호추출!$N$13:$S$13,자료실!D439)","v":0},{"$f":"COUNTIF(번호추출!$N$13:$S$13,자료실!E439)","v":0},{"$f":"COUNTIF(번호추출!$N$13:$S$13,자료실!F439)","v":0},{"$f":"COUNTIF(번호추출!$N$13:$S$13,자료실!G439)","v":0},{"$f":"COUNTIF(번호추출!$N$13:$S$13,자료실!H439)","v":0},{"$f":"COUNTIF(번호추출!$N$13:$S$13,I439)","v":0},0,0,0,0,0,0,0,{"$f":"IF(6=U439,\"1등\",IF(13=U439,\"1등\",0))","v":0},0]
[438,"2011.04.23",6,12,20,26,29,38,45,null,null,438,{"$f":"COUNTIF(번호추출!$N$13:$S$13,자료실!C440)","v":0},{"$f":"COUNTIF(번호추출!$N$13:$S$13,자료실!D440)","v":0},{"$f":"COUNTIF(번호추출!$N$13:$S$13,자료실!E440)","v":0},{"$f":"COUNTIF(번호추출!$N$13:$S$13,자료실!F440)","v":0},{"$f":"COUNTIF(번호추출!$N$13:$S$13,자료실!G440)","v":0},{"$f":"COUNTIF(번호추출!$N$13:$S$13,자료실!H440)","v":0},{"$f":"COUNTIF(번호추출!$N$13:$S$13,I440)","v":1},0,1,"꽝",0,0,0,0,{"$f":"IF(6=U440,\"1등\",IF(13=U440,\"1등\",0))","v":0},0]
[439,"2011.04.30",17,20,30,31,37,40,25,null,null,439,{"$f":"COUNTIF(번호추출!$N$13:$S$13,자료실!C441)","v":0},{"$f":"COUNTIF(번호추출!$N$13:$S$13,자료실!D441)","v":0},{"$f":"COUNTIF(번호추출!$N$13:$S$13,자료실!E441)","v":0},{"$f":"COUNTIF(번호추출!$N$13:$S$13,자료실!F441)","v":0},{"$f":"COUNTIF(번호추출!$N$13:$S$13,자료실!G441)","v":0},{"$f":"COUNTIF(번호추출!$N$13:$S$13,자료실!H441)","v":0},{"$f":"COUNTIF(번호추출!$N$13:$S$13,I441)","v":1},0,1,"꽝",0,0,0,0,{"$f":"IF(6=U441,\"1등\",IF(13=U441,\"1등\",0))","v":0},0]
[440,"2011.05.07",10,22,28,34,36,44,2,null,null,440,{"$f":"COUNTIF(번호추출!$N$13:$S$13,자료실!C442)","v":0},{"$f":"COUNTIF(번호추출!$N$13:$S$13,자료실!D442)","v":0},{"$f":"COUNTIF(번호추출!$N$13:$S$13,자료실!E442)","v":0},{"$f":"COUNTIF(번호추출!$N$13:$S$13,자료실!F442)","v":0},{"$f":"COUNTIF(번호추출!$N$13:$S$13,자료실!G442)","v":0},{"$f":"COUNTIF(번호추출!$N$13:$S$13,자료실!H442)","v":0},{"$f":"COUNTIF(번호추출!$N$13:$S$13,I442)","v":0},0,0,0,0,0,0,0,{"$f":"IF(6=U442,\"1등\",IF(13=U442,\"1등\",0))","v":0},0]
[441,"2011.05.14",1,23,28,30,34,35,9,null,null,441,{"$f":"COUNTIF(번호추출!$N$13:$S$13,자료실!C443)","v":0},{"$f":"COUNTIF(번호추출!$N$13:$S$13,자료실!D443)","v":0},{"$f":"COUNTIF(번호추출!$N$13:$S$13,자료실!E443)","v":0},{"$f":"COUNTIF(번호추출!$N$13:$S$13,자료실!F443)","v":0},{"$f":"COUNTIF(번호추출!$N$13:$S$13,자료실!G443)","v":0},{"$f":"COUNTIF(번호추출!$N$13:$S$13,자료실!H443)","v":0},{"$f":"COUNTIF(번호추출!$N$13:$S$13,I443)","v":0},0,0,0,0,0,0,0,{"$f":"IF(6=U443,\"1등\",IF(13=U443,\"1등\",0))","v":0},0]
[442,"2011.05.21",25,27,29,36,38,40,41,null,null,442,{"$f":"COUNTIF(번호추출!$N$13:$S$13,자료실!C444)","v":1},{"$f":"COUNTIF(번호추출!$N$13:$S$13,자료실!D444)","v":0},{"$f":"COUNTIF(번호추출!$N$13:$S$13,자료실!E444)","v":0},{"$f":"COUNTIF(번호추출!$N$13:$S$13,자료실!F444)","v":0},{"$f":"COUNTIF(번호추출!$N$13:$S$13,자료실!G444)","v":0},{"$f":"COUNTIF(번호추출!$N$13:$S$13,자료실!H444)","v":0},{"$f":"COUNTIF(번호추출!$N$13:$S$13,I444)","v":0},1,1,"꽝",0,0,0,0,{"$f":"IF(6=U444,\"1등\",IF(13=U444,\"1등\",0))","v":0},0]
[443,"2011.05.28",4,6,10,19,20,44,14,null,null,443,{"$f":"COUNTIF(번호추출!$N$13:$S$13,자료실!C445)","v":1},{"$f":"COUNTIF(번호추출!$N$13:$S$13,자료실!D445)","v":0},{"$f":"COUNTIF(번호추출!$N$13:$S$13,자료실!E445)","v":0},{"$f":"COUNTIF(번호추출!$N$13:$S$13,자료실!F445)","v":0},{"$f":"COUNTIF(번호추출!$N$13:$S$13,자료실!G445)","v":0},{"$f":"COUNTIF(번호추출!$N$13:$S$13,자료실!H445)","v":0},{"$f":"COUNTIF(번호추출!$N$13:$S$13,I445)","v":0},1,1,"꽝",0,0,0,0,{"$f":"IF(6=U445,\"1등\",IF(13=U445,\"1등\",0))","v":0},0]
[444,"2011.06.04",11,13,23,35,43,45,17,null,null,444,{"$f":"COUNTIF(번호추출!$N$13:$S$13,자료실!C446)","v":0},{"$f":"COUNTIF(번호추출!$N$13:$S$13,자료실!D446)","v":0},{"$f":"COUNTIF(번호추출!$N$13:$S$13,자료실!E446)","v":0},{"$f":"COUNTIF(번호추출!$N$13:$S$13,자료실!F446)","v":0},{"$f":"COUNTIF(번호추출!$N$13:$S$13,자료실!G446)","v":0},{"$f":"COUNTIF(번호추출!$N$13:$S$13,자료실!H446)","v":1},{"$f":"COUNTIF(번호추출!$N$13:$S$13,I446)","v":0},1,1,"꽝",0,0,0,0,{"$f":"IF(6=U446,\"1등\",IF(13=U446,\"1등\",0))","v":0},0]
[445,"2011.06.11",13,20,21,30,39,45,32,null,null,445,{"$f":"COUNTIF(번호추출!$N$13:$S$13,자료실!C447)","v":0},{"$f":"COUNTIF(번호추출!$N$13:$S$13,자료실!D447)","v":0},{"$f":"COUNTIF(번호추출!$N$13:$S$13,자료실!E447)","v":0},{"$f":"COUNTIF(번호추출!$N$13:$S$13,자료실!F447)","v":0},{"$f":"COUNTIF(번호추출!$N$13:$S$13,자료실!G447)","v":0},{"$f":"COUNTIF(번호추출!$N$13:$S$13,자료실!H447)","v":1},{"$f":"COUNTIF(번호추출!$N$13:$S$13,I447)","v":0},1,1,"꽝",0,0,0,0,{"$f":"IF(6=U447,\"1등\",IF(13=U447,\"1등\",0))","v":0},0]
[446,"2011.06.18",1,11,12,14,26,35,6,null,null,446,{"$f":"COUNTIF(번호추출!$N$13:$S$13,자료실!C448)","v":0},{"$f":"COUNTIF(번호추출!$N$13:$S$13,자료실!D448)","v":0},{"$f":"COUNTIF(번호추출!$N$13:$S$13,자료실!E448)","v":0},{"$f":"COUNTIF(번호추출!$N$13:$S$13,자료실!F448)","v":0},{"$f":"COUNTIF(번호추출!$N$13:$S$13,자료실!G448)","v":0},{"$f":"COUNTIF(번호추출!$N$13:$S$13,자료실!H448)","v":0},{"$f":"COUNTIF(번호추출!$N$13:$S$13,I448)","v":0},0,0,0,0,0,0,0,{"$f":"IF(6=U448,\"1등\",IF(13=U448,\"1등\",0))","v":0},0]
[447,"2011.06.25",2,7,8,9,17,33,34,null,null,447,{"$f":"COUNTIF(번호추출!$N$13:$S$13,자료실!C449)","v":0},{"$f":"COUNTIF(번호추출!$N$13:$S$13,자료실!D449)","v":0},{"$f":"COUNTIF(번호추출!$N$13:$S$13,자료실!E449)","v":0},{"$f":"COUNTIF(번호추출!$N$13:$S$13,자료실!F449)","v":0},{"$f":"COUNTIF(번호추출!$N$13:$S$13,자료실!G449)","v":0},{"$f":"COUNTIF(번호추출!$N$13:$S$13,자료실!H449)","v":1},{"$f":"COUNTIF(번호추출!$N$13:$S$13,I449)","v":0},1,1,"꽝",0,0,0,0,{"$f":"IF(6=U449,\"1등\",IF(13=U449,\"1등\",0))","v":0},0]
[448,"2011.07.02",3,7,13,27,40,41,36,null,null,448,{"$f":"COUNTIF(번호추출!$N$13:$S$13,자료실!C450)","v":0},{"$f":"COUNTIF(번호추출!$N$13:$S$13,자료실!D450)","v":0},{"$f":"COUNTIF(번호추출!$N$13:$S$13,자료실!E450)","v":0},{"$f":"COUNTIF(번호추출!$N$13:$S$13,자료실!F450)","v":0},{"$f":"COUNTIF(번호추출!$N$13:$S$13,자료실!G450)","v":0},{"$f":"COUNTIF(번호추출!$N$13:$S$13,자료실!H450)","v":0},{"$f":"COUNTIF(번호추출!$N$13:$S$13,I450)","v":0},0,0,0,0,0,0,0,{"$f":"IF(6=U450,\"1등\",IF(13=U450,\"1등\",0))","v":0},0]
[449,"2011.07.09",3,10,20,26,35,43,36,null,null,449,{"$f":"COUNTIF(번호추출!$N$13:$S$13,자료실!C451)","v":0},{"$f":"COUNTIF(번호추출!$N$13:$S$13,자료실!D451)","v":0},{"$f":"COUNTIF(번호추출!$N$13:$S$13,자료실!E451)","v":0},{"$f":"COUNTIF(번호추출!$N$13:$S$13,자료실!F451)","v":0},{"$f":"COUNTIF(번호추출!$N$13:$S$13,자료실!G451)","v":0},{"$f":"COUNTIF(번호추출!$N$13:$S$13,자료실!H451)","v":0},{"$f":"COUNTIF(번호추출!$N$13:$S$13,I451)","v":0},0,0,0,0,0,0,0,{"$f":"IF(6=U451,\"1등\",IF(13=U451,\"1등\",0))","v":0},0]
[450,"2011.07.16",6,14,19,21,23,31,13,null,null,450,{"$f":"COUNTIF(번호추출!$N$13:$S$13,자료실!C452)","v":0},{"$f":"COUNTIF(번호추출!$N$13:$S$13,자료실!D452)","v":0},{"$f":"COUNTIF(번호추출!$N$13:$S$13,자료실!E452)","v":0},{"$f":"COUNTIF(번호추출!$N$13:$S$13,자료실!F452)","v":0},{"$f":"COUNTIF(번호추출!$N$13:$S$13,자료실!G452)","v":0},{"$f":"COUNTIF(번호추출!$N$13:$S$13,자료실!H452)","v":0},{"$f":"COUNTIF(번호추출!$N$13:$S$13,I452)","v":0},0,0,0,0,0,0,0,{"$f":"IF(6=U452,\"1등\",IF(13=U452,\"1등\",0))","v":0},0]
[451,"2011.07.23",12,15,20,24,30,38,29,null,null,451,{"$f":"COUNTIF(번호추출!$N$13:$S$13,자료실!C453)","v":0},{"$f":"COUNTIF(번호추출!$N$13:$S$13,자료실!D453)","v":1},{"$f":"COUNTIF(번호추출!$N$13:$S$13,자료실!E453)","v":0},{"$f":"COUNTIF(번호추출!$N$13:$S$13,자료실!F453)","v":0},{"$f":"COUNTIF(번호추출!$N$13:$S$13,자료실!G453)","v":0},{"$f":"COUNTIF(번호추출!$N$13:$S$13,자료실!H453)","v":0},{"$f":"COUNTIF(번호추출!$N$13:$S$13,I453)","v":0},1,1,"꽝",0,0,0,0,{"$f":"IF(6=U453,\"1등\",IF(13=U453,\"1등\",0))","v":0},0]
[452,"2011.07.30",8,10,18,30,32,34,27,null,null,452,{"$f":"COUNTIF(번호추출!$N$13:$S$13,자료실!C454)","v":0},{"$f":"COUNTIF(번호추출!$N$13:$S$13,자료실!D454)","v":0},{"$f":"COUNTIF(번호추출!$N$13:$S$13,자료실!E454)","v":1},{"$f":"COUNTIF(번호추출!$N$13:$S$13,자료실!F454)","v":0},{"$f":"COUNTIF(번호추출!$N$13:$S$13,자료실!G454)","v":0},{"$f":"COUNTIF(번호추출!$N$13:$S$13,자료실!H454)","v":0},{"$f":"COUNTIF(번호추출!$N$13:$S$13,I454)","v":0},1,1,"꽝",0,0,0,0,{"$f":"IF(6=U454,\"1등\",IF(13=U454,\"1등\",0))","v":0},0]
[453,"2011.08.06",12,24,33,38,40,42,30,null,null,453,{"$f":"COUNTIF(번호추출!$N$13:$S$13,자료실!C455)","v":0},{"$f":"COUNTIF(번호추출!$N$13:$S$13,자료실!D455)","v":0},{"$f":"COUNTIF(번호추출!$N$13:$S$13,자료실!E455)","v":1},{"$f":"COUNTIF(번호추출!$N$13:$S$13,자료실!F455)","v":0},{"$f":"COUNTIF(번호추출!$N$13:$S$13,자료실!G455)","v":0},{"$f":"COUNTIF(번호추출!$N$13:$S$13,자료실!H455)","v":0},{"$f":"COUNTIF(번호추출!$N$13:$S$13,I455)","v":0},1,1,"꽝",0,0,0,0,{"$f":"IF(6=U455,\"1등\",IF(13=U455,\"1등\",0))","v":0},0]
[454,"2011.08.13",13,25,27,34,38,41,10,null,null,454,{"$f":"COUNTIF(번호추출!$N$13:$S$13,자료실!C456)","v":0},{"$f":"COUNTIF(번호추출!$N$13:$S$13,자료실!D456)","v":1},{"$f":"COUNTIF(번호추출!$N$13:$S$13,자료실!E456)","v":0},{"$f":"COUNTIF(번호추출!$N$13:$S$13,자료실!F456)","v":0},{"$f":"COUNTIF(번호추출!$N$13:$S$13,자료실!G456)","v":0},{"$f":"COUNTIF(번호추출!$N$13:$S$13,자료실!H456)","v":0},{"$f":"COUNTIF(번호추출!$N$13:$S$13,I456)","v":0},1,1,"꽝",0,0,0,0,{"$f":"IF(6=U456,\"1등\",IF(13=U456,\"1등\",0))","v":0},0]
[455,"2011.08.20",4,19,20,26,30,35,24,null,null,455,{"$f":"COUNTIF(번호추출!$N$13:$S$13,자료실!C457)","v":1},{"$f":"COUNTIF(번호추출!$N$13:$S$13,자료실!D457)","v":0},{"$f":"COUNTIF(번호추출!$N$13:$S$13,자료실!E457)","v":0},{"$f":"COUNTIF(번호추출!$N$13:$S$13,자료실!F457)","v":0},{"$f":"COUNTIF(번호추출!$N$13:$S$13,자료실!G457)","v":0},{"$f":"COUNTIF(번호추출!$N$13:$S$13,자료실!H457)","v":0},{"$f":"COUNTIF(번호추출!$N$13:$S$13,I457)","v":0},1,1,"꽝",0,0,0,0,{"$f":"IF(6=U457,\"1등\",IF(13=U457,\"1등\",0))","v":0},0]
[456,"2011.08.27",1,7,12,18,23,27,44,null,null,456,{"$f":"COUNTIF(번호추출!$N$13:$S$13,자료실!C458)","v":0},{"$f":"COUNTIF(번호추출!$N$13:$S$13,자료실!D458)","v":0},{"$f":"COUNTIF(번호추출!$N$13:$S$13,자료실!E458)","v":0},{"$f":"COUNTIF(번호추출!$N$13:$S$13,자료실!F458)","v":1},{"$f":"COUNTIF(번호추출!$N$13:$S$13,자료실!G458)","v":0},{"$f":"COUNTIF(번호추출!$N$13:$S$13,자료실!H458)","v":0},{"$f":"COUNTIF(번호추출!$N$13:$S$13,I458)","v":0},1,1,"꽝",0,0,0,0,{"$f":"IF(6=U458,\"1등\",IF(13=U458,\"1등\",0))","v":0},0]
[457,"2011.09.03",8,10,18,23,27,40,33,null,null,457,{"$f":"COUNTIF(번호추출!$N$13:$S$13,자료실!C459)","v":0},{"$f":"COUNTIF(번호추출!$N$13:$S$13,자료실!D459)","v":0},{"$f":"COUNTIF(번호추출!$N$13:$S$13,자료실!E459)","v":1},{"$f":"COUNTIF(번호추출!$N$13:$S$13,자료실!F459)","v":0},{"$f":"COUNTIF(번호추출!$N$13:$S$13,자료실!G459)","v":0},{"$f":"COUNTIF(번호추출!$N$13:$S$13,자료실!H459)","v":0},{"$f":"COUNTIF(번호추출!$N$13:$S$13,I459)","v":1},1,2,"꽝","꽝",0,0,0,{"$f":"IF(6=U459,\"1등\",IF(13=U459,\"1등\",0))","v":0},0]
[458,"2011.09.10",4,9,10,32,36,40,18,null,null,458,{"$f":"COUNTIF(번호추출!$N$13:$S$13,자료실!C460)","v":1},{"$f":"COUNTIF(번호추출!$N$13:$S$13,자료실!D460)","v":0},{"$f":"COUNTIF(번호추출!$N$13:$S$13,자료실!E460)","v":0},{"$f":"COUNTIF(번호추출!$N$13:$S$13,자료실!F460)","v":0},{"$f":"COUNTIF(번호추출!$N$13:$S$13,자료실!G460)","v":0},{"$f":"COUNTIF(번호추출!$N$13:$S$13,자료실!H460)","v":0},{"$f":"COUNTIF(번호추출!$N$13:$S$13,I460)","v":1},1,2,"꽝","꽝",0,0,0,{"$f":"IF(6=U460,\"1등\",IF(13=U460,\"1등\",0))","v":0},0]
[459,"2011.09.17",4,6,10,14,25,40,12,null,null,459,{"$f":"COUNTIF(번호추출!$N$13:$S$13,자료실!C461)","v":1},{"$f":"COUNTIF(번호추출!$N$13:$S$13,자료실!D461)","v":0},{"$f":"COUNTIF(번호추출!$N$13:$S$13,자료실!E461)","v":0},{"$f":"COUNTIF(번호추출!$N$13:$S$13,자료실!F461)","v":0},{"$f":"COUNTIF(번호추출!$N$13:$S$13,자료실!G461)","v":1},{"$f":"COUNTIF(번호추출!$N$13:$S$13,자료실!H461)","v":0},{"$f":"COUNTIF(번호추출!$N$13:$S$13,I461)","v":0},2,2,"꽝","꽝",0,0,0,{"$f":"IF(6=U461,\"1등\",IF(13=U461,\"1등\",0))","v":0},0]
[460,"2011.09.24",8,11,28,30,43,45,41,null,null,460,{"$f":"COUNTIF(번호추출!$N$13:$S$13,자료실!C462)","v":0},{"$f":"COUNTIF(번호추출!$N$13:$S$13,자료실!D462)","v":0},{"$f":"COUNTIF(번호추출!$N$13:$S$13,자료실!E462)","v":0},{"$f":"COUNTIF(번호추출!$N$13:$S$13,자료실!F462)","v":0},{"$f":"COUNTIF(번호추출!$N$13:$S$13,자료실!G462)","v":0},{"$f":"COUNTIF(번호추출!$N$13:$S$13,자료실!H462)","v":1},{"$f":"COUNTIF(번호추출!$N$13:$S$13,I462)","v":0},1,1,{"$f":"IF(1=U462,\"꽝\",IF(0<T462,\"꽝\",0))","v":"꽝"},{"$f":"IF(2=U462,\"꽝\",IF(1<T462,\"꽝\",0))","v":0},{"$f":"IF(3=U462,\"5등\",IF(2<T462,\"5등\",0))","v":0},{"$f":"IF(4=U462,\"4등\",IF(3<T462,\"4등\",0))","v":0},{"$f":"IF(5=U462,\"3등\",IF(4<T462,\"3등\",0))","v":0},{"$f":"IF(6=U462,\"1등\",IF(13=U462,\"1등\",0))","v":0},{"$f":"IF(U462=12,\"2등\",0)","v":0}]
[461,"2011.10.01",11,18,26,31,37,40,43,null,null,461,{"$f":"COUNTIF(번호추출!$N$13:$S$13,자료실!C463)","v":0},{"$f":"COUNTIF(번호추출!$N$13:$S$13,자료실!D463)","v":1},{"$f":"COUNTIF(번호추출!$N$13:$S$13,자료실!E463)","v":0},{"$f":"COUNTIF(번호추출!$N$13:$S$13,자료실!F463)","v":0},{"$f":"COUNTIF(번호추출!$N$13:$S$13,자료실!G463)","v":0},{"$f":"COUNTIF(번호추출!$N$13:$S$13,자료실!H463)","v":0},{"$f":"COUNTIF(번호추출!$N$13:$S$13,I463)","v":0},1,1,"꽝",0,0,0,0,{"$f":"IF(6=U463,\"1등\",IF(13=U463,\"1등\",0))","v":0},0]
[462,"2011.10.08",3,20,24,32,37,45,4,null,null,462,{"$f":"COUNTIF(번호추출!$N$13:$S$13,자료실!C464)","v":0},{"$f":"COUNTIF(번호추출!$N$13:$S$13,자료실!D464)","v":0},{"$f":"COUNTIF(번호추출!$N$13:$S$13,자료실!E464)","v":0},{"$f":"COUNTIF(번호추출!$N$13:$S$13,자료실!F464)","v":0},{"$f":"COUNTIF(번호추출!$N$13:$S$13,자료실!G464)","v":0},{"$f":"COUNTIF(번호추출!$N$13:$S$13,자료실!H464)","v":1},{"$f":"COUNTIF(번호추출!$N$13:$S$13,I464)","v":1},1,2,"꽝","꽝",0,0,0,{"$f":"IF(6=U464,\"1등\",IF(13=U464,\"1등\",0))","v":0},0]
[463,"2011.10.15",23,29,31,33,34,44,40,null,null,463,{"$f":"COUNTIF(번호추출!$N$13:$S$13,자료실!C465)","v":0},{"$f":"COUNTIF(번호추출!$N$13:$S$13,자료실!D465)","v":0},{"$f":"COUNTIF(번호추출!$N$13:$S$13,자료실!E465)","v":0},{"$f":"COUNTIF(번호추출!$N$13:$S$13,자료실!F465)","v":1},{"$f":"COUNTIF(번호추출!$N$13:$S$13,자료실!G465)","v":0},{"$f":"COUNTIF(번호추출!$N$13:$S$13,자료실!H465)","v":0},{"$f":"COUNTIF(번호추출!$N$13:$S$13,I465)","v":0},1,1,"꽝",0,0,0,0,{"$f":"IF(6=U465,\"1등\",IF(13=U465,\"1등\",0))","v":0},0]
[464,"2011.10.22",6,12,15,34,42,44,4,null,null,464,{"$f":"COUNTIF(번호추출!$N$13:$S$13,자료실!C466)","v":0},{"$f":"COUNTIF(번호추출!$N$13:$S$13,자료실!D466)","v":0},{"$f":"COUNTIF(번호추출!$N$13:$S$13,자료실!E466)","v":1},{"$f":"COUNTIF(번호추출!$N$13:$S$13,자료실!F466)","v":0},{"$f":"COUNTIF(번호추출!$N$13:$S$13,자료실!G466)","v":0},{"$f":"COUNTIF(번호추출!$N$13:$S$13,자료실!H466)","v":0},{"$f":"COUNTIF(번호추출!$N$13:$S$13,I466)","v":1},1,2,"꽝","꽝",0,0,0,{"$f":"IF(6=U466,\"1등\",IF(13=U466,\"1등\",0))","v":0},0]
[465,"2011.10.29",1,8,11,13,22,38,31,null,null,465,{"$f":"COUNTIF(번호추출!$N$13:$S$13,자료실!C467)","v":0},{"$f":"COUNTIF(번호추출!$N$13:$S$13,자료실!D467)","v":0},{"$f":"COUNTIF(번호추출!$N$13:$S$13,자료실!E467)","v":0},{"$f":"COUNTIF(번호추출!$N$13:$S$13,자료실!F467)","v":0},{"$f":"COUNTIF(번호추출!$N$13:$S$13,자료실!G467)","v":0},{"$f":"COUNTIF(번호추출!$N$13:$S$13,자료실!H467)","v":0},{"$f":"COUNTIF(번호추출!$N$13:$S$13,I467)","v":0},0,0,0,0,0,0,0,{"$f":"IF(6=U467,\"1등\",IF(13=U467,\"1등\",0))","v":0},0]
[466,"2011.11.05",4,10,13,23,32,44,20,null,null,466,{"$f":"COUNTIF(번호추출!$N$13:$S$13,자료실!C468)","v":1},{"$f":"COUNTIF(번호추출!$N$13:$S$13,자료실!D468)","v":0},{"$f":"COUNTIF(번호추출!$N$13:$S$13,자료실!E468)","v":0},{"$f":"COUNTIF(번호추출!$N$13:$S$13,자료실!F468)","v":0},{"$f":"COUNTIF(번호추출!$N$13:$S$13,자료실!G468)","v":0},{"$f":"COUNTIF(번호추출!$N$13:$S$13,자료실!H468)","v":0},{"$f":"COUNTIF(번호추출!$N$13:$S$13,I468)","v":0},1,1,"꽝",0,0,0,0,{"$f":"IF(6=U468,\"1등\",IF(13=U468,\"1등\",0))","v":0},0]
[467,"2011.11.12",2,12,14,17,24,40,39,null,null,467,{"$f":"COUNTIF(번호추출!$N$13:$S$13,자료실!C469)","v":0},{"$f":"COUNTIF(번호추출!$N$13:$S$13,자료실!D469)","v":0},{"$f":"COUNTIF(번호추출!$N$13:$S$13,자료실!E469)","v":0},{"$f":"COUNTIF(번호추출!$N$13:$S$13,자료실!F469)","v":0},{"$f":"COUNTIF(번호추출!$N$13:$S$13,자료실!G469)","v":0},{"$f":"COUNTIF(번호추출!$N$13:$S$13,자료실!H469)","v":0},{"$f":"COUNTIF(번호추출!$N$13:$S$13,I469)","v":0},0,0,0,0,0,0,0,{"$f":"IF(6=U469,\"1등\",IF(13=U469,\"1등\",0))","v":0},0]
[468,"2011.11.19",8,13,15,28,37,43,17,null,null,468,{"$f":"COUNTIF(번호추출!$N$13:$S$13,자료실!C470)","v":0},{"$f":"COUNTIF(번호추출!$N$13:$S$13,자료실!D470)","v":0},{"$f":"COUNTIF(번호추출!$N$13:$S$13,자료실!E470)","v":1},{"$f":"COUNTIF(번호추출!$N$13:$S$13,자료실!F470)","v":0},{"$f":"COUNTIF(번호추출!$N$13:$S$13,자료실!G470)","v":0},{"$f":"COUNTIF(번호추출!$N$13:$S$13,자료실!H470)","v":0},{"$f":"COUNTIF(번호추출!$N$13:$S$13,I470)","v":0},1,1,"꽝",0,0,0,0,{"$f":"IF(6=U470,\"1등\",IF(13=U470,\"1등\",0))","v":0},0]
[469,"2011.11.26",4,21,22,34,37,38,33,null,null,469,{"$f":"COUNTIF(번호추출!$N$13:$S$13,자료실!C471)","v":1},{"$f":"COUNTIF(번호추출!$N$13:$S$13,자료실!D471)","v":0},{"$f":"COUNTIF(번호추출!$N$13:$S$13,자료실!E471)","v":0},{"$f":"COUNTIF(번호추출!$N$13:$S$13,자료실!F471)","v":0},{"$f":"COUNTIF(번호추출!$N$13:$S$13,자료실!G471)","v":0},{"$f":"COUNTIF(번호추출!$N$13:$S$13,자료실!H471)","v":0},{"$f":"COUNTIF(번호추출!$N$13:$S$13,I471)","v":1},1,2,"꽝","꽝",0,0,0,{"$f":"IF(6=U471,\"1등\",IF(13=U471,\"1등\",0))","v":0},0]
[470,"2011.12.03",10,16,20,39,41,42,27,null,null,470,{"$f":"COUNTIF(번호추출!$N$13:$S$13,자료실!C472)","v":0},{"$f":"COUNTIF(번호추출!$N$13:$S$13,자료실!D472)","v":0},{"$f":"COUNTIF(번호추출!$N$13:$S$13,자료실!E472)","v":0},{"$f":"COUNTIF(번호추출!$N$13:$S$13,자료실!F472)","v":0},{"$f":"COUNTIF(번호추출!$N$13:$S$13,자료실!G472)","v":0},{"$f":"COUNTIF(번호추출!$N$13:$S$13,자료실!H472)","v":0},{"$f":"COUNTIF(번호추출!$N$13:$S$13,I472)","v":0},0,0,0,0,0,0,0,{"$f":"IF(6=U472,\"1등\",IF(13=U472,\"1등\",0))","v":0},0]
[471,"2011.12.10",6,13,29,37,39,41,43,null,null,471,{"$f":"COUNTIF(번호추출!$N$13:$S$13,자료실!C473)","v":0},{"$f":"COUNTIF(번호추출!$N$13:$S$13,자료실!D473)","v":0},{"$f":"COUNTIF(번호추출!$N$13:$S$13,자료실!E473)","v":0},{"$f":"COUNTIF(번호추출!$N$13:$S$13,자료실!F473)","v":0},{"$f":"COUNTIF(번호추출!$N$13:$S$13,자료실!G473)","v":0},{"$f":"COUNTIF(번호추출!$N$13:$S$13,자료실!H473)","v":0},{"$f":"COUNTIF(번호추출!$N$13:$S$13,I473)","v":0},0,0,0,0,0,0,0,{"$f":"IF(6=U473,\"1등\",IF(13=U473,\"1등\",0))","v":0},0]
[472,"2011.12.17",16,25,26,31,36,43,44,null,null,472,{"$f":"COUNTIF(번호추출!$N$13:$S$13,자료실!C474)","v":0},{"$f":"COUNTIF(번호추출!$N$13:$S$13,자료실!D474)","v":1},{"$f":"COUNTIF(번호추출!$N$13:$S$13,자료실!E474)","v":0},{"$f":"COUNTIF(번호추출!$N$13:$S$13,자료실!F474)","v":0},{"$f":"COUNTIF(번호추출!$N$13:$S$13,자료실!G474)","v":0},{"$f":"COUNTIF(번호추출!$N$13:$S$13,자료실!H474)","v":0},{"$f":"COUNTIF(번호추출!$N$13:$S$13,I474)","v":0},1,1,"꽝",0,0,0,0,{"$f":"IF(6=U474,\"1등\",IF(13=U474,\"1등\",0))","v":0},0]
[473,"2011.12.24",8,13,20,22,23,36,34,null,null,{"$f":"A475","v":473},{"$f":"COUNTIF(번호추출!$N$13:$S$13,자료실!C475)","v":0},{"$f":"COUNTIF(번호추출!$N$13:$S$13,자료실!D475)","v":0},{"$f":"COUNTIF(번호추출!$N$13:$S$13,자료실!E475)","v":0},{"$f":"COUNTIF(번호추출!$N$13:$S$13,자료실!F475)","v":0},{"$f":"COUNTIF(번호추출!$N$13:$S$13,자료실!G475)","v":0},{"$f":"COUNTIF(번호추출!$N$13:$S$13,자료실!H475)","v":0},{"$f":"COUNTIF(번호추출!$N$13:$S$13,I475)","v":0},{"$f":"SUM(M475:R475)","v":0},{"$f":"SUM(M475:S475)","v":0},0,0,0,0,0,{"$f":"IF(6=U475,\"1등\",IF(13=U475,\"1등\",0))","v":0},0]
[474,"2011.12.31",4,13,18,31,33,45,43,null,null,474,{"$f":"COUNTIF(번호추출!$N$13:$S$13,자료실!C476)","v":1},{"$f":"COUNTIF(번호추출!$N$13:$S$13,자료실!D476)","v":0},{"$f":"COUNTIF(번호추출!$N$13:$S$13,자료실!E476)","v":1},{"$f":"COUNTIF(번호추출!$N$13:$S$13,자료실!F476)","v":0},{"$f":"COUNTIF(번호추출!$N$13:$S$13,자료실!G476)","v":1},{"$f":"COUNTIF(번호추출!$N$13:$S$13,자료실!H476)","v":1},{"$f":"COUNTIF(번호추출!$N$13:$S$13,I476)","v":0},4,4,"꽝","꽝","5등","4등",0,{"$f":"IF(6=U476,\"1등\",IF(13=U476,\"1등\",0))","v":0},0]
[475,"2012.01.07",1,9,14,16,21,29,3,null,null,475,{"$f":"COUNTIF(번호추출!$N$13:$S$13,자료실!C477)","v":0},{"$f":"COUNTIF(번호추출!$N$13:$S$13,자료실!D477)","v":0},{"$f":"COUNTIF(번호추출!$N$13:$S$13,자료실!E477)","v":0},{"$f":"COUNTIF(번호추출!$N$13:$S$13,자료실!F477)","v":0},{"$f":"COUNTIF(번호추출!$N$13:$S$13,자료실!G477)","v":0},{"$f":"COUNTIF(번호추출!$N$13:$S$13,자료실!H477)","v":0},{"$f":"COUNTIF(번호추출!$N$13:$S$13,I477)","v":0},0,0,0,0,0,0,0,{"$f":"IF(6=U477,\"1등\",IF(13=U477,\"1등\",0))","v":0},0]
[476,"2012.01.14",9,12,13,15,37,38,27,null,null,476,{"$f":"COUNTIF(번호추출!$N$13:$S$13,자료실!C478)","v":0},{"$f":"COUNTIF(번호추출!$N$13:$S$13,자료실!D478)","v":0},{"$f":"COUNTIF(번호추출!$N$13:$S$13,자료실!E478)","v":0},{"$f":"COUNTIF(번호추출!$N$13:$S$13,자료실!F478)","v":1},{"$f":"COUNTIF(번호추출!$N$13:$S$13,자료실!G478)","v":0},{"$f":"COUNTIF(번호추출!$N$13:$S$13,자료실!H478)","v":0},{"$f":"COUNTIF(번호추출!$N$13:$S$13,I478)","v":0},1,1,"꽝",0,0,0,0,{"$f":"IF(6=U478,\"1등\",IF(13=U478,\"1등\",0))","v":0},0]
[477,"2012.01.21",14,25,29,32,33,45,37,null,null,477,{"$f":"COUNTIF(번호추출!$N$13:$S$13,자료실!C479)","v":0},{"$f":"COUNTIF(번호추출!$N$13:$S$13,자료실!D479)","v":1},{"$f":"COUNTIF(번호추출!$N$13:$S$13,자료실!E479)","v":0},{"$f":"COUNTIF(번호추출!$N$13:$S$13,자료실!F479)","v":0},{"$f":"COUNTIF(번호추출!$N$13:$S$13,자료실!G479)","v":1},{"$f":"COUNTIF(번호추출!$N$13:$S$13,자료실!H479)","v":1},{"$f":"COUNTIF(번호추출!$N$13:$S$13,I479)","v":0},3,3,"꽝","꽝","5등",0,0,{"$f":"IF(6=U479,\"1등\",IF(13=U479,\"1등\",0))","v":0},0]
[478,"2012.01.28",18,29,30,37,39,43,8,null,null,478,{"$f":"COUNTIF(번호추출!$N$13:$S$13,자료실!C480)","v":1},{"$f":"COUNTIF(번호추출!$N$13:$S$13,자료실!D480)","v":0},{"$f":"COUNTIF(번호추출!$N$13:$S$13,자료실!E480)","v":0},{"$f":"COUNTIF(번호추출!$N$13:$S$13,자료실!F480)","v":0},{"$f":"COUNTIF(번호추출!$N$13:$S$13,자료실!G480)","v":0},{"$f":"COUNTIF(번호추출!$N$13:$S$13,자료실!H480)","v":0},{"$f":"COUNTIF(번호추출!$N$13:$S$13,I480)","v":0},1,1,"꽝",0,0,0,0,{"$f":"IF(6=U480,\"1등\",IF(13=U480,\"1등\",0))","v":0},0]
[479,"2012.02.04",8,23,25,27,35,44,24,null,null,479,{"$f":"COUNTIF(번호추출!$N$13:$S$13,자료실!C481)","v":0},{"$f":"COUNTIF(번호추출!$N$13:$S$13,자료실!D481)","v":0},{"$f":"COUNTIF(번호추출!$N$13:$S$13,자료실!E481)","v":1},{"$f":"COUNTIF(번호추출!$N$13:$S$13,자료실!F481)","v":0},{"$f":"COUNTIF(번호추출!$N$13:$S$13,자료실!G481)","v":0},{"$f":"COUNTIF(번호추출!$N$13:$S$13,자료실!H481)","v":0},{"$f":"COUNTIF(번호추출!$N$13:$S$13,I481)","v":0},1,1,"꽝",0,0,0,0,{"$f":"IF(6=U481,\"1등\",IF(13=U481,\"1등\",0))","v":0},0]
[480,"2012.02.11",3,5,10,17,30,31,16,null,null,480,{"$f":"COUNTIF(번호추출!$N$13:$S$13,자료실!C482)","v":0},{"$f":"COUNTIF(번호추출!$N$13:$S$13,자료실!D482)","v":0},{"$f":"COUNTIF(번호추출!$N$13:$S$13,자료실!E482)","v":0},{"$f":"COUNTIF(번호추출!$N$13:$S$13,자료실!F482)","v":0},{"$f":"COUNTIF(번호추출!$N$13:$S$13,자료실!G482)","v":0},{"$f":"COUNTIF(번호추출!$N$13:$S$13,자료실!H482)","v":0},{"$f":"COUNTIF(번호추출!$N$13:$S$13,I482)","v":0},0,0,0,0,0,0,0,{"$f":"IF(6=U482,\"1등\",IF(13=U482,\"1등\",0))","v":0},0]
[481,"2012.02.18",3,4,23,29,40,41,20,null,null,481,{"$f":"COUNTIF(번호추출!$N$13:$S$13,자료실!C483)","v":0},{"$f":"COUNTIF(번호추출!$N$13:$S$13,자료실!D483)","v":1},{"$f":"COUNTIF(번호추출!$N$13:$S$13,자료실!E483)","v":0},{"$f":"COUNTIF(번호추출!$N$13:$S$13,자료실!F483)","v":0},{"$f":"COUNTIF(번호추출!$N$13:$S$13,자료실!G483)","v":0},{"$f":"COUNTIF(번호추출!$N$13:$S$13,자료실!H483)","v":0},{"$f":"COUNTIF(번호추출!$N$13:$S$13,I483)","v":0},1,1,"꽝",0,0,0,0,{"$f":"IF(6=U483,\"1등\",IF(13=U483,\"1등\",0))","v":0},0]
[482,"2012.02.25",1,10,16,24,25,35,43,null,null,482,{"$f":"COUNTIF(번호추출!$N$13:$S$13,자료실!C484)","v":0},{"$f":"COUNTIF(번호추출!$N$13:$S$13,자료실!D484)","v":0},{"$f":"COUNTIF(번호추출!$N$13:$S$13,자료실!E484)","v":0},{"$f":"COUNTIF(번호추출!$N$13:$S$13,자료실!F484)","v":0},{"$f":"COUNTIF(번호추출!$N$13:$S$13,자료실!G484)","v":1},{"$f":"COUNTIF(번호추출!$N$13:$S$13,자료실!H484)","v":0},{"$f":"COUNTIF(번호추출!$N$13:$S$13,I484)","v":0},1,1,"꽝",0,0,0,0,{"$f":"IF(6=U484,\"1등\",IF(13=U484,\"1등\",0))","v":0},0]
[483,"2012.03.03",12,15,19,22,28,34,5,null,null,483,{"$f":"COUNTIF(번호추출!$N$13:$S$13,자료실!C485)","v":0},{"$f":"COUNTIF(번호추출!$N$13:$S$13,자료실!D485)","v":1},{"$f":"COUNTIF(번호추출!$N$13:$S$13,자료실!E485)","v":0},{"$f":"COUNTIF(번호추출!$N$13:$S$13,자료실!F485)","v":0},{"$f":"COUNTIF(번호추출!$N$13:$S$13,자료실!G485)","v":0},{"$f":"COUNTIF(번호추출!$N$13:$S$13,자료실!H485)","v":0},{"$f":"COUNTIF(번호추출!$N$13:$S$13,I485)","v":0},1,1,"꽝",0,0,0,0,{"$f":"IF(6=U485,\"1등\",IF(13=U485,\"1등\",0))","v":0},0]
[484,"2012.03.10",1,3,27,28,32,45,11,null,null,484,{"$f":"COUNTIF(번호추출!$N$13:$S$13,자료실!C486)","v":0},{"$f":"COUNTIF(번호추출!$N$13:$S$13,자료실!D486)","v":0},{"$f":"COUNTIF(번호추출!$N$13:$S$13,자료실!E486)","v":0},{"$f":"COUNTIF(번호추출!$N$13:$S$13,자료실!F486)","v":0},{"$f":"COUNTIF(번호추출!$N$13:$S$13,자료실!G486)","v":0},{"$f":"COUNTIF(번호추출!$N$13:$S$13,자료실!H486)","v":1},{"$f":"COUNTIF(번호추출!$N$13:$S$13,I486)","v":0},1,1,"꽝",0,0,0,0,{"$f":"IF(6=U486,\"1등\",IF(13=U486,\"1등\",0))","v":0},0]
[485,"2012.03.17",17,22,26,27,36,39,20,null,null,485,{"$f":"COUNTIF(번호추출!$N$13:$S$13,자료실!C487)","v":0},{"$f":"COUNTIF(번호추출!$N$13:$S$13,자료실!D487)","v":0},{"$f":"COUNTIF(번호추출!$N$13:$S$13,자료실!E487)","v":0},{"$f":"COUNTIF(번호추출!$N$13:$S$13,자료실!F487)","v":0},{"$f":"COUNTIF(번호추출!$N$13:$S$13,자료실!G487)","v":0},{"$f":"COUNTIF(번호추출!$N$13:$S$13,자료실!H487)","v":0},{"$f":"COUNTIF(번호추출!$N$13:$S$13,I487)","v":0},0,0,0,0,0,0,0,{"$f":"IF(6=U487,\"1등\",IF(13=U487,\"1등\",0))","v":0},0]
[486,"2012.03.24",1,2,23,25,38,40,43,null,null,486,{"$f":"COUNTIF(번호추출!$N$13:$S$13,자료실!C488)","v":0},{"$f":"COUNTIF(번호추출!$N$13:$S$13,자료실!D488)","v":0},{"$f":"COUNTIF(번호추출!$N$13:$S$13,자료실!E488)","v":0},{"$f":"COUNTIF(번호추출!$N$13:$S$13,자료실!F488)","v":1},{"$f":"COUNTIF(번호추출!$N$13:$S$13,자료실!G488)","v":0},{"$f":"COUNTIF(번호추출!$N$13:$S$13,자료실!H488)","v":0},{"$f":"COUNTIF(번호추출!$N$13:$S$13,I488)","v":0},1,1,"꽝",0,0,0,0,{"$f":"IF(6=U488,\"1등\",IF(13=U488,\"1등\",0))","v":0},0]
[487,"2012.03.31",4,8,25,27,37,41,21,null,null,487,{"$f":"COUNTIF(번호추출!$N$13:$S$13,자료실!C489)","v":1},{"$f":"COUNTIF(번호추출!$N$13:$S$13,자료실!D489)","v":0},{"$f":"COUNTIF(번호추출!$N$13:$S$13,자료실!E489)","v":1},{"$f":"COUNTIF(번호추출!$N$13:$S$13,자료실!F489)","v":0},{"$f":"COUNTIF(번호추출!$N$13:$S$13,자료실!G489)","v":0},{"$f":"COUNTIF(번호추출!$N$13:$S$13,자료실!H489)","v":0},{"$f":"COUNTIF(번호추출!$N$13:$S$13,I489)","v":0},2,2,"꽝","꽝",0,0,0,{"$f":"IF(6=U489,\"1등\",IF(13=U489,\"1등\",0))","v":0},0]
[488,"2012.04.07",2,8,17,30,31,38,25,null,null,488,{"$f":"COUNTIF(번호추출!$N$13:$S$13,자료실!C490)","v":0},{"$f":"COUNTIF(번호추출!$N$13:$S$13,자료실!D490)","v":0},{"$f":"COUNTIF(번호추출!$N$13:$S$13,자료실!E490)","v":0},{"$f":"COUNTIF(번호추출!$N$13:$S$13,자료실!F490)","v":0},{"$f":"COUNTIF(번호추출!$N$13:$S$13,자료실!G490)","v":0},{"$f":"COUNTIF(번호추출!$N$13:$S$13,자료실!H490)","v":0},{"$f":"COUNTIF(번호추출!$N$13:$S$13,I490)","v":1},0,1,"꽝",0,0,0,0,{"$f":"IF(6=U490,\"1등\",IF(13=U490,\"1등\",0))","v":0},0]
[489,"2012.04.14",2,4,8,15,20,27,11,null,null,489,{"$f":"COUNTIF(번호추출!$N$13:$S$13,자료실!C491)","v":0},{"$f":"COUNTIF(번호추출!$N$13:$S$13,자료실!D491)","v":1},{"$f":"COUNTIF(번호추출!$N$13:$S$13,자료실!E491)","v":0},{"$f":"COUNTIF(번호추출!$N$13:$S$13,자료실!F491)","v":1},{"$f":"COUNTIF(번호추출!$N$13:$S$13,자료실!G491)","v":0},{"$f":"COUNTIF(번호추출!$N$13:$S$13,자료실!H491)","v":0},{"$f":"COUNTIF(번호추출!$N$13:$S$13,I491)","v":0},2,2,"꽝","꽝",0,0,0,{"$f":"IF(6=U491,\"1등\",IF(13=U491,\"1등\",0))","v":0},0]
[490,"2012.04.21",2,7,26,29,40,43,42,null,null,490,{"$f":"COUNTIF(번호추출!$N$13:$S$13,자료실!C492)","v":0},{"$f":"COUNTIF(번호추출!$N$13:$S$13,자료실!D492)","v":0},{"$f":"COUNTIF(번호추출!$N$13:$S$13,자료실!E492)","v":0},{"$f":"COUNTIF(번호추출!$N$13:$S$13,자료실!F492)","v":0},{"$f":"COUNTIF(번호추출!$N$13:$S$13,자료실!G492)","v":0},{"$f":"COUNTIF(번호추출!$N$13:$S$13,자료실!H492)","v":0},{"$f":"COUNTIF(번호추출!$N$13:$S$13,I492)","v":0},0,0,0,0,0,0,0,{"$f":"IF(6=U492,\"1등\",IF(13=U492,\"1등\",0))","v":0},0]
[491,"2012.04.28",8,17,35,36,39,42,4,null,null,491,{"$f":"COUNTIF(번호추출!$N$13:$S$13,자료실!C493)","v":0},{"$f":"COUNTIF(번호추출!$N$13:$S$13,자료실!D493)","v":0},{"$f":"COUNTIF(번호추출!$N$13:$S$13,자료실!E493)","v":0},{"$f":"COUNTIF(번호추출!$N$13:$S$13,자료실!F493)","v":0},{"$f":"COUNTIF(번호추출!$N$13:$S$13,자료실!G493)","v":0},{"$f":"COUNTIF(번호추출!$N$13:$S$13,자료실!H493)","v":0},{"$f":"COUNTIF(번호추출!$N$13:$S$13,I493)","v":1},0,1,"꽝",0,0,0,0,{"$f":"IF(6=U493,\"1등\",IF(13=U493,\"1등\",0))","v":0},0]
[492,"2012.05.05",22,27,31,35,37,40,42,null,null,492,{"$f":"COUNTIF(번호추출!$N$13:$S$13,자료실!C494)","v":0},{"$f":"COUNTIF(번호추출!$N$13:$S$13,자료실!D494)","v":0},{"$f":"COUNTIF(번호추출!$N$13:$S$13,자료실!E494)","v":0},{"$f":"COUNTIF(번호추출!$N$13:$S$13,자료실!F494)","v":0},{"$f":"COUNTIF(번호추출!$N$13:$S$13,자료실!G494)","v":0},{"$f":"COUNTIF(번호추출!$N$13:$S$13,자료실!H494)","v":0},{"$f":"COUNTIF(번호추출!$N$13:$S$13,I494)","v":0},0,0,0,0,0,0,0,{"$f":"IF(6=U494,\"1등\",IF(13=U494,\"1등\",0))","v":0},0]
[493,"2012.05.12",20,22,26,33,36,37,25,null,null,493,{"$f":"COUNTIF(번호추출!$N$13:$S$13,자료실!C495)","v":0},{"$f":"COUNTIF(번호추출!$N$13:$S$13,자료실!D495)","v":0},{"$f":"COUNTIF(번호추출!$N$13:$S$13,자료실!E495)","v":0},{"$f":"COUNTIF(번호추출!$N$13:$S$13,자료실!F495)","v":1},{"$f":"COUNTIF(번호추출!$N$13:$S$13,자료실!G495)","v":0},{"$f":"COUNTIF(번호추출!$N$13:$S$13,자료실!H495)","v":0},{"$f":"COUNTIF(번호추출!$N$13:$S$13,I495)","v":1},1,2,"꽝","꽝",0,0,0,{"$f":"IF(6=U495,\"1등\",IF(13=U495,\"1등\",0))","v":0},0]
[494,"2012.05.19",5,7,8,15,30,43,22,null,null,494,{"$f":"COUNTIF(번호추출!$N$13:$S$13,자료실!C496)","v":0},{"$f":"COUNTIF(번호추출!$N$13:$S$13,자료실!D496)","v":0},{"$f":"COUNTIF(번호추출!$N$13:$S$13,자료실!E496)","v":0},{"$f":"COUNTIF(번호추출!$N$13:$S$13,자료실!F496)","v":1},{"$f":"COUNTIF(번호추출!$N$13:$S$13,자료실!G496)","v":0},{"$f":"COUNTIF(번호추출!$N$13:$S$13,자료실!H496)","v":0},{"$f":"COUNTIF(번호추출!$N$13:$S$13,I496)","v":0},1,1,"꽝",0,0,0,0,{"$f":"IF(6=U496,\"1등\",IF(13=U496,\"1등\",0))","v":0},0]
[495,"2012.05.26",4,13,22,27,34,44,6,null,null,495,{"$f":"COUNTIF(번호추출!$N$13:$S$13,자료실!C497)","v":1},{"$f":"COUNTIF(번호추출!$N$13:$S$13,자료실!D497)","v":0},{"$f":"COUNTIF(번호추출!$N$13:$S$13,자료실!E497)","v":0},{"$f":"COUNTIF(번호추출!$N$13:$S$13,자료실!F497)","v":0},{"$f":"COUNTIF(번호추출!$N$13:$S$13,자료실!G497)","v":0},{"$f":"COUNTIF(번호추출!$N$13:$S$13,자료실!H497)","v":0},{"$f":"COUNTIF(번호추출!$N$13:$S$13,I497)","v":0},1,1,"꽝",0,0,0,0,{"$f":"IF(6=U497,\"1등\",IF(13=U497,\"1등\",0))","v":0},0]
[496,"2012.06.02",4,13,20,29,36,41,39,null,null,496,{"$f":"COUNTIF(번호추출!$N$13:$S$13,자료실!C498)","v":1},{"$f":"COUNTIF(번호추출!$N$13:$S$13,자료실!D498)","v":0},{"$f":"COUNTIF(번호추출!$N$13:$S$13,자료실!E498)","v":0},{"$f":"COUNTIF(번호추출!$N$13:$S$13,자료실!F498)","v":0},{"$f":"COUNTIF(번호추출!$N$13:$S$13,자료실!G498)","v":0},{"$f":"COUNTIF(번호추출!$N$13:$S$13,자료실!H498)","v":0},{"$f":"COUNTIF(번호추출!$N$13:$S$13,I498)","v":0},1,1,"꽝",0,0,0,0,{"$f":"IF(6=U498,\"1등\",IF(13=U498,\"1등\",0))","v":0},0]
[497,"2012.06.09",19,20,23,24,43,44,13,null,null,497,{"$f":"COUNTIF(번호추출!$N$13:$S$13,자료실!C499)","v":0},{"$f":"COUNTIF(번호추출!$N$13:$S$13,자료실!D499)","v":0},{"$f":"COUNTIF(번호추출!$N$13:$S$13,자료실!E499)","v":0},{"$f":"COUNTIF(번호추출!$N$13:$S$13,자료실!F499)","v":0},{"$f":"COUNTIF(번호추출!$N$13:$S$13,자료실!G499)","v":0},{"$f":"COUNTIF(번호추출!$N$13:$S$13,자료실!H499)","v":0},{"$f":"COUNTIF(번호추출!$N$13:$S$13,I499)","v":0},0,0,0,0,0,0,0,{"$f":"IF(6=U499,\"1등\",IF(13=U499,\"1등\",0))","v":0},0]
[498,"2012.06.16",13,14,24,32,39,41,3,null,null,498,{"$f":"COUNTIF(번호추출!$N$13:$S$13,자료실!C500)","v":0},{"$f":"COUNTIF(번호추출!$N$13:$S$13,자료실!D500)","v":0},{"$f":"COUNTIF(번호추출!$N$13:$S$13,자료실!E500)","v":0},{"$f":"COUNTIF(번호추출!$N$13:$S$13,자료실!F500)","v":0},{"$f":"COUNTIF(번호추출!$N$13:$S$13,자료실!G500)","v":0},{"$f":"COUNTIF(번호추출!$N$13:$S$13,자료실!H500)","v":0},{"$f":"COUNTIF(번호추출!$N$13:$S$13,I500)","v":0},0,0,0,0,0,0,0,{"$f":"IF(6=U500,\"1등\",IF(13=U500,\"1등\",0))","v":0},0]
[499,"2012.06.23",5,20,23,27,35,40,43,null,null,499,{"$f":"COUNTIF(번호추출!$N$13:$S$13,자료실!C501)","v":0},{"$f":"COUNTIF(번호추출!$N$13:$S$13,자료실!D501)","v":0},{"$f":"COUNTIF(번호추출!$N$13:$S$13,자료실!E501)","v":0},{"$f":"COUNTIF(번호추출!$N$13:$S$13,자료실!F501)","v":0},{"$f":"COUNTIF(번호추출!$N$13:$S$13,자료실!G501)","v":0},{"$f":"COUNTIF(번호추출!$N$13:$S$13,자료실!H501)","v":0},{"$f":"COUNTIF(번호추출!$N$13:$S$13,I501)","v":0},0,0,0,0,0,0,0,{"$f":"IF(6=U501,\"1등\",IF(13=U501,\"1등\",0))","v":0},0]
[500,"2012.06.30",3,4,12,20,24,34,41,null,null,500,{"$f":"COUNTIF(번호추출!$N$13:$S$13,자료실!C502)","v":0},{"$f":"COUNTIF(번호추출!$N$13:$S$13,자료실!D502)","v":1},{"$f":"COUNTIF(번호추출!$N$13:$S$13,자료실!E502)","v":0},{"$f":"COUNTIF(번호추출!$N$13:$S$13,자료실!F502)","v":0},{"$f":"COUNTIF(번호추출!$N$13:$S$13,자료실!G502)","v":0},{"$f":"COUNTIF(번호추출!$N$13:$S$13,자료실!H502)","v":0},{"$f":"COUNTIF(번호추출!$N$13:$S$13,I502)","v":0},1,1,"꽝",0,0,0,0,{"$f":"IF(6=U502,\"1등\",IF(13=U502,\"1등\",0))","v":0},0]
[501,"2012.07.07",1,4,10,17,31,42,2,null,null,501,{"$f":"COUNTIF(번호추출!$N$13:$S$13,자료실!C503)","v":0},{"$f":"COUNTIF(번호추출!$N$13:$S$13,자료실!D503)","v":1},{"$f":"COUNTIF(번호추출!$N$13:$S$13,자료실!E503)","v":0},{"$f":"COUNTIF(번호추출!$N$13:$S$13,자료실!F503)","v":0},{"$f":"COUNTIF(번호추출!$N$13:$S$13,자료실!G503)","v":0},{"$f":"COUNTIF(번호추출!$N$13:$S$13,자료실!H503)","v":0},{"$f":"COUNTIF(번호추출!$N$13:$S$13,I503)","v":0},1,1,"꽝",0,0,0,0,{"$f":"IF(6=U503,\"1등\",IF(13=U503,\"1등\",0))","v":0},0]
[502,"2012.07.14",6,22,28,32,34,40,26,null,null,502,{"$f":"COUNTIF(번호추출!$N$13:$S$13,자료실!C504)","v":0},{"$f":"COUNTIF(번호추출!$N$13:$S$13,자료실!D504)","v":0},{"$f":"COUNTIF(번호추출!$N$13:$S$13,자료실!E504)","v":0},{"$f":"COUNTIF(번호추출!$N$13:$S$13,자료실!F504)","v":0},{"$f":"COUNTIF(번호추출!$N$13:$S$13,자료실!G504)","v":0},{"$f":"COUNTIF(번호추출!$N$13:$S$13,자료실!H504)","v":0},{"$f":"COUNTIF(번호추출!$N$13:$S$13,I504)","v":0},0,0,0,0,0,0,0,{"$f":"IF(6=U504,\"1등\",IF(13=U504,\"1등\",0))","v":0},0]
[503,"2012.07.21",1,5,27,30,34,36,40,null,null,503,{"$f":"COUNTIF(번호추출!$N$13:$S$13,자료실!C505)","v":0},{"$f":"COUNTIF(번호추출!$N$13:$S$13,자료실!D505)","v":0},{"$f":"COUNTIF(번호추출!$N$13:$S$13,자료실!E505)","v":0},{"$f":"COUNTIF(번호추출!$N$13:$S$13,자료실!F505)","v":0},{"$f":"COUNTIF(번호추출!$N$13:$S$13,자료실!G505)","v":0},{"$f":"COUNTIF(번호추출!$N$13:$S$13,자료실!H505)","v":0},{"$f":"COUNTIF(번호추출!$N$13:$S$13,I505)","v":0},0,0,0,0,0,0,0,{"$f":"IF(6=U505,\"1등\",IF(13=U505,\"1등\",0))","v":0},0]
[504,"2012.07.28",6,14,22,26,43,44,31,null,null,504,{"$f":"COUNTIF(번호추출!$N$13:$S$13,자료실!C506)","v":0},{"$f":"COUNTIF(번호추출!$N$13:$S$13,자료실!D506)","v":0},{"$f":"COUNTIF(번호추출!$N$13:$S$13,자료실!E506)","v":0},{"$f":"COUNTIF(번호추출!$N$13:$S$13,자료실!F506)","v":0},{"$f":"COUNTIF(번호추출!$N$13:$S$13,자료실!G506)","v":0},{"$f":"COUNTIF(번호추출!$N$13:$S$13,자료실!H506)","v":0},{"$f":"COUNTIF(번호추출!$N$13:$S$13,I506)","v":0},0,0,0,0,0,0,0,{"$f":"IF(6=U506,\"1등\",IF(13=U506,\"1등\",0))","v":0},0]
[505,"2012.08.04",7,20,22,25,38,40,44,null,null,505,{"$f":"COUNTIF(번호추출!$N$13:$S$13,자료실!C507)","v":0},{"$f":"COUNTIF(번호추출!$N$13:$S$13,자료실!D507)","v":0},{"$f":"COUNTIF(번호추출!$N$13:$S$13,자료실!E507)","v":0},{"$f":"COUNTIF(번호추출!$N$13:$S$13,자료실!F507)","v":1},{"$f":"COUNTIF(번호추출!$N$13:$S$13,자료실!G507)","v":0},{"$f":"COUNTIF(번호추출!$N$13:$S$13,자료실!H507)","v":0},{"$f":"COUNTIF(번호추출!$N$13:$S$13,I507)","v":0},1,1,"꽝",0,0,0,0,{"$f":"IF(6=U507,\"1등\",IF(13=U507,\"1등\",0))","v":0},0]
[506,"2012.08.11",6,9,11,22,24,30,31,null,null,506,{"$f":"COUNTIF(번호추출!$N$13:$S$13,자료실!C508)","v":0},{"$f":"COUNTIF(번호추출!$N$13:$S$13,자료실!D508)","v":0},{"$f":"COUNTIF(번호추출!$N$13:$S$13,자료실!E508)","v":0},{"$f":"COUNTIF(번호추출!$N$13:$S$13,자료실!F508)","v":0},{"$f":"COUNTIF(번호추출!$N$13:$S$13,자료실!G508)","v":0},{"$f":"COUNTIF(번호추출!$N$13:$S$13,자료실!H508)","v":0},{"$f":"COUNTIF(번호추출!$N$13:$S$13,I508)","v":0},0,0,0,0,0,0,0,{"$f":"IF(6=U508,\"1등\",IF(13=U508,\"1등\",0))","v":0},0]
[507,"2012.08.18",12,13,32,33,40,41,4,null,null,507,{"$f":"COUNTIF(번호추출!$N$13:$S$13,자료실!C509)","v":0},{"$f":"COUNTIF(번호추출!$N$13:$S$13,자료실!D509)","v":0},{"$f":"COUNTIF(번호추출!$N$13:$S$13,자료실!E509)","v":0},{"$f":"COUNTIF(번호추출!$N$13:$S$13,자료실!F509)","v":1},{"$f":"COUNTIF(번호추출!$N$13:$S$13,자료실!G509)","v":0},{"$f":"COUNTIF(번호추출!$N$13:$S$13,자료실!H509)","v":0},{"$f":"COUNTIF(번호추출!$N$13:$S$13,I509)","v":1},1,2,"꽝","꽝",0,0,0,{"$f":"IF(6=U509,\"1등\",IF(13=U509,\"1등\",0))","v":0},0]
[508,"2012.08.25",5,27,31,34,35,43,37,null,null,508,{"$f":"COUNTIF(번호추출!$N$13:$S$13,자료실!C510)","v":0},{"$f":"COUNTIF(번호추출!$N$13:$S$13,자료실!D510)","v":0},{"$f":"COUNTIF(번호추출!$N$13:$S$13,자료실!E510)","v":0},{"$f":"COUNTIF(번호추출!$N$13:$S$13,자료실!F510)","v":0},{"$f":"COUNTIF(번호추출!$N$13:$S$13,자료실!G510)","v":0},{"$f":"COUNTIF(번호추출!$N$13:$S$13,자료실!H510)","v":0},{"$f":"COUNTIF(번호추출!$N$13:$S$13,I510)","v":0},0,0,0,0,0,0,0,{"$f":"IF(6=U510,\"1등\",IF(13=U510,\"1등\",0))","v":0},0]
[509,"2012.09.01",12,25,29,35,42,43,24,null,null,509,{"$f":"COUNTIF(번호추출!$N$13:$S$13,자료실!C511)","v":0},{"$f":"COUNTIF(번호추출!$N$13:$S$13,자료실!D511)","v":1},{"$f":"COUNTIF(번호추출!$N$13:$S$13,자료실!E511)","v":0},{"$f":"COUNTIF(번호추출!$N$13:$S$13,자료실!F511)","v":0},{"$f":"COUNTIF(번호추출!$N$13:$S$13,자료실!G511)","v":0},{"$f":"COUNTIF(번호추출!$N$13:$S$13,자료실!H511)","v":0},{"$f":"COUNTIF(번호추출!$N$13:$S$13,I511)","v":0},1,1,"꽝",0,0,0,0,{"$f":"IF(6=U511,\"1등\",IF(13=U511,\"1등\",0))","v":0},0]
[510,"2012.09.08",12,29,32,33,39,40,42,null,null,510,{"$f":"COUNTIF(번호추출!$N$13:$S$13,자료실!C512)","v":0},{"$f":"COUNTIF(번호추출!$N$13:$S$13,자료실!D512)","v":0},{"$f":"COUNTIF(번호추출!$N$13:$S$13,자료실!E512)","v":0},{"$f":"COUNTIF(번호추출!$N$13:$S$13,자료실!F512)","v":1},{"$f":"COUNTIF(번호추출!$N$13:$S$13,자료실!G512)","v":0},{"$f":"COUNTIF(번호추출!$N$13:$S$13,자료실!H512)","v":0},{"$f":"COUNTIF(번호추출!$N$13:$S$13,I512)","v":0},1,1,"꽝",0,0,0,0,{"$f":"IF(6=U512,\"1등\",IF(13=U512,\"1등\",0))","v":0},0]
[511,"2012.09.15",3,7,14,23,26,42,24,null,null,511,{"$f":"COUNTIF(번호추출!$N$13:$S$13,자료실!C513)","v":0},{"$f":"COUNTIF(번호추출!$N$13:$S$13,자료실!D513)","v":0},{"$f":"COUNTIF(번호추출!$N$13:$S$13,자료실!E513)","v":0},{"$f":"COUNTIF(번호추출!$N$13:$S$13,자료실!F513)","v":0},{"$f":"COUNTIF(번호추출!$N$13:$S$13,자료실!G513)","v":0},{"$f":"COUNTIF(번호추출!$N$13:$S$13,자료실!H513)","v":0},{"$f":"COUNTIF(번호추출!$N$13:$S$13,I513)","v":0},0,0,0,0,0,0,0,{"$f":"IF(6=U513,\"1등\",IF(13=U513,\"1등\",0))","v":0},0]
[512,"2012.09.22",4,5,9,13,26,27,1,null,null,512,{"$f":"COUNTIF(번호추출!$N$13:$S$13,자료실!C514)","v":1},{"$f":"COUNTIF(번호추출!$N$13:$S$13,자료실!D514)","v":0},{"$f":"COUNTIF(번호추출!$N$13:$S$13,자료실!E514)","v":0},{"$f":"COUNTIF(번호추출!$N$13:$S$13,자료실!F514)","v":0},{"$f":"COUNTIF(번호추출!$N$13:$S$13,자료실!G514)","v":0},{"$f":"COUNTIF(번호추출!$N$13:$S$13,자료실!H514)","v":0},{"$f":"COUNTIF(번호추출!$N$13:$S$13,I514)","v":0},1,1,"꽝",0,0,0,0,{"$f":"IF(6=U514,\"1등\",IF(13=U514,\"1등\",0))","v":0},0]
[513,"2012.09.29",5,8,21,23,27,33,12,null,null,513,{"$f":"COUNTIF(번호추출!$N$13:$S$13,자료실!C515)","v":0},{"$f":"COUNTIF(번호추출!$N$13:$S$13,자료실!D515)","v":0},{"$f":"COUNTIF(번호추출!$N$13:$S$13,자료실!E515)","v":0},{"$f":"COUNTIF(번호추출!$N$13:$S$13,자료실!F515)","v":0},{"$f":"COUNTIF(번호추출!$N$13:$S$13,자료실!G515)","v":0},{"$f":"COUNTIF(번호추출!$N$13:$S$13,자료실!H515)","v":1},{"$f":"COUNTIF(번호추출!$N$13:$S$13,I515)","v":0},1,1,"꽝",0,0,0,0,{"$f":"IF(6=U515,\"1등\",IF(13=U515,\"1등\",0))","v":0},0]
[514,"2012.10.06",1,15,20,26,35,42,9,null,null,514,{"$f":"COUNTIF(번호추출!$N$13:$S$13,자료실!C516)","v":0},{"$f":"COUNTIF(번호추출!$N$13:$S$13,자료실!D516)","v":1},{"$f":"COUNTIF(번호추출!$N$13:$S$13,자료실!E516)","v":0},{"$f":"COUNTIF(번호추출!$N$13:$S$13,자료실!F516)","v":0},{"$f":"COUNTIF(번호추출!$N$13:$S$13,자료실!G516)","v":0},{"$f":"COUNTIF(번호추출!$N$13:$S$13,자료실!H516)","v":0},{"$f":"COUNTIF(번호추출!$N$13:$S$13,I516)","v":0},1,1,"꽝",0,0,0,0,{"$f":"IF(6=U516,\"1등\",IF(13=U516,\"1등\",0))","v":0},0]
[515,"2012.10.13",2,11,12,15,23,37,8,null,null,515,{"$f":"COUNTIF(번호추출!$N$13:$S$13,자료실!C517)","v":0},{"$f":"COUNTIF(번호추출!$N$13:$S$13,자료실!D517)","v":0},{"$f":"COUNTIF(번호추출!$N$13:$S$13,자료실!E517)","v":0},{"$f":"COUNTIF(번호추출!$N$13:$S$13,자료실!F517)","v":1},{"$f":"COUNTIF(번호추출!$N$13:$S$13,자료실!G517)","v":0},{"$f":"COUNTIF(번호추출!$N$13:$S$13,자료실!H517)","v":0},{"$f":"COUNTIF(번호추출!$N$13:$S$13,I517)","v":0},1,1,"꽝",0,0,0,0,{"$f":"IF(6=U517,\"1등\",IF(13=U517,\"1등\",0))","v":0},0]
[516,"2012.10.20",2,8,23,41,43,44,30,null,null,516,{"$f":"COUNTIF(번호추출!$N$13:$S$13,자료실!C518)","v":0},{"$f":"COUNTIF(번호추출!$N$13:$S$13,자료실!D518)","v":0},{"$f":"COUNTIF(번호추출!$N$13:$S$13,자료실!E518)","v":0},{"$f":"COUNTIF(번호추출!$N$13:$S$13,자료실!F518)","v":0},{"$f":"COUNTIF(번호추출!$N$13:$S$13,자료실!G518)","v":0},{"$f":"COUNTIF(번호추출!$N$13:$S$13,자료실!H518)","v":0},{"$f":"COUNTIF(번호추출!$N$13:$S$13,I518)","v":0},0,0,0,0,0,0,0,{"$f":"IF(6=U518,\"1등\",IF(13=U518,\"1등\",0))","v":0},0]
[517,"2012.10.27",1,9,12,28,36,41,10,null,null,517,{"$f":"COUNTIF(번호추출!$N$13:$S$13,자료실!C519)","v":0},{"$f":"COUNTIF(번호추출!$N$13:$S$13,자료실!D519)","v":0},{"$f":"COUNTIF(번호추출!$N$13:$S$13,자료실!E519)","v":0},{"$f":"COUNTIF(번호추출!$N$13:$S$13,자료실!F519)","v":0},{"$f":"COUNTIF(번호추출!$N$13:$S$13,자료실!G519)","v":0},{"$f":"COUNTIF(번호추출!$N$13:$S$13,자료실!H519)","v":0},{"$f":"COUNTIF(번호추출!$N$13:$S$13,I519)","v":0},0,0,0,0,0,0,0,{"$f":"IF(6=U519,\"1등\",IF(13=U519,\"1등\",0))","v":0},0]
[518,"2012.11.03",14,23,30,32,34,38,6,null,null,518,{"$f":"COUNTIF(번호추출!$N$13:$S$13,자료실!C520)","v":0},{"$f":"COUNTIF(번호추출!$N$13:$S$13,자료실!D520)","v":0},{"$f":"COUNTIF(번호추출!$N$13:$S$13,자료실!E520)","v":0},{"$f":"COUNTIF(번호추출!$N$13:$S$13,자료실!F520)","v":0},{"$f":"COUNTIF(번호추출!$N$13:$S$13,자료실!G520)","v":0},{"$f":"COUNTIF(번호추출!$N$13:$S$13,자료실!H520)","v":0},{"$f":"COUNTIF(번호추출!$N$13:$S$13,I520)","v":0},0,0,0,0,0,0,0,{"$f":"IF(6=U520,\"1등\",IF(13=U520,\"1등\",0))","v":0},0]
[519,"2012.11.10",6,8,13,16,30,43,3,null,null,519,{"$f":"COUNTIF(번호추출!$N$13:$S$13,자료실!C521)","v":0},{"$f":"COUNTIF(번호추출!$N$13:$S$13,자료실!D521)","v":0},{"$f":"COUNTIF(번호추출!$N$13:$S$13,자료실!E521)","v":0},{"$f":"COUNTIF(번호추출!$N$13:$S$13,자료실!F521)","v":0},{"$f":"COUNTIF(번호추출!$N$13:$S$13,자료실!G521)","v":0},{"$f":"COUNTIF(번호추출!$N$13:$S$13,자료실!H521)","v":0},{"$f":"COUNTIF(번호추출!$N$13:$S$13,I521)","v":0},0,0,0,0,0,0,0,{"$f":"IF(6=U521,\"1등\",IF(13=U521,\"1등\",0))","v":0},0]
[520,"2012.11.17",4,22,27,28,38,40,1,null,null,520,{"$f":"COUNTIF(번호추출!$N$13:$S$13,자료실!C522)","v":1},{"$f":"COUNTIF(번호추출!$N$13:$S$13,자료실!D522)","v":0},{"$f":"COUNTIF(번호추출!$N$13:$S$13,자료실!E522)","v":0},{"$f":"COUNTIF(번호추출!$N$13:$S$13,자료실!F522)","v":0},{"$f":"COUNTIF(번호추출!$N$13:$S$13,자료실!G522)","v":0},{"$f":"COUNTIF(번호추출!$N$13:$S$13,자료실!H522)","v":0},{"$f":"COUNTIF(번호추출!$N$13:$S$13,I522)","v":0},1,1,"꽝",0,0,0,0,{"$f":"IF(6=U522,\"1등\",IF(13=U522,\"1등\",0))","v":0},0]
[521,"2012.11.24",3,7,18,29,32,36,19,null,null,521,{"$f":"COUNTIF(번호추출!$N$13:$S$13,자료실!C523)","v":0},{"$f":"COUNTIF(번호추출!$N$13:$S$13,자료실!D523)","v":0},{"$f":"COUNTIF(번호추출!$N$13:$S$13,자료실!E523)","v":1},{"$f":"COUNTIF(번호추출!$N$13:$S$13,자료실!F523)","v":0},{"$f":"COUNTIF(번호추출!$N$13:$S$13,자료실!G523)","v":0},{"$f":"COUNTIF(번호추출!$N$13:$S$13,자료실!H523)","v":0},{"$f":"COUNTIF(번호추출!$N$13:$S$13,I523)","v":0},1,1,"꽝",0,0,0,0,{"$f":"IF(6=U523,\"1등\",IF(13=U523,\"1등\",0))","v":0},0]
[522,"2012.12.01",4,5,13,14,37,41,11,null,null,522,{"$f":"COUNTIF(번호추출!$N$13:$S$13,자료실!C524)","v":1},{"$f":"COUNTIF(번호추출!$N$13:$S$13,자료실!D524)","v":0},{"$f":"COUNTIF(번호추출!$N$13:$S$13,자료실!E524)","v":0},{"$f":"COUNTIF(번호추출!$N$13:$S$13,자료실!F524)","v":0},{"$f":"COUNTIF(번호추출!$N$13:$S$13,자료실!G524)","v":0},{"$f":"COUNTIF(번호추출!$N$13:$S$13,자료실!H524)","v":0},{"$f":"COUNTIF(번호추출!$N$13:$S$13,I524)","v":0},1,1,"꽝",0,0,0,0,{"$f":"IF(6=U524,\"1등\",IF(13=U524,\"1등\",0))","v":0},0]
[523,"2012.12.08",1,4,37,38,40,45,7,null,null,523,{"$f":"COUNTIF(번호추출!$N$13:$S$13,자료실!C525)","v":0},{"$f":"COUNTIF(번호추출!$N$13:$S$13,자료실!D525)","v":1},{"$f":"COUNTIF(번호추출!$N$13:$S$13,자료실!E525)","v":0},{"$f":"COUNTIF(번호추출!$N$13:$S$13,자료실!F525)","v":0},{"$f":"COUNTIF(번호추출!$N$13:$S$13,자료실!G525)","v":0},{"$f":"COUNTIF(번호추출!$N$13:$S$13,자료실!H525)","v":1},{"$f":"COUNTIF(번호추출!$N$13:$S$13,I525)","v":0},2,2,"꽝","꽝",0,0,0,{"$f":"IF(6=U525,\"1등\",IF(13=U525,\"1등\",0))","v":0},0]
[524,"2012.12.15",10,11,29,38,41,45,21,null,null,524,{"$f":"COUNTIF(번호추출!$N$13:$S$13,자료실!C526)","v":0},{"$f":"COUNTIF(번호추출!$N$13:$S$13,자료실!D526)","v":0},{"$f":"COUNTIF(번호추출!$N$13:$S$13,자료실!E526)","v":0},{"$f":"COUNTIF(번호추출!$N$13:$S$13,자료실!F526)","v":0},{"$f":"COUNTIF(번호추출!$N$13:$S$13,자료실!G526)","v":0},{"$f":"COUNTIF(번호추출!$N$13:$S$13,자료실!H526)","v":1},{"$f":"COUNTIF(번호추출!$N$13:$S$13,I526)","v":0},1,1,{"$f":"IF(1=U526,\"꽝\",IF(0<T526,\"꽝\",0))","v":"꽝"},{"$f":"IF(2=U526,\"꽝\",IF(1<T526,\"꽝\",0))","v":0},{"$f":"IF(3=U526,\"5등\",IF(2<T526,\"5등\",0))","v":0},{"$f":"IF(4=U526,\"4등\",IF(3<T526,\"4등\",0))","v":0},{"$f":"IF(5=U526,\"3등\",IF(4<T526,\"3등\",0))","v":0},{"$f":"IF(6=U526,\"1등\",IF(13=U526,\"1등\",0))","v":0},{"$f":"IF(U526=12,\"2등\",0)","v":0}]
[525,"2012.12.22",11,23,26,29,39,44,22,null,null,525,{"$f":"COUNTIF(번호추출!$N$13:$S$13,자료실!C527)","v":0},{"$f":"COUNTIF(번호추출!$N$13:$S$13,자료실!D527)","v":0},{"$f":"COUNTIF(번호추출!$N$13:$S$13,자료실!E527)","v":0},{"$f":"COUNTIF(번호추출!$N$13:$S$13,자료실!F527)","v":0},{"$f":"COUNTIF(번호추출!$N$13:$S$13,자료실!G527)","v":0},{"$f":"COUNTIF(번호추출!$N$13:$S$13,자료실!H527)","v":0},{"$f":"COUNTIF(번호추출!$N$13:$S$13,I527)","v":0},0,0,0,0,0,0,0,{"$f":"IF(6=U527,\"1등\",IF(13=U527,\"1등\",0))","v":0},0]
[526,"2012.12.29",7,14,17,20,35,39,31,null,null,526,{"$f":"COUNTIF(번호추출!$N$13:$S$13,자료실!C528)","v":0},{"$f":"COUNTIF(번호추출!$N$13:$S$13,자료실!D528)","v":0},{"$f":"COUNTIF(번호추출!$N$13:$S$13,자료실!E528)","v":0},{"$f":"COUNTIF(번호추출!$N$13:$S$13,자료실!F528)","v":0},{"$f":"COUNTIF(번호추출!$N$13:$S$13,자료실!G528)","v":0},{"$f":"COUNTIF(번호추출!$N$13:$S$13,자료실!H528)","v":0},{"$f":"COUNTIF(번호추출!$N$13:$S$13,I528)","v":0},0,0,0,0,0,0,0,{"$f":"IF(6=U528,\"1등\",IF(13=U528,\"1등\",0))","v":0},0]
[527,"2013.01.05",1,12,22,32,33,42,38,null,null,527,{"$f":"COUNTIF(번호추출!$N$13:$S$13,자료실!C529)","v":0},{"$f":"COUNTIF(번호추출!$N$13:$S$13,자료실!D529)","v":0},{"$f":"COUNTIF(번호추출!$N$13:$S$13,자료실!E529)","v":0},{"$f":"COUNTIF(번호추출!$N$13:$S$13,자료실!F529)","v":0},{"$f":"COUNTIF(번호추출!$N$13:$S$13,자료실!G529)","v":1},{"$f":"COUNTIF(번호추출!$N$13:$S$13,자료실!H529)","v":0},{"$f":"COUNTIF(번호추출!$N$13:$S$13,I529)","v":0},1,1,"꽝",0,0,0,0,{"$f":"IF(6=U529,\"1등\",IF(13=U529,\"1등\",0))","v":0},0]
[528,"2013.01.12",5,17,25,31,39,40,10,null,null,528,{"$f":"COUNTIF(번호추출!$N$13:$S$13,자료실!C530)","v":0},{"$f":"COUNTIF(번호추출!$N$13:$S$13,자료실!D530)","v":0},{"$f":"COUNTIF(번호추출!$N$13:$S$13,자료실!E530)","v":1},{"$f":"COUNTIF(번호추출!$N$13:$S$13,자료실!F530)","v":0},{"$f":"COUNTIF(번호추출!$N$13:$S$13,자료실!G530)","v":0},{"$f":"COUNTIF(번호추출!$N$13:$S$13,자료실!H530)","v":0},{"$f":"COUNTIF(번호추출!$N$13:$S$13,I530)","v":0},1,1,"꽝",0,0,0,0,{"$f":"IF(6=U530,\"1등\",IF(13=U530,\"1등\",0))","v":0},0]
[529,"2013.01.19",18,20,24,27,31,42,39,null,null,529,{"$f":"COUNTIF(번호추출!$N$13:$S$13,자료실!C531)","v":1},{"$f":"COUNTIF(번호추출!$N$13:$S$13,자료실!D531)","v":0},{"$f":"COUNTIF(번호추출!$N$13:$S$13,자료실!E531)","v":0},{"$f":"COUNTIF(번호추출!$N$13:$S$13,자료실!F531)","v":0},{"$f":"COUNTIF(번호추출!$N$13:$S$13,자료실!G531)","v":0},{"$f":"COUNTIF(번호추출!$N$13:$S$13,자료실!H531)","v":0},{"$f":"COUNTIF(번호추출!$N$13:$S$13,I531)","v":0},1,1,"꽝",0,0,0,0,{"$f":"IF(6=U531,\"1등\",IF(13=U531,\"1등\",0))","v":0},0]
[530,"2013.01.26",16,23,27,29,33,41,22,null,null,530,{"$f":"COUNTIF(번호추출!$N$13:$S$13,자료실!C532)","v":0},{"$f":"COUNTIF(번호추출!$N$13:$S$13,자료실!D532)","v":0},{"$f":"COUNTIF(번호추출!$N$13:$S$13,자료실!E532)","v":0},{"$f":"COUNTIF(번호추출!$N$13:$S$13,자료실!F532)","v":0},{"$f":"COUNTIF(번호추출!$N$13:$S$13,자료실!G532)","v":1},{"$f":"COUNTIF(번호추출!$N$13:$S$13,자료실!H532)","v":0},{"$f":"COUNTIF(번호추출!$N$13:$S$13,I532)","v":0},1,1,"꽝",0,0,0,0,{"$f":"IF(6=U532,\"1등\",IF(13=U532,\"1등\",0))","v":0},0]
[531,"2013.02.02",1,5,9,21,27,35,45,null,null,531,{"$f":"COUNTIF(번호추출!$N$13:$S$13,자료실!C533)","v":0},{"$f":"COUNTIF(번호추출!$N$13:$S$13,자료실!D533)","v":0},{"$f":"COUNTIF(번호추출!$N$13:$S$13,자료실!E533)","v":0},{"$f":"COUNTIF(번호추출!$N$13:$S$13,자료실!F533)","v":0},{"$f":"COUNTIF(번호추출!$N$13:$S$13,자료실!G533)","v":0},{"$f":"COUNTIF(번호추출!$N$13:$S$13,자료실!H533)","v":0},{"$f":"COUNTIF(번호추출!$N$13:$S$13,I533)","v":1},0,1,"꽝",0,0,0,0,{"$f":"IF(6=U533,\"1등\",IF(13=U533,\"1등\",0))","v":0},0]
[532,"2013.02.09",16,17,23,24,29,44,3,null,null,532,{"$f":"COUNTIF(번호추출!$N$13:$S$13,자료실!C534)","v":0},{"$f":"COUNTIF(번호추출!$N$13:$S$13,자료실!D534)","v":0},{"$f":"COUNTIF(번호추출!$N$13:$S$13,자료실!E534)","v":0},{"$f":"COUNTIF(번호추출!$N$13:$S$13,자료실!F534)","v":0},{"$f":"COUNTIF(번호추출!$N$13:$S$13,자료실!G534)","v":0},{"$f":"COUNTIF(번호추출!$N$13:$S$13,자료실!H534)","v":0},{"$f":"COUNTIF(번호추출!$N$13:$S$13,I534)","v":0},0,0,0,0,0,0,0,{"$f":"IF(6=U534,\"1등\",IF(13=U534,\"1등\",0))","v":0},0]
[533,"2013.02.16",9,14,15,17,31,33,23,null,null,533,{"$f":"COUNTIF(번호추출!$N$13:$S$13,자료실!C535)","v":0},{"$f":"COUNTIF(번호추출!$N$13:$S$13,자료실!D535)","v":0},{"$f":"COUNTIF(번호추출!$N$13:$S$13,자료실!E535)","v":1},{"$f":"COUNTIF(번호추출!$N$13:$S$13,자료실!F535)","v":0},{"$f":"COUNTIF(번호추출!$N$13:$S$13,자료실!G535)","v":0},{"$f":"COUNTIF(번호추출!$N$13:$S$13,자료실!H535)","v":1},{"$f":"COUNTIF(번호추출!$N$13:$S$13,I535)","v":0},2,2,"꽝","꽝",0,0,0,{"$f":"IF(6=U535,\"1등\",IF(13=U535,\"1등\",0))","v":0},0]
[534,"2013.02.23",10,24,26,29,37,38,32,null,null,534,{"$f":"COUNTIF(번호추출!$N$13:$S$13,자료실!C536)","v":0},{"$f":"COUNTIF(번호추출!$N$13:$S$13,자료실!D536)","v":0},{"$f":"COUNTIF(번호추출!$N$13:$S$13,자료실!E536)","v":0},{"$f":"COUNTIF(번호추출!$N$13:$S$13,자료실!F536)","v":0},{"$f":"COUNTIF(번호추출!$N$13:$S$13,자료실!G536)","v":0},{"$f":"COUNTIF(번호추출!$N$13:$S$13,자료실!H536)","v":0},{"$f":"COUNTIF(번호추출!$N$13:$S$13,I536)","v":0},0,0,0,0,0,0,0,{"$f":"IF(6=U536,\"1등\",IF(13=U536,\"1등\",0))","v":0},0]
[535,"2013.03.02",11,12,14,15,18,39,34,null,null,535,{"$f":"COUNTIF(번호추출!$N$13:$S$13,자료실!C537)","v":0},{"$f":"COUNTIF(번호추출!$N$13:$S$13,자료실!D537)","v":0},{"$f":"COUNTIF(번호추출!$N$13:$S$13,자료실!E537)","v":0},{"$f":"COUNTIF(번호추출!$N$13:$S$13,자료실!F537)","v":1},{"$f":"COUNTIF(번호추출!$N$13:$S$13,자료실!G537)","v":1},{"$f":"COUNTIF(번호추출!$N$13:$S$13,자료실!H537)","v":0},{"$f":"COUNTIF(번호추출!$N$13:$S$13,I537)","v":0},2,2,"꽝","꽝",0,0,0,{"$f":"IF(6=U537,\"1등\",IF(13=U537,\"1등\",0))","v":0},0]
[536,"2013.03.09",7,8,18,32,37,43,12,null,null,536,{"$f":"COUNTIF(번호추출!$N$13:$S$13,자료실!C538)","v":0},{"$f":"COUNTIF(번호추출!$N$13:$S$13,자료실!D538)","v":0},{"$f":"COUNTIF(번호추출!$N$13:$S$13,자료실!E538)","v":1},{"$f":"COUNTIF(번호추출!$N$13:$S$13,자료실!F538)","v":0},{"$f":"COUNTIF(번호추출!$N$13:$S$13,자료실!G538)","v":0},{"$f":"COUNTIF(번호추출!$N$13:$S$13,자료실!H538)","v":0},{"$f":"COUNTIF(번호추출!$N$13:$S$13,I538)","v":0},1,1,"꽝",0,0,0,0,{"$f":"IF(6=U538,\"1등\",IF(13=U538,\"1등\",0))","v":0},0]
[537,"2013.03.16",12,23,26,30,36,43,11,null,null,{"$f":"A539","v":537},{"$f":"COUNTIF(번호추출!$N$13:$S$13,자료실!C539)","v":0},{"$f":"COUNTIF(번호추출!$N$13:$S$13,자료실!D539)","v":0},{"$f":"COUNTIF(번호추출!$N$13:$S$13,자료실!E539)","v":0},{"$f":"COUNTIF(번호추출!$N$13:$S$13,자료실!F539)","v":0},{"$f":"COUNTIF(번호추출!$N$13:$S$13,자료실!G539)","v":0},{"$f":"COUNTIF(번호추출!$N$13:$S$13,자료실!H539)","v":0},{"$f":"COUNTIF(번호추출!$N$13:$S$13,I539)","v":0},{"$f":"SUM(M539:R539)","v":0},{"$f":"SUM(M539:S539)","v":0},0,0,0,0,0,{"$f":"IF(6=U539,\"1등\",IF(13=U539,\"1등\",0))","v":0},0]
[538,"2013.03.23",6,10,18,31,32,34,11,null,null,538,{"$f":"COUNTIF(번호추출!$N$13:$S$13,자료실!C540)","v":0},{"$f":"COUNTIF(번호추출!$N$13:$S$13,자료실!D540)","v":0},{"$f":"COUNTIF(번호추출!$N$13:$S$13,자료실!E540)","v":1},{"$f":"COUNTIF(번호추출!$N$13:$S$13,자료실!F540)","v":0},{"$f":"COUNTIF(번호추출!$N$13:$S$13,자료실!G540)","v":0},{"$f":"COUNTIF(번호추출!$N$13:$S$13,자료실!H540)","v":0},{"$f":"COUNTIF(번호추출!$N$13:$S$13,I540)","v":0},1,1,"꽝",0,0,0,0,{"$f":"IF(6=U540,\"1등\",IF(13=U540,\"1등\",0))","v":0},0]
[539,"2013.03.30",3,19,22,31,42,43,26,null,null,539,{"$f":"COUNTIF(번호추출!$N$13:$S$13,자료실!C541)","v":0},{"$f":"COUNTIF(번호추출!$N$13:$S$13,자료실!D541)","v":0},{"$f":"COUNTIF(번호추출!$N$13:$S$13,자료실!E541)","v":0},{"$f":"COUNTIF(번호추출!$N$13:$S$13,자료실!F541)","v":0},{"$f":"COUNTIF(번호추출!$N$13:$S$13,자료실!G541)","v":0},{"$f":"COUNTIF(번호추출!$N$13:$S$13,자료실!H541)","v":0},{"$f":"COUNTIF(번호추출!$N$13:$S$13,I541)","v":0},0,0,0,0,0,0,0,{"$f":"IF(6=U541,\"1등\",IF(13=U541,\"1등\",0))","v":0},0]
[540,"2013.04.06",3,12,13,15,34,36,14,null,null,540,{"$f":"COUNTIF(번호추출!$N$13:$S$13,자료실!C542)","v":0},{"$f":"COUNTIF(번호추출!$N$13:$S$13,자료실!D542)","v":0},{"$f":"COUNTIF(번호추출!$N$13:$S$13,자료실!E542)","v":0},{"$f":"COUNTIF(번호추출!$N$13:$S$13,자료실!F542)","v":1},{"$f":"COUNTIF(번호추출!$N$13:$S$13,자료실!G542)","v":0},{"$f":"COUNTIF(번호추출!$N$13:$S$13,자료실!H542)","v":0},{"$f":"COUNTIF(번호추출!$N$13:$S$13,I542)","v":0},1,1,"꽝",0,0,0,0,{"$f":"IF(6=U542,\"1등\",IF(13=U542,\"1등\",0))","v":0},0]
[541,"2013.04.13",8,13,26,28,32,34,43,null,null,541,{"$f":"COUNTIF(번호추출!$N$13:$S$13,자료실!C543)","v":0},{"$f":"COUNTIF(번호추출!$N$13:$S$13,자료실!D543)","v":0},{"$f":"COUNTIF(번호추출!$N$13:$S$13,자료실!E543)","v":0},{"$f":"COUNTIF(번호추출!$N$13:$S$13,자료실!F543)","v":0},{"$f":"COUNTIF(번호추출!$N$13:$S$13,자료실!G543)","v":0},{"$f":"COUNTIF(번호추출!$N$13:$S$13,자료실!H543)","v":0},{"$f":"COUNTIF(번호추출!$N$13:$S$13,I543)","v":0},0,0,0,0,0,0,0,{"$f":"IF(6=U543,\"1등\",IF(13=U543,\"1등\",0))","v":0},0]
[542,"2013.04.20",5,6,19,26,41,45,34,null,null,542,{"$f":"COUNTIF(번호추출!$N$13:$S$13,자료실!C544)","v":0},{"$f":"COUNTIF(번호추출!$N$13:$S$13,자료실!D544)","v":0},{"$f":"COUNTIF(번호추출!$N$13:$S$13,자료실!E544)","v":0},{"$f":"COUNTIF(번호추출!$N$13:$S$13,자료실!F544)","v":0},{"$f":"COUNTIF(번호추출!$N$13:$S$13,자료실!G544)","v":0},{"$f":"COUNTIF(번호추출!$N$13:$S$13,자료실!H544)","v":1},{"$f":"COUNTIF(번호추출!$N$13:$S$13,I544)","v":0},1,1,"꽝",0,0,0,0,{"$f":"IF(6=U544,\"1등\",IF(13=U544,\"1등\",0))","v":0},0]
[543,"2013.04.27",13,18,26,31,34,44,12,null,null,543,{"$f":"COUNTIF(번호추출!$N$13:$S$13,자료실!C545)","v":0},{"$f":"COUNTIF(번호추출!$N$13:$S$13,자료실!D545)","v":1},{"$f":"COUNTIF(번호추출!$N$13:$S$13,자료실!E545)","v":0},{"$f":"COUNTIF(번호추출!$N$13:$S$13,자료실!F545)","v":0},{"$f":"COUNTIF(번호추출!$N$13:$S$13,자료실!G545)","v":0},{"$f":"COUNTIF(번호추출!$N$13:$S$13,자료실!H545)","v":0},{"$f":"COUNTIF(번호추출!$N$13:$S$13,I545)","v":0},1,1,"꽝",0,0,0,0,{"$f":"IF(6=U545,\"1등\",IF(13=U545,\"1등\",0))","v":0},0]
[544,"2013.05.04",5,17,21,25,36,44,10,null,null,544,{"$f":"COUNTIF(번호추출!$N$13:$S$13,자료실!C546)","v":0},{"$f":"COUNTIF(번호추출!$N$13:$S$13,자료실!D546)","v":0},{"$f":"COUNTIF(번호추출!$N$13:$S$13,자료실!E546)","v":0},{"$f":"COUNTIF(번호추출!$N$13:$S$13,자료실!F546)","v":1},{"$f":"COUNTIF(번호추출!$N$13:$S$13,자료실!G546)","v":0},{"$f":"COUNTIF(번호추출!$N$13:$S$13,자료실!H546)","v":0},{"$f":"COUNTIF(번호추출!$N$13:$S$13,I546)","v":0},1,1,"꽝",0,0,0,0,{"$f":"IF(6=U546,\"1등\",IF(13=U546,\"1등\",0))","v":0},0]
[545,"2013.05.11",4,24,25,27,34,35,2,null,null,545,{"$f":"COUNTIF(번호추출!$N$13:$S$13,자료실!C547)","v":1},{"$f":"COUNTIF(번호추출!$N$13:$S$13,자료실!D547)","v":0},{"$f":"COUNTIF(번호추출!$N$13:$S$13,자료실!E547)","v":1},{"$f":"COUNTIF(번호추출!$N$13:$S$13,자료실!F547)","v":0},{"$f":"COUNTIF(번호추출!$N$13:$S$13,자료실!G547)","v":0},{"$f":"COUNTIF(번호추출!$N$13:$S$13,자료실!H547)","v":0},{"$f":"COUNTIF(번호추출!$N$13:$S$13,I547)","v":0},2,2,"꽝","꽝",0,0,0,{"$f":"IF(6=U547,\"1등\",IF(13=U547,\"1등\",0))","v":0},0]
[546,"2013.05.18",8,17,20,27,37,43,6,null,null,546,{"$f":"COUNTIF(번호추출!$N$13:$S$13,자료실!C548)","v":0},{"$f":"COUNTIF(번호추출!$N$13:$S$13,자료실!D548)","v":0},{"$f":"COUNTIF(번호추출!$N$13:$S$13,자료실!E548)","v":0},{"$f":"COUNTIF(번호추출!$N$13:$S$13,자료실!F548)","v":0},{"$f":"COUNTIF(번호추출!$N$13:$S$13,자료실!G548)","v":0},{"$f":"COUNTIF(번호추출!$N$13:$S$13,자료실!H548)","v":0},{"$f":"COUNTIF(번호추출!$N$13:$S$13,I548)","v":0},0,0,0,0,0,0,0,{"$f":"IF(6=U548,\"1등\",IF(13=U548,\"1등\",0))","v":0},0]
[547,"2013.05.25",6,7,15,22,34,39,28,null,null,547,{"$f":"COUNTIF(번호추출!$N$13:$S$13,자료실!C549)","v":0},{"$f":"COUNTIF(번호추출!$N$13:$S$13,자료실!D549)","v":0},{"$f":"COUNTIF(번호추출!$N$13:$S$13,자료실!E549)","v":1},{"$f":"COUNTIF(번호추출!$N$13:$S$13,자료실!F549)","v":0},{"$f":"COUNTIF(번호추출!$N$13:$S$13,자료실!G549)","v":0},{"$f":"COUNTIF(번호추출!$N$13:$S$13,자료실!H549)","v":0},{"$f":"COUNTIF(번호추출!$N$13:$S$13,I549)","v":0},1,1,"꽝",0,0,0,0,{"$f":"IF(6=U549,\"1등\",IF(13=U549,\"1등\",0))","v":0},0]
[548,"2013.06.01",1,12,13,21,32,45,14,null,null,548,{"$f":"COUNTIF(번호추출!$N$13:$S$13,자료실!C550)","v":0},{"$f":"COUNTIF(번호추출!$N$13:$S$13,자료실!D550)","v":0},{"$f":"COUNTIF(번호추출!$N$13:$S$13,자료실!E550)","v":0},{"$f":"COUNTIF(번호추출!$N$13:$S$13,자료실!F550)","v":0},{"$f":"COUNTIF(번호추출!$N$13:$S$13,자료실!G550)","v":0},{"$f":"COUNTIF(번호추출!$N$13:$S$13,자료실!H550)","v":1},{"$f":"COUNTIF(번호추출!$N$13:$S$13,I550)","v":0},1,1,"꽝",0,0,0,0,{"$f":"IF(6=U550,\"1등\",IF(13=U550,\"1등\",0))","v":0},0]
[549,"2013.06.08",29,31,35,38,40,44,17,null,null,549,{"$f":"COUNTIF(번호추출!$N$13:$S$13,자료실!C551)","v":0},{"$f":"COUNTIF(번호추출!$N$13:$S$13,자료실!D551)","v":0},{"$f":"COUNTIF(번호추출!$N$13:$S$13,자료실!E551)","v":0},{"$f":"COUNTIF(번호추출!$N$13:$S$13,자료실!F551)","v":0},{"$f":"COUNTIF(번호추출!$N$13:$S$13,자료실!G551)","v":0},{"$f":"COUNTIF(번호추출!$N$13:$S$13,자료실!H551)","v":0},{"$f":"COUNTIF(번호추출!$N$13:$S$13,I551)","v":0},0,0,0,0,0,0,0,{"$f":"IF(6=U551,\"1등\",IF(13=U551,\"1등\",0))","v":0},0]
[550,"2013.06.15",1,7,14,20,34,37,41,null,null,550,{"$f":"COUNTIF(번호추출!$N$13:$S$13,자료실!C552)","v":0},{"$f":"COUNTIF(번호추출!$N$13:$S$13,자료실!D552)","v":0},{"$f":"COUNTIF(번호추출!$N$13:$S$13,자료실!E552)","v":0},{"$f":"COUNTIF(번호추출!$N$13:$S$13,자료실!F552)","v":0},{"$f":"COUNTIF(번호추출!$N$13:$S$13,자료실!G552)","v":0},{"$f":"COUNTIF(번호추출!$N$13:$S$13,자료실!H552)","v":0},{"$f":"COUNTIF(번호추출!$N$13:$S$13,I552)","v":0},0,0,0,0,0,0,0,{"$f":"IF(6=U552,\"1등\",IF(13=U552,\"1등\",0))","v":0},0]
[551,"2013.06.22",3,6,20,24,27,44,25,null,null,551,{"$f":"COUNTIF(번호추출!$N$13:$S$13,자료실!C553)","v":0},{"$f":"COUNTIF(번호추출!$N$13:$S$13,자료실!D553)","v":0},{"$f":"COUNTIF(번호추출!$N$13:$S$13,자료실!E553)","v":0},{"$f":"COUNTIF(번호추출!$N$13:$S$13,자료실!F553)","v":0},{"$f":"COUNTIF(번호추출!$N$13:$S$13,자료실!G553)","v":0},{"$f":"COUNTIF(번호추출!$N$13:$S$13,자료실!H553)","v":0},{"$f":"COUNTIF(번호추출!$N$13:$S$13,I553)","v":1},0,1,"꽝",0,0,0,0,{"$f":"IF(6=U553,\"1등\",IF(13=U553,\"1등\",0))","v":0},0]
[552,"2013.06.29",1,10,20,32,35,40,43,null,null,552,{"$f":"COUNTIF(번호추출!$N$13:$S$13,자료실!C554)","v":0},{"$f":"COUNTIF(번호추출!$N$13:$S$13,자료실!D554)","v":0},{"$f":"COUNTIF(번호추출!$N$13:$S$13,자료실!E554)","v":0},{"$f":"COUNTIF(번호추출!$N$13:$S$13,자료실!F554)","v":0},{"$f":"COUNTIF(번호추출!$N$13:$S$13,자료실!G554)","v":0},{"$f":"COUNTIF(번호추출!$N$13:$S$13,자료실!H554)","v":0},{"$f":"COUNTIF(번호추출!$N$13:$S$13,I554)","v":0},0,0,0,0,0,0,0,{"$f":"IF(6=U554,\"1등\",IF(13=U554,\"1등\",0))","v":0},0]
[553,"2013.07.06",2,7,17,28,29,39,37,null,null,553,{"$f":"COUNTIF(번호추출!$N$13:$S$13,자료실!C555)","v":0},{"$f":"COUNTIF(번호추출!$N$13:$S$13,자료실!D555)","v":0},{"$f":"COUNTIF(번호추출!$N$13:$S$13,자료실!E555)","v":0},{"$f":"COUNTIF(번호추출!$N$13:$S$13,자료실!F555)","v":0},{"$f":"COUNTIF(번호추출!$N$13:$S$13,자료실!G555)","v":0},{"$f":"COUNTIF(번호추출!$N$13:$S$13,자료실!H555)","v":0},{"$f":"COUNTIF(번호추출!$N$13:$S$13,I555)","v":0},0,0,0,0,0,0,0,{"$f":"IF(6=U555,\"1등\",IF(13=U555,\"1등\",0))","v":0},0]
[554,"2013.07.13",13,14,17,32,41,42,6,null,null,554,{"$f":"COUNTIF(번호추출!$N$13:$S$13,자료실!C556)","v":0},{"$f":"COUNTIF(번호추출!$N$13:$S$13,자료실!D556)","v":0},{"$f":"COUNTIF(번호추출!$N$13:$S$13,자료실!E556)","v":0},{"$f":"COUNTIF(번호추출!$N$13:$S$13,자료실!F556)","v":0},{"$f":"COUNTIF(번호추출!$N$13:$S$13,자료실!G556)","v":0},{"$f":"COUNTIF(번호추출!$N$13:$S$13,자료실!H556)","v":0},{"$f":"COUNTIF(번호추출!$N$13:$S$13,I556)","v":0},0,0,0,0,0,0,0,{"$f":"IF(6=U556,\"1등\",IF(13=U556,\"1등\",0))","v":0},0]
[555,"2013.07.20",11,17,21,24,26,36,12,null,null,555,{"$f":"COUNTIF(번호추출!$N$13:$S$13,자료실!C557)","v":0},{"$f":"COUNTIF(번호추출!$N$13:$S$13,자료실!D557)","v":0},{"$f":"COUNTIF(번호추출!$N$13:$S$13,자료실!E557)","v":0},{"$f":"COUNTIF(번호추출!$N$13:$S$13,자료실!F557)","v":0},{"$f":"COUNTIF(번호추출!$N$13:$S$13,자료실!G557)","v":0},{"$f":"COUNTIF(번호추출!$N$13:$S$13,자료실!H557)","v":0},{"$f":"COUNTIF(번호추출!$N$13:$S$13,I557)","v":0},0,0,0,0,0,0,0,{"$f":"IF(6=U557,\"1등\",IF(13=U557,\"1등\",0))","v":0},0]
[556,"2013.07.27",12,20,23,28,30,44,43,null,null,556,{"$f":"COUNTIF(번호추출!$N$13:$S$13,자료실!C558)","v":0},{"$f":"COUNTIF(번호추출!$N$13:$S$13,자료실!D558)","v":0},{"$f":"COUNTIF(번호추출!$N$13:$S$13,자료실!E558)","v":0},{"$f":"COUNTIF(번호추출!$N$13:$S$13,자료실!F558)","v":0},{"$f":"COUNTIF(번호추출!$N$13:$S$13,자료실!G558)","v":0},{"$f":"COUNTIF(번호추출!$N$13:$S$13,자료실!H558)","v":0},{"$f":"COUNTIF(번호추출!$N$13:$S$13,I558)","v":0},0,0,0,0,0,0,0,{"$f":"IF(6=U558,\"1등\",IF(13=U558,\"1등\",0))","v":0},0]
[557,"2013.08.03",4,20,26,28,35,40,31,null,null,557,{"$f":"COUNTIF(번호추출!$N$13:$S$13,자료실!C559)","v":1},{"$f":"COUNTIF(번호추출!$N$13:$S$13,자료실!D559)","v":0},{"$f":"COUNTIF(번호추출!$N$13:$S$13,자료실!E559)","v":0},{"$f":"COUNTIF(번호추출!$N$13:$S$13,자료실!F559)","v":0},{"$f":"COUNTIF(번호추출!$N$13:$S$13,자료실!G559)","v":0},{"$f":"COUNTIF(번호추출!$N$13:$S$13,자료실!H559)","v":0},{"$f":"COUNTIF(번호추출!$N$13:$S$13,I559)","v":0},1,1,"꽝",0,0,0,0,{"$f":"IF(6=U559,\"1등\",IF(13=U559,\"1등\",0))","v":0},0]
[558,"2013.08.10",12,15,19,26,40,43,29,null,null,558,{"$f":"COUNTIF(번호추출!$N$13:$S$13,자료실!C560)","v":0},{"$f":"COUNTIF(번호추출!$N$13:$S$13,자료실!D560)","v":1},{"$f":"COUNTIF(번호추출!$N$13:$S$13,자료실!E560)","v":0},{"$f":"COUNTIF(번호추출!$N$13:$S$13,자료실!F560)","v":0},{"$f":"COUNTIF(번호추출!$N$13:$S$13,자료실!G560)","v":0},{"$f":"COUNTIF(번호추출!$N$13:$S$13,자료실!H560)","v":0},{"$f":"COUNTIF(번호추출!$N$13:$S$13,I560)","v":0},1,1,"꽝",0,0,0,0,{"$f":"IF(6=U560,\"1등\",IF(13=U560,\"1등\",0))","v":0},0]
[559,"2013.08.17",11,12,25,32,44,45,23,null,null,559,{"$f":"COUNTIF(번호추출!$N$13:$S$13,자료실!C561)","v":0},{"$f":"COUNTIF(번호추출!$N$13:$S$13,자료실!D561)","v":0},{"$f":"COUNTIF(번호추출!$N$13:$S$13,자료실!E561)","v":1},{"$f":"COUNTIF(번호추출!$N$13:$S$13,자료실!F561)","v":0},{"$f":"COUNTIF(번호추출!$N$13:$S$13,자료실!G561)","v":0},{"$f":"COUNTIF(번호추출!$N$13:$S$13,자료실!H561)","v":1},{"$f":"COUNTIF(번호추출!$N$13:$S$13,I561)","v":0},2,2,"꽝","꽝",0,0,0,{"$f":"IF(6=U561,\"1등\",IF(13=U561,\"1등\",0))","v":0},0]
[560,"2013.08.24",1,4,20,23,29,45,28,null,null,560,{"$f":"COUNTIF(번호추출!$N$13:$S$13,자료실!C562)","v":0},{"$f":"COUNTIF(번호추출!$N$13:$S$13,자료실!D562)","v":1},{"$f":"COUNTIF(번호추출!$N$13:$S$13,자료실!E562)","v":0},{"$f":"COUNTIF(번호추출!$N$13:$S$13,자료실!F562)","v":0},{"$f":"COUNTIF(번호추출!$N$13:$S$13,자료실!G562)","v":0},{"$f":"COUNTIF(번호추출!$N$13:$S$13,자료실!H562)","v":1},{"$f":"COUNTIF(번호추출!$N$13:$S$13,I562)","v":0},2,2,"꽝","꽝",0,0,0,{"$f":"IF(6=U562,\"1등\",IF(13=U562,\"1등\",0))","v":0},0]
[561,"2013.08.31",5,7,18,37,42,45,20,null,null,561,{"$f":"COUNTIF(번호추출!$N$13:$S$13,자료실!C563)","v":0},{"$f":"COUNTIF(번호추출!$N$13:$S$13,자료실!D563)","v":0},{"$f":"COUNTIF(번호추출!$N$13:$S$13,자료실!E563)","v":1},{"$f":"COUNTIF(번호추출!$N$13:$S$13,자료실!F563)","v":0},{"$f":"COUNTIF(번호추출!$N$13:$S$13,자료실!G563)","v":0},{"$f":"COUNTIF(번호추출!$N$13:$S$13,자료실!H563)","v":1},{"$f":"COUNTIF(번호추출!$N$13:$S$13,I563)","v":0},2,2,"꽝","꽝",0,0,0,{"$f":"IF(6=U563,\"1등\",IF(13=U563,\"1등\",0))","v":0},0]
[562,"2013.09.07",4,11,13,17,20,31,33,null,null,562,{"$f":"COUNTIF(번호추출!$N$13:$S$13,자료실!C564)","v":1},{"$f":"COUNTIF(번호추출!$N$13:$S$13,자료실!D564)","v":0},{"$f":"COUNTIF(번호추출!$N$13:$S$13,자료실!E564)","v":0},{"$f":"COUNTIF(번호추출!$N$13:$S$13,자료실!F564)","v":0},{"$f":"COUNTIF(번호추출!$N$13:$S$13,자료실!G564)","v":0},{"$f":"COUNTIF(번호추출!$N$13:$S$13,자료실!H564)","v":0},{"$f":"COUNTIF(번호추출!$N$13:$S$13,I564)","v":1},1,2,"꽝","꽝",0,0,0,{"$f":"IF(6=U564,\"1등\",IF(13=U564,\"1등\",0))","v":0},0]
[563,"2013.09.14",5,10,16,17,31,32,21,null,null,563,{"$f":"COUNTIF(번호추출!$N$13:$S$13,자료실!C565)","v":0},{"$f":"COUNTIF(번호추출!$N$13:$S$13,자료실!D565)","v":0},{"$f":"COUNTIF(번호추출!$N$13:$S$13,자료실!E565)","v":0},{"$f":"COUNTIF(번호추출!$N$13:$S$13,자료실!F565)","v":0},{"$f":"COUNTIF(번호추출!$N$13:$S$13,자료실!G565)","v":0},{"$f":"COUNTIF(번호추출!$N$13:$S$13,자료실!H565)","v":0},{"$f":"COUNTIF(번호추출!$N$13:$S$13,I565)","v":0},0,0,0,0,0,0,0,{"$f":"IF(6=U565,\"1등\",IF(13=U565,\"1등\",0))","v":0},0]
[564,"2013.09.21",14,19,25,26,27,34,2,null,null,564,{"$f":"COUNTIF(번호추출!$N$13:$S$13,자료실!C566)","v":0},{"$f":"COUNTIF(번호추출!$N$13:$S$13,자료실!D566)","v":0},{"$f":"COUNTIF(번호추출!$N$13:$S$13,자료실!E566)","v":1},{"$f":"COUNTIF(번호추출!$N$13:$S$13,자료실!F566)","v":0},{"$f":"COUNTIF(번호추출!$N$13:$S$13,자료실!G566)","v":0},{"$f":"COUNTIF(번호추출!$N$13:$S$13,자료실!H566)","v":0},{"$f":"COUNTIF(번호추출!$N$13:$S$13,I566)","v":0},1,1,"꽝",0,0,0,0,{"$f":"IF(6=U566,\"1등\",IF(13=U566,\"1등\",0))","v":0},0]
[565,"2013.09.28",4,10,18,27,40,45,38,null,null,565,{"$f":"COUNTIF(번호추출!$N$13:$S$13,자료실!C567)","v":1},{"$f":"COUNTIF(번호추출!$N$13:$S$13,자료실!D567)","v":0},{"$f":"COUNTIF(번호추출!$N$13:$S$13,자료실!E567)","v":1},{"$f":"COUNTIF(번호추출!$N$13:$S$13,자료실!F567)","v":0},{"$f":"COUNTIF(번호추출!$N$13:$S$13,자료실!G567)","v":0},{"$f":"COUNTIF(번호추출!$N$13:$S$13,자료실!H567)","v":1},{"$f":"COUNTIF(번호추출!$N$13:$S$13,I567)","v":0},3,3,"꽝","꽝","5등",0,0,{"$f":"IF(6=U567,\"1등\",IF(13=U567,\"1등\",0))","v":0},0]
[566,"2013.10.05",4,5,6,25,26,43,41,null,null,566,{"$f":"COUNTIF(번호추출!$N$13:$S$13,자료실!C568)","v":1},{"$f":"COUNTIF(번호추출!$N$13:$S$13,자료실!D568)","v":0},{"$f":"COUNTIF(번호추출!$N$13:$S$13,자료실!E568)","v":0},{"$f":"COUNTIF(번호추출!$N$13:$S$13,자료실!F568)","v":1},{"$f":"COUNTIF(번호추출!$N$13:$S$13,자료실!G568)","v":0},{"$f":"COUNTIF(번호추출!$N$13:$S$13,자료실!H568)","v":0},{"$f":"COUNTIF(번호추출!$N$13:$S$13,I568)","v":0},2,2,"꽝","꽝",0,0,0,{"$f":"IF(6=U568,\"1등\",IF(13=U568,\"1등\",0))","v":0},0]
[567,"2013.10.12",1,10,15,16,32,41,28,null,null,567,{"$f":"COUNTIF(번호추출!$N$13:$S$13,자료실!C569)","v":0},{"$f":"COUNTIF(번호추출!$N$13:$S$13,자료실!D569)","v":0},{"$f":"COUNTIF(번호추출!$N$13:$S$13,자료실!E569)","v":1},{"$f":"COUNTIF(번호추출!$N$13:$S$13,자료실!F569)","v":0},{"$f":"COUNTIF(번호추출!$N$13:$S$13,자료실!G569)","v":0},{"$f":"COUNTIF(번호추출!$N$13:$S$13,자료실!H569)","v":0},{"$f":"COUNTIF(번호추출!$N$13:$S$13,I569)","v":0},1,1,"꽝",0,0,0,0,{"$f":"IF(6=U569,\"1등\",IF(13=U569,\"1등\",0))","v":0},0]
[568,"2013.10.19",1,3,17,20,31,44,40,null,null,568,{"$f":"COUNTIF(번호추출!$N$13:$S$13,자료실!C570)","v":0},{"$f":"COUNTIF(번호추출!$N$13:$S$13,자료실!D570)","v":0},{"$f":"COUNTIF(번호추출!$N$13:$S$13,자료실!E570)","v":0},{"$f":"COUNTIF(번호추출!$N$13:$S$13,자료실!F570)","v":0},{"$f":"COUNTIF(번호추출!$N$13:$S$13,자료실!G570)","v":0},{"$f":"COUNTIF(번호추출!$N$13:$S$13,자료실!H570)","v":0},{"$f":"COUNTIF(번호추출!$N$13:$S$13,I570)","v":0},0,0,0,0,0,0,0,{"$f":"IF(6=U570,\"1등\",IF(13=U570,\"1등\",0))","v":0},0]
[569,"2013.10.26",3,6,13,23,24,35,1,null,null,569,{"$f":"COUNTIF(번호추출!$N$13:$S$13,자료실!C571)","v":0},{"$f":"COUNTIF(번호추출!$N$13:$S$13,자료실!D571)","v":0},{"$f":"COUNTIF(번호추출!$N$13:$S$13,자료실!E571)","v":0},{"$f":"COUNTIF(번호추출!$N$13:$S$13,자료실!F571)","v":0},{"$f":"COUNTIF(번호추출!$N$13:$S$13,자료실!G571)","v":0},{"$f":"COUNTIF(번호추출!$N$13:$S$13,자료실!H571)","v":0},{"$f":"COUNTIF(번호추출!$N$13:$S$13,I571)","v":0},0,0,0,0,0,0,0,{"$f":"IF(6=U571,\"1등\",IF(13=U571,\"1등\",0))","v":0},0]
[570,"2013.11.02",1,12,26,27,29,33,42,null,null,570,{"$f":"COUNTIF(번호추출!$N$13:$S$13,자료실!C572)","v":0},{"$f":"COUNTIF(번호추출!$N$13:$S$13,자료실!D572)","v":0},{"$f":"COUNTIF(번호추출!$N$13:$S$13,자료실!E572)","v":0},{"$f":"COUNTIF(번호추출!$N$13:$S$13,자료실!F572)","v":0},{"$f":"COUNTIF(번호추출!$N$13:$S$13,자료실!G572)","v":0},{"$f":"COUNTIF(번호추출!$N$13:$S$13,자료실!H572)","v":1},{"$f":"COUNTIF(번호추출!$N$13:$S$13,I572)","v":0},1,1,"꽝",0,0,0,0,{"$f":"IF(6=U572,\"1등\",IF(13=U572,\"1등\",0))","v":0},0]
[571,"2013.11.09",11,18,21,26,38,43,29,null,null,571,{"$f":"COUNTIF(번호추출!$N$13:$S$13,자료실!C573)","v":0},{"$f":"COUNTIF(번호추출!$N$13:$S$13,자료실!D573)","v":1},{"$f":"COUNTIF(번호추출!$N$13:$S$13,자료실!E573)","v":0},{"$f":"COUNTIF(번호추출!$N$13:$S$13,자료실!F573)","v":0},{"$f":"COUNTIF(번호추출!$N$13:$S$13,자료실!G573)","v":0},{"$f":"COUNTIF(번호추출!$N$13:$S$13,자료실!H573)","v":0},{"$f":"COUNTIF(번호추출!$N$13:$S$13,I573)","v":0},1,1,"꽝",0,0,0,0,{"$f":"IF(6=U573,\"1등\",IF(13=U573,\"1등\",0))","v":0},0]
[572,"2013.11.16",3,13,18,33,37,45,1,null,null,572,{"$f":"COUNTIF(번호추출!$N$13:$S$13,자료실!C574)","v":0},{"$f":"COUNTIF(번호추출!$N$13:$S$13,자료실!D574)","v":0},{"$f":"COUNTIF(번호추출!$N$13:$S$13,자료실!E574)","v":1},{"$f":"COUNTIF(번호추출!$N$13:$S$13,자료실!F574)","v":1},{"$f":"COUNTIF(번호추출!$N$13:$S$13,자료실!G574)","v":0},{"$f":"COUNTIF(번호추출!$N$13:$S$13,자료실!H574)","v":1},{"$f":"COUNTIF(번호추출!$N$13:$S$13,I574)","v":0},3,3,"꽝","꽝","5등",0,0,{"$f":"IF(6=U574,\"1등\",IF(13=U574,\"1등\",0))","v":0},0]
[573,"2013.11.23",2,4,20,34,35,43,14,null,null,573,{"$f":"COUNTIF(번호추출!$N$13:$S$13,자료실!C575)","v":0},{"$f":"COUNTIF(번호추출!$N$13:$S$13,자료실!D575)","v":1},{"$f":"COUNTIF(번호추출!$N$13:$S$13,자료실!E575)","v":0},{"$f":"COUNTIF(번호추출!$N$13:$S$13,자료실!F575)","v":0},{"$f":"COUNTIF(번호추출!$N$13:$S$13,자료실!G575)","v":0},{"$f":"COUNTIF(번호추출!$N$13:$S$13,자료실!H575)","v":0},{"$f":"COUNTIF(번호추출!$N$13:$S$13,I575)","v":0},1,1,"꽝",0,0,0,0,{"$f":"IF(6=U575,\"1등\",IF(13=U575,\"1등\",0))","v":0},0]
[574,"2013.11.30",14,15,16,19,25,43,2,null,null,574,{"$f":"COUNTIF(번호추출!$N$13:$S$13,자료실!C576)","v":0},{"$f":"COUNTIF(번호추출!$N$13:$S$13,자료실!D576)","v":1},{"$f":"COUNTIF(번호추출!$N$13:$S$13,자료실!E576)","v":0},{"$f":"COUNTIF(번호추출!$N$13:$S$13,자료실!F576)","v":0},{"$f":"COUNTIF(번호추출!$N$13:$S$13,자료실!G576)","v":1},{"$f":"COUNTIF(번호추출!$N$13:$S$13,자료실!H576)","v":0},{"$f":"COUNTIF(번호추출!$N$13:$S$13,I576)","v":0},2,2,"꽝","꽝",0,0,0,{"$f":"IF(6=U576,\"1등\",IF(13=U576,\"1등\",0))","v":0},0]
[575,"2013.12.07",2,8,20,30,33,34,6,null,null,575,{"$f":"COUNTIF(번호추출!$N$13:$S$13,자료실!C577)","v":0},{"$f":"COUNTIF(번호추출!$N$13:$S$13,자료실!D577)","v":0},{"$f":"COUNTIF(번호추출!$N$13:$S$13,자료실!E577)","v":0},{"$f":"COUNTIF(번호추출!$N$13:$S$13,자료실!F577)","v":0},{"$f":"COUNTIF(번호추출!$N$13:$S$13,자료실!G577)","v":1},{"$f":"COUNTIF(번호추출!$N$13:$S$13,자료실!H577)","v":0},{"$f":"COUNTIF(번호추출!$N$13:$S$13,I577)","v":0},1,1,"꽝",0,0,0,0,{"$f":"IF(6=U577,\"1등\",IF(13=U577,\"1등\",0))","v":0},0]
[576,"2013.12.14",10,11,15,25,35,41,13,null,null,576,{"$f":"COUNTIF(번호추출!$N$13:$S$13,자료실!C578)","v":0},{"$f":"COUNTIF(번호추출!$N$13:$S$13,자료실!D578)","v":0},{"$f":"COUNTIF(번호추출!$N$13:$S$13,자료실!E578)","v":1},{"$f":"COUNTIF(번호추출!$N$13:$S$13,자료실!F578)","v":1},{"$f":"COUNTIF(번호추출!$N$13:$S$13,자료실!G578)","v":0},{"$f":"COUNTIF(번호추출!$N$13:$S$13,자료실!H578)","v":0},{"$f":"COUNTIF(번호추출!$N$13:$S$13,I578)","v":0},2,2,"꽝","꽝",0,0,0,{"$f":"IF(6=U578,\"1등\",IF(13=U578,\"1등\",0))","v":0},0]
[577,"2013.12.21",16,17,22,31,34,37,33,null,null,577,{"$f":"COUNTIF(번호추출!$N$13:$S$13,자료실!C579)","v":0},{"$f":"COUNTIF(번호추출!$N$13:$S$13,자료실!D579)","v":0},{"$f":"COUNTIF(번호추출!$N$13:$S$13,자료실!E579)","v":0},{"$f":"COUNTIF(번호추출!$N$13:$S$13,자료실!F579)","v":0},{"$f":"COUNTIF(번호추출!$N$13:$S$13,자료실!G579)","v":0},{"$f":"COUNTIF(번호추출!$N$13:$S$13,자료실!H579)","v":0},{"$f":"COUNTIF(번호추출!$N$13:$S$13,I579)","v":1},0,1,"꽝",0,0,0,0,{"$f":"IF(6=U579,\"1등\",IF(13=U579,\"1등\",0))","v":0},0]
[578,"2013.12.28",5,12,14,32,34,42,16,null,null,578,{"$f":"COUNTIF(번호추출!$N$13:$S$13,자료실!C580)","v":0},{"$f":"COUNTIF(번호추출!$N$13:$S$13,자료실!D580)","v":0},{"$f":"COUNTIF(번호추출!$N$13:$S$13,자료실!E580)","v":0},{"$f":"COUNTIF(번호추출!$N$13:$S$13,자료실!F580)","v":0},{"$f":"COUNTIF(번호추출!$N$13:$S$13,자료실!G580)","v":0},{"$f":"COUNTIF(번호추출!$N$13:$S$13,자료실!H580)","v":0},{"$f":"COUNTIF(번호추출!$N$13:$S$13,I580)","v":0},0,0,0,0,0,0,0,{"$f":"IF(6=U580,\"1등\",IF(13=U580,\"1등\",0))","v":0},0]
[579,"2014.01.04",5,7,20,22,37,42,39,null,null,579,{"$f":"COUNTIF(번호추출!$N$13:$S$13,자료실!C581)","v":0},{"$f":"COUNTIF(번호추출!$N$13:$S$13,자료실!D581)","v":0},{"$f":"COUNTIF(번호추출!$N$13:$S$13,자료실!E581)","v":0},{"$f":"COUNTIF(번호추출!$N$13:$S$13,자료실!F581)","v":0},{"$f":"COUNTIF(번호추출!$N$13:$S$13,자료실!G581)","v":0},{"$f":"COUNTIF(번호추출!$N$13:$S$13,자료실!H581)","v":0},{"$f":"COUNTIF(번호추출!$N$13:$S$13,I581)","v":0},0,0,0,0,0,0,0,{"$f":"IF(6=U581,\"1등\",IF(13=U581,\"1등\",0))","v":0},0]
[580,"2014.01.11",5,7,9,11,32,35,33,null,null,580,{"$f":"COUNTIF(번호추출!$N$13:$S$13,자료실!C582)","v":0},{"$f":"COUNTIF(번호추출!$N$13:$S$13,자료실!D582)","v":0},{"$f":"COUNTIF(번호추출!$N$13:$S$13,자료실!E582)","v":0},{"$f":"COUNTIF(번호추출!$N$13:$S$13,자료실!F582)","v":0},{"$f":"COUNTIF(번호추출!$N$13:$S$13,자료실!G582)","v":0},{"$f":"COUNTIF(번호추출!$N$13:$S$13,자료실!H582)","v":0},{"$f":"COUNTIF(번호추출!$N$13:$S$13,I582)","v":1},0,1,"꽝",0,0,0,0,{"$f":"IF(6=U582,\"1등\",IF(13=U582,\"1등\",0))","v":0},0]
[581,"2014.01.18",3,5,14,20,42,44,33,null,null,581,{"$f":"COUNTIF(번호추출!$N$13:$S$13,자료실!C583)","v":0},{"$f":"COUNTIF(번호추출!$N$13:$S$13,자료실!D583)","v":0},{"$f":"COUNTIF(번호추출!$N$13:$S$13,자료실!E583)","v":0},{"$f":"COUNTIF(번호추출!$N$13:$S$13,자료실!F583)","v":0},{"$f":"COUNTIF(번호추출!$N$13:$S$13,자료실!G583)","v":0},{"$f":"COUNTIF(번호추출!$N$13:$S$13,자료실!H583)","v":0},{"$f":"COUNTIF(번호추출!$N$13:$S$13,I583)","v":1},0,1,"꽝",0,0,0,0,{"$f":"IF(6=U583,\"1등\",IF(13=U583,\"1등\",0))","v":0},0]
[582,"2014.01.25",2,12,14,33,40,41,25,null,null,582,{"$f":"COUNTIF(번호추출!$N$13:$S$13,자료실!C584)","v":0},{"$f":"COUNTIF(번호추출!$N$13:$S$13,자료실!D584)","v":0},{"$f":"COUNTIF(번호추출!$N$13:$S$13,자료실!E584)","v":0},{"$f":"COUNTIF(번호추출!$N$13:$S$13,자료실!F584)","v":1},{"$f":"COUNTIF(번호추출!$N$13:$S$13,자료실!G584)","v":0},{"$f":"COUNTIF(번호추출!$N$13:$S$13,자료실!H584)","v":0},{"$f":"COUNTIF(번호추출!$N$13:$S$13,I584)","v":1},1,2,"꽝","꽝",0,0,0,{"$f":"IF(6=U584,\"1등\",IF(13=U584,\"1등\",0))","v":0},0]
[583,"2014.02.01",8,17,27,33,40,44,24,null,null,583,{"$f":"COUNTIF(번호추출!$N$13:$S$13,자료실!C585)","v":0},{"$f":"COUNTIF(번호추출!$N$13:$S$13,자료실!D585)","v":0},{"$f":"COUNTIF(번호추출!$N$13:$S$13,자료실!E585)","v":0},{"$f":"COUNTIF(번호추출!$N$13:$S$13,자료실!F585)","v":1},{"$f":"COUNTIF(번호추출!$N$13:$S$13,자료실!G585)","v":0},{"$f":"COUNTIF(번호추출!$N$13:$S$13,자료실!H585)","v":0},{"$f":"COUNTIF(번호추출!$N$13:$S$13,I585)","v":0},1,1,"꽝",0,0,0,0,{"$f":"IF(6=U585,\"1등\",IF(13=U585,\"1등\",0))","v":0},0]
[584,"2014.02.08",7,18,30,39,40,41,36,null,null,584,{"$f":"COUNTIF(번호추출!$N$13:$S$13,자료실!C586)","v":0},{"$f":"COUNTIF(번호추출!$N$13:$S$13,자료실!D586)","v":1},{"$f":"COUNTIF(번호추출!$N$13:$S$13,자료실!E586)","v":0},{"$f":"COUNTIF(번호추출!$N$13:$S$13,자료실!F586)","v":0},{"$f":"COUNTIF(번호추출!$N$13:$S$13,자료실!G586)","v":0},{"$f":"COUNTIF(번호추출!$N$13:$S$13,자료실!H586)","v":0},{"$f":"COUNTIF(번호추출!$N$13:$S$13,I586)","v":0},1,1,"꽝",0,0,0,0,{"$f":"IF(6=U586,\"1등\",IF(13=U586,\"1등\",0))","v":0},0]
[585,"2014.02.15",6,7,10,16,38,41,4,null,null,585,{"$f":"COUNTIF(번호추출!$N$13:$S$13,자료실!C587)","v":0},{"$f":"COUNTIF(번호추출!$N$13:$S$13,자료실!D587)","v":0},{"$f":"COUNTIF(번호추출!$N$13:$S$13,자료실!E587)","v":0},{"$f":"COUNTIF(번호추출!$N$13:$S$13,자료실!F587)","v":0},{"$f":"COUNTIF(번호추출!$N$13:$S$13,자료실!G587)","v":0},{"$f":"COUNTIF(번호추출!$N$13:$S$13,자료실!H587)","v":0},{"$f":"COUNTIF(번호추출!$N$13:$S$13,I587)","v":1},0,1,"꽝",0,0,0,0,{"$f":"IF(6=U587,\"1등\",IF(13=U587,\"1등\",0))","v":0},0]
[586,"2014.02.22",2,7,12,15,21,34,5,null,null,586,{"$f":"COUNTIF(번호추출!$N$13:$S$13,자료실!C588)","v":0},{"$f":"COUNTIF(번호추출!$N$13:$S$13,자료실!D588)","v":0},{"$f":"COUNTIF(번호추출!$N$13:$S$13,자료실!E588)","v":0},{"$f":"COUNTIF(번호추출!$N$13:$S$13,자료실!F588)","v":1},{"$f":"COUNTIF(번호추출!$N$13:$S$13,자료실!G588)","v":0},{"$f":"COUNTIF(번호추출!$N$13:$S$13,자료실!H588)","v":0},{"$f":"COUNTIF(번호추출!$N$13:$S$13,I588)","v":0},1,1,"꽝",0,0,0,0,{"$f":"IF(6=U588,\"1등\",IF(13=U588,\"1등\",0))","v":0},0]
[587,"2014.03.01",14,21,29,31,32,37,17,null,null,587,{"$f":"COUNTIF(번호추출!$N$13:$S$13,자료실!C589)","v":0},{"$f":"COUNTIF(번호추출!$N$13:$S$13,자료실!D589)","v":0},{"$f":"COUNTIF(번호추출!$N$13:$S$13,자료실!E589)","v":0},{"$f":"COUNTIF(번호추출!$N$13:$S$13,자료실!F589)","v":0},{"$f":"COUNTIF(번호추출!$N$13:$S$13,자료실!G589)","v":0},{"$f":"COUNTIF(번호추출!$N$13:$S$13,자료실!H589)","v":0},{"$f":"COUNTIF(번호추출!$N$13:$S$13,I589)","v":0},0,0,0,0,0,0,0,{"$f":"IF(6=U589,\"1등\",IF(13=U589,\"1등\",0))","v":0},0]
[588,"2014.03.08",2,8,15,22,25,41,30,null,null,588,{"$f":"COUNTIF(번호추출!$N$13:$S$13,자료실!C590)","v":0},{"$f":"COUNTIF(번호추출!$N$13:$S$13,자료실!D590)","v":0},{"$f":"COUNTIF(번호추출!$N$13:$S$13,자료실!E590)","v":1},{"$f":"COUNTIF(번호추출!$N$13:$S$13,자료실!F590)","v":0},{"$f":"COUNTIF(번호추출!$N$13:$S$13,자료실!G590)","v":1},{"$f":"COUNTIF(번호추출!$N$13:$S$13,자료실!H590)","v":0},{"$f":"COUNTIF(번호추출!$N$13:$S$13,I590)","v":0},2,2,{"$f":"IF(1=U590,\"꽝\",IF(0<T590,\"꽝\",0))","v":"꽝"},{"$f":"IF(2=U590,\"꽝\",IF(1<T590,\"꽝\",0))","v":"꽝"},{"$f":"IF(3=U590,\"5등\",IF(2<T590,\"5등\",0))","v":0},{"$f":"IF(4=U590,\"4등\",IF(3<T590,\"4등\",0))","v":0},{"$f":"IF(5=U590,\"3등\",IF(4<T590,\"3등\",0))","v":0},{"$f":"IF(6=U590,\"1등\",IF(13=U590,\"1등\",0))","v":0},{"$f":"IF(U590=12,\"2등\",0)","v":0}]
[589,"2014.03.15",6,8,28,33,38,39,22,null,null,589,{"$f":"COUNTIF(번호추출!$N$13:$S$13,자료실!C591)","v":0},{"$f":"COUNTIF(번호추출!$N$13:$S$13,자료실!D591)","v":0},{"$f":"COUNTIF(번호추출!$N$13:$S$13,자료실!E591)","v":0},{"$f":"COUNTIF(번호추출!$N$13:$S$13,자료실!F591)","v":1},{"$f":"COUNTIF(번호추출!$N$13:$S$13,자료실!G591)","v":0},{"$f":"COUNTIF(번호추출!$N$13:$S$13,자료실!H591)","v":0},{"$f":"COUNTIF(번호추출!$N$13:$S$13,I591)","v":0},1,1,"꽝",0,0,0,0,{"$f":"IF(6=U591,\"1등\",IF(13=U591,\"1등\",0))","v":0},0]
[590,"2014.03.22",20,30,36,38,41,45,23,null,null,590,{"$f":"COUNTIF(번호추출!$N$13:$S$13,자료실!C592)","v":0},{"$f":"COUNTIF(번호추출!$N$13:$S$13,자료실!D592)","v":0},{"$f":"COUNTIF(번호추출!$N$13:$S$13,자료실!E592)","v":0},{"$f":"COUNTIF(번호추출!$N$13:$S$13,자료실!F592)","v":0},{"$f":"COUNTIF(번호추출!$N$13:$S$13,자료실!G592)","v":0},{"$f":"COUNTIF(번호추출!$N$13:$S$13,자료실!H592)","v":1},{"$f":"COUNTIF(번호추출!$N$13:$S$13,I592)","v":0},1,1,"꽝",0,0,0,0,{"$f":"IF(6=U592,\"1등\",IF(13=U592,\"1등\",0))","v":0},0]
[591,"2014.03.29",8,13,14,30,38,39,5,null,null,591,{"$f":"COUNTIF(번호추출!$N$13:$S$13,자료실!C593)","v":0},{"$f":"COUNTIF(번호추출!$N$13:$S$13,자료실!D593)","v":0},{"$f":"COUNTIF(번호추출!$N$13:$S$13,자료실!E593)","v":0},{"$f":"COUNTIF(번호추출!$N$13:$S$13,자료실!F593)","v":0},{"$f":"COUNTIF(번호추출!$N$13:$S$13,자료실!G593)","v":0},{"$f":"COUNTIF(번호추출!$N$13:$S$13,자료실!H593)","v":0},{"$f":"COUNTIF(번호추출!$N$13:$S$13,I593)","v":0},0,0,0,0,0,0,0,{"$f":"IF(6=U593,\"1등\",IF(13=U593,\"1등\",0))","v":0},0]
[592,"2014.04.05",2,5,6,13,28,44,43,null,null,592,{"$f":"COUNTIF(번호추출!$N$13:$S$13,자료실!C594)","v":0},{"$f":"COUNTIF(번호추출!$N$13:$S$13,자료실!D594)","v":0},{"$f":"COUNTIF(번호추출!$N$13:$S$13,자료실!E594)","v":0},{"$f":"COUNTIF(번호추출!$N$13:$S$13,자료실!F594)","v":0},{"$f":"COUNTIF(번호추출!$N$13:$S$13,자료실!G594)","v":0},{"$f":"COUNTIF(번호추출!$N$13:$S$13,자료실!H594)","v":0},{"$f":"COUNTIF(번호추출!$N$13:$S$13,I594)","v":0},0,0,0,0,0,0,0,{"$f":"IF(6=U594,\"1등\",IF(13=U594,\"1등\",0))","v":0},0]
[593,"2014.04.12",9,10,13,24,33,38,28,null,null,593,{"$f":"COUNTIF(번호추출!$N$13:$S$13,자료실!C595)","v":0},{"$f":"COUNTIF(번호추출!$N$13:$S$13,자료실!D595)","v":0},{"$f":"COUNTIF(번호추출!$N$13:$S$13,자료실!E595)","v":0},{"$f":"COUNTIF(번호추출!$N$13:$S$13,자료실!F595)","v":0},{"$f":"COUNTIF(번호추출!$N$13:$S$13,자료실!G595)","v":1},{"$f":"COUNTIF(번호추출!$N$13:$S$13,자료실!H595)","v":0},{"$f":"COUNTIF(번호추출!$N$13:$S$13,I595)","v":0},1,1,"꽝",0,0,0,0,{"$f":"IF(6=U595,\"1등\",IF(13=U595,\"1등\",0))","v":0},0]
[594,"2014.04.19",2,8,13,25,28,37,3,null,null,594,{"$f":"COUNTIF(번호추출!$N$13:$S$13,자료실!C596)","v":0},{"$f":"COUNTIF(번호추출!$N$13:$S$13,자료실!D596)","v":0},{"$f":"COUNTIF(번호추출!$N$13:$S$13,자료실!E596)","v":0},{"$f":"COUNTIF(번호추출!$N$13:$S$13,자료실!F596)","v":1},{"$f":"COUNTIF(번호추출!$N$13:$S$13,자료실!G596)","v":0},{"$f":"COUNTIF(번호추출!$N$13:$S$13,자료실!H596)","v":0},{"$f":"COUNTIF(번호추출!$N$13:$S$13,I596)","v":0},1,1,"꽝",0,0,0,0,{"$f":"IF(6=U596,\"1등\",IF(13=U596,\"1등\",0))","v":0},0]
[595,"2014.04.26",8,24,28,35,38,40,5,null,null,595,{"$f":"COUNTIF(번호추출!$N$13:$S$13,자료실!C597)","v":0},{"$f":"COUNTIF(번호추출!$N$13:$S$13,자료실!D597)","v":0},{"$f":"COUNTIF(번호추출!$N$13:$S$13,자료실!E597)","v":0},{"$f":"COUNTIF(번호추출!$N$13:$S$13,자료실!F597)","v":0},{"$f":"COUNTIF(번호추출!$N$13:$S$13,자료실!G597)","v":0},{"$f":"COUNTIF(번호추출!$N$13:$S$13,자료실!H597)","v":0},{"$f":"COUNTIF(번호추출!$N$13:$S$13,I597)","v":0},0,0,0,0,0,0,0,{"$f":"IF(6=U597,\"1등\",IF(13=U597,\"1등\",0))","v":0},0]
[596,"2014.05.03",3,4,12,14,25,43,17,null,null,596,{"$f":"COUNTIF(번호추출!$N$13:$S$13,자료실!C598)","v":0},{"$f":"COUNTIF(번호추출!$N$13:$S$13,자료실!D598)","v":1},{"$f":"COUNTIF(번호추출!$N$13:$S$13,자료실!E598)","v":0},{"$f":"COUNTIF(번호추출!$N$13:$S$13,자료실!F598)","v":0},{"$f":"COUNTIF(번호추출!$N$13:$S$13,자료실!G598)","v":1},{"$f":"COUNTIF(번호추출!$N$13:$S$13,자료실!H598)","v":0},{"$f":"COUNTIF(번호추출!$N$13:$S$13,I598)","v":0},2,2,"꽝","꽝",0,0,0,{"$f":"IF(6=U598,\"1등\",IF(13=U598,\"1등\",0))","v":0},0]
[597,"2014.05.10",8,10,23,24,35,43,37,null,null,597,{"$f":"COUNTIF(번호추출!$N$13:$S$13,자료실!C599)","v":0},{"$f":"COUNTIF(번호추출!$N$13:$S$13,자료실!D599)","v":0},{"$f":"COUNTIF(번호추출!$N$13:$S$13,자료실!E599)","v":0},{"$f":"COUNTIF(번호추출!$N$13:$S$13,자료실!F599)","v":0},{"$f":"COUNTIF(번호추출!$N$13:$S$13,자료실!G599)","v":0},{"$f":"COUNTIF(번호추출!$N$13:$S$13,자료실!H599)","v":0},{"$f":"COUNTIF(번호추출!$N$13:$S$13,I599)","v":0},0,0,0,0,0,0,0,{"$f":"IF(6=U599,\"1등\",IF(13=U599,\"1등\",0))","v":0},0]
[598,"2014.05.17",4,12,24,33,38,45,22,null,null,598,{"$f":"COUNTIF(번호추출!$N$13:$S$13,자료실!C600)","v":1},{"$f":"COUNTIF(번호추출!$N$13:$S$13,자료실!D600)","v":0},{"$f":"COUNTIF(번호추출!$N$13:$S$13,자료실!E600)","v":0},{"$f":"COUNTIF(번호추출!$N$13:$S$13,자료실!F600)","v":1},{"$f":"COUNTIF(번호추출!$N$13:$S$13,자료실!G600)","v":0},{"$f":"COUNTIF(번호추출!$N$13:$S$13,자료실!H600)","v":1},{"$f":"COUNTIF(번호추출!$N$13:$S$13,I600)","v":0},3,3,"꽝","꽝","5등",0,0,{"$f":"IF(6=U600,\"1등\",IF(13=U600,\"1등\",0))","v":0},0]
[599,"2014.05.24",5,12,17,29,34,35,27,null,null,599,{"$f":"COUNTIF(번호추출!$N$13:$S$13,자료실!C601)","v":0},{"$f":"COUNTIF(번호추출!$N$13:$S$13,자료실!D601)","v":0},{"$f":"COUNTIF(번호추출!$N$13:$S$13,자료실!E601)","v":0},{"$f":"COUNTIF(번호추출!$N$13:$S$13,자료실!F601)","v":0},{"$f":"COUNTIF(번호추출!$N$13:$S$13,자료실!G601)","v":0},{"$f":"COUNTIF(번호추출!$N$13:$S$13,자료실!H601)","v":0},{"$f":"COUNTIF(번호추출!$N$13:$S$13,I601)","v":0},0,0,0,0,0,0,0,{"$f":"IF(6=U601,\"1등\",IF(13=U601,\"1등\",0))","v":0},0]
[600,"2014.05.31",5,11,14,27,29,36,44,null,null,600,{"$f":"COUNTIF(번호추출!$N$13:$S$13,자료실!C602)","v":0},{"$f":"COUNTIF(번호추출!$N$13:$S$13,자료실!D602)","v":0},{"$f":"COUNTIF(번호추출!$N$13:$S$13,자료실!E602)","v":0},{"$f":"COUNTIF(번호추출!$N$13:$S$13,자료실!F602)","v":0},{"$f":"COUNTIF(번호추출!$N$13:$S$13,자료실!G602)","v":0},{"$f":"COUNTIF(번호추출!$N$13:$S$13,자료실!H602)","v":0},{"$f":"COUNTIF(번호추출!$N$13:$S$13,I602)","v":0},0,0,0,0,0,0,0,{"$f":"IF(6=U602,\"1등\",IF(13=U602,\"1등\",0))","v":0},0]
[601,"2014.06.07",2,16,19,31,34,35,37,null,null,{"$f":"A603","v":601},{"$f":"COUNTIF(번호추출!$N$13:$S$13,자료실!C603)","v":0},{"$f":"COUNTIF(번호추출!$N$13:$S$13,자료실!D603)","v":0},{"$f":"COUNTIF(번호추출!$N$13:$S$13,자료실!E603)","v":0},{"$f":"COUNTIF(번호추출!$N$13:$S$13,자료실!F603)","v":0},{"$f":"COUNTIF(번호추출!$N$13:$S$13,자료실!G603)","v":0},{"$f":"COUNTIF(번호추출!$N$13:$S$13,자료실!H603)","v":0},{"$f":"COUNTIF(번호추출!$N$13:$S$13,I603)","v":0},{"$f":"SUM(M603:R603)","v":0},{"$f":"SUM(M603:S603)","v":0},0,0,0,0,0,{"$f":"IF(6=U603,\"1등\",IF(13=U603,\"1등\",0))","v":0},0]
[602,"2014.06.14",13,14,22,27,30,38,2,null,null,602,{"$f":"COUNTIF(번호추출!$N$13:$S$13,자료실!C604)","v":0},{"$f":"COUNTIF(번호추출!$N$13:$S$13,자료실!D604)","v":0},{"$f":"COUNTIF(번호추출!$N$13:$S$13,자료실!E604)","v":0},{"$f":"COUNTIF(번호추출!$N$13:$S$13,자료실!F604)","v":0},{"$f":"COUNTIF(번호추출!$N$13:$S$13,자료실!G604)","v":0},{"$f":"COUNTIF(번호추출!$N$13:$S$13,자료실!H604)","v":0},{"$f":"COUNTIF(번호추출!$N$13:$S$13,I604)","v":0},0,0,0,0,0,0,0,{"$f":"IF(6=U604,\"1등\",IF(13=U604,\"1등\",0))","v":0},0]
[603,"2014.06.21",2,19,25,26,27,43,28,null,null,603,{"$f":"COUNTIF(번호추출!$N$13:$S$13,자료실!C605)","v":0},{"$f":"COUNTIF(번호추출!$N$13:$S$13,자료실!D605)","v":0},{"$f":"COUNTIF(번호추출!$N$13:$S$13,자료실!E605)","v":1},{"$f":"COUNTIF(번호추출!$N$13:$S$13,자료실!F605)","v":0},{"$f":"COUNTIF(번호추출!$N$13:$S$13,자료실!G605)","v":0},{"$f":"COUNTIF(번호추출!$N$13:$S$13,자료실!H605)","v":0},{"$f":"COUNTIF(번호추출!$N$13:$S$13,I605)","v":0},1,1,"꽝",0,0,0,0,{"$f":"IF(6=U605,\"1등\",IF(13=U605,\"1등\",0))","v":0},0]
[604,"2014.06.28",2,6,18,21,33,34,30,null,null,604,{"$f":"COUNTIF(번호추출!$N$13:$S$13,자료실!C606)","v":0},{"$f":"COUNTIF(번호추출!$N$13:$S$13,자료실!D606)","v":0},{"$f":"COUNTIF(번호추출!$N$13:$S$13,자료실!E606)","v":1},{"$f":"COUNTIF(번호추출!$N$13:$S$13,자료실!F606)","v":0},{"$f":"COUNTIF(번호추출!$N$13:$S$13,자료실!G606)","v":1},{"$f":"COUNTIF(번호추출!$N$13:$S$13,자료실!H606)","v":0},{"$f":"COUNTIF(번호추출!$N$13:$S$13,I606)","v":0},2,2,"꽝","꽝",0,0,0,{"$f":"IF(6=U606,\"1등\",IF(13=U606,\"1등\",0))","v":0},0]
[605,"2014.07.05",1,2,7,9,10,38,42,null,null,605,{"$f":"COUNTIF(번호추출!$N$13:$S$13,자료실!C607)","v":0},{"$f":"COUNTIF(번호추출!$N$13:$S$13,자료실!D607)","v":0},{"$f":"COUNTIF(번호추출!$N$13:$S$13,자료실!E607)","v":0},{"$f":"COUNTIF(번호추출!$N$13:$S$13,자료실!F607)","v":0},{"$f":"COUNTIF(번호추출!$N$13:$S$13,자료실!G607)","v":0},{"$f":"COUNTIF(번호추출!$N$13:$S$13,자료실!H607)","v":0},{"$f":"COUNTIF(번호추출!$N$13:$S$13,I607)","v":0},0,0,0,0,0,0,0,{"$f":"IF(6=U607,\"1등\",IF(13=U607,\"1등\",0))","v":0},0]
[606,"2014.07.12",1,5,6,14,20,39,22,null,null,606,{"$f":"COUNTIF(번호추출!$N$13:$S$13,자료실!C608)","v":0},{"$f":"COUNTIF(번호추출!$N$13:$S$13,자료실!D608)","v":0},{"$f":"COUNTIF(번호추출!$N$13:$S$13,자료실!E608)","v":0},{"$f":"COUNTIF(번호추출!$N$13:$S$13,자료실!F608)","v":0},{"$f":"COUNTIF(번호추출!$N$13:$S$13,자료실!G608)","v":0},{"$f":"COUNTIF(번호추출!$N$13:$S$13,자료실!H608)","v":0},{"$f":"COUNTIF(번호추출!$N$13:$S$13,I608)","v":0},0,0,0,0,0,0,0,{"$f":"IF(6=U608,\"1등\",IF(13=U608,\"1등\",0))","v":0},0]
[607,"2014.07.19",8,14,23,36,38,39,13,null,null,607,{"$f":"COUNTIF(번호추출!$N$13:$S$13,자료실!C609)","v":0},{"$f":"COUNTIF(번호추출!$N$13:$S$13,자료실!D609)","v":0},{"$f":"COUNTIF(번호추출!$N$13:$S$13,자료실!E609)","v":0},{"$f":"COUNTIF(번호추출!$N$13:$S$13,자료실!F609)","v":0},{"$f":"COUNTIF(번호추출!$N$13:$S$13,자료실!G609)","v":0},{"$f":"COUNTIF(번호추출!$N$13:$S$13,자료실!H609)","v":0},{"$f":"COUNTIF(번호추출!$N$13:$S$13,I609)","v":0},0,0,0,0,0,0,0,{"$f":"IF(6=U609,\"1등\",IF(13=U609,\"1등\",0))","v":0},0]
[608,"2014.07.26",4,8,18,19,39,44,41,null,null,608,{"$f":"COUNTIF(번호추출!$N$13:$S$13,자료실!C610)","v":1},{"$f":"COUNTIF(번호추출!$N$13:$S$13,자료실!D610)","v":0},{"$f":"COUNTIF(번호추출!$N$13:$S$13,자료실!E610)","v":1},{"$f":"COUNTIF(번호추출!$N$13:$S$13,자료실!F610)","v":0},{"$f":"COUNTIF(번호추출!$N$13:$S$13,자료실!G610)","v":0},{"$f":"COUNTIF(번호추출!$N$13:$S$13,자료실!H610)","v":0},{"$f":"COUNTIF(번호추출!$N$13:$S$13,I610)","v":0},2,2,"꽝","꽝",0,0,0,{"$f":"IF(6=U610,\"1등\",IF(13=U610,\"1등\",0))","v":0},0]
[609,"2014.08.02",4,8,27,34,39,40,13,null,null,609,{"$f":"COUNTIF(번호추출!$N$13:$S$13,자료실!C611)","v":1},{"$f":"COUNTIF(번호추출!$N$13:$S$13,자료실!D611)","v":0},{"$f":"COUNTIF(번호추출!$N$13:$S$13,자료실!E611)","v":0},{"$f":"COUNTIF(번호추출!$N$13:$S$13,자료실!F611)","v":0},{"$f":"COUNTIF(번호추출!$N$13:$S$13,자료실!G611)","v":0},{"$f":"COUNTIF(번호추출!$N$13:$S$13,자료실!H611)","v":0},{"$f":"COUNTIF(번호추출!$N$13:$S$13,I611)","v":0},1,1,"꽝",0,0,0,0,{"$f":"IF(6=U611,\"1등\",IF(13=U611,\"1등\",0))","v":0},0]
[610,"2014.08.09",14,18,20,23,28,36,33,null,null,610,{"$f":"COUNTIF(번호추출!$N$13:$S$13,자료실!C612)","v":0},{"$f":"COUNTIF(번호추출!$N$13:$S$13,자료실!D612)","v":1},{"$f":"COUNTIF(번호추출!$N$13:$S$13,자료실!E612)","v":0},{"$f":"COUNTIF(번호추출!$N$13:$S$13,자료실!F612)","v":0},{"$f":"COUNTIF(번호추출!$N$13:$S$13,자료실!G612)","v":0},{"$f":"COUNTIF(번호추출!$N$13:$S$13,자료실!H612)","v":0},{"$f":"COUNTIF(번호추출!$N$13:$S$13,I612)","v":1},1,2,"꽝","꽝",0,0,0,{"$f":"IF(6=U612,\"1등\",IF(13=U612,\"1등\",0))","v":0},0]
[611,"2014.08.16",2,22,27,33,36,37,14,null,null,611,{"$f":"COUNTIF(번호추출!$N$13:$S$13,자료실!C613)","v":0},{"$f":"COUNTIF(번호추출!$N$13:$S$13,자료실!D613)","v":0},{"$f":"COUNTIF(번호추출!$N$13:$S$13,자료실!E613)","v":0},{"$f":"COUNTIF(번호추출!$N$13:$S$13,자료실!F613)","v":1},{"$f":"COUNTIF(번호추출!$N$13:$S$13,자료실!G613)","v":0},{"$f":"COUNTIF(번호추출!$N$13:$S$13,자료실!H613)","v":0},{"$f":"COUNTIF(번호추출!$N$13:$S$13,I613)","v":0},1,1,"꽝",0,0,0,0,{"$f":"IF(6=U613,\"1등\",IF(13=U613,\"1등\",0))","v":0},0]
[612,"2014.08.23",6,9,18,19,25,33,40,null,null,612,{"$f":"COUNTIF(번호추출!$N$13:$S$13,자료실!C614)","v":0},{"$f":"COUNTIF(번호추출!$N$13:$S$13,자료실!D614)","v":0},{"$f":"COUNTIF(번호추출!$N$13:$S$13,자료실!E614)","v":1},{"$f":"COUNTIF(번호추출!$N$13:$S$13,자료실!F614)","v":0},{"$f":"COUNTIF(번호추출!$N$13:$S$13,자료실!G614)","v":1},{"$f":"COUNTIF(번호추출!$N$13:$S$13,자료실!H614)","v":1},{"$f":"COUNTIF(번호추출!$N$13:$S$13,I614)","v":0},3,3,"꽝","꽝","5등",0,0,{"$f":"IF(6=U614,\"1등\",IF(13=U614,\"1등\",0))","v":0},0]
[613,"2014.08.30",7,8,11,16,41,44,35,null,null,613,{"$f":"COUNTIF(번호추출!$N$13:$S$13,자료실!C615)","v":0},{"$f":"COUNTIF(번호추출!$N$13:$S$13,자료실!D615)","v":0},{"$f":"COUNTIF(번호추출!$N$13:$S$13,자료실!E615)","v":0},{"$f":"COUNTIF(번호추출!$N$13:$S$13,자료실!F615)","v":0},{"$f":"COUNTIF(번호추출!$N$13:$S$13,자료실!G615)","v":0},{"$f":"COUNTIF(번호추출!$N$13:$S$13,자료실!H615)","v":0},{"$f":"COUNTIF(번호추출!$N$13:$S$13,I615)","v":0},0,0,0,0,0,0,0,{"$f":"IF(6=U615,\"1등\",IF(13=U615,\"1등\",0))","v":0},0]
[614,"2014.09.06",8,21,25,39,40,44,18,null,null,614,{"$f":"COUNTIF(번호추출!$N$13:$S$13,자료실!C616)","v":0},{"$f":"COUNTIF(번호추출!$N$13:$S$13,자료실!D616)","v":0},{"$f":"COUNTIF(번호추출!$N$13:$S$13,자료실!E616)","v":1},{"$f":"COUNTIF(번호추출!$N$13:$S$13,자료실!F616)","v":0},{"$f":"COUNTIF(번호추출!$N$13:$S$13,자료실!G616)","v":0},{"$f":"COUNTIF(번호추출!$N$13:$S$13,자료실!H616)","v":0},{"$f":"COUNTIF(번호추출!$N$13:$S$13,I616)","v":1},1,2,"꽝","꽝",0,0,0,{"$f":"IF(6=U616,\"1등\",IF(13=U616,\"1등\",0))","v":0},0]
[615,"2014.09.13",10,17,18,19,23,27,35,null,null,615,{"$f":"COUNTIF(번호추출!$N$13:$S$13,자료실!C617)","v":0},{"$f":"COUNTIF(번호추출!$N$13:$S$13,자료실!D617)","v":0},{"$f":"COUNTIF(번호추출!$N$13:$S$13,자료실!E617)","v":1},{"$f":"COUNTIF(번호추출!$N$13:$S$13,자료실!F617)","v":0},{"$f":"COUNTIF(번호추출!$N$13:$S$13,자료실!G617)","v":0},{"$f":"COUNTIF(번호추출!$N$13:$S$13,자료실!H617)","v":0},{"$f":"COUNTIF(번호추출!$N$13:$S$13,I617)","v":0},1,1,"꽝",0,0,0,0,{"$f":"IF(6=U617,\"1등\",IF(13=U617,\"1등\",0))","v":0},0]
[616,"2014.09.20",5,13,18,23,40,45,3,null,null,616,{"$f":"COUNTIF(번호추출!$N$13:$S$13,자료실!C618)","v":0},{"$f":"COUNTIF(번호추출!$N$13:$S$13,자료실!D618)","v":0},{"$f":"COUNTIF(번호추출!$N$13:$S$13,자료실!E618)","v":1},{"$f":"COUNTIF(번호추출!$N$13:$S$13,자료실!F618)","v":0},{"$f":"COUNTIF(번호추출!$N$13:$S$13,자료실!G618)","v":0},{"$f":"COUNTIF(번호추출!$N$13:$S$13,자료실!H618)","v":1},{"$f":"COUNTIF(번호추출!$N$13:$S$13,I618)","v":0},2,2,"꽝","꽝",0,0,0,{"$f":"IF(6=U618,\"1등\",IF(13=U618,\"1등\",0))","v":0},0]
[617,"2014.09.27",4,5,11,12,24,27,28,null,null,617,{"$f":"COUNTIF(번호추출!$N$13:$S$13,자료실!C619)","v":1},{"$f":"COUNTIF(번호추출!$N$13:$S$13,자료실!D619)","v":0},{"$f":"COUNTIF(번호추출!$N$13:$S$13,자료실!E619)","v":0},{"$f":"COUNTIF(번호추출!$N$13:$S$13,자료실!F619)","v":0},{"$f":"COUNTIF(번호추출!$N$13:$S$13,자료실!G619)","v":0},{"$f":"COUNTIF(번호추출!$N$13:$S$13,자료실!H619)","v":0},{"$f":"COUNTIF(번호추출!$N$13:$S$13,I619)","v":0},1,1,"꽝",0,0,0,0,{"$f":"IF(6=U619,\"1등\",IF(13=U619,\"1등\",0))","v":0},0]
[618,"2014.10.04",8,16,25,30,42,43,15,null,null,618,{"$f":"COUNTIF(번호추출!$N$13:$S$13,자료실!C620)","v":0},{"$f":"COUNTIF(번호추출!$N$13:$S$13,자료실!D620)","v":0},{"$f":"COUNTIF(번호추출!$N$13:$S$13,자료실!E620)","v":1},{"$f":"COUNTIF(번호추출!$N$13:$S$13,자료실!F620)","v":0},{"$f":"COUNTIF(번호추출!$N$13:$S$13,자료실!G620)","v":0},{"$f":"COUNTIF(번호추출!$N$13:$S$13,자료실!H620)","v":0},{"$f":"COUNTIF(번호추출!$N$13:$S$13,I620)","v":1},1,2,"꽝","꽝",0,0,0,{"$f":"IF(6=U620,\"1등\",IF(13=U620,\"1등\",0))","v":0},0]
[619,"2014.10.11",6,8,13,30,35,40,21,null,null,619,{"$f":"COUNTIF(번호추출!$N$13:$S$13,자료실!C621)","v":0},{"$f":"COUNTIF(번호추출!$N$13:$S$13,자료실!D621)","v":0},{"$f":"COUNTIF(번호추출!$N$13:$S$13,자료실!E621)","v":0},{"$f":"COUNTIF(번호추출!$N$13:$S$13,자료실!F621)","v":0},{"$f":"COUNTIF(번호추출!$N$13:$S$13,자료실!G621)","v":0},{"$f":"COUNTIF(번호추출!$N$13:$S$13,자료실!H621)","v":0},{"$f":"COUNTIF(번호추출!$N$13:$S$13,I621)","v":0},0,0,0,0,0,0,0,{"$f":"IF(6=U621,\"1등\",IF(13=U621,\"1등\",0))","v":0},0]
[620,"2014.10.18",2,16,17,32,39,45,40,null,null,620,{"$f":"COUNTIF(번호추출!$N$13:$S$13,자료실!C622)","v":0},{"$f":"COUNTIF(번호추출!$N$13:$S$13,자료실!D622)","v":0},{"$f":"COUNTIF(번호추출!$N$13:$S$13,자료실!E622)","v":0},{"$f":"COUNTIF(번호추출!$N$13:$S$13,자료실!F622)","v":0},{"$f":"COUNTIF(번호추출!$N$13:$S$13,자료실!G622)","v":0},{"$f":"COUNTIF(번호추출!$N$13:$S$13,자료실!H622)","v":1},{"$f":"COUNTIF(번호추출!$N$13:$S$13,I622)","v":0},1,1,"꽝",0,0,0,0,{"$f":"IF(6=U622,\"1등\",IF(13=U622,\"1등\",0))","v":0},0]
[621,"2014.10.25",1,2,6,16,19,42,9,null,null,621,{"$f":"COUNTIF(번호추출!$N$13:$S$13,자료실!C623)","v":0},{"$f":"COUNTIF(번호추출!$N$13:$S$13,자료실!D623)","v":0},{"$f":"COUNTIF(번호추출!$N$13:$S$13,자료실!E623)","v":0},{"$f":"COUNTIF(번호추출!$N$13:$S$13,자료실!F623)","v":0},{"$f":"COUNTIF(번호추출!$N$13:$S$13,자료실!G623)","v":0},{"$f":"COUNTIF(번호추출!$N$13:$S$13,자료실!H623)","v":0},{"$f":"COUNTIF(번호추출!$N$13:$S$13,I623)","v":0},0,0,0,0,0,0,0,{"$f":"IF(6=U623,\"1등\",IF(13=U623,\"1등\",0))","v":0},0]
[622,"2014.11.01",9,15,16,21,28,34,24,null,null,622,{"$f":"COUNTIF(번호추출!$N$13:$S$13,자료실!C624)","v":0},{"$f":"COUNTIF(번호추출!$N$13:$S$13,자료실!D624)","v":1},{"$f":"COUNTIF(번호추출!$N$13:$S$13,자료실!E624)","v":0},{"$f":"COUNTIF(번호추출!$N$13:$S$13,자료실!F624)","v":0},{"$f":"COUNTIF(번호추출!$N$13:$S$13,자료실!G624)","v":0},{"$f":"COUNTIF(번호추출!$N$13:$S$13,자료실!H624)","v":0},{"$f":"COUNTIF(번호추출!$N$13:$S$13,I624)","v":0},1,1,"꽝",0,0,0,0,{"$f":"IF(6=U624,\"1등\",IF(13=U624,\"1등\",0))","v":0},0]
[623,"2014.11.08",7,13,30,39,41,45,25,null,null,623,{"$f":"COUNTIF(번호추출!$N$13:$S$13,자료실!C625)","v":0},{"$f":"COUNTIF(번호추출!$N$13:$S$13,자료실!D625)","v":0},{"$f":"COUNTIF(번호추출!$N$13:$S$13,자료실!E625)","v":0},{"$f":"COUNTIF(번호추출!$N$13:$S$13,자료실!F625)","v":0},{"$f":"COUNTIF(번호추출!$N$13:$S$13,자료실!G625)","v":0},{"$f":"COUNTIF(번호추출!$N$13:$S$13,자료실!H625)","v":1},{"$f":"COUNTIF(번호추출!$N$13:$S$13,I625)","v":1},1,2,"꽝","꽝",0,0,0,{"$f":"IF(6=U625,\"1등\",IF(13=U625,\"1등\",0))","v":0},0]
[624,"2014.11.15",1,7,19,26,27,35,16,null,null,624,{"$f":"COUNTIF(번호추출!$N$13:$S$13,자료실!C626)","v":0},{"$f":"COUNTIF(번호추출!$N$13:$S$13,자료실!D626)","v":0},{"$f":"COUNTIF(번호추출!$N$13:$S$13,자료실!E626)","v":0},{"$f":"COUNTIF(번호추출!$N$13:$S$13,자료실!F626)","v":0},{"$f":"COUNTIF(번호추출!$N$13:$S$13,자료실!G626)","v":0},{"$f":"COUNTIF(번호추출!$N$13:$S$13,자료실!H626)","v":0},{"$f":"COUNTIF(번호추출!$N$13:$S$13,I626)","v":0},0,0,0,0,0,0,0,{"$f":"IF(6=U626,\"1등\",IF(13=U626,\"1등\",0))","v":0},0]
[625,"2014.11.22",3,6,7,20,21,39,13,null,null,625,{"$f":"COUNTIF(번호추출!$N$13:$S$13,자료실!C627)","v":0},{"$f":"COUNTIF(번호추출!$N$13:$S$13,자료실!D627)","v":0},{"$f":"COUNTIF(번호추출!$N$13:$S$13,자료실!E627)","v":0},{"$f":"COUNTIF(번호추출!$N$13:$S$13,자료실!F627)","v":0},{"$f":"COUNTIF(번호추출!$N$13:$S$13,자료실!G627)","v":0},{"$f":"COUNTIF(번호추출!$N$13:$S$13,자료실!H627)","v":0},{"$f":"COUNTIF(번호추출!$N$13:$S$13,I627)","v":0},0,0,0,0,0,0,0,{"$f":"IF(6=U627,\"1등\",IF(13=U627,\"1등\",0))","v":0},0]
[626,"2014.11.29",13,14,26,33,40,43,15,null,null,626,{"$f":"COUNTIF(번호추출!$N$13:$S$13,자료실!C628)","v":0},{"$f":"COUNTIF(번호추출!$N$13:$S$13,자료실!D628)","v":0},{"$f":"COUNTIF(번호추출!$N$13:$S$13,자료실!E628)","v":0},{"$f":"COUNTIF(번호추출!$N$13:$S$13,자료실!F628)","v":1},{"$f":"COUNTIF(번호추출!$N$13:$S$13,자료실!G628)","v":0},{"$f":"COUNTIF(번호추출!$N$13:$S$13,자료실!H628)","v":0},{"$f":"COUNTIF(번호추출!$N$13:$S$13,I628)","v":1},1,2,"꽝","꽝",0,0,0,{"$f":"IF(6=U628,\"1등\",IF(13=U628,\"1등\",0))","v":0},0]
[627,"2014.12.06",2,9,22,25,31,45,12,null,null,627,{"$f":"COUNTIF(번호추출!$N$13:$S$13,자료실!C629)","v":0},{"$f":"COUNTIF(번호추출!$N$13:$S$13,자료실!D629)","v":0},{"$f":"COUNTIF(번호추출!$N$13:$S$13,자료실!E629)","v":0},{"$f":"COUNTIF(번호추출!$N$13:$S$13,자료실!F629)","v":1},{"$f":"COUNTIF(번호추출!$N$13:$S$13,자료실!G629)","v":0},{"$f":"COUNTIF(번호추출!$N$13:$S$13,자료실!H629)","v":1},{"$f":"COUNTIF(번호추출!$N$13:$S$13,I629)","v":0},2,2,"꽝","꽝",0,0,0,{"$f":"IF(6=U629,\"1등\",IF(13=U629,\"1등\",0))","v":0},0]
[628,"2014.12.13",1,7,12,15,23,42,11,null,null,628,{"$f":"COUNTIF(번호추출!$N$13:$S$13,자료실!C630)","v":0},{"$f":"COUNTIF(번호추출!$N$13:$S$13,자료실!D630)","v":0},{"$f":"COUNTIF(번호추출!$N$13:$S$13,자료실!E630)","v":0},{"$f":"COUNTIF(번호추출!$N$13:$S$13,자료실!F630)","v":1},{"$f":"COUNTIF(번호추출!$N$13:$S$13,자료실!G630)","v":0},{"$f":"COUNTIF(번호추출!$N$13:$S$13,자료실!H630)","v":0},{"$f":"COUNTIF(번호추출!$N$13:$S$13,I630)","v":0},1,1,"꽝",0,0,0,0,{"$f":"IF(6=U630,\"1등\",IF(13=U630,\"1등\",0))","v":0},0]
[629,"2014.12.20",19,28,31,38,43,44,1,null,null,629,{"$f":"COUNTIF(번호추출!$N$13:$S$13,자료실!C631)","v":0},{"$f":"COUNTIF(번호추출!$N$13:$S$13,자료실!D631)","v":0},{"$f":"COUNTIF(번호추출!$N$13:$S$13,자료실!E631)","v":0},{"$f":"COUNTIF(번호추출!$N$13:$S$13,자료실!F631)","v":0},{"$f":"COUNTIF(번호추출!$N$13:$S$13,자료실!G631)","v":0},{"$f":"COUNTIF(번호추출!$N$13:$S$13,자료실!H631)","v":0},{"$f":"COUNTIF(번호추출!$N$13:$S$13,I631)","v":0},0,0,0,0,0,0,0,{"$f":"IF(6=U631,\"1등\",IF(13=U631,\"1등\",0))","v":0},0]
[630,"2014.12.27",8,17,21,24,27,31,15,null,null,630,{"$f":"COUNTIF(번호추출!$N$13:$S$13,자료실!C632)","v":0},{"$f":"COUNTIF(번호추출!$N$13:$S$13,자료실!D632)","v":0},{"$f":"COUNTIF(번호추출!$N$13:$S$13,자료실!E632)","v":0},{"$f":"COUNTIF(번호추출!$N$13:$S$13,자료실!F632)","v":0},{"$f":"COUNTIF(번호추출!$N$13:$S$13,자료실!G632)","v":0},{"$f":"COUNTIF(번호추출!$N$13:$S$13,자료실!H632)","v":0},{"$f":"COUNTIF(번호추출!$N$13:$S$13,I632)","v":1},0,1,"꽝",0,0,0,0,{"$f":"IF(6=U632,\"1등\",IF(13=U632,\"1등\",0))","v":0},0]
[631,"2015.01.03",1,2,4,23,31,34,8,null,null,631,{"$f":"COUNTIF(번호추출!$N$13:$S$13,자료실!C633)","v":0},{"$f":"COUNTIF(번호추출!$N$13:$S$13,자료실!D633)","v":0},{"$f":"COUNTIF(번호추출!$N$13:$S$13,자료실!E633)","v":1},{"$f":"COUNTIF(번호추출!$N$13:$S$13,자료실!F633)","v":0},{"$f":"COUNTIF(번호추출!$N$13:$S$13,자료실!G633)","v":0},{"$f":"COUNTIF(번호추출!$N$13:$S$13,자료실!H633)","v":0},{"$f":"COUNTIF(번호추출!$N$13:$S$13,I633)","v":0},1,1,"꽝",0,0,0,0,{"$f":"IF(6=U633,\"1등\",IF(13=U633,\"1등\",0))","v":0},0]
[632,"2015.01.10",15,18,21,32,35,44,6,null,null,632,{"$f":"COUNTIF(번호추출!$N$13:$S$13,자료실!C634)","v":1},{"$f":"COUNTIF(번호추출!$N$13:$S$13,자료실!D634)","v":1},{"$f":"COUNTIF(번호추출!$N$13:$S$13,자료실!E634)","v":0},{"$f":"COUNTIF(번호추출!$N$13:$S$13,자료실!F634)","v":0},{"$f":"COUNTIF(번호추출!$N$13:$S$13,자료실!G634)","v":0},{"$f":"COUNTIF(번호추출!$N$13:$S$13,자료실!H634)","v":0},{"$f":"COUNTIF(번호추출!$N$13:$S$13,I634)","v":0},2,2,"꽝","꽝",0,0,0,{"$f":"IF(6=U634,\"1등\",IF(13=U634,\"1등\",0))","v":0},0]
[633,"2015.01.17",9,12,19,20,39,41,13,null,null,633,{"$f":"COUNTIF(번호추출!$N$13:$S$13,자료실!C635)","v":0},{"$f":"COUNTIF(번호추출!$N$13:$S$13,자료실!D635)","v":0},{"$f":"COUNTIF(번호추출!$N$13:$S$13,자료실!E635)","v":0},{"$f":"COUNTIF(번호추출!$N$13:$S$13,자료실!F635)","v":0},{"$f":"COUNTIF(번호추출!$N$13:$S$13,자료실!G635)","v":0},{"$f":"COUNTIF(번호추출!$N$13:$S$13,자료실!H635)","v":0},{"$f":"COUNTIF(번호추출!$N$13:$S$13,I635)","v":0},0,0,0,0,0,0,0,{"$f":"IF(6=U635,\"1등\",IF(13=U635,\"1등\",0))","v":0},0]
[634,"2015.01.24",4,10,11,12,20,27,38,null,null,634,{"$f":"COUNTIF(번호추출!$N$13:$S$13,자료실!C636)","v":1},{"$f":"COUNTIF(번호추출!$N$13:$S$13,자료실!D636)","v":0},{"$f":"COUNTIF(번호추출!$N$13:$S$13,자료실!E636)","v":0},{"$f":"COUNTIF(번호추출!$N$13:$S$13,자료실!F636)","v":0},{"$f":"COUNTIF(번호추출!$N$13:$S$13,자료실!G636)","v":0},{"$f":"COUNTIF(번호추출!$N$13:$S$13,자료실!H636)","v":0},{"$f":"COUNTIF(번호추출!$N$13:$S$13,I636)","v":0},1,1,"꽝",0,0,0,0,{"$f":"IF(6=U636,\"1등\",IF(13=U636,\"1등\",0))","v":0},0]
[635,"2015.01.31",11,13,25,26,29,33,32,null,null,635,{"$f":"COUNTIF(번호추출!$N$13:$S$13,자료실!C637)","v":0},{"$f":"COUNTIF(번호추출!$N$13:$S$13,자료실!D637)","v":0},{"$f":"COUNTIF(번호추출!$N$13:$S$13,자료실!E637)","v":1},{"$f":"COUNTIF(번호추출!$N$13:$S$13,자료실!F637)","v":0},{"$f":"COUNTIF(번호추출!$N$13:$S$13,자료실!G637)","v":0},{"$f":"COUNTIF(번호추출!$N$13:$S$13,자료실!H637)","v":1},{"$f":"COUNTIF(번호추출!$N$13:$S$13,I637)","v":0},2,2,"꽝","꽝",0,0,0,{"$f":"IF(6=U637,\"1등\",IF(13=U637,\"1등\",0))","v":0},0]
[636,"2015.02.07",6,7,15,16,20,31,26,null,null,636,{"$f":"COUNTIF(번호추출!$N$13:$S$13,자료실!C638)","v":0},{"$f":"COUNTIF(번호추출!$N$13:$S$13,자료실!D638)","v":0},{"$f":"COUNTIF(번호추출!$N$13:$S$13,자료실!E638)","v":1},{"$f":"COUNTIF(번호추출!$N$13:$S$13,자료실!F638)","v":0},{"$f":"COUNTIF(번호추출!$N$13:$S$13,자료실!G638)","v":0},{"$f":"COUNTIF(번호추출!$N$13:$S$13,자료실!H638)","v":0},{"$f":"COUNTIF(번호추출!$N$13:$S$13,I638)","v":0},1,1,"꽝",0,0,0,0,{"$f":"IF(6=U638,\"1등\",IF(13=U638,\"1등\",0))","v":0},0]
[637,"2015.02.14",3,16,22,37,38,44,23,null,null,637,{"$f":"COUNTIF(번호추출!$N$13:$S$13,자료실!C639)","v":0},{"$f":"COUNTIF(번호추출!$N$13:$S$13,자료실!D639)","v":0},{"$f":"COUNTIF(번호추출!$N$13:$S$13,자료실!E639)","v":0},{"$f":"COUNTIF(번호추출!$N$13:$S$13,자료실!F639)","v":0},{"$f":"COUNTIF(번호추출!$N$13:$S$13,자료실!G639)","v":0},{"$f":"COUNTIF(번호추출!$N$13:$S$13,자료실!H639)","v":0},{"$f":"COUNTIF(번호추출!$N$13:$S$13,I639)","v":0},0,0,0,0,0,0,0,{"$f":"IF(6=U639,\"1등\",IF(13=U639,\"1등\",0))","v":0},0]
[638,"2015.02.21",7,18,22,24,31,34,6,null,null,638,{"$f":"COUNTIF(번호추출!$N$13:$S$13,자료실!C640)","v":0},{"$f":"COUNTIF(번호추출!$N$13:$S$13,자료실!D640)","v":1},{"$f":"COUNTIF(번호추출!$N$13:$S$13,자료실!E640)","v":0},{"$f":"COUNTIF(번호추출!$N$13:$S$13,자료실!F640)","v":0},{"$f":"COUNTIF(번호추출!$N$13:$S$13,자료실!G640)","v":0},{"$f":"COUNTIF(번호추출!$N$13:$S$13,자료실!H640)","v":0},{"$f":"COUNTIF(번호추출!$N$13:$S$13,I640)","v":0},1,1,"꽝",0,0,0,0,{"$f":"IF(6=U640,\"1등\",IF(13=U640,\"1등\",0))","v":0},0]
[639,"2015.02.28",6,15,22,23,25,32,40,null,null,639,{"$f":"COUNTIF(번호추출!$N$13:$S$13,자료실!C641)","v":0},{"$f":"COUNTIF(번호추출!$N$13:$S$13,자료실!D641)","v":1},{"$f":"COUNTIF(번호추출!$N$13:$S$13,자료실!E641)","v":0},{"$f":"COUNTIF(번호추출!$N$13:$S$13,자료실!F641)","v":0},{"$f":"COUNTIF(번호추출!$N$13:$S$13,자료실!G641)","v":1},{"$f":"COUNTIF(번호추출!$N$13:$S$13,자료실!H641)","v":0},{"$f":"COUNTIF(번호추출!$N$13:$S$13,I641)","v":0},2,2,"꽝","꽝",0,0,0,{"$f":"IF(6=U641,\"1등\",IF(13=U641,\"1등\",0))","v":0},0]
[640,"2015.03.07",14,15,18,21,26,35,23,null,null,640,{"$f":"COUNTIF(번호추출!$N$13:$S$13,자료실!C642)","v":0},{"$f":"COUNTIF(번호추출!$N$13:$S$13,자료실!D642)","v":1},{"$f":"COUNTIF(번호추출!$N$13:$S$13,자료실!E642)","v":1},{"$f":"COUNTIF(번호추출!$N$13:$S$13,자료실!F642)","v":0},{"$f":"COUNTIF(번호추출!$N$13:$S$13,자료실!G642)","v":0},{"$f":"COUNTIF(번호추출!$N$13:$S$13,자료실!H642)","v":0},{"$f":"COUNTIF(번호추출!$N$13:$S$13,I642)","v":0},2,2,"꽝","꽝",0,0,0,{"$f":"IF(6=U642,\"1등\",IF(13=U642,\"1등\",0))","v":0},0]
[641,"2015.03.14",11,18,21,36,37,43,12,null,null,641,{"$f":"COUNTIF(번호추출!$N$13:$S$13,자료실!C643)","v":0},{"$f":"COUNTIF(번호추출!$N$13:$S$13,자료실!D643)","v":1},{"$f":"COUNTIF(번호추출!$N$13:$S$13,자료실!E643)","v":0},{"$f":"COUNTIF(번호추출!$N$13:$S$13,자료실!F643)","v":0},{"$f":"COUNTIF(번호추출!$N$13:$S$13,자료실!G643)","v":0},{"$f":"COUNTIF(번호추출!$N$13:$S$13,자료실!H643)","v":0},{"$f":"COUNTIF(번호추출!$N$13:$S$13,I643)","v":0},1,1,"꽝",0,0,0,0,{"$f":"IF(6=U643,\"1등\",IF(13=U643,\"1등\",0))","v":0},0]
[642,"2015.03.21",8,17,18,24,39,45,32,null,null,642,{"$f":"COUNTIF(번호추출!$N$13:$S$13,자료실!C644)","v":0},{"$f":"COUNTIF(번호추출!$N$13:$S$13,자료실!D644)","v":0},{"$f":"COUNTIF(번호추출!$N$13:$S$13,자료실!E644)","v":1},{"$f":"COUNTIF(번호추출!$N$13:$S$13,자료실!F644)","v":0},{"$f":"COUNTIF(번호추출!$N$13:$S$13,자료실!G644)","v":0},{"$f":"COUNTIF(번호추출!$N$13:$S$13,자료실!H644)","v":1},{"$f":"COUNTIF(번호추출!$N$13:$S$13,I644)","v":0},2,2,"꽝","꽝",0,0,0,{"$f":"IF(6=U644,\"1등\",IF(13=U644,\"1등\",0))","v":0},0]
[643,"2015.03.28",15,24,31,32,33,40,13,null,null,643,{"$f":"COUNTIF(번호추출!$N$13:$S$13,자료실!C645)","v":1},{"$f":"COUNTIF(번호추출!$N$13:$S$13,자료실!D645)","v":0},{"$f":"COUNTIF(번호추출!$N$13:$S$13,자료실!E645)","v":0},{"$f":"COUNTIF(번호추출!$N$13:$S$13,자료실!F645)","v":0},{"$f":"COUNTIF(번호추출!$N$13:$S$13,자료실!G645)","v":1},{"$f":"COUNTIF(번호추출!$N$13:$S$13,자료실!H645)","v":0},{"$f":"COUNTIF(번호추출!$N$13:$S$13,I645)","v":0},2,2,"꽝","꽝",0,0,0,{"$f":"IF(6=U645,\"1등\",IF(13=U645,\"1등\",0))","v":0},0]
[644,"2015.04.04",5,13,17,23,28,36,8,null,null,644,{"$f":"COUNTIF(번호추출!$N$13:$S$13,자료실!C646)","v":0},{"$f":"COUNTIF(번호추출!$N$13:$S$13,자료실!D646)","v":0},{"$f":"COUNTIF(번호추출!$N$13:$S$13,자료실!E646)","v":0},{"$f":"COUNTIF(번호추출!$N$13:$S$13,자료실!F646)","v":0},{"$f":"COUNTIF(번호추출!$N$13:$S$13,자료실!G646)","v":0},{"$f":"COUNTIF(번호추출!$N$13:$S$13,자료실!H646)","v":0},{"$f":"COUNTIF(번호추출!$N$13:$S$13,I646)","v":0},0,0,0,0,0,0,0,{"$f":"IF(6=U646,\"1등\",IF(13=U646,\"1등\",0))","v":0},0]
[645,"2015.04.11",1,4,16,26,40,41,31,null,null,645,{"$f":"COUNTIF(번호추출!$N$13:$S$13,자료실!C647)","v":0},{"$f":"COUNTIF(번호추출!$N$13:$S$13,자료실!D647)","v":1},{"$f":"COUNTIF(번호추출!$N$13:$S$13,자료실!E647)","v":0},{"$f":"COUNTIF(번호추출!$N$13:$S$13,자료실!F647)","v":0},{"$f":"COUNTIF(번호추출!$N$13:$S$13,자료실!G647)","v":0},{"$f":"COUNTIF(번호추출!$N$13:$S$13,자료실!H647)","v":0},{"$f":"COUNTIF(번호추출!$N$13:$S$13,I647)","v":0},1,1,"꽝",0,0,0,0,{"$f":"IF(6=U647,\"1등\",IF(13=U647,\"1등\",0))","v":0},0]
[646,"2015.04.18",2,9,24,41,43,45,30,null,null,646,{"$f":"COUNTIF(번호추출!$N$13:$S$13,자료실!C648)","v":0},{"$f":"COUNTIF(번호추출!$N$13:$S$13,자료실!D648)","v":0},{"$f":"COUNTIF(번호추출!$N$13:$S$13,자료실!E648)","v":0},{"$f":"COUNTIF(번호추출!$N$13:$S$13,자료실!F648)","v":0},{"$f":"COUNTIF(번호추출!$N$13:$S$13,자료실!G648)","v":0},{"$f":"COUNTIF(번호추출!$N$13:$S$13,자료실!H648)","v":1},{"$f":"COUNTIF(번호추출!$N$13:$S$13,I648)","v":0},1,1,"꽝",0,0,0,0,{"$f":"IF(6=U648,\"1등\",IF(13=U648,\"1등\",0))","v":0},0]
[647,"2015.04.25",5,16,21,23,24,30,29,null,null,647,{"$f":"COUNTIF(번호추출!$N$13:$S$13,자료실!C649)","v":0},{"$f":"COUNTIF(번호추출!$N$13:$S$13,자료실!D649)","v":0},{"$f":"COUNTIF(번호추출!$N$13:$S$13,자료실!E649)","v":0},{"$f":"COUNTIF(번호추출!$N$13:$S$13,자료실!F649)","v":0},{"$f":"COUNTIF(번호추출!$N$13:$S$13,자료실!G649)","v":0},{"$f":"COUNTIF(번호추출!$N$13:$S$13,자료실!H649)","v":0},{"$f":"COUNTIF(번호추출!$N$13:$S$13,I649)","v":0},0,0,0,0,0,0,0,{"$f":"IF(6=U649,\"1등\",IF(13=U649,\"1등\",0))","v":0},0]
[648,"2015.05.02",13,19,28,37,38,43,4,null,null,648,{"$f":"COUNTIF(번호추출!$N$13:$S$13,자료실!C650)","v":0},{"$f":"COUNTIF(번호추출!$N$13:$S$13,자료실!D650)","v":0},{"$f":"COUNTIF(번호추출!$N$13:$S$13,자료실!E650)","v":0},{"$f":"COUNTIF(번호추출!$N$13:$S$13,자료실!F650)","v":0},{"$f":"COUNTIF(번호추출!$N$13:$S$13,자료실!G650)","v":0},{"$f":"COUNTIF(번호추출!$N$13:$S$13,자료실!H650)","v":0},{"$f":"COUNTIF(번호추출!$N$13:$S$13,I650)","v":1},0,1,"꽝",0,0,0,0,{"$f":"IF(6=U650,\"1등\",IF(13=U650,\"1등\",0))","v":0},0]
[649,"2015.05.09",3,21,22,33,41,42,20,null,null,649,{"$f":"COUNTIF(번호추출!$N$13:$S$13,자료실!C651)","v":0},{"$f":"COUNTIF(번호추출!$N$13:$S$13,자료실!D651)","v":0},{"$f":"COUNTIF(번호추출!$N$13:$S$13,자료실!E651)","v":0},{"$f":"COUNTIF(번호추출!$N$13:$S$13,자료실!F651)","v":1},{"$f":"COUNTIF(번호추출!$N$13:$S$13,자료실!G651)","v":0},{"$f":"COUNTIF(번호추출!$N$13:$S$13,자료실!H651)","v":0},{"$f":"COUNTIF(번호추출!$N$13:$S$13,I651)","v":0},1,1,"꽝",0,0,0,0,{"$f":"IF(6=U651,\"1등\",IF(13=U651,\"1등\",0))","v":0},0]
[650,"2015.05.16",3,4,7,11,31,41,35,null,null,650,{"$f":"COUNTIF(번호추출!$N$13:$S$13,자료실!C652)","v":0},{"$f":"COUNTIF(번호추출!$N$13:$S$13,자료실!D652)","v":1},{"$f":"COUNTIF(번호추출!$N$13:$S$13,자료실!E652)","v":0},{"$f":"COUNTIF(번호추출!$N$13:$S$13,자료실!F652)","v":0},{"$f":"COUNTIF(번호추출!$N$13:$S$13,자료실!G652)","v":0},{"$f":"COUNTIF(번호추출!$N$13:$S$13,자료실!H652)","v":0},{"$f":"COUNTIF(번호추출!$N$13:$S$13,I652)","v":0},1,1,"꽝",0,0,0,0,{"$f":"IF(6=U652,\"1등\",IF(13=U652,\"1등\",0))","v":0},0]
[651,"2015.05.23",11,12,16,26,29,44,18,null,null,651,{"$f":"COUNTIF(번호추출!$N$13:$S$13,자료실!C653)","v":0},{"$f":"COUNTIF(번호추출!$N$13:$S$13,자료실!D653)","v":0},{"$f":"COUNTIF(번호추출!$N$13:$S$13,자료실!E653)","v":0},{"$f":"COUNTIF(번호추출!$N$13:$S$13,자료실!F653)","v":0},{"$f":"COUNTIF(번호추출!$N$13:$S$13,자료실!G653)","v":0},{"$f":"COUNTIF(번호추출!$N$13:$S$13,자료실!H653)","v":0},{"$f":"COUNTIF(번호추출!$N$13:$S$13,I653)","v":1},0,1,"꽝",0,0,0,0,{"$f":"IF(6=U653,\"1등\",IF(13=U653,\"1등\",0))","v":0},0]
[652,"2015.05.30",3,13,15,40,41,44,20,null,null,652,{"$f":"COUNTIF(번호추출!$N$13:$S$13,자료실!C654)","v":0},{"$f":"COUNTIF(번호추출!$N$13:$S$13,자료실!D654)","v":0},{"$f":"COUNTIF(번호추출!$N$13:$S$13,자료실!E654)","v":1},{"$f":"COUNTIF(번호추출!$N$13:$S$13,자료실!F654)","v":0},{"$f":"COUNTIF(번호추출!$N$13:$S$13,자료실!G654)","v":0},{"$f":"COUNTIF(번호추출!$N$13:$S$13,자료실!H654)","v":0},{"$f":"COUNTIF(번호추출!$N$13:$S$13,I654)","v":0},1,1,{"$f":"IF(1=U654,\"꽝\",IF(0<T654,\"꽝\",0))","v":"꽝"},{"$f":"IF(2=U654,\"꽝\",IF(1<T654,\"꽝\",0))","v":0},{"$f":"IF(3=U654,\"5등\",IF(2<T654,\"5등\",0))","v":0},{"$f":"IF(4=U654,\"4등\",IF(3<T654,\"4등\",0))","v":0},{"$f":"IF(5=U654,\"3등\",IF(4<T654,\"3등\",0))","v":0},{"$f":"IF(6=U654,\"1등\",IF(13=U654,\"1등\",0))","v":0},{"$f":"IF(U654=12,\"2등\",0)","v":0}]
[653,"2015.06.06",5,6,26,27,38,39,1,null,null,653,{"$f":"COUNTIF(번호추출!$N$13:$S$13,자료실!C655)","v":0},{"$f":"COUNTIF(번호추출!$N$13:$S$13,자료실!D655)","v":0},{"$f":"COUNTIF(번호추출!$N$13:$S$13,자료실!E655)","v":0},{"$f":"COUNTIF(번호추출!$N$13:$S$13,자료실!F655)","v":0},{"$f":"COUNTIF(번호추출!$N$13:$S$13,자료실!G655)","v":0},{"$f":"COUNTIF(번호추출!$N$13:$S$13,자료실!H655)","v":0},{"$f":"COUNTIF(번호추출!$N$13:$S$13,I655)","v":0},0,0,0,0,0,0,0,{"$f":"IF(6=U655,\"1등\",IF(13=U655,\"1등\",0))","v":0},0]
[654,"2015.06.13",16,21,26,31,36,43,6,null,null,654,{"$f":"COUNTIF(번호추출!$N$13:$S$13,자료실!C656)","v":0},{"$f":"COUNTIF(번호추출!$N$13:$S$13,자료실!D656)","v":0},{"$f":"COUNTIF(번호추출!$N$13:$S$13,자료실!E656)","v":0},{"$f":"COUNTIF(번호추출!$N$13:$S$13,자료실!F656)","v":0},{"$f":"COUNTIF(번호추출!$N$13:$S$13,자료실!G656)","v":0},{"$f":"COUNTIF(번호추출!$N$13:$S$13,자료실!H656)","v":0},{"$f":"COUNTIF(번호추출!$N$13:$S$13,I656)","v":0},0,0,0,0,0,0,0,{"$f":"IF(6=U656,\"1등\",IF(13=U656,\"1등\",0))","v":0},0]
[655,"2015.06.20",7,37,38,39,40,44,18,null,null,655,{"$f":"COUNTIF(번호추출!$N$13:$S$13,자료실!C657)","v":0},{"$f":"COUNTIF(번호추출!$N$13:$S$13,자료실!D657)","v":0},{"$f":"COUNTIF(번호추출!$N$13:$S$13,자료실!E657)","v":0},{"$f":"COUNTIF(번호추출!$N$13:$S$13,자료실!F657)","v":0},{"$f":"COUNTIF(번호추출!$N$13:$S$13,자료실!G657)","v":0},{"$f":"COUNTIF(번호추출!$N$13:$S$13,자료실!H657)","v":0},{"$f":"COUNTIF(번호추출!$N$13:$S$13,I657)","v":1},0,1,"꽝",0,0,0,0,{"$f":"IF(6=U657,\"1등\",IF(13=U657,\"1등\",0))","v":0},0]
[656,"2015.06.27",3,7,14,16,31,40,39,null,null,656,{"$f":"COUNTIF(번호추출!$N$13:$S$13,자료실!C658)","v":0},{"$f":"COUNTIF(번호추출!$N$13:$S$13,자료실!D658)","v":0},{"$f":"COUNTIF(번호추출!$N$13:$S$13,자료실!E658)","v":0},{"$f":"COUNTIF(번호추출!$N$13:$S$13,자료실!F658)","v":0},{"$f":"COUNTIF(번호추출!$N$13:$S$13,자료실!G658)","v":0},{"$f":"COUNTIF(번호추출!$N$13:$S$13,자료실!H658)","v":0},{"$f":"COUNTIF(번호추출!$N$13:$S$13,I658)","v":0},0,0,0,0,0,0,0,{"$f":"IF(6=U658,\"1등\",IF(13=U658,\"1등\",0))","v":0},0]
[657,"2015.07.04",10,14,19,39,40,43,23,null,null,657,{"$f":"COUNTIF(번호추출!$N$13:$S$13,자료실!C659)","v":0},{"$f":"COUNTIF(번호추출!$N$13:$S$13,자료실!D659)","v":0},{"$f":"COUNTIF(번호추출!$N$13:$S$13,자료실!E659)","v":0},{"$f":"COUNTIF(번호추출!$N$13:$S$13,자료실!F659)","v":0},{"$f":"COUNTIF(번호추출!$N$13:$S$13,자료실!G659)","v":0},{"$f":"COUNTIF(번호추출!$N$13:$S$13,자료실!H659)","v":0},{"$f":"COUNTIF(번호추출!$N$13:$S$13,I659)","v":0},0,0,0,0,0,0,0,{"$f":"IF(6=U659,\"1등\",IF(13=U659,\"1등\",0))","v":0},0]
[658,"2015.07.11",8,19,25,28,32,36,37,null,null,658,{"$f":"COUNTIF(번호추출!$N$13:$S$13,자료실!C660)","v":0},{"$f":"COUNTIF(번호추출!$N$13:$S$13,자료실!D660)","v":0},{"$f":"COUNTIF(번호추출!$N$13:$S$13,자료실!E660)","v":1},{"$f":"COUNTIF(번호추출!$N$13:$S$13,자료실!F660)","v":0},{"$f":"COUNTIF(번호추출!$N$13:$S$13,자료실!G660)","v":0},{"$f":"COUNTIF(번호추출!$N$13:$S$13,자료실!H660)","v":0},{"$f":"COUNTIF(번호추출!$N$13:$S$13,I660)","v":0},1,1,"꽝",0,0,0,0,{"$f":"IF(6=U660,\"1등\",IF(13=U660,\"1등\",0))","v":0},0]
[659,"2015.07.18",7,18,19,27,29,42,45,null,null,659,{"$f":"COUNTIF(번호추출!$N$13:$S$13,자료실!C661)","v":0},{"$f":"COUNTIF(번호추출!$N$13:$S$13,자료실!D661)","v":1},{"$f":"COUNTIF(번호추출!$N$13:$S$13,자료실!E661)","v":0},{"$f":"COUNTIF(번호추출!$N$13:$S$13,자료실!F661)","v":0},{"$f":"COUNTIF(번호추출!$N$13:$S$13,자료실!G661)","v":0},{"$f":"COUNTIF(번호추출!$N$13:$S$13,자료실!H661)","v":0},{"$f":"COUNTIF(번호추출!$N$13:$S$13,I661)","v":1},1,2,"꽝","꽝",0,0,0,{"$f":"IF(6=U661,\"1등\",IF(13=U661,\"1등\",0))","v":0},0]
[660,"2015.07.25",4,9,23,33,39,44,14,null,null,660,{"$f":"COUNTIF(번호추출!$N$13:$S$13,자료실!C662)","v":1},{"$f":"COUNTIF(번호추출!$N$13:$S$13,자료실!D662)","v":0},{"$f":"COUNTIF(번호추출!$N$13:$S$13,자료실!E662)","v":0},{"$f":"COUNTIF(번호추출!$N$13:$S$13,자료실!F662)","v":1},{"$f":"COUNTIF(번호추출!$N$13:$S$13,자료실!G662)","v":0},{"$f":"COUNTIF(번호추출!$N$13:$S$13,자료실!H662)","v":0},{"$f":"COUNTIF(번호추출!$N$13:$S$13,I662)","v":0},2,2,"꽝","꽝",0,0,0,{"$f":"IF(6=U662,\"1등\",IF(13=U662,\"1등\",0))","v":0},0]
[661,"2015.08.01",2,3,12,20,27,38,40,null,null,661,{"$f":"COUNTIF(번호추출!$N$13:$S$13,자료실!C663)","v":0},{"$f":"COUNTIF(번호추출!$N$13:$S$13,자료실!D663)","v":0},{"$f":"COUNTIF(번호추출!$N$13:$S$13,자료실!E663)","v":0},{"$f":"COUNTIF(번호추출!$N$13:$S$13,자료실!F663)","v":0},{"$f":"COUNTIF(번호추출!$N$13:$S$13,자료실!G663)","v":0},{"$f":"COUNTIF(번호추출!$N$13:$S$13,자료실!H663)","v":0},{"$f":"COUNTIF(번호추출!$N$13:$S$13,I663)","v":0},0,0,0,0,0,0,0,{"$f":"IF(6=U663,\"1등\",IF(13=U663,\"1등\",0))","v":0},0]
[662,"2015.08.08",5,6,9,11,15,37,26,null,null,662,{"$f":"COUNTIF(번호추출!$N$13:$S$13,자료실!C664)","v":0},{"$f":"COUNTIF(번호추출!$N$13:$S$13,자료실!D664)","v":0},{"$f":"COUNTIF(번호추출!$N$13:$S$13,자료실!E664)","v":0},{"$f":"COUNTIF(번호추출!$N$13:$S$13,자료실!F664)","v":0},{"$f":"COUNTIF(번호추출!$N$13:$S$13,자료실!G664)","v":1},{"$f":"COUNTIF(번호추출!$N$13:$S$13,자료실!H664)","v":0},{"$f":"COUNTIF(번호추출!$N$13:$S$13,I664)","v":0},1,1,"꽝",0,0,0,0,{"$f":"IF(6=U664,\"1등\",IF(13=U664,\"1등\",0))","v":0},0]
[663,"2015.08.15",3,5,8,19,38,42,20,null,null,663,{"$f":"COUNTIF(번호추출!$N$13:$S$13,자료실!C665)","v":0},{"$f":"COUNTIF(번호추출!$N$13:$S$13,자료실!D665)","v":0},{"$f":"COUNTIF(번호추출!$N$13:$S$13,자료실!E665)","v":0},{"$f":"COUNTIF(번호추출!$N$13:$S$13,자료실!F665)","v":0},{"$f":"COUNTIF(번호추출!$N$13:$S$13,자료실!G665)","v":0},{"$f":"COUNTIF(번호추출!$N$13:$S$13,자료실!H665)","v":0},{"$f":"COUNTIF(번호추출!$N$13:$S$13,I665)","v":0},0,0,0,0,0,0,0,{"$f":"IF(6=U665,\"1등\",IF(13=U665,\"1등\",0))","v":0},0]
[664,"2015.08.22",10,20,33,36,41,44,5,null,null,664,{"$f":"COUNTIF(번호추출!$N$13:$S$13,자료실!C666)","v":0},{"$f":"COUNTIF(번호추출!$N$13:$S$13,자료실!D666)","v":0},{"$f":"COUNTIF(번호추출!$N$13:$S$13,자료실!E666)","v":1},{"$f":"COUNTIF(번호추출!$N$13:$S$13,자료실!F666)","v":0},{"$f":"COUNTIF(번호추출!$N$13:$S$13,자료실!G666)","v":0},{"$f":"COUNTIF(번호추출!$N$13:$S$13,자료실!H666)","v":0},{"$f":"COUNTIF(번호추출!$N$13:$S$13,I666)","v":0},1,1,"꽝",0,0,0,0,{"$f":"IF(6=U666,\"1등\",IF(13=U666,\"1등\",0))","v":0},0]
[665,"2015.08.29",5,6,11,17,38,44,13,null,null,{"$f":"A667","v":665},{"$f":"COUNTIF(번호추출!$N$13:$S$13,자료실!C667)","v":0},{"$f":"COUNTIF(번호추출!$N$13:$S$13,자료실!D667)","v":0},{"$f":"COUNTIF(번호추출!$N$13:$S$13,자료실!E667)","v":0},{"$f":"COUNTIF(번호추출!$N$13:$S$13,자료실!F667)","v":0},{"$f":"COUNTIF(번호추출!$N$13:$S$13,자료실!G667)","v":0},{"$f":"COUNTIF(번호추출!$N$13:$S$13,자료실!H667)","v":0},{"$f":"COUNTIF(번호추출!$N$13:$S$13,I667)","v":0},{"$f":"SUM(M667:R667)","v":0},{"$f":"SUM(M667:S667)","v":0},0,0,0,0,0,{"$f":"IF(6=U667,\"1등\",IF(13=U667,\"1등\",0))","v":0},0]
[666,"2015.09.05",2,4,6,11,17,28,16,null,null,666,{"$f":"COUNTIF(번호추출!$N$13:$S$13,자료실!C668)","v":0},{"$f":"COUNTIF(번호추출!$N$13:$S$13,자료실!D668)","v":1},{"$f":"COUNTIF(번호추출!$N$13:$S$13,자료실!E668)","v":0},{"$f":"COUNTIF(번호추출!$N$13:$S$13,자료실!F668)","v":0},{"$f":"COUNTIF(번호추출!$N$13:$S$13,자료실!G668)","v":0},{"$f":"COUNTIF(번호추출!$N$13:$S$13,자료실!H668)","v":0},{"$f":"COUNTIF(번호추출!$N$13:$S$13,I668)","v":0},1,1,"꽝",0,0,0,0,{"$f":"IF(6=U668,\"1등\",IF(13=U668,\"1등\",0))","v":0},0]
[667,"2015.09.12",15,17,25,37,42,43,13,null,null,667,{"$f":"COUNTIF(번호추출!$N$13:$S$13,자료실!C669)","v":1},{"$f":"COUNTIF(번호추출!$N$13:$S$13,자료실!D669)","v":0},{"$f":"COUNTIF(번호추출!$N$13:$S$13,자료실!E669)","v":1},{"$f":"COUNTIF(번호추출!$N$13:$S$13,자료실!F669)","v":0},{"$f":"COUNTIF(번호추출!$N$13:$S$13,자료실!G669)","v":0},{"$f":"COUNTIF(번호추출!$N$13:$S$13,자료실!H669)","v":0},{"$f":"COUNTIF(번호추출!$N$13:$S$13,I669)","v":0},2,2,"꽝","꽝",0,0,0,{"$f":"IF(6=U669,\"1등\",IF(13=U669,\"1등\",0))","v":0},0]
[668,"2015.09.19",12,14,15,24,27,32,3,null,null,668,{"$f":"COUNTIF(번호추출!$N$13:$S$13,자료실!C670)","v":0},{"$f":"COUNTIF(번호추출!$N$13:$S$13,자료실!D670)","v":0},{"$f":"COUNTIF(번호추출!$N$13:$S$13,자료실!E670)","v":1},{"$f":"COUNTIF(번호추출!$N$13:$S$13,자료실!F670)","v":0},{"$f":"COUNTIF(번호추출!$N$13:$S$13,자료실!G670)","v":0},{"$f":"COUNTIF(번호추출!$N$13:$S$13,자료실!H670)","v":0},{"$f":"COUNTIF(번호추출!$N$13:$S$13,I670)","v":0},1,1,"꽝",0,0,0,0,{"$f":"IF(6=U670,\"1등\",IF(13=U670,\"1등\",0))","v":0},0]
[669,"2015.09.26",7,8,20,29,33,38,9,null,null,669,{"$f":"COUNTIF(번호추출!$N$13:$S$13,자료실!C671)","v":0},{"$f":"COUNTIF(번호추출!$N$13:$S$13,자료실!D671)","v":0},{"$f":"COUNTIF(번호추출!$N$13:$S$13,자료실!E671)","v":0},{"$f":"COUNTIF(번호추출!$N$13:$S$13,자료실!F671)","v":0},{"$f":"COUNTIF(번호추출!$N$13:$S$13,자료실!G671)","v":1},{"$f":"COUNTIF(번호추출!$N$13:$S$13,자료실!H671)","v":0},{"$f":"COUNTIF(번호추출!$N$13:$S$13,I671)","v":0},1,1,"꽝",0,0,0,0,{"$f":"IF(6=U671,\"1등\",IF(13=U671,\"1등\",0))","v":0},0]
[670,"2015.10.03",11,18,26,27,40,41,25,null,null,670,{"$f":"COUNTIF(번호추출!$N$13:$S$13,자료실!C672)","v":0},{"$f":"COUNTIF(번호추출!$N$13:$S$13,자료실!D672)","v":1},{"$f":"COUNTIF(번호추출!$N$13:$S$13,자료실!E672)","v":0},{"$f":"COUNTIF(번호추출!$N$13:$S$13,자료실!F672)","v":0},{"$f":"COUNTIF(번호추출!$N$13:$S$13,자료실!G672)","v":0},{"$f":"COUNTIF(번호추출!$N$13:$S$13,자료실!H672)","v":0},{"$f":"COUNTIF(번호추출!$N$13:$S$13,I672)","v":1},1,2,"꽝","꽝",0,0,0,{"$f":"IF(6=U672,\"1등\",IF(13=U672,\"1등\",0))","v":0},0]
[671,"2015.10.10",7,9,10,13,31,35,24,null,null,671,{"$f":"COUNTIF(번호추출!$N$13:$S$13,자료실!C673)","v":0},{"$f":"COUNTIF(번호추출!$N$13:$S$13,자료실!D673)","v":0},{"$f":"COUNTIF(번호추출!$N$13:$S$13,자료실!E673)","v":0},{"$f":"COUNTIF(번호추출!$N$13:$S$13,자료실!F673)","v":0},{"$f":"COUNTIF(번호추출!$N$13:$S$13,자료실!G673)","v":0},{"$f":"COUNTIF(번호추출!$N$13:$S$13,자료실!H673)","v":0},{"$f":"COUNTIF(번호추출!$N$13:$S$13,I673)","v":0},0,0,0,0,0,0,0,{"$f":"IF(6=U673,\"1등\",IF(13=U673,\"1등\",0))","v":0},0]
[672,"2015.10.17",8,21,28,31,36,45,43,null,null,672,{"$f":"COUNTIF(번호추출!$N$13:$S$13,자료실!C674)","v":0},{"$f":"COUNTIF(번호추출!$N$13:$S$13,자료실!D674)","v":0},{"$f":"COUNTIF(번호추출!$N$13:$S$13,자료실!E674)","v":0},{"$f":"COUNTIF(번호추출!$N$13:$S$13,자료실!F674)","v":0},{"$f":"COUNTIF(번호추출!$N$13:$S$13,자료실!G674)","v":0},{"$f":"COUNTIF(번호추출!$N$13:$S$13,자료실!H674)","v":1},{"$f":"COUNTIF(번호추출!$N$13:$S$13,I674)","v":0},1,1,"꽝",0,0,0,0,{"$f":"IF(6=U674,\"1등\",IF(13=U674,\"1등\",0))","v":0},0]
[673,"2015.10.24",7,10,17,29,33,44,5,null,null,673,{"$f":"COUNTIF(번호추출!$N$13:$S$13,자료실!C675)","v":0},{"$f":"COUNTIF(번호추출!$N$13:$S$13,자료실!D675)","v":0},{"$f":"COUNTIF(번호추출!$N$13:$S$13,자료실!E675)","v":0},{"$f":"COUNTIF(번호추출!$N$13:$S$13,자료실!F675)","v":0},{"$f":"COUNTIF(번호추출!$N$13:$S$13,자료실!G675)","v":1},{"$f":"COUNTIF(번호추출!$N$13:$S$13,자료실!H675)","v":0},{"$f":"COUNTIF(번호추출!$N$13:$S$13,I675)","v":0},1,1,"꽝",0,0,0,0,{"$f":"IF(6=U675,\"1등\",IF(13=U675,\"1등\",0))","v":0},0]
[674,"2015.10.31",9,10,14,25,27,31,11,null,null,674,{"$f":"COUNTIF(번호추출!$N$13:$S$13,자료실!C676)","v":0},{"$f":"COUNTIF(번호추출!$N$13:$S$13,자료실!D676)","v":0},{"$f":"COUNTIF(번호추출!$N$13:$S$13,자료실!E676)","v":0},{"$f":"COUNTIF(번호추출!$N$13:$S$13,자료실!F676)","v":1},{"$f":"COUNTIF(번호추출!$N$13:$S$13,자료실!G676)","v":0},{"$f":"COUNTIF(번호추출!$N$13:$S$13,자료실!H676)","v":0},{"$f":"COUNTIF(번호추출!$N$13:$S$13,I676)","v":0},1,1,"꽝",0,0,0,0,{"$f":"IF(6=U676,\"1등\",IF(13=U676,\"1등\",0))","v":0},0]
[675,"2015.11.07",1,8,11,15,18,45,7,null,null,675,{"$f":"COUNTIF(번호추출!$N$13:$S$13,자료실!C677)","v":0},{"$f":"COUNTIF(번호추출!$N$13:$S$13,자료실!D677)","v":0},{"$f":"COUNTIF(번호추출!$N$13:$S$13,자료실!E677)","v":0},{"$f":"COUNTIF(번호추출!$N$13:$S$13,자료실!F677)","v":1},{"$f":"COUNTIF(번호추출!$N$13:$S$13,자료실!G677)","v":1},{"$f":"COUNTIF(번호추출!$N$13:$S$13,자료실!H677)","v":1},{"$f":"COUNTIF(번호추출!$N$13:$S$13,I677)","v":0},3,3,"꽝","꽝","5등",0,0,{"$f":"IF(6=U677,\"1등\",IF(13=U677,\"1등\",0))","v":0},0]
[676,"2015.11.14",1,8,17,34,39,45,27,null,null,676,{"$f":"COUNTIF(번호추출!$N$13:$S$13,자료실!C678)","v":0},{"$f":"COUNTIF(번호추출!$N$13:$S$13,자료실!D678)","v":0},{"$f":"COUNTIF(번호추출!$N$13:$S$13,자료실!E678)","v":0},{"$f":"COUNTIF(번호추출!$N$13:$S$13,자료실!F678)","v":0},{"$f":"COUNTIF(번호추출!$N$13:$S$13,자료실!G678)","v":0},{"$f":"COUNTIF(번호추출!$N$13:$S$13,자료실!H678)","v":1},{"$f":"COUNTIF(번호추출!$N$13:$S$13,I678)","v":0},1,1,"꽝",0,0,0,0,{"$f":"IF(6=U678,\"1등\",IF(13=U678,\"1등\",0))","v":0},0]
[677,"2015.11.21",12,15,24,36,41,44,42,null,null,677,{"$f":"COUNTIF(번호추출!$N$13:$S$13,자료실!C679)","v":0},{"$f":"COUNTIF(번호추출!$N$13:$S$13,자료실!D679)","v":1},{"$f":"COUNTIF(번호추출!$N$13:$S$13,자료실!E679)","v":0},{"$f":"COUNTIF(번호추출!$N$13:$S$13,자료실!F679)","v":0},{"$f":"COUNTIF(번호추출!$N$13:$S$13,자료실!G679)","v":0},{"$f":"COUNTIF(번호추출!$N$13:$S$13,자료실!H679)","v":0},{"$f":"COUNTIF(번호추출!$N$13:$S$13,I679)","v":0},1,1,"꽝",0,0,0,0,{"$f":"IF(6=U679,\"1등\",IF(13=U679,\"1등\",0))","v":0},0]
[678,"2015.11.28",4,5,6,12,25,37,45,null,null,678,{"$f":"COUNTIF(번호추출!$N$13:$S$13,자료실!C680)","v":1},{"$f":"COUNTIF(번호추출!$N$13:$S$13,자료실!D680)","v":0},{"$f":"COUNTIF(번호추출!$N$13:$S$13,자료실!E680)","v":0},{"$f":"COUNTIF(번호추출!$N$13:$S$13,자료실!F680)","v":0},{"$f":"COUNTIF(번호추출!$N$13:$S$13,자료실!G680)","v":1},{"$f":"COUNTIF(번호추출!$N$13:$S$13,자료실!H680)","v":0},{"$f":"COUNTIF(번호추출!$N$13:$S$13,I680)","v":1},2,3,"꽝","꽝","5등",0,0,{"$f":"IF(6=U680,\"1등\",IF(13=U680,\"1등\",0))","v":0},0]
[679,"2015.12.05",3,5,7,14,26,34,35,null,null,679,{"$f":"COUNTIF(번호추출!$N$13:$S$13,자료실!C681)","v":0},{"$f":"COUNTIF(번호추출!$N$13:$S$13,자료실!D681)","v":0},{"$f":"COUNTIF(번호추출!$N$13:$S$13,자료실!E681)","v":0},{"$f":"COUNTIF(번호추출!$N$13:$S$13,자료실!F681)","v":0},{"$f":"COUNTIF(번호추출!$N$13:$S$13,자료실!G681)","v":0},{"$f":"COUNTIF(번호추출!$N$13:$S$13,자료실!H681)","v":0},{"$f":"COUNTIF(번호추출!$N$13:$S$13,I681)","v":0},0,0,0,0,0,0,0,{"$f":"IF(6=U681,\"1등\",IF(13=U681,\"1등\",0))","v":0},0]
[680,"2015.12.12",4,10,19,29,32,42,30,null,null,680,{"$f":"COUNTIF(번호추출!$N$13:$S$13,자료실!C682)","v":1},{"$f":"COUNTIF(번호추출!$N$13:$S$13,자료실!D682)","v":0},{"$f":"COUNTIF(번호추출!$N$13:$S$13,자료실!E682)","v":0},{"$f":"COUNTIF(번호추출!$N$13:$S$13,자료실!F682)","v":0},{"$f":"COUNTIF(번호추출!$N$13:$S$13,자료실!G682)","v":0},{"$f":"COUNTIF(번호추출!$N$13:$S$13,자료실!H682)","v":0},{"$f":"COUNTIF(번호추출!$N$13:$S$13,I682)","v":0},1,1,"꽝",0,0,0,0,{"$f":"IF(6=U682,\"1등\",IF(13=U682,\"1등\",0))","v":0},0]
[681,"2015.12.19",21,24,27,29,43,44,7,null,null,681,{"$f":"COUNTIF(번호추출!$N$13:$S$13,자료실!C683)","v":0},{"$f":"COUNTIF(번호추출!$N$13:$S$13,자료실!D683)","v":0},{"$f":"COUNTIF(번호추출!$N$13:$S$13,자료실!E683)","v":0},{"$f":"COUNTIF(번호추출!$N$13:$S$13,자료실!F683)","v":0},{"$f":"COUNTIF(번호추출!$N$13:$S$13,자료실!G683)","v":0},{"$f":"COUNTIF(번호추출!$N$13:$S$13,자료실!H683)","v":0},{"$f":"COUNTIF(번호추출!$N$13:$S$13,I683)","v":0},0,0,0,0,0,0,0,{"$f":"IF(6=U683,\"1등\",IF(13=U683,\"1등\",0))","v":0},0]
[682,"2015.12.26",17,23,27,35,38,43,2,null,null,682,{"$f":"COUNTIF(번호추출!$N$13:$S$13,자료실!C684)","v":0},{"$f":"COUNTIF(번호추출!$N$13:$S$13,자료실!D684)","v":0},{"$f":"COUNTIF(번호추출!$N$13:$S$13,자료실!E684)","v":0},{"$f":"COUNTIF(번호추출!$N$13:$S$13,자료실!F684)","v":0},{"$f":"COUNTIF(번호추출!$N$13:$S$13,자료실!G684)","v":0},{"$f":"COUNTIF(번호추출!$N$13:$S$13,자료실!H684)","v":0},{"$f":"COUNTIF(번호추출!$N$13:$S$13,I684)","v":0},0,0,0,0,0,0,0,{"$f":"IF(6=U684,\"1등\",IF(13=U684,\"1등\",0))","v":0},0]
[683,"2016.01.02",6,13,20,27,28,40,15,null,null,683,{"$f":"COUNTIF(번호추출!$N$13:$S$13,자료실!C685)","v":0},{"$f":"COUNTIF(번호추출!$N$13:$S$13,자료실!D685)","v":0},{"$f":"COUNTIF(번호추출!$N$13:$S$13,자료실!E685)","v":0},{"$f":"COUNTIF(번호추출!$N$13:$S$13,자료실!F685)","v":0},{"$f":"COUNTIF(번호추출!$N$13:$S$13,자료실!G685)","v":0},{"$f":"COUNTIF(번호추출!$N$13:$S$13,자료실!H685)","v":0},{"$f":"COUNTIF(번호추출!$N$13:$S$13,I685)","v":1},0,1,"꽝",0,0,0,0,{"$f":"IF(6=U685,\"1등\",IF(13=U685,\"1등\",0))","v":0},0]
[684,"2016.01.09",1,11,15,17,25,39,40,null,null,684,{"$f":"COUNTIF(번호추출!$N$13:$S$13,자료실!C686)","v":0},{"$f":"COUNTIF(번호추출!$N$13:$S$13,자료실!D686)","v":0},{"$f":"COUNTIF(번호추출!$N$13:$S$13,자료실!E686)","v":1},{"$f":"COUNTIF(번호추출!$N$13:$S$13,자료실!F686)","v":0},{"$f":"COUNTIF(번호추출!$N$13:$S$13,자료실!G686)","v":1},{"$f":"COUNTIF(번호추출!$N$13:$S$13,자료실!H686)","v":0},{"$f":"COUNTIF(번호추출!$N$13:$S$13,I686)","v":0},2,2,"꽝","꽝",0,0,0,{"$f":"IF(6=U686,\"1등\",IF(13=U686,\"1등\",0))","v":0},0]
[685,"2016.01.16",6,7,12,28,38,40,18,null,null,685,{"$f":"COUNTIF(번호추출!$N$13:$S$13,자료실!C687)","v":0},{"$f":"COUNTIF(번호추출!$N$13:$S$13,자료실!D687)","v":0},{"$f":"COUNTIF(번호추출!$N$13:$S$13,자료실!E687)","v":0},{"$f":"COUNTIF(번호추출!$N$13:$S$13,자료실!F687)","v":0},{"$f":"COUNTIF(번호추출!$N$13:$S$13,자료실!G687)","v":0},{"$f":"COUNTIF(번호추출!$N$13:$S$13,자료실!H687)","v":0},{"$f":"COUNTIF(번호추출!$N$13:$S$13,I687)","v":1},0,1,"꽝",0,0,0,0,{"$f":"IF(6=U687,\"1등\",IF(13=U687,\"1등\",0))","v":0},0]
[686,"2016.01.23",7,12,15,24,25,43,13,null,null,686,{"$f":"COUNTIF(번호추출!$N$13:$S$13,자료실!C688)","v":0},{"$f":"COUNTIF(번호추출!$N$13:$S$13,자료실!D688)","v":0},{"$f":"COUNTIF(번호추출!$N$13:$S$13,자료실!E688)","v":1},{"$f":"COUNTIF(번호추출!$N$13:$S$13,자료실!F688)","v":0},{"$f":"COUNTIF(번호추출!$N$13:$S$13,자료실!G688)","v":1},{"$f":"COUNTIF(번호추출!$N$13:$S$13,자료실!H688)","v":0},{"$f":"COUNTIF(번호추출!$N$13:$S$13,I688)","v":0},2,2,"꽝","꽝",0,0,0,{"$f":"IF(6=U688,\"1등\",IF(13=U688,\"1등\",0))","v":0},0]
[687,"2016.01.30",1,8,10,13,28,42,45,null,null,687,{"$f":"COUNTIF(번호추출!$N$13:$S$13,자료실!C689)","v":0},{"$f":"COUNTIF(번호추출!$N$13:$S$13,자료실!D689)","v":0},{"$f":"COUNTIF(번호추출!$N$13:$S$13,자료실!E689)","v":0},{"$f":"COUNTIF(번호추출!$N$13:$S$13,자료실!F689)","v":0},{"$f":"COUNTIF(번호추출!$N$13:$S$13,자료실!G689)","v":0},{"$f":"COUNTIF(번호추출!$N$13:$S$13,자료실!H689)","v":0},{"$f":"COUNTIF(번호추출!$N$13:$S$13,I689)","v":1},0,1,"꽝",0,0,0,0,{"$f":"IF(6=U689,\"1등\",IF(13=U689,\"1등\",0))","v":0},0]
[688,"2016.02.06",5,15,22,23,34,35,2,null,null,688,{"$f":"COUNTIF(번호추출!$N$13:$S$13,자료실!C690)","v":0},{"$f":"COUNTIF(번호추출!$N$13:$S$13,자료실!D690)","v":1},{"$f":"COUNTIF(번호추출!$N$13:$S$13,자료실!E690)","v":0},{"$f":"COUNTIF(번호추출!$N$13:$S$13,자료실!F690)","v":0},{"$f":"COUNTIF(번호추출!$N$13:$S$13,자료실!G690)","v":0},{"$f":"COUNTIF(번호추출!$N$13:$S$13,자료실!H690)","v":0},{"$f":"COUNTIF(번호추출!$N$13:$S$13,I690)","v":0},1,1,"꽝",0,0,0,0,{"$f":"IF(6=U690,\"1등\",IF(13=U690,\"1등\",0))","v":0},0]
[689,"2016.02.13",7,17,19,30,36,38,34,null,null,689,{"$f":"COUNTIF(번호추출!$N$13:$S$13,자료실!C691)","v":0},{"$f":"COUNTIF(번호추출!$N$13:$S$13,자료실!D691)","v":0},{"$f":"COUNTIF(번호추출!$N$13:$S$13,자료실!E691)","v":0},{"$f":"COUNTIF(번호추출!$N$13:$S$13,자료실!F691)","v":0},{"$f":"COUNTIF(번호추출!$N$13:$S$13,자료실!G691)","v":0},{"$f":"COUNTIF(번호추출!$N$13:$S$13,자료실!H691)","v":0},{"$f":"COUNTIF(번호추출!$N$13:$S$13,I691)","v":0},0,0,0,0,0,0,0,{"$f":"IF(6=U691,\"1등\",IF(13=U691,\"1등\",0))","v":0},0]
[690,"2016.02.20",24,25,33,34,38,39,43,null,null,690,{"$f":"COUNTIF(번호추출!$N$13:$S$13,자료실!C692)","v":0},{"$f":"COUNTIF(번호추출!$N$13:$S$13,자료실!D692)","v":1},{"$f":"COUNTIF(번호추출!$N$13:$S$13,자료실!E692)","v":1},{"$f":"COUNTIF(번호추출!$N$13:$S$13,자료실!F692)","v":0},{"$f":"COUNTIF(번호추출!$N$13:$S$13,자료실!G692)","v":0},{"$f":"COUNTIF(번호추출!$N$13:$S$13,자료실!H692)","v":0},{"$f":"COUNTIF(번호추출!$N$13:$S$13,I692)","v":0},2,2,"꽝","꽝",0,0,0,{"$f":"IF(6=U692,\"1등\",IF(13=U692,\"1등\",0))","v":0},0]
[691,"2016.02.27",15,27,33,35,43,45,16,null,null,691,{"$f":"COUNTIF(번호추출!$N$13:$S$13,자료실!C693)","v":1},{"$f":"COUNTIF(번호추출!$N$13:$S$13,자료실!D693)","v":0},{"$f":"COUNTIF(번호추출!$N$13:$S$13,자료실!E693)","v":1},{"$f":"COUNTIF(번호추출!$N$13:$S$13,자료실!F693)","v":0},{"$f":"COUNTIF(번호추출!$N$13:$S$13,자료실!G693)","v":0},{"$f":"COUNTIF(번호추출!$N$13:$S$13,자료실!H693)","v":1},{"$f":"COUNTIF(번호추출!$N$13:$S$13,I693)","v":0},3,3,"꽝","꽝","5등",0,0,{"$f":"IF(6=U693,\"1등\",IF(13=U693,\"1등\",0))","v":0},0]
[692,"2016.03.05",3,11,14,15,32,36,44,null,null,692,{"$f":"COUNTIF(번호추출!$N$13:$S$13,자료실!C694)","v":0},{"$f":"COUNTIF(번호추출!$N$13:$S$13,자료실!D694)","v":0},{"$f":"COUNTIF(번호추출!$N$13:$S$13,자료실!E694)","v":0},{"$f":"COUNTIF(번호추출!$N$13:$S$13,자료실!F694)","v":1},{"$f":"COUNTIF(번호추출!$N$13:$S$13,자료실!G694)","v":0},{"$f":"COUNTIF(번호추출!$N$13:$S$13,자료실!H694)","v":0},{"$f":"COUNTIF(번호추출!$N$13:$S$13,I694)","v":0},1,1,"꽝",0,0,0,0,{"$f":"IF(6=U694,\"1등\",IF(13=U694,\"1등\",0))","v":0},0]
[693,"2016.03.12",1,6,11,28,34,42,30,null,null,693,{"$f":"COUNTIF(번호추출!$N$13:$S$13,자료실!C695)","v":0},{"$f":"COUNTIF(번호추출!$N$13:$S$13,자료실!D695)","v":0},{"$f":"COUNTIF(번호추출!$N$13:$S$13,자료실!E695)","v":0},{"$f":"COUNTIF(번호추출!$N$13:$S$13,자료실!F695)","v":0},{"$f":"COUNTIF(번호추출!$N$13:$S$13,자료실!G695)","v":0},{"$f":"COUNTIF(번호추출!$N$13:$S$13,자료실!H695)","v":0},{"$f":"COUNTIF(번호추출!$N$13:$S$13,I695)","v":0},0,0,0,0,0,0,0,{"$f":"IF(6=U695,\"1등\",IF(13=U695,\"1등\",0))","v":0},0]
[694,"2016.03.19",7,15,20,25,33,43,12,null,null,694,{"$f":"COUNTIF(번호추출!$N$13:$S$13,자료실!C696)","v":0},{"$f":"COUNTIF(번호추출!$N$13:$S$13,자료실!D696)","v":1},{"$f":"COUNTIF(번호추출!$N$13:$S$13,자료실!E696)","v":0},{"$f":"COUNTIF(번호추출!$N$13:$S$13,자료실!F696)","v":1},{"$f":"COUNTIF(번호추출!$N$13:$S$13,자료실!G696)","v":1},{"$f":"COUNTIF(번호추출!$N$13:$S$13,자료실!H696)","v":0},{"$f":"COUNTIF(번호추출!$N$13:$S$13,I696)","v":0},3,3,"꽝","꽝","5등",0,0,{"$f":"IF(6=U696,\"1등\",IF(13=U696,\"1등\",0))","v":0},0]
[695,"2016.03.26",4,18,26,33,34,38,14,null,null,695,{"$f":"COUNTIF(번호추출!$N$13:$S$13,자료실!C697)","v":1},{"$f":"COUNTIF(번호추출!$N$13:$S$13,자료실!D697)","v":1},{"$f":"COUNTIF(번호추출!$N$13:$S$13,자료실!E697)","v":0},{"$f":"COUNTIF(번호추출!$N$13:$S$13,자료실!F697)","v":1},{"$f":"COUNTIF(번호추출!$N$13:$S$13,자료실!G697)","v":0},{"$f":"COUNTIF(번호추출!$N$13:$S$13,자료실!H697)","v":0},{"$f":"COUNTIF(번호추출!$N$13:$S$13,I697)","v":0},3,3,"꽝","꽝","5등",0,0,{"$f":"IF(6=U697,\"1등\",IF(13=U697,\"1등\",0))","v":0},0]
[696,"2016.04.02",1,7,16,18,34,38,21,null,null,696,{"$f":"COUNTIF(번호추출!$N$13:$S$13,자료실!C698)","v":0},{"$f":"COUNTIF(번호추출!$N$13:$S$13,자료실!D698)","v":0},{"$f":"COUNTIF(번호추출!$N$13:$S$13,자료실!E698)","v":0},{"$f":"COUNTIF(번호추출!$N$13:$S$13,자료실!F698)","v":1},{"$f":"COUNTIF(번호추출!$N$13:$S$13,자료실!G698)","v":0},{"$f":"COUNTIF(번호추출!$N$13:$S$13,자료실!H698)","v":0},{"$f":"COUNTIF(번호추출!$N$13:$S$13,I698)","v":0},1,1,"꽝",0,0,0,0,{"$f":"IF(6=U698,\"1등\",IF(13=U698,\"1등\",0))","v":0},0]
[697,"2016.04.09",2,5,8,11,33,39,31,null,null,697,{"$f":"COUNTIF(번호추출!$N$13:$S$13,자료실!C699)","v":0},{"$f":"COUNTIF(번호추출!$N$13:$S$13,자료실!D699)","v":0},{"$f":"COUNTIF(번호추출!$N$13:$S$13,자료실!E699)","v":0},{"$f":"COUNTIF(번호추출!$N$13:$S$13,자료실!F699)","v":0},{"$f":"COUNTIF(번호추출!$N$13:$S$13,자료실!G699)","v":1},{"$f":"COUNTIF(번호추출!$N$13:$S$13,자료실!H699)","v":0},{"$f":"COUNTIF(번호추출!$N$13:$S$13,I699)","v":0},1,1,"꽝",0,0,0,0,{"$f":"IF(6=U699,\"1등\",IF(13=U699,\"1등\",0))","v":0},0]
[698,"2016.04.16",3,11,13,21,33,37,18,null,null,698,{"$f":"COUNTIF(번호추출!$N$13:$S$13,자료실!C700)","v":0},{"$f":"COUNTIF(번호추출!$N$13:$S$13,자료실!D700)","v":0},{"$f":"COUNTIF(번호추출!$N$13:$S$13,자료실!E700)","v":0},{"$f":"COUNTIF(번호추출!$N$13:$S$13,자료실!F700)","v":0},{"$f":"COUNTIF(번호추출!$N$13:$S$13,자료실!G700)","v":1},{"$f":"COUNTIF(번호추출!$N$13:$S$13,자료실!H700)","v":0},{"$f":"COUNTIF(번호추출!$N$13:$S$13,I700)","v":1},1,2,"꽝","꽝",0,0,0,{"$f":"IF(6=U700,\"1등\",IF(13=U700,\"1등\",0))","v":0},0]
[699,"2016.04.23",4,5,8,16,21,29,3,null,null,699,{"$f":"COUNTIF(번호추출!$N$13:$S$13,자료실!C701)","v":1},{"$f":"COUNTIF(번호추출!$N$13:$S$13,자료실!D701)","v":0},{"$f":"COUNTIF(번호추출!$N$13:$S$13,자료실!E701)","v":0},{"$f":"COUNTIF(번호추출!$N$13:$S$13,자료실!F701)","v":0},{"$f":"COUNTIF(번호추출!$N$13:$S$13,자료실!G701)","v":0},{"$f":"COUNTIF(번호추출!$N$13:$S$13,자료실!H701)","v":0},{"$f":"COUNTIF(번호추출!$N$13:$S$13,I701)","v":0},1,1,"꽝",0,0,0,0,{"$f":"IF(6=U701,\"1등\",IF(13=U701,\"1등\",0))","v":0},0]
[700,"2016.04.30",11,23,28,29,30,44,13,null,null,700,{"$f":"COUNTIF(번호추출!$N$13:$S$13,자료실!C702)","v":0},{"$f":"COUNTIF(번호추출!$N$13:$S$13,자료실!D702)","v":0},{"$f":"COUNTIF(번호추출!$N$13:$S$13,자료실!E702)","v":0},{"$f":"COUNTIF(번호추출!$N$13:$S$13,자료실!F702)","v":0},{"$f":"COUNTIF(번호추출!$N$13:$S$13,자료실!G702)","v":0},{"$f":"COUNTIF(번호추출!$N$13:$S$13,자료실!H702)","v":0},{"$f":"COUNTIF(번호추출!$N$13:$S$13,I702)","v":0},0,0,0,0,0,0,0,{"$f":"IF(6=U702,\"1등\",IF(13=U702,\"1등\",0))","v":0},0]
[701,"2016.05.07",3,10,14,16,36,38,35,null,null,701,{"$f":"COUNTIF(번호추출!$N$13:$S$13,자료실!C703)","v":0},{"$f":"COUNTIF(번호추출!$N$13:$S$13,자료실!D703)","v":0},{"$f":"COUNTIF(번호추출!$N$13:$S$13,자료실!E703)","v":0},{"$f":"COUNTIF(번호추출!$N$13:$S$13,자료실!F703)","v":0},{"$f":"COUNTIF(번호추출!$N$13:$S$13,자료실!G703)","v":0},{"$f":"COUNTIF(번호추출!$N$13:$S$13,자료실!H703)","v":0},{"$f":"COUNTIF(번호추출!$N$13:$S$13,I703)","v":0},0,0,0,0,0,0,0,{"$f":"IF(6=U703,\"1등\",IF(13=U703,\"1등\",0))","v":0},0]
[702,"2016.05.14",3,13,16,24,26,29,9,null,null,702,{"$f":"COUNTIF(번호추출!$N$13:$S$13,자료실!C704)","v":0},{"$f":"COUNTIF(번호추출!$N$13:$S$13,자료실!D704)","v":0},{"$f":"COUNTIF(번호추출!$N$13:$S$13,자료실!E704)","v":0},{"$f":"COUNTIF(번호추출!$N$13:$S$13,자료실!F704)","v":0},{"$f":"COUNTIF(번호추출!$N$13:$S$13,자료실!G704)","v":0},{"$f":"COUNTIF(번호추출!$N$13:$S$13,자료실!H704)","v":0},{"$f":"COUNTIF(번호추출!$N$13:$S$13,I704)","v":0},0,0,0,0,0,0,0,{"$f":"IF(6=U704,\"1등\",IF(13=U704,\"1등\",0))","v":0},0]
[703,"2016.05.21",10,28,31,33,41,44,21,null,null,703,{"$f":"COUNTIF(번호추출!$N$13:$S$13,자료실!C705)","v":0},{"$f":"COUNTIF(번호추출!$N$13:$S$13,자료실!D705)","v":0},{"$f":"COUNTIF(번호추출!$N$13:$S$13,자료실!E705)","v":0},{"$f":"COUNTIF(번호추출!$N$13:$S$13,자료실!F705)","v":1},{"$f":"COUNTIF(번호추출!$N$13:$S$13,자료실!G705)","v":0},{"$f":"COUNTIF(번호추출!$N$13:$S$13,자료실!H705)","v":0},{"$f":"COUNTIF(번호추출!$N$13:$S$13,I705)","v":0},1,1,"꽝",0,0,0,0,{"$f":"IF(6=U705,\"1등\",IF(13=U705,\"1등\",0))","v":0},0]
[704,"2016.05.28",1,4,8,23,33,42,45,null,null,704,{"$f":"COUNTIF(번호추출!$N$13:$S$13,자료실!C706)","v":0},{"$f":"COUNTIF(번호추출!$N$13:$S$13,자료실!D706)","v":1},{"$f":"COUNTIF(번호추출!$N$13:$S$13,자료실!E706)","v":0},{"$f":"COUNTIF(번호추출!$N$13:$S$13,자료실!F706)","v":0},{"$f":"COUNTIF(번호추출!$N$13:$S$13,자료실!G706)","v":1},{"$f":"COUNTIF(번호추출!$N$13:$S$13,자료실!H706)","v":0},{"$f":"COUNTIF(번호추출!$N$13:$S$13,I706)","v":1},2,3,"꽝","꽝","5등",0,0,{"$f":"IF(6=U706,\"1등\",IF(13=U706,\"1등\",0))","v":0},0]
[705,"2016.06.04",1,6,17,22,28,45,23,null,null,705,{"$f":"COUNTIF(번호추출!$N$13:$S$13,자료실!C707)","v":0},{"$f":"COUNTIF(번호추출!$N$13:$S$13,자료실!D707)","v":0},{"$f":"COUNTIF(번호추출!$N$13:$S$13,자료실!E707)","v":0},{"$f":"COUNTIF(번호추출!$N$13:$S$13,자료실!F707)","v":0},{"$f":"COUNTIF(번호추출!$N$13:$S$13,자료실!G707)","v":0},{"$f":"COUNTIF(번호추출!$N$13:$S$13,자료실!H707)","v":1},{"$f":"COUNTIF(번호추출!$N$13:$S$13,I707)","v":0},1,1,"꽝",0,0,0,0,{"$f":"IF(6=U707,\"1등\",IF(13=U707,\"1등\",0))","v":0},0]
[706,"2016.06.11",3,4,6,10,28,30,37,null,null,706,{"$f":"COUNTIF(번호추출!$N$13:$S$13,자료실!C708)","v":0},{"$f":"COUNTIF(번호추출!$N$13:$S$13,자료실!D708)","v":1},{"$f":"COUNTIF(번호추출!$N$13:$S$13,자료실!E708)","v":0},{"$f":"COUNTIF(번호추출!$N$13:$S$13,자료실!F708)","v":0},{"$f":"COUNTIF(번호추출!$N$13:$S$13,자료실!G708)","v":0},{"$f":"COUNTIF(번호추출!$N$13:$S$13,자료실!H708)","v":0},{"$f":"COUNTIF(번호추출!$N$13:$S$13,I708)","v":0},1,1,"꽝",0,0,0,0,{"$f":"IF(6=U708,\"1등\",IF(13=U708,\"1등\",0))","v":0},0]
[707,"2016.06.18",2,12,19,24,39,44,35,null,null,707,{"$f":"COUNTIF(번호추출!$N$13:$S$13,자료실!C709)","v":0},{"$f":"COUNTIF(번호추출!$N$13:$S$13,자료실!D709)","v":0},{"$f":"COUNTIF(번호추출!$N$13:$S$13,자료실!E709)","v":0},{"$f":"COUNTIF(번호추출!$N$13:$S$13,자료실!F709)","v":0},{"$f":"COUNTIF(번호추출!$N$13:$S$13,자료실!G709)","v":0},{"$f":"COUNTIF(번호추출!$N$13:$S$13,자료실!H709)","v":0},{"$f":"COUNTIF(번호추출!$N$13:$S$13,I709)","v":0},0,0,0,0,0,0,0,{"$f":"IF(6=U709,\"1등\",IF(13=U709,\"1등\",0))","v":0},0]
[708,"2016.06.25",2,10,16,19,34,45,1,null,null,708,{"$f":"COUNTIF(번호추출!$N$13:$S$13,자료실!C710)","v":0},{"$f":"COUNTIF(번호추출!$N$13:$S$13,자료실!D710)","v":0},{"$f":"COUNTIF(번호추출!$N$13:$S$13,자료실!E710)","v":0},{"$f":"COUNTIF(번호추출!$N$13:$S$13,자료실!F710)","v":0},{"$f":"COUNTIF(번호추출!$N$13:$S$13,자료실!G710)","v":0},{"$f":"COUNTIF(번호추출!$N$13:$S$13,자료실!H710)","v":1},{"$f":"COUNTIF(번호추출!$N$13:$S$13,I710)","v":0},1,1,"꽝",0,0,0,0,{"$f":"IF(6=U710,\"1등\",IF(13=U710,\"1등\",0))","v":0},0]
[709,"2016.07.02",10,18,30,36,39,44,32,null,null,709,{"$f":"COUNTIF(번호추출!$N$13:$S$13,자료실!C711)","v":0},{"$f":"COUNTIF(번호추출!$N$13:$S$13,자료실!D711)","v":1},{"$f":"COUNTIF(번호추출!$N$13:$S$13,자료실!E711)","v":0},{"$f":"COUNTIF(번호추출!$N$13:$S$13,자료실!F711)","v":0},{"$f":"COUNTIF(번호추출!$N$13:$S$13,자료실!G711)","v":0},{"$f":"COUNTIF(번호추출!$N$13:$S$13,자료실!H711)","v":0},{"$f":"COUNTIF(번호추출!$N$13:$S$13,I711)","v":0},1,1,"꽝",0,0,0,0,{"$f":"IF(6=U711,\"1등\",IF(13=U711,\"1등\",0))","v":0},0]
[710,"2016.07.09",3,4,9,24,25,33,10,null,null,710,{"$f":"COUNTIF(번호추출!$N$13:$S$13,자료실!C712)","v":0},{"$f":"COUNTIF(번호추출!$N$13:$S$13,자료실!D712)","v":1},{"$f":"COUNTIF(번호추출!$N$13:$S$13,자료실!E712)","v":0},{"$f":"COUNTIF(번호추출!$N$13:$S$13,자료실!F712)","v":0},{"$f":"COUNTIF(번호추출!$N$13:$S$13,자료실!G712)","v":1},{"$f":"COUNTIF(번호추출!$N$13:$S$13,자료실!H712)","v":1},{"$f":"COUNTIF(번호추출!$N$13:$S$13,I712)","v":0},3,3,"꽝","꽝","5등",0,0,{"$f":"IF(6=U712,\"1등\",IF(13=U712,\"1등\",0))","v":0},0]
[711,"2016.07.16",11,15,24,35,37,45,42,null,null,711,{"$f":"COUNTIF(번호추출!$N$13:$S$13,자료실!C713)","v":0},{"$f":"COUNTIF(번호추출!$N$13:$S$13,자료실!D713)","v":1},{"$f":"COUNTIF(번호추출!$N$13:$S$13,자료실!E713)","v":0},{"$f":"COUNTIF(번호추출!$N$13:$S$13,자료실!F713)","v":0},{"$f":"COUNTIF(번호추출!$N$13:$S$13,자료실!G713)","v":0},{"$f":"COUNTIF(번호추출!$N$13:$S$13,자료실!H713)","v":1},{"$f":"COUNTIF(번호추출!$N$13:$S$13,I713)","v":0},2,2,"꽝","꽝",0,0,0,{"$f":"IF(6=U713,\"1등\",IF(13=U713,\"1등\",0))","v":0},0]
[712,"2016.07.23",17,20,30,31,33,45,19,null,null,712,{"$f":"COUNTIF(번호추출!$N$13:$S$13,자료실!C714)","v":0},{"$f":"COUNTIF(번호추출!$N$13:$S$13,자료실!D714)","v":0},{"$f":"COUNTIF(번호추출!$N$13:$S$13,자료실!E714)","v":0},{"$f":"COUNTIF(번호추출!$N$13:$S$13,자료실!F714)","v":0},{"$f":"COUNTIF(번호추출!$N$13:$S$13,자료실!G714)","v":1},{"$f":"COUNTIF(번호추출!$N$13:$S$13,자료실!H714)","v":1},{"$f":"COUNTIF(번호추출!$N$13:$S$13,I714)","v":0},2,2,"꽝","꽝",0,0,0,{"$f":"IF(6=U714,\"1등\",IF(13=U714,\"1등\",0))","v":0},0]
[713,"2016.07.30",2,5,15,18,19,23,44,null,null,713,{"$f":"COUNTIF(번호추출!$N$13:$S$13,자료실!C715)","v":0},{"$f":"COUNTIF(번호추출!$N$13:$S$13,자료실!D715)","v":0},{"$f":"COUNTIF(번호추출!$N$13:$S$13,자료실!E715)","v":1},{"$f":"COUNTIF(번호추출!$N$13:$S$13,자료실!F715)","v":1},{"$f":"COUNTIF(번호추출!$N$13:$S$13,자료실!G715)","v":0},{"$f":"COUNTIF(번호추출!$N$13:$S$13,자료실!H715)","v":0},{"$f":"COUNTIF(번호추출!$N$13:$S$13,I715)","v":0},2,2,"꽝","꽝",0,0,0,{"$f":"IF(6=U715,\"1등\",IF(13=U715,\"1등\",0))","v":0},0]
[714,"2016.08.06",1,7,22,33,37,40,20,null,null,714,{"$f":"COUNTIF(번호추출!$N$13:$S$13,자료실!C716)","v":0},{"$f":"COUNTIF(번호추출!$N$13:$S$13,자료실!D716)","v":0},{"$f":"COUNTIF(번호추출!$N$13:$S$13,자료실!E716)","v":0},{"$f":"COUNTIF(번호추출!$N$13:$S$13,자료실!F716)","v":1},{"$f":"COUNTIF(번호추출!$N$13:$S$13,자료실!G716)","v":0},{"$f":"COUNTIF(번호추출!$N$13:$S$13,자료실!H716)","v":0},{"$f":"COUNTIF(번호추출!$N$13:$S$13,I716)","v":0},1,1,"꽝",0,0,0,0,{"$f":"IF(6=U716,\"1등\",IF(13=U716,\"1등\",0))","v":0},0]
[715,"2016.08.13",2,7,27,33,41,44,10,null,null,715,{"$f":"COUNTIF(번호추출!$N$13:$S$13,자료실!C717)","v":0},{"$f":"COUNTIF(번호추출!$N$13:$S$13,자료실!D717)","v":0},{"$f":"COUNTIF(번호추출!$N$13:$S$13,자료실!E717)","v":0},{"$f":"COUNTIF(번호추출!$N$13:$S$13,자료실!F717)","v":1},{"$f":"COUNTIF(번호추출!$N$13:$S$13,자료실!G717)","v":0},{"$f":"COUNTIF(번호추출!$N$13:$S$13,자료실!H717)","v":0},{"$f":"COUNTIF(번호추출!$N$13:$S$13,I717)","v":0},1,1,"꽝",0,0,0,0,{"$f":"IF(6=U717,\"1등\",IF(13=U717,\"1등\",0))","v":0},0]
[716,"2016.08.20",2,6,13,16,29,30,21,null,null,716,{"$f":"COUNTIF(번호추출!$N$13:$S$13,자료실!C718)","v":0},{"$f":"COUNTIF(번호추출!$N$13:$S$13,자료실!D718)","v":0},{"$f":"COUNTIF(번호추출!$N$13:$S$13,자료실!E718)","v":0},{"$f":"COUNTIF(번호추출!$N$13:$S$13,자료실!F718)","v":0},{"$f":"COUNTIF(번호추출!$N$13:$S$13,자료실!G718)","v":0},{"$f":"COUNTIF(번호추출!$N$13:$S$13,자료실!H718)","v":0},{"$f":"COUNTIF(번호추출!$N$13:$S$13,I718)","v":0},0,0,{"$f":"IF(1=U718,\"꽝\",IF(0<T718,\"꽝\",0))","v":0},{"$f":"IF(2=U718,\"꽝\",IF(1<T718,\"꽝\",0))","v":0},{"$f":"IF(3=U718,\"5등\",IF(2<T718,\"5등\",0))","v":0},{"$f":"IF(4=U718,\"4등\",IF(3<T718,\"4등\",0))","v":0},{"$f":"IF(5=U718,\"3등\",IF(4<T718,\"3등\",0))","v":0},{"$f":"IF(6=U718,\"1등\",IF(13=U718,\"1등\",0))","v":0},{"$f":"IF(U718=12,\"2등\",0)","v":0}]
[717,"2016.08.27",2,11,19,25,28,32,44,null,null,717,{"$f":"COUNTIF(번호추출!$N$13:$S$13,자료실!C719)","v":0},{"$f":"COUNTIF(번호추출!$N$13:$S$13,자료실!D719)","v":0},{"$f":"COUNTIF(번호추출!$N$13:$S$13,자료실!E719)","v":0},{"$f":"COUNTIF(번호추출!$N$13:$S$13,자료실!F719)","v":1},{"$f":"COUNTIF(번호추출!$N$13:$S$13,자료실!G719)","v":0},{"$f":"COUNTIF(번호추출!$N$13:$S$13,자료실!H719)","v":0},{"$f":"COUNTIF(번호추출!$N$13:$S$13,I719)","v":0},1,1,"꽝",0,0,0,0,{"$f":"IF(6=U719,\"1등\",IF(13=U719,\"1등\",0))","v":0},0]
[718,"2016.09.03",4,11,20,23,32,39,40,null,null,718,{"$f":"COUNTIF(번호추출!$N$13:$S$13,자료실!C720)","v":1},{"$f":"COUNTIF(번호추출!$N$13:$S$13,자료실!D720)","v":0},{"$f":"COUNTIF(번호추출!$N$13:$S$13,자료실!E720)","v":0},{"$f":"COUNTIF(번호추출!$N$13:$S$13,자료실!F720)","v":0},{"$f":"COUNTIF(번호추출!$N$13:$S$13,자료실!G720)","v":0},{"$f":"COUNTIF(번호추출!$N$13:$S$13,자료실!H720)","v":0},{"$f":"COUNTIF(번호추출!$N$13:$S$13,I720)","v":0},1,1,"꽝",0,0,0,0,{"$f":"IF(6=U720,\"1등\",IF(13=U720,\"1등\",0))","v":0},0]
[719,"2016.09.10",4,8,13,19,20,43,26,null,null,719,{"$f":"COUNTIF(번호추출!$N$13:$S$13,자료실!C721)","v":1},{"$f":"COUNTIF(번호추출!$N$13:$S$13,자료실!D721)","v":0},{"$f":"COUNTIF(번호추출!$N$13:$S$13,자료실!E721)","v":0},{"$f":"COUNTIF(번호추출!$N$13:$S$13,자료실!F721)","v":0},{"$f":"COUNTIF(번호추출!$N$13:$S$13,자료실!G721)","v":0},{"$f":"COUNTIF(번호추출!$N$13:$S$13,자료실!H721)","v":0},{"$f":"COUNTIF(번호추출!$N$13:$S$13,I721)","v":0},1,1,"꽝",0,0,0,0,{"$f":"IF(6=U721,\"1등\",IF(13=U721,\"1등\",0))","v":0},0]
[720,"2016.09.17",1,12,29,34,36,37,41,null,null,720,{"$f":"COUNTIF(번호추출!$N$13:$S$13,자료실!C722)","v":0},{"$f":"COUNTIF(번호추출!$N$13:$S$13,자료실!D722)","v":0},{"$f":"COUNTIF(번호추출!$N$13:$S$13,자료실!E722)","v":0},{"$f":"COUNTIF(번호추출!$N$13:$S$13,자료실!F722)","v":0},{"$f":"COUNTIF(번호추출!$N$13:$S$13,자료실!G722)","v":0},{"$f":"COUNTIF(번호추출!$N$13:$S$13,자료실!H722)","v":0},{"$f":"COUNTIF(번호추출!$N$13:$S$13,I722)","v":0},0,0,0,0,0,0,0,{"$f":"IF(6=U722,\"1등\",IF(13=U722,\"1등\",0))","v":0},0]
[721,"2016.09.24",1,28,35,41,43,44,31,null,null,721,{"$f":"COUNTIF(번호추출!$N$13:$S$13,자료실!C723)","v":0},{"$f":"COUNTIF(번호추출!$N$13:$S$13,자료실!D723)","v":0},{"$f":"COUNTIF(번호추출!$N$13:$S$13,자료실!E723)","v":0},{"$f":"COUNTIF(번호추출!$N$13:$S$13,자료실!F723)","v":0},{"$f":"COUNTIF(번호추출!$N$13:$S$13,자료실!G723)","v":0},{"$f":"COUNTIF(번호추출!$N$13:$S$13,자료실!H723)","v":0},{"$f":"COUNTIF(번호추출!$N$13:$S$13,I723)","v":0},0,0,0,0,0,0,0,{"$f":"IF(6=U723,\"1등\",IF(13=U723,\"1등\",0))","v":0},0]
[722,"2016.10.01",12,14,21,30,39,43,45,null,null,722,{"$f":"COUNTIF(번호추출!$N$13:$S$13,자료실!C724)","v":0},{"$f":"COUNTIF(번호추출!$N$13:$S$13,자료실!D724)","v":0},{"$f":"COUNTIF(번호추출!$N$13:$S$13,자료실!E724)","v":0},{"$f":"COUNTIF(번호추출!$N$13:$S$13,자료실!F724)","v":0},{"$f":"COUNTIF(번호추출!$N$13:$S$13,자료실!G724)","v":0},{"$f":"COUNTIF(번호추출!$N$13:$S$13,자료실!H724)","v":0},{"$f":"COUNTIF(번호추출!$N$13:$S$13,I724)","v":1},0,1,"꽝",0,0,0,0,{"$f":"IF(6=U724,\"1등\",IF(13=U724,\"1등\",0))","v":0},0]
[723,"2016.10.08",20,30,33,35,36,44,22,null,null,723,{"$f":"COUNTIF(번호추출!$N$13:$S$13,자료실!C725)","v":0},{"$f":"COUNTIF(번호추출!$N$13:$S$13,자료실!D725)","v":0},{"$f":"COUNTIF(번호추출!$N$13:$S$13,자료실!E725)","v":1},{"$f":"COUNTIF(번호추출!$N$13:$S$13,자료실!F725)","v":0},{"$f":"COUNTIF(번호추출!$N$13:$S$13,자료실!G725)","v":0},{"$f":"COUNTIF(번호추출!$N$13:$S$13,자료실!H725)","v":0},{"$f":"COUNTIF(번호추출!$N$13:$S$13,I725)","v":0},1,1,"꽝",0,0,0,0,{"$f":"IF(6=U725,\"1등\",IF(13=U725,\"1등\",0))","v":0},0]
[724,"2016.10.15",2,8,33,35,37,41,14,null,null,724,{"$f":"COUNTIF(번호추출!$N$13:$S$13,자료실!C726)","v":0},{"$f":"COUNTIF(번호추출!$N$13:$S$13,자료실!D726)","v":0},{"$f":"COUNTIF(번호추출!$N$13:$S$13,자료실!E726)","v":1},{"$f":"COUNTIF(번호추출!$N$13:$S$13,자료실!F726)","v":0},{"$f":"COUNTIF(번호추출!$N$13:$S$13,자료실!G726)","v":0},{"$f":"COUNTIF(번호추출!$N$13:$S$13,자료실!H726)","v":0},{"$f":"COUNTIF(번호추출!$N$13:$S$13,I726)","v":0},1,1,"꽝",0,0,0,0,{"$f":"IF(6=U726,\"1등\",IF(13=U726,\"1등\",0))","v":0},0]
[725,"2016.10.22",6,7,19,21,41,43,38,null,null,725,{"$f":"COUNTIF(번호추출!$N$13:$S$13,자료실!C727)","v":0},{"$f":"COUNTIF(번호추출!$N$13:$S$13,자료실!D727)","v":0},{"$f":"COUNTIF(번호추출!$N$13:$S$13,자료실!E727)","v":0},{"$f":"COUNTIF(번호추출!$N$13:$S$13,자료실!F727)","v":0},{"$f":"COUNTIF(번호추출!$N$13:$S$13,자료실!G727)","v":0},{"$f":"COUNTIF(번호추출!$N$13:$S$13,자료실!H727)","v":0},{"$f":"COUNTIF(번호추출!$N$13:$S$13,I727)","v":0},0,0,0,0,0,0,0,{"$f":"IF(6=U727,\"1등\",IF(13=U727,\"1등\",0))","v":0},0]
[726,"2016.10.29",1,11,21,23,34,44,24,null,null,726,{"$f":"COUNTIF(번호추출!$N$13:$S$13,자료실!C728)","v":0},{"$f":"COUNTIF(번호추출!$N$13:$S$13,자료실!D728)","v":0},{"$f":"COUNTIF(번호추출!$N$13:$S$13,자료실!E728)","v":0},{"$f":"COUNTIF(번호추출!$N$13:$S$13,자료실!F728)","v":0},{"$f":"COUNTIF(번호추출!$N$13:$S$13,자료실!G728)","v":0},{"$f":"COUNTIF(번호추출!$N$13:$S$13,자료실!H728)","v":0},{"$f":"COUNTIF(번호추출!$N$13:$S$13,I728)","v":0},0,0,0,0,0,0,0,{"$f":"IF(6=U728,\"1등\",IF(13=U728,\"1등\",0))","v":0},0]
[727,"2016.11.05",7,8,10,19,21,31,20,null,null,727,{"$f":"COUNTIF(번호추출!$N$13:$S$13,자료실!C729)","v":0},{"$f":"COUNTIF(번호추출!$N$13:$S$13,자료실!D729)","v":0},{"$f":"COUNTIF(번호추출!$N$13:$S$13,자료실!E729)","v":0},{"$f":"COUNTIF(번호추출!$N$13:$S$13,자료실!F729)","v":0},{"$f":"COUNTIF(번호추출!$N$13:$S$13,자료실!G729)","v":0},{"$f":"COUNTIF(번호추출!$N$13:$S$13,자료실!H729)","v":0},{"$f":"COUNTIF(번호추출!$N$13:$S$13,I729)","v":0},0,0,0,0,0,0,0,{"$f":"IF(6=U729,\"1등\",IF(13=U729,\"1등\",0))","v":0},0]
[728,"2016.11.12",3,6,10,30,34,37,36,null,null,728,{"$f":"COUNTIF(번호추출!$N$13:$S$13,자료실!C730)","v":0},{"$f":"COUNTIF(번호추출!$N$13:$S$13,자료실!D730)","v":0},{"$f":"COUNTIF(번호추출!$N$13:$S$13,자료실!E730)","v":0},{"$f":"COUNTIF(번호추출!$N$13:$S$13,자료실!F730)","v":0},{"$f":"COUNTIF(번호추출!$N$13:$S$13,자료실!G730)","v":0},{"$f":"COUNTIF(번호추출!$N$13:$S$13,자료실!H730)","v":0},{"$f":"COUNTIF(번호추출!$N$13:$S$13,I730)","v":0},0,0,0,0,0,0,0,{"$f":"IF(6=U730,\"1등\",IF(13=U730,\"1등\",0))","v":0},0]
[729,"2016.11.19",11,17,21,26,36,45,16,null,null,{"$f":"A731","v":729},{"$f":"COUNTIF(번호추출!$N$13:$S$13,자료실!C731)","v":0},{"$f":"COUNTIF(번호추출!$N$13:$S$13,자료실!D731)","v":0},{"$f":"COUNTIF(번호추출!$N$13:$S$13,자료실!E731)","v":0},{"$f":"COUNTIF(번호추출!$N$13:$S$13,자료실!F731)","v":0},{"$f":"COUNTIF(번호추출!$N$13:$S$13,자료실!G731)","v":0},{"$f":"COUNTIF(번호추출!$N$13:$S$13,자료실!H731)","v":1},{"$f":"COUNTIF(번호추출!$N$13:$S$13,I731)","v":0},{"$f":"SUM(M731:R731)","v":1},{"$f":"SUM(M731:S731)","v":1},"꽝",0,0,0,0,{"$f":"IF(6=U731,\"1등\",IF(13=U731,\"1등\",0))","v":0},0]
[730,"2016.11.26",4,10,14,15,18,22,39,null,null,730,{"$f":"COUNTIF(번호추출!$N$13:$S$13,자료실!C732)","v":1},{"$f":"COUNTIF(번호추출!$N$13:$S$13,자료실!D732)","v":0},{"$f":"COUNTIF(번호추출!$N$13:$S$13,자료실!E732)","v":0},{"$f":"COUNTIF(번호추출!$N$13:$S$13,자료실!F732)","v":1},{"$f":"COUNTIF(번호추출!$N$13:$S$13,자료실!G732)","v":1},{"$f":"COUNTIF(번호추출!$N$13:$S$13,자료실!H732)","v":0},{"$f":"COUNTIF(번호추출!$N$13:$S$13,I732)","v":0},3,3,"꽝","꽝","5등",0,0,{"$f":"IF(6=U732,\"1등\",IF(13=U732,\"1등\",0))","v":0},0]
[731,"2016.12.03",2,7,13,25,42,45,39,null,null,731,{"$f":"COUNTIF(번호추출!$N$13:$S$13,자료실!C733)","v":0},{"$f":"COUNTIF(번호추출!$N$13:$S$13,자료실!D733)","v":0},{"$f":"COUNTIF(번호추출!$N$13:$S$13,자료실!E733)","v":0},{"$f":"COUNTIF(번호추출!$N$13:$S$13,자료실!F733)","v":1},{"$f":"COUNTIF(번호추출!$N$13:$S$13,자료실!G733)","v":0},{"$f":"COUNTIF(번호추출!$N$13:$S$13,자료실!H733)","v":1},{"$f":"COUNTIF(번호추출!$N$13:$S$13,I733)","v":0},2,2,"꽝","꽝",0,0,0,{"$f":"IF(6=U733,\"1등\",IF(13=U733,\"1등\",0))","v":0},0]
[732,"2016.12.10",2,4,5,17,27,32,43,null,null,732,{"$f":"COUNTIF(번호추출!$N$13:$S$13,자료실!C734)","v":0},{"$f":"COUNTIF(번호추출!$N$13:$S$13,자료실!D734)","v":1},{"$f":"COUNTIF(번호추출!$N$13:$S$13,자료실!E734)","v":0},{"$f":"COUNTIF(번호추출!$N$13:$S$13,자료실!F734)","v":0},{"$f":"COUNTIF(번호추출!$N$13:$S$13,자료실!G734)","v":0},{"$f":"COUNTIF(번호추출!$N$13:$S$13,자료실!H734)","v":0},{"$f":"COUNTIF(번호추출!$N$13:$S$13,I734)","v":0},1,1,"꽝",0,0,0,0,{"$f":"IF(6=U734,\"1등\",IF(13=U734,\"1등\",0))","v":0},0]
[733,"2016.12.17",11,24,32,33,35,40,13,null,null,733,{"$f":"COUNTIF(번호추출!$N$13:$S$13,자료실!C735)","v":0},{"$f":"COUNTIF(번호추출!$N$13:$S$13,자료실!D735)","v":0},{"$f":"COUNTIF(번호추출!$N$13:$S$13,자료실!E735)","v":0},{"$f":"COUNTIF(번호추출!$N$13:$S$13,자료실!F735)","v":1},{"$f":"COUNTIF(번호추출!$N$13:$S$13,자료실!G735)","v":0},{"$f":"COUNTIF(번호추출!$N$13:$S$13,자료실!H735)","v":0},{"$f":"COUNTIF(번호추출!$N$13:$S$13,I735)","v":0},1,1,"꽝",0,0,0,0,{"$f":"IF(6=U735,\"1등\",IF(13=U735,\"1등\",0))","v":0},0]
[734,"2016.12.24",6,16,37,38,41,45,18,null,null,734,{"$f":"COUNTIF(번호추출!$N$13:$S$13,자료실!C736)","v":0},{"$f":"COUNTIF(번호추출!$N$13:$S$13,자료실!D736)","v":0},{"$f":"COUNTIF(번호추출!$N$13:$S$13,자료실!E736)","v":0},{"$f":"COUNTIF(번호추출!$N$13:$S$13,자료실!F736)","v":0},{"$f":"COUNTIF(번호추출!$N$13:$S$13,자료실!G736)","v":0},{"$f":"COUNTIF(번호추출!$N$13:$S$13,자료실!H736)","v":1},{"$f":"COUNTIF(번호추출!$N$13:$S$13,I736)","v":1},1,2,"꽝","꽝",0,0,0,{"$f":"IF(6=U736,\"1등\",IF(13=U736,\"1등\",0))","v":0},0]
[735,"2016.12.31",5,10,13,27,37,41,4,null,null,735,{"$f":"COUNTIF(번호추출!$N$13:$S$13,자료실!C737)","v":0},{"$f":"COUNTIF(번호추출!$N$13:$S$13,자료실!D737)","v":0},{"$f":"COUNTIF(번호추출!$N$13:$S$13,자료실!E737)","v":0},{"$f":"COUNTIF(번호추출!$N$13:$S$13,자료실!F737)","v":0},{"$f":"COUNTIF(번호추출!$N$13:$S$13,자료실!G737)","v":0},{"$f":"COUNTIF(번호추출!$N$13:$S$13,자료실!H737)","v":0},{"$f":"COUNTIF(번호추출!$N$13:$S$13,I737)","v":1},0,1,"꽝",0,0,0,0,{"$f":"IF(6=U737,\"1등\",IF(13=U737,\"1등\",0))","v":0},0]
[736,"2017.01.07",2,11,17,18,21,27,6,null,null,736,{"$f":"COUNTIF(번호추출!$N$13:$S$13,자료실!C738)","v":0},{"$f":"COUNTIF(번호추출!$N$13:$S$13,자료실!D738)","v":0},{"$f":"COUNTIF(번호추출!$N$13:$S$13,자료실!E738)","v":0},{"$f":"COUNTIF(번호추출!$N$13:$S$13,자료실!F738)","v":1},{"$f":"COUNTIF(번호추출!$N$13:$S$13,자료실!G738)","v":0},{"$f":"COUNTIF(번호추출!$N$13:$S$13,자료실!H738)","v":0},{"$f":"COUNTIF(번호추출!$N$13:$S$13,I738)","v":0},1,1,"꽝",0,0,0,0,{"$f":"IF(6=U738,\"1등\",IF(13=U738,\"1등\",0))","v":0},0]
[737,"2017.01.14",13,15,18,24,27,41,11,null,null,737,{"$f":"COUNTIF(번호추출!$N$13:$S$13,자료실!C739)","v":0},{"$f":"COUNTIF(번호추출!$N$13:$S$13,자료실!D739)","v":1},{"$f":"COUNTIF(번호추출!$N$13:$S$13,자료실!E739)","v":1},{"$f":"COUNTIF(번호추출!$N$13:$S$13,자료실!F739)","v":0},{"$f":"COUNTIF(번호추출!$N$13:$S$13,자료실!G739)","v":0},{"$f":"COUNTIF(번호추출!$N$13:$S$13,자료실!H739)","v":0},{"$f":"COUNTIF(번호추출!$N$13:$S$13,I739)","v":0},2,2,"꽝","꽝",0,0,0,{"$f":"IF(6=U739,\"1등\",IF(13=U739,\"1등\",0))","v":0},0]
[738,"2017.01.21",23,27,28,38,42,43,36,null,null,738,{"$f":"COUNTIF(번호추출!$N$13:$S$13,자료실!C740)","v":0},{"$f":"COUNTIF(번호추출!$N$13:$S$13,자료실!D740)","v":0},{"$f":"COUNTIF(번호추출!$N$13:$S$13,자료실!E740)","v":0},{"$f":"COUNTIF(번호추출!$N$13:$S$13,자료실!F740)","v":0},{"$f":"COUNTIF(번호추출!$N$13:$S$13,자료실!G740)","v":0},{"$f":"COUNTIF(번호추출!$N$13:$S$13,자료실!H740)","v":0},{"$f":"COUNTIF(번호추출!$N$13:$S$13,I740)","v":0},0,0,0,0,0,0,0,{"$f":"IF(6=U740,\"1등\",IF(13=U740,\"1등\",0))","v":0},0]
[739,"2017.01.28",7,22,29,33,34,35,30,null,null,739,{"$f":"COUNTIF(번호추출!$N$13:$S$13,자료실!C741)","v":0},{"$f":"COUNTIF(번호추출!$N$13:$S$13,자료실!D741)","v":0},{"$f":"COUNTIF(번호추출!$N$13:$S$13,자료실!E741)","v":0},{"$f":"COUNTIF(번호추출!$N$13:$S$13,자료실!F741)","v":1},{"$f":"COUNTIF(번호추출!$N$13:$S$13,자료실!G741)","v":0},{"$f":"COUNTIF(번호추출!$N$13:$S$13,자료실!H741)","v":0},{"$f":"COUNTIF(번호추출!$N$13:$S$13,I741)","v":0},1,1,"꽝",0,0,0,0,{"$f":"IF(6=U741,\"1등\",IF(13=U741,\"1등\",0))","v":0},0]
[740,"2017.02.04",4,8,9,16,17,19,31,null,null,740,{"$f":"COUNTIF(번호추출!$N$13:$S$13,자료실!C742)","v":1},{"$f":"COUNTIF(번호추출!$N$13:$S$13,자료실!D742)","v":0},{"$f":"COUNTIF(번호추출!$N$13:$S$13,자료실!E742)","v":0},{"$f":"COUNTIF(번호추출!$N$13:$S$13,자료실!F742)","v":0},{"$f":"COUNTIF(번호추출!$N$13:$S$13,자료실!G742)","v":0},{"$f":"COUNTIF(번호추출!$N$13:$S$13,자료실!H742)","v":0},{"$f":"COUNTIF(번호추출!$N$13:$S$13,I742)","v":0},1,1,"꽝",0,0,0,0,{"$f":"IF(6=U742,\"1등\",IF(13=U742,\"1등\",0))","v":0},0]
[741,"2017.02.11",5,21,27,34,44,45,16,null,null,741,{"$f":"COUNTIF(번호추출!$N$13:$S$13,자료실!C743)","v":0},{"$f":"COUNTIF(번호추출!$N$13:$S$13,자료실!D743)","v":0},{"$f":"COUNTIF(번호추출!$N$13:$S$13,자료실!E743)","v":0},{"$f":"COUNTIF(번호추출!$N$13:$S$13,자료실!F743)","v":0},{"$f":"COUNTIF(번호추출!$N$13:$S$13,자료실!G743)","v":0},{"$f":"COUNTIF(번호추출!$N$13:$S$13,자료실!H743)","v":1},{"$f":"COUNTIF(번호추출!$N$13:$S$13,I743)","v":0},1,1,"꽝",0,0,0,0,{"$f":"IF(6=U743,\"1등\",IF(13=U743,\"1등\",0))","v":0},0]
[742,"2017.02.18",8,10,13,36,37,40,6,null,null,742,{"$f":"COUNTIF(번호추출!$N$13:$S$13,자료실!C744)","v":0},{"$f":"COUNTIF(번호추출!$N$13:$S$13,자료실!D744)","v":0},{"$f":"COUNTIF(번호추출!$N$13:$S$13,자료실!E744)","v":0},{"$f":"COUNTIF(번호추출!$N$13:$S$13,자료실!F744)","v":0},{"$f":"COUNTIF(번호추출!$N$13:$S$13,자료실!G744)","v":0},{"$f":"COUNTIF(번호추출!$N$13:$S$13,자료실!H744)","v":0},{"$f":"COUNTIF(번호추출!$N$13:$S$13,I744)","v":0},0,0,0,0,0,0,0,{"$f":"IF(6=U744,\"1등\",IF(13=U744,\"1등\",0))","v":0},0]
[743,"2017.02.25",15,19,21,34,41,44,10,null,null,743,{"$f":"COUNTIF(번호추출!$N$13:$S$13,자료실!C745)","v":1},{"$f":"COUNTIF(번호추출!$N$13:$S$13,자료실!D745)","v":0},{"$f":"COUNTIF(번호추출!$N$13:$S$13,자료실!E745)","v":0},{"$f":"COUNTIF(번호추출!$N$13:$S$13,자료실!F745)","v":0},{"$f":"COUNTIF(번호추출!$N$13:$S$13,자료실!G745)","v":0},{"$f":"COUNTIF(번호추출!$N$13:$S$13,자료실!H745)","v":0},{"$f":"COUNTIF(번호추출!$N$13:$S$13,I745)","v":0},1,1,"꽝",0,0,0,0,{"$f":"IF(6=U745,\"1등\",IF(13=U745,\"1등\",0))","v":0},0]
[744,"2017.03.04",10,15,18,21,34,41,43,null,null,744,{"$f":"COUNTIF(번호추출!$N$13:$S$13,자료실!C746)","v":0},{"$f":"COUNTIF(번호추출!$N$13:$S$13,자료실!D746)","v":1},{"$f":"COUNTIF(번호추출!$N$13:$S$13,자료실!E746)","v":1},{"$f":"COUNTIF(번호추출!$N$13:$S$13,자료실!F746)","v":0},{"$f":"COUNTIF(번호추출!$N$13:$S$13,자료실!G746)","v":0},{"$f":"COUNTIF(번호추출!$N$13:$S$13,자료실!H746)","v":0},{"$f":"COUNTIF(번호추출!$N$13:$S$13,I746)","v":0},2,2,"꽝","꽝",0,0,0,{"$f":"IF(6=U746,\"1등\",IF(13=U746,\"1등\",0))","v":0},0]
[745,"2017.03.11",1,2,3,9,12,23,10,null,null,745,{"$f":"COUNTIF(번호추출!$N$13:$S$13,자료실!C747)","v":0},{"$f":"COUNTIF(번호추출!$N$13:$S$13,자료실!D747)","v":0},{"$f":"COUNTIF(번호추출!$N$13:$S$13,자료실!E747)","v":0},{"$f":"COUNTIF(번호추출!$N$13:$S$13,자료실!F747)","v":0},{"$f":"COUNTIF(번호추출!$N$13:$S$13,자료실!G747)","v":0},{"$f":"COUNTIF(번호추출!$N$13:$S$13,자료실!H747)","v":0},{"$f":"COUNTIF(번호추출!$N$13:$S$13,I747)","v":0},0,0,0,0,0,0,0,{"$f":"IF(6=U747,\"1등\",IF(13=U747,\"1등\",0))","v":0},0]
[746,"2017.03.18",3,12,33,36,42,45,25,null,null,746,{"$f":"COUNTIF(번호추출!$N$13:$S$13,자료실!C748)","v":0},{"$f":"COUNTIF(번호추출!$N$13:$S$13,자료실!D748)","v":0},{"$f":"COUNTIF(번호추출!$N$13:$S$13,자료실!E748)","v":1},{"$f":"COUNTIF(번호추출!$N$13:$S$13,자료실!F748)","v":0},{"$f":"COUNTIF(번호추출!$N$13:$S$13,자료실!G748)","v":0},{"$f":"COUNTIF(번호추출!$N$13:$S$13,자료실!H748)","v":1},{"$f":"COUNTIF(번호추출!$N$13:$S$13,I748)","v":1},2,3,"꽝","꽝","5등",0,0,{"$f":"IF(6=U748,\"1등\",IF(13=U748,\"1등\",0))","v":0},0]
[747,"2017.03.25",7,9,12,14,23,28,17,null,null,747,{"$f":"COUNTIF(번호추출!$N$13:$S$13,자료실!C749)","v":0},{"$f":"COUNTIF(번호추출!$N$13:$S$13,자료실!D749)","v":0},{"$f":"COUNTIF(번호추출!$N$13:$S$13,자료실!E749)","v":0},{"$f":"COUNTIF(번호추출!$N$13:$S$13,자료실!F749)","v":0},{"$f":"COUNTIF(번호추출!$N$13:$S$13,자료실!G749)","v":0},{"$f":"COUNTIF(번호추출!$N$13:$S$13,자료실!H749)","v":0},{"$f":"COUNTIF(번호추출!$N$13:$S$13,I749)","v":0},0,0,0,0,0,0,0,{"$f":"IF(6=U749,\"1등\",IF(13=U749,\"1등\",0))","v":0},0]
[748,"2017.04.01",3,10,13,22,31,32,29,null,null,748,{"$f":"COUNTIF(번호추출!$N$13:$S$13,자료실!C750)","v":0},{"$f":"COUNTIF(번호추출!$N$13:$S$13,자료실!D750)","v":0},{"$f":"COUNTIF(번호추출!$N$13:$S$13,자료실!E750)","v":0},{"$f":"COUNTIF(번호추출!$N$13:$S$13,자료실!F750)","v":0},{"$f":"COUNTIF(번호추출!$N$13:$S$13,자료실!G750)","v":0},{"$f":"COUNTIF(번호추출!$N$13:$S$13,자료실!H750)","v":0},{"$f":"COUNTIF(번호추출!$N$13:$S$13,I750)","v":0},0,0,0,0,0,0,0,{"$f":"IF(6=U750,\"1등\",IF(13=U750,\"1등\",0))","v":0},0]
[749,"2017.04.08",12,14,24,26,34,45,41,null,null,749,{"$f":"COUNTIF(번호추출!$N$13:$S$13,자료실!C751)","v":0},{"$f":"COUNTIF(번호추출!$N$13:$S$13,자료실!D751)","v":0},{"$f":"COUNTIF(번호추출!$N$13:$S$13,자료실!E751)","v":0},{"$f":"COUNTIF(번호추출!$N$13:$S$13,자료실!F751)","v":0},{"$f":"COUNTIF(번호추출!$N$13:$S$13,자료실!G751)","v":0},{"$f":"COUNTIF(번호추출!$N$13:$S$13,자료실!H751)","v":1},{"$f":"COUNTIF(번호추출!$N$13:$S$13,I751)","v":0},1,1,"꽝",0,0,0,0,{"$f":"IF(6=U751,\"1등\",IF(13=U751,\"1등\",0))","v":0},0]
[750,"2017.04.15",1,2,15,19,24,36,12,null,null,750,{"$f":"COUNTIF(번호추출!$N$13:$S$13,자료실!C752)","v":0},{"$f":"COUNTIF(번호추출!$N$13:$S$13,자료실!D752)","v":0},{"$f":"COUNTIF(번호추출!$N$13:$S$13,자료실!E752)","v":1},{"$f":"COUNTIF(번호추출!$N$13:$S$13,자료실!F752)","v":0},{"$f":"COUNTIF(번호추출!$N$13:$S$13,자료실!G752)","v":0},{"$f":"COUNTIF(번호추출!$N$13:$S$13,자료실!H752)","v":0},{"$f":"COUNTIF(번호추출!$N$13:$S$13,I752)","v":0},1,1,"꽝",0,0,0,0,{"$f":"IF(6=U752,\"1등\",IF(13=U752,\"1등\",0))","v":0},0]
[751,"2017.04.22",3,4,16,20,28,44,17,null,null,751,{"$f":"COUNTIF(번호추출!$N$13:$S$13,자료실!C753)","v":0},{"$f":"COUNTIF(번호추출!$N$13:$S$13,자료실!D753)","v":1},{"$f":"COUNTIF(번호추출!$N$13:$S$13,자료실!E753)","v":0},{"$f":"COUNTIF(번호추출!$N$13:$S$13,자료실!F753)","v":0},{"$f":"COUNTIF(번호추출!$N$13:$S$13,자료실!G753)","v":0},{"$f":"COUNTIF(번호추출!$N$13:$S$13,자료실!H753)","v":0},{"$f":"COUNTIF(번호추출!$N$13:$S$13,I753)","v":0},1,1,"꽝",0,0,0,0,{"$f":"IF(6=U753,\"1등\",IF(13=U753,\"1등\",0))","v":0},0]
[752,"2017.04.29",4,16,20,33,40,43,7,null,null,752,{"$f":"COUNTIF(번호추출!$N$13:$S$13,자료실!C754)","v":1},{"$f":"COUNTIF(번호추출!$N$13:$S$13,자료실!D754)","v":0},{"$f":"COUNTIF(번호추출!$N$13:$S$13,자료실!E754)","v":0},{"$f":"COUNTIF(번호추출!$N$13:$S$13,자료실!F754)","v":1},{"$f":"COUNTIF(번호추출!$N$13:$S$13,자료실!G754)","v":0},{"$f":"COUNTIF(번호추출!$N$13:$S$13,자료실!H754)","v":0},{"$f":"COUNTIF(번호추출!$N$13:$S$13,I754)","v":0},2,2,"꽝","꽝",0,0,0,{"$f":"IF(6=U754,\"1등\",IF(13=U754,\"1등\",0))","v":0},0]
[753,"2017.05.06",2,17,19,24,37,41,3,null,null,753,{"$f":"COUNTIF(번호추출!$N$13:$S$13,자료실!C755)","v":0},{"$f":"COUNTIF(번호추출!$N$13:$S$13,자료실!D755)","v":0},{"$f":"COUNTIF(번호추출!$N$13:$S$13,자료실!E755)","v":0},{"$f":"COUNTIF(번호추출!$N$13:$S$13,자료실!F755)","v":0},{"$f":"COUNTIF(번호추출!$N$13:$S$13,자료실!G755)","v":0},{"$f":"COUNTIF(번호추출!$N$13:$S$13,자료실!H755)","v":0},{"$f":"COUNTIF(번호추출!$N$13:$S$13,I755)","v":0},0,0,0,0,0,0,0,{"$f":"IF(6=U755,\"1등\",IF(13=U755,\"1등\",0))","v":0},0]
[754,"2017.05.13",2,8,17,24,29,31,32,null,null,754,{"$f":"COUNTIF(번호추출!$N$13:$S$13,자료실!C756)","v":0},{"$f":"COUNTIF(번호추출!$N$13:$S$13,자료실!D756)","v":0},{"$f":"COUNTIF(번호추출!$N$13:$S$13,자료실!E756)","v":0},{"$f":"COUNTIF(번호추출!$N$13:$S$13,자료실!F756)","v":0},{"$f":"COUNTIF(번호추출!$N$13:$S$13,자료실!G756)","v":0},{"$f":"COUNTIF(번호추출!$N$13:$S$13,자료실!H756)","v":0},{"$f":"COUNTIF(번호추출!$N$13:$S$13,I756)","v":0},0,0,0,0,0,0,0,{"$f":"IF(6=U756,\"1등\",IF(13=U756,\"1등\",0))","v":0},0]
[755,"2017.05.20",13,14,26,28,30,36,37,null,null,755,{"$f":"COUNTIF(번호추출!$N$13:$S$13,자료실!C757)","v":0},{"$f":"COUNTIF(번호추출!$N$13:$S$13,자료실!D757)","v":0},{"$f":"COUNTIF(번호추출!$N$13:$S$13,자료실!E757)","v":0},{"$f":"COUNTIF(번호추출!$N$13:$S$13,자료실!F757)","v":0},{"$f":"COUNTIF(번호추출!$N$13:$S$13,자료실!G757)","v":0},{"$f":"COUNTIF(번호추출!$N$13:$S$13,자료실!H757)","v":0},{"$f":"COUNTIF(번호추출!$N$13:$S$13,I757)","v":0},0,0,0,0,0,0,0,{"$f":"IF(6=U757,\"1등\",IF(13=U757,\"1등\",0))","v":0},0]
[756,"2017.05.27",10,14,16,18,27,28,4,null,null,756,{"$f":"COUNTIF(번호추출!$N$13:$S$13,자료실!C758)","v":0},{"$f":"COUNTIF(번호추출!$N$13:$S$13,자료실!D758)","v":0},{"$f":"COUNTIF(번호추출!$N$13:$S$13,자료실!E758)","v":0},{"$f":"COUNTIF(번호추출!$N$13:$S$13,자료실!F758)","v":1},{"$f":"COUNTIF(번호추출!$N$13:$S$13,자료실!G758)","v":0},{"$f":"COUNTIF(번호추출!$N$13:$S$13,자료실!H758)","v":0},{"$f":"COUNTIF(번호추출!$N$13:$S$13,I758)","v":1},1,2,"꽝","꽝",0,0,0,{"$f":"IF(6=U758,\"1등\",IF(13=U758,\"1등\",0))","v":0},0]
[757,"2017.06.03",6,7,11,17,33,44,1,null,null,757,{"$f":"COUNTIF(번호추출!$N$13:$S$13,자료실!C759)","v":0},{"$f":"COUNTIF(번호추출!$N$13:$S$13,자료실!D759)","v":0},{"$f":"COUNTIF(번호추출!$N$13:$S$13,자료실!E759)","v":0},{"$f":"COUNTIF(번호추출!$N$13:$S$13,자료실!F759)","v":0},{"$f":"COUNTIF(번호추출!$N$13:$S$13,자료실!G759)","v":1},{"$f":"COUNTIF(번호추출!$N$13:$S$13,자료실!H759)","v":0},{"$f":"COUNTIF(번호추출!$N$13:$S$13,I759)","v":0},1,1,"꽝",0,0,0,0,{"$f":"IF(6=U759,\"1등\",IF(13=U759,\"1등\",0))","v":0},0]
[758,"2017.06.10",5,9,12,30,39,43,24,null,null,758,{"$f":"COUNTIF(번호추출!$N$13:$S$13,자료실!C760)","v":0},{"$f":"COUNTIF(번호추출!$N$13:$S$13,자료실!D760)","v":0},{"$f":"COUNTIF(번호추출!$N$13:$S$13,자료실!E760)","v":0},{"$f":"COUNTIF(번호추출!$N$13:$S$13,자료실!F760)","v":0},{"$f":"COUNTIF(번호추출!$N$13:$S$13,자료실!G760)","v":0},{"$f":"COUNTIF(번호추출!$N$13:$S$13,자료실!H760)","v":0},{"$f":"COUNTIF(번호추출!$N$13:$S$13,I760)","v":0},0,0,0,0,0,0,0,{"$f":"IF(6=U760,\"1등\",IF(13=U760,\"1등\",0))","v":0},0]
[759,"2017.06.17",9,33,36,40,42,43,32,null,null,759,{"$f":"COUNTIF(번호추출!$N$13:$S$13,자료실!C761)","v":0},{"$f":"COUNTIF(번호추출!$N$13:$S$13,자료실!D761)","v":1},{"$f":"COUNTIF(번호추출!$N$13:$S$13,자료실!E761)","v":0},{"$f":"COUNTIF(번호추출!$N$13:$S$13,자료실!F761)","v":0},{"$f":"COUNTIF(번호추출!$N$13:$S$13,자료실!G761)","v":0},{"$f":"COUNTIF(번호추출!$N$13:$S$13,자료실!H761)","v":0},{"$f":"COUNTIF(번호추출!$N$13:$S$13,I761)","v":0},1,1,"꽝",0,0,0,0,{"$f":"IF(6=U761,\"1등\",IF(13=U761,\"1등\",0))","v":0},0]
[760,"2017.06.24",10,22,27,31,42,43,12,null,null,760,{"$f":"COUNTIF(번호추출!$N$13:$S$13,자료실!C762)","v":0},{"$f":"COUNTIF(번호추출!$N$13:$S$13,자료실!D762)","v":0},{"$f":"COUNTIF(번호추출!$N$13:$S$13,자료실!E762)","v":0},{"$f":"COUNTIF(번호추출!$N$13:$S$13,자료실!F762)","v":0},{"$f":"COUNTIF(번호추출!$N$13:$S$13,자료실!G762)","v":0},{"$f":"COUNTIF(번호추출!$N$13:$S$13,자료실!H762)","v":0},{"$f":"COUNTIF(번호추출!$N$13:$S$13,I762)","v":0},0,0,0,0,0,0,0,{"$f":"IF(6=U762,\"1등\",IF(13=U762,\"1등\",0))","v":0},0]
[761,"2017.07.01",4,7,11,24,42,45,30,null,null,761,{"$f":"COUNTIF(번호추출!$N$13:$S$13,자료실!C763)","v":1},{"$f":"COUNTIF(번호추출!$N$13:$S$13,자료실!D763)","v":0},{"$f":"COUNTIF(번호추출!$N$13:$S$13,자료실!E763)","v":0},{"$f":"COUNTIF(번호추출!$N$13:$S$13,자료실!F763)","v":0},{"$f":"COUNTIF(번호추출!$N$13:$S$13,자료실!G763)","v":0},{"$f":"COUNTIF(번호추출!$N$13:$S$13,자료실!H763)","v":1},{"$f":"COUNTIF(번호추출!$N$13:$S$13,I763)","v":0},2,2,"꽝","꽝",0,0,0,{"$f":"IF(6=U763,\"1등\",IF(13=U763,\"1등\",0))","v":0},0]
[762,"2017.07.08",1,3,12,21,26,41,16,null,null,762,{"$f":"COUNTIF(번호추출!$N$13:$S$13,자료실!C764)","v":0},{"$f":"COUNTIF(번호추출!$N$13:$S$13,자료실!D764)","v":0},{"$f":"COUNTIF(번호추출!$N$13:$S$13,자료실!E764)","v":0},{"$f":"COUNTIF(번호추출!$N$13:$S$13,자료실!F764)","v":0},{"$f":"COUNTIF(번호추출!$N$13:$S$13,자료실!G764)","v":0},{"$f":"COUNTIF(번호추출!$N$13:$S$13,자료실!H764)","v":0},{"$f":"COUNTIF(번호추출!$N$13:$S$13,I764)","v":0},0,0,0,0,0,0,0,{"$f":"IF(6=U764,\"1등\",IF(13=U764,\"1등\",0))","v":0},0]
[763,"2017.07.15",3,8,16,32,34,43,10,null,null,763,{"$f":"COUNTIF(번호추출!$N$13:$S$13,자료실!C765)","v":0},{"$f":"COUNTIF(번호추출!$N$13:$S$13,자료실!D765)","v":0},{"$f":"COUNTIF(번호추출!$N$13:$S$13,자료실!E765)","v":0},{"$f":"COUNTIF(번호추출!$N$13:$S$13,자료실!F765)","v":0},{"$f":"COUNTIF(번호추출!$N$13:$S$13,자료실!G765)","v":0},{"$f":"COUNTIF(번호추출!$N$13:$S$13,자료실!H765)","v":0},{"$f":"COUNTIF(번호추출!$N$13:$S$13,I765)","v":0},0,0,0,0,0,0,0,{"$f":"IF(6=U765,\"1등\",IF(13=U765,\"1등\",0))","v":0},0]
[764,"2017.07.22",7,22,24,31,34,36,15,null,null,764,{"$f":"COUNTIF(번호추출!$N$13:$S$13,자료실!C766)","v":0},{"$f":"COUNTIF(번호추출!$N$13:$S$13,자료실!D766)","v":0},{"$f":"COUNTIF(번호추출!$N$13:$S$13,자료실!E766)","v":0},{"$f":"COUNTIF(번호추출!$N$13:$S$13,자료실!F766)","v":0},{"$f":"COUNTIF(번호추출!$N$13:$S$13,자료실!G766)","v":0},{"$f":"COUNTIF(번호추출!$N$13:$S$13,자료실!H766)","v":0},{"$f":"COUNTIF(번호추출!$N$13:$S$13,I766)","v":1},0,1,"꽝",0,0,0,0,{"$f":"IF(6=U766,\"1등\",IF(13=U766,\"1등\",0))","v":0},0]
[765,"2017.07.29",1,3,8,12,42,43,33,null,null,765,{"$f":"COUNTIF(번호추출!$N$13:$S$13,자료실!C767)","v":0},{"$f":"COUNTIF(번호추출!$N$13:$S$13,자료실!D767)","v":0},{"$f":"COUNTIF(번호추출!$N$13:$S$13,자료실!E767)","v":0},{"$f":"COUNTIF(번호추출!$N$13:$S$13,자료실!F767)","v":0},{"$f":"COUNTIF(번호추출!$N$13:$S$13,자료실!G767)","v":0},{"$f":"COUNTIF(번호추출!$N$13:$S$13,자료실!H767)","v":0},{"$f":"COUNTIF(번호추출!$N$13:$S$13,I767)","v":1},0,1,"꽝",0,0,0,0,{"$f":"IF(6=U767,\"1등\",IF(13=U767,\"1등\",0))","v":0},0]
[766,"2017.08.05",9,30,34,35,39,41,21,null,null,766,{"$f":"COUNTIF(번호추출!$N$13:$S$13,자료실!C768)","v":0},{"$f":"COUNTIF(번호추출!$N$13:$S$13,자료실!D768)","v":0},{"$f":"COUNTIF(번호추출!$N$13:$S$13,자료실!E768)","v":0},{"$f":"COUNTIF(번호추출!$N$13:$S$13,자료실!F768)","v":0},{"$f":"COUNTIF(번호추출!$N$13:$S$13,자료실!G768)","v":0},{"$f":"COUNTIF(번호추출!$N$13:$S$13,자료실!H768)","v":0},{"$f":"COUNTIF(번호추출!$N$13:$S$13,I768)","v":0},0,0,0,0,0,0,0,{"$f":"IF(6=U768,\"1등\",IF(13=U768,\"1등\",0))","v":0},0]
[767,"2017.08.12",5,15,20,31,34,42,22,null,null,767,{"$f":"COUNTIF(번호추출!$N$13:$S$13,자료실!C769)","v":0},{"$f":"COUNTIF(번호추출!$N$13:$S$13,자료실!D769)","v":1},{"$f":"COUNTIF(번호추출!$N$13:$S$13,자료실!E769)","v":0},{"$f":"COUNTIF(번호추출!$N$13:$S$13,자료실!F769)","v":0},{"$f":"COUNTIF(번호추출!$N$13:$S$13,자료실!G769)","v":0},{"$f":"COUNTIF(번호추출!$N$13:$S$13,자료실!H769)","v":0},{"$f":"COUNTIF(번호추출!$N$13:$S$13,I769)","v":0},1,1,"꽝",0,0,0,0,{"$f":"IF(6=U769,\"1등\",IF(13=U769,\"1등\",0))","v":0},0]
[768,"2017.08.19",7,27,29,30,38,44,4,null,null,768,{"$f":"COUNTIF(번호추출!$N$13:$S$13,자료실!C770)","v":0},{"$f":"COUNTIF(번호추출!$N$13:$S$13,자료실!D770)","v":0},{"$f":"COUNTIF(번호추출!$N$13:$S$13,자료실!E770)","v":0},{"$f":"COUNTIF(번호추출!$N$13:$S$13,자료실!F770)","v":0},{"$f":"COUNTIF(번호추출!$N$13:$S$13,자료실!G770)","v":0},{"$f":"COUNTIF(번호추출!$N$13:$S$13,자료실!H770)","v":0},{"$f":"COUNTIF(번호추출!$N$13:$S$13,I770)","v":1},0,1,"꽝",0,0,0,0,{"$f":"IF(6=U770,\"1등\",IF(13=U770,\"1등\",0))","v":0},0]
[769,"2017.08.26",5,7,11,16,41,45,4,null,null,769,{"$f":"COUNTIF(번호추출!$N$13:$S$13,자료실!C771)","v":0},{"$f":"COUNTIF(번호추출!$N$13:$S$13,자료실!D771)","v":0},{"$f":"COUNTIF(번호추출!$N$13:$S$13,자료실!E771)","v":0},{"$f":"COUNTIF(번호추출!$N$13:$S$13,자료실!F771)","v":0},{"$f":"COUNTIF(번호추출!$N$13:$S$13,자료실!G771)","v":0},{"$f":"COUNTIF(번호추출!$N$13:$S$13,자료실!H771)","v":1},{"$f":"COUNTIF(번호추출!$N$13:$S$13,I771)","v":1},1,2,"꽝","꽝",0,0,0,{"$f":"IF(6=U771,\"1등\",IF(13=U771,\"1등\",0))","v":0},0]
[770,"2017.09.02",1,9,12,23,39,43,34,null,null,770,{"$f":"COUNTIF(번호추출!$N$13:$S$13,자료실!C772)","v":0},{"$f":"COUNTIF(번호추출!$N$13:$S$13,자료실!D772)","v":0},{"$f":"COUNTIF(번호추출!$N$13:$S$13,자료실!E772)","v":0},{"$f":"COUNTIF(번호추출!$N$13:$S$13,자료실!F772)","v":0},{"$f":"COUNTIF(번호추출!$N$13:$S$13,자료실!G772)","v":0},{"$f":"COUNTIF(번호추출!$N$13:$S$13,자료실!H772)","v":0},{"$f":"COUNTIF(번호추출!$N$13:$S$13,I772)","v":0},0,0,0,0,0,0,0,{"$f":"IF(6=U772,\"1등\",IF(13=U772,\"1등\",0))","v":0},0]
[771,"2017.09.09",6,10,17,18,21,29,30,null,null,771,{"$f":"COUNTIF(번호추출!$N$13:$S$13,자료실!C773)","v":0},{"$f":"COUNTIF(번호추출!$N$13:$S$13,자료실!D773)","v":0},{"$f":"COUNTIF(번호추출!$N$13:$S$13,자료실!E773)","v":0},{"$f":"COUNTIF(번호추출!$N$13:$S$13,자료실!F773)","v":1},{"$f":"COUNTIF(번호추출!$N$13:$S$13,자료실!G773)","v":0},{"$f":"COUNTIF(번호추출!$N$13:$S$13,자료실!H773)","v":0},{"$f":"COUNTIF(번호추출!$N$13:$S$13,I773)","v":0},1,1,"꽝",0,0,0,0,{"$f":"IF(6=U773,\"1등\",IF(13=U773,\"1등\",0))","v":0},0]
[772,"2017.09.16",5,6,11,14,21,41,32,null,null,772,{"$f":"COUNTIF(번호추출!$N$13:$S$13,자료실!C774)","v":0},{"$f":"COUNTIF(번호추출!$N$13:$S$13,자료실!D774)","v":0},{"$f":"COUNTIF(번호추출!$N$13:$S$13,자료실!E774)","v":0},{"$f":"COUNTIF(번호추출!$N$13:$S$13,자료실!F774)","v":0},{"$f":"COUNTIF(번호추출!$N$13:$S$13,자료실!G774)","v":0},{"$f":"COUNTIF(번호추출!$N$13:$S$13,자료실!H774)","v":0},{"$f":"COUNTIF(번호추출!$N$13:$S$13,I774)","v":0},0,0,0,0,0,0,0,{"$f":"IF(6=U774,\"1등\",IF(13=U774,\"1등\",0))","v":0},0]
[773,"2017.09.23",8,12,19,21,31,35,44,null,null,773,{"$f":"COUNTIF(번호추출!$N$13:$S$13,자료실!C775)","v":0},{"$f":"COUNTIF(번호추출!$N$13:$S$13,자료실!D775)","v":0},{"$f":"COUNTIF(번호추출!$N$13:$S$13,자료실!E775)","v":0},{"$f":"COUNTIF(번호추출!$N$13:$S$13,자료실!F775)","v":0},{"$f":"COUNTIF(번호추출!$N$13:$S$13,자료실!G775)","v":0},{"$f":"COUNTIF(번호추출!$N$13:$S$13,자료실!H775)","v":0},{"$f":"COUNTIF(번호추출!$N$13:$S$13,I775)","v":0},0,0,0,0,0,0,0,{"$f":"IF(6=U775,\"1등\",IF(13=U775,\"1등\",0))","v":0},0]
[774,"2017.09.30",12,15,18,28,34,42,9,null,null,774,{"$f":"COUNTIF(번호추출!$N$13:$S$13,자료실!C776)","v":0},{"$f":"COUNTIF(번호추출!$N$13:$S$13,자료실!D776)","v":1},{"$f":"COUNTIF(번호추출!$N$13:$S$13,자료실!E776)","v":1},{"$f":"COUNTIF(번호추출!$N$13:$S$13,자료실!F776)","v":0},{"$f":"COUNTIF(번호추출!$N$13:$S$13,자료실!G776)","v":0},{"$f":"COUNTIF(번호추출!$N$13:$S$13,자료실!H776)","v":0},{"$f":"COUNTIF(번호추출!$N$13:$S$13,I776)","v":0},2,2,"꽝","꽝",0,0,0,{"$f":"IF(6=U776,\"1등\",IF(13=U776,\"1등\",0))","v":0},0]
[775,"2017.10.07",11,12,29,33,38,42,17,null,null,775,{"$f":"COUNTIF(번호추출!$N$13:$S$13,자료실!C777)","v":0},{"$f":"COUNTIF(번호추출!$N$13:$S$13,자료실!D777)","v":0},{"$f":"COUNTIF(번호추출!$N$13:$S$13,자료실!E777)","v":0},{"$f":"COUNTIF(번호추출!$N$13:$S$13,자료실!F777)","v":1},{"$f":"COUNTIF(번호추출!$N$13:$S$13,자료실!G777)","v":0},{"$f":"COUNTIF(번호추출!$N$13:$S$13,자료실!H777)","v":0},{"$f":"COUNTIF(번호추출!$N$13:$S$13,I777)","v":0},1,1,"꽝",0,0,0,0,{"$f":"IF(6=U777,\"1등\",IF(13=U777,\"1등\",0))","v":0},0]
[776,"2017.10.14",8,9,18,21,28,40,20,null,null,776,{"$f":"COUNTIF(번호추출!$N$13:$S$13,자료실!C778)","v":0},{"$f":"COUNTIF(번호추출!$N$13:$S$13,자료실!D778)","v":0},{"$f":"COUNTIF(번호추출!$N$13:$S$13,자료실!E778)","v":1},{"$f":"COUNTIF(번호추출!$N$13:$S$13,자료실!F778)","v":0},{"$f":"COUNTIF(번호추출!$N$13:$S$13,자료실!G778)","v":0},{"$f":"COUNTIF(번호추출!$N$13:$S$13,자료실!H778)","v":0},{"$f":"COUNTIF(번호추출!$N$13:$S$13,I778)","v":0},1,1,"꽝",0,0,0,0,{"$f":"IF(6=U778,\"1등\",IF(13=U778,\"1등\",0))","v":0},0]
[777,"2017.10.21",6,12,17,21,34,37,18,null,null,777,{"$f":"COUNTIF(번호추출!$N$13:$S$13,자료실!C779)","v":0},{"$f":"COUNTIF(번호추출!$N$13:$S$13,자료실!D779)","v":0},{"$f":"COUNTIF(번호추출!$N$13:$S$13,자료실!E779)","v":0},{"$f":"COUNTIF(번호추출!$N$13:$S$13,자료실!F779)","v":0},{"$f":"COUNTIF(번호추출!$N$13:$S$13,자료실!G779)","v":0},{"$f":"COUNTIF(번호추출!$N$13:$S$13,자료실!H779)","v":0},{"$f":"COUNTIF(번호추출!$N$13:$S$13,I779)","v":1},0,1,"꽝",0,0,0,0,{"$f":"IF(6=U779,\"1등\",IF(13=U779,\"1등\",0))","v":0},0]
[778,"2017.10.28",6,21,35,36,37,41,11,null,null,778,{"$f":"COUNTIF(번호추출!$N$13:$S$13,자료실!C780)","v":0},{"$f":"COUNTIF(번호추출!$N$13:$S$13,자료실!D780)","v":0},{"$f":"COUNTIF(번호추출!$N$13:$S$13,자료실!E780)","v":0},{"$f":"COUNTIF(번호추출!$N$13:$S$13,자료실!F780)","v":0},{"$f":"COUNTIF(번호추출!$N$13:$S$13,자료실!G780)","v":0},{"$f":"COUNTIF(번호추출!$N$13:$S$13,자료실!H780)","v":0},{"$f":"COUNTIF(번호추출!$N$13:$S$13,I780)","v":0},0,0,0,0,0,0,0,{"$f":"IF(6=U780,\"1등\",IF(13=U780,\"1등\",0))","v":0},0]
[779,"2017.11.04",6,12,19,24,34,41,4,null,null,779,{"$f":"COUNTIF(번호추출!$N$13:$S$13,자료실!C781)","v":0},{"$f":"COUNTIF(번호추출!$N$13:$S$13,자료실!D781)","v":0},{"$f":"COUNTIF(번호추출!$N$13:$S$13,자료실!E781)","v":0},{"$f":"COUNTIF(번호추출!$N$13:$S$13,자료실!F781)","v":0},{"$f":"COUNTIF(번호추출!$N$13:$S$13,자료실!G781)","v":0},{"$f":"COUNTIF(번호추출!$N$13:$S$13,자료실!H781)","v":0},{"$f":"COUNTIF(번호추출!$N$13:$S$13,I781)","v":1},0,1,"꽝",0,0,0,0,{"$f":"IF(6=U781,\"1등\",IF(13=U781,\"1등\",0))","v":0},0]
[780,"2017.11.11",15,17,19,21,27,45,16,null,null,780,{"$f":"COUNTIF(번호추출!$N$13:$S$13,자료실!C782)","v":1},{"$f":"COUNTIF(번호추출!$N$13:$S$13,자료실!D782)","v":0},{"$f":"COUNTIF(번호추출!$N$13:$S$13,자료실!E782)","v":0},{"$f":"COUNTIF(번호추출!$N$13:$S$13,자료실!F782)","v":0},{"$f":"COUNTIF(번호추출!$N$13:$S$13,자료실!G782)","v":0},{"$f":"COUNTIF(번호추출!$N$13:$S$13,자료실!H782)","v":1},{"$f":"COUNTIF(번호추출!$N$13:$S$13,I782)","v":0},2,2,{"$f":"IF(1=U782,\"꽝\",IF(0<T782,\"꽝\",0))","v":"꽝"},{"$f":"IF(2=U782,\"꽝\",IF(1<T782,\"꽝\",0))","v":"꽝"},{"$f":"IF(3=U782,\"5등\",IF(2<T782,\"5등\",0))","v":0},{"$f":"IF(4=U782,\"4등\",IF(3<T782,\"4등\",0))","v":0},{"$f":"IF(5=U782,\"3등\",IF(4<T782,\"3등\",0))","v":0},{"$f":"IF(6=U782,\"1등\",IF(13=U782,\"1등\",0))","v":0},{"$f":"IF(U782=12,\"2등\",0)","v":0}]
[781,"2017.11.18",11,16,18,19,24,39,43,null,null,781,{"$f":"COUNTIF(번호추출!$N$13:$S$13,자료실!C783)","v":0},{"$f":"COUNTIF(번호추출!$N$13:$S$13,자료실!D783)","v":0},{"$f":"COUNTIF(번호추출!$N$13:$S$13,자료실!E783)","v":1},{"$f":"COUNTIF(번호추출!$N$13:$S$13,자료실!F783)","v":0},{"$f":"COUNTIF(번호추출!$N$13:$S$13,자료실!G783)","v":0},{"$f":"COUNTIF(번호추출!$N$13:$S$13,자료실!H783)","v":0},{"$f":"COUNTIF(번호추출!$N$13:$S$13,I783)","v":0},1,1,"꽝",0,0,0,0,{"$f":"IF(6=U783,\"1등\",IF(13=U783,\"1등\",0))","v":0},0]
[782,"2017.11.25",6,18,31,34,38,45,20,null,null,782,{"$f":"COUNTIF(번호추출!$N$13:$S$13,자료실!C784)","v":0},{"$f":"COUNTIF(번호추출!$N$13:$S$13,자료실!D784)","v":1},{"$f":"COUNTIF(번호추출!$N$13:$S$13,자료실!E784)","v":0},{"$f":"COUNTIF(번호추출!$N$13:$S$13,자료실!F784)","v":0},{"$f":"COUNTIF(번호추출!$N$13:$S$13,자료실!G784)","v":0},{"$f":"COUNTIF(번호추출!$N$13:$S$13,자료실!H784)","v":1},{"$f":"COUNTIF(번호추출!$N$13:$S$13,I784)","v":0},2,2,"꽝","꽝",0,0,0,{"$f":"IF(6=U784,\"1등\",IF(13=U784,\"1등\",0))","v":0},0]
[783,"2017.12.02",14,15,16,17,38,45,36,null,null,783,{"$f":"COUNTIF(번호추출!$N$13:$S$13,자료실!C785)","v":0},{"$f":"COUNTIF(번호추출!$N$13:$S$13,자료실!D785)","v":1},{"$f":"COUNTIF(번호추출!$N$13:$S$13,자료실!E785)","v":0},{"$f":"COUNTIF(번호추출!$N$13:$S$13,자료실!F785)","v":0},{"$f":"COUNTIF(번호추출!$N$13:$S$13,자료실!G785)","v":0},{"$f":"COUNTIF(번호추출!$N$13:$S$13,자료실!H785)","v":1},{"$f":"COUNTIF(번호추출!$N$13:$S$13,I785)","v":0},2,2,"꽝","꽝",0,0,0,{"$f":"IF(6=U785,\"1등\",IF(13=U785,\"1등\",0))","v":0},0]
[784,"2017.12.09",3,10,23,24,31,39,22,null,null,784,{"$f":"COUNTIF(번호추출!$N$13:$S$13,자료실!C786)","v":0},{"$f":"COUNTIF(번호추출!$N$13:$S$13,자료실!D786)","v":0},{"$f":"COUNTIF(번호추출!$N$13:$S$13,자료실!E786)","v":0},{"$f":"COUNTIF(번호추출!$N$13:$S$13,자료실!F786)","v":0},{"$f":"COUNTIF(번호추출!$N$13:$S$13,자료실!G786)","v":0},{"$f":"COUNTIF(번호추출!$N$13:$S$13,자료실!H786)","v":0},{"$f":"COUNTIF(번호추출!$N$13:$S$13,I786)","v":0},0,0,0,0,0,0,0,{"$f":"IF(6=U786,\"1등\",IF(13=U786,\"1등\",0))","v":0},0]
[785,"2017.12.16",4,6,15,25,26,33,40,null,null,785,{"$f":"COUNTIF(번호추출!$N$13:$S$13,자료실!C787)","v":1},{"$f":"COUNTIF(번호추출!$N$13:$S$13,자료실!D787)","v":0},{"$f":"COUNTIF(번호추출!$N$13:$S$13,자료실!E787)","v":1},{"$f":"COUNTIF(번호추출!$N$13:$S$13,자료실!F787)","v":1},{"$f":"COUNTIF(번호추출!$N$13:$S$13,자료실!G787)","v":0},{"$f":"COUNTIF(번호추출!$N$13:$S$13,자료실!H787)","v":1},{"$f":"COUNTIF(번호추출!$N$13:$S$13,I787)","v":0},4,4,"꽝","꽝","5등","4등",0,{"$f":"IF(6=U787,\"1등\",IF(13=U787,\"1등\",0))","v":0},0]
[786,"2017.12.23",12,15,16,20,24,30,38,null,null,786,{"$f":"COUNTIF(번호추출!$N$13:$S$13,자료실!C788)","v":0},{"$f":"COUNTIF(번호추출!$N$13:$S$13,자료실!D788)","v":1},{"$f":"COUNTIF(번호추출!$N$13:$S$13,자료실!E788)","v":0},{"$f":"COUNTIF(번호추출!$N$13:$S$13,자료실!F788)","v":0},{"$f":"COUNTIF(번호추출!$N$13:$S$13,자료실!G788)","v":0},{"$f":"COUNTIF(번호추출!$N$13:$S$13,자료실!H788)","v":0},{"$f":"COUNTIF(번호추출!$N$13:$S$13,I788)","v":0},1,1,"꽝",0,0,0,0,{"$f":"IF(6=U788,\"1등\",IF(13=U788,\"1등\",0))","v":0},0]
[787,"2017.12.30",5,6,13,16,27,28,9,null,null,787,{"$f":"COUNTIF(번호추출!$N$13:$S$13,자료실!C789)","v":0},{"$f":"COUNTIF(번호추출!$N$13:$S$13,자료실!D789)","v":0},{"$f":"COUNTIF(번호추출!$N$13:$S$13,자료실!E789)","v":0},{"$f":"COUNTIF(번호추출!$N$13:$S$13,자료실!F789)","v":0},{"$f":"COUNTIF(번호추출!$N$13:$S$13,자료실!G789)","v":0},{"$f":"COUNTIF(번호추출!$N$13:$S$13,자료실!H789)","v":0},{"$f":"COUNTIF(번호추출!$N$13:$S$13,I789)","v":0},0,0,0,0,0,0,0,{"$f":"IF(6=U789,\"1등\",IF(13=U789,\"1등\",0))","v":0},0]
[788,"2018.01.06",2,10,11,19,35,39,29,null,null,788,{"$f":"COUNTIF(번호추출!$N$13:$S$13,자료실!C790)","v":0},{"$f":"COUNTIF(번호추출!$N$13:$S$13,자료실!D790)","v":0},{"$f":"COUNTIF(번호추출!$N$13:$S$13,자료실!E790)","v":0},{"$f":"COUNTIF(번호추출!$N$13:$S$13,자료실!F790)","v":0},{"$f":"COUNTIF(번호추출!$N$13:$S$13,자료실!G790)","v":0},{"$f":"COUNTIF(번호추출!$N$13:$S$13,자료실!H790)","v":0},{"$f":"COUNTIF(번호추출!$N$13:$S$13,I790)","v":0},0,0,0,0,0,0,0,{"$f":"IF(6=U790,\"1등\",IF(13=U790,\"1등\",0))","v":0},0]
[789,"2018.01.13",2,6,7,12,19,45,38,null,null,789,{"$f":"COUNTIF(번호추출!$N$13:$S$13,자료실!C791)","v":0},{"$f":"COUNTIF(번호추출!$N$13:$S$13,자료실!D791)","v":0},{"$f":"COUNTIF(번호추출!$N$13:$S$13,자료실!E791)","v":0},{"$f":"COUNTIF(번호추출!$N$13:$S$13,자료실!F791)","v":0},{"$f":"COUNTIF(번호추출!$N$13:$S$13,자료실!G791)","v":0},{"$f":"COUNTIF(번호추출!$N$13:$S$13,자료실!H791)","v":1},{"$f":"COUNTIF(번호추출!$N$13:$S$13,I791)","v":0},1,1,"꽝",0,0,0,0,{"$f":"IF(6=U791,\"1등\",IF(13=U791,\"1등\",0))","v":0},0]
[790,"2018.01.20",3,8,19,27,30,41,12,null,null,790,{"$f":"COUNTIF(번호추출!$N$13:$S$13,자료실!C792)","v":0},{"$f":"COUNTIF(번호추출!$N$13:$S$13,자료실!D792)","v":0},{"$f":"COUNTIF(번호추출!$N$13:$S$13,자료실!E792)","v":0},{"$f":"COUNTIF(번호추출!$N$13:$S$13,자료실!F792)","v":0},{"$f":"COUNTIF(번호추출!$N$13:$S$13,자료실!G792)","v":0},{"$f":"COUNTIF(번호추출!$N$13:$S$13,자료실!H792)","v":0},{"$f":"COUNTIF(번호추출!$N$13:$S$13,I792)","v":0},0,0,0,0,0,0,0,{"$f":"IF(6=U792,\"1등\",IF(13=U792,\"1등\",0))","v":0},0]
[791,"2018.01.27",2,10,12,31,33,42,32,null,null,791,{"$f":"COUNTIF(번호추출!$N$13:$S$13,자료실!C793)","v":0},{"$f":"COUNTIF(번호추출!$N$13:$S$13,자료실!D793)","v":0},{"$f":"COUNTIF(번호추출!$N$13:$S$13,자료실!E793)","v":0},{"$f":"COUNTIF(번호추출!$N$13:$S$13,자료실!F793)","v":0},{"$f":"COUNTIF(번호추출!$N$13:$S$13,자료실!G793)","v":1},{"$f":"COUNTIF(번호추출!$N$13:$S$13,자료실!H793)","v":0},{"$f":"COUNTIF(번호추출!$N$13:$S$13,I793)","v":0},1,1,"꽝",0,0,0,0,{"$f":"IF(6=U793,\"1등\",IF(13=U793,\"1등\",0))","v":0},0]
[792,"2018.02.03",2,7,19,25,29,36,16,null,null,792,{"$f":"COUNTIF(번호추출!$N$13:$S$13,자료실!C794)","v":0},{"$f":"COUNTIF(번호추출!$N$13:$S$13,자료실!D794)","v":0},{"$f":"COUNTIF(번호추출!$N$13:$S$13,자료실!E794)","v":0},{"$f":"COUNTIF(번호추출!$N$13:$S$13,자료실!F794)","v":1},{"$f":"COUNTIF(번호추출!$N$13:$S$13,자료실!G794)","v":0},{"$f":"COUNTIF(번호추출!$N$13:$S$13,자료실!H794)","v":0},{"$f":"COUNTIF(번호추출!$N$13:$S$13,I794)","v":0},1,1,"꽝",0,0,0,0,{"$f":"IF(6=U794,\"1등\",IF(13=U794,\"1등\",0))","v":0},0]
[793,"2018.02.10",10,15,21,35,38,43,31,null,null,{"$f":"A795","v":793},{"$f":"COUNTIF(번호추출!$N$13:$S$13,자료실!C795)","v":0},{"$f":"COUNTIF(번호추출!$N$13:$S$13,자료실!D795)","v":1},{"$f":"COUNTIF(번호추출!$N$13:$S$13,자료실!E795)","v":0},{"$f":"COUNTIF(번호추출!$N$13:$S$13,자료실!F795)","v":0},{"$f":"COUNTIF(번호추출!$N$13:$S$13,자료실!G795)","v":0},{"$f":"COUNTIF(번호추출!$N$13:$S$13,자료실!H795)","v":0},{"$f":"COUNTIF(번호추출!$N$13:$S$13,I795)","v":0},{"$f":"SUM(M795:R795)","v":1},{"$f":"SUM(M795:S795)","v":1},"꽝",0,0,0,0,{"$f":"IF(6=U795,\"1등\",IF(13=U795,\"1등\",0))","v":0},0]
[794,"2018.02.17",6,7,18,19,30,38,13,null,null,794,{"$f":"COUNTIF(번호추출!$N$13:$S$13,자료실!C796)","v":0},{"$f":"COUNTIF(번호추출!$N$13:$S$13,자료실!D796)","v":0},{"$f":"COUNTIF(번호추출!$N$13:$S$13,자료실!E796)","v":1},{"$f":"COUNTIF(번호추출!$N$13:$S$13,자료실!F796)","v":0},{"$f":"COUNTIF(번호추출!$N$13:$S$13,자료실!G796)","v":0},{"$f":"COUNTIF(번호추출!$N$13:$S$13,자료실!H796)","v":0},{"$f":"COUNTIF(번호추출!$N$13:$S$13,I796)","v":0},1,1,"꽝",0,0,0,0,{"$f":"IF(6=U796,\"1등\",IF(13=U796,\"1등\",0))","v":0},0]
[795,"2018.02.24",3,10,13,26,34,38,36,null,null,795,{"$f":"COUNTIF(번호추출!$N$13:$S$13,자료실!C797)","v":0},{"$f":"COUNTIF(번호추출!$N$13:$S$13,자료실!D797)","v":0},{"$f":"COUNTIF(번호추출!$N$13:$S$13,자료실!E797)","v":0},{"$f":"COUNTIF(번호추출!$N$13:$S$13,자료실!F797)","v":0},{"$f":"COUNTIF(번호추출!$N$13:$S$13,자료실!G797)","v":0},{"$f":"COUNTIF(번호추출!$N$13:$S$13,자료실!H797)","v":0},{"$f":"COUNTIF(번호추출!$N$13:$S$13,I797)","v":0},0,0,0,0,0,0,0,{"$f":"IF(6=U797,\"1등\",IF(13=U797,\"1등\",0))","v":0},0]
[796,"2018.03.03",1,21,26,36,40,41,5,null,null,796,{"$f":"COUNTIF(번호추출!$N$13:$S$13,자료실!C798)","v":0},{"$f":"COUNTIF(번호추출!$N$13:$S$13,자료실!D798)","v":0},{"$f":"COUNTIF(번호추출!$N$13:$S$13,자료실!E798)","v":0},{"$f":"COUNTIF(번호추출!$N$13:$S$13,자료실!F798)","v":0},{"$f":"COUNTIF(번호추출!$N$13:$S$13,자료실!G798)","v":0},{"$f":"COUNTIF(번호추출!$N$13:$S$13,자료실!H798)","v":0},{"$f":"COUNTIF(번호추출!$N$13:$S$13,I798)","v":0},0,0,0,0,0,0,0,{"$f":"IF(6=U798,\"1등\",IF(13=U798,\"1등\",0))","v":0},0]
[797,"2018.03.10",5,22,31,32,39,45,36,null,null,797,{"$f":"COUNTIF(번호추출!$N$13:$S$13,자료실!C799)","v":0},{"$f":"COUNTIF(번호추출!$N$13:$S$13,자료실!D799)","v":0},{"$f":"COUNTIF(번호추출!$N$13:$S$13,자료실!E799)","v":0},{"$f":"COUNTIF(번호추출!$N$13:$S$13,자료실!F799)","v":0},{"$f":"COUNTIF(번호추출!$N$13:$S$13,자료실!G799)","v":0},{"$f":"COUNTIF(번호추출!$N$13:$S$13,자료실!H799)","v":1},{"$f":"COUNTIF(번호추출!$N$13:$S$13,I799)","v":0},1,1,"꽝",0,0,0,0,{"$f":"IF(6=U799,\"1등\",IF(13=U799,\"1등\",0))","v":0},0]
[798,"2018.03.17",2,10,14,22,32,36,41,null,null,798,{"$f":"COUNTIF(번호추출!$N$13:$S$13,자료실!C800)","v":0},{"$f":"COUNTIF(번호추출!$N$13:$S$13,자료실!D800)","v":0},{"$f":"COUNTIF(번호추출!$N$13:$S$13,자료실!E800)","v":0},{"$f":"COUNTIF(번호추출!$N$13:$S$13,자료실!F800)","v":0},{"$f":"COUNTIF(번호추출!$N$13:$S$13,자료실!G800)","v":0},{"$f":"COUNTIF(번호추출!$N$13:$S$13,자료실!H800)","v":0},{"$f":"COUNTIF(번호추출!$N$13:$S$13,I800)","v":0},0,0,0,0,0,0,0,{"$f":"IF(6=U800,\"1등\",IF(13=U800,\"1등\",0))","v":0},0]
[799,"2018.03.24",12,17,23,34,42,45,33,null,null,799,{"$f":"COUNTIF(번호추출!$N$13:$S$13,자료실!C801)","v":0},{"$f":"COUNTIF(번호추출!$N$13:$S$13,자료실!D801)","v":0},{"$f":"COUNTIF(번호추출!$N$13:$S$13,자료실!E801)","v":0},{"$f":"COUNTIF(번호추출!$N$13:$S$13,자료실!F801)","v":0},{"$f":"COUNTIF(번호추출!$N$13:$S$13,자료실!G801)","v":0},{"$f":"COUNTIF(번호추출!$N$13:$S$13,자료실!H801)","v":1},{"$f":"COUNTIF(번호추출!$N$13:$S$13,I801)","v":1},1,2,"꽝","꽝",0,0,0,{"$f":"IF(6=U801,\"1등\",IF(13=U801,\"1등\",0))","v":0},0]
[800,"2018.03.31",1,4,10,12,28,45,26,null,null,800,{"$f":"COUNTIF(번호추출!$N$13:$S$13,자료실!C802)","v":0},{"$f":"COUNTIF(번호추출!$N$13:$S$13,자료실!D802)","v":1},{"$f":"COUNTIF(번호추출!$N$13:$S$13,자료실!E802)","v":0},{"$f":"COUNTIF(번호추출!$N$13:$S$13,자료실!F802)","v":0},{"$f":"COUNTIF(번호추출!$N$13:$S$13,자료실!G802)","v":0},{"$f":"COUNTIF(번호추출!$N$13:$S$13,자료실!H802)","v":1},{"$f":"COUNTIF(번호추출!$N$13:$S$13,I802)","v":0},2,2,"꽝","꽝",0,0,0,{"$f":"IF(6=U802,\"1등\",IF(13=U802,\"1등\",0))","v":0},0]
[801,"2018.04.07",17,25,28,37,43,44,2,null,null,801,{"$f":"COUNTIF(번호추출!$N$13:$S$13,자료실!C803)","v":0},{"$f":"COUNTIF(번호추출!$N$13:$S$13,자료실!D803)","v":1},{"$f":"COUNTIF(번호추출!$N$13:$S$13,자료실!E803)","v":0},{"$f":"COUNTIF(번호추출!$N$13:$S$13,자료실!F803)","v":0},{"$f":"COUNTIF(번호추출!$N$13:$S$13,자료실!G803)","v":0},{"$f":"COUNTIF(번호추출!$N$13:$S$13,자료실!H803)","v":0},{"$f":"COUNTIF(번호추출!$N$13:$S$13,I803)","v":0},1,1,"꽝",0,0,0,0,{"$f":"IF(6=U803,\"1등\",IF(13=U803,\"1등\",0))","v":0},0]
[802,"2018.04.14",10,11,12,18,24,42,27,null,null,802,{"$f":"COUNTIF(번호추출!$N$13:$S$13,자료실!C804)","v":0},{"$f":"COUNTIF(번호추출!$N$13:$S$13,자료실!D804)","v":0},{"$f":"COUNTIF(번호추출!$N$13:$S$13,자료실!E804)","v":0},{"$f":"COUNTIF(번호추출!$N$13:$S$13,자료실!F804)","v":1},{"$f":"COUNTIF(번호추출!$N$13:$S$13,자료실!G804)","v":0},{"$f":"COUNTIF(번호추출!$N$13:$S$13,자료실!H804)","v":0},{"$f":"COUNTIF(번호추출!$N$13:$S$13,I804)","v":0},1,1,"꽝",0,0,0,0,{"$f":"IF(6=U804,\"1등\",IF(13=U804,\"1등\",0))","v":0},0]
[803,"2018.04.21",5,9,14,26,30,43,2,null,null,803,{"$f":"COUNTIF(번호추출!$N$13:$S$13,자료실!C805)","v":0},{"$f":"COUNTIF(번호추출!$N$13:$S$13,자료실!D805)","v":0},{"$f":"COUNTIF(번호추출!$N$13:$S$13,자료실!E805)","v":0},{"$f":"COUNTIF(번호추출!$N$13:$S$13,자료실!F805)","v":0},{"$f":"COUNTIF(번호추출!$N$13:$S$13,자료실!G805)","v":0},{"$f":"COUNTIF(번호추출!$N$13:$S$13,자료실!H805)","v":0},{"$f":"COUNTIF(번호추출!$N$13:$S$13,I805)","v":0},0,0,0,0,0,0,0,{"$f":"IF(6=U805,\"1등\",IF(13=U805,\"1등\",0))","v":0},0]
[804,"2018.04.28",1,10,13,26,32,36,9,null,null,804,{"$f":"COUNTIF(번호추출!$N$13:$S$13,자료실!C806)","v":0},{"$f":"COUNTIF(번호추출!$N$13:$S$13,자료실!D806)","v":0},{"$f":"COUNTIF(번호추출!$N$13:$S$13,자료실!E806)","v":0},{"$f":"COUNTIF(번호추출!$N$13:$S$13,자료실!F806)","v":0},{"$f":"COUNTIF(번호추출!$N$13:$S$13,자료실!G806)","v":0},{"$f":"COUNTIF(번호추출!$N$13:$S$13,자료실!H806)","v":0},{"$f":"COUNTIF(번호추출!$N$13:$S$13,I806)","v":0},0,0,0,0,0,0,0,{"$f":"IF(6=U806,\"1등\",IF(13=U806,\"1등\",0))","v":0},0]
[805,"2018.05.05",3,12,13,18,31,32,42,null,null,805,{"$f":"COUNTIF(번호추출!$N$13:$S$13,자료실!C807)","v":0},{"$f":"COUNTIF(번호추출!$N$13:$S$13,자료실!D807)","v":0},{"$f":"COUNTIF(번호추출!$N$13:$S$13,자료실!E807)","v":0},{"$f":"COUNTIF(번호추출!$N$13:$S$13,자료실!F807)","v":1},{"$f":"COUNTIF(번호추출!$N$13:$S$13,자료실!G807)","v":0},{"$f":"COUNTIF(번호추출!$N$13:$S$13,자료실!H807)","v":0},{"$f":"COUNTIF(번호추출!$N$13:$S$13,I807)","v":0},1,1,"꽝",0,0,0,0,{"$f":"IF(6=U807,\"1등\",IF(13=U807,\"1등\",0))","v":0},0]
[806,"2018.05.12",14,20,23,31,37,38,27,null,null,806,{"$f":"COUNTIF(번호추출!$N$13:$S$13,자료실!C808)","v":0},{"$f":"COUNTIF(번호추출!$N$13:$S$13,자료실!D808)","v":0},{"$f":"COUNTIF(번호추출!$N$13:$S$13,자료실!E808)","v":0},{"$f":"COUNTIF(번호추출!$N$13:$S$13,자료실!F808)","v":0},{"$f":"COUNTIF(번호추출!$N$13:$S$13,자료실!G808)","v":0},{"$f":"COUNTIF(번호추출!$N$13:$S$13,자료실!H808)","v":0},{"$f":"COUNTIF(번호추출!$N$13:$S$13,I808)","v":0},0,0,0,0,0,0,0,{"$f":"IF(6=U808,\"1등\",IF(13=U808,\"1등\",0))","v":0},0]
[807,"2018.05.19",6,10,18,25,34,35,33,null,null,807,{"$f":"COUNTIF(번호추출!$N$13:$S$13,자료실!C809)","v":0},{"$f":"COUNTIF(번호추출!$N$13:$S$13,자료실!D809)","v":0},{"$f":"COUNTIF(번호추출!$N$13:$S$13,자료실!E809)","v":1},{"$f":"COUNTIF(번호추출!$N$13:$S$13,자료실!F809)","v":1},{"$f":"COUNTIF(번호추출!$N$13:$S$13,자료실!G809)","v":0},{"$f":"COUNTIF(번호추출!$N$13:$S$13,자료실!H809)","v":0},{"$f":"COUNTIF(번호추출!$N$13:$S$13,I809)","v":1},2,3,"꽝","꽝","5등",0,0,{"$f":"IF(6=U809,\"1등\",IF(13=U809,\"1등\",0))","v":0},0]
[808,"2018.05.26",15,21,31,32,41,43,24,null,null,808,{"$f":"COUNTIF(번호추출!$N$13:$S$13,자료실!C810)","v":1},{"$f":"COUNTIF(번호추출!$N$13:$S$13,자료실!D810)","v":0},{"$f":"COUNTIF(번호추출!$N$13:$S$13,자료실!E810)","v":0},{"$f":"COUNTIF(번호추출!$N$13:$S$13,자료실!F810)","v":0},{"$f":"COUNTIF(번호추출!$N$13:$S$13,자료실!G810)","v":0},{"$f":"COUNTIF(번호추출!$N$13:$S$13,자료실!H810)","v":0},{"$f":"COUNTIF(번호추출!$N$13:$S$13,I810)","v":0},1,1,"꽝",0,0,0,0,{"$f":"IF(6=U810,\"1등\",IF(13=U810,\"1등\",0))","v":0},0]
[809,"2018.06.02",6,11,15,17,23,40,39,null,null,809,{"$f":"COUNTIF(번호추출!$N$13:$S$13,자료실!C811)","v":0},{"$f":"COUNTIF(번호추출!$N$13:$S$13,자료실!D811)","v":0},{"$f":"COUNTIF(번호추출!$N$13:$S$13,자료실!E811)","v":1},{"$f":"COUNTIF(번호추출!$N$13:$S$13,자료실!F811)","v":0},{"$f":"COUNTIF(번호추출!$N$13:$S$13,자료실!G811)","v":0},{"$f":"COUNTIF(번호추출!$N$13:$S$13,자료실!H811)","v":0},{"$f":"COUNTIF(번호추출!$N$13:$S$13,I811)","v":0},1,1,"꽝",0,0,0,0,{"$f":"IF(6=U811,\"1등\",IF(13=U811,\"1등\",0))","v":0},0]
[810,"2018.06.09",5,10,13,21,39,43,11,null,null,810,{"$f":"COUNTIF(번호추출!$N$13:$S$13,자료실!C812)","v":0},{"$f":"COUNTIF(번호추출!$N$13:$S$13,자료실!D812)","v":0},{"$f":"COUNTIF(번호추출!$N$13:$S$13,자료실!E812)","v":0},{"$f":"COUNTIF(번호추출!$N$13:$S$13,자료실!F812)","v":0},{"$f":"COUNTIF(번호추출!$N$13:$S$13,자료실!G812)","v":0},{"$f":"COUNTIF(번호추출!$N$13:$S$13,자료실!H812)","v":0},{"$f":"COUNTIF(번호추출!$N$13:$S$13,I812)","v":0},0,0,0,0,0,0,0,{"$f":"IF(6=U812,\"1등\",IF(13=U812,\"1등\",0))","v":0},0]
[811,"2018.06.16",8,11,19,21,36,45,25,null,null,811,{"$f":"COUNTIF(번호추출!$N$13:$S$13,자료실!C813)","v":0},{"$f":"COUNTIF(번호추출!$N$13:$S$13,자료실!D813)","v":0},{"$f":"COUNTIF(번호추출!$N$13:$S$13,자료실!E813)","v":0},{"$f":"COUNTIF(번호추출!$N$13:$S$13,자료실!F813)","v":0},{"$f":"COUNTIF(번호추출!$N$13:$S$13,자료실!G813)","v":0},{"$f":"COUNTIF(번호추출!$N$13:$S$13,자료실!H813)","v":1},{"$f":"COUNTIF(번호추출!$N$13:$S$13,I813)","v":1},1,2,"꽝","꽝",0,0,0,{"$f":"IF(6=U813,\"1등\",IF(13=U813,\"1등\",0))","v":0},0]
[812,"2018.06.23",1,3,12,14,16,43,10,null,null,812,{"$f":"COUNTIF(번호추출!$N$13:$S$13,자료실!C814)","v":0},{"$f":"COUNTIF(번호추출!$N$13:$S$13,자료실!D814)","v":0},{"$f":"COUNTIF(번호추출!$N$13:$S$13,자료실!E814)","v":0},{"$f":"COUNTIF(번호추출!$N$13:$S$13,자료실!F814)","v":0},{"$f":"COUNTIF(번호추출!$N$13:$S$13,자료실!G814)","v":0},{"$f":"COUNTIF(번호추출!$N$13:$S$13,자료실!H814)","v":0},{"$f":"COUNTIF(번호추출!$N$13:$S$13,I814)","v":0},0,0,0,0,0,0,0,{"$f":"IF(6=U814,\"1등\",IF(13=U814,\"1등\",0))","v":0},0]
[813,"2018.06.30",11,30,34,35,42,44,27,null,null,813,{"$f":"COUNTIF(번호추출!$N$13:$S$13,자료실!C815)","v":0},{"$f":"COUNTIF(번호추출!$N$13:$S$13,자료실!D815)","v":0},{"$f":"COUNTIF(번호추출!$N$13:$S$13,자료실!E815)","v":0},{"$f":"COUNTIF(번호추출!$N$13:$S$13,자료실!F815)","v":0},{"$f":"COUNTIF(번호추출!$N$13:$S$13,자료실!G815)","v":0},{"$f":"COUNTIF(번호추출!$N$13:$S$13,자료실!H815)","v":0},{"$f":"COUNTIF(번호추출!$N$13:$S$13,I815)","v":0},0,0,0,0,0,0,0,{"$f":"IF(6=U815,\"1등\",IF(13=U815,\"1등\",0))","v":0},0]
[814,"2018.07.07",2,21,28,38,42,45,30,null,null,814,{"$f":"COUNTIF(번호추출!$N$13:$S$13,자료실!C816)","v":0},{"$f":"COUNTIF(번호추출!$N$13:$S$13,자료실!D816)","v":0},{"$f":"COUNTIF(번호추출!$N$13:$S$13,자료실!E816)","v":0},{"$f":"COUNTIF(번호추출!$N$13:$S$13,자료실!F816)","v":0},{"$f":"COUNTIF(번호추출!$N$13:$S$13,자료실!G816)","v":0},{"$f":"COUNTIF(번호추출!$N$13:$S$13,자료실!H816)","v":1},{"$f":"COUNTIF(번호추출!$N$13:$S$13,I816)","v":0},1,1,"꽝",0,0,0,0,{"$f":"IF(6=U816,\"1등\",IF(13=U816,\"1등\",0))","v":0},0]
[815,"2018.07.14",17,21,25,26,27,36,4,null,null,815,{"$f":"COUNTIF(번호추출!$N$13:$S$13,자료실!C817)","v":0},{"$f":"COUNTIF(번호추출!$N$13:$S$13,자료실!D817)","v":0},{"$f":"COUNTIF(번호추출!$N$13:$S$13,자료실!E817)","v":1},{"$f":"COUNTIF(번호추출!$N$13:$S$13,자료실!F817)","v":0},{"$f":"COUNTIF(번호추출!$N$13:$S$13,자료실!G817)","v":0},{"$f":"COUNTIF(번호추출!$N$13:$S$13,자료실!H817)","v":0},{"$f":"COUNTIF(번호추출!$N$13:$S$13,I817)","v":1},1,2,"꽝","꽝",0,0,0,{"$f":"IF(6=U817,\"1등\",IF(13=U817,\"1등\",0))","v":0},0]
[816,"2018.07.21",12,18,19,29,31,39,7,null,null,816,{"$f":"COUNTIF(번호추출!$N$13:$S$13,자료실!C818)","v":0},{"$f":"COUNTIF(번호추출!$N$13:$S$13,자료실!D818)","v":1},{"$f":"COUNTIF(번호추출!$N$13:$S$13,자료실!E818)","v":0},{"$f":"COUNTIF(번호추출!$N$13:$S$13,자료실!F818)","v":0},{"$f":"COUNTIF(번호추출!$N$13:$S$13,자료실!G818)","v":0},{"$f":"COUNTIF(번호추출!$N$13:$S$13,자료실!H818)","v":0},{"$f":"COUNTIF(번호추출!$N$13:$S$13,I818)","v":0},1,1,"꽝",0,0,0,0,{"$f":"IF(6=U818,\"1등\",IF(13=U818,\"1등\",0))","v":0},0]
[817,"2018.07.28",3,9,12,13,25,43,34,null,null,817,{"$f":"COUNTIF(번호추출!$N$13:$S$13,자료실!C819)","v":0},{"$f":"COUNTIF(번호추출!$N$13:$S$13,자료실!D819)","v":0},{"$f":"COUNTIF(번호추출!$N$13:$S$13,자료실!E819)","v":0},{"$f":"COUNTIF(번호추출!$N$13:$S$13,자료실!F819)","v":0},{"$f":"COUNTIF(번호추출!$N$13:$S$13,자료실!G819)","v":1},{"$f":"COUNTIF(번호추출!$N$13:$S$13,자료실!H819)","v":0},{"$f":"COUNTIF(번호추출!$N$13:$S$13,I819)","v":0},1,1,"꽝",0,0,0,0,{"$f":"IF(6=U819,\"1등\",IF(13=U819,\"1등\",0))","v":0},0]
[818,"2018.08.04",14,15,25,28,29,30,3,null,null,818,{"$f":"COUNTIF(번호추출!$N$13:$S$13,자료실!C820)","v":0},{"$f":"COUNTIF(번호추출!$N$13:$S$13,자료실!D820)","v":1},{"$f":"COUNTIF(번호추출!$N$13:$S$13,자료실!E820)","v":1},{"$f":"COUNTIF(번호추출!$N$13:$S$13,자료실!F820)","v":0},{"$f":"COUNTIF(번호추출!$N$13:$S$13,자료실!G820)","v":0},{"$f":"COUNTIF(번호추출!$N$13:$S$13,자료실!H820)","v":0},{"$f":"COUNTIF(번호추출!$N$13:$S$13,I820)","v":0},2,2,"꽝","꽝",0,0,0,{"$f":"IF(6=U820,\"1등\",IF(13=U820,\"1등\",0))","v":0},0]
[819,"2018.08.11",16,25,33,38,40,45,15,null,null,819,{"$f":"COUNTIF(번호추출!$N$13:$S$13,자료실!C821)","v":0},{"$f":"COUNTIF(번호추출!$N$13:$S$13,자료실!D821)","v":1},{"$f":"COUNTIF(번호추출!$N$13:$S$13,자료실!E821)","v":1},{"$f":"COUNTIF(번호추출!$N$13:$S$13,자료실!F821)","v":0},{"$f":"COUNTIF(번호추출!$N$13:$S$13,자료실!G821)","v":0},{"$f":"COUNTIF(번호추출!$N$13:$S$13,자료실!H821)","v":1},{"$f":"COUNTIF(번호추출!$N$13:$S$13,I821)","v":1},3,4,"꽝","꽝","5등","4등",0,{"$f":"IF(6=U821,\"1등\",IF(13=U821,\"1등\",0))","v":0},0]
[820,"2018.08.18",10,21,22,30,35,42,6,null,null,820,{"$f":"COUNTIF(번호추출!$N$13:$S$13,자료실!C822)","v":0},{"$f":"COUNTIF(번호추출!$N$13:$S$13,자료실!D822)","v":0},{"$f":"COUNTIF(번호추출!$N$13:$S$13,자료실!E822)","v":0},{"$f":"COUNTIF(번호추출!$N$13:$S$13,자료실!F822)","v":0},{"$f":"COUNTIF(번호추출!$N$13:$S$13,자료실!G822)","v":0},{"$f":"COUNTIF(번호추출!$N$13:$S$13,자료실!H822)","v":0},{"$f":"COUNTIF(번호추출!$N$13:$S$13,I822)","v":0},0,0,0,0,0,0,0,{"$f":"IF(6=U822,\"1등\",IF(13=U822,\"1등\",0))","v":0},0]
[821,"2018.08.25",1,12,13,24,29,44,16,null,null,821,{"$f":"COUNTIF(번호추출!$N$13:$S$13,자료실!C823)","v":0},{"$f":"COUNTIF(번호추출!$N$13:$S$13,자료실!D823)","v":0},{"$f":"COUNTIF(번호추출!$N$13:$S$13,자료실!E823)","v":0},{"$f":"COUNTIF(번호추출!$N$13:$S$13,자료실!F823)","v":0},{"$f":"COUNTIF(번호추출!$N$13:$S$13,자료실!G823)","v":0},{"$f":"COUNTIF(번호추출!$N$13:$S$13,자료실!H823)","v":0},{"$f":"COUNTIF(번호추출!$N$13:$S$13,I823)","v":0},0,0,0,0,0,0,0,{"$f":"IF(6=U823,\"1등\",IF(13=U823,\"1등\",0))","v":0},0]
[822,"2018.09.01",9,18,20,24,27,36,12,null,null,822,{"$f":"COUNTIF(번호추출!$N$13:$S$13,자료실!C824)","v":0},{"$f":"COUNTIF(번호추출!$N$13:$S$13,자료실!D824)","v":1},{"$f":"COUNTIF(번호추출!$N$13:$S$13,자료실!E824)","v":0},{"$f":"COUNTIF(번호추출!$N$13:$S$13,자료실!F824)","v":0},{"$f":"COUNTIF(번호추출!$N$13:$S$13,자료실!G824)","v":0},{"$f":"COUNTIF(번호추출!$N$13:$S$13,자료실!H824)","v":0},{"$f":"COUNTIF(번호추출!$N$13:$S$13,I824)","v":0},1,1,"꽝",0,0,0,0,{"$f":"IF(6=U824,\"1등\",IF(13=U824,\"1등\",0))","v":0},0]
[823,"2018.09.08",12,18,24,26,39,40,15,null,null,823,{"$f":"COUNTIF(번호추출!$N$13:$S$13,자료실!C825)","v":0},{"$f":"COUNTIF(번호추출!$N$13:$S$13,자료실!D825)","v":1},{"$f":"COUNTIF(번호추출!$N$13:$S$13,자료실!E825)","v":0},{"$f":"COUNTIF(번호추출!$N$13:$S$13,자료실!F825)","v":0},{"$f":"COUNTIF(번호추출!$N$13:$S$13,자료실!G825)","v":0},{"$f":"COUNTIF(번호추출!$N$13:$S$13,자료실!H825)","v":0},{"$f":"COUNTIF(번호추출!$N$13:$S$13,I825)","v":1},1,2,"꽝","꽝",0,0,0,{"$f":"IF(6=U825,\"1등\",IF(13=U825,\"1등\",0))","v":0},0]
[824,"2018.09.15",7,9,24,29,34,38,26,null,null,824,{"$f":"COUNTIF(번호추출!$N$13:$S$13,자료실!C826)","v":0},{"$f":"COUNTIF(번호추출!$N$13:$S$13,자료실!D826)","v":0},{"$f":"COUNTIF(번호추출!$N$13:$S$13,자료실!E826)","v":0},{"$f":"COUNTIF(번호추출!$N$13:$S$13,자료실!F826)","v":0},{"$f":"COUNTIF(번호추출!$N$13:$S$13,자료실!G826)","v":0},{"$f":"COUNTIF(번호추출!$N$13:$S$13,자료실!H826)","v":0},{"$f":"COUNTIF(번호추출!$N$13:$S$13,I826)","v":0},0,0,0,0,0,0,0,{"$f":"IF(6=U826,\"1등\",IF(13=U826,\"1등\",0))","v":0},0]
[825,"2018.09.22",8,15,21,31,33,38,42,null,null,825,{"$f":"COUNTIF(번호추출!$N$13:$S$13,자료실!C827)","v":0},{"$f":"COUNTIF(번호추출!$N$13:$S$13,자료실!D827)","v":1},{"$f":"COUNTIF(번호추출!$N$13:$S$13,자료실!E827)","v":0},{"$f":"COUNTIF(번호추출!$N$13:$S$13,자료실!F827)","v":0},{"$f":"COUNTIF(번호추출!$N$13:$S$13,자료실!G827)","v":1},{"$f":"COUNTIF(번호추출!$N$13:$S$13,자료실!H827)","v":0},{"$f":"COUNTIF(번호추출!$N$13:$S$13,I827)","v":0},2,2,"꽝","꽝",0,0,0,{"$f":"IF(6=U827,\"1등\",IF(13=U827,\"1등\",0))","v":0},0]
[826,"2018.09.29",13,16,24,25,33,36,42,null,null,826,{"$f":"COUNTIF(번호추출!$N$13:$S$13,자료실!C828)","v":0},{"$f":"COUNTIF(번호추출!$N$13:$S$13,자료실!D828)","v":0},{"$f":"COUNTIF(번호추출!$N$13:$S$13,자료실!E828)","v":0},{"$f":"COUNTIF(번호추출!$N$13:$S$13,자료실!F828)","v":1},{"$f":"COUNTIF(번호추출!$N$13:$S$13,자료실!G828)","v":1},{"$f":"COUNTIF(번호추출!$N$13:$S$13,자료실!H828)","v":0},{"$f":"COUNTIF(번호추출!$N$13:$S$13,I828)","v":0},2,2,"꽝","꽝",0,0,0,{"$f":"IF(6=U828,\"1등\",IF(13=U828,\"1등\",0))","v":0},0]
[827,"2018.10.06",5,11,12,29,33,44,14,null,null,827,{"$f":"COUNTIF(번호추출!$N$13:$S$13,자료실!C829)","v":0},{"$f":"COUNTIF(번호추출!$N$13:$S$13,자료실!D829)","v":0},{"$f":"COUNTIF(번호추출!$N$13:$S$13,자료실!E829)","v":0},{"$f":"COUNTIF(번호추출!$N$13:$S$13,자료실!F829)","v":0},{"$f":"COUNTIF(번호추출!$N$13:$S$13,자료실!G829)","v":1},{"$f":"COUNTIF(번호추출!$N$13:$S$13,자료실!H829)","v":0},{"$f":"COUNTIF(번호추출!$N$13:$S$13,I829)","v":0},1,1,"꽝",0,0,0,0,{"$f":"IF(6=U829,\"1등\",IF(13=U829,\"1등\",0))","v":0},0]
[828,"2018.10.13",4,7,13,29,31,39,18,null,null,828,{"$f":"COUNTIF(번호추출!$N$13:$S$13,자료실!C830)","v":1},{"$f":"COUNTIF(번호추출!$N$13:$S$13,자료실!D830)","v":0},{"$f":"COUNTIF(번호추출!$N$13:$S$13,자료실!E830)","v":0},{"$f":"COUNTIF(번호추출!$N$13:$S$13,자료실!F830)","v":0},{"$f":"COUNTIF(번호추출!$N$13:$S$13,자료실!G830)","v":0},{"$f":"COUNTIF(번호추출!$N$13:$S$13,자료실!H830)","v":0},{"$f":"COUNTIF(번호추출!$N$13:$S$13,I830)","v":1},1,2,"꽝","꽝",0,0,0,{"$f":"IF(6=U830,\"1등\",IF(13=U830,\"1등\",0))","v":0},0]
[829,"2018.10.20",4,5,31,35,43,45,29,null,null,829,{"$f":"COUNTIF(번호추출!$N$13:$S$13,자료실!C831)","v":1},{"$f":"COUNTIF(번호추출!$N$13:$S$13,자료실!D831)","v":0},{"$f":"COUNTIF(번호추출!$N$13:$S$13,자료실!E831)","v":0},{"$f":"COUNTIF(번호추출!$N$13:$S$13,자료실!F831)","v":0},{"$f":"COUNTIF(번호추출!$N$13:$S$13,자료실!G831)","v":0},{"$f":"COUNTIF(번호추출!$N$13:$S$13,자료실!H831)","v":1},{"$f":"COUNTIF(번호추출!$N$13:$S$13,I831)","v":0},2,2,"꽝","꽝",0,0,0,{"$f":"IF(6=U831,\"1등\",IF(13=U831,\"1등\",0))","v":0},0]
[830,"2018.10.27",5,6,16,18,37,38,17,null,null,830,{"$f":"COUNTIF(번호추출!$N$13:$S$13,자료실!C832)","v":0},{"$f":"COUNTIF(번호추출!$N$13:$S$13,자료실!D832)","v":0},{"$f":"COUNTIF(번호추출!$N$13:$S$13,자료실!E832)","v":0},{"$f":"COUNTIF(번호추출!$N$13:$S$13,자료실!F832)","v":1},{"$f":"COUNTIF(번호추출!$N$13:$S$13,자료실!G832)","v":0},{"$f":"COUNTIF(번호추출!$N$13:$S$13,자료실!H832)","v":0},{"$f":"COUNTIF(번호추출!$N$13:$S$13,I832)","v":0},1,1,"꽝",0,0,0,0,{"$f":"IF(6=U832,\"1등\",IF(13=U832,\"1등\",0))","v":0},0]
[831,"2018.11.03",3,10,16,19,31,39,9,null,null,831,{"$f":"COUNTIF(번호추출!$N$13:$S$13,자료실!C833)","v":0},{"$f":"COUNTIF(번호추출!$N$13:$S$13,자료실!D833)","v":0},{"$f":"COUNTIF(번호추출!$N$13:$S$13,자료실!E833)","v":0},{"$f":"COUNTIF(번호추출!$N$13:$S$13,자료실!F833)","v":0},{"$f":"COUNTIF(번호추출!$N$13:$S$13,자료실!G833)","v":0},{"$f":"COUNTIF(번호추출!$N$13:$S$13,자료실!H833)","v":0},{"$f":"COUNTIF(번호추출!$N$13:$S$13,I833)","v":0},0,0,0,0,0,0,0,{"$f":"IF(6=U833,\"1등\",IF(13=U833,\"1등\",0))","v":0},0]
[832,"2018.11.10",13,14,19,26,40,43,30,null,null,832,{"$f":"COUNTIF(번호추출!$N$13:$S$13,자료실!C834)","v":0},{"$f":"COUNTIF(번호추출!$N$13:$S$13,자료실!D834)","v":0},{"$f":"COUNTIF(번호추출!$N$13:$S$13,자료실!E834)","v":0},{"$f":"COUNTIF(번호추출!$N$13:$S$13,자료실!F834)","v":0},{"$f":"COUNTIF(번호추출!$N$13:$S$13,자료실!G834)","v":0},{"$f":"COUNTIF(번호추출!$N$13:$S$13,자료실!H834)","v":0},{"$f":"COUNTIF(번호추출!$N$13:$S$13,I834)","v":0},0,0,0,0,0,0,0,{"$f":"IF(6=U834,\"1등\",IF(13=U834,\"1등\",0))","v":0},0]
[833,"2018.11.17",12,18,30,39,41,42,19,null,null,833,{"$f":"COUNTIF(번호추출!$N$13:$S$13,자료실!C835)","v":0},{"$f":"COUNTIF(번호추출!$N$13:$S$13,자료실!D835)","v":1},{"$f":"COUNTIF(번호추출!$N$13:$S$13,자료실!E835)","v":0},{"$f":"COUNTIF(번호추출!$N$13:$S$13,자료실!F835)","v":0},{"$f":"COUNTIF(번호추출!$N$13:$S$13,자료실!G835)","v":0},{"$f":"COUNTIF(번호추출!$N$13:$S$13,자료실!H835)","v":0},{"$f":"COUNTIF(번호추출!$N$13:$S$13,I835)","v":0},1,1,"꽝",0,0,0,0,{"$f":"IF(6=U835,\"1등\",IF(13=U835,\"1등\",0))","v":0},0]
[834,"2018.11.24",6,8,18,35,42,43,3,null,null,834,{"$f":"COUNTIF(번호추출!$N$13:$S$13,자료실!C836)","v":0},{"$f":"COUNTIF(번호추출!$N$13:$S$13,자료실!D836)","v":0},{"$f":"COUNTIF(번호추출!$N$13:$S$13,자료실!E836)","v":1},{"$f":"COUNTIF(번호추출!$N$13:$S$13,자료실!F836)","v":0},{"$f":"COUNTIF(번호추출!$N$13:$S$13,자료실!G836)","v":0},{"$f":"COUNTIF(번호추출!$N$13:$S$13,자료실!H836)","v":0},{"$f":"COUNTIF(번호추출!$N$13:$S$13,I836)","v":0},1,1,"꽝",0,0,0,0,{"$f":"IF(6=U836,\"1등\",IF(13=U836,\"1등\",0))","v":0},0]
[835,"2018.12.01",9,10,13,28,38,45,35,null,null,835,{"$f":"COUNTIF(번호추출!$N$13:$S$13,자료실!C837)","v":0},{"$f":"COUNTIF(번호추출!$N$13:$S$13,자료실!D837)","v":0},{"$f":"COUNTIF(번호추출!$N$13:$S$13,자료실!E837)","v":0},{"$f":"COUNTIF(번호추출!$N$13:$S$13,자료실!F837)","v":0},{"$f":"COUNTIF(번호추출!$N$13:$S$13,자료실!G837)","v":0},{"$f":"COUNTIF(번호추출!$N$13:$S$13,자료실!H837)","v":1},{"$f":"COUNTIF(번호추출!$N$13:$S$13,I837)","v":0},1,1,"꽝",0,0,0,0,{"$f":"IF(6=U837,\"1등\",IF(13=U837,\"1등\",0))","v":0},0]
[836,"2018.12.08",1,9,11,14,26,28,19,null,null,836,{"$f":"COUNTIF(번호추출!$N$13:$S$13,자료실!C838)","v":0},{"$f":"COUNTIF(번호추출!$N$13:$S$13,자료실!D838)","v":0},{"$f":"COUNTIF(번호추출!$N$13:$S$13,자료실!E838)","v":0},{"$f":"COUNTIF(번호추출!$N$13:$S$13,자료실!F838)","v":0},{"$f":"COUNTIF(번호추출!$N$13:$S$13,자료실!G838)","v":0},{"$f":"COUNTIF(번호추출!$N$13:$S$13,자료실!H838)","v":0},{"$f":"COUNTIF(번호추출!$N$13:$S$13,I838)","v":0},0,0,0,0,0,0,0,{"$f":"IF(6=U838,\"1등\",IF(13=U838,\"1등\",0))","v":0},0]
[837,"2018.12.15",2,25,28,30,33,45,6,null,null,837,{"$f":"COUNTIF(번호추출!$N$13:$S$13,자료실!C839)","v":0},{"$f":"COUNTIF(번호추출!$N$13:$S$13,자료실!D839)","v":1},{"$f":"COUNTIF(번호추출!$N$13:$S$13,자료실!E839)","v":0},{"$f":"COUNTIF(번호추출!$N$13:$S$13,자료실!F839)","v":0},{"$f":"COUNTIF(번호추출!$N$13:$S$13,자료실!G839)","v":1},{"$f":"COUNTIF(번호추출!$N$13:$S$13,자료실!H839)","v":1},{"$f":"COUNTIF(번호추출!$N$13:$S$13,I839)","v":0},3,3,"꽝","꽝","5등",0,0,{"$f":"IF(6=U839,\"1등\",IF(13=U839,\"1등\",0))","v":0},0]
[838,"2018.12.22",9,14,17,33,36,38,20,null,null,838,{"$f":"COUNTIF(번호추출!$N$13:$S$13,자료실!C840)","v":0},{"$f":"COUNTIF(번호추출!$N$13:$S$13,자료실!D840)","v":0},{"$f":"COUNTIF(번호추출!$N$13:$S$13,자료실!E840)","v":0},{"$f":"COUNTIF(번호추출!$N$13:$S$13,자료실!F840)","v":1},{"$f":"COUNTIF(번호추출!$N$13:$S$13,자료실!G840)","v":0},{"$f":"COUNTIF(번호추출!$N$13:$S$13,자료실!H840)","v":0},{"$f":"COUNTIF(번호추출!$N$13:$S$13,I840)","v":0},1,1,"꽝",0,0,0,0,{"$f":"IF(6=U840,\"1등\",IF(13=U840,\"1등\",0))","v":0},0]
[839,"2018.12.29",3,9,11,12,13,19,35,null,null,839,{"$f":"COUNTIF(번호추출!$N$13:$S$13,자료실!C841)","v":0},{"$f":"COUNTIF(번호추출!$N$13:$S$13,자료실!D841)","v":0},{"$f":"COUNTIF(번호추출!$N$13:$S$13,자료실!E841)","v":0},{"$f":"COUNTIF(번호추출!$N$13:$S$13,자료실!F841)","v":0},{"$f":"COUNTIF(번호추출!$N$13:$S$13,자료실!G841)","v":0},{"$f":"COUNTIF(번호추출!$N$13:$S$13,자료실!H841)","v":0},{"$f":"COUNTIF(번호추출!$N$13:$S$13,I841)","v":0},0,0,0,0,0,0,0,{"$f":"IF(6=U841,\"1등\",IF(13=U841,\"1등\",0))","v":0},0]
[840,"2019.01.05",2,4,11,28,29,43,27,null,null,840,{"$f":"COUNTIF(번호추출!$N$13:$S$13,자료실!C842)","v":0},{"$f":"COUNTIF(번호추출!$N$13:$S$13,자료실!D842)","v":1},{"$f":"COUNTIF(번호추출!$N$13:$S$13,자료실!E842)","v":0},{"$f":"COUNTIF(번호추출!$N$13:$S$13,자료실!F842)","v":0},{"$f":"COUNTIF(번호추출!$N$13:$S$13,자료실!G842)","v":0},{"$f":"COUNTIF(번호추출!$N$13:$S$13,자료실!H842)","v":0},{"$f":"COUNTIF(번호추출!$N$13:$S$13,I842)","v":0},1,1,"꽝",0,0,0,0,{"$f":"IF(6=U842,\"1등\",IF(13=U842,\"1등\",0))","v":0},0]
[841,"2019.01.12",5,11,14,30,33,38,24,null,null,841,{"$f":"COUNTIF(번호추출!$N$13:$S$13,자료실!C843)","v":0},{"$f":"COUNTIF(번호추출!$N$13:$S$13,자료실!D843)","v":0},{"$f":"COUNTIF(번호추출!$N$13:$S$13,자료실!E843)","v":0},{"$f":"COUNTIF(번호추출!$N$13:$S$13,자료실!F843)","v":0},{"$f":"COUNTIF(번호추출!$N$13:$S$13,자료실!G843)","v":1},{"$f":"COUNTIF(번호추출!$N$13:$S$13,자료실!H843)","v":0},{"$f":"COUNTIF(번호추출!$N$13:$S$13,I843)","v":0},1,1,"꽝",0,0,0,0,{"$f":"IF(6=U843,\"1등\",IF(13=U843,\"1등\",0))","v":0},0]
[842,"2019.01.19",14,26,32,36,39,42,38,null,null,842,{"$f":"COUNTIF(번호추출!$N$13:$S$13,자료실!C844)","v":0},{"$f":"COUNTIF(번호추출!$N$13:$S$13,자료실!D844)","v":0},{"$f":"COUNTIF(번호추출!$N$13:$S$13,자료실!E844)","v":0},{"$f":"COUNTIF(번호추출!$N$13:$S$13,자료실!F844)","v":0},{"$f":"COUNTIF(번호추출!$N$13:$S$13,자료실!G844)","v":0},{"$f":"COUNTIF(번호추출!$N$13:$S$13,자료실!H844)","v":0},{"$f":"COUNTIF(번호추출!$N$13:$S$13,I844)","v":0},0,0,0,0,0,0,0,{"$f":"IF(6=U844,\"1등\",IF(13=U844,\"1등\",0))","v":0},0]
[843,"2019.01.26",19,21,30,33,34,42,4,null,null,843,{"$f":"COUNTIF(번호추출!$N$13:$S$13,자료실!C845)","v":0},{"$f":"COUNTIF(번호추출!$N$13:$S$13,자료실!D845)","v":0},{"$f":"COUNTIF(번호추출!$N$13:$S$13,자료실!E845)","v":0},{"$f":"COUNTIF(번호추출!$N$13:$S$13,자료실!F845)","v":1},{"$f":"COUNTIF(번호추출!$N$13:$S$13,자료실!G845)","v":0},{"$f":"COUNTIF(번호추출!$N$13:$S$13,자료실!H845)","v":0},{"$f":"COUNTIF(번호추출!$N$13:$S$13,I845)","v":1},1,2,"꽝","꽝",0,0,0,{"$f":"IF(6=U845,\"1등\",IF(13=U845,\"1등\",0))","v":0},0]
[844,"2019.02.02",7,8,13,15,33,45,18,null,null,844,{"$f":"COUNTIF(번호추출!$N$13:$S$13,자료실!C846)","v":0},{"$f":"COUNTIF(번호추출!$N$13:$S$13,자료실!D846)","v":0},{"$f":"COUNTIF(번호추출!$N$13:$S$13,자료실!E846)","v":0},{"$f":"COUNTIF(번호추출!$N$13:$S$13,자료실!F846)","v":1},{"$f":"COUNTIF(번호추출!$N$13:$S$13,자료실!G846)","v":1},{"$f":"COUNTIF(번호추출!$N$13:$S$13,자료실!H846)","v":1},{"$f":"COUNTIF(번호추출!$N$13:$S$13,I846)","v":1},3,4,{"$f":"IF(1=U846,\"꽝\",IF(0<T846,\"꽝\",0))","v":"꽝"},{"$f":"IF(2=U846,\"꽝\",IF(1<T846,\"꽝\",0))","v":"꽝"},{"$f":"IF(3=U846,\"5등\",IF(2<T846,\"5등\",0))","v":"5등"},{"$f":"IF(4=U846,\"4등\",IF(3<T846,\"4등\",0))","v":"4등"},{"$f":"IF(5=U846,\"3등\",IF(4<T846,\"3등\",0))","v":0},{"$f":"IF(6=U846,\"1등\",IF(13=U846,\"1등\",0))","v":0},{"$f":"IF(U846=12,\"2등\",0)","v":0}]
[845,"2019.02.09",1,16,29,33,40,45,6,null,null,845,{"$f":"COUNTIF(번호추출!$N$13:$S$13,자료실!C847)","v":0},{"$f":"COUNTIF(번호추출!$N$13:$S$13,자료실!D847)","v":0},{"$f":"COUNTIF(번호추출!$N$13:$S$13,자료실!E847)","v":0},{"$f":"COUNTIF(번호추출!$N$13:$S$13,자료실!F847)","v":1},{"$f":"COUNTIF(번호추출!$N$13:$S$13,자료실!G847)","v":0},{"$f":"COUNTIF(번호추출!$N$13:$S$13,자료실!H847)","v":1},{"$f":"COUNTIF(번호추출!$N$13:$S$13,I847)","v":0},2,2,"꽝","꽝",0,0,0,{"$f":"IF(6=U847,\"1등\",IF(13=U847,\"1등\",0))","v":0},0]
[846,"2019.02.16",5,18,30,41,43,45,13,null,null,846,{"$f":"COUNTIF(번호추출!$N$13:$S$13,자료실!C848)","v":0},{"$f":"COUNTIF(번호추출!$N$13:$S$13,자료실!D848)","v":1},{"$f":"COUNTIF(번호추출!$N$13:$S$13,자료실!E848)","v":0},{"$f":"COUNTIF(번호추출!$N$13:$S$13,자료실!F848)","v":0},{"$f":"COUNTIF(번호추출!$N$13:$S$13,자료실!G848)","v":0},{"$f":"COUNTIF(번호추출!$N$13:$S$13,자료실!H848)","v":1},{"$f":"COUNTIF(번호추출!$N$13:$S$13,I848)","v":0},2,2,"꽝","꽝",0,0,0,{"$f":"IF(6=U848,\"1등\",IF(13=U848,\"1등\",0))","v":0},0]
[847,"2019.02.23",12,16,26,28,30,42,22,null,null,847,{"$f":"COUNTIF(번호추출!$N$13:$S$13,자료실!C849)","v":0},{"$f":"COUNTIF(번호추출!$N$13:$S$13,자료실!D849)","v":0},{"$f":"COUNTIF(번호추출!$N$13:$S$13,자료실!E849)","v":0},{"$f":"COUNTIF(번호추출!$N$13:$S$13,자료실!F849)","v":0},{"$f":"COUNTIF(번호추출!$N$13:$S$13,자료실!G849)","v":0},{"$f":"COUNTIF(번호추출!$N$13:$S$13,자료실!H849)","v":0},{"$f":"COUNTIF(번호추출!$N$13:$S$13,I849)","v":0},0,0,0,0,0,0,0,{"$f":"IF(6=U849,\"1등\",IF(13=U849,\"1등\",0))","v":0},0]
[848,"2019.03.02",1,2,16,22,38,39,34,null,null,848,{"$f":"COUNTIF(번호추출!$N$13:$S$13,자료실!C850)","v":0},{"$f":"COUNTIF(번호추출!$N$13:$S$13,자료실!D850)","v":0},{"$f":"COUNTIF(번호추출!$N$13:$S$13,자료실!E850)","v":0},{"$f":"COUNTIF(번호추출!$N$13:$S$13,자료실!F850)","v":0},{"$f":"COUNTIF(번호추출!$N$13:$S$13,자료실!G850)","v":0},{"$f":"COUNTIF(번호추출!$N$13:$S$13,자료실!H850)","v":0},{"$f":"COUNTIF(번호추출!$N$13:$S$13,I850)","v":0},0,0,0,0,0,0,0,{"$f":"IF(6=U850,\"1등\",IF(13=U850,\"1등\",0))","v":0},0]
[849,"2019.03.09",5,13,17,29,34,39,3,null,null,849,{"$f":"COUNTIF(번호추출!$N$13:$S$13,자료실!C851)","v":0},{"$f":"COUNTIF(번호추출!$N$13:$S$13,자료실!D851)","v":0},{"$f":"COUNTIF(번호추출!$N$13:$S$13,자료실!E851)","v":0},{"$f":"COUNTIF(번호추출!$N$13:$S$13,자료실!F851)","v":0},{"$f":"COUNTIF(번호추출!$N$13:$S$13,자료실!G851)","v":0},{"$f":"COUNTIF(번호추출!$N$13:$S$13,자료실!H851)","v":0},{"$f":"COUNTIF(번호추출!$N$13:$S$13,I851)","v":0},0,0,0,0,0,0,0,{"$f":"IF(6=U851,\"1등\",IF(13=U851,\"1등\",0))","v":0},0]
[850,"2019.03.16",16,20,24,28,36,39,5,null,null,850,{"$f":"COUNTIF(번호추출!$N$13:$S$13,자료실!C852)","v":0},{"$f":"COUNTIF(번호추출!$N$13:$S$13,자료실!D852)","v":0},{"$f":"COUNTIF(번호추출!$N$13:$S$13,자료실!E852)","v":0},{"$f":"COUNTIF(번호추출!$N$13:$S$13,자료실!F852)","v":0},{"$f":"COUNTIF(번호추출!$N$13:$S$13,자료실!G852)","v":0},{"$f":"COUNTIF(번호추출!$N$13:$S$13,자료실!H852)","v":0},{"$f":"COUNTIF(번호추출!$N$13:$S$13,I852)","v":0},0,0,0,0,0,0,0,{"$f":"IF(6=U852,\"1등\",IF(13=U852,\"1등\",0))","v":0},0]
[851,"2019.03.23",14,18,22,26,31,44,40,null,null,851,{"$f":"COUNTIF(번호추출!$N$13:$S$13,자료실!C853)","v":0},{"$f":"COUNTIF(번호추출!$N$13:$S$13,자료실!D853)","v":1},{"$f":"COUNTIF(번호추출!$N$13:$S$13,자료실!E853)","v":0},{"$f":"COUNTIF(번호추출!$N$13:$S$13,자료실!F853)","v":0},{"$f":"COUNTIF(번호추출!$N$13:$S$13,자료실!G853)","v":0},{"$f":"COUNTIF(번호추출!$N$13:$S$13,자료실!H853)","v":0},{"$f":"COUNTIF(번호추출!$N$13:$S$13,I853)","v":0},1,1,"꽝",0,0,0,0,{"$f":"IF(6=U853,\"1등\",IF(13=U853,\"1등\",0))","v":0},0]
[852,"2019.03.30",11,17,28,30,33,35,9,null,null,852,{"$f":"COUNTIF(번호추출!$N$13:$S$13,자료실!C854)","v":0},{"$f":"COUNTIF(번호추출!$N$13:$S$13,자료실!D854)","v":0},{"$f":"COUNTIF(번호추출!$N$13:$S$13,자료실!E854)","v":0},{"$f":"COUNTIF(번호추출!$N$13:$S$13,자료실!F854)","v":0},{"$f":"COUNTIF(번호추출!$N$13:$S$13,자료실!G854)","v":1},{"$f":"COUNTIF(번호추출!$N$13:$S$13,자료실!H854)","v":0},{"$f":"COUNTIF(번호추출!$N$13:$S$13,I854)","v":0},1,1,"꽝",0,0,0,0,{"$f":"IF(6=U854,\"1등\",IF(13=U854,\"1등\",0))","v":0},0]
[853,"2019.04.06",2,8,23,26,27,44,13,null,null,853,{"$f":"COUNTIF(번호추출!$N$13:$S$13,자료실!C855)","v":0},{"$f":"COUNTIF(번호추출!$N$13:$S$13,자료실!D855)","v":0},{"$f":"COUNTIF(번호추출!$N$13:$S$13,자료실!E855)","v":0},{"$f":"COUNTIF(번호추출!$N$13:$S$13,자료실!F855)","v":0},{"$f":"COUNTIF(번호추출!$N$13:$S$13,자료실!G855)","v":0},{"$f":"COUNTIF(번호추출!$N$13:$S$13,자료실!H855)","v":0},{"$f":"COUNTIF(번호추출!$N$13:$S$13,I855)","v":0},0,0,0,0,0,0,0,{"$f":"IF(6=U855,\"1등\",IF(13=U855,\"1등\",0))","v":0},0]
[854,"2019.04.13",20,25,31,32,36,43,3,null,null,854,{"$f":"COUNTIF(번호추출!$N$13:$S$13,자료실!C856)","v":0},{"$f":"COUNTIF(번호추출!$N$13:$S$13,자료실!D856)","v":1},{"$f":"COUNTIF(번호추출!$N$13:$S$13,자료실!E856)","v":0},{"$f":"COUNTIF(번호추출!$N$13:$S$13,자료실!F856)","v":0},{"$f":"COUNTIF(번호추출!$N$13:$S$13,자료실!G856)","v":0},{"$f":"COUNTIF(번호추출!$N$13:$S$13,자료실!H856)","v":0},{"$f":"COUNTIF(번호추출!$N$13:$S$13,I856)","v":0},1,1,"꽝",0,0,0,0,{"$f":"IF(6=U856,\"1등\",IF(13=U856,\"1등\",0))","v":0},0]
[855,"2019.04.20",8,15,17,19,43,44,7,null,null,855,{"$f":"COUNTIF(번호추출!$N$13:$S$13,자료실!C857)","v":0},{"$f":"COUNTIF(번호추출!$N$13:$S$13,자료실!D857)","v":1},{"$f":"COUNTIF(번호추출!$N$13:$S$13,자료실!E857)","v":0},{"$f":"COUNTIF(번호추출!$N$13:$S$13,자료실!F857)","v":0},{"$f":"COUNTIF(번호추출!$N$13:$S$13,자료실!G857)","v":0},{"$f":"COUNTIF(번호추출!$N$13:$S$13,자료실!H857)","v":0},{"$f":"COUNTIF(번호추출!$N$13:$S$13,I857)","v":0},1,1,"꽝",0,0,0,0,{"$f":"IF(6=U857,\"1등\",IF(13=U857,\"1등\",0))","v":0},0]
[856,"2019.04.27",10,24,40,41,43,44,17,null,null,856,{"$f":"COUNTIF(번호추출!$N$13:$S$13,자료실!C858)","v":0},{"$f":"COUNTIF(번호추출!$N$13:$S$13,자료실!D858)","v":0},{"$f":"COUNTIF(번호추출!$N$13:$S$13,자료실!E858)","v":0},{"$f":"COUNTIF(번호추출!$N$13:$S$13,자료실!F858)","v":0},{"$f":"COUNTIF(번호추출!$N$13:$S$13,자료실!G858)","v":0},{"$f":"COUNTIF(번호추출!$N$13:$S$13,자료실!H858)","v":0},{"$f":"COUNTIF(번호추출!$N$13:$S$13,I858)","v":0},0,0,0,0,0,0,0,{"$f":"IF(6=U858,\"1등\",IF(13=U858,\"1등\",0))","v":0},0]
[857,"2019.05.04",6,10,16,28,34,38,43,null,null,{"$f":"A859","v":857},{"$f":"COUNTIF(번호추출!$N$13:$S$13,자료실!C859)","v":0},{"$f":"COUNTIF(번호추출!$N$13:$S$13,자료실!D859)","v":0},{"$f":"COUNTIF(번호추출!$N$13:$S$13,자료실!E859)","v":0},{"$f":"COUNTIF(번호추출!$N$13:$S$13,자료실!F859)","v":0},{"$f":"COUNTIF(번호추출!$N$13:$S$13,자료실!G859)","v":0},{"$f":"COUNTIF(번호추출!$N$13:$S$13,자료실!H859)","v":0},{"$f":"COUNTIF(번호추출!$N$13:$S$13,I859)","v":0},{"$f":"SUM(M859:R859)","v":0},{"$f":"SUM(M859:S859)","v":0},0,0,0,0,0,{"$f":"IF(6=U859,\"1등\",IF(13=U859,\"1등\",0))","v":0},0]
[858,"2019.05.11",9,13,32,38,39,43,23,null,null,858,{"$f":"COUNTIF(번호추출!$N$13:$S$13,자료실!C860)","v":0},{"$f":"COUNTIF(번호추출!$N$13:$S$13,자료실!D860)","v":0},{"$f":"COUNTIF(번호추출!$N$13:$S$13,자료실!E860)","v":0},{"$f":"COUNTIF(번호추출!$N$13:$S$13,자료실!F860)","v":0},{"$f":"COUNTIF(번호추출!$N$13:$S$13,자료실!G860)","v":0},{"$f":"COUNTIF(번호추출!$N$13:$S$13,자료실!H860)","v":0},{"$f":"COUNTIF(번호추출!$N$13:$S$13,I860)","v":0},0,0,0,0,0,0,0,{"$f":"IF(6=U860,\"1등\",IF(13=U860,\"1등\",0))","v":0},0]
[859,"2019.05.18",8,22,35,38,39,41,24,null,null,859,{"$f":"COUNTIF(번호추출!$N$13:$S$13,자료실!C861)","v":0},{"$f":"COUNTIF(번호추출!$N$13:$S$13,자료실!D861)","v":0},{"$f":"COUNTIF(번호추출!$N$13:$S$13,자료실!E861)","v":0},{"$f":"COUNTIF(번호추출!$N$13:$S$13,자료실!F861)","v":0},{"$f":"COUNTIF(번호추출!$N$13:$S$13,자료실!G861)","v":0},{"$f":"COUNTIF(번호추출!$N$13:$S$13,자료실!H861)","v":0},{"$f":"COUNTIF(번호추출!$N$13:$S$13,I861)","v":0},0,0,0,0,0,0,0,{"$f":"IF(6=U861,\"1등\",IF(13=U861,\"1등\",0))","v":0},0]
[860,"2019.05.25",4,8,18,25,27,32,42,null,null,860,{"$f":"COUNTIF(번호추출!$N$13:$S$13,자료실!C862)","v":1},{"$f":"COUNTIF(번호추출!$N$13:$S$13,자료실!D862)","v":0},{"$f":"COUNTIF(번호추출!$N$13:$S$13,자료실!E862)","v":1},{"$f":"COUNTIF(번호추출!$N$13:$S$13,자료실!F862)","v":1},{"$f":"COUNTIF(번호추출!$N$13:$S$13,자료실!G862)","v":0},{"$f":"COUNTIF(번호추출!$N$13:$S$13,자료실!H862)","v":0},{"$f":"COUNTIF(번호추출!$N$13:$S$13,I862)","v":0},3,3,"꽝","꽝","5등",0,0,{"$f":"IF(6=U862,\"1등\",IF(13=U862,\"1등\",0))","v":0},0]
[861,"2019.06.01",11,17,19,21,22,25,24,null,null,861,{"$f":"COUNTIF(번호추출!$N$13:$S$13,자료실!C863)","v":0},{"$f":"COUNTIF(번호추출!$N$13:$S$13,자료실!D863)","v":0},{"$f":"COUNTIF(번호추출!$N$13:$S$13,자료실!E863)","v":0},{"$f":"COUNTIF(번호추출!$N$13:$S$13,자료실!F863)","v":0},{"$f":"COUNTIF(번호추출!$N$13:$S$13,자료실!G863)","v":0},{"$f":"COUNTIF(번호추출!$N$13:$S$13,자료실!H863)","v":1},{"$f":"COUNTIF(번호추출!$N$13:$S$13,I863)","v":0},1,1,"꽝",0,0,0,0,{"$f":"IF(6=U863,\"1등\",IF(13=U863,\"1등\",0))","v":0},0]
[862,"2019.06.08",10,34,38,40,42,43,32,null,null,862,{"$f":"COUNTIF(번호추출!$N$13:$S$13,자료실!C864)","v":0},{"$f":"COUNTIF(번호추출!$N$13:$S$13,자료실!D864)","v":0},{"$f":"COUNTIF(번호추출!$N$13:$S$13,자료실!E864)","v":0},{"$f":"COUNTIF(번호추출!$N$13:$S$13,자료실!F864)","v":0},{"$f":"COUNTIF(번호추출!$N$13:$S$13,자료실!G864)","v":0},{"$f":"COUNTIF(번호추출!$N$13:$S$13,자료실!H864)","v":0},{"$f":"COUNTIF(번호추출!$N$13:$S$13,I864)","v":0},0,0,0,0,0,0,0,{"$f":"IF(6=U864,\"1등\",IF(13=U864,\"1등\",0))","v":0},0]
[863,"2019.06.15",16,21,28,35,39,43,12,null,null,863,{"$f":"COUNTIF(번호추출!$N$13:$S$13,자료실!C865)","v":0},{"$f":"COUNTIF(번호추출!$N$13:$S$13,자료실!D865)","v":0},{"$f":"COUNTIF(번호추출!$N$13:$S$13,자료실!E865)","v":0},{"$f":"COUNTIF(번호추출!$N$13:$S$13,자료실!F865)","v":0},{"$f":"COUNTIF(번호추출!$N$13:$S$13,자료실!G865)","v":0},{"$f":"COUNTIF(번호추출!$N$13:$S$13,자료실!H865)","v":0},{"$f":"COUNTIF(번호추출!$N$13:$S$13,I865)","v":0},0,0,0,0,0,0,0,{"$f":"IF(6=U865,\"1등\",IF(13=U865,\"1등\",0))","v":0},0]
[864,"2019.06.22",3,7,10,13,25,36,32,null,null,864,{"$f":"COUNTIF(번호추출!$N$13:$S$13,자료실!C866)","v":0},{"$f":"COUNTIF(번호추출!$N$13:$S$13,자료실!D866)","v":0},{"$f":"COUNTIF(번호추출!$N$13:$S$13,자료실!E866)","v":0},{"$f":"COUNTIF(번호추출!$N$13:$S$13,자료실!F866)","v":0},{"$f":"COUNTIF(번호추출!$N$13:$S$13,자료실!G866)","v":1},{"$f":"COUNTIF(번호추출!$N$13:$S$13,자료실!H866)","v":0},{"$f":"COUNTIF(번호추출!$N$13:$S$13,I866)","v":0},1,1,"꽝",0,0,0,0,{"$f":"IF(6=U866,\"1등\",IF(13=U866,\"1등\",0))","v":0},0]
[865,"2019.06.29",3,15,22,32,33,45,2,null,null,865,{"$f":"COUNTIF(번호추출!$N$13:$S$13,자료실!C867)","v":0},{"$f":"COUNTIF(번호추출!$N$13:$S$13,자료실!D867)","v":1},{"$f":"COUNTIF(번호추출!$N$13:$S$13,자료실!E867)","v":0},{"$f":"COUNTIF(번호추출!$N$13:$S$13,자료실!F867)","v":0},{"$f":"COUNTIF(번호추출!$N$13:$S$13,자료실!G867)","v":1},{"$f":"COUNTIF(번호추출!$N$13:$S$13,자료실!H867)","v":1},{"$f":"COUNTIF(번호추출!$N$13:$S$13,I867)","v":0},3,3,"꽝","꽝","5등",0,0,{"$f":"IF(6=U867,\"1등\",IF(13=U867,\"1등\",0))","v":0},0]
[866,"2019.07.06",9,15,29,34,37,39,12,null,null,866,{"$f":"COUNTIF(번호추출!$N$13:$S$13,자료실!C868)","v":0},{"$f":"COUNTIF(번호추출!$N$13:$S$13,자료실!D868)","v":1},{"$f":"COUNTIF(번호추출!$N$13:$S$13,자료실!E868)","v":0},{"$f":"COUNTIF(번호추출!$N$13:$S$13,자료실!F868)","v":0},{"$f":"COUNTIF(번호추출!$N$13:$S$13,자료실!G868)","v":0},{"$f":"COUNTIF(번호추출!$N$13:$S$13,자료실!H868)","v":0},{"$f":"COUNTIF(번호추출!$N$13:$S$13,I868)","v":0},1,1,"꽝",0,0,0,0,{"$f":"IF(6=U868,\"1등\",IF(13=U868,\"1등\",0))","v":0},0]
[867,"2019.07.13",14,17,19,22,24,40,41,null,null,867,{"$f":"COUNTIF(번호추출!$N$13:$S$13,자료실!C869)","v":0},{"$f":"COUNTIF(번호추출!$N$13:$S$13,자료실!D869)","v":0},{"$f":"COUNTIF(번호추출!$N$13:$S$13,자료실!E869)","v":0},{"$f":"COUNTIF(번호추출!$N$13:$S$13,자료실!F869)","v":0},{"$f":"COUNTIF(번호추출!$N$13:$S$13,자료실!G869)","v":0},{"$f":"COUNTIF(번호추출!$N$13:$S$13,자료실!H869)","v":0},{"$f":"COUNTIF(번호추출!$N$13:$S$13,I869)","v":0},0,0,0,0,0,0,0,{"$f":"IF(6=U869,\"1등\",IF(13=U869,\"1등\",0))","v":0},0]
[868,"2019.07.20",12,17,28,41,43,44,25,null,null,868,{"$f":"COUNTIF(번호추출!$N$13:$S$13,자료실!C870)","v":0},{"$f":"COUNTIF(번호추출!$N$13:$S$13,자료실!D870)","v":0},{"$f":"COUNTIF(번호추출!$N$13:$S$13,자료실!E870)","v":0},{"$f":"COUNTIF(번호추출!$N$13:$S$13,자료실!F870)","v":0},{"$f":"COUNTIF(번호추출!$N$13:$S$13,자료실!G870)","v":0},{"$f":"COUNTIF(번호추출!$N$13:$S$13,자료실!H870)","v":0},{"$f":"COUNTIF(번호추출!$N$13:$S$13,I870)","v":1},0,1,"꽝",0,0,0,0,{"$f":"IF(6=U870,\"1등\",IF(13=U870,\"1등\",0))","v":0},0]
[869,"2019.07.27",2,6,20,27,37,39,4,null,null,869,{"$f":"COUNTIF(번호추출!$N$13:$S$13,자료실!C871)","v":0},{"$f":"COUNTIF(번호추출!$N$13:$S$13,자료실!D871)","v":0},{"$f":"COUNTIF(번호추출!$N$13:$S$13,자료실!E871)","v":0},{"$f":"COUNTIF(번호추출!$N$13:$S$13,자료실!F871)","v":0},{"$f":"COUNTIF(번호추출!$N$13:$S$13,자료실!G871)","v":0},{"$f":"COUNTIF(번호추출!$N$13:$S$13,자료실!H871)","v":0},{"$f":"COUNTIF(번호추출!$N$13:$S$13,I871)","v":1},0,1,"꽝",0,0,0,0,{"$f":"IF(6=U871,\"1등\",IF(13=U871,\"1등\",0))","v":0},0]
[870,"2019.08.03",21,25,30,32,40,42,31,null,null,870,{"$f":"COUNTIF(번호추출!$N$13:$S$13,자료실!C872)","v":0},{"$f":"COUNTIF(번호추출!$N$13:$S$13,자료실!D872)","v":1},{"$f":"COUNTIF(번호추출!$N$13:$S$13,자료실!E872)","v":0},{"$f":"COUNTIF(번호추출!$N$13:$S$13,자료실!F872)","v":0},{"$f":"COUNTIF(번호추출!$N$13:$S$13,자료실!G872)","v":0},{"$f":"COUNTIF(번호추출!$N$13:$S$13,자료실!H872)","v":0},{"$f":"COUNTIF(번호추출!$N$13:$S$13,I872)","v":0},1,1,"꽝",0,0,0,0,{"$f":"IF(6=U872,\"1등\",IF(13=U872,\"1등\",0))","v":0},0]
[871,"2019.08.10",2,6,12,26,30,34,38,null,null,871,{"$f":"COUNTIF(번호추출!$N$13:$S$13,자료실!C873)","v":0},{"$f":"COUNTIF(번호추출!$N$13:$S$13,자료실!D873)","v":0},{"$f":"COUNTIF(번호추출!$N$13:$S$13,자료실!E873)","v":0},{"$f":"COUNTIF(번호추출!$N$13:$S$13,자료실!F873)","v":0},{"$f":"COUNTIF(번호추출!$N$13:$S$13,자료실!G873)","v":0},{"$f":"COUNTIF(번호추출!$N$13:$S$13,자료실!H873)","v":0},{"$f":"COUNTIF(번호추출!$N$13:$S$13,I873)","v":0},0,0,0,0,0,0,0,{"$f":"IF(6=U873,\"1등\",IF(13=U873,\"1등\",0))","v":0},0]
[872,"2019.08.17",2,4,30,32,33,43,29,null,null,872,{"$f":"COUNTIF(번호추출!$N$13:$S$13,자료실!C874)","v":0},{"$f":"COUNTIF(번호추출!$N$13:$S$13,자료실!D874)","v":1},{"$f":"COUNTIF(번호추출!$N$13:$S$13,자료실!E874)","v":0},{"$f":"COUNTIF(번호추출!$N$13:$S$13,자료실!F874)","v":0},{"$f":"COUNTIF(번호추출!$N$13:$S$13,자료실!G874)","v":1},{"$f":"COUNTIF(번호추출!$N$13:$S$13,자료실!H874)","v":0},{"$f":"COUNTIF(번호추출!$N$13:$S$13,I874)","v":0},2,2,"꽝","꽝",0,0,0,{"$f":"IF(6=U874,\"1등\",IF(13=U874,\"1등\",0))","v":0},0]
[873,"2019.08.24",3,5,12,13,33,39,38,null,null,873,{"$f":"COUNTIF(번호추출!$N$13:$S$13,자료실!C875)","v":0},{"$f":"COUNTIF(번호추출!$N$13:$S$13,자료실!D875)","v":0},{"$f":"COUNTIF(번호추출!$N$13:$S$13,자료실!E875)","v":0},{"$f":"COUNTIF(번호추출!$N$13:$S$13,자료실!F875)","v":0},{"$f":"COUNTIF(번호추출!$N$13:$S$13,자료실!G875)","v":1},{"$f":"COUNTIF(번호추출!$N$13:$S$13,자료실!H875)","v":0},{"$f":"COUNTIF(번호추출!$N$13:$S$13,I875)","v":0},1,1,"꽝",0,0,0,0,{"$f":"IF(6=U875,\"1등\",IF(13=U875,\"1등\",0))","v":0},0]
[874,"2019.08.31",1,15,19,23,28,42,32,null,null,874,{"$f":"COUNTIF(번호추출!$N$13:$S$13,자료실!C876)","v":0},{"$f":"COUNTIF(번호추출!$N$13:$S$13,자료실!D876)","v":1},{"$f":"COUNTIF(번호추출!$N$13:$S$13,자료실!E876)","v":0},{"$f":"COUNTIF(번호추출!$N$13:$S$13,자료실!F876)","v":0},{"$f":"COUNTIF(번호추출!$N$13:$S$13,자료실!G876)","v":0},{"$f":"COUNTIF(번호추출!$N$13:$S$13,자료실!H876)","v":0},{"$f":"COUNTIF(번호추출!$N$13:$S$13,I876)","v":0},1,1,"꽝",0,0,0,0,{"$f":"IF(6=U876,\"1등\",IF(13=U876,\"1등\",0))","v":0},0]
[875,"2019.09.07",19,22,30,34,39,44,36,null,null,875,{"$f":"COUNTIF(번호추출!$N$13:$S$13,자료실!C877)","v":0},{"$f":"COUNTIF(번호추출!$N$13:$S$13,자료실!D877)","v":0},{"$f":"COUNTIF(번호추출!$N$13:$S$13,자료실!E877)","v":0},{"$f":"COUNTIF(번호추출!$N$13:$S$13,자료실!F877)","v":0},{"$f":"COUNTIF(번호추출!$N$13:$S$13,자료실!G877)","v":0},{"$f":"COUNTIF(번호추출!$N$13:$S$13,자료실!H877)","v":0},{"$f":"COUNTIF(번호추출!$N$13:$S$13,I877)","v":0},0,0,0,0,0,0,0,{"$f":"IF(6=U877,\"1등\",IF(13=U877,\"1등\",0))","v":0},0]
[876,"2019.09.14",5,16,21,26,34,42,24,null,null,876,{"$f":"COUNTIF(번호추출!$N$13:$S$13,자료실!C878)","v":0},{"$f":"COUNTIF(번호추출!$N$13:$S$13,자료실!D878)","v":0},{"$f":"COUNTIF(번호추출!$N$13:$S$13,자료실!E878)","v":0},{"$f":"COUNTIF(번호추출!$N$13:$S$13,자료실!F878)","v":0},{"$f":"COUNTIF(번호추출!$N$13:$S$13,자료실!G878)","v":0},{"$f":"COUNTIF(번호추출!$N$13:$S$13,자료실!H878)","v":0},{"$f":"COUNTIF(번호추출!$N$13:$S$13,I878)","v":0},0,0,0,0,0,0,0,{"$f":"IF(6=U878,\"1등\",IF(13=U878,\"1등\",0))","v":0},0]
[877,"2019.09.21",5,17,18,22,23,43,12,null,null,877,{"$f":"COUNTIF(번호추출!$N$13:$S$13,자료실!C879)","v":0},{"$f":"COUNTIF(번호추출!$N$13:$S$13,자료실!D879)","v":0},{"$f":"COUNTIF(번호추출!$N$13:$S$13,자료실!E879)","v":1},{"$f":"COUNTIF(번호추출!$N$13:$S$13,자료실!F879)","v":0},{"$f":"COUNTIF(번호추출!$N$13:$S$13,자료실!G879)","v":0},{"$f":"COUNTIF(번호추출!$N$13:$S$13,자료실!H879)","v":0},{"$f":"COUNTIF(번호추출!$N$13:$S$13,I879)","v":0},1,1,"꽝",0,0,0,0,{"$f":"IF(6=U879,\"1등\",IF(13=U879,\"1등\",0))","v":0},0]
[878,"2019.09.28",2,6,11,16,25,31,3,null,null,878,{"$f":"COUNTIF(번호추출!$N$13:$S$13,자료실!C880)","v":0},{"$f":"COUNTIF(번호추출!$N$13:$S$13,자료실!D880)","v":0},{"$f":"COUNTIF(번호추출!$N$13:$S$13,자료실!E880)","v":0},{"$f":"COUNTIF(번호추출!$N$13:$S$13,자료실!F880)","v":0},{"$f":"COUNTIF(번호추출!$N$13:$S$13,자료실!G880)","v":1},{"$f":"COUNTIF(번호추출!$N$13:$S$13,자료실!H880)","v":0},{"$f":"COUNTIF(번호추출!$N$13:$S$13,I880)","v":0},1,1,"꽝",0,0,0,0,{"$f":"IF(6=U880,\"1등\",IF(13=U880,\"1등\",0))","v":0},0]
[879,"2019.10.05",1,4,10,14,15,35,20,null,null,879,{"$f":"COUNTIF(번호추출!$N$13:$S$13,자료실!C881)","v":0},{"$f":"COUNTIF(번호추출!$N$13:$S$13,자료실!D881)","v":1},{"$f":"COUNTIF(번호추출!$N$13:$S$13,자료실!E881)","v":0},{"$f":"COUNTIF(번호추출!$N$13:$S$13,자료실!F881)","v":0},{"$f":"COUNTIF(번호추출!$N$13:$S$13,자료실!G881)","v":1},{"$f":"COUNTIF(번호추출!$N$13:$S$13,자료실!H881)","v":0},{"$f":"COUNTIF(번호추출!$N$13:$S$13,I881)","v":0},2,2,"꽝","꽝",0,0,0,{"$f":"IF(6=U881,\"1등\",IF(13=U881,\"1등\",0))","v":0},0]
[880,"2019.10.12",7,17,19,23,24,45,38,null,null,880,{"$f":"COUNTIF(번호추출!$N$13:$S$13,자료실!C882)","v":0},{"$f":"COUNTIF(번호추출!$N$13:$S$13,자료실!D882)","v":0},{"$f":"COUNTIF(번호추출!$N$13:$S$13,자료실!E882)","v":0},{"$f":"COUNTIF(번호추출!$N$13:$S$13,자료실!F882)","v":0},{"$f":"COUNTIF(번호추출!$N$13:$S$13,자료실!G882)","v":0},{"$f":"COUNTIF(번호추출!$N$13:$S$13,자료실!H882)","v":1},{"$f":"COUNTIF(번호추출!$N$13:$S$13,I882)","v":0},1,1,"꽝",0,0,0,0,{"$f":"IF(6=U882,\"1등\",IF(13=U882,\"1등\",0))","v":0},0]
[881,"2019.10.19",4,18,20,26,27,32,9,null,null,881,{"$f":"COUNTIF(번호추출!$N$13:$S$13,자료실!C883)","v":1},{"$f":"COUNTIF(번호추출!$N$13:$S$13,자료실!D883)","v":1},{"$f":"COUNTIF(번호추출!$N$13:$S$13,자료실!E883)","v":0},{"$f":"COUNTIF(번호추출!$N$13:$S$13,자료실!F883)","v":0},{"$f":"COUNTIF(번호추출!$N$13:$S$13,자료실!G883)","v":0},{"$f":"COUNTIF(번호추출!$N$13:$S$13,자료실!H883)","v":0},{"$f":"COUNTIF(번호추출!$N$13:$S$13,I883)","v":0},2,2,"꽝","꽝",0,0,0,{"$f":"IF(6=U883,\"1등\",IF(13=U883,\"1등\",0))","v":0},0]
[882,"2019.10.26",18,34,39,43,44,45,23,null,null,882,{"$f":"COUNTIF(번호추출!$N$13:$S$13,자료실!C884)","v":1},{"$f":"COUNTIF(번호추출!$N$13:$S$13,자료실!D884)","v":0},{"$f":"COUNTIF(번호추출!$N$13:$S$13,자료실!E884)","v":0},{"$f":"COUNTIF(번호추출!$N$13:$S$13,자료실!F884)","v":0},{"$f":"COUNTIF(번호추출!$N$13:$S$13,자료실!G884)","v":0},{"$f":"COUNTIF(번호추출!$N$13:$S$13,자료실!H884)","v":1},{"$f":"COUNTIF(번호추출!$N$13:$S$13,I884)","v":0},2,2,"꽝","꽝",0,0,0,{"$f":"IF(6=U884,\"1등\",IF(13=U884,\"1등\",0))","v":0},0]
[883,"2019.11.02",9,18,32,33,37,44,22,null,null,883,{"$f":"COUNTIF(번호추출!$N$13:$S$13,자료실!C885)","v":0},{"$f":"COUNTIF(번호추출!$N$13:$S$13,자료실!D885)","v":1},{"$f":"COUNTIF(번호추출!$N$13:$S$13,자료실!E885)","v":0},{"$f":"COUNTIF(번호추출!$N$13:$S$13,자료실!F885)","v":1},{"$f":"COUNTIF(번호추출!$N$13:$S$13,자료실!G885)","v":0},{"$f":"COUNTIF(번호추출!$N$13:$S$13,자료실!H885)","v":0},{"$f":"COUNTIF(번호추출!$N$13:$S$13,I885)","v":0},2,2,"꽝","꽝",0,0,0,{"$f":"IF(6=U885,\"1등\",IF(13=U885,\"1등\",0))","v":0},0]
[884,"2019.11.09",4,14,23,28,37,45,17,null,null,884,{"$f":"COUNTIF(번호추출!$N$13:$S$13,자료실!C886)","v":1},{"$f":"COUNTIF(번호추출!$N$13:$S$13,자료실!D886)","v":0},{"$f":"COUNTIF(번호추출!$N$13:$S$13,자료실!E886)","v":0},{"$f":"COUNTIF(번호추출!$N$13:$S$13,자료실!F886)","v":0},{"$f":"COUNTIF(번호추출!$N$13:$S$13,자료실!G886)","v":0},{"$f":"COUNTIF(번호추출!$N$13:$S$13,자료실!H886)","v":1},{"$f":"COUNTIF(번호추출!$N$13:$S$13,I886)","v":0},2,2,"꽝","꽝",0,0,0,{"$f":"IF(6=U886,\"1등\",IF(13=U886,\"1등\",0))","v":0},0]
[885,"2019.11.16",1,3,24,27,39,45,31,null,null,885,{"$f":"COUNTIF(번호추출!$N$13:$S$13,자료실!C887)","v":0},{"$f":"COUNTIF(번호추출!$N$13:$S$13,자료실!D887)","v":0},{"$f":"COUNTIF(번호추출!$N$13:$S$13,자료실!E887)","v":0},{"$f":"COUNTIF(번호추출!$N$13:$S$13,자료실!F887)","v":0},{"$f":"COUNTIF(번호추출!$N$13:$S$13,자료실!G887)","v":0},{"$f":"COUNTIF(번호추출!$N$13:$S$13,자료실!H887)","v":1},{"$f":"COUNTIF(번호추출!$N$13:$S$13,I887)","v":0},1,1,"꽝",0,0,0,0,{"$f":"IF(6=U887,\"1등\",IF(13=U887,\"1등\",0))","v":0},0]
[886,"2019.11.23",19,23,28,37,42,45,2,null,null,886,{"$f":"COUNTIF(번호추출!$N$13:$S$13,자료실!C888)","v":0},{"$f":"COUNTIF(번호추출!$N$13:$S$13,자료실!D888)","v":0},{"$f":"COUNTIF(번호추출!$N$13:$S$13,자료실!E888)","v":0},{"$f":"COUNTIF(번호추출!$N$13:$S$13,자료실!F888)","v":0},{"$f":"COUNTIF(번호추출!$N$13:$S$13,자료실!G888)","v":0},{"$f":"COUNTIF(번호추출!$N$13:$S$13,자료실!H888)","v":1},{"$f":"COUNTIF(번호추출!$N$13:$S$13,I888)","v":0},1,1,"꽝",0,0,0,0,{"$f":"IF(6=U888,\"1등\",IF(13=U888,\"1등\",0))","v":0},0]
[887,"2019.11.30",8,14,17,27,36,45,10,null,null,887,{"$f":"COUNTIF(번호추출!$N$13:$S$13,자료실!C889)","v":0},{"$f":"COUNTIF(번호추출!$N$13:$S$13,자료실!D889)","v":0},{"$f":"COUNTIF(번호추출!$N$13:$S$13,자료실!E889)","v":0},{"$f":"COUNTIF(번호추출!$N$13:$S$13,자료실!F889)","v":0},{"$f":"COUNTIF(번호추출!$N$13:$S$13,자료실!G889)","v":0},{"$f":"COUNTIF(번호추출!$N$13:$S$13,자료실!H889)","v":1},{"$f":"COUNTIF(번호추출!$N$13:$S$13,I889)","v":0},1,1,"꽝",0,0,0,0,{"$f":"IF(6=U889,\"1등\",IF(13=U889,\"1등\",0))","v":0},0]
[888,"2019.12.07",3,7,12,31,34,38,32,null,null,888,{"$f":"COUNTIF(번호추출!$N$13:$S$13,자료실!C890)","v":0},{"$f":"COUNTIF(번호추출!$N$13:$S$13,자료실!D890)","v":0},{"$f":"COUNTIF(번호추출!$N$13:$S$13,자료실!E890)","v":0},{"$f":"COUNTIF(번호추출!$N$13:$S$13,자료실!F890)","v":0},{"$f":"COUNTIF(번호추출!$N$13:$S$13,자료실!G890)","v":0},{"$f":"COUNTIF(번호추출!$N$13:$S$13,자료실!H890)","v":0},{"$f":"COUNTIF(번호추출!$N$13:$S$13,I890)","v":0},0,0,0,0,0,0,0,{"$f":"IF(6=U890,\"1등\",IF(13=U890,\"1등\",0))","v":0},0]
[889,"2019.12.14",3,13,29,38,39,42,26,null,null,889,{"$f":"COUNTIF(번호추출!$N$13:$S$13,자료실!C891)","v":0},{"$f":"COUNTIF(번호추출!$N$13:$S$13,자료실!D891)","v":0},{"$f":"COUNTIF(번호추출!$N$13:$S$13,자료실!E891)","v":0},{"$f":"COUNTIF(번호추출!$N$13:$S$13,자료실!F891)","v":0},{"$f":"COUNTIF(번호추출!$N$13:$S$13,자료실!G891)","v":0},{"$f":"COUNTIF(번호추출!$N$13:$S$13,자료실!H891)","v":0},{"$f":"COUNTIF(번호추출!$N$13:$S$13,I891)","v":0},0,0,0,0,0,0,0,{"$f":"IF(6=U891,\"1등\",IF(13=U891,\"1등\",0))","v":0},0]
[890,"2019.12.21",1,4,14,18,29,37,6,null,null,890,{"$f":"COUNTIF(번호추출!$N$13:$S$13,자료실!C892)","v":0},{"$f":"COUNTIF(번호추출!$N$13:$S$13,자료실!D892)","v":1},{"$f":"COUNTIF(번호추출!$N$13:$S$13,자료실!E892)","v":0},{"$f":"COUNTIF(번호추출!$N$13:$S$13,자료실!F892)","v":1},{"$f":"COUNTIF(번호추출!$N$13:$S$13,자료실!G892)","v":0},{"$f":"COUNTIF(번호추출!$N$13:$S$13,자료실!H892)","v":0},{"$f":"COUNTIF(번호추출!$N$13:$S$13,I892)","v":0},2,2,"꽝","꽝",0,0,0,{"$f":"IF(6=U892,\"1등\",IF(13=U892,\"1등\",0))","v":0},0]
[891,"2019.12.28",9,13,28,31,39,41,19,null,null,891,{"$f":"COUNTIF(번호추출!$N$13:$S$13,자료실!C893)","v":0},{"$f":"COUNTIF(번호추출!$N$13:$S$13,자료실!D893)","v":0},{"$f":"COUNTIF(번호추출!$N$13:$S$13,자료실!E893)","v":0},{"$f":"COUNTIF(번호추출!$N$13:$S$13,자료실!F893)","v":0},{"$f":"COUNTIF(번호추출!$N$13:$S$13,자료실!G893)","v":0},{"$f":"COUNTIF(번호추출!$N$13:$S$13,자료실!H893)","v":0},{"$f":"COUNTIF(번호추출!$N$13:$S$13,I893)","v":0},0,0,0,0,0,0,0,{"$f":"IF(6=U893,\"1등\",IF(13=U893,\"1등\",0))","v":0},0]
[892,"2020.01.04",4,9,17,18,26,42,36,null,null,892,{"$f":"COUNTIF(번호추출!$N$13:$S$13,자료실!C894)","v":1},{"$f":"COUNTIF(번호추출!$N$13:$S$13,자료실!D894)","v":0},{"$f":"COUNTIF(번호추출!$N$13:$S$13,자료실!E894)","v":0},{"$f":"COUNTIF(번호추출!$N$13:$S$13,자료실!F894)","v":1},{"$f":"COUNTIF(번호추출!$N$13:$S$13,자료실!G894)","v":0},{"$f":"COUNTIF(번호추출!$N$13:$S$13,자료실!H894)","v":0},{"$f":"COUNTIF(번호추출!$N$13:$S$13,I894)","v":0},2,2,"꽝","꽝",0,0,0,{"$f":"IF(6=U894,\"1등\",IF(13=U894,\"1등\",0))","v":0},0]
[893,"2020.01.11",1,15,17,23,25,41,10,null,null,893,{"$f":"COUNTIF(번호추출!$N$13:$S$13,자료실!C895)","v":0},{"$f":"COUNTIF(번호추출!$N$13:$S$13,자료실!D895)","v":1},{"$f":"COUNTIF(번호추출!$N$13:$S$13,자료실!E895)","v":0},{"$f":"COUNTIF(번호추출!$N$13:$S$13,자료실!F895)","v":0},{"$f":"COUNTIF(번호추출!$N$13:$S$13,자료실!G895)","v":1},{"$f":"COUNTIF(번호추출!$N$13:$S$13,자료실!H895)","v":0},{"$f":"COUNTIF(번호추출!$N$13:$S$13,I895)","v":0},2,2,"꽝","꽝",0,0,0,{"$f":"IF(6=U895,\"1등\",IF(13=U895,\"1등\",0))","v":0},0]
[894,"2020.01.18",19,32,37,40,41,43,45,null,null,894,{"$f":"COUNTIF(번호추출!$N$13:$S$13,자료실!C896)","v":0},{"$f":"COUNTIF(번호추출!$N$13:$S$13,자료실!D896)","v":0},{"$f":"COUNTIF(번호추출!$N$13:$S$13,자료실!E896)","v":0},{"$f":"COUNTIF(번호추출!$N$13:$S$13,자료실!F896)","v":0},{"$f":"COUNTIF(번호추출!$N$13:$S$13,자료실!G896)","v":0},{"$f":"COUNTIF(번호추출!$N$13:$S$13,자료실!H896)","v":0},{"$f":"COUNTIF(번호추출!$N$13:$S$13,I896)","v":1},0,1,"꽝",0,0,0,0,{"$f":"IF(6=U896,\"1등\",IF(13=U896,\"1등\",0))","v":0},0]
[895,"2020.01.25",16,26,31,38,39,41,23,null,null,895,{"$f":"COUNTIF(번호추출!$N$13:$S$13,자료실!C897)","v":0},{"$f":"COUNTIF(번호추출!$N$13:$S$13,자료실!D897)","v":0},{"$f":"COUNTIF(번호추출!$N$13:$S$13,자료실!E897)","v":0},{"$f":"COUNTIF(번호추출!$N$13:$S$13,자료실!F897)","v":0},{"$f":"COUNTIF(번호추출!$N$13:$S$13,자료실!G897)","v":0},{"$f":"COUNTIF(번호추출!$N$13:$S$13,자료실!H897)","v":0},{"$f":"COUNTIF(번호추출!$N$13:$S$13,I897)","v":0},0,0,0,0,0,0,0,{"$f":"IF(6=U897,\"1등\",IF(13=U897,\"1등\",0))","v":0},0]
[896,"2020.02.01",5,12,25,26,38,45,23,null,null,896,{"$f":"COUNTIF(번호추출!$N$13:$S$13,자료실!C898)","v":0},{"$f":"COUNTIF(번호추출!$N$13:$S$13,자료실!D898)","v":0},{"$f":"COUNTIF(번호추출!$N$13:$S$13,자료실!E898)","v":1},{"$f":"COUNTIF(번호추출!$N$13:$S$13,자료실!F898)","v":0},{"$f":"COUNTIF(번호추출!$N$13:$S$13,자료실!G898)","v":0},{"$f":"COUNTIF(번호추출!$N$13:$S$13,자료실!H898)","v":1},{"$f":"COUNTIF(번호추출!$N$13:$S$13,I898)","v":0},2,2,"꽝","꽝",0,0,0,{"$f":"IF(6=U898,\"1등\",IF(13=U898,\"1등\",0))","v":0},0]
[897,"2020.02.08",6,7,12,22,26,36,29,null,null,897,{"$f":"COUNTIF(번호추출!$N$13:$S$13,자료실!C899)","v":0},{"$f":"COUNTIF(번호추출!$N$13:$S$13,자료실!D899)","v":0},{"$f":"COUNTIF(번호추출!$N$13:$S$13,자료실!E899)","v":0},{"$f":"COUNTIF(번호추출!$N$13:$S$13,자료실!F899)","v":0},{"$f":"COUNTIF(번호추출!$N$13:$S$13,자료실!G899)","v":0},{"$f":"COUNTIF(번호추출!$N$13:$S$13,자료실!H899)","v":0},{"$f":"COUNTIF(번호추출!$N$13:$S$13,I899)","v":0},0,0,0,0,0,0,0,{"$f":"IF(6=U899,\"1등\",IF(13=U899,\"1등\",0))","v":0},0]
[898,"2020.02.15",18,21,28,35,37,42,17,null,null,898,{"$f":"COUNTIF(번호추출!$N$13:$S$13,자료실!C900)","v":1},{"$f":"COUNTIF(번호추출!$N$13:$S$13,자료실!D900)","v":0},{"$f":"COUNTIF(번호추출!$N$13:$S$13,자료실!E900)","v":0},{"$f":"COUNTIF(번호추출!$N$13:$S$13,자료실!F900)","v":0},{"$f":"COUNTIF(번호추출!$N$13:$S$13,자료실!G900)","v":0},{"$f":"COUNTIF(번호추출!$N$13:$S$13,자료실!H900)","v":0},{"$f":"COUNTIF(번호추출!$N$13:$S$13,I900)","v":0},1,1,"꽝",0,0,0,0,{"$f":"IF(6=U900,\"1등\",IF(13=U900,\"1등\",0))","v":0},0]
[899,"2020.02.22",8,19,20,21,33,39,37,null,null,899,{"$f":"COUNTIF(번호추출!$N$13:$S$13,자료실!C901)","v":0},{"$f":"COUNTIF(번호추출!$N$13:$S$13,자료실!D901)","v":0},{"$f":"COUNTIF(번호추출!$N$13:$S$13,자료실!E901)","v":0},{"$f":"COUNTIF(번호추출!$N$13:$S$13,자료실!F901)","v":0},{"$f":"COUNTIF(번호추출!$N$13:$S$13,자료실!G901)","v":1},{"$f":"COUNTIF(번호추출!$N$13:$S$13,자료실!H901)","v":0},{"$f":"COUNTIF(번호추출!$N$13:$S$13,I901)","v":0},1,1,"꽝",0,0,0,0,{"$f":"IF(6=U901,\"1등\",IF(13=U901,\"1등\",0))","v":0},0]
[900,"2020.02.29",7,13,16,18,35,38,14,null,null,900,{"$f":"COUNTIF(번호추출!$N$13:$S$13,자료실!C902)","v":0},{"$f":"COUNTIF(번호추출!$N$13:$S$13,자료실!D902)","v":0},{"$f":"COUNTIF(번호추출!$N$13:$S$13,자료실!E902)","v":0},{"$f":"COUNTIF(번호추출!$N$13:$S$13,자료실!F902)","v":1},{"$f":"COUNTIF(번호추출!$N$13:$S$13,자료실!G902)","v":0},{"$f":"COUNTIF(번호추출!$N$13:$S$13,자료실!H902)","v":0},{"$f":"COUNTIF(번호추출!$N$13:$S$13,I902)","v":0},1,1,"꽝",0,0,0,0,{"$f":"IF(6=U902,\"1등\",IF(13=U902,\"1등\",0))","v":0},0]
[901,"2020.03.07",5,18,20,23,30,34,21,null,null,901,{"$f":"COUNTIF(번호추출!$N$13:$S$13,자료실!C903)","v":0},{"$f":"COUNTIF(번호추출!$N$13:$S$13,자료실!D903)","v":1},{"$f":"COUNTIF(번호추출!$N$13:$S$13,자료실!E903)","v":0},{"$f":"COUNTIF(번호추출!$N$13:$S$13,자료실!F903)","v":0},{"$f":"COUNTIF(번호추출!$N$13:$S$13,자료실!G903)","v":0},{"$f":"COUNTIF(번호추출!$N$13:$S$13,자료실!H903)","v":0},{"$f":"COUNTIF(번호추출!$N$13:$S$13,I903)","v":0},1,1,"꽝",0,0,0,0,{"$f":"IF(6=U903,\"1등\",IF(13=U903,\"1등\",0))","v":0},0]
[902,"2020.03.14",7,19,23,24,36,39,30,null,null,902,{"$f":"COUNTIF(번호추출!$N$13:$S$13,자료실!C904)","v":0},{"$f":"COUNTIF(번호추출!$N$13:$S$13,자료실!D904)","v":0},{"$f":"COUNTIF(번호추출!$N$13:$S$13,자료실!E904)","v":0},{"$f":"COUNTIF(번호추출!$N$13:$S$13,자료실!F904)","v":0},{"$f":"COUNTIF(번호추출!$N$13:$S$13,자료실!G904)","v":0},{"$f":"COUNTIF(번호추출!$N$13:$S$13,자료실!H904)","v":0},{"$f":"COUNTIF(번호추출!$N$13:$S$13,I904)","v":0},0,0,0,0,0,0,0,{"$f":"IF(6=U904,\"1등\",IF(13=U904,\"1등\",0))","v":0},0]
[903,"2020.03.21",2,15,16,21,22,28,45,null,null,903,{"$f":"COUNTIF(번호추출!$N$13:$S$13,자료실!C905)","v":0},{"$f":"COUNTIF(번호추출!$N$13:$S$13,자료실!D905)","v":1},{"$f":"COUNTIF(번호추출!$N$13:$S$13,자료실!E905)","v":0},{"$f":"COUNTIF(번호추출!$N$13:$S$13,자료실!F905)","v":0},{"$f":"COUNTIF(번호추출!$N$13:$S$13,자료실!G905)","v":0},{"$f":"COUNTIF(번호추출!$N$13:$S$13,자료실!H905)","v":0},{"$f":"COUNTIF(번호추출!$N$13:$S$13,I905)","v":1},1,2,"꽝","꽝",0,0,0,{"$f":"IF(6=U905,\"1등\",IF(13=U905,\"1등\",0))","v":0},0]
[904,"2020.03.28",2,6,8,26,43,45,11,null,null,904,{"$f":"COUNTIF(번호추출!$N$13:$S$13,자료실!C906)","v":0},{"$f":"COUNTIF(번호추출!$N$13:$S$13,자료실!D906)","v":0},{"$f":"COUNTIF(번호추출!$N$13:$S$13,자료실!E906)","v":0},{"$f":"COUNTIF(번호추출!$N$13:$S$13,자료실!F906)","v":0},{"$f":"COUNTIF(번호추출!$N$13:$S$13,자료실!G906)","v":0},{"$f":"COUNTIF(번호추출!$N$13:$S$13,자료실!H906)","v":1},{"$f":"COUNTIF(번호추출!$N$13:$S$13,I906)","v":0},1,1,"꽝",0,0,0,0,{"$f":"IF(6=U906,\"1등\",IF(13=U906,\"1등\",0))","v":0},0]
[905,"2020.04.04",3,4,16,27,38,40,20,null,null,905,{"$f":"COUNTIF(번호추출!$N$13:$S$13,자료실!C907)","v":0},{"$f":"COUNTIF(번호추출!$N$13:$S$13,자료실!D907)","v":1},{"$f":"COUNTIF(번호추출!$N$13:$S$13,자료실!E907)","v":0},{"$f":"COUNTIF(번호추출!$N$13:$S$13,자료실!F907)","v":0},{"$f":"COUNTIF(번호추출!$N$13:$S$13,자료실!G907)","v":0},{"$f":"COUNTIF(번호추출!$N$13:$S$13,자료실!H907)","v":0},{"$f":"COUNTIF(번호추출!$N$13:$S$13,I907)","v":0},1,1,"꽝",0,0,0,0,{"$f":"IF(6=U907,\"1등\",IF(13=U907,\"1등\",0))","v":0},0]
[906,"2020.04.11",2,5,14,28,31,32,20,null,null,906,{"$f":"COUNTIF(번호추출!$N$13:$S$13,자료실!C908)","v":0},{"$f":"COUNTIF(번호추출!$N$13:$S$13,자료실!D908)","v":0},{"$f":"COUNTIF(번호추출!$N$13:$S$13,자료실!E908)","v":0},{"$f":"COUNTIF(번호추출!$N$13:$S$13,자료실!F908)","v":0},{"$f":"COUNTIF(번호추출!$N$13:$S$13,자료실!G908)","v":0},{"$f":"COUNTIF(번호추출!$N$13:$S$13,자료실!H908)","v":0},{"$f":"COUNTIF(번호추출!$N$13:$S$13,I908)","v":0},0,0,0,0,0,0,0,{"$f":"IF(6=U908,\"1등\",IF(13=U908,\"1등\",0))","v":0},0]
[907,"2020.04.18",21,27,29,38,40,44,37,null,null,907,{"$f":"COUNTIF(번호추출!$N$13:$S$13,자료실!C909)","v":0},{"$f":"COUNTIF(번호추출!$N$13:$S$13,자료실!D909)","v":0},{"$f":"COUNTIF(번호추출!$N$13:$S$13,자료실!E909)","v":0},{"$f":"COUNTIF(번호추출!$N$13:$S$13,자료실!F909)","v":0},{"$f":"COUNTIF(번호추출!$N$13:$S$13,자료실!G909)","v":0},{"$f":"COUNTIF(번호추출!$N$13:$S$13,자료실!H909)","v":0},{"$f":"COUNTIF(번호추출!$N$13:$S$13,I909)","v":0},0,0,0,0,0,0,0,{"$f":"IF(6=U909,\"1등\",IF(13=U909,\"1등\",0))","v":0},0]
[908,"2020.04.25",3,16,21,22,23,44,30,null,null,908,{"$f":"COUNTIF(번호추출!$N$13:$S$13,자료실!C910)","v":0},{"$f":"COUNTIF(번호추출!$N$13:$S$13,자료실!D910)","v":0},{"$f":"COUNTIF(번호추출!$N$13:$S$13,자료실!E910)","v":0},{"$f":"COUNTIF(번호추출!$N$13:$S$13,자료실!F910)","v":0},{"$f":"COUNTIF(번호추출!$N$13:$S$13,자료실!G910)","v":0},{"$f":"COUNTIF(번호추출!$N$13:$S$13,자료실!H910)","v":0},{"$f":"COUNTIF(번호추출!$N$13:$S$13,I910)","v":0},0,0,{"$f":"IF(1=U910,\"꽝\",IF(0<T910,\"꽝\",0))","v":0},{"$f":"IF(2=U910,\"꽝\",IF(1<T910,\"꽝\",0))","v":0},{"$f":"IF(3=U910,\"5등\",IF(2<T910,\"5등\",0))","v":0},{"$f":"IF(4=U910,\"4등\",IF(3<T910,\"4등\",0))","v":0},{"$f":"IF(5=U910,\"3등\",IF(4<T910,\"3등\",0))","v":0},{"$f":"IF(6=U910,\"1등\",IF(13=U910,\"1등\",0))","v":0},{"$f":"IF(U910=12,\"2등\",0)","v":0}]
[909,"2020.05.02",7,24,29,30,34,35,33,null,null,909,{"$f":"COUNTIF(번호추출!$N$13:$S$13,자료실!C911)","v":0},{"$f":"COUNTIF(번호추출!$N$13:$S$13,자료실!D911)","v":0},{"$f":"COUNTIF(번호추출!$N$13:$S$13,자료실!E911)","v":0},{"$f":"COUNTIF(번호추출!$N$13:$S$13,자료실!F911)","v":0},{"$f":"COUNTIF(번호추출!$N$13:$S$13,자료실!G911)","v":0},{"$f":"COUNTIF(번호추출!$N$13:$S$13,자료실!H911)","v":0},{"$f":"COUNTIF(번호추출!$N$13:$S$13,I911)","v":1},0,1,"꽝",0,0,0,0,{"$f":"IF(6=U911,\"1등\",IF(13=U911,\"1등\",0))","v":0},0]
[910,"2020.05.09",1,11,17,27,35,39,31,null,null,910,{"$f":"COUNTIF(번호추출!$N$13:$S$13,자료실!C912)","v":0},{"$f":"COUNTIF(번호추출!$N$13:$S$13,자료실!D912)","v":0},{"$f":"COUNTIF(번호추출!$N$13:$S$13,자료실!E912)","v":0},{"$f":"COUNTIF(번호추출!$N$13:$S$13,자료실!F912)","v":0},{"$f":"COUNTIF(번호추출!$N$13:$S$13,자료실!G912)","v":0},{"$f":"COUNTIF(번호추출!$N$13:$S$13,자료실!H912)","v":0},{"$f":"COUNTIF(번호추출!$N$13:$S$13,I912)","v":0},0,0,0,0,0,0,0,{"$f":"IF(6=U912,\"1등\",IF(13=U912,\"1등\",0))","v":0},0]
[911,"2020.05.16",4,5,12,14,32,42,35,null,null,911,{"$f":"COUNTIF(번호추출!$N$13:$S$13,자료실!C913)","v":1},{"$f":"COUNTIF(번호추출!$N$13:$S$13,자료실!D913)","v":0},{"$f":"COUNTIF(번호추출!$N$13:$S$13,자료실!E913)","v":0},{"$f":"COUNTIF(번호추출!$N$13:$S$13,자료실!F913)","v":0},{"$f":"COUNTIF(번호추출!$N$13:$S$13,자료실!G913)","v":0},{"$f":"COUNTIF(번호추출!$N$13:$S$13,자료실!H913)","v":0},{"$f":"COUNTIF(번호추출!$N$13:$S$13,I913)","v":0},1,1,"꽝",0,0,0,0,{"$f":"IF(6=U913,\"1등\",IF(13=U913,\"1등\",0))","v":0},0]
[912,"2020.05.23",5,8,18,21,22,38,10,null,null,912,{"$f":"COUNTIF(번호추출!$N$13:$S$13,자료실!C914)","v":0},{"$f":"COUNTIF(번호추출!$N$13:$S$13,자료실!D914)","v":0},{"$f":"COUNTIF(번호추출!$N$13:$S$13,자료실!E914)","v":1},{"$f":"COUNTIF(번호추출!$N$13:$S$13,자료실!F914)","v":0},{"$f":"COUNTIF(번호추출!$N$13:$S$13,자료실!G914)","v":0},{"$f":"COUNTIF(번호추출!$N$13:$S$13,자료실!H914)","v":0},{"$f":"COUNTIF(번호추출!$N$13:$S$13,I914)","v":0},1,1,"꽝",0,0,0,0,{"$f":"IF(6=U914,\"1등\",IF(13=U914,\"1등\",0))","v":0},0]
[913,"2020.05.30",6,14,16,21,27,37,40,null,null,913,{"$f":"COUNTIF(번호추출!$N$13:$S$13,자료실!C915)","v":0},{"$f":"COUNTIF(번호추출!$N$13:$S$13,자료실!D915)","v":0},{"$f":"COUNTIF(번호추출!$N$13:$S$13,자료실!E915)","v":0},{"$f":"COUNTIF(번호추출!$N$13:$S$13,자료실!F915)","v":0},{"$f":"COUNTIF(번호추출!$N$13:$S$13,자료실!G915)","v":0},{"$f":"COUNTIF(번호추출!$N$13:$S$13,자료실!H915)","v":0},{"$f":"COUNTIF(번호추출!$N$13:$S$13,I915)","v":0},0,0,0,0,0,0,0,{"$f":"IF(6=U915,\"1등\",IF(13=U915,\"1등\",0))","v":0},0]
[914,"2020.06.06",16,19,24,33,42,44,27,null,null,914,{"$f":"COUNTIF(번호추출!$N$13:$S$13,자료실!C916)","v":0},{"$f":"COUNTIF(번호추출!$N$13:$S$13,자료실!D916)","v":0},{"$f":"COUNTIF(번호추출!$N$13:$S$13,자료실!E916)","v":0},{"$f":"COUNTIF(번호추출!$N$13:$S$13,자료실!F916)","v":1},{"$f":"COUNTIF(번호추출!$N$13:$S$13,자료실!G916)","v":0},{"$f":"COUNTIF(번호추출!$N$13:$S$13,자료실!H916)","v":0},{"$f":"COUNTIF(번호추출!$N$13:$S$13,I916)","v":0},1,1,"꽝",0,0,0,0,{"$f":"IF(6=U916,\"1등\",IF(13=U916,\"1등\",0))","v":0},0]
[915,"2020.06.13",2,6,11,13,22,37,14,null,null,915,{"$f":"COUNTIF(번호추출!$N$13:$S$13,자료실!C917)","v":0},{"$f":"COUNTIF(번호추출!$N$13:$S$13,자료실!D917)","v":0},{"$f":"COUNTIF(번호추출!$N$13:$S$13,자료실!E917)","v":0},{"$f":"COUNTIF(번호추출!$N$13:$S$13,자료실!F917)","v":0},{"$f":"COUNTIF(번호추출!$N$13:$S$13,자료실!G917)","v":0},{"$f":"COUNTIF(번호추출!$N$13:$S$13,자료실!H917)","v":0},{"$f":"COUNTIF(번호추출!$N$13:$S$13,I917)","v":0},0,0,0,0,0,0,0,{"$f":"IF(6=U917,\"1등\",IF(13=U917,\"1등\",0))","v":0},0]
[916,"2020.06.20",6,21,22,32,35,36,17,null,null,916,{"$f":"COUNTIF(번호추출!$N$13:$S$13,자료실!C918)","v":0},{"$f":"COUNTIF(번호추출!$N$13:$S$13,자료실!D918)","v":0},{"$f":"COUNTIF(번호추출!$N$13:$S$13,자료실!E918)","v":0},{"$f":"COUNTIF(번호추출!$N$13:$S$13,자료실!F918)","v":0},{"$f":"COUNTIF(번호추출!$N$13:$S$13,자료실!G918)","v":0},{"$f":"COUNTIF(번호추출!$N$13:$S$13,자료실!H918)","v":0},{"$f":"COUNTIF(번호추출!$N$13:$S$13,I918)","v":0},0,0,0,0,0,0,0,{"$f":"IF(6=U918,\"1등\",IF(13=U918,\"1등\",0))","v":0},0]
[917,"2020.06.27",1,3,23,24,27,43,34,null,null,917,{"$f":"COUNTIF(번호추출!$N$13:$S$13,자료실!C919)","v":0},{"$f":"COUNTIF(번호추출!$N$13:$S$13,자료실!D919)","v":0},{"$f":"COUNTIF(번호추출!$N$13:$S$13,자료실!E919)","v":0},{"$f":"COUNTIF(번호추출!$N$13:$S$13,자료실!F919)","v":0},{"$f":"COUNTIF(번호추출!$N$13:$S$13,자료실!G919)","v":0},{"$f":"COUNTIF(번호추출!$N$13:$S$13,자료실!H919)","v":0},{"$f":"COUNTIF(번호추출!$N$13:$S$13,I919)","v":0},0,0,0,0,0,0,0,{"$f":"IF(6=U919,\"1등\",IF(13=U919,\"1등\",0))","v":0},0]
[918,"2020.07.04",7,11,12,31,33,38,5,null,null,918,{"$f":"COUNTIF(번호추출!$N$13:$S$13,자료실!C920)","v":0},{"$f":"COUNTIF(번호추출!$N$13:$S$13,자료실!D920)","v":0},{"$f":"COUNTIF(번호추출!$N$13:$S$13,자료실!E920)","v":0},{"$f":"COUNTIF(번호추출!$N$13:$S$13,자료실!F920)","v":0},{"$f":"COUNTIF(번호추출!$N$13:$S$13,자료실!G920)","v":1},{"$f":"COUNTIF(번호추출!$N$13:$S$13,자료실!H920)","v":0},{"$f":"COUNTIF(번호추출!$N$13:$S$13,I920)","v":0},1,1,"꽝",0,0,0,0,{"$f":"IF(6=U920,\"1등\",IF(13=U920,\"1등\",0))","v":0},0]
[919,"2020.07.11",9,14,17,18,42,44,35,null,null,919,{"$f":"COUNTIF(번호추출!$N$13:$S$13,자료실!C921)","v":0},{"$f":"COUNTIF(번호추출!$N$13:$S$13,자료실!D921)","v":0},{"$f":"COUNTIF(번호추출!$N$13:$S$13,자료실!E921)","v":0},{"$f":"COUNTIF(번호추출!$N$13:$S$13,자료실!F921)","v":1},{"$f":"COUNTIF(번호추출!$N$13:$S$13,자료실!G921)","v":0},{"$f":"COUNTIF(번호추출!$N$13:$S$13,자료실!H921)","v":0},{"$f":"COUNTIF(번호추출!$N$13:$S$13,I921)","v":0},1,1,"꽝",0,0,0,0,{"$f":"IF(6=U921,\"1등\",IF(13=U921,\"1등\",0))","v":0},0]
[920,"2020.07.18",2,3,26,33,34,43,29,null,null,920,{"$f":"COUNTIF(번호추출!$N$13:$S$13,자료실!C922)","v":0},{"$f":"COUNTIF(번호추출!$N$13:$S$13,자료실!D922)","v":0},{"$f":"COUNTIF(번호추출!$N$13:$S$13,자료실!E922)","v":0},{"$f":"COUNTIF(번호추출!$N$13:$S$13,자료실!F922)","v":1},{"$f":"COUNTIF(번호추출!$N$13:$S$13,자료실!G922)","v":0},{"$f":"COUNTIF(번호추출!$N$13:$S$13,자료실!H922)","v":0},{"$f":"COUNTIF(번호추출!$N$13:$S$13,I922)","v":0},1,1,"꽝",0,0,0,0,{"$f":"IF(6=U922,\"1등\",IF(13=U922,\"1등\",0))","v":0},0]
[921,"2020.07.25",5,7,12,22,28,41,1,null,null,{"$f":"A923","v":921},{"$f":"COUNTIF(번호추출!$N$13:$S$13,자료실!C923)","v":0},{"$f":"COUNTIF(번호추출!$N$13:$S$13,자료실!D923)","v":0},{"$f":"COUNTIF(번호추출!$N$13:$S$13,자료실!E923)","v":0},{"$f":"COUNTIF(번호추출!$N$13:$S$13,자료실!F923)","v":0},{"$f":"COUNTIF(번호추출!$N$13:$S$13,자료실!G923)","v":0},{"$f":"COUNTIF(번호추출!$N$13:$S$13,자료실!H923)","v":0},{"$f":"COUNTIF(번호추출!$N$13:$S$13,I923)","v":0},{"$f":"SUM(M923:R923)","v":0},{"$f":"SUM(M923:S923)","v":0},0,0,0,0,0,{"$f":"IF(6=U923,\"1등\",IF(13=U923,\"1등\",0))","v":0},0]
[922,"2020.08.01",2,6,13,17,27,43,36,null,null,922,{"$f":"COUNTIF(번호추출!$N$13:$S$13,자료실!C924)","v":0},{"$f":"COUNTIF(번호추출!$N$13:$S$13,자료실!D924)","v":0},{"$f":"COUNTIF(번호추출!$N$13:$S$13,자료실!E924)","v":0},{"$f":"COUNTIF(번호추출!$N$13:$S$13,자료실!F924)","v":0},{"$f":"COUNTIF(번호추출!$N$13:$S$13,자료실!G924)","v":0},{"$f":"COUNTIF(번호추출!$N$13:$S$13,자료실!H924)","v":0},{"$f":"COUNTIF(번호추출!$N$13:$S$13,I924)","v":0},0,0,0,0,0,0,0,{"$f":"IF(6=U924,\"1등\",IF(13=U924,\"1등\",0))","v":0},0]
[923,"2020.08.08",3,17,18,23,36,41,26,null,null,923,{"$f":"COUNTIF(번호추출!$N$13:$S$13,자료실!C925)","v":0},{"$f":"COUNTIF(번호추출!$N$13:$S$13,자료실!D925)","v":0},{"$f":"COUNTIF(번호추출!$N$13:$S$13,자료실!E925)","v":1},{"$f":"COUNTIF(번호추출!$N$13:$S$13,자료실!F925)","v":0},{"$f":"COUNTIF(번호추출!$N$13:$S$13,자료실!G925)","v":0},{"$f":"COUNTIF(번호추출!$N$13:$S$13,자료실!H925)","v":0},{"$f":"COUNTIF(번호추출!$N$13:$S$13,I925)","v":0},1,1,"꽝",0,0,0,0,{"$f":"IF(6=U925,\"1등\",IF(13=U925,\"1등\",0))","v":0},0]
[924,"2020.08.15",3,11,34,42,43,44,13,null,null,924,{"$f":"COUNTIF(번호추출!$N$13:$S$13,자료실!C926)","v":0},{"$f":"COUNTIF(번호추출!$N$13:$S$13,자료실!D926)","v":0},{"$f":"COUNTIF(번호추출!$N$13:$S$13,자료실!E926)","v":0},{"$f":"COUNTIF(번호추출!$N$13:$S$13,자료실!F926)","v":0},{"$f":"COUNTIF(번호추출!$N$13:$S$13,자료실!G926)","v":0},{"$f":"COUNTIF(번호추출!$N$13:$S$13,자료실!H926)","v":0},{"$f":"COUNTIF(번호추출!$N$13:$S$13,I926)","v":0},0,0,0,0,0,0,0,{"$f":"IF(6=U926,\"1등\",IF(13=U926,\"1등\",0))","v":0},0]
[925,"2020.08.22",13,24,32,34,39,42,4,null,null,925,{"$f":"COUNTIF(번호추출!$N$13:$S$13,자료실!C927)","v":0},{"$f":"COUNTIF(번호추출!$N$13:$S$13,자료실!D927)","v":0},{"$f":"COUNTIF(번호추출!$N$13:$S$13,자료실!E927)","v":0},{"$f":"COUNTIF(번호추출!$N$13:$S$13,자료실!F927)","v":0},{"$f":"COUNTIF(번호추출!$N$13:$S$13,자료실!G927)","v":0},{"$f":"COUNTIF(번호추출!$N$13:$S$13,자료실!H927)","v":0},{"$f":"COUNTIF(번호추출!$N$13:$S$13,I927)","v":1},0,1,"꽝",0,0,0,0,{"$f":"IF(6=U927,\"1등\",IF(13=U927,\"1등\",0))","v":0},0]
[926,"2020.08.29",10,16,18,20,25,31,6,null,null,926,{"$f":"COUNTIF(번호추출!$N$13:$S$13,자료실!C928)","v":0},{"$f":"COUNTIF(번호추출!$N$13:$S$13,자료실!D928)","v":0},{"$f":"COUNTIF(번호추출!$N$13:$S$13,자료실!E928)","v":1},{"$f":"COUNTIF(번호추출!$N$13:$S$13,자료실!F928)","v":0},{"$f":"COUNTIF(번호추출!$N$13:$S$13,자료실!G928)","v":1},{"$f":"COUNTIF(번호추출!$N$13:$S$13,자료실!H928)","v":0},{"$f":"COUNTIF(번호추출!$N$13:$S$13,I928)","v":0},2,2,"꽝","꽝",0,0,0,{"$f":"IF(6=U928,\"1등\",IF(13=U928,\"1등\",0))","v":0},0]
[927,"2020.09.05",4,15,22,38,41,43,26,null,null,927,{"$f":"COUNTIF(번호추출!$N$13:$S$13,자료실!C929)","v":1},{"$f":"COUNTIF(번호추출!$N$13:$S$13,자료실!D929)","v":1},{"$f":"COUNTIF(번호추출!$N$13:$S$13,자료실!E929)","v":0},{"$f":"COUNTIF(번호추출!$N$13:$S$13,자료실!F929)","v":0},{"$f":"COUNTIF(번호추출!$N$13:$S$13,자료실!G929)","v":0},{"$f":"COUNTIF(번호추출!$N$13:$S$13,자료실!H929)","v":0},{"$f":"COUNTIF(번호추출!$N$13:$S$13,I929)","v":0},2,2,"꽝","꽝",0,0,0,{"$f":"IF(6=U929,\"1등\",IF(13=U929,\"1등\",0))","v":0},0]
[928,"2020.09.12",3,4,10,20,28,44,30,null,null,928,{"$f":"COUNTIF(번호추출!$N$13:$S$13,자료실!C930)","v":0},{"$f":"COUNTIF(번호추출!$N$13:$S$13,자료실!D930)","v":1},{"$f":"COUNTIF(번호추출!$N$13:$S$13,자료실!E930)","v":0},{"$f":"COUNTIF(번호추출!$N$13:$S$13,자료실!F930)","v":0},{"$f":"COUNTIF(번호추출!$N$13:$S$13,자료실!G930)","v":0},{"$f":"COUNTIF(번호추출!$N$13:$S$13,자료실!H930)","v":0},{"$f":"COUNTIF(번호추출!$N$13:$S$13,I930)","v":0},1,1,"꽝",0,0,0,0,{"$f":"IF(6=U930,\"1등\",IF(13=U930,\"1등\",0))","v":0},0]
[929,"2020.09.19",7,9,12,15,19,23,4,null,null,929,{"$f":"COUNTIF(번호추출!$N$13:$S$13,자료실!C931)","v":0},{"$f":"COUNTIF(번호추출!$N$13:$S$13,자료실!D931)","v":0},{"$f":"COUNTIF(번호추출!$N$13:$S$13,자료실!E931)","v":0},{"$f":"COUNTIF(번호추출!$N$13:$S$13,자료실!F931)","v":1},{"$f":"COUNTIF(번호추출!$N$13:$S$13,자료실!G931)","v":0},{"$f":"COUNTIF(번호추출!$N$13:$S$13,자료실!H931)","v":0},{"$f":"COUNTIF(번호추출!$N$13:$S$13,I931)","v":1},1,2,"꽝","꽝",0,0,0,{"$f":"IF(6=U931,\"1등\",IF(13=U931,\"1등\",0))","v":0},0]
[930,"2020.09.26",8,21,25,38,39,44,28,null,null,930,{"$f":"COUNTIF(번호추출!$N$13:$S$13,자료실!C932)","v":0},{"$f":"COUNTIF(번호추출!$N$13:$S$13,자료실!D932)","v":0},{"$f":"COUNTIF(번호추출!$N$13:$S$13,자료실!E932)","v":1},{"$f":"COUNTIF(번호추출!$N$13:$S$13,자료실!F932)","v":0},{"$f":"COUNTIF(번호추출!$N$13:$S$13,자료실!G932)","v":0},{"$f":"COUNTIF(번호추출!$N$13:$S$13,자료실!H932)","v":0},{"$f":"COUNTIF(번호추출!$N$13:$S$13,I932)","v":0},1,1,"꽝",0,0,0,0,{"$f":"IF(6=U932,\"1등\",IF(13=U932,\"1등\",0))","v":0},0]
[931,"2020.10.03",14,15,23,25,35,43,32,null,null,931,{"$f":"COUNTIF(번호추출!$N$13:$S$13,자료실!C933)","v":0},{"$f":"COUNTIF(번호추출!$N$13:$S$13,자료실!D933)","v":1},{"$f":"COUNTIF(번호추출!$N$13:$S$13,자료실!E933)","v":0},{"$f":"COUNTIF(번호추출!$N$13:$S$13,자료실!F933)","v":1},{"$f":"COUNTIF(번호추출!$N$13:$S$13,자료실!G933)","v":0},{"$f":"COUNTIF(번호추출!$N$13:$S$13,자료실!H933)","v":0},{"$f":"COUNTIF(번호추출!$N$13:$S$13,I933)","v":0},2,2,"꽝","꽝",0,0,0,{"$f":"IF(6=U933,\"1등\",IF(13=U933,\"1등\",0))","v":0},0]
[932,"2020.10.10",1,6,15,36,37,38,5,null,null,932,{"$f":"COUNTIF(번호추출!$N$13:$S$13,자료실!C934)","v":0},{"$f":"COUNTIF(번호추출!$N$13:$S$13,자료실!D934)","v":0},{"$f":"COUNTIF(번호추출!$N$13:$S$13,자료실!E934)","v":1},{"$f":"COUNTIF(번호추출!$N$13:$S$13,자료실!F934)","v":0},{"$f":"COUNTIF(번호추출!$N$13:$S$13,자료실!G934)","v":0},{"$f":"COUNTIF(번호추출!$N$13:$S$13,자료실!H934)","v":0},{"$f":"COUNTIF(번호추출!$N$13:$S$13,I934)","v":0},1,1,"꽝",0,0,0,0,{"$f":"IF(6=U934,\"1등\",IF(13=U934,\"1등\",0))","v":0},0]
[933,"2020.10.17",23,27,29,31,36,45,37,null,null,933,{"$f":"COUNTIF(번호추출!$N$13:$S$13,자료실!C935)","v":0},{"$f":"COUNTIF(번호추출!$N$13:$S$13,자료실!D935)","v":0},{"$f":"COUNTIF(번호추출!$N$13:$S$13,자료실!E935)","v":0},{"$f":"COUNTIF(번호추출!$N$13:$S$13,자료실!F935)","v":0},{"$f":"COUNTIF(번호추출!$N$13:$S$13,자료실!G935)","v":0},{"$f":"COUNTIF(번호추출!$N$13:$S$13,자료실!H935)","v":1},{"$f":"COUNTIF(번호추출!$N$13:$S$13,I935)","v":0},1,1,"꽝",0,0,0,0,{"$f":"IF(6=U935,\"1등\",IF(13=U935,\"1등\",0))","v":0},0]
[934,"2020.10.24",1,3,30,33,36,39,12,null,null,934,{"$f":"COUNTIF(번호추출!$N$13:$S$13,자료실!C936)","v":0},{"$f":"COUNTIF(번호추출!$N$13:$S$13,자료실!D936)","v":0},{"$f":"COUNTIF(번호추출!$N$13:$S$13,자료실!E936)","v":0},{"$f":"COUNTIF(번호추출!$N$13:$S$13,자료실!F936)","v":1},{"$f":"COUNTIF(번호추출!$N$13:$S$13,자료실!G936)","v":0},{"$f":"COUNTIF(번호추출!$N$13:$S$13,자료실!H936)","v":0},{"$f":"COUNTIF(번호추출!$N$13:$S$13,I936)","v":0},1,1,"꽝",0,0,0,0,{"$f":"IF(6=U936,\"1등\",IF(13=U936,\"1등\",0))","v":0},0]
[935,"2020.10.31",4,10,20,32,38,44,18,null,null,935,{"$f":"COUNTIF(번호추출!$N$13:$S$13,자료실!C937)","v":1},{"$f":"COUNTIF(번호추출!$N$13:$S$13,자료실!D937)","v":0},{"$f":"COUNTIF(번호추출!$N$13:$S$13,자료실!E937)","v":0},{"$f":"COUNTIF(번호추출!$N$13:$S$13,자료실!F937)","v":0},{"$f":"COUNTIF(번호추출!$N$13:$S$13,자료실!G937)","v":0},{"$f":"COUNTIF(번호추출!$N$13:$S$13,자료실!H937)","v":0},{"$f":"COUNTIF(번호추출!$N$13:$S$13,I937)","v":1},1,2,"꽝","꽝",0,0,0,{"$f":"IF(6=U937,\"1등\",IF(13=U937,\"1등\",0))","v":0},0]
[936,"2020.11.07",7,11,13,17,18,29,43,null,null,936,{"$f":"COUNTIF(번호추출!$N$13:$S$13,자료실!C938)","v":0},{"$f":"COUNTIF(번호추출!$N$13:$S$13,자료실!D938)","v":0},{"$f":"COUNTIF(번호추출!$N$13:$S$13,자료실!E938)","v":0},{"$f":"COUNTIF(번호추출!$N$13:$S$13,자료실!F938)","v":0},{"$f":"COUNTIF(번호추출!$N$13:$S$13,자료실!G938)","v":1},{"$f":"COUNTIF(번호추출!$N$13:$S$13,자료실!H938)","v":0},{"$f":"COUNTIF(번호추출!$N$13:$S$13,I938)","v":0},1,1,"꽝",0,0,0,0,{"$f":"IF(6=U938,\"1등\",IF(13=U938,\"1등\",0))","v":0},0]
[937,"2020.11.14",2,10,13,22,29,40,26,null,null,937,{"$f":"COUNTIF(번호추출!$N$13:$S$13,자료실!C939)","v":0},{"$f":"COUNTIF(번호추출!$N$13:$S$13,자료실!D939)","v":0},{"$f":"COUNTIF(번호추출!$N$13:$S$13,자료실!E939)","v":0},{"$f":"COUNTIF(번호추출!$N$13:$S$13,자료실!F939)","v":0},{"$f":"COUNTIF(번호추출!$N$13:$S$13,자료실!G939)","v":0},{"$f":"COUNTIF(번호추출!$N$13:$S$13,자료실!H939)","v":0},{"$f":"COUNTIF(번호추출!$N$13:$S$13,I939)","v":0},0,0,0,0,0,0,0,{"$f":"IF(6=U939,\"1등\",IF(13=U939,\"1등\",0))","v":0},0]
[938,"2020.11.21",4,8,10,16,31,36,9,null,null,938,{"$f":"COUNTIF(번호추출!$N$13:$S$13,자료실!C940)","v":1},{"$f":"COUNTIF(번호추출!$N$13:$S$13,자료실!D940)","v":0},{"$f":"COUNTIF(번호추출!$N$13:$S$13,자료실!E940)","v":0},{"$f":"COUNTIF(번호추출!$N$13:$S$13,자료실!F940)","v":0},{"$f":"COUNTIF(번호추출!$N$13:$S$13,자료실!G940)","v":0},{"$f":"COUNTIF(번호추출!$N$13:$S$13,자료실!H940)","v":0},{"$f":"COUNTIF(번호추출!$N$13:$S$13,I940)","v":0},1,1,"꽝",0,0,0,0,{"$f":"IF(6=U940,\"1등\",IF(13=U940,\"1등\",0))","v":0},0]
[939,"2020.11.28",4,11,28,39,42,45,6,null,null,939,{"$f":"COUNTIF(번호추출!$N$13:$S$13,자료실!C941)","v":1},{"$f":"COUNTIF(번호추출!$N$13:$S$13,자료실!D941)","v":0},{"$f":"COUNTIF(번호추출!$N$13:$S$13,자료실!E941)","v":0},{"$f":"COUNTIF(번호추출!$N$13:$S$13,자료실!F941)","v":0},{"$f":"COUNTIF(번호추출!$N$13:$S$13,자료실!G941)","v":0},{"$f":"COUNTIF(번호추출!$N$13:$S$13,자료실!H941)","v":1},{"$f":"COUNTIF(번호추출!$N$13:$S$13,I941)","v":0},2,2,"꽝","꽝",0,0,0,{"$f":"IF(6=U941,\"1등\",IF(13=U941,\"1등\",0))","v":0},0]
[940,"2020.12.05",3,15,20,22,24,41,11,null,null,940,{"$f":"COUNTIF(번호추출!$N$13:$S$13,자료실!C942)","v":0},{"$f":"COUNTIF(번호추출!$N$13:$S$13,자료실!D942)","v":1},{"$f":"COUNTIF(번호추출!$N$13:$S$13,자료실!E942)","v":0},{"$f":"COUNTIF(번호추출!$N$13:$S$13,자료실!F942)","v":0},{"$f":"COUNTIF(번호추출!$N$13:$S$13,자료실!G942)","v":0},{"$f":"COUNTIF(번호추출!$N$13:$S$13,자료실!H942)","v":0},{"$f":"COUNTIF(번호추출!$N$13:$S$13,I942)","v":0},1,1,"꽝",0,0,0,0,{"$f":"IF(6=U942,\"1등\",IF(13=U942,\"1등\",0))","v":0},0]
[941,"2020.12.12",12,14,25,27,39,40,35,null,null,941,{"$f":"COUNTIF(번호추출!$N$13:$S$13,자료실!C943)","v":0},{"$f":"COUNTIF(번호추출!$N$13:$S$13,자료실!D943)","v":0},{"$f":"COUNTIF(번호추출!$N$13:$S$13,자료실!E943)","v":1},{"$f":"COUNTIF(번호추출!$N$13:$S$13,자료실!F943)","v":0},{"$f":"COUNTIF(번호추출!$N$13:$S$13,자료실!G943)","v":0},{"$f":"COUNTIF(번호추출!$N$13:$S$13,자료실!H943)","v":0},{"$f":"COUNTIF(번호추출!$N$13:$S$13,I943)","v":0},1,1,"꽝",0,0,0,0,{"$f":"IF(6=U943,\"1등\",IF(13=U943,\"1등\",0))","v":0},0]
[942,"2020.12.19",10,12,18,35,42,43,39,null,null,942,{"$f":"COUNTIF(번호추출!$N$13:$S$13,자료실!C944)","v":0},{"$f":"COUNTIF(번호추출!$N$13:$S$13,자료실!D944)","v":0},{"$f":"COUNTIF(번호추출!$N$13:$S$13,자료실!E944)","v":1},{"$f":"COUNTIF(번호추출!$N$13:$S$13,자료실!F944)","v":0},{"$f":"COUNTIF(번호추출!$N$13:$S$13,자료실!G944)","v":0},{"$f":"COUNTIF(번호추출!$N$13:$S$13,자료실!H944)","v":0},{"$f":"COUNTIF(번호추출!$N$13:$S$13,I944)","v":0},1,1,"꽝",0,0,0,0,{"$f":"IF(6=U944,\"1등\",IF(13=U944,\"1등\",0))","v":0},0]
[943,"2020.12.26",1,8,13,36,44,45,39,null,null,943,{"$f":"COUNTIF(번호추출!$N$13:$S$13,자료실!C945)","v":0},{"$f":"COUNTIF(번호추출!$N$13:$S$13,자료실!D945)","v":0},{"$f":"COUNTIF(번호추출!$N$13:$S$13,자료실!E945)","v":0},{"$f":"COUNTIF(번호추출!$N$13:$S$13,자료실!F945)","v":0},{"$f":"COUNTIF(번호추출!$N$13:$S$13,자료실!G945)","v":0},{"$f":"COUNTIF(번호추출!$N$13:$S$13,자료실!H945)","v":1},{"$f":"COUNTIF(번호추출!$N$13:$S$13,I945)","v":0},1,1,"꽝",0,0,0,0,{"$f":"IF(6=U945,\"1등\",IF(13=U945,\"1등\",0))","v":0},0]
[944,"2021.01.02",2,13,16,19,32,33,42,null,null,944,{"$f":"COUNTIF(번호추출!$N$13:$S$13,자료실!C946)","v":0},{"$f":"COUNTIF(번호추출!$N$13:$S$13,자료실!D946)","v":0},{"$f":"COUNTIF(번호추출!$N$13:$S$13,자료실!E946)","v":0},{"$f":"COUNTIF(번호추출!$N$13:$S$13,자료실!F946)","v":0},{"$f":"COUNTIF(번호추출!$N$13:$S$13,자료실!G946)","v":0},{"$f":"COUNTIF(번호추출!$N$13:$S$13,자료실!H946)","v":1},{"$f":"COUNTIF(번호추출!$N$13:$S$13,I946)","v":0},1,1,"꽝",0,0,0,0,{"$f":"IF(6=U946,\"1등\",IF(13=U946,\"1등\",0))","v":0},0]
[945,"2021.01.09",9,10,15,30,33,37,26,null,null,945,{"$f":"COUNTIF(번호추출!$N$13:$S$13,자료실!C947)","v":0},{"$f":"COUNTIF(번호추출!$N$13:$S$13,자료실!D947)","v":0},{"$f":"COUNTIF(번호추출!$N$13:$S$13,자료실!E947)","v":1},{"$f":"COUNTIF(번호추출!$N$13:$S$13,자료실!F947)","v":0},{"$f":"COUNTIF(번호추출!$N$13:$S$13,자료실!G947)","v":1},{"$f":"COUNTIF(번호추출!$N$13:$S$13,자료실!H947)","v":0},{"$f":"COUNTIF(번호추출!$N$13:$S$13,I947)","v":0},2,2,"꽝","꽝",0,0,0,{"$f":"IF(6=U947,\"1등\",IF(13=U947,\"1등\",0))","v":0},0]
[946,"2021.01.16",9,18,19,30,34,40,20,null,null,946,{"$f":"COUNTIF(번호추출!$N$13:$S$13,자료실!C948)","v":0},{"$f":"COUNTIF(번호추출!$N$13:$S$13,자료실!D948)","v":1},{"$f":"COUNTIF(번호추출!$N$13:$S$13,자료실!E948)","v":0},{"$f":"COUNTIF(번호추출!$N$13:$S$13,자료실!F948)","v":0},{"$f":"COUNTIF(번호추출!$N$13:$S$13,자료실!G948)","v":0},{"$f":"COUNTIF(번호추출!$N$13:$S$13,자료실!H948)","v":0},{"$f":"COUNTIF(번호추출!$N$13:$S$13,I948)","v":0},1,1,"꽝",0,0,0,0,{"$f":"IF(6=U948,\"1등\",IF(13=U948,\"1등\",0))","v":0},0]
[947,"2021.01.23",3,8,17,20,27,35,26,null,null,947,{"$f":"COUNTIF(번호추출!$N$13:$S$13,자료실!C949)","v":0},{"$f":"COUNTIF(번호추출!$N$13:$S$13,자료실!D949)","v":0},{"$f":"COUNTIF(번호추출!$N$13:$S$13,자료실!E949)","v":0},{"$f":"COUNTIF(번호추출!$N$13:$S$13,자료실!F949)","v":0},{"$f":"COUNTIF(번호추출!$N$13:$S$13,자료실!G949)","v":0},{"$f":"COUNTIF(번호추출!$N$13:$S$13,자료실!H949)","v":0},{"$f":"COUNTIF(번호추출!$N$13:$S$13,I949)","v":0},0,0,0,0,0,0,0,{"$f":"IF(6=U949,\"1등\",IF(13=U949,\"1등\",0))","v":0},0]
[948,"2021.01.30",13,18,30,31,38,41,5,null,null,948,{"$f":"COUNTIF(번호추출!$N$13:$S$13,자료실!C950)","v":0},{"$f":"COUNTIF(번호추출!$N$13:$S$13,자료실!D950)","v":1},{"$f":"COUNTIF(번호추출!$N$13:$S$13,자료실!E950)","v":0},{"$f":"COUNTIF(번호추출!$N$13:$S$13,자료실!F950)","v":0},{"$f":"COUNTIF(번호추출!$N$13:$S$13,자료실!G950)","v":0},{"$f":"COUNTIF(번호추출!$N$13:$S$13,자료실!H950)","v":0},{"$f":"COUNTIF(번호추출!$N$13:$S$13,I950)","v":0},1,1,"꽝",0,0,0,0,{"$f":"IF(6=U950,\"1등\",IF(13=U950,\"1등\",0))","v":0},0]
[949,"2021.02.06",14,21,35,36,40,44,30,null,null,949,{"$f":"COUNTIF(번호추출!$N$13:$S$13,자료실!C951)","v":0},{"$f":"COUNTIF(번호추출!$N$13:$S$13,자료실!D951)","v":0},{"$f":"COUNTIF(번호추출!$N$13:$S$13,자료실!E951)","v":0},{"$f":"COUNTIF(번호추출!$N$13:$S$13,자료실!F951)","v":0},{"$f":"COUNTIF(번호추출!$N$13:$S$13,자료실!G951)","v":0},{"$f":"COUNTIF(번호추출!$N$13:$S$13,자료실!H951)","v":0},{"$f":"COUNTIF(번호추출!$N$13:$S$13,I951)","v":0},0,0,0,0,0,0,0,{"$f":"IF(6=U951,\"1등\",IF(13=U951,\"1등\",0))","v":0},0]
[950,"2021.02.13",3,4,15,22,28,40,10,null,null,950,{"$f":"COUNTIF(번호추출!$N$13:$S$13,자료실!C952)","v":0},{"$f":"COUNTIF(번호추출!$N$13:$S$13,자료실!D952)","v":1},{"$f":"COUNTIF(번호추출!$N$13:$S$13,자료실!E952)","v":1},{"$f":"COUNTIF(번호추출!$N$13:$S$13,자료실!F952)","v":0},{"$f":"COUNTIF(번호추출!$N$13:$S$13,자료실!G952)","v":0},{"$f":"COUNTIF(번호추출!$N$13:$S$13,자료실!H952)","v":0},{"$f":"COUNTIF(번호추출!$N$13:$S$13,I952)","v":0},2,2,"꽝","꽝",0,0,0,{"$f":"IF(6=U952,\"1등\",IF(13=U952,\"1등\",0))","v":0},0]
[951,"2021.02.20",2,12,30,31,39,43,38,null,null,951,{"$f":"COUNTIF(번호추출!$N$13:$S$13,자료실!C953)","v":0},{"$f":"COUNTIF(번호추출!$N$13:$S$13,자료실!D953)","v":0},{"$f":"COUNTIF(번호추출!$N$13:$S$13,자료실!E953)","v":0},{"$f":"COUNTIF(번호추출!$N$13:$S$13,자료실!F953)","v":0},{"$f":"COUNTIF(번호추출!$N$13:$S$13,자료실!G953)","v":0},{"$f":"COUNTIF(번호추출!$N$13:$S$13,자료실!H953)","v":0},{"$f":"COUNTIF(번호추출!$N$13:$S$13,I953)","v":0},0,0,0,0,0,0,0,{"$f":"IF(6=U953,\"1등\",IF(13=U953,\"1등\",0))","v":0},0]
[952,"2021.02.27",4,12,22,24,33,41,38,null,null,952,{"$f":"COUNTIF(번호추출!$N$13:$S$13,자료실!C954)","v":1},{"$f":"COUNTIF(번호추출!$N$13:$S$13,자료실!D954)","v":0},{"$f":"COUNTIF(번호추출!$N$13:$S$13,자료실!E954)","v":0},{"$f":"COUNTIF(번호추출!$N$13:$S$13,자료실!F954)","v":0},{"$f":"COUNTIF(번호추출!$N$13:$S$13,자료실!G954)","v":1},{"$f":"COUNTIF(번호추출!$N$13:$S$13,자료실!H954)","v":0},{"$f":"COUNTIF(번호추출!$N$13:$S$13,I954)","v":0},2,2,"꽝","꽝",0,0,0,{"$f":"IF(6=U954,\"1등\",IF(13=U954,\"1등\",0))","v":0},0]
[953,"2021.03.06",7,9,22,27,37,42,34,null,null,953,{"$f":"COUNTIF(번호추출!$N$13:$S$13,자료실!C955)","v":0},{"$f":"COUNTIF(번호추출!$N$13:$S$13,자료실!D955)","v":0},{"$f":"COUNTIF(번호추출!$N$13:$S$13,자료실!E955)","v":0},{"$f":"COUNTIF(번호추출!$N$13:$S$13,자료실!F955)","v":0},{"$f":"COUNTIF(번호추출!$N$13:$S$13,자료실!G955)","v":0},{"$f":"COUNTIF(번호추출!$N$13:$S$13,자료실!H955)","v":0},{"$f":"COUNTIF(번호추출!$N$13:$S$13,I955)","v":0},0,0,0,0,0,0,0,{"$f":"IF(6=U955,\"1등\",IF(13=U955,\"1등\",0))","v":0},0]
[954,"2021.03.13",1,9,26,28,30,41,32,null,null,954,{"$f":"COUNTIF(번호추출!$N$13:$S$13,자료실!C956)","v":0},{"$f":"COUNTIF(번호추출!$N$13:$S$13,자료실!D956)","v":0},{"$f":"COUNTIF(번호추출!$N$13:$S$13,자료실!E956)","v":0},{"$f":"COUNTIF(번호추출!$N$13:$S$13,자료실!F956)","v":0},{"$f":"COUNTIF(번호추출!$N$13:$S$13,자료실!G956)","v":0},{"$f":"COUNTIF(번호추출!$N$13:$S$13,자료실!H956)","v":0},{"$f":"COUNTIF(번호추출!$N$13:$S$13,I956)","v":0},0,0,0,0,0,0,0,{"$f":"IF(6=U956,\"1등\",IF(13=U956,\"1등\",0))","v":0},0]
[955,"2021.03.20",4,9,23,26,29,33,8,null,null,955,{"$f":"COUNTIF(번호추출!$N$13:$S$13,자료실!C957)","v":1},{"$f":"COUNTIF(번호추출!$N$13:$S$13,자료실!D957)","v":0},{"$f":"COUNTIF(번호추출!$N$13:$S$13,자료실!E957)","v":0},{"$f":"COUNTIF(번호추출!$N$13:$S$13,자료실!F957)","v":0},{"$f":"COUNTIF(번호추출!$N$13:$S$13,자료실!G957)","v":0},{"$f":"COUNTIF(번호추출!$N$13:$S$13,자료실!H957)","v":1},{"$f":"COUNTIF(번호추출!$N$13:$S$13,I957)","v":0},2,2,"꽝","꽝",0,0,0,{"$f":"IF(6=U957,\"1등\",IF(13=U957,\"1등\",0))","v":0},0]
[956,"2021.03.27",10,11,20,21,25,41,40,null,null,956,{"$f":"COUNTIF(번호추출!$N$13:$S$13,자료실!C958)","v":0},{"$f":"COUNTIF(번호추출!$N$13:$S$13,자료실!D958)","v":0},{"$f":"COUNTIF(번호추출!$N$13:$S$13,자료실!E958)","v":0},{"$f":"COUNTIF(번호추출!$N$13:$S$13,자료실!F958)","v":0},{"$f":"COUNTIF(번호추출!$N$13:$S$13,자료실!G958)","v":1},{"$f":"COUNTIF(번호추출!$N$13:$S$13,자료실!H958)","v":0},{"$f":"COUNTIF(번호추출!$N$13:$S$13,I958)","v":0},1,1,"꽝",0,0,0,0,{"$f":"IF(6=U958,\"1등\",IF(13=U958,\"1등\",0))","v":0},0]
[957,"2021.04.03",4,15,24,35,36,40,1,null,null,957,{"$f":"COUNTIF(번호추출!$N$13:$S$13,자료실!C959)","v":1},{"$f":"COUNTIF(번호추출!$N$13:$S$13,자료실!D959)","v":1},{"$f":"COUNTIF(번호추출!$N$13:$S$13,자료실!E959)","v":0},{"$f":"COUNTIF(번호추출!$N$13:$S$13,자료실!F959)","v":0},{"$f":"COUNTIF(번호추출!$N$13:$S$13,자료실!G959)","v":0},{"$f":"COUNTIF(번호추출!$N$13:$S$13,자료실!H959)","v":0},{"$f":"COUNTIF(번호추출!$N$13:$S$13,I959)","v":0},2,2,"꽝","꽝",0,0,0,{"$f":"IF(6=U959,\"1등\",IF(13=U959,\"1등\",0))","v":0},0]
[958,"2021.04.10",2,9,10,16,35,37,1,null,null,958,{"$f":"COUNTIF(번호추출!$N$13:$S$13,자료실!C960)","v":0},{"$f":"COUNTIF(번호추출!$N$13:$S$13,자료실!D960)","v":0},{"$f":"COUNTIF(번호추출!$N$13:$S$13,자료실!E960)","v":0},{"$f":"COUNTIF(번호추출!$N$13:$S$13,자료실!F960)","v":0},{"$f":"COUNTIF(번호추출!$N$13:$S$13,자료실!G960)","v":0},{"$f":"COUNTIF(번호추출!$N$13:$S$13,자료실!H960)","v":0},{"$f":"COUNTIF(번호추출!$N$13:$S$13,I960)","v":0},0,0,0,0,0,0,0,{"$f":"IF(6=U960,\"1등\",IF(13=U960,\"1등\",0))","v":0},0]
[959," 2021.04.18",1,14,15,24,40,41,35,null,null,959,{"$f":"COUNTIF(번호추출!$N$13:$S$13,자료실!C961)","v":0},{"$f":"COUNTIF(번호추출!$N$13:$S$13,자료실!D961)","v":0},{"$f":"COUNTIF(번호추출!$N$13:$S$13,자료실!E961)","v":1},{"$f":"COUNTIF(번호추출!$N$13:$S$13,자료실!F961)","v":0},{"$f":"COUNTIF(번호추출!$N$13:$S$13,자료실!G961)","v":0},{"$f":"COUNTIF(번호추출!$N$13:$S$13,자료실!H961)","v":0},{"$f":"COUNTIF(번호추출!$N$13:$S$13,I961)","v":0},1,1,"꽝",0,0,0,0,{"$f":"IF(6=U961,\"1등\",IF(13=U961,\"1등\",0))","v":0},0]
[960," 2021.04.24",2,18,24,30,32,45,14,null,null,960,{"$f":"COUNTIF(번호추출!$N$13:$S$13,자료실!C962)","v":0},{"$f":"COUNTIF(번호추출!$N$13:$S$13,자료실!D962)","v":1},{"$f":"COUNTIF(번호추출!$N$13:$S$13,자료실!E962)","v":0},{"$f":"COUNTIF(번호추출!$N$13:$S$13,자료실!F962)","v":0},{"$f":"COUNTIF(번호추출!$N$13:$S$13,자료실!G962)","v":0},{"$f":"COUNTIF(번호추출!$N$13:$S$13,자료실!H962)","v":1},{"$f":"COUNTIF(번호추출!$N$13:$S$13,I962)","v":0},2,2,"꽝","꽝",0,0,0,{"$f":"IF(6=U962,\"1등\",IF(13=U962,\"1등\",0))","v":0},0]
[961," 2021.05.01",11,20,29,31,33,42,43,null,null,961,{"$f":"COUNTIF(번호추출!$N$13:$S$13,자료실!C963)","v":0},{"$f":"COUNTIF(번호추출!$N$13:$S$13,자료실!D963)","v":0},{"$f":"COUNTIF(번호추출!$N$13:$S$13,자료실!E963)","v":0},{"$f":"COUNTIF(번호추출!$N$13:$S$13,자료실!F963)","v":0},{"$f":"COUNTIF(번호추출!$N$13:$S$13,자료실!G963)","v":1},{"$f":"COUNTIF(번호추출!$N$13:$S$13,자료실!H963)","v":0},{"$f":"COUNTIF(번호추출!$N$13:$S$13,I963)","v":0},1,1,"꽝",0,0,0,0,{"$f":"IF(6=U963,\"1등\",IF(13=U963,\"1등\",0))","v":0},0]
[962," 2021.05.08",1,18,28,31,34,43,40,null,null,962,{"$f":"COUNTIF(번호추출!$N$13:$S$13,자료실!C964)","v":0},{"$f":"COUNTIF(번호추출!$N$13:$S$13,자료실!D964)","v":1},{"$f":"COUNTIF(번호추출!$N$13:$S$13,자료실!E964)","v":0},{"$f":"COUNTIF(번호추출!$N$13:$S$13,자료실!F964)","v":0},{"$f":"COUNTIF(번호추출!$N$13:$S$13,자료실!G964)","v":0},{"$f":"COUNTIF(번호추출!$N$13:$S$13,자료실!H964)","v":0},{"$f":"COUNTIF(번호추출!$N$13:$S$13,I964)","v":0},1,1,"꽝",0,0,0,0,{"$f":"IF(6=U964,\"1등\",IF(13=U964,\"1등\",0))","v":0},0]
[963," 2021.05.15",6,12,19,23,34,42,35,null,null,963,{"$f":"COUNTIF(번호추출!$N$13:$S$13,자료실!C965)","v":0},{"$f":"COUNTIF(번호추출!$N$13:$S$13,자료실!D965)","v":0},{"$f":"COUNTIF(번호추출!$N$13:$S$13,자료실!E965)","v":0},{"$f":"COUNTIF(번호추출!$N$13:$S$13,자료실!F965)","v":0},{"$f":"COUNTIF(번호추출!$N$13:$S$13,자료실!G965)","v":0},{"$f":"COUNTIF(번호추출!$N$13:$S$13,자료실!H965)","v":0},{"$f":"COUNTIF(번호추출!$N$13:$S$13,I965)","v":0},0,0,0,0,0,0,0,{"$f":"IF(6=U965,\"1등\",IF(13=U965,\"1등\",0))","v":0},0]
[964," 2021.05.22",6,21,36,38,39,43,30,null,null,964,{"$f":"COUNTIF(번호추출!$N$13:$S$13,자료실!C966)","v":0},{"$f":"COUNTIF(번호추출!$N$13:$S$13,자료실!D966)","v":0},{"$f":"COUNTIF(번호추출!$N$13:$S$13,자료실!E966)","v":0},{"$f":"COUNTIF(번호추출!$N$13:$S$13,자료실!F966)","v":0},{"$f":"COUNTIF(번호추출!$N$13:$S$13,자료실!G966)","v":0},{"$f":"COUNTIF(번호추출!$N$13:$S$13,자료실!H966)","v":0},{"$f":"COUNTIF(번호추출!$N$13:$S$13,I966)","v":0},0,0,0,0,0,0,0,{"$f":"IF(6=U966,\"1등\",IF(13=U966,\"1등\",0))","v":0},0]
[965," 2021.05.29",2,13,25,28,29,36,34,null,null,965,{"$f":"COUNTIF(번호추출!$N$13:$S$13,자료실!C967)","v":0},{"$f":"COUNTIF(번호추출!$N$13:$S$13,자료실!D967)","v":0},{"$f":"COUNTIF(번호추출!$N$13:$S$13,자료실!E967)","v":1},{"$f":"COUNTIF(번호추출!$N$13:$S$13,자료실!F967)","v":0},{"$f":"COUNTIF(번호추출!$N$13:$S$13,자료실!G967)","v":0},{"$f":"COUNTIF(번호추출!$N$13:$S$13,자료실!H967)","v":0},{"$f":"COUNTIF(번호추출!$N$13:$S$13,I967)","v":0},1,1,"꽝",0,0,0,0,{"$f":"IF(6=U967,\"1등\",IF(13=U967,\"1등\",0))","v":0},0]
[966," 2021.06.05",1,21,25,29,34,37,36,null,null,966,{"$f":"COUNTIF(번호추출!$N$13:$S$13,자료실!C968)","v":0},{"$f":"COUNTIF(번호추출!$N$13:$S$13,자료실!D968)","v":0},{"$f":"COUNTIF(번호추출!$N$13:$S$13,자료실!E968)","v":1},{"$f":"COUNTIF(번호추출!$N$13:$S$13,자료실!F968)","v":0},{"$f":"COUNTIF(번호추출!$N$13:$S$13,자료실!G968)","v":0},{"$f":"COUNTIF(번호추출!$N$13:$S$13,자료실!H968)","v":0},{"$f":"COUNTIF(번호추출!$N$13:$S$13,I968)","v":0},1,1,"꽝",0,0,0,0,{"$f":"IF(6=U968,\"1등\",IF(13=U968,\"1등\",0))","v":0},0]
[967," 2021.06.12",1,6,13,37,38,40,9,null,null,967,{"$f":"COUNTIF(번호추출!$N$13:$S$13,자료실!C969)","v":0},{"$f":"COUNTIF(번호추출!$N$13:$S$13,자료실!D969)","v":0},{"$f":"COUNTIF(번호추출!$N$13:$S$13,자료실!E969)","v":0},{"$f":"COUNTIF(번호추출!$N$13:$S$13,자료실!F969)","v":0},{"$f":"COUNTIF(번호추출!$N$13:$S$13,자료실!G969)","v":0},{"$f":"COUNTIF(번호추출!$N$13:$S$13,자료실!H969)","v":0},{"$f":"COUNTIF(번호추출!$N$13:$S$13,I969)","v":0},0,0,0,0,0,0,0,{"$f":"IF(6=U969,\"1등\",IF(13=U969,\"1등\",0))","v":0},0]
[968," 2021.06.19",2,5,12,14,24,39,33,null,null,968,{"$f":"COUNTIF(번호추출!$N$13:$S$13,자료실!C970)","v":0},{"$f":"COUNTIF(번호추출!$N$13:$S$13,자료실!D970)","v":0},{"$f":"COUNTIF(번호추출!$N$13:$S$13,자료실!E970)","v":0},{"$f":"COUNTIF(번호추출!$N$13:$S$13,자료실!F970)","v":0},{"$f":"COUNTIF(번호추출!$N$13:$S$13,자료실!G970)","v":0},{"$f":"COUNTIF(번호추출!$N$13:$S$13,자료실!H970)","v":0},{"$f":"COUNTIF(번호추출!$N$13:$S$13,I970)","v":1},0,1,"꽝",0,0,0,0,{"$f":"IF(6=U970,\"1등\",IF(13=U970,\"1등\",0))","v":0},0]
[969," 2021.06.26",3,9,10,29,40,45,7,null,null,969,{"$f":"COUNTIF(번호추출!$N$13:$S$13,자료실!C971)","v":0},{"$f":"COUNTIF(번호추출!$N$13:$S$13,자료실!D971)","v":0},{"$f":"COUNTIF(번호추출!$N$13:$S$13,자료실!E971)","v":0},{"$f":"COUNTIF(번호추출!$N$13:$S$13,자료실!F971)","v":0},{"$f":"COUNTIF(번호추출!$N$13:$S$13,자료실!G971)","v":0},{"$f":"COUNTIF(번호추출!$N$13:$S$13,자료실!H971)","v":1},{"$f":"COUNTIF(번호추출!$N$13:$S$13,I971)","v":0},1,1,"꽝",0,0,0,0,{"$f":"IF(6=U971,\"1등\",IF(13=U971,\"1등\",0))","v":0},0]
[970," 2021.07.03",9,11,16,21,28,36,5,null,null,970,{"$f":"COUNTIF(번호추출!$N$13:$S$13,자료실!C972)","v":0},{"$f":"COUNTIF(번호추출!$N$13:$S$13,자료실!D972)","v":0},{"$f":"COUNTIF(번호추출!$N$13:$S$13,자료실!E972)","v":0},{"$f":"COUNTIF(번호추출!$N$13:$S$13,자료실!F972)","v":0},{"$f":"COUNTIF(번호추출!$N$13:$S$13,자료실!G972)","v":0},{"$f":"COUNTIF(번호추출!$N$13:$S$13,자료실!H972)","v":0},{"$f":"COUNTIF(번호추출!$N$13:$S$13,I972)","v":0},0,0,0,0,0,0,0,{"$f":"IF(6=U972,\"1등\",IF(13=U972,\"1등\",0))","v":0},0]
[971," 2021.07.10",2,6,17,18,21,26,7,null,null,971,{"$f":"COUNTIF(번호추출!$N$13:$S$13,자료실!C973)","v":0},{"$f":"COUNTIF(번호추출!$N$13:$S$13,자료실!D973)","v":0},{"$f":"COUNTIF(번호추출!$N$13:$S$13,자료실!E973)","v":0},{"$f":"COUNTIF(번호추출!$N$13:$S$13,자료실!F973)","v":1},{"$f":"COUNTIF(번호추출!$N$13:$S$13,자료실!G973)","v":0},{"$f":"COUNTIF(번호추출!$N$13:$S$13,자료실!H973)","v":0},{"$f":"COUNTIF(번호추출!$N$13:$S$13,I973)","v":0},1,1,"꽝",0,0,0,0,{"$f":"IF(6=U973,\"1등\",IF(13=U973,\"1등\",0))","v":0},0]
[972," 2021.07.17",3,6,17,23,37,39,26,null,null,972,{"$f":"COUNTIF(번호추출!$N$13:$S$13,자료실!C974)","v":0},{"$f":"COUNTIF(번호추출!$N$13:$S$13,자료실!D974)","v":0},{"$f":"COUNTIF(번호추출!$N$13:$S$13,자료실!E974)","v":0},{"$f":"COUNTIF(번호추출!$N$13:$S$13,자료실!F974)","v":0},{"$f":"COUNTIF(번호추출!$N$13:$S$13,자료실!G974)","v":0},{"$f":"COUNTIF(번호추출!$N$13:$S$13,자료실!H974)","v":0},{"$f":"COUNTIF(번호추출!$N$13:$S$13,I974)","v":0},0,0,{"$f":"IF(1=U974,\"꽝\",IF(0<T974,\"꽝\",0))","v":0},{"$f":"IF(2=U974,\"꽝\",IF(1<T974,\"꽝\",0))","v":0},{"$f":"IF(3=U974,\"5등\",IF(2<T974,\"5등\",0))","v":0},{"$f":"IF(4=U974,\"4등\",IF(3<T974,\"4등\",0))","v":0},{"$f":"IF(5=U974,\"3등\",IF(4<T974,\"3등\",0))","v":0},{"$f":"IF(6=U974,\"1등\",IF(13=U974,\"1등\",0))","v":0},{"$f":"IF(U974=12,\"2등\",0)","v":0}]
[973," 2021.07.24",22,26,31,37,41,42,24,null,null,973,{"$f":"COUNTIF(번호추출!$N$13:$S$13,자료실!C975)","v":0},{"$f":"COUNTIF(번호추출!$N$13:$S$13,자료실!D975)","v":0},{"$f":"COUNTIF(번호추출!$N$13:$S$13,자료실!E975)","v":0},{"$f":"COUNTIF(번호추출!$N$13:$S$13,자료실!F975)","v":0},{"$f":"COUNTIF(번호추출!$N$13:$S$13,자료실!G975)","v":0},{"$f":"COUNTIF(번호추출!$N$13:$S$13,자료실!H975)","v":0},{"$f":"COUNTIF(번호추출!$N$13:$S$13,I975)","v":0},0,0,0,0,0,0,0,{"$f":"IF(6=U975,\"1등\",IF(13=U975,\"1등\",0))","v":0},0]
[974," 2021.07.31",1,2,11,16,39,44,32,null,null,974,{"$f":"COUNTIF(번호추출!$N$13:$S$13,자료실!C976)","v":0},{"$f":"COUNTIF(번호추출!$N$13:$S$13,자료실!D976)","v":0},{"$f":"COUNTIF(번호추출!$N$13:$S$13,자료실!E976)","v":0},{"$f":"COUNTIF(번호추출!$N$13:$S$13,자료실!F976)","v":0},{"$f":"COUNTIF(번호추출!$N$13:$S$13,자료실!G976)","v":0},{"$f":"COUNTIF(번호추출!$N$13:$S$13,자료실!H976)","v":0},{"$f":"COUNTIF(번호추출!$N$13:$S$13,I976)","v":0},0,0,0,0,0,0,0,{"$f":"IF(6=U976,\"1등\",IF(13=U976,\"1등\",0))","v":0},0]
[975," 2021.08.07",7,8,9,17,22,24,5,null,null,975,{"$f":"COUNTIF(번호추출!$N$13:$S$13,자료실!C977)","v":0},{"$f":"COUNTIF(번호추출!$N$13:$S$13,자료실!D977)","v":0},{"$f":"COUNTIF(번호추출!$N$13:$S$13,자료실!E977)","v":0},{"$f":"COUNTIF(번호추출!$N$13:$S$13,자료실!F977)","v":0},{"$f":"COUNTIF(번호추출!$N$13:$S$13,자료실!G977)","v":0},{"$f":"COUNTIF(번호추출!$N$13:$S$13,자료실!H977)","v":0},{"$f":"COUNTIF(번호추출!$N$13:$S$13,I977)","v":0},0,0,0,0,0,0,0,{"$f":"IF(6=U977,\"1등\",IF(13=U977,\"1등\",0))","v":0},0]
[976," 2021.08.14",4,12,14,25,35,37,2,null,null,976,{"$f":"COUNTIF(번호추출!$N$13:$S$13,자료실!C978)","v":1},{"$f":"COUNTIF(번호추출!$N$13:$S$13,자료실!D978)","v":0},{"$f":"COUNTIF(번호추출!$N$13:$S$13,자료실!E978)","v":0},{"$f":"COUNTIF(번호추출!$N$13:$S$13,자료실!F978)","v":1},{"$f":"COUNTIF(번호추출!$N$13:$S$13,자료실!G978)","v":0},{"$f":"COUNTIF(번호추출!$N$13:$S$13,자료실!H978)","v":0},{"$f":"COUNTIF(번호추출!$N$13:$S$13,I978)","v":0},2,2,"꽝","꽝",0,0,0,{"$f":"IF(6=U978,\"1등\",IF(13=U978,\"1등\",0))","v":0},0]
[977," 2021.08.21",2,9,10,14,22,44,16,null,null,977,{"$f":"COUNTIF(번호추출!$N$13:$S$13,자료실!C979)","v":0},{"$f":"COUNTIF(번호추출!$N$13:$S$13,자료실!D979)","v":0},{"$f":"COUNTIF(번호추출!$N$13:$S$13,자료실!E979)","v":0},{"$f":"COUNTIF(번호추출!$N$13:$S$13,자료실!F979)","v":0},{"$f":"COUNTIF(번호추출!$N$13:$S$13,자료실!G979)","v":0},{"$f":"COUNTIF(번호추출!$N$13:$S$13,자료실!H979)","v":0},{"$f":"COUNTIF(번호추출!$N$13:$S$13,I979)","v":0},0,0,0,0,0,0,0,{"$f":"IF(6=U979,\"1등\",IF(13=U979,\"1등\",0))","v":0},0]
[978," 2021.08.28",1,7,15,32,34,42,8,null,null,978,{"$f":"COUNTIF(번호추출!$N$13:$S$13,자료실!C980)","v":0},{"$f":"COUNTIF(번호추출!$N$13:$S$13,자료실!D980)","v":0},{"$f":"COUNTIF(번호추출!$N$13:$S$13,자료실!E980)","v":1},{"$f":"COUNTIF(번호추출!$N$13:$S$13,자료실!F980)","v":0},{"$f":"COUNTIF(번호추출!$N$13:$S$13,자료실!G980)","v":0},{"$f":"COUNTIF(번호추출!$N$13:$S$13,자료실!H980)","v":0},{"$f":"COUNTIF(번호추출!$N$13:$S$13,I980)","v":0},1,1,"꽝",0,0,0,0,{"$f":"IF(6=U980,\"1등\",IF(13=U980,\"1등\",0))","v":0},0]
[979," 2021.09.04",7,11,16,21,27,33,24,null,null,979,{"$f":"COUNTIF(번호추출!$N$13:$S$13,자료실!C981)","v":0},{"$f":"COUNTIF(번호추출!$N$13:$S$13,자료실!D981)","v":0},{"$f":"COUNTIF(번호추출!$N$13:$S$13,자료실!E981)","v":0},{"$f":"COUNTIF(번호추출!$N$13:$S$13,자료실!F981)","v":0},{"$f":"COUNTIF(번호추출!$N$13:$S$13,자료실!G981)","v":0},{"$f":"COUNTIF(번호추출!$N$13:$S$13,자료실!H981)","v":1},{"$f":"COUNTIF(번호추출!$N$13:$S$13,I981)","v":0},1,1,"꽝",0,0,0,0,{"$f":"IF(6=U981,\"1등\",IF(13=U981,\"1등\",0))","v":0},0]
[980," 2021.09.11",3,13,16,23,24,35,14,null,null,980,{"$f":"COUNTIF(번호추출!$N$13:$S$13,자료실!C982)","v":0},{"$f":"COUNTIF(번호추출!$N$13:$S$13,자료실!D982)","v":0},{"$f":"COUNTIF(번호추출!$N$13:$S$13,자료실!E982)","v":0},{"$f":"COUNTIF(번호추출!$N$13:$S$13,자료실!F982)","v":0},{"$f":"COUNTIF(번호추출!$N$13:$S$13,자료실!G982)","v":0},{"$f":"COUNTIF(번호추출!$N$13:$S$13,자료실!H982)","v":0},{"$f":"COUNTIF(번호추출!$N$13:$S$13,I982)","v":0},0,0,0,0,0,0,0,{"$f":"IF(6=U982,\"1등\",IF(13=U982,\"1등\",0))","v":0},0]
[981," 2021.09.18",27,36,37,41,43,45,32,null,null,981,{"$f":"COUNTIF(번호추출!$N$13:$S$13,자료실!C983)","v":0},{"$f":"COUNTIF(번호추출!$N$13:$S$13,자료실!D983)","v":0},{"$f":"COUNTIF(번호추출!$N$13:$S$13,자료실!E983)","v":0},{"$f":"COUNTIF(번호추출!$N$13:$S$13,자료실!F983)","v":0},{"$f":"COUNTIF(번호추출!$N$13:$S$13,자료실!G983)","v":0},{"$f":"COUNTIF(번호추출!$N$13:$S$13,자료실!H983)","v":1},{"$f":"COUNTIF(번호추출!$N$13:$S$13,I983)","v":0},1,1,"꽝",0,0,0,0,{"$f":"IF(6=U983,\"1등\",IF(13=U983,\"1등\",0))","v":0},0]
[982," 2021.09.25",5,7,13,20,21,44,33,null,null,982,{"$f":"COUNTIF(번호추출!$N$13:$S$13,자료실!C984)","v":0},{"$f":"COUNTIF(번호추출!$N$13:$S$13,자료실!D984)","v":0},{"$f":"COUNTIF(번호추출!$N$13:$S$13,자료실!E984)","v":0},{"$f":"COUNTIF(번호추출!$N$13:$S$13,자료실!F984)","v":0},{"$f":"COUNTIF(번호추출!$N$13:$S$13,자료실!G984)","v":0},{"$f":"COUNTIF(번호추출!$N$13:$S$13,자료실!H984)","v":0},{"$f":"COUNTIF(번호추출!$N$13:$S$13,I984)","v":1},0,1,"꽝",0,0,0,0,{"$f":"IF(6=U984,\"1등\",IF(13=U984,\"1등\",0))","v":0},0]
[983,"2021.10.02",13,23,26,31,35,43,15,null,null,983,{"$f":"COUNTIF(번호추출!$N$13:$S$13,자료실!C985)","v":0},{"$f":"COUNTIF(번호추출!$N$13:$S$13,자료실!D985)","v":0},{"$f":"COUNTIF(번호추출!$N$13:$S$13,자료실!E985)","v":0},{"$f":"COUNTIF(번호추출!$N$13:$S$13,자료실!F985)","v":0},{"$f":"COUNTIF(번호추출!$N$13:$S$13,자료실!G985)","v":0},{"$f":"COUNTIF(번호추출!$N$13:$S$13,자료실!H985)","v":0},{"$f":"COUNTIF(번호추출!$N$13:$S$13,I985)","v":1},0,1,"꽝",0,0,0,0,{"$f":"IF(6=U985,\"1등\",IF(13=U985,\"1등\",0))","v":0},0]
[984,"2021.10.09",3,10,23,35,36,37,18,null,null,984,{"$f":"COUNTIF(번호추출!$N$13:$S$13,자료실!C986)","v":0},{"$f":"COUNTIF(번호추출!$N$13:$S$13,자료실!D986)","v":0},{"$f":"COUNTIF(번호추출!$N$13:$S$13,자료실!E986)","v":0},{"$f":"COUNTIF(번호추출!$N$13:$S$13,자료실!F986)","v":0},{"$f":"COUNTIF(번호추출!$N$13:$S$13,자료실!G986)","v":0},{"$f":"COUNTIF(번호추출!$N$13:$S$13,자료실!H986)","v":0},{"$f":"COUNTIF(번호추출!$N$13:$S$13,I986)","v":1},0,1,"꽝",0,0,0,0,{"$f":"IF(6=U986,\"1등\",IF(13=U986,\"1등\",0))","v":0},0]
[985,"2021.10.16",17,21,23,30,34,44,19,null,null,{"$f":"A987","v":985},{"$f":"COUNTIF(번호추출!$N$13:$S$13,자료실!C987)","v":0},{"$f":"COUNTIF(번호추출!$N$13:$S$13,자료실!D987)","v":0},{"$f":"COUNTIF(번호추출!$N$13:$S$13,자료실!E987)","v":0},{"$f":"COUNTIF(번호추출!$N$13:$S$13,자료실!F987)","v":0},{"$f":"COUNTIF(번호추출!$N$13:$S$13,자료실!G987)","v":0},{"$f":"COUNTIF(번호추출!$N$13:$S$13,자료실!H987)","v":0},{"$f":"COUNTIF(번호추출!$N$13:$S$13,I987)","v":0},{"$f":"SUM(M987:R987)","v":0},{"$f":"SUM(M987:S987)","v":0},0,0,0,0,0,{"$f":"IF(6=U987,\"1등\",IF(13=U987,\"1등\",0))","v":0},0]
[986,"2021.10.23",7,10,16,28,41,42,40,null,null,986,{"$f":"COUNTIF(번호추출!$N$13:$S$13,자료실!C988)","v":0},{"$f":"COUNTIF(번호추출!$N$13:$S$13,자료실!D988)","v":0},{"$f":"COUNTIF(번호추출!$N$13:$S$13,자료실!E988)","v":0},{"$f":"COUNTIF(번호추출!$N$13:$S$13,자료실!F988)","v":0},{"$f":"COUNTIF(번호추출!$N$13:$S$13,자료실!G988)","v":0},{"$f":"COUNTIF(번호추출!$N$13:$S$13,자료실!H988)","v":0},{"$f":"COUNTIF(번호추출!$N$13:$S$13,I988)","v":0},0,0,0,0,0,0,0,{"$f":"IF(6=U988,\"1등\",IF(13=U988,\"1등\",0))","v":0},0]
[987,"2021.10.30",2,4,15,23,29,38,7,null,null,987,{"$f":"COUNTIF(번호추출!$N$13:$S$13,자료실!C989)","v":0},{"$f":"COUNTIF(번호추출!$N$13:$S$13,자료실!D989)","v":1},{"$f":"COUNTIF(번호추출!$N$13:$S$13,자료실!E989)","v":1},{"$f":"COUNTIF(번호추출!$N$13:$S$13,자료실!F989)","v":0},{"$f":"COUNTIF(번호추출!$N$13:$S$13,자료실!G989)","v":0},{"$f":"COUNTIF(번호추출!$N$13:$S$13,자료실!H989)","v":0},{"$f":"COUNTIF(번호추출!$N$13:$S$13,I989)","v":0},2,2,"꽝","꽝",0,0,0,{"$f":"IF(6=U989,\"1등\",IF(13=U989,\"1등\",0))","v":0},0]
[988,"2021.11.06",2,13,20,30,31,41,27,null,null,988,{"$f":"COUNTIF(번호추출!$N$13:$S$13,자료실!C990)","v":0},{"$f":"COUNTIF(번호추출!$N$13:$S$13,자료실!D990)","v":0},{"$f":"COUNTIF(번호추출!$N$13:$S$13,자료실!E990)","v":0},{"$f":"COUNTIF(번호추출!$N$13:$S$13,자료실!F990)","v":0},{"$f":"COUNTIF(번호추출!$N$13:$S$13,자료실!G990)","v":0},{"$f":"COUNTIF(번호추출!$N$13:$S$13,자료실!H990)","v":0},{"$f":"COUNTIF(번호추출!$N$13:$S$13,I990)","v":0},0,0,0,0,0,0,0,{"$f":"IF(6=U990,\"1등\",IF(13=U990,\"1등\",0))","v":0},0]
[989,"2021.11.13",17,18,21,27,29,33,26,null,null,989,{"$f":"COUNTIF(번호추출!$N$13:$S$13,자료실!C991)","v":0},{"$f":"COUNTIF(번호추출!$N$13:$S$13,자료실!D991)","v":1},{"$f":"COUNTIF(번호추출!$N$13:$S$13,자료실!E991)","v":0},{"$f":"COUNTIF(번호추출!$N$13:$S$13,자료실!F991)","v":0},{"$f":"COUNTIF(번호추출!$N$13:$S$13,자료실!G991)","v":0},{"$f":"COUNTIF(번호추출!$N$13:$S$13,자료실!H991)","v":1},{"$f":"COUNTIF(번호추출!$N$13:$S$13,I991)","v":0},2,2,"꽝","꽝",0,0,0,{"$f":"IF(6=U991,\"1등\",IF(13=U991,\"1등\",0))","v":0},0]
[990,"2021.11.20",2,4,25,26,36,37,28,null,null,990,{"$f":"COUNTIF(번호추출!$N$13:$S$13,자료실!C992)","v":0},{"$f":"COUNTIF(번호추출!$N$13:$S$13,자료실!D992)","v":1},{"$f":"COUNTIF(번호추출!$N$13:$S$13,자료실!E992)","v":1},{"$f":"COUNTIF(번호추출!$N$13:$S$13,자료실!F992)","v":0},{"$f":"COUNTIF(번호추출!$N$13:$S$13,자료실!G992)","v":0},{"$f":"COUNTIF(번호추출!$N$13:$S$13,자료실!H992)","v":0},{"$f":"COUNTIF(번호추출!$N$13:$S$13,I992)","v":0},2,2,"꽝","꽝",0,0,0,{"$f":"IF(6=U992,\"1등\",IF(13=U992,\"1등\",0))","v":0},0]
[991,"2021.11.27",13,18,25,31,33,44,38,null,null,991,{"$f":"COUNTIF(번호추출!$N$13:$S$13,자료실!C993)","v":0},{"$f":"COUNTIF(번호추출!$N$13:$S$13,자료실!D993)","v":1},{"$f":"COUNTIF(번호추출!$N$13:$S$13,자료실!E993)","v":1},{"$f":"COUNTIF(번호추출!$N$13:$S$13,자료실!F993)","v":0},{"$f":"COUNTIF(번호추출!$N$13:$S$13,자료실!G993)","v":1},{"$f":"COUNTIF(번호추출!$N$13:$S$13,자료실!H993)","v":0},{"$f":"COUNTIF(번호추출!$N$13:$S$13,I993)","v":0},3,3,"꽝","꽝","5등",0,0,{"$f":"IF(6=U993,\"1등\",IF(13=U993,\"1등\",0))","v":0},0]
[992,"2021.12.05",12,20,26,33,44,45,24,null,null,992,{"$f":"COUNTIF(번호추출!$N$13:$S$13,자료실!C994)","v":0},{"$f":"COUNTIF(번호추출!$N$13:$S$13,자료실!D994)","v":0},{"$f":"COUNTIF(번호추출!$N$13:$S$13,자료실!E994)","v":0},{"$f":"COUNTIF(번호추출!$N$13:$S$13,자료실!F994)","v":1},{"$f":"COUNTIF(번호추출!$N$13:$S$13,자료실!G994)","v":0},{"$f":"COUNTIF(번호추출!$N$13:$S$13,자료실!H994)","v":1},{"$f":"COUNTIF(번호추출!$N$13:$S$13,I994)","v":0},2,2,"꽝","꽝",0,0,0,{"$f":"IF(6=U994,\"1등\",IF(13=U994,\"1등\",0))","v":0},0]
[993,"2021.12.11",6,14,16,18,24,42,44,null,null,993,{"$f":"COUNTIF(번호추출!$N$13:$S$13,자료실!C995)","v":0},{"$f":"COUNTIF(번호추출!$N$13:$S$13,자료실!D995)","v":0},{"$f":"COUNTIF(번호추출!$N$13:$S$13,자료실!E995)","v":0},{"$f":"COUNTIF(번호추출!$N$13:$S$13,자료실!F995)","v":1},{"$f":"COUNTIF(번호추출!$N$13:$S$13,자료실!G995)","v":0},{"$f":"COUNTIF(번호추출!$N$13:$S$13,자료실!H995)","v":0},{"$f":"COUNTIF(번호추출!$N$13:$S$13,I995)","v":0},1,1,"꽝",0,0,0,0,{"$f":"IF(6=U995,\"1등\",IF(13=U995,\"1등\",0))","v":0},0]
[994,"2021.12.18",1,3,8,24,27,35,28,null,null,994,{"$f":"COUNTIF(번호추출!$N$13:$S$13,자료실!C996)","v":0},{"$f":"COUNTIF(번호추출!$N$13:$S$13,자료실!D996)","v":0},{"$f":"COUNTIF(번호추출!$N$13:$S$13,자료실!E996)","v":0},{"$f":"COUNTIF(번호추출!$N$13:$S$13,자료실!F996)","v":0},{"$f":"COUNTIF(번호추출!$N$13:$S$13,자료실!G996)","v":0},{"$f":"COUNTIF(번호추출!$N$13:$S$13,자료실!H996)","v":0},{"$f":"COUNTIF(번호추출!$N$13:$S$13,I996)","v":0},0,0,0,0,0,0,0,{"$f":"IF(6=U996,\"1등\",IF(13=U996,\"1등\",0))","v":0},0]
[995,"2021.12.25",1,4,13,29,38,39,7,null,null,995,{"$f":"COUNTIF(번호추출!$N$13:$S$13,자료실!C997)","v":0},{"$f":"COUNTIF(번호추출!$N$13:$S$13,자료실!D997)","v":1},{"$f":"COUNTIF(번호추출!$N$13:$S$13,자료실!E997)","v":0},{"$f":"COUNTIF(번호추출!$N$13:$S$13,자료실!F997)","v":0},{"$f":"COUNTIF(번호추출!$N$13:$S$13,자료실!G997)","v":0},{"$f":"COUNTIF(번호추출!$N$13:$S$13,자료실!H997)","v":0},{"$f":"COUNTIF(번호추출!$N$13:$S$13,I997)","v":0},1,1,"꽝",0,0,0,0,{"$f":"IF(6=U997,\"1등\",IF(13=U997,\"1등\",0))","v":0},0]
[996,"2022.01.01",6,11,15,24,32,39,28,null,null,996,{"$f":"COUNTIF(번호추출!$N$13:$S$13,자료실!C998)","v":0},{"$f":"COUNTIF(번호추출!$N$13:$S$13,자료실!D998)","v":0},{"$f":"COUNTIF(번호추출!$N$13:$S$13,자료실!E998)","v":1},{"$f":"COUNTIF(번호추출!$N$13:$S$13,자료실!F998)","v":0},{"$f":"COUNTIF(번호추출!$N$13:$S$13,자료실!G998)","v":0},{"$f":"COUNTIF(번호추출!$N$13:$S$13,자료실!H998)","v":0},{"$f":"COUNTIF(번호추출!$N$13:$S$13,I998)","v":0},1,1,"꽝",0,0,0,0,{"$f":"IF(6=U998,\"1등\",IF(13=U998,\"1등\",0))","v":0},0]
[997,"2022.01.08",4,7,14,16,24,44,20,null,null,997,{"$f":"COUNTIF(번호추출!$N$13:$S$13,자료실!C999)","v":1},{"$f":"COUNTIF(번호추출!$N$13:$S$13,자료실!D999)","v":0},{"$f":"COUNTIF(번호추출!$N$13:$S$13,자료실!E999)","v":0},{"$f":"COUNTIF(번호추출!$N$13:$S$13,자료실!F999)","v":0},{"$f":"COUNTIF(번호추출!$N$13:$S$13,자료실!G999)","v":0},{"$f":"COUNTIF(번호추출!$N$13:$S$13,자료실!H999)","v":0},{"$f":"COUNTIF(번호추출!$N$13:$S$13,I999)","v":0},1,1,"꽝",0,0,0,0,{"$f":"IF(6=U999,\"1등\",IF(13=U999,\"1등\",0))","v":0},0]
[998,"2022.01.15",13,17,18,20,42,45,41,null,null,998,{"$f":"COUNTIF(번호추출!$N$13:$S$13,자료실!C1000)","v":0},{"$f":"COUNTIF(번호추출!$N$13:$S$13,자료실!D1000)","v":0},{"$f":"COUNTIF(번호추출!$N$13:$S$13,자료실!E1000)","v":1},{"$f":"COUNTIF(번호추출!$N$13:$S$13,자료실!F1000)","v":0},{"$f":"COUNTIF(번호추출!$N$13:$S$13,자료실!G1000)","v":0},{"$f":"COUNTIF(번호추출!$N$13:$S$13,자료실!H1000)","v":1},{"$f":"COUNTIF(번호추출!$N$13:$S$13,I1000)","v":0},2,2,"꽝","꽝",0,0,0,{"$f":"IF(6=U1000,\"1등\",IF(13=U1000,\"1등\",0))","v":0},0]
[999,"2022.01.22",1,3,9,14,18,28,34,null,null,999,{"$f":"COUNTIF(번호추출!$N$13:$S$13,자료실!C1001)","v":0},{"$f":"COUNTIF(번호추출!$N$13:$S$13,자료실!D1001)","v":0},{"$f":"COUNTIF(번호추출!$N$13:$S$13,자료실!E1001)","v":0},{"$f":"COUNTIF(번호추출!$N$13:$S$13,자료실!F1001)","v":0},{"$f":"COUNTIF(번호추출!$N$13:$S$13,자료실!G1001)","v":1},{"$f":"COUNTIF(번호추출!$N$13:$S$13,자료실!H1001)","v":0},{"$f":"COUNTIF(번호추출!$N$13:$S$13,I1001)","v":0},1,1,"꽝",0,0,0,0,{"$f":"IF(6=U1001,\"1등\",IF(13=U1001,\"1등\",0))","v":0},0]
[1000,"2022.01.29",2,8,19,22,32,42,39,null,null,1000,{"$f":"COUNTIF(번호추출!$N$13:$S$13,자료실!C1002)","v":0},{"$f":"COUNTIF(번호추출!$N$13:$S$13,자료실!D1002)","v":0},{"$f":"COUNTIF(번호추출!$N$13:$S$13,자료실!E1002)","v":0},{"$f":"COUNTIF(번호추출!$N$13:$S$13,자료실!F1002)","v":0},{"$f":"COUNTIF(번호추출!$N$13:$S$13,자료실!G1002)","v":0},{"$f":"COUNTIF(번호추출!$N$13:$S$13,자료실!H1002)","v":0},{"$f":"COUNTIF(번호추출!$N$13:$S$13,I1002)","v":0},0,0,0,0,0,0,0,{"$f":"IF(6=U1002,\"1등\",IF(13=U1002,\"1등\",0))","v":0},0]
[1001,"2022.02.05",6,10,12,14,20,42,15,null,null,1001,{"$f":"COUNTIF(번호추출!$N$13:$S$13,자료실!C1003)","v":0},{"$f":"COUNTIF(번호추출!$N$13:$S$13,자료실!D1003)","v":0},{"$f":"COUNTIF(번호추출!$N$13:$S$13,자료실!E1003)","v":0},{"$f":"COUNTIF(번호추출!$N$13:$S$13,자료실!F1003)","v":0},{"$f":"COUNTIF(번호추출!$N$13:$S$13,자료실!G1003)","v":0},{"$f":"COUNTIF(번호추출!$N$13:$S$13,자료실!H1003)","v":0},{"$f":"COUNTIF(번호추출!$N$13:$S$13,I1003)","v":1},0,1,"꽝",0,0,0,0,{"$f":"IF(6=U1003,\"1등\",IF(13=U1003,\"1등\",0))","v":0},0]
[1002,"2022.02.12",17,25,33,35,38,45,15,null,null,1002,{"$f":"COUNTIF(번호추출!$N$13:$S$13,자료실!C1004)","v":0},{"$f":"COUNTIF(번호추출!$N$13:$S$13,자료실!D1004)","v":1},{"$f":"COUNTIF(번호추출!$N$13:$S$13,자료실!E1004)","v":1},{"$f":"COUNTIF(번호추출!$N$13:$S$13,자료실!F1004)","v":0},{"$f":"COUNTIF(번호추출!$N$13:$S$13,자료실!G1004)","v":0},{"$f":"COUNTIF(번호추출!$N$13:$S$13,자료실!H1004)","v":1},{"$f":"COUNTIF(번호추출!$N$13:$S$13,I1004)","v":1},3,4,"꽝","꽝","5등","4등",0,{"$f":"IF(6=U1004,\"1등\",IF(13=U1004,\"1등\",0))","v":0},0]
[1003,"2022.02.19",1,4,29,39,43,45,31,null,null,1003,{"$f":"COUNTIF(번호추출!$N$13:$S$13,자료실!C1005)","v":0},{"$f":"COUNTIF(번호추출!$N$13:$S$13,자료실!D1005)","v":1},{"$f":"COUNTIF(번호추출!$N$13:$S$13,자료실!E1005)","v":0},{"$f":"COUNTIF(번호추출!$N$13:$S$13,자료실!F1005)","v":0},{"$f":"COUNTIF(번호추출!$N$13:$S$13,자료실!G1005)","v":0},{"$f":"COUNTIF(번호추출!$N$13:$S$13,자료실!H1005)","v":1},{"$f":"COUNTIF(번호추출!$N$13:$S$13,I1005)","v":0},2,2,"꽝","꽝",0,0,0,{"$f":"IF(6=U1005,\"1등\",IF(13=U1005,\"1등\",0))","v":0},0]
[1004,"2022.02.26",7,15,30,37,39,44,18,null,null,1004,{"$f":"COUNTIF(번호추출!$N$13:$S$13,자료실!C1006)","v":0},{"$f":"COUNTIF(번호추출!$N$13:$S$13,자료실!D1006)","v":1},{"$f":"COUNTIF(번호추출!$N$13:$S$13,자료실!E1006)","v":0},{"$f":"COUNTIF(번호추출!$N$13:$S$13,자료실!F1006)","v":0},{"$f":"COUNTIF(번호추출!$N$13:$S$13,자료실!G1006)","v":0},{"$f":"COUNTIF(번호추출!$N$13:$S$13,자료실!H1006)","v":0},{"$f":"COUNTIF(번호추출!$N$13:$S$13,I1006)","v":1},1,2,"꽝","꽝",0,0,0,{"$f":"IF(6=U1006,\"1등\",IF(13=U1006,\"1등\",0))","v":0},0]
[1005,"2022.03.05",8,13,18,24,27,29,17,null,null,1005,{"$f":"COUNTIF(번호추출!$N$13:$S$13,자료실!C1007)","v":0},{"$f":"COUNTIF(번호추출!$N$13:$S$13,자료실!D1007)","v":0},{"$f":"COUNTIF(번호추출!$N$13:$S$13,자료실!E1007)","v":1},{"$f":"COUNTIF(번호추출!$N$13:$S$13,자료실!F1007)","v":0},{"$f":"COUNTIF(번호추출!$N$13:$S$13,자료실!G1007)","v":0},{"$f":"COUNTIF(번호추출!$N$13:$S$13,자료실!H1007)","v":0},{"$f":"COUNTIF(번호추출!$N$13:$S$13,I1007)","v":0},1,1,"꽝",0,0,0,0,{"$f":"IF(6=U1007,\"1등\",IF(13=U1007,\"1등\",0))","v":0},0]
[1006,"2022.03.12",8,11,15,16,17,37,36,null,null,1006,{"$f":"COUNTIF(번호추출!$N$13:$S$13,자료실!C1008)","v":0},{"$f":"COUNTIF(번호추출!$N$13:$S$13,자료실!D1008)","v":0},{"$f":"COUNTIF(번호추출!$N$13:$S$13,자료실!E1008)","v":1},{"$f":"COUNTIF(번호추출!$N$13:$S$13,자료실!F1008)","v":0},{"$f":"COUNTIF(번호추출!$N$13:$S$13,자료실!G1008)","v":0},{"$f":"COUNTIF(번호추출!$N$13:$S$13,자료실!H1008)","v":0},{"$f":"COUNTIF(번호추출!$N$13:$S$13,I1008)","v":0},1,1,"꽝",0,0,0,0,{"$f":"IF(6=U1008,\"1등\",IF(13=U1008,\"1등\",0))","v":0},0]
[1007,"2022.03.19",8,11,16,19,21,25,40,null,null,1007,{"$f":"COUNTIF(번호추출!$N$13:$S$13,자료실!C1009)","v":0},{"$f":"COUNTIF(번호추출!$N$13:$S$13,자료실!D1009)","v":0},{"$f":"COUNTIF(번호추출!$N$13:$S$13,자료실!E1009)","v":0},{"$f":"COUNTIF(번호추출!$N$13:$S$13,자료실!F1009)","v":0},{"$f":"COUNTIF(번호추출!$N$13:$S$13,자료실!G1009)","v":0},{"$f":"COUNTIF(번호추출!$N$13:$S$13,자료실!H1009)","v":1},{"$f":"COUNTIF(번호추출!$N$13:$S$13,I1009)","v":0},1,1,"꽝",0,0,0,0,{"$f":"IF(6=U1009,\"1등\",IF(13=U1009,\"1등\",0))","v":0},0]
[1008,"2022.03.26",9,11,30,31,41,44,33,null,null,1008,{"$f":"COUNTIF(번호추출!$N$13:$S$13,자료실!C1010)","v":0},{"$f":"COUNTIF(번호추출!$N$13:$S$13,자료실!D1010)","v":0},{"$f":"COUNTIF(번호추출!$N$13:$S$13,자료실!E1010)","v":0},{"$f":"COUNTIF(번호추출!$N$13:$S$13,자료실!F1010)","v":0},{"$f":"COUNTIF(번호추출!$N$13:$S$13,자료실!G1010)","v":0},{"$f":"COUNTIF(번호추출!$N$13:$S$13,자료실!H1010)","v":0},{"$f":"COUNTIF(번호추출!$N$13:$S$13,I1010)","v":1},0,1,"꽝",0,0,0,0,{"$f":"IF(6=U1010,\"1등\",IF(13=U1010,\"1등\",0))","v":0},0]
[1009,"2022.04.02",15,23,29,34,40,44,20,null,null,1009,{"$f":"COUNTIF(번호추출!$N$13:$S$13,자료실!C1011)","v":1},{"$f":"COUNTIF(번호추출!$N$13:$S$13,자료실!D1011)","v":0},{"$f":"COUNTIF(번호추출!$N$13:$S$13,자료실!E1011)","v":0},{"$f":"COUNTIF(번호추출!$N$13:$S$13,자료실!F1011)","v":0},{"$f":"COUNTIF(번호추출!$N$13:$S$13,자료실!G1011)","v":0},{"$f":"COUNTIF(번호추출!$N$13:$S$13,자료실!H1011)","v":0},{"$f":"COUNTIF(번호추출!$N$13:$S$13,I1011)","v":0},1,1,"꽝",0,0,0,0,{"$f":"IF(6=U1011,\"1등\",IF(13=U1011,\"1등\",0))","v":0},0]
[1010,"2022.04.09",9,12,15,25,34,36,3,null,null,1010,{"$f":"COUNTIF(번호추출!$N$13:$S$13,자료실!C1012)","v":0},{"$f":"COUNTIF(번호추출!$N$13:$S$13,자료실!D1012)","v":0},{"$f":"COUNTIF(번호추출!$N$13:$S$13,자료실!E1012)","v":1},{"$f":"COUNTIF(번호추출!$N$13:$S$13,자료실!F1012)","v":1},{"$f":"COUNTIF(번호추출!$N$13:$S$13,자료실!G1012)","v":0},{"$f":"COUNTIF(번호추출!$N$13:$S$13,자료실!H1012)","v":0},{"$f":"COUNTIF(번호추출!$N$13:$S$13,I1012)","v":0},2,2,"꽝","꽝",0,0,0,{"$f":"IF(6=U1012,\"1등\",IF(13=U1012,\"1등\",0))","v":0},0]
[1011,"2022.04.16",1,9,12,26,35,38,42,null,null,1011,{"$f":"COUNTIF(번호추출!$N$13:$S$13,자료실!C1013)","v":0},{"$f":"COUNTIF(번호추출!$N$13:$S$13,자료실!D1013)","v":0},{"$f":"COUNTIF(번호추출!$N$13:$S$13,자료실!E1013)","v":0},{"$f":"COUNTIF(번호추출!$N$13:$S$13,자료실!F1013)","v":0},{"$f":"COUNTIF(번호추출!$N$13:$S$13,자료실!G1013)","v":0},{"$f":"COUNTIF(번호추출!$N$13:$S$13,자료실!H1013)","v":0},{"$f":"COUNTIF(번호추출!$N$13:$S$13,I1013)","v":0},0,0,0,0,0,0,0,{"$f":"IF(6=U1013,\"1등\",IF(13=U1013,\"1등\",0))","v":0},0]
[1012,"2022.04.23",5,11,18,20,35,45,3,null,null,1012,{"$f":"COUNTIF(번호추출!$N$13:$S$13,자료실!C1014)","v":0},{"$f":"COUNTIF(번호추출!$N$13:$S$13,자료실!D1014)","v":0},{"$f":"COUNTIF(번호추출!$N$13:$S$13,자료실!E1014)","v":1},{"$f":"COUNTIF(번호추출!$N$13:$S$13,자료실!F1014)","v":0},{"$f":"COUNTIF(번호추출!$N$13:$S$13,자료실!G1014)","v":0},{"$f":"COUNTIF(번호추출!$N$13:$S$13,자료실!H1014)","v":1},{"$f":"COUNTIF(번호추출!$N$13:$S$13,I1014)","v":0},2,2,"꽝","꽝",0,0,0,{"$f":"IF(6=U1014,\"1등\",IF(13=U1014,\"1등\",0))","v":0},0]
[1013,"2022.04.30",21,22,26,34,36,41,32,null,null,1013,{"$f":"COUNTIF(번호추출!$N$13:$S$13,자료실!C1015)","v":0},{"$f":"COUNTIF(번호추출!$N$13:$S$13,자료실!D1015)","v":0},{"$f":"COUNTIF(번호추출!$N$13:$S$13,자료실!E1015)","v":0},{"$f":"COUNTIF(번호추출!$N$13:$S$13,자료실!F1015)","v":0},{"$f":"COUNTIF(번호추출!$N$13:$S$13,자료실!G1015)","v":0},{"$f":"COUNTIF(번호추출!$N$13:$S$13,자료실!H1015)","v":0},{"$f":"COUNTIF(번호추출!$N$13:$S$13,I1015)","v":0},0,0,0,0,0,0,0,{"$f":"IF(6=U1015,\"1등\",IF(13=U1015,\"1등\",0))","v":0},0]
[1014,"2022.05.07",3,11,14,18,26,27,21,null,null,1014,{"$f":"COUNTIF(번호추출!$N$13:$S$13,자료실!C1016)","v":0},{"$f":"COUNTIF(번호추출!$N$13:$S$13,자료실!D1016)","v":0},{"$f":"COUNTIF(번호추출!$N$13:$S$13,자료실!E1016)","v":0},{"$f":"COUNTIF(번호추출!$N$13:$S$13,자료실!F1016)","v":1},{"$f":"COUNTIF(번호추출!$N$13:$S$13,자료실!G1016)","v":0},{"$f":"COUNTIF(번호추출!$N$13:$S$13,자료실!H1016)","v":0},{"$f":"COUNTIF(번호추출!$N$13:$S$13,I1016)","v":0},1,1,"꽝",0,0,0,0,{"$f":"IF(6=U1016,\"1등\",IF(13=U1016,\"1등\",0))","v":0},0]
[1015,"2022.05.14",14,23,31,33,37,40,44,null,null,1015,{"$f":"COUNTIF(번호추출!$N$13:$S$13,자료실!C1017)","v":0},{"$f":"COUNTIF(번호추출!$N$13:$S$13,자료실!D1017)","v":0},{"$f":"COUNTIF(번호추출!$N$13:$S$13,자료실!E1017)","v":0},{"$f":"COUNTIF(번호추출!$N$13:$S$13,자료실!F1017)","v":1},{"$f":"COUNTIF(번호추출!$N$13:$S$13,자료실!G1017)","v":0},{"$f":"COUNTIF(번호추출!$N$13:$S$13,자료실!H1017)","v":0},{"$f":"COUNTIF(번호추출!$N$13:$S$13,I1017)","v":0},1,1,"꽝",0,0,0,0,{"$f":"IF(6=U1017,\"1등\",IF(13=U1017,\"1등\",0))","v":0},0]
[1016,"2022.05.21",15,26,28,34,41,42,44,null,null,1016,{"$f":"COUNTIF(번호추출!$N$13:$S$13,자료실!C1018)","v":1},{"$f":"COUNTIF(번호추출!$N$13:$S$13,자료실!D1018)","v":0},{"$f":"COUNTIF(번호추출!$N$13:$S$13,자료실!E1018)","v":0},{"$f":"COUNTIF(번호추출!$N$13:$S$13,자료실!F1018)","v":0},{"$f":"COUNTIF(번호추출!$N$13:$S$13,자료실!G1018)","v":0},{"$f":"COUNTIF(번호추출!$N$13:$S$13,자료실!H1018)","v":0},{"$f":"COUNTIF(번호추출!$N$13:$S$13,I1018)","v":0},1,1,"꽝",0,0,0,0,{"$f":"IF(6=U1018,\"1등\",IF(13=U1018,\"1등\",0))","v":0},0]
[1017,"2022.05.28",12,18,22,23,30,34,32,null,null,1017,{"$f":"COUNTIF(번호추출!$N$13:$S$13,자료실!C1019)","v":0},{"$f":"COUNTIF(번호추출!$N$13:$S$13,자료실!D1019)","v":1},{"$f":"COUNTIF(번호추출!$N$13:$S$13,자료실!E1019)","v":0},{"$f":"COUNTIF(번호추출!$N$13:$S$13,자료실!F1019)","v":0},{"$f":"COUNTIF(번호추출!$N$13:$S$13,자료실!G1019)","v":0},{"$f":"COUNTIF(번호추출!$N$13:$S$13,자료실!H1019)","v":0},{"$f":"COUNTIF(번호추출!$N$13:$S$13,I1019)","v":0},1,1,"꽝",0,0,0,0,{"$f":"IF(6=U1019,\"1등\",IF(13=U1019,\"1등\",0))","v":0},0]
[1018,"2022.06.04",3,19,21,25,37,45,35,null,null,1018,{"$f":"COUNTIF(번호추출!$N$13:$S$13,자료실!C1020)","v":0},{"$f":"COUNTIF(번호추출!$N$13:$S$13,자료실!D1020)","v":0},{"$f":"COUNTIF(번호추출!$N$13:$S$13,자료실!E1020)","v":0},{"$f":"COUNTIF(번호추출!$N$13:$S$13,자료실!F1020)","v":1},{"$f":"COUNTIF(번호추출!$N$13:$S$13,자료실!G1020)","v":0},{"$f":"COUNTIF(번호추출!$N$13:$S$13,자료실!H1020)","v":1},{"$f":"COUNTIF(번호추출!$N$13:$S$13,I1020)","v":0},2,2,"꽝","꽝",0,0,0,{"$f":"IF(6=U1020,\"1등\",IF(13=U1020,\"1등\",0))","v":0},0]
[1019,"2022.06.11",1,4,13,17,34,39,6,null,null,1019,{"$f":"COUNTIF(번호추출!$N$13:$S$13,자료실!C1021)","v":0},{"$f":"COUNTIF(번호추출!$N$13:$S$13,자료실!D1021)","v":1},{"$f":"COUNTIF(번호추출!$N$13:$S$13,자료실!E1021)","v":0},{"$f":"COUNTIF(번호추출!$N$13:$S$13,자료실!F1021)","v":0},{"$f":"COUNTIF(번호추출!$N$13:$S$13,자료실!G1021)","v":0},{"$f":"COUNTIF(번호추출!$N$13:$S$13,자료실!H1021)","v":0},{"$f":"COUNTIF(번호추출!$N$13:$S$13,I1021)","v":0},1,1,"꽝",0,0,0,0,{"$f":"IF(6=U1021,\"1등\",IF(13=U1021,\"1등\",0))","v":0},0]
[1020,"2022.06.18",12,27,29,38,41,45,6,null,null,1020,{"$f":"COUNTIF(번호추출!$N$13:$S$13,자료실!C1022)","v":0},{"$f":"COUNTIF(번호추출!$N$13:$S$13,자료실!D1022)","v":0},{"$f":"COUNTIF(번호추출!$N$13:$S$13,자료실!E1022)","v":0},{"$f":"COUNTIF(번호추출!$N$13:$S$13,자료실!F1022)","v":0},{"$f":"COUNTIF(번호추출!$N$13:$S$13,자료실!G1022)","v":0},{"$f":"COUNTIF(번호추출!$N$13:$S$13,자료실!H1022)","v":1},{"$f":"COUNTIF(번호추출!$N$13:$S$13,I1022)","v":0},1,1,"꽝",0,0,0,0,{"$f":"IF(6=U1022,\"1등\",IF(13=U1022,\"1등\",0))","v":0},0]
[1021,"2022.06.25",12,15,17,24,29,45,16,null,null,1021,{"$f":"COUNTIF(번호추출!$N$13:$S$13,자료실!C1023)","v":0},{"$f":"COUNTIF(번호추출!$N$13:$S$13,자료실!D1023)","v":1},{"$f":"COUNTIF(번호추출!$N$13:$S$13,자료실!E1023)","v":0},{"$f":"COUNTIF(번호추출!$N$13:$S$13,자료실!F1023)","v":0},{"$f":"COUNTIF(번호추출!$N$13:$S$13,자료실!G1023)","v":0},{"$f":"COUNTIF(번호추출!$N$13:$S$13,자료실!H1023)","v":1},{"$f":"COUNTIF(번호추출!$N$13:$S$13,I1023)","v":0},2,2,"꽝","꽝",0,0,0,{"$f":"IF(6=U1023,\"1등\",IF(13=U1023,\"1등\",0))","v":0},0]
[1022,"2022.07.02",5,6,11,29,42,45,28,null,null,1022,{"$f":"COUNTIF(번호추출!$N$13:$S$13,자료실!C1024)","v":0},{"$f":"COUNTIF(번호추출!$N$13:$S$13,자료실!D1024)","v":0},{"$f":"COUNTIF(번호추출!$N$13:$S$13,자료실!E1024)","v":0},{"$f":"COUNTIF(번호추출!$N$13:$S$13,자료실!F1024)","v":0},{"$f":"COUNTIF(번호추출!$N$13:$S$13,자료실!G1024)","v":0},{"$f":"COUNTIF(번호추출!$N$13:$S$13,자료실!H1024)","v":1},{"$f":"COUNTIF(번호추출!$N$13:$S$13,I1024)","v":0},1,1,"꽝",0,0,0,0,{"$f":"IF(6=U1024,\"1등\",IF(13=U1024,\"1등\",0))","v":0},0]
[1023,"2022.07.09",10,14,16,18,29,35,25,null,null,1023,{"$f":"COUNTIF(번호추출!$N$13:$S$13,자료실!C1025)","v":0},{"$f":"COUNTIF(번호추출!$N$13:$S$13,자료실!D1025)","v":0},{"$f":"COUNTIF(번호추출!$N$13:$S$13,자료실!E1025)","v":0},{"$f":"COUNTIF(번호추출!$N$13:$S$13,자료실!F1025)","v":1},{"$f":"COUNTIF(번호추출!$N$13:$S$13,자료실!G1025)","v":0},{"$f":"COUNTIF(번호추출!$N$13:$S$13,자료실!H1025)","v":0},{"$f":"COUNTIF(번호추출!$N$13:$S$13,I1025)","v":1},1,2,"꽝","꽝",0,0,0,{"$f":"IF(6=U1025,\"1등\",IF(13=U1025,\"1등\",0))","v":0},0]
[1024,"2022.07.16",9,18,20,22,38,44,10,null,null,1024,{"$f":"COUNTIF(번호추출!$N$13:$S$13,자료실!C1026)","v":0},{"$f":"COUNTIF(번호추출!$N$13:$S$13,자료실!D1026)","v":1},{"$f":"COUNTIF(번호추출!$N$13:$S$13,자료실!E1026)","v":0},{"$f":"COUNTIF(번호추출!$N$13:$S$13,자료실!F1026)","v":0},{"$f":"COUNTIF(번호추출!$N$13:$S$13,자료실!G1026)","v":0},{"$f":"COUNTIF(번호추출!$N$13:$S$13,자료실!H1026)","v":0},{"$f":"COUNTIF(번호추출!$N$13:$S$13,I1026)","v":0},1,1,"꽝",0,0,0,0,{"$f":"IF(6=U1026,\"1등\",IF(13=U1026,\"1등\",0))","v":0},0]
[1025,"2022.07.23",8,9,20,25,29,33,7,null,null,1025,{"$f":"COUNTIF(번호추출!$N$13:$S$13,자료실!C1027)","v":0},{"$f":"COUNTIF(번호추출!$N$13:$S$13,자료실!D1027)","v":0},{"$f":"COUNTIF(번호추출!$N$13:$S$13,자료실!E1027)","v":0},{"$f":"COUNTIF(번호추출!$N$13:$S$13,자료실!F1027)","v":1},{"$f":"COUNTIF(번호추출!$N$13:$S$13,자료실!G1027)","v":0},{"$f":"COUNTIF(번호추출!$N$13:$S$13,자료실!H1027)","v":1},{"$f":"COUNTIF(번호추출!$N$13:$S$13,I1027)","v":0},2,2,"꽝","꽝",0,0,0,{"$f":"IF(6=U1027,\"1등\",IF(13=U1027,\"1등\",0))","v":0},0]
[1026,"2022.07.30",5,12,13,31,32,41,34,null,null,1026,{"$f":"COUNTIF(번호추출!$N$13:$S$13,자료실!C1028)","v":0},{"$f":"COUNTIF(번호추출!$N$13:$S$13,자료실!D1028)","v":0},{"$f":"COUNTIF(번호추출!$N$13:$S$13,자료실!E1028)","v":0},{"$f":"COUNTIF(번호추출!$N$13:$S$13,자료실!F1028)","v":0},{"$f":"COUNTIF(번호추출!$N$13:$S$13,자료실!G1028)","v":0},{"$f":"COUNTIF(번호추출!$N$13:$S$13,자료실!H1028)","v":0},{"$f":"COUNTIF(번호추출!$N$13:$S$13,I1028)","v":0},0,0,0,0,0,0,0,{"$f":"IF(6=U1028,\"1등\",IF(13=U1028,\"1등\",0))","v":0},0]
[1027,"2022.08.06",14,16,27,35,39,45,5,null,null,1027,{"$f":"COUNTIF(번호추출!$N$13:$S$13,자료실!C1029)","v":0},{"$f":"COUNTIF(번호추출!$N$13:$S$13,자료실!D1029)","v":0},{"$f":"COUNTIF(번호추출!$N$13:$S$13,자료실!E1029)","v":0},{"$f":"COUNTIF(번호추출!$N$13:$S$13,자료실!F1029)","v":0},{"$f":"COUNTIF(번호추출!$N$13:$S$13,자료실!G1029)","v":0},{"$f":"COUNTIF(번호추출!$N$13:$S$13,자료실!H1029)","v":1},{"$f":"COUNTIF(번호추출!$N$13:$S$13,I1029)","v":0},1,1,"꽝",0,0,0,0,{"$f":"IF(6=U1029,\"1등\",IF(13=U1029,\"1등\",0))","v":0},0]
[1028,"2022.08.13",5,7,12,13,18,35,23,null,null,1028,{"$f":"COUNTIF(번호추출!$N$13:$S$13,자료실!C1030)","v":0},{"$f":"COUNTIF(번호추출!$N$13:$S$13,자료실!D1030)","v":0},{"$f":"COUNTIF(번호추출!$N$13:$S$13,자료실!E1030)","v":0},{"$f":"COUNTIF(번호추출!$N$13:$S$13,자료실!F1030)","v":0},{"$f":"COUNTIF(번호추출!$N$13:$S$13,자료실!G1030)","v":1},{"$f":"COUNTIF(번호추출!$N$13:$S$13,자료실!H1030)","v":0},{"$f":"COUNTIF(번호추출!$N$13:$S$13,I1030)","v":0},1,1,"꽝",0,0,0,0,{"$f":"IF(6=U1030,\"1등\",IF(13=U1030,\"1등\",0))","v":0},0]
[1029,"2022.08.20",12,30,32,37,39,41,24,null,null,1029,{"$f":"COUNTIF(번호추출!$N$13:$S$13,자료실!C1031)","v":0},{"$f":"COUNTIF(번호추출!$N$13:$S$13,자료실!D1031)","v":0},{"$f":"COUNTIF(번호추출!$N$13:$S$13,자료실!E1031)","v":0},{"$f":"COUNTIF(번호추출!$N$13:$S$13,자료실!F1031)","v":0},{"$f":"COUNTIF(번호추출!$N$13:$S$13,자료실!G1031)","v":0},{"$f":"COUNTIF(번호추출!$N$13:$S$13,자료실!H1031)","v":0},{"$f":"COUNTIF(번호추출!$N$13:$S$13,I1031)","v":0},0,0,0,0,0,0,0,{"$f":"IF(6=U1031,\"1등\",IF(13=U1031,\"1등\",0))","v":0},0]
[1030,"2022.08.27",2,5,11,17,24,29,9,null,null,1030,{"$f":"COUNTIF(번호추출!$N$13:$S$13,자료실!C1032)","v":0},{"$f":"COUNTIF(번호추출!$N$13:$S$13,자료실!D1032)","v":0},{"$f":"COUNTIF(번호추출!$N$13:$S$13,자료실!E1032)","v":0},{"$f":"COUNTIF(번호추출!$N$13:$S$13,자료실!F1032)","v":0},{"$f":"COUNTIF(번호추출!$N$13:$S$13,자료실!G1032)","v":0},{"$f":"COUNTIF(번호추출!$N$13:$S$13,자료실!H1032)","v":0},{"$f":"COUNTIF(번호추출!$N$13:$S$13,I1032)","v":0},0,0,0,0,0,0,0,{"$f":"IF(6=U1032,\"1등\",IF(13=U1032,\"1등\",0))","v":0},0]
[1031,"2022.09.03",6,7,22,32,35,36,19,null,null,1031,{"$f":"COUNTIF(번호추출!$N$13:$S$13,자료실!C1033)","v":0},{"$f":"COUNTIF(번호추출!$N$13:$S$13,자료실!D1033)","v":0},{"$f":"COUNTIF(번호추출!$N$13:$S$13,자료실!E1033)","v":0},{"$f":"COUNTIF(번호추출!$N$13:$S$13,자료실!F1033)","v":0},{"$f":"COUNTIF(번호추출!$N$13:$S$13,자료실!G1033)","v":0},{"$f":"COUNTIF(번호추출!$N$13:$S$13,자료실!H1033)","v":0},{"$f":"COUNTIF(번호추출!$N$13:$S$13,I1033)","v":0},0,0,0,0,0,0,0,{"$f":"IF(6=U1033,\"1등\",IF(13=U1033,\"1등\",0))","v":0},0]
[1032,"2022.09.10",1,6,12,19,36,42,28,null,null,1032,{"$f":"COUNTIF(번호추출!$N$13:$S$13,자료실!C1034)","v":0},{"$f":"COUNTIF(번호추출!$N$13:$S$13,자료실!D1034)","v":0},{"$f":"COUNTIF(번호추출!$N$13:$S$13,자료실!E1034)","v":0},{"$f":"COUNTIF(번호추출!$N$13:$S$13,자료실!F1034)","v":0},{"$f":"COUNTIF(번호추출!$N$13:$S$13,자료실!G1034)","v":0},{"$f":"COUNTIF(번호추출!$N$13:$S$13,자료실!H1034)","v":0},{"$f":"COUNTIF(번호추출!$N$13:$S$13,I1034)","v":0},0,0,0,0,0,0,0,{"$f":"IF(6=U1034,\"1등\",IF(13=U1034,\"1등\",0))","v":0},0]
[1033,"2022.09.17",3,11,15,20,35,44,10,null,null,1033,{"$f":"COUNTIF(번호추출!$N$13:$S$13,자료실!C1035)","v":0},{"$f":"COUNTIF(번호추출!$N$13:$S$13,자료실!D1035)","v":0},{"$f":"COUNTIF(번호추출!$N$13:$S$13,자료실!E1035)","v":1},{"$f":"COUNTIF(번호추출!$N$13:$S$13,자료실!F1035)","v":0},{"$f":"COUNTIF(번호추출!$N$13:$S$13,자료실!G1035)","v":0},{"$f":"COUNTIF(번호추출!$N$13:$S$13,자료실!H1035)","v":0},{"$f":"COUNTIF(번호추출!$N$13:$S$13,I1035)","v":0},1,1,"꽝",0,0,0,0,{"$f":"IF(6=U1035,\"1등\",IF(13=U1035,\"1등\",0))","v":0},0]
[1034,"2022.09.24",26,31,32,33,38,40,11,null,null,1034,{"$f":"COUNTIF(번호추출!$N$13:$S$13,자료실!C1036)","v":0},{"$f":"COUNTIF(번호추출!$N$13:$S$13,자료실!D1036)","v":0},{"$f":"COUNTIF(번호추출!$N$13:$S$13,자료실!E1036)","v":0},{"$f":"COUNTIF(번호추출!$N$13:$S$13,자료실!F1036)","v":1},{"$f":"COUNTIF(번호추출!$N$13:$S$13,자료실!G1036)","v":0},{"$f":"COUNTIF(번호추출!$N$13:$S$13,자료실!H1036)","v":0},{"$f":"COUNTIF(번호추출!$N$13:$S$13,I1036)","v":0},1,1,"꽝",0,0,0,0,{"$f":"IF(6=U1036,\"1등\",IF(13=U1036,\"1등\",0))","v":0},0]
[1035,"2022.10.01",9,14,34,35,41,42,2,null,null,1035,{"$f":"COUNTIF(번호추출!$N$13:$S$13,자료실!C1037)","v":0},{"$f":"COUNTIF(번호추출!$N$13:$S$13,자료실!D1037)","v":0},{"$f":"COUNTIF(번호추출!$N$13:$S$13,자료실!E1037)","v":0},{"$f":"COUNTIF(번호추출!$N$13:$S$13,자료실!F1037)","v":0},{"$f":"COUNTIF(번호추출!$N$13:$S$13,자료실!G1037)","v":0},{"$f":"COUNTIF(번호추출!$N$13:$S$13,자료실!H1037)","v":0},{"$f":"COUNTIF(번호추출!$N$13:$S$13,I1037)","v":0},0,0,0,0,0,0,0,{"$f":"IF(6=U1037,\"1등\",IF(13=U1037,\"1등\",0))","v":0},0]
[1036,"2022.10.08",2,5,22,32,34,45,39,null,null,1036,{"$f":"COUNTIF(번호추출!$N$13:$S$13,자료실!C1038)","v":0},{"$f":"COUNTIF(번호추출!$N$13:$S$13,자료실!D1038)","v":0},{"$f":"COUNTIF(번호추출!$N$13:$S$13,자료실!E1038)","v":0},{"$f":"COUNTIF(번호추출!$N$13:$S$13,자료실!F1038)","v":0},{"$f":"COUNTIF(번호추출!$N$13:$S$13,자료실!G1038)","v":0},{"$f":"COUNTIF(번호추출!$N$13:$S$13,자료실!H1038)","v":1},{"$f":"COUNTIF(번호추출!$N$13:$S$13,I1038)","v":0},1,1,{"$f":"IF(1=U1038,\"꽝\",IF(0<T1038,\"꽝\",0))","v":"꽝"},{"$f":"IF(2=U1038,\"꽝\",IF(1<T1038,\"꽝\",0))","v":0},{"$f":"IF(3=U1038,\"5등\",IF(2<T1038,\"5등\",0))","v":0},{"$f":"IF(4=U1038,\"4등\",IF(3<T1038,\"4등\",0))","v":0},{"$f":"IF(5=U1038,\"3등\",IF(4<T1038,\"3등\",0))","v":0},{"$f":"IF(6=U1038,\"1등\",IF(13=U1038,\"1등\",0))","v":0},{"$f":"IF(U1038=12,\"2등\",0)","v":0}]
[1037,"2022.10.15",2,14,15,22,27,33,31,null,null,1037,{"$f":"COUNTIF(번호추출!$N$13:$S$13,자료실!C1039)","v":0},{"$f":"COUNTIF(번호추출!$N$13:$S$13,자료실!D1039)","v":0},{"$f":"COUNTIF(번호추출!$N$13:$S$13,자료실!E1039)","v":1},{"$f":"COUNTIF(번호추출!$N$13:$S$13,자료실!F1039)","v":0},{"$f":"COUNTIF(번호추출!$N$13:$S$13,자료실!G1039)","v":0},{"$f":"COUNTIF(번호추출!$N$13:$S$13,자료실!H1039)","v":1},{"$f":"COUNTIF(번호추출!$N$13:$S$13,I1039)","v":0},2,2,"꽝","꽝",0,0,0,{"$f":"IF(6=U1039,\"1등\",IF(13=U1039,\"1등\",0))","v":0},0]
[1038,"2022.10.22",7,16,24,27,37,44,2,null,null,1038,{"$f":"COUNTIF(번호추출!$N$13:$S$13,자료실!C1040)","v":0},{"$f":"COUNTIF(번호추출!$N$13:$S$13,자료실!D1040)","v":0},{"$f":"COUNTIF(번호추출!$N$13:$S$13,자료실!E1040)","v":0},{"$f":"COUNTIF(번호추출!$N$13:$S$13,자료실!F1040)","v":0},{"$f":"COUNTIF(번호추출!$N$13:$S$13,자료실!G1040)","v":0},{"$f":"COUNTIF(번호추출!$N$13:$S$13,자료실!H1040)","v":0},{"$f":"COUNTIF(번호추출!$N$13:$S$13,I1040)","v":0},0,0,0,0,0,0,0,{"$f":"IF(6=U1040,\"1등\",IF(13=U1040,\"1등\",0))","v":0},0]
[1039,"2022.10.29",2,3,6,19,36,39,26,null,null,1039,{"$f":"COUNTIF(번호추출!$N$13:$S$13,자료실!C1041)","v":0},{"$f":"COUNTIF(번호추출!$N$13:$S$13,자료실!D1041)","v":0},{"$f":"COUNTIF(번호추출!$N$13:$S$13,자료실!E1041)","v":0},{"$f":"COUNTIF(번호추출!$N$13:$S$13,자료실!F1041)","v":0},{"$f":"COUNTIF(번호추출!$N$13:$S$13,자료실!G1041)","v":0},{"$f":"COUNTIF(번호추출!$N$13:$S$13,자료실!H1041)","v":0},{"$f":"COUNTIF(번호추출!$N$13:$S$13,I1041)","v":0},0,0,0,0,0,0,0,{"$f":"IF(6=U1041,\"1등\",IF(13=U1041,\"1등\",0))","v":0},0]
[1040,"2022.11.05",8,16,26,29,31,36,11,null,null,1040,{"$f":"COUNTIF(번호추출!$N$13:$S$13,자료실!C1042)","v":0},{"$f":"COUNTIF(번호추출!$N$13:$S$13,자료실!D1042)","v":0},{"$f":"COUNTIF(번호추출!$N$13:$S$13,자료실!E1042)","v":0},{"$f":"COUNTIF(번호추출!$N$13:$S$13,자료실!F1042)","v":0},{"$f":"COUNTIF(번호추출!$N$13:$S$13,자료실!G1042)","v":0},{"$f":"COUNTIF(번호추출!$N$13:$S$13,자료실!H1042)","v":0},{"$f":"COUNTIF(번호추출!$N$13:$S$13,I1042)","v":0},0,0,0,0,0,0,0,{"$f":"IF(6=U1042,\"1등\",IF(13=U1042,\"1등\",0))","v":0},0]
[1041,"2022.11.12",6,7,9,11,17,18,45,null,null,1041,{"$f":"COUNTIF(번호추출!$N$13:$S$13,자료실!C1043)","v":0},{"$f":"COUNTIF(번호추출!$N$13:$S$13,자료실!D1043)","v":0},{"$f":"COUNTIF(번호추출!$N$13:$S$13,자료실!E1043)","v":0},{"$f":"COUNTIF(번호추출!$N$13:$S$13,자료실!F1043)","v":0},{"$f":"COUNTIF(번호추출!$N$13:$S$13,자료실!G1043)","v":0},{"$f":"COUNTIF(번호추출!$N$13:$S$13,자료실!H1043)","v":1},{"$f":"COUNTIF(번호추출!$N$13:$S$13,I1043)","v":1},1,2,"꽝","꽝",0,0,0,{"$f":"IF(6=U1043,\"1등\",IF(13=U1043,\"1등\",0))","v":0},0]
[1042,"2022.11.19",5,14,15,23,34,43,4,null,null,1042,{"$f":"COUNTIF(번호추출!$N$13:$S$13,자료실!C1044)","v":0},{"$f":"COUNTIF(번호추출!$N$13:$S$13,자료실!D1044)","v":0},{"$f":"COUNTIF(번호추출!$N$13:$S$13,자료실!E1044)","v":1},{"$f":"COUNTIF(번호추출!$N$13:$S$13,자료실!F1044)","v":0},{"$f":"COUNTIF(번호추출!$N$13:$S$13,자료실!G1044)","v":0},{"$f":"COUNTIF(번호추출!$N$13:$S$13,자료실!H1044)","v":0},{"$f":"COUNTIF(번호추출!$N$13:$S$13,I1044)","v":1},1,2,"꽝","꽝",0,0,0,{"$f":"IF(6=U1044,\"1등\",IF(13=U1044,\"1등\",0))","v":0},0]
[1043,"2022.11.26",3,5,12,22,26,31,19,null,null,1043,{"$f":"COUNTIF(번호추출!$N$13:$S$13,자료실!C1045)","v":0},{"$f":"COUNTIF(번호추출!$N$13:$S$13,자료실!D1045)","v":0},{"$f":"COUNTIF(번호추출!$N$13:$S$13,자료실!E1045)","v":0},{"$f":"COUNTIF(번호추출!$N$13:$S$13,자료실!F1045)","v":0},{"$f":"COUNTIF(번호추출!$N$13:$S$13,자료실!G1045)","v":0},{"$f":"COUNTIF(번호추출!$N$13:$S$13,자료실!H1045)","v":0},{"$f":"COUNTIF(번호추출!$N$13:$S$13,I1045)","v":0},0,0,0,0,0,0,0,{"$f":"IF(6=U1045,\"1등\",IF(13=U1045,\"1등\",0))","v":0},0]
[1044,"2022.12.03",12,17,20,26,28,36,4,null,null,1044,{"$f":"COUNTIF(번호추출!$N$13:$S$13,자료실!C1046)","v":0},{"$f":"COUNTIF(번호추출!$N$13:$S$13,자료실!D1046)","v":0},{"$f":"COUNTIF(번호추출!$N$13:$S$13,자료실!E1046)","v":0},{"$f":"COUNTIF(번호추출!$N$13:$S$13,자료실!F1046)","v":0},{"$f":"COUNTIF(번호추출!$N$13:$S$13,자료실!G1046)","v":0},{"$f":"COUNTIF(번호추출!$N$13:$S$13,자료실!H1046)","v":0},{"$f":"COUNTIF(번호추출!$N$13:$S$13,I1046)","v":1},0,1,"꽝",0,0,0,0,{"$f":"IF(6=U1046,\"1등\",IF(13=U1046,\"1등\",0))","v":0},0]
[1045,"2022.12.10",6,14,15,19,21,41,37,null,null,1045,{"$f":"COUNTIF(번호추출!$N$13:$S$13,자료실!C1047)","v":0},{"$f":"COUNTIF(번호추출!$N$13:$S$13,자료실!D1047)","v":0},{"$f":"COUNTIF(번호추출!$N$13:$S$13,자료실!E1047)","v":1},{"$f":"COUNTIF(번호추출!$N$13:$S$13,자료실!F1047)","v":0},{"$f":"COUNTIF(번호추출!$N$13:$S$13,자료실!G1047)","v":0},{"$f":"COUNTIF(번호추출!$N$13:$S$13,자료실!H1047)","v":0},{"$f":"COUNTIF(번호추출!$N$13:$S$13,I1047)","v":0},1,1,"꽝",0,0,0,0,{"$f":"IF(6=U1047,\"1등\",IF(13=U1047,\"1등\",0))","v":0},0]
[1046,"2022.12.17",7,16,25,29,35,36,28,null,null,1046,{"$f":"COUNTIF(번호추출!$N$13:$S$13,자료실!C1048)","v":0},{"$f":"COUNTIF(번호추출!$N$13:$S$13,자료실!D1048)","v":0},{"$f":"COUNTIF(번호추출!$N$13:$S$13,자료실!E1048)","v":1},{"$f":"COUNTIF(번호추출!$N$13:$S$13,자료실!F1048)","v":0},{"$f":"COUNTIF(번호추출!$N$13:$S$13,자료실!G1048)","v":0},{"$f":"COUNTIF(번호추출!$N$13:$S$13,자료실!H1048)","v":0},{"$f":"COUNTIF(번호추출!$N$13:$S$13,I1048)","v":0},1,1,"꽝",0,0,0,0,{"$f":"IF(6=U1048,\"1등\",IF(13=U1048,\"1등\",0))","v":0},0]
[null,null,null,null,null,null,null,null,null,null,null,0,{"$f":"COUNTIF(번호추출!$N$13:$S$13,자료실!C1049)","v":0},{"$f":"COUNTIF(번호추출!$N$13:$S$13,자료실!D1049)","v":0},{"$f":"COUNTIF(번호추출!$N$13:$S$13,자료실!E1049)","v":0},{"$f":"COUNTIF(번호추출!$N$13:$S$13,자료실!F1049)","v":0},{"$f":"COUNTIF(번호추출!$N$13:$S$13,자료실!G1049)","v":0},{"$f":"COUNTIF(번호추출!$N$13:$S$13,자료실!H1049)","v":0},{"$f":"COUNTIF(번호추출!$N$13:$S$13,I1049)","v":0},0,0,0,0,0,0,0,{"$f":"IF(6=U1049,\"1등\",IF(13=U1049,\"1등\",0))","v":0},0]
[null,null,null,null,null,null,null,null,null,null,null,0,{"$f":"COUNTIF(번호추출!$N$13:$S$13,자료실!C1050)","v":0},{"$f":"COUNTIF(번호추출!$N$13:$S$13,자료실!D1050)","v":0},{"$f":"COUNTIF(번호추출!$N$13:$S$13,자료실!E1050)","v":0},{"$f":"COUNTIF(번호추출!$N$13:$S$13,자료실!F1050)","v":0},{"$f":"COUNTIF(번호추출!$N$13:$S$13,자료실!G1050)","v":0},{"$f":"COUNTIF(번호추출!$N$13:$S$13,자료실!H1050)","v":0},{"$f":"COUNTIF(번호추출!$N$13:$S$13,I1050)","v":0},0,0,0,0,0,0,0,{"$f":"IF(6=U1050,\"1등\",IF(13=U1050,\"1등\",0))","v":0},0]
[null,null,null,null,null,null,null,null,null,null,null,{"$f":"A1051","v":0},{"$f":"COUNTIF(번호추출!$N$13:$S$13,자료실!C1051)","v":0},{"$f":"COUNTIF(번호추출!$N$13:$S$13,자료실!D1051)","v":0},{"$f":"COUNTIF(번호추출!$N$13:$S$13,자료실!E1051)","v":0},{"$f":"COUNTIF(번호추출!$N$13:$S$13,자료실!F1051)","v":0},{"$f":"COUNTIF(번호추출!$N$13:$S$13,자료실!G1051)","v":0},{"$f":"COUNTIF(번호추출!$N$13:$S$13,자료실!H1051)","v":0},{"$f":"COUNTIF(번호추출!$N$13:$S$13,I1051)","v":0},{"$f":"SUM(M1051:R1051)","v":0},{"$f":"SUM(M1051:S1051)","v":0},0,0,0,0,0,{"$f":"IF(6=U1051,\"1등\",IF(13=U1051,\"1등\",0))","v":0},0]
[null,null,null,null,null,null,null,null,null,null,null,0,{"$f":"COUNTIF(번호추출!$N$13:$S$13,자료실!C1052)","v":0},{"$f":"COUNTIF(번호추출!$N$13:$S$13,자료실!D1052)","v":0},{"$f":"COUNTIF(번호추출!$N$13:$S$13,자료실!E1052)","v":0},{"$f":"COUNTIF(번호추출!$N$13:$S$13,자료실!F1052)","v":0},{"$f":"COUNTIF(번호추출!$N$13:$S$13,자료실!G1052)","v":0},{"$f":"COUNTIF(번호추출!$N$13:$S$13,자료실!H1052)","v":0},{"$f":"COUNTIF(번호추출!$N$13:$S$13,I1052)","v":0},0,0,0,0,0,0,0,{"$f":"IF(6=U1052,\"1등\",IF(13=U1052,\"1등\",0))","v":0},0]
[null,null,null,null,null,null,null,null,null,null,null,0,{"$f":"COUNTIF(번호추출!$N$13:$S$13,자료실!C1053)","v":0},{"$f":"COUNTIF(번호추출!$N$13:$S$13,자료실!D1053)","v":0},{"$f":"COUNTIF(번호추출!$N$13:$S$13,자료실!E1053)","v":0},{"$f":"COUNTIF(번호추출!$N$13:$S$13,자료실!F1053)","v":0},{"$f":"COUNTIF(번호추출!$N$13:$S$13,자료실!G1053)","v":0},{"$f":"COUNTIF(번호추출!$N$13:$S$13,자료실!H1053)","v":0},{"$f":"COUNTIF(번호추출!$N$13:$S$13,I1053)","v":0},0,0,0,0,0,0,0,{"$f":"IF(6=U1053,\"1등\",IF(13=U1053,\"1등\",0))","v":0},0]
[null,null,null,null,null,null,null,null,null,null,null,0,{"$f":"COUNTIF(번호추출!$N$13:$S$13,자료실!C1054)","v":0},{"$f":"COUNTIF(번호추출!$N$13:$S$13,자료실!D1054)","v":0},{"$f":"COUNTIF(번호추출!$N$13:$S$13,자료실!E1054)","v":0},{"$f":"COUNTIF(번호추출!$N$13:$S$13,자료실!F1054)","v":0},{"$f":"COUNTIF(번호추출!$N$13:$S$13,자료실!G1054)","v":0},{"$f":"COUNTIF(번호추출!$N$13:$S$13,자료실!H1054)","v":0},{"$f":"COUNTIF(번호추출!$N$13:$S$13,I1054)","v":0},0,0,0,0,0,0,0,{"$f":"IF(6=U1054,\"1등\",IF(13=U1054,\"1등\",0))","v":0},0]
[null,null,null,null,null,null,null,null,null,null,null,0,{"$f":"COUNTIF(번호추출!$N$13:$S$13,자료실!C1055)","v":0},{"$f":"COUNTIF(번호추출!$N$13:$S$13,자료실!D1055)","v":0},{"$f":"COUNTIF(번호추출!$N$13:$S$13,자료실!E1055)","v":0},{"$f":"COUNTIF(번호추출!$N$13:$S$13,자료실!F1055)","v":0},{"$f":"COUNTIF(번호추출!$N$13:$S$13,자료실!G1055)","v":0},{"$f":"COUNTIF(번호추출!$N$13:$S$13,자료실!H1055)","v":0},{"$f":"COUNTIF(번호추출!$N$13:$S$13,I1055)","v":0},0,0,0,0,0,0,0,{"$f":"IF(6=U1055,\"1등\",IF(13=U1055,\"1등\",0))","v":0},0]
[null,null,null,null,null,null,null,null,null,null,null,0,{"$f":"COUNTIF(번호추출!$N$13:$S$13,자료실!C1056)","v":0},{"$f":"COUNTIF(번호추출!$N$13:$S$13,자료실!D1056)","v":0},{"$f":"COUNTIF(번호추출!$N$13:$S$13,자료실!E1056)","v":0},{"$f":"COUNTIF(번호추출!$N$13:$S$13,자료실!F1056)","v":0},{"$f":"COUNTIF(번호추출!$N$13:$S$13,자료실!G1056)","v":0},{"$f":"COUNTIF(번호추출!$N$13:$S$13,자료실!H1056)","v":0},{"$f":"COUNTIF(번호추출!$N$13:$S$13,I1056)","v":0},0,0,0,0,0,0,0,{"$f":"IF(6=U1056,\"1등\",IF(13=U1056,\"1등\",0))","v":0},0]
[null,null,null,null,null,null,null,null,null,null,null,0,{"$f":"COUNTIF(번호추출!$N$13:$S$13,자료실!C1057)","v":0},{"$f":"COUNTIF(번호추출!$N$13:$S$13,자료실!D1057)","v":0},{"$f":"COUNTIF(번호추출!$N$13:$S$13,자료실!E1057)","v":0},{"$f":"COUNTIF(번호추출!$N$13:$S$13,자료실!F1057)","v":0},{"$f":"COUNTIF(번호추출!$N$13:$S$13,자료실!G1057)","v":0},{"$f":"COUNTIF(번호추출!$N$13:$S$13,자료실!H1057)","v":0},{"$f":"COUNTIF(번호추출!$N$13:$S$13,I1057)","v":0},0,0,0,0,0,0,0,{"$f":"IF(6=U1057,\"1등\",IF(13=U1057,\"1등\",0))","v":0},0]
[null,null,null,null,null,null,null,null,null,null,null,0,{"$f":"COUNTIF(번호추출!$N$13:$S$13,자료실!C1058)","v":0},{"$f":"COUNTIF(번호추출!$N$13:$S$13,자료실!D1058)","v":0},{"$f":"COUNTIF(번호추출!$N$13:$S$13,자료실!E1058)","v":0},{"$f":"COUNTIF(번호추출!$N$13:$S$13,자료실!F1058)","v":0},{"$f":"COUNTIF(번호추출!$N$13:$S$13,자료실!G1058)","v":0},{"$f":"COUNTIF(번호추출!$N$13:$S$13,자료실!H1058)","v":0},{"$f":"COUNTIF(번호추출!$N$13:$S$13,I1058)","v":0},0,0,0,0,0,0,0,{"$f":"IF(6=U1058,\"1등\",IF(13=U1058,\"1등\",0))","v":0},0]
[null,null,null,null,null,null,null,null,null,null,null,0,{"$f":"COUNTIF(번호추출!$N$13:$S$13,자료실!C1059)","v":0},{"$f":"COUNTIF(번호추출!$N$13:$S$13,자료실!D1059)","v":0},{"$f":"COUNTIF(번호추출!$N$13:$S$13,자료실!E1059)","v":0},{"$f":"COUNTIF(번호추출!$N$13:$S$13,자료실!F1059)","v":0},{"$f":"COUNTIF(번호추출!$N$13:$S$13,자료실!G1059)","v":0},{"$f":"COUNTIF(번호추출!$N$13:$S$13,자료실!H1059)","v":0},{"$f":"COUNTIF(번호추출!$N$13:$S$13,I1059)","v":0},0,0,0,0,0,0,0,{"$f":"IF(6=U1059,\"1등\",IF(13=U1059,\"1등\",0))","v":0},0]
[null,null,null,null,null,null,null,null,null,null,null,0,{"$f":"COUNTIF(번호추출!$N$13:$S$13,자료실!C1060)","v":0},{"$f":"COUNTIF(번호추출!$N$13:$S$13,자료실!D1060)","v":0},{"$f":"COUNTIF(번호추출!$N$13:$S$13,자료실!E1060)","v":0},{"$f":"COUNTIF(번호추출!$N$13:$S$13,자료실!F1060)","v":0},{"$f":"COUNTIF(번호추출!$N$13:$S$13,자료실!G1060)","v":0},{"$f":"COUNTIF(번호추출!$N$13:$S$13,자료실!H1060)","v":0},{"$f":"COUNTIF(번호추출!$N$13:$S$13,I1060)","v":0},0,0,0,0,0,0,0,{"$f":"IF(6=U1060,\"1등\",IF(13=U1060,\"1등\",0))","v":0},0]
[null,null,null,null,null,null,null,null,null,null,null,0,{"$f":"COUNTIF(번호추출!$N$13:$S$13,자료실!C1061)","v":0},{"$f":"COUNTIF(번호추출!$N$13:$S$13,자료실!D1061)","v":0},{"$f":"COUNTIF(번호추출!$N$13:$S$13,자료실!E1061)","v":0},{"$f":"COUNTIF(번호추출!$N$13:$S$13,자료실!F1061)","v":0},{"$f":"COUNTIF(번호추출!$N$13:$S$13,자료실!G1061)","v":0},{"$f":"COUNTIF(번호추출!$N$13:$S$13,자료실!H1061)","v":0},{"$f":"COUNTIF(번호추출!$N$13:$S$13,I1061)","v":0},0,0,0,0,0,0,0,{"$f":"IF(6=U1061,\"1등\",IF(13=U1061,\"1등\",0))","v":0},0]
[null,null,null,null,null,null,null,null,null,null,null,0,{"$f":"COUNTIF(번호추출!$N$13:$S$13,자료실!C1062)","v":0},{"$f":"COUNTIF(번호추출!$N$13:$S$13,자료실!D1062)","v":0},{"$f":"COUNTIF(번호추출!$N$13:$S$13,자료실!E1062)","v":0},{"$f":"COUNTIF(번호추출!$N$13:$S$13,자료실!F1062)","v":0},{"$f":"COUNTIF(번호추출!$N$13:$S$13,자료실!G1062)","v":0},{"$f":"COUNTIF(번호추출!$N$13:$S$13,자료실!H1062)","v":0},{"$f":"COUNTIF(번호추출!$N$13:$S$13,I1062)","v":0},0,0,0,0,0,0,0,{"$f":"IF(6=U1062,\"1등\",IF(13=U1062,\"1등\",0))","v":0},0]
[null,null,null,null,null,null,null,null,null,null,null,0,{"$f":"COUNTIF(번호추출!$N$13:$S$13,자료실!C1063)","v":0},{"$f":"COUNTIF(번호추출!$N$13:$S$13,자료실!D1063)","v":0},{"$f":"COUNTIF(번호추출!$N$13:$S$13,자료실!E1063)","v":0},{"$f":"COUNTIF(번호추출!$N$13:$S$13,자료실!F1063)","v":0},{"$f":"COUNTIF(번호추출!$N$13:$S$13,자료실!G1063)","v":0},{"$f":"COUNTIF(번호추출!$N$13:$S$13,자료실!H1063)","v":0},{"$f":"COUNTIF(번호추출!$N$13:$S$13,I1063)","v":0},0,0,0,0,0,0,0,{"$f":"IF(6=U1063,\"1등\",IF(13=U1063,\"1등\",0))","v":0},0]
[null,null,null,null,null,null,null,null,null,null,null,0,{"$f":"COUNTIF(번호추출!$N$13:$S$13,자료실!C1064)","v":0},{"$f":"COUNTIF(번호추출!$N$13:$S$13,자료실!D1064)","v":0},{"$f":"COUNTIF(번호추출!$N$13:$S$13,자료실!E1064)","v":0},{"$f":"COUNTIF(번호추출!$N$13:$S$13,자료실!F1064)","v":0},{"$f":"COUNTIF(번호추출!$N$13:$S$13,자료실!G1064)","v":0},{"$f":"COUNTIF(번호추출!$N$13:$S$13,자료실!H1064)","v":0},{"$f":"COUNTIF(번호추출!$N$13:$S$13,I1064)","v":0},0,0,0,0,0,0,0,{"$f":"IF(6=U1064,\"1등\",IF(13=U1064,\"1등\",0))","v":0},0]
[null,null,null,null,null,null,null,null,null,null,null,0,{"$f":"COUNTIF(번호추출!$N$13:$S$13,자료실!C1065)","v":0},{"$f":"COUNTIF(번호추출!$N$13:$S$13,자료실!D1065)","v":0},{"$f":"COUNTIF(번호추출!$N$13:$S$13,자료실!E1065)","v":0},{"$f":"COUNTIF(번호추출!$N$13:$S$13,자료실!F1065)","v":0},{"$f":"COUNTIF(번호추출!$N$13:$S$13,자료실!G1065)","v":0},{"$f":"COUNTIF(번호추출!$N$13:$S$13,자료실!H1065)","v":0},{"$f":"COUNTIF(번호추출!$N$13:$S$13,I1065)","v":0},0,0,0,0,0,0,0,{"$f":"IF(6=U1065,\"1등\",IF(13=U1065,\"1등\",0))","v":0},0]
[null,null,null,null,null,null,null,null,null,null,null,0,{"$f":"COUNTIF(번호추출!$N$13:$S$13,자료실!C1066)","v":0},{"$f":"COUNTIF(번호추출!$N$13:$S$13,자료실!D1066)","v":0},{"$f":"COUNTIF(번호추출!$N$13:$S$13,자료실!E1066)","v":0},{"$f":"COUNTIF(번호추출!$N$13:$S$13,자료실!F1066)","v":0},{"$f":"COUNTIF(번호추출!$N$13:$S$13,자료실!G1066)","v":0},{"$f":"COUNTIF(번호추출!$N$13:$S$13,자료실!H1066)","v":0},{"$f":"COUNTIF(번호추출!$N$13:$S$13,I1066)","v":0},0,0,0,0,0,0,0,{"$f":"IF(6=U1066,\"1등\",IF(13=U1066,\"1등\",0))","v":0},0]
[null,null,null,null,null,null,null,null,null,null,null,0,{"$f":"COUNTIF(번호추출!$N$13:$S$13,자료실!C1067)","v":0},{"$f":"COUNTIF(번호추출!$N$13:$S$13,자료실!D1067)","v":0},{"$f":"COUNTIF(번호추출!$N$13:$S$13,자료실!E1067)","v":0},{"$f":"COUNTIF(번호추출!$N$13:$S$13,자료실!F1067)","v":0},{"$f":"COUNTIF(번호추출!$N$13:$S$13,자료실!G1067)","v":0},{"$f":"COUNTIF(번호추출!$N$13:$S$13,자료실!H1067)","v":0},{"$f":"COUNTIF(번호추출!$N$13:$S$13,I1067)","v":0},0,0,0,0,0,0,0,{"$f":"IF(6=U1067,\"1등\",IF(13=U1067,\"1등\",0))","v":0},0]
[null,null,null,null,null,null,null,null,null,null,null,0,{"$f":"COUNTIF(번호추출!$N$13:$S$13,자료실!C1068)","v":0},{"$f":"COUNTIF(번호추출!$N$13:$S$13,자료실!D1068)","v":0},{"$f":"COUNTIF(번호추출!$N$13:$S$13,자료실!E1068)","v":0},{"$f":"COUNTIF(번호추출!$N$13:$S$13,자료실!F1068)","v":0},{"$f":"COUNTIF(번호추출!$N$13:$S$13,자료실!G1068)","v":0},{"$f":"COUNTIF(번호추출!$N$13:$S$13,자료실!H1068)","v":0},{"$f":"COUNTIF(번호추출!$N$13:$S$13,I1068)","v":0},0,0,0,0,0,0,0,{"$f":"IF(6=U1068,\"1등\",IF(13=U1068,\"1등\",0))","v":0},0]
[null,null,null,null,null,null,null,null,null,null,null,0,{"$f":"COUNTIF(번호추출!$N$13:$S$13,자료실!C1069)","v":0},{"$f":"COUNTIF(번호추출!$N$13:$S$13,자료실!D1069)","v":0},{"$f":"COUNTIF(번호추출!$N$13:$S$13,자료실!E1069)","v":0},{"$f":"COUNTIF(번호추출!$N$13:$S$13,자료실!F1069)","v":0},{"$f":"COUNTIF(번호추출!$N$13:$S$13,자료실!G1069)","v":0},{"$f":"COUNTIF(번호추출!$N$13:$S$13,자료실!H1069)","v":0},{"$f":"COUNTIF(번호추출!$N$13:$S$13,I1069)","v":0},0,0,0,0,0,0,0,{"$f":"IF(6=U1069,\"1등\",IF(13=U1069,\"1등\",0))","v":0},0]
[null,null,null,null,null,null,null,null,null,null,null,0,{"$f":"COUNTIF(번호추출!$N$13:$S$13,자료실!C1070)","v":0},{"$f":"COUNTIF(번호추출!$N$13:$S$13,자료실!D1070)","v":0},{"$f":"COUNTIF(번호추출!$N$13:$S$13,자료실!E1070)","v":0},{"$f":"COUNTIF(번호추출!$N$13:$S$13,자료실!F1070)","v":0},{"$f":"COUNTIF(번호추출!$N$13:$S$13,자료실!G1070)","v":0},{"$f":"COUNTIF(번호추출!$N$13:$S$13,자료실!H1070)","v":0},{"$f":"COUNTIF(번호추출!$N$13:$S$13,I1070)","v":0},0,0,0,0,0,0,0,{"$f":"IF(6=U1070,\"1등\",IF(13=U1070,\"1등\",0))","v":0},0]
[null,null,null,null,null,null,null,null,null,null,null,0,{"$f":"COUNTIF(번호추출!$N$13:$S$13,자료실!C1071)","v":0},{"$f":"COUNTIF(번호추출!$N$13:$S$13,자료실!D1071)","v":0},{"$f":"COUNTIF(번호추출!$N$13:$S$13,자료실!E1071)","v":0},{"$f":"COUNTIF(번호추출!$N$13:$S$13,자료실!F1071)","v":0},{"$f":"COUNTIF(번호추출!$N$13:$S$13,자료실!G1071)","v":0},{"$f":"COUNTIF(번호추출!$N$13:$S$13,자료실!H1071)","v":0},{"$f":"COUNTIF(번호추출!$N$13:$S$13,I1071)","v":0},0,0,0,0,0,0,0,{"$f":"IF(6=U1071,\"1등\",IF(13=U1071,\"1등\",0))","v":0},0]
[null,null,null,null,null,null,null,null,null,null,null,0,{"$f":"COUNTIF(번호추출!$N$13:$S$13,자료실!C1072)","v":0},{"$f":"COUNTIF(번호추출!$N$13:$S$13,자료실!D1072)","v":0},{"$f":"COUNTIF(번호추출!$N$13:$S$13,자료실!E1072)","v":0},{"$f":"COUNTIF(번호추출!$N$13:$S$13,자료실!F1072)","v":0},{"$f":"COUNTIF(번호추출!$N$13:$S$13,자료실!G1072)","v":0},{"$f":"COUNTIF(번호추출!$N$13:$S$13,자료실!H1072)","v":0},{"$f":"COUNTIF(번호추출!$N$13:$S$13,I1072)","v":0},0,0,0,0,0,0,0,{"$f":"IF(6=U1072,\"1등\",IF(13=U1072,\"1등\",0))","v":0},0]
[null,null,null,null,null,null,null,null,null,null,null,0,{"$f":"COUNTIF(번호추출!$N$13:$S$13,자료실!C1073)","v":0},{"$f":"COUNTIF(번호추출!$N$13:$S$13,자료실!D1073)","v":0},{"$f":"COUNTIF(번호추출!$N$13:$S$13,자료실!E1073)","v":0},{"$f":"COUNTIF(번호추출!$N$13:$S$13,자료실!F1073)","v":0},{"$f":"COUNTIF(번호추출!$N$13:$S$13,자료실!G1073)","v":0},{"$f":"COUNTIF(번호추출!$N$13:$S$13,자료실!H1073)","v":0},{"$f":"COUNTIF(번호추출!$N$13:$S$13,I1073)","v":0},0,0,0,0,0,0,0,{"$f":"IF(6=U1073,\"1등\",IF(13=U1073,\"1등\",0))","v":0},0]
[null,null,null,null,null,null,null,null,null,null,null,0,{"$f":"COUNTIF(번호추출!$N$13:$S$13,자료실!C1074)","v":0},{"$f":"COUNTIF(번호추출!$N$13:$S$13,자료실!D1074)","v":0},{"$f":"COUNTIF(번호추출!$N$13:$S$13,자료실!E1074)","v":0},{"$f":"COUNTIF(번호추출!$N$13:$S$13,자료실!F1074)","v":0},{"$f":"COUNTIF(번호추출!$N$13:$S$13,자료실!G1074)","v":0},{"$f":"COUNTIF(번호추출!$N$13:$S$13,자료실!H1074)","v":0},{"$f":"COUNTIF(번호추출!$N$13:$S$13,I1074)","v":0},0,0,0,0,0,0,0,{"$f":"IF(6=U1074,\"1등\",IF(13=U1074,\"1등\",0))","v":0},0]
[null,null,null,null,null,null,null,null,null,null,null,0,{"$f":"COUNTIF(번호추출!$N$13:$S$13,자료실!C1075)","v":0},{"$f":"COUNTIF(번호추출!$N$13:$S$13,자료실!D1075)","v":0},{"$f":"COUNTIF(번호추출!$N$13:$S$13,자료실!E1075)","v":0},{"$f":"COUNTIF(번호추출!$N$13:$S$13,자료실!F1075)","v":0},{"$f":"COUNTIF(번호추출!$N$13:$S$13,자료실!G1075)","v":0},{"$f":"COUNTIF(번호추출!$N$13:$S$13,자료실!H1075)","v":0},{"$f":"COUNTIF(번호추출!$N$13:$S$13,I1075)","v":0},0,0,0,0,0,0,0,{"$f":"IF(6=U1075,\"1등\",IF(13=U1075,\"1등\",0))","v":0},0]
[null,null,null,null,null,null,null,null,null,null,null,0,{"$f":"COUNTIF(번호추출!$N$13:$S$13,자료실!C1076)","v":0},{"$f":"COUNTIF(번호추출!$N$13:$S$13,자료실!D1076)","v":0},{"$f":"COUNTIF(번호추출!$N$13:$S$13,자료실!E1076)","v":0},{"$f":"COUNTIF(번호추출!$N$13:$S$13,자료실!F1076)","v":0},{"$f":"COUNTIF(번호추출!$N$13:$S$13,자료실!G1076)","v":0},{"$f":"COUNTIF(번호추출!$N$13:$S$13,자료실!H1076)","v":0},{"$f":"COUNTIF(번호추출!$N$13:$S$13,I1076)","v":0},0,0,0,0,0,0,0,{"$f":"IF(6=U1076,\"1등\",IF(13=U1076,\"1등\",0))","v":0},0]
[null,null,null,null,null,null,null,null,null,null,null,0,{"$f":"COUNTIF(번호추출!$N$13:$S$13,자료실!C1077)","v":0},{"$f":"COUNTIF(번호추출!$N$13:$S$13,자료실!D1077)","v":0},{"$f":"COUNTIF(번호추출!$N$13:$S$13,자료실!E1077)","v":0},{"$f":"COUNTIF(번호추출!$N$13:$S$13,자료실!F1077)","v":0},{"$f":"COUNTIF(번호추출!$N$13:$S$13,자료실!G1077)","v":0},{"$f":"COUNTIF(번호추출!$N$13:$S$13,자료실!H1077)","v":0},{"$f":"COUNTIF(번호추출!$N$13:$S$13,I1077)","v":0},0,0,0,0,0,0,0,{"$f":"IF(6=U1077,\"1등\",IF(13=U1077,\"1등\",0))","v":0},0]
[null,null,null,null,null,null,null,null,null,null,null,0,{"$f":"COUNTIF(번호추출!$N$13:$S$13,자료실!C1078)","v":0},{"$f":"COUNTIF(번호추출!$N$13:$S$13,자료실!D1078)","v":0},{"$f":"COUNTIF(번호추출!$N$13:$S$13,자료실!E1078)","v":0},{"$f":"COUNTIF(번호추출!$N$13:$S$13,자료실!F1078)","v":0},{"$f":"COUNTIF(번호추출!$N$13:$S$13,자료실!G1078)","v":0},{"$f":"COUNTIF(번호추출!$N$13:$S$13,자료실!H1078)","v":0},{"$f":"COUNTIF(번호추출!$N$13:$S$13,I1078)","v":0},0,0,0,0,0,0,0,{"$f":"IF(6=U1078,\"1등\",IF(13=U1078,\"1등\",0))","v":0},0]
[null,null,null,null,null,null,null,null,null,null,null,0,{"$f":"COUNTIF(번호추출!$N$13:$S$13,자료실!C1079)","v":0},{"$f":"COUNTIF(번호추출!$N$13:$S$13,자료실!D1079)","v":0},{"$f":"COUNTIF(번호추출!$N$13:$S$13,자료실!E1079)","v":0},{"$f":"COUNTIF(번호추출!$N$13:$S$13,자료실!F1079)","v":0},{"$f":"COUNTIF(번호추출!$N$13:$S$13,자료실!G1079)","v":0},{"$f":"COUNTIF(번호추출!$N$13:$S$13,자료실!H1079)","v":0},{"$f":"COUNTIF(번호추출!$N$13:$S$13,I1079)","v":0},0,0,0,0,0,0,0,{"$f":"IF(6=U1079,\"1등\",IF(13=U1079,\"1등\",0))","v":0},0]
[null,null,null,null,null,null,null,null,null,null,null,0,{"$f":"COUNTIF(번호추출!$N$13:$S$13,자료실!C1080)","v":0},{"$f":"COUNTIF(번호추출!$N$13:$S$13,자료실!D1080)","v":0},{"$f":"COUNTIF(번호추출!$N$13:$S$13,자료실!E1080)","v":0},{"$f":"COUNTIF(번호추출!$N$13:$S$13,자료실!F1080)","v":0},{"$f":"COUNTIF(번호추출!$N$13:$S$13,자료실!G1080)","v":0},{"$f":"COUNTIF(번호추출!$N$13:$S$13,자료실!H1080)","v":0},{"$f":"COUNTIF(번호추출!$N$13:$S$13,I1080)","v":0},0,0,0,0,0,0,0,{"$f":"IF(6=U1080,\"1등\",IF(13=U1080,\"1등\",0))","v":0},0]
[null,null,null,null,null,null,null,null,null,null,null,0,{"$f":"COUNTIF(번호추출!$N$13:$S$13,자료실!C1081)","v":0},{"$f":"COUNTIF(번호추출!$N$13:$S$13,자료실!D1081)","v":0},{"$f":"COUNTIF(번호추출!$N$13:$S$13,자료실!E1081)","v":0},{"$f":"COUNTIF(번호추출!$N$13:$S$13,자료실!F1081)","v":0},{"$f":"COUNTIF(번호추출!$N$13:$S$13,자료실!G1081)","v":0},{"$f":"COUNTIF(번호추출!$N$13:$S$13,자료실!H1081)","v":0},{"$f":"COUNTIF(번호추출!$N$13:$S$13,I1081)","v":0},0,0,0,0,0,0,0,{"$f":"IF(6=U1081,\"1등\",IF(13=U1081,\"1등\",0))","v":0},0]
[null,null,null,null,null,null,null,null,null,null,null,0,{"$f":"COUNTIF(번호추출!$N$13:$S$13,자료실!C1082)","v":0},{"$f":"COUNTIF(번호추출!$N$13:$S$13,자료실!D1082)","v":0},{"$f":"COUNTIF(번호추출!$N$13:$S$13,자료실!E1082)","v":0},{"$f":"COUNTIF(번호추출!$N$13:$S$13,자료실!F1082)","v":0},{"$f":"COUNTIF(번호추출!$N$13:$S$13,자료실!G1082)","v":0},{"$f":"COUNTIF(번호추출!$N$13:$S$13,자료실!H1082)","v":0},{"$f":"COUNTIF(번호추출!$N$13:$S$13,I1082)","v":0},0,0,0,0,0,0,0,{"$f":"IF(6=U1082,\"1등\",IF(13=U1082,\"1등\",0))","v":0},0]
[null,null,null,null,null,null,null,null,null,null,null,0,{"$f":"COUNTIF(번호추출!$N$13:$S$13,자료실!C1083)","v":0},{"$f":"COUNTIF(번호추출!$N$13:$S$13,자료실!D1083)","v":0},{"$f":"COUNTIF(번호추출!$N$13:$S$13,자료실!E1083)","v":0},{"$f":"COUNTIF(번호추출!$N$13:$S$13,자료실!F1083)","v":0},{"$f":"COUNTIF(번호추출!$N$13:$S$13,자료실!G1083)","v":0},{"$f":"COUNTIF(번호추출!$N$13:$S$13,자료실!H1083)","v":0},{"$f":"COUNTIF(번호추출!$N$13:$S$13,I1083)","v":0},0,0,0,0,0,0,0,{"$f":"IF(6=U1083,\"1등\",IF(13=U1083,\"1등\",0))","v":0},0]
[null,null,null,null,null,null,null,null,null,null,null,0,{"$f":"COUNTIF(번호추출!$N$13:$S$13,자료실!C1084)","v":0},{"$f":"COUNTIF(번호추출!$N$13:$S$13,자료실!D1084)","v":0},{"$f":"COUNTIF(번호추출!$N$13:$S$13,자료실!E1084)","v":0},{"$f":"COUNTIF(번호추출!$N$13:$S$13,자료실!F1084)","v":0},{"$f":"COUNTIF(번호추출!$N$13:$S$13,자료실!G1084)","v":0},{"$f":"COUNTIF(번호추출!$N$13:$S$13,자료실!H1084)","v":0},{"$f":"COUNTIF(번호추출!$N$13:$S$13,I1084)","v":0},0,0,0,0,0,0,0,{"$f":"IF(6=U1084,\"1등\",IF(13=U1084,\"1등\",0))","v":0},0]
[null,null,null,null,null,null,null,null,null,null,null,0,{"$f":"COUNTIF(번호추출!$N$13:$S$13,자료실!C1085)","v":0},{"$f":"COUNTIF(번호추출!$N$13:$S$13,자료실!D1085)","v":0},{"$f":"COUNTIF(번호추출!$N$13:$S$13,자료실!E1085)","v":0},{"$f":"COUNTIF(번호추출!$N$13:$S$13,자료실!F1085)","v":0},{"$f":"COUNTIF(번호추출!$N$13:$S$13,자료실!G1085)","v":0},{"$f":"COUNTIF(번호추출!$N$13:$S$13,자료실!H1085)","v":0},{"$f":"COUNTIF(번호추출!$N$13:$S$13,I1085)","v":0},0,0,0,0,0,0,0,{"$f":"IF(6=U1085,\"1등\",IF(13=U1085,\"1등\",0))","v":0},0]
[null,null,null,null,null,null,null,null,null,null,null,0,{"$f":"COUNTIF(번호추출!$N$13:$S$13,자료실!C1086)","v":0},{"$f":"COUNTIF(번호추출!$N$13:$S$13,자료실!D1086)","v":0},{"$f":"COUNTIF(번호추출!$N$13:$S$13,자료실!E1086)","v":0},{"$f":"COUNTIF(번호추출!$N$13:$S$13,자료실!F1086)","v":0},{"$f":"COUNTIF(번호추출!$N$13:$S$13,자료실!G1086)","v":0},{"$f":"COUNTIF(번호추출!$N$13:$S$13,자료실!H1086)","v":0},{"$f":"COUNTIF(번호추출!$N$13:$S$13,I1086)","v":0},0,0,0,0,0,0,0,{"$f":"IF(6=U1086,\"1등\",IF(13=U1086,\"1등\",0))","v":0},0]
[null,null,null,null,null,null,null,null,null,null,null,0,{"$f":"COUNTIF(번호추출!$N$13:$S$13,자료실!C1087)","v":0},{"$f":"COUNTIF(번호추출!$N$13:$S$13,자료실!D1087)","v":0},{"$f":"COUNTIF(번호추출!$N$13:$S$13,자료실!E1087)","v":0},{"$f":"COUNTIF(번호추출!$N$13:$S$13,자료실!F1087)","v":0},{"$f":"COUNTIF(번호추출!$N$13:$S$13,자료실!G1087)","v":0},{"$f":"COUNTIF(번호추출!$N$13:$S$13,자료실!H1087)","v":0},{"$f":"COUNTIF(번호추출!$N$13:$S$13,I1087)","v":0},0,0,0,0,0,0,0,{"$f":"IF(6=U1087,\"1등\",IF(13=U1087,\"1등\",0))","v":0},0]
[null,null,null,null,null,null,null,null,null,null,null,0,{"$f":"COUNTIF(번호추출!$N$13:$S$13,자료실!C1088)","v":0},{"$f":"COUNTIF(번호추출!$N$13:$S$13,자료실!D1088)","v":0},{"$f":"COUNTIF(번호추출!$N$13:$S$13,자료실!E1088)","v":0},{"$f":"COUNTIF(번호추출!$N$13:$S$13,자료실!F1088)","v":0},{"$f":"COUNTIF(번호추출!$N$13:$S$13,자료실!G1088)","v":0},{"$f":"COUNTIF(번호추출!$N$13:$S$13,자료실!H1088)","v":0},{"$f":"COUNTIF(번호추출!$N$13:$S$13,I1088)","v":0},0,0,0,0,0,0,0,{"$f":"IF(6=U1088,\"1등\",IF(13=U1088,\"1등\",0))","v":0},0]
[null,null,null,null,null,null,null,null,null,null,null,0,{"$f":"COUNTIF(번호추출!$N$13:$S$13,자료실!C1089)","v":0},{"$f":"COUNTIF(번호추출!$N$13:$S$13,자료실!D1089)","v":0},{"$f":"COUNTIF(번호추출!$N$13:$S$13,자료실!E1089)","v":0},{"$f":"COUNTIF(번호추출!$N$13:$S$13,자료실!F1089)","v":0},{"$f":"COUNTIF(번호추출!$N$13:$S$13,자료실!G1089)","v":0},{"$f":"COUNTIF(번호추출!$N$13:$S$13,자료실!H1089)","v":0},{"$f":"COUNTIF(번호추출!$N$13:$S$13,I1089)","v":0},0,0,0,0,0,0,0,{"$f":"IF(6=U1089,\"1등\",IF(13=U1089,\"1등\",0))","v":0},0]
[null,null,null,null,null,null,null,null,null,null,null,0,{"$f":"COUNTIF(번호추출!$N$13:$S$13,자료실!C1090)","v":0},{"$f":"COUNTIF(번호추출!$N$13:$S$13,자료실!D1090)","v":0},{"$f":"COUNTIF(번호추출!$N$13:$S$13,자료실!E1090)","v":0},{"$f":"COUNTIF(번호추출!$N$13:$S$13,자료실!F1090)","v":0},{"$f":"COUNTIF(번호추출!$N$13:$S$13,자료실!G1090)","v":0},{"$f":"COUNTIF(번호추출!$N$13:$S$13,자료실!H1090)","v":0},{"$f":"COUNTIF(번호추출!$N$13:$S$13,I1090)","v":0},0,0,0,0,0,0,0,{"$f":"IF(6=U1090,\"1등\",IF(13=U1090,\"1등\",0))","v":0},0]
[null,null,null,null,null,null,null,null,null,null,null,0,{"$f":"COUNTIF(번호추출!$N$13:$S$13,자료실!C1091)","v":0},{"$f":"COUNTIF(번호추출!$N$13:$S$13,자료실!D1091)","v":0},{"$f":"COUNTIF(번호추출!$N$13:$S$13,자료실!E1091)","v":0},{"$f":"COUNTIF(번호추출!$N$13:$S$13,자료실!F1091)","v":0},{"$f":"COUNTIF(번호추출!$N$13:$S$13,자료실!G1091)","v":0},{"$f":"COUNTIF(번호추출!$N$13:$S$13,자료실!H1091)","v":0},{"$f":"COUNTIF(번호추출!$N$13:$S$13,I1091)","v":0},0,0,0,0,0,0,0,{"$f":"IF(6=U1091,\"1등\",IF(13=U1091,\"1등\",0))","v":0},0]
[null,null,null,null,null,null,null,null,null,null,null,0,{"$f":"COUNTIF(번호추출!$N$13:$S$13,자료실!C1092)","v":0},{"$f":"COUNTIF(번호추출!$N$13:$S$13,자료실!D1092)","v":0},{"$f":"COUNTIF(번호추출!$N$13:$S$13,자료실!E1092)","v":0},{"$f":"COUNTIF(번호추출!$N$13:$S$13,자료실!F1092)","v":0},{"$f":"COUNTIF(번호추출!$N$13:$S$13,자료실!G1092)","v":0},{"$f":"COUNTIF(번호추출!$N$13:$S$13,자료실!H1092)","v":0},{"$f":"COUNTIF(번호추출!$N$13:$S$13,I1092)","v":0},0,0,0,0,0,0,0,{"$f":"IF(6=U1092,\"1등\",IF(13=U1092,\"1등\",0))","v":0},0]
[null,null,null,null,null,null,null,null,null,null,null,0,{"$f":"COUNTIF(번호추출!$N$13:$S$13,자료실!C1093)","v":0},{"$f":"COUNTIF(번호추출!$N$13:$S$13,자료실!D1093)","v":0},{"$f":"COUNTIF(번호추출!$N$13:$S$13,자료실!E1093)","v":0},{"$f":"COUNTIF(번호추출!$N$13:$S$13,자료실!F1093)","v":0},{"$f":"COUNTIF(번호추출!$N$13:$S$13,자료실!G1093)","v":0},{"$f":"COUNTIF(번호추출!$N$13:$S$13,자료실!H1093)","v":0},{"$f":"COUNTIF(번호추출!$N$13:$S$13,I1093)","v":0},0,0,0,0,0,0,0,{"$f":"IF(6=U1093,\"1등\",IF(13=U1093,\"1등\",0))","v":0},0]
[null,null,null,null,null,null,null,null,null,null,null,0,{"$f":"COUNTIF(번호추출!$N$13:$S$13,자료실!C1094)","v":0},{"$f":"COUNTIF(번호추출!$N$13:$S$13,자료실!D1094)","v":0},{"$f":"COUNTIF(번호추출!$N$13:$S$13,자료실!E1094)","v":0},{"$f":"COUNTIF(번호추출!$N$13:$S$13,자료실!F1094)","v":0},{"$f":"COUNTIF(번호추출!$N$13:$S$13,자료실!G1094)","v":0},{"$f":"COUNTIF(번호추출!$N$13:$S$13,자료실!H1094)","v":0},{"$f":"COUNTIF(번호추출!$N$13:$S$13,I1094)","v":0},0,0,0,0,0,0,0,{"$f":"IF(6=U1094,\"1등\",IF(13=U1094,\"1등\",0))","v":0},0]
[null,null,null,null,null,null,null,null,null,null,null,0,{"$f":"COUNTIF(번호추출!$N$13:$S$13,자료실!C1095)","v":0},{"$f":"COUNTIF(번호추출!$N$13:$S$13,자료실!D1095)","v":0},{"$f":"COUNTIF(번호추출!$N$13:$S$13,자료실!E1095)","v":0},{"$f":"COUNTIF(번호추출!$N$13:$S$13,자료실!F1095)","v":0},{"$f":"COUNTIF(번호추출!$N$13:$S$13,자료실!G1095)","v":0},{"$f":"COUNTIF(번호추출!$N$13:$S$13,자료실!H1095)","v":0},{"$f":"COUNTIF(번호추출!$N$13:$S$13,I1095)","v":0},0,0,0,0,0,0,0,{"$f":"IF(6=U1095,\"1등\",IF(13=U1095,\"1등\",0))","v":0},0]
[null,null,null,null,null,null,null,null,null,null,null,0,{"$f":"COUNTIF(번호추출!$N$13:$S$13,자료실!C1096)","v":0},{"$f":"COUNTIF(번호추출!$N$13:$S$13,자료실!D1096)","v":0},{"$f":"COUNTIF(번호추출!$N$13:$S$13,자료실!E1096)","v":0},{"$f":"COUNTIF(번호추출!$N$13:$S$13,자료실!F1096)","v":0},{"$f":"COUNTIF(번호추출!$N$13:$S$13,자료실!G1096)","v":0},{"$f":"COUNTIF(번호추출!$N$13:$S$13,자료실!H1096)","v":0},{"$f":"COUNTIF(번호추출!$N$13:$S$13,I1096)","v":0},0,0,0,0,0,0,0,{"$f":"IF(6=U1096,\"1등\",IF(13=U1096,\"1등\",0))","v":0},0]
[null,null,null,null,null,null,null,null,null,null,null,0,{"$f":"COUNTIF(번호추출!$N$13:$S$13,자료실!C1097)","v":0},{"$f":"COUNTIF(번호추출!$N$13:$S$13,자료실!D1097)","v":0},{"$f":"COUNTIF(번호추출!$N$13:$S$13,자료실!E1097)","v":0},{"$f":"COUNTIF(번호추출!$N$13:$S$13,자료실!F1097)","v":0},{"$f":"COUNTIF(번호추출!$N$13:$S$13,자료실!G1097)","v":0},{"$f":"COUNTIF(번호추출!$N$13:$S$13,자료실!H1097)","v":0},{"$f":"COUNTIF(번호추출!$N$13:$S$13,I1097)","v":0},0,0,0,0,0,0,0,{"$f":"IF(6=U1097,\"1등\",IF(13=U1097,\"1등\",0))","v":0},0]
[null,null,null,null,null,null,null,null,null,null,null,0,{"$f":"COUNTIF(번호추출!$N$13:$S$13,자료실!C1098)","v":0},{"$f":"COUNTIF(번호추출!$N$13:$S$13,자료실!D1098)","v":0},{"$f":"COUNTIF(번호추출!$N$13:$S$13,자료실!E1098)","v":0},{"$f":"COUNTIF(번호추출!$N$13:$S$13,자료실!F1098)","v":0},{"$f":"COUNTIF(번호추출!$N$13:$S$13,자료실!G1098)","v":0},{"$f":"COUNTIF(번호추출!$N$13:$S$13,자료실!H1098)","v":0},{"$f":"COUNTIF(번호추출!$N$13:$S$13,I1098)","v":0},0,0,0,0,0,0,0,{"$f":"IF(6=U1098,\"1등\",IF(13=U1098,\"1등\",0))","v":0},0]
[null,null,null,null,null,null,null,null,null,null,null,0,{"$f":"COUNTIF(번호추출!$N$13:$S$13,자료실!C1099)","v":0},{"$f":"COUNTIF(번호추출!$N$13:$S$13,자료실!D1099)","v":0},{"$f":"COUNTIF(번호추출!$N$13:$S$13,자료실!E1099)","v":0},{"$f":"COUNTIF(번호추출!$N$13:$S$13,자료실!F1099)","v":0},{"$f":"COUNTIF(번호추출!$N$13:$S$13,자료실!G1099)","v":0},{"$f":"COUNTIF(번호추출!$N$13:$S$13,자료실!H1099)","v":0},{"$f":"COUNTIF(번호추출!$N$13:$S$13,I1099)","v":0},0,0,0,0,0,0,0,{"$f":"IF(6=U1099,\"1등\",IF(13=U1099,\"1등\",0))","v":0},0]
[null,null,null,null,null,null,null,null,null,null,null,0,{"$f":"COUNTIF(번호추출!$N$13:$S$13,자료실!C1100)","v":0},{"$f":"COUNTIF(번호추출!$N$13:$S$13,자료실!D1100)","v":0},{"$f":"COUNTIF(번호추출!$N$13:$S$13,자료실!E1100)","v":0},{"$f":"COUNTIF(번호추출!$N$13:$S$13,자료실!F1100)","v":0},{"$f":"COUNTIF(번호추출!$N$13:$S$13,자료실!G1100)","v":0},{"$f":"COUNTIF(번호추출!$N$13:$S$13,자료실!H1100)","v":0},{"$f":"COUNTIF(번호추출!$N$13:$S$13,I1100)","v":0},0,0,0,0,0,0,0,{"$f":"IF(6=U1100,\"1등\",IF(13=U1100,\"1등\",0))","v":0},0]
[null,null,null,null,null,null,null,null,null,null,null,0,{"$f":"COUNTIF(번호추출!$N$13:$S$13,자료실!C1101)","v":0},{"$f":"COUNTIF(번호추출!$N$13:$S$13,자료실!D1101)","v":0},{"$f":"COUNTIF(번호추출!$N$13:$S$13,자료실!E1101)","v":0},{"$f":"COUNTIF(번호추출!$N$13:$S$13,자료실!F1101)","v":0},{"$f":"COUNTIF(번호추출!$N$13:$S$13,자료실!G1101)","v":0},{"$f":"COUNTIF(번호추출!$N$13:$S$13,자료실!H1101)","v":0},{"$f":"COUNTIF(번호추출!$N$13:$S$13,I1101)","v":0},0,0,0,0,0,0,0,{"$f":"IF(6=U1101,\"1등\",IF(13=U1101,\"1등\",0))","v":0},0]
[null,null,null,null,null,null,null,null,null,null,null,0,{"$f":"COUNTIF(번호추출!$N$13:$S$13,자료실!C1102)","v":0},{"$f":"COUNTIF(번호추출!$N$13:$S$13,자료실!D1102)","v":0},{"$f":"COUNTIF(번호추출!$N$13:$S$13,자료실!E1102)","v":0},{"$f":"COUNTIF(번호추출!$N$13:$S$13,자료실!F1102)","v":0},{"$f":"COUNTIF(번호추출!$N$13:$S$13,자료실!G1102)","v":0},{"$f":"COUNTIF(번호추출!$N$13:$S$13,자료실!H1102)","v":0},{"$f":"COUNTIF(번호추출!$N$13:$S$13,I1102)","v":0},0,0,{"$f":"IF(1=U1102,\"꽝\",IF(0<T1102,\"꽝\",0))","v":0},{"$f":"IF(2=U1102,\"꽝\",IF(1<T1102,\"꽝\",0))","v":0},{"$f":"IF(3=U1102,\"5등\",IF(2<T1102,\"5등\",0))","v":0},{"$f":"IF(4=U1102,\"4등\",IF(3<T1102,\"4등\",0))","v":0},{"$f":"IF(5=U1102,\"3등\",IF(4<T1102,\"3등\",0))","v":0},{"$f":"IF(6=U1102,\"1등\",IF(13=U1102,\"1등\",0))","v":0},{"$f":"IF(U1102=12,\"2등\",0)","v":0}]
[null,null,null,null,null,null,null,null,null,null,null,0,{"$f":"COUNTIF(번호추출!$N$13:$S$13,자료실!C1103)","v":0},{"$f":"COUNTIF(번호추출!$N$13:$S$13,자료실!D1103)","v":0},{"$f":"COUNTIF(번호추출!$N$13:$S$13,자료실!E1103)","v":0},{"$f":"COUNTIF(번호추출!$N$13:$S$13,자료실!F1103)","v":0},{"$f":"COUNTIF(번호추출!$N$13:$S$13,자료실!G1103)","v":0},{"$f":"COUNTIF(번호추출!$N$13:$S$13,자료실!H1103)","v":0},{"$f":"COUNTIF(번호추출!$N$13:$S$13,I1103)","v":0},0,0,0,0,0,0,0,{"$f":"IF(6=U1103,\"1등\",IF(13=U1103,\"1등\",0))","v":0},0]
[null,null,null,null,null,null,null,null,null,null,null,0,{"$f":"COUNTIF(번호추출!$N$13:$S$13,자료실!C1104)","v":0},{"$f":"COUNTIF(번호추출!$N$13:$S$13,자료실!D1104)","v":0},{"$f":"COUNTIF(번호추출!$N$13:$S$13,자료실!E1104)","v":0},{"$f":"COUNTIF(번호추출!$N$13:$S$13,자료실!F1104)","v":0},{"$f":"COUNTIF(번호추출!$N$13:$S$13,자료실!G1104)","v":0},{"$f":"COUNTIF(번호추출!$N$13:$S$13,자료실!H1104)","v":0},{"$f":"COUNTIF(번호추출!$N$13:$S$13,I1104)","v":0},0,0,0,0,0,0,0,{"$f":"IF(6=U1104,\"1등\",IF(13=U1104,\"1등\",0))","v":0},0]
[null,null,null,null,null,null,null,null,null,null,null,0,{"$f":"COUNTIF(번호추출!$N$13:$S$13,자료실!C1105)","v":0},{"$f":"COUNTIF(번호추출!$N$13:$S$13,자료실!D1105)","v":0},{"$f":"COUNTIF(번호추출!$N$13:$S$13,자료실!E1105)","v":0},{"$f":"COUNTIF(번호추출!$N$13:$S$13,자료실!F1105)","v":0},{"$f":"COUNTIF(번호추출!$N$13:$S$13,자료실!G1105)","v":0},{"$f":"COUNTIF(번호추출!$N$13:$S$13,자료실!H1105)","v":0},{"$f":"COUNTIF(번호추출!$N$13:$S$13,I1105)","v":0},0,0,0,0,0,0,0,{"$f":"IF(6=U1105,\"1등\",IF(13=U1105,\"1등\",0))","v":0},0]
[null,null,null,null,null,null,null,null,null,null,null,0,{"$f":"COUNTIF(번호추출!$N$13:$S$13,자료실!C1106)","v":0},{"$f":"COUNTIF(번호추출!$N$13:$S$13,자료실!D1106)","v":0},{"$f":"COUNTIF(번호추출!$N$13:$S$13,자료실!E1106)","v":0},{"$f":"COUNTIF(번호추출!$N$13:$S$13,자료실!F1106)","v":0},{"$f":"COUNTIF(번호추출!$N$13:$S$13,자료실!G1106)","v":0},{"$f":"COUNTIF(번호추출!$N$13:$S$13,자료실!H1106)","v":0},{"$f":"COUNTIF(번호추출!$N$13:$S$13,I1106)","v":0},0,0,0,0,0,0,0,{"$f":"IF(6=U1106,\"1등\",IF(13=U1106,\"1등\",0))","v":0},0]
[null,null,null,null,null,null,null,null,null,null,null,0,{"$f":"COUNTIF(번호추출!$N$13:$S$13,자료실!C1107)","v":0},{"$f":"COUNTIF(번호추출!$N$13:$S$13,자료실!D1107)","v":0},{"$f":"COUNTIF(번호추출!$N$13:$S$13,자료실!E1107)","v":0},{"$f":"COUNTIF(번호추출!$N$13:$S$13,자료실!F1107)","v":0},{"$f":"COUNTIF(번호추출!$N$13:$S$13,자료실!G1107)","v":0},{"$f":"COUNTIF(번호추출!$N$13:$S$13,자료실!H1107)","v":0},{"$f":"COUNTIF(번호추출!$N$13:$S$13,I1107)","v":0},0,0,0,0,0,0,0,{"$f":"IF(6=U1107,\"1등\",IF(13=U1107,\"1등\",0))","v":0},0]
[null,null,null,null,null,null,null,null,null,null,null,0,{"$f":"COUNTIF(번호추출!$N$13:$S$13,자료실!C1108)","v":0},{"$f":"COUNTIF(번호추출!$N$13:$S$13,자료실!D1108)","v":0},{"$f":"COUNTIF(번호추출!$N$13:$S$13,자료실!E1108)","v":0},{"$f":"COUNTIF(번호추출!$N$13:$S$13,자료실!F1108)","v":0},{"$f":"COUNTIF(번호추출!$N$13:$S$13,자료실!G1108)","v":0},{"$f":"COUNTIF(번호추출!$N$13:$S$13,자료실!H1108)","v":0},{"$f":"COUNTIF(번호추출!$N$13:$S$13,I1108)","v":0},0,0,0,0,0,0,0,{"$f":"IF(6=U1108,\"1등\",IF(13=U1108,\"1등\",0))","v":0},0]
[null,null,null,null,null,null,null,null,null,null,null,0,{"$f":"COUNTIF(번호추출!$N$13:$S$13,자료실!C1109)","v":0},{"$f":"COUNTIF(번호추출!$N$13:$S$13,자료실!D1109)","v":0},{"$f":"COUNTIF(번호추출!$N$13:$S$13,자료실!E1109)","v":0},{"$f":"COUNTIF(번호추출!$N$13:$S$13,자료실!F1109)","v":0},{"$f":"COUNTIF(번호추출!$N$13:$S$13,자료실!G1109)","v":0},{"$f":"COUNTIF(번호추출!$N$13:$S$13,자료실!H1109)","v":0},{"$f":"COUNTIF(번호추출!$N$13:$S$13,I1109)","v":0},0,0,0,0,0,0,0,{"$f":"IF(6=U1109,\"1등\",IF(13=U1109,\"1등\",0))","v":0},0]
[null,null,null,null,null,null,null,null,null,null,null,0,{"$f":"COUNTIF(번호추출!$N$13:$S$13,자료실!C1110)","v":0},{"$f":"COUNTIF(번호추출!$N$13:$S$13,자료실!D1110)","v":0},{"$f":"COUNTIF(번호추출!$N$13:$S$13,자료실!E1110)","v":0},{"$f":"COUNTIF(번호추출!$N$13:$S$13,자료실!F1110)","v":0},{"$f":"COUNTIF(번호추출!$N$13:$S$13,자료실!G1110)","v":0},{"$f":"COUNTIF(번호추출!$N$13:$S$13,자료실!H1110)","v":0},{"$f":"COUNTIF(번호추출!$N$13:$S$13,I1110)","v":0},0,0,0,0,0,0,0,{"$f":"IF(6=U1110,\"1등\",IF(13=U1110,\"1등\",0))","v":0},0]
[null,null,null,null,null,null,null,null,null,null,null,0,{"$f":"COUNTIF(번호추출!$N$13:$S$13,자료실!C1111)","v":0},{"$f":"COUNTIF(번호추출!$N$13:$S$13,자료실!D1111)","v":0},{"$f":"COUNTIF(번호추출!$N$13:$S$13,자료실!E1111)","v":0},{"$f":"COUNTIF(번호추출!$N$13:$S$13,자료실!F1111)","v":0},{"$f":"COUNTIF(번호추출!$N$13:$S$13,자료실!G1111)","v":0},{"$f":"COUNTIF(번호추출!$N$13:$S$13,자료실!H1111)","v":0},{"$f":"COUNTIF(번호추출!$N$13:$S$13,I1111)","v":0},0,0,0,0,0,0,0,{"$f":"IF(6=U1111,\"1등\",IF(13=U1111,\"1등\",0))","v":0},0]
[null,null,null,null,null,null,null,null,null,null,null,0,{"$f":"COUNTIF(번호추출!$N$13:$S$13,자료실!C1112)","v":0},{"$f":"COUNTIF(번호추출!$N$13:$S$13,자료실!D1112)","v":0},{"$f":"COUNTIF(번호추출!$N$13:$S$13,자료실!E1112)","v":0},{"$f":"COUNTIF(번호추출!$N$13:$S$13,자료실!F1112)","v":0},{"$f":"COUNTIF(번호추출!$N$13:$S$13,자료실!G1112)","v":0},{"$f":"COUNTIF(번호추출!$N$13:$S$13,자료실!H1112)","v":0},{"$f":"COUNTIF(번호추출!$N$13:$S$13,I1112)","v":0},0,0,0,0,0,0,0,{"$f":"IF(6=U1112,\"1등\",IF(13=U1112,\"1등\",0))","v":0},0]
[null,null,null,null,null,null,null,null,null,null,null,0,{"$f":"COUNTIF(번호추출!$N$13:$S$13,자료실!C1113)","v":0},{"$f":"COUNTIF(번호추출!$N$13:$S$13,자료실!D1113)","v":0},{"$f":"COUNTIF(번호추출!$N$13:$S$13,자료실!E1113)","v":0},{"$f":"COUNTIF(번호추출!$N$13:$S$13,자료실!F1113)","v":0},{"$f":"COUNTIF(번호추출!$N$13:$S$13,자료실!G1113)","v":0},{"$f":"COUNTIF(번호추출!$N$13:$S$13,자료실!H1113)","v":0},{"$f":"COUNTIF(번호추출!$N$13:$S$13,I1113)","v":0},0,0,0,0,0,0,0,{"$f":"IF(6=U1113,\"1등\",IF(13=U1113,\"1등\",0))","v":0},0]
[null,null,null,null,null,null,null,null,null,null,null,0,{"$f":"COUNTIF(번호추출!$N$13:$S$13,자료실!C1114)","v":0},{"$f":"COUNTIF(번호추출!$N$13:$S$13,자료실!D1114)","v":0},{"$f":"COUNTIF(번호추출!$N$13:$S$13,자료실!E1114)","v":0},{"$f":"COUNTIF(번호추출!$N$13:$S$13,자료실!F1114)","v":0},{"$f":"COUNTIF(번호추출!$N$13:$S$13,자료실!G1114)","v":0},{"$f":"COUNTIF(번호추출!$N$13:$S$13,자료실!H1114)","v":0},{"$f":"COUNTIF(번호추출!$N$13:$S$13,I1114)","v":0},0,0,0,0,0,0,0,{"$f":"IF(6=U1114,\"1등\",IF(13=U1114,\"1등\",0))","v":0},0]
[null,null,null,null,null,null,null,null,null,null,null,{"$f":"A1115","v":0},{"$f":"COUNTIF(번호추출!$N$13:$S$13,자료실!C1115)","v":0},{"$f":"COUNTIF(번호추출!$N$13:$S$13,자료실!D1115)","v":0},{"$f":"COUNTIF(번호추출!$N$13:$S$13,자료실!E1115)","v":0},{"$f":"COUNTIF(번호추출!$N$13:$S$13,자료실!F1115)","v":0},{"$f":"COUNTIF(번호추출!$N$13:$S$13,자료실!G1115)","v":0},{"$f":"COUNTIF(번호추출!$N$13:$S$13,자료실!H1115)","v":0},{"$f":"COUNTIF(번호추출!$N$13:$S$13,I1115)","v":0},{"$f":"SUM(M1115:R1115)","v":0},{"$f":"SUM(M1115:S1115)","v":0},0,0,0,0,0,{"$f":"IF(6=U1115,\"1등\",IF(13=U1115,\"1등\",0))","v":0},0]
[null,null,null,null,null,null,null,null,null,null,null,0,{"$f":"COUNTIF(번호추출!$N$13:$S$13,자료실!C1116)","v":0},{"$f":"COUNTIF(번호추출!$N$13:$S$13,자료실!D1116)","v":0},{"$f":"COUNTIF(번호추출!$N$13:$S$13,자료실!E1116)","v":0},{"$f":"COUNTIF(번호추출!$N$13:$S$13,자료실!F1116)","v":0},{"$f":"COUNTIF(번호추출!$N$13:$S$13,자료실!G1116)","v":0},{"$f":"COUNTIF(번호추출!$N$13:$S$13,자료실!H1116)","v":0},{"$f":"COUNTIF(번호추출!$N$13:$S$13,I1116)","v":0},0,0,0,0,0,0,0,{"$f":"IF(6=U1116,\"1등\",IF(13=U1116,\"1등\",0))","v":0},0]
[null,null,null,null,null,null,null,null,null,null,null,0,{"$f":"COUNTIF(번호추출!$N$13:$S$13,자료실!C1117)","v":0},{"$f":"COUNTIF(번호추출!$N$13:$S$13,자료실!D1117)","v":0},{"$f":"COUNTIF(번호추출!$N$13:$S$13,자료실!E1117)","v":0},{"$f":"COUNTIF(번호추출!$N$13:$S$13,자료실!F1117)","v":0},{"$f":"COUNTIF(번호추출!$N$13:$S$13,자료실!G1117)","v":0},{"$f":"COUNTIF(번호추출!$N$13:$S$13,자료실!H1117)","v":0},{"$f":"COUNTIF(번호추출!$N$13:$S$13,I1117)","v":0},0,0,0,0,0,0,0,{"$f":"IF(6=U1117,\"1등\",IF(13=U1117,\"1등\",0))","v":0},0]
[null,null,null,null,null,null,null,null,null,null,null,0,{"$f":"COUNTIF(번호추출!$N$13:$S$13,자료실!C1118)","v":0},{"$f":"COUNTIF(번호추출!$N$13:$S$13,자료실!D1118)","v":0},{"$f":"COUNTIF(번호추출!$N$13:$S$13,자료실!E1118)","v":0},{"$f":"COUNTIF(번호추출!$N$13:$S$13,자료실!F1118)","v":0},{"$f":"COUNTIF(번호추출!$N$13:$S$13,자료실!G1118)","v":0},{"$f":"COUNTIF(번호추출!$N$13:$S$13,자료실!H1118)","v":0},{"$f":"COUNTIF(번호추출!$N$13:$S$13,I1118)","v":0},0,0,0,0,0,0,0,{"$f":"IF(6=U1118,\"1등\",IF(13=U1118,\"1등\",0))","v":0},0]
[null,null,null,null,null,null,null,null,null,null,null,0,{"$f":"COUNTIF(번호추출!$N$13:$S$13,자료실!C1119)","v":0},{"$f":"COUNTIF(번호추출!$N$13:$S$13,자료실!D1119)","v":0},{"$f":"COUNTIF(번호추출!$N$13:$S$13,자료실!E1119)","v":0},{"$f":"COUNTIF(번호추출!$N$13:$S$13,자료실!F1119)","v":0},{"$f":"COUNTIF(번호추출!$N$13:$S$13,자료실!G1119)","v":0},{"$f":"COUNTIF(번호추출!$N$13:$S$13,자료실!H1119)","v":0},{"$f":"COUNTIF(번호추출!$N$13:$S$13,I1119)","v":0},0,0,0,0,0,0,0,{"$f":"IF(6=U1119,\"1등\",IF(13=U1119,\"1등\",0))","v":0},0]
[null,null,null,null,null,null,null,null,null,null,null,0,{"$f":"COUNTIF(번호추출!$N$13:$S$13,자료실!C1120)","v":0},{"$f":"COUNTIF(번호추출!$N$13:$S$13,자료실!D1120)","v":0},{"$f":"COUNTIF(번호추출!$N$13:$S$13,자료실!E1120)","v":0},{"$f":"COUNTIF(번호추출!$N$13:$S$13,자료실!F1120)","v":0},{"$f":"COUNTIF(번호추출!$N$13:$S$13,자료실!G1120)","v":0},{"$f":"COUNTIF(번호추출!$N$13:$S$13,자료실!H1120)","v":0},{"$f":"COUNTIF(번호추출!$N$13:$S$13,I1120)","v":0},0,0,0,0,0,0,0,{"$f":"IF(6=U1120,\"1등\",IF(13=U1120,\"1등\",0))","v":0},0]
[null,null,null,null,null,null,null,null,null,null,null,0,{"$f":"COUNTIF(번호추출!$N$13:$S$13,자료실!C1121)","v":0},{"$f":"COUNTIF(번호추출!$N$13:$S$13,자료실!D1121)","v":0},{"$f":"COUNTIF(번호추출!$N$13:$S$13,자료실!E1121)","v":0},{"$f":"COUNTIF(번호추출!$N$13:$S$13,자료실!F1121)","v":0},{"$f":"COUNTIF(번호추출!$N$13:$S$13,자료실!G1121)","v":0},{"$f":"COUNTIF(번호추출!$N$13:$S$13,자료실!H1121)","v":0},{"$f":"COUNTIF(번호추출!$N$13:$S$13,I1121)","v":0},0,0,0,0,0,0,0,{"$f":"IF(6=U1121,\"1등\",IF(13=U1121,\"1등\",0))","v":0},0]
[null,null,null,null,null,null,null,null,null,null,null,0,{"$f":"COUNTIF(번호추출!$N$13:$S$13,자료실!C1122)","v":0},{"$f":"COUNTIF(번호추출!$N$13:$S$13,자료실!D1122)","v":0},{"$f":"COUNTIF(번호추출!$N$13:$S$13,자료실!E1122)","v":0},{"$f":"COUNTIF(번호추출!$N$13:$S$13,자료실!F1122)","v":0},{"$f":"COUNTIF(번호추출!$N$13:$S$13,자료실!G1122)","v":0},{"$f":"COUNTIF(번호추출!$N$13:$S$13,자료실!H1122)","v":0},{"$f":"COUNTIF(번호추출!$N$13:$S$13,I1122)","v":0},0,0,0,0,0,0,0,{"$f":"IF(6=U1122,\"1등\",IF(13=U1122,\"1등\",0))","v":0},0]
[null,null,null,null,null,null,null,null,null,null,null,0,{"$f":"COUNTIF(번호추출!$N$13:$S$13,자료실!C1123)","v":0},{"$f":"COUNTIF(번호추출!$N$13:$S$13,자료실!D1123)","v":0},{"$f":"COUNTIF(번호추출!$N$13:$S$13,자료실!E1123)","v":0},{"$f":"COUNTIF(번호추출!$N$13:$S$13,자료실!F1123)","v":0},{"$f":"COUNTIF(번호추출!$N$13:$S$13,자료실!G1123)","v":0},{"$f":"COUNTIF(번호추출!$N$13:$S$13,자료실!H1123)","v":0},{"$f":"COUNTIF(번호추출!$N$13:$S$13,I1123)","v":0},0,0,0,0,0,0,0,{"$f":"IF(6=U1123,\"1등\",IF(13=U1123,\"1등\",0))","v":0},0]
[null,null,null,null,null,null,null,null,null,null,null,0,{"$f":"COUNTIF(번호추출!$N$13:$S$13,자료실!C1124)","v":0},{"$f":"COUNTIF(번호추출!$N$13:$S$13,자료실!D1124)","v":0},{"$f":"COUNTIF(번호추출!$N$13:$S$13,자료실!E1124)","v":0},{"$f":"COUNTIF(번호추출!$N$13:$S$13,자료실!F1124)","v":0},{"$f":"COUNTIF(번호추출!$N$13:$S$13,자료실!G1124)","v":0},{"$f":"COUNTIF(번호추출!$N$13:$S$13,자료실!H1124)","v":0},{"$f":"COUNTIF(번호추출!$N$13:$S$13,I1124)","v":0},0,0,0,0,0,0,0,{"$f":"IF(6=U1124,\"1등\",IF(13=U1124,\"1등\",0))","v":0},0]
[null,null,null,null,null,null,null,null,null,null,null,0,{"$f":"COUNTIF(번호추출!$N$13:$S$13,자료실!C1125)","v":0},{"$f":"COUNTIF(번호추출!$N$13:$S$13,자료실!D1125)","v":0},{"$f":"COUNTIF(번호추출!$N$13:$S$13,자료실!E1125)","v":0},{"$f":"COUNTIF(번호추출!$N$13:$S$13,자료실!F1125)","v":0},{"$f":"COUNTIF(번호추출!$N$13:$S$13,자료실!G1125)","v":0},{"$f":"COUNTIF(번호추출!$N$13:$S$13,자료실!H1125)","v":0},{"$f":"COUNTIF(번호추출!$N$13:$S$13,I1125)","v":0},0,0,0,0,0,0,0,{"$f":"IF(6=U1125,\"1등\",IF(13=U1125,\"1등\",0))","v":0},0]
[null,null,null,null,null,null,null,null,null,null,null,0,{"$f":"COUNTIF(번호추출!$N$13:$S$13,자료실!C1126)","v":0},{"$f":"COUNTIF(번호추출!$N$13:$S$13,자료실!D1126)","v":0},{"$f":"COUNTIF(번호추출!$N$13:$S$13,자료실!E1126)","v":0},{"$f":"COUNTIF(번호추출!$N$13:$S$13,자료실!F1126)","v":0},{"$f":"COUNTIF(번호추출!$N$13:$S$13,자료실!G1126)","v":0},{"$f":"COUNTIF(번호추출!$N$13:$S$13,자료실!H1126)","v":0},{"$f":"COUNTIF(번호추출!$N$13:$S$13,I1126)","v":0},0,0,0,0,0,0,0,{"$f":"IF(6=U1126,\"1등\",IF(13=U1126,\"1등\",0))","v":0},0]
[null,null,null,null,null,null,null,null,null,null,null,0,{"$f":"COUNTIF(번호추출!$N$13:$S$13,자료실!C1127)","v":0},{"$f":"COUNTIF(번호추출!$N$13:$S$13,자료실!D1127)","v":0},{"$f":"COUNTIF(번호추출!$N$13:$S$13,자료실!E1127)","v":0},{"$f":"COUNTIF(번호추출!$N$13:$S$13,자료실!F1127)","v":0},{"$f":"COUNTIF(번호추출!$N$13:$S$13,자료실!G1127)","v":0},{"$f":"COUNTIF(번호추출!$N$13:$S$13,자료실!H1127)","v":0},{"$f":"COUNTIF(번호추출!$N$13:$S$13,I1127)","v":0},0,0,0,0,0,0,0,{"$f":"IF(6=U1127,\"1등\",IF(13=U1127,\"1등\",0))","v":0},0]
[null,null,null,null,null,null,null,null,null,null,null,0,{"$f":"COUNTIF(번호추출!$N$13:$S$13,자료실!C1128)","v":0},{"$f":"COUNTIF(번호추출!$N$13:$S$13,자료실!D1128)","v":0},{"$f":"COUNTIF(번호추출!$N$13:$S$13,자료실!E1128)","v":0},{"$f":"COUNTIF(번호추출!$N$13:$S$13,자료실!F1128)","v":0},{"$f":"COUNTIF(번호추출!$N$13:$S$13,자료실!G1128)","v":0},{"$f":"COUNTIF(번호추출!$N$13:$S$13,자료실!H1128)","v":0},{"$f":"COUNTIF(번호추출!$N$13:$S$13,I1128)","v":0},0,0,0,0,0,0,0,{"$f":"IF(6=U1128,\"1등\",IF(13=U1128,\"1등\",0))","v":0},0]
[null,null,null,null,null,null,null,null,null,null,null,0,{"$f":"COUNTIF(번호추출!$N$13:$S$13,자료실!C1129)","v":0},{"$f":"COUNTIF(번호추출!$N$13:$S$13,자료실!D1129)","v":0},{"$f":"COUNTIF(번호추출!$N$13:$S$13,자료실!E1129)","v":0},{"$f":"COUNTIF(번호추출!$N$13:$S$13,자료실!F1129)","v":0},{"$f":"COUNTIF(번호추출!$N$13:$S$13,자료실!G1129)","v":0},{"$f":"COUNTIF(번호추출!$N$13:$S$13,자료실!H1129)","v":0},{"$f":"COUNTIF(번호추출!$N$13:$S$13,I1129)","v":0},0,0,0,0,0,0,0,{"$f":"IF(6=U1129,\"1등\",IF(13=U1129,\"1등\",0))","v":0},0]
[null,null,null,null,null,null,null,null,null,null,null,0,{"$f":"COUNTIF(번호추출!$N$13:$S$13,자료실!C1130)","v":0},{"$f":"COUNTIF(번호추출!$N$13:$S$13,자료실!D1130)","v":0},{"$f":"COUNTIF(번호추출!$N$13:$S$13,자료실!E1130)","v":0},{"$f":"COUNTIF(번호추출!$N$13:$S$13,자료실!F1130)","v":0},{"$f":"COUNTIF(번호추출!$N$13:$S$13,자료실!G1130)","v":0},{"$f":"COUNTIF(번호추출!$N$13:$S$13,자료실!H1130)","v":0},{"$f":"COUNTIF(번호추출!$N$13:$S$13,I1130)","v":0},0,0,0,0,0,0,0,{"$f":"IF(6=U1130,\"1등\",IF(13=U1130,\"1등\",0))","v":0},0]
[null,null,null,null,null,null,null,null,null,null,null,0,{"$f":"COUNTIF(번호추출!$N$13:$S$13,자료실!C1131)","v":0},{"$f":"COUNTIF(번호추출!$N$13:$S$13,자료실!D1131)","v":0},{"$f":"COUNTIF(번호추출!$N$13:$S$13,자료실!E1131)","v":0},{"$f":"COUNTIF(번호추출!$N$13:$S$13,자료실!F1131)","v":0},{"$f":"COUNTIF(번호추출!$N$13:$S$13,자료실!G1131)","v":0},{"$f":"COUNTIF(번호추출!$N$13:$S$13,자료실!H1131)","v":0},{"$f":"COUNTIF(번호추출!$N$13:$S$13,I1131)","v":0},0,0,0,0,0,0,0,{"$f":"IF(6=U1131,\"1등\",IF(13=U1131,\"1등\",0))","v":0},0]
[null,null,null,null,null,null,null,null,null,null,null,0,{"$f":"COUNTIF(번호추출!$N$13:$S$13,자료실!C1132)","v":0},{"$f":"COUNTIF(번호추출!$N$13:$S$13,자료실!D1132)","v":0},{"$f":"COUNTIF(번호추출!$N$13:$S$13,자료실!E1132)","v":0},{"$f":"COUNTIF(번호추출!$N$13:$S$13,자료실!F1132)","v":0},{"$f":"COUNTIF(번호추출!$N$13:$S$13,자료실!G1132)","v":0},{"$f":"COUNTIF(번호추출!$N$13:$S$13,자료실!H1132)","v":0},{"$f":"COUNTIF(번호추출!$N$13:$S$13,I1132)","v":0},0,0,0,0,0,0,0,{"$f":"IF(6=U1132,\"1등\",IF(13=U1132,\"1등\",0))","v":0},0]
[null,null,null,null,null,null,null,null,null,null,null,0,{"$f":"COUNTIF(번호추출!$N$13:$S$13,자료실!C1133)","v":0},{"$f":"COUNTIF(번호추출!$N$13:$S$13,자료실!D1133)","v":0},{"$f":"COUNTIF(번호추출!$N$13:$S$13,자료실!E1133)","v":0},{"$f":"COUNTIF(번호추출!$N$13:$S$13,자료실!F1133)","v":0},{"$f":"COUNTIF(번호추출!$N$13:$S$13,자료실!G1133)","v":0},{"$f":"COUNTIF(번호추출!$N$13:$S$13,자료실!H1133)","v":0},{"$f":"COUNTIF(번호추출!$N$13:$S$13,I1133)","v":0},0,0,0,0,0,0,0,{"$f":"IF(6=U1133,\"1등\",IF(13=U1133,\"1등\",0))","v":0},0]
[null,null,null,null,null,null,null,null,null,null,null,0,{"$f":"COUNTIF(번호추출!$N$13:$S$13,자료실!C1134)","v":0},{"$f":"COUNTIF(번호추출!$N$13:$S$13,자료실!D1134)","v":0},{"$f":"COUNTIF(번호추출!$N$13:$S$13,자료실!E1134)","v":0},{"$f":"COUNTIF(번호추출!$N$13:$S$13,자료실!F1134)","v":0},{"$f":"COUNTIF(번호추출!$N$13:$S$13,자료실!G1134)","v":0},{"$f":"COUNTIF(번호추출!$N$13:$S$13,자료실!H1134)","v":0},{"$f":"COUNTIF(번호추출!$N$13:$S$13,I1134)","v":0},0,0,0,0,0,0,0,{"$f":"IF(6=U1134,\"1등\",IF(13=U1134,\"1등\",0))","v":0},0]
[null,null,null,null,null,null,null,null,null,null,null,0,{"$f":"COUNTIF(번호추출!$N$13:$S$13,자료실!C1135)","v":0},{"$f":"COUNTIF(번호추출!$N$13:$S$13,자료실!D1135)","v":0},{"$f":"COUNTIF(번호추출!$N$13:$S$13,자료실!E1135)","v":0},{"$f":"COUNTIF(번호추출!$N$13:$S$13,자료실!F1135)","v":0},{"$f":"COUNTIF(번호추출!$N$13:$S$13,자료실!G1135)","v":0},{"$f":"COUNTIF(번호추출!$N$13:$S$13,자료실!H1135)","v":0},{"$f":"COUNTIF(번호추출!$N$13:$S$13,I1135)","v":0},0,0,0,0,0,0,0,{"$f":"IF(6=U1135,\"1등\",IF(13=U1135,\"1등\",0))","v":0},0]
[null,null,null,null,null,null,null,null,null,null,null,0,{"$f":"COUNTIF(번호추출!$N$13:$S$13,자료실!C1136)","v":0},{"$f":"COUNTIF(번호추출!$N$13:$S$13,자료실!D1136)","v":0},{"$f":"COUNTIF(번호추출!$N$13:$S$13,자료실!E1136)","v":0},{"$f":"COUNTIF(번호추출!$N$13:$S$13,자료실!F1136)","v":0},{"$f":"COUNTIF(번호추출!$N$13:$S$13,자료실!G1136)","v":0},{"$f":"COUNTIF(번호추출!$N$13:$S$13,자료실!H1136)","v":0},{"$f":"COUNTIF(번호추출!$N$13:$S$13,I1136)","v":0},0,0,0,0,0,0,0,{"$f":"IF(6=U1136,\"1등\",IF(13=U1136,\"1등\",0))","v":0},0]
[null,null,null,null,null,null,null,null,null,null,null,0,{"$f":"COUNTIF(번호추출!$N$13:$S$13,자료실!C1137)","v":0},{"$f":"COUNTIF(번호추출!$N$13:$S$13,자료실!D1137)","v":0},{"$f":"COUNTIF(번호추출!$N$13:$S$13,자료실!E1137)","v":0},{"$f":"COUNTIF(번호추출!$N$13:$S$13,자료실!F1137)","v":0},{"$f":"COUNTIF(번호추출!$N$13:$S$13,자료실!G1137)","v":0},{"$f":"COUNTIF(번호추출!$N$13:$S$13,자료실!H1137)","v":0},{"$f":"COUNTIF(번호추출!$N$13:$S$13,I1137)","v":0},0,0,0,0,0,0,0,{"$f":"IF(6=U1137,\"1등\",IF(13=U1137,\"1등\",0))","v":0},0]
[null,null,null,null,null,null,null,null,null,null,null,0,{"$f":"COUNTIF(번호추출!$N$13:$S$13,자료실!C1138)","v":0},{"$f":"COUNTIF(번호추출!$N$13:$S$13,자료실!D1138)","v":0},{"$f":"COUNTIF(번호추출!$N$13:$S$13,자료실!E1138)","v":0},{"$f":"COUNTIF(번호추출!$N$13:$S$13,자료실!F1138)","v":0},{"$f":"COUNTIF(번호추출!$N$13:$S$13,자료실!G1138)","v":0},{"$f":"COUNTIF(번호추출!$N$13:$S$13,자료실!H1138)","v":0},{"$f":"COUNTIF(번호추출!$N$13:$S$13,I1138)","v":0},0,0,0,0,0,0,0,{"$f":"IF(6=U1138,\"1등\",IF(13=U1138,\"1등\",0))","v":0},0]
[null,null,null,null,null,null,null,null,null,null,null,0,{"$f":"COUNTIF(번호추출!$N$13:$S$13,자료실!C1139)","v":0},{"$f":"COUNTIF(번호추출!$N$13:$S$13,자료실!D1139)","v":0},{"$f":"COUNTIF(번호추출!$N$13:$S$13,자료실!E1139)","v":0},{"$f":"COUNTIF(번호추출!$N$13:$S$13,자료실!F1139)","v":0},{"$f":"COUNTIF(번호추출!$N$13:$S$13,자료실!G1139)","v":0},{"$f":"COUNTIF(번호추출!$N$13:$S$13,자료실!H1139)","v":0},{"$f":"COUNTIF(번호추출!$N$13:$S$13,I1139)","v":0},0,0,0,0,0,0,0,{"$f":"IF(6=U1139,\"1등\",IF(13=U1139,\"1등\",0))","v":0},0]
[null,null,null,null,null,null,null,null,null,null,null,0,{"$f":"COUNTIF(번호추출!$N$13:$S$13,자료실!C1140)","v":0},{"$f":"COUNTIF(번호추출!$N$13:$S$13,자료실!D1140)","v":0},{"$f":"COUNTIF(번호추출!$N$13:$S$13,자료실!E1140)","v":0},{"$f":"COUNTIF(번호추출!$N$13:$S$13,자료실!F1140)","v":0},{"$f":"COUNTIF(번호추출!$N$13:$S$13,자료실!G1140)","v":0},{"$f":"COUNTIF(번호추출!$N$13:$S$13,자료실!H1140)","v":0},{"$f":"COUNTIF(번호추출!$N$13:$S$13,I1140)","v":0},0,0,0,0,0,0,0,{"$f":"IF(6=U1140,\"1등\",IF(13=U1140,\"1등\",0))","v":0},0]
[null,null,null,null,null,null,null,null,null,null,null,0,{"$f":"COUNTIF(번호추출!$N$13:$S$13,자료실!C1141)","v":0},{"$f":"COUNTIF(번호추출!$N$13:$S$13,자료실!D1141)","v":0},{"$f":"COUNTIF(번호추출!$N$13:$S$13,자료실!E1141)","v":0},{"$f":"COUNTIF(번호추출!$N$13:$S$13,자료실!F1141)","v":0},{"$f":"COUNTIF(번호추출!$N$13:$S$13,자료실!G1141)","v":0},{"$f":"COUNTIF(번호추출!$N$13:$S$13,자료실!H1141)","v":0},{"$f":"COUNTIF(번호추출!$N$13:$S$13,I1141)","v":0},0,0,0,0,0,0,0,{"$f":"IF(6=U1141,\"1등\",IF(13=U1141,\"1등\",0))","v":0},0]
[null,null,null,null,null,null,null,null,null,null,null,0,{"$f":"COUNTIF(번호추출!$N$13:$S$13,자료실!C1142)","v":0},{"$f":"COUNTIF(번호추출!$N$13:$S$13,자료실!D1142)","v":0},{"$f":"COUNTIF(번호추출!$N$13:$S$13,자료실!E1142)","v":0},{"$f":"COUNTIF(번호추출!$N$13:$S$13,자료실!F1142)","v":0},{"$f":"COUNTIF(번호추출!$N$13:$S$13,자료실!G1142)","v":0},{"$f":"COUNTIF(번호추출!$N$13:$S$13,자료실!H1142)","v":0},{"$f":"COUNTIF(번호추출!$N$13:$S$13,I1142)","v":0},0,0,0,0,0,0,0,{"$f":"IF(6=U1142,\"1등\",IF(13=U1142,\"1등\",0))","v":0},0]
[null,null,null,null,null,null,null,null,null,null,null,0,{"$f":"COUNTIF(번호추출!$N$13:$S$13,자료실!C1143)","v":0},{"$f":"COUNTIF(번호추출!$N$13:$S$13,자료실!D1143)","v":0},{"$f":"COUNTIF(번호추출!$N$13:$S$13,자료실!E1143)","v":0},{"$f":"COUNTIF(번호추출!$N$13:$S$13,자료실!F1143)","v":0},{"$f":"COUNTIF(번호추출!$N$13:$S$13,자료실!G1143)","v":0},{"$f":"COUNTIF(번호추출!$N$13:$S$13,자료실!H1143)","v":0},{"$f":"COUNTIF(번호추출!$N$13:$S$13,I1143)","v":0},0,0,0,0,0,0,0,{"$f":"IF(6=U1143,\"1등\",IF(13=U1143,\"1등\",0))","v":0},0]
[null,null,null,null,null,null,null,null,null,null,null,0,{"$f":"COUNTIF(번호추출!$N$13:$S$13,자료실!C1144)","v":0},{"$f":"COUNTIF(번호추출!$N$13:$S$13,자료실!D1144)","v":0},{"$f":"COUNTIF(번호추출!$N$13:$S$13,자료실!E1144)","v":0},{"$f":"COUNTIF(번호추출!$N$13:$S$13,자료실!F1144)","v":0},{"$f":"COUNTIF(번호추출!$N$13:$S$13,자료실!G1144)","v":0},{"$f":"COUNTIF(번호추출!$N$13:$S$13,자료실!H1144)","v":0},{"$f":"COUNTIF(번호추출!$N$13:$S$13,I1144)","v":0},0,0,0,0,0,0,0,{"$f":"IF(6=U1144,\"1등\",IF(13=U1144,\"1등\",0))","v":0},0]
[null,null,null,null,null,null,null,null,null,null,null,0,{"$f":"COUNTIF(번호추출!$N$13:$S$13,자료실!C1145)","v":0},{"$f":"COUNTIF(번호추출!$N$13:$S$13,자료실!D1145)","v":0},{"$f":"COUNTIF(번호추출!$N$13:$S$13,자료실!E1145)","v":0},{"$f":"COUNTIF(번호추출!$N$13:$S$13,자료실!F1145)","v":0},{"$f":"COUNTIF(번호추출!$N$13:$S$13,자료실!G1145)","v":0},{"$f":"COUNTIF(번호추출!$N$13:$S$13,자료실!H1145)","v":0},{"$f":"COUNTIF(번호추출!$N$13:$S$13,I1145)","v":0},0,0,0,0,0,0,0,{"$f":"IF(6=U1145,\"1등\",IF(13=U1145,\"1등\",0))","v":0},0]
[null,null,null,null,null,null,null,null,null,null,null,0,{"$f":"COUNTIF(번호추출!$N$13:$S$13,자료실!C1146)","v":0},{"$f":"COUNTIF(번호추출!$N$13:$S$13,자료실!D1146)","v":0},{"$f":"COUNTIF(번호추출!$N$13:$S$13,자료실!E1146)","v":0},{"$f":"COUNTIF(번호추출!$N$13:$S$13,자료실!F1146)","v":0},{"$f":"COUNTIF(번호추출!$N$13:$S$13,자료실!G1146)","v":0},{"$f":"COUNTIF(번호추출!$N$13:$S$13,자료실!H1146)","v":0},{"$f":"COUNTIF(번호추출!$N$13:$S$13,I1146)","v":0},0,0,0,0,0,0,0,{"$f":"IF(6=U1146,\"1등\",IF(13=U1146,\"1등\",0))","v":0},0]
[null,null,null,null,null,null,null,null,null,null,null,0,{"$f":"COUNTIF(번호추출!$N$13:$S$13,자료실!C1147)","v":0},{"$f":"COUNTIF(번호추출!$N$13:$S$13,자료실!D1147)","v":0},{"$f":"COUNTIF(번호추출!$N$13:$S$13,자료실!E1147)","v":0},{"$f":"COUNTIF(번호추출!$N$13:$S$13,자료실!F1147)","v":0},{"$f":"COUNTIF(번호추출!$N$13:$S$13,자료실!G1147)","v":0},{"$f":"COUNTIF(번호추출!$N$13:$S$13,자료실!H1147)","v":0},{"$f":"COUNTIF(번호추출!$N$13:$S$13,I1147)","v":0},0,0,0,0,0,0,0,{"$f":"IF(6=U1147,\"1등\",IF(13=U1147,\"1등\",0))","v":0},0]
[null,null,null,null,null,null,null,null,null,null,null,0,{"$f":"COUNTIF(번호추출!$N$13:$S$13,자료실!C1148)","v":0},{"$f":"COUNTIF(번호추출!$N$13:$S$13,자료실!D1148)","v":0},{"$f":"COUNTIF(번호추출!$N$13:$S$13,자료실!E1148)","v":0},{"$f":"COUNTIF(번호추출!$N$13:$S$13,자료실!F1148)","v":0},{"$f":"COUNTIF(번호추출!$N$13:$S$13,자료실!G1148)","v":0},{"$f":"COUNTIF(번호추출!$N$13:$S$13,자료실!H1148)","v":0},{"$f":"COUNTIF(번호추출!$N$13:$S$13,I1148)","v":0},0,0,0,0,0,0,0,{"$f":"IF(6=U1148,\"1등\",IF(13=U1148,\"1등\",0))","v":0},0]
[null,null,null,null,null,null,null,null,null,null,null,0,{"$f":"COUNTIF(번호추출!$N$13:$S$13,자료실!C1149)","v":0},{"$f":"COUNTIF(번호추출!$N$13:$S$13,자료실!D1149)","v":0},{"$f":"COUNTIF(번호추출!$N$13:$S$13,자료실!E1149)","v":0},{"$f":"COUNTIF(번호추출!$N$13:$S$13,자료실!F1149)","v":0},{"$f":"COUNTIF(번호추출!$N$13:$S$13,자료실!G1149)","v":0},{"$f":"COUNTIF(번호추출!$N$13:$S$13,자료실!H1149)","v":0},{"$f":"COUNTIF(번호추출!$N$13:$S$13,I1149)","v":0},0,0,0,0,0,0,0,{"$f":"IF(6=U1149,\"1등\",IF(13=U1149,\"1등\",0))","v":0},0]
[null,null,null,null,null,null,null,null,null,null,null,0,{"$f":"COUNTIF(번호추출!$N$13:$S$13,자료실!C1150)","v":0},{"$f":"COUNTIF(번호추출!$N$13:$S$13,자료실!D1150)","v":0},{"$f":"COUNTIF(번호추출!$N$13:$S$13,자료실!E1150)","v":0},{"$f":"COUNTIF(번호추출!$N$13:$S$13,자료실!F1150)","v":0},{"$f":"COUNTIF(번호추출!$N$13:$S$13,자료실!G1150)","v":0},{"$f":"COUNTIF(번호추출!$N$13:$S$13,자료실!H1150)","v":0},{"$f":"COUNTIF(번호추출!$N$13:$S$13,I1150)","v":0},0,0,0,0,0,0,0,{"$f":"IF(6=U1150,\"1등\",IF(13=U1150,\"1등\",0))","v":0},0]
[null,null,null,null,null,null,null,null,null,null,null,0,{"$f":"COUNTIF(번호추출!$N$13:$S$13,자료실!C1151)","v":0},{"$f":"COUNTIF(번호추출!$N$13:$S$13,자료실!D1151)","v":0},{"$f":"COUNTIF(번호추출!$N$13:$S$13,자료실!E1151)","v":0},{"$f":"COUNTIF(번호추출!$N$13:$S$13,자료실!F1151)","v":0},{"$f":"COUNTIF(번호추출!$N$13:$S$13,자료실!G1151)","v":0},{"$f":"COUNTIF(번호추출!$N$13:$S$13,자료실!H1151)","v":0},{"$f":"COUNTIF(번호추출!$N$13:$S$13,I1151)","v":0},0,0,0,0,0,0,0,{"$f":"IF(6=U1151,\"1등\",IF(13=U1151,\"1등\",0))","v":0},0]
[null,null,null,null,null,null,null,null,null,null,null,0,{"$f":"COUNTIF(번호추출!$N$13:$S$13,자료실!C1152)","v":0},{"$f":"COUNTIF(번호추출!$N$13:$S$13,자료실!D1152)","v":0},{"$f":"COUNTIF(번호추출!$N$13:$S$13,자료실!E1152)","v":0},{"$f":"COUNTIF(번호추출!$N$13:$S$13,자료실!F1152)","v":0},{"$f":"COUNTIF(번호추출!$N$13:$S$13,자료실!G1152)","v":0},{"$f":"COUNTIF(번호추출!$N$13:$S$13,자료실!H1152)","v":0},{"$f":"COUNTIF(번호추출!$N$13:$S$13,I1152)","v":0},0,0,0,0,0,0,0,{"$f":"IF(6=U1152,\"1등\",IF(13=U1152,\"1등\",0))","v":0},0]
[null,null,null,null,null,null,null,null,null,null,null,0,{"$f":"COUNTIF(번호추출!$N$13:$S$13,자료실!C1153)","v":0},{"$f":"COUNTIF(번호추출!$N$13:$S$13,자료실!D1153)","v":0},{"$f":"COUNTIF(번호추출!$N$13:$S$13,자료실!E1153)","v":0},{"$f":"COUNTIF(번호추출!$N$13:$S$13,자료실!F1153)","v":0},{"$f":"COUNTIF(번호추출!$N$13:$S$13,자료실!G1153)","v":0},{"$f":"COUNTIF(번호추출!$N$13:$S$13,자료실!H1153)","v":0},{"$f":"COUNTIF(번호추출!$N$13:$S$13,I1153)","v":0},0,0,0,0,0,0,0,{"$f":"IF(6=U1153,\"1등\",IF(13=U1153,\"1등\",0))","v":0},0]
[null,null,null,null,null,null,null,null,null,null,null,0,{"$f":"COUNTIF(번호추출!$N$13:$S$13,자료실!C1154)","v":0},{"$f":"COUNTIF(번호추출!$N$13:$S$13,자료실!D1154)","v":0},{"$f":"COUNTIF(번호추출!$N$13:$S$13,자료실!E1154)","v":0},{"$f":"COUNTIF(번호추출!$N$13:$S$13,자료실!F1154)","v":0},{"$f":"COUNTIF(번호추출!$N$13:$S$13,자료실!G1154)","v":0},{"$f":"COUNTIF(번호추출!$N$13:$S$13,자료실!H1154)","v":0},{"$f":"COUNTIF(번호추출!$N$13:$S$13,I1154)","v":0},0,0,0,0,0,0,0,{"$f":"IF(6=U1154,\"1등\",IF(13=U1154,\"1등\",0))","v":0},0]
[null,null,null,null,null,null,null,null,null,null,null,0,{"$f":"COUNTIF(번호추출!$N$13:$S$13,자료실!C1155)","v":0},{"$f":"COUNTIF(번호추출!$N$13:$S$13,자료실!D1155)","v":0},{"$f":"COUNTIF(번호추출!$N$13:$S$13,자료실!E1155)","v":0},{"$f":"COUNTIF(번호추출!$N$13:$S$13,자료실!F1155)","v":0},{"$f":"COUNTIF(번호추출!$N$13:$S$13,자료실!G1155)","v":0},{"$f":"COUNTIF(번호추출!$N$13:$S$13,자료실!H1155)","v":0},{"$f":"COUNTIF(번호추출!$N$13:$S$13,I1155)","v":0},0,0,0,0,0,0,0,{"$f":"IF(6=U1155,\"1등\",IF(13=U1155,\"1등\",0))","v":0},0]
[null,null,null,null,null,null,null,null,null,null,null,0,{"$f":"COUNTIF(번호추출!$N$13:$S$13,자료실!C1156)","v":0},{"$f":"COUNTIF(번호추출!$N$13:$S$13,자료실!D1156)","v":0},{"$f":"COUNTIF(번호추출!$N$13:$S$13,자료실!E1156)","v":0},{"$f":"COUNTIF(번호추출!$N$13:$S$13,자료실!F1156)","v":0},{"$f":"COUNTIF(번호추출!$N$13:$S$13,자료실!G1156)","v":0},{"$f":"COUNTIF(번호추출!$N$13:$S$13,자료실!H1156)","v":0},{"$f":"COUNTIF(번호추출!$N$13:$S$13,I1156)","v":0},0,0,0,0,0,0,0,{"$f":"IF(6=U1156,\"1등\",IF(13=U1156,\"1등\",0))","v":0},0]
[null,null,null,null,null,null,null,null,null,null,null,0,{"$f":"COUNTIF(번호추출!$N$13:$S$13,자료실!C1157)","v":0},{"$f":"COUNTIF(번호추출!$N$13:$S$13,자료실!D1157)","v":0},{"$f":"COUNTIF(번호추출!$N$13:$S$13,자료실!E1157)","v":0},{"$f":"COUNTIF(번호추출!$N$13:$S$13,자료실!F1157)","v":0},{"$f":"COUNTIF(번호추출!$N$13:$S$13,자료실!G1157)","v":0},{"$f":"COUNTIF(번호추출!$N$13:$S$13,자료실!H1157)","v":0},{"$f":"COUNTIF(번호추출!$N$13:$S$13,I1157)","v":0},0,0,0,0,0,0,0,{"$f":"IF(6=U1157,\"1등\",IF(13=U1157,\"1등\",0))","v":0},0]
[null,null,null,null,null,null,null,null,null,null,null,0,{"$f":"COUNTIF(번호추출!$N$13:$S$13,자료실!C1158)","v":0},{"$f":"COUNTIF(번호추출!$N$13:$S$13,자료실!D1158)","v":0},{"$f":"COUNTIF(번호추출!$N$13:$S$13,자료실!E1158)","v":0},{"$f":"COUNTIF(번호추출!$N$13:$S$13,자료실!F1158)","v":0},{"$f":"COUNTIF(번호추출!$N$13:$S$13,자료실!G1158)","v":0},{"$f":"COUNTIF(번호추출!$N$13:$S$13,자료실!H1158)","v":0},{"$f":"COUNTIF(번호추출!$N$13:$S$13,I1158)","v":0},0,0,0,0,0,0,0,{"$f":"IF(6=U1158,\"1등\",IF(13=U1158,\"1등\",0))","v":0},0]
[null,null,null,null,null,null,null,null,null,null,null,0,{"$f":"COUNTIF(번호추출!$N$13:$S$13,자료실!C1159)","v":0},{"$f":"COUNTIF(번호추출!$N$13:$S$13,자료실!D1159)","v":0},{"$f":"COUNTIF(번호추출!$N$13:$S$13,자료실!E1159)","v":0},{"$f":"COUNTIF(번호추출!$N$13:$S$13,자료실!F1159)","v":0},{"$f":"COUNTIF(번호추출!$N$13:$S$13,자료실!G1159)","v":0},{"$f":"COUNTIF(번호추출!$N$13:$S$13,자료실!H1159)","v":0},{"$f":"COUNTIF(번호추출!$N$13:$S$13,I1159)","v":0},0,0,0,0,0,0,0,{"$f":"IF(6=U1159,\"1등\",IF(13=U1159,\"1등\",0))","v":0},0]
[null,null,null,null,null,null,null,null,null,null,null,0,{"$f":"COUNTIF(번호추출!$N$13:$S$13,자료실!C1160)","v":0},{"$f":"COUNTIF(번호추출!$N$13:$S$13,자료실!D1160)","v":0},{"$f":"COUNTIF(번호추출!$N$13:$S$13,자료실!E1160)","v":0},{"$f":"COUNTIF(번호추출!$N$13:$S$13,자료실!F1160)","v":0},{"$f":"COUNTIF(번호추출!$N$13:$S$13,자료실!G1160)","v":0},{"$f":"COUNTIF(번호추출!$N$13:$S$13,자료실!H1160)","v":0},{"$f":"COUNTIF(번호추출!$N$13:$S$13,I1160)","v":0},0,0,0,0,0,0,0,{"$f":"IF(6=U1160,\"1등\",IF(13=U1160,\"1등\",0))","v":0},0]
[null,null,null,null,null,null,null,null,null,null,null,0,{"$f":"COUNTIF(번호추출!$N$13:$S$13,자료실!C1161)","v":0},{"$f":"COUNTIF(번호추출!$N$13:$S$13,자료실!D1161)","v":0},{"$f":"COUNTIF(번호추출!$N$13:$S$13,자료실!E1161)","v":0},{"$f":"COUNTIF(번호추출!$N$13:$S$13,자료실!F1161)","v":0},{"$f":"COUNTIF(번호추출!$N$13:$S$13,자료실!G1161)","v":0},{"$f":"COUNTIF(번호추출!$N$13:$S$13,자료실!H1161)","v":0},{"$f":"COUNTIF(번호추출!$N$13:$S$13,I1161)","v":0},0,0,0,0,0,0,0,{"$f":"IF(6=U1161,\"1등\",IF(13=U1161,\"1등\",0))","v":0},0]
[null,null,null,null,null,null,null,null,null,null,null,0,{"$f":"COUNTIF(번호추출!$N$13:$S$13,자료실!C1162)","v":0},{"$f":"COUNTIF(번호추출!$N$13:$S$13,자료실!D1162)","v":0},{"$f":"COUNTIF(번호추출!$N$13:$S$13,자료실!E1162)","v":0},{"$f":"COUNTIF(번호추출!$N$13:$S$13,자료실!F1162)","v":0},{"$f":"COUNTIF(번호추출!$N$13:$S$13,자료실!G1162)","v":0},{"$f":"COUNTIF(번호추출!$N$13:$S$13,자료실!H1162)","v":0},{"$f":"COUNTIF(번호추출!$N$13:$S$13,I1162)","v":0},0,0,0,0,0,0,0,{"$f":"IF(6=U1162,\"1등\",IF(13=U1162,\"1등\",0))","v":0},0]
[null,null,null,null,null,null,null,null,null,null,null,0,{"$f":"COUNTIF(번호추출!$N$13:$S$13,자료실!C1163)","v":0},{"$f":"COUNTIF(번호추출!$N$13:$S$13,자료실!D1163)","v":0},{"$f":"COUNTIF(번호추출!$N$13:$S$13,자료실!E1163)","v":0},{"$f":"COUNTIF(번호추출!$N$13:$S$13,자료실!F1163)","v":0},{"$f":"COUNTIF(번호추출!$N$13:$S$13,자료실!G1163)","v":0},{"$f":"COUNTIF(번호추출!$N$13:$S$13,자료실!H1163)","v":0},{"$f":"COUNTIF(번호추출!$N$13:$S$13,I1163)","v":0},0,0,0,0,0,0,0,{"$f":"IF(6=U1163,\"1등\",IF(13=U1163,\"1등\",0))","v":0},0]
[null,null,null,null,null,null,null,null,null,null,null,0,{"$f":"COUNTIF(번호추출!$N$13:$S$13,자료실!C1164)","v":0},{"$f":"COUNTIF(번호추출!$N$13:$S$13,자료실!D1164)","v":0},{"$f":"COUNTIF(번호추출!$N$13:$S$13,자료실!E1164)","v":0},{"$f":"COUNTIF(번호추출!$N$13:$S$13,자료실!F1164)","v":0},{"$f":"COUNTIF(번호추출!$N$13:$S$13,자료실!G1164)","v":0},{"$f":"COUNTIF(번호추출!$N$13:$S$13,자료실!H1164)","v":0},{"$f":"COUNTIF(번호추출!$N$13:$S$13,I1164)","v":0},0,0,0,0,0,0,0,{"$f":"IF(6=U1164,\"1등\",IF(13=U1164,\"1등\",0))","v":0},0]
[null,null,null,null,null,null,null,null,null,null,null,0,{"$f":"COUNTIF(번호추출!$N$13:$S$13,자료실!C1165)","v":0},{"$f":"COUNTIF(번호추출!$N$13:$S$13,자료실!D1165)","v":0},{"$f":"COUNTIF(번호추출!$N$13:$S$13,자료실!E1165)","v":0},{"$f":"COUNTIF(번호추출!$N$13:$S$13,자료실!F1165)","v":0},{"$f":"COUNTIF(번호추출!$N$13:$S$13,자료실!G1165)","v":0},{"$f":"COUNTIF(번호추출!$N$13:$S$13,자료실!H1165)","v":0},{"$f":"COUNTIF(번호추출!$N$13:$S$13,I1165)","v":0},0,0,0,0,0,0,0,{"$f":"IF(6=U1165,\"1등\",IF(13=U1165,\"1등\",0))","v":0},0]
[null,null,null,null,null,null,null,null,null,null,null,0,{"$f":"COUNTIF(번호추출!$N$13:$S$13,자료실!C1166)","v":0},{"$f":"COUNTIF(번호추출!$N$13:$S$13,자료실!D1166)","v":0},{"$f":"COUNTIF(번호추출!$N$13:$S$13,자료실!E1166)","v":0},{"$f":"COUNTIF(번호추출!$N$13:$S$13,자료실!F1166)","v":0},{"$f":"COUNTIF(번호추출!$N$13:$S$13,자료실!G1166)","v":0},{"$f":"COUNTIF(번호추출!$N$13:$S$13,자료실!H1166)","v":0},{"$f":"COUNTIF(번호추출!$N$13:$S$13,I1166)","v":0},0,0,{"$f":"IF(1=U1166,\"꽝\",IF(0<T1166,\"꽝\",0))","v":0},{"$f":"IF(2=U1166,\"꽝\",IF(1<T1166,\"꽝\",0))","v":0},{"$f":"IF(3=U1166,\"5등\",IF(2<T1166,\"5등\",0))","v":0},{"$f":"IF(4=U1166,\"4등\",IF(3<T1166,\"4등\",0))","v":0},{"$f":"IF(5=U1166,\"3등\",IF(4<T1166,\"3등\",0))","v":0},{"$f":"IF(6=U1166,\"1등\",IF(13=U1166,\"1등\",0))","v":0},{"$f":"IF(U1166=12,\"2등\",0)","v":0}]
[null,null,null,null,null,null,null,null,null,null,null,0,{"$f":"COUNTIF(번호추출!$N$13:$S$13,자료실!C1167)","v":0},{"$f":"COUNTIF(번호추출!$N$13:$S$13,자료실!D1167)","v":0},{"$f":"COUNTIF(번호추출!$N$13:$S$13,자료실!E1167)","v":0},{"$f":"COUNTIF(번호추출!$N$13:$S$13,자료실!F1167)","v":0},{"$f":"COUNTIF(번호추출!$N$13:$S$13,자료실!G1167)","v":0},{"$f":"COUNTIF(번호추출!$N$13:$S$13,자료실!H1167)","v":0},{"$f":"COUNTIF(번호추출!$N$13:$S$13,I1167)","v":0},0,0,0,0,0,0,0,{"$f":"IF(6=U1167,\"1등\",IF(13=U1167,\"1등\",0))","v":0},0]
[null,null,null,null,null,null,null,null,null,null,null,0,{"$f":"COUNTIF(번호추출!$N$13:$S$13,자료실!C1168)","v":0},{"$f":"COUNTIF(번호추출!$N$13:$S$13,자료실!D1168)","v":0},{"$f":"COUNTIF(번호추출!$N$13:$S$13,자료실!E1168)","v":0},{"$f":"COUNTIF(번호추출!$N$13:$S$13,자료실!F1168)","v":0},{"$f":"COUNTIF(번호추출!$N$13:$S$13,자료실!G1168)","v":0},{"$f":"COUNTIF(번호추출!$N$13:$S$13,자료실!H1168)","v":0},{"$f":"COUNTIF(번호추출!$N$13:$S$13,I1168)","v":0},0,0,0,0,0,0,0,{"$f":"IF(6=U1168,\"1등\",IF(13=U1168,\"1등\",0))","v":0},0]
[null,null,null,null,null,null,null,null,null,null,null,0,{"$f":"COUNTIF(번호추출!$N$13:$S$13,자료실!C1169)","v":0},{"$f":"COUNTIF(번호추출!$N$13:$S$13,자료실!D1169)","v":0},{"$f":"COUNTIF(번호추출!$N$13:$S$13,자료실!E1169)","v":0},{"$f":"COUNTIF(번호추출!$N$13:$S$13,자료실!F1169)","v":0},{"$f":"COUNTIF(번호추출!$N$13:$S$13,자료실!G1169)","v":0},{"$f":"COUNTIF(번호추출!$N$13:$S$13,자료실!H1169)","v":0},{"$f":"COUNTIF(번호추출!$N$13:$S$13,I1169)","v":0},0,0,0,0,0,0,0,{"$f":"IF(6=U1169,\"1등\",IF(13=U1169,\"1등\",0))","v":0},0]
[null,null,null,null,null,null,null,null,null,null,null,0,{"$f":"COUNTIF(번호추출!$N$13:$S$13,자료실!C1170)","v":0},{"$f":"COUNTIF(번호추출!$N$13:$S$13,자료실!D1170)","v":0},{"$f":"COUNTIF(번호추출!$N$13:$S$13,자료실!E1170)","v":0},{"$f":"COUNTIF(번호추출!$N$13:$S$13,자료실!F1170)","v":0},{"$f":"COUNTIF(번호추출!$N$13:$S$13,자료실!G1170)","v":0},{"$f":"COUNTIF(번호추출!$N$13:$S$13,자료실!H1170)","v":0},{"$f":"COUNTIF(번호추출!$N$13:$S$13,I1170)","v":0},0,0,0,0,0,0,0,{"$f":"IF(6=U1170,\"1등\",IF(13=U1170,\"1등\",0))","v":0},0]
[null,null,null,null,null,null,null,null,null,null,null,0,{"$f":"COUNTIF(번호추출!$N$13:$S$13,자료실!C1171)","v":0},{"$f":"COUNTIF(번호추출!$N$13:$S$13,자료실!D1171)","v":0},{"$f":"COUNTIF(번호추출!$N$13:$S$13,자료실!E1171)","v":0},{"$f":"COUNTIF(번호추출!$N$13:$S$13,자료실!F1171)","v":0},{"$f":"COUNTIF(번호추출!$N$13:$S$13,자료실!G1171)","v":0},{"$f":"COUNTIF(번호추출!$N$13:$S$13,자료실!H1171)","v":0},{"$f":"COUNTIF(번호추출!$N$13:$S$13,I1171)","v":0},0,0,0,0,0,0,0,{"$f":"IF(6=U1171,\"1등\",IF(13=U1171,\"1등\",0))","v":0},0]
[null,null,null,null,null,null,null,null,null,null,null,0,{"$f":"COUNTIF(번호추출!$N$13:$S$13,자료실!C1172)","v":0},{"$f":"COUNTIF(번호추출!$N$13:$S$13,자료실!D1172)","v":0},{"$f":"COUNTIF(번호추출!$N$13:$S$13,자료실!E1172)","v":0},{"$f":"COUNTIF(번호추출!$N$13:$S$13,자료실!F1172)","v":0},{"$f":"COUNTIF(번호추출!$N$13:$S$13,자료실!G1172)","v":0},{"$f":"COUNTIF(번호추출!$N$13:$S$13,자료실!H1172)","v":0},{"$f":"COUNTIF(번호추출!$N$13:$S$13,I1172)","v":0},0,0,0,0,0,0,0,{"$f":"IF(6=U1172,\"1등\",IF(13=U1172,\"1등\",0))","v":0},0]
[null,null,null,null,null,null,null,null,null,null,null,0,{"$f":"COUNTIF(번호추출!$N$13:$S$13,자료실!C1173)","v":0},{"$f":"COUNTIF(번호추출!$N$13:$S$13,자료실!D1173)","v":0},{"$f":"COUNTIF(번호추출!$N$13:$S$13,자료실!E1173)","v":0},{"$f":"COUNTIF(번호추출!$N$13:$S$13,자료실!F1173)","v":0},{"$f":"COUNTIF(번호추출!$N$13:$S$13,자료실!G1173)","v":0},{"$f":"COUNTIF(번호추출!$N$13:$S$13,자료실!H1173)","v":0},{"$f":"COUNTIF(번호추출!$N$13:$S$13,I1173)","v":0},0,0,0,0,0,0,0,{"$f":"IF(6=U1173,\"1등\",IF(13=U1173,\"1등\",0))","v":0},0]
[null,null,null,null,null,null,null,null,null,null,null,0,{"$f":"COUNTIF(번호추출!$N$13:$S$13,자료실!C1174)","v":0},{"$f":"COUNTIF(번호추출!$N$13:$S$13,자료실!D1174)","v":0},{"$f":"COUNTIF(번호추출!$N$13:$S$13,자료실!E1174)","v":0},{"$f":"COUNTIF(번호추출!$N$13:$S$13,자료실!F1174)","v":0},{"$f":"COUNTIF(번호추출!$N$13:$S$13,자료실!G1174)","v":0},{"$f":"COUNTIF(번호추출!$N$13:$S$13,자료실!H1174)","v":0},{"$f":"COUNTIF(번호추출!$N$13:$S$13,I1174)","v":0},0,0,0,0,0,0,0,{"$f":"IF(6=U1174,\"1등\",IF(13=U1174,\"1등\",0))","v":0},0]
[null,null,null,null,null,null,null,null,null,null,null,0,{"$f":"COUNTIF(번호추출!$N$13:$S$13,자료실!C1175)","v":0},{"$f":"COUNTIF(번호추출!$N$13:$S$13,자료실!D1175)","v":0},{"$f":"COUNTIF(번호추출!$N$13:$S$13,자료실!E1175)","v":0},{"$f":"COUNTIF(번호추출!$N$13:$S$13,자료실!F1175)","v":0},{"$f":"COUNTIF(번호추출!$N$13:$S$13,자료실!G1175)","v":0},{"$f":"COUNTIF(번호추출!$N$13:$S$13,자료실!H1175)","v":0},{"$f":"COUNTIF(번호추출!$N$13:$S$13,I1175)","v":0},0,0,0,0,0,0,0,{"$f":"IF(6=U1175,\"1등\",IF(13=U1175,\"1등\",0))","v":0},0]
[null,null,null,null,null,null,null,null,null,null,null,0,{"$f":"COUNTIF(번호추출!$N$13:$S$13,자료실!C1176)","v":0},{"$f":"COUNTIF(번호추출!$N$13:$S$13,자료실!D1176)","v":0},{"$f":"COUNTIF(번호추출!$N$13:$S$13,자료실!E1176)","v":0},{"$f":"COUNTIF(번호추출!$N$13:$S$13,자료실!F1176)","v":0},{"$f":"COUNTIF(번호추출!$N$13:$S$13,자료실!G1176)","v":0},{"$f":"COUNTIF(번호추출!$N$13:$S$13,자료실!H1176)","v":0},{"$f":"COUNTIF(번호추출!$N$13:$S$13,I1176)","v":0},0,0,0,0,0,0,0,{"$f":"IF(6=U1176,\"1등\",IF(13=U1176,\"1등\",0))","v":0},0]
[null,null,null,null,null,null,null,null,null,null,null,0,{"$f":"COUNTIF(번호추출!$N$13:$S$13,자료실!C1177)","v":0},{"$f":"COUNTIF(번호추출!$N$13:$S$13,자료실!D1177)","v":0},{"$f":"COUNTIF(번호추출!$N$13:$S$13,자료실!E1177)","v":0},{"$f":"COUNTIF(번호추출!$N$13:$S$13,자료실!F1177)","v":0},{"$f":"COUNTIF(번호추출!$N$13:$S$13,자료실!G1177)","v":0},{"$f":"COUNTIF(번호추출!$N$13:$S$13,자료실!H1177)","v":0},{"$f":"COUNTIF(번호추출!$N$13:$S$13,I1177)","v":0},0,0,0,0,0,0,0,{"$f":"IF(6=U1177,\"1등\",IF(13=U1177,\"1등\",0))","v":0},0]
[null,null,null,null,null,null,null,null,null,null,null,0,{"$f":"COUNTIF(번호추출!$N$13:$S$13,자료실!C1178)","v":0},{"$f":"COUNTIF(번호추출!$N$13:$S$13,자료실!D1178)","v":0},{"$f":"COUNTIF(번호추출!$N$13:$S$13,자료실!E1178)","v":0},{"$f":"COUNTIF(번호추출!$N$13:$S$13,자료실!F1178)","v":0},{"$f":"COUNTIF(번호추출!$N$13:$S$13,자료실!G1178)","v":0},{"$f":"COUNTIF(번호추출!$N$13:$S$13,자료실!H1178)","v":0},{"$f":"COUNTIF(번호추출!$N$13:$S$13,I1178)","v":0},0,0,0,0,0,0,0,{"$f":"IF(6=U1178,\"1등\",IF(13=U1178,\"1등\",0))","v":0},0]
[null,null,null,null,null,null,null,null,null,null,null,{"$f":"A1179","v":0},{"$f":"COUNTIF(번호추출!$N$13:$S$13,자료실!C1179)","v":0},{"$f":"COUNTIF(번호추출!$N$13:$S$13,자료실!D1179)","v":0},{"$f":"COUNTIF(번호추출!$N$13:$S$13,자료실!E1179)","v":0},{"$f":"COUNTIF(번호추출!$N$13:$S$13,자료실!F1179)","v":0},{"$f":"COUNTIF(번호추출!$N$13:$S$13,자료실!G1179)","v":0},{"$f":"COUNTIF(번호추출!$N$13:$S$13,자료실!H1179)","v":0},{"$f":"COUNTIF(번호추출!$N$13:$S$13,I1179)","v":0},{"$f":"SUM(M1179:R1179)","v":0},{"$f":"SUM(M1179:S1179)","v":0},0,0,0,0,0,{"$f":"IF(6=U1179,\"1등\",IF(13=U1179,\"1등\",0))","v":0},0]
[null,null,null,null,null,null,null,null,null,null,null,0,{"$f":"COUNTIF(번호추출!$N$13:$S$13,자료실!C1180)","v":0},{"$f":"COUNTIF(번호추출!$N$13:$S$13,자료실!D1180)","v":0},{"$f":"COUNTIF(번호추출!$N$13:$S$13,자료실!E1180)","v":0},{"$f":"COUNTIF(번호추출!$N$13:$S$13,자료실!F1180)","v":0},{"$f":"COUNTIF(번호추출!$N$13:$S$13,자료실!G1180)","v":0},{"$f":"COUNTIF(번호추출!$N$13:$S$13,자료실!H1180)","v":0},{"$f":"COUNTIF(번호추출!$N$13:$S$13,I1180)","v":0},0,0,0,0,0,0,0,{"$f":"IF(6=U1180,\"1등\",IF(13=U1180,\"1등\",0))","v":0},0]
[null,null,null,null,null,null,null,null,null,null,null,0,{"$f":"COUNTIF(번호추출!$N$13:$S$13,자료실!C1181)","v":0},{"$f":"COUNTIF(번호추출!$N$13:$S$13,자료실!D1181)","v":0},{"$f":"COUNTIF(번호추출!$N$13:$S$13,자료실!E1181)","v":0},{"$f":"COUNTIF(번호추출!$N$13:$S$13,자료실!F1181)","v":0},{"$f":"COUNTIF(번호추출!$N$13:$S$13,자료실!G1181)","v":0},{"$f":"COUNTIF(번호추출!$N$13:$S$13,자료실!H1181)","v":0},{"$f":"COUNTIF(번호추출!$N$13:$S$13,I1181)","v":0},0,0,0,0,0,0,0,{"$f":"IF(6=U1181,\"1등\",IF(13=U1181,\"1등\",0))","v":0},0]
[null,null,null,null,null,null,null,null,null,null,null,0,{"$f":"COUNTIF(번호추출!$N$13:$S$13,자료실!C1182)","v":0},{"$f":"COUNTIF(번호추출!$N$13:$S$13,자료실!D1182)","v":0},{"$f":"COUNTIF(번호추출!$N$13:$S$13,자료실!E1182)","v":0},{"$f":"COUNTIF(번호추출!$N$13:$S$13,자료실!F1182)","v":0},{"$f":"COUNTIF(번호추출!$N$13:$S$13,자료실!G1182)","v":0},{"$f":"COUNTIF(번호추출!$N$13:$S$13,자료실!H1182)","v":0},{"$f":"COUNTIF(번호추출!$N$13:$S$13,I1182)","v":0},0,0,0,0,0,0,0,{"$f":"IF(6=U1182,\"1등\",IF(13=U1182,\"1등\",0))","v":0},0]
[null,null,null,null,null,null,null,null,null,null,null,0,{"$f":"COUNTIF(번호추출!$N$13:$S$13,자료실!C1183)","v":0},{"$f":"COUNTIF(번호추출!$N$13:$S$13,자료실!D1183)","v":0},{"$f":"COUNTIF(번호추출!$N$13:$S$13,자료실!E1183)","v":0},{"$f":"COUNTIF(번호추출!$N$13:$S$13,자료실!F1183)","v":0},{"$f":"COUNTIF(번호추출!$N$13:$S$13,자료실!G1183)","v":0},{"$f":"COUNTIF(번호추출!$N$13:$S$13,자료실!H1183)","v":0},{"$f":"COUNTIF(번호추출!$N$13:$S$13,I1183)","v":0},0,0,0,0,0,0,0,{"$f":"IF(6=U1183,\"1등\",IF(13=U1183,\"1등\",0))","v":0},0]
[null,null,null,null,null,null,null,null,null,null,null,0,{"$f":"COUNTIF(번호추출!$N$13:$S$13,자료실!C1184)","v":0},{"$f":"COUNTIF(번호추출!$N$13:$S$13,자료실!D1184)","v":0},{"$f":"COUNTIF(번호추출!$N$13:$S$13,자료실!E1184)","v":0},{"$f":"COUNTIF(번호추출!$N$13:$S$13,자료실!F1184)","v":0},{"$f":"COUNTIF(번호추출!$N$13:$S$13,자료실!G1184)","v":0},{"$f":"COUNTIF(번호추출!$N$13:$S$13,자료실!H1184)","v":0},{"$f":"COUNTIF(번호추출!$N$13:$S$13,I1184)","v":0},0,0,0,0,0,0,0,{"$f":"IF(6=U1184,\"1등\",IF(13=U1184,\"1등\",0))","v":0},0]
[null,null,null,null,null,null,null,null,null,null,null,0,{"$f":"COUNTIF(번호추출!$N$13:$S$13,자료실!C1185)","v":0},{"$f":"COUNTIF(번호추출!$N$13:$S$13,자료실!D1185)","v":0},{"$f":"COUNTIF(번호추출!$N$13:$S$13,자료실!E1185)","v":0},{"$f":"COUNTIF(번호추출!$N$13:$S$13,자료실!F1185)","v":0},{"$f":"COUNTIF(번호추출!$N$13:$S$13,자료실!G1185)","v":0},{"$f":"COUNTIF(번호추출!$N$13:$S$13,자료실!H1185)","v":0},{"$f":"COUNTIF(번호추출!$N$13:$S$13,I1185)","v":0},0,0,0,0,0,0,0,{"$f":"IF(6=U1185,\"1등\",IF(13=U1185,\"1등\",0))","v":0},0]
[null,null,null,null,null,null,null,null,null,null,null,0,{"$f":"COUNTIF(번호추출!$N$13:$S$13,자료실!C1186)","v":0},{"$f":"COUNTIF(번호추출!$N$13:$S$13,자료실!D1186)","v":0},{"$f":"COUNTIF(번호추출!$N$13:$S$13,자료실!E1186)","v":0},{"$f":"COUNTIF(번호추출!$N$13:$S$13,자료실!F1186)","v":0},{"$f":"COUNTIF(번호추출!$N$13:$S$13,자료실!G1186)","v":0},{"$f":"COUNTIF(번호추출!$N$13:$S$13,자료실!H1186)","v":0},{"$f":"COUNTIF(번호추출!$N$13:$S$13,I1186)","v":0},0,0,0,0,0,0,0,{"$f":"IF(6=U1186,\"1등\",IF(13=U1186,\"1등\",0))","v":0},0]
[null,null,null,null,null,null,null,null,null,null,null,0,{"$f":"COUNTIF(번호추출!$N$13:$S$13,자료실!C1187)","v":0},{"$f":"COUNTIF(번호추출!$N$13:$S$13,자료실!D1187)","v":0},{"$f":"COUNTIF(번호추출!$N$13:$S$13,자료실!E1187)","v":0},{"$f":"COUNTIF(번호추출!$N$13:$S$13,자료실!F1187)","v":0},{"$f":"COUNTIF(번호추출!$N$13:$S$13,자료실!G1187)","v":0},{"$f":"COUNTIF(번호추출!$N$13:$S$13,자료실!H1187)","v":0},{"$f":"COUNTIF(번호추출!$N$13:$S$13,I1187)","v":0},0,0,0,0,0,0,0,{"$f":"IF(6=U1187,\"1등\",IF(13=U1187,\"1등\",0))","v":0},0]
[null,null,null,null,null,null,null,null,null,null,null,0,{"$f":"COUNTIF(번호추출!$N$13:$S$13,자료실!C1188)","v":0},{"$f":"COUNTIF(번호추출!$N$13:$S$13,자료실!D1188)","v":0},{"$f":"COUNTIF(번호추출!$N$13:$S$13,자료실!E1188)","v":0},{"$f":"COUNTIF(번호추출!$N$13:$S$13,자료실!F1188)","v":0},{"$f":"COUNTIF(번호추출!$N$13:$S$13,자료실!G1188)","v":0},{"$f":"COUNTIF(번호추출!$N$13:$S$13,자료실!H1188)","v":0},{"$f":"COUNTIF(번호추출!$N$13:$S$13,I1188)","v":0},0,0,0,0,0,0,0,{"$f":"IF(6=U1188,\"1등\",IF(13=U1188,\"1등\",0))","v":0},0]
[null,null,null,null,null,null,null,null,null,null,null,0,{"$f":"COUNTIF(번호추출!$N$13:$S$13,자료실!C1189)","v":0},{"$f":"COUNTIF(번호추출!$N$13:$S$13,자료실!D1189)","v":0},{"$f":"COUNTIF(번호추출!$N$13:$S$13,자료실!E1189)","v":0},{"$f":"COUNTIF(번호추출!$N$13:$S$13,자료실!F1189)","v":0},{"$f":"COUNTIF(번호추출!$N$13:$S$13,자료실!G1189)","v":0},{"$f":"COUNTIF(번호추출!$N$13:$S$13,자료실!H1189)","v":0},{"$f":"COUNTIF(번호추출!$N$13:$S$13,I1189)","v":0},0,0,0,0,0,0,0,{"$f":"IF(6=U1189,\"1등\",IF(13=U1189,\"1등\",0))","v":0},0]
[null,null,null,null,null,null,null,null,null,null,null,0,{"$f":"COUNTIF(번호추출!$N$13:$S$13,자료실!C1190)","v":0},{"$f":"COUNTIF(번호추출!$N$13:$S$13,자료실!D1190)","v":0},{"$f":"COUNTIF(번호추출!$N$13:$S$13,자료실!E1190)","v":0},{"$f":"COUNTIF(번호추출!$N$13:$S$13,자료실!F1190)","v":0},{"$f":"COUNTIF(번호추출!$N$13:$S$13,자료실!G1190)","v":0},{"$f":"COUNTIF(번호추출!$N$13:$S$13,자료실!H1190)","v":0},{"$f":"COUNTIF(번호추출!$N$13:$S$13,I1190)","v":0},0,0,0,0,0,0,0,{"$f":"IF(6=U1190,\"1등\",IF(13=U1190,\"1등\",0))","v":0},0]
[null,null,null,null,null,null,null,null,null,null,null,0,{"$f":"COUNTIF(번호추출!$N$13:$S$13,자료실!C1191)","v":0},{"$f":"COUNTIF(번호추출!$N$13:$S$13,자료실!D1191)","v":0},{"$f":"COUNTIF(번호추출!$N$13:$S$13,자료실!E1191)","v":0},{"$f":"COUNTIF(번호추출!$N$13:$S$13,자료실!F1191)","v":0},{"$f":"COUNTIF(번호추출!$N$13:$S$13,자료실!G1191)","v":0},{"$f":"COUNTIF(번호추출!$N$13:$S$13,자료실!H1191)","v":0},{"$f":"COUNTIF(번호추출!$N$13:$S$13,I1191)","v":0},0,0,0,0,0,0,0,{"$f":"IF(6=U1191,\"1등\",IF(13=U1191,\"1등\",0))","v":0},0]
[null,null,null,null,null,null,null,null,null,null,null,0,{"$f":"COUNTIF(번호추출!$N$13:$S$13,자료실!C1192)","v":0},{"$f":"COUNTIF(번호추출!$N$13:$S$13,자료실!D1192)","v":0},{"$f":"COUNTIF(번호추출!$N$13:$S$13,자료실!E1192)","v":0},{"$f":"COUNTIF(번호추출!$N$13:$S$13,자료실!F1192)","v":0},{"$f":"COUNTIF(번호추출!$N$13:$S$13,자료실!G1192)","v":0},{"$f":"COUNTIF(번호추출!$N$13:$S$13,자료실!H1192)","v":0},{"$f":"COUNTIF(번호추출!$N$13:$S$13,I1192)","v":0},0,0,0,0,0,0,0,{"$f":"IF(6=U1192,\"1등\",IF(13=U1192,\"1등\",0))","v":0},0]
[null,null,null,null,null,null,null,null,null,null,null,0,{"$f":"COUNTIF(번호추출!$N$13:$S$13,자료실!C1193)","v":0},{"$f":"COUNTIF(번호추출!$N$13:$S$13,자료실!D1193)","v":0},{"$f":"COUNTIF(번호추출!$N$13:$S$13,자료실!E1193)","v":0},{"$f":"COUNTIF(번호추출!$N$13:$S$13,자료실!F1193)","v":0},{"$f":"COUNTIF(번호추출!$N$13:$S$13,자료실!G1193)","v":0},{"$f":"COUNTIF(번호추출!$N$13:$S$13,자료실!H1193)","v":0},{"$f":"COUNTIF(번호추출!$N$13:$S$13,I1193)","v":0},0,0,0,0,0,0,0,{"$f":"IF(6=U1193,\"1등\",IF(13=U1193,\"1등\",0))","v":0},0]
[null,null,null,null,null,null,null,null,null,null,null,0,{"$f":"COUNTIF(번호추출!$N$13:$S$13,자료실!C1194)","v":0},{"$f":"COUNTIF(번호추출!$N$13:$S$13,자료실!D1194)","v":0},{"$f":"COUNTIF(번호추출!$N$13:$S$13,자료실!E1194)","v":0},{"$f":"COUNTIF(번호추출!$N$13:$S$13,자료실!F1194)","v":0},{"$f":"COUNTIF(번호추출!$N$13:$S$13,자료실!G1194)","v":0},{"$f":"COUNTIF(번호추출!$N$13:$S$13,자료실!H1194)","v":0},{"$f":"COUNTIF(번호추출!$N$13:$S$13,I1194)","v":0},0,0,0,0,0,0,0,{"$f":"IF(6=U1194,\"1등\",IF(13=U1194,\"1등\",0))","v":0},0]
[null,null,null,null,null,null,null,null,null,null,null,0,{"$f":"COUNTIF(번호추출!$N$13:$S$13,자료실!C1195)","v":0},{"$f":"COUNTIF(번호추출!$N$13:$S$13,자료실!D1195)","v":0},{"$f":"COUNTIF(번호추출!$N$13:$S$13,자료실!E1195)","v":0},{"$f":"COUNTIF(번호추출!$N$13:$S$13,자료실!F1195)","v":0},{"$f":"COUNTIF(번호추출!$N$13:$S$13,자료실!G1195)","v":0},{"$f":"COUNTIF(번호추출!$N$13:$S$13,자료실!H1195)","v":0},{"$f":"COUNTIF(번호추출!$N$13:$S$13,I1195)","v":0},0,0,0,0,0,0,0,{"$f":"IF(6=U1195,\"1등\",IF(13=U1195,\"1등\",0))","v":0},0]
[null,null,null,null,null,null,null,null,null,null,null,0,{"$f":"COUNTIF(번호추출!$N$13:$S$13,자료실!C1196)","v":0},{"$f":"COUNTIF(번호추출!$N$13:$S$13,자료실!D1196)","v":0},{"$f":"COUNTIF(번호추출!$N$13:$S$13,자료실!E1196)","v":0},{"$f":"COUNTIF(번호추출!$N$13:$S$13,자료실!F1196)","v":0},{"$f":"COUNTIF(번호추출!$N$13:$S$13,자료실!G1196)","v":0},{"$f":"COUNTIF(번호추출!$N$13:$S$13,자료실!H1196)","v":0},{"$f":"COUNTIF(번호추출!$N$13:$S$13,I1196)","v":0},0,0,0,0,0,0,0,{"$f":"IF(6=U1196,\"1등\",IF(13=U1196,\"1등\",0))","v":0},0]
[null,null,null,null,null,null,null,null,null,null,null,0,{"$f":"COUNTIF(번호추출!$N$13:$S$13,자료실!C1197)","v":0},{"$f":"COUNTIF(번호추출!$N$13:$S$13,자료실!D1197)","v":0},{"$f":"COUNTIF(번호추출!$N$13:$S$13,자료실!E1197)","v":0},{"$f":"COUNTIF(번호추출!$N$13:$S$13,자료실!F1197)","v":0},{"$f":"COUNTIF(번호추출!$N$13:$S$13,자료실!G1197)","v":0},{"$f":"COUNTIF(번호추출!$N$13:$S$13,자료실!H1197)","v":0},{"$f":"COUNTIF(번호추출!$N$13:$S$13,I1197)","v":0},0,0,0,0,0,0,0,{"$f":"IF(6=U1197,\"1등\",IF(13=U1197,\"1등\",0))","v":0},0]
[null,null,null,null,null,null,null,null,null,null,null,0,{"$f":"COUNTIF(번호추출!$N$13:$S$13,자료실!C1198)","v":0},{"$f":"COUNTIF(번호추출!$N$13:$S$13,자료실!D1198)","v":0},{"$f":"COUNTIF(번호추출!$N$13:$S$13,자료실!E1198)","v":0},{"$f":"COUNTIF(번호추출!$N$13:$S$13,자료실!F1198)","v":0},{"$f":"COUNTIF(번호추출!$N$13:$S$13,자료실!G1198)","v":0},{"$f":"COUNTIF(번호추출!$N$13:$S$13,자료실!H1198)","v":0},{"$f":"COUNTIF(번호추출!$N$13:$S$13,I1198)","v":0},0,0,0,0,0,0,0,{"$f":"IF(6=U1198,\"1등\",IF(13=U1198,\"1등\",0))","v":0},0]
[null,null,null,null,null,null,null,null,null,null,null,0,{"$f":"COUNTIF(번호추출!$N$13:$S$13,자료실!C1199)","v":0},{"$f":"COUNTIF(번호추출!$N$13:$S$13,자료실!D1199)","v":0},{"$f":"COUNTIF(번호추출!$N$13:$S$13,자료실!E1199)","v":0},{"$f":"COUNTIF(번호추출!$N$13:$S$13,자료실!F1199)","v":0},{"$f":"COUNTIF(번호추출!$N$13:$S$13,자료실!G1199)","v":0},{"$f":"COUNTIF(번호추출!$N$13:$S$13,자료실!H1199)","v":0},{"$f":"COUNTIF(번호추출!$N$13:$S$13,I1199)","v":0},0,0,0,0,0,0,0,{"$f":"IF(6=U1199,\"1등\",IF(13=U1199,\"1등\",0))","v":0},0]
[null,null,null,null,null,null,null,null,null,null,null,0,{"$f":"COUNTIF(번호추출!$N$13:$S$13,자료실!C1200)","v":0},{"$f":"COUNTIF(번호추출!$N$13:$S$13,자료실!D1200)","v":0},{"$f":"COUNTIF(번호추출!$N$13:$S$13,자료실!E1200)","v":0},{"$f":"COUNTIF(번호추출!$N$13:$S$13,자료실!F1200)","v":0},{"$f":"COUNTIF(번호추출!$N$13:$S$13,자료실!G1200)","v":0},{"$f":"COUNTIF(번호추출!$N$13:$S$13,자료실!H1200)","v":0},{"$f":"COUNTIF(번호추출!$N$13:$S$13,I1200)","v":0},0,0,0,0,0,0,0,{"$f":"IF(6=U1200,\"1등\",IF(13=U1200,\"1등\",0))","v":0},0]
[null,null,null,null,null,null,null,null,null,null,null,0,{"$f":"COUNTIF(번호추출!$N$13:$S$13,자료실!C1201)","v":0},{"$f":"COUNTIF(번호추출!$N$13:$S$13,자료실!D1201)","v":0},{"$f":"COUNTIF(번호추출!$N$13:$S$13,자료실!E1201)","v":0},{"$f":"COUNTIF(번호추출!$N$13:$S$13,자료실!F1201)","v":0},{"$f":"COUNTIF(번호추출!$N$13:$S$13,자료실!G1201)","v":0},{"$f":"COUNTIF(번호추출!$N$13:$S$13,자료실!H1201)","v":0},{"$f":"COUNTIF(번호추출!$N$13:$S$13,I1201)","v":0},0,0,0,0,0,0,0,{"$f":"IF(6=U1201,\"1등\",IF(13=U1201,\"1등\",0))","v":0},0]
[null,null,null,null,null,null,null,null,null,null,null,0,{"$f":"COUNTIF(번호추출!$N$13:$S$13,자료실!C1202)","v":0},{"$f":"COUNTIF(번호추출!$N$13:$S$13,자료실!D1202)","v":0},{"$f":"COUNTIF(번호추출!$N$13:$S$13,자료실!E1202)","v":0},{"$f":"COUNTIF(번호추출!$N$13:$S$13,자료실!F1202)","v":0},{"$f":"COUNTIF(번호추출!$N$13:$S$13,자료실!G1202)","v":0},{"$f":"COUNTIF(번호추출!$N$13:$S$13,자료실!H1202)","v":0},{"$f":"COUNTIF(번호추출!$N$13:$S$13,I1202)","v":0},0,0,0,0,0,0,0,{"$f":"IF(6=U1202,\"1등\",IF(13=U1202,\"1등\",0))","v":0},0]
[null,null,null,null,null,null,null,null,null,null,null,0,{"$f":"COUNTIF(번호추출!$N$13:$S$13,자료실!C1203)","v":0},{"$f":"COUNTIF(번호추출!$N$13:$S$13,자료실!D1203)","v":0},{"$f":"COUNTIF(번호추출!$N$13:$S$13,자료실!E1203)","v":0},{"$f":"COUNTIF(번호추출!$N$13:$S$13,자료실!F1203)","v":0},{"$f":"COUNTIF(번호추출!$N$13:$S$13,자료실!G1203)","v":0},{"$f":"COUNTIF(번호추출!$N$13:$S$13,자료실!H1203)","v":0},{"$f":"COUNTIF(번호추출!$N$13:$S$13,I1203)","v":0},0,0,0,0,0,0,0,{"$f":"IF(6=U1203,\"1등\",IF(13=U1203,\"1등\",0))","v":0},0]
[null,null,null,null,null,null,null,null,null,null,null,0,{"$f":"COUNTIF(번호추출!$N$13:$S$13,자료실!C1204)","v":0},{"$f":"COUNTIF(번호추출!$N$13:$S$13,자료실!D1204)","v":0},{"$f":"COUNTIF(번호추출!$N$13:$S$13,자료실!E1204)","v":0},{"$f":"COUNTIF(번호추출!$N$13:$S$13,자료실!F1204)","v":0},{"$f":"COUNTIF(번호추출!$N$13:$S$13,자료실!G1204)","v":0},{"$f":"COUNTIF(번호추출!$N$13:$S$13,자료실!H1204)","v":0},{"$f":"COUNTIF(번호추출!$N$13:$S$13,I1204)","v":0},0,0,0,0,0,0,0,{"$f":"IF(6=U1204,\"1등\",IF(13=U1204,\"1등\",0))","v":0},0]
[null,null,null,null,null,null,null,null,null,null,null,0,{"$f":"COUNTIF(번호추출!$N$13:$S$13,자료실!C1205)","v":0},{"$f":"COUNTIF(번호추출!$N$13:$S$13,자료실!D1205)","v":0},{"$f":"COUNTIF(번호추출!$N$13:$S$13,자료실!E1205)","v":0},{"$f":"COUNTIF(번호추출!$N$13:$S$13,자료실!F1205)","v":0},{"$f":"COUNTIF(번호추출!$N$13:$S$13,자료실!G1205)","v":0},{"$f":"COUNTIF(번호추출!$N$13:$S$13,자료실!H1205)","v":0},{"$f":"COUNTIF(번호추출!$N$13:$S$13,I1205)","v":0},0,0,0,0,0,0,0,{"$f":"IF(6=U1205,\"1등\",IF(13=U1205,\"1등\",0))","v":0},0]
[null,null,null,null,null,null,null,null,null,null,null,0,{"$f":"COUNTIF(번호추출!$N$13:$S$13,자료실!C1206)","v":0},{"$f":"COUNTIF(번호추출!$N$13:$S$13,자료실!D1206)","v":0},{"$f":"COUNTIF(번호추출!$N$13:$S$13,자료실!E1206)","v":0},{"$f":"COUNTIF(번호추출!$N$13:$S$13,자료실!F1206)","v":0},{"$f":"COUNTIF(번호추출!$N$13:$S$13,자료실!G1206)","v":0},{"$f":"COUNTIF(번호추출!$N$13:$S$13,자료실!H1206)","v":0},{"$f":"COUNTIF(번호추출!$N$13:$S$13,I1206)","v":0},0,0,0,0,0,0,0,{"$f":"IF(6=U1206,\"1등\",IF(13=U1206,\"1등\",0))","v":0},0]
[null,null,null,null,null,null,null,null,null,null,null,0,{"$f":"COUNTIF(번호추출!$N$13:$S$13,자료실!C1207)","v":0},{"$f":"COUNTIF(번호추출!$N$13:$S$13,자료실!D1207)","v":0},{"$f":"COUNTIF(번호추출!$N$13:$S$13,자료실!E1207)","v":0},{"$f":"COUNTIF(번호추출!$N$13:$S$13,자료실!F1207)","v":0},{"$f":"COUNTIF(번호추출!$N$13:$S$13,자료실!G1207)","v":0},{"$f":"COUNTIF(번호추출!$N$13:$S$13,자료실!H1207)","v":0},{"$f":"COUNTIF(번호추출!$N$13:$S$13,I1207)","v":0},0,0,0,0,0,0,0,{"$f":"IF(6=U1207,\"1등\",IF(13=U1207,\"1등\",0))","v":0},0]
[null,null,null,null,null,null,null,null,null,null,null,0,{"$f":"COUNTIF(번호추출!$N$13:$S$13,자료실!C1208)","v":0},{"$f":"COUNTIF(번호추출!$N$13:$S$13,자료실!D1208)","v":0},{"$f":"COUNTIF(번호추출!$N$13:$S$13,자료실!E1208)","v":0},{"$f":"COUNTIF(번호추출!$N$13:$S$13,자료실!F1208)","v":0},{"$f":"COUNTIF(번호추출!$N$13:$S$13,자료실!G1208)","v":0},{"$f":"COUNTIF(번호추출!$N$13:$S$13,자료실!H1208)","v":0},{"$f":"COUNTIF(번호추출!$N$13:$S$13,I1208)","v":0},0,0,0,0,0,0,0,{"$f":"IF(6=U1208,\"1등\",IF(13=U1208,\"1등\",0))","v":0},0]
[null,null,null,null,null,null,null,null,null,null,null,0,{"$f":"COUNTIF(번호추출!$N$13:$S$13,자료실!C1209)","v":0},{"$f":"COUNTIF(번호추출!$N$13:$S$13,자료실!D1209)","v":0},{"$f":"COUNTIF(번호추출!$N$13:$S$13,자료실!E1209)","v":0},{"$f":"COUNTIF(번호추출!$N$13:$S$13,자료실!F1209)","v":0},{"$f":"COUNTIF(번호추출!$N$13:$S$13,자료실!G1209)","v":0},{"$f":"COUNTIF(번호추출!$N$13:$S$13,자료실!H1209)","v":0},{"$f":"COUNTIF(번호추출!$N$13:$S$13,I1209)","v":0},0,0,0,0,0,0,0,{"$f":"IF(6=U1209,\"1등\",IF(13=U1209,\"1등\",0))","v":0},0]
[null,null,null,null,null,null,null,null,null,null,null,0,{"$f":"COUNTIF(번호추출!$N$13:$S$13,자료실!C1210)","v":0},{"$f":"COUNTIF(번호추출!$N$13:$S$13,자료실!D1210)","v":0},{"$f":"COUNTIF(번호추출!$N$13:$S$13,자료실!E1210)","v":0},{"$f":"COUNTIF(번호추출!$N$13:$S$13,자료실!F1210)","v":0},{"$f":"COUNTIF(번호추출!$N$13:$S$13,자료실!G1210)","v":0},{"$f":"COUNTIF(번호추출!$N$13:$S$13,자료실!H1210)","v":0},{"$f":"COUNTIF(번호추출!$N$13:$S$13,I1210)","v":0},0,0,0,0,0,0,0,{"$f":"IF(6=U1210,\"1등\",IF(13=U1210,\"1등\",0))","v":0},0]
[null,null,null,null,null,null,null,null,null,null,null,0,{"$f":"COUNTIF(번호추출!$N$13:$S$13,자료실!C1211)","v":0},{"$f":"COUNTIF(번호추출!$N$13:$S$13,자료실!D1211)","v":0},{"$f":"COUNTIF(번호추출!$N$13:$S$13,자료실!E1211)","v":0},{"$f":"COUNTIF(번호추출!$N$13:$S$13,자료실!F1211)","v":0},{"$f":"COUNTIF(번호추출!$N$13:$S$13,자료실!G1211)","v":0},{"$f":"COUNTIF(번호추출!$N$13:$S$13,자료실!H1211)","v":0},{"$f":"COUNTIF(번호추출!$N$13:$S$13,I1211)","v":0},0,0,0,0,0,0,0,{"$f":"IF(6=U1211,\"1등\",IF(13=U1211,\"1등\",0))","v":0},0]
[null,null,null,null,null,null,null,null,null,null,null,0,{"$f":"COUNTIF(번호추출!$N$13:$S$13,자료실!C1212)","v":0},{"$f":"COUNTIF(번호추출!$N$13:$S$13,자료실!D1212)","v":0},{"$f":"COUNTIF(번호추출!$N$13:$S$13,자료실!E1212)","v":0},{"$f":"COUNTIF(번호추출!$N$13:$S$13,자료실!F1212)","v":0},{"$f":"COUNTIF(번호추출!$N$13:$S$13,자료실!G1212)","v":0},{"$f":"COUNTIF(번호추출!$N$13:$S$13,자료실!H1212)","v":0},{"$f":"COUNTIF(번호추출!$N$13:$S$13,I1212)","v":0},0,0,0,0,0,0,0,{"$f":"IF(6=U1212,\"1등\",IF(13=U1212,\"1등\",0))","v":0},0]
[null,null,null,null,null,null,null,null,null,null,null,0,{"$f":"COUNTIF(번호추출!$N$13:$S$13,자료실!C1213)","v":0},{"$f":"COUNTIF(번호추출!$N$13:$S$13,자료실!D1213)","v":0},{"$f":"COUNTIF(번호추출!$N$13:$S$13,자료실!E1213)","v":0},{"$f":"COUNTIF(번호추출!$N$13:$S$13,자료실!F1213)","v":0},{"$f":"COUNTIF(번호추출!$N$13:$S$13,자료실!G1213)","v":0},{"$f":"COUNTIF(번호추출!$N$13:$S$13,자료실!H1213)","v":0},{"$f":"COUNTIF(번호추출!$N$13:$S$13,I1213)","v":0},0,0,0,0,0,0,0,{"$f":"IF(6=U1213,\"1등\",IF(13=U1213,\"1등\",0))","v":0},0]
[null,null,null,null,null,null,null,null,null,null,null,0,{"$f":"COUNTIF(번호추출!$N$13:$S$13,자료실!C1214)","v":0},{"$f":"COUNTIF(번호추출!$N$13:$S$13,자료실!D1214)","v":0},{"$f":"COUNTIF(번호추출!$N$13:$S$13,자료실!E1214)","v":0},{"$f":"COUNTIF(번호추출!$N$13:$S$13,자료실!F1214)","v":0},{"$f":"COUNTIF(번호추출!$N$13:$S$13,자료실!G1214)","v":0},{"$f":"COUNTIF(번호추출!$N$13:$S$13,자료실!H1214)","v":0},{"$f":"COUNTIF(번호추출!$N$13:$S$13,I1214)","v":0},0,0,0,0,0,0,0,{"$f":"IF(6=U1214,\"1등\",IF(13=U1214,\"1등\",0))","v":0},0]
[null,null,null,null,null,null,null,null,null,null,null,0,{"$f":"COUNTIF(번호추출!$N$13:$S$13,자료실!C1215)","v":0},{"$f":"COUNTIF(번호추출!$N$13:$S$13,자료실!D1215)","v":0},{"$f":"COUNTIF(번호추출!$N$13:$S$13,자료실!E1215)","v":0},{"$f":"COUNTIF(번호추출!$N$13:$S$13,자료실!F1215)","v":0},{"$f":"COUNTIF(번호추출!$N$13:$S$13,자료실!G1215)","v":0},{"$f":"COUNTIF(번호추출!$N$13:$S$13,자료실!H1215)","v":0},{"$f":"COUNTIF(번호추출!$N$13:$S$13,I1215)","v":0},0,0,0,0,0,0,0,{"$f":"IF(6=U1215,\"1등\",IF(13=U1215,\"1등\",0))","v":0},0]
[null,null,null,null,null,null,null,null,null,null,null,0,{"$f":"COUNTIF(번호추출!$N$13:$S$13,자료실!C1216)","v":0},{"$f":"COUNTIF(번호추출!$N$13:$S$13,자료실!D1216)","v":0},{"$f":"COUNTIF(번호추출!$N$13:$S$13,자료실!E1216)","v":0},{"$f":"COUNTIF(번호추출!$N$13:$S$13,자료실!F1216)","v":0},{"$f":"COUNTIF(번호추출!$N$13:$S$13,자료실!G1216)","v":0},{"$f":"COUNTIF(번호추출!$N$13:$S$13,자료실!H1216)","v":0},{"$f":"COUNTIF(번호추출!$N$13:$S$13,I1216)","v":0},0,0,0,0,0,0,0,{"$f":"IF(6=U1216,\"1등\",IF(13=U1216,\"1등\",0))","v":0},0]
[null,null,null,null,null,null,null,null,null,null,null,0,{"$f":"COUNTIF(번호추출!$N$13:$S$13,자료실!C1217)","v":0},{"$f":"COUNTIF(번호추출!$N$13:$S$13,자료실!D1217)","v":0},{"$f":"COUNTIF(번호추출!$N$13:$S$13,자료실!E1217)","v":0},{"$f":"COUNTIF(번호추출!$N$13:$S$13,자료실!F1217)","v":0},{"$f":"COUNTIF(번호추출!$N$13:$S$13,자료실!G1217)","v":0},{"$f":"COUNTIF(번호추출!$N$13:$S$13,자료실!H1217)","v":0},{"$f":"COUNTIF(번호추출!$N$13:$S$13,I1217)","v":0},0,0,0,0,0,0,0,{"$f":"IF(6=U1217,\"1등\",IF(13=U1217,\"1등\",0))","v":0},0]
[null,null,null,null,null,null,null,null,null,null,null,0,{"$f":"COUNTIF(번호추출!$N$13:$S$13,자료실!C1218)","v":0},{"$f":"COUNTIF(번호추출!$N$13:$S$13,자료실!D1218)","v":0},{"$f":"COUNTIF(번호추출!$N$13:$S$13,자료실!E1218)","v":0},{"$f":"COUNTIF(번호추출!$N$13:$S$13,자료실!F1218)","v":0},{"$f":"COUNTIF(번호추출!$N$13:$S$13,자료실!G1218)","v":0},{"$f":"COUNTIF(번호추출!$N$13:$S$13,자료실!H1218)","v":0},{"$f":"COUNTIF(번호추출!$N$13:$S$13,I1218)","v":0},0,0,0,0,0,0,0,{"$f":"IF(6=U1218,\"1등\",IF(13=U1218,\"1등\",0))","v":0},0]
[null,null,null,null,null,null,null,null,null,null,null,0,{"$f":"COUNTIF(번호추출!$N$13:$S$13,자료실!C1219)","v":0},{"$f":"COUNTIF(번호추출!$N$13:$S$13,자료실!D1219)","v":0},{"$f":"COUNTIF(번호추출!$N$13:$S$13,자료실!E1219)","v":0},{"$f":"COUNTIF(번호추출!$N$13:$S$13,자료실!F1219)","v":0},{"$f":"COUNTIF(번호추출!$N$13:$S$13,자료실!G1219)","v":0},{"$f":"COUNTIF(번호추출!$N$13:$S$13,자료실!H1219)","v":0},{"$f":"COUNTIF(번호추출!$N$13:$S$13,I1219)","v":0},0,0,0,0,0,0,0,{"$f":"IF(6=U1219,\"1등\",IF(13=U1219,\"1등\",0))","v":0},0]
[null,null,null,null,null,null,null,null,null,null,null,0,{"$f":"COUNTIF(번호추출!$N$13:$S$13,자료실!C1220)","v":0},{"$f":"COUNTIF(번호추출!$N$13:$S$13,자료실!D1220)","v":0},{"$f":"COUNTIF(번호추출!$N$13:$S$13,자료실!E1220)","v":0},{"$f":"COUNTIF(번호추출!$N$13:$S$13,자료실!F1220)","v":0},{"$f":"COUNTIF(번호추출!$N$13:$S$13,자료실!G1220)","v":0},{"$f":"COUNTIF(번호추출!$N$13:$S$13,자료실!H1220)","v":0},{"$f":"COUNTIF(번호추출!$N$13:$S$13,I1220)","v":0},0,0,0,0,0,0,0,{"$f":"IF(6=U1220,\"1등\",IF(13=U1220,\"1등\",0))","v":0},0]
[null,null,null,null,null,null,null,null,null,null,null,0,{"$f":"COUNTIF(번호추출!$N$13:$S$13,자료실!C1221)","v":0},{"$f":"COUNTIF(번호추출!$N$13:$S$13,자료실!D1221)","v":0},{"$f":"COUNTIF(번호추출!$N$13:$S$13,자료실!E1221)","v":0},{"$f":"COUNTIF(번호추출!$N$13:$S$13,자료실!F1221)","v":0},{"$f":"COUNTIF(번호추출!$N$13:$S$13,자료실!G1221)","v":0},{"$f":"COUNTIF(번호추출!$N$13:$S$13,자료실!H1221)","v":0},{"$f":"COUNTIF(번호추출!$N$13:$S$13,I1221)","v":0},0,0,0,0,0,0,0,{"$f":"IF(6=U1221,\"1등\",IF(13=U1221,\"1등\",0))","v":0},0]
[null,null,null,null,null,null,null,null,null,null,null,0,{"$f":"COUNTIF(번호추출!$N$13:$S$13,자료실!C1222)","v":0},{"$f":"COUNTIF(번호추출!$N$13:$S$13,자료실!D1222)","v":0},{"$f":"COUNTIF(번호추출!$N$13:$S$13,자료실!E1222)","v":0},{"$f":"COUNTIF(번호추출!$N$13:$S$13,자료실!F1222)","v":0},{"$f":"COUNTIF(번호추출!$N$13:$S$13,자료실!G1222)","v":0},{"$f":"COUNTIF(번호추출!$N$13:$S$13,자료실!H1222)","v":0},{"$f":"COUNTIF(번호추출!$N$13:$S$13,I1222)","v":0},0,0,0,0,0,0,0,{"$f":"IF(6=U1222,\"1등\",IF(13=U1222,\"1등\",0))","v":0},0]
[null,null,null,null,null,null,null,null,null,null,null,0,{"$f":"COUNTIF(번호추출!$N$13:$S$13,자료실!C1223)","v":0},{"$f":"COUNTIF(번호추출!$N$13:$S$13,자료실!D1223)","v":0},{"$f":"COUNTIF(번호추출!$N$13:$S$13,자료실!E1223)","v":0},{"$f":"COUNTIF(번호추출!$N$13:$S$13,자료실!F1223)","v":0},{"$f":"COUNTIF(번호추출!$N$13:$S$13,자료실!G1223)","v":0},{"$f":"COUNTIF(번호추출!$N$13:$S$13,자료실!H1223)","v":0},{"$f":"COUNTIF(번호추출!$N$13:$S$13,I1223)","v":0},0,0,0,0,0,0,0,{"$f":"IF(6=U1223,\"1등\",IF(13=U1223,\"1등\",0))","v":0},0]
[null,null,null,null,null,null,null,null,null,null,null,0,{"$f":"COUNTIF(번호추출!$N$13:$S$13,자료실!C1224)","v":0},{"$f":"COUNTIF(번호추출!$N$13:$S$13,자료실!D1224)","v":0},{"$f":"COUNTIF(번호추출!$N$13:$S$13,자료실!E1224)","v":0},{"$f":"COUNTIF(번호추출!$N$13:$S$13,자료실!F1224)","v":0},{"$f":"COUNTIF(번호추출!$N$13:$S$13,자료실!G1224)","v":0},{"$f":"COUNTIF(번호추출!$N$13:$S$13,자료실!H1224)","v":0},{"$f":"COUNTIF(번호추출!$N$13:$S$13,I1224)","v":0},0,0,0,0,0,0,0,{"$f":"IF(6=U1224,\"1등\",IF(13=U1224,\"1등\",0))","v":0},0]
[null,null,null,null,null,null,null,null,null,null,null,0,{"$f":"COUNTIF(번호추출!$N$13:$S$13,자료실!C1225)","v":0},{"$f":"COUNTIF(번호추출!$N$13:$S$13,자료실!D1225)","v":0},{"$f":"COUNTIF(번호추출!$N$13:$S$13,자료실!E1225)","v":0},{"$f":"COUNTIF(번호추출!$N$13:$S$13,자료실!F1225)","v":0},{"$f":"COUNTIF(번호추출!$N$13:$S$13,자료실!G1225)","v":0},{"$f":"COUNTIF(번호추출!$N$13:$S$13,자료실!H1225)","v":0},{"$f":"COUNTIF(번호추출!$N$13:$S$13,I1225)","v":0},0,0,0,0,0,0,0,{"$f":"IF(6=U1225,\"1등\",IF(13=U1225,\"1등\",0))","v":0},0]
[null,null,null,null,null,null,null,null,null,null,null,0,{"$f":"COUNTIF(번호추출!$N$13:$S$13,자료실!C1226)","v":0},{"$f":"COUNTIF(번호추출!$N$13:$S$13,자료실!D1226)","v":0},{"$f":"COUNTIF(번호추출!$N$13:$S$13,자료실!E1226)","v":0},{"$f":"COUNTIF(번호추출!$N$13:$S$13,자료실!F1226)","v":0},{"$f":"COUNTIF(번호추출!$N$13:$S$13,자료실!G1226)","v":0},{"$f":"COUNTIF(번호추출!$N$13:$S$13,자료실!H1226)","v":0},{"$f":"COUNTIF(번호추출!$N$13:$S$13,I1226)","v":0},0,0,0,0,0,0,0,{"$f":"IF(6=U1226,\"1등\",IF(13=U1226,\"1등\",0))","v":0},0]
[null,null,null,null,null,null,null,null,null,null,null,0,{"$f":"COUNTIF(번호추출!$N$13:$S$13,자료실!C1227)","v":0},{"$f":"COUNTIF(번호추출!$N$13:$S$13,자료실!D1227)","v":0},{"$f":"COUNTIF(번호추출!$N$13:$S$13,자료실!E1227)","v":0},{"$f":"COUNTIF(번호추출!$N$13:$S$13,자료실!F1227)","v":0},{"$f":"COUNTIF(번호추출!$N$13:$S$13,자료실!G1227)","v":0},{"$f":"COUNTIF(번호추출!$N$13:$S$13,자료실!H1227)","v":0},{"$f":"COUNTIF(번호추출!$N$13:$S$13,I1227)","v":0},0,0,0,0,0,0,0,{"$f":"IF(6=U1227,\"1등\",IF(13=U1227,\"1등\",0))","v":0},0]
[null,null,null,null,null,null,null,null,null,null,null,0,{"$f":"COUNTIF(번호추출!$N$13:$S$13,자료실!C1228)","v":0},{"$f":"COUNTIF(번호추출!$N$13:$S$13,자료실!D1228)","v":0},{"$f":"COUNTIF(번호추출!$N$13:$S$13,자료실!E1228)","v":0},{"$f":"COUNTIF(번호추출!$N$13:$S$13,자료실!F1228)","v":0},{"$f":"COUNTIF(번호추출!$N$13:$S$13,자료실!G1228)","v":0},{"$f":"COUNTIF(번호추출!$N$13:$S$13,자료실!H1228)","v":0},{"$f":"COUNTIF(번호추출!$N$13:$S$13,I1228)","v":0},0,0,0,0,0,0,0,{"$f":"IF(6=U1228,\"1등\",IF(13=U1228,\"1등\",0))","v":0},0]
[null,null,null,null,null,null,null,null,null,null,null,0,{"$f":"COUNTIF(번호추출!$N$13:$S$13,자료실!C1229)","v":0},{"$f":"COUNTIF(번호추출!$N$13:$S$13,자료실!D1229)","v":0},{"$f":"COUNTIF(번호추출!$N$13:$S$13,자료실!E1229)","v":0},{"$f":"COUNTIF(번호추출!$N$13:$S$13,자료실!F1229)","v":0},{"$f":"COUNTIF(번호추출!$N$13:$S$13,자료실!G1229)","v":0},{"$f":"COUNTIF(번호추출!$N$13:$S$13,자료실!H1229)","v":0},{"$f":"COUNTIF(번호추출!$N$13:$S$13,I1229)","v":0},0,0,0,0,0,0,0,{"$f":"IF(6=U1229,\"1등\",IF(13=U1229,\"1등\",0))","v":0},0]
[null,null,null,null,null,null,null,null,null,null,null,0,{"$f":"COUNTIF(번호추출!$N$13:$S$13,자료실!C1230)","v":0},{"$f":"COUNTIF(번호추출!$N$13:$S$13,자료실!D1230)","v":0},{"$f":"COUNTIF(번호추출!$N$13:$S$13,자료실!E1230)","v":0},{"$f":"COUNTIF(번호추출!$N$13:$S$13,자료실!F1230)","v":0},{"$f":"COUNTIF(번호추출!$N$13:$S$13,자료실!G1230)","v":0},{"$f":"COUNTIF(번호추출!$N$13:$S$13,자료실!H1230)","v":0},{"$f":"COUNTIF(번호추출!$N$13:$S$13,I1230)","v":0},0,0,{"$f":"IF(1=U1230,\"꽝\",IF(0<T1230,\"꽝\",0))","v":0},{"$f":"IF(2=U1230,\"꽝\",IF(1<T1230,\"꽝\",0))","v":0},{"$f":"IF(3=U1230,\"5등\",IF(2<T1230,\"5등\",0))","v":0},{"$f":"IF(4=U1230,\"4등\",IF(3<T1230,\"4등\",0))","v":0},{"$f":"IF(5=U1230,\"3등\",IF(4<T1230,\"3등\",0))","v":0},{"$f":"IF(6=U1230,\"1등\",IF(13=U1230,\"1등\",0))","v":0},{"$f":"IF(U1230=12,\"2등\",0)","v":0}]
[null,null,null,null,null,null,null,null,null,null,null,0,{"$f":"COUNTIF(번호추출!$N$13:$S$13,자료실!C1231)","v":0},{"$f":"COUNTIF(번호추출!$N$13:$S$13,자료실!D1231)","v":0},{"$f":"COUNTIF(번호추출!$N$13:$S$13,자료실!E1231)","v":0},{"$f":"COUNTIF(번호추출!$N$13:$S$13,자료실!F1231)","v":0},{"$f":"COUNTIF(번호추출!$N$13:$S$13,자료실!G1231)","v":0},{"$f":"COUNTIF(번호추출!$N$13:$S$13,자료실!H1231)","v":0},{"$f":"COUNTIF(번호추출!$N$13:$S$13,I1231)","v":0},0,0,0,0,0,0,0,{"$f":"IF(6=U1231,\"1등\",IF(13=U1231,\"1등\",0))","v":0},0]
[null,null,null,null,null,null,null,null,null,null,null,0,{"$f":"COUNTIF(번호추출!$N$13:$S$13,자료실!C1232)","v":0},{"$f":"COUNTIF(번호추출!$N$13:$S$13,자료실!D1232)","v":0},{"$f":"COUNTIF(번호추출!$N$13:$S$13,자료실!E1232)","v":0},{"$f":"COUNTIF(번호추출!$N$13:$S$13,자료실!F1232)","v":0},{"$f":"COUNTIF(번호추출!$N$13:$S$13,자료실!G1232)","v":0},{"$f":"COUNTIF(번호추출!$N$13:$S$13,자료실!H1232)","v":0},{"$f":"COUNTIF(번호추출!$N$13:$S$13,I1232)","v":0},0,0,0,0,0,0,0,{"$f":"IF(6=U1232,\"1등\",IF(13=U1232,\"1등\",0))","v":0},0]
[null,null,null,null,null,null,null,null,null,null,null,0,{"$f":"COUNTIF(번호추출!$N$13:$S$13,자료실!C1233)","v":0},{"$f":"COUNTIF(번호추출!$N$13:$S$13,자료실!D1233)","v":0},{"$f":"COUNTIF(번호추출!$N$13:$S$13,자료실!E1233)","v":0},{"$f":"COUNTIF(번호추출!$N$13:$S$13,자료실!F1233)","v":0},{"$f":"COUNTIF(번호추출!$N$13:$S$13,자료실!G1233)","v":0},{"$f":"COUNTIF(번호추출!$N$13:$S$13,자료실!H1233)","v":0},{"$f":"COUNTIF(번호추출!$N$13:$S$13,I1233)","v":0},0,0,0,0,0,0,0,{"$f":"IF(6=U1233,\"1등\",IF(13=U1233,\"1등\",0))","v":0},0]
[null,null,null,null,null,null,null,null,null,null,null,0,{"$f":"COUNTIF(번호추출!$N$13:$S$13,자료실!C1234)","v":0},{"$f":"COUNTIF(번호추출!$N$13:$S$13,자료실!D1234)","v":0},{"$f":"COUNTIF(번호추출!$N$13:$S$13,자료실!E1234)","v":0},{"$f":"COUNTIF(번호추출!$N$13:$S$13,자료실!F1234)","v":0},{"$f":"COUNTIF(번호추출!$N$13:$S$13,자료실!G1234)","v":0},{"$f":"COUNTIF(번호추출!$N$13:$S$13,자료실!H1234)","v":0},{"$f":"COUNTIF(번호추출!$N$13:$S$13,I1234)","v":0},0,0,0,0,0,0,0,{"$f":"IF(6=U1234,\"1등\",IF(13=U1234,\"1등\",0))","v":0},0]
[null,null,null,null,null,null,null,null,null,null,null,0,{"$f":"COUNTIF(번호추출!$N$13:$S$13,자료실!C1235)","v":0},{"$f":"COUNTIF(번호추출!$N$13:$S$13,자료실!D1235)","v":0},{"$f":"COUNTIF(번호추출!$N$13:$S$13,자료실!E1235)","v":0},{"$f":"COUNTIF(번호추출!$N$13:$S$13,자료실!F1235)","v":0},{"$f":"COUNTIF(번호추출!$N$13:$S$13,자료실!G1235)","v":0},{"$f":"COUNTIF(번호추출!$N$13:$S$13,자료실!H1235)","v":0},{"$f":"COUNTIF(번호추출!$N$13:$S$13,I1235)","v":0},0,0,0,0,0,0,0,{"$f":"IF(6=U1235,\"1등\",IF(13=U1235,\"1등\",0))","v":0},0]
[null,null,null,null,null,null,null,null,null,null,null,0,{"$f":"COUNTIF(번호추출!$N$13:$S$13,자료실!C1236)","v":0},{"$f":"COUNTIF(번호추출!$N$13:$S$13,자료실!D1236)","v":0},{"$f":"COUNTIF(번호추출!$N$13:$S$13,자료실!E1236)","v":0},{"$f":"COUNTIF(번호추출!$N$13:$S$13,자료실!F1236)","v":0},{"$f":"COUNTIF(번호추출!$N$13:$S$13,자료실!G1236)","v":0},{"$f":"COUNTIF(번호추출!$N$13:$S$13,자료실!H1236)","v":0},{"$f":"COUNTIF(번호추출!$N$13:$S$13,I1236)","v":0},0,0,0,0,0,0,0,{"$f":"IF(6=U1236,\"1등\",IF(13=U1236,\"1등\",0))","v":0},0]
[null,null,null,null,null,null,null,null,null,null,null,0,{"$f":"COUNTIF(번호추출!$N$13:$S$13,자료실!C1237)","v":0},{"$f":"COUNTIF(번호추출!$N$13:$S$13,자료실!D1237)","v":0},{"$f":"COUNTIF(번호추출!$N$13:$S$13,자료실!E1237)","v":0},{"$f":"COUNTIF(번호추출!$N$13:$S$13,자료실!F1237)","v":0},{"$f":"COUNTIF(번호추출!$N$13:$S$13,자료실!G1237)","v":0},{"$f":"COUNTIF(번호추출!$N$13:$S$13,자료실!H1237)","v":0},{"$f":"COUNTIF(번호추출!$N$13:$S$13,I1237)","v":0},0,0,0,0,0,0,0,{"$f":"IF(6=U1237,\"1등\",IF(13=U1237,\"1등\",0))","v":0},0]
[null,null,null,null,null,null,null,null,null,null,null,0,{"$f":"COUNTIF(번호추출!$N$13:$S$13,자료실!C1238)","v":0},{"$f":"COUNTIF(번호추출!$N$13:$S$13,자료실!D1238)","v":0},{"$f":"COUNTIF(번호추출!$N$13:$S$13,자료실!E1238)","v":0},{"$f":"COUNTIF(번호추출!$N$13:$S$13,자료실!F1238)","v":0},{"$f":"COUNTIF(번호추출!$N$13:$S$13,자료실!G1238)","v":0},{"$f":"COUNTIF(번호추출!$N$13:$S$13,자료실!H1238)","v":0},{"$f":"COUNTIF(번호추출!$N$13:$S$13,I1238)","v":0},0,0,0,0,0,0,0,{"$f":"IF(6=U1238,\"1등\",IF(13=U1238,\"1등\",0))","v":0},0]
[null,null,null,null,null,null,null,null,null,null,null,0,{"$f":"COUNTIF(번호추출!$N$13:$S$13,자료실!C1239)","v":0},{"$f":"COUNTIF(번호추출!$N$13:$S$13,자료실!D1239)","v":0},{"$f":"COUNTIF(번호추출!$N$13:$S$13,자료실!E1239)","v":0},{"$f":"COUNTIF(번호추출!$N$13:$S$13,자료실!F1239)","v":0},{"$f":"COUNTIF(번호추출!$N$13:$S$13,자료실!G1239)","v":0},{"$f":"COUNTIF(번호추출!$N$13:$S$13,자료실!H1239)","v":0},{"$f":"COUNTIF(번호추출!$N$13:$S$13,I1239)","v":0},0,0,0,0,0,0,0,{"$f":"IF(6=U1239,\"1등\",IF(13=U1239,\"1등\",0))","v":0},0]
[null,null,null,null,null,null,null,null,null,null,null,0,{"$f":"COUNTIF(번호추출!$N$13:$S$13,자료실!C1240)","v":0},{"$f":"COUNTIF(번호추출!$N$13:$S$13,자료실!D1240)","v":0},{"$f":"COUNTIF(번호추출!$N$13:$S$13,자료실!E1240)","v":0},{"$f":"COUNTIF(번호추출!$N$13:$S$13,자료실!F1240)","v":0},{"$f":"COUNTIF(번호추출!$N$13:$S$13,자료실!G1240)","v":0},{"$f":"COUNTIF(번호추출!$N$13:$S$13,자료실!H1240)","v":0},{"$f":"COUNTIF(번호추출!$N$13:$S$13,I1240)","v":0},0,0,0,0,0,0,0,{"$f":"IF(6=U1240,\"1등\",IF(13=U1240,\"1등\",0))","v":0},0]
[null,null,null,null,null,null,null,null,null,null,null,0,{"$f":"COUNTIF(번호추출!$N$13:$S$13,자료실!C1241)","v":0},{"$f":"COUNTIF(번호추출!$N$13:$S$13,자료실!D1241)","v":0},{"$f":"COUNTIF(번호추출!$N$13:$S$13,자료실!E1241)","v":0},{"$f":"COUNTIF(번호추출!$N$13:$S$13,자료실!F1241)","v":0},{"$f":"COUNTIF(번호추출!$N$13:$S$13,자료실!G1241)","v":0},{"$f":"COUNTIF(번호추출!$N$13:$S$13,자료실!H1241)","v":0},{"$f":"COUNTIF(번호추출!$N$13:$S$13,I1241)","v":0},0,0,0,0,0,0,0,{"$f":"IF(6=U1241,\"1등\",IF(13=U1241,\"1등\",0))","v":0},0]
[null,null,null,null,null,null,null,null,null,null,null,0,{"$f":"COUNTIF(번호추출!$N$13:$S$13,자료실!C1242)","v":0},{"$f":"COUNTIF(번호추출!$N$13:$S$13,자료실!D1242)","v":0},{"$f":"COUNTIF(번호추출!$N$13:$S$13,자료실!E1242)","v":0},{"$f":"COUNTIF(번호추출!$N$13:$S$13,자료실!F1242)","v":0},{"$f":"COUNTIF(번호추출!$N$13:$S$13,자료실!G1242)","v":0},{"$f":"COUNTIF(번호추출!$N$13:$S$13,자료실!H1242)","v":0},{"$f":"COUNTIF(번호추출!$N$13:$S$13,I1242)","v":0},0,0,0,0,0,0,0,{"$f":"IF(6=U1242,\"1등\",IF(13=U1242,\"1등\",0))","v":0},0]
[null,null,null,null,null,null,null,null,null,null,null,{"$f":"A1243","v":0},{"$f":"COUNTIF(번호추출!$N$13:$S$13,자료실!C1243)","v":0},{"$f":"COUNTIF(번호추출!$N$13:$S$13,자료실!D1243)","v":0},{"$f":"COUNTIF(번호추출!$N$13:$S$13,자료실!E1243)","v":0},{"$f":"COUNTIF(번호추출!$N$13:$S$13,자료실!F1243)","v":0},{"$f":"COUNTIF(번호추출!$N$13:$S$13,자료실!G1243)","v":0},{"$f":"COUNTIF(번호추출!$N$13:$S$13,자료실!H1243)","v":0},{"$f":"COUNTIF(번호추출!$N$13:$S$13,I1243)","v":0},{"$f":"SUM(M1243:R1243)","v":0},{"$f":"SUM(M1243:S1243)","v":0},0,0,0,0,0,{"$f":"IF(6=U1243,\"1등\",IF(13=U1243,\"1등\",0))","v":0},0]
[null,null,null,null,null,null,null,null,null,null,null,0,{"$f":"COUNTIF(번호추출!$N$13:$S$13,자료실!C1244)","v":0},{"$f":"COUNTIF(번호추출!$N$13:$S$13,자료실!D1244)","v":0},{"$f":"COUNTIF(번호추출!$N$13:$S$13,자료실!E1244)","v":0},{"$f":"COUNTIF(번호추출!$N$13:$S$13,자료실!F1244)","v":0},{"$f":"COUNTIF(번호추출!$N$13:$S$13,자료실!G1244)","v":0},{"$f":"COUNTIF(번호추출!$N$13:$S$13,자료실!H1244)","v":0},{"$f":"COUNTIF(번호추출!$N$13:$S$13,I1244)","v":0},0,0,0,0,0,0,0,{"$f":"IF(6=U1244,\"1등\",IF(13=U1244,\"1등\",0))","v":0},0]
[null,null,null,null,null,null,null,null,null,null,null,0,{"$f":"COUNTIF(번호추출!$N$13:$S$13,자료실!C1245)","v":0},{"$f":"COUNTIF(번호추출!$N$13:$S$13,자료실!D1245)","v":0},{"$f":"COUNTIF(번호추출!$N$13:$S$13,자료실!E1245)","v":0},{"$f":"COUNTIF(번호추출!$N$13:$S$13,자료실!F1245)","v":0},{"$f":"COUNTIF(번호추출!$N$13:$S$13,자료실!G1245)","v":0},{"$f":"COUNTIF(번호추출!$N$13:$S$13,자료실!H1245)","v":0},{"$f":"COUNTIF(번호추출!$N$13:$S$13,I1245)","v":0},0,0,0,0,0,0,0,{"$f":"IF(6=U1245,\"1등\",IF(13=U1245,\"1등\",0))","v":0},0]
[null,null,null,null,null,null,null,null,null,null,null,0,{"$f":"COUNTIF(번호추출!$N$13:$S$13,자료실!C1246)","v":0},{"$f":"COUNTIF(번호추출!$N$13:$S$13,자료실!D1246)","v":0},{"$f":"COUNTIF(번호추출!$N$13:$S$13,자료실!E1246)","v":0},{"$f":"COUNTIF(번호추출!$N$13:$S$13,자료실!F1246)","v":0},{"$f":"COUNTIF(번호추출!$N$13:$S$13,자료실!G1246)","v":0},{"$f":"COUNTIF(번호추출!$N$13:$S$13,자료실!H1246)","v":0},{"$f":"COUNTIF(번호추출!$N$13:$S$13,I1246)","v":0},0,0,0,0,0,0,0,{"$f":"IF(6=U1246,\"1등\",IF(13=U1246,\"1등\",0))","v":0},0]
[null,null,null,null,null,null,null,null,null,null,null,0,{"$f":"COUNTIF(번호추출!$N$13:$S$13,자료실!C1247)","v":0},{"$f":"COUNTIF(번호추출!$N$13:$S$13,자료실!D1247)","v":0},{"$f":"COUNTIF(번호추출!$N$13:$S$13,자료실!E1247)","v":0},{"$f":"COUNTIF(번호추출!$N$13:$S$13,자료실!F1247)","v":0},{"$f":"COUNTIF(번호추출!$N$13:$S$13,자료실!G1247)","v":0},{"$f":"COUNTIF(번호추출!$N$13:$S$13,자료실!H1247)","v":0},{"$f":"COUNTIF(번호추출!$N$13:$S$13,I1247)","v":0},0,0,0,0,0,0,0,{"$f":"IF(6=U1247,\"1등\",IF(13=U1247,\"1등\",0))","v":0},0]
[null,null,null,null,null,null,null,null,null,null,null,0,{"$f":"COUNTIF(번호추출!$N$13:$S$13,자료실!C1248)","v":0},{"$f":"COUNTIF(번호추출!$N$13:$S$13,자료실!D1248)","v":0},{"$f":"COUNTIF(번호추출!$N$13:$S$13,자료실!E1248)","v":0},{"$f":"COUNTIF(번호추출!$N$13:$S$13,자료실!F1248)","v":0},{"$f":"COUNTIF(번호추출!$N$13:$S$13,자료실!G1248)","v":0},{"$f":"COUNTIF(번호추출!$N$13:$S$13,자료실!H1248)","v":0},{"$f":"COUNTIF(번호추출!$N$13:$S$13,I1248)","v":0},0,0,0,0,0,0,0,{"$f":"IF(6=U1248,\"1등\",IF(13=U1248,\"1등\",0))","v":0},0]
[null,null,null,null,null,null,null,null,null,null,null,0,{"$f":"COUNTIF(번호추출!$N$13:$S$13,자료실!C1249)","v":0},{"$f":"COUNTIF(번호추출!$N$13:$S$13,자료실!D1249)","v":0},{"$f":"COUNTIF(번호추출!$N$13:$S$13,자료실!E1249)","v":0},{"$f":"COUNTIF(번호추출!$N$13:$S$13,자료실!F1249)","v":0},{"$f":"COUNTIF(번호추출!$N$13:$S$13,자료실!G1249)","v":0},{"$f":"COUNTIF(번호추출!$N$13:$S$13,자료실!H1249)","v":0},{"$f":"COUNTIF(번호추출!$N$13:$S$13,I1249)","v":0},0,0,0,0,0,0,0,{"$f":"IF(6=U1249,\"1등\",IF(13=U1249,\"1등\",0))","v":0},0]
[null,null,null,null,null,null,null,null,null,null,null,0,{"$f":"COUNTIF(번호추출!$N$13:$S$13,자료실!C1250)","v":0},{"$f":"COUNTIF(번호추출!$N$13:$S$13,자료실!D1250)","v":0},{"$f":"COUNTIF(번호추출!$N$13:$S$13,자료실!E1250)","v":0},{"$f":"COUNTIF(번호추출!$N$13:$S$13,자료실!F1250)","v":0},{"$f":"COUNTIF(번호추출!$N$13:$S$13,자료실!G1250)","v":0},{"$f":"COUNTIF(번호추출!$N$13:$S$13,자료실!H1250)","v":0},{"$f":"COUNTIF(번호추출!$N$13:$S$13,I1250)","v":0},0,0,0,0,0,0,0,{"$f":"IF(6=U1250,\"1등\",IF(13=U1250,\"1등\",0))","v":0},0]
[null,null,null,null,null,null,null,null,null,null,null,0,{"$f":"COUNTIF(번호추출!$N$13:$S$13,자료실!C1251)","v":0},{"$f":"COUNTIF(번호추출!$N$13:$S$13,자료실!D1251)","v":0},{"$f":"COUNTIF(번호추출!$N$13:$S$13,자료실!E1251)","v":0},{"$f":"COUNTIF(번호추출!$N$13:$S$13,자료실!F1251)","v":0},{"$f":"COUNTIF(번호추출!$N$13:$S$13,자료실!G1251)","v":0},{"$f":"COUNTIF(번호추출!$N$13:$S$13,자료실!H1251)","v":0},{"$f":"COUNTIF(번호추출!$N$13:$S$13,I1251)","v":0},0,0,0,0,0,0,0,{"$f":"IF(6=U1251,\"1등\",IF(13=U1251,\"1등\",0))","v":0},0]
[null,null,null,null,null,null,null,null,null,null,null,0,{"$f":"COUNTIF(번호추출!$N$13:$S$13,자료실!C1252)","v":0},{"$f":"COUNTIF(번호추출!$N$13:$S$13,자료실!D1252)","v":0},{"$f":"COUNTIF(번호추출!$N$13:$S$13,자료실!E1252)","v":0},{"$f":"COUNTIF(번호추출!$N$13:$S$13,자료실!F1252)","v":0},{"$f":"COUNTIF(번호추출!$N$13:$S$13,자료실!G1252)","v":0},{"$f":"COUNTIF(번호추출!$N$13:$S$13,자료실!H1252)","v":0},{"$f":"COUNTIF(번호추출!$N$13:$S$13,I1252)","v":0},0,0,0,0,0,0,0,{"$f":"IF(6=U1252,\"1등\",IF(13=U1252,\"1등\",0))","v":0},0]
[null,null,null,null,null,null,null,null,null,null,null,0,{"$f":"COUNTIF(번호추출!$N$13:$S$13,자료실!C1253)","v":0},{"$f":"COUNTIF(번호추출!$N$13:$S$13,자료실!D1253)","v":0},{"$f":"COUNTIF(번호추출!$N$13:$S$13,자료실!E1253)","v":0},{"$f":"COUNTIF(번호추출!$N$13:$S$13,자료실!F1253)","v":0},{"$f":"COUNTIF(번호추출!$N$13:$S$13,자료실!G1253)","v":0},{"$f":"COUNTIF(번호추출!$N$13:$S$13,자료실!H1253)","v":0},{"$f":"COUNTIF(번호추출!$N$13:$S$13,I1253)","v":0},0,0,0,0,0,0,0,{"$f":"IF(6=U1253,\"1등\",IF(13=U1253,\"1등\",0))","v":0},0]
[null,null,null,null,null,null,null,null,null,null,null,0,{"$f":"COUNTIF(번호추출!$N$13:$S$13,자료실!C1254)","v":0},{"$f":"COUNTIF(번호추출!$N$13:$S$13,자료실!D1254)","v":0},{"$f":"COUNTIF(번호추출!$N$13:$S$13,자료실!E1254)","v":0},{"$f":"COUNTIF(번호추출!$N$13:$S$13,자료실!F1254)","v":0},{"$f":"COUNTIF(번호추출!$N$13:$S$13,자료실!G1254)","v":0},{"$f":"COUNTIF(번호추출!$N$13:$S$13,자료실!H1254)","v":0},{"$f":"COUNTIF(번호추출!$N$13:$S$13,I1254)","v":0},0,0,0,0,0,0,0,{"$f":"IF(6=U1254,\"1등\",IF(13=U1254,\"1등\",0))","v":0},0]
[null,null,null,null,null,null,null,null,null,null,null,0,{"$f":"COUNTIF(번호추출!$N$13:$S$13,자료실!C1255)","v":0},{"$f":"COUNTIF(번호추출!$N$13:$S$13,자료실!D1255)","v":0},{"$f":"COUNTIF(번호추출!$N$13:$S$13,자료실!E1255)","v":0},{"$f":"COUNTIF(번호추출!$N$13:$S$13,자료실!F1255)","v":0},{"$f":"COUNTIF(번호추출!$N$13:$S$13,자료실!G1255)","v":0},{"$f":"COUNTIF(번호추출!$N$13:$S$13,자료실!H1255)","v":0},{"$f":"COUNTIF(번호추출!$N$13:$S$13,I1255)","v":0},0,0,0,0,0,0,0,{"$f":"IF(6=U1255,\"1등\",IF(13=U1255,\"1등\",0))","v":0},0]
[null,null,null,null,null,null,null,null,null,null,null,0,{"$f":"COUNTIF(번호추출!$N$13:$S$13,자료실!C1256)","v":0},{"$f":"COUNTIF(번호추출!$N$13:$S$13,자료실!D1256)","v":0},{"$f":"COUNTIF(번호추출!$N$13:$S$13,자료실!E1256)","v":0},{"$f":"COUNTIF(번호추출!$N$13:$S$13,자료실!F1256)","v":0},{"$f":"COUNTIF(번호추출!$N$13:$S$13,자료실!G1256)","v":0},{"$f":"COUNTIF(번호추출!$N$13:$S$13,자료실!H1256)","v":0},{"$f":"COUNTIF(번호추출!$N$13:$S$13,I1256)","v":0},0,0,0,0,0,0,0,{"$f":"IF(6=U1256,\"1등\",IF(13=U1256,\"1등\",0))","v":0},0]
[null,null,null,null,null,null,null,null,null,null,null,0,{"$f":"COUNTIF(번호추출!$N$13:$S$13,자료실!C1257)","v":0},{"$f":"COUNTIF(번호추출!$N$13:$S$13,자료실!D1257)","v":0},{"$f":"COUNTIF(번호추출!$N$13:$S$13,자료실!E1257)","v":0},{"$f":"COUNTIF(번호추출!$N$13:$S$13,자료실!F1257)","v":0},{"$f":"COUNTIF(번호추출!$N$13:$S$13,자료실!G1257)","v":0},{"$f":"COUNTIF(번호추출!$N$13:$S$13,자료실!H1257)","v":0},{"$f":"COUNTIF(번호추출!$N$13:$S$13,I1257)","v":0},0,0,0,0,0,0,0,{"$f":"IF(6=U1257,\"1등\",IF(13=U1257,\"1등\",0))","v":0},0]
[null,null,null,null,null,null,null,null,null,null,null,0,{"$f":"COUNTIF(번호추출!$N$13:$S$13,자료실!C1258)","v":0},{"$f":"COUNTIF(번호추출!$N$13:$S$13,자료실!D1258)","v":0},{"$f":"COUNTIF(번호추출!$N$13:$S$13,자료실!E1258)","v":0},{"$f":"COUNTIF(번호추출!$N$13:$S$13,자료실!F1258)","v":0},{"$f":"COUNTIF(번호추출!$N$13:$S$13,자료실!G1258)","v":0},{"$f":"COUNTIF(번호추출!$N$13:$S$13,자료실!H1258)","v":0},{"$f":"COUNTIF(번호추출!$N$13:$S$13,I1258)","v":0},0,0,0,0,0,0,0,{"$f":"IF(6=U1258,\"1등\",IF(13=U1258,\"1등\",0))","v":0},0]
[null,null,null,null,null,null,null,null,null,null,null,0,{"$f":"COUNTIF(번호추출!$N$13:$S$13,자료실!C1259)","v":0},{"$f":"COUNTIF(번호추출!$N$13:$S$13,자료실!D1259)","v":0},{"$f":"COUNTIF(번호추출!$N$13:$S$13,자료실!E1259)","v":0},{"$f":"COUNTIF(번호추출!$N$13:$S$13,자료실!F1259)","v":0},{"$f":"COUNTIF(번호추출!$N$13:$S$13,자료실!G1259)","v":0},{"$f":"COUNTIF(번호추출!$N$13:$S$13,자료실!H1259)","v":0},{"$f":"COUNTIF(번호추출!$N$13:$S$13,I1259)","v":0},0,0,0,0,0,0,0,{"$f":"IF(6=U1259,\"1등\",IF(13=U1259,\"1등\",0))","v":0},0]
[null,null,null,null,null,null,null,null,null,null,null,0,{"$f":"COUNTIF(번호추출!$N$13:$S$13,자료실!C1260)","v":0},{"$f":"COUNTIF(번호추출!$N$13:$S$13,자료실!D1260)","v":0},{"$f":"COUNTIF(번호추출!$N$13:$S$13,자료실!E1260)","v":0},{"$f":"COUNTIF(번호추출!$N$13:$S$13,자료실!F1260)","v":0},{"$f":"COUNTIF(번호추출!$N$13:$S$13,자료실!G1260)","v":0},{"$f":"COUNTIF(번호추출!$N$13:$S$13,자료실!H1260)","v":0},{"$f":"COUNTIF(번호추출!$N$13:$S$13,I1260)","v":0},0,0,0,0,0,0,0,{"$f":"IF(6=U1260,\"1등\",IF(13=U1260,\"1등\",0))","v":0},0]
[null,null,null,null,null,null,null,null,null,null,null,0,{"$f":"COUNTIF(번호추출!$N$13:$S$13,자료실!C1261)","v":0},{"$f":"COUNTIF(번호추출!$N$13:$S$13,자료실!D1261)","v":0},{"$f":"COUNTIF(번호추출!$N$13:$S$13,자료실!E1261)","v":0},{"$f":"COUNTIF(번호추출!$N$13:$S$13,자료실!F1261)","v":0},{"$f":"COUNTIF(번호추출!$N$13:$S$13,자료실!G1261)","v":0},{"$f":"COUNTIF(번호추출!$N$13:$S$13,자료실!H1261)","v":0},{"$f":"COUNTIF(번호추출!$N$13:$S$13,I1261)","v":0},0,0,0,0,0,0,0,{"$f":"IF(6=U1261,\"1등\",IF(13=U1261,\"1등\",0))","v":0},0]
[null,null,null,null,null,null,null,null,null,null,null,0,{"$f":"COUNTIF(번호추출!$N$13:$S$13,자료실!C1262)","v":0},{"$f":"COUNTIF(번호추출!$N$13:$S$13,자료실!D1262)","v":0},{"$f":"COUNTIF(번호추출!$N$13:$S$13,자료실!E1262)","v":0},{"$f":"COUNTIF(번호추출!$N$13:$S$13,자료실!F1262)","v":0},{"$f":"COUNTIF(번호추출!$N$13:$S$13,자료실!G1262)","v":0},{"$f":"COUNTIF(번호추출!$N$13:$S$13,자료실!H1262)","v":0},{"$f":"COUNTIF(번호추출!$N$13:$S$13,I1262)","v":0},0,0,0,0,0,0,0,{"$f":"IF(6=U1262,\"1등\",IF(13=U1262,\"1등\",0))","v":0},0]
[null,null,null,null,null,null,null,null,null,null,null,0,{"$f":"COUNTIF(번호추출!$N$13:$S$13,자료실!C1263)","v":0},{"$f":"COUNTIF(번호추출!$N$13:$S$13,자료실!D1263)","v":0},{"$f":"COUNTIF(번호추출!$N$13:$S$13,자료실!E1263)","v":0},{"$f":"COUNTIF(번호추출!$N$13:$S$13,자료실!F1263)","v":0},{"$f":"COUNTIF(번호추출!$N$13:$S$13,자료실!G1263)","v":0},{"$f":"COUNTIF(번호추출!$N$13:$S$13,자료실!H1263)","v":0},{"$f":"COUNTIF(번호추출!$N$13:$S$13,I1263)","v":0},0,0,0,0,0,0,0,{"$f":"IF(6=U1263,\"1등\",IF(13=U1263,\"1등\",0))","v":0},0]
[null,null,null,null,null,null,null,null,null,null,null,0,{"$f":"COUNTIF(번호추출!$N$13:$S$13,자료실!C1264)","v":0},{"$f":"COUNTIF(번호추출!$N$13:$S$13,자료실!D1264)","v":0},{"$f":"COUNTIF(번호추출!$N$13:$S$13,자료실!E1264)","v":0},{"$f":"COUNTIF(번호추출!$N$13:$S$13,자료실!F1264)","v":0},{"$f":"COUNTIF(번호추출!$N$13:$S$13,자료실!G1264)","v":0},{"$f":"COUNTIF(번호추출!$N$13:$S$13,자료실!H1264)","v":0},{"$f":"COUNTIF(번호추출!$N$13:$S$13,I1264)","v":0},0,0,0,0,0,0,0,{"$f":"IF(6=U1264,\"1등\",IF(13=U1264,\"1등\",0))","v":0},0]
[null,null,null,null,null,null,null,null,null,null,null,0,{"$f":"COUNTIF(번호추출!$N$13:$S$13,자료실!C1265)","v":0},{"$f":"COUNTIF(번호추출!$N$13:$S$13,자료실!D1265)","v":0},{"$f":"COUNTIF(번호추출!$N$13:$S$13,자료실!E1265)","v":0},{"$f":"COUNTIF(번호추출!$N$13:$S$13,자료실!F1265)","v":0},{"$f":"COUNTIF(번호추출!$N$13:$S$13,자료실!G1265)","v":0},{"$f":"COUNTIF(번호추출!$N$13:$S$13,자료실!H1265)","v":0},{"$f":"COUNTIF(번호추출!$N$13:$S$13,I1265)","v":0},0,0,0,0,0,0,0,{"$f":"IF(6=U1265,\"1등\",IF(13=U1265,\"1등\",0))","v":0},0]
[null,null,null,null,null,null,null,null,null,null,null,0,{"$f":"COUNTIF(번호추출!$N$13:$S$13,자료실!C1266)","v":0},{"$f":"COUNTIF(번호추출!$N$13:$S$13,자료실!D1266)","v":0},{"$f":"COUNTIF(번호추출!$N$13:$S$13,자료실!E1266)","v":0},{"$f":"COUNTIF(번호추출!$N$13:$S$13,자료실!F1266)","v":0},{"$f":"COUNTIF(번호추출!$N$13:$S$13,자료실!G1266)","v":0},{"$f":"COUNTIF(번호추출!$N$13:$S$13,자료실!H1266)","v":0},{"$f":"COUNTIF(번호추출!$N$13:$S$13,I1266)","v":0},0,0,0,0,0,0,0,{"$f":"IF(6=U1266,\"1등\",IF(13=U1266,\"1등\",0))","v":0},0]
[null,null,null,null,null,null,null,null,null,null,null,0,{"$f":"COUNTIF(번호추출!$N$13:$S$13,자료실!C1267)","v":0},{"$f":"COUNTIF(번호추출!$N$13:$S$13,자료실!D1267)","v":0},{"$f":"COUNTIF(번호추출!$N$13:$S$13,자료실!E1267)","v":0},{"$f":"COUNTIF(번호추출!$N$13:$S$13,자료실!F1267)","v":0},{"$f":"COUNTIF(번호추출!$N$13:$S$13,자료실!G1267)","v":0},{"$f":"COUNTIF(번호추출!$N$13:$S$13,자료실!H1267)","v":0},{"$f":"COUNTIF(번호추출!$N$13:$S$13,I1267)","v":0},0,0,0,0,0,0,0,{"$f":"IF(6=U1267,\"1등\",IF(13=U1267,\"1등\",0))","v":0},0]
[null,null,null,null,null,null,null,null,null,null,null,0,{"$f":"COUNTIF(번호추출!$N$13:$S$13,자료실!C1268)","v":0},{"$f":"COUNTIF(번호추출!$N$13:$S$13,자료실!D1268)","v":0},{"$f":"COUNTIF(번호추출!$N$13:$S$13,자료실!E1268)","v":0},{"$f":"COUNTIF(번호추출!$N$13:$S$13,자료실!F1268)","v":0},{"$f":"COUNTIF(번호추출!$N$13:$S$13,자료실!G1268)","v":0},{"$f":"COUNTIF(번호추출!$N$13:$S$13,자료실!H1268)","v":0},{"$f":"COUNTIF(번호추출!$N$13:$S$13,I1268)","v":0},0,0,0,0,0,0,0,{"$f":"IF(6=U1268,\"1등\",IF(13=U1268,\"1등\",0))","v":0},0]
[null,null,null,null,null,null,null,null,null,null,null,0,{"$f":"COUNTIF(번호추출!$N$13:$S$13,자료실!C1269)","v":0},{"$f":"COUNTIF(번호추출!$N$13:$S$13,자료실!D1269)","v":0},{"$f":"COUNTIF(번호추출!$N$13:$S$13,자료실!E1269)","v":0},{"$f":"COUNTIF(번호추출!$N$13:$S$13,자료실!F1269)","v":0},{"$f":"COUNTIF(번호추출!$N$13:$S$13,자료실!G1269)","v":0},{"$f":"COUNTIF(번호추출!$N$13:$S$13,자료실!H1269)","v":0},{"$f":"COUNTIF(번호추출!$N$13:$S$13,I1269)","v":0},0,0,0,0,0,0,0,{"$f":"IF(6=U1269,\"1등\",IF(13=U1269,\"1등\",0))","v":0},0]
[null,null,null,null,null,null,null,null,null,null,null,0,{"$f":"COUNTIF(번호추출!$N$13:$S$13,자료실!C1270)","v":0},{"$f":"COUNTIF(번호추출!$N$13:$S$13,자료실!D1270)","v":0},{"$f":"COUNTIF(번호추출!$N$13:$S$13,자료실!E1270)","v":0},{"$f":"COUNTIF(번호추출!$N$13:$S$13,자료실!F1270)","v":0},{"$f":"COUNTIF(번호추출!$N$13:$S$13,자료실!G1270)","v":0},{"$f":"COUNTIF(번호추출!$N$13:$S$13,자료실!H1270)","v":0},{"$f":"COUNTIF(번호추출!$N$13:$S$13,I1270)","v":0},0,0,0,0,0,0,0,{"$f":"IF(6=U1270,\"1등\",IF(13=U1270,\"1등\",0))","v":0},0]
[null,null,null,null,null,null,null,null,null,null,null,0,{"$f":"COUNTIF(번호추출!$N$13:$S$13,자료실!C1271)","v":0},{"$f":"COUNTIF(번호추출!$N$13:$S$13,자료실!D1271)","v":0},{"$f":"COUNTIF(번호추출!$N$13:$S$13,자료실!E1271)","v":0},{"$f":"COUNTIF(번호추출!$N$13:$S$13,자료실!F1271)","v":0},{"$f":"COUNTIF(번호추출!$N$13:$S$13,자료실!G1271)","v":0},{"$f":"COUNTIF(번호추출!$N$13:$S$13,자료실!H1271)","v":0},{"$f":"COUNTIF(번호추출!$N$13:$S$13,I1271)","v":0},0,0,0,0,0,0,0,{"$f":"IF(6=U1271,\"1등\",IF(13=U1271,\"1등\",0))","v":0},0]
[null,null,null,null,null,null,null,null,null,null,null,0,{"$f":"COUNTIF(번호추출!$N$13:$S$13,자료실!C1272)","v":0},{"$f":"COUNTIF(번호추출!$N$13:$S$13,자료실!D1272)","v":0},{"$f":"COUNTIF(번호추출!$N$13:$S$13,자료실!E1272)","v":0},{"$f":"COUNTIF(번호추출!$N$13:$S$13,자료실!F1272)","v":0},{"$f":"COUNTIF(번호추출!$N$13:$S$13,자료실!G1272)","v":0},{"$f":"COUNTIF(번호추출!$N$13:$S$13,자료실!H1272)","v":0},{"$f":"COUNTIF(번호추출!$N$13:$S$13,I1272)","v":0},0,0,0,0,0,0,0,{"$f":"IF(6=U1272,\"1등\",IF(13=U1272,\"1등\",0))","v":0},0]
[null,null,null,null,null,null,null,null,null,null,null,0,{"$f":"COUNTIF(번호추출!$N$13:$S$13,자료실!C1273)","v":0},{"$f":"COUNTIF(번호추출!$N$13:$S$13,자료실!D1273)","v":0},{"$f":"COUNTIF(번호추출!$N$13:$S$13,자료실!E1273)","v":0},{"$f":"COUNTIF(번호추출!$N$13:$S$13,자료실!F1273)","v":0},{"$f":"COUNTIF(번호추출!$N$13:$S$13,자료실!G1273)","v":0},{"$f":"COUNTIF(번호추출!$N$13:$S$13,자료실!H1273)","v":0},{"$f":"COUNTIF(번호추출!$N$13:$S$13,I1273)","v":0},0,0,0,0,0,0,0,{"$f":"IF(6=U1273,\"1등\",IF(13=U1273,\"1등\",0))","v":0},0]
[null,null,null,null,null,null,null,null,null,null,null,0,{"$f":"COUNTIF(번호추출!$N$13:$S$13,자료실!C1274)","v":0},{"$f":"COUNTIF(번호추출!$N$13:$S$13,자료실!D1274)","v":0},{"$f":"COUNTIF(번호추출!$N$13:$S$13,자료실!E1274)","v":0},{"$f":"COUNTIF(번호추출!$N$13:$S$13,자료실!F1274)","v":0},{"$f":"COUNTIF(번호추출!$N$13:$S$13,자료실!G1274)","v":0},{"$f":"COUNTIF(번호추출!$N$13:$S$13,자료실!H1274)","v":0},{"$f":"COUNTIF(번호추출!$N$13:$S$13,I1274)","v":0},0,0,0,0,0,0,0,{"$f":"IF(6=U1274,\"1등\",IF(13=U1274,\"1등\",0))","v":0},0]
[null,null,null,null,null,null,null,null,null,null,null,0,{"$f":"COUNTIF(번호추출!$N$13:$S$13,자료실!C1275)","v":0},{"$f":"COUNTIF(번호추출!$N$13:$S$13,자료실!D1275)","v":0},{"$f":"COUNTIF(번호추출!$N$13:$S$13,자료실!E1275)","v":0},{"$f":"COUNTIF(번호추출!$N$13:$S$13,자료실!F1275)","v":0},{"$f":"COUNTIF(번호추출!$N$13:$S$13,자료실!G1275)","v":0},{"$f":"COUNTIF(번호추출!$N$13:$S$13,자료실!H1275)","v":0},{"$f":"COUNTIF(번호추출!$N$13:$S$13,I1275)","v":0},0,0,0,0,0,0,0,{"$f":"IF(6=U1275,\"1등\",IF(13=U1275,\"1등\",0))","v":0},0]
[null,null,null,null,null,null,null,null,null,null,null,0,{"$f":"COUNTIF(번호추출!$N$13:$S$13,자료실!C1276)","v":0},{"$f":"COUNTIF(번호추출!$N$13:$S$13,자료실!D1276)","v":0},{"$f":"COUNTIF(번호추출!$N$13:$S$13,자료실!E1276)","v":0},{"$f":"COUNTIF(번호추출!$N$13:$S$13,자료실!F1276)","v":0},{"$f":"COUNTIF(번호추출!$N$13:$S$13,자료실!G1276)","v":0},{"$f":"COUNTIF(번호추출!$N$13:$S$13,자료실!H1276)","v":0},{"$f":"COUNTIF(번호추출!$N$13:$S$13,I1276)","v":0},0,0,0,0,0,0,0,{"$f":"IF(6=U1276,\"1등\",IF(13=U1276,\"1등\",0))","v":0},0]
[null,null,null,null,null,null,null,null,null,null,null,0,{"$f":"COUNTIF(번호추출!$N$13:$S$13,자료실!C1277)","v":0},{"$f":"COUNTIF(번호추출!$N$13:$S$13,자료실!D1277)","v":0},{"$f":"COUNTIF(번호추출!$N$13:$S$13,자료실!E1277)","v":0},{"$f":"COUNTIF(번호추출!$N$13:$S$13,자료실!F1277)","v":0},{"$f":"COUNTIF(번호추출!$N$13:$S$13,자료실!G1277)","v":0},{"$f":"COUNTIF(번호추출!$N$13:$S$13,자료실!H1277)","v":0},{"$f":"COUNTIF(번호추출!$N$13:$S$13,I1277)","v":0},0,0,0,0,0,0,0,{"$f":"IF(6=U1277,\"1등\",IF(13=U1277,\"1등\",0))","v":0},0]
[null,null,null,null,null,null,null,null,null,null,null,0,{"$f":"COUNTIF(번호추출!$N$13:$S$13,자료실!C1278)","v":0},{"$f":"COUNTIF(번호추출!$N$13:$S$13,자료실!D1278)","v":0},{"$f":"COUNTIF(번호추출!$N$13:$S$13,자료실!E1278)","v":0},{"$f":"COUNTIF(번호추출!$N$13:$S$13,자료실!F1278)","v":0},{"$f":"COUNTIF(번호추출!$N$13:$S$13,자료실!G1278)","v":0},{"$f":"COUNTIF(번호추출!$N$13:$S$13,자료실!H1278)","v":0},{"$f":"COUNTIF(번호추출!$N$13:$S$13,I1278)","v":0},0,0,0,0,0,0,0,{"$f":"IF(6=U1278,\"1등\",IF(13=U1278,\"1등\",0))","v":0},0]