{"text_format":"1","workbook":"xlsx","n_sheets":8,"sheets":["data","comboList","학생배정결과","선택과목별","학급별인원수","고사장출석부","학생별시험시간표","studentExamInfo"],"not_rendered":{"charts":0,"images":1,"macros":1,"external_links":0,"defined_names":4,"comments":0,"pivot_tables":0},"unopened":[],"bounds":{"document_bytes":16777216,"sheet_cells":100000,"rows_first":2000,"rows_last":500,"rows_between":2000,"halvings":0,"cell_chars":16384,"cell_head_chars":4096},"cells_cut":0,"cells_raw":0,"read":"whole","date_system":"1900"}

{"sheet":"data","index":0,"n_rows":418,"n_cols":12,"rows_kept":418,"cut":false,"hidden":false,"merged":[[3,11,3,14],[4,11,4,14],[2,11,2,14],[0,0,0,5],[0,6,0,9]]}
["개설 과목",null,null,null,null,null,"편성 학생"]
["학년도","학기","학년","편제명","개설과목(학점)","개설강의실","학년","반","번호","성명"]
["2023","2","2","국어","독서(4)","1(2학년 1반)","2학년","1반","1"," 남궁민아",null,"사용방법 (2023.9.25 남궁연 만듦)"]
[2023,2,2,"국어","독서(4)","1(2학년 1반)","2학년","1반",2," 남궁수진",null,"1. 왼쪽 표에 자료를 채운다."]
[2023,2,2,"국어","독서(4)","1(2학년 1반)","2학년","1반",3," 남궁재희",null,"2. 아래 버튼 \"자동변환 얍!\"을 누른다"]
[2023,2,2,"국어","독서(4)","1(2학년 1반)","2학년","1반",4," 남궁지아"]
[2023,2,2,"국어","독서(4)","1(2학년 1반)","2학년","1반",5," 남궁하은"]
[2023,2,2,"국어","독서(4)","1(2학년 1반)","2학년","1반",6," 남궁윤서"]
[2023,2,2,"국어","독서(4)","1(2학년 1반)","2학년","1반",7," 남궁은지"]
[2023,2,2,"국어","독서(4)","1(2학년 1반)","2학년","1반",8," 남궁지영"]
[2023,2,2,"국어","독서(4)","1(2학년 1반)","2학년","1반",9," 남궁예린"]
[2023,2,2,"국어","독서(4)","1(2학년 1반)","2학년","1반",10," 남궁하린"]
[2023,2,2,"국어","독서(4)","1(2학년 1반)","2학년","1반",11," 남궁소영"]
[2023,2,2,"국어","독서(4)","1(2학년 1반)","2학년","1반",12," 남궁민석"]
[2023,2,2,"국어","독서(4)","1(2학년 1반)","2학년","1반",13," 남궁지우",null,"왼쪽 표에 입력할 자료는 차세대 Neis 아래 메뉴에서 다운로드 받을 수 있습니다."]
[2023,2,2,"국어","독서(4)","1(2학년 1반)","2학년","1반",14," 남궁세영"]
[2023,2,2,"국어","독서(4)","1(2학년 1반)","2학년","1반",15," 남궁유진"]
[2023,2,2,"국어","독서(4)","1(2학년 1반)","2학년","1반",16," 남궁은우"]
[2023,2,2,"국어","독서(4)","1(2학년 1반)","2학년","1반",17," 남궁하준"]
[2023,2,2,"국어","독서(4)","1(2학년 1반)","2학년","1반",18," 남궁서윤"]
[2023,2,2,"국어","독서(4)","1(2학년 1반)","2학년","1반",19," 남궁준희"]
[2023,2,2,"국어","독서(4)","1(2학년 1반)","2학년","1반",20," 남궁예은"]
[2023,2,2,"국어","독서(4)","1(2학년 1반)","2학년","1반",21," 남궁연희"]
[2023,2,2,"국어","독서(4)","1(2학년 1반)","2학년","1반",22," 남궁인수"]
[2023,2,2,"국어","독서(4)","1(2학년 1반)","2학년","1반",23," 남궁지아"]
[2023,2,2,"국어","독서(4)","1(2학년 1반)","2학년","1반",24," 남궁하린"]
[2023,2,2,"국어","독서(4)","2(2학년 2반)","2학년","2반",1," 남궁윤지"]
[2023,2,2,"국어","독서(4)","2(2학년 2반)","2학년","2반",2," 남궁서윤"]
[2023,2,2,"국어","독서(4)","2(2학년 2반)","2학년","2반",3," 남궁민재"]
[2023,2,2,"국어","독서(4)","2(2학년 2반)","2학년","2반",4," 남궁지후"]
[2023,2,2,"국어","독서(4)","2(2학년 2반)","2학년","2반",5," 남궁예준"]
[2023,2,2,"국어","독서(4)","2(2학년 2반)","2학년","2반",6," 남궁하윤"]
[2023,2,2,"국어","독서(4)","2(2학년 2반)","2학년","2반",7," 남궁유진"]
[2023,2,2,"국어","독서(4)","2(2학년 2반)","2학년","2반",8," 남궁은우"]
[2023,2,2,"국어","독서(4)","2(2학년 2반)","2학년","2반",9," 남궁예은"]
[2023,2,2,"국어","독서(4)","2(2학년 2반)","2학년","2반",10," 남궁시아"]
[2023,2,2,"국어","독서(4)","2(2학년 2반)","2학년","2반",11," 남궁미나"]
[2023,2,2,"국어","독서(4)","2(2학년 2반)","2학년","2반",12," 남궁지은"]
[2023,2,2,"국어","독서(4)","2(2학년 2반)","2학년","2반",13," 남궁서아"]
[2023,2,2,"국어","독서(4)","2(2학년 2반)","2학년","2반",15," 남궁하은"]
[2023,2,2,"국어","독서(4)","2(2학년 2반)","2학년","2반",16," 남궁예린"]
[2023,2,2,"국어","독서(4)","2(2학년 2반)","2학년","2반",17," 남궁윤우"]
[2023,2,2,"국어","독서(4)","2(2학년 2반)","2학년","2반",18," 남궁리나"]
[2023,2,2,"국어","독서(4)","2(2학년 2반)","2학년","2반",19," 남궁소율"]
[2023,2,2,"국어","독서(4)","2(2학년 2반)","2학년","2반",20," 남궁은하"]
[2023,2,2,"국어","독서(4)","2(2학년 2반)","2학년","2반",21," 남궁서하"]
[2023,2,2,"국어","독서(4)","2(2학년 2반)","2학년","2반",22," 남궁민아"]
[2023,2,2,"국어","독서(4)","2(2학년 2반)","2학년","2반",23," 남궁지유"]
[2023,2,2,"국어","독서(4)","2(2학년 2반)","2학년","2반",24," 남궁하나"]
[2023,2,2,"국어","독서(4)","3(2학년 3반)","2학년","3반",1," 남궁은설"]
[2023,2,2,"국어","독서(4)","3(2학년 3반)","2학년","3반",2," 남궁예나"]
[2023,2,2,"국어","독서(4)","3(2학년 3반)","2학년","3반",4," 남궁유미"]
[2023,2,2,"국어","독서(4)","3(2학년 3반)","2학년","3반",5,"남궁빈"]
[2023,2,2,"국어","독서(4)","3(2학년 3반)","2학년","3반",6,"남궁론"]
[2023,2,2,"국어","독서(4)","3(2학년 3반)","2학년","3반",7,"남궁송"]
[2023,2,2,"국어","독서(4)","3(2학년 3반)","2학년","3반",9,"남궁린"]
[2023,2,2,"국어","독서(4)","3(2학년 3반)","2학년","3반",10,"남궁휸"]
[2023,2,2,"국어","독서(4)","3(2학년 3반)","2학년","3반",11,"남궁봉"]
[2023,2,2,"국어","독서(4)","3(2학년 3반)","2학년","3반",12,"남궁향"]
[2023,2,2,"국어","독서(4)","3(2학년 3반)","2학년","3반",13,"남궁순"]
[2023,2,2,"국어","독서(4)","3(2학년 3반)","2학년","3반",14,"남궁운"]
[2023,2,2,"국어","독서(4)","3(2학년 3반)","2학년","3반",15,"남궁묘"]
[2023,2,2,"국어","독서(4)","3(2학년 3반)","2학년","3반",16,"남궁비"]
[2023,2,2,"국어","독서(4)","3(2학년 3반)","2학년","3반",17,"남궁띤"]
[2023,2,2,"국어","독서(4)","3(2학년 3반)","2학년","3반",18,"남궁뭉"]
[2023,2,2,"국어","독서(4)","3(2학년 3반)","2학년","3반",19,"남궁륜"]
[2023,2,2,"국어","독서(4)","3(2학년 3반)","2학년","3반",20,"남궁령"]
[2023,2,2,"국어","독서(4)","3(2학년 3반)","2학년","3반",21,"남궁별"]
[2023,2,2,"국어","독서(4)","3(2학년 3반)","2학년","3반",22,"남궁반"]
[2023,2,2,"국어","독서(4)","3(2학년 3반)","2학년","3반",23,"남궁팬"]
[2023,2,2,"국어","독서(4)","3(2학년 3반)","2학년","3반",24,"남궁폰"]
[2023,2,2,"국어","독서(4)","4(2학년 4반)","2학년","4반",1,"남궁품"]
[2023,2,2,"국어","독서(4)","4(2학년 4반)","2학년","4반",2,"남궁핀"]
[2023,2,2,"국어","독서(4)","4(2학년 4반)","2학년","4반",3,"남궁헌"]
[2023,2,2,"국어","독서(4)","4(2학년 4반)","2학년","4반",4,"남궁형"]
[2023,2,2,"국어","독서(4)","4(2학년 4반)","2학년","4반",5,"남궁흥"]
[2023,2,2,"국어","독서(4)","4(2학년 4반)","2학년","4반",6,"남궁옌"]
[2023,2,2,"국어","독서(4)","4(2학년 4반)","2학년","4반",7,"남궁요"]
[2023,2,2,"국어","독서(4)","4(2학년 4반)","2학년","4반",8,"남궁림"]
[2023,2,2,"국어","독서(4)","4(2학년 4반)","2학년","4반",10,"남궁심"]
[2023,2,2,"국어","독서(4)","4(2학년 4반)","2학년","4반",11,"남궁셈"]
[2023,2,2,"국어","독서(4)","4(2학년 4반)","2학년","4반",12,"남궁연"]
[2023,2,2,"국어","독서(4)","4(2학년 4반)","2학년","4반",13," 남궁민아"]
[2023,2,2,"국어","독서(4)","4(2학년 4반)","2학년","4반",14," 남궁수진"]
[2023,2,2,"국어","독서(4)","4(2학년 4반)","2학년","4반",15," 남궁재희"]
[2023,2,2,"국어","독서(4)","4(2학년 4반)","2학년","4반",16," 남궁지아"]
[2023,2,2,"국어","독서(4)","4(2학년 4반)","2학년","4반",17," 남궁하은"]
[2023,2,2,"국어","독서(4)","4(2학년 4반)","2학년","4반",18," 남궁윤서"]
[2023,2,2,"국어","독서(4)","4(2학년 4반)","2학년","4반",19," 남궁은지"]
[2023,2,2,"국어","독서(4)","4(2학년 4반)","2학년","4반",20," 남궁지영"]
[2023,2,2,"국어","독서(4)","4(2학년 4반)","2학년","4반",21," 남궁예린"]
[2023,2,2,"국어","독서(4)","4(2학년 4반)","2학년","4반",22," 남궁하린"]
[2023,2,2,"국어","독서(4)","4(2학년 4반)","2학년","4반",23," 남궁소영"]
[2023,2,2,"국어","독서(4)","5(2학년 5반)","2학년","5반",1," 남궁민석"]
[2023,2,2,"국어","독서(4)","5(2학년 5반)","2학년","5반",2," 남궁지우"]
[2023,2,2,"국어","독서(4)","5(2학년 5반)","2학년","5반",3," 남궁세영"]
[2023,2,2,"국어","독서(4)","5(2학년 5반)","2학년","5반",4," 남궁유진"]
[2023,2,2,"국어","독서(4)","5(2학년 5반)","2학년","5반",5," 남궁은우"]
[2023,2,2,"국어","독서(4)","5(2학년 5반)","2학년","5반",6," 남궁하준"]
[2023,2,2,"국어","독서(4)","5(2학년 5반)","2학년","5반",7," 남궁서윤"]
[2023,2,2,"국어","독서(4)","5(2학년 5반)","2학년","5반",8," 남궁준희"]
[2023,2,2,"국어","독서(4)","5(2학년 5반)","2학년","5반",9," 남궁예은"]
[2023,2,2,"국어","독서(4)","5(2학년 5반)","2학년","5반",10," 남궁연희"]
[2023,2,2,"국어","독서(4)","5(2학년 5반)","2학년","5반",11," 남궁인수"]
[2023,2,2,"국어","독서(4)","5(2학년 5반)","2학년","5반",12," 남궁지아"]
[2023,2,2,"국어","독서(4)","5(2학년 5반)","2학년","5반",13," 남궁하린"]
[2023,2,2,"국어","독서(4)","5(2학년 5반)","2학년","5반",14," 남궁윤지"]
[2023,2,2,"국어","독서(4)","5(2학년 5반)","2학년","5반",16," 남궁서윤"]
[2023,2,2,"국어","독서(4)","5(2학년 5반)","2학년","5반",17," 남궁민재"]
[2023,2,2,"국어","독서(4)","5(2학년 5반)","2학년","5반",18," 남궁지후"]
[2023,2,2,"국어","독서(4)","5(2학년 5반)","2학년","5반",19," 남궁예준"]
[2023,2,2,"국어","독서(4)","5(2학년 5반)","2학년","5반",20," 남궁하윤"]
[2023,2,2,"국어","독서(4)","5(2학년 5반)","2학년","5반",22," 남궁유진"]
[2023,2,2,"국어","독서(4)","5(2학년 5반)","2학년","5반",23," 남궁은우"]
[2023,2,2,"국어","독서(4)","6(2학년 6반)","2학년","6반",1," 남궁예은"]
[2023,2,2,"국어","독서(4)","6(2학년 6반)","2학년","6반",2," 남궁시아"]
[2023,2,2,"국어","독서(4)","6(2학년 6반)","2학년","6반",3," 남궁미나"]
[2023,2,2,"국어","독서(4)","6(2학년 6반)","2학년","6반",4," 남궁지은"]
[2023,2,2,"국어","독서(4)","6(2학년 6반)","2학년","6반",5," 남궁서아"]
[2023,2,2,"국어","독서(4)","6(2학년 6반)","2학년","6반",6," 남궁하은"]
[2023,2,2,"국어","독서(4)","6(2학년 6반)","2학년","6반",7," 남궁예린"]
[2023,2,2,"국어","독서(4)","6(2학년 6반)","2학년","6반",8," 남궁윤우"]
[2023,2,2,"국어","독서(4)","6(2학년 6반)","2학년","6반",9," 남궁리나"]
[2023,2,2,"국어","독서(4)","6(2학년 6반)","2학년","6반",10," 남궁소율"]
[2023,2,2,"국어","독서(4)","6(2학년 6반)","2학년","6반",11," 남궁은하"]
[2023,2,2,"국어","독서(4)","6(2학년 6반)","2학년","6반",12," 남궁서하"]
[2023,2,2,"국어","독서(4)","6(2학년 6반)","2학년","6반",13," 남궁민아"]
[2023,2,2,"국어","독서(4)","6(2학년 6반)","2학년","6반",14," 남궁지유"]
[2023,2,2,"국어","독서(4)","6(2학년 6반)","2학년","6반",15," 남궁하나"]
[2023,2,2,"국어","독서(4)","6(2학년 6반)","2학년","6반",16," 남궁은설"]
[2023,2,2,"국어","독서(4)","6(2학년 6반)","2학년","6반",17," 남궁예나"]
[2023,2,2,"국어","독서(4)","6(2학년 6반)","2학년","6반",18," 남궁유미"]
[2023,2,2,"국어","독서(4)","6(2학년 6반)","2학년","6반",19,"남궁빈"]
[2023,2,2,"국어","독서(4)","6(2학년 6반)","2학년","6반",20,"남궁론"]
[2023,2,2,"국어","독서(4)","6(2학년 6반)","2학년","6반",21,"남궁송"]
[2023,2,2,"국어","독서(4)","6(2학년 6반)","2학년","6반",22,"남궁린"]
[2023,2,2,"국어","독서(4)","6(2학년 6반)","2학년","6반",23,"남궁휸"]
[2023,2,2,"국어","독서(4)","6(2학년 6반)","2학년","6반",24,"남궁봉"]
[2023,2,2,"국어","독서(4)","7(2학년 7반)","2학년","7반",1,"남궁향"]
[2023,2,2,"국어","독서(4)","7(2학년 7반)","2학년","7반",2,"남궁순"]
[2023,2,2,"국어","독서(4)","7(2학년 7반)","2학년","7반",3,"남궁운"]
[2023,2,2,"국어","독서(4)","7(2학년 7반)","2학년","7반",4,"남궁묘"]
[2023,2,2,"국어","독서(4)","7(2학년 7반)","2학년","7반",5,"남궁비"]
[2023,2,2,"국어","독서(4)","7(2학년 7반)","2학년","7반",6,"남궁띤"]
[2023,2,2,"국어","독서(4)","7(2학년 7반)","2학년","7반",7,"남궁뭉"]
[2023,2,2,"국어","독서(4)","7(2학년 7반)","2학년","7반",8,"남궁륜"]
[2023,2,2,"국어","독서(4)","7(2학년 7반)","2학년","7반",9,"남궁령"]
[2023,2,2,"국어","독서(4)","7(2학년 7반)","2학년","7반",10,"남궁별"]
[2023,2,2,"국어","독서(4)","7(2학년 7반)","2학년","7반",11,"남궁반"]
[2023,2,2,"국어","독서(4)","7(2학년 7반)","2학년","7반",12,"남궁팬"]
[2023,2,2,"국어","독서(4)","7(2학년 7반)","2학년","7반",13,"남궁폰"]
[2023,2,2,"국어","독서(4)","7(2학년 7반)","2학년","7반",14,"남궁품"]
[2023,2,2,"국어","독서(4)","7(2학년 7반)","2학년","7반",15,"남궁핀"]
[2023,2,2,"국어","독서(4)","7(2학년 7반)","2학년","7반",16,"남궁헌"]
[2023,2,2,"국어","독서(4)","7(2학년 7반)","2학년","7반",17,"남궁형"]
[2023,2,2,"국어","독서(4)","7(2학년 7반)","2학년","7반",18,"남궁흥"]
[2023,2,2,"국어","독서(4)","7(2학년 7반)","2학년","7반",19,"남궁옌"]
[2023,2,2,"국어","독서(4)","7(2학년 7반)","2학년","7반",20,"남궁요"]
[2023,2,2,"국어","독서(4)","7(2학년 7반)","2학년","7반",21,"남궁림"]
[2023,2,2,"국어","독서(4)","7(2학년 7반)","2학년","7반",22,"남궁심"]
[2023,2,2,"국어","독서(4)","7(2학년 7반)","2학년","7반",23,"남궁셈"]
[2023,2,2,"국어","독서(4)","7(2학년 7반)","2학년","7반",24,"남궁연"]
[2023,2,2,"국어","독서(4)","8(2학년 8반)","2학년","8반",1," 남궁민아"]
[2023,2,2,"국어","독서(4)","8(2학년 8반)","2학년","8반",2," 남궁수진"]
[2023,2,2,"국어","독서(4)","8(2학년 8반)","2학년","8반",3," 남궁재희"]
[2023,2,2,"국어","독서(4)","8(2학년 8반)","2학년","8반",4," 남궁지아"]
[2023,2,2,"국어","독서(4)","8(2학년 8반)","2학년","8반",5," 남궁하은"]
[2023,2,2,"국어","독서(4)","8(2학년 8반)","2학년","8반",7," 남궁윤서"]
[2023,2,2,"국어","독서(4)","8(2학년 8반)","2학년","8반",8," 남궁은지"]
[2023,2,2,"국어","독서(4)","8(2학년 8반)","2학년","8반",9," 남궁지영"]
[2023,2,2,"국어","독서(4)","8(2학년 8반)","2학년","8반",10," 남궁예린"]
[2023,2,2,"국어","독서(4)","8(2학년 8반)","2학년","8반",11," 남궁하린"]
[2023,2,2,"국어","독서(4)","8(2학년 8반)","2학년","8반",12," 남궁소영"]
[2023,2,2,"국어","독서(4)","8(2학년 8반)","2학년","8반",13," 남궁민석"]
[2023,2,2,"국어","독서(4)","8(2학년 8반)","2학년","8반",14," 남궁지우"]
[2023,2,2,"국어","독서(4)","8(2학년 8반)","2학년","8반",15," 남궁세영"]
[2023,2,2,"국어","독서(4)","8(2학년 8반)","2학년","8반",16," 남궁유진"]
[2023,2,2,"국어","독서(4)","8(2학년 8반)","2학년","8반",17," 남궁은우"]
[2023,2,2,"국어","독서(4)","8(2학년 8반)","2학년","8반",18," 남궁하준"]
[2023,2,2,"국어","독서(4)","8(2학년 8반)","2학년","8반",19," 남궁서윤"]
[2023,2,2,"국어","독서(4)","8(2학년 8반)","2학년","8반",20," 남궁준희"]
[2023,2,2,"국어","독서(4)","8(2학년 8반)","2학년","8반",21," 남궁예은"]
[2023,2,2,"국어","독서(4)","8(2학년 8반)","2학년","8반",22," 남궁연희"]
[2023,2,2,"국어","독서(4)","8(2학년 8반)","2학년","8반",23," 남궁인수"]
[2023,2,2,"국어","독서(4)","8(2학년 8반)","2학년","8반",24," 남궁지아"]
[2023,2,2,"국어","독서(4)","9(2학년 9반)","2학년","9반",1," 남궁하린"]
[2023,2,2,"국어","독서(4)","9(2학년 9반)","2학년","9반",2," 남궁윤지"]
[2023,2,2,"국어","독서(4)","9(2학년 9반)","2학년","9반",3," 남궁서윤"]
[2023,2,2,"국어","독서(4)","9(2학년 9반)","2학년","9반",4," 남궁민재"]
[2023,2,2,"국어","독서(4)","9(2학년 9반)","2학년","9반",5," 남궁지후"]
[2023,2,2,"국어","독서(4)","9(2학년 9반)","2학년","9반",6," 남궁예준"]
[2023,2,2,"국어","독서(4)","9(2학년 9반)","2학년","9반",7," 남궁하윤"]
[2023,2,2,"국어","독서(4)","9(2학년 9반)","2학년","9반",8," 남궁유진"]
[2023,2,2,"국어","독서(4)","9(2학년 9반)","2학년","9반",9," 남궁은우"]
[2023,2,2,"국어","독서(4)","9(2학년 9반)","2학년","9반",10," 남궁예은"]
[2023,2,2,"국어","독서(4)","9(2학년 9반)","2학년","9반",11," 남궁시아"]
[2023,2,2,"국어","독서(4)","9(2학년 9반)","2학년","9반",12," 남궁미나"]
[2023,2,2,"국어","독서(4)","9(2학년 9반)","2학년","9반",13," 남궁지은"]
[2023,2,2,"국어","독서(4)","9(2학년 9반)","2학년","9반",14," 남궁서아"]
[2023,2,2,"국어","독서(4)","9(2학년 9반)","2학년","9반",15," 남궁하은"]
[2023,2,2,"국어","독서(4)","9(2학년 9반)","2학년","9반",16," 남궁예린"]
[2023,2,2,"국어","독서(4)","9(2학년 9반)","2학년","9반",17," 남궁윤우"]
[2023,2,2,"국어","독서(4)","9(2학년 9반)","2학년","9반",18," 남궁리나"]
[2023,2,2,"국어","독서(4)","9(2학년 9반)","2학년","9반",19," 남궁소율"]
[2023,2,2,"국어","독서(4)","9(2학년 9반)","2학년","9반",20," 남궁은하"]
[2023,2,2,"국어","독서(4)","9(2학년 9반)","2학년","9반",21," 남궁서하"]
[2023,2,2,"국어","독서(4)","9(2학년 9반)","2학년","9반",22," 남궁민아"]
[2023,2,2,"국어","독서(4)","9(2학년 9반)","2학년","9반",23," 남궁지유"]
[2023,2,2,"국어","독서(4)","9(2학년 9반)","2학년","9반",24," 남궁하나"]
[2023,2,2,"국어","독서(4)","9(2학년 9반)","2학년","9반",25," 남궁은설"]
[2023,2,2,"수학","수학Ⅱ(4)","1(2학년 1반)","2학년","1반",1," 남궁예나"]
[2023,2,2,"수학","수학Ⅱ(4)","1(2학년 1반)","2학년","1반",2," 남궁유미"]
[2023,2,2,"수학","수학Ⅱ(4)","1(2학년 1반)","2학년","1반",3,"남궁빈"]
[2023,2,2,"수학","수학Ⅱ(4)","1(2학년 1반)","2학년","1반",4,"남궁론"]
[2023,2,2,"수학","수학Ⅱ(4)","1(2학년 1반)","2학년","1반",5,"남궁송"]
[2023,2,2,"수학","수학Ⅱ(4)","1(2학년 1반)","2학년","1반",6," 남궁민아"]
[2023,2,2,"수학","수학Ⅱ(4)","1(2학년 1반)","2학년","1반",7," 남궁수진"]
[2023,2,2,"수학","수학Ⅱ(4)","1(2학년 1반)","2학년","1반",8," 남궁재희"]
[2023,2,2,"수학","수학Ⅱ(4)","1(2학년 1반)","2학년","1반",9," 남궁지아"]
[2023,2,2,"수학","수학Ⅱ(4)","1(2학년 1반)","2학년","1반",10," 남궁하은"]
[2023,2,2,"수학","수학Ⅱ(4)","1(2학년 1반)","2학년","1반",11," 남궁윤서"]
[2023,2,2,"수학","수학Ⅱ(4)","1(2학년 1반)","2학년","1반",12," 남궁은지"]
[2023,2,2,"수학","수학Ⅱ(4)","1(2학년 1반)","2학년","1반",13," 남궁지영"]
[2023,2,2,"수학","수학Ⅱ(4)","1(2학년 1반)","2학년","1반",14," 남궁예린"]
[2023,2,2,"수학","수학Ⅱ(4)","1(2학년 1반)","2학년","1반",15," 남궁하린"]
[2023,2,2,"수학","수학Ⅱ(4)","1(2학년 1반)","2학년","1반",16," 남궁소영"]
[2023,2,2,"수학","수학Ⅱ(4)","1(2학년 1반)","2학년","1반",17," 남궁민석"]
[2023,2,2,"수학","수학Ⅱ(4)","1(2학년 1반)","2학년","1반",18," 남궁지우"]
[2023,2,2,"수학","수학Ⅱ(4)","1(2학년 1반)","2학년","1반",19," 남궁세영"]
[2023,2,2,"수학","수학Ⅱ(4)","1(2학년 1반)","2학년","1반",20," 남궁유진"]
[2023,2,2,"수학","수학Ⅱ(4)","1(2학년 1반)","2학년","1반",21," 남궁은우"]
[2023,2,2,"수학","수학Ⅱ(4)","1(2학년 1반)","2학년","1반",22," 남궁하준"]
[2023,2,2,"수학","수학Ⅱ(4)","1(2학년 1반)","2학년","1반",23," 남궁서윤"]
[2023,2,2,"수학","수학Ⅱ(4)","1(2학년 1반)","2학년","1반",24," 남궁준희"]
[2023,2,2,"수학","수학Ⅱ(4)","2(2학년 2반)","2학년","2반",1," 남궁예은"]
[2023,2,2,"수학","수학Ⅱ(4)","2(2학년 2반)","2학년","2반",2," 남궁연희"]
[2023,2,2,"수학","수학Ⅱ(4)","2(2학년 2반)","2학년","2반",3," 남궁인수"]
[2023,2,2,"수학","수학Ⅱ(4)","2(2학년 2반)","2학년","2반",4," 남궁지아"]
[2023,2,2,"수학","수학Ⅱ(4)","2(2학년 2반)","2학년","2반",5," 남궁하린"]
[2023,2,2,"수학","수학Ⅱ(4)","2(2학년 2반)","2학년","2반",6," 남궁윤지"]
[2023,2,2,"수학","수학Ⅱ(4)","2(2학년 2반)","2학년","2반",7," 남궁서윤"]
[2023,2,2,"수학","수학Ⅱ(4)","2(2학년 2반)","2학년","2반",8," 남궁민재"]
[2023,2,2,"수학","수학Ⅱ(4)","2(2학년 2반)","2학년","2반",9," 남궁지후"]
[2023,2,2,"수학","수학Ⅱ(4)","2(2학년 2반)","2학년","2반",10," 남궁예준"]
[2023,2,2,"수학","수학Ⅱ(4)","2(2학년 2반)","2학년","2반",11," 남궁하윤"]
[2023,2,2,"수학","수학Ⅱ(4)","2(2학년 2반)","2학년","2반",12," 남궁유진"]
[2023,2,2,"수학","수학Ⅱ(4)","2(2학년 2반)","2학년","2반",13," 남궁은우"]
[2023,2,2,"수학","수학Ⅱ(4)","2(2학년 2반)","2학년","2반",15," 남궁예은"]
[2023,2,2,"수학","수학Ⅱ(4)","2(2학년 2반)","2학년","2반",16," 남궁시아"]
[2023,2,2,"수학","수학Ⅱ(4)","2(2학년 2반)","2학년","2반",17," 남궁미나"]
[2023,2,2,"수학","수학Ⅱ(4)","2(2학년 2반)","2학년","2반",18," 남궁지은"]
[2023,2,2,"수학","수학Ⅱ(4)","2(2학년 2반)","2학년","2반",19," 남궁서아"]
[2023,2,2,"수학","수학Ⅱ(4)","2(2학년 2반)","2학년","2반",20," 남궁하은"]
[2023,2,2,"수학","수학Ⅱ(4)","2(2학년 2반)","2학년","2반",21," 남궁예린"]
[2023,2,2,"수학","수학Ⅱ(4)","2(2학년 2반)","2학년","2반",22," 남궁윤우"]
[2023,2,2,"수학","수학Ⅱ(4)","2(2학년 2반)","2학년","2반",23," 남궁리나"]
[2023,2,2,"수학","수학Ⅱ(4)","2(2학년 2반)","2학년","2반",24," 남궁소율"]
[2023,2,2,"수학","수학Ⅱ(4)","3(2학년 3반)","2학년","3반",1," 남궁은하"]
[2023,2,2,"수학","수학Ⅱ(4)","3(2학년 3반)","2학년","3반",2," 남궁서하"]
[2023,2,2,"수학","수학Ⅱ(4)","3(2학년 3반)","2학년","3반",4," 남궁민아"]
[2023,2,2,"수학","수학Ⅱ(4)","3(2학년 3반)","2학년","3반",5," 남궁지유"]
[2023,2,2,"수학","수학Ⅱ(4)","3(2학년 3반)","2학년","3반",6," 남궁하나"]
[2023,2,2,"수학","수학Ⅱ(4)","3(2학년 3반)","2학년","3반",7," 남궁은설"]
[2023,2,2,"수학","수학Ⅱ(4)","3(2학년 3반)","2학년","3반",9," 남궁예나"]
[2023,2,2,"수학","수학Ⅱ(4)","3(2학년 3반)","2학년","3반",10," 남궁유미"]
[2023,2,2,"수학","수학Ⅱ(4)","3(2학년 3반)","2학년","3반",11,"남궁빈"]
[2023,2,2,"수학","수학Ⅱ(4)","3(2학년 3반)","2학년","3반",12,"남궁론"]
[2023,2,2,"수학","수학Ⅱ(4)","3(2학년 3반)","2학년","3반",13,"남궁송"]
[2023,2,2,"수학","수학Ⅱ(4)","3(2학년 3반)","2학년","3반",14,"남궁린"]
[2023,2,2,"수학","수학Ⅱ(4)","3(2학년 3반)","2학년","3반",15,"남궁휸"]
[2023,2,2,"수학","수학Ⅱ(4)","3(2학년 3반)","2학년","3반",16,"남궁봉"]
[2023,2,2,"수학","수학Ⅱ(4)","3(2학년 3반)","2학년","3반",17,"남궁향"]
[2023,2,2,"수학","수학Ⅱ(4)","3(2학년 3반)","2학년","3반",18,"남궁순"]
[2023,2,2,"수학","수학Ⅱ(4)","3(2학년 3반)","2학년","3반",19,"남궁운"]
[2023,2,2,"수학","수학Ⅱ(4)","3(2학년 3반)","2학년","3반",20,"남궁묘"]
[2023,2,2,"수학","수학Ⅱ(4)","3(2학년 3반)","2학년","3반",21,"남궁비"]
[2023,2,2,"수학","수학Ⅱ(4)","3(2학년 3반)","2학년","3반",22,"남궁띤"]
[2023,2,2,"수학","수학Ⅱ(4)","3(2학년 3반)","2학년","3반",23,"남궁뭉"]
[2023,2,2,"수학","수학Ⅱ(4)","3(2학년 3반)","2학년","3반",24,"남궁륜"]
[2023,2,2,"수학","수학Ⅱ(4)","4(2학년 4반)","2학년","4반",1,"남궁령"]
[2023,2,2,"수학","수학Ⅱ(4)","4(2학년 4반)","2학년","4반",2,"남궁별"]
[2023,2,2,"수학","수학Ⅱ(4)","4(2학년 4반)","2학년","4반",3,"남궁반"]
[2023,2,2,"수학","수학Ⅱ(4)","4(2학년 4반)","2학년","4반",4,"남궁팬"]
[2023,2,2,"수학","수학Ⅱ(4)","4(2학년 4반)","2학년","4반",5,"남궁폰"]
[2023,2,2,"수학","수학Ⅱ(4)","4(2학년 4반)","2학년","4반",6,"남궁품"]
[2023,2,2,"수학","수학Ⅱ(4)","4(2학년 4반)","2학년","4반",7,"남궁핀"]
[2023,2,2,"수학","수학Ⅱ(4)","4(2학년 4반)","2학년","4반",8,"남궁헌"]
[2023,2,2,"수학","수학Ⅱ(4)","4(2학년 4반)","2학년","4반",10,"남궁형"]
[2023,2,2,"수학","수학Ⅱ(4)","4(2학년 4반)","2학년","4반",11,"남궁흥"]
[2023,2,2,"수학","수학Ⅱ(4)","4(2학년 4반)","2학년","4반",12,"남궁옌"]
[2023,2,2,"수학","수학Ⅱ(4)","4(2학년 4반)","2학년","4반",13,"남궁요"]
[2023,2,2,"수학","수학Ⅱ(4)","4(2학년 4반)","2학년","4반",14,"남궁림"]
[2023,2,2,"수학","수학Ⅱ(4)","4(2학년 4반)","2학년","4반",15,"남궁심"]
[2023,2,2,"수학","수학Ⅱ(4)","4(2학년 4반)","2학년","4반",16,"남궁셈"]
[2023,2,2,"수학","수학Ⅱ(4)","4(2학년 4반)","2학년","4반",17,"남궁연"]
[2023,2,2,"수학","수학Ⅱ(4)","4(2학년 4반)","2학년","4반",18," 남궁민아"]
[2023,2,2,"수학","수학Ⅱ(4)","4(2학년 4반)","2학년","4반",19," 남궁수진"]
[2023,2,2,"수학","수학Ⅱ(4)","4(2학년 4반)","2학년","4반",20," 남궁재희"]
[2023,2,2,"수학","수학Ⅱ(4)","4(2학년 4반)","2학년","4반",21," 남궁지아"]
[2023,2,2,"수학","수학Ⅱ(4)","4(2학년 4반)","2학년","4반",22," 남궁하은"]
[2023,2,2,"수학","수학Ⅱ(4)","4(2학년 4반)","2학년","4반",23," 남궁윤서"]
[2023,2,2,"수학","수학Ⅱ(4)","5(2학년 5반)","2학년","5반",1," 남궁은지"]
[2023,2,2,"수학","수학Ⅱ(4)","5(2학년 5반)","2학년","5반",2," 남궁지영"]
[2023,2,2,"수학","수학Ⅱ(4)","5(2학년 5반)","2학년","5반",3," 남궁예린"]
[2023,2,2,"수학","수학Ⅱ(4)","5(2학년 5반)","2학년","5반",4," 남궁하린"]
[2023,2,2,"수학","수학Ⅱ(4)","5(2학년 5반)","2학년","5반",5," 남궁소영"]
[2023,2,2,"수학","수학Ⅱ(4)","5(2학년 5반)","2학년","5반",6," 남궁민석"]
[2023,2,2,"수학","수학Ⅱ(4)","5(2학년 5반)","2학년","5반",7," 남궁지우"]
[2023,2,2,"수학","수학Ⅱ(4)","5(2학년 5반)","2학년","5반",8," 남궁세영"]
[2023,2,2,"수학","수학Ⅱ(4)","5(2학년 5반)","2학년","5반",9," 남궁유진"]
[2023,2,2,"수학","수학Ⅱ(4)","5(2학년 5반)","2학년","5반",10," 남궁은우"]
[2023,2,2,"수학","수학Ⅱ(4)","5(2학년 5반)","2학년","5반",11," 남궁하준"]
[2023,2,2,"수학","수학Ⅱ(4)","5(2학년 5반)","2학년","5반",12," 남궁서윤"]
[2023,2,2,"수학","수학Ⅱ(4)","5(2학년 5반)","2학년","5반",13," 남궁준희"]
[2023,2,2,"수학","수학Ⅱ(4)","5(2학년 5반)","2학년","5반",14," 남궁예은"]
[2023,2,2,"수학","수학Ⅱ(4)","5(2학년 5반)","2학년","5반",16," 남궁연희"]
[2023,2,2,"수학","수학Ⅱ(4)","5(2학년 5반)","2학년","5반",17," 남궁인수"]
[2023,2,2,"수학","수학Ⅱ(4)","5(2학년 5반)","2학년","5반",18," 남궁지아"]
[2023,2,2,"수학","수학Ⅱ(4)","5(2학년 5반)","2학년","5반",19," 남궁하린"]
[2023,2,2,"수학","수학Ⅱ(4)","5(2학년 5반)","2학년","5반",20," 남궁윤지"]
[2023,2,2,"수학","수학Ⅱ(4)","5(2학년 5반)","2학년","5반",22," 남궁서윤"]
[2023,2,2,"수학","수학Ⅱ(4)","5(2학년 5반)","2학년","5반",23," 남궁민재"]
[2023,2,2,"수학","수학Ⅱ(4)","6(2학년 6반)","2학년","6반",1," 남궁지후"]
[2023,2,2,"수학","수학Ⅱ(4)","6(2학년 6반)","2학년","6반",2," 남궁예준"]
[2023,2,2,"수학","수학Ⅱ(4)","6(2학년 6반)","2학년","6반",3," 남궁하윤"]
[2023,2,2,"수학","수학Ⅱ(4)","6(2학년 6반)","2학년","6반",4," 남궁유진"]
[2023,2,2,"수학","수학Ⅱ(4)","6(2학년 6반)","2학년","6반",5," 남궁은우"]
[2023,2,2,"수학","수학Ⅱ(4)","6(2학년 6반)","2학년","6반",6," 남궁예은"]
[2023,2,2,"수학","수학Ⅱ(4)","6(2학년 6반)","2학년","6반",7," 남궁시아"]
[2023,2,2,"수학","수학Ⅱ(4)","6(2학년 6반)","2학년","6반",8," 남궁미나"]
[2023,2,2,"수학","수학Ⅱ(4)","6(2학년 6반)","2학년","6반",9," 남궁지은"]
[2023,2,2,"수학","수학Ⅱ(4)","6(2학년 6반)","2학년","6반",10," 남궁서아"]
[2023,2,2,"수학","수학Ⅱ(4)","6(2학년 6반)","2학년","6반",11," 남궁하은"]
[2023,2,2,"수학","수학Ⅱ(4)","6(2학년 6반)","2학년","6반",12," 남궁예린"]
[2023,2,2,"수학","수학Ⅱ(4)","6(2학년 6반)","2학년","6반",13," 남궁윤우"]
[2023,2,2,"수학","수학Ⅱ(4)","6(2학년 6반)","2학년","6반",14," 남궁리나"]
[2023,2,2,"수학","수학Ⅱ(4)","6(2학년 6반)","2학년","6반",15," 남궁소율"]
[2023,2,2,"수학","수학Ⅱ(4)","6(2학년 6반)","2학년","6반",16," 남궁은하"]
[2023,2,2,"수학","수학Ⅱ(4)","6(2학년 6반)","2학년","6반",17," 남궁서하"]
[2023,2,2,"수학","수학Ⅱ(4)","6(2학년 6반)","2학년","6반",18," 남궁민아"]
[2023,2,2,"수학","수학Ⅱ(4)","6(2학년 6반)","2학년","6반",19," 남궁지유"]
[2023,2,2,"수학","수학Ⅱ(4)","6(2학년 6반)","2학년","6반",20," 남궁하나"]
[2023,2,2,"수학","수학Ⅱ(4)","6(2학년 6반)","2학년","6반",21," 남궁은설"]
[2023,2,2,"수학","수학Ⅱ(4)","6(2학년 6반)","2학년","6반",22," 남궁예나"]
[2023,2,2,"수학","수학Ⅱ(4)","6(2학년 6반)","2학년","6반",23," 남궁유미"]
[2023,2,2,"수학","수학Ⅱ(4)","6(2학년 6반)","2학년","6반",24,"남궁빈"]
[2023,2,2,"수학","수학Ⅱ(4)","7(2학년 7반)","2학년","7반",1,"남궁론"]
[2023,2,2,"수학","수학Ⅱ(4)","7(2학년 7반)","2학년","7반",2,"남궁송"]
[2023,2,2,"수학","수학Ⅱ(4)","7(2학년 7반)","2학년","7반",3,"남궁린"]
[2023,2,2,"수학","수학Ⅱ(4)","7(2학년 7반)","2학년","7반",4,"남궁휸"]
[2023,2,2,"수학","수학Ⅱ(4)","7(2학년 7반)","2학년","7반",5,"남궁봉"]
[2023,2,2,"수학","수학Ⅱ(4)","7(2학년 7반)","2학년","7반",6,"남궁향"]
[2023,2,2,"수학","수학Ⅱ(4)","7(2학년 7반)","2학년","7반",7,"남궁순"]
[2023,2,2,"수학","수학Ⅱ(4)","7(2학년 7반)","2학년","7반",8,"남궁운"]
[2023,2,2,"수학","수학Ⅱ(4)","7(2학년 7반)","2학년","7반",9,"남궁묘"]
[2023,2,2,"수학","수학Ⅱ(4)","7(2학년 7반)","2학년","7반",10,"남궁비"]
[2023,2,2,"수학","수학Ⅱ(4)","7(2학년 7반)","2학년","7반",11,"남궁띤"]
[2023,2,2,"수학","수학Ⅱ(4)","7(2학년 7반)","2학년","7반",12,"남궁뭉"]
[2023,2,2,"수학","수학Ⅱ(4)","7(2학년 7반)","2학년","7반",13,"남궁륜"]
[2023,2,2,"수학","수학Ⅱ(4)","7(2학년 7반)","2학년","7반",14,"남궁령"]
[2023,2,2,"수학","수학Ⅱ(4)","7(2학년 7반)","2학년","7반",15,"남궁별"]
[2023,2,2,"수학","수학Ⅱ(4)","7(2학년 7반)","2학년","7반",16,"남궁반"]
[2023,2,2,"수학","수학Ⅱ(4)","7(2학년 7반)","2학년","7반",17,"남궁팬"]
[2023,2,2,"수학","수학Ⅱ(4)","7(2학년 7반)","2학년","7반",18,"남궁폰"]
[2023,2,2,"수학","수학Ⅱ(4)","7(2학년 7반)","2학년","7반",19,"남궁품"]
[2023,2,2,"수학","수학Ⅱ(4)","7(2학년 7반)","2학년","7반",20,"남궁핀"]
[2023,2,2,"수학","수학Ⅱ(4)","7(2학년 7반)","2학년","7반",21,"남궁헌"]
[2023,2,2,"수학","수학Ⅱ(4)","7(2학년 7반)","2학년","7반",22,"남궁형"]
[2023,2,2,"수학","수학Ⅱ(4)","7(2학년 7반)","2학년","7반",23,"남궁흥"]
[2023,2,2,"수학","수학Ⅱ(4)","7(2학년 7반)","2학년","7반",24,"남궁옌"]
[2023,2,2,"수학","수학Ⅱ(4)","8(2학년 8반)","2학년","8반",1,"남궁요"]
[2023,2,2,"수학","수학Ⅱ(4)","8(2학년 8반)","2학년","8반",2,"남궁림"]
[2023,2,2,"수학","수학Ⅱ(4)","8(2학년 8반)","2학년","8반",3,"남궁심"]
[2023,2,2,"수학","수학Ⅱ(4)","8(2학년 8반)","2학년","8반",4,"남궁셈"]
[2023,2,2,"수학","수학Ⅱ(4)","8(2학년 8반)","2학년","8반",5,"남궁연"]
[2023,2,2,"수학","수학Ⅱ(4)","8(2학년 8반)","2학년","8반",7," 남궁민아"]
[2023,2,2,"수학","수학Ⅱ(4)","8(2학년 8반)","2학년","8반",8," 남궁수진"]
[2023,2,2,"수학","수학Ⅱ(4)","8(2학년 8반)","2학년","8반",9," 남궁재희"]
[2023,2,2,"수학","수학Ⅱ(4)","8(2학년 8반)","2학년","8반",10," 남궁지아"]
[2023,2,2,"수학","수학Ⅱ(4)","8(2학년 8반)","2학년","8반",11," 남궁하은"]
[2023,2,2,"수학","수학Ⅱ(4)","8(2학년 8반)","2학년","8반",12," 남궁윤서"]
[2023,2,2,"수학","수학Ⅱ(4)","8(2학년 8반)","2학년","8반",13," 남궁은지"]
[2023,2,2,"수학","수학Ⅱ(4)","8(2학년 8반)","2학년","8반",14," 남궁지영"]
[2023,2,2,"수학","수학Ⅱ(4)","8(2학년 8반)","2학년","8반",15," 남궁예린"]
[2023,2,2,"수학","수학Ⅱ(4)","8(2학년 8반)","2학년","8반",16," 남궁하린"]
[2023,2,2,"수학","수학Ⅱ(4)","8(2학년 8반)","2학년","8반",17," 남궁소영"]
[2023,2,2,"수학","수학Ⅱ(4)","8(2학년 8반)","2학년","8반",18," 남궁민석"]
[2023,2,2,"수학","수학Ⅱ(4)","8(2학년 8반)","2학년","8반",19," 남궁지우"]
[2023,2,2,"수학","수학Ⅱ(4)","8(2학년 8반)","2학년","8반",20," 남궁세영"]
[2023,2,2,"수학","수학Ⅱ(4)","8(2학년 8반)","2학년","8반",21," 남궁유진"]
[2023,2,2,"수학","수학Ⅱ(4)","8(2학년 8반)","2학년","8반",22," 남궁은우"]
[2023,2,2,"수학","수학Ⅱ(4)","8(2학년 8반)","2학년","8반",23," 남궁하준"]
[2023,2,2,"수학","수학Ⅱ(4)","8(2학년 8반)","2학년","8반",24," 남궁서윤"]
[2023,2,2,"수학","수학Ⅱ(4)","9(2학년 9반)","2학년","9반",1," 남궁준희"]
[2023,2,2,"수학","수학Ⅱ(4)","9(2학년 9반)","2학년","9반",2," 남궁예은"]
[2023,2,2,"수학","수학Ⅱ(4)","9(2학년 9반)","2학년","9반",3," 남궁연희"]
[2023,2,2,"수학","수학Ⅱ(4)","9(2학년 9반)","2학년","9반",4," 남궁인수"]
[2023,2,2,"수학","수학Ⅱ(4)","9(2학년 9반)","2학년","9반",5," 남궁지아"]
[2023,2,2,"수학","수학Ⅱ(4)","9(2학년 9반)","2학년","9반",6," 남궁하린"]
[2023,2,2,"수학","수학Ⅱ(4)","9(2학년 9반)","2학년","9반",7," 남궁윤지"]
[2023,2,2,"수학","수학Ⅱ(4)","9(2학년 9반)","2학년","9반",8," 남궁서윤"]
[2023,2,2,"수학","수학Ⅱ(4)","9(2학년 9반)","2학년","9반",9," 남궁민재"]
[2023,2,2,"수학","수학Ⅱ(4)","9(2학년 9반)","2학년","9반",10," 남궁지후"]
[2023,2,2,"수학","수학Ⅱ(4)","9(2학년 9반)","2학년","9반",11," 남궁예준"]
[2023,2,2,"수학","수학Ⅱ(4)","9(2학년 9반)","2학년","9반",12," 남궁하윤"]
[2023,2,2,"수학","수학Ⅱ(4)","9(2학년 9반)","2학년","9반",13," 남궁유진"]
[2023,2,2,"수학","수학Ⅱ(4)","9(2학년 9반)","2학년","9반",14," 남궁은우"]
[2023,2,2,"수학","수학Ⅱ(4)","9(2학년 9반)","2학년","9반",15," 남궁예은"]
[2023,2,2,"수학","수학Ⅱ(4)","9(2학년 9반)","2학년","9반",16," 남궁시아"]
[2023,2,2,"수학","수학Ⅱ(4)","9(2학년 9반)","2학년","9반",17," 남궁미나"]
[2023,2,2,"수학","수학Ⅱ(4)","9(2학년 9반)","2학년","9반",18," 남궁지은"]
[2023,2,2,"수학","수학Ⅱ(4)","9(2학년 9반)","2학년","9반",19," 남궁서아"]
[2023,2,2,"수학","수학Ⅱ(4)","9(2학년 9반)","2학년","9반",20," 남궁하은"]
[2023,2,2,"수학","수학Ⅱ(4)","9(2학년 9반)","2학년","9반",21," 남궁예린"]
[2023,2,2,"수학","수학Ⅱ(4)","9(2학년 9반)","2학년","9반",22," 남궁윤우"]
[2023,2,2,"수학","수학Ⅱ(4)","9(2학년 9반)","2학년","9반",23," 남궁리나"]
[2023,2,2,"수학","수학Ⅱ(4)","9(2학년 9반)","2학년","9반",24," 남궁소율"]
[2023,2,2,"수학","수학Ⅱ(4)","9(2학년 9반)","2학년","9반",25," 남궁은하"]

{"sheet":"comboList","index":1,"n_rows":35,"n_cols":7,"rows_kept":35,"cut":false,"hidden":true,"merged":[]}
[]
[]
[]
[null,"개설과목(학점)","개설강의실",null,"고사일","교시","고사장"]
[null,"언어와 매체(3)"]
[null,"화법과 작문(3)"]
[null,"(공동)미적분(3)"]
[null,"(공동)수학과제 탐구(2)"]
[null,"미적분(3)"]
[null,"확률과 통계(3)"]
[null,"영어 독해와 작문(3)"]
[null,"영어 회화(3)"]
[null,"(공동)기업과 경영(2)"]
[null,"(공동)동아시아사(3)"]
[null,"(공동)상업 경제(2)"]
[null,"(공동)현대 세계의 변화(2)"]
[null,"동아시아사(3)"]
[null,"세계 문제와 미래 사회(3)"]
[null,"여행지리(3)"]
[null,"윤리와 사상(3)"]
[null,"정치와 법(3)"]
[null,"한국지리(3)"]
[null,"물리학Ⅱ(3)"]
[null,"생명과학Ⅱ(3)"]
[null,"생활과 과학(3)"]
[null,"지구과학Ⅱ(3)"]
[null,"화학Ⅱ(3)"]
[null,"운동과 건강(2)"]
[null,"체육 전공 실기 기초(3)"]
[null,"(공동)교육학(2)"]
[null,"교육학(1)"]
[null,"미디어 콘텐츠 일반(3)"]
[null,"실용 경제(1)"]
[null,"심리학(1)"]
[null,"환경(1)"]

{"sheet":"학생배정결과","index":2,"n_rows":1,"n_cols":5,"rows_kept":1,"cut":false,"hidden":false,"merged":[]}
["순번","학년","반","번호","이름"]

{"sheet":"선택과목별","index":3,"n_rows":7,"n_cols":14,"rows_kept":7,"cut":false,"hidden":false,"merged":[]}
[1,4]
[]
[null,"선택과목정보"]
[null,null,null,null,null,null,null,null,null,"문학(4), 강의실: 4(2학년 4반)"]
[null,"과목","수업반","인원",null,null,null,null,null,"2023-10-16,1교시, 고사실: 301"]
[]
[null,null,null,null,null,null,null,null,null,"학년","반","번호","이름","순번"]

{"sheet":"학급별인원수","index":4,"n_rows":35,"n_cols":9,"rows_kept":35,"cut":false,"hidden":false,"merged":[]}
[]
[]
[]
[null,null,0,0,1,2,3,4,5]
[null,"언어와 매체(3)",{"$f":"COUNTIFS(data!$E:$E, $B5, data!$H:$H, 학급별인원수!C$4&\"반\")","v":0},{"$f":"COUNTIFS(data!$E:$E, $B5, data!$H:$H, 학급별인원수!D$4&\"반\")","v":0},{"$f":"COUNTIFS(data!$E:$E, $B5, data!$H:$H, 학급별인원수!E$4&\"반\")","v":0},{"$f":"COUNTIFS(data!$E:$E, $B5, data!$H:$H, 학급별인원수!F$4&\"반\")","v":0},{"$f":"COUNTIFS(data!$E:$E, $B5, data!$H:$H, 학급별인원수!G$4&\"반\")","v":0},{"$f":"COUNTIFS(data!$E:$E, $B5, data!$H:$H, 학급별인원수!H$4&\"반\")","v":0},{"$f":"COUNTIFS(data!$E:$E, $B5, data!$H:$H, 학급별인원수!I$4&\"반\")","v":0}]
[null,"화법과 작문(3)",{"$f":"COUNTIFS(data!$E:$E, $B6, data!$H:$H, 학급별인원수!C$4&\"반\")","v":0},{"$f":"COUNTIFS(data!$E:$E, $B6, data!$H:$H, 학급별인원수!D$4&\"반\")","v":0},{"$f":"COUNTIFS(data!$E:$E, $B6, data!$H:$H, 학급별인원수!E$4&\"반\")","v":0},{"$f":"COUNTIFS(data!$E:$E, $B6, data!$H:$H, 학급별인원수!F$4&\"반\")","v":0},{"$f":"COUNTIFS(data!$E:$E, $B6, data!$H:$H, 학급별인원수!G$4&\"반\")","v":0},{"$f":"COUNTIFS(data!$E:$E, $B6, data!$H:$H, 학급별인원수!H$4&\"반\")","v":0},{"$f":"COUNTIFS(data!$E:$E, $B6, data!$H:$H, 학급별인원수!I$4&\"반\")","v":0}]
[null,"(공동)미적분(3)",{"$f":"COUNTIFS(data!$E:$E, $B7, data!$H:$H, 학급별인원수!C$4&\"반\")","v":0},{"$f":"COUNTIFS(data!$E:$E, $B7, data!$H:$H, 학급별인원수!D$4&\"반\")","v":0},{"$f":"COUNTIFS(data!$E:$E, $B7, data!$H:$H, 학급별인원수!E$4&\"반\")","v":0},{"$f":"COUNTIFS(data!$E:$E, $B7, data!$H:$H, 학급별인원수!F$4&\"반\")","v":0},{"$f":"COUNTIFS(data!$E:$E, $B7, data!$H:$H, 학급별인원수!G$4&\"반\")","v":0},{"$f":"COUNTIFS(data!$E:$E, $B7, data!$H:$H, 학급별인원수!H$4&\"반\")","v":0},{"$f":"COUNTIFS(data!$E:$E, $B7, data!$H:$H, 학급별인원수!I$4&\"반\")","v":0}]
[null,"(공동)수학과제 탐구(2)",{"$f":"COUNTIFS(data!$E:$E, $B8, data!$H:$H, 학급별인원수!C$4&\"반\")","v":0},{"$f":"COUNTIFS(data!$E:$E, $B8, data!$H:$H, 학급별인원수!D$4&\"반\")","v":0},{"$f":"COUNTIFS(data!$E:$E, $B8, data!$H:$H, 학급별인원수!E$4&\"반\")","v":0},{"$f":"COUNTIFS(data!$E:$E, $B8, data!$H:$H, 학급별인원수!F$4&\"반\")","v":0},{"$f":"COUNTIFS(data!$E:$E, $B8, data!$H:$H, 학급별인원수!G$4&\"반\")","v":0},{"$f":"COUNTIFS(data!$E:$E, $B8, data!$H:$H, 학급별인원수!H$4&\"반\")","v":0},{"$f":"COUNTIFS(data!$E:$E, $B8, data!$H:$H, 학급별인원수!I$4&\"반\")","v":0}]
[null,"미적분(3)",{"$f":"COUNTIFS(data!$E:$E, $B9, data!$H:$H, 학급별인원수!C$4&\"반\")","v":0},{"$f":"COUNTIFS(data!$E:$E, $B9, data!$H:$H, 학급별인원수!D$4&\"반\")","v":0},{"$f":"COUNTIFS(data!$E:$E, $B9, data!$H:$H, 학급별인원수!E$4&\"반\")","v":0},{"$f":"COUNTIFS(data!$E:$E, $B9, data!$H:$H, 학급별인원수!F$4&\"반\")","v":0},{"$f":"COUNTIFS(data!$E:$E, $B9, data!$H:$H, 학급별인원수!G$4&\"반\")","v":0},{"$f":"COUNTIFS(data!$E:$E, $B9, data!$H:$H, 학급별인원수!H$4&\"반\")","v":0},{"$f":"COUNTIFS(data!$E:$E, $B9, data!$H:$H, 학급별인원수!I$4&\"반\")","v":0}]
[null,"확률과 통계(3)",{"$f":"COUNTIFS(data!$E:$E, $B10, data!$H:$H, 학급별인원수!C$4&\"반\")","v":0},{"$f":"COUNTIFS(data!$E:$E, $B10, data!$H:$H, 학급별인원수!D$4&\"반\")","v":0},{"$f":"COUNTIFS(data!$E:$E, $B10, data!$H:$H, 학급별인원수!E$4&\"반\")","v":0},{"$f":"COUNTIFS(data!$E:$E, $B10, data!$H:$H, 학급별인원수!F$4&\"반\")","v":0},{"$f":"COUNTIFS(data!$E:$E, $B10, data!$H:$H, 학급별인원수!G$4&\"반\")","v":0},{"$f":"COUNTIFS(data!$E:$E, $B10, data!$H:$H, 학급별인원수!H$4&\"반\")","v":0},{"$f":"COUNTIFS(data!$E:$E, $B10, data!$H:$H, 학급별인원수!I$4&\"반\")","v":0}]
[null,"영어 독해와 작문(3)",{"$f":"COUNTIFS(data!$E:$E, $B11, data!$H:$H, 학급별인원수!C$4&\"반\")","v":0},{"$f":"COUNTIFS(data!$E:$E, $B11, data!$H:$H, 학급별인원수!D$4&\"반\")","v":0},{"$f":"COUNTIFS(data!$E:$E, $B11, data!$H:$H, 학급별인원수!E$4&\"반\")","v":0},{"$f":"COUNTIFS(data!$E:$E, $B11, data!$H:$H, 학급별인원수!F$4&\"반\")","v":0},{"$f":"COUNTIFS(data!$E:$E, $B11, data!$H:$H, 학급별인원수!G$4&\"반\")","v":0},{"$f":"COUNTIFS(data!$E:$E, $B11, data!$H:$H, 학급별인원수!H$4&\"반\")","v":0},{"$f":"COUNTIFS(data!$E:$E, $B11, data!$H:$H, 학급별인원수!I$4&\"반\")","v":0}]
[null,"영어 회화(3)",{"$f":"COUNTIFS(data!$E:$E, $B12, data!$H:$H, 학급별인원수!C$4&\"반\")","v":0},{"$f":"COUNTIFS(data!$E:$E, $B12, data!$H:$H, 학급별인원수!D$4&\"반\")","v":0},{"$f":"COUNTIFS(data!$E:$E, $B12, data!$H:$H, 학급별인원수!E$4&\"반\")","v":0},{"$f":"COUNTIFS(data!$E:$E, $B12, data!$H:$H, 학급별인원수!F$4&\"반\")","v":0},{"$f":"COUNTIFS(data!$E:$E, $B12, data!$H:$H, 학급별인원수!G$4&\"반\")","v":0},{"$f":"COUNTIFS(data!$E:$E, $B12, data!$H:$H, 학급별인원수!H$4&\"반\")","v":0},{"$f":"COUNTIFS(data!$E:$E, $B12, data!$H:$H, 학급별인원수!I$4&\"반\")","v":0}]
[null,"(공동)기업과 경영(2)",{"$f":"COUNTIFS(data!$E:$E, $B13, data!$H:$H, 학급별인원수!C$4&\"반\")","v":0},{"$f":"COUNTIFS(data!$E:$E, $B13, data!$H:$H, 학급별인원수!D$4&\"반\")","v":0},{"$f":"COUNTIFS(data!$E:$E, $B13, data!$H:$H, 학급별인원수!E$4&\"반\")","v":0},{"$f":"COUNTIFS(data!$E:$E, $B13, data!$H:$H, 학급별인원수!F$4&\"반\")","v":0},{"$f":"COUNTIFS(data!$E:$E, $B13, data!$H:$H, 학급별인원수!G$4&\"반\")","v":0},{"$f":"COUNTIFS(data!$E:$E, $B13, data!$H:$H, 학급별인원수!H$4&\"반\")","v":0},{"$f":"COUNTIFS(data!$E:$E, $B13, data!$H:$H, 학급별인원수!I$4&\"반\")","v":0}]
[null,"(공동)동아시아사(3)",{"$f":"COUNTIFS(data!$E:$E, $B14, data!$H:$H, 학급별인원수!C$4&\"반\")","v":0},{"$f":"COUNTIFS(data!$E:$E, $B14, data!$H:$H, 학급별인원수!D$4&\"반\")","v":0},{"$f":"COUNTIFS(data!$E:$E, $B14, data!$H:$H, 학급별인원수!E$4&\"반\")","v":0},{"$f":"COUNTIFS(data!$E:$E, $B14, data!$H:$H, 학급별인원수!F$4&\"반\")","v":0},{"$f":"COUNTIFS(data!$E:$E, $B14, data!$H:$H, 학급별인원수!G$4&\"반\")","v":0},{"$f":"COUNTIFS(data!$E:$E, $B14, data!$H:$H, 학급별인원수!H$4&\"반\")","v":0},{"$f":"COUNTIFS(data!$E:$E, $B14, data!$H:$H, 학급별인원수!I$4&\"반\")","v":0}]
[null,"(공동)상업 경제(2)",{"$f":"COUNTIFS(data!$E:$E, $B15, data!$H:$H, 학급별인원수!C$4&\"반\")","v":0},{"$f":"COUNTIFS(data!$E:$E, $B15, data!$H:$H, 학급별인원수!D$4&\"반\")","v":0},{"$f":"COUNTIFS(data!$E:$E, $B15, data!$H:$H, 학급별인원수!E$4&\"반\")","v":0},{"$f":"COUNTIFS(data!$E:$E, $B15, data!$H:$H, 학급별인원수!F$4&\"반\")","v":0},{"$f":"COUNTIFS(data!$E:$E, $B15, data!$H:$H, 학급별인원수!G$4&\"반\")","v":0},{"$f":"COUNTIFS(data!$E:$E, $B15, data!$H:$H, 학급별인원수!H$4&\"반\")","v":0},{"$f":"COUNTIFS(data!$E:$E, $B15, data!$H:$H, 학급별인원수!I$4&\"반\")","v":0}]
[null,"(공동)현대 세계의 변화(2)",{"$f":"COUNTIFS(data!$E:$E, $B16, data!$H:$H, 학급별인원수!C$4&\"반\")","v":0},{"$f":"COUNTIFS(data!$E:$E, $B16, data!$H:$H, 학급별인원수!D$4&\"반\")","v":0},{"$f":"COUNTIFS(data!$E:$E, $B16, data!$H:$H, 학급별인원수!E$4&\"반\")","v":0},{"$f":"COUNTIFS(data!$E:$E, $B16, data!$H:$H, 학급별인원수!F$4&\"반\")","v":0},{"$f":"COUNTIFS(data!$E:$E, $B16, data!$H:$H, 학급별인원수!G$4&\"반\")","v":0},{"$f":"COUNTIFS(data!$E:$E, $B16, data!$H:$H, 학급별인원수!H$4&\"반\")","v":0},{"$f":"COUNTIFS(data!$E:$E, $B16, data!$H:$H, 학급별인원수!I$4&\"반\")","v":0}]
[null,"동아시아사(3)",{"$f":"COUNTIFS(data!$E:$E, $B17, data!$H:$H, 학급별인원수!C$4&\"반\")","v":0},{"$f":"COUNTIFS(data!$E:$E, $B17, data!$H:$H, 학급별인원수!D$4&\"반\")","v":0},{"$f":"COUNTIFS(data!$E:$E, $B17, data!$H:$H, 학급별인원수!E$4&\"반\")","v":0},{"$f":"COUNTIFS(data!$E:$E, $B17, data!$H:$H, 학급별인원수!F$4&\"반\")","v":0},{"$f":"COUNTIFS(data!$E:$E, $B17, data!$H:$H, 학급별인원수!G$4&\"반\")","v":0},{"$f":"COUNTIFS(data!$E:$E, $B17, data!$H:$H, 학급별인원수!H$4&\"반\")","v":0},{"$f":"COUNTIFS(data!$E:$E, $B17, data!$H:$H, 학급별인원수!I$4&\"반\")","v":0}]
[null,"세계 문제와 미래 사회(3)",{"$f":"COUNTIFS(data!$E:$E, $B18, data!$H:$H, 학급별인원수!C$4&\"반\")","v":0},{"$f":"COUNTIFS(data!$E:$E, $B18, data!$H:$H, 학급별인원수!D$4&\"반\")","v":0},{"$f":"COUNTIFS(data!$E:$E, $B18, data!$H:$H, 학급별인원수!E$4&\"반\")","v":0},{"$f":"COUNTIFS(data!$E:$E, $B18, data!$H:$H, 학급별인원수!F$4&\"반\")","v":0},{"$f":"COUNTIFS(data!$E:$E, $B18, data!$H:$H, 학급별인원수!G$4&\"반\")","v":0},{"$f":"COUNTIFS(data!$E:$E, $B18, data!$H:$H, 학급별인원수!H$4&\"반\")","v":0},{"$f":"COUNTIFS(data!$E:$E, $B18, data!$H:$H, 학급별인원수!I$4&\"반\")","v":0}]
[null,"여행지리(3)",{"$f":"COUNTIFS(data!$E:$E, $B19, data!$H:$H, 학급별인원수!C$4&\"반\")","v":0},{"$f":"COUNTIFS(data!$E:$E, $B19, data!$H:$H, 학급별인원수!D$4&\"반\")","v":0},{"$f":"COUNTIFS(data!$E:$E, $B19, data!$H:$H, 학급별인원수!E$4&\"반\")","v":0},{"$f":"COUNTIFS(data!$E:$E, $B19, data!$H:$H, 학급별인원수!F$4&\"반\")","v":0},{"$f":"COUNTIFS(data!$E:$E, $B19, data!$H:$H, 학급별인원수!G$4&\"반\")","v":0},{"$f":"COUNTIFS(data!$E:$E, $B19, data!$H:$H, 학급별인원수!H$4&\"반\")","v":0},{"$f":"COUNTIFS(data!$E:$E, $B19, data!$H:$H, 학급별인원수!I$4&\"반\")","v":0}]
[null,"윤리와 사상(3)",{"$f":"COUNTIFS(data!$E:$E, $B20, data!$H:$H, 학급별인원수!C$4&\"반\")","v":0},{"$f":"COUNTIFS(data!$E:$E, $B20, data!$H:$H, 학급별인원수!D$4&\"반\")","v":0},{"$f":"COUNTIFS(data!$E:$E, $B20, data!$H:$H, 학급별인원수!E$4&\"반\")","v":0},{"$f":"COUNTIFS(data!$E:$E, $B20, data!$H:$H, 학급별인원수!F$4&\"반\")","v":0},{"$f":"COUNTIFS(data!$E:$E, $B20, data!$H:$H, 학급별인원수!G$4&\"반\")","v":0},{"$f":"COUNTIFS(data!$E:$E, $B20, data!$H:$H, 학급별인원수!H$4&\"반\")","v":0},{"$f":"COUNTIFS(data!$E:$E, $B20, data!$H:$H, 학급별인원수!I$4&\"반\")","v":0}]
[null,"정치와 법(3)",{"$f":"COUNTIFS(data!$E:$E, $B21, data!$H:$H, 학급별인원수!C$4&\"반\")","v":0},{"$f":"COUNTIFS(data!$E:$E, $B21, data!$H:$H, 학급별인원수!D$4&\"반\")","v":0},{"$f":"COUNTIFS(data!$E:$E, $B21, data!$H:$H, 학급별인원수!E$4&\"반\")","v":0},{"$f":"COUNTIFS(data!$E:$E, $B21, data!$H:$H, 학급별인원수!F$4&\"반\")","v":0},{"$f":"COUNTIFS(data!$E:$E, $B21, data!$H:$H, 학급별인원수!G$4&\"반\")","v":0},{"$f":"COUNTIFS(data!$E:$E, $B21, data!$H:$H, 학급별인원수!H$4&\"반\")","v":0},{"$f":"COUNTIFS(data!$E:$E, $B21, data!$H:$H, 학급별인원수!I$4&\"반\")","v":0}]
[null,"한국지리(3)",{"$f":"COUNTIFS(data!$E:$E, $B22, data!$H:$H, 학급별인원수!C$4&\"반\")","v":0},{"$f":"COUNTIFS(data!$E:$E, $B22, data!$H:$H, 학급별인원수!D$4&\"반\")","v":0},{"$f":"COUNTIFS(data!$E:$E, $B22, data!$H:$H, 학급별인원수!E$4&\"반\")","v":0},{"$f":"COUNTIFS(data!$E:$E, $B22, data!$H:$H, 학급별인원수!F$4&\"반\")","v":0},{"$f":"COUNTIFS(data!$E:$E, $B22, data!$H:$H, 학급별인원수!G$4&\"반\")","v":0},{"$f":"COUNTIFS(data!$E:$E, $B22, data!$H:$H, 학급별인원수!H$4&\"반\")","v":0},{"$f":"COUNTIFS(data!$E:$E, $B22, data!$H:$H, 학급별인원수!I$4&\"반\")","v":0}]
[null,"물리학Ⅱ(3)",{"$f":"COUNTIFS(data!$E:$E, $B23, data!$H:$H, 학급별인원수!C$4&\"반\")","v":0},{"$f":"COUNTIFS(data!$E:$E, $B23, data!$H:$H, 학급별인원수!D$4&\"반\")","v":0},{"$f":"COUNTIFS(data!$E:$E, $B23, data!$H:$H, 학급별인원수!E$4&\"반\")","v":0},{"$f":"COUNTIFS(data!$E:$E, $B23, data!$H:$H, 학급별인원수!F$4&\"반\")","v":0},{"$f":"COUNTIFS(data!$E:$E, $B23, data!$H:$H, 학급별인원수!G$4&\"반\")","v":0},{"$f":"COUNTIFS(data!$E:$E, $B23, data!$H:$H, 학급별인원수!H$4&\"반\")","v":0},{"$f":"COUNTIFS(data!$E:$E, $B23, data!$H:$H, 학급별인원수!I$4&\"반\")","v":0}]
[null,"생명과학Ⅱ(3)",{"$f":"COUNTIFS(data!$E:$E, $B24, data!$H:$H, 학급별인원수!C$4&\"반\")","v":0},{"$f":"COUNTIFS(data!$E:$E, $B24, data!$H:$H, 학급별인원수!D$4&\"반\")","v":0},{"$f":"COUNTIFS(data!$E:$E, $B24, data!$H:$H, 학급별인원수!E$4&\"반\")","v":0},{"$f":"COUNTIFS(data!$E:$E, $B24, data!$H:$H, 학급별인원수!F$4&\"반\")","v":0},{"$f":"COUNTIFS(data!$E:$E, $B24, data!$H:$H, 학급별인원수!G$4&\"반\")","v":0},{"$f":"COUNTIFS(data!$E:$E, $B24, data!$H:$H, 학급별인원수!H$4&\"반\")","v":0},{"$f":"COUNTIFS(data!$E:$E, $B24, data!$H:$H, 학급별인원수!I$4&\"반\")","v":0}]
[null,"생활과 과학(3)",{"$f":"COUNTIFS(data!$E:$E, $B25, data!$H:$H, 학급별인원수!C$4&\"반\")","v":0},{"$f":"COUNTIFS(data!$E:$E, $B25, data!$H:$H, 학급별인원수!D$4&\"반\")","v":0},{"$f":"COUNTIFS(data!$E:$E, $B25, data!$H:$H, 학급별인원수!E$4&\"반\")","v":0},{"$f":"COUNTIFS(data!$E:$E, $B25, data!$H:$H, 학급별인원수!F$4&\"반\")","v":0},{"$f":"COUNTIFS(data!$E:$E, $B25, data!$H:$H, 학급별인원수!G$4&\"반\")","v":0},{"$f":"COUNTIFS(data!$E:$E, $B25, data!$H:$H, 학급별인원수!H$4&\"반\")","v":0},{"$f":"COUNTIFS(data!$E:$E, $B25, data!$H:$H, 학급별인원수!I$4&\"반\")","v":0}]
[null,"지구과학Ⅱ(3)",{"$f":"COUNTIFS(data!$E:$E, $B26, data!$H:$H, 학급별인원수!C$4&\"반\")","v":0},{"$f":"COUNTIFS(data!$E:$E, $B26, data!$H:$H, 학급별인원수!D$4&\"반\")","v":0},{"$f":"COUNTIFS(data!$E:$E, $B26, data!$H:$H, 학급별인원수!E$4&\"반\")","v":0},{"$f":"COUNTIFS(data!$E:$E, $B26, data!$H:$H, 학급별인원수!F$4&\"반\")","v":0},{"$f":"COUNTIFS(data!$E:$E, $B26, data!$H:$H, 학급별인원수!G$4&\"반\")","v":0},{"$f":"COUNTIFS(data!$E:$E, $B26, data!$H:$H, 학급별인원수!H$4&\"반\")","v":0},{"$f":"COUNTIFS(data!$E:$E, $B26, data!$H:$H, 학급별인원수!I$4&\"반\")","v":0}]
[null,"화학Ⅱ(3)",{"$f":"COUNTIFS(data!$E:$E, $B27, data!$H:$H, 학급별인원수!C$4&\"반\")","v":0},{"$f":"COUNTIFS(data!$E:$E, $B27, data!$H:$H, 학급별인원수!D$4&\"반\")","v":0},{"$f":"COUNTIFS(data!$E:$E, $B27, data!$H:$H, 학급별인원수!E$4&\"반\")","v":0},{"$f":"COUNTIFS(data!$E:$E, $B27, data!$H:$H, 학급별인원수!F$4&\"반\")","v":0},{"$f":"COUNTIFS(data!$E:$E, $B27, data!$H:$H, 학급별인원수!G$4&\"반\")","v":0},{"$f":"COUNTIFS(data!$E:$E, $B27, data!$H:$H, 학급별인원수!H$4&\"반\")","v":0},{"$f":"COUNTIFS(data!$E:$E, $B27, data!$H:$H, 학급별인원수!I$4&\"반\")","v":0}]
[null,"운동과 건강(2)",{"$f":"COUNTIFS(data!$E:$E, $B28, data!$H:$H, 학급별인원수!C$4&\"반\")","v":0},{"$f":"COUNTIFS(data!$E:$E, $B28, data!$H:$H, 학급별인원수!D$4&\"반\")","v":0},{"$f":"COUNTIFS(data!$E:$E, $B28, data!$H:$H, 학급별인원수!E$4&\"반\")","v":0},{"$f":"COUNTIFS(data!$E:$E, $B28, data!$H:$H, 학급별인원수!F$4&\"반\")","v":0},{"$f":"COUNTIFS(data!$E:$E, $B28, data!$H:$H, 학급별인원수!G$4&\"반\")","v":0},{"$f":"COUNTIFS(data!$E:$E, $B28, data!$H:$H, 학급별인원수!H$4&\"반\")","v":0},{"$f":"COUNTIFS(data!$E:$E, $B28, data!$H:$H, 학급별인원수!I$4&\"반\")","v":0}]
[null,"체육 전공 실기 기초(3)",{"$f":"COUNTIFS(data!$E:$E, $B29, data!$H:$H, 학급별인원수!C$4&\"반\")","v":0},{"$f":"COUNTIFS(data!$E:$E, $B29, data!$H:$H, 학급별인원수!D$4&\"반\")","v":0},{"$f":"COUNTIFS(data!$E:$E, $B29, data!$H:$H, 학급별인원수!E$4&\"반\")","v":0},{"$f":"COUNTIFS(data!$E:$E, $B29, data!$H:$H, 학급별인원수!F$4&\"반\")","v":0},{"$f":"COUNTIFS(data!$E:$E, $B29, data!$H:$H, 학급별인원수!G$4&\"반\")","v":0},{"$f":"COUNTIFS(data!$E:$E, $B29, data!$H:$H, 학급별인원수!H$4&\"반\")","v":0},{"$f":"COUNTIFS(data!$E:$E, $B29, data!$H:$H, 학급별인원수!I$4&\"반\")","v":0}]
[null,"(공동)교육학(2)",{"$f":"COUNTIFS(data!$E:$E, $B30, data!$H:$H, 학급별인원수!C$4&\"반\")","v":0},{"$f":"COUNTIFS(data!$E:$E, $B30, data!$H:$H, 학급별인원수!D$4&\"반\")","v":0},{"$f":"COUNTIFS(data!$E:$E, $B30, data!$H:$H, 학급별인원수!E$4&\"반\")","v":0},{"$f":"COUNTIFS(data!$E:$E, $B30, data!$H:$H, 학급별인원수!F$4&\"반\")","v":0},{"$f":"COUNTIFS(data!$E:$E, $B30, data!$H:$H, 학급별인원수!G$4&\"반\")","v":0},{"$f":"COUNTIFS(data!$E:$E, $B30, data!$H:$H, 학급별인원수!H$4&\"반\")","v":0},{"$f":"COUNTIFS(data!$E:$E, $B30, data!$H:$H, 학급별인원수!I$4&\"반\")","v":0}]
[null,"교육학(1)",{"$f":"COUNTIFS(data!$E:$E, $B31, data!$H:$H, 학급별인원수!C$4&\"반\")","v":0},{"$f":"COUNTIFS(data!$E:$E, $B31, data!$H:$H, 학급별인원수!D$4&\"반\")","v":0},{"$f":"COUNTIFS(data!$E:$E, $B31, data!$H:$H, 학급별인원수!E$4&\"반\")","v":0},{"$f":"COUNTIFS(data!$E:$E, $B31, data!$H:$H, 학급별인원수!F$4&\"반\")","v":0},{"$f":"COUNTIFS(data!$E:$E, $B31, data!$H:$H, 학급별인원수!G$4&\"반\")","v":0},{"$f":"COUNTIFS(data!$E:$E, $B31, data!$H:$H, 학급별인원수!H$4&\"반\")","v":0},{"$f":"COUNTIFS(data!$E:$E, $B31, data!$H:$H, 학급별인원수!I$4&\"반\")","v":0}]
[null,"미디어 콘텐츠 일반(3)",{"$f":"COUNTIFS(data!$E:$E, $B32, data!$H:$H, 학급별인원수!C$4&\"반\")","v":0},{"$f":"COUNTIFS(data!$E:$E, $B32, data!$H:$H, 학급별인원수!D$4&\"반\")","v":0},{"$f":"COUNTIFS(data!$E:$E, $B32, data!$H:$H, 학급별인원수!E$4&\"반\")","v":0},{"$f":"COUNTIFS(data!$E:$E, $B32, data!$H:$H, 학급별인원수!F$4&\"반\")","v":0},{"$f":"COUNTIFS(data!$E:$E, $B32, data!$H:$H, 학급별인원수!G$4&\"반\")","v":0},{"$f":"COUNTIFS(data!$E:$E, $B32, data!$H:$H, 학급별인원수!H$4&\"반\")","v":0},{"$f":"COUNTIFS(data!$E:$E, $B32, data!$H:$H, 학급별인원수!I$4&\"반\")","v":0}]
[null,"실용 경제(1)",{"$f":"COUNTIFS(data!$E:$E, $B33, data!$H:$H, 학급별인원수!C$4&\"반\")","v":0},{"$f":"COUNTIFS(data!$E:$E, $B33, data!$H:$H, 학급별인원수!D$4&\"반\")","v":0},{"$f":"COUNTIFS(data!$E:$E, $B33, data!$H:$H, 학급별인원수!E$4&\"반\")","v":0},{"$f":"COUNTIFS(data!$E:$E, $B33, data!$H:$H, 학급별인원수!F$4&\"반\")","v":0},{"$f":"COUNTIFS(data!$E:$E, $B33, data!$H:$H, 학급별인원수!G$4&\"반\")","v":0},{"$f":"COUNTIFS(data!$E:$E, $B33, data!$H:$H, 학급별인원수!H$4&\"반\")","v":0},{"$f":"COUNTIFS(data!$E:$E, $B33, data!$H:$H, 학급별인원수!I$4&\"반\")","v":0}]
[null,"심리학(1)",{"$f":"COUNTIFS(data!$E:$E, $B34, data!$H:$H, 학급별인원수!C$4&\"반\")","v":0},{"$f":"COUNTIFS(data!$E:$E, $B34, data!$H:$H, 학급별인원수!D$4&\"반\")","v":0},{"$f":"COUNTIFS(data!$E:$E, $B34, data!$H:$H, 학급별인원수!E$4&\"반\")","v":0},{"$f":"COUNTIFS(data!$E:$E, $B34, data!$H:$H, 학급별인원수!F$4&\"반\")","v":0},{"$f":"COUNTIFS(data!$E:$E, $B34, data!$H:$H, 학급별인원수!G$4&\"반\")","v":0},{"$f":"COUNTIFS(data!$E:$E, $B34, data!$H:$H, 학급별인원수!H$4&\"반\")","v":0},{"$f":"COUNTIFS(data!$E:$E, $B34, data!$H:$H, 학급별인원수!I$4&\"반\")","v":0}]
[null,"환경(1)",{"$f":"COUNTIFS(data!$E:$E, $B35, data!$H:$H, 학급별인원수!C$4&\"반\")","v":0},{"$f":"COUNTIFS(data!$E:$E, $B35, data!$H:$H, 학급별인원수!D$4&\"반\")","v":0},{"$f":"COUNTIFS(data!$E:$E, $B35, data!$H:$H, 학급별인원수!E$4&\"반\")","v":0},{"$f":"COUNTIFS(data!$E:$E, $B35, data!$H:$H, 학급별인원수!F$4&\"반\")","v":0},{"$f":"COUNTIFS(data!$E:$E, $B35, data!$H:$H, 학급별인원수!G$4&\"반\")","v":0},{"$f":"COUNTIFS(data!$E:$E, $B35, data!$H:$H, 학급별인원수!H$4&\"반\")","v":0},{"$f":"COUNTIFS(data!$E:$E, $B35, data!$H:$H, 학급별인원수!I$4&\"반\")","v":0}]

{"sheet":"고사장출석부","index":5,"n_rows":10,"n_cols":12,"rows_kept":10,"cut":false,"hidden":true,"merged":[[7,2,7,3],[7,4,7,11],[8,2,8,3],[8,4,8,11],[3,2,3,11],[5,2,5,3],[5,4,5,6],[5,7,5,8],[5,9,5,11],[6,2,6,3],[6,4,6,11]]}
[null,null,2,1,1]
[null,null,"고사일",null,null,null,"고사교시",null,null,"고사실"]
[]
[null,null,"고 사 장 출 석 부"]
[]
[null,null,"고사실",null,302,null,null,"응시일시",null,"2023-10-17  2교시"]
[]
[null,null,"감독교사"]
[null,null,"고사장정보"]
[null,null,"좌석\n번호","학번","이름","과목명","결시","좌석\n번호","학번","이름","과목명","결시"]

{"sheet":"학생별시험시간표","index":6,"n_rows":12,"n_cols":4,"rows_kept":12,"cut":false,"hidden":true,"merged":[]}
[]
[]
[null,"학년",3]
[null,"반",1]
[null,"번호",2]
[]
[null,"이름",{"$f":"studentName(C3,C4,C5)","v":"고채은"}]
[]
[]
[]
[null,2,null,"언어와 매체(3)\r\n고사장: 302\r\n좌석번호: 1"]
[null,1]

{"sheet":"studentExamInfo","index":7,"n_rows":1,"n_cols":8,"rows_kept":1,"cut":false,"hidden":true,"merged":[]}
["학번","이름","과목명","과목반","고사일","고사교시","고사장","응시번호"]