{"text_format":"1","workbook":"xlsx","n_sheets":2,"sheets":["1. 매수매도 총잔량","2. 순매수에 따른 익일가격"],"not_rendered":{"charts":1,"images":0,"macros":1,"external_links":1,"defined_names":0,"comments":1,"pivot_tables":0},"unopened":[],"bounds":{"document_bytes":16777216,"sheet_cells":100000,"rows_first":2000,"rows_last":500,"rows_between":2000,"halvings":0,"cell_chars":16384,"cell_head_chars":4096},"cells_cut":0,"cells_raw":0,"read":"whole","date_system":"1900"}

{"sheet":"1. 매수매도 총잔량","index":0,"n_rows":438,"n_cols":15,"rows_kept":438,"cut":false,"hidden":false,"merged":[[4,0,5,0],[4,8,5,8],[5,5,5,6]]}
[]
[]
["2025-02-05"]
["시간","매도총잔량","매도건수","매수총잔량","매수건수","순매수총잔량","선물지수","순매수건수","평균계약수"]
[45693.656944444447,5304,1000,5815,1187,511,331.2,187,2.7326203208556148]
[null,"건수당 계약'",5.3040000000000003,"건수당 계약수",4.8989048020219039,"건수당 계약수",null,-0.40509519797809634]
[]
["시간","매도총잔량","매도건수","매수총잔량","매수건수","순매수총잔량","선물지수","순매수건수","평균계약수"]
["08:40:00",8455,951,8711,917,256,327.60000000000002,{"$f":"(D9/E9)-(B9/C9)","v":0.60881331365594527},{"$f":"(D9-B9)/(E9-C9)","v":-7.5294117647058822}]
["08:41:00",8575,985,8734,925,159,327.60000000000002,{"$f":"(D10/E10)-(B10/C10)","v":0.73657840581698508},{"$f":"(D10-B10)/(E10-C10)","v":-2.65}]
["08:42:00",8635,1024,8839,959,204,327.60000000000002,{"$f":"(D11/E11)-(B11/C11)","v":0.78427540895463999},-3.1384615384615384]
["08:43:00",8690,1058,8872,986,182,327.60000000000002,0.7843610164227357,-2.5277777777777777]
["08:44:00",7657,1014,8281,957,624,327.60000000000002,1.1018004983522225,-10.947368421052632]
["08:45:00",8564,1258,8697,1078,133,327.60000000000002,1.2600868357170869,-0.73888888888888893]
["08:46:00",8669,1338,8673,1232,4,330.45,0.56069948362549304,-3.7735849056603772E-2]
["08:47:00",8860,1433,8841,1313,-19,330.5,0.55060166492251827,0.15833333333333333]
["08:48:00",9218,1589,8526,1215,-692,330.05,1.2161511627003554,1.8502673796791445]
["08:49:00",9143,1573,8936,1433,-207,330.3,0.42340853969351144,1.4785714285714286]
["08:50:00",9486,1730,8904,1420,-582,330.05,0.7871855409916142,1.8774193548387097]
["08:51:00",9401,1704,9283,1526,-118,330.2,0.56620533599148448,{"$f":"(D20-B20)/(E20-C20)","v":0.6629213483146067}]
["08:52:00",10090,1760,10387,1787,297,330.4,7.958042936358467E-2,11]
["08:53:00",10191,1830,10356,1751,165,330.35,0.34548220688880349,{"$f":"(D22-B22)/(E22-C22)","v":-2.0886075949367089}]
["08:54:00",10117,1807,10496,1826,379,330.45,0.14930072960756835,19.94736842105263]
["08:55:00",9797,1686,10724,1921,927,330.75,-0.2282856707070442,{"$f":"(D24-B24)/(E24-C24)","v":3.9446808510638296}]
["08:56:00",9777,1717,10731,1900,954,330.8,-4.6339392453177197E-2,5.2131147540983607]
["08:57:00",9948,1798,10627,1856,679,330.75,0.19294007230255783,11.706896551724139]
["08:58:00",9430,1575,10922,1976,1492,331.15,-0.45997365207891505,3.7206982543640899]
["08:59:00",9630,1670,10931,1910,1301,331.2,-4.343041665360392E-2,{"$f":"(D28-B28)/(E28-C28)","v":5.4208333333333334}]
["09:00:00",9704,1748,10760,1804,1056,331.1,0.41303586740880949,{"$f":"(D29-B29)/(E29-C29)","v":18.857142857142858}]
["09:01:00",8540,1298,11912,2077,3372,332,-0.84415785776124608,4.3286264441591786]
["09:02:00",8240,1257,12175,2138,3935,332.4,-0.86071600533736969,4.4665153234960275]
["09:03:00",9454,1634,11515,1884,2061,331.45,0.32619404012920761,8.2439999999999998]
["09:04:00",9879,1774,11136,1788,1257,330.95,0.65941678079341415,89.785714285714292]
["09:05:00",10023,1891,10458,1727,435,330.6,0.75521754986669265,-2.6524390243902438]
["09:06:00",10064,1889,10710,1840,646,330.65,0.49296556724284812,-13.183673469387756]
["09:07:00",9965,1683,11067,1998,1102,331,-0.38193541134717535,3.4984126984126984]
["09:08:00",9864,1679,11367,2103,1503,331.25,-0.4697900302384328,3.5448113207547172]
["09:09:00",10154,1806,11324,2076,1170,331.2,-0.16764926161350413,4.333333333333333]
["09:10:00",10273,1906,11251,2014,978,331.15,0.19657361741680202,9.0555555555555554]
["09:11:00",9394,1574,12234,2243,2840,331.8,-0.51393152549708443,4.245142002989537]
["09:12:00",9733,1733,11807,2173,2074,331.65,-0.18277028919947913,4.7136363636363638,null,null,null,null," "]
["09:13:00",10082,1856,11572,2107,1490,331.45,6.0056891641981913E-2,5.9362549800796813]
["09:14:00",10234,1896,11410,2049,1176,331.25,0.17089070926849104,7.6862745098039218]
["09:15:00",10027,1833,11707,2192,1680,331.45,-0.12948264979830437,4.6796657381615603]
["09:16:00",9717,1738,12151,2366,2434,331.65,-0.45523707062168572,3.8757961783439492]
["09:17:00",9801,1901,11761,2169,1960,331.4,0.26660690825653166,7.3134328358208958]
["09:18:00",9111,1661,12378,2431,3267,331.9,-0.39351805187410882,4.2428571428571429]
["09:19:00",9633,1858,11854,2229,2221,331.55,0.13347275202451669,5.986522911051213,null,null," "]
["09:20:00",9514,1847,11980,2278,2466,331.6,0.10794335592967297,5.7215777262180971]
["09:21:00",9310,1788,12193,2360,2883,331.8,-4.040969931369176E-2,5.04020979020979]
["09:22:00",8911,1630,12687,2464,3776,332.15,-0.31792636044936629,{"$f":"(D51-B51)/(E51-C51)","v":4.5275779376498804}]
["09:23:00",9418,1836,12029,2220,2611,331.7,0.28883883883883854,6.799479166666667]
["09:24:00",9335,1824,12217,2285,2882,331.8,0.22873550808092435,6.2516268980477223]
["09:25:00",9537,1872,12150,2267,2613,331.75,0.26495467295533448,6.6151898734177212]
["09:26:00",9829,1945,11758,2154,1929,331.5,0.40521108573037967,9.2296650717703344]
["09:27:00",9963,1991,11818,2170,1855,331.45,0.4420648679426078,10.363128491620111]
["09:28:00",9815,1918,12034,2241,2219,331.6,0.25261444340680939,6.8699690402476783]
["09:29:00",9714,1902,12159,2296,2445,331.7,0.18847618681234124,6.2055837563451774]
["09:30:00",9985,2011,11909,2204,1924,331.45,0.43816608471916219,9.9689119170984455]
["09:31:00",9808,1932,12136,2320,2328,331.65,0.15442992789319643,6]
["09:32:00",10273,2110,11654,2138,1381,331.35,0.5821683018633701,49.321428571428569,null,null,null,null,null,"                                                                                                                                                                                                                                                                                                                                                                                                                                                                                                                                                                                                                                                                                                                                                                                                                                                                                                          "]
["09:33:00",10152,2037,11860,2228,1708,331.45,0.33936007911095345,8.9424083769633516]
["09:34:00",9715,1879,12256,2363,2541,331.8,1.6323816005892944E-2,5.25]
["09:35:00",9800,1919,12249,2362,2449,331.8,7.9032969030670586E-2,5.5282167042889387]
["09:36:00",9723,1915,12343,2397,2620,331.85,7.206876306436083E-2,5.4356846473029048]
["09:37:00",9656,1902,12401,2414,2745,331.95,6.0355514667767451E-2,5.361328125]
["09:38:00",9345,1750,12907,2423,3562,332.15,-1.3132480396202517E-2,5.2927191679049033]
["09:39:00",8965,1651,13320,2548,4355,332.4,-0.20241288520253686,4.8550724637681162]
["09:40:00",9084,1688,13118,2501,4034,332.25,-0.13641462846141206,4.9618696186961868]
["09:41:00",9143,1711,13107,2514,3964,332.3,-0.13005486051925708,4.9364881693648819]
["09:42:00",8895,1612,13349,2584,4454,332.45,-0.35196840261506246,4.5823045267489713]
["09:43:00",9186,1725,13065,2453,3879,332.25,9.1387653095598154E-4,5.3282967032967035]
["09:44:00",9305,1777,12972,2446,3667,332.15,6.699900748687071E-2,{"$f":"(D73-B73)/(E73-C73)","v":5.4813153961136027}]
["09:45:00",9232,1741,13097,2495,3865,332.25,{"$f":"(D74/E74)-(B74/C74)","v":-5.3401000737833826E-2},5.1259946949602124]
["09:46:00",9279,1762,13117,2491,3838,332.25,-4.1807715494268649E-4,5.2647462277091908]
["09:47:00",9448,1823,12960,2442,3512,332.1,0.12445937185377698,{"$f":"(D76-B76)/(E76-C76)","v":5.6736672051696289}]
["09:48:00",9422,1822,13009,2423,3587,332.15,0.19772369892808239,5.9683860232945092]
["09:49:00",9485,1838,13023,2443,3538,332.15,0.17024034827583634,5.8479338842975208]
["09:50:00",9494,1830,12970,2422,3476,332.1,0.16710030548749355,5.8716216216216219]
["09:51:00",9386,1793,13132,2472,3746,332.2,7.7495726819688748E-2,5.5169366715758468]
["09:52:00",9472,1820,13103,2417,3631,332.15,0.21678768066852427,6.0820770519262979]
["09:53:00",9468,1838,13213,2446,3745,332.1,0.25062926124862894,6.1595394736842106]
["09:54:00",9714,1916,12910,2342,3196,331.95,0.44244520947248134,7.502347417840376]
["09:55:00",9814,1948,13013,2332,3199,331.95,0.54220099957382484,8.3307291666666661]
["09:56:00",9916,1975,12818,2343,2902,331.85,0.450004484135345,7.8858695652173916]
["09:57:00",9972,1999,12800,2352,2828,331.8,0.45368262362473732,8.0113314447592074]
["09:58:00",9675,1903,13069,2470,3394,332.05,0.20701534546986267,{"$f":"(D87-B87)/(E87-C87)","v":5.9858906525573188}]
["09:59:00",9652,1880,13154,2483,3502,332.1,0.16358128893497081,5.8076285240464349]
["10:00:00",9779,1950,13028,2436,3249,332.05,0.3332398635846916,6.6851851851851851]
["10:01:00",9578,1861,13217,2508,3639,332.2,0.12324087905269465,{"$f":"(D90-B90)/(E90-C90)","v":5.6244204018547137}]
["10:02:00",9493,1837,13336,2543,3843,332.3,7.6535093399516363E-2,5.4433427762039663]
["10:03:00",9679,1901,13152,2480,3473,332.1,0.21169503317439098,5.9982728842832467]
["10:04:00",9385,1778,13379,2577,3994,332.35,-8.6706929387028175E-2,4.9987484355444307]
["10:05:00",9006,1623,13590,2625,4584,332.55,-0.37184050699762317,4.5748502994011977]
["10:06:00",8816,1567,13499,2611,4683,332.65,-0.45598722404866532,4.485632183908046]
["10:07:00",9093,1622,13487,2626,4394,332.65,-0.47009371334553585,4.3764940239043826]
["10:08:00",9511,1780,13100,2472,3589,332.3,-4.3905676157230289E-2,{"$f":"(D97-B97)/(E97-C97)","v":5.1864161849710984}]
["10:09:00",9335,1709,13409,2616,4074,332.5,-0.33649410478434838,4.4917309812568904]
["10:10:00",9478,1747,13528,2662,4050,332.65,-0.34340720187058871,4.4262295081967213]
["10:11:00",9650,1828,13371,2617,3721,332.45,-0.16970799410352555,4.7160963244613434]
["10:12:00",9715,1843,13429,2647,3714,332.45,-0.19800628113071816,4.6194029850746272]
["10:13:00",9665,1838,13483,2648,3818,332.5,-0.16666570783295942,4.7135802469135806]
["10:14:00",9364,1773,13626,2710,4262,332.6,-0.2533995999858476,4.5485592315901817]
["10:15:00",9316,1774,13684,2733,4368,332.65,-0.24445717731958716,4.554744525547445]
["10:16:00",8890,1612,14039,2838,5149,333,-0.56809482090802454,4.1998368678629694]
["10:17:00",9144,1678,14041,2819,4897,332.95,-0.46850018666963145,{"$f":"(D106-B106)/(E106-C106)","v":4.2918492550394394}]
["10:18:00",9286,1727,13796,2721,4510,332.8,-0.30675947460475417,4.5372233400402413]
["10:19:00",9166,1692,13960,2802,4794,332.9,-0.43510208007451645,4.3189189189189188]
["10:20:00",8947,1649,14134,2851,5187,333.05,-0.4681538017471345,4.315307820299501]
["10:21:00",9218,1744,13972,2801,4754,332.9,-0.29733196532037987,4.4976348155156103]
["10:22:00",9195,1755,14158,2825,4963,332.9,-0.227634823387036,4.6383177570093457]
["10:23:00",9196,1762,14242,2852,5046,332.95,-0.22538059994937498,4.6293577981651373]
["10:24:00",9166,1753,14359,2883,5193,332.95,-0.24817492395475238,4.5955752212389385]
["10:25:00",9229,1767,14354,2883,5125,332.9,-0.24413531226609653,4.5922939068100357]
["10:26:00",9098,1721,14451,2932,5353,333,-0.357743760766013,4.420313790255987]
["10:27:00",9198,1748,14473,2934,5275,332.95,-0.32915756092462889,4.4477234401349071]
["10:28:00",9171,1732,14445,2895,5274,332.95,-0.3053973363328506,4.5348237317282889]
["10:29:00",9425,1815,14281,2835,4856,332.8,-0.15544769484163456,4.7607843137254902]
["10:30:00",9604,1883,14069,2753,4465,332.65,1.00532437071017E-2,5.1321839080459766]
["10:31:00",9814,1920,13792,2705,3978,332.45,-1.2752233518176226E-2,5.0675159235668792]
["10:32:00",10010,1932,13298,2529,3288,332.2,7.7045403751267116E-2,5.5075376884422109]
["10:33:00",10406,2063,12757,2338,2351,331.85,0.41226244968687364,8.5490909090909089]
["10:34:00",10066,1968,13301,2564,3235,332,7.2760105526171515E-2,5.4278523489932882]
["10:35:00",9807,1907,13472,2650,3665,332.15,-5.8858822016206069E-2,4.9327052489905787]
["10:36:00",10303,2075,12984,2435,2681,331.9,0.36693698819920328,7.447222222222222]
["10:37:00",10241,2037,13031,2479,2790,331.85,0.2290636535905044,{"$f":"(D126-B126)/(E126-C126)","v":6.3122171945701355}]
["10:38:00",10030,1967,13235,2542,3205,332,0.10739455140422738,5.5739130434782611]
["10:39:00",9854,1925,13393,2624,3539,332.1,-1.4921404814697503E-2,5.0629470672389125]
["10:40:00",9834,1924,13341,2611,3507,332.1,-1.6900352020989828E-3,5.1048034934497819]
["10:41:00",9885,1937,13288,2583,3403,332.05,4.1153277525842746E-2,{"$f":"(D130-B130)/(E130-C130)","v":5.2678018575851393}]
["10:42:00",9999,1961,13236,2555,3237,332,8.1501410578691313E-2,{"$f":"(D131-B131)/(E131-C131)","v":5.4494949494949498}]
["10:43:00",9872,1939,13465,2636,3593,332.1,1.6834194056820628E-2,5.1549497847919659]
["10:44:00",9683,1887,13758,2737,4075,332.3,-0.10475400500975951,4.7941176470588234]
["10:45:00",10041,2006,13527,2601,3486,332.05,0.19520849217054703,{"$f":"(D134-B134)/(E134-C134)","v":5.8588235294117643}]
["10:46:00",10412,2131,13122,2447,2710,331.75,0.47651564648732325,{"$f":"(D135-B135)/(E135-C135)","v":8.575949367088608}]
["10:47:00",10107,2019,13421,2554,3314,331.95,0.24895074707273857,{"$f":"(D136-B136)/(E136-C136)","v":6.1943925233644856}]
["10:48:00",9973,1970,13542,2586,3569,332.05,0.1742223844912667,{"$f":"(D137-B137)/(E137-C137)","v":5.7938311688311686}]
["10:49:00",10427,2107,13150,2476,2723,331.75,{"$f":"(D138/E138)-(B138/C138)","v":0.36224317280731277},7.3794037940379402]
["10:50:00",10473,2124,13356,2550,2883,331.85,0.30685609837155159,6.767605633802817]
["10:51:00",10260,2054,13620,2632,3360,332,0.17964058564651086,5.8131487889273359]
["10:52:00",10310,2076,13634,2677,3324,332,0.12673325833493454,5.5307820299500836]
["10:53:00",10270,2077,13645,2673,3375,332.05,0.16011953555419023,5.6627516778523486]
["10:54:00",10536,2166,13350,2580,2814,331.8,0.31015267667332402,6.7971014492753623]
["10:55:00",10462,2138,13398,2607,2936,331.9,0.24588222756391254,6.2601279317697225]
["10:56:00",10397,2121,13507,2646,3110,331.95,0.20275326852413134,5.9238095238095241]
["10:57:00",10606,2178,13279,2551,2673,331.8,0.33580450094473147,7.1662198391420908]
["10:58:00",11166,2289,12510,2289,1344,331.35,0.58715596330275233,{"$error":"#DIV/0!"}]
["10:59:00",11429,2348,12163,2173,734,331.15,0.7297840305875658,-4.194285714285714]
["11:00:00",11084,2284,12213,2288,1129,331.25,0.48495998309921173,282.25]
["11:01:00",11286,2335,11885,2172,599,331.1,0.63851057453042603,-3.6748466257668713]
["11:02:00",11252,2351,11922,2204,670,331.1,0.62320740836235267,-4.5578231292517009,null,null," "]
["11:03:00",10909,2268,12119,2270,1210,331.3,0.52880179319239495,605]
["11:04:00",10878,2273,12203,2313,1325,331.35,0.49008654197121082,33.125]
["11:05:00",10905,2267,12276,2344,1371,331.35,0.42687935371881203,17.805194805194805]
["11:06:00",11026,2336,12211,2323,1185,331.3,0.53653054033813152,-91.15384615384616]
["11:07:00",11068,2347,12178,2306,1110,331.3,0.56519865739917829,-27.073170731707318]
["11:08:00",11184,2417,12034,2234,850,331.2,0.75952639261809018,-4.6448087431693992]
["11:09:00",11423,2500,11759,2133,336,330.95,0.94369263947491788,-0.91553133514986373]
["11:10:00",11214,2412,11872,2187,658,331.1,0.77918705512219422,-2.9244444444444446]
["11:11:00",11301,2425,11857,2204,556,331.05,0.71955787976874319,-2.5158371040723981]
["11:12:00",11150,2397,11952,2229,802,331.1,0.71039786723085374,-4.7738095238095237]
["11:13:00",10972,2330,12141,2325,1169,331.3,0.51292260833448644,-233.8]
["11:14:00",11049,2363,11898,2310,849,331.25,0.47481354870267278,-16.018867924528301]
["11:15:00",10891,2304,12154,2434,1263,331.35,0.26642993072674148,9.7153846153846146]
["11:16:00",10839,2262,12194,2436,1355,331.4,0.21396993810786924,7.7873563218390807]
["11:17:00",10695,2191,12317,2474,1622,331.5,9.7244478127063161E-2,5.7314487632508833]
["11:18:00",10842,2260,12141,2410,1299,331.35,0.24041420335622199,8.66]
["11:19:00",10916,2299,12174,2430,1258,331.4,0.26172517304893717,9.6030534351145036]
["11:20:00",10735,2206,12401,2509,1666,331.6,7.6332817451011614E-2,5.4983498349834985]
["11:21:00",10800,2232,12386,2491,1586,331.55,0.13359060359228714,6.1235521235521233]
["11:22:00",10827,2247,12340,2467,1513,331.45,0.18360218705335019,6.877272727272727]
["11:23:00",10827,2254,12409,2471,1582,331.5,0.21839298596640244,7.290322580645161]
["11:24:00",10843,2265,12372,2463,1529,331.5,0.23594604114403062,7.7222222222222223]
["11:25:00",10927,2300,12323,2443,1396,331.4,0.2933383758386876,9.7622377622377616]
["11:26:00",11166,2385,12033,2309,867,331.2,0.52958589713208593,-11.407894736842104]
["11:27:00",10894,2278,12316,2432,1422,331.4,0.28187959197819001,9.2337662337662341]
["11:28:00",10768,2246,12430,2476,1662,331.55,0.22589288154709042,7.2260869565217387]
["11:29:00",10901,2298,12294,2414,1393,331.4,0.34910188103483986,12.008620689655173]
["11:30:00",10732,2237,12483,2490,1751,331.55,0.21575636475270699,6.9209486166007901]
["11:31:00",10714,2230,12491,2495,1777,331.55,0.20192852071856748,6.7056603773584902]
["11:32:00",10536,2157,12659,2562,2123,331.65,5.6499779053873489E-2,5.2419753086419751," "]
["11:33:00",10533,2158,12705,2571,2172,331.7,6.0748694445676321E-2,5.2590799031476996]
["11:34:00",10625,2198,12622,2520,1997,331.65,0.17479021332524525,6.2018633540372674]
["11:35:00",10622,2203,12635,2528,2013,331.65,0.1764152522164828,6.1938461538461542]
["11:36:00",10772,2256,12481,2468,1709,331.6,0.2823085853535181,8.0613207547169807]
["11:37:00",10640,2212,12603,2515,1963,331.65,0.20100661851674761,6.4785478547854787]
["11:38:00",10537,2177,12646,2542,2109,331.7,0.13467598276379888,5.7780821917808218]
["11:39:00",10580,2203,12588,2524,2008,331.7,0.18477972337102688,6.2554517133956384]
["11:40:00",10464,2145,12702,2569,2238,331.8,6.6014639311641865E-2,5.2783018867924527]
["11:41:00",10459,2158,12713,2589,2254,331.8,6.3772873828856547E-2,5.2296983758700692]
["11:42:00",10446,2149,12721,2565,2275,331.8,9.858867218716405E-2,5.46875]
["11:43:00",10481,2188,12668,2534,2187,331.8,0.20899135558957571,6.3208092485549132]
["11:44:00",10566,2217,12598,2521,2032,331.7,0.23132345939574428,6.6842105263157894]
["11:45:00",10527,2199,12633,2530,2106,331.75,0.20610464332511924,6.3625377643504528]
["11:46:00",10436,2166,12720,2557,2284,331.8,0.15648170918208049,5.8414322250639383]
["11:47:00",10282,2096,12867,2639,2585,331.9,-2.9823854744885914E-2,4.7605893186003687]
["11:48:00",10342,2130,12845,2640,2503,331.9,1.0131241997439311E-2,4.9078431372549023]
["11:49:00",10215,2084,13003,2676,2788,331.95,-4.2513391230500908E-2,4.7094594594594597]
["11:50:00",10127,2056,13037,2686,2910,332.05,-7.1897879478836302E-2,{"$f":"(D199-B199)/(E199-C199)","v":4.6190476190476186}]
["11:51:00",10203,2094,12957,2640,2754,332,3.5461708778328216E-2,5.0439560439560438]
["11:52:00",10168,2072,12930,2621,2762,332,2.5895683659896029E-2,5.0309653916211294]
["11:53:00",10237,2086,12795,2556,2558,331.95,{"$f":"(D202/E202)-(B202/C202)","v":9.839011698828326E-2},5.4425531914893615]
["11:54:00",10082,2031,12933,2625,2851,332,-3.7199971864668946E-2,4.7996632996632993]
["11:55:00",9908,1960,13090,2679,3182,332.15,-0.16895049173084775,4.4255910987482618]
["11:56:00",9734,1909,13166,2686,3432,332.25,-0.19729213074252971,4.416988416988417]
["11:57:00",9988,2023,12964,2603,2976,332.1,4.3185274833080101E-2,5.1310344827586203]
["11:58:00",10032,2051,12920,2586,2888,332.1,0.10486047399963017,5.3981308411214952]
["11:59:00",10117,2082,12872,2550,2755,332,0.18857320449793757,5.8867521367521372]
["12:00:00",10250,2126,12770,2518,2520,331.9,0.2502247225433134,6.4285714285714288]
["12:01:00",10090,2071,12952,2604,2862,332.05,0.10184383717506229,5.3696060037523452]
["12:02:00",10094,2078,12957,2592,2863,332.05,0.14128725091790528,5.5700389105058363]
["12:03:00",10071,2078,12986,2598,2915,332.05,0.15197334738130586,5.6057692307692308]
["12:04:00",10095,2065,13059,2635,2964,332.1,6.735737487996829E-2,5.2]
["12:05:00",10141,2107,13085,2649,2944,332.1,0.12659557752359074,5.4317343173431736]
["12:06:00",10245,2146,12984,2602,2739,332.1,0.2160095503279793,6.0065789473684212]
["12:07:00",10238,2152,12999,2613,2761,332.1,0.21730673199629535,{"$f":"(D216-B216)/(E216-C216)","v":5.9891540130151846}]
["12:08:00",10198,2135,13036,2642,2838,332.1,0.15756000616947929,{"$f":"(D217-B217)/(E217-C217)","v":5.5976331360946743}]
["12:09:00",10294,2170,12932,2588,2638,332.05,0.2531300080484904,6.3110047846889952]
["12:10:00",10211,2139,13065,2633,2854,332.1,0.18829446871947653,5.7773279352226723]
["12:11:00",10308,2171,12942,2573,2634,332,0.28188377945296228,6.5522388059701493]
["12:12:00",10396,2202,12872,2547,2476,331.95,0.33262619163005258,7.1768115942028983]
["12:13:00",10273,2165,12994,2585,2721,332.05,0.2816578144473576,6.4785714285714286]
["12:14:00",10267,2162,13020,2597,2753,332.1,0.26463342567404169,{"$f":"(D223-B223)/(E223-C223)","v":6.3287356321839079}]
["12:15:00",10072,2068,13198,2671,3126,332.25,7.0814327105301444E-2,5.1840796019900495]
["12:16:00",10121,2090,13093,2652,2972,332.15,9.4444925559477255E-2,5.2882562277580067]
["12:17:00",10300,2162,12905,2588,2605,332.05,{"$f":"(D226/E226)-(B226/C226)","v":0.22236873522855838},6.115023474178404]
["12:18:00",10200,2123,12994,2621,2794,332.1,{"$f":"(D227/E227)-(B227/C227)","v":0.15312784903555343},5.6104417670682727]
["12:19:00",10313,2173,12918,2588,2605,332,0.24552591841278115,6.2771084337349397]
["12:20:00",10289,2158,13010,2584,2721,332,0.2669891282204313,6.387323943661972]
["12:21:00",10143,2101,13228,2648,3085,332.15,0.16776718322881745,5.6398537477148079]
["12:22:00",10233,2147,13142,2604,2909,332.1,0.28066562352212276,6.3654266958424506]
["12:23:00",10227,2151,13364,2643,3137,332.1,0.30184255560990803,6.3760162601626016]
["12:24:00",10212,2148,13407,2650,3195,332.05,0.30505533888478986,6.3645418326693228]
["12:25:00",10403,2215,13221,2573,2818,331.9,0.44174589569228662,7.8715083798882679]
["12:26:00",10388,2215,13358,2602,2970,331.95,0.4439012879483224,7.6744186046511631]
["12:27:00",10403,2224,13389,2614,2986,332,0.44442728143422539,7.6564102564102567]
["12:28:00",10428,2231,13416,2599,2988,331.95,0.48784822076690926,{"$f":"(D237-B237)/(E237-C237)","v":8.1195652173913047}]
["12:29:00",10478,2242,13271,2547,2793,331.85,0.53693786081261941,{"$f":"(D238-B238)/(E238-C238)","v":9.1573770491803277}]
["12:30:00",10403,2225,13353,2599,2950,331.95,0.46223966867118271,7.8877005347593583]
["12:31:00",10281,2169,13470,2654,3189,332.05,0.33538561278104151,6.5752577319587626]
["12:32:00",10195,2134,13593,2700,3398,332.1,0.25703113610330153,6.0035335689045937]
["12:33:00",10212,2143,13581,2691,3369,332.05,0.2815404279625513,6.1478102189781021]
["12:34:00",10123,2098,13713,2722,3590,332.15,0.2127683269955849,5.7532051282051286]
["12:35:00",10122,2088,13802,2731,3680,332.2,0.20612528777720307,5.7231726283048214]
["12:36:00",10219,2141,13621,2687,3402,332.05,0.29621891137062573,6.2307692307692308]
["12:37:00",10215,2136,13526,2655,3311,332.1,0.31223523561649635,6.3795761078998074]
["12:38:00",10204,2138,13543,2673,3339,332.1,0.29390709226485168,6.2411214953271026]
["12:39:00",10348,2194,13466,2651,3118,332,0.36309306235207561,6.8227571115973742]
["12:40:00",10188,2135,13574,2691,3386,332.1,0.27232452350057468,6.0899280575539567]
["12:41:00",10236,2150,13525,2673,3289,332.1,0.29892760507747518,6.2887189292543022]
["12:42:00",10137,2115,13633,2704,3496,332.15,0.24888213940996273,5.935483870967742]
["12:43:00",10071,2088,13719,2743,3648,332.2,0.17818239531346247,5.5694656488549619]
["12:44:00",10343,2166,13446,2634,3103,332,0.32962201090786003,6.6303418803418808]
["12:45:00",10381,2184,13420,2625,3039,332,0.35917582417582405,6.8911564625850339]
["12:46:00",10460,2199,13375,2608,2915,331.95,0.37174332588432613,7.1271393643031784]
["12:47:00",10315,2156,13485,2664,3170,332,0.27761411689983095,6.2401574803149602]
["12:48:00",10193,2118,13684,2714,3491,332.1,0.2294454035766007,5.8573825503355703]
["12:49:00",10253,2144,13638,2704,3385,332.05,0.26145621743354219,6.0446428571428568]
["12:50:00",10248,2147,13659,2714,3411,332.1,0.25962105784870904,6.0158730158730158]
["12:51:00",10211,2124,13669,2718,3458,332.1,0.22162669460345974,5.8215488215488218]
["12:52:00",10134,2095,13708,2744,3574,332.1,0.15839531857748224,5.5069337442218798]
["12:53:00",9980,2025,13864,2812,3884,332.2,1.9036580440090489E-3,4.9351969504447268]
["12:54:00",10043,2037,13806,2784,3763,332.2,2.8762082508082543E-2,{"$f":"(D263-B263)/(E263-C263)","v":5.0374832663989286}]
["12:55:00",10047,2040,13811,2790,3764,332.15,2.5179211469533946E-2,5.0186666666666664]
["12:56:00",10066,2049,13774,2770,3708,332.15,5.9922864547820254E-2,5.1428571428571432]
["12:57:00",10287,2126,13575,2670,3288,332,{"$f":"(D266/E266)-(B266/C266)","v":0.24560550487807387},6.0441176470588234]
["12:58:00",10436,2206,13411,2606,2975,331.9,0.41546671360950249,7.4375]
["12:59:00",10504,2233,13285,2555,2781,331.8,0.49562294106460314,8.6366459627329188]
["13:00:00",10416,2203,13414,2613,2998,331.85,0.40546490634227172,7.3121951219512198]
["13:01:00",10612,2271,13272,2542,2660,331.75,0.54825440741729992,9.8154981549815492]
["13:02:00",10756,2329,12911,2464,2155,331.65,0.62156278403863219,15.962962962962964]
["13:03:00",10752,2348,12987,2471,2235,331.65,0.67655054164940243,18.170731707317074]
["13:04:00",10594,2279,13163,2557,2569,331.75,0.49929943063831317,9.2410071942446042]
["13:05:00",10506,2252,13253,2592,2747,331.8,0.4478536225686911,8.079411764705883]
["13:06:00",10400,2197,13337,2620,2937,331.8,0.35673020461628813,6.9432624113475176]
["13:07:00",10366,2190,13405,2644,3039,331.9,0.33663640948058493,6.6938325991189425]
["13:08:00",10437,2209,13289,2578,2852,331.8,0.43000880452033208,7.7289972899728996]
["13:09:00",10220,2123,13492,2664,3272,332,0.25062203041477638,6.0480591497227358]
["13:10:00",10252,2151,13522,2682,3270,331.95,0.27560460407052823,6.1581920903954801]
["13:11:00",10140,2098,13626,2719,3486,332.05,0.17822679860081436,{"$f":"(D280-B280)/(E280-C280)","v":5.6135265700483092}]
["13:12:00",10121,2100,13619,2706,3498,332.05,0.21336606482948017,5.7722772277227721]
["13:13:00",10230,2133,13520,2667,3290,332,0.27330444453936931,6.1610486891385765]
["13:14:00",10148,2090,13674,2717,3526,332.05,0.17725432462274515,5.6236044657097288]
["13:15:00",10188,2126,13625,2709,3437,332.05,0.23743335600956694,5.8953687821612348]
["13:16:00",10178,2128,13646,2720,3468,332,0.23401702786377676,5.8581081081081079]
["13:17:00",10306,2174,13506,2659,3200,331.95,0.33878276309338773,6.5979381443298966]
["13:18:00",10378,2206,13456,2635,3078,331.9,0.40219893648682792,7.174825174825175]
["13:19:00",10522,2260,13263,2567,2741,331.85,0.51097938091019124,8.9283387622149846]
["13:20:00",10481,2240,13329,2618,2848,331.8,0.41227320473644014,7.534391534391534]
["13:21:00",10421,2228,13404,2664,2983,331.9,0.35424248305756389,6.8417431192660549]
["13:22:00",10302,2181,13489,2700,3187,331.95,0.27240460543074008,6.1406551059730248]
["13:23:00",10430,2216,13423,2673,2993,331.9,0.31501976578189961,6.5492341356673958]
["13:24:00",10492,2247,13353,2652,2861,331.85,0.36573097966720791,7.0641975308641971]
["13:25:00",10531,2267,13305,2634,2774,331.75,0.40590657477344028,7.5585831062670303]
["13:26:00",10421,2218,13439,2687,3018,331.85,0.30311173291031945,6.4349680170575692]
["13:27:00",10410,2221,13412,2677,3002,331.85,0.32300802423028596,6.583333333333333]
["13:28:00",10320,2185,13504,2710,3184,331.95,0.25991370211184961,{"$f":"(D297-B297)/(E297-C297)","v":6.0647619047619044}]
["13:29:00",10301,2179,13531,2734,3230,331.95,0.22176085283041935,5.8198198198198199]
["13:30:00",10004,2058,13808,2850,3804,332.15,-1.6117845634494365E-2,4.8030303030303028]
["13:31:00",9849,1989,13818,2850,3969,332.2,-0.10331348733825507,4.6097560975609753]
["13:32:00",9839,1990,13797,2845,3958,332.2,-9.4660472838709708E-2,4.6292397660818709]
["13:33:00",9904,2013,13880,2841,3976,332.15,-3.4416210156684279E-2,4.8019323671497585]
["13:34:00",9810,1983,14014,2889,4204,332.25,-9.623649410435231E-2,4.6401766004415013]
["13:35:00",9167,1708,14326,2993,5159,332.5,-0.58059418111424677,4.0147859922178988]
["13:36:00",9210,1728,14324,2986,5114,332.55,-0.53280819751432595,4.0651828298887125]
["13:37:00",9233,1713,14389,3003,5156,332.5,-0.59841734447688921,{"$f":"(D306-B306)/(E306-C306)","v":3.9968992248062016}]
["13:38:00",9397,1796,14172,2867,4775,332.4,-0.28903648226536038,4.458450046685341]
["13:39:00",9698,1935,13973,2782,4275,332.3,1.0759273810784897E-2,5.0472255017709564]
["13:40:00",9854,1989,13733,2703,3879,332.2,0.12640276236280634,5.4327731092436977]
["13:41:00",9914,2014,13691,2693,3777,332.15,0.16137907281779107,5.5625920471281294]
["13:42:00",9722,1946,13824,2744,4102,332.25,4.2011871552321445E-2,5.1403508771929829]
["13:43:00",9672,1940,13910,2774,4238,332.3,2.8852600361233272E-2,5.0815347721822546]
["13:44:00",9745,1959,13865,2759,4120,332.25,5.0894737552964031E-2,5.15]
["13:45:00",9774,1980,13871,2764,4097,332.25,8.208788317326654E-2,5.2257653061224492]
["13:46:00",9925,2036,13687,2691,3762,332.2,0.21145888317238803,5.7435114503816793]
["13:47:00",10015,2056,13539,2671,3524,332.1,0.19777910749118277,{"$f":"(D316-B316)/(E316-C316)","v":5.7300813008130085}]
["13:48:00",9979,2043,13581,2694,3602,332.1,0.15671907006051455,5.5330261136712746]
["13:49:00",9890,2017,13699,2745,3809,332.15,8.720646815366262E-2,5.2321428571428568]
["13:50:00",9858,2006,13738,2755,3880,332.15,7.2312644643202972E-2,5.1802403204272363]
["13:51:00",10084,2086,13453,2652,3369,332,0.23864295330935636,5.9522968197879855]
["13:52:00",10301,2159,13131,2524,2830,331.8,0.43126605247337402,7.7534246575342465]
["13:53:00",10370,2143,12904,2454,2534,331.65,0.41934297561363376,8.1479099678456599]
["13:54:00",10434,2153,13103,2553,2669,331.75,0.28613223170867652,6.6725000000000003]
["13:55:00",10354,2146,13184,2587,2830,331.75,0.2714601756362276,6.4172335600907031]
["13:56:00",10160,2072,13329,2650,3169,331.9,0.12633641727981271,5.4826989619377162]
["13:57:00",10269,2122,13211,2609,2942,331.8,0.22432336554137766,6.0410677618069819]
["13:58:00",10264,2120,13229,2647,2965,331.8,0.15622384899957975,{"$f":"(D327-B327)/(E327-C327)","v":5.6261859582542693}]
["13:59:00",10328,2146,13186,2621,2858,331.75,0.21822949131557401,6.0168421052631578]
["14:00:00",10428,2177,13096,2576,2668,331.7,0.29377284256355995,6.6867167919799497]
["14:01:00",10424,2162,13072,2563,2648,331.7,{"$f":"(D330/E330)-(B330/C330)","v":0.27881150781977837},6.6034912718204488]
["14:02:00",10393,2150,13135,2600,2742,331.75,0.21796958855098403,6.0933333333333337]
["14:03:00",10495,2191,13061,2569,2566,331.7,0.29402920294442136,6.7883597883597879]
["14:04:00",10737,2247,12769,2401,2032,331.5,0.53982958813889859,{"$f":"(D333-B333)/(E333-C333)","v":13.194805194805195},null," "]
["14:05:00",10608,2182,12705,2408,2097,331.5,0.41456792360326578,9.2787610619469021]
["14:06:00",10602,2219,12865,2468,2263,331.55,0.43489500212909959,9.0883534136546178]
["14:07:00",10815,2304,12576,2368,1761,331.4,0.61680039414414356,27.515625]
["14:08:00",10793,2304,12646,2406,1853,331.4,0.57156479461069587,18.166666666666668]
["14:09:00",10661,2261,12816,2469,2155,331.55,0.47559521346429445,10.360576923076923]
["14:10:00",10572,2233,12956,2532,2384,331.6,0.38246565767402529,7.9732441471571907]
["14:11:00",10702,2257,12908,2498,2206,331.55,0.42564135490935939,9.1535269709543563]
["14:12:00",10964,2358,12675,2415,1711,331.4,0.59874406671618718,30.017543859649123]
["14:13:00",10878,2315,12695,2441,1817,331.45,0.50181731631072157,14.420634920634921]
["14:14:00",10713,2272,12897,2511,2184,331.55,0.42097184360644135,9.1380753138075317]
["14:15:00",10871,2328,12771,2463,1900,331.5,0.51546653356270777,14.074074074074074]
["14:16:00",10585,2226,13016,2538,2431,331.6,0.37328137910233483,7.791666666666667]
["14:17:00",10516,2200,13057,2570,2541,331.65,0.30054474708171153,6.8675675675675674]
["14:18:00",10538,2210,13061,2568,2523,331.65,0.3177333981759487,7.0474860335195535]
["14:19:00",10268,2098,13289,2639,3021,331.8,0.14143461482470698,5.5841035120147877]
["14:20:00",10453,2179,13164,2601,2711,331.7,0.26397567638669006,6.4241706161137442]
["14:21:00",10412,2157,13159,2612,2747,331.75,0.21082735010695597,6.0373626373626372]
["14:22:00",10299,2117,13326,2667,3027,331.85,0.1317222569663441,5.5036363636363639]
["14:23:00",10231,2090,13323,2660,3092,331.9,0.11343130553656877,5.4245614035087719]
["14:24:00",10368,2138,13237,2623,2869,331.8,0.19711967280875431,5.9154639175257735]
["14:25:00",10082,2079,13418,2681,3336,331.95,0.15540208751697016,5.5415282392026581]
["14:26:00",10170,2090,13388,2680,3218,331.9,0.12949367992573002,5.4542372881355936]
["14:27:00",10419,2163,13150,2605,2731,331.75,0.23106370177909241,6.1787330316742084]
["14:28:00",10770,2286,12817,2460,2047,331.6,0.49887651238717101,11.764367816091953]
["14:29:00",10615,2204,12997,2544,2382,331.7,0.29264045360636448,7.0058823529411764]
["14:30:00",10528,2201,13010,2546,2482,331.7,0.32669610649733194,7.1942028985507243,null," "]
["14:31:00",10425,2152,13135,2603,2710,331.8,0.20176979807399764,6.0088691796008868]
["14:32:00",10495,2175,13057,2571,2562,331.8,0.25328129400877142,6.4696969696969697]
["14:33:00",10650,2235,12963,2540,2313,331.7,0.33844263594567447,7.583606557377049]
["14:34:00",10846,2311,12683,2459,1837,331.55,0.46458131443074446,12.412162162162161]
["14:35:00",10725,2246,12882,2533,2157,331.55,0.31051333440438444,7.515679442508711]
["14:36:00",10772,2260,12832,2508,2060,331.55,0.35005575080097628,8.306451612903226]
["14:37:00",10817,2272,12767,2492,1950,331.5,0.36219070038206702,8.8636363636363633]
["14:38:00",10828,2277,12787,2503,1959,331.55,0.35328971066955095,8.6681415929203531]
["14:39:00",10933,2308,12475,2354,1542,331.3,0.56248849629451847,33.521739130434781]
["14:40:00",10783,2255,12588,2400,1805,331.4,0.46318181818181792,12.448275862068966]
["14:41:00",10907,2285,12430,2359,1523,331.3,0.49587769916971425,20.581081081081081]
["14:42:00",10737,2236,12621,2439,1884,331.4,0.3727833924135302,9.2807881773399021]
["14:43:00",10720,2221,12594,2416,1874,331.4,0.3860936843078262,9.6102564102564099]
["14:44:00",10609,2196,12717,2469,2108,331.5,0.31961182045340397,7.7216117216117217]
["14:45:00",10732,2234,12587,2418,1855,331.45,0.4016026474079446,10.081521739130435]
["14:46:00",10762,2278,12515,2396,1753,331.4,0.49896923611345212,14.85593220338983]
["14:47:00",10605,2227,12759,2455,2154,331.5,0.4351370012721123,9.4473684210526319]
["14:48:00",10680,2262,12699,2435,2019,331.45,0.49370966072800027,11.670520231213873]
["14:49:00",10690,2268,12799,2476,2109,331.5,0.45582067566451023,10.139423076923077]
["14:50:00",10578,2195,12921,2528,2343,331.55,0.29202066693578654,7.0360360360360357]
["14:51:00",10835,2269,12662,2421,1827,331.4,0.45483883945548431,12.019736842105264]
["14:52:00",10851,2320,12562,2392,1711,331.35,0.57451706838888228,23.763888888888889]
["14:53:00",10731,2272,12640,2449,1909,331.45,0.43813891412994099,10.785310734463277]
["14:54:00",10888,2334,12436,2367,1548,331.3,0.5889550296873356,46.909090909090907]
["14:55:00",11070,2387,12257,2283,1187,331.2,0.73119252132435175,-11.413461538461538]
["14:56:00",10843,2303,12539,2399,1696,331.35,0.51855446354927537,17.666666666666668]
["14:57:00",10857,2311,12576,2419,1719,331.35,0.50087624852221957,15.916666666666666]
["14:58:00",11023,2364,12367,2334,1344,331.2,0.6357694030857024,-44.8]
["14:59:00",11108,2390,12320,2328,1212,331.2,0.644397475161397,-19.548387096774192]
["15:00:00",11168,2399,12208,2279,1040,331.1,0.70146237983831572,-8.6666666666666661]
["15:01:00",11187,2417,12262,2295,1075,331.1,0.71445435067329033,-8.8114754098360653]
["15:02:00",10885,2292,12595,2410,1710,331.3,0.47701367918721438,{"$f":"(D391-B391)/(E391-C391)","v":14.491525423728813}]
["15:03:00",10891,2309,12643,2431,1752,331.25,0.48397993365257008,14.360655737704919]
["15:04:00",10808,2273,12673,2444,1865,331.35,0.43040247608912097,10.906432748538011]
["15:05:00",10758,2236,12803,2485,2045,331.35,{"$f":"(D394/E394)-(B394/C394)","v":0.34084255083272463},8.2128514056224908]
["15:06:00",10642,2186,12891,2518,2249,331.5,0.25128680090721023,6.774096385542169]
["15:07:00",10752,2220,12806,2494,2054,331.45,0.29148009276317222,7.4963503649635035]
["15:08:00",10684,2172,12922,2548,2238,331.45,0.15245987897921598,5.9521276595744679]
["15:09:00",10541,2146,13005,2572,2464,331.5,0.14444719025884911,5.784037558685446]
["15:10:00",10652,2177,12888,2536,2236,331.5,0.1890469476560952,{"$f":"(D399-B399)/(E399-C399)","v":6.2284122562674096}]
["15:11:00",10848,2241,12630,2429,1782,331.35,0.35897452855197365,{"$f":"(D400-B400)/(E400-C400)","v":9.4787234042553195}]
["15:12:00",10638,2187,12809,2491,2171,331.45,0.27791407090216147,7.1414473684210522]
["15:13:00",10597,2181,12909,2536,2312,331.5,0.23151930856826297,6.5126760563380284]
["15:14:00",10499,2129,12880,2531,2381,331.45,0.15747446552370192,{"$f":"(D403-B403)/(E403-C403)","v":5.9228855721393039}]
["15:15:00",10412,2130,13069,2584,2657,331.55,0.16939962790156837,5.8524229074889869]
["15:16:00",10526,2173,12979,2554,2453,331.55,0.23783794205312514,6.4383202099737531]
["15:17:00",10444,2151,12989,2573,2545,331.6,0.19277668554272864,6.0308056872037916]
["15:18:00",10580,2195,12832,2517,2252,331.5,0.27808713956937936,6.9937888198757765]
["15:19:00",10538,2166,12855,2507,2317,331.55,0.26245331170598618,6.7947214076246336]
["15:20:00",10513,2161,12859,2525,2346,331.5,0.22779589573950432,6.4450549450549453]
["15:21:00",10518,2148,12832,2517,2314,331.55,0.20148465296320239,6.2710027100271004]
["15:22:00",10764,2217,12634,2385,1870,331.4,0.44206489022788453,11.130952380952381]
["15:23:00",10737,2224,12701,2412,1964,331.4,0.43796679074650768,10.446808510638299]
["15:24:00",10749,2219,12675,2419,1926,331.4,0.39569459221451897,9.6300000000000008]
["15:25:00",10782,2225,12684,2423,1902,331.4,0.38899015520735336,9.6060606060606055]
["15:26:00",10917,2264,12521,2346,1604,331.25,0.51517318403778845,19.560975609756099]
["15:27:00",10715,2191,12776,2406,2061,331.4,0.41959721114071691,9.5860465116279077]
["15:28:00",10723,2185,12814,2423,2091,331.35,0.38093386132704232,8.7857142857142865]
["15:29:00",10766,2193,12736,2396,1970,331.3,0.40626915051457591,9.7044334975369466]
["15:30:00",10431,2090,12966,2421,2535,331.5,0.36472907513799679,7.6586102719033233]
["15:31:00",10466,2062,12426,2297,1960,331.3,0.33401007597731169,8.3404255319148941]
["15:32:00",10373,1980,12272,2194,1899,331.3,0.35454775650764692,8.8738317757009337]
["15:33:00",9912,1923,12160,2179,2248,331.25,{"$f":"(D422/E422)-(B422/C422)","v":0.42609535496610285},8.78125]
["15:34:00",10154,1935,12101,2163,1947,331.2,0.34699939432384674,8.5394736842105257]
["15:35:00",7910,1455,9627,1701,1717,331.3,0.22318587610683771,{"$f":"(D424-B424)/(E424-C424)","v":6.9796747967479673}]
["15:36:00",8691,1326,10153,1585,1462,331.3,-0.14862040909545104,5.6447876447876446]
["15:37:00",9944,1370,10878,1619,934,331.3,-0.53943183816269435,3.751004016064257]
["15:38:00",8433,1228,8681,1441,248,331.3,-0.84297515523738298,1.164319248826291]
["15:39:00",8769,1249,9480,1458,711,331.3,-0.5187590401539337,3.401913875598086]
["15:40:00",8977,1275,9576,1466,599,331.3,-0.50872428644036116,3.1361256544502618]
["15:41:00",9054,1280,9905,1495,851,331.3,-0.44801943979933068,{"$f":"(D430-B430)/(E430-C430)","v":3.9581395348837209}]
["15:42:00",9263,1301,9912,1499,649,331.3,-0.50749949107757697,3.2777777777777777]
["15:43:00",9302,1311,9945,1507,643,331.3,-0.49614334731841225,3.2806122448979593]
["15:44:00",9415,1326,10032,1510,617,331.3,-0.456593049853665,3.3532608695652173]
["15:45:00",9901,1407,10426,1550,525,331.3,-0.31050645390558707,{"$f":"(D434-B434)/(E434-C434)","v":3.6713286713286712}]
["15:46:00",5304,1000,5815,1187,511,331.2,{"$f":"(D435/E435)-(B435/C435)","v":-0.40509519797809634},{"$f":"(D435-B435)/(E435-C435)","v":2.7326203208556148}]
[]
[]
[null,null,null,null,null,null,null,null,null,null," "]

{"sheet":"2. 순매수에 따른 익일가격","index":1,"n_rows":324,"n_cols":30,"rows_kept":324,"cut":false,"hidden":true,"merged":[]}
[null,null,null,null,null,null,null,null,"15:35:00",null,null,null,null,null,null,null,null,null,null,"15:45:00",null,null,null,null,"익일시가예상","당일",null,"발생횟수","성공횟수","확률"]
[null,"날짜","시간","매도총잔량","매도건수","매수총잔량","매수건수","순매수총잔량","선물지수","순매수건수","평균계약수",null,"날짜","시간","매도총잔량","매도건수","매수총잔량","매수건수","순매수총잔량","선물지수","순매수건수","평균계약수","종가",null,"순매수총잔량","시작가","일치여부",{"$f":"COUNTA(AA4:AA1000)","v":321},{"$f":"COUNTIF(AA4:AA1000,\"성공\")","v":169},{"$f":"AC2/AB2","v":0.52647975077881615}]
[null,"2023-10-12","15:35:00",9508,1216,15618,2033,6110,330.4,-0.13683595671421589,7.4785801713586295,null,"2023-10-12","15:46:00",10474,1101,13874,1542,3400,330.45,-0.5157638793173529,7.7097505668934243,{"$f":"T3","v":330.45},null,{"$f":"IF(H3>S3,\"하락\",\"상승\")","v":"하락"},null,null,"순매수총잔량 증감율"]
["금","2023-10-13","15:35:00",14867,1854,13866,1712,-1001,327.45,8.0420964018186325E-2,7.049295774647887,null,"2023-10-13","15:46:00",11298,1240,11489,1268,191,327.85,-5.0564770530172609E-2,6.8214285714285712,327.85,null,"상승",327.45,{"$f":"IF(AND(Y3=\"상승\",Z4>W3),\"성공\",IF(AND(Y3=\"하락\",Z4<W3),\"성공\",IF(AND(Y3=\"상승\",Z4=W3),\"동일가\",IF(AND(Y3=\"하락\",Z4=W3),\"동일가\",\"실패\"))))","v":"성공"},{"$f":"S4/H4-1","v":-1.1908091908091909}]
[null,"2023-10-16","15:35:00",15940,1970,11709,1602,-4231,325.05,-0.78238179433069099,11.497282608695652,null,"2023-10-16","15:46:00",7849,1022,5360,774,-2489,324.85000000000002,-0.75497453946004445,10.036290322580646,324.85000000000002,null,{"$f":"IF(H5>S5,\"하락\",\"상승\")","v":"상승"},326.2,"실패",-0.4117229969274403]
[null,"2023-10-17","15:35:00",13240,1889,17947,2371,4707,328.7,0.56038053781588371,9.7655601659751046,null,"2023-10-17","15:46:00",4526,1045,8044,1103,3518,328.8,2.96173723685295,60.655172413793103,328.8,null,"하락",327.14999999999998,"성공",-0.25260250690461017]
[null,"2023-10-18","15:35:00",12859,1924,19132,2629,6273,330.15,0.59381981243905901,8.8978723404255327,null,"2023-10-18","15:46:00",5359,994,9271,1403,3912,330.2,1.2166348052678142,9.5647921760391199,330.2,null,"하락",327.95,"성공",-0.37637494021999041]
[null,"2023-10-19","15:35:00",21327,2960,9834,1197,-11493,323.7,1.0104712795502273,6.5190017016449238,null,"2023-10-19","15:46:00",9871,1718,5219,684,-4652,323.7,1.884482500391452,4.4990328820116057,323.7,null,"상승",326.5,"성공",-0.59523188027494989]
["금","2023-10-20","15:35:00",18708,2366,11741,1732,-6967,319.10000000000002,-0.26388964299234274,7.7279651795429816,null,"2023-10-20","15:46:00",9208,1203,6245,949,-2963,318.85000000000002,-1.073586669084226,11.665354330708661,318.85000000000002,null,"상승",321,"실패",-0.57470934405052387]
[null,"2023-10-23","15:35:00",14892,2334,14494,1833,-398,317.14999999999998,1.5267931397669408,0.79441117764471059,null,"2023-10-23","15:46:00",8073,1395,6831,945,-1242,317,1.4414746543778802,2.76,317,null,"하락",317.14999999999998,{"$f":"IF(AND(Y9=\"상승\",Z10>W9),\"성공\",IF(AND(Y9=\"하락\",Z10<W9),\"성공\",IF(AND(Y9=\"상승\",Z10=W9),\"동일가\",IF(AND(Y9=\"하락\",Z10=W9),\"동일가\",\"실패\"))))","v":"실패"},{"$f":"S10/H10-1","v":2.120603015075377}]
[null,"2023-10-24","15:35:00",11514,1530,17453,2719,5939,319.64999999999998,-1.1065861872516569,4.9949537426408748,null,"2023-10-24","15:46:00",5906,849,7700,1211,1794,319.55,-0.59803781395317124,4.9558011049723758,319.55,null,"하락",318.55,"실패",-0.69792894426671159]
[null,"2023-10-25","15:35:00",18960,2689,10553,1355,-8407,317.75,0.99120270566822022,5.5253239104829213,null,"2023-10-25","15:46:00",8726,1370,4076,566,-4650,317.85000000000002,0.83207036186840622,5.7835820895522385,317.85000000000002,null,"상승",320.3,"실패",-0.44688949684786483]
[null,"2023-10-26","15:35:00",20611,2970,8651,1141,-11960,309.39999999999998,0.54717700493982679,6.2492625368731565,null,"2023-10-26","15:46:00",8791,1423,6158,680,-2633,309.14999999999998,2.8780889587036507,3.5437415881561236,309.14999999999998,null,{"$f":"IF(H13>S13,\"하락\",\"상승\")","v":"상승"},312.95,"실패",-0.77984949832775918]
["금","2023-10-27","15:35:00",14273,2133,13278,1990,-995,309.5,-1.9152490064009875E-2,6.9580419580419584,null,"2023-10-27","15:46:00",7000,1081,6563,956,-437,309.2,0.38957710008166924,3.496,309.2,null,"상승",309.95,"성공",-0.56080402010050245]
[null,"2023-10-30","15:35:00",10351,1519,18337,2271,7986,310.3,1.2600650095125623,10.61968085106383,null,"2023-10-30","15:46:00",3324,627,7833,941,4509,310.2,3.0226878664151453,14.359872611464969,310.2,null,"하락",307.25,"실패",-0.4353869271224643]
[null,"2023-10-31","15:35:00",19479,2879,10061,1313,-9418,306.75,0.89671378765845677,6.0140485312899106,null,"2023-10-31","15:46:00",9313,1622,4459,643,-4854,307.10000000000002,1.1930042399127085,4.9581205311542389,307.10000000000002,null,"상승",311.64999999999998,{"$f":"IF(AND(Y15=\"상승\",Z16>W15),\"성공\",IF(AND(Y15=\"하락\",Z16<W15),\"성공\",IF(AND(Y15=\"상승\",Z16=W15),\"동일가\",IF(AND(Y15=\"하락\",Z16=W15),\"동일가\",\"실패\"))))","v":"실패"},{"$f":"S16/H16-1","v":-0.48460394988320243}]
[null,"2023-11-01","15:35:00",12505,1840,18703,2301,6198,310.8,1.3320094760312147,13.44468546637744,null,"2023-11-01","15:46:00",6095,1011,7729,1068,1634,311.05,1.2082069149468211,28.666666666666668,311.05,null,"하락",308.39999999999998,"성공",-0.7363665698612456]
[null,"2023-11-02","15:35:00",15256,2159,17094,1861,1838,315.89999999999998,2.1191498342790602,-6.1677852348993287,null,"2023-11-02","15:46:00",7632,1221,7674,962,42,316.14999999999998,1.7265167265167261,-0.16216216216216217,316.14999999999998,null,"하락",316.05,"실패",-0.97714907508161042]
["금","2023-11-03","15:35:00",15120,2050,15477,1950,357,319.5,0.56131332082551566,-3.57,null,"2023-11-03","15:45:00",14160,1654,13848,1299,-312,319.60000000000002,2.0994439960792093,0.87887323943661977,319.60000000000002,null,{"$f":"IF(H19>S19,\"하락\",\"상승\")","v":"하락"},319.7,"실패",-1.8739495798319328]
[null,"2023-11-06","15:35:00",3920,606,24897,3711,20977,334.4,0.24032645786809859,6.7558776167471821,null,"2023-11-06","15:45:00",16699,1125,25667,2368,8968,335.3,-4.0044508258258258,7.2148028962188251,335.3,null,"하락",324,"실패",-0.57248414930638325]
[null,"2023-11-07","15:35:00",16844,2310,13014,1871,-3830,328.4,-0.3361361958903375,8.7243735763097945,null,"2023-11-07","15:45:00",18430,1499,16567,1414,-1863,328.4,-0.57845588714022433,21.91764705882353,328.4,null,"상승",334.9,"성공",-0.5135770234986945]
[null,"2023-11-08","15:35:00",18810,2785,7789,1052,-11021,324.89999999999998,0.64995289813026069,6.3594922100403926,null,"2023-11-08","15:45:00",16585,2058,10002,923,-6583,325.10000000000002,2.777608087036084,5.8,325.10000000000002,null,"상승",331.1,{"$f":"IF(AND(Y21=\"상승\",Z22>W21),\"성공\",IF(AND(Y21=\"하락\",Z22<W21),\"성공\",IF(AND(Y21=\"상승\",Z22=W21),\"동일가\",IF(AND(Y21=\"하락\",Z22=W21),\"동일가\",\"실패\"))))","v":"성공"},{"$f":"S22/H22-1","v":-0.40268578168950186}]
[null,"2023-11-09","15:35:00",13157,1940,8442,726,-4715,326.64999999999998,4.8461404106671218,3.8838550247116967,null,"2023-11-09","15:45:00",19892,2460,11790,1098,-8102,326.7,2.6515260562441689,5.9486049926578559,{"$f":"T23","v":326.7},null,"하락",325.95,"성공",0.71834570519618235]
["금","2023-11-10","15:35:00",14965,2234,15837,2507,872,324.64999999999998,-0.38163455663444079,3.1941391941391943,null,"2023-11-10","15:45:00",12537,1437,13881,1574,1344,324.7,9.4506768389248208E-2,9.8102189781021902,324.7,null,"상승",324,"성공",0.54128440366972486]
[null,"2023-11-13","15:35:00",14877,1935,10824,1241,-4053,324.75,1.0336262953731978,5.8400576368876083,null,"2023-11-13","15:45:00",14131,1907,10515,1203,-3616,325.10000000000002,1.3305802091520009,5.1363636363636367,325.10000000000002,null,{"$f":"IF(H25>S25,\"하락\",\"상승\")","v":"상승"},328.25,"성공",-0.10782136688872446]
[null,"2023-11-14","15:35:00",13349,1970,15127,2091,1778,327.64999999999998,0.45819550551432631,14.694214876033058,null,"2023-11-14","15:45:00",11995,1573,13193,1354,1198,327.8,2.1181660423637059,-5.4703196347031966,327.8,null,"하락",326.60000000000002,"성공",-0.32620922384701911]
[null,"2023-11-15","15:35:00",12553,1770,21897,2890,9344,335.1,0.48472621351631329,8.3428571428571434,null,"2023-11-15","15:45:00",13505,1574,20304,2003,6799,335.25,1.5567439818670987,15.848484848484848,335.25,null,"하락",334.8,"실패",-0.27236729452054798]
[null,"2023-11-16","16:35:00",15736,1972,15449,1947,-287,334.7,-4.4944581094751079E-2,11.48,null,"2023-11-16","16:45:00",14323,1656,12603,1365,-1720,334.55,0.58381244359505224,5.9106529209621996,334.55,null,"하락",334.35,"성공",4.993031358885017]
["금","2023-11-17","15:35:00",14539,1874,13556,1595,-983,333.05,0.74078848322030844,3.5232974910394264,null,"2023-11-17","15:45:00",7777,1096,5924,838,-1853,333.1,-2.6590509206835498E-2,7.1821705426356592,333.1,null,"하락",334.2,{"$f":"IF(AND(Y28=\"상승\",Z29>W28),\"성공\",IF(AND(Y28=\"하락\",Z29<W28),\"성공\",IF(AND(Y28=\"상승\",Z29=W28),\"동일가\",IF(AND(Y28=\"하락\",Z29=W28),\"동일가\",\"실패\"))))","v":"성공"},{"$f":"S29/H29-1","v":0.88504577822990838}]
[null,"2023-11-20","15:35:00",11499,1434,19554,2835,8055,335.55,-1.1214739545283479,5.7494646680942187,null,"2023-11-20","15:45:00",4624,708,8556,1362,3932,335.55,-0.24913512033649354,6.0122324159021403,335.55,null,"하락",332.35,"성공",-0.51185599006828064]
[null,"2023-11-21","15:35:00",13571,1720,13268,1747,-303,337.2,-0.29538244964790117,-11.222222222222221,null,"2023-11-21","15:45:00",6977,1040,6827,975,-150,337.45,0.29339743589743517,2.3076923076923075,337.45,null,{"$f":"IF(H31>S31,\"하락\",\"상승\")","v":"상승"},338,"실패",-0.50495049504950495]
[null,"2023-11-22","15:35:00",12155,1603,21455,3128,9300,337.75,-0.72364217188679181,6.0983606557377046,null,"2023-11-22","15:45:00",9124,1080,16184,1840,7060,338,0.34750402576489492,9.2894736842105257,338,null,"하락",335,"실패",-0.24086021505376343]
[null,"2023-11-23","15:35:00",11017,1962,11446,1862,429,337.6,0.53196501520292649,-4.29,null,"2023-11-23","15:45:00",9842,1464,11671,1161,1829,337.95,3.3298633173776135,-6.0363036303630366,337.95,null,"상승",337.45,"성공",3.263403263403263]
["금","2023-11-24","15:35:00",14724,2624,8163,1053,-6561,334.75,2.140856264331874,4.1763208147676636,null,"2023-11-24","15:45:00",14916,2014,8718,815,-6198,334.7,3.2907756136492399,5.16930775646372,334.7,null,"상승",337.2,"실패",-5.5326931870141705E-2]
[null,"2023-11-27","15:35:00",16972,2558,14481,1862,-2491,334.2,1.1422503819024836,3.5790229885057472,null,"2023-11-27","15:45:00",11748,1759,12065,1236,317,334.2,3.0825320910858807,-0.60611854684512423,334.2,null,"상승",334.35,"실패",-1.1272581292653552]
[null,"2023-11-28","15:35:00",10701,1284,19672,3042,8971,338.25,-1.8673139904268599,5.1029579067121729,null,"2023-11-28","15:45:00",10306,1177,16153,1705,5847,338.4,0.71774056513278772,11.073863636363637,338.4,null,"하락",335.75,{"$f":"IF(AND(Y35=\"상승\",Z36>W35),\"성공\",IF(AND(Y35=\"하락\",Z36<W35),\"성공\",IF(AND(Y35=\"상승\",Z36=W35),\"동일가\",IF(AND(Y35=\"하락\",Z36=W35),\"동일가\",\"실패\"))))","v":"성공"},{"$f":"S36/H36-1","v":-0.34823319585330514}]
[null,"2023-11-29","15:35:00",13518,1890,16056,2344,2538,337.3,-0.30255160084511612,5.5903083700440526,null,"2023-11-29","15:45:00",9769,1267,12661,1346,2892,337.55,1.6960499172619397,36.607594936708864,337.55,null,{"$f":"IF(H37>S37,\"하락\",\"상승\")","v":"상승"},338.35,"성공",0.13947990543735234]
[null,"2023-11-30","15:35:00",12252,1347,20299,2994,8047,339.05,-2.3158752545923322,4.8858530661809354,null,"2023-11-30","15:45:00",12711,1064,15831,1811,3120,339.15,-3.20484933343851,4.1767068273092374,339.15,null,"하락",337.05,"실패",-0.6122778675282714]
["금","2023-12-01","15:35:00",16548,2482,11783,1535,-4765,335.15,1.009017630522826,5.0316789862724391,null,"2023-12-01","15:45:00",13881,1676,10641,1152,-3240,335.5,0.95475959626093854,6.1832061068702293,335.5,null,"상승",337.75,"성공",-0.32004197271773349]
[null,"2023-12-04","15:35:00",14822,1997,14749,1800,-73,336.7,0.77175568908918901,0.37055837563451777,null,"2023-12-04","15:45:00",12105,1572,11318,1157,-787,336.7,2.0818136533678171,1.8963855421686746,336.7,null,"하락",337.05,"성공",9.7808219178082183]
[null,"2023-12-05","15:35:00",15391,2238,10643,1102,-4748,332.65,2.7807723061003706,4.179577464788732,null,"2023-12-05","15:45:00",14028,1583,10041,839,-3987,332.65,3.1061637466616769,5.3588709677419351,332.65,null,"상승",334.15,"성공",-0.16027801179443979]
[null,"2023-12-06","15:35:00",13958,1907,15189,1516,1231,333.9,2.6997795235716771,-3.1483375959079285,null,"2023-12-06","15:45:00",12316,1381,11653,1107,-663,333.5,1.6084733644826184,2.4197080291970803,333.5,null,"하락",333.8,{"$f":"IF(AND(Y41=\"상승\",Z42>W41),\"성공\",IF(AND(Y41=\"하락\",Z42<W41),\"성공\",IF(AND(Y41=\"상승\",Z42=W41),\"동일가\",IF(AND(Y41=\"하락\",Z42=W41),\"동일가\",\"실패\"))))","v":"성공"},{"$f":"S42/H42-1","v":-1.5385865150284321}]
[null,"2023-12-07","15:35:00",12299,1489,15158,1957,2859,333,-0.5143771064453917,6.1089743589743586,null,"2023-12-07","15:45:00",11173,1117,12060,1519,887,332.4,-2.0632519273918026,2.2064676616915424,332.4,null,{"$f":"IF(H43>S43,\"하락\",\"상승\")","v":"하락"},331.8,{"$f":"IF(AND(Y42=\"상승\",Z43>W42),\"성공\",IF(AND(Y42=\"하락\",Z43<W42),\"성공\",IF(AND(Y42=\"상승\",Z43=W42),\"동일가\",IF(AND(Y42=\"하락\",Z43=W42),\"동일가\",\"실패\"))))","v":"성공"},{"$f":"S43/H43-1","v":-0.68975166142007693}]
[null,"2023-12-08","15:35:00",11485,1233,17894,2482,6409,337.2,-2.1051711822281822,5.1313050440352281,null,"2023-12-08","15:45:00",12935,1290,15739,1812,2804,337.25,-1.3411494429898863,5.3716475095785441,337.25,null,{"$f":"IF(H44>S44,\"하락\",\"상승\")","v":"하락"},334.8,{"$f":"IF(AND(Y43=\"상승\",Z44>W43),\"성공\",IF(AND(Y43=\"하락\",Z44<W43),\"성공\",IF(AND(Y43=\"상승\",Z44=W43),\"동일가\",IF(AND(Y43=\"하락\",Z44=W43),\"동일가\",\"실패\"))))","v":"실패"},{"$f":"S44/H44-1","v":-0.56249024808862536}]
[null,"2023-12-11","15:35:00",13135,1427,17334,2336,4199,338.3,-1.7842483752675884,4.6193619361936191,null,"2023-12-11","15:45:00",11811,1168,12822,1447,1011,338.25,-1.2510656199411159,3.6236559139784945,338.25,null,{"$f":"IF(H45>S45,\"하락\",\"상승\")","v":"하락"},338,{"$f":"IF(AND(Y44=\"상승\",Z45>W44),\"성공\",IF(AND(Y44=\"하락\",Z45<W44),\"성공\",IF(AND(Y44=\"상승\",Z45=W44),\"동일가\",IF(AND(Y44=\"하락\",Z45=W44),\"동일가\",\"실패\"))))","v":"실패"},{"$f":"S45/H45-1","v":-0.75922838771135981}]
[null,"2023-12-12","15:35:00",12966,1565,15848,1966,2882,340.45,-0.22394638568117919,7.1870324189526187,null,"2023-12-12","15:45:00",10545,1314,11919,1160,1374,340.5,2.2498858447488583,-8.9220779220779214,340.5,null,{"$f":"IF(H46>S46,\"하락\",\"상승\")","v":"하락"},340.05,{"$f":"IF(AND(Y45=\"상승\",Z46>W45),\"성공\",IF(AND(Y45=\"하락\",Z46<W45),\"성공\",IF(AND(Y45=\"상승\",Z46=W45),\"동일가\",IF(AND(Y45=\"하락\",Z46=W45),\"동일가\",\"실패\"))))","v":"실패"},{"$f":"S46/H46-1","v":-0.52324774462179047}]
[null,"2023-12-13","15:35:00",17299,2207,10286,1128,-7013,336.8,1.2805523688328879,6.4995366079703425,null,"2023-12-13","15:45:00",12052,1597,7190,824,-4862,337,1.1790781866485087,6.289780077619664,337,null,{"$f":"IF(H47>S47,\"하락\",\"상승\")","v":"상승"},340.95,{"$f":"IF(AND(Y46=\"상승\",Z47>W46),\"성공\",IF(AND(Y46=\"하락\",Z47<W46),\"성공\",IF(AND(Y46=\"상승\",Z47=W46),\"동일가\",IF(AND(Y46=\"하락\",Z47=W46),\"동일가\",\"실패\"))))","v":"실패"},{"$f":"S47/H47-1","v":-0.30671609867389138}]
[null,"2023-12-14","15:35:00",5049,498,5005,446,-44,340.75,1.0834188773029325,0.84615384615384615,null,"2023-12-14","15:45:00",5049,498,5005,446,-44,340.75,1.0834188773029325,0.84615384615384615,340.75,null,{"$f":"IF(H48>S48,\"하락\",\"상승\")","v":"상승"},341.25,{"$f":"IF(AND(Y47=\"상승\",Z48>W47),\"성공\",IF(AND(Y47=\"하락\",Z48<W47),\"성공\",IF(AND(Y47=\"상승\",Z48=W47),\"동일가\",IF(AND(Y47=\"하락\",Z48=W47),\"동일가\",\"실패\"))))","v":"성공"},{"$f":"S48/H48-1","v":0}]
[null,"2023-12-15","15:35:00",8978,1586,9221,1561,243,343.55,0.24632898528362723,-9.7200000000000006,null,"2023-12-15","15:45:00",9208,1301,8820,1241,-388,343.25,2.953904546245667E-2,6.4666666666666668,343.25,null,{"$f":"IF(H49>S49,\"하락\",\"상승\")","v":"하락"},341.3,{"$f":"IF(AND(Y48=\"상승\",Z49>W48),\"성공\",IF(AND(Y48=\"하락\",Z49<W48),\"성공\",IF(AND(Y48=\"상승\",Z49=W48),\"동일가\",IF(AND(Y48=\"하락\",Z49=W48),\"동일가\",\"실패\"))))","v":"성공"},{"$f":"S49/H49-1","v":-2.5967078189300414}]
[null,"2023-12-18","15:35:00",9830,1382,15643,2454,5813,344.45,-0.73838925667889743,5.4225746268656714,null,"2023-12-18","15:45:00",11057,1290,14620,1731,3563,344.45,-0.12533284967689085,8.0793650793650791,344.45,null,{"$f":"IF(H50>S50,\"하락\",\"상승\")","v":"하락"},343.25,{"$f":"IF(AND(Y49=\"상승\",Z50>W49),\"성공\",IF(AND(Y49=\"하락\",Z50<W49),\"성공\",IF(AND(Y49=\"상승\",Z50=W49),\"동일가\",IF(AND(Y49=\"하락\",Z50=W49),\"동일가\",\"실패\"))))","v":"동일가"},{"$f":"S50/H50-1","v":-0.38706347841045929}]
[null,"2023-12-19","15:35:00",10399,1156,17760,2782,7361,344.85,-2.6117782631300077,4.5270602706027061,null,"2023-12-19","15:45:00",10003,1016,12969,1819,2966,344.75,-2.7157308246722041,3.6936488169364883,344.75,null,{"$f":"IF(H51>S51,\"하락\",\"상승\")","v":"하락"},343.8,{"$f":"IF(AND(Y50=\"상승\",Z51>W50),\"성공\",IF(AND(Y50=\"하락\",Z51<W50),\"성공\",IF(AND(Y50=\"상승\",Z51=W50),\"동일가\",IF(AND(Y50=\"하락\",Z51=W50),\"동일가\",\"실패\"))))","v":"성공"},{"$f":"S51/H51-1","v":-0.59706561608477116}]
[null,"2023-12-20","15:35:00",7000,843,21481,3357,14481,351.6,-1.9048093058855091,5.7601431980906925,null,"2023-12-20","15:45:00",9570,1087,16511,2078,6941,351.65,-0.85842704886607279,7.0040363269424821,351.65,null,{"$f":"IF(H52>S52,\"하락\",\"상승\")","v":"하락"},347.2,{"$f":"IF(AND(Y51=\"상승\",Z52>W51),\"성공\",IF(AND(Y51=\"하락\",Z52<W51),\"성공\",IF(AND(Y51=\"상승\",Z52=W51),\"동일가\",IF(AND(Y51=\"하락\",Z52=W51),\"동일가\",\"실패\"))))","v":"실패"},{"$f":"S52/H52-1","v":-0.52068227332366557}]
[null,"2023-12-21","15:35:00",12381,1602,15853,2227,3472,349.15,-0.60991929150080182,5.5552000000000001,null,"2023-12-21","15:45:00",14127,1274,15463,1685,1336,348.9,-1.9118424178619176,3.2506082725060828,348.9,null,{"$f":"IF(H53>S53,\"하락\",\"상승\")","v":"하락"},349,{"$f":"IF(AND(Y52=\"상승\",Z53>W52),\"성공\",IF(AND(Y52=\"하락\",Z53<W52),\"성공\",IF(AND(Y52=\"상승\",Z53=W52),\"동일가\",IF(AND(Y52=\"하락\",Z53=W52),\"동일가\",\"실패\"))))","v":"성공"},{"$f":"S53/H53-1","v":-0.61520737327188946}]
[null,"2023-12-22","15:35:00",12991,1972,15796,2085,2805,350.65,0.98829098992611186,24.823008849557521,null,"2023-12-22","15:45:00",11655,1550,11624,1290,-31,350.7,1.4914978744686174,0.11923076923076924,350.7,null,{"$f":"IF(H54>S54,\"하락\",\"상승\")","v":"하락"},351.45,{"$f":"IF(AND(Y53=\"상승\",Z54>W53),\"성공\",IF(AND(Y53=\"하락\",Z54<W53),\"성공\",IF(AND(Y53=\"상승\",Z54=W53),\"동일가\",IF(AND(Y53=\"하락\",Z54=W53),\"동일가\",\"실패\"))))","v":"실패"},{"$f":"S54/H54-1","v":-1.0110516934046345}]
[null,"2023-12-26","15:35:00",16475,2183,19682,2988,3207,351.75,-0.95993900782546859,3.9838509316770185,null,"2023-12-26","15:45:00",12009,1658,14016,1527,2007,352,1.94,-15.32,352,null,{"$f":"IF(H55>S55,\"하락\",\"상승\")","v":"하락"},352.45,{"$f":"IF(AND(Y54=\"상승\",Z55>W54),\"성공\",IF(AND(Y54=\"하락\",Z55<W54),\"성공\",IF(AND(Y54=\"상승\",Z55=W54),\"동일가\",IF(AND(Y54=\"하락\",Z55=W54),\"동일가\",\"실패\"))))","v":"실패"},{"$f":"S55/H55-1","v":-0.37418147801683821}]
[null,"2023-12-27","15:35:00",7706,929,19119,2936,11413,356.1,-1.7830198156290047,5.686596910812157,null,"2023-12-27","15:45:00",11304,867,15529,2076,4225,355.9,-5.56,3.49,355.9,null,{"$f":"IF(H56>S56,\"하락\",\"상승\")","v":"하락"},352.15,{"$f":"IF(AND(Y55=\"상승\",Z56>W55),\"성공\",IF(AND(Y55=\"하락\",Z56<W55),\"성공\",IF(AND(Y55=\"상승\",Z56=W55),\"동일가\",IF(AND(Y55=\"하락\",Z56=W55),\"동일가\",\"실패\"))))","v":"실패"},{"$f":"S56/H56-1","v":-0.62980811355471833}]
[null,"2023-12-28","15:35:00",5072,526,23482,3004,18410,362.3,-1.8256747657116241,7.4293785310734464,null,"2023-12-28","15:45:00",11538,812,22601,2206,11063,362.7,-3.9641193520582014,7.9361549497847923,362.7,null,{"$f":"IF(H57>S57,\"하락\",\"상승\")","v":"하락"},355.5,{"$f":"IF(AND(Y56=\"상승\",Z57>W56),\"성공\",IF(AND(Y56=\"하락\",Z57<W56),\"성공\",IF(AND(Y56=\"상승\",Z57=W56),\"동일가\",IF(AND(Y56=\"하락\",Z57=W56),\"동일가\",\"실패\"))))","v":"성공"},{"$f":"S57/H57-1","v":-0.39907658881042907}]
[null,"2024-01-02","15:35:00",12796,1579,17048,2869,4252,363.45,-2.1617230860516576,3.2961240310077518,null,"2024-01-02","15:45:00",11588,1326,15431,2331,3843,363.8,-2.1191592368062944,3.8238805970149254,363.8,null,{"$f":"IF(H58>S58,\"하락\",\"상승\")","v":"하락"},360.7,{"$f":"IF(AND(Y57=\"상승\",Z58>W57),\"성공\",IF(AND(Y57=\"하락\",Z58<W57),\"성공\",IF(AND(Y57=\"상승\",Z58=W57),\"동일가\",IF(AND(Y57=\"하락\",Z58=W57),\"동일가\",\"실패\"))))","v":"성공"},{"$f":"S58/H58-1","v":-9.6190028222013169E-2}]
[null,"2024-01-03","15:35:00",16680,2912,7392,1069,-9288,353.55,1.1868517357291912,5.0396093326098752,null,"2024-01-03","15:45:00",20999,2023,15855,1310,-5144,353.6,1.7229249131174686,7.2145862552594666,353.6,null,{"$f":"IF(H59>S59,\"하락\",\"상승\")","v":"상승"},359.7,{"$f":"IF(AND(Y58=\"상승\",Z59>W58),\"성공\",IF(AND(Y58=\"하락\",Z59<W58),\"성공\",IF(AND(Y58=\"상승\",Z59=W58),\"동일가\",IF(AND(Y58=\"하락\",Z59=W58),\"동일가\",\"실패\"))))","v":"성공"},{"$f":"S59/H59-1","v":-0.44616709732988802}]
[null,"2024-01-04","15:35:00",17439,2513,13205,1961,-4234,350.3,-0.20570524349364927,7.6702898550724639,null,"2024-01-04","15:45:00",15343,1737,15163,1698,-180,350.3,9.6872069345018019E-2,4.615384615384615,350.3,null,{"$f":"IF(H60>S60,\"하락\",\"상승\")","v":"상승"},350.2,{"$f":"IF(AND(Y59=\"상승\",Z60>W59),\"성공\",IF(AND(Y59=\"하락\",Z60<W59),\"성공\",IF(AND(Y59=\"상승\",Z60=W59),\"동일가\",IF(AND(Y59=\"하락\",Z60=W59),\"동일가\",\"실패\"))))","v":"실패"},{"$f":"S60/H60-1","v":-0.95748700991969771}]
[null,"2024-01-05","15:35:00",14354,2580,11594,1853,-2760,348.85,0.69331484247208586,3.7964236588720772,null,"2024-01-05","15:45:00",13234,1848,11795,1524,-1439,348.7,0.57824590108054608,4.4413580246913584,348.7,null,{"$f":"IF(H61>S61,\"하락\",\"상승\")","v":"상승"},349.35,{"$f":"IF(AND(Y60=\"상승\",Z61>W60),\"성공\",IF(AND(Y60=\"하락\",Z61<W60),\"성공\",IF(AND(Y60=\"상승\",Z61=W60),\"동일가\",IF(AND(Y60=\"하락\",Z61=W60),\"동일가\",\"실패\"))))","v":"실패"},{"$f":"S61/H61-1","v":-0.4786231884057971}]
[null,"2024-01-08","15:35:00",17709,3057,11569,1466,-6140,347.55,2.0986073605586624,3.8592080452545567,null,"2024-01-08","15:45:00",12577,2133,8725,1126,-3852,347.4,1.85227778985227,3.8252234359483599,347.4,null,{"$f":"IF(H62>S62,\"하락\",\"상승\")","v":"상승"},350.35,{"$f":"IF(AND(Y61=\"상승\",Z62>W61),\"성공\",IF(AND(Y61=\"하락\",Z62<W61),\"성공\",IF(AND(Y61=\"상승\",Z62=W61),\"동일가\",IF(AND(Y61=\"하락\",Z62=W61),\"동일가\",\"실패\"))))","v":"성공"},{"$f":"S62/H62-1","v":-0.37263843648208472}]
[null,"2024-01-09","15:35:00",19016,3364,9723,1185,-9293,346.35,2.5522689986303222,4.2648003671408903,null,"2024-01-09","15:45:00",13890,2204,9402,1003,-4488,346.3,3.0717005064660823,3.736885928393006,346.3,null,{"$f":"IF(H63>S63,\"하락\",\"상승\")","v":"상승"},351.4,{"$f":"IF(AND(Y62=\"상승\",Z63>W62),\"성공\",IF(AND(Y62=\"하락\",Z63<W62),\"성공\",IF(AND(Y62=\"상승\",Z63=W62),\"동일가\",IF(AND(Y62=\"하락\",Z63=W62),\"동일가\",\"실패\"))))","v":"성공"},{"$f":"S63/H63-1","v":-0.51705584848810937}]
[null,"2024-01-10","15:35:00",17124,2561,12748,1491,-4376,342.7,1.8635158602270927,4.0897196261682245,null,"2024-01-10","15:45:00",12851,1696,9982,1115,-2869,342.7,1.3752258016752688,4.9380378657487087,342.7,null,{"$f":"IF(H64>S64,\"하락\",\"상승\")","v":"상승"},345.35,{"$f":"IF(AND(Y63=\"상승\",Z64>W63),\"성공\",IF(AND(Y63=\"하락\",Z64<W63),\"성공\",IF(AND(Y63=\"상승\",Z64=W63),\"동일가\",IF(AND(Y63=\"하락\",Z64=W63),\"동일가\",\"실패\"))))","v":"실패"},{"$f":"S64/H64-1","v":-0.34437842778793415}]
[null,"2024-01-11","15:35:00",12642,1650,15502,2211,2860,343.55,-0.65051108095884214,5.0980392156862742,null,"2024-01-11","15:45:00",11614,1321,12143,1494,529,343.55,-0.66397966329106417,3.0578034682080926,343.55,null,{"$f":"IF(H65>S65,\"하락\",\"상승\")","v":"하락"},344.45,{"$f":"IF(AND(Y64=\"상승\",Z65>W64),\"성공\",IF(AND(Y64=\"하락\",Z65<W64),\"성공\",IF(AND(Y64=\"상승\",Z65=W64),\"동일가\",IF(AND(Y64=\"하락\",Z65=W64),\"동일가\",\"실패\"))))","v":"성공"},{"$f":"S65/H65-1","v":-0.81503496503496509}]
[null,"2024-01-12","15:35:00",13696,1883,10336,1233,-3360,339.75,1.1093064293617836,5.1692307692307695,null,"2024-01-12","15:45:00",12564,1475,10811,1115,-1753,340,1.1779980238656229,4.8694444444444445,340,null,{"$f":"IF(H66>S66,\"하락\",\"상승\")","v":"상승"},341.5,{"$f":"IF(AND(Y65=\"상승\",Z66>W65),\"성공\",IF(AND(Y65=\"하락\",Z66<W65),\"성공\",IF(AND(Y65=\"상승\",Z66=W65),\"동일가\",IF(AND(Y65=\"하락\",Z66=W65),\"동일가\",\"실패\"))))","v":"성공"},{"$f":"S66/H66-1","v":-0.47827380952380949}]
[null,"2024-01-15","15:35:00",13174,1907,14904,2091,1730,341.2,0.21945727400147064,9.4021739130434785,null,"2024-01-15","15:45:00",11622,1409,12901,1539,1279,341.3,0.13431292660060201,9.838461538461539,341.3,null,{"$f":"IF(H67>S67,\"하락\",\"상승\")","v":"하락"},340,{"$f":"IF(AND(Y66=\"상승\",Z67>W66),\"성공\",IF(AND(Y66=\"하락\",Z67<W66),\"성공\",IF(AND(Y66=\"상승\",Z67=W66),\"동일가\",IF(AND(Y66=\"하락\",Z67=W66),\"동일가\",\"실패\"))))","v":"동일가"},{"$f":"S67/H67-1","v":-0.26069364161849706}]
[null,"2024-01-16","15:35:00",18119,2800,9431,1346,-8688,335.95,0.53561504988325215,5.9752407152682254,null,"2024-01-16","15:45:00",15167,1780,9652,1187,-5515,336,-0.38936275948240784,9.3001686340640806,336,null,{"$f":"IF(H68>S68,\"하락\",\"상승\")","v":"상승"},339.55,{"$f":"IF(AND(Y67=\"상승\",Z68>W67),\"성공\",IF(AND(Y67=\"하락\",Z68<W67),\"성공\",IF(AND(Y67=\"상승\",Z68=W67),\"동일가\",IF(AND(Y67=\"하락\",Z68=W67),\"동일가\",\"실패\"))))","v":"성공"},{"$f":"S68/H68-1","v":-0.36521639042357279}]
[null,"2024-01-17","15:35:00",20456,3377,7876,1093,-12580,327.45,1.1484080051779149,5.5078809106830127,null,"2024-01-17","15:45:00",20144,2289,12625,1209,-7519,327.3,1.6421649771753355,6.962037037037037,327.3,null,{"$f":"IF(H69>S69,\"하락\",\"상승\")","v":"상승"},336.45,{"$f":"IF(AND(Y68=\"상승\",Z69>W68),\"성공\",IF(AND(Y68=\"하락\",Z69<W68),\"성공\",IF(AND(Y68=\"상승\",Z69=W68),\"동일가\",IF(AND(Y68=\"하락\",Z69=W68),\"동일가\",\"실패\"))))","v":"성공"},{"$f":"S69/H69-1","v":-0.40230524642289345}]
[null,"2024-01-18","15:35:00",12717,1856,16598,2286,3881,329.05,0.40888551377198556,9.0255813953488371,null,"2024-01-18","15:45:00",16931,1471,16848,1374,-83,329.1,0.75215149365164535,0.85567010309278346,329.1,null,{"$f":"IF(H70>S70,\"하락\",\"상승\")","v":"하락"},328.7,{"$f":"IF(AND(Y69=\"상승\",Z70>W69),\"성공\",IF(AND(Y69=\"하락\",Z70<W69),\"성공\",IF(AND(Y69=\"상승\",Z70=W69),\"동일가\",IF(AND(Y69=\"하락\",Z70=W69),\"동일가\",\"실패\"))))","v":"성공"},{"$f":"S70/H70-1","v":-1.0213862406596239}]
[null,"2024-01-19","15:35:00",11598,1739,16362,2379,4764,333.95,0.20832949608673346,7.4437499999999996,null,"2024-01-19","15:45:00",15843,1619,14448,1527,-1395,333.65,-0.32398057934328506,15.163043478260869,333.65,null,{"$f":"IF(H71>S71,\"하락\",\"상승\")","v":"하락"},333,{"$f":"IF(AND(Y70=\"상승\",Z71>W70),\"성공\",IF(AND(Y70=\"하락\",Z71<W70),\"성공\",IF(AND(Y70=\"상승\",Z71=W70),\"동일가\",IF(AND(Y70=\"하락\",Z71=W70),\"동일가\",\"실패\"))))","v":"실패"},{"$f":"S71/H71-1","v":-1.2928211586901763}]
[null,"2024-01-22","15:35:00",15935,2677,11638,1703,-4297,334.65,0.88126383136748476,4.4117043121149901,null,"2024-01-22","15:45:00",13415,1864,10143,1270,-3272,334.5,0.78972576121117921,5.5084175084175087,334.5,null,{"$f":"IF(H72>S72,\"하락\",\"상승\")","v":"상승"},337.05,{"$f":"IF(AND(Y71=\"상승\",Z72>W71),\"성공\",IF(AND(Y71=\"하락\",Z72<W71),\"성공\",IF(AND(Y71=\"상승\",Z72=W71),\"동일가\",IF(AND(Y71=\"하락\",Z72=W71),\"동일가\",\"실패\"))))","v":"실패"},{"$f":"S72/H72-1","v":-0.23853851524319292}]
[null,"2024-01-23","15:35:00",12427,1736,17048,2830,4621,336.25,-1.1343818696976111,4.2239488117001827,null,"2024-01-23","15:45:00",12771,1407,13016,1642,245,336.45,-1.1498406696290608,1.0425531914893618,336.45,null,{"$f":"IF(H73>S73,\"하락\",\"상승\")","v":"하락"},334,{"$f":"IF(AND(Y72=\"상승\",Z73>W72),\"성공\",IF(AND(Y72=\"하락\",Z73<W72),\"성공\",IF(AND(Y72=\"상승\",Z73=W72),\"동일가\",IF(AND(Y72=\"하락\",Z73=W72),\"동일가\",\"실패\"))))","v":"실패"},{"$f":"S73/H73-1","v":-0.94698117290629735}]
[null,"2024-01-24","15:35:00",16209,2415,11797,1977,-4412,334.55,-0.74467934036450156,10.073059360730594,null,"2024-01-24","15:45:00",14707,1725,11843,1391,-2864,334.85,-1.1778409860490058E-2,8.5748502994011968,334.85,null,{"$f":"IF(H74>S74,\"하락\",\"상승\")","v":"상승"},337.1,{"$f":"IF(AND(Y73=\"상승\",Z74>W73),\"성공\",IF(AND(Y73=\"하락\",Z74<W73),\"성공\",IF(AND(Y73=\"상승\",Z74=W73),\"동일가\",IF(AND(Y73=\"하락\",Z74=W73),\"동일가\",\"실패\"))))","v":"실패"},{"$f":"S74/H74-1","v":-0.35086128739800548}]
[null,"2024-01-25","15:35:00",15233,2064,12770,1775,-2463,335.05,-0.18596326018124198,8.5224913494809691,null,"2024-01-25","15:45:00",12771,1571,11063,1221,-1708,335.05,0.93138900140809788,4.88,335.05,null,{"$f":"IF(H75>S75,\"하락\",\"상승\")","v":"상승"},334.7,{"$f":"IF(AND(Y74=\"상승\",Z75>W74),\"성공\",IF(AND(Y74=\"하락\",Z75<W74),\"성공\",IF(AND(Y74=\"상승\",Z75=W74),\"동일가\",IF(AND(Y74=\"하락\",Z75=W74),\"동일가\",\"실패\"))))","v":"실패"},{"$f":"S75/H75-1","v":-0.30653674380836382}]
[null,"2024-01-26","15:35:00",12405,1853,13547,1589,1142,335.25,1.8309383487461179,-4.3257575757575761,null,"2024-01-26","15:45:00",10580,1559,10032,1087,-548,335.15,2.4426692977181492,1.1610169491525424,335.15,null,{"$f":"IF(H76>S76,\"하락\",\"상승\")","v":"하락"},333.5,{"$f":"IF(AND(Y75=\"상승\",Z76>W75),\"성공\",IF(AND(Y75=\"하락\",Z76<W75),\"성공\",IF(AND(Y75=\"상승\",Z76=W75),\"동일가\",IF(AND(Y75=\"하락\",Z76=W75),\"동일가\",\"실패\"))))","v":"실패"},{"$f":"S76/H76-1","v":-1.479859894921191}]
[null,"2024-01-29","15:35:00",10558,1575,14722,2093,4164,339.3,0.33043053564792668,8.0386100386100381,null,"2024-01-29","15:45:00",10461,1290,13092,1547,2631,339.25,0.35352896077930218,10.237354085603112,339.25,null,{"$f":"IF(H77>S77,\"하락\",\"상승\")","v":"하락"},336.25,{"$f":"IF(AND(Y76=\"상승\",Z77>W76),\"성공\",IF(AND(Y76=\"하락\",Z77<W76),\"성공\",IF(AND(Y76=\"상승\",Z77=W76),\"동일가\",IF(AND(Y76=\"하락\",Z77=W76),\"동일가\",\"실패\"))))","v":"실패"},{"$f":"S77/H77-1","v":-0.36815561959654175}]
[null,"2024-01-30","15:35:00",16259,2699,12904,1708,-3355,338.45,1.5309521351042497,3.3854692230070635,null,"2024-01-30","15:45:00",13936,1814,11352,1029,-2584,338.7,3.3496002905808719,3.2917197452229301,338.7,null,{"$f":"IF(H78>S78,\"하락\",\"상승\")","v":"상승"},340.55,{"$f":"IF(AND(Y77=\"상승\",Z78>W77),\"성공\",IF(AND(Y77=\"하락\",Z78<W77),\"성공\",IF(AND(Y77=\"상승\",Z78=W77),\"동일가\",IF(AND(Y77=\"하락\",Z78=W77),\"동일가\",\"실패\"))))","v":"실패"},{"$f":"S78/H78-1","v":-0.22980625931445609}]
[null,"2024-01-31","15:35:00",13924,2056,12018,1847,-1906,336.6,-0.26560580939961564,9.1196172248803826,null,"2024-01-31","15:45:00",11431,1485,12145,1349,714,337,1.3053220617342189,-5.25,337,null,{"$f":"IF(H79>S79,\"하락\",\"상승\")","v":"상승"},335.15,{"$f":"IF(AND(Y78=\"상승\",Z79>W78),\"성공\",IF(AND(Y78=\"하락\",Z79<W78),\"성공\",IF(AND(Y78=\"상승\",Z79=W78),\"동일가\",IF(AND(Y78=\"하락\",Z79=W78),\"동일가\",\"실패\"))))","v":"실패"},{"$f":"S79/H79-1","v":-1.3746065057712487}]
[null,"2024-02-01","15:35:00",8275,1652,21310,3493,13035,342.1,1.0916930713727702,7.080391091797936,null,"2024-02-01","15:45:00",10134,1589,16020,1895,5886,342.15,2.0762298852101599,19.235294117647058,342.15,null,{"$f":"IF(H80>S80,\"하락\",\"상승\")","v":"하락"},335.8,{"$f":"IF(AND(Y79=\"상승\",Z80>W79),\"성공\",IF(AND(Y79=\"하락\",Z80<W79),\"성공\",IF(AND(Y79=\"상승\",Z80=W79),\"동일가\",IF(AND(Y79=\"하락\",Z80=W79),\"동일가\",\"실패\"))))","v":"실패"},{"$f":"S80/H80-1","v":-0.54844649021864211}]
[null,"2024-02-02","15:35:00",5803,1006,16843,2825,11040,354.1,0.1937342317774764,6.0692688290269379,null,"2024-02-02","15:45:00",10755,1041,16761,1949,6006,354.05,-1.7316173371994505,6.6145374449339203,354.05,null,{"$f":"IF(H81>S81,\"하락\",\"상승\")","v":"하락"},344.6,{"$f":"IF(AND(Y80=\"상승\",Z81>W80),\"성공\",IF(AND(Y80=\"하락\",Z81<W80),\"성공\",IF(AND(Y80=\"상승\",Z81=W80),\"동일가\",IF(AND(Y80=\"하락\",Z81=W80),\"동일가\",\"실패\"))))","v":"실패"},{"$f":"S81/H81-1","v":-0.45597826086956517}]
[null,"2024-02-05","15:35:00",12971,2085,15924,2826,2953,349.3,-0.58628358459729046,3.9851551956815117,null,"2024-02-05","15:45:00",14780,1387,13487,1970,-1293,349.25,-3.8098993921072761,-2.2178387650085765,349.25,null,{"$f":"IF(H82>S82,\"하락\",\"상승\")","v":"하락"},353.7,{"$f":"IF(AND(Y81=\"상승\",Z82>W81),\"성공\",IF(AND(Y81=\"하락\",Z82<W81),\"성공\",IF(AND(Y81=\"상승\",Z82=W81),\"동일가\",IF(AND(Y81=\"하락\",Z82=W81),\"동일가\",\"실패\"))))","v":"성공"},{"$f":"S82/H82-1","v":-1.43785980358957}]
[null,"2024-02-06","15:35:00",13819,2079,13514,2243,-305,347.75,-0.6219790843063242,-1.8597560975609757,null,"2024-02-06","15:45:00",13001,1440,11686,1395,-1315,348.05,-0.65141129032257972,29.222222222222221,348.05,null,{"$f":"IF(H83>S83,\"하락\",\"상승\")","v":"하락"},348.05,{"$f":"IF(AND(Y82=\"상승\",Z83>W82),\"성공\",IF(AND(Y82=\"하락\",Z83<W82),\"성공\",IF(AND(Y82=\"상승\",Z83=W82),\"동일가\",IF(AND(Y82=\"하락\",Z83=W82),\"동일가\",\"실패\"))))","v":"성공"},{"$f":"S83/H83-1","v":3.3114754098360653}]
[null,"2024-02-07","15:35:00",9476,1840,18054,2720,8578,352.55,1.4874999999999998,9.747727272727273,null,"2024-02-07","15:45:00",11445,1427,15002,1376,3557,352.7,2.8822939244797183,-69.745098039215691,352.7,null,{"$f":"IF(H84>S84,\"하락\",\"상승\")","v":"하락"},349.75,{"$f":"IF(AND(Y83=\"상승\",Z84>W83),\"성공\",IF(AND(Y83=\"하락\",Z84<W83),\"성공\",IF(AND(Y83=\"상승\",Z84=W83),\"동일가\",IF(AND(Y83=\"하락\",Z84=W83),\"동일가\",\"실패\"))))","v":"실패"},{"$f":"S84/H84-1","v":-0.58533457682443468}]
[null,"2024-02-08","15:35:00",11809,1843,10389,1450,-1420,353.4,0.75733979456283773,3.61323155216285,null,"2024-02-08","15:45:00",11679,1437,10798,1096,-881,353.4,1.7248411380156341,2.5835777126099706,353.4,null,{"$f":"IF(H85>S85,\"하락\",\"상승\")","v":"상승"},355.1,{"$f":"IF(AND(Y84=\"상승\",Z85>W84),\"성공\",IF(AND(Y84=\"하락\",Z85<W84),\"성공\",IF(AND(Y84=\"상승\",Z85=W84),\"동일가\",IF(AND(Y84=\"하락\",Z85=W84),\"동일가\",\"실패\"))))","v":"실패"},{"$f":"S85/H85-1","v":-0.37957746478873244}]
[null,"2024-02-13","15:35:00",10070,1986,13745,1912,3675,357.25,2.1183140772014983,-49.662162162162161,null,"2024-02-13","15:45:00",10332,1695,9830,1246,-502,357.25,1.7936703646358607,1.1180400890868596,357.25,null,{"$f":"IF(H86>S86,\"하락\",\"상승\")","v":"하락"},355.55,{"$f":"IF(AND(Y85=\"상승\",Z86>W85),\"성공\",IF(AND(Y85=\"하락\",Z86<W85),\"성공\",IF(AND(Y85=\"상승\",Z86=W85),\"동일가\",IF(AND(Y85=\"하락\",Z86=W85),\"동일가\",\"실패\"))))","v":"성공"},{"$f":"S86/H86-1","v":-1.1365986394557823}]
[null,"2024-02-14","15:35:00",11116,1753,14571,2402,3455,352.35,-0.27493465466361222,5.323574730354391,null,"2024-02-14","15:45:00",11293,1303,11292,1389,-1,352.5,-0.53733285374008055,-1.1627906976744186E-2,352.5,null,{"$f":"IF(H87>S87,\"하락\",\"상승\")","v":"하락"},352,{"$f":"IF(AND(Y86=\"상승\",Z87>W86),\"성공\",IF(AND(Y86=\"하락\",Z87<W86),\"성공\",IF(AND(Y86=\"상승\",Z87=W86),\"동일가\",IF(AND(Y86=\"하락\",Z87=W86),\"동일가\",\"실패\"))))","v":"성공"},{"$f":"S87/H87-1","v":-1.0002894356005789}]
[null,"2024-02-15","15:35:00",13721,2342,8919,1280,-4802,352.2,1.1093009447053799,4.5216572504708097,null,"2024-02-15","15:45:00",11746,1715,10240,1046,-1506,352.15,2.9406953603621178,2.2511210762331837,352.15,null,{"$f":"IF(H88>S88,\"하락\",\"상승\")","v":"상승"},355.65,{"$f":"IF(AND(Y87=\"상승\",Z88>W87),\"성공\",IF(AND(Y87=\"하락\",Z88<W87),\"성공\",IF(AND(Y87=\"상승\",Z88=W87),\"동일가\",IF(AND(Y87=\"하락\",Z88=W87),\"동일가\",\"실패\"))))","v":"실패"},{"$f":"S88/H88-1","v":-0.68638067471886721}]
[null,"2024-02-16","15:35:00",10043,1533,18002,2913,7959,355.5,-0.37132350224346933,5.767391304347826,null,"2024-02-16","15:45:00",12635,1418,11878,1323,-757,355.8,6.7642885394246122E-2,7.9684210526315793,355.8,null,{"$f":"IF(H89>S89,\"하락\",\"상승\")","v":"하락"},354.3,{"$f":"IF(AND(Y88=\"상승\",Z89>W88),\"성공\",IF(AND(Y88=\"하락\",Z89<W88),\"성공\",IF(AND(Y88=\"상승\",Z89=W88),\"동일가\",IF(AND(Y88=\"하락\",Z89=W88),\"동일가\",\"실패\"))))","v":"성공"},{"$f":"S89/H89-1","v":-1.0951124513129791}]
[null,"2024-02-19","15:35:00",5552,1093,17583,2826,12031,361.1,1.1422709269371003,6.9422965954991342,null,"2024-02-19","15:45:00",11748,1199,14992,1607,3244,361.1,-0.46898032118655308,7.9509803921568629,361.1,null,{"$f":"IF(H90>S90,\"하락\",\"상승\")","v":"하락"},355.3,{"$f":"IF(AND(Y89=\"상승\",Z90>W89),\"성공\",IF(AND(Y89=\"하락\",Z90<W89),\"성공\",IF(AND(Y89=\"상승\",Z90=W89),\"동일가\",IF(AND(Y89=\"하락\",Z90=W89),\"동일가\",\"실패\"))))","v":"성공"},{"$f":"S90/H90-1","v":-0.73036322832682243}]
[null,"2024-02-20","15:35:00",14097,2112,9301,1621,-4796,356.65,-0.93689974622847849,9.7678207739307528,null,"2024-02-20","15:45:00",15272,1509,13234,1304,-2038,356.65,2.8163330853326229E-2,9.9414634146341463,356.65,null,{"$f":"IF(H91>S91,\"하락\",\"상승\")","v":"상승"},360.3,{"$f":"IF(AND(Y90=\"상승\",Z91>W90),\"성공\",IF(AND(Y90=\"하락\",Z91<W90),\"성공\",IF(AND(Y90=\"상승\",Z91=W90),\"동일가\",IF(AND(Y90=\"하락\",Z91=W90),\"동일가\",\"실패\"))))","v":"성공"},{"$f":"S91/H91-1","v":-0.57506255212677226}]
[null,"2024-02-21","15:35:00",9357,1928,8330,1529,-1027,355.9,0.59478946454303916,2.573934837092732,null,"2024-02-21","15:45:00",9526,1413,8726,1089,-800,355.95,1.2711714715188949,2.4691358024691357,355.95,null,{"$f":"IF(H92>S92,\"하락\",\"상승\")","v":"상승"},357.05,{"$f":"IF(AND(Y91=\"상승\",Z92>W91),\"성공\",IF(AND(Y91=\"하락\",Z92<W91),\"성공\",IF(AND(Y91=\"상승\",Z92=W91),\"동일가\",IF(AND(Y91=\"하락\",Z92=W91),\"동일가\",\"실패\"))))","v":"성공"},{"$f":"S92/H92-1","v":-0.22103213242453745}]
[null,"2024-02-22","15:35:00",10513,1842,13434,2260,2921,357.7,0.23686450856610275,6.9880382775119614,null,"2024-02-22","15:45:00",11048,1506,10146,1350,-902,357.9,0.17956617972554234,5.7820512820512819,357.9,null,{"$f":"IF(H93>S93,\"하락\",\"상승\")","v":"하락"},360,{"$f":"IF(AND(Y92=\"상승\",Z93>W92),\"성공\",IF(AND(Y92=\"하락\",Z93<W92),\"성공\",IF(AND(Y92=\"상승\",Z93=W92),\"동일가\",IF(AND(Y92=\"하락\",Z93=W92),\"동일가\",\"실패\"))))","v":"성공"},{"$f":"S93/H93-1","v":-1.3087983567271482}]
[null,"2024-02-23","15:35:00",10153,2006,8203,1284,-1950,359.05,1.3273132316446308,2.7008310249307481,null,"2024-02-23","15:45:00",11670,1726,10155,1040,-1515,359.05,3.0031252785453244,2.2084548104956268,359.05,null,{"$f":"IF(H94>S94,\"하락\",\"상승\")","v":"상승"},360.4,{"$f":"IF(AND(Y93=\"상승\",Z94>W93),\"성공\",IF(AND(Y93=\"하락\",Z94<W93),\"성공\",IF(AND(Y93=\"상승\",Z94=W93),\"동일가\",IF(AND(Y93=\"하락\",Z94=W93),\"동일가\",\"실패\"))))","v":"실패"},{"$f":"S94/H94-1","v":-0.22307692307692306}]
[null,"2024-02-26","15:35:00",7018,1464,6646,1275,-372,355.4,0.41883317261330788,1.9682539682539681,null,"2024-02-26","15:45:00",11804,1500,11564,1364,-240,355.25,0.60867253176930625,1.7647058823529411,355.25,null,{"$f":"IF(H95>S95,\"하락\",\"상승\")","v":"상승"},359.25,{"$f":"IF(AND(Y94=\"상승\",Z95>W94),\"성공\",IF(AND(Y94=\"하락\",Z95<W94),\"성공\",IF(AND(Y94=\"상승\",Z95=W94),\"동일가\",IF(AND(Y94=\"하락\",Z95=W94),\"동일가\",\"실패\"))))","v":"성공"},{"$f":"S95/H95-1","v":-0.35483870967741937}]
[null,"2024-02-27","15:35:00",10749,2285,5634,855,-5115,352.65,1.8853161349763905,3.5769230769230771,null,"2024-02-27","15:45:00",11871,2051,7760,879,-4111,352.6,3.0403055420120255,3.5076791808873722,352.6,null,{"$f":"IF(H96>S96,\"하락\",\"상승\")","v":"상승"},356.45,{"$f":"IF(AND(Y95=\"상승\",Z96>W95),\"성공\",IF(AND(Y95=\"하락\",Z96<W95),\"성공\",IF(AND(Y95=\"상승\",Z96=W95),\"동일가\",IF(AND(Y95=\"하락\",Z96=W95),\"동일가\",\"실패\"))))","v":"성공"},{"$f":"S96/H96-1","v":-0.19628543499511242}]
[null,"2024-02-28","15:35:00",5482,1047,9526,2014,4044,357.2,-0.5060213652474701,4.1820062047569806,null,"2024-02-28","15:45:00",11057,1241,13695,1738,2638,357.2,-1.0300033660074046,5.3078470824949697,357.2,null,{"$f":"IF(H97>S97,\"하락\",\"상승\")","v":"하락"},353.9,{"$f":"IF(AND(Y96=\"상승\",Z97>W96),\"성공\",IF(AND(Y96=\"하락\",Z97<W96),\"성공\",IF(AND(Y96=\"상승\",Z97=W96),\"동일가\",IF(AND(Y96=\"하락\",Z97=W96),\"동일가\",\"실패\"))))","v":"성공"},{"$f":"S97/H97-1","v":-0.347675568743818}]
[null,"2024-02-29","15:35:00",6274,1205,8584,1615,2310,355.4,0.10853127448839306,5.6341463414634143,null,"2024-02-29","15:45:00",12051,1262,12769,1211,718,355.75,0.99504999731724908,-14.078431372549019,355.75,null,{"$f":"IF(H98>S98,\"하락\",\"상승\")","v":"하락"},355.6,{"$f":"IF(AND(Y97=\"상승\",Z98>W97),\"성공\",IF(AND(Y97=\"하락\",Z98<W97),\"성공\",IF(AND(Y97=\"상승\",Z98=W97),\"동일가\",IF(AND(Y97=\"하락\",Z98=W97),\"동일가\",\"실패\"))))","v":"성공"},{"$f":"S98/H98-1","v":-0.68917748917748911}]
[null,"2024-03-04","15:35:00",6320,1204,10811,1991,4491,361.25,0.18076527096185302,5.7064803049555275,null,"2024-03-04","15:45:00",12683,1493,13403,1401,720,361.4,1.0717614869868566,-7.8260869565217392,361.4,null,{"$f":"IF(H99>S99,\"하락\",\"상승\")","v":"하락"},359.2,{"$f":"IF(AND(Y98=\"상승\",Z99>W98),\"성공\",IF(AND(Y98=\"하락\",Z99<W98),\"성공\",IF(AND(Y98=\"상승\",Z99=W98),\"동일가\",IF(AND(Y98=\"하락\",Z99=W98),\"동일가\",\"실패\"))))","v":"실패"},{"$f":"S99/H99-1","v":-0.83967935871743493}]
[null,"2024-03-05","15:35:00",10511,2142,5315,719,-5196,357.5,2.4851152329267352,3.6514406184118062,null,"2024-03-05","15:45:00",12128,1892,9883,840,-2245,357.65,5.3553281989328507,2.1340304182509504,357.65,null,{"$f":"IF(H100>S100,\"하락\",\"상승\")","v":"상승"},360.1,{"$f":"IF(AND(Y99=\"상승\",Z100>W99),\"성공\",IF(AND(Y99=\"하락\",Z100<W99),\"성공\",IF(AND(Y99=\"상승\",Z100=W99),\"동일가\",IF(AND(Y99=\"하락\",Z100=W99),\"동일가\",\"실패\"))))","v":"성공"},{"$f":"S100/H100-1","v":-0.56793687451886066}]
[null,"2024-03-06","15:35:00",7174,1266,10925,2001,3751,356.55,-0.2068965517241379,5.1034013605442174,null,"2024-03-06","15:45:00",8662,1142,11128,1669,2466,356.6,-0.91747315579554645,4.6793168880455411,356.6,null,{"$f":"IF(H101>S101,\"하락\",\"상승\")","v":"하락"},354.6,{"$f":"IF(AND(Y100=\"상승\",Z101>W100),\"성공\",IF(AND(Y100=\"하락\",Z101<W100),\"성공\",IF(AND(Y100=\"상승\",Z101=W100),\"동일가\",IF(AND(Y100=\"하락\",Z101=W100),\"동일가\",\"실패\"))))","v":"실패"},{"$f":"S101/H101-1","v":-0.34257531324980006}]
[null,"2024-03-07","15:35:00",11047,1750,9874,1529,-1173,357.05,0.14524413715780682,5.3076923076923075,null,"2024-03-07","15:45:00",10020,1490,8966,1243,-1054,357.1,0.48836167099515659,4.2672064777327936,357.1,null,{"$f":"IF(H102>S102,\"하락\",\"상승\")","v":"상승"},358.3,{"$f":"IF(AND(Y101=\"상승\",Z102>W101),\"성공\",IF(AND(Y101=\"하락\",Z102<W101),\"성공\",IF(AND(Y101=\"상승\",Z102=W101),\"동일가\",IF(AND(Y101=\"하락\",Z102=W101),\"동일가\",\"실패\"))))","v":"실패"},{"$f":"S102/H102-1","v":-0.10144927536231885}]
[null,"2024-03-08","15:35:00",9198,1374,11423,1914,2225,362.15,-0.72619357252695593,4.1203703703703702,null,"2024-03-08","15:45:00",12006,1420,13344,1669,1338,362.15,-0.45972286685963581,5.3734939759036147,362.15,null,{"$f":"IF(H103>S103,\"하락\",\"상승\")","v":"하락"},360.55,{"$f":"IF(AND(Y102=\"상승\",Z103>W102),\"성공\",IF(AND(Y102=\"하락\",Z103<W102),\"성공\",IF(AND(Y102=\"상승\",Z103=W102),\"동일가\",IF(AND(Y102=\"하락\",Z103=W102),\"동일가\",\"실패\"))))","v":"성공"},{"$f":"S103/H103-1","v":-0.39865168539325846}]
[null,"2024-03-11","15:35:00",12359,1687,9621,1563,-2738,358.95,-1.1705522756724962,22.080645161290324,null,"2024-03-11","15:45:00",10678,1102,10287,1207,-391,359.05,-1.1668714110219121,-3.7238095238095239,359.05,null,{"$f":"IF(H104>S104,\"하락\",\"상승\")","v":"상승"},359.9,{"$f":"IF(AND(Y103=\"상승\",Z104>W103),\"성공\",IF(AND(Y103=\"하락\",Z104<W103),\"성공\",IF(AND(Y103=\"상승\",Z104=W103),\"동일가\",IF(AND(Y103=\"하락\",Z104=W103),\"동일가\",\"실패\"))))","v":"성공"},{"$f":"S104/H104-1","v":-0.85719503287070853}]
[null,"2024-03-12","15:35:00",8291,1127,16128,2611,7837,361.65,-1.1797555016877954,5.2809973045822103,null,"2024-03-12","15:45:00",8485,918,12889,1523,4404,361.7,-0.78001722320211364,7.2793388429752062,361.7,null,{"$f":"IF(H105>S105,\"하락\",\"상승\")","v":"하락"},360,{"$f":"IF(AND(Y104=\"상승\",Z105>W104),\"성공\",IF(AND(Y104=\"하락\",Z105<W104),\"성공\",IF(AND(Y104=\"상승\",Z105=W104),\"동일가\",IF(AND(Y104=\"하락\",Z105=W104),\"동일가\",\"실패\"))))","v":"성공"},{"$f":"S105/H105-1","v":-0.43805027433967081}]
[null,"2024-03-13","15:35:00",11035,1729,11932,1896,897,363.25,-8.9052963470019009E-2,5.3712574850299397,null,"2024-03-13","15:45:00",10088,1391,9338,1092,-750,363.55,1.2989456026839203,2.508361204013378,363.55,null,{"$f":"IF(H106>S106,\"하락\",\"상승\")","v":"하락"},363.4,{"$f":"IF(AND(Y105=\"상승\",Z106>W105),\"성공\",IF(AND(Y105=\"하락\",Z106<W105),\"성공\",IF(AND(Y105=\"상승\",Z106=W105),\"동일가\",IF(AND(Y105=\"하락\",Z106=W105),\"동일가\",\"실패\"))))","v":"실패"},{"$f":"S106/H106-1","v":-1.8361204013377925}]
[null,"2024-03-14","15:35:00",3056,620,6187,1031,3131,366.35,1.0719376740402371,7.6180048661800486,null,"2024-03-14","15:45:00",3056,620,6187,1031,3131,366.35,1.0719376740402371,7.6180048661800486,366.35,null,{"$f":"IF(H107>S107,\"하락\",\"상승\")","v":"상승"},363.55,{"$f":"IF(AND(Y106=\"상승\",Z107>W106),\"성공\",IF(AND(Y106=\"하락\",Z107<W106),\"성공\",IF(AND(Y106=\"상승\",Z107=W106),\"동일가\",IF(AND(Y106=\"하락\",Z107=W106),\"동일가\",\"실패\"))))","v":"동일가"},{"$f":"S107/H107-1","v":0}]
[null,"2024-03-15","15:35:00",13346,2452,5746,825,-7600,360.95,1.5219447328093327,4.6711739397664411,null,"2024-03-15","15:45:00",18826,2147,13439,987,-5387,361.1,4.8474938995011545,4.6439655172413792,361.1,null,{"$f":"IF(H108>S108,\"하락\",\"상승\")","v":"상승"},365.7,{"$f":"IF(AND(Y107=\"상승\",Z108>W107),\"성공\",IF(AND(Y107=\"하락\",Z108<W107),\"성공\",IF(AND(Y107=\"상승\",Z108=W107),\"동일가\",IF(AND(Y107=\"하락\",Z108=W107),\"동일가\",\"실패\"))))","v":"실패"},{"$f":"S108/H108-1","v":-0.29118421052631582}]
[null,"2024-03-18","15:35:00",9015,1452,14136,2520,5121,362.9,-0.59915387642660445,4.7949438202247192,null,"2024-03-18","15:45:00",14162,1371,15523,1655,1361,362.95,-0.95023016696745799,4.792253521126761,362.95,null,{"$f":"IF(H109>S109,\"하락\",\"상승\")","v":"하락"},361.1,{"$f":"IF(AND(Y108=\"상승\",Z109>W108),\"성공\",IF(AND(Y108=\"하락\",Z109<W108),\"성공\",IF(AND(Y108=\"상승\",Z109=W108),\"동일가\",IF(AND(Y108=\"하락\",Z109=W108),\"동일가\",\"실패\"))))","v":"동일가"},{"$f":"S109/H109-1","v":-0.73423159539152505}]
[null,"2024-03-19","15:35:00",12791,2239,9247,1724,-3544,358.95,-0.34912912729311252,6.8815533980582524,null,"2024-03-19","15:45:00",13413,1694,11339,1449,-2074,358.95,-9.2548865276138592E-2,8.465306122448979,358.95,null,{"$f":"IF(H110>S110,\"하락\",\"상승\")","v":"상승"},361,{"$f":"IF(AND(Y109=\"상승\",Z110>W109),\"성공\",IF(AND(Y109=\"하락\",Z110<W109),\"성공\",IF(AND(Y109=\"상승\",Z110=W109),\"동일가\",IF(AND(Y109=\"하락\",Z110=W109),\"동일가\",\"실패\"))))","v":"성공"},{"$f":"S110/H110-1","v":-0.41478555304740405}]
[null,"2024-03-20","15:35:00",8701,1560,18809,3437,10108,364.95,-0.10505901091440784,5.3851891315929672,null,"2024-03-20","15:45:00",11751,1459,15896,1968,4145,365.05,2.3089096552379118E-2,8.1434184675834977,365.05,null,{"$f":"IF(H111>S111,\"하락\",\"상승\")","v":"하락"},361,{"$f":"IF(AND(Y110=\"상승\",Z111>W110),\"성공\",IF(AND(Y110=\"하락\",Z111<W110),\"성공\",IF(AND(Y110=\"상승\",Z111=W110),\"동일가\",IF(AND(Y110=\"하락\",Z111=W110),\"동일가\",\"실패\"))))","v":"성공"},{"$f":"S111/H111-1","v":-0.58992876929165017}]
[null,"2024-03-21","15:35:00",8818,1231,27511,4035,18693,375.25,-0.34519018700102766,6.6665477888730384,null,"2024-03-21","15:45:00",14360,1231,21833,1874,1874,375.45,1.1848398756075795E-2,11.699844479004666,375.45,null,{"$f":"IF(H112>S112,\"하락\",\"상승\")","v":"하락"},371.7,{"$f":"IF(AND(Y111=\"상승\",Z112>W111),\"성공\",IF(AND(Y111=\"하락\",Z112<W111),\"성공\",IF(AND(Y111=\"상승\",Z112=W111),\"동일가\",IF(AND(Y111=\"하락\",Z112=W111),\"동일가\",\"실패\"))))","v":"실패"},{"$f":"S112/H112-1","v":-0.89974856898304179}]
[null,"2024-03-22","15:35:00",11667,1995,12267,1787,600,373.45,1.016457203445098,-2.8846153846153846,null,"2024-03-22","15:45:00",15341,1401,14657,1324,-684,373.4,0.12020600304918183,8.8831168831168839,373.4,null,{"$f":"IF(H113>S113,\"하락\",\"상승\")","v":"하락"},373.95,{"$f":"IF(AND(Y112=\"상승\",Z113>W112),\"성공\",IF(AND(Y112=\"하락\",Z113<W112),\"성공\",IF(AND(Y112=\"상승\",Z113=W112),\"동일가\",IF(AND(Y112=\"하락\",Z113=W112),\"동일가\",\"실패\"))))","v":"성공"},{"$f":"S113/H113-1","v":-2.1399999999999997}]
[null,"2024-03-25","15:35:00",13192,2369,12090,1758,-1102,372.45,1.3085387621971512,1.8036006546644845,null,"2024-03-25","15:45:00",12096,1583,11859,1246,-237,372.6,1.8764688823565789,0.70326409495548958,372.6,null,{"$f":"IF(H114>S114,\"하락\",\"상승\")","v":"상승"},373.8,{"$f":"IF(AND(Y113=\"상승\",Z114>W113),\"성공\",IF(AND(Y113=\"하락\",Z114<W113),\"성공\",IF(AND(Y113=\"상승\",Z114=W113),\"동일가\",IF(AND(Y113=\"하락\",Z114=W113),\"동일가\",\"실패\"))))","v":"실패"},{"$f":"S114/H114-1","v":-0.78493647912885667}]
[null,"2024-03-26","15:35:00",10114,1964,14094,2260,3980,376.2,1.0865886848223782,13.445945945945946,null,"2024-03-26","15:45:00",11643,1453,13108,1465,1465,376,0.93436387936927012,122.08333333333333,376,null,{"$f":"IF(H115>S115,\"하락\",\"상승\")","v":"하락"},375.05,{"$f":"IF(AND(Y114=\"상승\",Z115>W114),\"성공\",IF(AND(Y114=\"하락\",Z115<W114),\"성공\",IF(AND(Y114=\"상승\",Z115=W114),\"동일가\",IF(AND(Y114=\"하락\",Z115=W114),\"동일가\",\"실패\"))))","v":"성공"},{"$f":"S115/H115-1","v":-0.63190954773869346}]
[null,"2024-03-27","15:35:00",10207,1822,17113,2756,6906,376.25,0.60727577312607206,7.3940042826552466,null,"2024-03-27","15:45:00",11766,1441,13320,1551,1554,376.3,0.42284465575029273,14.127272727272727,376.3,null,{"$f":"IF(H116>S116,\"하락\",\"상승\")","v":"하락"},375.3,{"$f":"IF(AND(Y115=\"상승\",Z116>W115),\"성공\",IF(AND(Y115=\"하락\",Z116<W115),\"성공\",IF(AND(Y115=\"상승\",Z116=W115),\"동일가\",IF(AND(Y115=\"하락\",Z116=W115),\"동일가\",\"실패\"))))","v":"성공"},{"$f":"S116/H116-1","v":-0.77497827975673328}]
[null,"2024-03-28","15:35:00",9465,1661,9153,1601,-312,375.65,1.8677369389465071E-2,5.2,null,"2024-03-28","15:45:00",9729,1343,10350,1412,621,375.7,8.5798991307355799E-2,9,375.7,null,{"$f":"IF(H117>S117,\"하락\",\"상승\")","v":"상승"},376.75,{"$f":"IF(AND(Y116=\"상승\",Z117>W116),\"성공\",IF(AND(Y116=\"하락\",Z117<W116),\"성공\",IF(AND(Y116=\"상승\",Z117=W116),\"동일가\",IF(AND(Y116=\"하락\",Z117=W116),\"동일가\",\"실패\"))))","v":"실패"},{"$f":"S117/H117-1","v":-2.9903846153846154}]
[null,"2024-03-29","15:35:00",9237,1596,11545,1862,2308,377.35,0.41272824919441486,8.6766917293233075,null,"2024-03-29","15:45:00",9502,1250,10350,1299,848,376.95,0.36606743648960727,17.306122448979593,376.95,null,{"$f":"IF(H118>S118,\"하락\",\"상승\")","v":"하락"},376.95,{"$f":"IF(AND(Y117=\"상승\",Z118>W117),\"성공\",IF(AND(Y117=\"하락\",Z118<W117),\"성공\",IF(AND(Y117=\"상승\",Z118=W117),\"동일가\",IF(AND(Y117=\"하락\",Z118=W117),\"동일가\",\"실패\"))))","v":"성공"},{"$f":"S118/H118-1","v":-0.63258232235701906}]
[null,"2024-04-01","15:35:00",13924,2619,11927,1608,-1997,377.05,2.1007555293406961,1.9752720079129575,null,"2024-04-01","15:45:00",10738,1727,8769,945,-1969,377,3.0616464922197411,2.5179028132992327,377,null,{"$f":"IF(H119>S119,\"하락\",\"상승\")","v":"상승"},379.95,{"$f":"IF(AND(Y118=\"상승\",Z119>W118),\"성공\",IF(AND(Y118=\"하락\",Z119<W118),\"성공\",IF(AND(Y118=\"상승\",Z119=W118),\"동일가\",IF(AND(Y118=\"하락\",Z119=W118),\"동일가\",\"실패\"))))","v":"실패"},{"$f":"S119/H119-1","v":-1.4021031547320928E-2}]
[null,"2024-04-02","15:35:00",9727,1881,14658,2443,4931,378.5,0.82881446039340734,8.7740213523131665,null,"2024-04-02","15:45:00",10094,1389,12177,1549,2083,378.55,0.59410214258391925,13.018750000000001,378.55,null,{"$f":"IF(H120>S120,\"하락\",\"상승\")","v":"하락"},375.4,{"$f":"IF(AND(Y119=\"상승\",Z120>W119),\"성공\",IF(AND(Y119=\"하락\",Z120<W119),\"성공\",IF(AND(Y119=\"상승\",Z120=W119),\"동일가\",IF(AND(Y119=\"하락\",Z120=W119),\"동일가\",\"실패\"))))","v":"실패"},{"$f":"S120/H120-1","v":-0.57757047252078686}]
[null,"2024-04-03","15:35:00",16312,3053,9128,1376,-7184,372.6,1.2907795610874544,4.2838401908169352,null,"2024-04-03","15:45:00",17526,2071,13691,1144,-3835,373.05,3.5050788781474456,4.1370010787486518,373.05,null,{"$f":"IF(H121>S121,\"하락\",\"상승\")","v":"상승"},376.3,{"$f":"IF(AND(Y120=\"상승\",Z121>W120),\"성공\",IF(AND(Y120=\"하락\",Z121<W120),\"성공\",IF(AND(Y120=\"상승\",Z121=W120),\"동일가\",IF(AND(Y120=\"하락\",Z121=W120),\"동일가\",\"실패\"))))","v":"성공"},{"$f":"S121/H121-1","v":-0.46617483296213813}]
[null,"2024-04-04","15:35:00",8069,1238,12851,2435,4782,378.35,-1.2401525279230929,3.9949874686716793,null,"2024-04-04","15:45:00",12335,1076,14467,1496,2132,378.25,-1.7933001013856043,5.0761904761904759,378.25,null,{"$f":"IF(H122>S122,\"하락\",\"상승\")","v":"하락"},376.25,{"$f":"IF(AND(Y121=\"상승\",Z122>W121),\"성공\",IF(AND(Y121=\"하락\",Z122<W121),\"성공\",IF(AND(Y121=\"상승\",Z122=W121),\"동일가\",IF(AND(Y121=\"하락\",Z122=W121),\"동일가\",\"실패\"))))","v":"성공"},{"$f":"S122/H122-1","v":-0.55416143872856538}]
[null,"2024-04-05","15:35:00",13371,2756,11809,2221,-1562,373.75,0.46537781919388088,2.919626168224299,null,"2024-04-05","15:45:00",14772,1567,15422,1658,650,373.75,-0.12536228592894894,7.1428571428571432,373.75,null,{"$f":"IF(H123>S123,\"하락\",\"상승\")","v":"상승"},375,{"$f":"IF(AND(Y122=\"상승\",Z123>W122),\"성공\",IF(AND(Y122=\"하락\",Z123<W122),\"성공\",IF(AND(Y122=\"상승\",Z123=W122),\"동일가\",IF(AND(Y122=\"하락\",Z123=W122),\"동일가\",\"실패\"))))","v":"성공"},{"$f":"S123/H123-1","v":-1.4161331626120359}]
[null,"2024-04-08","15:35:00",12349,2215,10719,1923,-1630,375.25,-1.066336107169441E-3,5.5821917808219181,null,"2024-04-08","15:45:00",10951,1512,10577,1412,-374,375.2,0.24806833340827694,3.74,375.2,null,{"$f":"IF(H124>S124,\"하락\",\"상승\")","v":"상승"},376,{"$f":"IF(AND(Y123=\"상승\",Z124>W123),\"성공\",IF(AND(Y123=\"하락\",Z124<W123),\"성공\",IF(AND(Y123=\"상승\",Z124=W123),\"동일가\",IF(AND(Y123=\"하락\",Z124=W123),\"동일가\",\"실패\"))))","v":"성공"},{"$f":"S124/H124-1","v":-0.7705521472392638}]
[null,"2024-04-09","15:35:00",15195,2943,6811,1238,-8384,373.05,0.33851663019008971,4.9173020527859235,null,"2024-04-09","15:45:00",13130,2038,8602,1037,-4528,372.8,1.8524911919432423,4.5234765234765231,372.8,null,{"$f":"IF(H125>S125,\"하락\",\"상승\")","v":"상승"},376.95,{"$f":"IF(AND(Y124=\"상승\",Z125>W124),\"성공\",IF(AND(Y124=\"하락\",Z125<W124),\"성공\",IF(AND(Y124=\"상승\",Z125=W124),\"동일가\",IF(AND(Y124=\"하락\",Z125=W124),\"동일가\",\"실패\"))))","v":"성공"},{"$f":"S125/H125-1","v":-0.45992366412213737}]
[null,"2024-04-11","15:35:00",5840,1223,15982,3351,10142,372.85,-5.8205004888645107E-3,4.7659774436090228,null,"2024-04-11","15:45:00",7872,925,12336,1959,4464,372.8,-2.2131799180497493,4.317214700193424,372.8,null,{"$f":"IF(H126>S126,\"하락\",\"상승\")","v":"하락"},365.85,{"$f":"IF(AND(Y125=\"상승\",Z126>W125),\"성공\",IF(AND(Y125=\"하락\",Z126<W125),\"성공\",IF(AND(Y125=\"상승\",Z126=W125),\"동일가\",IF(AND(Y125=\"하락\",Z126=W125),\"동일가\",\"실패\"))))","v":"실패"},{"$f":"S126/H126-1","v":-0.55985012817984625}]
[null,"2024-04-12","15:35:00",14680,2549,9540,1781,-5140,369.3,-0.40257995505938737,6.692708333333333,null,"2024-04-12","15:45:00",13301,1724,9760,1386,-3541,369.35,-0.67335017393022056,10.476331360946746,369.35,null,{"$f":"IF(H127>S127,\"하락\",\"상승\")","v":"상승"},373.65,{"$f":"IF(AND(Y126=\"상승\",Z127>W126),\"성공\",IF(AND(Y126=\"하락\",Z127<W126),\"성공\",IF(AND(Y126=\"상승\",Z127=W126),\"동일가\",IF(AND(Y126=\"하락\",Z127=W126),\"동일가\",\"실패\"))))","v":"실패"},{"$f":"S127/H127-1","v":-0.31108949416342413}]
[null,"2024-04-15","15:35:00",8909,1439,14686,2543,5777,367.05,-0.41603611762330051,5.2327898550724639,null,"2024-04-15","15:45:00",10438,1105,11899,1726,1461,367.2,-2.5521793386219809,2.3526570048309177,367.2,null,{"$f":"IF(H128>S128,\"하락\",\"상승\")","v":"하락"},366.5,{"$f":"IF(AND(Y127=\"상승\",Z128>W127),\"성공\",IF(AND(Y127=\"하락\",Z128<W127),\"성공\",IF(AND(Y127=\"상승\",Z128=W127),\"동일가\",IF(AND(Y127=\"하락\",Z128=W127),\"동일가\",\"실패\"))))","v":"실패"},{"$f":"S128/H128-1","v":-0.74710057123074258}]
[null,"2024-04-16","15:35:00",16239,3066,11684,1533,-4555,358.15,2.3251793868232227,2.9712981082844094,null,"2024-04-16","15:45:00",14968,2182,13197,1456,-1771,358.15,2.2041119398475031,2.4393939393939394,358.15,null,{"$f":"IF(H129>S129,\"하락\",\"상승\")","v":"상승"},362.95,{"$f":"IF(AND(Y128=\"상승\",Z129>W128),\"성공\",IF(AND(Y128=\"하락\",Z129<W128),\"성공\",IF(AND(Y128=\"상승\",Z129=W128),\"동일가\",IF(AND(Y128=\"하락\",Z129=W128),\"동일가\",\"실패\"))))","v":"성공"},{"$f":"S129/H129-1","v":-0.61119648737650933}]
[null,"2024-04-17","15:35:00",15503,2671,7185,1058,-8318,354.7,0.98692212583663075,5.1568505889646623,null,"2024-04-17","15:45:00",13762,1859,9787,899,-3975,354.7,3.4836358131472354,4.140625,354.7,null,{"$f":"IF(H130>S130,\"하락\",\"상승\")","v":"상승"},360,{"$f":"IF(AND(Y129=\"상승\",Z130>W129),\"성공\",IF(AND(Y129=\"하락\",Z130<W129),\"성공\",IF(AND(Y129=\"상승\",Z130=W129),\"동일가\",IF(AND(Y129=\"하락\",Z130=W129),\"동일가\",\"실패\"))))","v":"성공"},{"$f":"S130/H130-1","v":-0.52212070209184902}]
[null,"2024-04-18","15:35:00",8938,1410,19716,3680,10778,360.45,-0.9813983965464077,4.7480176211453742,null,"2024-04-18","15:45:00",10451,1095,18104,2531,7653,360.35,-2.3913882469253407,5.3293871866295266,360.35,null,{"$f":"IF(H131>S131,\"하락\",\"상승\")","v":"하락"},353.5,{"$f":"IF(AND(Y130=\"상승\",Z131>W130),\"성공\",IF(AND(Y130=\"하락\",Z131<W130),\"성공\",IF(AND(Y130=\"상승\",Z131=W130),\"동일가\",IF(AND(Y130=\"하락\",Z131=W130),\"동일가\",\"실패\"))))","v":"실패"},{"$f":"S131/H131-1","v":-0.2899424754128781}]
[null,"2024-04-19","15:35:00",13737,2192,10415,2052,-3322,354.15,-1.1913434996656278,23.728571428571428,null,"2024-04-19","15:45:00",14489,1409,12576,1596,-1913,354.05,-2.4034803118513102,-10.229946524064172,354.05,null,{"$f":"IF(H132>S132,\"하락\",\"상승\")","v":"상승"},357,{"$f":"IF(AND(Y131=\"상승\",Z132>W131),\"성공\",IF(AND(Y131=\"하락\",Z132<W131),\"성공\",IF(AND(Y131=\"상승\",Z132=W131),\"동일가\",IF(AND(Y131=\"하락\",Z132=W131),\"동일가\",\"실패\"))))","v":"성공"},{"$f":"S132/H132-1","v":-0.42414208308248047}]
[null,"2024-04-22","15:35:00",9366,1503,14507,2457,5141,358.7,-0.32718202179280009,5.3888888888888893,null,"2024-04-22","15:45:00",16026,1414,15613,1552,-413,358.8,-1.2738821286399631,-2.9927536231884058,358.8,null,{"$f":"IF(H133>S133,\"하락\",\"상승\")","v":"하락"},355.15,{"$f":"IF(AND(Y132=\"상승\",Z133>W132),\"성공\",IF(AND(Y132=\"하락\",Z133<W132),\"성공\",IF(AND(Y132=\"상승\",Z133=W132),\"동일가\",IF(AND(Y132=\"하락\",Z133=W132),\"동일가\",\"실패\"))))","v":"성공"},{"$f":"S133/H133-1","v":-1.0803345652596772}]
[null,"2024-04-23","15:35:00",13384,2164,10423,1654,-2961,358.25,0.11684998223094478,5.8058823529411763,null,"2024-04-23","15:45:00",11267,1540,11123,1255,-144,358.5,1.5467144409375475,0.50526315789473686,358.5,null,{"$f":"IF(H134>S134,\"하락\",\"상승\")","v":"상승"},359.1,{"$f":"IF(AND(Y133=\"상승\",Z134>W133),\"성공\",IF(AND(Y133=\"하락\",Z134<W133),\"성공\",IF(AND(Y133=\"상승\",Z134=W133),\"동일가\",IF(AND(Y133=\"하락\",Z134=W133),\"동일가\",\"실패\"))))","v":"실패"},{"$f":"S134/H134-1","v":-0.95136778115501519}]
[null,"2024-04-24","15:35:00",10736,1839,14383,2328,3647,364.6,0.34030919426178485,7.4580777096114517,null,"2024-04-24","15:45:00",13070,1679,13119,1347,49,364.55,1.9550254619158975,-0.14759036144578314,364.55,null,{"$f":"IF(H135>S135,\"하락\",\"상승\")","v":"하락"},363.3,{"$f":"IF(AND(Y134=\"상승\",Z135>W134),\"성공\",IF(AND(Y134=\"하락\",Z135<W134),\"성공\",IF(AND(Y134=\"상승\",Z135=W134),\"동일가\",IF(AND(Y134=\"하락\",Z135=W134),\"동일가\",\"실패\"))))","v":"성공"},{"$f":"S135/H135-1","v":-0.98656429942418422}]
[null,"2024-04-25","15:35:00",15300,2803,8898,1424,-6402,358.4,0.79015811710566908,4.6424945612762869,null,"2024-04-25","15:45:00",12407,1716,9891,1119,-2516,358.6,1.6089556109663352,4.2144053601340037,358.6,null,{"$f":"IF(H136>S136,\"하락\",\"상승\")","v":"상승"},360,{"$f":"IF(AND(Y135=\"상승\",Z136>W135),\"성공\",IF(AND(Y135=\"하락\",Z136<W135),\"성공\",IF(AND(Y135=\"상승\",Z136=W135),\"동일가\",IF(AND(Y135=\"하락\",Z136=W135),\"동일가\",\"실패\"))))","v":"성공"},{"$f":"S136/H136-1","v":-0.6069978131833802}]
[null,"2024-04-26","15:35:00",9839,1779,10012,1719,173,361.85,0.29368127475188111,-2.8833333333333333,null,"2024-04-26","15:45:00",10263,1490,10353,1201,90,361.9,1.7323969399102541,-0.31141868512110726,361.9,null,{"$f":"IF(H137>S137,\"하락\",\"상승\")","v":"하락"},362,{"$f":"IF(AND(Y136=\"상승\",Z137>W136),\"성공\",IF(AND(Y136=\"하락\",Z137<W136),\"성공\",IF(AND(Y136=\"상승\",Z137=W136),\"동일가\",IF(AND(Y136=\"하락\",Z137=W136),\"동일가\",\"실패\"))))","v":"성공"},{"$f":"S137/H137-1","v":-0.47976878612716767}]
[null,"2024-04-29","15:35:00",10168,1770,13763,2354,3595,365.45,0.10201124183383037,6.1558219178082192,null,"2024-04-29","15:45:00",9328,1440,10198,1370,870,365.65,0.96601784266017798,-12.428571428571429,365.65,null,{"$f":"IF(H138>S138,\"하락\",\"상승\")","v":"하락"},364.35,{"$f":"IF(AND(Y137=\"상승\",Z138>W137),\"성공\",IF(AND(Y137=\"하락\",Z138<W137),\"성공\",IF(AND(Y137=\"상승\",Z138=W137),\"동일가\",IF(AND(Y137=\"하락\",Z138=W137),\"동일가\",\"실패\"))))","v":"실패"},{"$f":"S138/H138-1","v":-0.75799721835883171}]
[null,"2024-04-30","15:35:00",9301,1645,11567,2047,2266,367.2,-3.3949897767211468E-3,5.6368159203980097,null,"2024-04-30","15:45:00",9137,1341,10714,1361,1577,367.45,1.0585808675793826,78.849999999999994,367.45,null,{"$f":"IF(H139>S139,\"하락\",\"상승\")","v":"하락"},365.05,{"$f":"IF(AND(Y138=\"상승\",Z139>W138),\"성공\",IF(AND(Y138=\"하락\",Z139<W138),\"성공\",IF(AND(Y138=\"상승\",Z139=W138),\"동일가\",IF(AND(Y138=\"하락\",Z139=W138),\"동일가\",\"실패\"))))","v":"성공"},{"$f":"S139/H139-1","v":-0.30406001765225066}]
[null,"2024-05-02","15:35:00",9626,1591,10184,2156,558,365.6,-1.3267206888469349,0.98761061946902651,null,"2024-05-02","15:45:00",10298,1111,9737,1660,-561,365.35,-3.4034642620888587,-1.0218579234972678,365.35,null,{"$f":"IF(H140>S140,\"하락\",\"상승\")","v":"하락"},365.1,{"$f":"IF(AND(Y139=\"상승\",Z140>W139),\"성공\",IF(AND(Y139=\"하락\",Z140<W139),\"성공\",IF(AND(Y139=\"상승\",Z140=W139),\"동일가\",IF(AND(Y139=\"하락\",Z140=W139),\"동일가\",\"실패\"))))","v":"성공"},{"$f":"S140/H140-1","v":-2.0053763440860215}]
[null,"2024-05-03","15:35:00",16188,3118,7025,1043,-9163,364.9,1.5435891065209457,4.4159036144578314,null,"2024-05-03","15:45:00",12148,1867,8224,849,-3924,364.5,3.1799949907985887,3.8546168958742633,364.5,null,{"$f":"IF(H141>S141,\"하락\",\"상승\")","v":"상승"},369.3,{"$f":"IF(AND(Y140=\"상승\",Z141>W140),\"성공\",IF(AND(Y140=\"하락\",Z141<W140),\"성공\",IF(AND(Y140=\"상승\",Z141=W140),\"동일가\",IF(AND(Y140=\"하락\",Z141=W140),\"동일가\",\"실패\"))))","v":"실패"},{"$f":"S141/H141-1","v":-0.57175597511731968}]
[null,"2024-05-07","15:35:00",9997,1628,20599,3873,10602,373.75,-0.82204733076150571,4.7224944320712696,null,"2024-05-07","15:45:00",12949,1326,16600,2020,3651,373.7,-1.5476382479876953,5.260806916426513,373.7,null,{"$f":"IF(H142>S142,\"하락\",\"상승\")","v":"하락"},370.75,{"$f":"IF(AND(Y141=\"상승\",Z142>W141),\"성공\",IF(AND(Y141=\"하락\",Z142<W141),\"성공\",IF(AND(Y141=\"상승\",Z142=W141),\"동일가\",IF(AND(Y141=\"하락\",Z142=W141),\"동일가\",\"실패\"))))","v":"성공"},{"$f":"S142/H142-1","v":-0.65563101301641202}]
[null,"2024-05-08","15:35:00",9204,1551,17536,3401,8332,375.35,-0.77810542695088536,4.503783783783784,null,"2024-05-08","15:45:00",10841,1180,14642,2002,3801,375.3,-1.8736018219069068,4.6240875912408761,375.3,null,{"$f":"IF(H143>S143,\"하락\",\"상승\")","v":"하락"},374.35,{"$f":"IF(AND(Y142=\"상승\",Z143>W142),\"성공\",IF(AND(Y142=\"하락\",Z143<W142),\"성공\",IF(AND(Y142=\"상승\",Z143=W142),\"동일가\",IF(AND(Y142=\"하락\",Z143=W142),\"동일가\",\"실패\"))))","v":"실패"},{"$f":"S143/H143-1","v":-0.54380700912145941}]
[null,"2024-05-09","15:35:00",15061,2840,6666,1303,-8395,370.7,-0.18728259812134507,5.4619388418998049,null,"2024-05-09","15:45:00",15736,2129,12046,1188,-3690,370.95,2.7484671357381556,3.9213602550478215,370.95,null,{"$f":"IF(H144>S144,\"하락\",\"상승\")","v":"상승"},376.4,{"$f":"IF(AND(Y143=\"상승\",Z144>W143),\"성공\",IF(AND(Y143=\"하락\",Z144<W143),\"성공\",IF(AND(Y143=\"상승\",Z144=W143),\"동일가\",IF(AND(Y143=\"하락\",Z144=W143),\"동일가\",\"실패\"))))","v":"실패"},{"$f":"S144/H144-1","v":-0.56045265038713521}]
[null,"2024-05-10","15:35:00",12786,2328,12035,1750,-751,372.55,1.3848748159057438,1.2993079584775087,null,"2024-05-10","15:45:00",12877,1682,10124,1066,-2753,372.4,1.841418796974029,4.4691558441558445,372.4,null,{"$f":"IF(H145>S145,\"하락\",\"상승\")","v":"하락"},373.95,{"$f":"IF(AND(Y144=\"상승\",Z145>W144),\"성공\",IF(AND(Y144=\"하락\",Z145<W144),\"성공\",IF(AND(Y144=\"상승\",Z145=W144),\"동일가\",IF(AND(Y144=\"하락\",Z145=W144),\"동일가\",\"실패\"))))","v":"성공"},{"$f":"S145/H145-1","v":2.6657789613848202}]
[null,"2024-05-13","15:35:00",10630,2071,9033,1602,-1597,371.65,0.5057906853516636,3.4051172707889128,null,"2024-05-13","15:45:00",10760,1788,9778,1367,-982,371.65,1.1349924474141999,2.33254156769596,371.65,null,{"$f":"IF(H146>S146,\"하락\",\"상승\")","v":"상승"},373.1,{"$f":"IF(AND(Y145=\"상승\",Z146>W145),\"성공\",IF(AND(Y145=\"하락\",Z146<W145),\"성공\",IF(AND(Y145=\"상승\",Z146=W145),\"동일가\",IF(AND(Y145=\"하락\",Z146=W145),\"동일가\",\"실패\"))))","v":"실패"},{"$f":"S146/H146-1","v":-0.38509705698184094}]
[null,"2024-05-14","15:35:00",11367,1924,11211,1808,-156,371.9,0.29277017827902796,1.3448275862068966,null,"2024-05-14","15:45:00",10221,1579,9726,1448,-495,371.85,0.24376659820363233,3.7786259541984735,371.85,null,{"$f":"IF(H147>S147,\"하락\",\"상승\")","v":"하락"},372.4,{"$f":"IF(AND(Y146=\"상승\",Z147>W146),\"성공\",IF(AND(Y146=\"하락\",Z147<W146),\"성공\",IF(AND(Y146=\"상승\",Z147=W146),\"동일가\",IF(AND(Y146=\"하락\",Z147=W146),\"동일가\",\"실패\"))))","v":"성공"},{"$f":"S147/H147-1","v":2.1730769230769229}]
[null,"2024-05-16","15:35:00",15041,2976,11928,1812,-3113,375.95,1.5286819945880517,2.6743986254295531,null,"2024-05-16","15:45:00",12227,1926,8544,1131,-3683,376,1.2059862113036459,4.6327044025157234,376,null,{"$f":"IF(H148>S148,\"하락\",\"상승\")","v":"하락"},379.05,{"$f":"IF(AND(Y147=\"상승\",Z148>W147),\"성공\",IF(AND(Y147=\"하락\",Z148<W147),\"성공\",IF(AND(Y147=\"상승\",Z148=W147),\"동일가\",IF(AND(Y147=\"하락\",Z148=W147),\"동일가\",\"실패\"))))","v":"실패"},{"$f":"S148/H148-1","v":0.18310311596530671}]
[null,"2024-05-17","15:35:00",21250,3695,9626,1189,-11624,371.45,2.3448640048436777,4.6384676775738232,null,"2024-05-17","15:45:00",14789,1993,10883,1003,-3906,371.35,3.4299770032601646,3.9454545454545453,371.35,null,{"$f":"IF(H149>S149,\"하락\",\"상승\")","v":"상승"},374.35,{"$f":"IF(AND(Y148=\"상승\",Z149>W148),\"성공\",IF(AND(Y148=\"하락\",Z149<W148),\"성공\",IF(AND(Y148=\"상승\",Z149=W148),\"동일가\",IF(AND(Y148=\"하락\",Z149=W148),\"동일가\",\"실패\"))))","v":"성공"},{"$f":"S149/H149-1","v":-0.66397109428768064}]
[null,"2024-05-20","15:35:00",10703,2043,14127,2426,3424,374.45,0.58430128978810458,8.9399477806788514,null,"2024-05-20","15:45:00",10678,1568,11816,1183,1138,374.65,3.1782167008815358,-2.9558441558441557,374.65,null,{"$f":"IF(H150>S150,\"하락\",\"상승\")","v":"하락"},374.1,{"$f":"IF(AND(Y149=\"상승\",Z150>W149),\"성공\",IF(AND(Y149=\"하락\",Z150<W149),\"성공\",IF(AND(Y149=\"상승\",Z150=W149),\"동일가\",IF(AND(Y149=\"하락\",Z150=W149),\"동일가\",\"실패\"))))","v":"성공"},{"$f":"S150/H150-1","v":-0.66764018691588789}]
[null,"2024-05-21","15:35:00",11774,1828,10985,1950,-789,373.05,-0.80758570386579098,-6.4672131147540988,null,"2024-05-21","15:45:00",10796,1221,10846,1377,50,373.25,-0.96538963205629802,0.32051282051282054,373.25,null,{"$f":"IF(H151>S151,\"하락\",\"상승\")","v":"상승"},373.85,{"$f":"IF(AND(Y150=\"상승\",Z151>W150),\"성공\",IF(AND(Y150=\"하락\",Z151<W150),\"성공\",IF(AND(Y150=\"상승\",Z151=W150),\"동일가\",IF(AND(Y150=\"하락\",Z151=W150),\"동일가\",\"실패\"))))","v":"성공"},{"$f":"S151/H151-1","v":-1.0633713561470215}]
[null,"2024-05-22","15:35:00",10451,1742,14433,2677,3982,372.9,-0.60794294382516956,4.2588235294117647,null,"2024-05-22","15:45:00",9119,1292,10425,1485,1306,372.85,-3.7847515401694842E-2,6.766839378238342,372.85,null,{"$f":"IF(H152>S152,\"하락\",\"상승\")","v":"하락"},373.45,{"$f":"IF(AND(Y151=\"상승\",Z152>W151),\"성공\",IF(AND(Y151=\"하락\",Z152<W151),\"성공\",IF(AND(Y151=\"상승\",Z152=W151),\"동일가\",IF(AND(Y151=\"하락\",Z152=W151),\"동일가\",\"실패\"))))","v":"성공"},{"$f":"S152/H152-1","v":-0.67202410848819683}]
[null,"2024-05-23","15:35:00",9900,1772,14631,2481,4731,372.55,0.31031141415161567,6.6727785613540194,null,"2024-05-23","15:45:00",9451,1358,11285,1429,1834,372.75,0.93763159711880206,25.830985915492956,372.75,null,{"$f":"IF(H153>S153,\"하락\",\"상승\")","v":"하락"},372.6,{"$f":"IF(AND(Y152=\"상승\",Z153>W152),\"성공\",IF(AND(Y152=\"하락\",Z153<W152),\"성공\",IF(AND(Y152=\"상승\",Z153=W152),\"동일가\",IF(AND(Y152=\"하락\",Z153=W152),\"동일가\",\"실패\"))))","v":"성공"},{"$f":"S153/H153-1","v":-0.61234411329528649}]
[null,"2024-05-24","15:35:00",13793,2380,10409,1685,-3384,366.6,0.3820699199561135,4.8690647482014384,null,"2024-05-24","15:45:00",10531,1579,9109,1296,-1422,366.55,0.35913836308337022,5.0247349823321557,366.55,null,{"$f":"IF(H154>S154,\"하락\",\"상승\")","v":"상승"},367.25,{"$f":"IF(AND(Y153=\"상승\",Z154>W153),\"성공\",IF(AND(Y153=\"하락\",Z154<W153),\"성공\",IF(AND(Y153=\"상승\",Z154=W153),\"동일가\",IF(AND(Y153=\"하락\",Z154=W153),\"동일가\",\"실패\"))))","v":"성공"},{"$f":"S154/H154-1","v":-0.57978723404255317}]
[null,"2024-05-27","15:35:00",6827,1104,13115,2471,6288,371.75,-0.87630902527287535,4.5998536942209221,null,"2024-05-27","15:45:00",10044,1057,13473,1745,3429,371.75,-1.7814482790402639,4.9840116279069768,371.75,null,{"$f":"IF(H155>S155,\"하락\",\"상승\")","v":"하락"},368.5,{"$f":"IF(AND(Y154=\"상승\",Z155>W154),\"성공\",IF(AND(Y154=\"하락\",Z155<W154),\"성공\",IF(AND(Y154=\"상승\",Z155=W154),\"동일가\",IF(AND(Y154=\"하락\",Z155=W154),\"동일가\",\"실패\"))))","v":"성공"},{"$f":"S155/H155-1","v":-0.45467557251908397}]
[null,"2024-05-28","15:35:00",10912,1596,17546,3107,6634,372.45,-1.1898445824893749,4.3904698874917276,null,"2024-05-28","15:45:00",8778,1120,13517,2193,4739,372.05,-1.6737973096215235,4.4165890027958996,372.05,null,{"$f":"IF(H156>S156,\"하락\",\"상승\")","v":"하락"},372.45,{"$f":"IF(AND(Y155=\"상승\",Z156>W155),\"성공\",IF(AND(Y155=\"하락\",Z156<W155),\"성공\",IF(AND(Y155=\"상승\",Z156=W155),\"동일가\",IF(AND(Y155=\"하락\",Z156=W155),\"동일가\",\"실패\"))))","v":"실패"},{"$f":"S156/H156-1","v":-0.28564968344889963}]
[null,"2024-05-29","15:35:00",16169,3146,8292,1300,-7877,366.2,1.2389192625556262,4.2670639219934996,null,"2024-05-29","15:45:00",12779,2171,10102,1198,-2677,366.35,2.5461597672767988,2.7512846865364851,366.35,null,{"$f":"IF(H157>S157,\"하락\",\"상승\")","v":"상승"},371.65,{"$f":"IF(AND(Y156=\"상승\",Z157>W156),\"성공\",IF(AND(Y156=\"하락\",Z157<W156),\"성공\",IF(AND(Y156=\"상승\",Z157=W156),\"동일가\",IF(AND(Y156=\"하락\",Z157=W156),\"동일가\",\"실패\"))))","v":"성공"},{"$f":"S157/H157-1","v":-0.66014980322457784}]
[null,"2024-05-30","15:35:00",16266,2853,9768,1243,-6498,360.05,2.1570400975219375,4.0360248447204965,null,"2024-05-30","15:45:00",13060,2008,9160,1065,-3900,360.1,2.0969549033911301,4.1357370095440089,360.1,null,{"$f":"IF(H158>S158,\"하락\",\"상승\")","v":"상승"},362.2,{"$f":"IF(AND(Y157=\"상승\",Z158>W157),\"성공\",IF(AND(Y157=\"하락\",Z158<W157),\"성공\",IF(AND(Y157=\"상승\",Z158=W157),\"동일가\",IF(AND(Y157=\"하락\",Z158=W157),\"동일가\",\"실패\"))))","v":"실패"},{"$f":"S158/H158-1","v":-0.39981532779316709}]
[null,"2024-05-31","15:35:00",13756,2157,9950,1208,-3806,360,1.8593789817228368,4.0105374077976821,null,"2024-05-31","15:45:00",11786,1655,10689,864,-1097,360.05,5.250077626720377,1.3868520859671303,360.05,null,{"$f":"IF(H159>S159,\"하락\",\"상승\")","v":"상승"},361.75,{"$f":"IF(AND(Y158=\"상승\",Z159>W158),\"성공\",IF(AND(Y158=\"하락\",Z159<W158),\"성공\",IF(AND(Y158=\"상승\",Z159=W158),\"동일가\",IF(AND(Y158=\"하락\",Z159=W158),\"동일가\",\"실패\"))))","v":"성공"},{"$f":"S159/H159-1","v":-0.71177088807146616}]
[null,"2024-06-03","15:35:00",8816,1634,19610,3327,10794,366.05,0.49885014084900892,6.3756645008860016,null,"2024-06-03","15:45:00",9128,1384,17097,2552,7969,366.1,0.10407568811495427,6.8227739726027394,366.1,null,{"$f":"IF(H160>S160,\"하락\",\"상승\")","v":"하락"},362.7,{"$f":"IF(AND(Y159=\"상승\",Z160>W159),\"성공\",IF(AND(Y159=\"하락\",Z160<W159),\"성공\",IF(AND(Y159=\"상승\",Z160=W159),\"동일가\",IF(AND(Y159=\"하락\",Z160=W159),\"동일가\",\"실패\"))))","v":"성공"},{"$f":"S160/H160-1","v":-0.26171947378173055}]
[null,"2024-06-04","15:35:00",13060,1925,11255,1637,-1805,363.3,9.0966211552649945E-2,6.2673611111111107,null,"2024-06-04","15:45:00",11297,1360,9617,1168,-1680,363.3,-7.2884770346494321E-2,8.75,363.3,null,{"$f":"IF(H161>S161,\"하락\",\"상승\")","v":"상승"},365.05,{"$f":"IF(AND(Y160=\"상승\",Z161>W160),\"성공\",IF(AND(Y160=\"하락\",Z161<W160),\"성공\",IF(AND(Y160=\"상승\",Z161=W160),\"동일가\",IF(AND(Y160=\"하락\",Z161=W160),\"동일가\",\"실패\"))))","v":"성공"},{"$f":"S161/H161-1","v":-6.9252077562326875E-2}]
[null,"2024-06-05","15:35:00",10711,1654,16216,2713,5505,366.55,-0.49866913347931607,5.1983002832861187,null,"2024-06-05","15:45:00",10766,1311,15650,2221,4884,366.5,-1.1656763622738495,5.3670329670329666,366.5,null,{"$f":"IF(H162>S162,\"하락\",\"상승\")","v":"하락"},366,{"$f":"IF(AND(Y161=\"상승\",Z162>W161),\"성공\",IF(AND(Y161=\"하락\",Z162<W161),\"성공\",IF(AND(Y161=\"상승\",Z162=W161),\"동일가\",IF(AND(Y161=\"하락\",Z162=W161),\"동일가\",\"실패\"))))","v":"성공"},{"$f":"S162/H162-1","v":-0.11280653950953679}]
[null,"2024-06-07","15:35:00",10602,1590,18794,2738,8192,371.9,0.1962098763730582,7.1358885017421603,null,"2024-06-07","15:45:00",9891,1259,14652,1740,4761,371.9,0.56445454794445471,9.8981288981288973,371.9,null,{"$f":"IF(H163>S163,\"하락\",\"상승\")","v":"하락"},369.8,{"$f":"IF(AND(Y162=\"상승\",Z163>W162),\"성공\",IF(AND(Y162=\"하락\",Z163<W162),\"성공\",IF(AND(Y162=\"상승\",Z163=W162),\"동일가\",IF(AND(Y162=\"하락\",Z163=W162),\"동일가\",\"실패\"))))","v":"실패"},{"$f":"S163/H163-1","v":-0.4188232421875}]
[null,"2024-06-10","15:35:00",12000,1721,11138,1696,-862,368.05,-0.40547331520726271,34.479999999999997,null,"2024-06-10","15:45:00",12157,1207,11833,1369,-324,368,-1.4285441087205566,-2,368,null,{"$f":"IF(H164>S164,\"하락\",\"상승\")","v":"상승"},367.85,{"$f":"IF(AND(Y163=\"상승\",Z164>W163),\"성공\",IF(AND(Y163=\"하락\",Z164<W163),\"성공\",IF(AND(Y163=\"상승\",Z164=W163),\"동일가\",IF(AND(Y163=\"하락\",Z164=W163),\"동일가\",\"실패\"))))","v":"성공"},{"$f":"S164/H164-1","v":-0.62412993039443154}]
[null,"2024-06-11",{"$f":"'1. 매수매도 총잔량'!$A$424","v":"15:35:00"},12000,1721,11138,1696,-862,368.5,-0.40547331520726271,34.479999999999997,null,"2024-06-11",{"$f":"'1. 매수매도 총잔량'!$A$434","v":"15:45:00"},12157,1207,11833,1369,-324,{"$f":"'1. 매수매도 총잔량'!$G$435","v":331.2},-1.4285441087205566,-2,368.85,null,{"$f":"IF(H165>S165,\"하락\",\"상승\")","v":"상승"},367.35,{"$f":"IF(AND(Y164=\"상승\",Z165>W164),\"성공\",IF(AND(Y164=\"하락\",Z165<W164),\"성공\",IF(AND(Y164=\"상승\",Z165=W164),\"동일가\",IF(AND(Y164=\"하락\",Z165=W164),\"동일가\",\"실패\"))))","v":"실패"},{"$f":"S165/H165-1","v":-0.62412993039443154}]
[null,"2024-06-12","15:35:00",7111,845,17866,2799,10755,371.65,-2.0323906889823293,5.504094165813715,null,"2024-06-12","15:45:00",6026,634,13333,2131,7307,371.7,-3.2480448597909488,4.8810955243820979,371.7,null,{"$f":"IF(H166>S166,\"하락\",\"상승\")","v":"하락"},368,{"$f":"IF(AND(Y165=\"상승\",Z166>W165),\"성공\",IF(AND(Y165=\"하락\",Z166<W165),\"성공\",IF(AND(Y165=\"상승\",Z166=W165),\"동일가\",IF(AND(Y165=\"하락\",Z166=W165),\"동일가\",\"실패\"))))","v":"실패"},{"$f":"S166/H166-1","v":-0.32059507205950721}]
[null,"2024-06-13","15:35:00",1290,400,2421,691,1131,375.75,0.27861794500723569,3.8865979381443299,null,"2024-06-13","15:45:00",1290,400,2421,691,1131,375.75,0.27861794500723569,3.8865979381443299,375.75,null,{"$f":"IF(H167>S167,\"하락\",\"상승\")","v":"상승"},375.5,{"$f":"IF(AND(Y166=\"상승\",Z167>W166),\"성공\",IF(AND(Y166=\"하락\",Z167<W166),\"성공\",IF(AND(Y166=\"상승\",Z167=W166),\"동일가\",IF(AND(Y166=\"하락\",Z167=W166),\"동일가\",\"실패\"))))","v":"실패"},{"$f":"S167/H167-1","v":0}]
[null,"2024-06-14","15:35:00",11441,1895,18180,3059,6739,377.45,-9.4348352238863065E-2,5.7895189003436425,null,"2024-06-14","15:45:00",11713,1553,14626,2161,2913,377.45,-0.77401354515882215,4.7911184210526319,377.45,null,{"$f":"IF(H168>S168,\"하락\",\"상승\")","v":"하락"},375.5,{"$f":"IF(AND(Y167=\"상승\",Z168>W167),\"성공\",IF(AND(Y167=\"하락\",Z168<W167),\"성공\",IF(AND(Y167=\"상승\",Z168=W167),\"동일가\",IF(AND(Y167=\"하락\",Z168=W167),\"동일가\",\"실패\"))))","v":"실패"},{"$f":"S168/H168-1","v":-0.56774002077459562}]
[null,"2024-06-17","15:35:00",13385,2273,11281,1788,-2104,376,0.42059075953391112,4.3381443298969069,null,"2024-06-17","15:45:00",11850,1692,10805,1455,-1045,375.95,0.42257073919719268,4.409282700421941,375.95,null,{"$f":"IF(H169>S169,\"하락\",\"상승\")","v":"상승"},376,{"$f":"IF(AND(Y168=\"상승\",Z169>W168),\"성공\",IF(AND(Y168=\"하락\",Z169<W168),\"성공\",IF(AND(Y168=\"상승\",Z169=W168),\"동일가\",IF(AND(Y168=\"하락\",Z169=W168),\"동일가\",\"실패\"))))","v":"성공"},{"$f":"S169/H169-1","v":-0.5033269961977187}]
[null,"2024-06-18","15:35:00",10906,1663,15147,2755,4241,379.9,-1.0600240310898128,3.8836996336996337,null,"2024-06-18","15:45:00",10904,1326,13536,2015,2632,379.6,-1.505609886634554,3.8200290275761972,379.6,null,{"$f":"IF(H170>S170,\"하락\",\"상승\")","v":"하락"},379.15,{"$f":"IF(AND(Y169=\"상승\",Z170>W169),\"성공\",IF(AND(Y169=\"하락\",Z170<W169),\"성공\",IF(AND(Y169=\"상승\",Z170=W169),\"동일가\",IF(AND(Y169=\"하락\",Z170=W169),\"동일가\",\"실패\"))))","v":"성공"},{"$f":"S170/H170-1","v":-0.37939165291204902}]
[null,"2024-06-19","15:35:00",7742,1134,14368,2522,6626,385.65,-1.1300946730499994,4.7737752161383282,null,"2024-06-19","15:45:00",9358,1077,13710,1983,4352,385.7,-1.7751837695621706,4.8035320088300217,385.7,null,{"$f":"IF(H171>S171,\"하락\",\"상승\")","v":"하락"},382.6,{"$f":"IF(AND(Y170=\"상승\",Z171>W170),\"성공\",IF(AND(Y170=\"하락\",Z171<W170),\"성공\",IF(AND(Y170=\"상승\",Z171=W170),\"동일가\",IF(AND(Y170=\"하락\",Z171=W170),\"동일가\",\"실패\"))))","v":"실패"},{"$f":"S171/H171-1","v":-0.34319348022939933}]
[null,"2024-06-20","15:35:00",9952,1532,13764,2575,3812,386.9,-1.1508408324672361,3.6548418024928093,null,"2024-06-20","15:45:00",9341,994,12657,1849,3316,386.8,-2.5520625102698391,3.8783625730994151,386.8,null,{"$f":"IF(H172>S172,\"하락\",\"상승\")","v":"하락"},385.2,{"$f":"IF(AND(Y171=\"상승\",Z172>W171),\"성공\",IF(AND(Y171=\"하락\",Z172<W171),\"성공\",IF(AND(Y171=\"상승\",Z172=W171),\"동일가\",IF(AND(Y171=\"하락\",Z172=W171),\"동일가\",\"실패\"))))","v":"성공"},{"$f":"S172/H172-1","v":-0.13011542497376705}]
[null,"2024-06-21","15:35:00",9687,1662,14827,2818,5140,383.65,-0.56698685346649835,4.4463667820069208,null,"2024-06-21","15:45:00",11696,1091,15767,2232,4071,383.45,-3.6563718629779665,3.5679228746713409,383.45,null,{"$f":"IF(H173>S173,\"하락\",\"상승\")","v":"하락"},383.25,{"$f":"IF(AND(Y172=\"상승\",Z173>W172),\"성공\",IF(AND(Y172=\"하락\",Z173<W172),\"성공\",IF(AND(Y172=\"상승\",Z173=W172),\"동일가\",IF(AND(Y172=\"하락\",Z173=W172),\"동일가\",\"실패\"))))","v":"성공"},{"$f":"S173/H173-1","v":-0.20797665369649809}]
[null,"2024-06-24","15:35:00",10102,1784,14129,2434,4027,380.6,0.14229193304125776,6.195384615384615,null,"2024-06-24","15:45:00",10299,1357,13865,2148,3566,380.7,-1.1346940273826727,4.5082174462705433,380.7,null,{"$f":"IF(H174>S174,\"하락\",\"상승\")","v":"하락"},381.45,{"$f":"IF(AND(Y173=\"상승\",Z174>W173),\"성공\",IF(AND(Y173=\"하락\",Z174<W173),\"성공\",IF(AND(Y173=\"상승\",Z174=W173),\"동일가\",IF(AND(Y173=\"하락\",Z174=W173),\"동일가\",\"실패\"))))","v":"성공"},{"$f":"S174/H174-1","v":-0.11447727837099575}]
[null,"2024-06-25","15:35:00",11306,1842,20182,3606,8876,381.55,-0.54111045470722807,5.0317460317460316,null,"2024-06-25",{"$f":"'1. 매수매도 총잔량'!$A$434","v":"15:45:00"},10286,1439,15977,2090,5691,381.95,0.496478149698588,8.7419354838709697,381.95,null,{"$f":"IF(H175>S175,\"하락\",\"상승\")","v":"하락"},379.65,{"$f":"IF(AND(Y174=\"상승\",Z175>W174),\"성공\",IF(AND(Y174=\"하락\",Z175<W174),\"성공\",IF(AND(Y174=\"상승\",Z175=W174),\"동일가\",IF(AND(Y174=\"하락\",Z175=W174),\"동일가\",\"실패\"))))","v":"성공"},{"$f":"S175/H175-1","v":-0.35883280757097791}]
[null,"2024-06-26","15:35:00",6683,1063,18947,3174,12264,384.7,-0.31748460711768534,5.8095689246802467,null,"2024-06-26","15:45:00",9137,924,17724,2349,8587,384.75,-2.3431896966379728,6.0259649122807017,384.75,null,{"$f":"IF(H176>S176,\"하락\",\"상승\")","v":"하락"},380.5,{"$f":"IF(AND(Y175=\"상승\",Z176>W175),\"성공\",IF(AND(Y175=\"하락\",Z176<W175),\"성공\",IF(AND(Y175=\"상승\",Z176=W175),\"동일가\",IF(AND(Y175=\"하락\",Z176=W175),\"동일가\",\"실패\"))))","v":"성공"},{"$f":"S176/H176-1","v":-0.29982061317677755}]
[null,"2024-06-27","15:35:00",8841,1286,17910,3354,9069,384.1,-1.5349129332817713,4.3853965183752415,null,"2024-06-27","15:45:00",8594,909,16920,2913,8326,383.8,-3.6459005323807352,4.1546906187624755,383.8,null,{"$f":"IF(H177>S177,\"하락\",\"상승\")","v":"하락"},381.7,{"$f":"IF(AND(Y176=\"상승\",Z177>W176),\"성공\",IF(AND(Y176=\"하락\",Z177<W176),\"성공\",IF(AND(Y176=\"상승\",Z177=W176),\"동일가\",IF(AND(Y176=\"하락\",Z177=W176),\"동일가\",\"실패\"))))","v":"성공"},{"$f":"S177/H177-1","v":-8.1927445142794153E-2}]
[null,"2024-06-28","15:35:00",9322,1490,13123,2091,3801,386.05,1.9568685224950144E-2,6.3244592346089847,null,"2024-06-28","15:45:00",10129,1407,12174,1623,2045,386.35,0.30191923929336717,9.4675925925925934,386.35,null,{"$f":"IF(H178>S178,\"하락\",\"상승\")","v":"하락"},385.55,{"$f":"IF(AND(Y177=\"상승\",Z178>W177),\"성공\",IF(AND(Y177=\"하락\",Z178<W177),\"성공\",IF(AND(Y177=\"상승\",Z178=W177),\"동일가\",IF(AND(Y177=\"하락\",Z178=W177),\"동일가\",\"실패\"))))","v":"실패"},{"$f":"S178/H178-1","v":-0.46198368850302551}]
[null,"2024-07-01","15:35:00",10097,1766,15986,2950,5889,386.75,-0.29845749275390165,4.9738175675675675,null,"2024-07-01","15:45:00",7446,1240,10460,1909,3014,386.7,-0.52553017117558554,4.5052316890881912,386.7,null,{"$f":"IF(H179>S179,\"하락\",\"상승\")","v":"하락"},384.3,{"$f":"IF(AND(Y178=\"상승\",Z179>W178),\"성공\",IF(AND(Y178=\"하락\",Z179<W178),\"성공\",IF(AND(Y178=\"상승\",Z179=W178),\"동일가\",IF(AND(Y178=\"하락\",Z179=W178),\"동일가\",\"실패\"))))","v":"성공"},{"$f":"S179/H179-1","v":-0.48819833588045514}]
[null,"2024-07-02","15:35:00",14828,2274,11980,2044,-2848,383.8,-0.65961167421390776,12.382608695652173,null,"2024-07-02","15:45:00",11763,1575,10979,1691,-784,383.5,-0.97596350426628398,-6.7586206896551726,383.5,null,{"$f":"IF(H180>S180,\"하락\",\"상승\")","v":"상승"},384.2,{"$f":"IF(AND(Y179=\"상승\",Z180>W179),\"성공\",IF(AND(Y179=\"하락\",Z180<W179),\"성공\",IF(AND(Y179=\"상승\",Z180=W179),\"동일가\",IF(AND(Y179=\"하락\",Z180=W179),\"동일가\",\"실패\"))))","v":"성공"},{"$f":"S180/H180-1","v":-0.7247191011235955}]
[null,"2024-07-03","15:35:00",13090,2295,12716,2461,-374,385.4,-0.53669842129817713,-2.2530120481927711,null,"2024-07-03","15:45:00",10180,1743,10281,1737,101,385.3,7.8320684663152562E-2,-16.833333333333332,385.3,null,{"$f":"IF(H181>S181,\"하락\",\"상승\")","v":"상승"},386,{"$f":"IF(AND(Y180=\"상승\",Z181>W180),\"성공\",IF(AND(Y180=\"하락\",Z181<W180),\"성공\",IF(AND(Y180=\"상승\",Z181=W180),\"동일가\",IF(AND(Y180=\"하락\",Z181=W180),\"동일가\",\"실패\"))))","v":"성공"},{"$f":"S181/H181-1","v":-1.2700534759358288}]
[null,"2024-07-04","15:35:00",8417,1152,23460,3881,15043,391.05,-1.2615898053909351,5.5122755588127523,null,"2024-07-04","15:45:00",10711,1159,15696,1871,4985,391.05,-0.85249083578473339,7.0014044943820224,391.05,null,{"$f":"IF(H182>S182,\"하락\",\"상승\")","v":"하락"},388.7,{"$f":"IF(AND(Y181=\"상승\",Z182>W181),\"성공\",IF(AND(Y181=\"하락\",Z182<W181),\"성공\",IF(AND(Y181=\"상승\",Z182=W181),\"동일가\",IF(AND(Y181=\"하락\",Z182=W181),\"동일가\",\"실패\"))))","v":"성공"},{"$f":"S182/H182-1","v":-0.66861663232068069}]
[null,"2024-07-05","15:35:00",8790,1735,17307,2985,8517,398.1,0.73170752899946478,6.8136000000000001,null,"2024-07-05","15:45:00",8579,1030,14130,1861,5551,398,-0.73643411257127589,6.6799037304452469,398,null,{"$f":"IF(H183>S183,\"하락\",\"상승\")","v":"하락"},390.7,{"$f":"IF(AND(Y182=\"상승\",Z183>W182),\"성공\",IF(AND(Y182=\"하락\",Z183<W182),\"성공\",IF(AND(Y182=\"상승\",Z183=W182),\"동일가\",IF(AND(Y182=\"하락\",Z183=W182),\"동일가\",\"실패\"))))","v":"성공"},{"$f":"S183/H183-1","v":-0.34824468709639544}]
[null,"2024-07-08","15:35:00",14498,2367,10190,1764,-4308,396.6,-0.34840881853375016,7.144278606965174,null,"2024-07-08","15:45:00",12219,1420,11720,1283,-499,396.7,0.52991064077371419,3.6423357664233578,396.7,null,{"$f":"IF(H184>S184,\"하락\",\"상승\")","v":"상승"},397.1,{"$f":"IF(AND(Y183=\"상승\",Z184>W183),\"성공\",IF(AND(Y183=\"하락\",Z184<W183),\"성공\",IF(AND(Y183=\"상승\",Z184=W183),\"동일가\",IF(AND(Y183=\"하락\",Z184=W183),\"동일가\",\"실패\"))))","v":"성공"},{"$f":"S184/H184-1","v":-0.88416898792943366}]
[null,"2024-07-09","15:35:00",12418,2026,17116,2935,4698,397.95,-0.29763231314882699,5.1683168316831685,null,"2024-07-09","15:45:00",10355,1341,12951,1350,2596,398.05,1.8714839671886656,288.44444444444446,398.05,null,{"$f":"IF(H185>S185,\"하락\",\"상승\")","v":"하락"},398.9,{"$f":"IF(AND(Y184=\"상승\",Z185>W184),\"성공\",IF(AND(Y184=\"하락\",Z185<W184),\"성공\",IF(AND(Y184=\"상승\",Z185=W184),\"동일가\",IF(AND(Y184=\"하락\",Z185=W184),\"동일가\",\"실패\"))))","v":"성공"},{"$f":"S185/H185-1","v":-0.44742443593018311}]
[null,"2024-07-10","15:35:00",10709,1634,18390,3106,7681,398.2,-0.63305711455145453,5.2180706521739131,null,"2024-07-10","15:45:00",7657,1020,11034,1692,3377,398.35,-0.98558614935335864,5.0252976190476186,398.35,null,{"$f":"IF(H186>S186,\"하락\",\"상승\")","v":"하락"},396.5,{"$f":"IF(AND(Y185=\"상승\",Z186>W185),\"성공\",IF(AND(Y185=\"하락\",Z186<W185),\"성공\",IF(AND(Y185=\"상승\",Z186=W185),\"동일가\",IF(AND(Y185=\"하락\",Z186=W185),\"동일가\",\"실패\"))))","v":"성공"},{"$f":"S186/H186-1","v":-0.56034370524671262}]
[null,"2024-07-11","15:35:00",12811,2136,12818,2004,7,400.4,0.39854840880037656,-5.3030303030303032E-2,null,"2024-07-11","15:45:00",12842,1657,11395,1128,-1447,400.55,2.3517994795344919,2.7353497164461249,400.55,null,{"$f":"IF(H187>S187,\"하락\",\"상승\")","v":"하락"},401.7,{"$f":"IF(AND(Y186=\"상승\",Z187>W186),\"성공\",IF(AND(Y186=\"하락\",Z187<W186),\"성공\",IF(AND(Y186=\"상승\",Z187=W186),\"동일가\",IF(AND(Y186=\"하락\",Z187=W186),\"동일가\",\"실패\"))))","v":"실패"},{"$f":"S187/H187-1","v":-207.71428571428572}]
[null,"2024-07-12","15:35:00",13444,2298,11115,1842,-2329,395.25,0.18389734169069261,5.1074561403508776,null,"2024-07-12","15:45:00",10931,1345,10437,1420,-494,395.25,-0.77713754646840272,-6.5866666666666669,395.25,null,{"$f":"IF(H188>S188,\"하락\",\"상승\")","v":"상승"},396.25,{"$f":"IF(AND(Y187=\"상승\",Z188>W187),\"성공\",IF(AND(Y187=\"하락\",Z188<W187),\"성공\",IF(AND(Y187=\"상승\",Z188=W187),\"동일가\",IF(AND(Y187=\"하락\",Z188=W187),\"동일가\",\"실패\"))))","v":"성공"},{"$f":"S188/H188-1","v":-0.78789179905538864}]
[null,"2024-07-15","15:35:00",11862,1427,14344,2268,2482,397.15,-1.9880288069963381,2.9512485136741975,null,"2024-07-15","15:45:00",10377,1126,12574,1670,2197,397.25,-1.6864668531498284,4.038602941176471,397.25,null,{"$f":"IF(H189>S189,\"하락\",\"상승\")","v":"하락"},396.6,{"$f":"IF(AND(Y188=\"상승\",Z189>W188),\"성공\",IF(AND(Y188=\"하락\",Z189<W188),\"성공\",IF(AND(Y188=\"상승\",Z189=W188),\"동일가\",IF(AND(Y188=\"하락\",Z189=W188),\"동일가\",\"실패\"))))","v":"성공"},{"$f":"S189/H189-1","v":-0.11482675261885578}]
[null,"2024-07-16","15:35:00",10580,1771,19222,3123,8642,397.3,0.18095321265350073,6.3920118343195265,null,"2024-07-16","15:45:00",9914,1304,15637,1540,5723,397.2,2.5511353676997848,24.25,397.2,null,{"$f":"IF(H190>S190,\"하락\",\"상승\")","v":"하락"},395.55,{"$f":"IF(AND(Y189=\"상승\",Z190>W189),\"성공\",IF(AND(Y189=\"하락\",Z190<W189),\"성공\",IF(AND(Y189=\"상승\",Z190=W189),\"동일가\",IF(AND(Y189=\"하락\",Z190=W189),\"동일가\",\"실패\"))))","v":"성공"},{"$f":"S190/H190-1","v":-0.33776903494561439}]
[null,"2024-07-17","15:35:00",18861,3038,7731,1214,-11130,394.15,0.15984351970048749,6.1019736842105265,null,"2024-07-17","15:45:00",14408,2035,10269,1074,-4139,394.2,2.4813542338682009,4.3069719042663888,394.2,null,{"$f":"IF(H191>S191,\"하락\",\"상승\")","v":"상승"},397.8,{"$f":"IF(AND(Y190=\"상승\",Z191>W190),\"성공\",IF(AND(Y190=\"하락\",Z191<W190),\"성공\",IF(AND(Y190=\"상승\",Z191=W190),\"동일가\",IF(AND(Y190=\"하락\",Z191=W190),\"동일가\",\"실패\"))))","v":"실패"},{"$f":"S191/H191-1","v":-0.6281221922731357}]
[null,"2024-07-18","15:35:00",11123,1429,11006,1823,-117,390.5,-1.7464637185914986,-0.29695431472081218,null,"2024-07-18","15:45:00",10849,1039,11350,1764,501,390.3,-4.0075305707781999,0.69103448275862067,390.3,null,{"$f":"IF(H192>S192,\"하락\",\"상승\")","v":"상승"},390,{"$f":"IF(AND(Y191=\"상승\",Z192>W191),\"성공\",IF(AND(Y191=\"하락\",Z192<W191),\"성공\",IF(AND(Y191=\"상승\",Z192=W191),\"동일가\",IF(AND(Y191=\"하락\",Z192=W191),\"동일가\",\"실패\"))))","v":"실패"},{"$f":"S192/H192-1","v":-5.2820512820512819}]
[null,"2024-07-19","15:35:00",13792,2155,10703,1729,-3089,386.1,-0.2097165991902834,7.251173708920188,null,"2024-07-19","15:45:00",11166,1345,9320,1258,-1846,386,-0.89327368041560007,21.2183908045977,386,null,{"$f":"IF(H193>S193,\"하락\",\"상승\")","v":"상승"},387.3,{"$f":"IF(AND(Y192=\"상승\",Z193>W192),\"성공\",IF(AND(Y192=\"하락\",Z193<W192),\"성공\",IF(AND(Y192=\"상승\",Z193=W192),\"동일가\",IF(AND(Y192=\"하락\",Z193=W192),\"동일가\",\"실패\"))))","v":"실패"},{"$f":"S193/H193-1","v":-0.40239559728067331}]
[null,"2024-07-22","15:35:00",12752,2320,10983,1740,-1769,382.45,0.81551724137931014,3.05,null,"2024-07-22","15:45:00",13369,1647,11593,1539,-1776,382.2,-0.58436924125736311,16.444444444444443,382.2,null,{"$f":"IF(H194>S194,\"하락\",\"상승\")","v":"하락"},383.35,{"$f":"IF(AND(Y193=\"상승\",Z194>W193),\"성공\",IF(AND(Y193=\"하락\",Z194<W193),\"성공\",IF(AND(Y193=\"상승\",Z194=W193),\"동일가\",IF(AND(Y193=\"하락\",Z194=W193),\"동일가\",\"실패\"))))","v":"실패"},{"$f":"S194/H194-1","v":3.9570378745052981E-3}]
[null,"2024-07-23","15:35:00",13441,2258,8996,1460,-4445,383.3,0.20903090381838663,5.5701754385964914,null,"2024-07-23","15:45:00",11902,1740,9640,1084,-2262,383.2,2.0527590448318271,3.4481707317073171,383.2,null,{"$f":"IF(H195>S195,\"하락\",\"상승\")","v":"상승"},384.5,{"$f":"IF(AND(Y194=\"상승\",Z195>W194),\"성공\",IF(AND(Y194=\"하락\",Z195<W194),\"성공\",IF(AND(Y194=\"상승\",Z195=W194),\"동일가\",IF(AND(Y194=\"하락\",Z195=W194),\"동일가\",\"실패\"))))","v":"실패"},{"$f":"S195/H195-1","v":-0.49111361079865012}]
[null,"2024-07-24","15:35:00",13983,2179,12109,1910,-1874,380.8,-7.737326070607331E-2,6.966542750929368,null,"2024-07-24","15:45:00",10825,1289,10846,1419,21,380.95,-0.75457207979264052,0.16153846153846155,380.95,null,{"$f":"IF(H196>S196,\"하락\",\"상승\")","v":"상승"},380.25,{"$f":"IF(AND(Y195=\"상승\",Z196>W195),\"성공\",IF(AND(Y195=\"하락\",Z196<W195),\"성공\",IF(AND(Y195=\"상승\",Z196=W195),\"동일가\",IF(AND(Y195=\"하락\",Z196=W195),\"동일가\",\"실패\"))))","v":"실패"},{"$f":"S196/H196-1","v":-1.011205976520811}]
[null,"2024-07-25","15:35:00",12763,2287,11187,1911,-1576,374.15,0.27332976848874146,4.1914893617021276,null,"2024-07-25","15:45:00",11481,1373,12819,1637,1338,374.35,-0.53119303648645744,5.0681818181818183,374.35,null,{"$f":"IF(H197>S197,\"하락\",\"상승\")","v":"상승"},375.35,{"$f":"IF(AND(Y196=\"상승\",Z197>W196),\"성공\",IF(AND(Y196=\"하락\",Z197<W196),\"성공\",IF(AND(Y196=\"상승\",Z197=W196),\"동일가\",IF(AND(Y196=\"하락\",Z197=W196),\"동일가\",\"실패\"))))","v":"실패"},{"$f":"S197/H197-1","v":-1.8489847715736041}]
[null,"2024-07-26","15:35:00",9252,1573,14421,2318,5169,375.8,0.33955686638249993,6.9382550335570468,null,"2024-07-26","15:45:00",10222,1330,11058,1501,836,375.95,-0.31862567811934905,4.8888888888888893,375.95,null,{"$f":"IF(H198>S198,\"하락\",\"상승\")","v":"하락"},373.5,{"$f":"IF(AND(Y197=\"상승\",Z198>W197),\"성공\",IF(AND(Y197=\"하락\",Z198<W197),\"성공\",IF(AND(Y197=\"상승\",Z198=W197),\"동일가\",IF(AND(Y197=\"하락\",Z198=W197),\"동일가\",\"실패\"))))","v":"실패"},{"$f":"S198/H198-1","v":-0.83826658928225961}]
[null,"2024-07-29","15:35:00",10671,1757,12896,2207,2225,380.05,-0.23019450452446133,4.9444444444444446,null,"2024-07-29","15:45:00",9996,1495,11184,1340,1188,380.25,1.6599810312983578,-7.6645161290322577,380.25,null,{"$f":"IF(H199>S199,\"하락\",\"상승\")","v":"하락"},378.95,{"$f":"IF(AND(Y198=\"상승\",Z199>W198),\"성공\",IF(AND(Y198=\"하락\",Z199<W198),\"성공\",IF(AND(Y198=\"상승\",Z199=W198),\"동일가\",IF(AND(Y198=\"하락\",Z199=W198),\"동일가\",\"실패\"))))","v":"실패"},{"$f":"S199/H199-1","v":-0.46606741573033705}]
[null,"2024-07-30","15:35:00",14487,1961,12675,2129,-1812,376.8,-1.4340580732455743,-10.785714285714286,null,"2024-07-30","15:45:00",10289,1113,9834,1476,-455,376.9,-2.5817829202550788,-1.2534435261707988,376.9,null,{"$f":"IF(H200>S200,\"하락\",\"상승\")","v":"상승"},375.9,{"$f":"IF(AND(Y199=\"상승\",Z200>W199),\"성공\",IF(AND(Y199=\"하락\",Z200<W199),\"성공\",IF(AND(Y199=\"상승\",Z200=W199),\"동일가\",IF(AND(Y199=\"하락\",Z200=W199),\"동일가\",\"실패\"))))","v":"성공"},{"$f":"S200/H200-1","v":-0.7488962472406181}]
[null,"2024-07-31","15:35:00",6104,890,17337,3166,11233,381.95,-1.3824320199876494,4.9354130052724079,null,"2024-07-31","15:45:00",9309,989,14105,2061,4796,382,-2.5687727545455115,4.4738805970149258,382,null,{"$f":"IF(H201>S201,\"하락\",\"상승\")","v":"하락"},375.7,{"$f":"IF(AND(Y200=\"상승\",Z201>W200),\"성공\",IF(AND(Y200=\"하락\",Z201<W200),\"성공\",IF(AND(Y200=\"상승\",Z201=W200),\"동일가\",IF(AND(Y200=\"하락\",Z201=W200),\"동일가\",\"실패\"))))","v":"실패"},{"$f":"S201/H201-1","v":-0.57304371049586034}]
[null,"2024-08-01","15:35:00",13294,2459,9240,1460,-4054,382.55,0.9225044148696151,4.0580580580580579,null,"2024-08-01","15:45:00",11256,1717,8405,1026,-2851,382.55,1.6363875293618113,4.1259044862518088,382.55,null,{"$f":"IF(H202>S202,\"하락\",\"상승\")","v":"상승"},386,{"$f":"IF(AND(Y201=\"상승\",Z202>W201),\"성공\",IF(AND(Y201=\"하락\",Z202<W201),\"성공\",IF(AND(Y201=\"상승\",Z202=W201),\"동일가\",IF(AND(Y201=\"하락\",Z202=W201),\"동일가\",\"실패\"))))","v":"실패"},{"$f":"S202/H202-1","v":-0.29674395658608776}]
[null,"2024-08-02","15:35:00",32096,5396,7741,1028,-24355,366.25,1.5820459311263857,5.5757783882783887,null,"2024-08-02","15:45:00",31502,4359,13774,1076,-17728,366.7,5.5742283409703983,5.3999390801096556,366.7,null,"상승",374.1,{"$f":"IF(AND(Y202=\"상승\",Z203>W202),\"성공\",IF(AND(Y202=\"하락\",Z203<W202),\"성공\",IF(AND(Y202=\"상승\",Z203=W202),\"동일가\",IF(AND(Y202=\"하락\",Z203=W202),\"동일가\",\"실패\"))))","v":"실패"},{"$f":"S203/H203-1","v":-0.27210018476698827}]
[null,"2024-08-05","15:35:00",13052,2414,2334,494,-10718,333.9,-0.68209734712154813,5.5822916666666664,null,"2024-08-05","15:45:00",26123,2348,19383,1183,-6740,330.45,5.2589765430480924,5.7854077253218881,330.45,null,{"$f":"IF(H204>S204,\"하락\",\"상승\")","v":"상승"},359.65,{"$f":"IF(AND(Y203=\"상승\",Z204>W203),\"성공\",IF(AND(Y203=\"하락\",Z204<W203),\"성공\",IF(AND(Y203=\"상승\",Z204=W203),\"동일가\",IF(AND(Y203=\"하락\",Z204=W203),\"동일가\",\"실패\"))))","v":"실패"},{"$f":"S204/H204-1","v":-0.37115133420414259}]
[null,"2024-08-06","15:35:00",10142,2102,6765,1254,-3377,341.95,0.5698082027142064,3.9823113207547172,null,"2024-08-06","15:45:00",19139,1451,15528,1301,-3611,340,-1.254779364439484,24.073333333333334,340,null,{"$f":"IF(H205>S205,\"하락\",\"상승\")","v":"하락"},343.9,{"$f":"IF(AND(Y204=\"상승\",Z205>W204),\"성공\",IF(AND(Y204=\"하락\",Z205<W204),\"성공\",IF(AND(Y204=\"상승\",Z205=W204),\"동일가\",IF(AND(Y204=\"하락\",Z205=W204),\"동일가\",\"실패\"))))","v":"성공"},{"$f":"S205/H205-1","v":6.9292271246668591E-2}]
[null,"2024-08-07","15:35:00",7617,1447,10771,2173,3154,350.25,-0.30725263975071382,4.3443526170798901,null,"2024-08-07","15:45:00",16759,1428,14817,1208,-1942,350.5,0.52973407906208791,8.827272727272728,350.5,null,{"$f":"IF(H206>S206,\"하락\",\"상승\")","v":"하락"},335.1,{"$f":"IF(AND(Y205=\"상승\",Z206>W205),\"성공\",IF(AND(Y205=\"하락\",Z206<W205),\"성공\",IF(AND(Y205=\"상승\",Z206=W205),\"동일가\",IF(AND(Y205=\"하락\",Z206=W205),\"동일가\",\"실패\"))))","v":"성공"},{"$f":"S206/H206-1","v":-1.61572606214331}]
[null,"2024-08-08","15:35:00",5009,1027,9157,1980,4148,346.15,-0.25256508610939044,4.3525708289611753,null,"2024-08-08","15:45:00",11501,965,15680,2123,4179,346.05,-4.5323598681111639,3.6088082901554404,346.05,null,{"$f":"IF(H207>S207,\"하락\",\"상승\")","v":"상승"},343.4,{"$f":"IF(AND(Y206=\"상승\",Z207>W206),\"성공\",IF(AND(Y206=\"하락\",Z207<W206),\"성공\",IF(AND(Y206=\"상승\",Z207=W206),\"동일가\",IF(AND(Y206=\"하락\",Z207=W206),\"동일가\",\"실패\"))))","v":"성공"},{"$f":"S207/H207-1","v":7.4734811957570813E-3}]
[null,"2024-08-09","15:35:00",9400,2115,8065,1505,-1335,352.2,0.91435954226651894,2.1885245901639343,null,"2024-08-09","15:45:00",11690,1811,10313,982,-1377,352.95,4.0470394207833778,1.6610373944511461,352.95,null,{"$f":"IF(H208>S208,\"하락\",\"상승\")","v":"하락"},356.45,{"$f":"IF(AND(Y207=\"상승\",Z208>W207),\"성공\",IF(AND(Y207=\"하락\",Z208<W207),\"성공\",IF(AND(Y207=\"상승\",Z208=W207),\"동일가\",IF(AND(Y207=\"하락\",Z208=W207),\"동일가\",\"실패\"))))","v":"성공"},{"$f":"S208/H208-1","v":3.1460674157303359E-2}]
[null,"2024-08-12","15:35:00",8074,1632,10353,1996,2279,355.75,0.24,6.26,null,"2024-08-12","15:45:00",8412,1315,8017,1165,-395,355.85,0.48,2.63,355.85,null,{"$f":"IF(H209>S209,\"하락\",\"상승\")","v":"하락"},353.25,{"$f":"IF(AND(Y208=\"상승\",Z209>W208),\"성공\",IF(AND(Y208=\"하락\",Z209<W208),\"성공\",IF(AND(Y208=\"상승\",Z209=W208),\"동일가\",IF(AND(Y208=\"하락\",Z209=W208),\"동일가\",\"실패\"))))","v":"실패"},{"$f":"S209/H209-1","v":-1.1733216322948661}]
[null,"2024-08-13","15:35:00",7367,1641,10321,1961,2954,357.05,0.77379528471246584,9.2312499999999993,null,"2024-08-13","15:45:00",6863,1304,7485,1107,622,357.35,1.4984808053602006,-3.1573604060913705,357.35,null,{"$f":"IF(H210>S210,\"하락\",\"상승\")","v":"하락"},358.15,{"$f":"IF(AND(Y209=\"상승\",Z210>W209),\"성공\",IF(AND(Y209=\"하락\",Z210<W209),\"성공\",IF(AND(Y209=\"상승\",Z210=W209),\"동일가\",IF(AND(Y209=\"하락\",Z210=W209),\"동일가\",\"실패\"))))","v":"실패"},{"$f":"S210/H210-1","v":-0.78943805010155721}]
[null,"2024-08-14","15:35:00",8995,1757,7739,1401,-1256,360.55,0.40438957944097975,3.5280898876404496,null,"2024-08-14","15:45:00",8860,1488,7848,957,-1012,360.95,2.2463258839788312,1.9058380414312617,360.95,null,{"$f":"IF(H211>S211,\"하락\",\"상승\")","v":"상승"},362.95,{"$f":"IF(AND(Y210=\"상승\",Z211>W210),\"성공\",IF(AND(Y210=\"하락\",Z211<W210),\"성공\",IF(AND(Y210=\"상승\",Z211=W210),\"동일가\",IF(AND(Y210=\"하락\",Z211=W210),\"동일가\",\"실패\"))))","v":"실패"},{"$f":"S211/H211-1","v":-0.19426751592356684}]
[null,"2024-08-16","15:35:00",9170,1822,13707,2250,4537,368.75,1.0590691547749724,10.600467289719626,null,"2024-08-16","15:45:00",9978,1495,11483,1205,1505,369.25,2.8552130892740673,-5.1896551724137927,369.25,null,{"$f":"IF(H212>S212,\"하락\",\"상승\")","v":"하락"},368.1,{"$f":"IF(AND(Y211=\"상승\",Z212>W211),\"성공\",IF(AND(Y211=\"하락\",Z212<W211),\"성공\",IF(AND(Y211=\"상승\",Z212=W211),\"동일가\",IF(AND(Y211=\"하락\",Z212=W211),\"동일가\",\"실패\"))))","v":"성공"},{"$f":"S212/H212-1","v":-0.66828300639188898}]
[null,"2024-08-19","15:35:00",12859,2510,6693,928,-6166,365.1,2.0891769130375053,3.8975979772439948,null,"2024-08-19","15:45:00",11961,1639,8096,700,-3865,365.05,4.2679717597838405,4.1160809371671991,365.05,null,{"$f":"IF(H213>S213,\"하락\",\"상승\")","v":"상승"},371,{"$f":"IF(AND(Y212=\"상승\",Z213>W212),\"성공\",IF(AND(Y212=\"하락\",Z213<W212),\"성공\",IF(AND(Y212=\"상승\",Z213=W212),\"동일가\",IF(AND(Y212=\"하락\",Z213=W212),\"동일가\",\"실패\"))))","v":"실패"},{"$f":"S213/H213-1","v":-0.37317547843010057}]
[null,"2024-08-20","15:35:00",10580,1886,13048,2127,2468,369.55,0.52470558556079272,10.240663900414937,null,"2024-08-20","15:45:00",10697,1545,9175,1028,-1522,369.65,2.0014726807953354,2.9439071566731143,369.65,null,{"$f":"IF(H214>S214,\"하락\",\"상승\")","v":"하락"},371,{"$f":"IF(AND(Y213=\"상승\",Z214>W213),\"성공\",IF(AND(Y213=\"하락\",Z214<W213),\"성공\",IF(AND(Y213=\"상승\",Z214=W213),\"동일가\",IF(AND(Y213=\"하락\",Z214=W213),\"동일가\",\"실패\"))))","v":"성공"},{"$f":"S214/H214-1","v":-1.6166936790923825}]
[null,"2024-08-21","15:35:00",10329,1623,12352,2131,2023,369,-0.56780073399365616,3.9822834645669292,null,"2024-08-21","15:45:00",10109,1083,11115,1202,1006,369.2,-8.7168508011425061E-2,8.4537815126050422,369.2,null,{"$f":"IF(H215>S215,\"하락\",\"상승\")","v":"하락"},367.45,{"$f":"IF(AND(Y214=\"상승\",Z215>W214),\"성공\",IF(AND(Y214=\"하락\",Z215<W214),\"성공\",IF(AND(Y214=\"상승\",Z215=W214),\"동일가\",IF(AND(Y214=\"하락\",Z215=W214),\"동일가\",\"실패\"))))","v":"성공"},{"$f":"S215/H215-1","v":-0.5027187345526446}]
[null,"2024-08-22","15:35:00",10059,1867,9137,1709,-922,369.25,-4.1386490688728905E-2,5.8354430379746836,null,"2024-08-22","15:45:00",10149,1434,8392,983,-1757,369.45,1.4597253731851518,3.8957871396895789,369.45,null,{"$f":"IF(H216>S216,\"하락\",\"상승\")","v":"하락"},371.2,{"$f":"IF(AND(Y215=\"상승\",Z216>W215),\"성공\",IF(AND(Y215=\"하락\",Z216<W215),\"성공\",IF(AND(Y215=\"상승\",Z216=W215),\"동일가\",IF(AND(Y215=\"하락\",Z216=W215),\"동일가\",\"실패\"))))","v":"실패"},{"$f":"S216/H216-1","v":0.90563991323210402}]
[null,"2024-08-23","15:35:00",7382,1268,12078,1893,4696,368.9,0.55858209141765869,7.5136000000000003,null,"2024-08-23","15:45:00",7821,924,9745,1314,1924,368.85,-1.0479995651228524,4.9333333333333336,368.85,null,{"$f":"IF(H217>S217,\"하락\",\"상승\")","v":"하락"},366,{"$f":"IF(AND(Y216=\"상승\",Z217>W216),\"성공\",IF(AND(Y216=\"하락\",Z217<W216),\"성공\",IF(AND(Y216=\"상승\",Z217=W216),\"동일가\",IF(AND(Y216=\"하락\",Z217=W216),\"동일가\",\"실패\"))))","v":"성공"},{"$f":"S217/H217-1","v":-0.59028960817717202}]
[null,"2024-08-26","15:35:00",14049,2761,8140,1222,-5909,366.75,1.5728373516794303,3.8395061728395063,null,"2024-08-26","15:45:00",9900,1947,6734,755,-3166,367.1,3.8344595353013817,2.6560402684563758,367.1,null,{"$f":"IF(H218>S218,\"하락\",\"상승\")","v":"상승"},369.4,{"$f":"IF(AND(Y217=\"상승\",Z218>W217),\"성공\",IF(AND(Y217=\"하락\",Z218<W217),\"성공\",IF(AND(Y217=\"상승\",Z218=W217),\"동일가\",IF(AND(Y217=\"하락\",Z218=W217),\"동일가\",\"실패\"))))","v":"실패"},{"$f":"S218/H218-1","v":-0.4642071416483331}]
[null,"2024-08-27","15:35:00",10143,1834,12287,1837,2144,365.7,1.15808840334598,714.66666666666663,null,"2024-08-27","15:45:00",7666,1358,9189,1062,1523,366.35,3.0074760989491027,-5.1452702702702702,366.35,null,{"$f":"IF(H219>S219,\"하락\",\"상승\")","v":"하락"},366.2,{"$f":"IF(AND(Y218=\"상승\",Z219>W218),\"성공\",IF(AND(Y218=\"하락\",Z219<W218),\"성공\",IF(AND(Y218=\"상승\",Z219=W218),\"동일가\",IF(AND(Y218=\"하락\",Z219=W218),\"동일가\",\"실패\"))))","v":"실패"},{"$f":"S219/H219-1","v":-0.28964552238805974}]
[null,"2024-08-28","15:35:00",9209,1207,10340,1763,1131,366.7,-1.7646574787552858,2.0341726618705036,null,"2024-08-28","15:45:00",9191,1049,10654,1226,1463,367.45,-7.1628848728767736E-2,8.2655367231638426,367.45,null,{"$f":"IF(H220>S220,\"하락\",\"상승\")","v":"상승"},364.95,{"$f":"IF(AND(Y219=\"상승\",Z220>W219),\"성공\",IF(AND(Y219=\"하락\",Z220<W219),\"성공\",IF(AND(Y219=\"상승\",Z220=W219),\"동일가\",IF(AND(Y219=\"하락\",Z220=W219),\"동일가\",\"실패\"))))","v":"성공"},{"$f":"S220/H220-1","v":0.29354553492484525}]
[null,"2024-08-29","15:35:00",11626,1640,12550,2106,924,361.55,-1.1298600977462767,1.9828326180257512,null,"2024-08-29","15:45:00",9572,1172,9481,1197,-91,361.65,-0.24660057424562432,-3.64,361.65,null,"하락",361.5,{"$f":"IF(AND(Y220=\"상승\",Z221>W220),\"성공\",IF(AND(Y220=\"하락\",Z221<W220),\"성공\",IF(AND(Y220=\"상승\",Z221=W220),\"동일가\",IF(AND(Y220=\"하락\",Z221=W220),\"동일가\",\"실패\"))))","v":"실패"},{"$f":"S221/H221-1","v":-1.0984848484848484}]
[null,"2024-08-30","15:35:00",9010,1416,11160,1552,2150,363,0.82772729920205013,15.808823529411764,null,"2024-08-30","15:45:00",7440,1177,7511,976,71,362.8,1.3745412412774902,-0.35323383084577115,362.8,null,{"$f":"IF(H222>S222,\"하락\",\"상승\")","v":"하락"},362.6,{"$f":"IF(AND(Y221=\"상승\",Z222>W221),\"성공\",IF(AND(Y221=\"하락\",Z222<W221),\"성공\",IF(AND(Y221=\"상승\",Z222=W221),\"동일가\",IF(AND(Y221=\"하락\",Z222=W221),\"동일가\",\"실패\"))))","v":"실패"},{"$f":"S222/H222-1","v":-0.96697674418604651}]
[null,"2024-09-02","15:35:00",10848,1659,11483,1906,635,362.25,-0.51421987100789579,2.57085020242915,null,"2024-09-02","15:45:00",8165,1274,8406,1172,241,362.7,0.76340675414297987,-2.3627450980392157,362.7,null,{"$f":"IF(H223>S223,\"하락\",\"상승\")","v":"하락"},362,{"$f":"IF(AND(Y222=\"상승\",Z223>W222),\"성공\",IF(AND(Y222=\"하락\",Z223<W222),\"성공\",IF(AND(Y222=\"상승\",Z223=W222),\"동일가\",IF(AND(Y222=\"하락\",Z223=W222),\"동일가\",\"실패\"))))","v":"성공"},{"$f":"S223/H223-1","v":-0.62047244094488185}]
[null,"2024-09-03","15:35:00",13608,2450,7187,968,-6421,359.7,1.8703010625737901,4.3326585695006745,null,"2024-09-03","15:45:00",9972,1453,7623,823,-2349,359.25,2.3994124528879377,3.7285714285714286,359.25,null,{"$f":"IF(H224>S224,\"하락\",\"상승\")","v":"상승"},363.05,{"$f":"IF(AND(Y223=\"상승\",Z224>W223),\"성공\",IF(AND(Y223=\"하락\",Z224<W223),\"성공\",IF(AND(Y223=\"상승\",Z224=W223),\"동일가\",IF(AND(Y223=\"하락\",Z224=W223),\"동일가\",\"실패\"))))","v":"실패"},{"$f":"S224/H224-1","v":-0.63416913253387319}]
[null,"2024-09-04","15:35:00",12864,2096,7520,1156,-5344,347.2,0.36778573126601355,5.6851063829787236,null,"2024-09-04","15:45:00",12634,1232,11769,1171,-865,346.8,-0.20448584293588468,14.180327868852459,346.8,null,{"$f":"IF(H225>S225,\"하락\",\"상승\")","v":"상승"},349,{"$f":"IF(AND(Y224=\"상승\",Z225>W224),\"성공\",IF(AND(Y224=\"하락\",Z225<W224),\"성공\",IF(AND(Y224=\"상승\",Z225=W224),\"동일가\",IF(AND(Y224=\"하락\",Z225=W224),\"동일가\",\"실패\"))))","v":"실패"},{"$f":"S225/H225-1","v":-0.83813622754491024}]
[null,"2024-09-05","15:35:00",12532,2139,7482,1055,-5050,345.95,1.2331305987428234,4.658671586715867,null,"2024-09-05","15:45:00",9315,1331,8198,774,-1117,346.1,3.5932338957516743,2.0053859964093359,346.1,null,{"$f":"IF(H226>S226,\"하락\",\"상승\")","v":"상승"},348.7,{"$f":"IF(AND(Y225=\"상승\",Z226>W225),\"성공\",IF(AND(Y225=\"하락\",Z226<W225),\"성공\",IF(AND(Y225=\"상승\",Z226=W225),\"동일가\",IF(AND(Y225=\"하락\",Z226=W225),\"동일가\",\"실패\"))))","v":"성공"},{"$f":"S226/H226-1","v":-0.77881188118811884}]
[null,"2024-09-06","15:35:00",15123,2225,6790,1086,-8333,342.5,-0.54455190680158072,7.3160667251975413,null,"2024-09-06","15:45:00",9540,1164,9062,905,-478,342.2,1.8173833798484935,1.8455598455598456,342.2,null,{"$f":"IF(H227>S227,\"하락\",\"상승\")","v":"상승"},347,{"$f":"IF(AND(Y226=\"상승\",Z227>W226),\"성공\",IF(AND(Y226=\"하락\",Z227<W226),\"성공\",IF(AND(Y226=\"상승\",Z227=W226),\"동일가\",IF(AND(Y226=\"하락\",Z227=W226),\"동일가\",\"실패\"))))","v":"성공"},{"$f":"S227/H227-1","v":-0.94263770550822035}]
[null,"2024-09-09","15:35:00",6057,913,12475,1979,6418,341.3,-0.33048432417713425,6.0206378986866795,null,"2024-09-09","15:45:00",7064,698,8632,1144,1568,341.5,-2.5748892940870016,3.5156950672645739,341.5,null,{"$f":"IF(H228>S228,\"하락\",\"상승\")","v":"하락"},334,{"$f":"IF(AND(Y227=\"상승\",Z228>W227),\"성공\",IF(AND(Y227=\"하락\",Z228<W227),\"성공\",IF(AND(Y227=\"상승\",Z228=W227),\"동일가\",IF(AND(Y227=\"하락\",Z228=W227),\"동일가\",\"실패\"))))","v":"실패"},{"$f":"S228/H228-1","v":-0.75568712994702403}]
[null,"2024-09-10","15:35:00",13149,1932,7622,1086,-5527,339.35,0.21251558514349789,6.5330969267139478,null,"2024-09-10","15:45:00",8399,880,7457,846,-942,339.15,-0.72989737803567678,27.705882352941178,339.15,null,{"$f":"IF(H229>S229,\"하락\",\"상승\")","v":"상승"},341.75,{"$f":"IF(AND(Y228=\"상승\",Z229>W228),\"성공\",IF(AND(Y228=\"하락\",Z229<W228),\"성공\",IF(AND(Y228=\"상승\",Z229=W228),\"동일가\",IF(AND(Y228=\"하락\",Z229=W228),\"동일가\",\"실패\"))))","v":"실패"},{"$f":"S229/H229-1","v":-0.82956395874796451}]
[null,"2024-09-11","15:35:00",12589,1670,7534,1122,-5055,336,-0.82352834438075728,9.2244525547445253,null,"2024-09-11","15:45:00",6631,760,5657,654,-974,335.85,-7.5152905198775599E-2,9.1886792452830193,335.85,null,{"$f":"IF(H230>S230,\"하락\",\"상승\")","v":"상승"},339.8,{"$f":"IF(AND(Y229=\"상승\",Z230>W229),\"성공\",IF(AND(Y229=\"하락\",Z230<W229),\"성공\",IF(AND(Y229=\"상승\",Z230=W229),\"동일가\",IF(AND(Y229=\"하락\",Z230=W229),\"동일가\",\"실패\"))))","v":"성공"},{"$f":"S230/H230-1","v":-0.80731948565776457}]
[null,"2024-09-12","15:35:00",2116,205,3151,420,1035,342.95,-2.819570267131243,4.8139534883720927,null,"2024-09-12","15:45:00",2116,205,3151,420,1035,342.95,-2.819570267131243,4.8139534883720927,342.95,null,{"$f":"IF(H231>S231,\"하락\",\"상승\")","v":"상승"},340.4,{"$f":"IF(AND(Y230=\"상승\",Z231>W230),\"성공\",IF(AND(Y230=\"하락\",Z231<W230),\"성공\",IF(AND(Y230=\"상승\",Z231=W230),\"동일가\",IF(AND(Y230=\"하락\",Z231=W230),\"동일가\",\"실패\"))))","v":"성공"},{"$f":"S231/H231-1","v":0}]
[null,"2024-09-13","15:35:00",9424,1515,10415,1955,991,345.55,-0.89309631730436401,2.2522727272727274,null,"2024-09-13","15:45:00",8431,830,7947,940,-484,345.95,-1.703576006152268,-4.4000000000000004,345.95,null,{"$f":"IF(H232>S232,\"하락\",\"상승\")","v":"하락"},345.4,{"$f":"IF(AND(Y231=\"상승\",Z232>W231),\"성공\",IF(AND(Y231=\"하락\",Z232<W231),\"성공\",IF(AND(Y231=\"상승\",Z232=W231),\"동일가\",IF(AND(Y231=\"하락\",Z232=W231),\"동일가\",\"실패\"))))","v":"성공"},{"$f":"S232/H232-1","v":-1.4883955600403633}]
[null,"2024-09-19","15:35:00",9713,1484,8739,1926,-974,345.85,-2.0077650704083441,-2.2036199095022626,null,"2024-09-19","15:45:00",8389,1052,7662,1296,-727,345.75,-2.0622975637234191,-2.9795081967213113,345.75,null,{"$f":"IF(H233>S233,\"하락\",\"상승\")","v":"상승"},347.15,{"$f":"IF(AND(Y232=\"상승\",Z233>W232),\"성공\",IF(AND(Y232=\"하락\",Z233<W232),\"성공\",IF(AND(Y232=\"상승\",Z233=W232),\"동일가\",IF(AND(Y232=\"하락\",Z233=W232),\"동일가\",\"실패\"))))","v":"실패"},{"$f":"S233/H233-1","v":-0.25359342915811089}]
[null,"2024-09-20","15:35:00",10253,2042,5208,1039,-5045,346.55,-8.5457556849943828E-3,5.0299102691924231,null,"2024-09-20","15:45:00",8743,1501,5710,653,-3033,346.65,2.9194737964379023,3.5766509433962264,346.65,null,{"$f":"IF(H234>S234,\"하락\",\"상승\")","v":"상승"},349.25,{"$f":"IF(AND(Y233=\"상승\",Z234>W233),\"성공\",IF(AND(Y233=\"하락\",Z234<W233),\"성공\",IF(AND(Y233=\"상승\",Z234=W233),\"동일가\",IF(AND(Y233=\"하락\",Z234=W233),\"동일가\",\"실패\"))))","v":"성공"},{"$f":"S234/H234-1","v":-0.398810703666997}]
[null,"2024-09-23","15:35:00",8774,1461,11482,1730,2708,347.2,0.63151851807891468,10.066914498141264,null,"2024-09-23","15:45:00",7795,1184,8793,1092,998,347.45,1.468582937332938,-10.847826086956522,347.45,null,{"$f":"IF(H235>S235,\"하락\",\"상승\")","v":"하락"},347.4,{"$f":"IF(AND(Y234=\"상승\",Z235>W234),\"성공\",IF(AND(Y234=\"하락\",Z235<W234),\"성공\",IF(AND(Y234=\"상승\",Z235=W234),\"동일가\",IF(AND(Y234=\"하락\",Z235=W234),\"동일가\",\"실패\"))))","v":"성공"},{"$f":"S235/H235-1","v":-0.6314623338257016}]
[null,"2024-09-24","15:35:00",5523,715,13615,2459,8092,351.85,-2.19,4.6399999999999997,null,"2024-09-24","15:45:00",8250,730,10460,1364,2210,352,-3.63,3.49,352,null,{"$f":"IF(H236>S236,\"하락\",\"상승\")","v":"하락"},347.9,{"$f":"IF(AND(Y235=\"상승\",Z236>W235),\"성공\",IF(AND(Y235=\"하락\",Z236<W235),\"성공\",IF(AND(Y235=\"상승\",Z236=W235),\"동일가\",IF(AND(Y235=\"하락\",Z236=W235),\"동일가\",\"실패\"))))","v":"실패"},{"$f":"S236/H236-1","v":-0.72689075630252109}]
[null,"2024-09-25","15:35:00",14612,2879,4258,679,-10354,346.4,1.1956133516741261,4.7063636363636361,null,"2024-09-25","15:45:00",10606,1291,9332,725,-1274,346.3,4.6563871898287879,2.2508833922261484,346.3,null,{"$f":"IF(H237>S237,\"하락\",\"상승\")","v":"상승"},354.6,{"$f":"IF(AND(Y236=\"상승\",Z237>W236),\"성공\",IF(AND(Y236=\"하락\",Z237<W236),\"성공\",IF(AND(Y236=\"상승\",Z237=W236),\"동일가\",IF(AND(Y236=\"하락\",Z237=W236),\"동일가\",\"실패\"))))","v":"실패"},{"$f":"S237/H237-1","v":-0.87695576588757973}]
[null,"2024-09-26","15:35:00",2533,446,14150,2827,11617,358.55,-0.67406621924079246,4.8790424191516166,null,"2024-09-26","15:45:00",12366,976,15740,1848,3374,358.5,-4.1527659498970966,3.8692660550458715,358.5,null,{"$f":"IF(H238>S238,\"하락\",\"상승\")","v":"하락"},352,{"$f":"IF(AND(Y237=\"상승\",Z238>W237),\"성공\",IF(AND(Y237=\"하락\",Z238<W237),\"성공\",IF(AND(Y237=\"상승\",Z238=W237),\"동일가\",IF(AND(Y237=\"하락\",Z238=W237),\"동일가\",\"실패\"))))","v":"성공"},{"$f":"S238/H238-1","v":-0.70956357062925024}]
[null,"2024-09-27","15:35:00",12867,2330,4693,818,-8174,355.8,0.21484621761440525,5.4060846560846558,null,"2024-09-27","15:45:00",11931,1297,8568,793,-3363,355.85,1.6056191366048918,6.6726190476190474,355.85,null,{"$f":"IF(H239>S239,\"하락\",\"상승\")","v":"상승"},361.2,{"$f":"IF(AND(Y238=\"상승\",Z239>W238),\"성공\",IF(AND(Y238=\"하락\",Z239<W238),\"성공\",IF(AND(Y238=\"상승\",Z239=W238),\"동일가\",IF(AND(Y238=\"하락\",Z239=W238),\"동일가\",\"실패\"))))","v":"실패"},{"$f":"S239/H239-1","v":-0.58857352581355515}]
[null,"2024-09-30","15:35:00",14346,2987,4468,802,-9878,347.75,0.76826013306205532,4.5208237986270019,null,"2024-09-30","15:45:00",12347,1620,9540,879,-2807,347.9,3.2316373825475084,3.7881241565452091,347.9,null,{"$f":"IF(H240>S240,\"하락\",\"상승\")","v":"상승"},358.5,{"$f":"IF(AND(Y239=\"상승\",Z240>W239),\"성공\",IF(AND(Y239=\"하락\",Z240<W239),\"성공\",IF(AND(Y239=\"상승\",Z240=W239),\"동일가\",IF(AND(Y239=\"하락\",Z240=W239),\"동일가\",\"실패\"))))","v":"성공"},{"$f":"S240/H240-1","v":-0.71583316460822033}]
[null,"2024-10-02","15:35:00",9214,1586,7821,1425,-1393,342.95,-0.32116280613260795,8.6521739130434785,null,"2024-10-02","15:45:00",8924,953,9112,1201,188,342.75,-1.7771025020248086,0.75806451612903225,342.75,null,{"$f":"IF(H241>S241,\"하락\",\"상승\")","v":"상승"},342.75,{"$f":"IF(AND(Y240=\"상승\",Z241>W240),\"성공\",IF(AND(Y240=\"하락\",Z241<W240),\"성공\",IF(AND(Y240=\"상승\",Z241=W240),\"동일가\",IF(AND(Y240=\"하락\",Z241=W240),\"동일가\",\"실패\"))))","v":"실패"},{"$f":"S241/H241-1","v":-1.1349605168700645}]
[null,"2024-10-04","15:35:00",7794,1406,8687,1502,893,343.95,0.24023634679602157,9.3020833333333339,null,"2024-10-04","15:45:00",10257,1078,8836,1026,-1421,344.1,-0.90275653057607919,27.326923076923077,344.1,null,{"$f":"IF(H242>S242,\"하락\",\"상승\")","v":"하락"},344.2,{"$f":"IF(AND(Y241=\"상승\",Z242>W241),\"성공\",IF(AND(Y241=\"하락\",Z242<W241),\"성공\",IF(AND(Y241=\"상승\",Z242=W241),\"동일가\",IF(AND(Y241=\"하락\",Z242=W241),\"동일가\",\"실패\"))))","v":"성공"},{"$f":"S242/H242-1","v":-2.591265397536394}]
[null,"2024-10-07","15:35:00",5203,869,11515,2654,6312,349.15,-1.6486077857163295,3.5361344537815125,null,"2024-10-07","15:45:00",9152,849,10860,1434,1708,349.25,-3.2065191142914875,2.9196581196581195,349.25,null,{"$f":"IF(H243>S243,\"하락\",\"상승\")","v":"하락"},346.15,{"$f":"IF(AND(Y242=\"상승\",Z243>W242),\"성공\",IF(AND(Y242=\"하락\",Z243<W242),\"성공\",IF(AND(Y242=\"상승\",Z243=W242),\"동일가\",IF(AND(Y242=\"하락\",Z243=W242),\"동일가\",\"실패\"))))","v":"실패"},{"$f":"S243/H243-1","v":-0.729404309252218}]
[null,"2024-10-08","15:35:00",7146,1362,7861,1525,715,346.2,-9.1941936881634767E-2,4.3865030674846626,null,"2024-10-08","15:45:00",7454,1029,7870,1243,416,346.15,-0.91246998742032215,1.9439252336448598,346.15,null,{"$f":"IF(H244>S244,\"하락\",\"상승\")","v":"하락"},347.2,{"$f":"IF(AND(Y243=\"상승\",Z244>W243),\"성공\",IF(AND(Y243=\"하락\",Z244<W243),\"성공\",IF(AND(Y243=\"상승\",Z244=W243),\"동일가\",IF(AND(Y243=\"하락\",Z244=W243),\"동일가\",\"실패\"))))","v":"성공"},{"$f":"S244/H244-1","v":-0.41818181818181821}]
[null,"2024-10-10","15:35:00",12263,2210,7063,1226,-5200,346.8,0.21214264096904945,5.2845528455284549,null,"2024-10-10","15:45:00",10373,1542,7684,826,-2689,346.85,2.5756854875432991,3.755586592178771,346.85,null,{"$f":"IF(H245>S245,\"하락\",\"상승\")","v":"상승"},350.05,{"$f":"IF(AND(Y244=\"상승\",Z245>W244),\"성공\",IF(AND(Y244=\"하락\",Z245<W244),\"성공\",IF(AND(Y244=\"상승\",Z245=W244),\"동일가\",IF(AND(Y244=\"하락\",Z245=W244),\"동일가\",\"실패\"))))","v":"실패"},{"$f":"S245/H245-1","v":-0.48288461538461536}]
[null,"2024-10-11","15:35:00",10355,1965,8304,1257,-2051,347.3,1.3364851488154885,2.8968926553672318,null,"2024-10-11","15:45:00",8340,1356,6395,808,-1945,347.25,1.7641614825199339,3.5492700729927007,347.25,null,{"$f":"IF(H246>S246,\"하락\",\"상승\")","v":"상승"},350.2,{"$f":"IF(AND(Y245=\"상승\",Z246>W245),\"성공\",IF(AND(Y245=\"하락\",Z246<W245),\"성공\",IF(AND(Y245=\"상승\",Z246=W245),\"동일가\",IF(AND(Y245=\"하락\",Z246=W245),\"동일가\",\"실패\"))))","v":"성공"},{"$f":"S246/H246-1","v":-5.1682106289614782E-2}]
[null,"2024-10-14","15:35:00",7664,1444,9175,1652,1511,351.05,0.24639486763295437,7.2644230769230766,null,"2024-10-14","15:45:00",7326,1120,8476,1192,1150,351.05,0.56966682646212874,15.972222222222221,351.05,null,{"$f":"IF(H247>S247,\"하락\",\"상승\")","v":"하락"},348.85,{"$f":"IF(AND(Y246=\"상승\",Z247>W246),\"성공\",IF(AND(Y246=\"하락\",Z247<W246),\"성공\",IF(AND(Y246=\"상승\",Z247=W246),\"동일가\",IF(AND(Y246=\"하락\",Z247=W246),\"동일가\",\"실패\"))))","v":"성공"},{"$f":"S247/H247-1","v":-0.23891462607544678}]
[null,"2024-10-15","15:35:00",10378,1686,9961,1868,-417,352.75,-0.82295627678247119,-2.2912087912087911,null,"2024-10-15","15:45:00",8000,1159,7539,1107,-461,352.65,-9.2204054050895046E-2,8.865384615384615,352.65,null,{"$f":"IF(H248>S248,\"하락\",\"상승\")","v":"하락"},352.75,{"$f":"IF(AND(Y247=\"상승\",Z248>W247),\"성공\",IF(AND(Y247=\"하락\",Z248<W247),\"성공\",IF(AND(Y247=\"상승\",Z248=W247),\"동일가\",IF(AND(Y247=\"하락\",Z248=W247),\"동일가\",\"실패\"))))","v":"실패"},{"$f":"S248/H248-1","v":0.10551558752997603}]
[null,"2024-10-16","15:35:00",8607,1401,10871,1946,2264,349.3,-0.55713801549766551,4.1541284403669723,null,"2024-10-16","15:45:00",7254,890,8892,1320,1638,349.3,-1.414198161389173,3.8093023255813954,349.3,null,{"$f":"IF(H249>S249,\"하락\",\"상승\")","v":"하락"},347.15,{"$f":"IF(AND(Y248=\"상승\",Z249>W248),\"성공\",IF(AND(Y248=\"하락\",Z249<W248),\"성공\",IF(AND(Y248=\"상승\",Z249=W248),\"동일가\",IF(AND(Y248=\"하락\",Z249=W248),\"동일가\",\"실패\"))))","v":"성공"},{"$f":"S249/H249-1","v":-0.27650176678445226}]
[null,"2024-10-17","15:35:00",9562,1582,8295,1639,-1267,350.1,-0.98323497491995493,-22.228070175438596,null,"2024-10-17","15:45:00",7408,932,7938,1090,530,350.1,-0.66592904673780318,3.3544303797468356,350.1,null,{"$f":"IF(H250>S250,\"하락\",\"상승\")","v":"상승"},349.8,{"$f":"IF(AND(Y249=\"상승\",Z250>W249),\"성공\",IF(AND(Y249=\"하락\",Z250<W249),\"성공\",IF(AND(Y249=\"상승\",Z250=W249),\"동일가\",IF(AND(Y249=\"하락\",Z250=W249),\"동일가\",\"실패\"))))","v":"실패"},{"$f":"S250/H250-1","v":-1.4183109707971586}]
[null,"2024-10-18","15:35:00",12306,2365,7976,1370,-4330,347.95,0.6185151463711982,4.3517587939698492,null,"2024-10-18","15:45:00",9122,1482,7901,1000,-1221,348.1,1.7458043184885286,2.5331950207468878,348.1,null,{"$f":"IF(H251>S251,\"하락\",\"상승\")","v":"상승"},351.5,{"$f":"IF(AND(Y250=\"상승\",Z251>W250),\"성공\",IF(AND(Y250=\"하락\",Z251<W250),\"성공\",IF(AND(Y250=\"상승\",Z251=W250),\"동일가\",IF(AND(Y250=\"하락\",Z251=W250),\"동일가\",\"실패\"))))","v":"성공"},{"$f":"S251/H251-1","v":-0.71801385681293306}]
[null,"2024-10-21","15:35:00",8613,1684,8099,1333,-514,348.35,0.96116086622605756,1.4643874643874644,null,"2024-10-21","15:45:00",7943,1306,7898,906,-45,348.3,2.6355097377023693,0.1125,348.3,null,{"$f":"IF(H252>S252,\"하락\",\"상승\")","v":"상승"},348,{"$f":"IF(AND(Y251=\"상승\",Z252>W251),\"성공\",IF(AND(Y251=\"하락\",Z252<W251),\"성공\",IF(AND(Y251=\"상승\",Z252=W251),\"동일가\",IF(AND(Y251=\"하락\",Z252=W251),\"동일가\",\"실패\"))))","v":"실패"},{"$f":"S252/H252-1","v":-0.91245136186770426}]
[null,"2024-10-22","15:35:00",10703,2095,6507,1219,-4196,344.05,0.22915140349400254,4.7899543378995437,null,"2024-10-22","15:45:00",11209,1286,9260,1095,-1949,343.9,-0.259553178948563,10.204188481675393,343.9,null,{"$f":"IF(H253>S253,\"하락\",\"상승\")","v":"상승"},346.75,{"$f":"IF(AND(Y252=\"상승\",Z253>W252),\"성공\",IF(AND(Y252=\"하락\",Z253<W252),\"성공\",IF(AND(Y252=\"상승\",Z253=W252),\"동일가\",IF(AND(Y252=\"하락\",Z253=W252),\"동일가\",\"실패\"))))","v":"실패"},{"$f":"S253/H253-1","v":-0.53551000953288841}]
[null,"2024-10-23","15:35:00",6927,1281,10821,2028,3894,347.8,-7.1695328631015798E-2,5.2128514056224899,null,"2024-10-23","15:45:00",9132,1105,10880,1393,1748,347.95,-0.45377241735503748,6.0694444444444446,347.95,null,{"$f":"IF(H254>S254,\"하락\",\"상승\")","v":"하락"},343.1,{"$f":"IF(AND(Y253=\"상승\",Z254>W253),\"성공\",IF(AND(Y253=\"하락\",Z254<W253),\"성공\",IF(AND(Y253=\"상승\",Z254=W253),\"동일가\",IF(AND(Y253=\"하락\",Z254=W253),\"동일가\",\"실패\"))))","v":"실패"},{"$f":"S254/H254-1","v":-0.55110426296866977}]
[null,"2024-10-24","15:35:00",7292,1725,9244,1400,1952,344.9,2.3756107660455488,-6.006153846153846,null,"2024-10-24","15:45:00",10250,1151,10872,1119,622,344.9,0.81051795501289092,-19.4375,344.9,null,{"$f":"IF(H255>S255,\"하락\",\"상승\")","v":"하락"},347.4,{"$f":"IF(AND(Y254=\"상승\",Z255>W254),\"성공\",IF(AND(Y254=\"하락\",Z255<W254),\"성공\",IF(AND(Y254=\"상승\",Z255=W254),\"동일가\",IF(AND(Y254=\"하락\",Z255=W254),\"동일가\",\"실패\"))))","v":"성공"},{"$f":"S255/H255-1","v":-0.68135245901639352}]
[null,"2024-10-25","15:35:00",7579,1500,9065,1516,1486,345.35,0.92688478452066825,92.875,null,"2024-10-25","15:45:00",7790,1107,8028,1002,238,345.25,0.97493901086715429,-2.2666666666666666,345.25,null,{"$f":"IF(H256>S256,\"하락\",\"상승\")","v":"하락"},345.05,{"$f":"IF(AND(Y255=\"상승\",Z256>W255),\"성공\",IF(AND(Y255=\"하락\",Z256<W255),\"성공\",IF(AND(Y255=\"상승\",Z256=W255),\"동일가\",IF(AND(Y255=\"하락\",Z256=W255),\"동일가\",\"실패\"))))","v":"실패"},{"$f":"S256/H256-1","v":-0.83983849259757737}]
[null,"2024-10-28","15:35:00",6336,1175,9880,1795,3544,348.15,0.11183784744858727,5.7161290322580642,null,"2024-10-28","15:45:00",6002,948,7873,1335,1871,348.25,-0.43384535153842574,4.8346253229974163,348.25,null,{"$f":"IF(H257>S257,\"하락\",\"상승\")","v":"하락"},346.45,{"$f":"IF(AND(Y256=\"상승\",Z257>W256),\"성공\",IF(AND(Y256=\"하락\",Z257<W256),\"성공\",IF(AND(Y256=\"상승\",Z257=W256),\"동일가\",IF(AND(Y256=\"하락\",Z257=W256),\"동일가\",\"실패\"))))","v":"실패"},{"$f":"S257/H257-1","v":-0.47206546275395034}]
[null,"2024-10-29","15:35:00",7256,942,9496,1995,2240,349.55,-2.9428603355522567,2.1272554605887941,null,"2024-10-29","15:45:00",5379,699,7282,1440,1903,349.55,-2.6383345255126374,2.5681511470985154,349.55,null,{"$f":"IF(H258>S258,\"하락\",\"상승\")","v":"하락"},347.55,{"$f":"IF(AND(Y257=\"상승\",Z258>W257),\"성공\",IF(AND(Y257=\"하락\",Z258<W257),\"성공\",IF(AND(Y257=\"상승\",Z258=W257),\"동일가\",IF(AND(Y257=\"하락\",Z258=W257),\"동일가\",\"실패\"))))","v":"성공"},{"$f":"S258/H258-1","v":-0.15044642857142854}]
[null,"2024-10-30","15:35:00",10909,1981,7113,1209,-3796,346.65,0.37655994979601459,4.9170984455958546,null,"2024-10-30","15:45:00",10242,1471,8355,1058,-1887,346.6,0.93436495626215166,4.5690072639225185,346.6,null,{"$f":"IF(H259>S259,\"하락\",\"상승\")","v":"상승"},349.2,{"$f":"IF(AND(Y258=\"상승\",Z259>W258),\"성공\",IF(AND(Y258=\"하락\",Z259<W258),\"성공\",IF(AND(Y258=\"상승\",Z259=W258),\"동일가\",IF(AND(Y258=\"하락\",Z259=W258),\"동일가\",\"실패\"))))","v":"성공"},{"$f":"S259/H259-1","v":-0.50289778714436251}]
[null,"2024-10-31","15:35:00",8389,1767,5143,985,-3246,341,0.47372500351911384,4.1508951406649617,null,"2024-10-31","15:45:00",9916,1394,7987,945,-1929,341,1.338508953716989,4.2962138084632517,341,null,{"$f":"IF(H260>S260,\"하락\",\"상승\")","v":"상승"},342.5,{"$f":"IF(AND(Y259=\"상승\",Z260>W259),\"성공\",IF(AND(Y259=\"하락\",Z260<W259),\"성공\",IF(AND(Y259=\"상승\",Z260=W259),\"동일가\",IF(AND(Y259=\"하락\",Z260=W259),\"동일가\",\"실패\"))))","v":"실패"},{"$f":"S260/H260-1","v":-0.40573012939001851}]
[null,"2024-11-01","15:35:00",8695,1537,8516,1211,-179,338.6,1.3750805213755708,0.54907975460122704,null,"2024-11-01","15:45:00",7728,1127,6574,972,-1154,338.3,-9.3768371546149254E-2,7.4451612903225808,338.3,null,{"$f":"IF(H261>S261,\"하락\",\"상승\")","v":"하락"},339,{"$f":"IF(AND(Y260=\"상승\",Z261>W260),\"성공\",IF(AND(Y260=\"하락\",Z261<W260),\"성공\",IF(AND(Y260=\"상승\",Z261=W260),\"동일가\",IF(AND(Y260=\"하락\",Z261=W260),\"동일가\",\"실패\"))))","v":"실패"},{"$f":"S261/H261-1","v":5.4469273743016764}]
[null,"2024-11-04","15:35:00",6501,1107,9690,1847,3189,343.6,-0.62628330127372767,4.3094594594594593,null,"2024-11-04","15:45:00",9298,1125,11254,1406,1956,343.6,-0.26062146356883176,6.9608540925266906,343.6,null,{"$f":"IF(H262>S262,\"하락\",\"상승\")","v":"하락"},338.9,{"$f":"IF(AND(Y261=\"상승\",Z262>W261),\"성공\",IF(AND(Y261=\"하락\",Z262<W261),\"성공\",IF(AND(Y261=\"상승\",Z262=W261),\"동일가\",IF(AND(Y261=\"하락\",Z262=W261),\"동일가\",\"실패\"))))","v":"실패"},{"$f":"S262/H262-1","v":-0.38664158043273755}]
[null,"2024-11-05","15:35:00",9696,1367,10350,1699,654,342.9,-1.001085452822414,1.9698795180722892,null,"2024-11-05","15:45:00",8770,898,9653,1253,883,343,-2.0622363787933464,2.4873239436619716,343,null,{"$f":"IF(H263>S263,\"하락\",\"상승\")","v":"상승"},342.05,{"$f":"IF(AND(Y262=\"상승\",Z263>W262),\"성공\",IF(AND(Y262=\"하락\",Z263<W262),\"성공\",IF(AND(Y262=\"상승\",Z263=W262),\"동일가\",IF(AND(Y262=\"하락\",Z263=W262),\"동일가\",\"실패\"))))","v":"성공"},{"$f":"S263/H263-1","v":0.35015290519877684}]
[null,"2024-11-06","15:35:00",11395,1797,8458,1490,-2937,342.2,-0.66461402860098673,9.5667752442996736,null,"2024-11-06","15:45:00",10144,1271,8622,1201,-1522,342.2,-0.80209974509833515,21.742857142857144,342.2,null,{"$f":"IF(H264>S264,\"하락\",\"상승\")","v":"상승"},344.7,{"$f":"IF(AND(Y263=\"상승\",Z264>W263),\"성공\",IF(AND(Y263=\"하락\",Z264<W263),\"성공\",IF(AND(Y263=\"상승\",Z264=W263),\"동일가\",IF(AND(Y263=\"하락\",Z264=W263),\"동일가\",\"실패\"))))","v":"성공"},{"$f":"S264/H264-1","v":-0.48178413346952675}]
[null,"2024-11-07","15:35:00",9842,1684,9188,1559,-654,341.3,4.9103435876887147E-2,5.2320000000000002,null,"2024-11-07","15:45:00",8048,1181,8166,1135,118,341.35,0.38014972751382992,-2.5652173913043477,341.35,null,{"$f":"IF(H265>S265,\"하락\",\"상승\")","v":"상승"},340.6,{"$f":"IF(AND(Y264=\"상승\",Z265>W264),\"성공\",IF(AND(Y264=\"하락\",Z265<W264),\"성공\",IF(AND(Y264=\"상승\",Z265=W264),\"동일가\",IF(AND(Y264=\"하락\",Z265=W264),\"동일가\",\"실패\"))))","v":"실패"},{"$f":"S265/H265-1","v":-1.1804281345565748}]
[null,"2024-11-08","15:35:00",12366,2356,6578,1018,-5788,340.8,1.2129629320782787,4.3258594917787745,null,"2024-11-08","15:45:00",9520,1645,6298,743,-3222,340.8,2.6892127945935114,3.5720620842572064,340.8,null,{"$f":"IF(H266>S266,\"하락\",\"상승\")","v":"상승"},343.8,{"$f":"IF(AND(Y265=\"상승\",Z266>W265),\"성공\",IF(AND(Y265=\"하락\",Z266<W265),\"성공\",IF(AND(Y265=\"상승\",Z266=W265),\"동일가\",IF(AND(Y265=\"하락\",Z266=W265),\"동일가\",\"실패\"))))","v":"성공"},{"$f":"S266/H266-1","v":-0.44333102971665517}]
[null,"2024-11-11","15:35:00",8020,1580,5557,955,-2463,336,0.74289880045065892,3.9407999999999999,null,"2024-11-11","15:45:00",9410,1361,7892,1029,-1518,335.95,0.75554831988426763,4.572289156626506,335.95,null,{"$f":"IF(H267>S267,\"하락\",\"상승\")","v":"상승"},339.3,{"$f":"IF(AND(Y266=\"상승\",Z267>W266),\"성공\",IF(AND(Y266=\"하락\",Z267<W266),\"성공\",IF(AND(Y266=\"상승\",Z267=W266),\"동일가\",IF(AND(Y266=\"하락\",Z267=W266),\"동일가\",\"실패\"))))","v":"실패"},{"$f":"S267/H267-1","v":-0.38367844092570036}]
[null,"2024-11-12","15:35:00",9111,2100,4352,881,-4759,328.2,0.6012696610993995,3.9040196882690732,null,"2024-11-12","15:45:00",9872,1404,6206,772,-3666,328,1.0075210722879122,5.8006329113924053,328,null,{"$f":"IF(H268>S268,\"하락\",\"상승\")","v":"상승"},333.55,{"$f":"IF(AND(Y267=\"상승\",Z268>W267),\"성공\",IF(AND(Y267=\"하락\",Z268<W267),\"성공\",IF(AND(Y267=\"상승\",Z268=W267),\"동일가\",IF(AND(Y267=\"하락\",Z268=W267),\"동일가\",\"실패\"))))","v":"실패"},{"$f":"S268/H268-1","v":-0.2296700987602438}]
[null,"2024-11-13","15:35:00",10410,1847,3699,665,-6711,319.85000000000002,-7.3760741865492641E-2,5.6776649746192893,null,"2024-11-13","15:45:00",12830,1256,13494,1238,664,318.89999999999998,0.68487029624522933,-36.888888888888886,318.89999999999998,null,{"$f":"IF(H269>S269,\"하락\",\"상승\")","v":"상승"},325.75,{"$f":"IF(AND(Y268=\"상승\",Z269>W268),\"성공\",IF(AND(Y268=\"하락\",Z269<W268),\"성공\",IF(AND(Y268=\"상승\",Z269=W268),\"동일가\",IF(AND(Y268=\"하락\",Z269=W268),\"동일가\",\"실패\"))))","v":"실패"},{"$f":"S269/H269-1","v":-1.0989420354641632}]
[null,"2024-11-14","16:35:00",8541,1605,6849,936,-1692,318.25,1.9958123652048885,2.5291479820627805,null,"2024-11-14","16:45:00",8365,1172,6745,930,-1620,318.05,0.11531615839113396,6.6942148760330582,318.05,null,{"$f":"IF(H270>S270,\"하락\",\"상승\")","v":"상승"},319.75,{"$f":"IF(AND(Y269=\"상승\",Z270>W269),\"성공\",IF(AND(Y269=\"하락\",Z270<W269),\"성공\",IF(AND(Y269=\"상승\",Z270=W269),\"동일가\",IF(AND(Y269=\"하락\",Z270=W269),\"동일가\",\"실패\"))))","v":"성공"},{"$f":"S270/H270-1","v":-4.2553191489361653E-2}]
[null,"2024-11-15","15:35:00",5611,1046,6670,1237,1059,320.39999999999998,2.7832865240180027E-2,5.5445026178010473,null,"2024-11-15","15:45:00",9559,1156,9635,1119,76,320.5,0.34133525670164033,-2.0540540540540539,320.5,null,{"$f":"IF(H271>S271,\"하락\",\"상승\")","v":"하락"},319.75,{"$f":"IF(AND(Y270=\"상승\",Z271>W270),\"성공\",IF(AND(Y270=\"하락\",Z271<W270),\"성공\",IF(AND(Y270=\"상승\",Z271=W270),\"동일가\",IF(AND(Y270=\"하락\",Z271=W270),\"동일가\",\"실패\"))))","v":"성공"},{"$f":"S271/H271-1","v":-0.92823418319169027}]
[null,"2024-11-18","15:35:00",6912,1324,9399,1516,2487,327.55,0.97932426723210231,12.953125,null,"2024-11-18","15:45:00",11452,1526,12073,1251,621,327.64999999999998,2.1460923004715502,-2.2581818181818183,327.64999999999998,null,{"$f":"IF(H272>S272,\"하락\",\"상승\")","v":"하락"},322.89999999999998,{"$f":"IF(AND(Y271=\"상승\",Z272>W271),\"성공\",IF(AND(Y271=\"하락\",Z272<W271),\"성공\",IF(AND(Y271=\"상승\",Z272=W271),\"동일가\",IF(AND(Y271=\"하락\",Z272=W271),\"동일가\",\"실패\"))))","v":"실패"},{"$f":"S272/H272-1","v":-0.75030156815440285}]
[null,"2024-11-19","15:35:00",8852,1285,9580,1642,728,329.3,-1.0543675976435685,2.0392156862745097,null,"2024-11-19","15:45:00",7663,926,8610,1300,947,329.4,-1.6523010466854959,2.5320855614973263,329.4,null,{"$f":"IF(H273>S273,\"하락\",\"상승\")","v":"상승"},327.7,{"$f":"IF(AND(Y272=\"상승\",Z273>W272),\"성공\",IF(AND(Y272=\"하락\",Z273<W272),\"성공\",IF(AND(Y272=\"상승\",Z273=W272),\"동일가\",IF(AND(Y272=\"하락\",Z273=W272),\"동일가\",\"실패\"))))","v":"실패"},{"$f":"S273/H273-1","v":0.30082417582417587}]
[null,"2024-11-20","15:35:00",7866,1165,9413,1671,1547,330,-1.1187775303524141,3.0573122529644268,null,"2024-11-20","15:45:00",7750,878,8344,1299,594,330,-2.403476653672616,1.4109263657957245,330,null,{"$f":"IF(H274>S274,\"하락\",\"상승\")","v":"하락"},328.15,{"$f":"IF(AND(Y273=\"상승\",Z274>W273),\"성공\",IF(AND(Y273=\"하락\",Z274<W273),\"성공\",IF(AND(Y273=\"상승\",Z274=W273),\"동일가\",IF(AND(Y273=\"하락\",Z274=W273),\"동일가\",\"실패\"))))","v":"실패"},{"$f":"S274/H274-1","v":-0.61603102779573371}]
[null,"2024-11-21","15:35:00",8039,1344,10603,1684,2564,330.3,0.31491948026241356,7.5411764705882351,null,"2024-11-21","15:45:00",7583,1023,9215,1237,1632,330.35,3.6962316201892165E-2,7.6261682242990654,330.35,null,{"$f":"IF(H275>S275,\"하락\",\"상승\")","v":"하락"},327.64999999999998,{"$f":"IF(AND(Y274=\"상승\",Z275>W274),\"성공\",IF(AND(Y274=\"하락\",Z275<W274),\"성공\",IF(AND(Y274=\"상승\",Z275=W274),\"동일가\",IF(AND(Y274=\"하락\",Z275=W274),\"동일가\",\"실패\"))))","v":"성공"},{"$f":"S275/H275-1","v":-0.3634945397815913}]
[null,"2024-11-22","15:35:00",9458,1600,9530,1474,72,332.85,0.55415027137042117,-0.5714285714285714,null,"2024-11-22","15:45:00",8197,1316,7240,976,-957,332.85,1.1893093826299266,2.8147058823529414,332.65,null,{"$f":"IF(H276>S276,\"하락\",\"상승\")","v":"하락"},332.05,{"$f":"IF(AND(Y275=\"상승\",Z276>W275),\"성공\",IF(AND(Y275=\"하락\",Z276<W275),\"성공\",IF(AND(Y275=\"상승\",Z276=W275),\"동일가\",IF(AND(Y275=\"하락\",Z276=W275),\"동일가\",\"실패\"))))","v":"실패"},{"$f":"S276/H276-1","v":-14.291666666666666}]
[null,"2024-11-25","15:35:00",8206,1460,9197,1288,991,336.45,1.5199800051050794,-5.7616279069767442,null,"2024-11-25","15:45:00",9302,1486,9818,1150,516,336.85,2.2776335654514606,-1.5357142857142858,336.85,null,{"$f":"IF(H277>S277,\"하락\",\"상승\")","v":"하락"},335.25,{"$f":"IF(AND(Y276=\"상승\",Z277>W276),\"성공\",IF(AND(Y276=\"하락\",Z277<W276),\"성공\",IF(AND(Y276=\"상승\",Z277=W276),\"동일가\",IF(AND(Y276=\"하락\",Z277=W276),\"동일가\",\"실패\"))))","v":"실패"},{"$f":"S277/H277-1","v":-0.47931382441977799}]
[null,"2024-11-26","15:35:00",9550,1323,8926,1518,-624,335.7,-1.3383375308841146,-3.2,null,"2024-11-26","15:45:00",7780,945,7873,1142,93,335.9,-1.3387586986536197,0.4720812182741117,335.9,null,{"$f":"IF(H278>S278,\"하락\",\"상승\")","v":"상승"},335.7,{"$f":"IF(AND(Y277=\"상승\",Z278>W277),\"성공\",IF(AND(Y277=\"하락\",Z278<W277),\"성공\",IF(AND(Y277=\"상승\",Z278=W277),\"동일가\",IF(AND(Y277=\"하락\",Z278=W277),\"동일가\",\"실패\"))))","v":"성공"},{"$f":"S278/H278-1","v":-1.1490384615384615}]
[null,"2024-11-27","15:35:00",10656,1581,7690,1212,-2966,333.5,-0.39515346221529235,8.0379403794037945,null,"2024-11-27","15:45:00",8559,1127,7194,929,-1365,333.5,0.1493118799445643,6.8939393939393936,333.5,null,{"$f":"IF(H279>S279,\"하락\",\"상승\")","v":"상승"},334.8,{"$f":"IF(AND(Y278=\"상승\",Z279>W278),\"성공\",IF(AND(Y278=\"하락\",Z279<W278),\"성공\",IF(AND(Y278=\"상승\",Z279=W278),\"동일가\",IF(AND(Y278=\"하락\",Z279=W278),\"동일가\",\"실패\"))))","v":"실패"},{"$f":"S279/H279-1","v":-0.53978422117329738}]
[null,"2024-11-28","15:35:00",9249,1745,10032,1401,783,331.8,1.8603130387831861,-2.2761627906976742,null,"2024-11-28","15:45:00",6813,1307,6438,989,-375,331.8,1.2969048206631015,1.179245283018868,331.8,null,{"$f":"IF(H280>S280,\"하락\",\"상승\")","v":"하락"},333.25,{"$f":"IF(AND(Y279=\"상승\",Z280>W279),\"성공\",IF(AND(Y279=\"하락\",Z280<W279),\"성공\",IF(AND(Y279=\"상승\",Z280=W279),\"동일가\",IF(AND(Y279=\"하락\",Z280=W279),\"동일가\",\"실패\"))))","v":"실패"},{"$f":"S280/H280-1","v":-1.4789272030651341}]
[null,"2024-11-29","15:35:00",12080,2049,6360,1200,-5720,326.5,-0.59555880917520732,6.7373380447585394,null,"2024-11-29","15:45:00",11560,1457,9789,1150,-1771,326.3,0.57806272567216688,5.7687296416938114,326.3,null,{"$f":"IF(H281>S281,\"하락\",\"상승\")","v":"상승"},332.95,{"$f":"IF(AND(Y280=\"상승\",Z281>W280),\"성공\",IF(AND(Y280=\"하락\",Z281<W280),\"성공\",IF(AND(Y280=\"상승\",Z281=W280),\"동일가\",IF(AND(Y280=\"하락\",Z281=W280),\"동일가\",\"실패\"))))","v":"실패"},{"$f":"S281/H281-1","v":-0.69038461538461537}]
[null,"2024-12-02","15:35:00",12407,2167,7683,1079,-4724,326.10000000000002,1.3950550703042905,4.3419117647058822,null,"2024-12-02","15:45:00",9025,1447,6456,805,-2569,325.95,1.7828336202123047,4.0015576323987538,325.95,null,{"$f":"IF(H282>S282,\"하락\",\"상승\")","v":"상승"},328.85,{"$f":"IF(AND(Y281=\"상승\",Z282>W281),\"성공\",IF(AND(Y281=\"하락\",Z282<W281),\"성공\",IF(AND(Y281=\"상승\",Z282=W281),\"동일가\",IF(AND(Y281=\"하락\",Z282=W281),\"동일가\",\"실패\"))))","v":"성공"},{"$f":"S282/H282-1","v":-0.45618120237087212}]
[null,"2024-12-03","15:35:00",7049,1204,9275,1630,2226,331.25,-0.16446711371094302,5.225352112676056,null,"2024-12-03","15:45:00",9419,1109,10770,1354,1351,331,-0.53902740169394203,5.5142857142857142,331,null,{"$f":"IF(H283>S283,\"하락\",\"상승\")","v":"하락"},327.95,{"$f":"IF(AND(Y282=\"상승\",Z283>W282),\"성공\",IF(AND(Y282=\"하락\",Z283<W282),\"성공\",IF(AND(Y282=\"상승\",Z283=W282),\"동일가\",IF(AND(Y282=\"하락\",Z283=W282),\"동일가\",\"실패\"))))","v":"성공"},{"$f":"S283/H283-1","v":-0.39308176100628933}]
[null,"2024-12-04","15:35:00",7555,1505,7929,1539,374,325.75,0.13211322880845522,11,null,"2024-12-04","15:45:00",11351,1070,10904,1159,-447,325.64999999999998,-1.2003007749187589,-5.0224719101123592,325.64999999999998,null,{"$f":"IF(H284>S284,\"하락\",\"상승\")","v":"하락"},324.5,{"$f":"IF(AND(Y283=\"상승\",Z284>W283),\"성공\",IF(AND(Y283=\"하락\",Z284<W283),\"성공\",IF(AND(Y283=\"상승\",Z284=W283),\"동일가\",IF(AND(Y283=\"하락\",Z284=W283),\"동일가\",\"실패\"))))","v":"성공"},{"$f":"S284/H284-1","v":-2.1951871657754012}]
[null,"2024-12-05","15:35:00",11668,2001,5860,943,-5808,323.95,0.38312551041552467,5.4896030245746692,null,"2024-12-05","15:45:00",11107,1459,8846,899,-2261,323.95,2.227073566623794,4.0374999999999996,323.95,null,{"$f":"IF(H285>S285,\"하락\",\"상승\")","v":"상승"},325.95,{"$f":"IF(AND(Y284=\"상승\",Z285>W284),\"성공\",IF(AND(Y284=\"하락\",Z285<W284),\"성공\",IF(AND(Y284=\"상승\",Z285=W284),\"동일가\",IF(AND(Y284=\"하락\",Z285=W284),\"동일가\",\"실패\"))))","v":"실패"},{"$f":"S285/H285-1","v":-0.61070936639118456}]
[null,"2024-12-06","15:35:00",7117,1490,5846,1289,-1271,322.64999999999998,-0.24121138596591685,6.3233830845771148,null,"2024-12-06","15:45:00",8439,1122,6912,1092,-1527,322.64999999999998,-1.1917200446612215,50.9,322.64999999999998,null,{"$f":"IF(H286>S286,\"하락\",\"상승\")","v":"하락"},325,{"$f":"IF(AND(Y285=\"상승\",Z286>W285),\"성공\",IF(AND(Y285=\"하락\",Z286<W285),\"성공\",IF(AND(Y285=\"상승\",Z286=W285),\"동일가\",IF(AND(Y285=\"하락\",Z286=W285),\"동일가\",\"실패\"))))","v":"성공"},{"$f":"S286/H286-1","v":0.2014162077104642}]
[null,"2024-12-09","15:35:00",13566,2332,3799,806,-9767,314.3,-1.103924681526629,6.4003931847968545,null,"2024-12-09","15:45:00",12245,1421,8471,881,-3774,314.10000000000002,0.99803898231569477,6.9888888888888889,314.10000000000002,null,{"$f":"IF(H287>S287,\"하락\",\"상승\")","v":"상승"},317.7,{"$f":"IF(AND(Y286=\"상승\",Z287>W286),\"성공\",IF(AND(Y286=\"하락\",Z287<W286),\"성공\",IF(AND(Y286=\"상승\",Z287=W286),\"동일가\",IF(AND(Y286=\"하락\",Z287=W286),\"동일가\",\"실패\"))))","v":"성공"},{"$f":"S287/H287-1","v":-0.61359680556977581}]
[null,"2024-12-10","15:35:00",5984,1077,10922,1906,4938,320.64999999999998,0.17415072960235989,5.9565741857659829,null,"2024-12-10","15:45:00",8944,932,12325,1357,3381,320.85000000000002,-0.51403151992055207,7.9552941176470586,320.85000000000002,null,{"$f":"IF(H288>S288,\"하락\",\"상승\")","v":"하락"},316,{"$f":"IF(AND(Y287=\"상승\",Z288>W287),\"성공\",IF(AND(Y287=\"하락\",Z288<W287),\"성공\",IF(AND(Y287=\"상승\",Z288=W287),\"동일가\",IF(AND(Y287=\"하락\",Z288=W287),\"동일가\",\"실패\"))))","v":"성공"},{"$f":"S288/H288-1","v":-0.31530984204131229}]
[null,"2024-12-11","15:35:00",5889,923,11111,2063,5222,324,-0.99443583459067497,4.5807017543859647,null,"2024-12-11","15:45:00",5022,719,7101,1213,2079,324.05,-1.1306201821481929,4.2085020242914979,324.05,null,{"$f":"IF(H289>S289,\"하락\",\"상승\")","v":"하락"},318.60000000000002,{"$f":"IF(AND(Y288=\"상승\",Z289>W288),\"성공\",IF(AND(Y288=\"하락\",Z289<W288),\"성공\",IF(AND(Y288=\"상승\",Z289=W288),\"동일가\",IF(AND(Y288=\"하락\",Z289=W288),\"동일가\",\"실패\"))))","v":"성공"},{"$f":"S289/H289-1","v":-0.60187667560321723}]
[null,"2024-12-12","15:35:00",1259,157,2932,493,1673,329.8,-2.0718466169687728,4.979166666666667,null,"2024-12-12","15:45:00",1259,157,2932,493,1673,329.8,-2.0718466169687728,4.979166666666667,329.8,null,{"$f":"IF(H290>S290,\"하락\",\"상승\")","v":"상승"},326.14999999999998,{"$f":"IF(AND(Y289=\"상승\",Z290>W289),\"성공\",IF(AND(Y289=\"하락\",Z290<W289),\"성공\",IF(AND(Y289=\"상승\",Z290=W289),\"동일가\",IF(AND(Y289=\"하락\",Z290=W289),\"동일가\",\"실패\"))))","v":"실패"},{"$f":"S290/H290-1","v":0}]
[null,"2024-12-13","15:35:00",6182,1108,10100,1838,3918,330.1,-8.4319009439706605E-2,5.3671232876712329,null,"2024-12-13","15:45:00",8123,907,9744,1438,1621,329.9,-2.1798206807507059,3.0527306967984935,329.9,null,{"$f":"IF(H291>S291,\"하락\",\"상승\")","v":"하락"},327.7,{"$f":"IF(AND(Y290=\"상승\",Z291>W290),\"성공\",IF(AND(Y290=\"하락\",Z291<W290),\"성공\",IF(AND(Y290=\"상승\",Z291=W290),\"동일가\",IF(AND(Y290=\"하락\",Z291=W290),\"동일가\",\"실패\"))))","v":"실패"},{"$f":"S291/H291-1","v":-0.58626850433894839}]
[null,"2024-12-16","15:35:00",8904,1917,6089,878,-2815,328.15,2.290322293161652,2.7093358999037536,null,"2024-12-16","15:45:00",7869,1374,6409,802,-1460,328.15,2.2641975846410176,2.5524475524475525,328.15,null,{"$f":"IF(H292>S292,\"하락\",\"상승\")","v":"상승"},331.05,{"$f":"IF(AND(Y291=\"상승\",Z292>W291),\"성공\",IF(AND(Y291=\"하락\",Z292<W291),\"성공\",IF(AND(Y291=\"상승\",Z292=W291),\"동일가\",IF(AND(Y291=\"하락\",Z292=W291),\"동일가\",\"실패\"))))","v":"실패"},{"$f":"S292/H292-1","v":-0.48134991119005333}]
[null,"2024-12-17","15:35:00",10402,1832,6679,1246,-3723,325.35000000000002,-0.31759446823722381,6.3532423208191124,null,"2024-12-17","15:45:00",9590,1307,7607,1096,-1983,325.35000000000002,-0.39672049436219314,9.3981042654028428,325.35000000000002,null,{"$f":"IF(H293>S293,\"하락\",\"상승\")","v":"상승"},329.2,{"$f":"IF(AND(Y292=\"상승\",Z293>W292),\"성공\",IF(AND(Y292=\"하락\",Z293<W292),\"성공\",IF(AND(Y292=\"상승\",Z293=W292),\"동일가\",IF(AND(Y292=\"하락\",Z293=W292),\"동일가\",\"실패\"))))","v":"성공"},{"$f":"S293/H293-1","v":-0.46736502820306203}]
[null,"2024-12-18","15:35:00",6018,1021,10826,1992,4808,329.5,-0.45948239579276962,4.9515962924819776,null,"2024-12-18","15:45:00",8702,1102,10284,1460,1582,329.55,-0.85271610769957462,4.4189944134078214,329.55,null,{"$f":"IF(H294>S294,\"하락\",\"상승\")","v":"하락"},325.05,{"$f":"IF(AND(Y293=\"상승\",Z294>W293),\"성공\",IF(AND(Y293=\"하락\",Z294<W293),\"성공\",IF(AND(Y293=\"상승\",Z294=W293),\"동일가\",IF(AND(Y293=\"하락\",Z294=W293),\"동일가\",\"실패\"))))","v":"실패"},{"$f":"S294/H294-1","v":-0.67096505823627295}]
[null,"2024-12-19","15:35:00",13158,2270,9880,1565,-3278,321.39999999999998,0.51662327060843616,4.6496453900709218,null,"2024-12-19","15:45:00",12838,1376,12983,1468,145,321.60000000000002,-0.4859364108738351,1.576086956521739,321.60000000000002,null,{"$f":"IF(H295>S295,\"하락\",\"상승\")","v":"상승"},321.89999999999998,{"$f":"IF(AND(Y294=\"상승\",Z295>W294),\"성공\",IF(AND(Y294=\"하락\",Z295<W294),\"성공\",IF(AND(Y294=\"상승\",Z295=W294),\"동일가\",IF(AND(Y294=\"하락\",Z295=W294),\"동일가\",\"실패\"))))","v":"성공"},{"$f":"S295/H295-1","v":-1.0442342892007321}]
[null,"2024-12-20","15:35:00",8261,1276,7055,1396,-1206,318.10000000000002,-1.4204130026677211,-10.050000000000001,null,"2024-12-20","15:45:00",9618,1159,10074,1640,456,318.10000000000002,-2.1558502914623627,0.94802494802494808,318.10000000000002,null,{"$f":"IF(H296>S296,\"하락\",\"상승\")","v":"상승"},320.35000000000002,{"$f":"IF(AND(Y295=\"상승\",Z296>W295),\"성공\",IF(AND(Y295=\"하락\",Z296<W295),\"성공\",IF(AND(Y295=\"상승\",Z296=W295),\"동일가\",IF(AND(Y295=\"하락\",Z296=W295),\"동일가\",\"실패\"))))","v":"실패"},{"$f":"S296/H296-1","v":-1.3781094527363185}]
[null,"2024-12-23","15:35:00",8456,1396,10427,1737,1971,322.5,-5.4428064063291259E-2,5.7800586510263932,null,"2024-12-23","15:45:00",10860,1275,12397,1372,1537,322.60000000000002,0.51806722689075713,15.845360824742269,322.60000000000002,null,{"$f":"IF(H297>S297,\"하락\",\"상승\")","v":"하락"},320.39999999999998,{"$f":"IF(AND(Y296=\"상승\",Z297>W296),\"성공\",IF(AND(Y296=\"하락\",Z297<W296),\"성공\",IF(AND(Y296=\"상승\",Z297=W296),\"동일가\",IF(AND(Y296=\"하락\",Z297=W296),\"동일가\",\"실패\"))))","v":"성공"},{"$f":"S297/H297-1","v":-0.22019279553526128}]
[null,"2024-12-24","15:35:00",9218,1423,9986,1682,768,323.10000000000002,-0.54088388233731077,2.9652509652509651,null,"2024-12-24","15:45:00",8144,1087,8126,1249,-18,323.14999999999998,-0.98617550894441397,-0.1111111111111111,323.14999999999998,null,{"$f":"IF(H298>S298,\"하락\",\"상승\")","v":"하락"},322.60000000000002,{"$f":"IF(AND(Y297=\"상승\",Z298>W297),\"성공\",IF(AND(Y297=\"하락\",Z298<W297),\"성공\",IF(AND(Y297=\"상승\",Z298=W297),\"동일가\",IF(AND(Y297=\"하락\",Z298=W297),\"동일가\",\"실패\"))))","v":"동일가"},{"$f":"S298/H298-1","v":-1.0234375}]
[null,"2024-12-26","15:35:00",11034,2051,6992,957,-4042,320.89999999999998,1.926350374743925,3.6946983546617918,null,"2024-12-26","15:45:00",9456,1618,6753,857,-2703,321.10000000000002,2.0355611390526356,3.5519053876478317,321.10000000000002,null,{"$f":"IF(H299>S299,\"하락\",\"상승\")","v":"상승"},324.8,{"$f":"IF(AND(Y298=\"상승\",Z299>W298),\"성공\",IF(AND(Y298=\"하락\",Z299<W298),\"성공\",IF(AND(Y298=\"상승\",Z299=W298),\"동일가\",IF(AND(Y298=\"하락\",Z299=W298),\"동일가\",\"실패\"))))","v":"실패"},{"$f":"S299/H299-1","v":-0.33127164769915884}]
[null,"2024-12-27","15:35:00",10816,1808,7794,1354,-3022,319.64999999999998,-0.22602318923935716,6.6563876651982383,null,"2024-12-27","15:45:00",9691,1386,7556,1200,-2135,319.55,-0.69539682539682524,11.478494623655914,319.55,null,{"$f":"IF(H300>S300,\"하락\",\"상승\")","v":"상승"},321.25,{"$f":"IF(AND(Y299=\"상승\",Z300>W299),\"성공\",IF(AND(Y299=\"하락\",Z300<W299),\"성공\",IF(AND(Y299=\"상승\",Z300=W299),\"동일가\",IF(AND(Y299=\"하락\",Z300=W299),\"동일가\",\"실패\"))))","v":"성공"},{"$f":"S300/H300-1","v":-0.29351422898742552}]
[null,"2024-12-30","15:35:00",6309,1463,4913,780,-1396,318.85000000000002,1.9863461100303201,2.0439238653001466,null,"2024-12-30","15:45:00",5484,1069,5392,812,-92,318.89999999999998,1.5103660250591,0.35797665369649806,318.89999999999998,null,{"$f":"IF(H301>S301,\"하락\",\"상승\")","v":"상승"},319.5,{"$f":"IF(AND(Y300=\"상승\",Z301>W300),\"성공\",IF(AND(Y300=\"하락\",Z301<W300),\"성공\",IF(AND(Y300=\"상승\",Z301=W300),\"동일가\",IF(AND(Y300=\"하락\",Z301=W300),\"동일가\",\"실패\"))))","v":"실패"},{"$f":"S301/H301-1","v":-0.93409742120343842}]
[null,"2025-01-02","15:35:00",6381,1171,5802,1286,-579,317.60000000000002,-0.93752465293318465,-5.034782608695652,null,"2025-01-02","15:45:00",4838,892,5073,1127,235,317.60000000000002,-0.92243584897402098,1,317.60000000000002,null,{"$f":"IF(H302>S302,\"하락\",\"상승\")","v":"상승"},317.7,{"$f":"IF(AND(Y301=\"상승\",Z302>W301),\"성공\",IF(AND(Y301=\"하락\",Z302<W301),\"성공\",IF(AND(Y301=\"상승\",Z302=W301),\"동일가\",IF(AND(Y301=\"하락\",Z302=W301),\"동일가\",\"실패\"))))","v":"실패"},{"$f":"S302/H302-1","v":-1.4058721934369602}]
[null,"2025-01-03","15:35:00",6234,997,11160,1920,4926,324.7,-0.44025827482447344,5.3369447453954493,null,"2025-01-03","15:45:00",10413,1093,13301,1422,2888,324.95,-0.17326279108969977,8.7781155015197569,324.95,null,{"$f":"IF(H303>S303,\"하락\",\"상승\")","v":"하락"},316.39999999999998,{"$f":"IF(AND(Y302=\"상승\",Z303>W302),\"성공\",IF(AND(Y302=\"하락\",Z303<W302),\"성공\",IF(AND(Y302=\"상승\",Z303=W302),\"동일가\",IF(AND(Y302=\"하락\",Z303=W302),\"동일가\",\"실패\"))))","v":"실패"},{"$f":"S303/H303-1","v":-0.41372310190824202}]
[null,"2025-01-06","15:35:00",6608,1115,9272,1904,2664,330.9,-1.0567094999434756,3.376425855513308,null,"2025-01-06","15:45:00",11248,1322,11417,1638,169,330.8,-1.5382352560869954,0.53481012658227844,330.8,null,{"$f":"IF(H304>S304,\"하락\",\"상승\")","v":"하락"},325.14999999999998,{"$f":"IF(AND(Y303=\"상승\",Z304>W303),\"성공\",IF(AND(Y303=\"하락\",Z304<W303),\"성공\",IF(AND(Y303=\"상승\",Z304=W303),\"동일가\",IF(AND(Y303=\"하락\",Z304=W303),\"동일가\",\"실패\"))))","v":"실패"},{"$f":"S304/H304-1","v":-0.93656156156156156}]
[null,"2025-01-07","15:35:00",10684,1853,6781,1131,-3903,331.7,0.22979392034233204,5.405817174515235,null,"2025-01-07","15:45:00",10878,1372,8199,1021,-2679,331.55,0.10179096124247877,7.6324786324786329,331.55,null,{"$f":"IF(H305>S305,\"하락\",\"상승\")","v":"상승"},334.5,{"$f":"IF(AND(Y304=\"상승\",Z305>W304),\"성공\",IF(AND(Y304=\"하락\",Z305<W304),\"성공\",IF(AND(Y304=\"상승\",Z305=W304),\"동일가\",IF(AND(Y304=\"하락\",Z305=W304),\"동일가\",\"실패\"))))","v":"실패"},{"$f":"S305/H305-1","v":-0.31360491929285161}]
[null,"2025-01-08","15:35:00",8338,1517,10515,1916,2177,334.35,-8.3785985690356668E-3,5.4561403508771926,null,"2025-01-08","15:45:00",8841,1430,9014,1567,173,334.25,-0.43012437466808873,1.2627737226277371,334.25,null,{"$f":"IF(H306>S306,\"하락\",\"상승\")","v":"하락"},329.2,{"$f":"IF(AND(Y305=\"상승\",Z306>W305),\"성공\",IF(AND(Y305=\"하락\",Z306<W305),\"성공\",IF(AND(Y305=\"상승\",Z306=W305),\"동일가\",IF(AND(Y305=\"하락\",Z306=W305),\"동일가\",\"실패\"))))","v":"실패"},{"$f":"S306/H306-1","v":-0.92053284336242536}]
[null,"2025-01-09","15:35:00",9019,1732,8621,1262,-398,333.9,1.6239454584716517,0.84680851063829787,null,"2025-01-09","15:45:00",10416,1564,9048,1055,-1368,334,1.9164567702209681,2.68762278978389,334,null,{"$f":"IF(H307>S307,\"하락\",\"상승\")","v":"하락"},332.6,{"$f":"IF(AND(Y306=\"상승\",Z307>W306),\"성공\",IF(AND(Y306=\"하락\",Z307<W306),\"성공\",IF(AND(Y306=\"상승\",Z307=W306),\"동일가\",IF(AND(Y306=\"하락\",Z307=W306),\"동일가\",\"실패\"))))","v":"성공"},{"$f":"S307/H307-1","v":2.437185929648241}]
[null,"2025-01-10","15:35:00",8918,1481,9769,1662,851,334.35,-0.1437490198755027,4.7016574585635356,null,"2025-01-10","15:45:00",8687,1336,9201,1347,514,334.4,0.32848945761039161,46.727272727272727,334.4,null,{"$f":"IF(H308>S308,\"하락\",\"상승\")","v":"하락"},333.9,{"$f":"IF(AND(Y307=\"상승\",Z308>W307),\"성공\",IF(AND(Y307=\"하락\",Z308<W307),\"성공\",IF(AND(Y307=\"상승\",Z308=W307),\"동일가\",IF(AND(Y307=\"하락\",Z308=W307),\"동일가\",\"실패\"))))","v":"성공"},{"$f":"S308/H308-1","v":-0.39600470035252644}]
[null,"2025-01-13","15:35:00",11752,2016,10127,1615,-1625,329.7,0.44122315592903849,4.0523690773067331,null,"2025-01-13","15:45:00",9868,1296,9427,1349,-441,329.45,-0.62605816837346406,-8.3207547169811313,329.45,null,{"$f":"IF(H309>S309,\"하락\",\"상승\")","v":"상승"},331.95,{"$f":"IF(AND(Y308=\"상승\",Z309>W308),\"성공\",IF(AND(Y308=\"하락\",Z309<W308),\"성공\",IF(AND(Y308=\"상승\",Z309=W308),\"동일가\",IF(AND(Y308=\"하락\",Z309=W308),\"동일가\",\"실패\"))))","v":"성공"},{"$f":"S309/H309-1","v":-0.72861538461538466}]
[null,"2025-01-14","15:35:00",8439,1344,10519,1956,2080,330.85,-0.90120599620216169,3.3986928104575163,null,"2025-01-14","15:45:00",8638,1116,9251,1438,613,330.95,-1.3069027572145702,1.9037267080745341,330.95,null,{"$f":"IF(H310>S310,\"하락\",\"상승\")","v":"하락"},331.25,{"$f":"IF(AND(Y309=\"상승\",Z310>W309),\"성공\",IF(AND(Y309=\"하락\",Z310<W309),\"성공\",IF(AND(Y309=\"상승\",Z310=W309),\"동일가\",IF(AND(Y309=\"하락\",Z310=W309),\"동일가\",\"실패\"))))","v":"성공"},{"$f":"S310/H310-1","v":-0.70528846153846159}]
[null,"2025-01-15","15:35:00",9530,2096,8236,1403,-1294,330.1,1.3235222505753752,1.8672438672438672,null,"2025-01-15","15:45:00",8116,1511,7149,1118,-967,330.25,1.0231770830250202,2.4605597964376589,330.25,null,{"$f":"IF(H311>S311,\"하락\",\"상승\")","v":"상승"},331.8,{"$f":"IF(AND(Y310=\"상승\",Z311>W310),\"성공\",IF(AND(Y310=\"하락\",Z311<W310),\"성공\",IF(AND(Y310=\"상승\",Z311=W310),\"동일가\",IF(AND(Y310=\"하락\",Z311=W310),\"동일가\",\"실패\"))))","v":"실패"},{"$f":"S311/H311-1","v":-0.25270479134466772}]
[null,"2025-01-16","15:35:00",7893,1178,8654,1414,761,335.3,-0.5801132502287345,3.2245762711864407,null,"2025-01-16","15:45:00",10043,1365,10485,1234,442,335.45,1.1392493514049429,-3.3740458015267176,335.45,null,{"$f":"IF(H312>S312,\"하락\",\"상승\")","v":"하락"},334.85,{"$f":"IF(AND(Y311=\"상승\",Z312>W311),\"성공\",IF(AND(Y311=\"하락\",Z312<W311),\"성공\",IF(AND(Y311=\"상승\",Z312=W311),\"동일가\",IF(AND(Y311=\"하락\",Z312=W311),\"동일가\",\"실패\"))))","v":"성공"},{"$f":"S312/H312-1","v":-0.41918528252299603}]
[null,"2025-01-17","15:35:00",9221,1370,9971,1828,750,334.45,-1.276061748310946,1.6375545851528384,null,"2025-01-17","15:45:00",8108,1025,9094,1511,986,334.35,-1.8917131281173827,2.0288065843621399,334.35,null,{"$f":"IF(H313>S313,\"하락\",\"상승\")","v":"상승"},335.1,{"$f":"IF(AND(Y312=\"상승\",Z313>W312),\"성공\",IF(AND(Y312=\"하락\",Z313<W312),\"성공\",IF(AND(Y312=\"상승\",Z313=W312),\"동일가\",IF(AND(Y312=\"하락\",Z313=W312),\"동일가\",\"실패\"))))","v":"성공"},{"$f":"S313/H313-1","v":0.31466666666666665}]
[null,"2025-01-20","15:35:00",11362,1899,7565,1160,-3797,333.7,0.53840269833487664,5.1380243572395132,null,"2025-01-20","15:45:00",9973,1495,7613,1022,-2360,333.95,0.77821636374346248,4.9894291754756868,333.95,null,{"$f":"IF(H314>S314,\"하락\",\"상승\")","v":"상승"},335.75,{"$f":"IF(AND(Y313=\"상승\",Z314>W313),\"성공\",IF(AND(Y313=\"하락\",Z314<W313),\"성공\",IF(AND(Y313=\"상승\",Z314=W313),\"동일가\",IF(AND(Y313=\"하락\",Z314=W313),\"동일가\",\"실패\"))))","v":"성공"},{"$f":"S314/H314-1","v":-0.37845667632341318}]
[null,"2025-01-21","15:35:00",10948,1961,9036,1560,-1912,334.2,0.20944180755501485,4.7680798004987528,null,"2025-01-21","15:45:00",8784,1509,7680,1266,-1104,334.05,0.24527715225236246,4.5432098765432096,334.05,null,{"$f":"IF(H315>S315,\"하락\",\"상승\")","v":"상승"},335.85,{"$f":"IF(AND(Y314=\"상승\",Z315>W314),\"성공\",IF(AND(Y314=\"하락\",Z315<W314),\"성공\",IF(AND(Y314=\"상승\",Z315=W314),\"동일가\",IF(AND(Y314=\"하락\",Z315=W314),\"동일가\",\"실패\"))))","v":"성공"},{"$f":"S315/H315-1","v":-0.42259414225941427}]
[null,"2025-01-22","15:35:00",6025,974,9965,1870,3940,338.1,-0.85695461682899765,4.3973214285714288,null,"2025-01-22","15:45:00",8801,1085,11414,1736,2613,338,-1.5366359447004605,4.0138248847926263,338,null,{"$f":"IF(H316>S316,\"하락\",\"상승\")","v":"하락"},336.5,{"$f":"IF(AND(Y315=\"상승\",Z316>W315),\"성공\",IF(AND(Y315=\"하락\",Z316<W315),\"성공\",IF(AND(Y315=\"상승\",Z316=W315),\"동일가\",IF(AND(Y315=\"하락\",Z316=W315),\"동일가\",\"실패\"))))","v":"성공"},{"$f":"S316/H316-1","v":-0.33680203045685275}]
[null,"2025-01-23","15:35:00",12775,2399,7518,1141,-5257,334,1.2638215821009267,4.1788553259141494,null,"2025-01-23","15:45:00",11981,1844,9201,1196,-2780,334,1.1958553094552338,4.2901234567901234,334,null,{"$f":"IF(H317>S317,\"하락\",\"상승\")","v":"상승"},337.8,{"$f":"IF(AND(Y316=\"상승\",Z317>W316),\"성공\",IF(AND(Y316=\"하락\",Z317<W316),\"성공\",IF(AND(Y316=\"상승\",Z317=W316),\"동일가\",IF(AND(Y316=\"하락\",Z317=W316),\"동일가\",\"실패\"))))","v":"성공"},{"$f":"S317/H317-1","v":-0.47118128210005705}]
[null,"2025-01-24","15:35:00",4563,903,6105,1257,1542,336.1,-0.19635423687152631,4.3559322033898304,null,"2025-01-24","15:45:00",9649,1039,10270,1306,621,335.85,-1.4231082720309161,2.3258426966292136,335.85,null,{"$f":"IF(H318>S318,\"하락\",\"상승\")","v":"하락"},335.6,{"$f":"IF(AND(Y317=\"상승\",Z318>W317),\"성공\",IF(AND(Y317=\"하락\",Z318<W317),\"성공\",IF(AND(Y317=\"상승\",Z318=W317),\"동일가\",IF(AND(Y317=\"하락\",Z318=W317),\"동일가\",\"실패\"))))","v":"성공"},{"$f":"S318/H318-1","v":-0.59727626459143968}]
[null,"2025-01-31","15:35:00",11343,1579,10394,1977,-949,332.35,-1.9261997454578186,-2.3844221105527637,null,"2025-01-31","15:45:00",10354,1032,10879,1526,525,332.5,-2.9038500614668736,1.0627530364372471,332.5,null,{"$f":"IF(H319>S319,\"하락\",\"상승\")","v":"상승"},333,{"$f":"IF(AND(Y318=\"상승\",Z319>W318),\"성공\",IF(AND(Y318=\"하락\",Z319<W318),\"성공\",IF(AND(Y318=\"상승\",Z319=W318),\"동일가\",IF(AND(Y318=\"하락\",Z319=W318),\"동일가\",\"실패\"))))","v":"성공"},{"$f":"S319/H319-1","v":-1.5532139093782931}]
[null,"2025-02-03","15:35:00",12284,1882,6189,1420,-6095,323.10000000000002,-2.1686481268054658,13.192640692640692,null,"2025-02-03","15:45:00",12294,1376,11056,1487,-1238,323.2,-1.4994887865375901,-11.153153153153154,323.2,null,{"$f":"IF(H320>S320,\"하락\",\"상승\")","v":"상승"},326.5,{"$f":"IF(AND(Y319=\"상승\",Z320>W319),\"성공\",IF(AND(Y319=\"하락\",Z320<W319),\"성공\",IF(AND(Y319=\"상승\",Z320=W319),\"동일가\",IF(AND(Y319=\"하락\",Z320=W319),\"동일가\",\"실패\"))))","v":"실패"},{"$f":"S320/H320-1","v":-0.79688269073010665}]
[null,"2025-02-04","15:35:00",10263,1907,9478,1515,-785,327.55,0.87435416850547121,2.0025510204081631,null,"2025-02-04","15:45:00",13038,1458,12167,1184,-871,327.60000000000002,1.3337956011567123,3.1788321167883211,327.60000000000002,null,{"$f":"IF(H321>S321,\"하락\",\"상승\")","v":"하락"},328.7,{"$f":"IF(AND(Y320=\"상승\",Z321>W320),\"성공\",IF(AND(Y320=\"하락\",Z321<W320),\"성공\",IF(AND(Y320=\"상승\",Z321=W320),\"동일가\",IF(AND(Y320=\"하락\",Z321=W320),\"동일가\",\"실패\"))))","v":"성공"},{"$f":"S321/H321-1","v":0.10955414012738851}]
[null,"2025-02-05","15:35:00",7910,1455,9627,1701,1717,331.3,0.22318587610683771,6.9796747967479673,null,"2025-02-05","15:45:00",9901,1407,10426,1550,525,331.2,-0.31050645390558707,3.6713286713286712,331.2,null,{"$f":"IF(H322>S322,\"하락\",\"상승\")","v":"하락"},330.05,{"$f":"IF(AND(Y321=\"상승\",Z322>W321),\"성공\",IF(AND(Y321=\"하락\",Z322<W321),\"성공\",IF(AND(Y321=\"상승\",Z322=W321),\"동일가\",IF(AND(Y321=\"하락\",Z322=W321),\"동일가\",\"실패\"))))","v":"실패"},{"$f":"S322/H322-1","v":-0.6942341292952825}]
[null,{"$f":"'1. 매수매도 총잔량'!$A$3","v":"2025-02-05"},{"$f":"'1. 매수매도 총잔량'!$A$424","v":"15:35:00"},{"$f":"'1. 매수매도 총잔량'!$B$424","v":7910},{"$f":"'1. 매수매도 총잔량'!$C$424","v":1455},{"$f":"'1. 매수매도 총잔량'!$D$424","v":9627},{"$f":"'1. 매수매도 총잔량'!$E$424","v":1701},{"$f":"'1. 매수매도 총잔량'!$F$424","v":1717},{"$f":"'1. 매수매도 총잔량'!$G$425","v":331.3},{"$f":"'1. 매수매도 총잔량'!$H$424","v":0.22318587610683771},{"$f":"'1. 매수매도 총잔량'!$I$424","v":6.9796747967479673},null,{"$f":"'1. 매수매도 총잔량'!$A$3","v":"2025-02-05"},{"$f":"'1. 매수매도 총잔량'!$A$434","v":"15:45:00"},{"$f":"'1. 매수매도 총잔량'!$B$434","v":9901},{"$f":"'1. 매수매도 총잔량'!$C$434","v":1407},{"$f":"'1. 매수매도 총잔량'!$D$434","v":10426},{"$f":"'1. 매수매도 총잔량'!$E$434","v":1550},{"$f":"'1. 매수매도 총잔량'!$F$434","v":525},{"$f":"'1. 매수매도 총잔량'!$G$435","v":331.2},{"$f":"'1. 매수매도 총잔량'!$H$434","v":-0.31050645390558707},{"$f":"'1. 매수매도 총잔량'!$I$434","v":3.6713286713286712},{"$f":"T323","v":331.2},null,{"$f":"IF(H323>S323,\"하락\",\"상승\")","v":"하락"},{"$f":"[1]!'101W3000.029'","v":{"$error":"#REF!"}},{"$f":"IF(AND(Y322=\"상승\",Z323>W322),\"성공\",IF(AND(Y322=\"하락\",Z323<W322),\"성공\",IF(AND(Y322=\"상승\",Z323=W322),\"동일가\",IF(AND(Y322=\"하락\",Z323=W322),\"동일가\",\"실패\"))))","v":{"$error":"#REF!"}},{"$f":"S323/H323-1","v":-0.6942341292952825}]
[null,{"$f":"'1. 매수매도 총잔량'!$A$3","v":"2025-02-05"},{"$f":"'1. 매수매도 총잔량'!$A$424","v":"15:35:00"},{"$f":"'1. 매수매도 총잔량'!$B$424","v":7910},{"$f":"'1. 매수매도 총잔량'!$C$424","v":1455},{"$f":"'1. 매수매도 총잔량'!$D$424","v":9627},{"$f":"'1. 매수매도 총잔량'!$E$424","v":1701},{"$f":"'1. 매수매도 총잔량'!$F$424","v":1717},{"$f":"'1. 매수매도 총잔량'!$G$425","v":331.3},{"$f":"'1. 매수매도 총잔량'!$H$424","v":0.22318587610683771},{"$f":"'1. 매수매도 총잔량'!$I$424","v":6.9796747967479673},null,{"$f":"'1. 매수매도 총잔량'!$A$3","v":"2025-02-05"},{"$f":"'1. 매수매도 총잔량'!$A$434","v":"15:45:00"},{"$f":"'1. 매수매도 총잔량'!$B$434","v":9901},{"$f":"'1. 매수매도 총잔량'!$C$434","v":1407},{"$f":"'1. 매수매도 총잔량'!$D$434","v":10426},{"$f":"'1. 매수매도 총잔량'!$E$434","v":1550},{"$f":"'1. 매수매도 총잔량'!$F$434","v":525},{"$f":"'1. 매수매도 총잔량'!$G$435","v":331.2},{"$f":"'1. 매수매도 총잔량'!$H$434","v":-0.31050645390558707},{"$f":"'1. 매수매도 총잔량'!$I$434","v":3.6713286713286712},{"$f":"T324","v":331.2},null,{"$f":"IF(H324>S324,\"하락\",\"상승\")","v":"하락"},{"$f":"[1]!'101W3000.029'","v":{"$error":"#REF!"}},{"$f":"IF(AND(Y323=\"상승\",Z324>W323),\"성공\",IF(AND(Y323=\"하락\",Z324<W323),\"성공\",IF(AND(Y323=\"상승\",Z324=W323),\"동일가\",IF(AND(Y323=\"하락\",Z324=W323),\"동일가\",\"실패\"))))","v":{"$error":"#REF!"}},{"$f":"S324/H324-1","v":-0.6942341292952825}]