{"text_format":"1","workbook":"xlsx","n_sheets":2,"sheets":["1. 매수매도 총잔량","2. 순매수에 따른 익일가격"],"not_rendered":{"charts":1,"images":0,"macros":1,"external_links":1,"defined_names":0,"comments":0,"pivot_tables":0},"unopened":[],"bounds":{"document_bytes":16777216,"sheet_cells":100000,"rows_first":2000,"rows_last":500,"rows_between":2000,"halvings":0,"cell_chars":16384,"cell_head_chars":4096},"cells_cut":0,"cells_raw":0,"read":"whole","date_system":"1900"}

{"sheet":"1. 매수매도 총잔량","index":0,"n_rows":435,"n_cols":12,"rows_kept":435,"cut":false,"hidden":false,"merged":[[4,0,5,0],[4,8,5,8],[5,5,5,6]]}
[]
[]
["2024-11-19"]
["시간","매도총잔량","매도건수","매수총잔량","매수건수","순매수총잔량","선물지수","순매수건수","평균계약수"]
[45615.656944444447,3186,659,4150,950,964,329.4,291,3.3127147766323026]
[null,"건수당 계약수",4.8345978755690444,"건수당 계약수",4.3684210526315788,"건수당 계약수",null,-0.46617682293746565]
[]
["시간","매도총잔량","매도건수","매수총잔량","매수건수","순매수총잔량","선물지수","순매수건수","평균계약수"]
["08:40:00",9672,1111,9704,1068,32,327.64999999999998,{"$f":"(D9/E9)-(B9/C9)","v":0.38047175504067354},{"$f":"(D9-B9)/(E9-C9)","v":-0.7441860465116279}]
["08:41:00",9735,1126,9642,1082,-93,327.64999999999998,{"$f":"(D10/E10)-(B10/C10)","v":0.26562710328547645},{"$f":"(D10-B10)/(E10-C10)","v":2.1136363636363638}]
["08:42:00",9894,1148,9676,1110,-218,327.64999999999998,{"$f":"(D11/E11)-(B11/C11)","v":9.8650218162413594E-2},5.7368421052631575]
["08:43:00",9919,1170,9716,1128,-203,327.64999999999998,0.13569739952718685,4.833333333333333]
["08:44:00",9764,1180,7894,980,-1870,327.64999999999998,-0.21947423037011404,9.35]
["08:45:00",10255,1306,8441,1146,-1814,327.64999999999998,-0.48660097442599515,11.3375]
["08:46:00",10555,1421,9092,1293,-1463,328.15,-0.39615849540072023,11.4296875]
["08:47:00",10470,1445,9376,1463,-1094,328.35,-0.83692559489317908,-60.777777777777779]
["08:48:00",10612,1532,9317,1432,-1295,328.25,-0.42060803419052739,12.95]
["08:49:00",10802,1632,9279,1429,-1523,328.1,-0.12552055461792833,7.5024630541871922]
["08:50:00",10980,1667,9001,1376,-1979,327.8,-4.5258244862655062E-2,6.8006872852233675]
["08:51:00",10860,1629,9345,1522,-1515,328.05,-0.52671922908453794,{"$f":"(D20-B20)/(E20-C20)","v":14.158878504672897}]
["08:52:00",10972,1697,9439,1579,-1533,328.05,-0.48769332909881236,12.991525423728813]
["08:53:00",10803,1671,9505,1623,-1298,328.15,-0.60855232956236094,{"$f":"(D22-B22)/(E22-C22)","v":27.041666666666668}]
["08:54:00",10997,1782,9248,1484,-1749,327.9,6.0649925429800078E-2,5.8691275167785237]
["08:55:00",11113,1776,9191,1460,-1922,327.75,3.7885659632235225E-2,{"$f":"(D24-B24)/(E24-C24)","v":6.0822784810126587}]
["08:56:00",11463,1864,9018,1402,-2445,327.60000000000002,0.28256154604397121,5.2922077922077921]
["08:57:00",11593,1894,8910,1372,-2683,327.45,0.37326096527010222,5.1398467432950188]
["08:58:00",11638,1912,8852,1357,-2786,327.3,0.43639288610428473,5.0198198198198201]
["08:59:00",11805,1981,8746,1334,-3059,327.14999999999998,0.59711032923719909,{"$f":"(D28-B28)/(E28-C28)","v":4.7279752704791349}]
["09:00:00",11683,1890,8891,1348,-2792,327.3,0.41421584789537302,{"$f":"(D29-B29)/(E29-C29)","v":5.1512915129151295}]
["09:01:00",11098,1730,9378,1548,-1720,328,-0.35688936685038275,9.4505494505494507]
["09:02:00",11402,1847,9264,1537,-2138,327.64999999999998,-0.14592796562256627,6.8967741935483868]
["09:03:00",10980,1673,9726,1691,-1254,328.3,-0.81143411393888343,-69.666666666666671]
["09:04:00",11355,1837,9310,1518,-2045,327.85,-4.8203987282351868E-2,6.4106583072100314]
["09:05:00",11244,1750,9567,1684,-1677,328,-0.74402646759416324,25.40909090909091]
["09:06:00",10641,1556,10162,1766,-479,328.6,-1.0844420603982101,-2.2809523809523808]
["09:07:00",10679,1620,10131,1806,-548,328.65,-0.98234075714695912,-2.946236559139785]
["09:08:00",10866,1707,9841,1673,-1025,328.3,-0.48330614315863318,30.147058823529413]
["09:09:00",10845,1732,9941,1702,-904,328.4,-0.42077178594399189,30.133333333333333]
["09:10:00",10886,1751,10021,1740,-865,328.4,-0.45782344407465025,78.63636363636364]
["09:11:00",10914,1729,9860,1711,-1054,328.2,-0.5496073952809013,58.555555555555557]
["09:12:00",11012,1805,9830,1686,-1182,328.25,-0.27046329064842212,9.9327731092436977]
["09:13:00",10803,1710,10101,1832,-702,328.5,-0.80389757143951623,-5.7540983606557381]
["09:14:00",10900,1760,10018,1773,-882,328.45,-0.54287160949597535,-67.84615384615384]
["09:15:00",10474,1587,10548,1954,74,328.9,-1.2017163506716226,0.20163487738419619]
["09:16:00",10356,1561,10683,1980,327,329.1,-1.2387542950323223,0.78042959427207637]
["09:17:00",9972,1425,10978,2107,1006,329.4,-1.7876431943646489,1.4750733137829912]
["09:18:00",10285,1582,10856,1997,571,329.3,-1.0651099911561399,1.3759036144578314]
["09:19:00",10159,1538,11001,2075,842,329.45,-1.3036448524918924,1.5679702048417132]
["09:20:00",10395,1476,11344,2153,949,329.7,-1.7737558483341456,1.4017725258493352]
["09:21:00",10349,1570,11301,2139,952,329.65,-1.3084097872986664,1.6731107205623901]
["09:22:00",10969,1836,10618,1860,-351,329.1,-0.26579872092206003,{"$f":"(D51-B51)/(E51-C51)","v":-14.625}]
["09:23:00",11252,1911,10138,1721,-1114,328.65,2.7444401977483324E-3,5.8631578947368421]
["09:24:00",11025,1807,10523,1888,-502,328.8,-0.52764994653560038,-6.1975308641975309]
["09:25:00",10620,1658,10905,2045,285,329.2,-1.0727892621091781,0.73643410852713176]
["09:26:00",10996,1841,10500,1896,-496,328.95,-0.43486616382125831,-9.0181818181818176]
["09:27:00",11124,1893,10319,1811,-805,328.75,-0.17842975792414872,9.8170731707317067]
["09:28:00",11012,1846,10500,1894,-512,328.9,-0.42150784652680873,-10.666666666666666]
["09:29:00",11219,1928,10284,1784,-935,328.65,-5.4409411458236967E-2,6.4930555555555554]
["09:30:00",11129,1888,10397,1849,-732,328.75,-0.27155797682668581,18.76923076923077]
["09:31:00",10832,1761,10689,1991,-143,329.05,-0.78239157412216453,-0.62173913043478257]
["09:32:00",10731,1704,10841,2061,110,329.15,-1.0374672830774072,0.3081232492997199]
["09:33:00",11021,1863,10581,1918,-440,328.9,-0.39904327564329645,-8]
["09:34:00",10845,1762,10790,1996,-55,329.05,-0.74912594769561824,-0.23504273504273504]
["09:35:00",10651,1671,11056,2119,405,329.3,-1.1564720777418067,0.9040178571428571]
["09:36:00",10775,1751,10998,2090,223,329.25,-0.89142554220554704,0.65781710914454272]
["09:37:00",10615,1684,11154,2143,539,329.35,-1.0985911707232185,1.1742919389978212]
["09:38:00",10793,1766,11220,2048,427,329.2,-0.63303590387882203,1.5141843971631206]
["09:39:00",11041,1897,10927,1980,-114,329.05,-0.30155561945229792,-1.3734939759036144]
["09:40:00",10875,1819,11156,2077,281,329.25,-0.60735117439809727,1.0891472868217054]
["09:41:00",10762,1758,11296,2138,534,329.3,-0.83828676817243775,1.4052631578947368]
["09:42:00",10733,1764,11238,2142,505,329.3,-0.83796852074163031,1.335978835978836]
["09:43:00",11210,1979,10682,1863,-528,328.85,6.9285739665304824E-2,4.5517241379310347]
["09:44:00",11325,2031,10596,1850,-729,328.7,0.15149666653359439,{"$f":"(D73-B73)/(E73-C73)","v":4.027624309392265}]
["09:45:00",11337,2012,10468,1832,-869,328.6,{"$f":"(D74/E74)-(B74/C74)","v":7.9281950220077668E-2},4.8277777777777775]
["09:46:00",11369,2046,10468,1823,-901,328.5,0.18548722230176029,4.0403587443946192]
["09:47:00",11579,2106,10230,1733,-1349,328.3,0.40495761567121402,{"$f":"(D76-B76)/(E76-C76)","v":3.6166219839142091}]
["09:48:00",11293,1964,10639,1884,-654,328.45,-0.10297239915074297,8.1750000000000007]
["09:49:00",11330,1993,10522,1865,-808,328.5,-4.3074083689696785E-2,6.3125]
["09:50:00",11518,2067,10366,1830,-1152,328.35,9.215383029178259E-2,4.8607594936708862]
["09:51:00",11242,1950,10622,1955,-620,328.55,-0.33188012328677274,-124]
["09:52:00",11099,1910,10791,2018,-308,328.7,-0.46362112713328774,-2.8518518518518516]
["09:53:00",11424,2049,10399,1874,-1025,328.45,-2.6309785912173922E-2,5.8571428571428568]
["09:54:00",11091,1874,10788,2040,-303,328.75,-0.63012116265930107,-1.8253012048192772]
["09:55:00",11152,1925,10716,2012,-436,328.75,-0.46720301567220002,-5.0114942528735629]
["09:56:00",11350,2009,10500,1900,-850,328.55,-0.12326111445862065,7.7981651376146788]
["09:57:00",11470,2066,10457,1860,-1013,328.45,7.0252110462272199E-2,4.9174757281553401]
["09:58:00",11451,2049,10423,1870,-1028,328.5,-1.4783003578111575E-2,{"$f":"(D87-B87)/(E87-C87)","v":5.7430167597765367}]
["09:59:00",11420,2028,10529,1937,-891,328.55,-0.19543835960975819,9.791208791208792]
["10:00:00",11463,2045,10485,1931,-978,328.5,-0.17554986901398983,8.5789473684210531]
["10:01:00",11109,1875,10833,2058,-276,328.75,-0.66095160349854254,{"$f":"(D90-B90)/(E90-C90)","v":-1.5081967213114753}]
["10:02:00",10983,1841,10967,2130,-16,328.9,-0.81695317660079603,-5.536332179930796E-2]
["10:03:00",10789,1768,11119,2178,330,329.05,-0.99723323319580004,0.80487804878048785]
["10:04:00",11025,1876,11004,2104,-21,328.9,-0.6468276488281024,-9.2105263157894732E-2]
["10:05:00",10817,1777,11081,2136,264,329,-0.89949157882978259,0.73537604456824512]
["10:06:00",10845,1818,11044,2108,199,329,-0.72625735059274454,0.68620689655172418]
["10:07:00",10548,1669,11346,2234,798,329.25,-1.2411696141069468,1.4123893805309735]
["10:08:00",10521,1664,11392,2253,871,329.3,-1.2663470607565976,{"$f":"(D97-B97)/(E97-C97)","v":1.4787775891341257}]
["10:09:00",10792,1767,11216,2169,424,329.2,-0.93648031648299312,1.0547263681592041]
["10:10:00",10656,1719,11360,2227,704,329.3,-1.097920100057129,1.3858267716535433]
["10:11:00",11023,1887,10898,2002,-125,328.9,-0.39799098622628115,-1.0869565217391304]
["10:12:00",11324,1984,10649,1905,-675,328.65,-0.11763504360342125,8.5443037974683538]
["10:13:00",11105,1881,10798,2003,-307,328.8,-0.51286095842944768,-2.5163934426229506]
["10:14:00",10908,1793,11023,2105,115,328.95,-0.84707910016917243,0.36858974358974361]
["10:15:00",10625,1698,11385,2179,760,329.2,-1.0324878065656167,1.5800415800415801]
["10:16:00",10870,1814,11076,2037,206,329.05,-0.55487429630122787,0.92376681614349776]
["10:17:00",10616,1710,11392,2155,776,329.2,-0.92187622963053428,{"$f":"(D106-B106)/(E106-C106)","v":1.743820224719101}]
["10:18:00",10516,1669,11454,2218,938,329.3,-1.1366670970830199,1.7085610200364298]
["10:19:00",10377,1598,11547,2247,1170,329.5,-1.3548903753189485,1.8027734976887519]
["10:20:00",10676,1732,11396,2166,720,329.35,-0.90266111370562019,1.6589861751152073]
["10:21:00",10841,1784,11296,2126,455,329.25,-0.76352937578306612,1.3304093567251463]
["10:22:00",10954,1854,11218,2076,264,329.1,-0.50464547829719919,1.1891891891891893]
["10:23:00",11264,1945,10742,1896,-522,328.75,-0.12564782575683608,10.653061224489797]
["10:24:00",11386,1937,10517,1869,-869,328.5,-0.251088805119422,12.779411764705882]
["10:25:00",11318,1877,10821,1983,-497,328.65,-0.57295133300072454,-4.6886792452830193]
["10:26:00",11476,1934,10825,1983,-651,328.6,-0.474915269970551,-13.285714285714286]
["10:27:00",11076,1775,11217,2142,141,328.95,-1.0033053221288517,0.38419618528610355]
["10:28:00",11399,1906,10967,2019,-432,328.75,-0.54869063934594031,-3.8230088495575223]
["10:29:00",11568,1977,10812,1941,-756,328.6,-0.28096525811906492,21]
["10:30:00",11520,1959,10856,1984,-664,328.65,-0.40877710813614598,-26.56]
["10:31:00",11415,1907,10987,2023,-428,328.8,-0.55479863064014001,-3.6896551724137931]
["10:32:00",11588,1986,10812,1954,-776,328.6,-0.3015788101150223,24.25]
["10:33:00",11387,1886,10932,2037,-455,328.8,-0.67093005277238582,-3.0132450331125828]
["10:34:00",11294,1835,11084,2114,-210,328.9,-0.91162742737530245,-0.75268817204301075]
["10:35:00",11546,1976,10757,1956,-789,328.65,-0.34362865635064566,39.450000000000003]
["10:36:00",11220,1829,11144,2146,-76,328.9,-0.94158267164055154,-0.23974763406940064]
["10:37:00",11157,1814,11264,2175,107,329,-0.97164556641194277,{"$f":"(D126-B126)/(E126-C126)","v":0.296398891966759}]
["10:38:00",11115,1804,11300,2207,185,329.05,-1.0412357073894087,0.45905707196029777]
["10:39:00",10993,1755,11442,2240,449,329.2,-1.1557819495319492,0.9257731958762887]
["10:40:00",11210,1854,11285,2173,75,329.1,-0.85310501392245985,0.23510971786833856]
["10:41:00",11371,1923,11120,2091,-251,328.95,-0.59512687537630615,{"$f":"(D130-B130)/(E130-C130)","v":-1.4940476190476191}]
["10:42:00",11606,2034,10902,1987,-704,328.75,-0.2193347219067503,{"$f":"(D131-B131)/(E131-C131)","v":14.978723404255319}]
["10:43:00",11459,1974,11069,2071,-390,328.85,-0.46020355397570611,-4.0206185567010309]
["10:44:00",11289,1902,11213,2143,-76,328.95,-0.70294672258442503,-0.31535269709543567]
["10:45:00",11168,1855,11337,2185,169,329.1,-0.83192682279941099,{"$f":"(D134-B134)/(E134-C134)","v":0.51212121212121209}]
["10:46:00",11415,1951,11130,2094,-285,328.9,-0.53565947372517808,{"$f":"(D135-B135)/(E135-C135)","v":-1.9930069930069929}]
["10:47:00",11407,1964,11171,2125,-236,328.95,-0.55110363004672269,{"$f":"(D136-B136)/(E136-C136)","v":-1.4658385093167703}]
["10:48:00",11537,2025,10982,2036,-555,328.8,-0.30337432389822716,{"$f":"(D137-B137)/(E137-C137)","v":-50.454545454545453}]
["10:49:00",11336,1934,11226,2152,-110,329,{"$f":"(D138/E138)-(B138/C138)","v":-0.64488434317611265},-0.50458715596330272]
["10:50:00",11247,1887,11417,2230,170,329.1,-0.84052343031504151,0.49562682215743442]
["10:51:00",11202,1896,11530,2288,328,329.2,-0.86889218376560162,0.83673469387755106]
["10:52:00",11166,1861,11546,2289,380,329.2,-0.95587592835299251,0.88785046728971961]
["10:53:00",11260,1897,11454,2249,194,329.15,-0.84275773711176694,0.55113636363636365]
["10:54:00",10904,1762,11581,2229,677,329.35,-0.99281883784536618,1.4496788008565311]
["10:55:00",10926,1782,11535,2264,609,329.35,-1.0363484670021776,1.2634854771784232]
["10:56:00",10838,1756,11676,2321,838,329.4,-1.1413915139476254,1.4831858407079646]
["10:57:00",10575,1640,11885,2396,1310,329.65,-1.4878201474001385,1.7328042328042328]
["10:58:00",10940,1804,11614,2242,674,329.35,-0.88410529876120325,1.5388127853881279]
["10:59:00",11291,1963,11073,2026,-218,328.95,-0.28646118040612123,-3.4603174603174605]
["11:00:00",11239,1919,11170,2083,-69,329,-0.49423820265645801,-0.42073170731707316]
["11:01:00",11217,1920,11267,2155,50,329,-0.61388123549883922,0.21276595744680851]
["11:02:00",11454,2005,10963,2010,-491,328.7,-0.25848934876738472,-98.2,null,null," "]
["11:03:00",11435,1974,11034,2024,-401,328.75,-0.34122545662786141,-8.02]
["11:04:00",11475,1969,11041,2012,-434,328.65,-0.34025683380670824,-10.093023255813954]
["11:05:00",11249,1879,11375,2176,126,328.95,-0.75921343291174903,0.42424242424242425]
["11:06:00",11169,1825,11442,2216,273,329,-0.95664259927797879,0.69820971867007675]
["11:07:00",11059,1835,11488,2228,429,329.1,-0.87050910140446813,1.0916030534351144]
["11:08:00",11352,1959,11231,2084,-121,328.9,-0.40563779161877989,-0.96799999999999997]
["11:09:00",11353,1961,11221,2096,-132,328.95,-0.4358626324005126,-0.97777777777777775]
["11:10:00",11197,1895,11369,2161,172,329.05,-0.64771684173383104,0.64661654135338342]
["11:11:00",11144,1872,11466,2197,322,329.1,-0.73405654174885004,0.99076923076923074]
["11:12:00",11069,1864,11500,2210,431,329.2,-0.73468481152778065,1.245664739884393]
["11:13:00",11124,1882,11491,2213,367,329.15,-0.71823439217492258,1.1087613293051359]
["11:14:00",10947,1820,11569,2234,622,329.25,-0.8362317628656033,1.5024154589371981]
["11:15:00",10866,1793,11644,2262,778,329.3,-0.91257730352293454,1.6588486140724947]
["11:16:00",10936,1846,11544,2240,608,329.3,-0.77058891812412966,1.5431472081218274]
["11:17:00",11037,1897,11458,2203,421,329.2,-0.61704447211127977,1.3758169934640523]
["11:18:00",10746,1749,11737,2297,991,329.4,-1.0343740175678473,1.8083941605839415]
["11:19:00",11012,1890,11488,2160,476,329.25,-0.50793650793650791,1.7629629629629631]
["11:20:00",10926,1854,11589,2225,663,329.3,-0.68466455765244838,1.7870619946091644]
["11:21:00",10979,1855,11503,2197,524,329.3,-0.68282232448806024,1.5321637426900585]
["11:22:00",10979,1853,11580,2220,601,329.3,-0.7087702921485981,1.6376021798365124]
["11:23:00",11222,1971,11306,2111,84,329.1,-0.33780100418647319,0.6]
["11:24:00",11016,1875,11552,2226,536,329.3,-0.68562228212039589,1.5270655270655271]
["11:25:00",11207,1969,11378,2143,171,329.1,-0.3823423114267408,0.98275862068965514]
["11:26:00",11071,1905,11526,2216,455,329.2,-0.6102850185243085,1.4630225080385852]
["11:27:00",11083,1909,11486,2188,403,329.2,-0.55611445064895193,1.4444444444444444]
["11:28:00",11212,1973,11346,2129,134,329.1,-0.35345411052972775,0.85897435897435892]
["11:29:00",11355,2033,11079,2047,-276,328.95,-0.17303116073790825,-19.714285714285715]
["11:30:00",11356,2025,11143,2090,-213,329,-0.27632228719947971,-3.2769230769230768]
["11:31:00",11147,1932,11280,2134,133,329.1,-0.4838205646139313,0.65841584158415845]
["11:32:00",11210,1965,11272,2135,62,329.05,-0.42520931285791796,0.36470588235294116," "]
["11:33:00",11026,1872,11464,2198,438,329.2,-0.674306673510495,1.343558282208589]
["11:34:00",11038,1874,11434,2215,396,329.2,-0.72799795707447235,1.1612903225806452]
["11:35:00",11321,2021,11185,2081,-136,328.95,-0.22686253730353112,-2.2666666666666666]
["11:36:00",11076,1895,11486,2236,410,329.2,-0.70800336069403969,1.2023460410557185]
["11:37:00",11179,1965,11349,2150,170,329.1,-0.41045387301023695,0.91891891891891897]
["11:38:00",11110,1924,11419,2185,309,329.15,-0.54834131790653551,1.1839080459770115]
["11:39:00",11031,1899,11492,2211,461,329.25,-0.61119863843213906,1.4775641025641026]
["11:40:00",10993,1872,11547,2219,554,329.3,-0.66863370155956847,1.5965417867435159]
["11:41:00",10977,1861,11531,2242,554,329.25,-0.75526596206177743,1.4540682414698163]
["11:42:00",10844,1803,11643,2271,799,329.4,-0.88760402997792465,1.7072649572649572]
["11:43:00",10849,1797,11596,2277,747,329.4,-0.94461857450897124,1.5562499999999999]
["11:44:00",10816,1783,11661,2317,845,329.4,-1.033379558681462,1.5823970037453183]
["11:45:00",10988,1861,11467,2230,479,329.25,-0.76220003228892352,1.2981029810298104]
["11:46:00",10870,1809,11606,2308,736,329.35,-0.98024847838603968,1.4749498997995991]
["11:47:00",10745,1744,11710,2333,965,329.5,-1.141835383429612,1.6383701188455009]
["11:48:00",10654,1703,11804,2370,1150,329.55,-1.2754280730703575,1.7241379310344827]
["11:49:00",10670,1733,11714,2327,1044,329.55,-1.1230039693098233,1.7575757575757576]
["11:50:00",10643,1719,11757,2328,1114,329.55,-1.141132611264041,{"$f":"(D199-B199)/(E199-C199)","v":1.8292282430213465}]
["11:51:00",10378,1644,11968,2407,1590,329.7,-1.3404875479769567,2.0838794233289648]
["11:52:00",10374,1612,11877,2357,1503,329.7,-1.396451202321157,2.0174496644295301]
["11:53:00",10299,1631,11871,2348,1572,329.7,{"$f":"(D202/E202)-(B202/C202)","v":-1.2587387990561911},2.1924686192468621]
["11:54:00",10160,1572,12027,2386,1867,329.85,-1.4224505117852448,2.2936117936117935]
["11:55:00",10313,1650,11887,2326,1574,329.7,-1.13981291852315,2.3284023668639051]
["11:56:00",10268,1634,11935,2341,1667,329.75,-1.1857171165697737,2.3578500707213577]
["11:57:00",10186,1592,12062,2396,1876,329.85,-1.3640174998531895,2.3333333333333335]
["11:58:00",10237,1618,12039,2375,1802,329.8,-1.2578942163814979,2.380449141347424]
["11:59:00",10190,1592,12063,2372,1873,329.85,-1.3151719813231422,2.4012820512820512]
["12:00:00",10385,1685,11832,2298,1447,329.65,-1.0143796825003291,2.3605220228384991]
["12:01:00",10325,1680,11896,2327,1571,329.7,-1.0336717518980088,2.428129829984544]
["12:02:00",10503,1767,11742,2252,1239,329.6,-0.72994086373327427,2.5546391752577318]
["12:03:00",10474,1756,11688,2262,1214,329.7,-0.79758372960006785,2.3992094861660078]
["12:04:00",10486,1748,11639,2239,1153,329.65,-0.80055302148413343,2.3482688391038695]
["12:05:00",10663,1836,11559,2189,896,329.55,-0.52724082882226586,2.5382436260623229]
["12:06:00",10769,1884,11348,2152,579,329.35,-0.44279552324801319,2.16044776119403]
["12:07:00",10523,1771,11596,2251,1073,329.6,-0.79035254047325942,{"$f":"(D216-B216)/(E216-C216)","v":2.2354166666666666}]
["12:08:00",10653,1843,11453,2195,800,329.45,-0.56248193929626034,{"$f":"(D217-B217)/(E217-C217)","v":2.2727272727272729}]
["12:09:00",10807,1910,11328,2136,521,329.35,-0.35474439672921942,2.3053097345132745]
["12:10:00",10628,1809,11565,2260,937,329.55,-0.7578124617815547,2.0776053215077606]
["12:11:00",10601,1807,11635,2298,1034,329.5,-0.80353142671642974,2.1059063136456211]
["12:12:00",10678,1842,11573,2243,895,329.45,-0.63735215797440503,2.2319201995012468]
["12:13:00",10711,1866,11542,2234,831,329.4,-0.57356828743351596,2.2581521739130435]
["12:14:00",10947,1949,11305,2106,358,329.3,-0.24873032509427162,{"$f":"(D223-B223)/(E223-C223)","v":2.2802547770700636}]
["12:15:00",10830,1906,11406,2163,576,329.35,-0.40882504042275425,2.2412451361867705]
["12:16:00",10948,1965,11243,2090,295,329.25,-0.19207543494405677,2.36]
["12:17:00",10804,1881,11427,2152,623,329.35,-0.43380908478247537,2.2988929889298895]
["12:18:00",10778,1881,11461,2176,683,329.4,-0.46292721135503712,2.3152542372881357]
["12:19:00",10780,1884,11482,2183,702,329.4,-0.46213405459869872,2.347826086956522]
["12:20:00",10501,1771,11707,2285,1206,329.65,-0.8060048409396714,2.3463035019455254]
["12:21:00",10674,1820,11547,2201,873,329.5,-0.61858346106415141,2.2913385826771653]
["12:22:00",10764,1864,11392,2137,628,329.4,-0.44384048875223225,2.3003663003663002]
["12:23:00",10670,1840,11521,2192,851,329.45,-0.54298238654395448,2.4176136363636362]
["12:24:00",10617,1829,11568,2211,951,329.5,-0.57278966270095921,2.4895287958115184]
["12:25:00",10562,1809,11627,2235,1065,329.55,-0.63634771704490234,2.5]
["12:26:00",10600,1819,11576,2220,976,329.5,-0.61296326562956605,2.4339152119700747]
["12:27:00",10728,1879,11523,2176,795,329.4,-0.41392358067495216,2.6767676767676769]
["12:28:00",10567,1797,11722,2261,1155,329.55,-0.69592448173364829,{"$f":"(D237-B237)/(E237-C237)","v":2.4892241379310347}]
["12:29:00",10633,1840,11682,2213,1049,329.5,-0.49999729857168163,{"$f":"(D238-B238)/(E238-C238)","v":2.8123324396782841}]
["12:30:00",10514,1777,11765,2263,1251,329.6,-0.71786247954978322,2.574074074074074]
["12:31:00",10316,1659,11946,2337,1630,329.75,-1.1065220940588576,2.4041297935103243]
["12:32:00",10502,1740,11783,2277,1281,329.65,-0.86084079172534889,2.3854748603351954]
["12:33:00",10506,1757,11734,2276,1228,329.65,-0.82397450119181759,2.3660886319845855]
["12:34:00",10479,1740,11799,2296,1320,329.65,-0.883476510873483,2.3741007194244603]
["12:35:00",10552,1767,11785,2298,1233,329.7,-0.84333095435463967,2.3220338983050848]
["12:36:00",10561,1778,11865,2267,1304,329.65,-0.7060308738425789,2.6666666666666665]
["12:37:00",10586,1787,11633,2235,1047,329.6,-0.71897309552334843,2.3370535714285716]
["12:38:00",10590,1796,11650,2251,1060,329.6,-0.72095896008603955,2.3296703296703298]
["12:39:00",10630,1795,11684,2265,1054,329.65,-0.76350667478340029,2.2425531914893617]
["12:40:00",10788,1863,11502,2167,714,329.5,-0.48286142525824705,2.3486842105263159]
["12:41:00",10769,1889,11487,2172,718,329.45,-0.41222591391276708,2.537102473498233]
["12:42:00",10758,1884,11539,2193,781,329.45,-0.44844917673779605,2.5275080906148868]
["12:43:00",10751,1877,11550,2199,799,329.5,-0.47536961029653835,2.481366459627329]
["12:44:00",10824,1912,11439,2163,615,329.45,-0.37259965529047889,2.450199203187251]
["12:45:00",10807,1880,11469,2184,662,329.45,-0.49703062894552197,2.1776315789473686]
["12:46:00",10691,1815,11577,2238,886,329.55,-0.71743587471103876,2.0945626477541373]
["12:47:00",10829,1886,11431,2164,602,329.45,-0.45943404362919349,2.1654676258992804]
["12:48:00",10789,1868,11456,2188,667,329.45,-0.53986412160548714,2.0843750000000001]
["12:49:00",10906,1924,11418,2126,512,329.35,-0.29775006209625232,2.5346534653465347]
["12:50:00",11002,1975,11203,2044,201,329.3,-8.9713146226064744E-2,2.9130434782608696]
["12:51:00",10788,1860,11423,2150,635,329.45,-0.48697674418604642,2.1896551724137931]
["12:52:00",10845,1883,11408,2141,563,329.45,-0.43107520941941502,2.1821705426356588]
["12:53:00",10738,1838,11489,2190,751,329.5,-0.59610108267374251,2.1335227272727271]
["12:54:00",10936,1920,11342,2116,406,329.4,-0.33571991178323923,{"$f":"(D263-B263)/(E263-C263)","v":2.0714285714285716}]
["12:55:00",10888,1908,11372,2122,484,329.4,-0.34740375856802164,2.2616822429906542]
["12:56:00",10990,1952,11252,2078,262,329.3,-0.21530100664257823,2.0793650793650795]
["12:57:00",10925,1927,11384,2122,459,329.35,{"$f":"(D266/E266)-(B266/C266)","v":-0.30468411829124076},2.3538461538461539]
["12:58:00",10674,1804,11623,2231,949,329.55,-0.70708003828337063,2.2224824355971897]
["12:59:00",10681,1821,11649,2241,968,329.55,-0.66733270258408695,2.3047619047619046]
["13:00:00",10710,1823,11639,2241,929,329.55,-0.68126788864484578,2.2224880382775121]
["13:01:00",10747,1838,11658,2227,911,329.55,-0.61227134783175874,2.3419023136246788]
["13:02:00",10432,1662,11851,2316,1419,329.75,-1.1597628801057471,2.169724770642202]
["13:03:00",10611,1742,11784,2264,1173,329.7,-0.88632740077811611,2.2471264367816093]
["13:04:00",10657,1769,11773,2250,1116,329.65,-0.79186307392751765,2.3201663201663201]
["13:05:00",10676,1793,11717,2226,1041,329.6,-0.6905648852054691,2.4041570438799078]
["13:06:00",10841,1871,11448,2132,607,329.45,-0.42462168197721084,2.3256704980842913]
["13:07:00",10648,1791,11647,2237,999,329.6,-0.7387553672599827,2.2399103139013454]
["13:08:00",11037,1936,11291,2049,254,329.3,-0.19043682868885803,2.247787610619469]
["13:09:00",11155,1985,11237,2021,82,329.25,-5.9528602071200254E-2,2.2777777777777777]
["13:10:00",11074,1950,11347,2086,273,329.3,-0.23937704353811728,2.0073529411764706]
["13:11:00",11081,1957,11349,2069,268,329.3,-0.1769795405470882,2.3928571428571428]
["13:12:00",11076,1964,11316,2070,240,329.3,-0.17284453496266128,2.2641509433962264]
["13:13:00",10876,1838,11512,2166,636,329.45,-0.60243530193102046,1.9390243902439024]
["13:14:00",10932,1897,11491,2151,559,329.45,-0.42061690790249173,2.2007874015748032]
["13:15:00",11011,1945,11378,2094,367,329.35,-0.22756265299558276,2.4630872483221475]
["13:16:00",11057,1962,11323,2075,266,329.3,-0.17870847303587389,2.3539823008849559]
["13:17:00",10777,1833,11615,2194,838,329.5,-0.5854490324999837,2.3213296398891967]
["13:18:00",10927,1902,11453,2142,526,329.35,-0.39813317545735494,2.1916666666666669]
["13:19:00",10754,1825,11637,2226,883,329.55,-0.66483993649152584,2.2019950124688279]
["13:20:00",10691,1802,11713,2245,1022,329.6,-0.71548044859831528,2.3069977426636568]
["13:21:00",10799,1851,11647,2219,848,329.5,-0.58538300308543079,2.3043478260869565]
["13:22:00",10754,1833,11609,2235,855,329.55,-0.67270144297132717,2.1268656716417911]
["13:23:00",10766,1835,11672,2236,906,329.5,-0.64699419457673102,2.2593516209476308]
["13:24:00",10727,1815,11733,2258,1006,329.55,-0.71400151771357212,2.2708803611738149]
["13:25:00",10882,1873,11572,2171,690,329.45,-0.47966804081270276,2.3154362416107381]
["13:26:00",10882,1881,11589,2174,707,329.45,-0.45449385639672801,2.4129692832764507]
["13:27:00",10954,1913,11509,2146,555,329.4,-0.36308375177636343,2.3819742489270386]
["13:28:00",11046,1924,11550,2152,504,329.4,-0.37406386941702863,{"$f":"(D297-B297)/(E297-C297)","v":2.2105263157894739}]
["13:29:00",11033,1944,11456,2116,423,329.35,-0.26142286478875398,2.4593023255813953]
["13:30:00",10921,1881,11598,2194,677,329.5,-0.51971909276519934,2.1629392971246006]
["13:31:00",11072,1942,11433,2143,361,329.35,-0.36629449557465144,1.7960199004975124]
["13:32:00",11068,1946,11450,2151,382,329.35,-0.36445870201627173,1.8634146341463416]
["13:33:00",11192,2004,11251,2055,59,329.25,-0.10989116657196529,1.1568627450980393]
["13:34:00",11219,2024,11221,2025,2,329.2,-1.7496218220856008E-3,2]
["13:35:00",11247,2030,11220,2006,-27,329.15,5.2826250313100509E-2,1.125]
["13:36:00",11132,1979,11330,2095,198,329.3,-0.21694860474119082,1.7068965517241379]
["13:37:00",11262,2039,11219,2045,-43,329.15,-3.7232163520398487E-2,-7.166666666666667]
["13:38:00",11096,1963,11349,2111,253,329.3,-0.2764475337563006,1.7094594594594594]
["13:39:00",11126,1979,11349,2117,223,329.3,-0.26114327982789565,1.6159420289855073]
["13:40:00",11113,1971,11347,2114,234,329.3,-0.27070502417504105,1.6363636363636365]
["13:41:00",11038,1959,11426,2153,388,329.35,-0.32749393215824529,2]
["13:42:00",11153,2016,11273,2084,120,329.25,-0.1229330423788193,1.7647058823529411]
["13:43:00",11184,2001,11220,2084,36,329.2,-0.2053282379923278,0.43373493975903615]
["13:44:00",11150,2001,11285,2093,135,329.25,-0.18043176214090817,1.4673913043478262]
["13:45:00",11067,1967,11403,2149,336,329.35,-0.32014559449152014,1.8461538461538463]
["13:46:00",11125,2017,11300,2103,175,329.2,-0.14234098135416229,2.0348837209302326]
["13:47:00",10951,1930,11486,2189,535,329.35,-0.42694844926469422,{"$f":"(D316-B316)/(E316-C316)","v":2.0656370656370657}]
["13:48:00",11022,1971,11415,2157,393,329.3,-0.30001291325047674,2.1129032258064515]
["13:49:00",10946,1928,11451,2195,505,329.35,-0.46052940008884757,1.8913857677902621]
["13:50:00",11040,1965,11398,2161,358,329.35,-0.34391061531450973,1.8265306122448979]
["13:51:00",11108,2009,11297,2104,189,329.25,-0.1598223867122659,1.9894736842105263]
["13:52:00",11405,2095,10976,1958,-429,329,0.16180604142846988,3.1313868613138687]
["13:53:00",11508,2123,10904,1932,-604,328.9,0.22326115725530027,3.162303664921466]
["13:54:00",11395,2085,10962,1966,-433,328.95,0.11056058510262012,3.6386554621848739]
["13:55:00",11490,2121,10942,1952,-548,328.85,0.18827677556982891,3.2426035502958581]
["13:56:00",11519,2102,11053,1994,-466,328.9,6.3110358668775568E-2,4.3148148148148149]
["13:57:00",11562,2123,10938,1961,-624,328.85,0.13169955920958021,3.8518518518518516]
["13:58:00",11727,2176,10728,1892,-999,328.75,0.28094395131202532,{"$f":"(D327-B327)/(E327-C327)","v":3.517605633802817}]
["13:59:00",11743,2185,10594,1855,-1149,328.6,0.33668050355585422,3.4818181818181819]
["14:00:00",11726,2159,10564,1826,-1162,328.55,0.35410495407035469,3.4894894894894897]
["14:01:00",10437,1982,9367,1678,-1070,328.6,{"$f":"(D330/E330)-(B330/C330)","v":0.31634772547684786},3.5197368421052633]
["14:02:00",10555,2012,9154,1596,-1401,328.45,0.4895651155722307,3.3677884615384617]
["14:03:00",10622,2057,9081,1575,-1541,328.4,0.60188346412945393,3.1970954356846475]
["14:04:00",10606,2068,9186,1604,-1420,328.35,0.59830597587269807,{"$f":"(D333-B333)/(E333-C333)","v":3.0603448275862069},null," "]
["14:05:00",10436,1984,9320,1683,-1116,328.5,0.27764959845130655,3.7076411960132889]
["14:06:00",10419,1962,9433,1744,-986,328.55,9.8432721712537585E-2,4.522935779816514]
["14:07:00",10422,1962,9433,1741,-989,328.55,0.10622388272057037,4.4751131221719458]
["14:08:00",10445,1992,9426,1705,-1019,328.5,0.28497185221825738,3.5505226480836236]
["14:09:00",10412,1993,9382,1722,-1030,328.5,0.22403091423932686,3.8007380073800738]
["14:10:00",10341,1952,9454,1758,-887,328.6,8.0058491392976272E-2,4.572164948453608]
["14:11:00",10348,1937,9603,1768,-745,328.6,8.9279206778219766E-2,4.4082840236686387]
["14:12:00",10285,1920,9533,1784,-752,328.65,-1.3160967862480888E-2,5.5294117647058822]
["14:13:00",10428,1976,9379,1721,-1049,328.55,0.17241058889121508,4.113725490196078]
["14:14:00",10534,2035,9291,1677,-1243,328.5,0.36383767081441487,3.4720670391061454]
["14:15:00",10558,2030,9232,1664,-1326,328.45,0.34709170140204648,3.622950819672131]
["14:16:00",10517,2005,9283,1689,-1234,328.5,0.25076503530988958,3.9050632911392404]
["14:17:00",10578,2034,9219,1657,-1359,328.45,0.36307931133316629,3.6047745358090184]
["14:18:00",10791,2107,8828,1462,-1963,328.05,0.91680393087467582,3.0434108527131785]
["14:19:00",10657,2051,8960,1554,-1697,328.15,0.56976381549760369,3.4144869215291749]
["14:20:00",10704,2059,8789,1487,-1915,328.05,0.71191805425228072,3.3479020979020979]
["14:21:00",10587,2004,8944,1570,-1643,328.15,0.41388115488767685,3.7857142857142856]
["14:22:00",10739,2034,8965,1570,-1774,328.1,0.43044673668652056,3.8232758620689653]
["14:23:00",10763,2057,8909,1544,-1854,328.1,0.53770047178722447,3.6140350877192984]
["14:24:00",10850,2074,8726,1465,-2124,327.95,0.72487715614416803,3.4876847290640396]
["14:25:00",10724,2036,9012,1556,-1712,328.05,0.52458320917571122,3.5666666666666669]
["14:26:00",10729,2022,8891,1549,-1838,328,0.43369960773646188,3.8858350951374208]
["14:27:00",10914,2112,8753,1469,-2161,327.85,0.79086151680178229,3.3608087091757386]
["14:28:00",11003,2112,8685,1454,-2318,327.8,0.76342365366178999,3.5227963525835868]
["14:29:00",10823,2028,8928,1544,-1895,328,0.4455984098271859,3.915289256198347]
["14:30:00",10769,2011,8982,1584,-1787,328,0.31540730527553063,4.1850117096018735,null," "]
["14:31:00",10504,1903,9219,1693,-1285,328.2,-7.4342467313866401E-2,6.1190476190476186]
["14:32:00",10387,1862,9340,1730,-1047,328.4,-0.17956638085717991,7.9318181818181817]
["14:33:00",10535,1949,9149,1652,-1386,328.25,0.13279952344096468,4.666666666666667]
["14:34:00",10525,1964,9119,1640,-1406,328.2,0.20140455019621495,4.3395061728395063]
["14:35:00",10476,1941,9219,1665,-1257,328.3,0.13971900803430959,4.5543478260869561]
["14:36:00",10414,1909,9257,1699,-1157,328.35,-6.7130358319422712E-3,5.5095238095238095]
["14:37:00",10466,1932,9232,1690,-1234,328.35,4.5537628480771808E-2,5.0991735537190079]
["14:38:00",10439,1927,9340,1706,-1099,328.35,5.7565988595457362E-2,4.9728506787330318]
["14:39:00",10289,1859,9454,1770,-835,328.45,-0.19345313530450436,9.382022471910112]
["14:40:00",10356,1890,9396,1751,-960,328.45,-0.11328855166662155,6.9064748201438846]
["14:41:00",10372,1889,9398,1741,-974,328.45,-9.2688739700110823E-2,6.5810810810810807]
["14:42:00",10367,1849,9314,1699,-1053,328.4,-0.12476623063673475,7.02]
["14:43:00",10218,1797,9471,1765,-747,328.5,-0.32013790689865562,23.34375]
["14:44:00",10069,1728,9600,1796,-469,328.65,-0.48175601130083301,-6.8970588235294121]
["14:45:00",10161,1785,9553,1781,-608,328.6,-0.32859643576689557,152]
["14:46:00",10194,1809,9689,1730,-505,328.55,-3.4579510923226309E-2,6.3924050632911396]
["14:47:00",10187,1810,9434,1713,-753,328.55,-0.12087965605880235,7.7628865979381443]
["14:48:00",10239,1821,9404,1669,-835,328.55,1.1776922522637179E-2,5.4934210526315788]
["14:49:00",10160,1789,9436,1706,-724,328.55,-0.14808354035374371,8.7228915662650603]
["14:50:00",10021,1741,9536,1750,-485,328.6,-0.30674456387954407,-53.888888888888886]
["14:51:00",10305,1828,9403,1687,-902,328.5,-6.3508889577786221E-2,6.3971631205673756]
["14:52:00",10336,1835,9378,1682,-958,328.45,-5.7192196911033832E-2,6.261437908496732]
["14:53:00",9924,1661,9710,1797,-214,328.75,-0.57126383292510052,-1.5735294117647058]
["14:54:00",9928,1698,9684,1792,-244,328.75,-0.44286082365808532,-2.5957446808510638]
["14:55:00",9858,1675,9785,1830,-73,328.8,-0.53837859880923311,-0.47096774193548385]
["14:56:00",9669,1591,9881,1875,212,328.95,-0.80744320134087655,0.74647887323943662]
["14:57:00",9840,1664,9737,1793,-103,328.8,-0.48289823673259225,-0.79844961240310075]
["14:58:00",9870,1676,9741,1802,-129,328.85,-0.4833611023551132,-1.0238095238095237]
["14:59:00",9883,1688,9722,1788,-161,328.85,-0.41749764093429587,-1.61]
["15:00:00",9842,1653,9817,1834,-25,328.9,-0.6012421815264668,-0.13812154696132597]
["15:01:00",9676,1615,9910,1855,234,329,-0.64901321005065427,0.97499999999999998]
["15:02:00",9717,1640,9948,1865,231,329.05,-0.59095174262734584,{"$f":"(D391-B391)/(E391-C391)","v":1.0266666666666666}]
["15:03:00",9466,1517,10104,1921,638,329.25,-0.98018672295281295,1.5792079207920793]
["15:04:00",9610,1584,9936,1847,326,329.2,-0.68738481184339317,1.2395437262357414]
["15:05:00",9844,1682,9856,1784,12,329.1,{"$f":"(D394/E394)-(B394/C394)","v":-0.32789280325045489},0.11764705882352941]
["15:06:00",9883,1717,9875,1807,-8,329.05,-0.29111083249345082,-8.8888888888888892E-2]
["15:07:00",10131,1819,9546,1686,-585,328.85,9.2378002852452568E-2,4.3984962406015038]
["15:08:00",9975,1753,9745,1780,-230,328.95,-0.21552619265849238,-8.518518518518519]
["15:09:00",10013,1771,9687,1753,-326,328.9,-0.12791236641034498,18.111111111111111]
["15:10:00",10065,1785,9689,1750,-376,328.9,-0.10208403361344587,{"$f":"(D399-B399)/(E399-C399)","v":10.742857142857142}]
["15:11:00",9990,1770,9741,1777,-249,328.9,-0.16235704815772145,{"$f":"(D400-B400)/(E400-C400)","v":-35.571428571428569}]
["15:12:00",9873,1701,9890,1839,17,329.05,-0.42631002011099906,0.12318840579710146]
["15:13:00",9883,1708,9764,1805,-119,329,-0.37688148325948578,-1.2268041237113403]
["15:14:00",10066,1741,9749,1794,-317,329,-0.34750944017232754,{"$f":"(D403-B403)/(E403-C403)","v":-5.9811320754716979}]
["15:15:00",9944,1707,9796,1834,-148,329,-0.48409429643414548,-1.1653543307086613]
["15:16:00",10041,1770,9660,1753,-381,328.9,-0.16232801879586578,22.411764705882351]
["15:17:00",9979,1726,9777,1807,-202,329,-0.37095055215298345,-2.4938271604938271]
["15:18:00",9984,1731,9760,1810,-224,329,-0.37549910472342152,-2.8354430379746836]
["15:19:00",9690,1615,9971,1879,281,329.1,-0.6934539648749336,1.0643939393939394]
["15:20:00",9690,1577,10039,1888,349,329.15,-0.82731136410046968,1.1221864951768488]
["15:21:00",9763,1616,9941,1864,178,329.1,-0.70830588960183505,0.717741935483871]
["15:22:00",9629,1566,10063,1920,434,329.2,-0.90764088441890145,1.2259887005649717]
["15:23:00",9344,1492,10130,1940,786,329.35,-1.0410850999143193,1.7544642857142858]
["15:24:00",9149,1420,10184,1939,1035,329.55,-1.1907658950090436,1.9942196531791907]
["15:25:00",9304,1480,10097,1896,793,329.45,-0.96106454555821674,1.90625]
["15:26:00",9286,1485,10130,1925,844,329.5,-0.99086099086099022,1.9181818181818182]
["15:27:00",9527,1538,9990,1842,463,329.35,-0.77095555376710756,1.5230263157894737]
["15:28:00",9522,1495,10080,1882,558,329.45,-1.0132265184337443,1.441860465116279]
["15:29:00",9661,1531,9961,1838,300,329.35,-0.89077704232229227,0.9771986970684039]
["15:30:00",9711,1543,9924,1799,213,329.25,-0.77718592852585733,0.83203125]
["15:31:00",9732,1559,9737,1698,5,329.15,-0.5080697133782266,3.5971223021582732E-2]
["15:32:00",9570,1479,10025,1761,455,329.25,-0.77780004676487291,1.6134751773049645]
["15:33:00",9299,1389,9836,1759,537,329.35,{"$f":"(D422/E422)-(B422/C422)","v":-1.102930890031355},1.4513513513513514]
["15:34:00",9356,1408,9758,1736,402,329.35,-1.0239186217008793,1.225609756097561]
["15:35:00",8852,1285,9580,1642,728,329.4,{"$f":"(D424/E424)-(B424/C424)","v":-1.0543675976435685},{"$f":"(D424-B424)/(E424-C424)","v":2.0392156862745097}]
["15:36:00",9577,1233,10487,1573,910,329.3,-1.1003558117028591,2.6764705882352939]
["15:37:00",8486,998,9340,1359,854,329.3,-1.6303054969394273,2.3656509695290859]
["15:38:00",9263,1027,10106,1389,843,329.3,-1.7437362557246647,2.3287292817679557]
["15:39:00",6369,844,7755,1211,1386,329.3,-1.142410017180584,3.776566757493188]
["15:40:00",6632,847,8139,1226,1507,329.3,-1.1913258771482118,3.9762532981530345]
["15:41:00",6910,856,8163,1230,1253,329.3,-1.4358445406883966,{"$f":"(D430-B430)/(E430-C430)","v":3.3502673796791442}]
["15:42:00",7301,862,8223,1230,922,329.3,-1.7844717333484237,2.5054347826086958]
["15:43:00",7057,864,8230,1234,1173,329.3,-1.498456164835825,3.1702702702702701]
["15:44:00",7268,877,8306,1243,1038,329.3,-1.6051227810745869,2.8360655737704916]
["15:45:00",7663,926,8610,1300,947,329.3,-1.6523010466854959,{"$f":"(D434-B434)/(E434-C434)","v":2.5320855614973263}]
["15:46:00",3186,659,4150,950,964,329.4,-0.46617682293746565,{"$f":"(D435-B435)/(E435-C435)","v":3.3127147766323026}]

{"sheet":"2. 순매수에 따른 익일가격","index":1,"n_rows":275,"n_cols":30,"rows_kept":275,"cut":false,"hidden":true,"merged":[]}
[null,null,null,null,null,null,null,null,"15:35:00",null,null,null,null,null,null,null,null,null,null,"15:45:00",null,null,null,null,"익일시가예상","당일",null,"발생횟수","성공횟수","확률"]
[null,"날짜","시간","매도총잔량","매도건수","매수총잔량","매수건수","순매수총잔량","선물지수","순매수건수","평균계약수",null,"날짜","시간","매도총잔량","매도건수","매수총잔량","매수건수","순매수총잔량","선물지수","순매수건수","평균계약수","종가",null,"순매수총잔량","시작가","일치여부",{"$f":"COUNTA(AA4:AA1000)","v":272},{"$f":"COUNTIF(AA4:AA1000,\"성공\")","v":143},{"$f":"AC2/AB2","v":0.52573529411764708}]
[null,"2023-10-12","15:35:00",9508,1216,15618,2033,6110,330.4,-0.13683595671421589,7.4785801713586295,null,"2023-10-12","15:46:00",10474,1101,13874,1542,3400,330.45,-0.5157638793173529,7.7097505668934243,{"$f":"T3","v":330.45},null,{"$f":"IF(H3>S3,\"하락\",\"상승\")","v":"하락"},null,null,"순매수총잔량 증감율"]
["금","2023-10-13","15:35:00",14867,1854,13866,1712,-1001,327.45,8.0420964018186325E-2,7.049295774647887,null,"2023-10-13","15:46:00",11298,1240,11489,1268,191,327.85,-5.0564770530172609E-2,6.8214285714285712,327.85,null,"상승",327.45,{"$f":"IF(AND(Y3=\"상승\",Z4>W3),\"성공\",IF(AND(Y3=\"하락\",Z4<W3),\"성공\",IF(AND(Y3=\"상승\",Z4=W3),\"동일가\",IF(AND(Y3=\"하락\",Z4=W3),\"동일가\",\"실패\"))))","v":"성공"},{"$f":"S4/H4-1","v":-1.1908091908091909}]
[null,"2023-10-16","15:35:00",15940,1970,11709,1602,-4231,325.05,-0.78238179433069099,11.497282608695652,null,"2023-10-16","15:46:00",7849,1022,5360,774,-2489,324.85000000000002,-0.75497453946004445,10.036290322580646,324.85000000000002,null,{"$f":"IF(H5>S5,\"하락\",\"상승\")","v":"상승"},326.2,"실패",-0.4117229969274403]
[null,"2023-10-17","15:35:00",13240,1889,17947,2371,4707,328.7,0.56038053781588371,9.7655601659751046,null,"2023-10-17","15:46:00",4526,1045,8044,1103,3518,328.8,2.96173723685295,60.655172413793103,328.8,null,"하락",327.14999999999998,"성공",-0.25260250690461017]
[null,"2023-10-18","15:35:00",12859,1924,19132,2629,6273,330.15,0.59381981243905901,8.8978723404255327,null,"2023-10-18","15:46:00",5359,994,9271,1403,3912,330.2,1.2166348052678142,9.5647921760391199,330.2,null,"하락",327.95,"성공",-0.37637494021999041]
[null,"2023-10-19","15:35:00",21327,2960,9834,1197,-11493,323.7,1.0104712795502273,6.5190017016449238,null,"2023-10-19","15:46:00",9871,1718,5219,684,-4652,323.7,1.884482500391452,4.4990328820116057,323.7,null,"상승",326.5,"성공",-0.59523188027494989]
["금","2023-10-20","15:35:00",18708,2366,11741,1732,-6967,319.10000000000002,-0.26388964299234274,7.7279651795429816,null,"2023-10-20","15:46:00",9208,1203,6245,949,-2963,318.85000000000002,-1.073586669084226,11.665354330708661,318.85000000000002,null,"상승",321,"실패",-0.57470934405052387]
[null,"2023-10-23","15:35:00",14892,2334,14494,1833,-398,317.14999999999998,1.5267931397669408,0.79441117764471059,null,"2023-10-23","15:46:00",8073,1395,6831,945,-1242,317,1.4414746543778802,2.76,317,null,"하락",317.14999999999998,{"$f":"IF(AND(Y9=\"상승\",Z10>W9),\"성공\",IF(AND(Y9=\"하락\",Z10<W9),\"성공\",IF(AND(Y9=\"상승\",Z10=W9),\"동일가\",IF(AND(Y9=\"하락\",Z10=W9),\"동일가\",\"실패\"))))","v":"실패"},{"$f":"S10/H10-1","v":2.120603015075377}]
[null,"2023-10-24","15:35:00",11514,1530,17453,2719,5939,319.64999999999998,-1.1065861872516569,4.9949537426408748,null,"2023-10-24","15:46:00",5906,849,7700,1211,1794,319.55,-0.59803781395317124,4.9558011049723758,319.55,null,"하락",318.55,"실패",-0.69792894426671159]
[null,"2023-10-25","15:35:00",18960,2689,10553,1355,-8407,317.75,0.99120270566822022,5.5253239104829213,null,"2023-10-25","15:46:00",8726,1370,4076,566,-4650,317.85000000000002,0.83207036186840622,5.7835820895522385,317.85000000000002,null,"상승",320.3,"실패",-0.44688949684786483]
[null,"2023-10-26","15:35:00",20611,2970,8651,1141,-11960,309.39999999999998,0.54717700493982679,6.2492625368731565,null,"2023-10-26","15:46:00",8791,1423,6158,680,-2633,309.14999999999998,2.8780889587036507,3.5437415881561236,309.14999999999998,null,{"$f":"IF(H13>S13,\"하락\",\"상승\")","v":"상승"},312.95,"실패",-0.77984949832775918]
["금","2023-10-27","15:35:00",14273,2133,13278,1990,-995,309.5,-1.9152490064009875E-2,6.9580419580419584,null,"2023-10-27","15:46:00",7000,1081,6563,956,-437,309.2,0.38957710008166924,3.496,309.2,null,"상승",309.95,"성공",-0.56080402010050245]
[null,"2023-10-30","15:35:00",10351,1519,18337,2271,7986,310.3,1.2600650095125623,10.61968085106383,null,"2023-10-30","15:46:00",3324,627,7833,941,4509,310.2,3.0226878664151453,14.359872611464969,310.2,null,"하락",307.25,"실패",-0.4353869271224643]
[null,"2023-10-31","15:35:00",19479,2879,10061,1313,-9418,306.75,0.89671378765845677,6.0140485312899106,null,"2023-10-31","15:46:00",9313,1622,4459,643,-4854,307.10000000000002,1.1930042399127085,4.9581205311542389,307.10000000000002,null,"상승",311.64999999999998,{"$f":"IF(AND(Y15=\"상승\",Z16>W15),\"성공\",IF(AND(Y15=\"하락\",Z16<W15),\"성공\",IF(AND(Y15=\"상승\",Z16=W15),\"동일가\",IF(AND(Y15=\"하락\",Z16=W15),\"동일가\",\"실패\"))))","v":"실패"},{"$f":"S16/H16-1","v":-0.48460394988320243}]
[null,"2023-11-01","15:35:00",12505,1840,18703,2301,6198,310.8,1.3320094760312147,13.44468546637744,null,"2023-11-01","15:46:00",6095,1011,7729,1068,1634,311.05,1.2082069149468211,28.666666666666668,311.05,null,"하락",308.39999999999998,"성공",-0.7363665698612456]
[null,"2023-11-02","15:35:00",15256,2159,17094,1861,1838,315.89999999999998,2.1191498342790602,-6.1677852348993287,null,"2023-11-02","15:46:00",7632,1221,7674,962,42,316.14999999999998,1.7265167265167261,-0.16216216216216217,316.14999999999998,null,"하락",316.05,"실패",-0.97714907508161042]
["금","2023-11-03","15:35:00",15120,2050,15477,1950,357,319.5,0.56131332082551566,-3.57,null,"2023-11-03","15:45:00",14160,1654,13848,1299,-312,319.60000000000002,2.0994439960792093,0.87887323943661977,319.60000000000002,null,{"$f":"IF(H19>S19,\"하락\",\"상승\")","v":"하락"},319.7,"실패",-1.8739495798319328]
[null,"2023-11-06","15:35:00",3920,606,24897,3711,20977,334.4,0.24032645786809859,6.7558776167471821,null,"2023-11-06","15:45:00",16699,1125,25667,2368,8968,335.3,-4.0044508258258258,7.2148028962188251,335.3,null,"하락",324,"실패",-0.57248414930638325]
[null,"2023-11-07","15:35:00",16844,2310,13014,1871,-3830,328.4,-0.3361361958903375,8.7243735763097945,null,"2023-11-07","15:45:00",18430,1499,16567,1414,-1863,328.4,-0.57845588714022433,21.91764705882353,328.4,null,"상승",334.9,"성공",-0.5135770234986945]
[null,"2023-11-08","15:35:00",18810,2785,7789,1052,-11021,324.89999999999998,0.64995289813026069,6.3594922100403926,null,"2023-11-08","15:45:00",16585,2058,10002,923,-6583,325.10000000000002,2.777608087036084,5.8,325.10000000000002,null,"상승",331.1,{"$f":"IF(AND(Y21=\"상승\",Z22>W21),\"성공\",IF(AND(Y21=\"하락\",Z22<W21),\"성공\",IF(AND(Y21=\"상승\",Z22=W21),\"동일가\",IF(AND(Y21=\"하락\",Z22=W21),\"동일가\",\"실패\"))))","v":"성공"},{"$f":"S22/H22-1","v":-0.40268578168950186}]
[null,"2023-11-09","15:35:00",13157,1940,8442,726,-4715,326.64999999999998,4.8461404106671218,3.8838550247116967,null,"2023-11-09","15:45:00",19892,2460,11790,1098,-8102,326.7,2.6515260562441689,5.9486049926578559,{"$f":"T23","v":326.7},null,"하락",325.95,"성공",0.71834570519618235]
["금","2023-11-10","15:35:00",14965,2234,15837,2507,872,324.64999999999998,-0.38163455663444079,3.1941391941391943,null,"2023-11-10","15:45:00",12537,1437,13881,1574,1344,324.7,9.4506768389248208E-2,9.8102189781021902,324.7,null,"상승",324,"성공",0.54128440366972486]
[null,"2023-11-13","15:35:00",14877,1935,10824,1241,-4053,324.75,1.0336262953731978,5.8400576368876083,null,"2023-11-13","15:45:00",14131,1907,10515,1203,-3616,325.10000000000002,1.3305802091520009,5.1363636363636367,325.10000000000002,null,{"$f":"IF(H25>S25,\"하락\",\"상승\")","v":"상승"},328.25,"성공",-0.10782136688872446]
[null,"2023-11-14","15:35:00",13349,1970,15127,2091,1778,327.64999999999998,0.45819550551432631,14.694214876033058,null,"2023-11-14","15:45:00",11995,1573,13193,1354,1198,327.8,2.1181660423637059,-5.4703196347031966,327.8,null,"하락",326.60000000000002,"성공",-0.32620922384701911]
[null,"2023-11-15","15:35:00",12553,1770,21897,2890,9344,335.1,0.48472621351631329,8.3428571428571434,null,"2023-11-15","15:45:00",13505,1574,20304,2003,6799,335.25,1.5567439818670987,15.848484848484848,335.25,null,"하락",334.8,"실패",-0.27236729452054798]
[null,"2023-11-16","16:35:00",15736,1972,15449,1947,-287,334.7,-4.4944581094751079E-2,11.48,null,"2023-11-16","16:45:00",14323,1656,12603,1365,-1720,334.55,0.58381244359505224,5.9106529209621996,334.55,null,"하락",334.35,"성공",4.993031358885017]
["금","2023-11-17","15:35:00",14539,1874,13556,1595,-983,333.05,0.74078848322030844,3.5232974910394264,null,"2023-11-17","15:45:00",7777,1096,5924,838,-1853,333.1,-2.6590509206835498E-2,7.1821705426356592,333.1,null,"하락",334.2,{"$f":"IF(AND(Y28=\"상승\",Z29>W28),\"성공\",IF(AND(Y28=\"하락\",Z29<W28),\"성공\",IF(AND(Y28=\"상승\",Z29=W28),\"동일가\",IF(AND(Y28=\"하락\",Z29=W28),\"동일가\",\"실패\"))))","v":"성공"},{"$f":"S29/H29-1","v":0.88504577822990838}]
[null,"2023-11-20","15:35:00",11499,1434,19554,2835,8055,335.55,-1.1214739545283479,5.7494646680942187,null,"2023-11-20","15:45:00",4624,708,8556,1362,3932,335.55,-0.24913512033649354,6.0122324159021403,335.55,null,"하락",332.35,"성공",-0.51185599006828064]
[null,"2023-11-21","15:35:00",13571,1720,13268,1747,-303,337.2,-0.29538244964790117,-11.222222222222221,null,"2023-11-21","15:45:00",6977,1040,6827,975,-150,337.45,0.29339743589743517,2.3076923076923075,337.45,null,{"$f":"IF(H31>S31,\"하락\",\"상승\")","v":"상승"},338,"실패",-0.50495049504950495]
[null,"2023-11-22","15:35:00",12155,1603,21455,3128,9300,337.75,-0.72364217188679181,6.0983606557377046,null,"2023-11-22","15:45:00",9124,1080,16184,1840,7060,338,0.34750402576489492,9.2894736842105257,338,null,"하락",335,"실패",-0.24086021505376343]
[null,"2023-11-23","15:35:00",11017,1962,11446,1862,429,337.6,0.53196501520292649,-4.29,null,"2023-11-23","15:45:00",9842,1464,11671,1161,1829,337.95,3.3298633173776135,-6.0363036303630366,337.95,null,"상승",337.45,"성공",3.263403263403263]
["금","2023-11-24","15:35:00",14724,2624,8163,1053,-6561,334.75,2.140856264331874,4.1763208147676636,null,"2023-11-24","15:45:00",14916,2014,8718,815,-6198,334.7,3.2907756136492399,5.16930775646372,334.7,null,"상승",337.2,"실패",-5.5326931870141705E-2]
[null,"2023-11-27","15:35:00",16972,2558,14481,1862,-2491,334.2,1.1422503819024836,3.5790229885057472,null,"2023-11-27","15:45:00",11748,1759,12065,1236,317,334.2,3.0825320910858807,-0.60611854684512423,334.2,null,"상승",334.35,"실패",-1.1272581292653552]
[null,"2023-11-28","15:35:00",10701,1284,19672,3042,8971,338.25,-1.8673139904268599,5.1029579067121729,null,"2023-11-28","15:45:00",10306,1177,16153,1705,5847,338.4,0.71774056513278772,11.073863636363637,338.4,null,"하락",335.75,{"$f":"IF(AND(Y35=\"상승\",Z36>W35),\"성공\",IF(AND(Y35=\"하락\",Z36<W35),\"성공\",IF(AND(Y35=\"상승\",Z36=W35),\"동일가\",IF(AND(Y35=\"하락\",Z36=W35),\"동일가\",\"실패\"))))","v":"성공"},{"$f":"S36/H36-1","v":-0.34823319585330514}]
[null,"2023-11-29","15:35:00",13518,1890,16056,2344,2538,337.3,-0.30255160084511612,5.5903083700440526,null,"2023-11-29","15:45:00",9769,1267,12661,1346,2892,337.55,1.6960499172619397,36.607594936708864,337.55,null,{"$f":"IF(H37>S37,\"하락\",\"상승\")","v":"상승"},338.35,"성공",0.13947990543735234]
[null,"2023-11-30","15:35:00",12252,1347,20299,2994,8047,339.05,-2.3158752545923322,4.8858530661809354,null,"2023-11-30","15:45:00",12711,1064,15831,1811,3120,339.15,-3.20484933343851,4.1767068273092374,339.15,null,"하락",337.05,"실패",-0.6122778675282714]
["금","2023-12-01","15:35:00",16548,2482,11783,1535,-4765,335.15,1.009017630522826,5.0316789862724391,null,"2023-12-01","15:45:00",13881,1676,10641,1152,-3240,335.5,0.95475959626093854,6.1832061068702293,335.5,null,"상승",337.75,"성공",-0.32004197271773349]
[null,"2023-12-04","15:35:00",14822,1997,14749,1800,-73,336.7,0.77175568908918901,0.37055837563451777,null,"2023-12-04","15:45:00",12105,1572,11318,1157,-787,336.7,2.0818136533678171,1.8963855421686746,336.7,null,"하락",337.05,"성공",9.7808219178082183]
[null,"2023-12-05","15:35:00",15391,2238,10643,1102,-4748,332.65,2.7807723061003706,4.179577464788732,null,"2023-12-05","15:45:00",14028,1583,10041,839,-3987,332.65,3.1061637466616769,5.3588709677419351,332.65,null,"상승",334.15,"성공",-0.16027801179443979]
[null,"2023-12-06","15:35:00",13958,1907,15189,1516,1231,333.9,2.6997795235716771,-3.1483375959079285,null,"2023-12-06","15:45:00",12316,1381,11653,1107,-663,333.5,1.6084733644826184,2.4197080291970803,333.5,null,"하락",333.8,{"$f":"IF(AND(Y41=\"상승\",Z42>W41),\"성공\",IF(AND(Y41=\"하락\",Z42<W41),\"성공\",IF(AND(Y41=\"상승\",Z42=W41),\"동일가\",IF(AND(Y41=\"하락\",Z42=W41),\"동일가\",\"실패\"))))","v":"성공"},{"$f":"S42/H42-1","v":-1.5385865150284321}]
[null,"2023-12-07","15:35:00",12299,1489,15158,1957,2859,333,-0.5143771064453917,6.1089743589743586,null,"2023-12-07","15:45:00",11173,1117,12060,1519,887,332.4,-2.0632519273918026,2.2064676616915424,332.4,null,{"$f":"IF(H43>S43,\"하락\",\"상승\")","v":"하락"},331.8,{"$f":"IF(AND(Y42=\"상승\",Z43>W42),\"성공\",IF(AND(Y42=\"하락\",Z43<W42),\"성공\",IF(AND(Y42=\"상승\",Z43=W42),\"동일가\",IF(AND(Y42=\"하락\",Z43=W42),\"동일가\",\"실패\"))))","v":"성공"},{"$f":"S43/H43-1","v":-0.68975166142007693}]
[null,"2023-12-08","15:35:00",11485,1233,17894,2482,6409,337.2,-2.1051711822281822,5.1313050440352281,null,"2023-12-08","15:45:00",12935,1290,15739,1812,2804,337.25,-1.3411494429898863,5.3716475095785441,337.25,null,{"$f":"IF(H44>S44,\"하락\",\"상승\")","v":"하락"},334.8,{"$f":"IF(AND(Y43=\"상승\",Z44>W43),\"성공\",IF(AND(Y43=\"하락\",Z44<W43),\"성공\",IF(AND(Y43=\"상승\",Z44=W43),\"동일가\",IF(AND(Y43=\"하락\",Z44=W43),\"동일가\",\"실패\"))))","v":"실패"},{"$f":"S44/H44-1","v":-0.56249024808862536}]
[null,"2023-12-11","15:35:00",13135,1427,17334,2336,4199,338.3,-1.7842483752675884,4.6193619361936191,null,"2023-12-11","15:45:00",11811,1168,12822,1447,1011,338.25,-1.2510656199411159,3.6236559139784945,338.25,null,{"$f":"IF(H45>S45,\"하락\",\"상승\")","v":"하락"},338,{"$f":"IF(AND(Y44=\"상승\",Z45>W44),\"성공\",IF(AND(Y44=\"하락\",Z45<W44),\"성공\",IF(AND(Y44=\"상승\",Z45=W44),\"동일가\",IF(AND(Y44=\"하락\",Z45=W44),\"동일가\",\"실패\"))))","v":"실패"},{"$f":"S45/H45-1","v":-0.75922838771135981}]
[null,"2023-12-12","15:35:00",12966,1565,15848,1966,2882,340.45,-0.22394638568117919,7.1870324189526187,null,"2023-12-12","15:45:00",10545,1314,11919,1160,1374,340.5,2.2498858447488583,-8.9220779220779214,340.5,null,{"$f":"IF(H46>S46,\"하락\",\"상승\")","v":"하락"},340.05,{"$f":"IF(AND(Y45=\"상승\",Z46>W45),\"성공\",IF(AND(Y45=\"하락\",Z46<W45),\"성공\",IF(AND(Y45=\"상승\",Z46=W45),\"동일가\",IF(AND(Y45=\"하락\",Z46=W45),\"동일가\",\"실패\"))))","v":"실패"},{"$f":"S46/H46-1","v":-0.52324774462179047}]
[null,"2023-12-13","15:35:00",17299,2207,10286,1128,-7013,336.8,1.2805523688328879,6.4995366079703425,null,"2023-12-13","15:45:00",12052,1597,7190,824,-4862,337,1.1790781866485087,6.289780077619664,337,null,{"$f":"IF(H47>S47,\"하락\",\"상승\")","v":"상승"},340.95,{"$f":"IF(AND(Y46=\"상승\",Z47>W46),\"성공\",IF(AND(Y46=\"하락\",Z47<W46),\"성공\",IF(AND(Y46=\"상승\",Z47=W46),\"동일가\",IF(AND(Y46=\"하락\",Z47=W46),\"동일가\",\"실패\"))))","v":"실패"},{"$f":"S47/H47-1","v":-0.30671609867389138}]
[null,"2023-12-14","15:35:00",5049,498,5005,446,-44,340.75,1.0834188773029325,0.84615384615384615,null,"2023-12-14","15:45:00",5049,498,5005,446,-44,340.75,1.0834188773029325,0.84615384615384615,340.75,null,{"$f":"IF(H48>S48,\"하락\",\"상승\")","v":"상승"},341.25,{"$f":"IF(AND(Y47=\"상승\",Z48>W47),\"성공\",IF(AND(Y47=\"하락\",Z48<W47),\"성공\",IF(AND(Y47=\"상승\",Z48=W47),\"동일가\",IF(AND(Y47=\"하락\",Z48=W47),\"동일가\",\"실패\"))))","v":"성공"},{"$f":"S48/H48-1","v":0}]
[null,"2023-12-15","15:35:00",8978,1586,9221,1561,243,343.55,0.24632898528362723,-9.7200000000000006,null,"2023-12-15","15:45:00",9208,1301,8820,1241,-388,343.25,2.953904546245667E-2,6.4666666666666668,343.25,null,{"$f":"IF(H49>S49,\"하락\",\"상승\")","v":"하락"},341.3,{"$f":"IF(AND(Y48=\"상승\",Z49>W48),\"성공\",IF(AND(Y48=\"하락\",Z49<W48),\"성공\",IF(AND(Y48=\"상승\",Z49=W48),\"동일가\",IF(AND(Y48=\"하락\",Z49=W48),\"동일가\",\"실패\"))))","v":"성공"},{"$f":"S49/H49-1","v":-2.5967078189300414}]
[null,"2023-12-18","15:35:00",9830,1382,15643,2454,5813,344.45,-0.73838925667889743,5.4225746268656714,null,"2023-12-18","15:45:00",11057,1290,14620,1731,3563,344.45,-0.12533284967689085,8.0793650793650791,344.45,null,{"$f":"IF(H50>S50,\"하락\",\"상승\")","v":"하락"},343.25,{"$f":"IF(AND(Y49=\"상승\",Z50>W49),\"성공\",IF(AND(Y49=\"하락\",Z50<W49),\"성공\",IF(AND(Y49=\"상승\",Z50=W49),\"동일가\",IF(AND(Y49=\"하락\",Z50=W49),\"동일가\",\"실패\"))))","v":"동일가"},{"$f":"S50/H50-1","v":-0.38706347841045929}]
[null,"2023-12-19","15:35:00",10399,1156,17760,2782,7361,344.85,-2.6117782631300077,4.5270602706027061,null,"2023-12-19","15:45:00",10003,1016,12969,1819,2966,344.75,-2.7157308246722041,3.6936488169364883,344.75,null,{"$f":"IF(H51>S51,\"하락\",\"상승\")","v":"하락"},343.8,{"$f":"IF(AND(Y50=\"상승\",Z51>W50),\"성공\",IF(AND(Y50=\"하락\",Z51<W50),\"성공\",IF(AND(Y50=\"상승\",Z51=W50),\"동일가\",IF(AND(Y50=\"하락\",Z51=W50),\"동일가\",\"실패\"))))","v":"성공"},{"$f":"S51/H51-1","v":-0.59706561608477116}]
[null,"2023-12-20","15:35:00",7000,843,21481,3357,14481,351.6,-1.9048093058855091,5.7601431980906925,null,"2023-12-20","15:45:00",9570,1087,16511,2078,6941,351.65,-0.85842704886607279,7.0040363269424821,351.65,null,{"$f":"IF(H52>S52,\"하락\",\"상승\")","v":"하락"},347.2,{"$f":"IF(AND(Y51=\"상승\",Z52>W51),\"성공\",IF(AND(Y51=\"하락\",Z52<W51),\"성공\",IF(AND(Y51=\"상승\",Z52=W51),\"동일가\",IF(AND(Y51=\"하락\",Z52=W51),\"동일가\",\"실패\"))))","v":"실패"},{"$f":"S52/H52-1","v":-0.52068227332366557}]
[null,"2023-12-21","15:35:00",12381,1602,15853,2227,3472,349.15,-0.60991929150080182,5.5552000000000001,null,"2023-12-21","15:45:00",14127,1274,15463,1685,1336,348.9,-1.9118424178619176,3.2506082725060828,348.9,null,{"$f":"IF(H53>S53,\"하락\",\"상승\")","v":"하락"},349,{"$f":"IF(AND(Y52=\"상승\",Z53>W52),\"성공\",IF(AND(Y52=\"하락\",Z53<W52),\"성공\",IF(AND(Y52=\"상승\",Z53=W52),\"동일가\",IF(AND(Y52=\"하락\",Z53=W52),\"동일가\",\"실패\"))))","v":"성공"},{"$f":"S53/H53-1","v":-0.61520737327188946}]
[null,"2023-12-22","15:35:00",12991,1972,15796,2085,2805,350.65,0.98829098992611186,24.823008849557521,null,"2023-12-22","15:45:00",11655,1550,11624,1290,-31,350.7,1.4914978744686174,0.11923076923076924,350.7,null,{"$f":"IF(H54>S54,\"하락\",\"상승\")","v":"하락"},351.45,{"$f":"IF(AND(Y53=\"상승\",Z54>W53),\"성공\",IF(AND(Y53=\"하락\",Z54<W53),\"성공\",IF(AND(Y53=\"상승\",Z54=W53),\"동일가\",IF(AND(Y53=\"하락\",Z54=W53),\"동일가\",\"실패\"))))","v":"실패"},{"$f":"S54/H54-1","v":-1.0110516934046345}]
[null,"2023-12-26","15:35:00",16475,2183,19682,2988,3207,351.75,-0.95993900782546859,3.9838509316770185,null,"2023-12-26","15:45:00",12009,1658,14016,1527,2007,352,1.94,-15.32,352,null,{"$f":"IF(H55>S55,\"하락\",\"상승\")","v":"하락"},352.45,{"$f":"IF(AND(Y54=\"상승\",Z55>W54),\"성공\",IF(AND(Y54=\"하락\",Z55<W54),\"성공\",IF(AND(Y54=\"상승\",Z55=W54),\"동일가\",IF(AND(Y54=\"하락\",Z55=W54),\"동일가\",\"실패\"))))","v":"실패"},{"$f":"S55/H55-1","v":-0.37418147801683821}]
[null,"2023-12-27","15:35:00",7706,929,19119,2936,11413,356.1,-1.7830198156290047,5.686596910812157,null,"2023-12-27","15:45:00",11304,867,15529,2076,4225,355.9,-5.56,3.49,355.9,null,{"$f":"IF(H56>S56,\"하락\",\"상승\")","v":"하락"},352.15,{"$f":"IF(AND(Y55=\"상승\",Z56>W55),\"성공\",IF(AND(Y55=\"하락\",Z56<W55),\"성공\",IF(AND(Y55=\"상승\",Z56=W55),\"동일가\",IF(AND(Y55=\"하락\",Z56=W55),\"동일가\",\"실패\"))))","v":"실패"},{"$f":"S56/H56-1","v":-0.62980811355471833}]
[null,"2023-12-28","15:35:00",5072,526,23482,3004,18410,362.3,-1.8256747657116241,7.4293785310734464,null,"2023-12-28","15:45:00",11538,812,22601,2206,11063,362.7,-3.9641193520582014,7.9361549497847923,362.7,null,{"$f":"IF(H57>S57,\"하락\",\"상승\")","v":"하락"},355.5,{"$f":"IF(AND(Y56=\"상승\",Z57>W56),\"성공\",IF(AND(Y56=\"하락\",Z57<W56),\"성공\",IF(AND(Y56=\"상승\",Z57=W56),\"동일가\",IF(AND(Y56=\"하락\",Z57=W56),\"동일가\",\"실패\"))))","v":"성공"},{"$f":"S57/H57-1","v":-0.39907658881042907}]
[null,"2024-01-02","15:35:00",12796,1579,17048,2869,4252,363.45,-2.1617230860516576,3.2961240310077518,null,"2024-01-02","15:45:00",11588,1326,15431,2331,3843,363.8,-2.1191592368062944,3.8238805970149254,363.8,null,{"$f":"IF(H58>S58,\"하락\",\"상승\")","v":"하락"},360.7,{"$f":"IF(AND(Y57=\"상승\",Z58>W57),\"성공\",IF(AND(Y57=\"하락\",Z58<W57),\"성공\",IF(AND(Y57=\"상승\",Z58=W57),\"동일가\",IF(AND(Y57=\"하락\",Z58=W57),\"동일가\",\"실패\"))))","v":"성공"},{"$f":"S58/H58-1","v":-9.6190028222013169E-2}]
[null,"2024-01-03","15:35:00",16680,2912,7392,1069,-9288,353.55,1.1868517357291912,5.0396093326098752,null,"2024-01-03","15:45:00",20999,2023,15855,1310,-5144,353.6,1.7229249131174686,7.2145862552594666,353.6,null,{"$f":"IF(H59>S59,\"하락\",\"상승\")","v":"상승"},359.7,{"$f":"IF(AND(Y58=\"상승\",Z59>W58),\"성공\",IF(AND(Y58=\"하락\",Z59<W58),\"성공\",IF(AND(Y58=\"상승\",Z59=W58),\"동일가\",IF(AND(Y58=\"하락\",Z59=W58),\"동일가\",\"실패\"))))","v":"성공"},{"$f":"S59/H59-1","v":-0.44616709732988802}]
[null,"2024-01-04","15:35:00",17439,2513,13205,1961,-4234,350.3,-0.20570524349364927,7.6702898550724639,null,"2024-01-04","15:45:00",15343,1737,15163,1698,-180,350.3,9.6872069345018019E-2,4.615384615384615,350.3,null,{"$f":"IF(H60>S60,\"하락\",\"상승\")","v":"상승"},350.2,{"$f":"IF(AND(Y59=\"상승\",Z60>W59),\"성공\",IF(AND(Y59=\"하락\",Z60<W59),\"성공\",IF(AND(Y59=\"상승\",Z60=W59),\"동일가\",IF(AND(Y59=\"하락\",Z60=W59),\"동일가\",\"실패\"))))","v":"실패"},{"$f":"S60/H60-1","v":-0.95748700991969771}]
[null,"2024-01-05","15:35:00",14354,2580,11594,1853,-2760,348.85,0.69331484247208586,3.7964236588720772,null,"2024-01-05","15:45:00",13234,1848,11795,1524,-1439,348.7,0.57824590108054608,4.4413580246913584,348.7,null,{"$f":"IF(H61>S61,\"하락\",\"상승\")","v":"상승"},349.35,{"$f":"IF(AND(Y60=\"상승\",Z61>W60),\"성공\",IF(AND(Y60=\"하락\",Z61<W60),\"성공\",IF(AND(Y60=\"상승\",Z61=W60),\"동일가\",IF(AND(Y60=\"하락\",Z61=W60),\"동일가\",\"실패\"))))","v":"실패"},{"$f":"S61/H61-1","v":-0.4786231884057971}]
[null,"2024-01-08","15:35:00",17709,3057,11569,1466,-6140,347.55,2.0986073605586624,3.8592080452545567,null,"2024-01-08","15:45:00",12577,2133,8725,1126,-3852,347.4,1.85227778985227,3.8252234359483599,347.4,null,{"$f":"IF(H62>S62,\"하락\",\"상승\")","v":"상승"},350.35,{"$f":"IF(AND(Y61=\"상승\",Z62>W61),\"성공\",IF(AND(Y61=\"하락\",Z62<W61),\"성공\",IF(AND(Y61=\"상승\",Z62=W61),\"동일가\",IF(AND(Y61=\"하락\",Z62=W61),\"동일가\",\"실패\"))))","v":"성공"},{"$f":"S62/H62-1","v":-0.37263843648208472}]
[null,"2024-01-09","15:35:00",19016,3364,9723,1185,-9293,346.35,2.5522689986303222,4.2648003671408903,null,"2024-01-09","15:45:00",13890,2204,9402,1003,-4488,346.3,3.0717005064660823,3.736885928393006,346.3,null,{"$f":"IF(H63>S63,\"하락\",\"상승\")","v":"상승"},351.4,{"$f":"IF(AND(Y62=\"상승\",Z63>W62),\"성공\",IF(AND(Y62=\"하락\",Z63<W62),\"성공\",IF(AND(Y62=\"상승\",Z63=W62),\"동일가\",IF(AND(Y62=\"하락\",Z63=W62),\"동일가\",\"실패\"))))","v":"성공"},{"$f":"S63/H63-1","v":-0.51705584848810937}]
[null,"2024-01-10","15:35:00",17124,2561,12748,1491,-4376,342.7,1.8635158602270927,4.0897196261682245,null,"2024-01-10","15:45:00",12851,1696,9982,1115,-2869,342.7,1.3752258016752688,4.9380378657487087,342.7,null,{"$f":"IF(H64>S64,\"하락\",\"상승\")","v":"상승"},345.35,{"$f":"IF(AND(Y63=\"상승\",Z64>W63),\"성공\",IF(AND(Y63=\"하락\",Z64<W63),\"성공\",IF(AND(Y63=\"상승\",Z64=W63),\"동일가\",IF(AND(Y63=\"하락\",Z64=W63),\"동일가\",\"실패\"))))","v":"실패"},{"$f":"S64/H64-1","v":-0.34437842778793415}]
[null,"2024-01-11","15:35:00",12642,1650,15502,2211,2860,343.55,-0.65051108095884214,5.0980392156862742,null,"2024-01-11","15:45:00",11614,1321,12143,1494,529,343.55,-0.66397966329106417,3.0578034682080926,343.55,null,{"$f":"IF(H65>S65,\"하락\",\"상승\")","v":"하락"},344.45,{"$f":"IF(AND(Y64=\"상승\",Z65>W64),\"성공\",IF(AND(Y64=\"하락\",Z65<W64),\"성공\",IF(AND(Y64=\"상승\",Z65=W64),\"동일가\",IF(AND(Y64=\"하락\",Z65=W64),\"동일가\",\"실패\"))))","v":"성공"},{"$f":"S65/H65-1","v":-0.81503496503496509}]
[null,"2024-01-12","15:35:00",13696,1883,10336,1233,-3360,339.75,1.1093064293617836,5.1692307692307695,null,"2024-01-12","15:45:00",12564,1475,10811,1115,-1753,340,1.1779980238656229,4.8694444444444445,340,null,{"$f":"IF(H66>S66,\"하락\",\"상승\")","v":"상승"},341.5,{"$f":"IF(AND(Y65=\"상승\",Z66>W65),\"성공\",IF(AND(Y65=\"하락\",Z66<W65),\"성공\",IF(AND(Y65=\"상승\",Z66=W65),\"동일가\",IF(AND(Y65=\"하락\",Z66=W65),\"동일가\",\"실패\"))))","v":"성공"},{"$f":"S66/H66-1","v":-0.47827380952380949}]
[null,"2024-01-15","15:35:00",13174,1907,14904,2091,1730,341.2,0.21945727400147064,9.4021739130434785,null,"2024-01-15","15:45:00",11622,1409,12901,1539,1279,341.3,0.13431292660060201,9.838461538461539,341.3,null,{"$f":"IF(H67>S67,\"하락\",\"상승\")","v":"하락"},340,{"$f":"IF(AND(Y66=\"상승\",Z67>W66),\"성공\",IF(AND(Y66=\"하락\",Z67<W66),\"성공\",IF(AND(Y66=\"상승\",Z67=W66),\"동일가\",IF(AND(Y66=\"하락\",Z67=W66),\"동일가\",\"실패\"))))","v":"동일가"},{"$f":"S67/H67-1","v":-0.26069364161849706}]
[null,"2024-01-16","15:35:00",18119,2800,9431,1346,-8688,335.95,0.53561504988325215,5.9752407152682254,null,"2024-01-16","15:45:00",15167,1780,9652,1187,-5515,336,-0.38936275948240784,9.3001686340640806,336,null,{"$f":"IF(H68>S68,\"하락\",\"상승\")","v":"상승"},339.55,{"$f":"IF(AND(Y67=\"상승\",Z68>W67),\"성공\",IF(AND(Y67=\"하락\",Z68<W67),\"성공\",IF(AND(Y67=\"상승\",Z68=W67),\"동일가\",IF(AND(Y67=\"하락\",Z68=W67),\"동일가\",\"실패\"))))","v":"성공"},{"$f":"S68/H68-1","v":-0.36521639042357279}]
[null,"2024-01-17","15:35:00",20456,3377,7876,1093,-12580,327.45,1.1484080051779149,5.5078809106830127,null,"2024-01-17","15:45:00",20144,2289,12625,1209,-7519,327.3,1.6421649771753355,6.962037037037037,327.3,null,{"$f":"IF(H69>S69,\"하락\",\"상승\")","v":"상승"},336.45,{"$f":"IF(AND(Y68=\"상승\",Z69>W68),\"성공\",IF(AND(Y68=\"하락\",Z69<W68),\"성공\",IF(AND(Y68=\"상승\",Z69=W68),\"동일가\",IF(AND(Y68=\"하락\",Z69=W68),\"동일가\",\"실패\"))))","v":"성공"},{"$f":"S69/H69-1","v":-0.40230524642289345}]
[null,"2024-01-18","15:35:00",12717,1856,16598,2286,3881,329.05,0.40888551377198556,9.0255813953488371,null,"2024-01-18","15:45:00",16931,1471,16848,1374,-83,329.1,0.75215149365164535,0.85567010309278346,329.1,null,{"$f":"IF(H70>S70,\"하락\",\"상승\")","v":"하락"},328.7,{"$f":"IF(AND(Y69=\"상승\",Z70>W69),\"성공\",IF(AND(Y69=\"하락\",Z70<W69),\"성공\",IF(AND(Y69=\"상승\",Z70=W69),\"동일가\",IF(AND(Y69=\"하락\",Z70=W69),\"동일가\",\"실패\"))))","v":"성공"},{"$f":"S70/H70-1","v":-1.0213862406596239}]
[null,"2024-01-19","15:35:00",11598,1739,16362,2379,4764,333.95,0.20832949608673346,7.4437499999999996,null,"2024-01-19","15:45:00",15843,1619,14448,1527,-1395,333.65,-0.32398057934328506,15.163043478260869,333.65,null,{"$f":"IF(H71>S71,\"하락\",\"상승\")","v":"하락"},333,{"$f":"IF(AND(Y70=\"상승\",Z71>W70),\"성공\",IF(AND(Y70=\"하락\",Z71<W70),\"성공\",IF(AND(Y70=\"상승\",Z71=W70),\"동일가\",IF(AND(Y70=\"하락\",Z71=W70),\"동일가\",\"실패\"))))","v":"실패"},{"$f":"S71/H71-1","v":-1.2928211586901763}]
[null,"2024-01-22","15:35:00",15935,2677,11638,1703,-4297,334.65,0.88126383136748476,4.4117043121149901,null,"2024-01-22","15:45:00",13415,1864,10143,1270,-3272,334.5,0.78972576121117921,5.5084175084175087,334.5,null,{"$f":"IF(H72>S72,\"하락\",\"상승\")","v":"상승"},337.05,{"$f":"IF(AND(Y71=\"상승\",Z72>W71),\"성공\",IF(AND(Y71=\"하락\",Z72<W71),\"성공\",IF(AND(Y71=\"상승\",Z72=W71),\"동일가\",IF(AND(Y71=\"하락\",Z72=W71),\"동일가\",\"실패\"))))","v":"실패"},{"$f":"S72/H72-1","v":-0.23853851524319292}]
[null,"2024-01-23","15:35:00",12427,1736,17048,2830,4621,336.25,-1.1343818696976111,4.2239488117001827,null,"2024-01-23","15:45:00",12771,1407,13016,1642,245,336.45,-1.1498406696290608,1.0425531914893618,336.45,null,{"$f":"IF(H73>S73,\"하락\",\"상승\")","v":"하락"},334,{"$f":"IF(AND(Y72=\"상승\",Z73>W72),\"성공\",IF(AND(Y72=\"하락\",Z73<W72),\"성공\",IF(AND(Y72=\"상승\",Z73=W72),\"동일가\",IF(AND(Y72=\"하락\",Z73=W72),\"동일가\",\"실패\"))))","v":"실패"},{"$f":"S73/H73-1","v":-0.94698117290629735}]
[null,"2024-01-24","15:35:00",16209,2415,11797,1977,-4412,334.55,-0.74467934036450156,10.073059360730594,null,"2024-01-24","15:45:00",14707,1725,11843,1391,-2864,334.85,-1.1778409860490058E-2,8.5748502994011968,334.85,null,{"$f":"IF(H74>S74,\"하락\",\"상승\")","v":"상승"},337.1,{"$f":"IF(AND(Y73=\"상승\",Z74>W73),\"성공\",IF(AND(Y73=\"하락\",Z74<W73),\"성공\",IF(AND(Y73=\"상승\",Z74=W73),\"동일가\",IF(AND(Y73=\"하락\",Z74=W73),\"동일가\",\"실패\"))))","v":"실패"},{"$f":"S74/H74-1","v":-0.35086128739800548}]
[null,"2024-01-25","15:35:00",15233,2064,12770,1775,-2463,335.05,-0.18596326018124198,8.5224913494809691,null,"2024-01-25","15:45:00",12771,1571,11063,1221,-1708,335.05,0.93138900140809788,4.88,335.05,null,{"$f":"IF(H75>S75,\"하락\",\"상승\")","v":"상승"},334.7,{"$f":"IF(AND(Y74=\"상승\",Z75>W74),\"성공\",IF(AND(Y74=\"하락\",Z75<W74),\"성공\",IF(AND(Y74=\"상승\",Z75=W74),\"동일가\",IF(AND(Y74=\"하락\",Z75=W74),\"동일가\",\"실패\"))))","v":"실패"},{"$f":"S75/H75-1","v":-0.30653674380836382}]
[null,"2024-01-26","15:35:00",12405,1853,13547,1589,1142,335.25,1.8309383487461179,-4.3257575757575761,null,"2024-01-26","15:45:00",10580,1559,10032,1087,-548,335.15,2.4426692977181492,1.1610169491525424,335.15,null,{"$f":"IF(H76>S76,\"하락\",\"상승\")","v":"하락"},333.5,{"$f":"IF(AND(Y75=\"상승\",Z76>W75),\"성공\",IF(AND(Y75=\"하락\",Z76<W75),\"성공\",IF(AND(Y75=\"상승\",Z76=W75),\"동일가\",IF(AND(Y75=\"하락\",Z76=W75),\"동일가\",\"실패\"))))","v":"실패"},{"$f":"S76/H76-1","v":-1.479859894921191}]
[null,"2024-01-29","15:35:00",10558,1575,14722,2093,4164,339.3,0.33043053564792668,8.0386100386100381,null,"2024-01-29","15:45:00",10461,1290,13092,1547,2631,339.25,0.35352896077930218,10.237354085603112,339.25,null,{"$f":"IF(H77>S77,\"하락\",\"상승\")","v":"하락"},336.25,{"$f":"IF(AND(Y76=\"상승\",Z77>W76),\"성공\",IF(AND(Y76=\"하락\",Z77<W76),\"성공\",IF(AND(Y76=\"상승\",Z77=W76),\"동일가\",IF(AND(Y76=\"하락\",Z77=W76),\"동일가\",\"실패\"))))","v":"실패"},{"$f":"S77/H77-1","v":-0.36815561959654175}]
[null,"2024-01-30","15:35:00",16259,2699,12904,1708,-3355,338.45,1.5309521351042497,3.3854692230070635,null,"2024-01-30","15:45:00",13936,1814,11352,1029,-2584,338.7,3.3496002905808719,3.2917197452229301,338.7,null,{"$f":"IF(H78>S78,\"하락\",\"상승\")","v":"상승"},340.55,{"$f":"IF(AND(Y77=\"상승\",Z78>W77),\"성공\",IF(AND(Y77=\"하락\",Z78<W77),\"성공\",IF(AND(Y77=\"상승\",Z78=W77),\"동일가\",IF(AND(Y77=\"하락\",Z78=W77),\"동일가\",\"실패\"))))","v":"실패"},{"$f":"S78/H78-1","v":-0.22980625931445609}]
[null,"2024-01-31","15:35:00",13924,2056,12018,1847,-1906,336.6,-0.26560580939961564,9.1196172248803826,null,"2024-01-31","15:45:00",11431,1485,12145,1349,714,337,1.3053220617342189,-5.25,337,null,{"$f":"IF(H79>S79,\"하락\",\"상승\")","v":"상승"},335.15,{"$f":"IF(AND(Y78=\"상승\",Z79>W78),\"성공\",IF(AND(Y78=\"하락\",Z79<W78),\"성공\",IF(AND(Y78=\"상승\",Z79=W78),\"동일가\",IF(AND(Y78=\"하락\",Z79=W78),\"동일가\",\"실패\"))))","v":"실패"},{"$f":"S79/H79-1","v":-1.3746065057712487}]
[null,"2024-02-01","15:35:00",8275,1652,21310,3493,13035,342.1,1.0916930713727702,7.080391091797936,null,"2024-02-01","15:45:00",10134,1589,16020,1895,5886,342.15,2.0762298852101599,19.235294117647058,342.15,null,{"$f":"IF(H80>S80,\"하락\",\"상승\")","v":"하락"},335.8,{"$f":"IF(AND(Y79=\"상승\",Z80>W79),\"성공\",IF(AND(Y79=\"하락\",Z80<W79),\"성공\",IF(AND(Y79=\"상승\",Z80=W79),\"동일가\",IF(AND(Y79=\"하락\",Z80=W79),\"동일가\",\"실패\"))))","v":"실패"},{"$f":"S80/H80-1","v":-0.54844649021864211}]
[null,"2024-02-02","15:35:00",5803,1006,16843,2825,11040,354.1,0.1937342317774764,6.0692688290269379,null,"2024-02-02","15:45:00",10755,1041,16761,1949,6006,354.05,-1.7316173371994505,6.6145374449339203,354.05,null,{"$f":"IF(H81>S81,\"하락\",\"상승\")","v":"하락"},344.6,{"$f":"IF(AND(Y80=\"상승\",Z81>W80),\"성공\",IF(AND(Y80=\"하락\",Z81<W80),\"성공\",IF(AND(Y80=\"상승\",Z81=W80),\"동일가\",IF(AND(Y80=\"하락\",Z81=W80),\"동일가\",\"실패\"))))","v":"실패"},{"$f":"S81/H81-1","v":-0.45597826086956517}]
[null,"2024-02-05","15:35:00",12971,2085,15924,2826,2953,349.3,-0.58628358459729046,3.9851551956815117,null,"2024-02-05","15:45:00",14780,1387,13487,1970,-1293,349.25,-3.8098993921072761,-2.2178387650085765,349.25,null,{"$f":"IF(H82>S82,\"하락\",\"상승\")","v":"하락"},353.7,{"$f":"IF(AND(Y81=\"상승\",Z82>W81),\"성공\",IF(AND(Y81=\"하락\",Z82<W81),\"성공\",IF(AND(Y81=\"상승\",Z82=W81),\"동일가\",IF(AND(Y81=\"하락\",Z82=W81),\"동일가\",\"실패\"))))","v":"성공"},{"$f":"S82/H82-1","v":-1.43785980358957}]
[null,"2024-02-06","15:35:00",13819,2079,13514,2243,-305,347.75,-0.6219790843063242,-1.8597560975609757,null,"2024-02-06","15:45:00",13001,1440,11686,1395,-1315,348.05,-0.65141129032257972,29.222222222222221,348.05,null,{"$f":"IF(H83>S83,\"하락\",\"상승\")","v":"하락"},348.05,{"$f":"IF(AND(Y82=\"상승\",Z83>W82),\"성공\",IF(AND(Y82=\"하락\",Z83<W82),\"성공\",IF(AND(Y82=\"상승\",Z83=W82),\"동일가\",IF(AND(Y82=\"하락\",Z83=W82),\"동일가\",\"실패\"))))","v":"성공"},{"$f":"S83/H83-1","v":3.3114754098360653}]
[null,"2024-02-07","15:35:00",9476,1840,18054,2720,8578,352.55,1.4874999999999998,9.747727272727273,null,"2024-02-07","15:45:00",11445,1427,15002,1376,3557,352.7,2.8822939244797183,-69.745098039215691,352.7,null,{"$f":"IF(H84>S84,\"하락\",\"상승\")","v":"하락"},349.75,{"$f":"IF(AND(Y83=\"상승\",Z84>W83),\"성공\",IF(AND(Y83=\"하락\",Z84<W83),\"성공\",IF(AND(Y83=\"상승\",Z84=W83),\"동일가\",IF(AND(Y83=\"하락\",Z84=W83),\"동일가\",\"실패\"))))","v":"실패"},{"$f":"S84/H84-1","v":-0.58533457682443468}]
[null,"2024-02-08","15:35:00",11809,1843,10389,1450,-1420,353.4,0.75733979456283773,3.61323155216285,null,"2024-02-08","15:45:00",11679,1437,10798,1096,-881,353.4,1.7248411380156341,2.5835777126099706,353.4,null,{"$f":"IF(H85>S85,\"하락\",\"상승\")","v":"상승"},355.1,{"$f":"IF(AND(Y84=\"상승\",Z85>W84),\"성공\",IF(AND(Y84=\"하락\",Z85<W84),\"성공\",IF(AND(Y84=\"상승\",Z85=W84),\"동일가\",IF(AND(Y84=\"하락\",Z85=W84),\"동일가\",\"실패\"))))","v":"실패"},{"$f":"S85/H85-1","v":-0.37957746478873244}]
[null,"2024-02-13","15:35:00",10070,1986,13745,1912,3675,357.25,2.1183140772014983,-49.662162162162161,null,"2024-02-13","15:45:00",10332,1695,9830,1246,-502,357.25,1.7936703646358607,1.1180400890868596,357.25,null,{"$f":"IF(H86>S86,\"하락\",\"상승\")","v":"하락"},355.55,{"$f":"IF(AND(Y85=\"상승\",Z86>W85),\"성공\",IF(AND(Y85=\"하락\",Z86<W85),\"성공\",IF(AND(Y85=\"상승\",Z86=W85),\"동일가\",IF(AND(Y85=\"하락\",Z86=W85),\"동일가\",\"실패\"))))","v":"성공"},{"$f":"S86/H86-1","v":-1.1365986394557823}]
[null,"2024-02-14","15:35:00",11116,1753,14571,2402,3455,352.35,-0.27493465466361222,5.323574730354391,null,"2024-02-14","15:45:00",11293,1303,11292,1389,-1,352.5,-0.53733285374008055,-1.1627906976744186E-2,352.5,null,{"$f":"IF(H87>S87,\"하락\",\"상승\")","v":"하락"},352,{"$f":"IF(AND(Y86=\"상승\",Z87>W86),\"성공\",IF(AND(Y86=\"하락\",Z87<W86),\"성공\",IF(AND(Y86=\"상승\",Z87=W86),\"동일가\",IF(AND(Y86=\"하락\",Z87=W86),\"동일가\",\"실패\"))))","v":"성공"},{"$f":"S87/H87-1","v":-1.0002894356005789}]
[null,"2024-02-15","15:35:00",13721,2342,8919,1280,-4802,352.2,1.1093009447053799,4.5216572504708097,null,"2024-02-15","15:45:00",11746,1715,10240,1046,-1506,352.15,2.9406953603621178,2.2511210762331837,352.15,null,{"$f":"IF(H88>S88,\"하락\",\"상승\")","v":"상승"},355.65,{"$f":"IF(AND(Y87=\"상승\",Z88>W87),\"성공\",IF(AND(Y87=\"하락\",Z88<W87),\"성공\",IF(AND(Y87=\"상승\",Z88=W87),\"동일가\",IF(AND(Y87=\"하락\",Z88=W87),\"동일가\",\"실패\"))))","v":"실패"},{"$f":"S88/H88-1","v":-0.68638067471886721}]
[null,"2024-02-16","15:35:00",10043,1533,18002,2913,7959,355.5,-0.37132350224346933,5.767391304347826,null,"2024-02-16","15:45:00",12635,1418,11878,1323,-757,355.8,6.7642885394246122E-2,7.9684210526315793,355.8,null,{"$f":"IF(H89>S89,\"하락\",\"상승\")","v":"하락"},354.3,{"$f":"IF(AND(Y88=\"상승\",Z89>W88),\"성공\",IF(AND(Y88=\"하락\",Z89<W88),\"성공\",IF(AND(Y88=\"상승\",Z89=W88),\"동일가\",IF(AND(Y88=\"하락\",Z89=W88),\"동일가\",\"실패\"))))","v":"성공"},{"$f":"S89/H89-1","v":-1.0951124513129791}]
[null,"2024-02-19","15:35:00",5552,1093,17583,2826,12031,361.1,1.1422709269371003,6.9422965954991342,null,"2024-02-19","15:45:00",11748,1199,14992,1607,3244,361.1,-0.46898032118655308,7.9509803921568629,361.1,null,{"$f":"IF(H90>S90,\"하락\",\"상승\")","v":"하락"},355.3,{"$f":"IF(AND(Y89=\"상승\",Z90>W89),\"성공\",IF(AND(Y89=\"하락\",Z90<W89),\"성공\",IF(AND(Y89=\"상승\",Z90=W89),\"동일가\",IF(AND(Y89=\"하락\",Z90=W89),\"동일가\",\"실패\"))))","v":"성공"},{"$f":"S90/H90-1","v":-0.73036322832682243}]
[null,"2024-02-20","15:35:00",14097,2112,9301,1621,-4796,356.65,-0.93689974622847849,9.7678207739307528,null,"2024-02-20","15:45:00",15272,1509,13234,1304,-2038,356.65,2.8163330853326229E-2,9.9414634146341463,356.65,null,{"$f":"IF(H91>S91,\"하락\",\"상승\")","v":"상승"},360.3,{"$f":"IF(AND(Y90=\"상승\",Z91>W90),\"성공\",IF(AND(Y90=\"하락\",Z91<W90),\"성공\",IF(AND(Y90=\"상승\",Z91=W90),\"동일가\",IF(AND(Y90=\"하락\",Z91=W90),\"동일가\",\"실패\"))))","v":"성공"},{"$f":"S91/H91-1","v":-0.57506255212677226}]
[null,"2024-02-21","15:35:00",9357,1928,8330,1529,-1027,355.9,0.59478946454303916,2.573934837092732,null,"2024-02-21","15:45:00",9526,1413,8726,1089,-800,355.95,1.2711714715188949,2.4691358024691357,355.95,null,{"$f":"IF(H92>S92,\"하락\",\"상승\")","v":"상승"},357.05,{"$f":"IF(AND(Y91=\"상승\",Z92>W91),\"성공\",IF(AND(Y91=\"하락\",Z92<W91),\"성공\",IF(AND(Y91=\"상승\",Z92=W91),\"동일가\",IF(AND(Y91=\"하락\",Z92=W91),\"동일가\",\"실패\"))))","v":"성공"},{"$f":"S92/H92-1","v":-0.22103213242453745}]
[null,"2024-02-22","15:35:00",10513,1842,13434,2260,2921,357.7,0.23686450856610275,6.9880382775119614,null,"2024-02-22","15:45:00",11048,1506,10146,1350,-902,357.9,0.17956617972554234,5.7820512820512819,357.9,null,{"$f":"IF(H93>S93,\"하락\",\"상승\")","v":"하락"},360,{"$f":"IF(AND(Y92=\"상승\",Z93>W92),\"성공\",IF(AND(Y92=\"하락\",Z93<W92),\"성공\",IF(AND(Y92=\"상승\",Z93=W92),\"동일가\",IF(AND(Y92=\"하락\",Z93=W92),\"동일가\",\"실패\"))))","v":"성공"},{"$f":"S93/H93-1","v":-1.3087983567271482}]
[null,"2024-02-23","15:35:00",10153,2006,8203,1284,-1950,359.05,1.3273132316446308,2.7008310249307481,null,"2024-02-23","15:45:00",11670,1726,10155,1040,-1515,359.05,3.0031252785453244,2.2084548104956268,359.05,null,{"$f":"IF(H94>S94,\"하락\",\"상승\")","v":"상승"},360.4,{"$f":"IF(AND(Y93=\"상승\",Z94>W93),\"성공\",IF(AND(Y93=\"하락\",Z94<W93),\"성공\",IF(AND(Y93=\"상승\",Z94=W93),\"동일가\",IF(AND(Y93=\"하락\",Z94=W93),\"동일가\",\"실패\"))))","v":"실패"},{"$f":"S94/H94-1","v":-0.22307692307692306}]
[null,"2024-02-26","15:35:00",7018,1464,6646,1275,-372,355.4,0.41883317261330788,1.9682539682539681,null,"2024-02-26","15:45:00",11804,1500,11564,1364,-240,355.25,0.60867253176930625,1.7647058823529411,355.25,null,{"$f":"IF(H95>S95,\"하락\",\"상승\")","v":"상승"},359.25,{"$f":"IF(AND(Y94=\"상승\",Z95>W94),\"성공\",IF(AND(Y94=\"하락\",Z95<W94),\"성공\",IF(AND(Y94=\"상승\",Z95=W94),\"동일가\",IF(AND(Y94=\"하락\",Z95=W94),\"동일가\",\"실패\"))))","v":"성공"},{"$f":"S95/H95-1","v":-0.35483870967741937}]
[null,"2024-02-27","15:35:00",10749,2285,5634,855,-5115,352.65,1.8853161349763905,3.5769230769230771,null,"2024-02-27","15:45:00",11871,2051,7760,879,-4111,352.6,3.0403055420120255,3.5076791808873722,352.6,null,{"$f":"IF(H96>S96,\"하락\",\"상승\")","v":"상승"},356.45,{"$f":"IF(AND(Y95=\"상승\",Z96>W95),\"성공\",IF(AND(Y95=\"하락\",Z96<W95),\"성공\",IF(AND(Y95=\"상승\",Z96=W95),\"동일가\",IF(AND(Y95=\"하락\",Z96=W95),\"동일가\",\"실패\"))))","v":"성공"},{"$f":"S96/H96-1","v":-0.19628543499511242}]
[null,"2024-02-28","15:35:00",5482,1047,9526,2014,4044,357.2,-0.5060213652474701,4.1820062047569806,null,"2024-02-28","15:45:00",11057,1241,13695,1738,2638,357.2,-1.0300033660074046,5.3078470824949697,357.2,null,{"$f":"IF(H97>S97,\"하락\",\"상승\")","v":"하락"},353.9,{"$f":"IF(AND(Y96=\"상승\",Z97>W96),\"성공\",IF(AND(Y96=\"하락\",Z97<W96),\"성공\",IF(AND(Y96=\"상승\",Z97=W96),\"동일가\",IF(AND(Y96=\"하락\",Z97=W96),\"동일가\",\"실패\"))))","v":"성공"},{"$f":"S97/H97-1","v":-0.347675568743818}]
[null,"2024-02-29","15:35:00",6274,1205,8584,1615,2310,355.4,0.10853127448839306,5.6341463414634143,null,"2024-02-29","15:45:00",12051,1262,12769,1211,718,355.75,0.99504999731724908,-14.078431372549019,355.75,null,{"$f":"IF(H98>S98,\"하락\",\"상승\")","v":"하락"},355.6,{"$f":"IF(AND(Y97=\"상승\",Z98>W97),\"성공\",IF(AND(Y97=\"하락\",Z98<W97),\"성공\",IF(AND(Y97=\"상승\",Z98=W97),\"동일가\",IF(AND(Y97=\"하락\",Z98=W97),\"동일가\",\"실패\"))))","v":"성공"},{"$f":"S98/H98-1","v":-0.68917748917748911}]
[null,"2024-03-04","15:35:00",6320,1204,10811,1991,4491,361.25,0.18076527096185302,5.7064803049555275,null,"2024-03-04","15:45:00",12683,1493,13403,1401,720,361.4,1.0717614869868566,-7.8260869565217392,361.4,null,{"$f":"IF(H99>S99,\"하락\",\"상승\")","v":"하락"},359.2,{"$f":"IF(AND(Y98=\"상승\",Z99>W98),\"성공\",IF(AND(Y98=\"하락\",Z99<W98),\"성공\",IF(AND(Y98=\"상승\",Z99=W98),\"동일가\",IF(AND(Y98=\"하락\",Z99=W98),\"동일가\",\"실패\"))))","v":"실패"},{"$f":"S99/H99-1","v":-0.83967935871743493}]
[null,"2024-03-05","15:35:00",10511,2142,5315,719,-5196,357.5,2.4851152329267352,3.6514406184118062,null,"2024-03-05","15:45:00",12128,1892,9883,840,-2245,357.65,5.3553281989328507,2.1340304182509504,357.65,null,{"$f":"IF(H100>S100,\"하락\",\"상승\")","v":"상승"},360.1,{"$f":"IF(AND(Y99=\"상승\",Z100>W99),\"성공\",IF(AND(Y99=\"하락\",Z100<W99),\"성공\",IF(AND(Y99=\"상승\",Z100=W99),\"동일가\",IF(AND(Y99=\"하락\",Z100=W99),\"동일가\",\"실패\"))))","v":"성공"},{"$f":"S100/H100-1","v":-0.56793687451886066}]
[null,"2024-03-06","15:35:00",7174,1266,10925,2001,3751,356.55,-0.2068965517241379,5.1034013605442174,null,"2024-03-06","15:45:00",8662,1142,11128,1669,2466,356.6,-0.91747315579554645,4.6793168880455411,356.6,null,{"$f":"IF(H101>S101,\"하락\",\"상승\")","v":"하락"},354.6,{"$f":"IF(AND(Y100=\"상승\",Z101>W100),\"성공\",IF(AND(Y100=\"하락\",Z101<W100),\"성공\",IF(AND(Y100=\"상승\",Z101=W100),\"동일가\",IF(AND(Y100=\"하락\",Z101=W100),\"동일가\",\"실패\"))))","v":"실패"},{"$f":"S101/H101-1","v":-0.34257531324980006}]
[null,"2024-03-07","15:35:00",11047,1750,9874,1529,-1173,357.05,0.14524413715780682,5.3076923076923075,null,"2024-03-07","15:45:00",10020,1490,8966,1243,-1054,357.1,0.48836167099515659,4.2672064777327936,357.1,null,{"$f":"IF(H102>S102,\"하락\",\"상승\")","v":"상승"},358.3,{"$f":"IF(AND(Y101=\"상승\",Z102>W101),\"성공\",IF(AND(Y101=\"하락\",Z102<W101),\"성공\",IF(AND(Y101=\"상승\",Z102=W101),\"동일가\",IF(AND(Y101=\"하락\",Z102=W101),\"동일가\",\"실패\"))))","v":"실패"},{"$f":"S102/H102-1","v":-0.10144927536231885}]
[null,"2024-03-08","15:35:00",9198,1374,11423,1914,2225,362.15,-0.72619357252695593,4.1203703703703702,null,"2024-03-08","15:45:00",12006,1420,13344,1669,1338,362.15,-0.45972286685963581,5.3734939759036147,362.15,null,{"$f":"IF(H103>S103,\"하락\",\"상승\")","v":"하락"},360.55,{"$f":"IF(AND(Y102=\"상승\",Z103>W102),\"성공\",IF(AND(Y102=\"하락\",Z103<W102),\"성공\",IF(AND(Y102=\"상승\",Z103=W102),\"동일가\",IF(AND(Y102=\"하락\",Z103=W102),\"동일가\",\"실패\"))))","v":"성공"},{"$f":"S103/H103-1","v":-0.39865168539325846}]
[null,"2024-03-11","15:35:00",12359,1687,9621,1563,-2738,358.95,-1.1705522756724962,22.080645161290324,null,"2024-03-11","15:45:00",10678,1102,10287,1207,-391,359.05,-1.1668714110219121,-3.7238095238095239,359.05,null,{"$f":"IF(H104>S104,\"하락\",\"상승\")","v":"상승"},359.9,{"$f":"IF(AND(Y103=\"상승\",Z104>W103),\"성공\",IF(AND(Y103=\"하락\",Z104<W103),\"성공\",IF(AND(Y103=\"상승\",Z104=W103),\"동일가\",IF(AND(Y103=\"하락\",Z104=W103),\"동일가\",\"실패\"))))","v":"성공"},{"$f":"S104/H104-1","v":-0.85719503287070853}]
[null,"2024-03-12","15:35:00",8291,1127,16128,2611,7837,361.65,-1.1797555016877954,5.2809973045822103,null,"2024-03-12","15:45:00",8485,918,12889,1523,4404,361.7,-0.78001722320211364,7.2793388429752062,361.7,null,{"$f":"IF(H105>S105,\"하락\",\"상승\")","v":"하락"},360,{"$f":"IF(AND(Y104=\"상승\",Z105>W104),\"성공\",IF(AND(Y104=\"하락\",Z105<W104),\"성공\",IF(AND(Y104=\"상승\",Z105=W104),\"동일가\",IF(AND(Y104=\"하락\",Z105=W104),\"동일가\",\"실패\"))))","v":"성공"},{"$f":"S105/H105-1","v":-0.43805027433967081}]
[null,"2024-03-13","15:35:00",11035,1729,11932,1896,897,363.25,-8.9052963470019009E-2,5.3712574850299397,null,"2024-03-13","15:45:00",10088,1391,9338,1092,-750,363.55,1.2989456026839203,2.508361204013378,363.55,null,{"$f":"IF(H106>S106,\"하락\",\"상승\")","v":"하락"},363.4,{"$f":"IF(AND(Y105=\"상승\",Z106>W105),\"성공\",IF(AND(Y105=\"하락\",Z106<W105),\"성공\",IF(AND(Y105=\"상승\",Z106=W105),\"동일가\",IF(AND(Y105=\"하락\",Z106=W105),\"동일가\",\"실패\"))))","v":"실패"},{"$f":"S106/H106-1","v":-1.8361204013377925}]
[null,"2024-03-14","15:35:00",3056,620,6187,1031,3131,366.35,1.0719376740402371,7.6180048661800486,null,"2024-03-14","15:45:00",3056,620,6187,1031,3131,366.35,1.0719376740402371,7.6180048661800486,366.35,null,{"$f":"IF(H107>S107,\"하락\",\"상승\")","v":"상승"},363.55,{"$f":"IF(AND(Y106=\"상승\",Z107>W106),\"성공\",IF(AND(Y106=\"하락\",Z107<W106),\"성공\",IF(AND(Y106=\"상승\",Z107=W106),\"동일가\",IF(AND(Y106=\"하락\",Z107=W106),\"동일가\",\"실패\"))))","v":"동일가"},{"$f":"S107/H107-1","v":0}]
[null,"2024-03-15","15:35:00",13346,2452,5746,825,-7600,360.95,1.5219447328093327,4.6711739397664411,null,"2024-03-15","15:45:00",18826,2147,13439,987,-5387,361.1,4.8474938995011545,4.6439655172413792,361.1,null,{"$f":"IF(H108>S108,\"하락\",\"상승\")","v":"상승"},365.7,{"$f":"IF(AND(Y107=\"상승\",Z108>W107),\"성공\",IF(AND(Y107=\"하락\",Z108<W107),\"성공\",IF(AND(Y107=\"상승\",Z108=W107),\"동일가\",IF(AND(Y107=\"하락\",Z108=W107),\"동일가\",\"실패\"))))","v":"실패"},{"$f":"S108/H108-1","v":-0.29118421052631582}]
[null,"2024-03-18","15:35:00",9015,1452,14136,2520,5121,362.9,-0.59915387642660445,4.7949438202247192,null,"2024-03-18","15:45:00",14162,1371,15523,1655,1361,362.95,-0.95023016696745799,4.792253521126761,362.95,null,{"$f":"IF(H109>S109,\"하락\",\"상승\")","v":"하락"},361.1,{"$f":"IF(AND(Y108=\"상승\",Z109>W108),\"성공\",IF(AND(Y108=\"하락\",Z109<W108),\"성공\",IF(AND(Y108=\"상승\",Z109=W108),\"동일가\",IF(AND(Y108=\"하락\",Z109=W108),\"동일가\",\"실패\"))))","v":"동일가"},{"$f":"S109/H109-1","v":-0.73423159539152505}]
[null,"2024-03-19","15:35:00",12791,2239,9247,1724,-3544,358.95,-0.34912912729311252,6.8815533980582524,null,"2024-03-19","15:45:00",13413,1694,11339,1449,-2074,358.95,-9.2548865276138592E-2,8.465306122448979,358.95,null,{"$f":"IF(H110>S110,\"하락\",\"상승\")","v":"상승"},361,{"$f":"IF(AND(Y109=\"상승\",Z110>W109),\"성공\",IF(AND(Y109=\"하락\",Z110<W109),\"성공\",IF(AND(Y109=\"상승\",Z110=W109),\"동일가\",IF(AND(Y109=\"하락\",Z110=W109),\"동일가\",\"실패\"))))","v":"성공"},{"$f":"S110/H110-1","v":-0.41478555304740405}]
[null,"2024-03-20","15:35:00",8701,1560,18809,3437,10108,364.95,-0.10505901091440784,5.3851891315929672,null,"2024-03-20","15:45:00",11751,1459,15896,1968,4145,365.05,2.3089096552379118E-2,8.1434184675834977,365.05,null,{"$f":"IF(H111>S111,\"하락\",\"상승\")","v":"하락"},361,{"$f":"IF(AND(Y110=\"상승\",Z111>W110),\"성공\",IF(AND(Y110=\"하락\",Z111<W110),\"성공\",IF(AND(Y110=\"상승\",Z111=W110),\"동일가\",IF(AND(Y110=\"하락\",Z111=W110),\"동일가\",\"실패\"))))","v":"성공"},{"$f":"S111/H111-1","v":-0.58992876929165017}]
[null,"2024-03-21","15:35:00",8818,1231,27511,4035,18693,375.25,-0.34519018700102766,6.6665477888730384,null,"2024-03-21","15:45:00",14360,1231,21833,1874,1874,375.45,1.1848398756075795E-2,11.699844479004666,375.45,null,{"$f":"IF(H112>S112,\"하락\",\"상승\")","v":"하락"},371.7,{"$f":"IF(AND(Y111=\"상승\",Z112>W111),\"성공\",IF(AND(Y111=\"하락\",Z112<W111),\"성공\",IF(AND(Y111=\"상승\",Z112=W111),\"동일가\",IF(AND(Y111=\"하락\",Z112=W111),\"동일가\",\"실패\"))))","v":"실패"},{"$f":"S112/H112-1","v":-0.89974856898304179}]
[null,"2024-03-22","15:35:00",11667,1995,12267,1787,600,373.45,1.016457203445098,-2.8846153846153846,null,"2024-03-22","15:45:00",15341,1401,14657,1324,-684,373.4,0.12020600304918183,8.8831168831168839,373.4,null,{"$f":"IF(H113>S113,\"하락\",\"상승\")","v":"하락"},373.95,{"$f":"IF(AND(Y112=\"상승\",Z113>W112),\"성공\",IF(AND(Y112=\"하락\",Z113<W112),\"성공\",IF(AND(Y112=\"상승\",Z113=W112),\"동일가\",IF(AND(Y112=\"하락\",Z113=W112),\"동일가\",\"실패\"))))","v":"성공"},{"$f":"S113/H113-1","v":-2.1399999999999997}]
[null,"2024-03-25","15:35:00",13192,2369,12090,1758,-1102,372.45,1.3085387621971512,1.8036006546644845,null,"2024-03-25","15:45:00",12096,1583,11859,1246,-237,372.6,1.8764688823565789,0.70326409495548958,372.6,null,{"$f":"IF(H114>S114,\"하락\",\"상승\")","v":"상승"},373.8,{"$f":"IF(AND(Y113=\"상승\",Z114>W113),\"성공\",IF(AND(Y113=\"하락\",Z114<W113),\"성공\",IF(AND(Y113=\"상승\",Z114=W113),\"동일가\",IF(AND(Y113=\"하락\",Z114=W113),\"동일가\",\"실패\"))))","v":"실패"},{"$f":"S114/H114-1","v":-0.78493647912885667}]
[null,"2024-03-26","15:35:00",10114,1964,14094,2260,3980,376.2,1.0865886848223782,13.445945945945946,null,"2024-03-26","15:45:00",11643,1453,13108,1465,1465,376,0.93436387936927012,122.08333333333333,376,null,{"$f":"IF(H115>S115,\"하락\",\"상승\")","v":"하락"},375.05,{"$f":"IF(AND(Y114=\"상승\",Z115>W114),\"성공\",IF(AND(Y114=\"하락\",Z115<W114),\"성공\",IF(AND(Y114=\"상승\",Z115=W114),\"동일가\",IF(AND(Y114=\"하락\",Z115=W114),\"동일가\",\"실패\"))))","v":"성공"},{"$f":"S115/H115-1","v":-0.63190954773869346}]
[null,"2024-03-27","15:35:00",10207,1822,17113,2756,6906,376.25,0.60727577312607206,7.3940042826552466,null,"2024-03-27","15:45:00",11766,1441,13320,1551,1554,376.3,0.42284465575029273,14.127272727272727,376.3,null,{"$f":"IF(H116>S116,\"하락\",\"상승\")","v":"하락"},375.3,{"$f":"IF(AND(Y115=\"상승\",Z116>W115),\"성공\",IF(AND(Y115=\"하락\",Z116<W115),\"성공\",IF(AND(Y115=\"상승\",Z116=W115),\"동일가\",IF(AND(Y115=\"하락\",Z116=W115),\"동일가\",\"실패\"))))","v":"성공"},{"$f":"S116/H116-1","v":-0.77497827975673328}]
[null,"2024-03-28","15:35:00",9465,1661,9153,1601,-312,375.65,1.8677369389465071E-2,5.2,null,"2024-03-28","15:45:00",9729,1343,10350,1412,621,375.7,8.5798991307355799E-2,9,375.7,null,{"$f":"IF(H117>S117,\"하락\",\"상승\")","v":"상승"},376.75,{"$f":"IF(AND(Y116=\"상승\",Z117>W116),\"성공\",IF(AND(Y116=\"하락\",Z117<W116),\"성공\",IF(AND(Y116=\"상승\",Z117=W116),\"동일가\",IF(AND(Y116=\"하락\",Z117=W116),\"동일가\",\"실패\"))))","v":"실패"},{"$f":"S117/H117-1","v":-2.9903846153846154}]
[null,"2024-03-29","15:35:00",9237,1596,11545,1862,2308,377.35,0.41272824919441486,8.6766917293233075,null,"2024-03-29","15:45:00",9502,1250,10350,1299,848,376.95,0.36606743648960727,17.306122448979593,376.95,null,{"$f":"IF(H118>S118,\"하락\",\"상승\")","v":"하락"},376.95,{"$f":"IF(AND(Y117=\"상승\",Z118>W117),\"성공\",IF(AND(Y117=\"하락\",Z118<W117),\"성공\",IF(AND(Y117=\"상승\",Z118=W117),\"동일가\",IF(AND(Y117=\"하락\",Z118=W117),\"동일가\",\"실패\"))))","v":"성공"},{"$f":"S118/H118-1","v":-0.63258232235701906}]
[null,"2024-04-01","15:35:00",13924,2619,11927,1608,-1997,377.05,2.1007555293406961,1.9752720079129575,null,"2024-04-01","15:45:00",10738,1727,8769,945,-1969,377,3.0616464922197411,2.5179028132992327,377,null,{"$f":"IF(H119>S119,\"하락\",\"상승\")","v":"상승"},379.95,{"$f":"IF(AND(Y118=\"상승\",Z119>W118),\"성공\",IF(AND(Y118=\"하락\",Z119<W118),\"성공\",IF(AND(Y118=\"상승\",Z119=W118),\"동일가\",IF(AND(Y118=\"하락\",Z119=W118),\"동일가\",\"실패\"))))","v":"실패"},{"$f":"S119/H119-1","v":-1.4021031547320928E-2}]
[null,"2024-04-02","15:35:00",9727,1881,14658,2443,4931,378.5,0.82881446039340734,8.7740213523131665,null,"2024-04-02","15:45:00",10094,1389,12177,1549,2083,378.55,0.59410214258391925,13.018750000000001,378.55,null,{"$f":"IF(H120>S120,\"하락\",\"상승\")","v":"하락"},375.4,{"$f":"IF(AND(Y119=\"상승\",Z120>W119),\"성공\",IF(AND(Y119=\"하락\",Z120<W119),\"성공\",IF(AND(Y119=\"상승\",Z120=W119),\"동일가\",IF(AND(Y119=\"하락\",Z120=W119),\"동일가\",\"실패\"))))","v":"실패"},{"$f":"S120/H120-1","v":-0.57757047252078686}]
[null,"2024-04-03","15:35:00",16312,3053,9128,1376,-7184,372.6,1.2907795610874544,4.2838401908169352,null,"2024-04-03","15:45:00",17526,2071,13691,1144,-3835,373.05,3.5050788781474456,4.1370010787486518,373.05,null,{"$f":"IF(H121>S121,\"하락\",\"상승\")","v":"상승"},376.3,{"$f":"IF(AND(Y120=\"상승\",Z121>W120),\"성공\",IF(AND(Y120=\"하락\",Z121<W120),\"성공\",IF(AND(Y120=\"상승\",Z121=W120),\"동일가\",IF(AND(Y120=\"하락\",Z121=W120),\"동일가\",\"실패\"))))","v":"성공"},{"$f":"S121/H121-1","v":-0.46617483296213813}]
[null,"2024-04-04","15:35:00",8069,1238,12851,2435,4782,378.35,-1.2401525279230929,3.9949874686716793,null,"2024-04-04","15:45:00",12335,1076,14467,1496,2132,378.25,-1.7933001013856043,5.0761904761904759,378.25,null,{"$f":"IF(H122>S122,\"하락\",\"상승\")","v":"하락"},376.25,{"$f":"IF(AND(Y121=\"상승\",Z122>W121),\"성공\",IF(AND(Y121=\"하락\",Z122<W121),\"성공\",IF(AND(Y121=\"상승\",Z122=W121),\"동일가\",IF(AND(Y121=\"하락\",Z122=W121),\"동일가\",\"실패\"))))","v":"성공"},{"$f":"S122/H122-1","v":-0.55416143872856538}]
[null,"2024-04-05","15:35:00",13371,2756,11809,2221,-1562,373.75,0.46537781919388088,2.919626168224299,null,"2024-04-05","15:45:00",14772,1567,15422,1658,650,373.75,-0.12536228592894894,7.1428571428571432,373.75,null,{"$f":"IF(H123>S123,\"하락\",\"상승\")","v":"상승"},375,{"$f":"IF(AND(Y122=\"상승\",Z123>W122),\"성공\",IF(AND(Y122=\"하락\",Z123<W122),\"성공\",IF(AND(Y122=\"상승\",Z123=W122),\"동일가\",IF(AND(Y122=\"하락\",Z123=W122),\"동일가\",\"실패\"))))","v":"성공"},{"$f":"S123/H123-1","v":-1.4161331626120359}]
[null,"2024-04-08","15:35:00",12349,2215,10719,1923,-1630,375.25,-1.066336107169441E-3,5.5821917808219181,null,"2024-04-08","15:45:00",10951,1512,10577,1412,-374,375.2,0.24806833340827694,3.74,375.2,null,{"$f":"IF(H124>S124,\"하락\",\"상승\")","v":"상승"},376,{"$f":"IF(AND(Y123=\"상승\",Z124>W123),\"성공\",IF(AND(Y123=\"하락\",Z124<W123),\"성공\",IF(AND(Y123=\"상승\",Z124=W123),\"동일가\",IF(AND(Y123=\"하락\",Z124=W123),\"동일가\",\"실패\"))))","v":"성공"},{"$f":"S124/H124-1","v":-0.7705521472392638}]
[null,"2024-04-09","15:35:00",15195,2943,6811,1238,-8384,373.05,0.33851663019008971,4.9173020527859235,null,"2024-04-09","15:45:00",13130,2038,8602,1037,-4528,372.8,1.8524911919432423,4.5234765234765231,372.8,null,{"$f":"IF(H125>S125,\"하락\",\"상승\")","v":"상승"},376.95,{"$f":"IF(AND(Y124=\"상승\",Z125>W124),\"성공\",IF(AND(Y124=\"하락\",Z125<W124),\"성공\",IF(AND(Y124=\"상승\",Z125=W124),\"동일가\",IF(AND(Y124=\"하락\",Z125=W124),\"동일가\",\"실패\"))))","v":"성공"},{"$f":"S125/H125-1","v":-0.45992366412213737}]
[null,"2024-04-11","15:35:00",5840,1223,15982,3351,10142,372.85,-5.8205004888645107E-3,4.7659774436090228,null,"2024-04-11","15:45:00",7872,925,12336,1959,4464,372.8,-2.2131799180497493,4.317214700193424,372.8,null,{"$f":"IF(H126>S126,\"하락\",\"상승\")","v":"하락"},365.85,{"$f":"IF(AND(Y125=\"상승\",Z126>W125),\"성공\",IF(AND(Y125=\"하락\",Z126<W125),\"성공\",IF(AND(Y125=\"상승\",Z126=W125),\"동일가\",IF(AND(Y125=\"하락\",Z126=W125),\"동일가\",\"실패\"))))","v":"실패"},{"$f":"S126/H126-1","v":-0.55985012817984625}]
[null,"2024-04-12","15:35:00",14680,2549,9540,1781,-5140,369.3,-0.40257995505938737,6.692708333333333,null,"2024-04-12","15:45:00",13301,1724,9760,1386,-3541,369.35,-0.67335017393022056,10.476331360946746,369.35,null,{"$f":"IF(H127>S127,\"하락\",\"상승\")","v":"상승"},373.65,{"$f":"IF(AND(Y126=\"상승\",Z127>W126),\"성공\",IF(AND(Y126=\"하락\",Z127<W126),\"성공\",IF(AND(Y126=\"상승\",Z127=W126),\"동일가\",IF(AND(Y126=\"하락\",Z127=W126),\"동일가\",\"실패\"))))","v":"실패"},{"$f":"S127/H127-1","v":-0.31108949416342413}]
[null,"2024-04-15","15:35:00",8909,1439,14686,2543,5777,367.05,-0.41603611762330051,5.2327898550724639,null,"2024-04-15","15:45:00",10438,1105,11899,1726,1461,367.2,-2.5521793386219809,2.3526570048309177,367.2,null,{"$f":"IF(H128>S128,\"하락\",\"상승\")","v":"하락"},366.5,{"$f":"IF(AND(Y127=\"상승\",Z128>W127),\"성공\",IF(AND(Y127=\"하락\",Z128<W127),\"성공\",IF(AND(Y127=\"상승\",Z128=W127),\"동일가\",IF(AND(Y127=\"하락\",Z128=W127),\"동일가\",\"실패\"))))","v":"실패"},{"$f":"S128/H128-1","v":-0.74710057123074258}]
[null,"2024-04-16","15:35:00",16239,3066,11684,1533,-4555,358.15,2.3251793868232227,2.9712981082844094,null,"2024-04-16","15:45:00",14968,2182,13197,1456,-1771,358.15,2.2041119398475031,2.4393939393939394,358.15,null,{"$f":"IF(H129>S129,\"하락\",\"상승\")","v":"상승"},362.95,{"$f":"IF(AND(Y128=\"상승\",Z129>W128),\"성공\",IF(AND(Y128=\"하락\",Z129<W128),\"성공\",IF(AND(Y128=\"상승\",Z129=W128),\"동일가\",IF(AND(Y128=\"하락\",Z129=W128),\"동일가\",\"실패\"))))","v":"성공"},{"$f":"S129/H129-1","v":-0.61119648737650933}]
[null,"2024-04-17","15:35:00",15503,2671,7185,1058,-8318,354.7,0.98692212583663075,5.1568505889646623,null,"2024-04-17","15:45:00",13762,1859,9787,899,-3975,354.7,3.4836358131472354,4.140625,354.7,null,{"$f":"IF(H130>S130,\"하락\",\"상승\")","v":"상승"},360,{"$f":"IF(AND(Y129=\"상승\",Z130>W129),\"성공\",IF(AND(Y129=\"하락\",Z130<W129),\"성공\",IF(AND(Y129=\"상승\",Z130=W129),\"동일가\",IF(AND(Y129=\"하락\",Z130=W129),\"동일가\",\"실패\"))))","v":"성공"},{"$f":"S130/H130-1","v":-0.52212070209184902}]
[null,"2024-04-18","15:35:00",8938,1410,19716,3680,10778,360.45,-0.9813983965464077,4.7480176211453742,null,"2024-04-18","15:45:00",10451,1095,18104,2531,7653,360.35,-2.3913882469253407,5.3293871866295266,360.35,null,{"$f":"IF(H131>S131,\"하락\",\"상승\")","v":"하락"},353.5,{"$f":"IF(AND(Y130=\"상승\",Z131>W130),\"성공\",IF(AND(Y130=\"하락\",Z131<W130),\"성공\",IF(AND(Y130=\"상승\",Z131=W130),\"동일가\",IF(AND(Y130=\"하락\",Z131=W130),\"동일가\",\"실패\"))))","v":"실패"},{"$f":"S131/H131-1","v":-0.2899424754128781}]
[null,"2024-04-19","15:35:00",13737,2192,10415,2052,-3322,354.15,-1.1913434996656278,23.728571428571428,null,"2024-04-19","15:45:00",14489,1409,12576,1596,-1913,354.05,-2.4034803118513102,-10.229946524064172,354.05,null,{"$f":"IF(H132>S132,\"하락\",\"상승\")","v":"상승"},357,{"$f":"IF(AND(Y131=\"상승\",Z132>W131),\"성공\",IF(AND(Y131=\"하락\",Z132<W131),\"성공\",IF(AND(Y131=\"상승\",Z132=W131),\"동일가\",IF(AND(Y131=\"하락\",Z132=W131),\"동일가\",\"실패\"))))","v":"성공"},{"$f":"S132/H132-1","v":-0.42414208308248047}]
[null,"2024-04-22","15:35:00",9366,1503,14507,2457,5141,358.7,-0.32718202179280009,5.3888888888888893,null,"2024-04-22","15:45:00",16026,1414,15613,1552,-413,358.8,-1.2738821286399631,-2.9927536231884058,358.8,null,{"$f":"IF(H133>S133,\"하락\",\"상승\")","v":"하락"},355.15,{"$f":"IF(AND(Y132=\"상승\",Z133>W132),\"성공\",IF(AND(Y132=\"하락\",Z133<W132),\"성공\",IF(AND(Y132=\"상승\",Z133=W132),\"동일가\",IF(AND(Y132=\"하락\",Z133=W132),\"동일가\",\"실패\"))))","v":"성공"},{"$f":"S133/H133-1","v":-1.0803345652596772}]
[null,"2024-04-23","15:35:00",13384,2164,10423,1654,-2961,358.25,0.11684998223094478,5.8058823529411763,null,"2024-04-23","15:45:00",11267,1540,11123,1255,-144,358.5,1.5467144409375475,0.50526315789473686,358.5,null,{"$f":"IF(H134>S134,\"하락\",\"상승\")","v":"상승"},359.1,{"$f":"IF(AND(Y133=\"상승\",Z134>W133),\"성공\",IF(AND(Y133=\"하락\",Z134<W133),\"성공\",IF(AND(Y133=\"상승\",Z134=W133),\"동일가\",IF(AND(Y133=\"하락\",Z134=W133),\"동일가\",\"실패\"))))","v":"실패"},{"$f":"S134/H134-1","v":-0.95136778115501519}]
[null,"2024-04-24","15:35:00",10736,1839,14383,2328,3647,364.6,0.34030919426178485,7.4580777096114517,null,"2024-04-24","15:45:00",13070,1679,13119,1347,49,364.55,1.9550254619158975,-0.14759036144578314,364.55,null,{"$f":"IF(H135>S135,\"하락\",\"상승\")","v":"하락"},363.3,{"$f":"IF(AND(Y134=\"상승\",Z135>W134),\"성공\",IF(AND(Y134=\"하락\",Z135<W134),\"성공\",IF(AND(Y134=\"상승\",Z135=W134),\"동일가\",IF(AND(Y134=\"하락\",Z135=W134),\"동일가\",\"실패\"))))","v":"성공"},{"$f":"S135/H135-1","v":-0.98656429942418422}]
[null,"2024-04-25","15:35:00",15300,2803,8898,1424,-6402,358.4,0.79015811710566908,4.6424945612762869,null,"2024-04-25","15:45:00",12407,1716,9891,1119,-2516,358.6,1.6089556109663352,4.2144053601340037,358.6,null,{"$f":"IF(H136>S136,\"하락\",\"상승\")","v":"상승"},360,{"$f":"IF(AND(Y135=\"상승\",Z136>W135),\"성공\",IF(AND(Y135=\"하락\",Z136<W135),\"성공\",IF(AND(Y135=\"상승\",Z136=W135),\"동일가\",IF(AND(Y135=\"하락\",Z136=W135),\"동일가\",\"실패\"))))","v":"성공"},{"$f":"S136/H136-1","v":-0.6069978131833802}]
[null,"2024-04-26","15:35:00",9839,1779,10012,1719,173,361.85,0.29368127475188111,-2.8833333333333333,null,"2024-04-26","15:45:00",10263,1490,10353,1201,90,361.9,1.7323969399102541,-0.31141868512110726,361.9,null,{"$f":"IF(H137>S137,\"하락\",\"상승\")","v":"하락"},362,{"$f":"IF(AND(Y136=\"상승\",Z137>W136),\"성공\",IF(AND(Y136=\"하락\",Z137<W136),\"성공\",IF(AND(Y136=\"상승\",Z137=W136),\"동일가\",IF(AND(Y136=\"하락\",Z137=W136),\"동일가\",\"실패\"))))","v":"성공"},{"$f":"S137/H137-1","v":-0.47976878612716767}]
[null,"2024-04-29","15:35:00",10168,1770,13763,2354,3595,365.45,0.10201124183383037,6.1558219178082192,null,"2024-04-29","15:45:00",9328,1440,10198,1370,870,365.65,0.96601784266017798,-12.428571428571429,365.65,null,{"$f":"IF(H138>S138,\"하락\",\"상승\")","v":"하락"},364.35,{"$f":"IF(AND(Y137=\"상승\",Z138>W137),\"성공\",IF(AND(Y137=\"하락\",Z138<W137),\"성공\",IF(AND(Y137=\"상승\",Z138=W137),\"동일가\",IF(AND(Y137=\"하락\",Z138=W137),\"동일가\",\"실패\"))))","v":"실패"},{"$f":"S138/H138-1","v":-0.75799721835883171}]
[null,"2024-04-30","15:35:00",9301,1645,11567,2047,2266,367.2,-3.3949897767211468E-3,5.6368159203980097,null,"2024-04-30","15:45:00",9137,1341,10714,1361,1577,367.45,1.0585808675793826,78.849999999999994,367.45,null,{"$f":"IF(H139>S139,\"하락\",\"상승\")","v":"하락"},365.05,{"$f":"IF(AND(Y138=\"상승\",Z139>W138),\"성공\",IF(AND(Y138=\"하락\",Z139<W138),\"성공\",IF(AND(Y138=\"상승\",Z139=W138),\"동일가\",IF(AND(Y138=\"하락\",Z139=W138),\"동일가\",\"실패\"))))","v":"성공"},{"$f":"S139/H139-1","v":-0.30406001765225066}]
[null,"2024-05-02","15:35:00",9626,1591,10184,2156,558,365.6,-1.3267206888469349,0.98761061946902651,null,"2024-05-02","15:45:00",10298,1111,9737,1660,-561,365.35,-3.4034642620888587,-1.0218579234972678,365.35,null,{"$f":"IF(H140>S140,\"하락\",\"상승\")","v":"하락"},365.1,{"$f":"IF(AND(Y139=\"상승\",Z140>W139),\"성공\",IF(AND(Y139=\"하락\",Z140<W139),\"성공\",IF(AND(Y139=\"상승\",Z140=W139),\"동일가\",IF(AND(Y139=\"하락\",Z140=W139),\"동일가\",\"실패\"))))","v":"성공"},{"$f":"S140/H140-1","v":-2.0053763440860215}]
[null,"2024-05-03","15:35:00",16188,3118,7025,1043,-9163,364.9,1.5435891065209457,4.4159036144578314,null,"2024-05-03","15:45:00",12148,1867,8224,849,-3924,364.5,3.1799949907985887,3.8546168958742633,364.5,null,{"$f":"IF(H141>S141,\"하락\",\"상승\")","v":"상승"},369.3,{"$f":"IF(AND(Y140=\"상승\",Z141>W140),\"성공\",IF(AND(Y140=\"하락\",Z141<W140),\"성공\",IF(AND(Y140=\"상승\",Z141=W140),\"동일가\",IF(AND(Y140=\"하락\",Z141=W140),\"동일가\",\"실패\"))))","v":"실패"},{"$f":"S141/H141-1","v":-0.57175597511731968}]
[null,"2024-05-07","15:35:00",9997,1628,20599,3873,10602,373.75,-0.82204733076150571,4.7224944320712696,null,"2024-05-07","15:45:00",12949,1326,16600,2020,3651,373.7,-1.5476382479876953,5.260806916426513,373.7,null,{"$f":"IF(H142>S142,\"하락\",\"상승\")","v":"하락"},370.75,{"$f":"IF(AND(Y141=\"상승\",Z142>W141),\"성공\",IF(AND(Y141=\"하락\",Z142<W141),\"성공\",IF(AND(Y141=\"상승\",Z142=W141),\"동일가\",IF(AND(Y141=\"하락\",Z142=W141),\"동일가\",\"실패\"))))","v":"성공"},{"$f":"S142/H142-1","v":-0.65563101301641202}]
[null,"2024-05-08","15:35:00",9204,1551,17536,3401,8332,375.35,-0.77810542695088536,4.503783783783784,null,"2024-05-08","15:45:00",10841,1180,14642,2002,3801,375.3,-1.8736018219069068,4.6240875912408761,375.3,null,{"$f":"IF(H143>S143,\"하락\",\"상승\")","v":"하락"},374.35,{"$f":"IF(AND(Y142=\"상승\",Z143>W142),\"성공\",IF(AND(Y142=\"하락\",Z143<W142),\"성공\",IF(AND(Y142=\"상승\",Z143=W142),\"동일가\",IF(AND(Y142=\"하락\",Z143=W142),\"동일가\",\"실패\"))))","v":"실패"},{"$f":"S143/H143-1","v":-0.54380700912145941}]
[null,"2024-05-09","15:35:00",15061,2840,6666,1303,-8395,370.7,-0.18728259812134507,5.4619388418998049,null,"2024-05-09","15:45:00",15736,2129,12046,1188,-3690,370.95,2.7484671357381556,3.9213602550478215,370.95,null,{"$f":"IF(H144>S144,\"하락\",\"상승\")","v":"상승"},376.4,{"$f":"IF(AND(Y143=\"상승\",Z144>W143),\"성공\",IF(AND(Y143=\"하락\",Z144<W143),\"성공\",IF(AND(Y143=\"상승\",Z144=W143),\"동일가\",IF(AND(Y143=\"하락\",Z144=W143),\"동일가\",\"실패\"))))","v":"실패"},{"$f":"S144/H144-1","v":-0.56045265038713521}]
[null,"2024-05-10","15:35:00",12786,2328,12035,1750,-751,372.55,1.3848748159057438,1.2993079584775087,null,"2024-05-10","15:45:00",12877,1682,10124,1066,-2753,372.4,1.841418796974029,4.4691558441558445,372.4,null,{"$f":"IF(H145>S145,\"하락\",\"상승\")","v":"하락"},373.95,{"$f":"IF(AND(Y144=\"상승\",Z145>W144),\"성공\",IF(AND(Y144=\"하락\",Z145<W144),\"성공\",IF(AND(Y144=\"상승\",Z145=W144),\"동일가\",IF(AND(Y144=\"하락\",Z145=W144),\"동일가\",\"실패\"))))","v":"성공"},{"$f":"S145/H145-1","v":2.6657789613848202}]
[null,"2024-05-13","15:35:00",10630,2071,9033,1602,-1597,371.65,0.5057906853516636,3.4051172707889128,null,"2024-05-13","15:45:00",10760,1788,9778,1367,-982,371.65,1.1349924474141999,2.33254156769596,371.65,null,{"$f":"IF(H146>S146,\"하락\",\"상승\")","v":"상승"},373.1,{"$f":"IF(AND(Y145=\"상승\",Z146>W145),\"성공\",IF(AND(Y145=\"하락\",Z146<W145),\"성공\",IF(AND(Y145=\"상승\",Z146=W145),\"동일가\",IF(AND(Y145=\"하락\",Z146=W145),\"동일가\",\"실패\"))))","v":"실패"},{"$f":"S146/H146-1","v":-0.38509705698184094}]
[null,"2024-05-14","15:35:00",11367,1924,11211,1808,-156,371.9,0.29277017827902796,1.3448275862068966,null,"2024-05-14","15:45:00",10221,1579,9726,1448,-495,371.85,0.24376659820363233,3.7786259541984735,371.85,null,{"$f":"IF(H147>S147,\"하락\",\"상승\")","v":"하락"},372.4,{"$f":"IF(AND(Y146=\"상승\",Z147>W146),\"성공\",IF(AND(Y146=\"하락\",Z147<W146),\"성공\",IF(AND(Y146=\"상승\",Z147=W146),\"동일가\",IF(AND(Y146=\"하락\",Z147=W146),\"동일가\",\"실패\"))))","v":"성공"},{"$f":"S147/H147-1","v":2.1730769230769229}]
[null,"2024-05-16","15:35:00",15041,2976,11928,1812,-3113,375.95,1.5286819945880517,2.6743986254295531,null,"2024-05-16","15:45:00",12227,1926,8544,1131,-3683,376,1.2059862113036459,4.6327044025157234,376,null,{"$f":"IF(H148>S148,\"하락\",\"상승\")","v":"하락"},379.05,{"$f":"IF(AND(Y147=\"상승\",Z148>W147),\"성공\",IF(AND(Y147=\"하락\",Z148<W147),\"성공\",IF(AND(Y147=\"상승\",Z148=W147),\"동일가\",IF(AND(Y147=\"하락\",Z148=W147),\"동일가\",\"실패\"))))","v":"실패"},{"$f":"S148/H148-1","v":0.18310311596530671}]
[null,"2024-05-17","15:35:00",21250,3695,9626,1189,-11624,371.45,2.3448640048436777,4.6384676775738232,null,"2024-05-17","15:45:00",14789,1993,10883,1003,-3906,371.35,3.4299770032601646,3.9454545454545453,371.35,null,{"$f":"IF(H149>S149,\"하락\",\"상승\")","v":"상승"},374.35,{"$f":"IF(AND(Y148=\"상승\",Z149>W148),\"성공\",IF(AND(Y148=\"하락\",Z149<W148),\"성공\",IF(AND(Y148=\"상승\",Z149=W148),\"동일가\",IF(AND(Y148=\"하락\",Z149=W148),\"동일가\",\"실패\"))))","v":"성공"},{"$f":"S149/H149-1","v":-0.66397109428768064}]
[null,"2024-05-20","15:35:00",10703,2043,14127,2426,3424,374.45,0.58430128978810458,8.9399477806788514,null,"2024-05-20","15:45:00",10678,1568,11816,1183,1138,374.65,3.1782167008815358,-2.9558441558441557,374.65,null,{"$f":"IF(H150>S150,\"하락\",\"상승\")","v":"하락"},374.1,{"$f":"IF(AND(Y149=\"상승\",Z150>W149),\"성공\",IF(AND(Y149=\"하락\",Z150<W149),\"성공\",IF(AND(Y149=\"상승\",Z150=W149),\"동일가\",IF(AND(Y149=\"하락\",Z150=W149),\"동일가\",\"실패\"))))","v":"성공"},{"$f":"S150/H150-1","v":-0.66764018691588789}]
[null,"2024-05-21","15:35:00",11774,1828,10985,1950,-789,373.05,-0.80758570386579098,-6.4672131147540988,null,"2024-05-21","15:45:00",10796,1221,10846,1377,50,373.25,-0.96538963205629802,0.32051282051282054,373.25,null,{"$f":"IF(H151>S151,\"하락\",\"상승\")","v":"상승"},373.85,{"$f":"IF(AND(Y150=\"상승\",Z151>W150),\"성공\",IF(AND(Y150=\"하락\",Z151<W150),\"성공\",IF(AND(Y150=\"상승\",Z151=W150),\"동일가\",IF(AND(Y150=\"하락\",Z151=W150),\"동일가\",\"실패\"))))","v":"성공"},{"$f":"S151/H151-1","v":-1.0633713561470215}]
[null,"2024-05-22","15:35:00",10451,1742,14433,2677,3982,372.9,-0.60794294382516956,4.2588235294117647,null,"2024-05-22","15:45:00",9119,1292,10425,1485,1306,372.85,-3.7847515401694842E-2,6.766839378238342,372.85,null,{"$f":"IF(H152>S152,\"하락\",\"상승\")","v":"하락"},373.45,{"$f":"IF(AND(Y151=\"상승\",Z152>W151),\"성공\",IF(AND(Y151=\"하락\",Z152<W151),\"성공\",IF(AND(Y151=\"상승\",Z152=W151),\"동일가\",IF(AND(Y151=\"하락\",Z152=W151),\"동일가\",\"실패\"))))","v":"성공"},{"$f":"S152/H152-1","v":-0.67202410848819683}]
[null,"2024-05-23","15:35:00",9900,1772,14631,2481,4731,372.55,0.31031141415161567,6.6727785613540194,null,"2024-05-23","15:45:00",9451,1358,11285,1429,1834,372.75,0.93763159711880206,25.830985915492956,372.75,null,{"$f":"IF(H153>S153,\"하락\",\"상승\")","v":"하락"},372.6,{"$f":"IF(AND(Y152=\"상승\",Z153>W152),\"성공\",IF(AND(Y152=\"하락\",Z153<W152),\"성공\",IF(AND(Y152=\"상승\",Z153=W152),\"동일가\",IF(AND(Y152=\"하락\",Z153=W152),\"동일가\",\"실패\"))))","v":"성공"},{"$f":"S153/H153-1","v":-0.61234411329528649}]
[null,"2024-05-24","15:35:00",13793,2380,10409,1685,-3384,366.6,0.3820699199561135,4.8690647482014384,null,"2024-05-24","15:45:00",10531,1579,9109,1296,-1422,366.55,0.35913836308337022,5.0247349823321557,366.55,null,{"$f":"IF(H154>S154,\"하락\",\"상승\")","v":"상승"},367.25,{"$f":"IF(AND(Y153=\"상승\",Z154>W153),\"성공\",IF(AND(Y153=\"하락\",Z154<W153),\"성공\",IF(AND(Y153=\"상승\",Z154=W153),\"동일가\",IF(AND(Y153=\"하락\",Z154=W153),\"동일가\",\"실패\"))))","v":"성공"},{"$f":"S154/H154-1","v":-0.57978723404255317}]
[null,"2024-05-27","15:35:00",6827,1104,13115,2471,6288,371.75,-0.87630902527287535,4.5998536942209221,null,"2024-05-27","15:45:00",10044,1057,13473,1745,3429,371.75,-1.7814482790402639,4.9840116279069768,371.75,null,{"$f":"IF(H155>S155,\"하락\",\"상승\")","v":"하락"},368.5,{"$f":"IF(AND(Y154=\"상승\",Z155>W154),\"성공\",IF(AND(Y154=\"하락\",Z155<W154),\"성공\",IF(AND(Y154=\"상승\",Z155=W154),\"동일가\",IF(AND(Y154=\"하락\",Z155=W154),\"동일가\",\"실패\"))))","v":"성공"},{"$f":"S155/H155-1","v":-0.45467557251908397}]
[null,"2024-05-28","15:35:00",10912,1596,17546,3107,6634,372.45,-1.1898445824893749,4.3904698874917276,null,"2024-05-28","15:45:00",8778,1120,13517,2193,4739,372.05,-1.6737973096215235,4.4165890027958996,372.05,null,{"$f":"IF(H156>S156,\"하락\",\"상승\")","v":"하락"},372.45,{"$f":"IF(AND(Y155=\"상승\",Z156>W155),\"성공\",IF(AND(Y155=\"하락\",Z156<W155),\"성공\",IF(AND(Y155=\"상승\",Z156=W155),\"동일가\",IF(AND(Y155=\"하락\",Z156=W155),\"동일가\",\"실패\"))))","v":"실패"},{"$f":"S156/H156-1","v":-0.28564968344889963}]
[null,"2024-05-29","15:35:00",16169,3146,8292,1300,-7877,366.2,1.2389192625556262,4.2670639219934996,null,"2024-05-29","15:45:00",12779,2171,10102,1198,-2677,366.35,2.5461597672767988,2.7512846865364851,366.35,null,{"$f":"IF(H157>S157,\"하락\",\"상승\")","v":"상승"},371.65,{"$f":"IF(AND(Y156=\"상승\",Z157>W156),\"성공\",IF(AND(Y156=\"하락\",Z157<W156),\"성공\",IF(AND(Y156=\"상승\",Z157=W156),\"동일가\",IF(AND(Y156=\"하락\",Z157=W156),\"동일가\",\"실패\"))))","v":"성공"},{"$f":"S157/H157-1","v":-0.66014980322457784}]
[null,"2024-05-30","15:35:00",16266,2853,9768,1243,-6498,360.05,2.1570400975219375,4.0360248447204965,null,"2024-05-30","15:45:00",13060,2008,9160,1065,-3900,360.1,2.0969549033911301,4.1357370095440089,360.1,null,{"$f":"IF(H158>S158,\"하락\",\"상승\")","v":"상승"},362.2,{"$f":"IF(AND(Y157=\"상승\",Z158>W157),\"성공\",IF(AND(Y157=\"하락\",Z158<W157),\"성공\",IF(AND(Y157=\"상승\",Z158=W157),\"동일가\",IF(AND(Y157=\"하락\",Z158=W157),\"동일가\",\"실패\"))))","v":"실패"},{"$f":"S158/H158-1","v":-0.39981532779316709}]
[null,"2024-05-31","15:35:00",13756,2157,9950,1208,-3806,360,1.8593789817228368,4.0105374077976821,null,"2024-05-31","15:45:00",11786,1655,10689,864,-1097,360.05,5.250077626720377,1.3868520859671303,360.05,null,{"$f":"IF(H159>S159,\"하락\",\"상승\")","v":"상승"},361.75,{"$f":"IF(AND(Y158=\"상승\",Z159>W158),\"성공\",IF(AND(Y158=\"하락\",Z159<W158),\"성공\",IF(AND(Y158=\"상승\",Z159=W158),\"동일가\",IF(AND(Y158=\"하락\",Z159=W158),\"동일가\",\"실패\"))))","v":"성공"},{"$f":"S159/H159-1","v":-0.71177088807146616}]
[null,"2024-06-03","15:35:00",8816,1634,19610,3327,10794,366.05,0.49885014084900892,6.3756645008860016,null,"2024-06-03","15:45:00",9128,1384,17097,2552,7969,366.1,0.10407568811495427,6.8227739726027394,366.1,null,{"$f":"IF(H160>S160,\"하락\",\"상승\")","v":"하락"},362.7,{"$f":"IF(AND(Y159=\"상승\",Z160>W159),\"성공\",IF(AND(Y159=\"하락\",Z160<W159),\"성공\",IF(AND(Y159=\"상승\",Z160=W159),\"동일가\",IF(AND(Y159=\"하락\",Z160=W159),\"동일가\",\"실패\"))))","v":"성공"},{"$f":"S160/H160-1","v":-0.26171947378173055}]
[null,"2024-06-04","15:35:00",13060,1925,11255,1637,-1805,363.3,9.0966211552649945E-2,6.2673611111111107,null,"2024-06-04","15:45:00",11297,1360,9617,1168,-1680,363.3,-7.2884770346494321E-2,8.75,363.3,null,{"$f":"IF(H161>S161,\"하락\",\"상승\")","v":"상승"},365.05,{"$f":"IF(AND(Y160=\"상승\",Z161>W160),\"성공\",IF(AND(Y160=\"하락\",Z161<W160),\"성공\",IF(AND(Y160=\"상승\",Z161=W160),\"동일가\",IF(AND(Y160=\"하락\",Z161=W160),\"동일가\",\"실패\"))))","v":"성공"},{"$f":"S161/H161-1","v":-6.9252077562326875E-2}]
[null,"2024-06-05","15:35:00",10711,1654,16216,2713,5505,366.55,-0.49866913347931607,5.1983002832861187,null,"2024-06-05","15:45:00",10766,1311,15650,2221,4884,366.5,-1.1656763622738495,5.3670329670329666,366.5,null,{"$f":"IF(H162>S162,\"하락\",\"상승\")","v":"하락"},366,{"$f":"IF(AND(Y161=\"상승\",Z162>W161),\"성공\",IF(AND(Y161=\"하락\",Z162<W161),\"성공\",IF(AND(Y161=\"상승\",Z162=W161),\"동일가\",IF(AND(Y161=\"하락\",Z162=W161),\"동일가\",\"실패\"))))","v":"성공"},{"$f":"S162/H162-1","v":-0.11280653950953679}]
[null,"2024-06-07","15:35:00",10602,1590,18794,2738,8192,371.9,0.1962098763730582,7.1358885017421603,null,"2024-06-07","15:45:00",9891,1259,14652,1740,4761,371.9,0.56445454794445471,9.8981288981288973,371.9,null,{"$f":"IF(H163>S163,\"하락\",\"상승\")","v":"하락"},369.8,{"$f":"IF(AND(Y162=\"상승\",Z163>W162),\"성공\",IF(AND(Y162=\"하락\",Z163<W162),\"성공\",IF(AND(Y162=\"상승\",Z163=W162),\"동일가\",IF(AND(Y162=\"하락\",Z163=W162),\"동일가\",\"실패\"))))","v":"실패"},{"$f":"S163/H163-1","v":-0.4188232421875}]
[null,"2024-06-10","15:35:00",12000,1721,11138,1696,-862,368.05,-0.40547331520726271,34.479999999999997,null,"2024-06-10","15:45:00",12157,1207,11833,1369,-324,368,-1.4285441087205566,-2,368,null,{"$f":"IF(H164>S164,\"하락\",\"상승\")","v":"상승"},367.85,{"$f":"IF(AND(Y163=\"상승\",Z164>W163),\"성공\",IF(AND(Y163=\"하락\",Z164<W163),\"성공\",IF(AND(Y163=\"상승\",Z164=W163),\"동일가\",IF(AND(Y163=\"하락\",Z164=W163),\"동일가\",\"실패\"))))","v":"성공"},{"$f":"S164/H164-1","v":-0.62412993039443154}]
[null,"2024-06-11",{"$f":"'1. 매수매도 총잔량'!$A$424","v":"15:35:00"},12000,1721,11138,1696,-862,368.5,-0.40547331520726271,34.479999999999997,null,"2024-06-11",{"$f":"'1. 매수매도 총잔량'!$A$434","v":"15:45:00"},12157,1207,11833,1369,-324,{"$f":"'1. 매수매도 총잔량'!$G$435","v":329.4},-1.4285441087205566,-2,368.85,null,{"$f":"IF(H165>S165,\"하락\",\"상승\")","v":"상승"},367.35,{"$f":"IF(AND(Y164=\"상승\",Z165>W164),\"성공\",IF(AND(Y164=\"하락\",Z165<W164),\"성공\",IF(AND(Y164=\"상승\",Z165=W164),\"동일가\",IF(AND(Y164=\"하락\",Z165=W164),\"동일가\",\"실패\"))))","v":"실패"},{"$f":"S165/H165-1","v":-0.62412993039443154}]
[null,"2024-06-12","15:35:00",7111,845,17866,2799,10755,371.65,-2.0323906889823293,5.504094165813715,null,"2024-06-12","15:45:00",6026,634,13333,2131,7307,371.7,-3.2480448597909488,4.8810955243820979,371.7,null,{"$f":"IF(H166>S166,\"하락\",\"상승\")","v":"하락"},368,{"$f":"IF(AND(Y165=\"상승\",Z166>W165),\"성공\",IF(AND(Y165=\"하락\",Z166<W165),\"성공\",IF(AND(Y165=\"상승\",Z166=W165),\"동일가\",IF(AND(Y165=\"하락\",Z166=W165),\"동일가\",\"실패\"))))","v":"실패"},{"$f":"S166/H166-1","v":-0.32059507205950721}]
[null,"2024-06-13","15:35:00",1290,400,2421,691,1131,375.75,0.27861794500723569,3.8865979381443299,null,"2024-06-13","15:45:00",1290,400,2421,691,1131,375.75,0.27861794500723569,3.8865979381443299,375.75,null,{"$f":"IF(H167>S167,\"하락\",\"상승\")","v":"상승"},375.5,{"$f":"IF(AND(Y166=\"상승\",Z167>W166),\"성공\",IF(AND(Y166=\"하락\",Z167<W166),\"성공\",IF(AND(Y166=\"상승\",Z167=W166),\"동일가\",IF(AND(Y166=\"하락\",Z167=W166),\"동일가\",\"실패\"))))","v":"실패"},{"$f":"S167/H167-1","v":0}]
[null,"2024-06-14","15:35:00",11441,1895,18180,3059,6739,377.45,-9.4348352238863065E-2,5.7895189003436425,null,"2024-06-14","15:45:00",11713,1553,14626,2161,2913,377.45,-0.77401354515882215,4.7911184210526319,377.45,null,{"$f":"IF(H168>S168,\"하락\",\"상승\")","v":"하락"},375.5,{"$f":"IF(AND(Y167=\"상승\",Z168>W167),\"성공\",IF(AND(Y167=\"하락\",Z168<W167),\"성공\",IF(AND(Y167=\"상승\",Z168=W167),\"동일가\",IF(AND(Y167=\"하락\",Z168=W167),\"동일가\",\"실패\"))))","v":"실패"},{"$f":"S168/H168-1","v":-0.56774002077459562}]
[null,"2024-06-17","15:35:00",13385,2273,11281,1788,-2104,376,0.42059075953391112,4.3381443298969069,null,"2024-06-17","15:45:00",11850,1692,10805,1455,-1045,375.95,0.42257073919719268,4.409282700421941,375.95,null,{"$f":"IF(H169>S169,\"하락\",\"상승\")","v":"상승"},376,{"$f":"IF(AND(Y168=\"상승\",Z169>W168),\"성공\",IF(AND(Y168=\"하락\",Z169<W168),\"성공\",IF(AND(Y168=\"상승\",Z169=W168),\"동일가\",IF(AND(Y168=\"하락\",Z169=W168),\"동일가\",\"실패\"))))","v":"성공"},{"$f":"S169/H169-1","v":-0.5033269961977187}]
[null,"2024-06-18","15:35:00",10906,1663,15147,2755,4241,379.9,-1.0600240310898128,3.8836996336996337,null,"2024-06-18","15:45:00",10904,1326,13536,2015,2632,379.6,-1.505609886634554,3.8200290275761972,379.6,null,{"$f":"IF(H170>S170,\"하락\",\"상승\")","v":"하락"},379.15,{"$f":"IF(AND(Y169=\"상승\",Z170>W169),\"성공\",IF(AND(Y169=\"하락\",Z170<W169),\"성공\",IF(AND(Y169=\"상승\",Z170=W169),\"동일가\",IF(AND(Y169=\"하락\",Z170=W169),\"동일가\",\"실패\"))))","v":"성공"},{"$f":"S170/H170-1","v":-0.37939165291204902}]
[null,"2024-06-19","15:35:00",7742,1134,14368,2522,6626,385.65,-1.1300946730499994,4.7737752161383282,null,"2024-06-19","15:45:00",9358,1077,13710,1983,4352,385.7,-1.7751837695621706,4.8035320088300217,385.7,null,{"$f":"IF(H171>S171,\"하락\",\"상승\")","v":"하락"},382.6,{"$f":"IF(AND(Y170=\"상승\",Z171>W170),\"성공\",IF(AND(Y170=\"하락\",Z171<W170),\"성공\",IF(AND(Y170=\"상승\",Z171=W170),\"동일가\",IF(AND(Y170=\"하락\",Z171=W170),\"동일가\",\"실패\"))))","v":"실패"},{"$f":"S171/H171-1","v":-0.34319348022939933}]
[null,"2024-06-20","15:35:00",9952,1532,13764,2575,3812,386.9,-1.1508408324672361,3.6548418024928093,null,"2024-06-20","15:45:00",9341,994,12657,1849,3316,386.8,-2.5520625102698391,3.8783625730994151,386.8,null,{"$f":"IF(H172>S172,\"하락\",\"상승\")","v":"하락"},385.2,{"$f":"IF(AND(Y171=\"상승\",Z172>W171),\"성공\",IF(AND(Y171=\"하락\",Z172<W171),\"성공\",IF(AND(Y171=\"상승\",Z172=W171),\"동일가\",IF(AND(Y171=\"하락\",Z172=W171),\"동일가\",\"실패\"))))","v":"성공"},{"$f":"S172/H172-1","v":-0.13011542497376705}]
[null,"2024-06-21","15:35:00",9687,1662,14827,2818,5140,383.65,-0.56698685346649835,4.4463667820069208,null,"2024-06-21","15:45:00",11696,1091,15767,2232,4071,383.45,-3.6563718629779665,3.5679228746713409,383.45,null,{"$f":"IF(H173>S173,\"하락\",\"상승\")","v":"하락"},383.25,{"$f":"IF(AND(Y172=\"상승\",Z173>W172),\"성공\",IF(AND(Y172=\"하락\",Z173<W172),\"성공\",IF(AND(Y172=\"상승\",Z173=W172),\"동일가\",IF(AND(Y172=\"하락\",Z173=W172),\"동일가\",\"실패\"))))","v":"성공"},{"$f":"S173/H173-1","v":-0.20797665369649809}]
[null,"2024-06-24","15:35:00",10102,1784,14129,2434,4027,380.6,0.14229193304125776,6.195384615384615,null,"2024-06-24","15:45:00",10299,1357,13865,2148,3566,380.7,-1.1346940273826727,4.5082174462705433,380.7,null,{"$f":"IF(H174>S174,\"하락\",\"상승\")","v":"하락"},381.45,{"$f":"IF(AND(Y173=\"상승\",Z174>W173),\"성공\",IF(AND(Y173=\"하락\",Z174<W173),\"성공\",IF(AND(Y173=\"상승\",Z174=W173),\"동일가\",IF(AND(Y173=\"하락\",Z174=W173),\"동일가\",\"실패\"))))","v":"성공"},{"$f":"S174/H174-1","v":-0.11447727837099575}]
[null,"2024-06-25","15:35:00",11306,1842,20182,3606,8876,381.55,-0.54111045470722807,5.0317460317460316,null,"2024-06-25",{"$f":"'1. 매수매도 총잔량'!$A$434","v":"15:45:00"},10286,1439,15977,2090,5691,381.95,0.496478149698588,8.7419354838709697,381.95,null,{"$f":"IF(H175>S175,\"하락\",\"상승\")","v":"하락"},379.65,{"$f":"IF(AND(Y174=\"상승\",Z175>W174),\"성공\",IF(AND(Y174=\"하락\",Z175<W174),\"성공\",IF(AND(Y174=\"상승\",Z175=W174),\"동일가\",IF(AND(Y174=\"하락\",Z175=W174),\"동일가\",\"실패\"))))","v":"성공"},{"$f":"S175/H175-1","v":-0.35883280757097791}]
[null,"2024-06-26","15:35:00",6683,1063,18947,3174,12264,384.7,-0.31748460711768534,5.8095689246802467,null,"2024-06-26","15:45:00",9137,924,17724,2349,8587,384.75,-2.3431896966379728,6.0259649122807017,384.75,null,{"$f":"IF(H176>S176,\"하락\",\"상승\")","v":"하락"},380.5,{"$f":"IF(AND(Y175=\"상승\",Z176>W175),\"성공\",IF(AND(Y175=\"하락\",Z176<W175),\"성공\",IF(AND(Y175=\"상승\",Z176=W175),\"동일가\",IF(AND(Y175=\"하락\",Z176=W175),\"동일가\",\"실패\"))))","v":"성공"},{"$f":"S176/H176-1","v":-0.29982061317677755}]
[null,"2024-06-27","15:35:00",8841,1286,17910,3354,9069,384.1,-1.5349129332817713,4.3853965183752415,null,"2024-06-27","15:45:00",8594,909,16920,2913,8326,383.8,-3.6459005323807352,4.1546906187624755,383.8,null,{"$f":"IF(H177>S177,\"하락\",\"상승\")","v":"하락"},381.7,{"$f":"IF(AND(Y176=\"상승\",Z177>W176),\"성공\",IF(AND(Y176=\"하락\",Z177<W176),\"성공\",IF(AND(Y176=\"상승\",Z177=W176),\"동일가\",IF(AND(Y176=\"하락\",Z177=W176),\"동일가\",\"실패\"))))","v":"성공"},{"$f":"S177/H177-1","v":-8.1927445142794153E-2}]
[null,"2024-06-28","15:35:00",9322,1490,13123,2091,3801,386.05,1.9568685224950144E-2,6.3244592346089847,null,"2024-06-28","15:45:00",10129,1407,12174,1623,2045,386.35,0.30191923929336717,9.4675925925925934,386.35,null,{"$f":"IF(H178>S178,\"하락\",\"상승\")","v":"하락"},385.55,{"$f":"IF(AND(Y177=\"상승\",Z178>W177),\"성공\",IF(AND(Y177=\"하락\",Z178<W177),\"성공\",IF(AND(Y177=\"상승\",Z178=W177),\"동일가\",IF(AND(Y177=\"하락\",Z178=W177),\"동일가\",\"실패\"))))","v":"실패"},{"$f":"S178/H178-1","v":-0.46198368850302551}]
[null,"2024-07-01","15:35:00",10097,1766,15986,2950,5889,386.75,-0.29845749275390165,4.9738175675675675,null,"2024-07-01","15:45:00",7446,1240,10460,1909,3014,386.7,-0.52553017117558554,4.5052316890881912,386.7,null,{"$f":"IF(H179>S179,\"하락\",\"상승\")","v":"하락"},384.3,{"$f":"IF(AND(Y178=\"상승\",Z179>W178),\"성공\",IF(AND(Y178=\"하락\",Z179<W178),\"성공\",IF(AND(Y178=\"상승\",Z179=W178),\"동일가\",IF(AND(Y178=\"하락\",Z179=W178),\"동일가\",\"실패\"))))","v":"성공"},{"$f":"S179/H179-1","v":-0.48819833588045514}]
[null,"2024-07-02","15:35:00",14828,2274,11980,2044,-2848,383.8,-0.65961167421390776,12.382608695652173,null,"2024-07-02","15:45:00",11763,1575,10979,1691,-784,383.5,-0.97596350426628398,-6.7586206896551726,383.5,null,{"$f":"IF(H180>S180,\"하락\",\"상승\")","v":"상승"},384.2,{"$f":"IF(AND(Y179=\"상승\",Z180>W179),\"성공\",IF(AND(Y179=\"하락\",Z180<W179),\"성공\",IF(AND(Y179=\"상승\",Z180=W179),\"동일가\",IF(AND(Y179=\"하락\",Z180=W179),\"동일가\",\"실패\"))))","v":"성공"},{"$f":"S180/H180-1","v":-0.7247191011235955}]
[null,"2024-07-03","15:35:00",13090,2295,12716,2461,-374,385.4,-0.53669842129817713,-2.2530120481927711,null,"2024-07-03","15:45:00",10180,1743,10281,1737,101,385.3,7.8320684663152562E-2,-16.833333333333332,385.3,null,{"$f":"IF(H181>S181,\"하락\",\"상승\")","v":"상승"},386,{"$f":"IF(AND(Y180=\"상승\",Z181>W180),\"성공\",IF(AND(Y180=\"하락\",Z181<W180),\"성공\",IF(AND(Y180=\"상승\",Z181=W180),\"동일가\",IF(AND(Y180=\"하락\",Z181=W180),\"동일가\",\"실패\"))))","v":"성공"},{"$f":"S181/H181-1","v":-1.2700534759358288}]
[null,"2024-07-04","15:35:00",8417,1152,23460,3881,15043,391.05,-1.2615898053909351,5.5122755588127523,null,"2024-07-04","15:45:00",10711,1159,15696,1871,4985,391.05,-0.85249083578473339,7.0014044943820224,391.05,null,{"$f":"IF(H182>S182,\"하락\",\"상승\")","v":"하락"},388.7,{"$f":"IF(AND(Y181=\"상승\",Z182>W181),\"성공\",IF(AND(Y181=\"하락\",Z182<W181),\"성공\",IF(AND(Y181=\"상승\",Z182=W181),\"동일가\",IF(AND(Y181=\"하락\",Z182=W181),\"동일가\",\"실패\"))))","v":"성공"},{"$f":"S182/H182-1","v":-0.66861663232068069}]
[null,"2024-07-05","15:35:00",8790,1735,17307,2985,8517,398.1,0.73170752899946478,6.8136000000000001,null,"2024-07-05","15:45:00",8579,1030,14130,1861,5551,398,-0.73643411257127589,6.6799037304452469,398,null,{"$f":"IF(H183>S183,\"하락\",\"상승\")","v":"하락"},390.7,{"$f":"IF(AND(Y182=\"상승\",Z183>W182),\"성공\",IF(AND(Y182=\"하락\",Z183<W182),\"성공\",IF(AND(Y182=\"상승\",Z183=W182),\"동일가\",IF(AND(Y182=\"하락\",Z183=W182),\"동일가\",\"실패\"))))","v":"성공"},{"$f":"S183/H183-1","v":-0.34824468709639544}]
[null,"2024-07-08","15:35:00",14498,2367,10190,1764,-4308,396.6,-0.34840881853375016,7.144278606965174,null,"2024-07-08","15:45:00",12219,1420,11720,1283,-499,396.7,0.52991064077371419,3.6423357664233578,396.7,null,{"$f":"IF(H184>S184,\"하락\",\"상승\")","v":"상승"},397.1,{"$f":"IF(AND(Y183=\"상승\",Z184>W183),\"성공\",IF(AND(Y183=\"하락\",Z184<W183),\"성공\",IF(AND(Y183=\"상승\",Z184=W183),\"동일가\",IF(AND(Y183=\"하락\",Z184=W183),\"동일가\",\"실패\"))))","v":"성공"},{"$f":"S184/H184-1","v":-0.88416898792943366}]
[null,"2024-07-09","15:35:00",12418,2026,17116,2935,4698,397.95,-0.29763231314882699,5.1683168316831685,null,"2024-07-09","15:45:00",10355,1341,12951,1350,2596,398.05,1.8714839671886656,288.44444444444446,398.05,null,{"$f":"IF(H185>S185,\"하락\",\"상승\")","v":"하락"},398.9,{"$f":"IF(AND(Y184=\"상승\",Z185>W184),\"성공\",IF(AND(Y184=\"하락\",Z185<W184),\"성공\",IF(AND(Y184=\"상승\",Z185=W184),\"동일가\",IF(AND(Y184=\"하락\",Z185=W184),\"동일가\",\"실패\"))))","v":"성공"},{"$f":"S185/H185-1","v":-0.44742443593018311}]
[null,"2024-07-10","15:35:00",10709,1634,18390,3106,7681,398.2,-0.63305711455145453,5.2180706521739131,null,"2024-07-10","15:45:00",7657,1020,11034,1692,3377,398.35,-0.98558614935335864,5.0252976190476186,398.35,null,{"$f":"IF(H186>S186,\"하락\",\"상승\")","v":"하락"},396.5,{"$f":"IF(AND(Y185=\"상승\",Z186>W185),\"성공\",IF(AND(Y185=\"하락\",Z186<W185),\"성공\",IF(AND(Y185=\"상승\",Z186=W185),\"동일가\",IF(AND(Y185=\"하락\",Z186=W185),\"동일가\",\"실패\"))))","v":"성공"},{"$f":"S186/H186-1","v":-0.56034370524671262}]
[null,"2024-07-11","15:35:00",12811,2136,12818,2004,7,400.4,0.39854840880037656,-5.3030303030303032E-2,null,"2024-07-11","15:45:00",12842,1657,11395,1128,-1447,400.55,2.3517994795344919,2.7353497164461249,400.55,null,{"$f":"IF(H187>S187,\"하락\",\"상승\")","v":"하락"},401.7,{"$f":"IF(AND(Y186=\"상승\",Z187>W186),\"성공\",IF(AND(Y186=\"하락\",Z187<W186),\"성공\",IF(AND(Y186=\"상승\",Z187=W186),\"동일가\",IF(AND(Y186=\"하락\",Z187=W186),\"동일가\",\"실패\"))))","v":"실패"},{"$f":"S187/H187-1","v":-207.71428571428572}]
[null,"2024-07-12","15:35:00",13444,2298,11115,1842,-2329,395.25,0.18389734169069261,5.1074561403508776,null,"2024-07-12","15:45:00",10931,1345,10437,1420,-494,395.25,-0.77713754646840272,-6.5866666666666669,395.25,null,{"$f":"IF(H188>S188,\"하락\",\"상승\")","v":"상승"},396.25,{"$f":"IF(AND(Y187=\"상승\",Z188>W187),\"성공\",IF(AND(Y187=\"하락\",Z188<W187),\"성공\",IF(AND(Y187=\"상승\",Z188=W187),\"동일가\",IF(AND(Y187=\"하락\",Z188=W187),\"동일가\",\"실패\"))))","v":"성공"},{"$f":"S188/H188-1","v":-0.78789179905538864}]
[null,"2024-07-15","15:35:00",11862,1427,14344,2268,2482,397.15,-1.9880288069963381,2.9512485136741975,null,"2024-07-15","15:45:00",10377,1126,12574,1670,2197,397.25,-1.6864668531498284,4.038602941176471,397.25,null,{"$f":"IF(H189>S189,\"하락\",\"상승\")","v":"하락"},396.6,{"$f":"IF(AND(Y188=\"상승\",Z189>W188),\"성공\",IF(AND(Y188=\"하락\",Z189<W188),\"성공\",IF(AND(Y188=\"상승\",Z189=W188),\"동일가\",IF(AND(Y188=\"하락\",Z189=W188),\"동일가\",\"실패\"))))","v":"성공"},{"$f":"S189/H189-1","v":-0.11482675261885578}]
[null,"2024-07-16","15:35:00",10580,1771,19222,3123,8642,397.3,0.18095321265350073,6.3920118343195265,null,"2024-07-16","15:45:00",9914,1304,15637,1540,5723,397.2,2.5511353676997848,24.25,397.2,null,{"$f":"IF(H190>S190,\"하락\",\"상승\")","v":"하락"},395.55,{"$f":"IF(AND(Y189=\"상승\",Z190>W189),\"성공\",IF(AND(Y189=\"하락\",Z190<W189),\"성공\",IF(AND(Y189=\"상승\",Z190=W189),\"동일가\",IF(AND(Y189=\"하락\",Z190=W189),\"동일가\",\"실패\"))))","v":"성공"},{"$f":"S190/H190-1","v":-0.33776903494561439}]
[null,"2024-07-17","15:35:00",18861,3038,7731,1214,-11130,394.15,0.15984351970048749,6.1019736842105265,null,"2024-07-17","15:45:00",14408,2035,10269,1074,-4139,394.2,2.4813542338682009,4.3069719042663888,394.2,null,{"$f":"IF(H191>S191,\"하락\",\"상승\")","v":"상승"},397.8,{"$f":"IF(AND(Y190=\"상승\",Z191>W190),\"성공\",IF(AND(Y190=\"하락\",Z191<W190),\"성공\",IF(AND(Y190=\"상승\",Z191=W190),\"동일가\",IF(AND(Y190=\"하락\",Z191=W190),\"동일가\",\"실패\"))))","v":"실패"},{"$f":"S191/H191-1","v":-0.6281221922731357}]
[null,"2024-07-18","15:35:00",11123,1429,11006,1823,-117,390.5,-1.7464637185914986,-0.29695431472081218,null,"2024-07-18","15:45:00",10849,1039,11350,1764,501,390.3,-4.0075305707781999,0.69103448275862067,390.3,null,{"$f":"IF(H192>S192,\"하락\",\"상승\")","v":"상승"},390,{"$f":"IF(AND(Y191=\"상승\",Z192>W191),\"성공\",IF(AND(Y191=\"하락\",Z192<W191),\"성공\",IF(AND(Y191=\"상승\",Z192=W191),\"동일가\",IF(AND(Y191=\"하락\",Z192=W191),\"동일가\",\"실패\"))))","v":"실패"},{"$f":"S192/H192-1","v":-5.2820512820512819}]
[null,"2024-07-19","15:35:00",13792,2155,10703,1729,-3089,386.1,-0.2097165991902834,7.251173708920188,null,"2024-07-19","15:45:00",11166,1345,9320,1258,-1846,386,-0.89327368041560007,21.2183908045977,386,null,{"$f":"IF(H193>S193,\"하락\",\"상승\")","v":"상승"},387.3,{"$f":"IF(AND(Y192=\"상승\",Z193>W192),\"성공\",IF(AND(Y192=\"하락\",Z193<W192),\"성공\",IF(AND(Y192=\"상승\",Z193=W192),\"동일가\",IF(AND(Y192=\"하락\",Z193=W192),\"동일가\",\"실패\"))))","v":"실패"},{"$f":"S193/H193-1","v":-0.40239559728067331}]
[null,"2024-07-22","15:35:00",12752,2320,10983,1740,-1769,382.45,0.81551724137931014,3.05,null,"2024-07-22","15:45:00",13369,1647,11593,1539,-1776,382.2,-0.58436924125736311,16.444444444444443,382.2,null,{"$f":"IF(H194>S194,\"하락\",\"상승\")","v":"하락"},383.35,{"$f":"IF(AND(Y193=\"상승\",Z194>W193),\"성공\",IF(AND(Y193=\"하락\",Z194<W193),\"성공\",IF(AND(Y193=\"상승\",Z194=W193),\"동일가\",IF(AND(Y193=\"하락\",Z194=W193),\"동일가\",\"실패\"))))","v":"실패"},{"$f":"S194/H194-1","v":3.9570378745052981E-3}]
[null,"2024-07-23","15:35:00",13441,2258,8996,1460,-4445,383.3,0.20903090381838663,5.5701754385964914,null,"2024-07-23","15:45:00",11902,1740,9640,1084,-2262,383.2,2.0527590448318271,3.4481707317073171,383.2,null,{"$f":"IF(H195>S195,\"하락\",\"상승\")","v":"상승"},384.5,{"$f":"IF(AND(Y194=\"상승\",Z195>W194),\"성공\",IF(AND(Y194=\"하락\",Z195<W194),\"성공\",IF(AND(Y194=\"상승\",Z195=W194),\"동일가\",IF(AND(Y194=\"하락\",Z195=W194),\"동일가\",\"실패\"))))","v":"실패"},{"$f":"S195/H195-1","v":-0.49111361079865012}]
[null,"2024-07-24","15:35:00",13983,2179,12109,1910,-1874,380.8,-7.737326070607331E-2,6.966542750929368,null,"2024-07-24","15:45:00",10825,1289,10846,1419,21,380.95,-0.75457207979264052,0.16153846153846155,380.95,null,{"$f":"IF(H196>S196,\"하락\",\"상승\")","v":"상승"},380.25,{"$f":"IF(AND(Y195=\"상승\",Z196>W195),\"성공\",IF(AND(Y195=\"하락\",Z196<W195),\"성공\",IF(AND(Y195=\"상승\",Z196=W195),\"동일가\",IF(AND(Y195=\"하락\",Z196=W195),\"동일가\",\"실패\"))))","v":"실패"},{"$f":"S196/H196-1","v":-1.011205976520811}]
[null,"2024-07-25","15:35:00",12763,2287,11187,1911,-1576,374.15,0.27332976848874146,4.1914893617021276,null,"2024-07-25","15:45:00",11481,1373,12819,1637,1338,374.35,-0.53119303648645744,5.0681818181818183,374.35,null,{"$f":"IF(H197>S197,\"하락\",\"상승\")","v":"상승"},375.35,{"$f":"IF(AND(Y196=\"상승\",Z197>W196),\"성공\",IF(AND(Y196=\"하락\",Z197<W196),\"성공\",IF(AND(Y196=\"상승\",Z197=W196),\"동일가\",IF(AND(Y196=\"하락\",Z197=W196),\"동일가\",\"실패\"))))","v":"실패"},{"$f":"S197/H197-1","v":-1.8489847715736041}]
[null,"2024-07-26","15:35:00",9252,1573,14421,2318,5169,375.8,0.33955686638249993,6.9382550335570468,null,"2024-07-26","15:45:00",10222,1330,11058,1501,836,375.95,-0.31862567811934905,4.8888888888888893,375.95,null,{"$f":"IF(H198>S198,\"하락\",\"상승\")","v":"하락"},373.5,{"$f":"IF(AND(Y197=\"상승\",Z198>W197),\"성공\",IF(AND(Y197=\"하락\",Z198<W197),\"성공\",IF(AND(Y197=\"상승\",Z198=W197),\"동일가\",IF(AND(Y197=\"하락\",Z198=W197),\"동일가\",\"실패\"))))","v":"실패"},{"$f":"S198/H198-1","v":-0.83826658928225961}]
[null,"2024-07-29","15:35:00",10671,1757,12896,2207,2225,380.05,-0.23019450452446133,4.9444444444444446,null,"2024-07-29","15:45:00",9996,1495,11184,1340,1188,380.25,1.6599810312983578,-7.6645161290322577,380.25,null,{"$f":"IF(H199>S199,\"하락\",\"상승\")","v":"하락"},378.95,{"$f":"IF(AND(Y198=\"상승\",Z199>W198),\"성공\",IF(AND(Y198=\"하락\",Z199<W198),\"성공\",IF(AND(Y198=\"상승\",Z199=W198),\"동일가\",IF(AND(Y198=\"하락\",Z199=W198),\"동일가\",\"실패\"))))","v":"실패"},{"$f":"S199/H199-1","v":-0.46606741573033705}]
[null,"2024-07-30","15:35:00",14487,1961,12675,2129,-1812,376.8,-1.4340580732455743,-10.785714285714286,null,"2024-07-30","15:45:00",10289,1113,9834,1476,-455,376.9,-2.5817829202550788,-1.2534435261707988,376.9,null,{"$f":"IF(H200>S200,\"하락\",\"상승\")","v":"상승"},375.9,{"$f":"IF(AND(Y199=\"상승\",Z200>W199),\"성공\",IF(AND(Y199=\"하락\",Z200<W199),\"성공\",IF(AND(Y199=\"상승\",Z200=W199),\"동일가\",IF(AND(Y199=\"하락\",Z200=W199),\"동일가\",\"실패\"))))","v":"성공"},{"$f":"S200/H200-1","v":-0.7488962472406181}]
[null,"2024-07-31","15:35:00",6104,890,17337,3166,11233,381.95,-1.3824320199876494,4.9354130052724079,null,"2024-07-31","15:45:00",9309,989,14105,2061,4796,382,-2.5687727545455115,4.4738805970149258,382,null,{"$f":"IF(H201>S201,\"하락\",\"상승\")","v":"하락"},375.7,{"$f":"IF(AND(Y200=\"상승\",Z201>W200),\"성공\",IF(AND(Y200=\"하락\",Z201<W200),\"성공\",IF(AND(Y200=\"상승\",Z201=W200),\"동일가\",IF(AND(Y200=\"하락\",Z201=W200),\"동일가\",\"실패\"))))","v":"실패"},{"$f":"S201/H201-1","v":-0.57304371049586034}]
[null,"2024-08-01","15:35:00",13294,2459,9240,1460,-4054,382.55,0.9225044148696151,4.0580580580580579,null,"2024-08-01","15:45:00",11256,1717,8405,1026,-2851,382.55,1.6363875293618113,4.1259044862518088,382.55,null,{"$f":"IF(H202>S202,\"하락\",\"상승\")","v":"상승"},386,{"$f":"IF(AND(Y201=\"상승\",Z202>W201),\"성공\",IF(AND(Y201=\"하락\",Z202<W201),\"성공\",IF(AND(Y201=\"상승\",Z202=W201),\"동일가\",IF(AND(Y201=\"하락\",Z202=W201),\"동일가\",\"실패\"))))","v":"실패"},{"$f":"S202/H202-1","v":-0.29674395658608776}]
[null,"2024-08-02","15:35:00",32096,5396,7741,1028,-24355,366.25,1.5820459311263857,5.5757783882783887,null,"2024-08-02","15:45:00",31502,4359,13774,1076,-17728,366.7,5.5742283409703983,5.3999390801096556,366.7,null,"상승",374.1,{"$f":"IF(AND(Y202=\"상승\",Z203>W202),\"성공\",IF(AND(Y202=\"하락\",Z203<W202),\"성공\",IF(AND(Y202=\"상승\",Z203=W202),\"동일가\",IF(AND(Y202=\"하락\",Z203=W202),\"동일가\",\"실패\"))))","v":"실패"},{"$f":"S203/H203-1","v":-0.27210018476698827}]
[null,"2024-08-05","15:35:00",13052,2414,2334,494,-10718,333.9,-0.68209734712154813,5.5822916666666664,null,"2024-08-05","15:45:00",26123,2348,19383,1183,-6740,330.45,5.2589765430480924,5.7854077253218881,330.45,null,{"$f":"IF(H204>S204,\"하락\",\"상승\")","v":"상승"},359.65,{"$f":"IF(AND(Y203=\"상승\",Z204>W203),\"성공\",IF(AND(Y203=\"하락\",Z204<W203),\"성공\",IF(AND(Y203=\"상승\",Z204=W203),\"동일가\",IF(AND(Y203=\"하락\",Z204=W203),\"동일가\",\"실패\"))))","v":"실패"},{"$f":"S204/H204-1","v":-0.37115133420414259}]
[null,"2024-08-06","15:35:00",10142,2102,6765,1254,-3377,341.95,0.5698082027142064,3.9823113207547172,null,"2024-08-06","15:45:00",19139,1451,15528,1301,-3611,340,-1.254779364439484,24.073333333333334,340,null,{"$f":"IF(H205>S205,\"하락\",\"상승\")","v":"하락"},343.9,{"$f":"IF(AND(Y204=\"상승\",Z205>W204),\"성공\",IF(AND(Y204=\"하락\",Z205<W204),\"성공\",IF(AND(Y204=\"상승\",Z205=W204),\"동일가\",IF(AND(Y204=\"하락\",Z205=W204),\"동일가\",\"실패\"))))","v":"성공"},{"$f":"S205/H205-1","v":6.9292271246668591E-2}]
[null,"2024-08-07","15:35:00",7617,1447,10771,2173,3154,350.25,-0.30725263975071382,4.3443526170798901,null,"2024-08-07","15:45:00",16759,1428,14817,1208,-1942,350.5,0.52973407906208791,8.827272727272728,350.5,null,{"$f":"IF(H206>S206,\"하락\",\"상승\")","v":"하락"},335.1,{"$f":"IF(AND(Y205=\"상승\",Z206>W205),\"성공\",IF(AND(Y205=\"하락\",Z206<W205),\"성공\",IF(AND(Y205=\"상승\",Z206=W205),\"동일가\",IF(AND(Y205=\"하락\",Z206=W205),\"동일가\",\"실패\"))))","v":"성공"},{"$f":"S206/H206-1","v":-1.61572606214331}]
[null,"2024-08-08","15:35:00",5009,1027,9157,1980,4148,346.15,-0.25256508610939044,4.3525708289611753,null,"2024-08-08","15:45:00",11501,965,15680,2123,4179,346.05,-4.5323598681111639,3.6088082901554404,346.05,null,{"$f":"IF(H207>S207,\"하락\",\"상승\")","v":"상승"},343.4,{"$f":"IF(AND(Y206=\"상승\",Z207>W206),\"성공\",IF(AND(Y206=\"하락\",Z207<W206),\"성공\",IF(AND(Y206=\"상승\",Z207=W206),\"동일가\",IF(AND(Y206=\"하락\",Z207=W206),\"동일가\",\"실패\"))))","v":"성공"},{"$f":"S207/H207-1","v":7.4734811957570813E-3}]
[null,"2024-08-09","15:35:00",9400,2115,8065,1505,-1335,352.2,0.91435954226651894,2.1885245901639343,null,"2024-08-09","15:45:00",11690,1811,10313,982,-1377,352.95,4.0470394207833778,1.6610373944511461,352.95,null,{"$f":"IF(H208>S208,\"하락\",\"상승\")","v":"하락"},356.45,{"$f":"IF(AND(Y207=\"상승\",Z208>W207),\"성공\",IF(AND(Y207=\"하락\",Z208<W207),\"성공\",IF(AND(Y207=\"상승\",Z208=W207),\"동일가\",IF(AND(Y207=\"하락\",Z208=W207),\"동일가\",\"실패\"))))","v":"성공"},{"$f":"S208/H208-1","v":3.1460674157303359E-2}]
[null,"2024-08-12","15:35:00",8074,1632,10353,1996,2279,355.75,0.24,6.26,null,"2024-08-12","15:45:00",8412,1315,8017,1165,-395,355.85,0.48,2.63,355.85,null,{"$f":"IF(H209>S209,\"하락\",\"상승\")","v":"하락"},353.25,{"$f":"IF(AND(Y208=\"상승\",Z209>W208),\"성공\",IF(AND(Y208=\"하락\",Z209<W208),\"성공\",IF(AND(Y208=\"상승\",Z209=W208),\"동일가\",IF(AND(Y208=\"하락\",Z209=W208),\"동일가\",\"실패\"))))","v":"실패"},{"$f":"S209/H209-1","v":-1.1733216322948661}]
[null,"2024-08-13","15:35:00",7367,1641,10321,1961,2954,357.05,0.77379528471246584,9.2312499999999993,null,"2024-08-13","15:45:00",6863,1304,7485,1107,622,357.35,1.4984808053602006,-3.1573604060913705,357.35,null,{"$f":"IF(H210>S210,\"하락\",\"상승\")","v":"하락"},358.15,{"$f":"IF(AND(Y209=\"상승\",Z210>W209),\"성공\",IF(AND(Y209=\"하락\",Z210<W209),\"성공\",IF(AND(Y209=\"상승\",Z210=W209),\"동일가\",IF(AND(Y209=\"하락\",Z210=W209),\"동일가\",\"실패\"))))","v":"실패"},{"$f":"S210/H210-1","v":-0.78943805010155721}]
[null,"2024-08-14","15:35:00",8995,1757,7739,1401,-1256,360.55,0.40438957944097975,3.5280898876404496,null,"2024-08-14","15:45:00",8860,1488,7848,957,-1012,360.95,2.2463258839788312,1.9058380414312617,360.95,null,{"$f":"IF(H211>S211,\"하락\",\"상승\")","v":"상승"},362.95,{"$f":"IF(AND(Y210=\"상승\",Z211>W210),\"성공\",IF(AND(Y210=\"하락\",Z211<W210),\"성공\",IF(AND(Y210=\"상승\",Z211=W210),\"동일가\",IF(AND(Y210=\"하락\",Z211=W210),\"동일가\",\"실패\"))))","v":"실패"},{"$f":"S211/H211-1","v":-0.19426751592356684}]
[null,"2024-08-16","15:35:00",9170,1822,13707,2250,4537,368.75,1.0590691547749724,10.600467289719626,null,"2024-08-16","15:45:00",9978,1495,11483,1205,1505,369.25,2.8552130892740673,-5.1896551724137927,369.25,null,{"$f":"IF(H212>S212,\"하락\",\"상승\")","v":"하락"},368.1,{"$f":"IF(AND(Y211=\"상승\",Z212>W211),\"성공\",IF(AND(Y211=\"하락\",Z212<W211),\"성공\",IF(AND(Y211=\"상승\",Z212=W211),\"동일가\",IF(AND(Y211=\"하락\",Z212=W211),\"동일가\",\"실패\"))))","v":"성공"},{"$f":"S212/H212-1","v":-0.66828300639188898}]
[null,"2024-08-19","15:35:00",12859,2510,6693,928,-6166,365.1,2.0891769130375053,3.8975979772439948,null,"2024-08-19","15:45:00",11961,1639,8096,700,-3865,365.05,4.2679717597838405,4.1160809371671991,365.05,null,{"$f":"IF(H213>S213,\"하락\",\"상승\")","v":"상승"},371,{"$f":"IF(AND(Y212=\"상승\",Z213>W212),\"성공\",IF(AND(Y212=\"하락\",Z213<W212),\"성공\",IF(AND(Y212=\"상승\",Z213=W212),\"동일가\",IF(AND(Y212=\"하락\",Z213=W212),\"동일가\",\"실패\"))))","v":"실패"},{"$f":"S213/H213-1","v":-0.37317547843010057}]
[null,"2024-08-20","15:35:00",10580,1886,13048,2127,2468,369.55,0.52470558556079272,10.240663900414937,null,"2024-08-20","15:45:00",10697,1545,9175,1028,-1522,369.65,2.0014726807953354,2.9439071566731143,369.65,null,{"$f":"IF(H214>S214,\"하락\",\"상승\")","v":"하락"},371,{"$f":"IF(AND(Y213=\"상승\",Z214>W213),\"성공\",IF(AND(Y213=\"하락\",Z214<W213),\"성공\",IF(AND(Y213=\"상승\",Z214=W213),\"동일가\",IF(AND(Y213=\"하락\",Z214=W213),\"동일가\",\"실패\"))))","v":"성공"},{"$f":"S214/H214-1","v":-1.6166936790923825}]
[null,"2024-08-21","15:35:00",10329,1623,12352,2131,2023,369,-0.56780073399365616,3.9822834645669292,null,"2024-08-21","15:45:00",10109,1083,11115,1202,1006,369.2,-8.7168508011425061E-2,8.4537815126050422,369.2,null,{"$f":"IF(H215>S215,\"하락\",\"상승\")","v":"하락"},367.45,{"$f":"IF(AND(Y214=\"상승\",Z215>W214),\"성공\",IF(AND(Y214=\"하락\",Z215<W214),\"성공\",IF(AND(Y214=\"상승\",Z215=W214),\"동일가\",IF(AND(Y214=\"하락\",Z215=W214),\"동일가\",\"실패\"))))","v":"성공"},{"$f":"S215/H215-1","v":-0.5027187345526446}]
[null,"2024-08-22","15:35:00",10059,1867,9137,1709,-922,369.25,-4.1386490688728905E-2,5.8354430379746836,null,"2024-08-22","15:45:00",10149,1434,8392,983,-1757,369.45,1.4597253731851518,3.8957871396895789,369.45,null,{"$f":"IF(H216>S216,\"하락\",\"상승\")","v":"하락"},371.2,{"$f":"IF(AND(Y215=\"상승\",Z216>W215),\"성공\",IF(AND(Y215=\"하락\",Z216<W215),\"성공\",IF(AND(Y215=\"상승\",Z216=W215),\"동일가\",IF(AND(Y215=\"하락\",Z216=W215),\"동일가\",\"실패\"))))","v":"실패"},{"$f":"S216/H216-1","v":0.90563991323210402}]
[null,"2024-08-23","15:35:00",7382,1268,12078,1893,4696,368.9,0.55858209141765869,7.5136000000000003,null,"2024-08-23","15:45:00",7821,924,9745,1314,1924,368.85,-1.0479995651228524,4.9333333333333336,368.85,null,{"$f":"IF(H217>S217,\"하락\",\"상승\")","v":"하락"},366,{"$f":"IF(AND(Y216=\"상승\",Z217>W216),\"성공\",IF(AND(Y216=\"하락\",Z217<W216),\"성공\",IF(AND(Y216=\"상승\",Z217=W216),\"동일가\",IF(AND(Y216=\"하락\",Z217=W216),\"동일가\",\"실패\"))))","v":"성공"},{"$f":"S217/H217-1","v":-0.59028960817717202}]
[null,"2024-08-26","15:35:00",14049,2761,8140,1222,-5909,366.75,1.5728373516794303,3.8395061728395063,null,"2024-08-26","15:45:00",9900,1947,6734,755,-3166,367.1,3.8344595353013817,2.6560402684563758,367.1,null,{"$f":"IF(H218>S218,\"하락\",\"상승\")","v":"상승"},369.4,{"$f":"IF(AND(Y217=\"상승\",Z218>W217),\"성공\",IF(AND(Y217=\"하락\",Z218<W217),\"성공\",IF(AND(Y217=\"상승\",Z218=W217),\"동일가\",IF(AND(Y217=\"하락\",Z218=W217),\"동일가\",\"실패\"))))","v":"실패"},{"$f":"S218/H218-1","v":-0.4642071416483331}]
[null,"2024-08-27","15:35:00",10143,1834,12287,1837,2144,365.7,1.15808840334598,714.66666666666663,null,"2024-08-27","15:45:00",7666,1358,9189,1062,1523,366.35,3.0074760989491027,-5.1452702702702702,366.35,null,{"$f":"IF(H219>S219,\"하락\",\"상승\")","v":"하락"},366.2,{"$f":"IF(AND(Y218=\"상승\",Z219>W218),\"성공\",IF(AND(Y218=\"하락\",Z219<W218),\"성공\",IF(AND(Y218=\"상승\",Z219=W218),\"동일가\",IF(AND(Y218=\"하락\",Z219=W218),\"동일가\",\"실패\"))))","v":"실패"},{"$f":"S219/H219-1","v":-0.28964552238805974}]
[null,"2024-08-28","15:35:00",9209,1207,10340,1763,1131,366.7,-1.7646574787552858,2.0341726618705036,null,"2024-08-28","15:45:00",9191,1049,10654,1226,1463,367.45,-7.1628848728767736E-2,8.2655367231638426,367.45,null,{"$f":"IF(H220>S220,\"하락\",\"상승\")","v":"상승"},364.95,{"$f":"IF(AND(Y219=\"상승\",Z220>W219),\"성공\",IF(AND(Y219=\"하락\",Z220<W219),\"성공\",IF(AND(Y219=\"상승\",Z220=W219),\"동일가\",IF(AND(Y219=\"하락\",Z220=W219),\"동일가\",\"실패\"))))","v":"성공"},{"$f":"S220/H220-1","v":0.29354553492484525}]
[null,"2024-08-29","15:35:00",11626,1640,12550,2106,924,361.55,-1.1298600977462767,1.9828326180257512,null,"2024-08-29","15:45:00",9572,1172,9481,1197,-91,361.65,-0.24660057424562432,-3.64,361.65,null,"하락",361.5,{"$f":"IF(AND(Y220=\"상승\",Z221>W220),\"성공\",IF(AND(Y220=\"하락\",Z221<W220),\"성공\",IF(AND(Y220=\"상승\",Z221=W220),\"동일가\",IF(AND(Y220=\"하락\",Z221=W220),\"동일가\",\"실패\"))))","v":"실패"},{"$f":"S221/H221-1","v":-1.0984848484848484}]
[null,"2024-08-30","15:35:00",9010,1416,11160,1552,2150,363,0.82772729920205013,15.808823529411764,null,"2024-08-30","15:45:00",7440,1177,7511,976,71,362.8,1.3745412412774902,-0.35323383084577115,362.8,null,{"$f":"IF(H222>S222,\"하락\",\"상승\")","v":"하락"},362.6,{"$f":"IF(AND(Y221=\"상승\",Z222>W221),\"성공\",IF(AND(Y221=\"하락\",Z222<W221),\"성공\",IF(AND(Y221=\"상승\",Z222=W221),\"동일가\",IF(AND(Y221=\"하락\",Z222=W221),\"동일가\",\"실패\"))))","v":"실패"},{"$f":"S222/H222-1","v":-0.96697674418604651}]
[null,"2024-09-02","15:35:00",10848,1659,11483,1906,635,362.25,-0.51421987100789579,2.57085020242915,null,"2024-09-02","15:45:00",8165,1274,8406,1172,241,362.7,0.76340675414297987,-2.3627450980392157,362.7,null,{"$f":"IF(H223>S223,\"하락\",\"상승\")","v":"하락"},362,{"$f":"IF(AND(Y222=\"상승\",Z223>W222),\"성공\",IF(AND(Y222=\"하락\",Z223<W222),\"성공\",IF(AND(Y222=\"상승\",Z223=W222),\"동일가\",IF(AND(Y222=\"하락\",Z223=W222),\"동일가\",\"실패\"))))","v":"성공"},{"$f":"S223/H223-1","v":-0.62047244094488185}]
[null,"2024-09-03","15:35:00",13608,2450,7187,968,-6421,359.7,1.8703010625737901,4.3326585695006745,null,"2024-09-03","15:45:00",9972,1453,7623,823,-2349,359.25,2.3994124528879377,3.7285714285714286,359.25,null,{"$f":"IF(H224>S224,\"하락\",\"상승\")","v":"상승"},363.05,{"$f":"IF(AND(Y223=\"상승\",Z224>W223),\"성공\",IF(AND(Y223=\"하락\",Z224<W223),\"성공\",IF(AND(Y223=\"상승\",Z224=W223),\"동일가\",IF(AND(Y223=\"하락\",Z224=W223),\"동일가\",\"실패\"))))","v":"실패"},{"$f":"S224/H224-1","v":-0.63416913253387319}]
[null,"2024-09-04","15:35:00",12864,2096,7520,1156,-5344,347.2,0.36778573126601355,5.6851063829787236,null,"2024-09-04","15:45:00",12634,1232,11769,1171,-865,346.8,-0.20448584293588468,14.180327868852459,346.8,null,{"$f":"IF(H225>S225,\"하락\",\"상승\")","v":"상승"},349,{"$f":"IF(AND(Y224=\"상승\",Z225>W224),\"성공\",IF(AND(Y224=\"하락\",Z225<W224),\"성공\",IF(AND(Y224=\"상승\",Z225=W224),\"동일가\",IF(AND(Y224=\"하락\",Z225=W224),\"동일가\",\"실패\"))))","v":"실패"},{"$f":"S225/H225-1","v":-0.83813622754491024}]
[null,"2024-09-05","15:35:00",12532,2139,7482,1055,-5050,345.95,1.2331305987428234,4.658671586715867,null,"2024-09-05","15:45:00",9315,1331,8198,774,-1117,346.1,3.5932338957516743,2.0053859964093359,346.1,null,{"$f":"IF(H226>S226,\"하락\",\"상승\")","v":"상승"},348.7,{"$f":"IF(AND(Y225=\"상승\",Z226>W225),\"성공\",IF(AND(Y225=\"하락\",Z226<W225),\"성공\",IF(AND(Y225=\"상승\",Z226=W225),\"동일가\",IF(AND(Y225=\"하락\",Z226=W225),\"동일가\",\"실패\"))))","v":"성공"},{"$f":"S226/H226-1","v":-0.77881188118811884}]
[null,"2024-09-06","15:35:00",15123,2225,6790,1086,-8333,342.5,-0.54455190680158072,7.3160667251975413,null,"2024-09-06","15:45:00",9540,1164,9062,905,-478,342.2,1.8173833798484935,1.8455598455598456,342.2,null,{"$f":"IF(H227>S227,\"하락\",\"상승\")","v":"상승"},347,{"$f":"IF(AND(Y226=\"상승\",Z227>W226),\"성공\",IF(AND(Y226=\"하락\",Z227<W226),\"성공\",IF(AND(Y226=\"상승\",Z227=W226),\"동일가\",IF(AND(Y226=\"하락\",Z227=W226),\"동일가\",\"실패\"))))","v":"성공"},{"$f":"S227/H227-1","v":-0.94263770550822035}]
[null,"2024-09-09","15:35:00",6057,913,12475,1979,6418,341.3,-0.33048432417713425,6.0206378986866795,null,"2024-09-09","15:45:00",7064,698,8632,1144,1568,341.5,-2.5748892940870016,3.5156950672645739,341.5,null,{"$f":"IF(H228>S228,\"하락\",\"상승\")","v":"하락"},334,{"$f":"IF(AND(Y227=\"상승\",Z228>W227),\"성공\",IF(AND(Y227=\"하락\",Z228<W227),\"성공\",IF(AND(Y227=\"상승\",Z228=W227),\"동일가\",IF(AND(Y227=\"하락\",Z228=W227),\"동일가\",\"실패\"))))","v":"실패"},{"$f":"S228/H228-1","v":-0.75568712994702403}]
[null,"2024-09-10","15:35:00",13149,1932,7622,1086,-5527,339.35,0.21251558514349789,6.5330969267139478,null,"2024-09-10","15:45:00",8399,880,7457,846,-942,339.15,-0.72989737803567678,27.705882352941178,339.15,null,{"$f":"IF(H229>S229,\"하락\",\"상승\")","v":"상승"},341.75,{"$f":"IF(AND(Y228=\"상승\",Z229>W228),\"성공\",IF(AND(Y228=\"하락\",Z229<W228),\"성공\",IF(AND(Y228=\"상승\",Z229=W228),\"동일가\",IF(AND(Y228=\"하락\",Z229=W228),\"동일가\",\"실패\"))))","v":"실패"},{"$f":"S229/H229-1","v":-0.82956395874796451}]
[null,"2024-09-11","15:35:00",12589,1670,7534,1122,-5055,336,-0.82352834438075728,9.2244525547445253,null,"2024-09-11","15:45:00",6631,760,5657,654,-974,335.85,-7.5152905198775599E-2,9.1886792452830193,335.85,null,{"$f":"IF(H230>S230,\"하락\",\"상승\")","v":"상승"},339.8,{"$f":"IF(AND(Y229=\"상승\",Z230>W229),\"성공\",IF(AND(Y229=\"하락\",Z230<W229),\"성공\",IF(AND(Y229=\"상승\",Z230=W229),\"동일가\",IF(AND(Y229=\"하락\",Z230=W229),\"동일가\",\"실패\"))))","v":"성공"},{"$f":"S230/H230-1","v":-0.80731948565776457}]
[null,"2024-09-12","15:35:00",2116,205,3151,420,1035,342.95,-2.819570267131243,4.8139534883720927,null,"2024-09-12","15:45:00",2116,205,3151,420,1035,342.95,-2.819570267131243,4.8139534883720927,342.95,null,{"$f":"IF(H231>S231,\"하락\",\"상승\")","v":"상승"},340.4,{"$f":"IF(AND(Y230=\"상승\",Z231>W230),\"성공\",IF(AND(Y230=\"하락\",Z231<W230),\"성공\",IF(AND(Y230=\"상승\",Z231=W230),\"동일가\",IF(AND(Y230=\"하락\",Z231=W230),\"동일가\",\"실패\"))))","v":"성공"},{"$f":"S231/H231-1","v":0}]
[null,"2024-09-13","15:35:00",9424,1515,10415,1955,991,345.55,-0.89309631730436401,2.2522727272727274,null,"2024-09-13","15:45:00",8431,830,7947,940,-484,345.95,-1.703576006152268,-4.4000000000000004,345.95,null,{"$f":"IF(H232>S232,\"하락\",\"상승\")","v":"하락"},345.4,{"$f":"IF(AND(Y231=\"상승\",Z232>W231),\"성공\",IF(AND(Y231=\"하락\",Z232<W231),\"성공\",IF(AND(Y231=\"상승\",Z232=W231),\"동일가\",IF(AND(Y231=\"하락\",Z232=W231),\"동일가\",\"실패\"))))","v":"성공"},{"$f":"S232/H232-1","v":-1.4883955600403633}]
[null,"2024-09-19","15:35:00",9713,1484,8739,1926,-974,345.85,-2.0077650704083441,-2.2036199095022626,null,"2024-09-19","15:45:00",8389,1052,7662,1296,-727,345.75,-2.0622975637234191,-2.9795081967213113,345.75,null,{"$f":"IF(H233>S233,\"하락\",\"상승\")","v":"상승"},347.15,{"$f":"IF(AND(Y232=\"상승\",Z233>W232),\"성공\",IF(AND(Y232=\"하락\",Z233<W232),\"성공\",IF(AND(Y232=\"상승\",Z233=W232),\"동일가\",IF(AND(Y232=\"하락\",Z233=W232),\"동일가\",\"실패\"))))","v":"실패"},{"$f":"S233/H233-1","v":-0.25359342915811089}]
[null,"2024-09-20","15:35:00",10253,2042,5208,1039,-5045,346.55,-8.5457556849943828E-3,5.0299102691924231,null,"2024-09-20","15:45:00",8743,1501,5710,653,-3033,346.65,2.9194737964379023,3.5766509433962264,346.65,null,{"$f":"IF(H234>S234,\"하락\",\"상승\")","v":"상승"},349.25,{"$f":"IF(AND(Y233=\"상승\",Z234>W233),\"성공\",IF(AND(Y233=\"하락\",Z234<W233),\"성공\",IF(AND(Y233=\"상승\",Z234=W233),\"동일가\",IF(AND(Y233=\"하락\",Z234=W233),\"동일가\",\"실패\"))))","v":"성공"},{"$f":"S234/H234-1","v":-0.398810703666997}]
[null,"2024-09-23","15:35:00",8774,1461,11482,1730,2708,347.2,0.63151851807891468,10.066914498141264,null,"2024-09-23","15:45:00",7795,1184,8793,1092,998,347.45,1.468582937332938,-10.847826086956522,347.45,null,{"$f":"IF(H235>S235,\"하락\",\"상승\")","v":"하락"},347.4,{"$f":"IF(AND(Y234=\"상승\",Z235>W234),\"성공\",IF(AND(Y234=\"하락\",Z235<W234),\"성공\",IF(AND(Y234=\"상승\",Z235=W234),\"동일가\",IF(AND(Y234=\"하락\",Z235=W234),\"동일가\",\"실패\"))))","v":"성공"},{"$f":"S235/H235-1","v":-0.6314623338257016}]
[null,"2024-09-24","15:35:00",5523,715,13615,2459,8092,351.85,-2.19,4.6399999999999997,null,"2024-09-24","15:45:00",8250,730,10460,1364,2210,352,-3.63,3.49,352,null,{"$f":"IF(H236>S236,\"하락\",\"상승\")","v":"하락"},347.9,{"$f":"IF(AND(Y235=\"상승\",Z236>W235),\"성공\",IF(AND(Y235=\"하락\",Z236<W235),\"성공\",IF(AND(Y235=\"상승\",Z236=W235),\"동일가\",IF(AND(Y235=\"하락\",Z236=W235),\"동일가\",\"실패\"))))","v":"실패"},{"$f":"S236/H236-1","v":-0.72689075630252109}]
[null,"2024-09-25","15:35:00",14612,2879,4258,679,-10354,346.4,1.1956133516741261,4.7063636363636361,null,"2024-09-25","15:45:00",10606,1291,9332,725,-1274,346.3,4.6563871898287879,2.2508833922261484,346.3,null,{"$f":"IF(H237>S237,\"하락\",\"상승\")","v":"상승"},354.6,{"$f":"IF(AND(Y236=\"상승\",Z237>W236),\"성공\",IF(AND(Y236=\"하락\",Z237<W236),\"성공\",IF(AND(Y236=\"상승\",Z237=W236),\"동일가\",IF(AND(Y236=\"하락\",Z237=W236),\"동일가\",\"실패\"))))","v":"실패"},{"$f":"S237/H237-1","v":-0.87695576588757973}]
[null,"2024-09-26","15:35:00",2533,446,14150,2827,11617,358.55,-0.67406621924079246,4.8790424191516166,null,"2024-09-26","15:45:00",12366,976,15740,1848,3374,358.5,-4.1527659498970966,3.8692660550458715,358.5,null,{"$f":"IF(H238>S238,\"하락\",\"상승\")","v":"하락"},352,{"$f":"IF(AND(Y237=\"상승\",Z238>W237),\"성공\",IF(AND(Y237=\"하락\",Z238<W237),\"성공\",IF(AND(Y237=\"상승\",Z238=W237),\"동일가\",IF(AND(Y237=\"하락\",Z238=W237),\"동일가\",\"실패\"))))","v":"성공"},{"$f":"S238/H238-1","v":-0.70956357062925024}]
[null,"2024-09-27","15:35:00",12867,2330,4693,818,-8174,355.8,0.21484621761440525,5.4060846560846558,null,"2024-09-27","15:45:00",11931,1297,8568,793,-3363,355.85,1.6056191366048918,6.6726190476190474,355.85,null,{"$f":"IF(H239>S239,\"하락\",\"상승\")","v":"상승"},361.2,{"$f":"IF(AND(Y238=\"상승\",Z239>W238),\"성공\",IF(AND(Y238=\"하락\",Z239<W238),\"성공\",IF(AND(Y238=\"상승\",Z239=W238),\"동일가\",IF(AND(Y238=\"하락\",Z239=W238),\"동일가\",\"실패\"))))","v":"실패"},{"$f":"S239/H239-1","v":-0.58857352581355515}]
[null,"2024-09-30","15:35:00",14346,2987,4468,802,-9878,347.75,0.76826013306205532,4.5208237986270019,null,"2024-09-30","15:45:00",12347,1620,9540,879,-2807,347.9,3.2316373825475084,3.7881241565452091,347.9,null,{"$f":"IF(H240>S240,\"하락\",\"상승\")","v":"상승"},358.5,{"$f":"IF(AND(Y239=\"상승\",Z240>W239),\"성공\",IF(AND(Y239=\"하락\",Z240<W239),\"성공\",IF(AND(Y239=\"상승\",Z240=W239),\"동일가\",IF(AND(Y239=\"하락\",Z240=W239),\"동일가\",\"실패\"))))","v":"성공"},{"$f":"S240/H240-1","v":-0.71583316460822033}]
[null,"2024-10-02","15:35:00",9214,1586,7821,1425,-1393,342.95,-0.32116280613260795,8.6521739130434785,null,"2024-10-02","15:45:00",8924,953,9112,1201,188,342.75,-1.7771025020248086,0.75806451612903225,342.75,null,{"$f":"IF(H241>S241,\"하락\",\"상승\")","v":"상승"},342.75,{"$f":"IF(AND(Y240=\"상승\",Z241>W240),\"성공\",IF(AND(Y240=\"하락\",Z241<W240),\"성공\",IF(AND(Y240=\"상승\",Z241=W240),\"동일가\",IF(AND(Y240=\"하락\",Z241=W240),\"동일가\",\"실패\"))))","v":"실패"},{"$f":"S241/H241-1","v":-1.1349605168700645}]
[null,"2024-10-04","15:35:00",7794,1406,8687,1502,893,343.95,0.24023634679602157,9.3020833333333339,null,"2024-10-04","15:45:00",10257,1078,8836,1026,-1421,344.1,-0.90275653057607919,27.326923076923077,344.1,null,{"$f":"IF(H242>S242,\"하락\",\"상승\")","v":"하락"},344.2,{"$f":"IF(AND(Y241=\"상승\",Z242>W241),\"성공\",IF(AND(Y241=\"하락\",Z242<W241),\"성공\",IF(AND(Y241=\"상승\",Z242=W241),\"동일가\",IF(AND(Y241=\"하락\",Z242=W241),\"동일가\",\"실패\"))))","v":"성공"},{"$f":"S242/H242-1","v":-2.591265397536394}]
[null,"2024-10-07","15:35:00",5203,869,11515,2654,6312,349.15,-1.6486077857163295,3.5361344537815125,null,"2024-10-07","15:45:00",9152,849,10860,1434,1708,349.25,-3.2065191142914875,2.9196581196581195,349.25,null,{"$f":"IF(H243>S243,\"하락\",\"상승\")","v":"하락"},346.15,{"$f":"IF(AND(Y242=\"상승\",Z243>W242),\"성공\",IF(AND(Y242=\"하락\",Z243<W242),\"성공\",IF(AND(Y242=\"상승\",Z243=W242),\"동일가\",IF(AND(Y242=\"하락\",Z243=W242),\"동일가\",\"실패\"))))","v":"실패"},{"$f":"S243/H243-1","v":-0.729404309252218}]
[null,"2024-10-08","15:35:00",7146,1362,7861,1525,715,346.2,-9.1941936881634767E-2,4.3865030674846626,null,"2024-10-08","15:45:00",7454,1029,7870,1243,416,346.15,-0.91246998742032215,1.9439252336448598,346.15,null,{"$f":"IF(H244>S244,\"하락\",\"상승\")","v":"하락"},347.2,{"$f":"IF(AND(Y243=\"상승\",Z244>W243),\"성공\",IF(AND(Y243=\"하락\",Z244<W243),\"성공\",IF(AND(Y243=\"상승\",Z244=W243),\"동일가\",IF(AND(Y243=\"하락\",Z244=W243),\"동일가\",\"실패\"))))","v":"성공"},{"$f":"S244/H244-1","v":-0.41818181818181821}]
[null,"2024-10-10","15:35:00",12263,2210,7063,1226,-5200,346.8,0.21214264096904945,5.2845528455284549,null,"2024-10-10","15:45:00",10373,1542,7684,826,-2689,346.85,2.5756854875432991,3.755586592178771,346.85,null,{"$f":"IF(H245>S245,\"하락\",\"상승\")","v":"상승"},350.05,{"$f":"IF(AND(Y244=\"상승\",Z245>W244),\"성공\",IF(AND(Y244=\"하락\",Z245<W244),\"성공\",IF(AND(Y244=\"상승\",Z245=W244),\"동일가\",IF(AND(Y244=\"하락\",Z245=W244),\"동일가\",\"실패\"))))","v":"실패"},{"$f":"S245/H245-1","v":-0.48288461538461536}]
[null,"2024-10-11","15:35:00",10355,1965,8304,1257,-2051,347.3,1.3364851488154885,2.8968926553672318,null,"2024-10-11","15:45:00",8340,1356,6395,808,-1945,347.25,1.7641614825199339,3.5492700729927007,347.25,null,{"$f":"IF(H246>S246,\"하락\",\"상승\")","v":"상승"},350.2,{"$f":"IF(AND(Y245=\"상승\",Z246>W245),\"성공\",IF(AND(Y245=\"하락\",Z246<W245),\"성공\",IF(AND(Y245=\"상승\",Z246=W245),\"동일가\",IF(AND(Y245=\"하락\",Z246=W245),\"동일가\",\"실패\"))))","v":"성공"},{"$f":"S246/H246-1","v":-5.1682106289614782E-2}]
[null,"2024-10-14","15:35:00",7664,1444,9175,1652,1511,351.05,0.24639486763295437,7.2644230769230766,null,"2024-10-14","15:45:00",7326,1120,8476,1192,1150,351.05,0.56966682646212874,15.972222222222221,351.05,null,{"$f":"IF(H247>S247,\"하락\",\"상승\")","v":"하락"},348.85,{"$f":"IF(AND(Y246=\"상승\",Z247>W246),\"성공\",IF(AND(Y246=\"하락\",Z247<W246),\"성공\",IF(AND(Y246=\"상승\",Z247=W246),\"동일가\",IF(AND(Y246=\"하락\",Z247=W246),\"동일가\",\"실패\"))))","v":"성공"},{"$f":"S247/H247-1","v":-0.23891462607544678}]
[null,"2024-10-15","15:35:00",10378,1686,9961,1868,-417,352.75,-0.82295627678247119,-2.2912087912087911,null,"2024-10-15","15:45:00",8000,1159,7539,1107,-461,352.65,-9.2204054050895046E-2,8.865384615384615,352.65,null,{"$f":"IF(H248>S248,\"하락\",\"상승\")","v":"하락"},352.75,{"$f":"IF(AND(Y247=\"상승\",Z248>W247),\"성공\",IF(AND(Y247=\"하락\",Z248<W247),\"성공\",IF(AND(Y247=\"상승\",Z248=W247),\"동일가\",IF(AND(Y247=\"하락\",Z248=W247),\"동일가\",\"실패\"))))","v":"실패"},{"$f":"S248/H248-1","v":0.10551558752997603}]
[null,"2024-10-16","15:35:00",8607,1401,10871,1946,2264,349.3,-0.55713801549766551,4.1541284403669723,null,"2024-10-16","15:45:00",7254,890,8892,1320,1638,349.3,-1.414198161389173,3.8093023255813954,349.3,null,{"$f":"IF(H249>S249,\"하락\",\"상승\")","v":"하락"},347.15,{"$f":"IF(AND(Y248=\"상승\",Z249>W248),\"성공\",IF(AND(Y248=\"하락\",Z249<W248),\"성공\",IF(AND(Y248=\"상승\",Z249=W248),\"동일가\",IF(AND(Y248=\"하락\",Z249=W248),\"동일가\",\"실패\"))))","v":"성공"},{"$f":"S249/H249-1","v":-0.27650176678445226}]
[null,"2024-10-17","15:35:00",9562,1582,8295,1639,-1267,350.1,-0.98323497491995493,-22.228070175438596,null,"2024-10-17","15:45:00",7408,932,7938,1090,530,350.1,-0.66592904673780318,3.3544303797468356,350.1,null,{"$f":"IF(H250>S250,\"하락\",\"상승\")","v":"상승"},349.8,{"$f":"IF(AND(Y249=\"상승\",Z250>W249),\"성공\",IF(AND(Y249=\"하락\",Z250<W249),\"성공\",IF(AND(Y249=\"상승\",Z250=W249),\"동일가\",IF(AND(Y249=\"하락\",Z250=W249),\"동일가\",\"실패\"))))","v":"실패"},{"$f":"S250/H250-1","v":-1.4183109707971586}]
[null,"2024-10-18","15:35:00",12306,2365,7976,1370,-4330,347.95,0.6185151463711982,4.3517587939698492,null,"2024-10-18","15:45:00",9122,1482,7901,1000,-1221,348.1,1.7458043184885286,2.5331950207468878,348.1,null,{"$f":"IF(H251>S251,\"하락\",\"상승\")","v":"상승"},351.5,{"$f":"IF(AND(Y250=\"상승\",Z251>W250),\"성공\",IF(AND(Y250=\"하락\",Z251<W250),\"성공\",IF(AND(Y250=\"상승\",Z251=W250),\"동일가\",IF(AND(Y250=\"하락\",Z251=W250),\"동일가\",\"실패\"))))","v":"성공"},{"$f":"S251/H251-1","v":-0.71801385681293306}]
[null,"2024-10-21","15:35:00",8613,1684,8099,1333,-514,348.35,0.96116086622605756,1.4643874643874644,null,"2024-10-21","15:45:00",7943,1306,7898,906,-45,348.3,2.6355097377023693,0.1125,348.3,null,{"$f":"IF(H252>S252,\"하락\",\"상승\")","v":"상승"},348,{"$f":"IF(AND(Y251=\"상승\",Z252>W251),\"성공\",IF(AND(Y251=\"하락\",Z252<W251),\"성공\",IF(AND(Y251=\"상승\",Z252=W251),\"동일가\",IF(AND(Y251=\"하락\",Z252=W251),\"동일가\",\"실패\"))))","v":"실패"},{"$f":"S252/H252-1","v":-0.91245136186770426}]
[null,"2024-10-22","15:35:00",10703,2095,6507,1219,-4196,344.05,0.22915140349400254,4.7899543378995437,null,"2024-10-22","15:45:00",11209,1286,9260,1095,-1949,343.9,-0.259553178948563,10.204188481675393,343.9,null,{"$f":"IF(H253>S253,\"하락\",\"상승\")","v":"상승"},346.75,{"$f":"IF(AND(Y252=\"상승\",Z253>W252),\"성공\",IF(AND(Y252=\"하락\",Z253<W252),\"성공\",IF(AND(Y252=\"상승\",Z253=W252),\"동일가\",IF(AND(Y252=\"하락\",Z253=W252),\"동일가\",\"실패\"))))","v":"실패"},{"$f":"S253/H253-1","v":-0.53551000953288841}]
[null,"2024-10-23","15:35:00",6927,1281,10821,2028,3894,347.8,-7.1695328631015798E-2,5.2128514056224899,null,"2024-10-23","15:45:00",9132,1105,10880,1393,1748,347.95,-0.45377241735503748,6.0694444444444446,347.95,null,{"$f":"IF(H254>S254,\"하락\",\"상승\")","v":"하락"},343.1,{"$f":"IF(AND(Y253=\"상승\",Z254>W253),\"성공\",IF(AND(Y253=\"하락\",Z254<W253),\"성공\",IF(AND(Y253=\"상승\",Z254=W253),\"동일가\",IF(AND(Y253=\"하락\",Z254=W253),\"동일가\",\"실패\"))))","v":"실패"},{"$f":"S254/H254-1","v":-0.55110426296866977}]
[null,"2024-10-24","15:35:00",7292,1725,9244,1400,1952,344.9,2.3756107660455488,-6.006153846153846,null,"2024-10-24","15:45:00",10250,1151,10872,1119,622,344.9,0.81051795501289092,-19.4375,344.9,null,{"$f":"IF(H255>S255,\"하락\",\"상승\")","v":"하락"},347.4,{"$f":"IF(AND(Y254=\"상승\",Z255>W254),\"성공\",IF(AND(Y254=\"하락\",Z255<W254),\"성공\",IF(AND(Y254=\"상승\",Z255=W254),\"동일가\",IF(AND(Y254=\"하락\",Z255=W254),\"동일가\",\"실패\"))))","v":"성공"},{"$f":"S255/H255-1","v":-0.68135245901639352}]
[null,"2024-10-25","15:35:00",7579,1500,9065,1516,1486,345.35,0.92688478452066825,92.875,null,"2024-10-25","15:45:00",7790,1107,8028,1002,238,345.25,0.97493901086715429,-2.2666666666666666,345.25,null,{"$f":"IF(H256>S256,\"하락\",\"상승\")","v":"하락"},345.05,{"$f":"IF(AND(Y255=\"상승\",Z256>W255),\"성공\",IF(AND(Y255=\"하락\",Z256<W255),\"성공\",IF(AND(Y255=\"상승\",Z256=W255),\"동일가\",IF(AND(Y255=\"하락\",Z256=W255),\"동일가\",\"실패\"))))","v":"실패"},{"$f":"S256/H256-1","v":-0.83983849259757737}]
[null,"2024-10-28","15:35:00",6336,1175,9880,1795,3544,348.15,0.11183784744858727,5.7161290322580642,null,"2024-10-28","15:45:00",6002,948,7873,1335,1871,348.25,-0.43384535153842574,4.8346253229974163,348.25,null,{"$f":"IF(H257>S257,\"하락\",\"상승\")","v":"하락"},346.45,{"$f":"IF(AND(Y256=\"상승\",Z257>W256),\"성공\",IF(AND(Y256=\"하락\",Z257<W256),\"성공\",IF(AND(Y256=\"상승\",Z257=W256),\"동일가\",IF(AND(Y256=\"하락\",Z257=W256),\"동일가\",\"실패\"))))","v":"실패"},{"$f":"S257/H257-1","v":-0.47206546275395034}]
[null,"2024-10-29","15:35:00",7256,942,9496,1995,2240,349.55,-2.9428603355522567,2.1272554605887941,null,"2024-10-29","15:45:00",5379,699,7282,1440,1903,349.55,-2.6383345255126374,2.5681511470985154,349.55,null,{"$f":"IF(H258>S258,\"하락\",\"상승\")","v":"하락"},347.55,{"$f":"IF(AND(Y257=\"상승\",Z258>W257),\"성공\",IF(AND(Y257=\"하락\",Z258<W257),\"성공\",IF(AND(Y257=\"상승\",Z258=W257),\"동일가\",IF(AND(Y257=\"하락\",Z258=W257),\"동일가\",\"실패\"))))","v":"성공"},{"$f":"S258/H258-1","v":-0.15044642857142854}]
[null,"2024-10-30","15:35:00",10909,1981,7113,1209,-3796,346.65,0.37655994979601459,4.9170984455958546,null,"2024-10-30","15:45:00",10242,1471,8355,1058,-1887,346.6,0.93436495626215166,4.5690072639225185,346.6,null,{"$f":"IF(H259>S259,\"하락\",\"상승\")","v":"상승"},349.2,{"$f":"IF(AND(Y258=\"상승\",Z259>W258),\"성공\",IF(AND(Y258=\"하락\",Z259<W258),\"성공\",IF(AND(Y258=\"상승\",Z259=W258),\"동일가\",IF(AND(Y258=\"하락\",Z259=W258),\"동일가\",\"실패\"))))","v":"성공"},{"$f":"S259/H259-1","v":-0.50289778714436251}]
[null,"2024-10-31","15:35:00",8389,1767,5143,985,-3246,341,0.47372500351911384,4.1508951406649617,null,"2024-10-31","15:45:00",9916,1394,7987,945,-1929,341,1.338508953716989,4.2962138084632517,341,null,{"$f":"IF(H260>S260,\"하락\",\"상승\")","v":"상승"},342.5,{"$f":"IF(AND(Y259=\"상승\",Z260>W259),\"성공\",IF(AND(Y259=\"하락\",Z260<W259),\"성공\",IF(AND(Y259=\"상승\",Z260=W259),\"동일가\",IF(AND(Y259=\"하락\",Z260=W259),\"동일가\",\"실패\"))))","v":"실패"},{"$f":"S260/H260-1","v":-0.40573012939001851}]
[null,"2024-11-01","15:35:00",8695,1537,8516,1211,-179,338.6,1.3750805213755708,0.54907975460122704,null,"2024-11-01","15:45:00",7728,1127,6574,972,-1154,338.3,-9.3768371546149254E-2,7.4451612903225808,338.3,null,{"$f":"IF(H261>S261,\"하락\",\"상승\")","v":"하락"},339,{"$f":"IF(AND(Y260=\"상승\",Z261>W260),\"성공\",IF(AND(Y260=\"하락\",Z261<W260),\"성공\",IF(AND(Y260=\"상승\",Z261=W260),\"동일가\",IF(AND(Y260=\"하락\",Z261=W260),\"동일가\",\"실패\"))))","v":"실패"},{"$f":"S261/H261-1","v":5.4469273743016764}]
[null,"2024-11-04","15:35:00",6501,1107,9690,1847,3189,343.6,-0.62628330127372767,4.3094594594594593,null,"2024-11-04","15:45:00",9298,1125,11254,1406,1956,343.6,-0.26062146356883176,6.9608540925266906,343.6,null,{"$f":"IF(H262>S262,\"하락\",\"상승\")","v":"하락"},338.9,{"$f":"IF(AND(Y261=\"상승\",Z262>W261),\"성공\",IF(AND(Y261=\"하락\",Z262<W261),\"성공\",IF(AND(Y261=\"상승\",Z262=W261),\"동일가\",IF(AND(Y261=\"하락\",Z262=W261),\"동일가\",\"실패\"))))","v":"실패"},{"$f":"S262/H262-1","v":-0.38664158043273755}]
[null,"2024-11-05","15:35:00",9696,1367,10350,1699,654,342.9,-1.001085452822414,1.9698795180722892,null,"2024-11-05","15:45:00",8770,898,9653,1253,883,343,-2.0622363787933464,2.4873239436619716,343,null,{"$f":"IF(H263>S263,\"하락\",\"상승\")","v":"상승"},342.05,{"$f":"IF(AND(Y262=\"상승\",Z263>W262),\"성공\",IF(AND(Y262=\"하락\",Z263<W262),\"성공\",IF(AND(Y262=\"상승\",Z263=W262),\"동일가\",IF(AND(Y262=\"하락\",Z263=W262),\"동일가\",\"실패\"))))","v":"성공"},{"$f":"S263/H263-1","v":0.35015290519877684}]
[null,"2024-11-06","15:35:00",11395,1797,8458,1490,-2937,342.2,-0.66461402860098673,9.5667752442996736,null,"2024-11-06","15:45:00",10144,1271,8622,1201,-1522,342.2,-0.80209974509833515,21.742857142857144,342.2,null,{"$f":"IF(H264>S264,\"하락\",\"상승\")","v":"상승"},344.7,{"$f":"IF(AND(Y263=\"상승\",Z264>W263),\"성공\",IF(AND(Y263=\"하락\",Z264<W263),\"성공\",IF(AND(Y263=\"상승\",Z264=W263),\"동일가\",IF(AND(Y263=\"하락\",Z264=W263),\"동일가\",\"실패\"))))","v":"성공"},{"$f":"S264/H264-1","v":-0.48178413346952675}]
[null,"2024-11-07","15:35:00",9842,1684,9188,1559,-654,341.3,4.9103435876887147E-2,5.2320000000000002,null,"2024-11-07","15:45:00",8048,1181,8166,1135,118,341.35,0.38014972751382992,-2.5652173913043477,341.35,null,{"$f":"IF(H265>S265,\"하락\",\"상승\")","v":"상승"},340.6,{"$f":"IF(AND(Y264=\"상승\",Z265>W264),\"성공\",IF(AND(Y264=\"하락\",Z265<W264),\"성공\",IF(AND(Y264=\"상승\",Z265=W264),\"동일가\",IF(AND(Y264=\"하락\",Z265=W264),\"동일가\",\"실패\"))))","v":"실패"},{"$f":"S265/H265-1","v":-1.1804281345565748}]
[null,"2024-11-08","15:35:00",12366,2356,6578,1018,-5788,340.8,1.2129629320782787,4.3258594917787745,null,"2024-11-08","15:45:00",9520,1645,6298,743,-3222,340.8,2.6892127945935114,3.5720620842572064,340.8,null,{"$f":"IF(H266>S266,\"하락\",\"상승\")","v":"상승"},343.8,{"$f":"IF(AND(Y265=\"상승\",Z266>W265),\"성공\",IF(AND(Y265=\"하락\",Z266<W265),\"성공\",IF(AND(Y265=\"상승\",Z266=W265),\"동일가\",IF(AND(Y265=\"하락\",Z266=W265),\"동일가\",\"실패\"))))","v":"성공"},{"$f":"S266/H266-1","v":-0.44333102971665517}]
[null,"2024-11-11","15:35:00",8020,1580,5557,955,-2463,336,0.74289880045065892,3.9407999999999999,null,"2024-11-11","15:45:00",9410,1361,7892,1029,-1518,335.95,0.75554831988426763,4.572289156626506,335.95,null,{"$f":"IF(H267>S267,\"하락\",\"상승\")","v":"상승"},339.3,{"$f":"IF(AND(Y266=\"상승\",Z267>W266),\"성공\",IF(AND(Y266=\"하락\",Z267<W266),\"성공\",IF(AND(Y266=\"상승\",Z267=W266),\"동일가\",IF(AND(Y266=\"하락\",Z267=W266),\"동일가\",\"실패\"))))","v":"실패"},{"$f":"S267/H267-1","v":-0.38367844092570036}]
[null,"2024-11-12","15:35:00",9111,2100,4352,881,-4759,328.2,0.6012696610993995,3.9040196882690732,null,"2024-11-12","15:45:00",9872,1404,6206,772,-3666,328,1.0075210722879122,5.8006329113924053,328,null,{"$f":"IF(H268>S268,\"하락\",\"상승\")","v":"상승"},333.55,{"$f":"IF(AND(Y267=\"상승\",Z268>W267),\"성공\",IF(AND(Y267=\"하락\",Z268<W267),\"성공\",IF(AND(Y267=\"상승\",Z268=W267),\"동일가\",IF(AND(Y267=\"하락\",Z268=W267),\"동일가\",\"실패\"))))","v":"실패"},{"$f":"S268/H268-1","v":-0.2296700987602438}]
[null,"2024-11-13","15:35:00",10410,1847,3699,665,-6711,319.85000000000002,-7.3760741865492641E-2,5.6776649746192893,null,"2024-11-13","15:45:00",12830,1256,13494,1238,664,318.89999999999998,0.68487029624522933,-36.888888888888886,318.89999999999998,null,{"$f":"IF(H269>S269,\"하락\",\"상승\")","v":"상승"},325.75,{"$f":"IF(AND(Y268=\"상승\",Z269>W268),\"성공\",IF(AND(Y268=\"하락\",Z269<W268),\"성공\",IF(AND(Y268=\"상승\",Z269=W268),\"동일가\",IF(AND(Y268=\"하락\",Z269=W268),\"동일가\",\"실패\"))))","v":"실패"},{"$f":"S269/H269-1","v":-1.0989420354641632}]
[null,"2024-11-14","16:35:00",8541,1605,6849,936,-1692,318.25,1.9958123652048885,2.5291479820627805,null,"2024-11-14","16:45:00",8365,1172,6745,930,-1620,318.05,0.11531615839113396,6.6942148760330582,318.05,null,{"$f":"IF(H270>S270,\"하락\",\"상승\")","v":"상승"},319.75,{"$f":"IF(AND(Y269=\"상승\",Z270>W269),\"성공\",IF(AND(Y269=\"하락\",Z270<W269),\"성공\",IF(AND(Y269=\"상승\",Z270=W269),\"동일가\",IF(AND(Y269=\"하락\",Z270=W269),\"동일가\",\"실패\"))))","v":"성공"},{"$f":"S270/H270-1","v":-4.2553191489361653E-2}]
[null,"2024-11-15","15:35:00",5611,1046,6670,1237,1059,320.39999999999998,2.7832865240180027E-2,5.5445026178010473,null,"2024-11-15","15:45:00",9559,1156,9635,1119,76,320.5,0.34133525670164033,-2.0540540540540539,320.5,null,{"$f":"IF(H271>S271,\"하락\",\"상승\")","v":"하락"},319.75,{"$f":"IF(AND(Y270=\"상승\",Z271>W270),\"성공\",IF(AND(Y270=\"하락\",Z271<W270),\"성공\",IF(AND(Y270=\"상승\",Z271=W270),\"동일가\",IF(AND(Y270=\"하락\",Z271=W270),\"동일가\",\"실패\"))))","v":"성공"},{"$f":"S271/H271-1","v":-0.92823418319169027}]
[null,"2024-11-18","15:35:00",6912,1324,9399,1516,2487,327.55,0.97932426723210231,12.953125,null,"2024-11-18","15:45:00",11452,1526,12073,1251,621,327.64999999999998,2.1460923004715502,-2.2581818181818183,327.64999999999998,null,{"$f":"IF(H272>S272,\"하락\",\"상승\")","v":"하락"},322.89999999999998,{"$f":"IF(AND(Y271=\"상승\",Z272>W271),\"성공\",IF(AND(Y271=\"하락\",Z272<W271),\"성공\",IF(AND(Y271=\"상승\",Z272=W271),\"동일가\",IF(AND(Y271=\"하락\",Z272=W271),\"동일가\",\"실패\"))))","v":"실패"},{"$f":"S272/H272-1","v":-0.75030156815440285}]
[null,"2024-11-19","15:35:00",8852,1285,9580,1642,728,329.3,-1.0543675976435685,2.0392156862745097,null,"2024-11-19","15:45:00",7663,926,8610,1300,947,329.4,-1.6523010466854959,2.5320855614973263,329.4,null,{"$f":"IF(H273>S273,\"하락\",\"상승\")","v":"상승"},327.7,{"$f":"IF(AND(Y272=\"상승\",Z273>W272),\"성공\",IF(AND(Y272=\"하락\",Z273<W272),\"성공\",IF(AND(Y272=\"상승\",Z273=W272),\"동일가\",IF(AND(Y272=\"하락\",Z273=W272),\"동일가\",\"실패\"))))","v":"실패"},{"$f":"S273/H273-1","v":0.30082417582417587}]
[null,{"$f":"'1. 매수매도 총잔량'!$A$3","v":"2024-11-19"},{"$f":"'1. 매수매도 총잔량'!$A$424","v":"15:35:00"},{"$f":"'1. 매수매도 총잔량'!$B$424","v":8852},{"$f":"'1. 매수매도 총잔량'!$C$424","v":1285},{"$f":"'1. 매수매도 총잔량'!$D$424","v":9580},{"$f":"'1. 매수매도 총잔량'!$E$424","v":1642},{"$f":"'1. 매수매도 총잔량'!$F$424","v":728},{"$f":"'1. 매수매도 총잔량'!$G$425","v":329.3},{"$f":"'1. 매수매도 총잔량'!$H$424","v":-1.0543675976435685},{"$f":"'1. 매수매도 총잔량'!$I$424","v":2.0392156862745097},null,{"$f":"'1. 매수매도 총잔량'!$A$3","v":"2024-11-19"},{"$f":"'1. 매수매도 총잔량'!$A$434","v":"15:45:00"},{"$f":"'1. 매수매도 총잔량'!$B$434","v":7663},{"$f":"'1. 매수매도 총잔량'!$C$434","v":926},{"$f":"'1. 매수매도 총잔량'!$D$434","v":8610},{"$f":"'1. 매수매도 총잔량'!$E$434","v":1300},{"$f":"'1. 매수매도 총잔량'!$F$434","v":947},{"$f":"'1. 매수매도 총잔량'!$G$435","v":329.4},{"$f":"'1. 매수매도 총잔량'!$H$434","v":-1.6523010466854959},{"$f":"'1. 매수매도 총잔량'!$I$434","v":2.5320855614973263},{"$f":"T274","v":329.4},null,{"$f":"IF(H274>S274,\"하락\",\"상승\")","v":"상승"},{"$f":"[1]!'101VC000.029'","v":{"$error":"#REF!"}},{"$f":"IF(AND(Y273=\"상승\",Z274>W273),\"성공\",IF(AND(Y273=\"하락\",Z274<W273),\"성공\",IF(AND(Y273=\"상승\",Z274=W273),\"동일가\",IF(AND(Y273=\"하락\",Z274=W273),\"동일가\",\"실패\"))))","v":{"$error":"#REF!"}},{"$f":"S274/H274-1","v":0.30082417582417587}]
[null,{"$f":"'1. 매수매도 총잔량'!$A$3","v":"2024-11-19"},{"$f":"'1. 매수매도 총잔량'!$A$424","v":"15:35:00"},{"$f":"'1. 매수매도 총잔량'!$B$424","v":8852},{"$f":"'1. 매수매도 총잔량'!$C$424","v":1285},{"$f":"'1. 매수매도 총잔량'!$D$424","v":9580},{"$f":"'1. 매수매도 총잔량'!$E$424","v":1642},{"$f":"'1. 매수매도 총잔량'!$F$424","v":728},{"$f":"'1. 매수매도 총잔량'!$G$425","v":329.3},{"$f":"'1. 매수매도 총잔량'!$H$424","v":-1.0543675976435685},{"$f":"'1. 매수매도 총잔량'!$I$424","v":2.0392156862745097},null,{"$f":"'1. 매수매도 총잔량'!$A$3","v":"2024-11-19"},{"$f":"'1. 매수매도 총잔량'!$A$434","v":"15:45:00"},{"$f":"'1. 매수매도 총잔량'!$B$434","v":7663},{"$f":"'1. 매수매도 총잔량'!$C$434","v":926},{"$f":"'1. 매수매도 총잔량'!$D$434","v":8610},{"$f":"'1. 매수매도 총잔량'!$E$434","v":1300},{"$f":"'1. 매수매도 총잔량'!$F$434","v":947},{"$f":"'1. 매수매도 총잔량'!$G$435","v":329.4},{"$f":"'1. 매수매도 총잔량'!$H$434","v":-1.6523010466854959},{"$f":"'1. 매수매도 총잔량'!$I$434","v":2.5320855614973263},{"$f":"T275","v":329.4},null,{"$f":"IF(H275>S275,\"하락\",\"상승\")","v":"상승"},{"$f":"[1]!'101VC000.029'","v":{"$error":"#REF!"}},{"$f":"IF(AND(Y274=\"상승\",Z275>W274),\"성공\",IF(AND(Y274=\"하락\",Z275<W274),\"성공\",IF(AND(Y274=\"상승\",Z275=W274),\"동일가\",IF(AND(Y274=\"하락\",Z275=W274),\"동일가\",\"실패\"))))","v":{"$error":"#REF!"}},{"$f":"S275/H275-1","v":0.30082417582417587}]