{"text_format":"1","workbook":"xlsx","n_sheets":15,"sheets":["00000000","표지","인증","1-1 사업장 공정 정보","1-2 업종 및 산업재해-","1-3 추정기준","2 사전준비","3-1 유해위험요인 파악","3-2 유해위험요인 파악현황","3-3 위험성평가","3-4 감소대책 수립","3-5 위험요소 감소조치 실행결과","3-6.TBM일지(자동)","3-8.TBM일지(수동)","DB자료실"],"not_rendered":{"charts":2,"images":7,"macros":1,"external_links":0,"defined_names":60,"comments":0,"pivot_tables":0},"unopened":[],"bounds":{"document_bytes":16777216,"sheet_cells":100000,"rows_first":2000,"rows_last":500,"rows_between":2000,"halvings":0,"cell_chars":16384,"cell_head_chars":4096},"cells_cut":0,"cells_raw":0,"read":"whole","date_system":"1900"}

{"sheet":"00000000","index":0,"n_rows":0,"n_cols":0,"rows_kept":0,"cut":false,"hidden":true,"merged":[]}

{"sheet":"표지","index":1,"n_rows":39,"n_cols":8,"rows_kept":39,"cut":false,"hidden":false,"merged":[[2,2,4,4],[5,1,11,5],[31,3,31,4],[32,3,32,4],[38,1,39,5],[20,2,20,4],[23,3,23,4]]}
[]
[]
[null,null,"위험성평가 모델(KRA-00)"]
[]
[]
[null,"건물 해체 및 철거"]
[]
[]
[]
[]
[]
[]
[]
[]
[]
[]
[]
[]
[]
[]
[]
[]
[]
[null,null,"작성일자 :","2025-01-10"]
[]
[]
[]
[]
[]
[]
[]
[null,null,"현장명 :","화양동9-82"]
[null,null,"협력업체 :",null,null,null,null,"본사 직영 일경우 \"직영\", 면허 사업자인 경우 협력업체 명"]
[null,null,null,"담당자(반장)"]
[null,null,null,"연 락 처 :"]
[]
[]
[]
[null,"업체명"]

{"sheet":"인증","index":2,"n_rows":1,"n_cols":2,"rows_kept":1,"cut":false,"hidden":true,"merged":[]}
[null,"2025-05-30"]

{"sheet":"1-1 사업장 공정 정보","index":3,"n_rows":43,"n_cols":39,"rows_kept":43,"cut":false,"hidden":false,"merged":[[40,3,40,6],[40,7,40,15],[40,16,40,28],[40,29,40,37],[40,38,40,45],[38,3,38,6],[38,7,38,15],[38,16,38,28],[38,29,38,37],[39,3,39,6],[39,7,39,15],[39,16,39,28],[39,29,39,37],[39,38,39,45],[36,3,36,6],[36,7,36,15],[36,16,36,28],[36,29,36,37],[38,38,38,45],[36,38,36,45],[37,3,37,6],[37,7,37,15],[37,16,37,28],[37,29,37,37],[37,38,37,45],[34,3,34,6],[34,7,34,15],[34,16,34,28],[34,29,34,37],[34,38,34,45],[35,3,35,6],[35,7,35,15],[35,16,35,28],[35,29,35,37],[35,38,35,45],[32,3,32,6],[32,7,32,15],[32,16,32,28],[32,29,32,37],[32,38,32,45],[33,3,33,6],[33,7,33,15],[33,16,33,28],[33,29,33,37],[33,38,33,45],[30,3,30,6],[30,7,30,15],[30,16,30,28],[30,29,30,37],[30,38,30,45],[31,3,31,6],[31,7,31,15],[31,16,31,28],[31,29,31,37],[31,38,31,45],[26,16,27,28],[26,29,27,37],[26,38,27,45],[28,3,28,6],[28,7,28,15],[28,16,28,28],[28,29,28,37],[28,38,28,45],[29,3,29,6],[29,7,29,15],[29,16,29,28],[29,29,29,37],[29,38,29,45],[0,1,1,47],[9,15,9,45],[4,33,4,45],[5,10,5,25],[5,33,5,45],[5,26,5,32],[6,3,6,9],[6,10,6,45],[4,3,4,9],[5,3,5,9],[4,26,4,32],[4,10,4,25],[7,3,7,9],[7,10,7,45],[9,3,9,14],[42,3,45,45],[13,38,13,45],[10,29,11,45],[10,10,10,25],[11,3,11,9],[10,26,11,28],[10,3,10,9],[13,16,13,28],[13,7,13,15],[13,3,13,6],[11,10,11,25],[12,3,12,45],[13,29,13,37],[14,3,15,6],[16,3,17,6],[18,3,19,6],[20,3,21,6],[22,3,23,6],[14,7,15,15],[14,16,15,28],[14,29,15,37],[24,3,25,6],[26,3,27,6],[26,7,27,15],[14,38,15,45],[16,7,17,15],[16,16,17,28],[16,29,17,37],[16,38,17,45],[18,7,19,15],[18,16,19,28],[18,29,19,37],[18,38,19,45],[20,7,21,15],[20,16,21,28],[20,29,21,37],[20,38,21,45],[22,7,23,15],[22,16,23,28],[22,29,23,37],[22,38,23,45],[24,7,25,15],[24,16,25,28],[24,29,25,37],[24,38,25,45]]}
[null,"사업장 / 공정 정보"]
[]
[]
[]
[null,null,null,"사업장명",null,null,null,null,null,null,{"$f":"표지!D32","v":"화양동9-82"},null,null,null,null,null,null,null,null,null,null,null,null,null,null,null,"사업주명",null,null,null,null,null,null,{"$f":"표지!D33","v":0}]
[null,null,null,"업종",null,null,null,null,null,null,"건설업",null,null,null,null,null,null,null,null,null,null,null,null,null,null,null,"근로자수",null,null,null,null,null,null,"30명"]
[null,null,null,"주소"]
[null,null,null,"참여자",null,null,null,null,null,null,"대표: 안전관리총괄책임자, 안전관리책임자, 안전관리자, 반장, 작업자"]
[]
[null,null,null,"평가진행기간",null,null,null,null,null,null,null,null,null,null,null,"2025.1.1 ~ 2025.07.31"]
[null,null,null,"업종 중분류",null,null,null,null,null,null,"-",null,null,null,null,null,null,null,null,null,null,null,null,null,null,null,"공정\n대분류",null,null,{"$f":"표지!B6","v":"건물 해체 및 철거"}]
[null,null,null,"업종 소분류",null,null,null,null,null,null,"-"]
[null,null,null,"공정 분석"]
[null,null,null,"No.",null,null,null,"공정명",null,null,null,null,null,null,null,null,"공정설명",null,null,null,null,null,null,null,null,null,null,null,null,"설비",null,null,null,null,null,null,null,null,"물질"]
[null,null,null,1,null,null,null,"철거 현장 준비",null,null,null,null,null,null,null,null,"현장 위험요소 파악 및 제거 계획 수립\n현장 가설설비 설치 (펜스, 경고표지)\n장비와 인력 배치 및 작업 구역 설정",null,null,null,null,null,null,null,null,null,null,null,null,"운반차량, 리프트, 지게차, 고속 절단기",null,null,null,null,null,null,null,null,"해당없음"]
[]
[null,null,null,2,null,null,null,"유해물질 제거",null,null,null,null,null,null,null,null,"석면, 납, PCB, 페인트 등 유해물질 제거\n유해물질 제거 후 폐기물 포장 및 분리",null,null,null,null,null,null,null,null,null,null,null,null,"보호장구 (방독마스크, 방진복)\n진공청소기, 제거제",null,null,null,null,null,null,null,null,"석면, 석면, 납 성분"]
[]
[null,null,null,3,null,null,null,"비 구조적 요소 철거",null,null,null,null,null,null,null,null,"벽체, 천장, 문, 창문 철거\n내부 설비 철거(전기, 배관)",null,null,null,null,null,null,null,null,null,null,null,null,"해머, 그라인더, 톱\n전동 공구",null,null,null,null,null,null,null,null,"먼지, 비산물질"]
[]
[null,null,null,4,null,null,null,"구조체 해체(수작업)",null,null,null,null,null,null,null,null,"철근 콘크리트나 벽체 수작업 해체\n잔재물 수작업 정리",null,null,null,null,null,null,null,null,null,null,null,null,"해머, 끌, 정, 핸드 그라인드",null,null,null,null,null,null,null,null,"콘크리트 분진"]
[]
[null,null,null,5,null,null,null,"구조체 해제(기계작업)",null,null,null,null,null,null,null,null,"중장비를 이용한 건물 구조물 철거\n철거된 자재 분리 및 운반",null,null,null,null,null,null,null,null,null,null,null,null,"굴착기, 크레인, \n브레이커, 운반 트럭",null,null,null,null,null,null,null,null,"먼지, 소음, 진동"]
[]
[null,null,null,6,null,null,null,"페기물 처리 및 운반",null,null,null,null,null,null,null,null,"철거 자재 분류 및 폐기물 처리\n운반 작업 및 폐기장 이송",null,null,null,null,null,null,null,null,null,null,null,null,"운반 트럭, 폐기물 분류 장비, 파렛트, 로프",null,null,null,null,null,null,null,null,"비산먼지, 석면 잔재물"]
[]
[null,null,null,7,null,null,null,"현장정리 및 마감작업",null,null,null,null,null,null,null,null,"현장 청소 및 잔재물 제거\n잔여 자재 재활용 및 폐기",null,null,null,null,null,null,null,null,null,null,null,null,"이동식 청소장비",null,null,null,null,null,null,null,null,"먼지, 유해 잔여물"]
[]
[]
[]
[]
[]
[]
[]
[]
[]
[]
[]
[]
[]
[]
[]
[null,null,null,"  비고"]

{"sheet":"1-2 업종 및 산업재해-","index":4,"n_rows":75,"n_cols":10,"rows_kept":75,"cut":false,"hidden":false,"merged":[[77,0,77,9],[79,0,79,9],[80,0,80,9],[72,5,72,6],[72,7,72,8],[73,5,73,6],[73,7,73,8],[74,5,74,6],[74,7,74,8],[69,1,69,9],[70,0,71,0],[70,1,71,1],[70,2,71,2],[70,3,71,3],[70,4,71,4],[70,5,71,6],[70,7,71,8],[70,9,71,9],[64,5,64,6],[64,7,64,8],[65,5,65,6],[65,7,65,8],[66,5,66,6],[66,7,66,8],[40,0,56,9],[61,1,61,9],[62,0,63,0],[62,1,63,1],[62,2,63,2],[62,3,63,3],[62,4,63,4],[62,5,63,6],[62,7,63,8],[62,9,63,9],[39,2,39,3],[12,0,12,3],[12,4,12,6],[12,7,12,9],[13,0,13,3],[13,4,13,6],[13,7,13,9],[14,0,14,3],[14,4,14,6],[14,7,14,9],[18,2,18,3],[19,0,35,9],[10,0,10,3],[10,4,10,6],[10,7,10,9],[11,0,11,3],[11,4,11,6],[11,7,11,9],[8,0,8,3],[8,4,8,6],[8,7,8,9],[9,0,9,3],[9,4,9,6],[9,7,9,9],[6,0,6,3],[6,4,6,6],[6,7,6,9],[7,0,7,3],[7,4,7,6],[7,7,7,9],[4,0,4,3],[4,4,4,6],[4,7,4,9],[5,0,5,3],[5,4,5,6],[5,7,5,9],[2,0,2,3],[2,4,2,6],[2,7,2,9],[3,0,3,3],[3,4,3,6],[3,7,3,9]]}
["1) 사업장 및 근로자 수 현황"]
[]
["구 분",null,null,null,"사업장 수(개)",null,null,"근로자 수(명)"]
["건설업",null,null,null,{"$f":"SUM(E5:G15)","v":283861},null,null,{"$f":"SUM(H5:J15)","v":3087131}]
["1,000만원 미만",null,null,null,80061,null,null,84178]
["1,000만 ~ 2,000만원 미만",null,null,null,33388,null,null,34660]
["2,000만 ~ 4,000만원 미만",null,null,null,22394,null,null,32640]
["4,000만 ~ 1억원 미만",null,null,null,35488,null,null,86702]
["1억~3억원미만",null,null,null,44894,null,null,218061]
["3억~20억원미만",null,null,null,40773,null,null,464516]
["20억~120억원미만",null,null,null,13739,null,null,509059]
["120억~300억원미만",null,null,null,3056,null,null,320050]
["300억원~1000억원미만",null,null,null,2390,null,null,555730]
["1,000억원 이상",null,null,null,1031,null,null,760332]
["분류불능",null,null,null,6647,null,null,21203]
[]
["2) 공사금액별 사업장 수"]
[]
["사업장 수 : ","총",{"$f":"IF($E4=\"\",\"\",$E4)","v":283861},null,"개"]
[]
[]
[]
[]
[]
[]
[]
[]
[]
[]
[]
[]
[]
[]
[]
[]
[]
[]
["3) 공사금액별 근로자 수"]
[]
["근로자 수 : ","총",{"$f":"IF($H4=\"\",\"\",$H4)","v":3087131},null,"명"]
[]
[]
[]
[]
[]
[]
[]
[]
[]
[]
[]
[]
[]
[]
[]
[]
[]
[]
["4) 공사금액별 재해발생"]
[]
[null,null,null,null,null,null,null,null,null,"[단위: %]"]
["구 분","재 해 율"]
["           금 액\n년 도","1억원 \n미만","1억~3억원 미만","3억~20억 미만","20억~120억 미만","120억~300억 \n미만",null,"300억~1,000억원 미만",null,"1,000억원 이상"]
[]
[2009,1.97,1.6,1.1599999999999999,0.97,0.21,null,0.15,null,7.0000000000000007E-2]
[2010,2.7,2.15,1.28,0.59,0.17,null,0.13,null,0.06]
[2011,2.1,2.23,1.51,0.64,0.21,null,0.12,null,0.05]
[]
[null,null,null,null,null,null,null,null,null,"[단위: 명]"]
["구 분","사 망 자 수"]
["           금 액\n년 도","1억원 \n미만","1억~3억원 미만","3억~20억 미만","20억~120억 미만","120억~300억 \n미만",null,"300억~1,000억원 미만",null,"1,000억원 이상"]
["년 도"]
[2009,96,78,100,111,45,null,84,null,60]
[2010,97,76,135,97,48,null,62,null,60]
[2011,108,88,131,109,44,null,59,null,45]

{"sheet":"1-3 추정기준","index":5,"n_rows":11,"n_cols":6,"rows_kept":11,"cut":false,"hidden":false,"merged":[[1,1,1,5],[3,1,3,2],[3,3,3,4],[8,1,10,2],[8,3,8,5],[10,3,10,5],[9,3,9,5],[4,3,4,4],[5,3,5,4],[6,3,6,4],[5,1,5,2],[4,1,4,2],[6,1,6,2]]}
[]
[null,"위험성 결정 기준 (상, 중, 하 3단계)"]
[]
[null,"위험성 수준",null,"판단기준",null,"허용 가능여부"]
[null,"상",null,"사고 발생 시 사망 또는 장애가 남을 수 있는 위험",null,"허용 불가\n(즉시개선)"]
[null,"중",null,"사고 발생 시 요양이 필요한 위험\n산업안전보건법위반이 있을 경우 (아차사고포함)",null,"허용 불가\n(즉시개선)"]
[null,"하",null,"현상유지 밀 필요할 경우 개선방샹제시(자율적 조치토록)",null,"허용 가능"]
[]
[null,"위험성결정 방법",null,"①근로자들이 참여하는 전체 위험성평가 회의를 개최하여 관리할 유해·위험요인을 선정"]
[null,null,null,"②근로자의 경험과 재해사례 등을 반영하여 위험성 결정 "]
[null,null,null,"③‘상’과 ‘중’등급은 중점관리, ‘하’등급은 일상관리"]

{"sheet":"2 사전준비","index":6,"n_rows":56,"n_cols":3,"rows_kept":56,"cut":false,"hidden":false,"merged":[[41,0,41,2],[49,0,49,2],[50,0,55,0],[50,1,55,1],[42,0,47,0],[42,1,47,1],[48,0,48,1],[32,0,32,1],[34,0,39,0],[34,1,39,1],[40,0,40,1],[33,0,33,2],[18,0,23,0],[18,1,23,1],[24,0,24,1],[26,0,31,0],[26,1,31,1],[25,0,25,2],[10,0,15,0],[10,1,15,1],[16,0,16,1],[9,0,9,2],[17,0,17,2],[2,0,7,0],[2,1,7,1],[8,0,8,1],[0,0,0,2],[1,0,1,2]]}
["사전준비"]
[{"$f":"'1-1 사업장 공정 정보'!H15","v":"철거 현장 준비"}]
[null,null,"세부공정설명"]
[null,null,{"$f":"'1-1 사업장 공정 정보'!Q15","v":"현장 위험요소 파악 및 제거 계획 수립\n현장 가설설비 설치 (펜스, 경고표지)\n장비와 인력 배치 및 작업 구역 설정"}]
[null,null,"유해위험설비/도구"]
[null,null,{"$f":"'1-1 사업장 공정 정보'!AD15","v":"운반차량, 리프트, 지게차, 고속 절단기"}]
[null,null,"유해위험물질"]
[null,null,{"$f":"'1-1 사업장 공정 정보'!AM15","v":"해당없음"}]
[]
[{"$f":"'1-1 사업장 공정 정보'!H17","v":"유해물질 제거"}]
[null,null,"세부공정설명"]
[null,null,{"$f":"'1-1 사업장 공정 정보'!Q17","v":"석면, 납, PCB, 페인트 등 유해물질 제거\n유해물질 제거 후 폐기물 포장 및 분리"}]
[null,null,"유해위험설비/도구"]
[null,null,{"$f":"'1-1 사업장 공정 정보'!AD17","v":"보호장구 (방독마스크, 방진복)\n진공청소기, 제거제"}]
[null,null,"유해위험물질"]
[null,null,{"$f":"'1-1 사업장 공정 정보'!AM17","v":"석면, 석면, 납 성분"}]
[]
[{"$f":"'1-1 사업장 공정 정보'!H19","v":"비 구조적 요소 철거"}]
[null,null,"세부공정설명"]
[null,null,{"$f":"'1-1 사업장 공정 정보'!Q19","v":"벽체, 천장, 문, 창문 철거\n내부 설비 철거(전기, 배관)"}]
[null,null,"유해위험설비/도구"]
[null,null,{"$f":"'1-1 사업장 공정 정보'!AD19","v":"해머, 그라인더, 톱\n전동 공구"}]
[null,null,"유해위험물질"]
[null,null,{"$f":"'1-1 사업장 공정 정보'!AM19","v":"먼지, 비산물질"}]
[]
[{"$f":"'1-1 사업장 공정 정보'!H21","v":"구조체 해체(수작업)"}]
[null,null,"세부공정설명"]
[null,null,{"$f":"'1-1 사업장 공정 정보'!Q21","v":"철근 콘크리트나 벽체 수작업 해체\n잔재물 수작업 정리"}]
[null,null,"유해위험설비/도구"]
[null,null,{"$f":"'1-1 사업장 공정 정보'!AD21","v":"해머, 끌, 정, 핸드 그라인드"}]
[null,null,"유해위험물질"]
[null,null,{"$f":"'1-1 사업장 공정 정보'!AM21","v":"콘크리트 분진"}]
[]
[{"$f":"'1-1 사업장 공정 정보'!H23","v":"구조체 해제(기계작업)"}]
[null,null,"세부공정설명"]
[null,null,{"$f":"'1-1 사업장 공정 정보'!Q23","v":"중장비를 이용한 건물 구조물 철거\n철거된 자재 분리 및 운반"}]
[null,null,"유해위험설비/도구"]
[null,null,{"$f":"'1-1 사업장 공정 정보'!AD23","v":"굴착기, 크레인, \n브레이커, 운반 트럭"}]
[null,null,"유해위험물질"]
[null,null,{"$f":"'1-1 사업장 공정 정보'!AM23","v":"먼지, 소음, 진동"}]
[]
[{"$f":"'1-1 사업장 공정 정보'!H25","v":"페기물 처리 및 운반"}]
[null,null,"세부공정설명"]
[null,null,{"$f":"'1-1 사업장 공정 정보'!Q25","v":"철거 자재 분류 및 폐기물 처리\n운반 작업 및 폐기장 이송"}]
[null,null,"유해위험설비/도구"]
[null,null,{"$f":"'1-1 사업장 공정 정보'!AD25","v":"운반 트럭, 폐기물 분류 장비, 파렛트, 로프"}]
[null,null,"유해위험물질"]
[null,null,{"$f":"'1-1 사업장 공정 정보'!AM25","v":"비산먼지, 석면 잔재물"}]
[]
[{"$f":"'1-1 사업장 공정 정보'!H27","v":"현장정리 및 마감작업"}]
[null,null,"세부공정설명"]
[null,null,{"$f":"'1-1 사업장 공정 정보'!Q27","v":"현장 청소 및 잔재물 제거\n잔여 자재 재활용 및 폐기"}]
[null,null,"유해위험설비/도구"]
[null,null,{"$f":"'1-1 사업장 공정 정보'!AD27","v":"이동식 청소장비"}]
[null,null,"유해위험물질"]
[null,null,{"$f":"'1-1 사업장 공정 정보'!AM27","v":"먼지, 유해 잔여물"}]

{"sheet":"3-1 유해위험요인 파악","index":7,"n_rows":112,"n_cols":17,"rows_kept":112,"cut":false,"hidden":false,"merged":[[0,0,0,10],[2,0,3,0],[2,1,3,1],[5,0,7,0],[5,1,7,1],[1,2,1,3],[1,5,1,6],[1,8,1,9],[8,1,9,1],[8,0,9,0],[18,0,19,0],[16,0,16,10],[17,5,17,6],[17,8,17,9],[17,2,17,3],[30,1,31,1],[24,1,25,1],[30,0,31,0],[10,0,13,0],[10,1,13,1],[14,0,15,0],[14,1,15,1],[18,1,19,1],[21,0,23,0],[21,1,23,1],[24,0,25,0],[26,0,29,0],[26,1,29,1],[32,0,32,10],[33,2,33,3],[33,5,33,6],[33,8,33,9],[34,0,35,0],[34,1,35,1],[37,0,39,0],[37,1,39,1],[40,0,41,0],[40,1,41,1],[42,0,45,0],[42,1,45,1],[46,0,47,0],[46,1,47,1],[48,0,48,10],[49,2,49,3],[49,5,49,6],[49,8,49,9],[50,0,51,0],[50,1,51,1],[53,0,55,0],[53,1,55,1],[56,0,57,0],[56,1,57,1],[58,0,61,0],[58,1,61,1],[62,0,63,0],[62,1,63,1],[64,0,64,10],[65,2,65,3],[65,5,65,6],[65,8,65,9],[66,0,67,0],[66,1,67,1],[69,0,71,0],[69,1,71,1],[72,0,73,0],[72,1,73,1],[74,0,77,0],[74,1,77,1],[78,0,79,0],[78,1,79,1],[80,0,80,10],[81,2,81,3],[81,5,81,6],[81,8,81,9],[82,0,83,0],[82,1,83,1],[85,0,87,0],[85,1,87,1],[88,0,89,0],[88,1,89,1],[90,0,93,0],[90,1,93,1],[94,0,95,0],[94,1,95,1],[96,0,96,10],[97,2,97,3],[97,5,97,6],[97,8,97,9],[98,0,99,0],[98,1,99,1],[110,0,111,0],[110,1,111,1],[101,0,103,0],[101,1,103,1],[104,0,105,0],[104,1,105,1],[106,0,109,0],[106,1,109,1]]}
["유해위험요인 파악"]
["공\n정",{"$f":"'1-1 사업장 공정 정보'!$AD$11","v":"건물 해체 및 철거"},"세부\n분류",null,{"$f":"'1-1 사업장 공정 정보'!$H$15","v":"철거 현장 준비"},"설비",null,{"$f":"'1-1 사업장 공정 정보'!H15:P15","v":"철거 현장 준비"},"물질",null,{"$f":"'1-1 사업장 공정 정보'!AM15","v":"해당없음"}]
["1.","기계(설비)적 요인","▣",1.1000000000000001,"협착위험 부분(감김, 끼임)","□",1.2,"위험한 표면(절단, 베임, 긁힘)","▣",1.3,"기계(설비)의 낙하, 비래, 전복, 붕괴, 전도위험 부분",null,"1.1 협착위험 부분(감김, 끼임)",1.1000000000000001]
[null,null,"□",1.4,"충돌위험 부분","□",1.5,"넘어짐\n(미끄러짐, 걸림, 헛디딤)","□",1.6,"추락위험 부분(개구부 등)",null,"1.2 위험한 표면(절단, 베임,긁힘)",1.2]
["2.","전기적 요인","▣",2.1,"감전(안전전압초과)","□",2.2000000000000002,"아크","□",2.2999999999999998,"정전기",null,"1.3 기계(설비)의 낙하, 비래, 전복, 붕괴, 전도위험 부분",1.3]
["3.","화학(물질)적 요인","□",3.1,"가스","□",3.2,"증기","□",3.3,"에어로졸·흄",null,"1.4 충돌위험 부분",1.4]
[null,null,"□",3.4,"액체·미스트","□",3.5,"고체(분진)","□",3.6,"반응성 물질",null,"1.5 넘어짐(미끄러짐, 걸림, 헛디딤)",1.5]
[null,null,"□",3.7,"방사선","□",3.8,"화재 / 폭발 위험","□",3.9,"복사열 / 폭발과압",null,"1.6 추락위험 부분(개구부 등)",1.6]
["4.","생물학적 요인","□",4.0999999999999996,"병원성 미생물, 바이러스에 의한 감염","□",4.2,"유전자 변형물질(GMO)","□",4.3,"알러지 및 미생물",null,"2.1 감전(안전전압초과)",2.1]
[null,null,"□",4.4000000000000004,"동물","□",4.5,"식물",null,null,null,null,"2.2 아크",2.2000000000000002]
["5.","작업특성요인","□",5.0999999999999996,"소음","□",5.2,"초음파·초저주파음","□",5.3,"진동",null,"2.3 정전기",2.2999999999999998]
[null,null,"□",5.4,"근로자 실수(휴먼에러)","□",5.5,"저압 또는 고압상태","□",5.6,"질식위험·산소결핍",null,"3.1 가스",3.1]
[null,null,"□",5.7,"중량물 취급작업","□",5.8,"반복작업","▣",5.9,"불안정한 작업자세",null,"3.2 증기",3.2,null,null," "]
[null,null,"□",5.0999999999999996,"작업(조작)도구",null,null,null,null,null,null,null,"3.3 에어로졸·흄",3.3]
["6.","작업환경요인","▣",6.1,"기후 / 고온 / 한랭","□",6.2,"조명","□",6.3,"공간 및 이동통로",null,"3.4 액체·미스트",3.4]
[null,null,"□",6.4,"주변 근로자","□",6.5,"장시간/맞교대 작업","□",6.6,"조직 안전문화",null,"3.5 고체(분진)",3.5]
["유해위험요인 파악",null,null,null,null,null,null,null,null,null,null,null,"3.6 반응성 물질",3.6]
["공\n정",{"$f":"'1-1 사업장 공정 정보'!$AD$11","v":"건물 해체 및 철거"},"세부\n분류",null,{"$f":"'1-1 사업장 공정 정보'!H17","v":"유해물질 제거"},"설비",null,"핸드그라이더, 말비계, 이동식 비계, 교류아크용접기, 연삭기","물질",null,{"$f":"'1-1 사업장 공정 정보'!AM17","v":"석면, 석면, 납 성분"},null,"3.7 방사선",3.7]
["1.","기계(설비)적 요인","▣",1.1000000000000001,"협착위험 부분(감김, 끼임)","□",1.2,"위험한 표면(절단, 베임, 긁힘)","□",1.3,"기계(설비)의 낙하, 비래, 전복, 붕괴, 전도위험 부분",null,"3.8 화재 / 폭발 위험",3.8]
[null,null,"□",1.4,"충돌위험 부분","▣",1.5,"넘어짐\n(미끄러짐, 걸림, 헛디딤)","□",1.6,"추락위험 부분(개구부 등)",null,"3.9 복사열 / 폭발과압",3.9]
["2.","전기적 요인","▣",2.1,"감전(안전전압초과)","□",2.2000000000000002,"아크","□",2.2999999999999998,"정전기",null,"4.1 병원성 미생물, 바이러스에 의한 감염",4.0999999999999996]
["3.","화학(물질)적 요인","▣",3.1,"가스","□",3.2,"증기","□",3.3,"에어로졸·흄",null,"4.2 유전자 변형물질(GMO)",4.2]
[null,null,"□",3.4,"액체·미스트","□",3.5,"고체(분진)","□",3.6,"반응성 물질",null,"4.3 알러지 및 미생물",4.3]
[null,null,"□",3.7,"방사선","□",3.8,"화재 / 폭발 위험","□",3.9,"복사열 / 폭발과압",null,"4.4 동물",4.4000000000000004]
["4.","생물학적 요인","□",4.0999999999999996,"병원성 미생물, 바이러스에 의한 감염","□",4.2,"유전자 변형물질(GMO)","□",4.3,"알러지 및 미생물",null,"4.5 식물",4.5]
[null,null,"□",4.4000000000000004,"동물","□",4.5,"식물",null,null,null,null,"5.1 소음",5.0999999999999996]
["5.","작업특성요인","□",5.0999999999999996,"소음","□",5.2,"초음파·초저주파음","□",5.3,"진동",null,"5.2 초음파·초저주파음",5.2]
[null,null,"□",5.4,"근로자 실수(휴먼에러)","□",5.5,"저압 또는 고압상태","□",5.6,"질식위험·산소결핍",null,"5.3 진동",5.3]
[null,null,"□",5.7,"중량물 취급작업","□",5.8,"반복작업","□",5.9,"불안정한 작업자세",null,"5.4 근로자 실수(휴먼에러)",5.4]
[null,null,"□",5.0999999999999996,"작업(조작)도구",null,null,null,null,null,null,null,"5.5 저압 또는 고압상태",5.5]
["6.","작업환경요인","□",6.1,"기후 / 고온 / 한랭","□",6.2,"조명","▣",6.3,"공간 및 이동통로",null,"5.6 질식위험·산소결핍",5.6]
[null,null,"□",6.4,"주변 근로자","□",6.5,"장시간/맞교대 작업","□",6.6,"조직 안전문화",null,"5.7 중량물 취급작업",5.7]
["유해위험요인 파악",null,null,null,null,null,null,null,null,null,null,null,"5.8 반복작업",5.8]
["공\n정",{"$f":"'1-1 사업장 공정 정보'!$AD$11","v":"건물 해체 및 철거"},"세부\n분류",null,{"$f":"'1-1 사업장 공정 정보'!$H$19","v":"비 구조적 요소 철거"},"설비",null,"핸드그라이더, 말비계, 이동식 비계, 교류아크용접기, 연삭기","물질",null,{"$f":"'1-1 사업장 공정 정보'!AM19","v":"먼지, 비산물질"},null,"5.9 불안정한 작업자세",5.9]
["1.","기계(설비)적 요인","▣",1.1000000000000001,"협착위험 부분(감김, 끼임)","□",1.2,"위험한 표면(절단, 베임, 긁힘)","□",1.3,"기계(설비)의 낙하, 비래, 전복, 붕괴, 전도위험 부분","`","5.10 작업(조작)도구",5.0999999999999996]
[null,null,"□",1.4,"충돌위험 부분","▣",1.5,"넘어짐\n(미끄러짐, 걸림, 헛디딤)","□",1.6,"추락위험 부분(개구부 등)",null,"6.1 기후 / 고온 / 한랭",6.1]
["2.","전기적 요인","▣",2.1,"감전(안전전압초과)","□",2.2000000000000002,"아크","□",2.2999999999999998,"정전기",null,"6.2 조명",6.2]
["3.","화학(물질)적 요인","▣",3.1,"가스","□",3.2,"증기","□",3.3,"에어로졸·흄",null,"6.3 공간 및 이동통로",6.3]
[null,null,"□",3.4,"액체·미스트","□",3.5,"고체(분진)","□",3.6,"반응성 물질",null,"6.4 주변 근로자",6.4]
[null,null,"□",3.7,"방사선","□",3.8,"화재 / 폭발 위험","□",3.9,"복사열 / 폭발과압",null,"6.5 장시간/맞교대 작업",6.5]
["4.","생물학적 요인","□",4.0999999999999996,"병원성 미생물, 바이러스에 의한 감염","□",4.2,"유전자 변형물질(GMO)","□",4.3,"알러지 및 미생물",null,"6.6 조직 안전문화",6.6]
[null,null,"□",4.4000000000000004,"동물","□",4.5,"식물"]
["5.","작업특성요인","□",5.0999999999999996,"소음","□",5.2,"초음파·초저주파음","□",5.3,"진동"]
[null,null,"□",5.4,"근로자 실수(휴먼에러)","□",5.5,"저압 또는 고압상태","□",5.6,"질식위험·산소결핍"]
[null,null,"▣",5.7,"중량물 취급작업","□",5.8,"반복작업","□",5.9,"불안정한 작업자세"]
[null,null,"□",5.0999999999999996,"작업(조작)도구"]
["6.","작업환경요인","□",6.1,"기후 / 고온 / 한랭","□",6.2,"조명","▣",6.3,"공간 및 이동통로"]
[null,null,"□",6.4,"주변 근로자","□",6.5,"장시간/맞교대 작업","□",6.6,"조직 안전문화"]
["유해위험요인 파악"]
["공\n정",{"$f":"'1-1 사업장 공정 정보'!$AD$11","v":"건물 해체 및 철거"},"세부\n분류",null,{"$f":"'1-1 사업장 공정 정보'!$H$21","v":"구조체 해체(수작업)"},"설비",null,"핸드그라이더, 말비계, 이동식 비계, 교류아크용접기, 연삭기","물질",null,{"$f":"'1-1 사업장 공정 정보'!AM21","v":"콘크리트 분진"}]
["1.","기계(설비)적 요인","□",1.1000000000000001,"협착위험 부분(감김, 끼임)","▣",1.2,"위험한 표면(절단, 베임, 긁힘)","□",1.3,"기계(설비)의 낙하, 비래, 전복, 붕괴, 전도위험 부분"]
[null,null,"□",1.4,"충돌위험 부분","□",1.5,"넘어짐\n(미끄러짐, 걸림, 헛디딤)","▣",1.6,"추락위험 부분(개구부 등)"]
["2.","전기적 요인","□",2.1,"감전(안전전압초과)","□",2.2000000000000002,"아크","□",2.2999999999999998,"정전기"]
["3.","화학(물질)적 요인","□",3.1,"가스","□",3.2,"증기","□",3.3,"에어로졸·흄"]
[null,null,"□",3.4,"액체·미스트","□",3.5,"고체(분진)","□",3.6,"반응성 물질"]
[null,null,"□",3.7,"방사선","□",3.8,"화재 / 폭발 위험","□",3.9,"복사열 / 폭발과압"]
["4.","생물학적 요인","□",4.0999999999999996,"병원성 미생물, 바이러스에 의한 감염","□",4.2,"유전자 변형물질(GMO)","□",4.3,"알러지 및 미생물"]
[null,null,"□",4.4000000000000004,"동물","□",4.5,"식물"]
["5.","작업특성요인","□",5.0999999999999996,"소음","□",5.2,"초음파·초저주파음","□",5.3,"진동"]
[null,null,"▣",5.4,"근로자 실수(휴먼에러)","□",5.5,"저압 또는 고압상태","□",5.6,"질식위험·산소결핍"]
[null,null,"□",5.7,"중량물 취급작업","□",5.8,"반복작업","□",5.9,"불안정한 작업자세"]
[null,null,"□",5.0999999999999996,"작업(조작)도구"]
["6.","작업환경요인","□",6.1,"기후 / 고온 / 한랭","□",6.2,"조명","□",6.3,"공간 및 이동통로"]
[null,null,"□",6.4,"주변 근로자","▣",6.5,"장시간/맞교대 작업","□",6.6,"조직 안전문화"]
["유해위험요인 파악"]
["공\n정",{"$f":"'1-1 사업장 공정 정보'!$AD$11","v":"건물 해체 및 철거"},"세부\n분류",null,{"$f":"'1-1 사업장 공정 정보'!$H$23","v":"구조체 해제(기계작업)"},"설비",null,"핸드그라이더, 말비계, 이동식 비계, 교류아크용접기, 연삭기","물질",null,{"$f":"'1-1 사업장 공정 정보'!AM23","v":"먼지, 소음, 진동"}]
["1.","기계(설비)적 요인","□",1.1000000000000001,"협착위험 부분(감김, 끼임)","□",1.2,"위험한 표면(절단, 베임, 긁힘)","▣",1.3,"기계(설비)의 낙하, 비래, 전복, 붕괴, 전도위험 부분"]
[null,null,"▣",1.4,"충돌위험 부분","□",1.5,"넘어짐\n(미끄러짐, 걸림, 헛디딤)","▣",1.6,"추락위험 부분(개구부 등)"]
["2.","전기적 요인","□",2.1,"감전(안전전압초과)","□",2.2000000000000002,"아크","□",2.2999999999999998,"정전기"]
["3.","화학(물질)적 요인","□",3.1,"가스","□",3.2,"증기","□",3.3,"에어로졸·흄"]
[null,null,"□",3.4,"액체·미스트","□",3.5,"고체(분진)","□",3.6,"반응성 물질"]
[null,null,"□",3.7,"방사선","▣",3.8,"화재 / 폭발 위험","□",3.9,"복사열 / 폭발과압"]
["4.","생물학적 요인","□",4.0999999999999996,"병원성 미생물, 바이러스에 의한 감염","□",4.2,"유전자 변형물질(GMO)","□",4.3,"알러지 및 미생물"]
[null,null,"□",4.4000000000000004,"동물","□",4.5,"식물"]
["5.","작업특성요인","□",5.0999999999999996,"소음","□",5.2,"초음파·초저주파음","□",5.3,"진동"]
[null,null,"□",5.4,"근로자 실수(휴먼에러)","□",5.5,"저압 또는 고압상태","▣",5.6,"질식위험·산소결핍"]
[null,null,"□",5.7,"중량물 취급작업","□",5.8,"반복작업","□",5.9,"불안정한 작업자세"]
[null,null,"□",5.0999999999999996,"작업(조작)도구"]
["6.","작업환경요인","□",6.1,"기후 / 고온 / 한랭","□",6.2,"조명","▣",6.3,"공간 및 이동통로"]
[null,null,"□",6.4,"주변 근로자","□",6.5,"장시간/맞교대 작업","□",6.6,"조직 안전문화",null,null,null,null,null,"`"]
["유해위험요인 파악"]
["공\n정",{"$f":"'1-1 사업장 공정 정보'!$AD$11","v":"건물 해체 및 철거"},"세부\n분류",null,{"$f":"'1-1 사업장 공정 정보'!$H$25","v":"페기물 처리 및 운반"},"설비",null,"핸드그라이더, 말비계, 이동식 비계, 교류아크용접기, 연삭기","물질",null,{"$f":"'1-1 사업장 공정 정보'!AM25","v":"비산먼지, 석면 잔재물"}]
["1.","기계(설비)적 요인","□",1.1000000000000001,"협착위험 부분(감김, 끼임)","□",1.2,"위험한 표면(절단, 베임, 긁힘)","▣",1.3,"기계(설비)의 낙하, 비래, 전복, 붕괴, 전도위험 부분"]
[null,null,"□",1.4,"충돌위험 부분","□",1.5,"넘어짐\n(미끄러짐, 걸림, 헛디딤)","□",1.6,"추락위험 부분(개구부 등)"]
["2.","전기적 요인","□",2.1,"감전(안전전압초과)","□",2.2000000000000002,"아크","□",2.2999999999999998,"정전기"]
["3.","화학(물질)적 요인","□",3.1,"가스","□",3.2,"증기","□",3.3,"에어로졸·흄"]
[null,null,"□",3.4,"액체·미스트","▣",3.5,"고체(분진)","□",3.6,"반응성 물질"]
[null,null,"□",3.7,"방사선","▣",3.8,"화재 / 폭발 위험","□",3.9,"복사열 / 폭발과압"]
["4.","생물학적 요인","□",4.0999999999999996,"병원성 미생물, 바이러스에 의한 감염","□",4.2,"유전자 변형물질(GMO)","□",4.3,"알러지 및 미생물"]
[null,null,"□",4.4000000000000004,"동물","□",4.5,"식물"]
["5.","작업특성요인","□",5.0999999999999996,"소음","□",5.2,"초음파·초저주파음","□",5.3,"진동"]
[null,null,"□",5.4,"근로자 실수(휴먼에러)","□",5.5,"저압 또는 고압상태","□",5.6,"질식위험·산소결핍"]
[null,null,"▣",5.7,"중량물 취급작업","□",5.8,"반복작업","□",5.9,"불안정한 작업자세"]
[null,null,"□",5.0999999999999996,"작업(조작)도구"]
["6.","작업환경요인","□",6.1,"기후 / 고온 / 한랭","□",6.2,"조명","▣",6.3,"공간 및 이동통로"]
[null,null,"□",6.4,"주변 근로자","□",6.5,"장시간/맞교대 작업","□",6.6,"조직 안전문화"]
["유해위험요인 파악"]
["공\n정",{"$f":"'1-1 사업장 공정 정보'!$AD$11","v":"건물 해체 및 철거"},"세부\n분류",null,{"$f":"'1-1 사업장 공정 정보'!$H$27","v":"현장정리 및 마감작업"},"설비",null,"핸드그라이더, 말비계, 이동식 비계, 교류아크용접기, 연삭기","물질",null,{"$f":"'1-1 사업장 공정 정보'!AM27","v":"먼지, 유해 잔여물"}]
["1.","기계(설비)적 요인","□",1.1000000000000001,"협착위험 부분(감김, 끼임)","□",1.2,"위험한 표면(절단, 베임, 긁힘)","▣",1.3,"기계(설비)의 낙하, 비래, 전복, 붕괴, 전도위험 부분"]
[null,null,"□",1.4,"충돌위험 부분","▣",1.5,"넘어짐\n(미끄러짐, 걸림, 헛디딤)","□",1.6,"추락위험 부분(개구부 등)"]
["2.","전기적 요인","□",2.1,"감전(안전전압초과)","□",2.2000000000000002,"아크","□",2.2999999999999998,"정전기"]
["3.","화학(물질)적 요인","□",3.1,"가스","□",3.2,"증기","□",3.3,"에어로졸·흄"]
[null,null,"□",3.4,"액체·미스트","▣",3.5,"고체(분진)","□",3.6,"반응성 물질"]
[null,null,"□",3.7,"방사선","□",3.8,"화재 / 폭발 위험","□",3.9,"복사열 / 폭발과압"]
["4.","생물학적 요인","□",4.0999999999999996,"병원성 미생물, 바이러스에 의한 감염","□",4.2,"유전자 변형물질(GMO)","□",4.3,"알러지 및 미생물"]
[null,null,"□",4.4000000000000004,"동물","□",4.5,"식물"]
["5.","작업특성요인","□",5.0999999999999996,"소음","□",5.2,"초음파·초저주파음","□",5.3,"진동"]
[null,null,"▣",5.4,"근로자 실수(휴먼에러)","□",5.5,"저압 또는 고압상태","□",5.6,"질식위험·산소결핍"]
[null,null,"□",5.7,"중량물 취급작업","□",5.8,"반복작업","□",5.9,"불안정한 작업자세"]
[null,null,"□",5.0999999999999996,"작업(조작)도구"]
["6.","작업환경요인","□",6.1,"기후 / 고온 / 한랭","□",6.2,"조명","▣",6.3,"공간 및 이동통로"]
[null,null,"□",6.4,"주변 근로자","□",6.5,"장시간/맞교대 작업","□",6.6,"조직 안전문화"]

{"sheet":"3-2 유해위험요인 파악현황","index":8,"n_rows":17,"n_cols":28,"rows_kept":17,"cut":false,"hidden":false,"merged":[[3,0,4,0],[3,2,4,2],[3,26,4,26],[3,27,4,27],[5,0,6,0],[5,2,6,2],[5,26,6,26],[5,27,6,27],[0,0,0,27],[1,0,2,0],[1,1,1,2],[1,3,2,25],[1,26,1,27],[7,27,8,27],[9,0,10,0],[9,2,10,2],[9,26,10,26],[9,27,10,27],[15,0,16,0],[15,2,16,2],[15,26,16,26],[15,27,16,27],[3,1,16,1],[11,0,12,0],[11,2,12,2],[11,26,12,26],[11,27,12,27],[13,0,14,0],[13,2,14,2],[13,26,14,26],[13,27,14,27],[7,0,8,0],[7,2,8,2],[7,26,8,26]]}
["유해위험요인 파악현황"]
["구분","공정",null,"유해위험요인",null,null,null,null,null,null,null,null,null,null,null,null,null,null,null,null,null,null,null,null,null,null,"기타정보"]
[null,"대분류","세부분류",null,null,null,null,null,null,null,null,null,null,null,null,null,null,null,null,null,null,null,null,null,null,null,"설비","물질"]
["1",{"$f":"표지!B6","v":"건물 해체 및 철거"},{"$f":"'1-1 사업장 공정 정보'!H15","v":"철거 현장 준비"},1.1000000000000001,1.2,1.3,1.4,1.5,1.6,2.1,2.2000000000000002,2.2999999999999998,3.1,3.2,3.3,3.4,3.5,3.6,3.7,3.8,3.9,4.0999999999999996,4.2,4.3,4.4000000000000004,4.5,{"$f":"'1-1 사업장 공정 정보'!AD15","v":"운반차량, 리프트, 지게차, 고속 절단기"},{"$f":"'1-1 사업장 공정 정보'!AM15","v":"해당없음"}]
[null,null,null,5.0999999999999996,5.2,5.3,5.4,5.5,5.6,5.7,5.8,5.9,5.0999999999999996,6.1,6.2,6.3,6.4,6.5,6.6]
["2",null,{"$f":"'1-1 사업장 공정 정보'!H17","v":"유해물질 제거"},1.1000000000000001,1.2,1.3,1.4,1.5,1.6,2.1,2.2000000000000002,2.2999999999999998,3.1,3.2,3.3,3.4,3.5,3.6,3.7,3.8,3.9,4.0999999999999996,4.2,4.3,4.4000000000000004,4.5,{"$f":"'1-1 사업장 공정 정보'!AD17","v":"보호장구 (방독마스크, 방진복)\n진공청소기, 제거제"},{"$f":"'1-1 사업장 공정 정보'!AM17","v":"석면, 석면, 납 성분"}]
[null,null,null,5.0999999999999996,5.2,5.3,5.4,5.5,5.6,5.7,5.8,5.9,5.0999999999999996,6.1,6.2,6.3,6.4,6.5,6.6]
["3",null,{"$f":"'1-1 사업장 공정 정보'!H19","v":"비 구조적 요소 철거"},1.1000000000000001,1.2,1.3,1.4,1.5,1.6,2.1,2.2000000000000002,2.2999999999999998,3.1,3.2,3.3,3.4,3.5,3.6,3.7,3.8,3.9,4.0999999999999996,4.2,4.3,4.4000000000000004,4.5,{"$f":"'1-1 사업장 공정 정보'!AD19","v":"해머, 그라인더, 톱\n전동 공구"},{"$f":"'1-1 사업장 공정 정보'!AM19","v":"먼지, 비산물질"}]
[null,null,null,5.0999999999999996,5.2,5.3,5.4,5.5,5.6,5.7,5.8,5.9,5.0999999999999996,6.1,6.2,6.3,6.4,6.5,6.6]
["4",null,{"$f":"'1-1 사업장 공정 정보'!H21","v":"구조체 해체(수작업)"},1.1000000000000001,1.2,1.3,1.4,1.5,1.6,2.1,2.2000000000000002,2.2999999999999998,3.1,3.2,3.3,3.4,3.5,3.6,3.7,3.8,3.9,4.0999999999999996,4.2,4.3,4.4000000000000004,4.5,{"$f":"'1-1 사업장 공정 정보'!AD21","v":"해머, 끌, 정, 핸드 그라인드"},{"$f":"'1-1 사업장 공정 정보'!AM21","v":"콘크리트 분진"}]
[null,null,null,5.0999999999999996,5.2,5.3,5.4,5.5,5.6,5.7,5.8,5.9,5.0999999999999996,6.1,6.2,6.3,6.4,6.5,6.6]
["5",null,{"$f":"'1-1 사업장 공정 정보'!H23","v":"구조체 해제(기계작업)"},1.1000000000000001,1.2,1.3,1.4,1.5,1.6,2.1,2.2000000000000002,2.2999999999999998,3.1,3.2,3.3,3.4,3.5,3.6,3.7,3.8,3.9,4.0999999999999996,4.2,4.3,4.4000000000000004,4.5,{"$f":"'1-1 사업장 공정 정보'!AD23","v":"굴착기, 크레인, \n브레이커, 운반 트럭"},{"$f":"'1-1 사업장 공정 정보'!AM23","v":"먼지, 소음, 진동"}]
[null,null,null,5.0999999999999996,5.2,5.3,5.4,5.5,5.6,5.7,5.8,5.9,5.0999999999999996,6.1,6.2,6.3,6.4,6.5,6.6]
["6",null,{"$f":"'1-1 사업장 공정 정보'!H25","v":"페기물 처리 및 운반"},1.1000000000000001,1.2,1.3,1.4,1.5,1.6,2.1,2.2000000000000002,2.2999999999999998,3.1,3.2,3.3,3.4,3.5,3.6,3.7,3.8,3.9,4.0999999999999996,4.2,4.3,4.4000000000000004,4.5,{"$f":"'1-1 사업장 공정 정보'!AD25","v":"운반 트럭, 폐기물 분류 장비, 파렛트, 로프"},{"$f":"'1-1 사업장 공정 정보'!AM25","v":"비산먼지, 석면 잔재물"}]
[null,null,null,5.0999999999999996,5.2,5.3,5.4,5.5,5.6,5.7,5.8,5.9,5.0999999999999996,6.1,6.2,6.3,6.4,6.5,6.6]
["7",null,{"$f":"'1-1 사업장 공정 정보'!H27","v":"현장정리 및 마감작업"},1.1000000000000001,1.2,1.3,1.4,1.5,1.6,2.1,2.2000000000000002,2.2999999999999998,3.1,3.2,3.3,3.4,3.5,3.6,3.7,3.8,3.9,4.0999999999999996,4.2,4.3,4.4000000000000004,4.5,{"$f":"'1-1 사업장 공정 정보'!AD27","v":"이동식 청소장비"},{"$f":"'1-1 사업장 공정 정보'!AM27","v":"먼지, 유해 잔여물"}]
[null,null,null,5.0999999999999996,5.2,5.3,5.4,5.5,5.6,5.7,5.8,5.9,5.0999999999999996,6.1,6.2,6.3,6.4,6.5,6.6]

{"sheet":"3-3 위험성평가","index":9,"n_rows":57,"n_cols":18,"rows_kept":57,"cut":false,"hidden":false,"merged":[[49,15,50,15],[49,16,50,16],[49,17,50,17],[17,15,18,15],[17,16,18,16],[17,17,18,17],[32,13,33,13],[32,14,33,14],[32,15,33,15],[32,16,33,16],[32,17,33,17],[17,13,18,13],[17,14,18,14],[50,8,51,10],[1,14,2,14],[1,13,2,13],[9,13,10,13],[9,14,10,14],[49,13,50,13],[49,14,50,14],[49,1,49,2],[49,3,49,5],[49,7,49,9],[49,11,49,12],[50,1,51,1],[50,2,50,4],[50,6,50,7],[50,11,50,12],[41,1,41,2],[41,3,41,5],[41,7,41,9],[41,11,41,12],[42,1,43,1],[42,2,42,4],[42,6,42,7],[42,8,42,10],[42,11,42,12],[43,8,43,10],[32,1,32,2],[32,3,32,5],[32,7,32,9],[32,11,32,12],[33,1,34,1],[33,2,33,4],[33,6,33,7],[33,11,33,12],[33,8,34,10],[40,8,40,10],[25,11,25,12],[26,1,27,1],[26,2,26,4],[26,6,26,7],[26,11,26,12],[26,8,27,10],[17,11,17,12],[18,1,19,1],[18,2,18,4],[18,6,18,7],[18,11,18,12],[18,8,19,10],[54,8,54,10],[55,8,55,10],[56,8,56,10],[17,1,17,2],[17,3,17,5],[17,7,17,9],[25,1,25,2],[25,3,25,5],[25,7,25,9],[45,8,45,10],[46,8,46,10],[47,8,47,10],[48,8,48,10],[52,8,52,10],[53,8,53,10],[35,8,35,10],[36,8,36,10],[37,8,37,10],[38,8,38,10],[39,8,39,10],[44,8,44,10],[28,8,28,10],[29,8,29,10],[30,8,30,10],[31,8,31,10],[20,8,20,10],[21,8,21,10],[22,8,22,10],[23,8,23,10],[24,8,24,10],[12,8,12,10],[13,8,13,10],[14,8,14,10],[15,8,15,10],[16,8,16,10],[4,8,4,10],[5,8,5,10],[6,8,6,10],[7,8,7,10],[8,8,8,10],[9,16,10,16],[9,17,10,17],[10,1,11,1],[10,2,10,4],[10,6,10,7],[10,8,11,10],[10,11,10,12],[9,15,10,15],[9,1,9,2],[9,3,9,5],[9,7,9,9],[9,11,9,12],[1,15,2,15],[1,16,2,16],[1,17,2,17],[2,1,3,1],[2,2,2,4],[2,6,2,7],[2,8,3,10],[2,11,2,12],[0,1,0,12],[1,1,1,2],[1,3,1,5],[1,7,1,9],[1,11,1,12]]}
[null,"위험성평가 회의록"]
[null,"공정대분류 :",null,{"$f":"표지!B6","v":"건물 해체 및 철거"},null,null,"위험성결정","세부분류 :",null,null,1,{"$f":"'1-1 사업장 공정 정보'!H15","v":"철거 현장 준비"},null,"조치계획","남아 있는 위험","현재 조치사항을 기록하세요","주간안전점검회의 시 사전조치사항\n(내용 변경하여 사용하세요)","TBM전달내용"]
[null,"구분","유해위험요인 파악",null,null,"관련근거","현재안전보건조치",null,"현재위험성\n(상,중,하)",null,null,"감소대책"]
[0,null,"분류","원인","유해위험요인","법규/노출기준 등","현재상태","조치내용",null,null,null,"NO","세부내용","현재 위험(상)\n(수정 가능합니다.)","현재위험\"중\" 또는\n \"현장확인\" 시\n(이부분 수정하지 마세요)","(수정 가능합니다)","수정가능합니다.","수정가능합니다."]
[{"$f":"IF(OR(I5=\"상\",I5=\"중\"),A4+1,A4)","v":1},1,"기계(설비)적 요인","1.1 협착위험 부분(감김, 끼임)","가설재 설치 중 협착 위험","산업안전보건기준에 관한 규칙 제38조","현장확인필요",{"$f":"IF(OR(G5=\"조치완료\",G5=\"조치완료(중)\"),P5,IF(G5=\"현장확인필요\",\"조치내용 현장확인필요 필요\",IF(G5=\"해당없음\",\"작업 진행 하지 않음\",\"\")))","v":"조치내용 현장확인필요 필요"},{"$f":"IF(G5=\"조치예정(상)\",\"상\",IF(G5=\"조치예정(중)\",\"중\",IF(G5=\"조치완료\",\"하\",IF(G5=\"현장확인필요\",\"중\",IF(G5=\"조치완료(중)\",\"중\",G5)))))","v":"중"},null,null,{"$f":"IF(I5=\"상\",B5&\"-\"&VLOOKUP(D5,'3-1 유해위험요인 파악'!$M$3:$N$41,2,0),IF(I5=\"중\",B5&\"-\"&VLOOKUP(D5,'3-1 유해위험요인 파악'!$M$3:$N$41,2,0),\"\"))","v":"1-1.1"},{"$f":"IF(OR(G5=\"조치예정(상)\",G5=\"조치예정(중)\"),N5,IF(G5=\"조치완료(중)\",O5,IF(G5=\"현장확인필요\",N5&CHAR(10)&\"등 실시 내용 현장에서 직접 확인한다\",\"\")))","v":"- 가설재 설치 시 2인 1조 작업\n- 손 끼임 방지 장갑 착용\n등 실시 내용 현장에서 직접 확인한다"},"- 가설재 설치 시 2인 1조 작업\n- 손 끼임 방지 장갑 착용","가설재 설치 작업 전 작업자 배치 확인","작업자 2인 1조 구성, 보호 장갑 착용 완료","가설재 설치 시 협착 방지를 위한 신호 체계 논의","가설재 설치 중 협착 위험 방지 방안 전달"]
[{"$f":"IF(OR(I6=\"상\",I6=\"중\"),A5+1,A5)","v":2},1,"기계(설비)적 요인","1.3 기계(설비)의 낙하, 비래, 전복, 붕괴, 전도위험 부분","가설재 설치 중 자재 낙하","산업안전보건기준에 관한 규칙 제39조","조치예정(상)",{"$f":"IF(OR(G6=\"조치완료\",G6=\"조치완료(중)\"),P6,IF(G6=\"현장확인필요\",\"조치내용 현장확인필요 필요\",IF(G6=\"해당없음\",\"작업 진행 하지 않음\",\"\")))","v":""},{"$f":"IF(G6=\"조치예정(상)\",\"상\",IF(G6=\"조치예정(중)\",\"중\",IF(G6=\"조치완료\",\"하\",IF(G6=\"현장확인필요\",\"중\",IF(G6=\"조치완료(중)\",\"중\",G6)))))","v":"상"},null,null,{"$f":"IF(I6=\"상\",B6&\"-\"&VLOOKUP(D6,'3-1 유해위험요인 파악'!$M$3:$N$41,2,0),IF(I6=\"중\",B6&\"-\"&VLOOKUP(D6,'3-1 유해위험요인 파악'!$M$3:$N$41,2,0),\"\"))","v":"1-1.3"},{"$f":"IF(OR(G6=\"조치예정(상)\",G6=\"조치예정(중)\"),N6,IF(G6=\"조치완료(중)\",O6,IF(G6=\"현장확인필요\",N6&CHAR(10)&\"등 실시 내용 현장에서 직접 확인한다\",\"\")))","v":"- 작업 구역 내 안전망 설치\n- 헬멧 착용 확인"},"- 작업 구역 내 안전망 설치\n- 헬멧 착용 확인","안전망 설치 상태 및 헬멧 착용 여부 점검","안전망 설치 및 작업자 개인 보호구 지급 완료","안전망 설치 여부와 사용된 자재의 상태 검토","자재 낙하 방지를 위한 안전망 설치 중요성 강조"]
[{"$f":"IF(OR(I7=\"상\",I7=\"중\"),A6+1,A6)","v":3},1,"전기적 요인","2.1 감전(안전전압초과)","전기 설비 점검 중 감전 위험","산업안전보건법 제36조","조치예정(중)",{"$f":"IF(OR(G7=\"조치완료\",G7=\"조치완료(중)\"),P7,IF(G7=\"현장확인필요\",\"조치내용 현장확인필요 필요\",IF(G7=\"해당없음\",\"작업 진행 하지 않음\",\"\")))","v":""},"중",null,null,{"$f":"IF(I7=\"상\",B7&\"-\"&VLOOKUP(D7,'3-1 유해위험요인 파악'!$M$3:$N$41,2,0),IF(I7=\"중\",B7&\"-\"&VLOOKUP(D7,'3-1 유해위험요인 파악'!$M$3:$N$41,2,0),\"\"))","v":"1-2.1"},"- 전기설비 사전 점검\n- 작업 전 전기 차단 확인","- 전기설비 사전 점검\n- 작업 전 전기 차단 확인","전기설비 상태 및 전원 차단 여부 확인","전기설비 사전 점검 및 전기 차단 상태 확인 완료","감전 방지를 위한 전기 점검 절차 교육","전기 차단 후 작업 착수와 사전 점검의 중요성 전달"]
[4,1,"작업특성 요인","5.9 불안정한 작업자세","보호구 설치 중 비정상 자세로 인한 사고","산업안전보건법 제38조","현장확인필요",{"$f":"IF(OR(G8=\"조치완료\",G8=\"조치완료(중)\"),P8,IF(G8=\"현장확인필요\",\"조치내용 현장확인필요 필요\",IF(G8=\"해당없음\",\"작업 진행 하지 않음\",\"\")))","v":"조치내용 현장확인필요 필요"},"중",null,null,{"$f":"IF(I8=\"상\",B8&\"-\"&VLOOKUP(D8,'3-1 유해위험요인 파악'!$M$3:$N$41,2,0),IF(I8=\"중\",B8&\"-\"&VLOOKUP(D8,'3-1 유해위험요인 파악'!$M$3:$N$41,2,0),\"\"))","v":"1-5.9"},"- 적절한 작업자세 유지 교육\n- 작업 간 휴식 시간 제공\n등 실시 내용 현장에서 직접 확인한다","- 적절한 작업자세 유지 교육\n- 작업 간 휴식 시간 제공","작업 자세 유지 교육 여부 및 근로자 휴식 상태 확인","작업 자세 교육 실시 및 휴식 스케줄 준비 완료","작업 자세와 관련된 위험 방지 대책 협의","작업 자세 유지 및 휴식 제공의 중요성 전달"]
[4,1,"작업환경 요인","6.1 기후 / 고온 / 한랭","현장 온도 변화로 인한 탈진 위험","산업안전보건법 제24조","해당없음",{"$f":"IF(OR(G9=\"조치완료\",G9=\"조치완료(중)\"),P9,IF(G9=\"현장확인필요\",\"조치내용 현장확인필요 필요\",IF(G9=\"해당없음\",\"작업 진행 하지 않음\",\"\")))","v":"작업 진행 하지 않음"},"해당없음",null,null,{"$f":"IF(I9=\"상\",B9&\"-\"&VLOOKUP(D9,'3-1 유해위험요인 파악'!$M$3:$N$41,2,0),IF(I9=\"중\",B9&\"-\"&VLOOKUP(D9,'3-1 유해위험요인 파악'!$M$3:$N$41,2,0),\"\"))","v":""},{"$f":"IF(OR(G9=\"조치예정(상)\",G9=\"조치예정(중)\"),N9,IF(G9=\"조치완료(중)\",O9,IF(G9=\"현장확인필요\",N9&CHAR(10)&\"등 실시 내용 현장에서 직접 확인한다\",\"\")))","v":""},"- 적절한 작업복 지급\n- 음료 제공 및 쉼터 마련","작업 현장의 쉼터 설치 여부 점검","음료 및 휴게시설 준비 완료","쉼터 위치 및 음료 공급 여부 확인","현장 기후 변화에 따른 근로자 건강 관리 방안 전달"]
[4,"공정대분류 :",null,{"$f":"D2","v":"건물 해체 및 철거"},null,null,null,"세부분류 :",null,null,2,{"$f":"'1-1 사업장 공정 정보'!H17","v":"유해물질 제거"},null,"조치계획","남아 있는 위험","현재 조치사항을 기록하세요","주간안전점검회의 시 사전조치사항\n(내용 변경하여 사용하세요)","TBM전달내용"]
[4,"구분","유해위험요인 파악",null,null,"관련근거","현재안전보건조치",null,"현재위험성\n(상,중,하)",null,null,"감소대책"]
[4,null,"분류","원인","유해위험요인","법규/노출기준 등","현재상태","조치내용",null,null,null,"NO","세부내용","현재 위험(상)\n(수정 가능합니다.)","현재위험\"중\" 또는\n \"현장확인\" 시\n(이부분 수정하지 마세요)","(수정 가능합니다)","수정가능합니다.","수정가능합니다."]
[5,2,"기계(설비)적 요인","1.5 넘어짐(미끄러짐, 걸림, 헛디딤)","작업 중 미끄러짐","산업안전보건기준에 관한 규칙 제215조","조치완료(중)",{"$f":"IF(OR(G13=\"조치완료\",G13=\"조치완료(중)\"),P13,IF(G13=\"현장확인필요\",\"조치내용 현장확인필요 필요\",IF(G13=\"해당없음\",\"작업 진행 하지 않음\",\"\")))","v":"작업 구역 청소 및 미끄럼 방지 매트 설치 완료"},{"$f":"IF(G13=\"조치예정(상)\",\"상\",IF(G13=\"조치예정(중)\",\"중\",IF(G13=\"조치완료\",\"하\",IF(G13=\"현장확인필요\",\"중\",IF(G13=\"조치완료(중)\",\"중\",G13)))))","v":"중"},null,null,{"$f":"IF(I13=\"상\",B13&\"-\"&VLOOKUP(D13,'3-1 유해위험요인 파악'!$M$3:$N$41,2,0),IF(I13=\"중\",B13&\"-\"&VLOOKUP(D13,'3-1 유해위험요인 파악'!$M$3:$N$41,2,0),\"\"))","v":"2-1.5"},{"$f":"IF(OR(G13=\"조치예정(상)\",G13=\"조치예정(중)\"),N13,IF(G13=\"조치완료(중)\",O13,IF(G13=\"현장확인필요\",N13&CHAR(10)&\"등 실시 내용 현장에서 직접 확인한다\",\"\")))","v":"작업 구역 청소 상태 및 매트 설치 여부 점검"},"- 작업 구역 정리 및 청소\n- 미끄럼 방지 매트 설치\n- 미끄럼 방지 매트 설치","작업 구역 청소 상태 및 매트 설치 여부 점검","작업 구역 청소 및 미끄럼 방지 매트 설치 완료","미끄러짐 방지를 위한 작업 구역 상태 개선 논의","작업 구역 내 미끄럼 방지 대책 강조"]
[6,2,"화학적 요인","3.1 가스","유해 가스(석면 분해 시 방출) 흡입","산업안전보건기준에 관한 규칙 제604조","조치완료(중)",{"$f":"IF(OR(G14=\"조치완료\",G14=\"조치완료(중)\"),P14,IF(G14=\"현장확인필요\",\"조치내용 현장확인필요 필요\",IF(G14=\"해당없음\",\"작업 진행 하지 않음\",\"\")))","v":"환기 장치 설치 및 방독 마스크 지급 완료"},{"$f":"IF(G14=\"조치예정(상)\",\"상\",IF(G14=\"조치예정(중)\",\"중\",IF(G14=\"조치완료\",\"하\",IF(G14=\"현장확인필요\",\"중\",IF(G14=\"조치완료(중)\",\"중\",G14)))))","v":"중"},null,null,{"$f":"IF(I14=\"상\",B14&\"-\"&VLOOKUP(D14,'3-1 유해위험요인 파악'!$M$3:$N$41,2,0),IF(I14=\"중\",B14&\"-\"&VLOOKUP(D14,'3-1 유해위험요인 파악'!$M$3:$N$41,2,0),\"\"))","v":"2-3.1"},"작업 전 환기 장치 작동 상태 및 마스크 착용 여부 확인","- 유해 가스 배출 최소화를 위한 환기 장치 설치\n- 작업 중 방독 마스크 착용","작업 전 환기 장치 작동 상태 및 마스크 착용 여부 확인","환기 장치 설치 및 방독 마스크 지급 완료","유해 가스 발생 시 비상 대피 절차 검토 및 논의","방독 마스크 착용 및 가스 흡입 방지 대책 교육"]
[7,2,"화학적 요인","3.8 화재 / 폭발 위험","제거된 화학물질의 부적절한 보관으로 인한 화재 위험","산업안전보건기준에 관한 규칙 제605조","조치완료(중)",{"$f":"IF(OR(G15=\"조치완료\",G15=\"조치완료(중)\"),P15,IF(G15=\"현장확인필요\",\"조치내용 현장확인필요 필요\",IF(G15=\"해당없음\",\"작업 진행 하지 않음\",\"\")))","v":"화학물질 보관 용기 사용 및 화기 사용 금지 상태 확인"},"중",null,null,{"$f":"IF(I15=\"상\",B15&\"-\"&VLOOKUP(D15,'3-1 유해위험요인 파악'!$M$3:$N$41,2,0),IF(I15=\"중\",B15&\"-\"&VLOOKUP(D15,'3-1 유해위험요인 파악'!$M$3:$N$41,2,0),\"\"))","v":"2-3.8"},"제거된 화학물질 보관 상태 및 화기 사용 여부 확인","- 제거된 화학물질을 화재 방지 규격 용기에 보관\n- 화기 사용 작업 금지","제거된 화학물질 보관 상태 및 화기 사용 여부 확인","화학물질 보관 용기 사용 및 화기 사용 금지 상태 확인","화학물질의 안전한 보관 및 화재 예방 대책 논의","제거된 화학물질 취급 및 보관 방법 강조"]
[8,2,"작업특성 요인","5.4 근로자 실수(휴먼에러)","작업 중 유해물질 제거 절차 실수","산업안전보건법 제38조","조치예정(중)",{"$f":"IF(OR(G16=\"조치완료\",G16=\"조치완료(중)\"),P16,IF(G16=\"현장확인필요\",\"조치내용 현장확인필요 필요\",IF(G16=\"해당없음\",\"작업 진행 하지 않음\",\"\")))","v":""},"중",null,null,{"$f":"IF(I16=\"상\",B16&\"-\"&VLOOKUP(D16,'3-1 유해위험요인 파악'!$M$3:$N$41,2,0),IF(I16=\"중\",B16&\"-\"&VLOOKUP(D16,'3-1 유해위험요인 파악'!$M$3:$N$41,2,0),\"\"))","v":"2-5.4"},"- 작업 절차 매뉴얼 배포 및 교육\n- 작업 중 점검표 사용","- 작업 절차 매뉴얼 배포 및 교육\n- 작업 중 점검표 사용","작업자 작업 절차 숙지 및 점검표 사용 여부 확인","작업 절차 매뉴얼 배포 및 교육 완료","작업 절차 및 점검표 활용 중요성 검토","작업 절차 준수 및 실수 방지 교육"]
[9,2,"작업환경 요인","6.1 기후 / 고온 / 한랭","작업 중 고온 환경으로 인한 열사병 위험","산업안전보건법 제24조","조치예정(상)",{"$f":"IF(OR(G17=\"조치완료\",G17=\"조치완료(중)\"),P17,IF(G17=\"현장확인필요\",\"조치내용 현장확인필요 필요\",IF(G17=\"해당없음\",\"작업 진행 하지 않음\",\"\")))","v":""},"상",null,null,{"$f":"IF(I17=\"상\",B17&\"-\"&VLOOKUP(D17,'3-1 유해위험요인 파악'!$M$3:$N$41,2,0),IF(I17=\"중\",B17&\"-\"&VLOOKUP(D17,'3-1 유해위험요인 파악'!$M$3:$N$41,2,0),\"\"))","v":"2-6.1"},"- 작업 중 충분한 수분 섭취 및 휴식 제공\n- 쉼터 설치","- 작업 중 충분한 수분 섭취 및 휴식 제공\n- 쉼터 설치","쉼터 설치 위치 및 음료 제공 상태 점검","작업 현장 내 음료 제공 및 쉼터 설치 완료","고온 환경에서 작업 시 작업자 건강 관리 대책 논의","열사병 예방을 위한 수분 섭취 및 쉼터 사용 안내"]
[9,"공정대분류 :",null,{"$f":"D10","v":"건물 해체 및 철거"},null,null,null,"세부분류 :",null,null,3,{"$f":"'1-1 사업장 공정 정보'!H19","v":"비 구조적 요소 철거"},null,"조치계획","남아 있는 위험","현재 조치사항을 기록하세요","주간안전점검회의 시 사전조치사항\n(내용 변경하여 사용하세요)","TBM전달내용"]
[9,"구분","유해위험요인 파악",null,null,"관련근거","현재안전보건조치",null,"현재위험성\n(상,중,하)",null,null,"감소대책"]
[9,null,"분류","원인","유해위험요인","법규/노출기준 등","현재상태","조치내용",null,null,null,"NO","세부내용","현재 위험(상)\n(수정 가능합니다.)","현재위험\"중\" 또는\n \"현장확인\" 시\n(이부분 수정하지 마세요)","(수정 가능합니다)","수정가능합니다.","수정가능합니다."]
[10,3,"1. 기계(설비)적 요인","1.1 협착위험 부분(감김, 끼임)","설비 해체 작업 중 손 끼임 위험","산업안전보건기준에 관한 규칙 제38조","조치완료(중)",{"$f":"IF(OR(G21=\"조치완료\",G21=\"조치완료(중)\"),P21,IF(G21=\"현장확인필요\",\"조치내용 현장확인필요 필요\",IF(G21=\"해당없음\",\"작업 진행 하지 않음\",\"\")))","v":"작업자 2인 1조 구성 및 보호 장갑 지급 완료"},{"$f":"IF(G21=\"조치예정(상)\",\"상\",IF(G21=\"조치예정(중)\",\"중\",IF(G21=\"조치완료\",\"하\",IF(G21=\"현장확인필요\",\"중\",IF(G21=\"조치완료(중)\",\"중\",G21)))))","v":"중"},null,null,{"$f":"IF(I21=\"상\",B21&\"-\"&VLOOKUP(D21,'3-1 유해위험요인 파악'!$M$3:$N$41,2,0),IF(I21=\"중\",B21&\"-\"&VLOOKUP(D21,'3-1 유해위험요인 파악'!$M$3:$N$41,2,0),\"\"))","v":"3-1.1"},{"$f":"IF(OR(G21=\"조치예정(상)\",G21=\"조치예정(중)\"),N21,IF(G21=\"조치완료(중)\",O21,IF(G21=\"현장확인필요\",N21&CHAR(10)&\"등 실시 내용 현장에서 직접 확인한다\",\"\")))","v":"설비 해체 전 작업자 배치 및 보호구 착용 상태 확인"},"- 설비 해체 시 2인 1조 작업\n- 손 끼임 방지 장갑 착용","설비 해체 전 작업자 배치 및 보호구 착용 상태 확인","작업자 2인 1조 구성 및 보호 장갑 지급 완료","협착 방지를 위한 작업 방법 논의","설비 해체 중 협착 위험 방지 및 작업 전 교육 강조"]
[10,3,"1. 기계(설비)적 요인","1.5 넘어짐(미끄러짐, 걸림, 헛디딤)","비구조물 철거 작업 중 발판에서의 넘어짐 위험","산업안전보건기준에 관한 규칙 제39조","해당없음",{"$f":"IF(OR(G22=\"조치완료\",G22=\"조치완료(중)\"),P22,IF(G22=\"현장확인필요\",\"조치내용 현장확인필요 필요\",IF(G22=\"해당없음\",\"작업 진행 하지 않음\",\"\")))","v":"작업 진행 하지 않음"},{"$f":"IF(G22=\"조치예정(상)\",\"상\",IF(G22=\"조치예정(중)\",\"중\",IF(G22=\"조치완료\",\"하\",IF(G22=\"현장확인필요\",\"중\",IF(G22=\"조치완료(중)\",\"중\",G22)))))","v":"해당없음"},null,null,{"$f":"IF(I22=\"상\",B22&\"-\"&VLOOKUP(D22,'3-1 유해위험요인 파악'!$M$3:$N$41,2,0),IF(I22=\"중\",B22&\"-\"&VLOOKUP(D22,'3-1 유해위험요인 파악'!$M$3:$N$41,2,0),\"\"))","v":""},"","- 발판 안전점검 및 미끄럼 방지 작업\n- 작업자 안전화 착용 확인","발판의 상태와 미끄럼 방지 조치 확인","발판 점검 완료 및 미끄럼 방지 조치 완료","발판 안전상태 및 작업자 교육 내용 논의","발판 점검과 미끄럼 방지 대책의 중요성 전달"]
[11,3,"2. 전기적 요인","2.1 감전(안전전압초과)","전기 설비 해체 시 전원 차단 실패","산업안전보건법 제36조","조치예정(중)",{"$f":"IF(OR(G23=\"조치완료\",G23=\"조치완료(중)\"),P23,IF(G23=\"현장확인필요\",\"조치내용 현장확인필요 필요\",IF(G23=\"해당없음\",\"작업 진행 하지 않음\",\"\")))","v":""},"중",null,null,{"$f":"IF(I23=\"상\",B23&\"-\"&VLOOKUP(D23,'3-1 유해위험요인 파악'!$M$3:$N$41,2,0),IF(I23=\"중\",B23&\"-\"&VLOOKUP(D23,'3-1 유해위험요인 파악'!$M$3:$N$41,2,0),\"\"))","v":"3-2.1"},"- 전기 설비 작업 전 전원 차단 확인\n- 감전 방지용 절연 공구 사용","- 전기 설비 작업 전 전원 차단 확인\n- 감전 방지용 절연 공구 사용","전기 설비 작업 전 전원 상태 확인","전기 차단 여부 확인 및 절연 공구 지급 완료","감전 사고 방지를 위한 전원 차단 절차 검토","작업 전 전기 차단 확인과 감전 방지 장비 사용 전달"]
[11,3,"3. 화학(물질)적 요인","3.1 가스","가스설비 철거 중 잔류 가스 노출 위험","산업안전보건법 제24조","해당없음",{"$f":"IF(OR(G24=\"조치완료\",G24=\"조치완료(중)\"),P24,IF(G24=\"현장확인필요\",\"조치내용 현장확인필요 필요\",IF(G24=\"해당없음\",\"작업 진행 하지 않음\",\"\")))","v":"작업 진행 하지 않음"},"해당없음",null,null,{"$f":"IF(I24=\"상\",B24&\"-\"&VLOOKUP(D24,'3-1 유해위험요인 파악'!$M$3:$N$41,2,0),IF(I24=\"중\",B24&\"-\"&VLOOKUP(D24,'3-1 유해위험요인 파악'!$M$3:$N$41,2,0),\"\"))","v":""},"","- 잔류 가스 제거 후 작업 진행\n- 가스 감지기 사용","가스 제거 여부와 감지기 작동 상태 확인","잔류 가스 제거 완료 및 가스 감지기 상태 확인","잔류 가스 제거 여부와 감지기 사용 방법 검토","가스 제거 후 작업 착수의 중요성 전달"]
[11,3,"6. 작업환경 요인","6.3 공간 및 이동통로","비좁은 공간에서 설비 철거 시 이동 불편","산업안전보건법 제25조","해당없음",{"$f":"IF(OR(G25=\"조치완료\",G25=\"조치완료(중)\"),P25,IF(G25=\"현장확인필요\",\"조치내용 현장확인필요 필요\",IF(G25=\"해당없음\",\"작업 진행 하지 않음\",\"\")))","v":"작업 진행 하지 않음"},"해당없음",null,null,{"$f":"IF(I25=\"상\",B25&\"-\"&VLOOKUP(D25,'3-1 유해위험요인 파악'!$M$3:$N$41,2,0),IF(I25=\"중\",B25&\"-\"&VLOOKUP(D25,'3-1 유해위험요인 파악'!$M$3:$N$41,2,0),\"\"))","v":""},"","- 작업 전 이동 통로 확보\n- 작업 공간 확보를 위한 사전 정리","작업 통로 및 비좁은 공간 작업 환경 점검","작업 구역 내 이동 통로 확보 완료","작업 공간 확보 및 이동 통로 사전 계획 논의","비좁은 작업 공간에서의 안전 작업 방법 전달"]
[11,"공정대분류 :",null,{"$f":"D18","v":"건물 해체 및 철거"},null,null,null,"세부분류 :",null,null,4,{"$f":"'1-1 사업장 공정 정보'!H21","v":"구조체 해체(수작업)"},null,"조치계획",null,"현재 조치사항을 기록하세요","주간안전점검회의 시 사전조치사항\n(내용 변경하여 사용하세요)","TBM전달내용"]
[11,"구분","유해위험요인 파악",null,null,"관련근거","현재안전보건조치",null,"현재위험성\n(상,중,하)",null,null,"감소대책"]
[11,null,"분류","원인","유해위험요인","법규/노출기준 등","현재상태","조치내용",null,null,null,"NO","세부내용","현재 위험(상)\n(수정 가능합니다.)","현재위험\"중\" 또는\n \"현장확인\" 시\n(이부분 수정하지 마세요)","(수정 가능합니다)","수정가능합니다.","수정가능합니다."]
[11,4,"1. 기계(설비)적 요인","1.2 위험한 표면(절단, 베임,긁힘)","수작업 중 날카로운 표면으로 인한 손 베임 위험","산업안전보건법 제24조","해당없음",{"$f":"IF(OR(G29=\"조치완료\",G29=\"조치완료(중)\"),P29,IF(G29=\"현장확인필요\",\"조치내용 현장확인필요 필요\",IF(G29=\"해당없음\",\"작업 진행 하지 않음\",\"\")))","v":"작업 진행 하지 않음"},{"$f":"IF(G29=\"조치예정(상)\",\"상\",IF(G29=\"조치예정(중)\",\"중\",IF(G29=\"조치완료\",\"하\",IF(G29=\"현장확인필요\",\"중\",IF(G29=\"조치완료(중)\",\"중\",G29)))))","v":"해당없음"},null,null,{"$f":"IF(I29=\"상\",B29&\"-\"&VLOOKUP(D29,'3-1 유해위험요인 파악'!$M$3:$N$41,2,0),IF(I29=\"중\",B29&\"-\"&VLOOKUP(D29,'3-1 유해위험요인 파악'!$M$3:$N$41,2,0),\"\"))","v":""},{"$f":"IF(OR(G29=\"조치예정(상)\",G29=\"조치예정(중)\"),N29,IF(G29=\"조치완료(중)\",O29,IF(G29=\"현장확인필요\",N29&CHAR(10)&\"등 실시 내용 현장에서 직접 확인한다\",\"\")))","v":""},"- 작업자 보호 장갑 착용\n- 날카로운 표면 확인 및 마감 처리","날카로운 표면의 제거 및 작업 전 보호구 착용 확인","작업자 보호 장갑 지급 완료 및 표면 점검 완료","날카로운 표면 점검 및 마감 처리 방법 논의","작업 전 보호구 착용 및 작업 표면의 상태 전달"]
[12,4,"1. 기계(설비)적 요인","1.6 추락위험 부분(개구부 등)","수작업 철거 시 높은 곳에서 작업 중 추락 위험","산업안전보건기준에 관한 규칙 제39조","현장확인필요",{"$f":"IF(OR(G30=\"조치완료\",G30=\"조치완료(중)\"),P30,IF(G30=\"현장확인필요\",\"조치내용 현장확인필요 필요\",IF(G30=\"해당없음\",\"작업 진행 하지 않음\",\"\")))","v":"조치내용 현장확인필요 필요"},{"$f":"IF(G30=\"조치예정(상)\",\"상\",IF(G30=\"조치예정(중)\",\"중\",IF(G30=\"조치완료\",\"하\",IF(G30=\"현장확인필요\",\"중\",IF(G30=\"조치완료(중)\",\"중\",G30)))))","v":"중"},null,null,{"$f":"IF(I30=\"상\",B30&\"-\"&VLOOKUP(D30,'3-1 유해위험요인 파악'!$M$3:$N$41,2,0),IF(I30=\"중\",B30&\"-\"&VLOOKUP(D30,'3-1 유해위험요인 파악'!$M$3:$N$41,2,0),\"\"))","v":"4-1.6"},"- 안전대 착용 및 안전 발판 설치\n- 추락 방지 보호 장비 지급\n등 실시 내용 현장에서 직접 확인한다","- 안전대 착용 및 안전 발판 설치\n- 추락 방지 보호 장비 지급","안전 발판 설치 상태 및 작업자 보호 장비 착용 확인","작업자 안전대 착용 완료 및 발판 설치 완료","높은 위치 작업 시 추락 방지 장비의 중요성 논의","작업 전 안전대 착용 및 추락 방지 대책 전달"]
[12,4,"5. 작업특성 요인","5.4 근로자 실수(휴먼에러)","도구 사용 중 실수로 인한 부상 위험","산업안전보건법 제38조","해당없음",{"$f":"IF(OR(G31=\"조치완료\",G31=\"조치완료(중)\"),P31,IF(G31=\"현장확인필요\",\"조치내용 현장확인필요 필요\",IF(G31=\"해당없음\",\"작업 진행 하지 않음\",\"\")))","v":"작업 진행 하지 않음"},"해당없음",null,null,{"$f":"IF(I31=\"상\",B31&\"-\"&VLOOKUP(D31,'3-1 유해위험요인 파악'!$M$3:$N$41,2,0),IF(I31=\"중\",B31&\"-\"&VLOOKUP(D31,'3-1 유해위험요인 파악'!$M$3:$N$41,2,0),\"\"))","v":""},"","- 도구 사용법 사전 교육\n- 작업 중 안전감독자 배치","작업 도구 상태 점검 및 사용법 교육 내용 확인","작업자 도구 사용법 교육 완료 및 감독자 배치 완료","도구 사용법과 관련된 안전 절차 논의","도구 사용 시 주의사항 전달 및 감독자 배치 중요성 전달"]
[12,4,"6. 작업환경 요인","6.5 장시간/맞교대 작업","장시간 작업으로 인한 피로 누적 위험","산업안전보건법 제24조","해당없음",{"$f":"IF(OR(G32=\"조치완료\",G32=\"조치완료(중)\"),P32,IF(G32=\"현장확인필요\",\"조치내용 현장확인필요 필요\",IF(G32=\"해당없음\",\"작업 진행 하지 않음\",\"\")))","v":"작업 진행 하지 않음"},"해당없음",null,null,{"$f":"IF(I32=\"상\",B32&\"-\"&VLOOKUP(D32,'3-1 유해위험요인 파악'!$M$3:$N$41,2,0),IF(I32=\"중\",B32&\"-\"&VLOOKUP(D32,'3-1 유해위험요인 파악'!$M$3:$N$41,2,0),\"\"))","v":""},"","- 작업 간 충분한 휴식 시간 제공\n- 교대 작업 계획 수립","작업 시간 준수 여부와 근로자 피로 상태 확인","작업 교대 스케줄 수립 완료 및 휴식 공간 확보","교대 작업 계획과 작업 시간 준수 논의","장시간 작업 시 근로자 피로 관리 방안 전달"]
[12,"공정대분류 :",null,{"$f":"D26","v":"건물 해체 및 철거"},null,null,null,"세부분류 :",null,null,5,{"$f":"'1-1 사업장 공정 정보'!H23","v":"구조체 해제(기계작업)"},null,"조치계획","남아 있는 위험","현재 조치사항을 기록하세요","주간안전점검회의 시 사전조치사항\n(내용 변경하여 사용하세요)","TBM전달내용"]
[12,"구분","유해위험요인 파악",null,null,"관련근거","현재안전보건조치",null,"현재위험성\n(상,중,하)",null,null,"감소대책"]
[12,null,"분류","원인","유해위험요인","법규/노출기준 등","현재상태","조치내용",null,null,null,"NO","세부내용","현재 위험(상)\n(수정 가능합니다.)","현재위험\"중\" 또는\n \"현장확인\" 시\n(이부분 수정하지 마세요)","(수정 가능합니다)","수정가능합니다.","수정가능합니다."]
[13,5,"1. 기계(설비)적 요인","1.3 기계(설비)의 낙하, 비래, 전복, 붕괴, 전도위험 부분","구조물 해체 중 자재 및 잔해물 낙하","산업안전보건기준에 관한 규칙 제39조","현장확인필요",{"$f":"IF(OR(G36=\"조치완료\",G36=\"조치완료(중)\"),P36,IF(G36=\"현장확인필요\",\"조치내용 현장확인필요 필요\",IF(G36=\"해당없음\",\"작업 진행 하지 않음\",\"\")))","v":"조치내용 현장확인필요 필요"},{"$f":"IF(G36=\"조치예정(상)\",\"상\",IF(G36=\"조치예정(중)\",\"중\",IF(G36=\"조치완료\",\"하\",IF(G36=\"현장확인필요\",\"중\",IF(G36=\"조치완료(중)\",\"중\",G36)))))","v":"중"},null,null,{"$f":"IF(I36=\"상\",B36&\"-\"&VLOOKUP(D36,'3-1 유해위험요인 파악'!$M$3:$N$41,2,0),IF(I36=\"중\",B36&\"-\"&VLOOKUP(D36,'3-1 유해위험요인 파악'!$M$3:$N$41,2,0),\"\"))","v":"5-1.3"},{"$f":"IF(OR(G36=\"조치예정(상)\",G36=\"조치예정(중)\"),N36,IF(G36=\"조치완료(중)\",O36,IF(G36=\"현장확인필요\",N36&CHAR(10)&\"등 실시 내용 현장에서 직접 확인한다\",\"\")))","v":"- 작업 구역 내 낙하물 방지망 및 안전 울타리 설치\n- 헬멧 등 보호구 착용 의무화\n등 실시 내용 현장에서 직접 확인한다"},"- 작업 구역 내 낙하물 방지망 및 안전 울타리 설치\n- 헬멧 등 보호구 착용 의무화","낙하물 방지망 상태 및 보호구 착용 여부 점검","낙하물 방지망 설치 완료 및 보호구 착용 확인 완료","낙하물 방지 대책 및 현장 자재 관리 방법 논의","자재 낙하 방지망과 작업 중 낙하 위험 주의 사항 전달"]
[13,5,"1. 기계(설비)적 요인","1.4 충돌위험 부분","중장비 이동 및 작업 중 충돌 위험","산업안전보건기준에 관한 규칙 제30조","해당없음","작업 진행 하지 않음",{"$f":"IF(G37=\"조치예정(상)\",\"상\",IF(G37=\"조치예정(중)\",\"중\",IF(G37=\"조치완료\",\"하\",IF(G37=\"현장확인필요\",\"중\",IF(G37=\"조치완료(중)\",\"중\",G37)))))","v":"해당없음"},null,null,{"$f":"IF(I37=\"상\",B37&\"-\"&VLOOKUP(D37,'3-1 유해위험요인 파악'!$M$3:$N$41,2,0),IF(I37=\"중\",B37&\"-\"&VLOOKUP(D37,'3-1 유해위험요인 파악'!$M$3:$N$41,2,0),\"\"))","v":""},"","- 작업 구역 내 중장비의 이동 경로 확보\n- 신호수 배치 및 작업자 접근 금지 구역 설정","중장비 이동 경로 및 신호수 위치 점검","중장비 이동 경로 설정 완료 및 신호수 배치 완료","중장비 이동 경로와 충돌 방지 대책 협의","중장비 사용 시 작업자와의 거리 유지 중요성 전달"]
[13,5,"1. 기계(설비)적 요인","1.6 추락위험 부분(개구부 등)","고소 작업 중 작업자 추락 위험","산업안전보건기준에 관한 규칙 제36조","해당없음","작업 진행 하지 않음","해당없음",null,null,{"$f":"IF(I38=\"상\",B38&\"-\"&VLOOKUP(D38,'3-1 유해위험요인 파악'!$M$3:$N$41,2,0),IF(I38=\"중\",B38&\"-\"&VLOOKUP(D38,'3-1 유해위험요인 파악'!$M$3:$N$41,2,0),\"\"))","v":""},"","- 작업자 안전대 착용 및 안전 발판 설치\n- 작업 구역 내 추락 방지망 설치","작업자 안전대 착용 상태 및 추락 방지망 상태 점검","안전대 착용 확인 및 추락 방지망 설치 완료","고소 작업 중 추락 방지 장치 및 작업 계획 검토","작업 전 안전대 착용 및 추락 방지 대책의 중요성 전달"]
[13,5,"3. 화학(물질)적 요인","3.8 화재 / 폭발 위험","구조물 철거 중 화재 또는 폭발 위험","산업안전보건법 제24조","해당없음","작업 진행 하지 않음","해당없음",null,null,{"$f":"IF(I39=\"상\",B39&\"-\"&VLOOKUP(D39,'3-1 유해위험요인 파악'!$M$3:$N$41,2,0),IF(I39=\"중\",B39&\"-\"&VLOOKUP(D39,'3-1 유해위험요인 파악'!$M$3:$N$41,2,0),\"\"))","v":""},"","- 작업 전 화재 위험 물질 제거\n- 화재 진압 장비 비치 및 작업자 교육","작업 현장 내 화재 위험 요소 제거 여부 확인","화재 위험 물질 제거 완료 및 소화 장비 배치 완료","화재 예방 대책 및 소화 장비 사용법 논의","작업 전 화재 위험 요소 점검 및 소화 장비 사용법 전달"]
[13,5,"5. 작업특성 요인","5.6 질식위험·산소결핍","밀폐된 공간 구조물 해체 시 산소 결핍 위험","산업안전보건법 제24조","해당없음","작업 진행 하지 않음","해당없음",null,null,{"$f":"IF(I40=\"상\",B40&\"-\"&VLOOKUP(D40,'3-1 유해위험요인 파악'!$M$3:$N$41,2,0),IF(I40=\"중\",B40&\"-\"&VLOOKUP(D40,'3-1 유해위험요인 파악'!$M$3:$N$41,2,0),\"\"))","v":""},"","- 산소 농도 측정기 사용\n- 밀폐된 공간 내 환기 시스템 설치 및 작업자 산소 마스크 지급","밀폐 공간 산소 농도 상태 및 환기 장치 작동 여부 확인","산소 농도 측정 완료 및 환기 장치 설치 완료","밀폐 공간 내 작업 시 산소 결핍 방지 대책 논의","밀폐 공간 작업 전 산소 농도 확인과 산소 마스크 착용 중요성 전달"]
[13,5,"6. 작업환경 요인","6.3 공간 및 이동통로","협소한 공간에서 구조물 철거 시 이동의 어려움","산업안전보건법 제25조","해당없음","작업 진행 하지 않음","해당없음",null,null,{"$f":"IF(I41=\"상\",B41&\"-\"&VLOOKUP(D41,'3-1 유해위험요인 파악'!$M$3:$N$41,2,0),IF(I41=\"중\",B41&\"-\"&VLOOKUP(D41,'3-1 유해위험요인 파악'!$M$3:$N$41,2,0),\"\"))","v":""},"","- 작업 공간 확보를 위한 사전 정리\n- 작업 구역 내 이동 경로 설정","작업 공간 및 이동 경로 확보 상태 점검","작업 구역 정리 및 이동 경로 확보 완료","협소 공간 작업 시 이동 경로 설정 방안 논의","이동 경로와 공간 확보를 통한 작업 안전 중요성 전달"]
[13,"공정대분류 :",null,{"$f":"D33","v":"건물 해체 및 철거"},null,null,null,"세부분류 :",null,null,6,{"$f":"'1-1 사업장 공정 정보'!H25","v":"페기물 처리 및 운반"},null,"조치계획",null,"현재 조치사항을 기록하세요","주간안전점검회의 시 사전조치사항\n(내용 변경하여 사용하세요)","TBM전달내용"]
[13,"구분","유해위험요인 파악",null,null,"관련근거","현재안전보건조치",null,"현재위험성\n(상,중,하)",null,null,"감소대책"]
[13,null,"분류","원인","유해위험요인","법규/노출기준 등","현재상태","조치내용",null,null,null,"NO","세부내용","현재 위험(상)\n(수정 가능합니다.)","현재위험\"중\" 또는\n \"현장확인\" 시\n(이부분 수정하지 마세요)","(수정 가능합니다)","수정가능합니다.","수정가능합니다."]
[13,6,"1. 기계(설비)적 요인","1.3 기계(설비)의 낙하, 비래, 전복, 붕괴, 전도위험 부분","폐기물 처리 시 자재 낙하 및 비산 위험","산업안전보건기준에 관한 규칙 제39조","해당없음",{"$f":"IF(OR(G45=\"조치완료\",G45=\"조치완료(중)\"),P45,IF(G45=\"현장확인필요\",\"조치내용 현장확인필요 필요\",IF(G45=\"해당없음\",\"작업 진행 하지 않음\",\"\")))","v":"작업 진행 하지 않음"},{"$f":"IF(G45=\"조치예정(상)\",\"상\",IF(G45=\"조치예정(중)\",\"중\",IF(G45=\"조치완료\",\"하\",IF(G45=\"현장확인필요\",\"중\",IF(G45=\"조치완료(중)\",\"중\",G45)))))","v":"해당없음"},null,null,{"$f":"IF(I45=\"상\",B45&\"-\"&VLOOKUP(D45,'3-1 유해위험요인 파악'!$M$3:$N$41,2,0),IF(I45=\"중\",B45&\"-\"&VLOOKUP(D45,'3-1 유해위험요인 파악'!$M$3:$N$41,2,0),\"\"))","v":""},{"$f":"IF(OR(G45=\"조치예정(상)\",G45=\"조치예정(중)\"),N45,IF(G45=\"조치완료(중)\",O45,IF(G45=\"현장확인필요\",N45&CHAR(10)&\"등 실시 내용 현장에서 직접 확인한다\",\"\")))","v":""},"- 폐기물 처리 구역 내 낙하물 방지 조치\n- 작업자 헬멧 착용 의무화","폐기물 처리 구역의 낙하 방지 조치 및 보호구 착용 상태 확인","폐기물 구역에 낙하 방지망 설치 및 헬멧 지급 완료","낙하 방지 및 폐기물 처리 작업 계획 논의","낙하물 방지망 설치 및 작업 중 보호구 착용의 중요성 전달"]
[13,6,"3. 화학(물질)적 요인","3.5 고체(분진)","폐기물 분류 시 발생하는 분진 흡입 위험","산업안전보건법 제24조","해당없음",{"$f":"IF(OR(G46=\"조치완료\",G46=\"조치완료(중)\"),P46,IF(G46=\"현장확인필요\",\"조치내용 현장확인필요 필요\",IF(G46=\"해당없음\",\"작업 진행 하지 않음\",\"\")))","v":"작업 진행 하지 않음"},{"$f":"IF(G46=\"조치예정(상)\",\"상\",IF(G46=\"조치예정(중)\",\"중\",IF(G46=\"조치완료\",\"하\",IF(G46=\"현장확인필요\",\"중\",IF(G46=\"조치완료(중)\",\"중\",G46)))))","v":"해당없음"},null,null,{"$f":"IF(I46=\"상\",B46&\"-\"&VLOOKUP(D46,'3-1 유해위험요인 파악'!$M$3:$N$41,2,0),IF(I46=\"중\",B46&\"-\"&VLOOKUP(D46,'3-1 유해위험요인 파악'!$M$3:$N$41,2,0),\"\"))","v":""},"","- 작업 구역 내 분진 발생 억제를 위한 물 뿌리기\n- 분진 마스크 착용 의무화","분진 억제 조치 및 마스크 착용 상태 확인","물 뿌리기 작업 및 분진 마스크 착용 확인 완료","분진 발생 방지 대책 및 작업자 보호 방안 논의","작업 중 분진 억제와 마스크 착용의 중요성 전달"]
[13,6,"3. 화학(물질)적 요인","3.8 화재 / 폭발 위험","폐기물 중 화재/폭발 위험 물질 노출","산업안전보건법 제24조","해당없음",{"$f":"IF(OR(G47=\"조치완료\",G47=\"조치완료(중)\"),P47,IF(G47=\"현장확인필요\",\"조치내용 현장확인필요 필요\",IF(G47=\"해당없음\",\"작업 진행 하지 않음\",\"\")))","v":"작업 진행 하지 않음"},"해당없음",null,null,{"$f":"IF(I47=\"상\",B47&\"-\"&VLOOKUP(D47,'3-1 유해위험요인 파악'!$M$3:$N$41,2,0),IF(I47=\"중\",B47&\"-\"&VLOOKUP(D47,'3-1 유해위험요인 파악'!$M$3:$N$41,2,0),\"\"))","v":""},"","- 화재 위험 물질 분리 및 안전한 보관\n- 소화기 배치 및 작업자 교육","화재 위험 물질 분리 상태 및 소화기 위치 점검","화재 위험 물질 분리 완료 및 소화기 배치 완료","화재 위험 물질 처리 및 소화 장비 상태 논의","화재 위험 물질 확인 및 제거와 소화기 사용법 전달"]
[13,6,"5. 작업특성 요인","5.7 중량물 취급작업","무거운 폐기물 이동 중 근골격계 부상 위험","산업안전보건법 제38조","해당없음",{"$f":"IF(OR(G48=\"조치완료\",G48=\"조치완료(중)\"),P48,IF(G48=\"현장확인필요\",\"조치내용 현장확인필요 필요\",IF(G48=\"해당없음\",\"작업 진행 하지 않음\",\"\")))","v":"작업 진행 하지 않음"},"해당없음",null,null,{"$f":"IF(I48=\"상\",B48&\"-\"&VLOOKUP(D48,'3-1 유해위험요인 파악'!$M$3:$N$41,2,0),IF(I48=\"중\",B48&\"-\"&VLOOKUP(D48,'3-1 유해위험요인 파악'!$M$3:$N$41,2,0),\"\"))","v":""},"","- 중량물 취급 시 적정 작업자 배치\n- 리프트, 크레인 등의 보조 장비 사용","중량물 이동 시 작업자 및 보조 장비 상태 확인","작업자 배치 및 보조 장비 점검 완료","중량물 취급 시 작업자의 적정 배치와 작업 계획 논의","중량물 취급 시 보조 장비 사용의 중요성 전달"]
[13,6,"6. 작업환경 요인","6.3 공간 및 이동통로","협소한 공간에서 폐기물 이동 시 이동 어려움","산업안전보건법 제25조","해당없음",{"$f":"IF(OR(G49=\"조치완료\",G49=\"조치완료(중)\"),P49,IF(G49=\"현장확인필요\",\"조치내용 현장확인필요 필요\",IF(G49=\"해당없음\",\"작업 진행 하지 않음\",\"\")))","v":"작업 진행 하지 않음"},"해당없음",null,null,{"$f":"IF(I49=\"상\",B49&\"-\"&VLOOKUP(D49,'3-1 유해위험요인 파악'!$M$3:$N$41,2,0),IF(I49=\"중\",B49&\"-\"&VLOOKUP(D49,'3-1 유해위험요인 파악'!$M$3:$N$41,2,0),\"\"))","v":""},"","- 작업 공간 확보 및 이동 통로 사전 정리\n- 작업 구역 내 이동 경로 표시","이동 통로 확보 상태 및 작업 구역 내 정리 상태 확인","이동 통로 정리 및 표시 완료","폐기물 이동 통로 계획 및 정리 방안 논의","폐기물 이동 시 작업 공간 확보의 중요성 전달"]
[13,"공정대분류 :",null,{"$f":"D33","v":"건물 해체 및 철거"},null,null,null,"세부분류 :",null,null,7,{"$f":"'1-1 사업장 공정 정보'!H27","v":"현장정리 및 마감작업"},null,"조치계획","남아 있는 위험","현재 조치사항을 기록하세요","주간안전점검회의 시 사전조치사항\n(내용 변경하여 사용하세요)","TBM전달내용"]
[13,"구분","유해위험요인 파악",null,null,"관련근거","현재안전보건조치",null,"현재위험성\n(상,중,하)",null,null,"감소대책"]
[13,null,"분류","원인","유해위험요인","법규/노출기준 등","현재상태","조치내용",null,null,null,"NO","세부내용","현재 위험(상)\n(수정 가능합니다.)","현재위험\"중\" 또는\n \"현장확인\" 시\n(이부분 수정하지 마세요)","(수정 가능합니다)","수정가능합니다.","수정가능합니다."]
[13,7,"1. 기계(설비)적 요인","1.3 기계(설비)의 낙하, 비래, 전복, 붕괴, 전도위험 부분","잔재물 제거 시 낙하물 및 비산물 발생 위험","산업안전보건기준에 관한 규칙 제39조","해당없음",{"$f":"IF(OR(G53=\"조치완료\",G53=\"조치완료(중)\"),P53,IF(G53=\"현장확인필요\",\"조치내용 현장확인필요 필요\",IF(G53=\"해당없음\",\"작업 진행 하지 않음\",\"\")))","v":"작업 진행 하지 않음"},{"$f":"IF(G53=\"조치예정(상)\",\"상\",IF(G53=\"조치예정(중)\",\"중\",IF(G53=\"조치완료\",\"하\",IF(G53=\"현장확인필요\",\"중\",IF(G53=\"조치완료(중)\",\"중\",G53)))))","v":"해당없음"},null,null,{"$f":"IF(I53=\"상\",B53&\"-\"&VLOOKUP(D53,'3-1 유해위험요인 파악'!$M$3:$N$41,2,0),IF(I53=\"중\",B53&\"-\"&VLOOKUP(D53,'3-1 유해위험요인 파악'!$M$3:$N$41,2,0),\"\"))","v":""},{"$f":"IF(OR(G53=\"조치예정(상)\",G53=\"조치예정(중)\"),N53,IF(G53=\"조치완료(중)\",O53,IF(G53=\"현장확인필요\",N53&CHAR(10)&\"등 실시 내용 현장에서 직접 확인한다\",\"\")))","v":""},"- 잔재물 제거 작업 중 헬멧, 보호안경 등 보호구 착용\n- 낙하물 방지망 설치 및 비산물 억제 조치","작업 중 낙하물 방지망 및 보호구 착용 상태 점검","잔재물 제거 작업 전 보호구 지급 완료 및 낙하물 방지망 설치 확인","잔재물 제거 시 보호구 착용 및 낙하 방지 방안 논의","잔재물 낙하 방지를 위한 보호구 착용의 중요성 전달"]
[13,7,"1. 기계(설비)적 요인","1.5 넘어짐(미끄러짐, 걸림, 헛디딤)","현장 청소 중 바닥 잔재물로 인한 미끄러짐 위험","산업안전보건기준에 관한 규칙 제39조","해당없음",{"$f":"IF(OR(G54=\"조치완료\",G54=\"조치완료(중)\"),P54,IF(G54=\"현장확인필요\",\"조치내용 현장확인필요 필요\",IF(G54=\"해당없음\",\"작업 진행 하지 않음\",\"\")))","v":"작업 진행 하지 않음"},{"$f":"IF(G54=\"조치예정(상)\",\"상\",IF(G54=\"조치예정(중)\",\"중\",IF(G54=\"조치완료\",\"하\",IF(G54=\"현장확인필요\",\"중\",IF(G54=\"조치완료(중)\",\"중\",G54)))))","v":"해당없음"},null,null,{"$f":"IF(I54=\"상\",B54&\"-\"&VLOOKUP(D54,'3-1 유해위험요인 파악'!$M$3:$N$41,2,0),IF(I54=\"중\",B54&\"-\"&VLOOKUP(D54,'3-1 유해위험요인 파악'!$M$3:$N$41,2,0),\"\"))","v":""},"","- 작업 전 바닥 상태 점검 및 잔재물 제거\n- 미끄럼 방지 작업화 착용","바닥 상태 및 작업자 미끄럼 방지 장화 착용 확인","현장 청소 전 바닥 잔재물 제거 완료 및 작업화 지급 완료","청소 작업 시 미끄럼 방지 장화 착용의 필요성 논의","작업 전 바닥 점검 및 미끄럼 방지 방안 전달"]
[13,7,"3. 화학(물질)적 요인","3.5 고체(분진)","잔재물 청소 중 분진 발생 및 흡입 위험","산업안전보건법 제24조","해당없음",{"$f":"IF(OR(G55=\"조치완료\",G55=\"조치완료(중)\"),P55,IF(G55=\"현장확인필요\",\"조치내용 현장확인필요 필요\",IF(G55=\"해당없음\",\"작업 진행 하지 않음\",\"\")))","v":"작업 진행 하지 않음"},"해당없음",null,null,{"$f":"IF(I55=\"상\",B55&\"-\"&VLOOKUP(D55,'3-1 유해위험요인 파악'!$M$3:$N$41,2,0),IF(I55=\"중\",B55&\"-\"&VLOOKUP(D55,'3-1 유해위험요인 파악'!$M$3:$N$41,2,0),\"\"))","v":""},"","- 분진 억제를 위해 물 뿌리기 작업 진행\n- 작업자 분진 마스크 착용","분진 억제 작업 상태 및 마스크 착용 상태 확인","물 뿌리기 작업 완료 및 마스크 지급 확인 완료","분진 억제 대책 및 작업자 보호구 착용 방안 논의","작업 중 분진 억제 조치 및 마스크 착용 중요성 전달"]
[13,7,"5. 작업특성 요인","5.4 근로자 실수(휴먼에러)","청소 도구 사용 중 부주의로 인한 부상 위험","산업안전보건법 제38조","해당없음",{"$f":"IF(OR(G56=\"조치완료\",G56=\"조치완료(중)\"),P56,IF(G56=\"현장확인필요\",\"조치내용 현장확인필요 필요\",IF(G56=\"해당없음\",\"작업 진행 하지 않음\",\"\")))","v":"작업 진행 하지 않음"},"해당없음",null,null,{"$f":"IF(I56=\"상\",B56&\"-\"&VLOOKUP(D56,'3-1 유해위험요인 파악'!$M$3:$N$41,2,0),IF(I56=\"중\",B56&\"-\"&VLOOKUP(D56,'3-1 유해위험요인 파악'!$M$3:$N$41,2,0),\"\"))","v":""},"","- 청소 도구 사용법 사전 교육\n- 작업 감독자 배치","청소 도구 상태 점검 및 사용법 교육 내용 확인","작업자 도구 사용법 교육 완료 및 감독자 배치 완료","작업 도구 사용법과 관련된 안전 대책 논의","작업 중 도구 사용 시 주의사항 및 감독자 배치 중요성 전달"]
[13,7,"6. 작업환경 요인","6.3 공간 및 이동통로","이동통로 잔재물로 인한 이동 불편 및 위험","산업안전보건법 제25조","해당없음",{"$f":"IF(OR(G57=\"조치완료\",G57=\"조치완료(중)\"),P57,IF(G57=\"현장확인필요\",\"조치내용 현장확인필요 필요\",IF(G57=\"해당없음\",\"작업 진행 하지 않음\",\"\")))","v":"작업 진행 하지 않음"},"해당없음",null,null,{"$f":"IF(I57=\"상\",B57&\"-\"&VLOOKUP(D57,'3-1 유해위험요인 파악'!$M$3:$N$41,2,0),IF(I57=\"중\",B57&\"-\"&VLOOKUP(D57,'3-1 유해위험요인 파악'!$M$3:$N$41,2,0),\"\"))","v":""},"","- 이동통로 확보 및 잔재물 제거\n- 작업 통로에 경고 표지판 설치","이동통로 정리 상태 및 경고 표지판 설치 여부 확인","이동통로 정리 및 경고 표지판 설치 완료","이동통로 및 잔재물 정리 방안 논의","작업 후 이동통로 확보의 중요성 및 정리 상태 전달"]

{"sheet":"3-4 감소대책 수립","index":10,"n_rows":505,"n_cols":31,"rows_kept":505,"cut":false,"hidden":false,"merged":[[14,15,14,16],[4,5,4,6],[5,15,6,16],[5,21,5,22],[8,15,8,16],[9,15,9,16],[20,15,20,16],[5,5,6,5],[5,6,5,9],[5,12,5,13],[5,11,6,11],[2,7,4,7],[3,15,4,16],[3,17,4,18],[3,19,4,20],[3,21,4,22],[10,15,10,16],[11,15,11,16],[12,15,12,16],[13,15,13,16],[5,18,5,20],[5,17,6,17],[7,15,7,22],[7,9,7,13],[23,15,23,16],[24,15,24,16],[15,15,15,16],[16,15,16,16],[17,15,17,16],[18,15,18,16],[19,15,19,16],[30,15,30,16],[31,15,31,16],[21,15,21,16],[22,15,22,16],[32,15,32,16],[33,15,33,16],[34,15,34,16],[25,15,25,16],[26,15,26,16],[27,15,27,16],[28,15,28,16],[29,15,29,16],[40,15,40,16],[41,15,41,16],[42,15,42,16],[43,15,43,16],[44,15,44,16],[35,15,35,16],[36,15,36,16],[37,15,37,16],[38,15,38,16],[39,15,39,16],[50,15,50,16],[51,15,51,16],[52,15,52,16],[53,15,53,16],[54,15,54,16],[45,15,45,16],[46,15,46,16],[47,15,47,16],[48,15,48,16],[49,15,49,16],[60,15,60,16],[61,15,61,16],[62,15,62,16],[63,15,63,16],[64,15,64,16],[55,15,55,16],[56,15,56,16],[57,15,57,16],[58,15,58,16],[59,15,59,16],[70,15,70,16],[71,15,71,16],[72,15,72,16],[73,15,73,16],[74,15,74,16],[65,15,65,16],[66,15,66,16],[67,15,67,16],[68,15,68,16],[69,15,69,16],[80,15,80,16],[81,15,81,16],[82,15,82,16],[83,15,83,16],[84,15,84,16],[75,15,75,16],[76,15,76,16],[77,15,77,16],[78,15,78,16],[79,15,79,16],[90,15,90,16],[91,15,91,16],[92,15,92,16],[93,15,93,16],[94,15,94,16],[85,15,85,16],[86,15,86,16],[87,15,87,16],[88,15,88,16],[89,15,89,16],[100,15,100,16],[101,15,101,16],[102,15,102,16],[103,15,103,16],[104,15,104,16],[95,15,95,16],[96,15,96,16],[97,15,97,16],[98,15,98,16],[99,15,99,16],[110,15,110,16],[111,15,111,16],[112,15,112,16],[113,15,113,16],[114,15,114,16],[105,15,105,16],[106,15,106,16],[107,15,107,16],[108,15,108,16],[109,15,109,16],[120,15,120,16],[121,15,121,16],[122,15,122,16],[123,15,123,16],[124,15,124,16],[115,15,115,16],[116,15,116,16],[117,15,117,16],[118,15,118,16],[119,15,119,16],[130,15,130,16],[131,15,131,16],[132,15,132,16],[133,15,133,16],[134,15,134,16],[125,15,125,16],[126,15,126,16],[127,15,127,16],[128,15,128,16],[129,15,129,16],[140,15,140,16],[141,15,141,16],[142,15,142,16],[143,15,143,16],[144,15,144,16],[135,15,135,16],[136,15,136,16],[137,15,137,16],[138,15,138,16],[139,15,139,16],[150,15,150,16],[151,15,151,16],[152,15,152,16],[153,15,153,16],[154,15,154,16],[145,15,145,16],[146,15,146,16],[147,15,147,16],[148,15,148,16],[149,15,149,16],[160,15,160,16],[161,15,161,16],[162,15,162,16],[163,15,163,16],[164,15,164,16],[155,15,155,16],[156,15,156,16],[157,15,157,16],[158,15,158,16],[159,15,159,16],[170,15,170,16],[171,15,171,16],[172,15,172,16],[173,15,173,16],[174,15,174,16],[165,15,165,16],[166,15,166,16],[167,15,167,16],[168,15,168,16],[169,15,169,16],[180,15,180,16],[181,15,181,16],[182,15,182,16],[183,15,183,16],[184,15,184,16],[175,15,175,16],[176,15,176,16],[177,15,177,16],[178,15,178,16],[179,15,179,16],[190,15,190,16],[191,15,191,16],[192,15,192,16],[193,15,193,16],[194,15,194,16],[185,15,185,16],[186,15,186,16],[187,15,187,16],[188,15,188,16],[189,15,189,16],[200,15,200,16],[201,15,201,16],[202,15,202,16],[203,15,203,16],[204,15,204,16],[195,15,195,16],[196,15,196,16],[197,15,197,16],[198,15,198,16],[199,15,199,16],[210,15,210,16],[211,15,211,16],[212,15,212,16],[213,15,213,16],[214,15,214,16],[205,15,205,16],[206,15,206,16],[207,15,207,16],[208,15,208,16],[209,15,209,16],[220,15,220,16],[221,15,221,16],[222,15,222,16],[223,15,223,16],[224,15,224,16],[215,15,215,16],[216,15,216,16],[217,15,217,16],[218,15,218,16],[219,15,219,16],[230,15,230,16],[231,15,231,16],[232,15,232,16],[233,15,233,16],[234,15,234,16],[225,15,225,16],[226,15,226,16],[227,15,227,16],[228,15,228,16],[229,15,229,16],[240,15,240,16],[241,15,241,16],[242,15,242,16],[243,15,243,16],[244,15,244,16],[235,15,235,16],[236,15,236,16],[237,15,237,16],[238,15,238,16],[239,15,239,16],[250,15,250,16],[251,15,251,16],[252,15,252,16],[253,15,253,16],[254,15,254,16],[245,15,245,16],[246,15,246,16],[247,15,247,16],[248,15,248,16],[249,15,249,16],[260,15,260,16],[261,15,261,16],[262,15,262,16],[263,15,263,16],[264,15,264,16],[255,15,255,16],[256,15,256,16],[257,15,257,16],[258,15,258,16],[259,15,259,16],[270,15,270,16],[271,15,271,16],[272,15,272,16],[273,15,273,16],[274,15,274,16],[265,15,265,16],[266,15,266,16],[267,15,267,16],[268,15,268,16],[269,15,269,16],[280,15,280,16],[281,15,281,16],[282,15,282,16],[283,15,283,16],[284,15,284,16],[275,15,275,16],[276,15,276,16],[277,15,277,16],[278,15,278,16],[279,15,279,16],[290,15,290,16],[291,15,291,16],[292,15,292,16],[293,15,293,16],[294,15,294,16],[285,15,285,16],[286,15,286,16],[287,15,287,16],[288,15,288,16],[289,15,289,16],[300,15,300,16],[301,15,301,16],[302,15,302,16],[303,15,303,16],[304,15,304,16],[295,15,295,16],[296,15,296,16],[297,15,297,16],[298,15,298,16],[299,15,299,16],[310,15,310,16],[311,15,311,16],[312,15,312,16],[313,15,313,16],[314,15,314,16],[305,15,305,16],[306,15,306,16],[307,15,307,16],[308,15,308,16],[309,15,309,16],[320,15,320,16],[321,15,321,16],[322,15,322,16],[323,15,323,16],[324,15,324,16],[315,15,315,16],[316,15,316,16],[317,15,317,16],[318,15,318,16],[319,15,319,16],[330,15,330,16],[331,15,331,16],[332,15,332,16],[333,15,333,16],[334,15,334,16],[325,15,325,16],[326,15,326,16],[327,15,327,16],[328,15,328,16],[329,15,329,16],[340,15,340,16],[341,15,341,16],[342,15,342,16],[343,15,343,16],[344,15,344,16],[335,15,335,16],[336,15,336,16],[337,15,337,16],[338,15,338,16],[339,15,339,16],[350,15,350,16],[351,15,351,16],[352,15,352,16],[353,15,353,16],[354,15,354,16],[345,15,345,16],[346,15,346,16],[347,15,347,16],[348,15,348,16],[349,15,349,16],[360,15,360,16],[361,15,361,16],[362,15,362,16],[363,15,363,16],[364,15,364,16],[355,15,355,16],[356,15,356,16],[357,15,357,16],[358,15,358,16],[359,15,359,16],[370,15,370,16],[371,15,371,16],[372,15,372,16],[373,15,373,16],[374,15,374,16],[365,15,365,16],[366,15,366,16],[367,15,367,16],[368,15,368,16],[369,15,369,16],[380,15,380,16],[381,15,381,16],[382,15,382,16],[383,15,383,16],[384,15,384,16],[375,15,375,16],[376,15,376,16],[377,15,377,16],[378,15,378,16],[379,15,379,16],[390,15,390,16],[391,15,391,16],[392,15,392,16],[393,15,393,16],[394,15,394,16],[385,15,385,16],[386,15,386,16],[387,15,387,16],[388,15,388,16],[389,15,389,16],[400,15,400,16],[401,15,401,16],[402,15,402,16],[403,15,403,16],[404,15,404,16],[395,15,395,16],[396,15,396,16],[397,15,397,16],[398,15,398,16],[399,15,399,16],[410,15,410,16],[411,15,411,16],[412,15,412,16],[413,15,413,16],[414,15,414,16],[405,15,405,16],[406,15,406,16],[407,15,407,16],[408,15,408,16],[409,15,409,16],[420,15,420,16],[421,15,421,16],[422,15,422,16],[423,15,423,16],[424,15,424,16],[415,15,415,16],[416,15,416,16],[417,15,417,16],[418,15,418,16],[419,15,419,16],[430,15,430,16],[431,15,431,16],[432,15,432,16],[433,15,433,16],[434,15,434,16],[425,15,425,16],[426,15,426,16],[427,15,427,16],[428,15,428,16],[429,15,429,16],[440,15,440,16],[441,15,441,16],[442,15,442,16],[443,15,443,16],[444,15,444,16],[435,15,435,16],[436,15,436,16],[437,15,437,16],[438,15,438,16],[439,15,439,16],[450,15,450,16],[451,15,451,16],[452,15,452,16],[453,15,453,16],[454,15,454,16],[445,15,445,16],[446,15,446,16],[447,15,447,16],[448,15,448,16],[449,15,449,16],[460,15,460,16],[461,15,461,16],[462,15,462,16],[463,15,463,16],[464,15,464,16],[455,15,455,16],[456,15,456,16],[457,15,457,16],[458,15,458,16],[459,15,459,16],[470,15,470,16],[471,15,471,16],[472,15,472,16],[473,15,473,16],[474,15,474,16],[465,15,465,16],[466,15,466,16],[467,15,467,16],[468,15,468,16],[469,15,469,16],[504,15,504,16],[495,15,495,16],[496,15,496,16],[497,15,497,16],[498,15,498,16],[499,15,499,16],[490,15,490,16],[491,15,491,16],[492,15,492,16],[493,15,493,16],[494,15,494,16],[5,3,6,3],[5,27,6,27],[5,28,6,28],[0,25,4,30],[5,29,6,29],[500,15,500,16],[501,15,501,16],[502,15,502,16],[503,15,503,16],[485,15,485,16],[486,15,486,16],[487,15,487,16],[488,15,488,16],[489,15,489,16],[480,15,480,16],[481,15,481,16],[482,15,482,16],[483,15,483,16],[484,15,484,16],[475,15,475,16],[476,15,476,16],[477,15,477,16],[478,15,478,16],[479,15,479,16],[5,26,6,26],[5,14,6,14],[1,9,1,14],[2,9,2,14],[3,10,4,14],[0,23,4,24],[5,25,6,25],[5,23,6,23],[5,1,6,1],[0,10,0,13],[1,5,1,6],[0,5,0,6],[1,15,1,22],[2,5,2,6],[2,15,2,16],[2,17,2,18],[2,19,2,20],[2,21,2,22],[3,5,3,6],[3,9,4,9],[5,4,6,4],[0,4,4,4],[0,0,4,1],[0,2,4,3]]}
["TBM선택",null,"주간안전회의 선택",null,"순번","(",null,5,{"$f":"IF(H1=\"최초\",\")\",\"월)\")","v":"월)"},"위험성평가 회의록 :",{"$f":"\"감소대책 수립 및 실행\"&\"[\"&표지!B6&\"]\"","v":"감소대책 수립 및 실행[건물 해체 및 철거]"},null,null,null,null,null,null,null,null,null,null,null,null,"TBM선택\n\"0\"또는\n\"선택\"\n(4개까지선택)",null,"주간안전점검 회의록 작성시 사전협의사항\n(0또는 '선택'으로 4개까지 선택)"]
[null,null,null,null,null,"업체명(원청,협력)",null,"작성일자","관리기간","       [위험성평가 => 위험성평가회의 => 이행확인 => 교육TBM 전파]",null,null,null,null,null,"위험성 결정, 감소대책 수립 및 실행계획 확인"]
[null,null,null,null,null,{"$f":"표지!D33","v":0},null,{"$f":"IF(H1=\"최초\",\"\",IF(H1-1=0,\"12월 27일\",H1-1&\"월 27일\"))","v":"4월 27일"},{"$f":"IF(H1=\"최초\",\"\",H1&\"월 1일\")","v":"5월 1일"},"          (유해위험요인 파악)  (위험성 결정, 감소대책 수립)   (감소대책 실행)        (위험성평가의 공유)",null,null,null,null,null,"담당자\n(공사담당자)",null,"검토자\n(평가 담당자)",null,"근로자 대표\n(작업반장 등)",null,"승인자 \n(현장소장)"]
[null,null,null,null,null,"현장명",null,null,"부터","주요 작업 내용","건물 철거 및 해체 작업"]
[null,null,null,null,null,{"$f":"표지!D32","v":"화양동9-82"},null,null,{"$f":"IF(H1=\"최초\",\"\",IF(OR(H1=1,H1=3,H1=5,H1=7,H1=8,H1=10,H1=12),H1&\"월 31일\",IF(OR(H1=4,H1=6,H1=9,H1=11),H1&\"월 30일\",\"2월 29일\")))","v":"5월 31일"}]
["위치","순서","위치","순서","인련\n번호","구분","유해위험요인 파악",null,null,null,"관련근거","현재\n위험성\n(상,중,하)","감소대책",null,"소요 예산(원)","조치 후 \n위험성\n(상,중,하)",null,"조치\n요구일","조치 완료일",null,null,"완료확인",null,"선택 결정","선택","상호 협의사항","회의방법","업체명","담당","선택 결정","선택"]
[0,null,0,null,null,null,"작업 분류","분류","원인","유해위험요인","법규/노출기준 등",null,"NO","세부내용",null,null,null,null,"1회","2회","3회","반장","담당",null,"결과",null,null,null,null,null,"결과"]
[null,null,null,null,null,null,null,null,null,"합계 :",null,null,null,null,{"$f":"SUM(O9:O505)","v":0}]
[{"$f":"\"T\"&B9&IF(OR(X9=\"선택\",X9=1),1,0)","v":"T11"},{"$f":"IF(OR(X9=\"선택\",X9=1),1,0)","v":1},{"$f":"\"S\"&D9&IF(OR(AD9=\"선택\",AD9=1),1,0)","v":"S11"},{"$f":"IF(OR(AD9=\"선택\",AD9=1),1,0)","v":1},1,{"$f":"IF(MAX('3-3 위험성평가'!$A$4:$A$423)+1>E9,VLOOKUP(E9,'3-3 위험성평가'!$A$5:$P$423,2,0),\"\")","v":1},{"$f":"IF(F9=\"\",\"\",VLOOKUP(VALUE(F9),'1-1 사업장 공정 정보'!$D$15:$P$41,5,0))","v":"철거 현장 준비"},{"$f":"IF(MAX('3-3 위험성평가'!$A$4:$A$423)+1>E9,VLOOKUP(E9,'3-3 위험성평가'!$A$5:$P$423,3,0),\"\")","v":"기계(설비)적 요인"},{"$f":"IF(MAX('3-3 위험성평가'!$A$4:$A$423)+1>E9,VLOOKUP(E9,'3-3 위험성평가'!$A$5:$P$423,4,0),\"\")","v":"1.1 협착위험 부분(감김, 끼임)"},{"$f":"IF(MAX('3-3 위험성평가'!$A$4:$A$423)+1>E9,VLOOKUP(E9,'3-3 위험성평가'!$A$5:$P$423,5,0),\"\")","v":"가설재 설치 중 협착 위험"},{"$f":"IF(MAX('3-3 위험성평가'!$A$4:$A$423)+1>E9,VLOOKUP(E9,'3-3 위험성평가'!$A$5:$P$423,6,0),\"\")","v":"산업안전보건기준에 관한 규칙 제38조"},{"$f":"IF(MAX('3-3 위험성평가'!$A$4:$A$423)+1>E9,VLOOKUP(E9,'3-3 위험성평가'!$A$5:$P$423,9,0),\"\")","v":"중"},{"$f":"IF(MAX('3-3 위험성평가'!$A$4:$A$423)+1>E9,VLOOKUP(E9,'3-3 위험성평가'!$A$5:$P$423,12,0),\"\")&IF(L9>\"\",\".\"&E9,\"\")","v":"1-1.1.1"},{"$f":"IF(MAX('3-3 위험성평가'!$A$4:$A$423)+1>E9,VLOOKUP(E9,'3-3 위험성평가'!$A$5:$P$423,13,0),\"\")","v":"- 가설재 설치 시 2인 1조 작업\n- 손 끼임 방지 장갑 착용\n등 실시 내용 현장에서 직접 확인한다"},0,"하",null,"4/5",null,null,null,null,null,1,{"$f":"IF(OR(X9=\"선택\",X9=1),1,0)","v":1},{"$f":"IF(MAX('3-3 위험성평가'!$A$4:$A$423)+1>E9,VLOOKUP(E9,'3-3 위험성평가'!$A$5:$Q$423,17,0),\"\")","v":"가설재 설치 시 협착 방지를 위한 신호 체계 논의"},"현장회의",{"$f":"표지!$D$33","v":0},{"$f":"표지!$E$34","v":0},"선택",{"$f":"IF(OR(AD9=\"선택\",AD9=1),1,0)","v":1}]
["T21",{"$f":"B9+Y10","v":2},{"$f":"\"S\"&D10&IF(OR(AD10=\"선택\",AD10=1),1,0)","v":"S21"},{"$f":"D9+1","v":2},2,{"$f":"IF(MAX('3-3 위험성평가'!$A$4:$A$423)+1>E10,VLOOKUP(E10,'3-3 위험성평가'!$A$5:$P$423,2,0),\"\")","v":1},{"$f":"IF(F10=\"\",\"\",VLOOKUP(VALUE(F10),'1-1 사업장 공정 정보'!$D$15:$P$41,5,0))","v":"철거 현장 준비"},{"$f":"IF(MAX('3-3 위험성평가'!$A$4:$A$423)+1>E10,VLOOKUP(E10,'3-3 위험성평가'!$A$5:$P$423,3,0),\"\")","v":"기계(설비)적 요인"},{"$f":"IF(MAX('3-3 위험성평가'!$A$4:$A$423)+1>E10,VLOOKUP(E10,'3-3 위험성평가'!$A$5:$P$423,4,0),\"\")","v":"1.3 기계(설비)의 낙하, 비래, 전복, 붕괴, 전도위험 부분"},{"$f":"IF(MAX('3-3 위험성평가'!$A$4:$A$423)+1>E10,VLOOKUP(E10,'3-3 위험성평가'!$A$5:$P$423,5,0),\"\")","v":"가설재 설치 중 자재 낙하"},{"$f":"IF(MAX('3-3 위험성평가'!$A$4:$A$423)+1>E10,VLOOKUP(E10,'3-3 위험성평가'!$A$5:$P$423,6,0),\"\")","v":"산업안전보건기준에 관한 규칙 제39조"},{"$f":"IF(MAX('3-3 위험성평가'!$A$4:$A$423)+1>E10,VLOOKUP(E10,'3-3 위험성평가'!$A$5:$P$423,9,0),\"\")","v":"상"},{"$f":"IF(MAX('3-3 위험성평가'!$A$4:$A$423)+1>E10,VLOOKUP(E10,'3-3 위험성평가'!$A$5:$P$423,12,0),\"\")&IF(L10>\"\",\".\"&E10,\"\")","v":"1-1.3.2"},{"$f":"IF(MAX('3-3 위험성평가'!$A$4:$A$423)+1>E10,VLOOKUP(E10,'3-3 위험성평가'!$A$5:$P$423,13,0),\"\")","v":"- 작업 구역 내 안전망 설치\n- 헬멧 착용 확인"},0,"하",null,"4/6",null,null,null,null,null,1,{"$f":"IF(OR(X10=\"선택\",X10=1),1,0)","v":1},{"$f":"IF(MAX('3-3 위험성평가'!$A$4:$A$423)+1>E10,VLOOKUP(E10,'3-3 위험성평가'!$A$5:$Q$423,17,0),\"\")","v":"안전망 설치 여부와 사용된 자재의 상태 검토"},"선택",{"$f":"표지!$D$33","v":0},{"$f":"표지!$E$34","v":0},"선택",{"$f":"IF(OR(AD10=\"선택\",AD10=1),1,0)","v":1}]
["T20",{"$f":"B10+Y11","v":2},"S31",{"$f":"D10+AE11","v":3},3,{"$f":"IF(MAX('3-3 위험성평가'!$A$4:$A$423)+1>E11,VLOOKUP(E11,'3-3 위험성평가'!$A$5:$P$423,2,0),\"\")","v":1},{"$f":"IF(F11=\"\",\"\",VLOOKUP(VALUE(F11),'1-1 사업장 공정 정보'!$D$15:$P$41,5,0))","v":"철거 현장 준비"},{"$f":"IF(MAX('3-3 위험성평가'!$A$4:$A$423)+1>E11,VLOOKUP(E11,'3-3 위험성평가'!$A$5:$P$423,3,0),\"\")","v":"전기적 요인"},{"$f":"IF(MAX('3-3 위험성평가'!$A$4:$A$423)+1>E11,VLOOKUP(E11,'3-3 위험성평가'!$A$5:$P$423,4,0),\"\")","v":"2.1 감전(안전전압초과)"},{"$f":"IF(MAX('3-3 위험성평가'!$A$4:$A$423)+1>E11,VLOOKUP(E11,'3-3 위험성평가'!$A$5:$P$423,5,0),\"\")","v":"전기 설비 점검 중 감전 위험"},{"$f":"IF(MAX('3-3 위험성평가'!$A$4:$A$423)+1>E11,VLOOKUP(E11,'3-3 위험성평가'!$A$5:$P$423,6,0),\"\")","v":"산업안전보건법 제36조"},{"$f":"IF(MAX('3-3 위험성평가'!$A$4:$A$423)+1>E11,VLOOKUP(E11,'3-3 위험성평가'!$A$5:$P$423,9,0),\"\")","v":"중"},{"$f":"IF(MAX('3-3 위험성평가'!$A$4:$A$423)+1>E11,VLOOKUP(E11,'3-3 위험성평가'!$A$5:$P$423,12,0),\"\")&IF(L11>\"\",\".\"&E11,\"\")","v":"1-2.1.3"},{"$f":"IF(MAX('3-3 위험성평가'!$A$4:$A$423)+1>E11,VLOOKUP(E11,'3-3 위험성평가'!$A$5:$P$423,13,0),\"\")","v":"- 전기설비 사전 점검\n- 작업 전 전기 차단 확인"},0,"하",null,null,null,null,null,null,null,0,0,{"$f":"IF(MAX('3-3 위험성평가'!$A$4:$A$423)+1>E11,VLOOKUP(E11,'3-3 위험성평가'!$A$5:$Q$423,17,0),\"\")","v":"감전 방지를 위한 전기 점검 절차 교육"},"선택",{"$f":"표지!$D$33","v":0},{"$f":"표지!$E$34","v":0},"선택",1]
["T20",2,"S41",{"$f":"D11+AE12","v":4},4,{"$f":"IF(MAX('3-3 위험성평가'!$A$4:$A$423)+1>E12,VLOOKUP(E12,'3-3 위험성평가'!$A$5:$P$423,2,0),\"\")","v":1},{"$f":"IF(F12=\"\",\"\",VLOOKUP(VALUE(F12),'1-1 사업장 공정 정보'!$D$15:$P$41,5,0))","v":"철거 현장 준비"},{"$f":"IF(MAX('3-3 위험성평가'!$A$4:$A$423)+1>E12,VLOOKUP(E12,'3-3 위험성평가'!$A$5:$P$423,3,0),\"\")","v":"작업특성 요인"},{"$f":"IF(MAX('3-3 위험성평가'!$A$4:$A$423)+1>E12,VLOOKUP(E12,'3-3 위험성평가'!$A$5:$P$423,4,0),\"\")","v":"5.9 불안정한 작업자세"},{"$f":"IF(MAX('3-3 위험성평가'!$A$4:$A$423)+1>E12,VLOOKUP(E12,'3-3 위험성평가'!$A$5:$P$423,5,0),\"\")","v":"보호구 설치 중 비정상 자세로 인한 사고"},{"$f":"IF(MAX('3-3 위험성평가'!$A$4:$A$423)+1>E12,VLOOKUP(E12,'3-3 위험성평가'!$A$5:$P$423,6,0),\"\")","v":"산업안전보건법 제38조"},{"$f":"IF(MAX('3-3 위험성평가'!$A$4:$A$423)+1>E12,VLOOKUP(E12,'3-3 위험성평가'!$A$5:$P$423,9,0),\"\")","v":"중"},{"$f":"IF(MAX('3-3 위험성평가'!$A$4:$A$423)+1>E12,VLOOKUP(E12,'3-3 위험성평가'!$A$5:$P$423,12,0),\"\")&IF(L12>\"\",\".\"&E12,\"\")","v":"1-5.9.4"},{"$f":"IF(MAX('3-3 위험성평가'!$A$4:$A$423)+1>E12,VLOOKUP(E12,'3-3 위험성평가'!$A$5:$P$423,13,0),\"\")","v":"- 적절한 작업자세 유지 교육\n- 작업 간 휴식 시간 제공\n등 실시 내용 현장에서 직접 확인한다"},0,"하",null,null,null,null,null,null,null,"선택안함",0,{"$f":"IF(MAX('3-3 위험성평가'!$A$4:$A$423)+1>E12,VLOOKUP(E12,'3-3 위험성평가'!$A$5:$Q$423,17,0),\"\")","v":"작업 자세와 관련된 위험 방지 대책 협의"},"선택",{"$f":"표지!$D$33","v":0},{"$f":"표지!$E$34","v":0},"선택",1]
["T20",2,"S40",4,5,{"$f":"IF(MAX('3-3 위험성평가'!$A$4:$A$423)+1>E13,VLOOKUP(E13,'3-3 위험성평가'!$A$5:$P$423,2,0),\"\")","v":2},{"$f":"IF(F13=\"\",\"\",VLOOKUP(VALUE(F13),'1-1 사업장 공정 정보'!$D$15:$P$41,5,0))","v":"유해물질 제거"},{"$f":"IF(MAX('3-3 위험성평가'!$A$4:$A$423)+1>E13,VLOOKUP(E13,'3-3 위험성평가'!$A$5:$P$423,3,0),\"\")","v":"기계(설비)적 요인"},{"$f":"IF(MAX('3-3 위험성평가'!$A$4:$A$423)+1>E13,VLOOKUP(E13,'3-3 위험성평가'!$A$5:$P$423,4,0),\"\")","v":"1.5 넘어짐(미끄러짐, 걸림, 헛디딤)"},{"$f":"IF(MAX('3-3 위험성평가'!$A$4:$A$423)+1>E13,VLOOKUP(E13,'3-3 위험성평가'!$A$5:$P$423,5,0),\"\")","v":"작업 중 미끄러짐"},{"$f":"IF(MAX('3-3 위험성평가'!$A$4:$A$423)+1>E13,VLOOKUP(E13,'3-3 위험성평가'!$A$5:$P$423,6,0),\"\")","v":"산업안전보건기준에 관한 규칙 제215조"},{"$f":"IF(MAX('3-3 위험성평가'!$A$4:$A$423)+1>E13,VLOOKUP(E13,'3-3 위험성평가'!$A$5:$P$423,9,0),\"\")","v":"중"},{"$f":"IF(MAX('3-3 위험성평가'!$A$4:$A$423)+1>E13,VLOOKUP(E13,'3-3 위험성평가'!$A$5:$P$423,12,0),\"\")&IF(L13>\"\",\".\"&E13,\"\")","v":"2-1.5.5"},{"$f":"IF(MAX('3-3 위험성평가'!$A$4:$A$423)+1>E13,VLOOKUP(E13,'3-3 위험성평가'!$A$5:$P$423,13,0),\"\")","v":"작업 구역 청소 상태 및 매트 설치 여부 점검"},null,"하",null,null,null,null,null,null,null,0,0,{"$f":"IF(MAX('3-3 위험성평가'!$A$4:$A$423)+1>E13,VLOOKUP(E13,'3-3 위험성평가'!$A$5:$Q$423,17,0),\"\")","v":"미끄러짐 방지를 위한 작업 구역 상태 개선 논의"},"선택",{"$f":"표지!$D$33","v":0},{"$f":"표지!$E$34","v":0},"선택안함",0]
["T20",2,"S40",4,6,{"$f":"IF(MAX('3-3 위험성평가'!$A$4:$A$423)+1>E14,VLOOKUP(E14,'3-3 위험성평가'!$A$5:$P$423,2,0),\"\")","v":2},{"$f":"IF(F14=\"\",\"\",VLOOKUP(VALUE(F14),'1-1 사업장 공정 정보'!$D$15:$P$41,5,0))","v":"유해물질 제거"},{"$f":"IF(MAX('3-3 위험성평가'!$A$4:$A$423)+1>E14,VLOOKUP(E14,'3-3 위험성평가'!$A$5:$P$423,3,0),\"\")","v":"화학적 요인"},{"$f":"IF(MAX('3-3 위험성평가'!$A$4:$A$423)+1>E14,VLOOKUP(E14,'3-3 위험성평가'!$A$5:$P$423,4,0),\"\")","v":"3.1 가스"},{"$f":"IF(MAX('3-3 위험성평가'!$A$4:$A$423)+1>E14,VLOOKUP(E14,'3-3 위험성평가'!$A$5:$P$423,5,0),\"\")","v":"유해 가스(석면 분해 시 방출) 흡입"},{"$f":"IF(MAX('3-3 위험성평가'!$A$4:$A$423)+1>E14,VLOOKUP(E14,'3-3 위험성평가'!$A$5:$P$423,6,0),\"\")","v":"산업안전보건기준에 관한 규칙 제604조"},{"$f":"IF(MAX('3-3 위험성평가'!$A$4:$A$423)+1>E14,VLOOKUP(E14,'3-3 위험성평가'!$A$5:$P$423,9,0),\"\")","v":"중"},{"$f":"IF(MAX('3-3 위험성평가'!$A$4:$A$423)+1>E14,VLOOKUP(E14,'3-3 위험성평가'!$A$5:$P$423,12,0),\"\")&IF(L14>\"\",\".\"&E14,\"\")","v":"2-3.1.6"},{"$f":"IF(MAX('3-3 위험성평가'!$A$4:$A$423)+1>E14,VLOOKUP(E14,'3-3 위험성평가'!$A$5:$P$423,13,0),\"\")","v":"작업 전 환기 장치 작동 상태 및 마스크 착용 여부 확인"},null,"하",null,null,null,null,null,null,null,"선택안함",0,{"$f":"IF(MAX('3-3 위험성평가'!$A$4:$A$423)+1>E14,VLOOKUP(E14,'3-3 위험성평가'!$A$5:$Q$423,17,0),\"\")","v":"유해 가스 발생 시 비상 대피 절차 검토 및 논의"},"선택",{"$f":"표지!$D$33","v":0},{"$f":"표지!$E$34","v":0},"선택안함",0]
["T20",2,"S40",4,7,{"$f":"IF(MAX('3-3 위험성평가'!$A$4:$A$423)+1>E15,VLOOKUP(E15,'3-3 위험성평가'!$A$5:$P$423,2,0),\"\")","v":2},{"$f":"IF(F15=\"\",\"\",VLOOKUP(VALUE(F15),'1-1 사업장 공정 정보'!$D$15:$P$41,5,0))","v":"유해물질 제거"},{"$f":"IF(MAX('3-3 위험성평가'!$A$4:$A$423)+1>E15,VLOOKUP(E15,'3-3 위험성평가'!$A$5:$P$423,3,0),\"\")","v":"화학적 요인"},{"$f":"IF(MAX('3-3 위험성평가'!$A$4:$A$423)+1>E15,VLOOKUP(E15,'3-3 위험성평가'!$A$5:$P$423,4,0),\"\")","v":"3.8 화재 / 폭발 위험"},{"$f":"IF(MAX('3-3 위험성평가'!$A$4:$A$423)+1>E15,VLOOKUP(E15,'3-3 위험성평가'!$A$5:$P$423,5,0),\"\")","v":"제거된 화학물질의 부적절한 보관으로 인한 화재 위험"},{"$f":"IF(MAX('3-3 위험성평가'!$A$4:$A$423)+1>E15,VLOOKUP(E15,'3-3 위험성평가'!$A$5:$P$423,6,0),\"\")","v":"산업안전보건기준에 관한 규칙 제605조"},{"$f":"IF(MAX('3-3 위험성평가'!$A$4:$A$423)+1>E15,VLOOKUP(E15,'3-3 위험성평가'!$A$5:$P$423,9,0),\"\")","v":"중"},{"$f":"IF(MAX('3-3 위험성평가'!$A$4:$A$423)+1>E15,VLOOKUP(E15,'3-3 위험성평가'!$A$5:$P$423,12,0),\"\")&IF(L15>\"\",\".\"&E15,\"\")","v":"2-3.8.7"},{"$f":"IF(MAX('3-3 위험성평가'!$A$4:$A$423)+1>E15,VLOOKUP(E15,'3-3 위험성평가'!$A$5:$P$423,13,0),\"\")","v":"제거된 화학물질 보관 상태 및 화기 사용 여부 확인"},null,"하",null,null,null,null,null,null,null,"선택안함",0,{"$f":"IF(MAX('3-3 위험성평가'!$A$4:$A$423)+1>E15,VLOOKUP(E15,'3-3 위험성평가'!$A$5:$Q$423,17,0),\"\")","v":"화학물질의 안전한 보관 및 화재 예방 대책 논의"},"선택",{"$f":"표지!$D$33","v":0},{"$f":"표지!$E$34","v":0},"선택안함",0]
["T20",2,"S40",4,8,{"$f":"IF(MAX('3-3 위험성평가'!$A$4:$A$423)+1>E16,VLOOKUP(E16,'3-3 위험성평가'!$A$5:$P$423,2,0),\"\")","v":2},{"$f":"IF(F16=\"\",\"\",VLOOKUP(VALUE(F16),'1-1 사업장 공정 정보'!$D$15:$P$41,5,0))","v":"유해물질 제거"},{"$f":"IF(MAX('3-3 위험성평가'!$A$4:$A$423)+1>E16,VLOOKUP(E16,'3-3 위험성평가'!$A$5:$P$423,3,0),\"\")","v":"작업특성 요인"},{"$f":"IF(MAX('3-3 위험성평가'!$A$4:$A$423)+1>E16,VLOOKUP(E16,'3-3 위험성평가'!$A$5:$P$423,4,0),\"\")","v":"5.4 근로자 실수(휴먼에러)"},{"$f":"IF(MAX('3-3 위험성평가'!$A$4:$A$423)+1>E16,VLOOKUP(E16,'3-3 위험성평가'!$A$5:$P$423,5,0),\"\")","v":"작업 중 유해물질 제거 절차 실수"},{"$f":"IF(MAX('3-3 위험성평가'!$A$4:$A$423)+1>E16,VLOOKUP(E16,'3-3 위험성평가'!$A$5:$P$423,6,0),\"\")","v":"산업안전보건법 제38조"},{"$f":"IF(MAX('3-3 위험성평가'!$A$4:$A$423)+1>E16,VLOOKUP(E16,'3-3 위험성평가'!$A$5:$P$423,9,0),\"\")","v":"중"},{"$f":"IF(MAX('3-3 위험성평가'!$A$4:$A$423)+1>E16,VLOOKUP(E16,'3-3 위험성평가'!$A$5:$P$423,12,0),\"\")&IF(L16>\"\",\".\"&E16,\"\")","v":"2-5.4.8"},{"$f":"IF(MAX('3-3 위험성평가'!$A$4:$A$423)+1>E16,VLOOKUP(E16,'3-3 위험성평가'!$A$5:$P$423,13,0),\"\")","v":"- 작업 절차 매뉴얼 배포 및 교육\n- 작업 중 점검표 사용"},null,"하",null,null,null,null,null,null,null,"선택안함",0,{"$f":"IF(MAX('3-3 위험성평가'!$A$4:$A$423)+1>E16,VLOOKUP(E16,'3-3 위험성평가'!$A$5:$Q$423,17,0),\"\")","v":"작업 절차 및 점검표 활용 중요성 검토"},"선택",{"$f":"표지!$D$33","v":0},{"$f":"표지!$E$34","v":0},"선택안함",0]
["T20",2,"S40",4,9,{"$f":"IF(MAX('3-3 위험성평가'!$A$4:$A$423)+1>E17,VLOOKUP(E17,'3-3 위험성평가'!$A$5:$P$423,2,0),\"\")","v":2},{"$f":"IF(F17=\"\",\"\",VLOOKUP(VALUE(F17),'1-1 사업장 공정 정보'!$D$15:$P$41,5,0))","v":"유해물질 제거"},{"$f":"IF(MAX('3-3 위험성평가'!$A$4:$A$423)+1>E17,VLOOKUP(E17,'3-3 위험성평가'!$A$5:$P$423,3,0),\"\")","v":"작업환경 요인"},{"$f":"IF(MAX('3-3 위험성평가'!$A$4:$A$423)+1>E17,VLOOKUP(E17,'3-3 위험성평가'!$A$5:$P$423,4,0),\"\")","v":"6.1 기후 / 고온 / 한랭"},{"$f":"IF(MAX('3-3 위험성평가'!$A$4:$A$423)+1>E17,VLOOKUP(E17,'3-3 위험성평가'!$A$5:$P$423,5,0),\"\")","v":"작업 중 고온 환경으로 인한 열사병 위험"},{"$f":"IF(MAX('3-3 위험성평가'!$A$4:$A$423)+1>E17,VLOOKUP(E17,'3-3 위험성평가'!$A$5:$P$423,6,0),\"\")","v":"산업안전보건법 제24조"},{"$f":"IF(MAX('3-3 위험성평가'!$A$4:$A$423)+1>E17,VLOOKUP(E17,'3-3 위험성평가'!$A$5:$P$423,9,0),\"\")","v":"상"},{"$f":"IF(MAX('3-3 위험성평가'!$A$4:$A$423)+1>E17,VLOOKUP(E17,'3-3 위험성평가'!$A$5:$P$423,12,0),\"\")&IF(L17>\"\",\".\"&E17,\"\")","v":"2-6.1.9"},{"$f":"IF(MAX('3-3 위험성평가'!$A$4:$A$423)+1>E17,VLOOKUP(E17,'3-3 위험성평가'!$A$5:$P$423,13,0),\"\")","v":"- 작업 중 충분한 수분 섭취 및 휴식 제공\n- 쉼터 설치"},null,"하",null,null,null,null,null,null,null,"선택안함",0,{"$f":"IF(MAX('3-3 위험성평가'!$A$4:$A$423)+1>E17,VLOOKUP(E17,'3-3 위험성평가'!$A$5:$Q$423,17,0),\"\")","v":"고온 환경에서 작업 시 작업자 건강 관리 대책 논의"},"선택",{"$f":"표지!$D$33","v":0},{"$f":"표지!$E$34","v":0},"선택안함",0]
["T20",2,"S40",4,10,{"$f":"IF(MAX('3-3 위험성평가'!$A$4:$A$423)+1>E18,VLOOKUP(E18,'3-3 위험성평가'!$A$5:$P$423,2,0),\"\")","v":3},{"$f":"IF(F18=\"\",\"\",VLOOKUP(VALUE(F18),'1-1 사업장 공정 정보'!$D$15:$P$41,5,0))","v":"비 구조적 요소 철거"},{"$f":"IF(MAX('3-3 위험성평가'!$A$4:$A$423)+1>E18,VLOOKUP(E18,'3-3 위험성평가'!$A$5:$P$423,3,0),\"\")","v":"1. 기계(설비)적 요인"},{"$f":"IF(MAX('3-3 위험성평가'!$A$4:$A$423)+1>E18,VLOOKUP(E18,'3-3 위험성평가'!$A$5:$P$423,4,0),\"\")","v":"1.1 협착위험 부분(감김, 끼임)"},{"$f":"IF(MAX('3-3 위험성평가'!$A$4:$A$423)+1>E18,VLOOKUP(E18,'3-3 위험성평가'!$A$5:$P$423,5,0),\"\")","v":"설비 해체 작업 중 손 끼임 위험"},{"$f":"IF(MAX('3-3 위험성평가'!$A$4:$A$423)+1>E18,VLOOKUP(E18,'3-3 위험성평가'!$A$5:$P$423,6,0),\"\")","v":"산업안전보건기준에 관한 규칙 제38조"},{"$f":"IF(MAX('3-3 위험성평가'!$A$4:$A$423)+1>E18,VLOOKUP(E18,'3-3 위험성평가'!$A$5:$P$423,9,0),\"\")","v":"중"},{"$f":"IF(MAX('3-3 위험성평가'!$A$4:$A$423)+1>E18,VLOOKUP(E18,'3-3 위험성평가'!$A$5:$P$423,12,0),\"\")&IF(L18>\"\",\".\"&E18,\"\")","v":"3-1.1.10"},{"$f":"IF(MAX('3-3 위험성평가'!$A$4:$A$423)+1>E18,VLOOKUP(E18,'3-3 위험성평가'!$A$5:$P$423,13,0),\"\")","v":"설비 해체 전 작업자 배치 및 보호구 착용 상태 확인"},null,"하",null,null,null,null,null,null,null,"선택안함",0,{"$f":"IF(MAX('3-3 위험성평가'!$A$4:$A$423)+1>E18,VLOOKUP(E18,'3-3 위험성평가'!$A$5:$Q$423,17,0),\"\")","v":"협착 방지를 위한 작업 방법 논의"},"선택",{"$f":"표지!$D$33","v":0},{"$f":"표지!$E$34","v":0},"선택안함",0]
["T20",2,"S40",4,11,{"$f":"IF(MAX('3-3 위험성평가'!$A$4:$A$423)+1>E19,VLOOKUP(E19,'3-3 위험성평가'!$A$5:$P$423,2,0),\"\")","v":3},{"$f":"IF(F19=\"\",\"\",VLOOKUP(VALUE(F19),'1-1 사업장 공정 정보'!$D$15:$P$41,5,0))","v":"비 구조적 요소 철거"},{"$f":"IF(MAX('3-3 위험성평가'!$A$4:$A$423)+1>E19,VLOOKUP(E19,'3-3 위험성평가'!$A$5:$P$423,3,0),\"\")","v":"2. 전기적 요인"},{"$f":"IF(MAX('3-3 위험성평가'!$A$4:$A$423)+1>E19,VLOOKUP(E19,'3-3 위험성평가'!$A$5:$P$423,4,0),\"\")","v":"2.1 감전(안전전압초과)"},{"$f":"IF(MAX('3-3 위험성평가'!$A$4:$A$423)+1>E19,VLOOKUP(E19,'3-3 위험성평가'!$A$5:$P$423,5,0),\"\")","v":"전기 설비 해체 시 전원 차단 실패"},{"$f":"IF(MAX('3-3 위험성평가'!$A$4:$A$423)+1>E19,VLOOKUP(E19,'3-3 위험성평가'!$A$5:$P$423,6,0),\"\")","v":"산업안전보건법 제36조"},{"$f":"IF(MAX('3-3 위험성평가'!$A$4:$A$423)+1>E19,VLOOKUP(E19,'3-3 위험성평가'!$A$5:$P$423,9,0),\"\")","v":"중"},{"$f":"IF(MAX('3-3 위험성평가'!$A$4:$A$423)+1>E19,VLOOKUP(E19,'3-3 위험성평가'!$A$5:$P$423,12,0),\"\")&IF(L19>\"\",\".\"&E19,\"\")","v":"3-2.1.11"},{"$f":"IF(MAX('3-3 위험성평가'!$A$4:$A$423)+1>E19,VLOOKUP(E19,'3-3 위험성평가'!$A$5:$P$423,13,0),\"\")","v":"- 전기 설비 작업 전 전원 차단 확인\n- 감전 방지용 절연 공구 사용"},null,"하",null,null,null,null,null,null,null,"선택안함",0,{"$f":"IF(MAX('3-3 위험성평가'!$A$4:$A$423)+1>E19,VLOOKUP(E19,'3-3 위험성평가'!$A$5:$Q$423,17,0),\"\")","v":"감전 사고 방지를 위한 전원 차단 절차 검토"},"선택",{"$f":"표지!$D$33","v":0},{"$f":"표지!$E$34","v":0},"선택안함",0]
["T20",2,"S40",4,12,{"$f":"IF(MAX('3-3 위험성평가'!$A$4:$A$423)+1>E20,VLOOKUP(E20,'3-3 위험성평가'!$A$5:$P$423,2,0),\"\")","v":4},{"$f":"IF(F20=\"\",\"\",VLOOKUP(VALUE(F20),'1-1 사업장 공정 정보'!$D$15:$P$41,5,0))","v":"구조체 해체(수작업)"},{"$f":"IF(MAX('3-3 위험성평가'!$A$4:$A$423)+1>E20,VLOOKUP(E20,'3-3 위험성평가'!$A$5:$P$423,3,0),\"\")","v":"1. 기계(설비)적 요인"},{"$f":"IF(MAX('3-3 위험성평가'!$A$4:$A$423)+1>E20,VLOOKUP(E20,'3-3 위험성평가'!$A$5:$P$423,4,0),\"\")","v":"1.6 추락위험 부분(개구부 등)"},{"$f":"IF(MAX('3-3 위험성평가'!$A$4:$A$423)+1>E20,VLOOKUP(E20,'3-3 위험성평가'!$A$5:$P$423,5,0),\"\")","v":"수작업 철거 시 높은 곳에서 작업 중 추락 위험"},{"$f":"IF(MAX('3-3 위험성평가'!$A$4:$A$423)+1>E20,VLOOKUP(E20,'3-3 위험성평가'!$A$5:$P$423,6,0),\"\")","v":"산업안전보건기준에 관한 규칙 제39조"},{"$f":"IF(MAX('3-3 위험성평가'!$A$4:$A$423)+1>E20,VLOOKUP(E20,'3-3 위험성평가'!$A$5:$P$423,9,0),\"\")","v":"중"},{"$f":"IF(MAX('3-3 위험성평가'!$A$4:$A$423)+1>E20,VLOOKUP(E20,'3-3 위험성평가'!$A$5:$P$423,12,0),\"\")&IF(L20>\"\",\".\"&E20,\"\")","v":"4-1.6.12"},{"$f":"IF(MAX('3-3 위험성평가'!$A$4:$A$423)+1>E20,VLOOKUP(E20,'3-3 위험성평가'!$A$5:$P$423,13,0),\"\")","v":"- 안전대 착용 및 안전 발판 설치\n- 추락 방지 보호 장비 지급\n등 실시 내용 현장에서 직접 확인한다"},null,"하",null,null,null,null,null,null,null,"선택안함",0,{"$f":"IF(MAX('3-3 위험성평가'!$A$4:$A$423)+1>E20,VLOOKUP(E20,'3-3 위험성평가'!$A$5:$Q$423,17,0),\"\")","v":"높은 위치 작업 시 추락 방지 장비의 중요성 논의"},"선택",{"$f":"표지!$D$33","v":0},{"$f":"표지!$E$34","v":0},"선택안함",0]
["T20",2,"S40",4,13,{"$f":"IF(MAX('3-3 위험성평가'!$A$4:$A$423)+1>E21,VLOOKUP(E21,'3-3 위험성평가'!$A$5:$P$423,2,0),\"\")","v":5},{"$f":"IF(F21=\"\",\"\",VLOOKUP(VALUE(F21),'1-1 사업장 공정 정보'!$D$15:$P$41,5,0))","v":"구조체 해제(기계작업)"},{"$f":"IF(MAX('3-3 위험성평가'!$A$4:$A$423)+1>E21,VLOOKUP(E21,'3-3 위험성평가'!$A$5:$P$423,3,0),\"\")","v":"1. 기계(설비)적 요인"},{"$f":"IF(MAX('3-3 위험성평가'!$A$4:$A$423)+1>E21,VLOOKUP(E21,'3-3 위험성평가'!$A$5:$P$423,4,0),\"\")","v":"1.3 기계(설비)의 낙하, 비래, 전복, 붕괴, 전도위험 부분"},{"$f":"IF(MAX('3-3 위험성평가'!$A$4:$A$423)+1>E21,VLOOKUP(E21,'3-3 위험성평가'!$A$5:$P$423,5,0),\"\")","v":"구조물 해체 중 자재 및 잔해물 낙하"},{"$f":"IF(MAX('3-3 위험성평가'!$A$4:$A$423)+1>E21,VLOOKUP(E21,'3-3 위험성평가'!$A$5:$P$423,6,0),\"\")","v":"산업안전보건기준에 관한 규칙 제39조"},{"$f":"IF(MAX('3-3 위험성평가'!$A$4:$A$423)+1>E21,VLOOKUP(E21,'3-3 위험성평가'!$A$5:$P$423,9,0),\"\")","v":"중"},{"$f":"IF(MAX('3-3 위험성평가'!$A$4:$A$423)+1>E21,VLOOKUP(E21,'3-3 위험성평가'!$A$5:$P$423,12,0),\"\")&IF(L21>\"\",\".\"&E21,\"\")","v":"5-1.3.13"},{"$f":"IF(MAX('3-3 위험성평가'!$A$4:$A$423)+1>E21,VLOOKUP(E21,'3-3 위험성평가'!$A$5:$P$423,13,0),\"\")","v":"- 작업 구역 내 낙하물 방지망 및 안전 울타리 설치\n- 헬멧 등 보호구 착용 의무화\n등 실시 내용 현장에서 직접 확인한다"},null,"하",null,null,null,null,null,null,null,"선택안함",0,{"$f":"IF(MAX('3-3 위험성평가'!$A$4:$A$423)+1>E21,VLOOKUP(E21,'3-3 위험성평가'!$A$5:$Q$423,17,0),\"\")","v":"낙하물 방지 대책 및 현장 자재 관리 방법 논의"},"선택",{"$f":"표지!$D$33","v":0},{"$f":"표지!$E$34","v":0},"선택안함",0]
["T20",2,"S40",4,14,{"$f":"IF(MAX('3-3 위험성평가'!$A$4:$A$423)+1>E22,VLOOKUP(E22,'3-3 위험성평가'!$A$5:$P$423,2,0),\"\")","v":""},{"$f":"IF(F22=\"\",\"\",VLOOKUP(VALUE(F22),'1-1 사업장 공정 정보'!$D$15:$P$41,5,0))","v":""},{"$f":"IF(MAX('3-3 위험성평가'!$A$4:$A$423)+1>E22,VLOOKUP(E22,'3-3 위험성평가'!$A$5:$P$423,3,0),\"\")","v":""},{"$f":"IF(MAX('3-3 위험성평가'!$A$4:$A$423)+1>E22,VLOOKUP(E22,'3-3 위험성평가'!$A$5:$P$423,4,0),\"\")","v":""},{"$f":"IF(MAX('3-3 위험성평가'!$A$4:$A$423)+1>E22,VLOOKUP(E22,'3-3 위험성평가'!$A$5:$P$423,5,0),\"\")","v":""},{"$f":"IF(MAX('3-3 위험성평가'!$A$4:$A$423)+1>E22,VLOOKUP(E22,'3-3 위험성평가'!$A$5:$P$423,6,0),\"\")","v":""},{"$f":"IF(MAX('3-3 위험성평가'!$A$4:$A$423)+1>E22,VLOOKUP(E22,'3-3 위험성평가'!$A$5:$P$423,9,0),\"\")","v":""},{"$f":"IF(MAX('3-3 위험성평가'!$A$4:$A$423)+1>E22,VLOOKUP(E22,'3-3 위험성평가'!$A$5:$P$423,12,0),\"\")&IF(L22>\"\",\".\"&E22,\"\")","v":""},{"$f":"IF(MAX('3-3 위험성평가'!$A$4:$A$423)+1>E22,VLOOKUP(E22,'3-3 위험성평가'!$A$5:$P$423,13,0),\"\")","v":""},null,"하",null,null,null,null,null,null,null,"선택안함",0,{"$f":"IF(MAX('3-3 위험성평가'!$A$4:$A$423)+1>E22,VLOOKUP(E22,'3-3 위험성평가'!$A$5:$Q$423,17,0),\"\")","v":""},"선택",{"$f":"표지!$D$33","v":0},{"$f":"표지!$E$34","v":0},"선택안함",0]
["T20",2,"S40",4,15,{"$f":"IF(MAX('3-3 위험성평가'!$A$4:$A$423)+1>E23,VLOOKUP(E23,'3-3 위험성평가'!$A$5:$P$423,2,0),\"\")","v":""},{"$f":"IF(F23=\"\",\"\",VLOOKUP(VALUE(F23),'1-1 사업장 공정 정보'!$D$15:$P$41,5,0))","v":""},{"$f":"IF(MAX('3-3 위험성평가'!$A$4:$A$423)+1>E23,VLOOKUP(E23,'3-3 위험성평가'!$A$5:$P$423,3,0),\"\")","v":""},{"$f":"IF(MAX('3-3 위험성평가'!$A$4:$A$423)+1>E23,VLOOKUP(E23,'3-3 위험성평가'!$A$5:$P$423,4,0),\"\")","v":""},{"$f":"IF(MAX('3-3 위험성평가'!$A$4:$A$423)+1>E23,VLOOKUP(E23,'3-3 위험성평가'!$A$5:$P$423,5,0),\"\")","v":""},{"$f":"IF(MAX('3-3 위험성평가'!$A$4:$A$423)+1>E23,VLOOKUP(E23,'3-3 위험성평가'!$A$5:$P$423,6,0),\"\")","v":""},{"$f":"IF(MAX('3-3 위험성평가'!$A$4:$A$423)+1>E23,VLOOKUP(E23,'3-3 위험성평가'!$A$5:$P$423,9,0),\"\")","v":""},{"$f":"IF(MAX('3-3 위험성평가'!$A$4:$A$423)+1>E23,VLOOKUP(E23,'3-3 위험성평가'!$A$5:$P$423,12,0),\"\")&IF(L23>\"\",\".\"&E23,\"\")","v":""},{"$f":"IF(MAX('3-3 위험성평가'!$A$4:$A$423)+1>E23,VLOOKUP(E23,'3-3 위험성평가'!$A$5:$P$423,13,0),\"\")","v":""},null,"하",null,null,null,null,null,null,null,"선택안함",0,{"$f":"IF(MAX('3-3 위험성평가'!$A$4:$A$423)+1>E23,VLOOKUP(E23,'3-3 위험성평가'!$A$5:$Q$423,17,0),\"\")","v":""},"선택",{"$f":"표지!$D$33","v":0},{"$f":"표지!$E$34","v":0},"선택안함",0]
["T20",2,"S40",4,16,{"$f":"IF(MAX('3-3 위험성평가'!$A$4:$A$423)+1>E24,VLOOKUP(E24,'3-3 위험성평가'!$A$5:$P$423,2,0),\"\")","v":""},{"$f":"IF(F24=\"\",\"\",VLOOKUP(VALUE(F24),'1-1 사업장 공정 정보'!$D$15:$P$41,5,0))","v":""},{"$f":"IF(MAX('3-3 위험성평가'!$A$4:$A$423)+1>E24,VLOOKUP(E24,'3-3 위험성평가'!$A$5:$P$423,3,0),\"\")","v":""},{"$f":"IF(MAX('3-3 위험성평가'!$A$4:$A$423)+1>E24,VLOOKUP(E24,'3-3 위험성평가'!$A$5:$P$423,4,0),\"\")","v":""},{"$f":"IF(MAX('3-3 위험성평가'!$A$4:$A$423)+1>E24,VLOOKUP(E24,'3-3 위험성평가'!$A$5:$P$423,5,0),\"\")","v":""},{"$f":"IF(MAX('3-3 위험성평가'!$A$4:$A$423)+1>E24,VLOOKUP(E24,'3-3 위험성평가'!$A$5:$P$423,6,0),\"\")","v":""},{"$f":"IF(MAX('3-3 위험성평가'!$A$4:$A$423)+1>E24,VLOOKUP(E24,'3-3 위험성평가'!$A$5:$P$423,9,0),\"\")","v":""},{"$f":"IF(MAX('3-3 위험성평가'!$A$4:$A$423)+1>E24,VLOOKUP(E24,'3-3 위험성평가'!$A$5:$P$423,12,0),\"\")&IF(L24>\"\",\".\"&E24,\"\")","v":""},{"$f":"IF(MAX('3-3 위험성평가'!$A$4:$A$423)+1>E24,VLOOKUP(E24,'3-3 위험성평가'!$A$5:$P$423,13,0),\"\")","v":""},null,"하",null,null,null,null,null,null,null,"선택안함",0,{"$f":"IF(MAX('3-3 위험성평가'!$A$4:$A$423)+1>E24,VLOOKUP(E24,'3-3 위험성평가'!$A$5:$Q$423,17,0),\"\")","v":""},"선택",{"$f":"표지!$D$33","v":0},{"$f":"표지!$E$34","v":0},"선택안함",0]
["T20",2,"S40",4,17,{"$f":"IF(MAX('3-3 위험성평가'!$A$4:$A$423)+1>E25,VLOOKUP(E25,'3-3 위험성평가'!$A$5:$P$423,2,0),\"\")","v":""},{"$f":"IF(F25=\"\",\"\",VLOOKUP(VALUE(F25),'1-1 사업장 공정 정보'!$D$15:$P$41,5,0))","v":""},{"$f":"IF(MAX('3-3 위험성평가'!$A$4:$A$423)+1>E25,VLOOKUP(E25,'3-3 위험성평가'!$A$5:$P$423,3,0),\"\")","v":""},{"$f":"IF(MAX('3-3 위험성평가'!$A$4:$A$423)+1>E25,VLOOKUP(E25,'3-3 위험성평가'!$A$5:$P$423,4,0),\"\")","v":""},{"$f":"IF(MAX('3-3 위험성평가'!$A$4:$A$423)+1>E25,VLOOKUP(E25,'3-3 위험성평가'!$A$5:$P$423,5,0),\"\")","v":""},{"$f":"IF(MAX('3-3 위험성평가'!$A$4:$A$423)+1>E25,VLOOKUP(E25,'3-3 위험성평가'!$A$5:$P$423,6,0),\"\")","v":""},{"$f":"IF(MAX('3-3 위험성평가'!$A$4:$A$423)+1>E25,VLOOKUP(E25,'3-3 위험성평가'!$A$5:$P$423,9,0),\"\")","v":""},{"$f":"IF(MAX('3-3 위험성평가'!$A$4:$A$423)+1>E25,VLOOKUP(E25,'3-3 위험성평가'!$A$5:$P$423,12,0),\"\")&IF(L25>\"\",\".\"&E25,\"\")","v":""},{"$f":"IF(MAX('3-3 위험성평가'!$A$4:$A$423)+1>E25,VLOOKUP(E25,'3-3 위험성평가'!$A$5:$P$423,13,0),\"\")","v":""},null,"하",null,null,null,null,null,null,null,"선택안함",0,{"$f":"IF(MAX('3-3 위험성평가'!$A$4:$A$423)+1>E25,VLOOKUP(E25,'3-3 위험성평가'!$A$5:$Q$423,17,0),\"\")","v":""},"선택",{"$f":"표지!$D$33","v":0},{"$f":"표지!$E$34","v":0},"선택안함",0]
["T20",2,"S40",4,18,{"$f":"IF(MAX('3-3 위험성평가'!$A$4:$A$423)+1>E26,VLOOKUP(E26,'3-3 위험성평가'!$A$5:$P$423,2,0),\"\")","v":""},{"$f":"IF(F26=\"\",\"\",VLOOKUP(VALUE(F26),'1-1 사업장 공정 정보'!$D$15:$P$41,5,0))","v":""},{"$f":"IF(MAX('3-3 위험성평가'!$A$4:$A$423)+1>E26,VLOOKUP(E26,'3-3 위험성평가'!$A$5:$P$423,3,0),\"\")","v":""},{"$f":"IF(MAX('3-3 위험성평가'!$A$4:$A$423)+1>E26,VLOOKUP(E26,'3-3 위험성평가'!$A$5:$P$423,4,0),\"\")","v":""},{"$f":"IF(MAX('3-3 위험성평가'!$A$4:$A$423)+1>E26,VLOOKUP(E26,'3-3 위험성평가'!$A$5:$P$423,5,0),\"\")","v":""},{"$f":"IF(MAX('3-3 위험성평가'!$A$4:$A$423)+1>E26,VLOOKUP(E26,'3-3 위험성평가'!$A$5:$P$423,6,0),\"\")","v":""},{"$f":"IF(MAX('3-3 위험성평가'!$A$4:$A$423)+1>E26,VLOOKUP(E26,'3-3 위험성평가'!$A$5:$P$423,9,0),\"\")","v":""},{"$f":"IF(MAX('3-3 위험성평가'!$A$4:$A$423)+1>E26,VLOOKUP(E26,'3-3 위험성평가'!$A$5:$P$423,12,0),\"\")&IF(L26>\"\",\".\"&E26,\"\")","v":""},{"$f":"IF(MAX('3-3 위험성평가'!$A$4:$A$423)+1>E26,VLOOKUP(E26,'3-3 위험성평가'!$A$5:$P$423,13,0),\"\")","v":""},null,"하",null,null,null,null,null,null,null,"선택안함",0,{"$f":"IF(MAX('3-3 위험성평가'!$A$4:$A$423)+1>E26,VLOOKUP(E26,'3-3 위험성평가'!$A$5:$Q$423,17,0),\"\")","v":""},"선택",{"$f":"표지!$D$33","v":0},{"$f":"표지!$E$34","v":0},"선택안함",0]
["T20",2,"S40",4,19,{"$f":"IF(MAX('3-3 위험성평가'!$A$4:$A$423)+1>E27,VLOOKUP(E27,'3-3 위험성평가'!$A$5:$P$423,2,0),\"\")","v":""},{"$f":"IF(F27=\"\",\"\",VLOOKUP(VALUE(F27),'1-1 사업장 공정 정보'!$D$15:$P$41,5,0))","v":""},{"$f":"IF(MAX('3-3 위험성평가'!$A$4:$A$423)+1>E27,VLOOKUP(E27,'3-3 위험성평가'!$A$5:$P$423,3,0),\"\")","v":""},{"$f":"IF(MAX('3-3 위험성평가'!$A$4:$A$423)+1>E27,VLOOKUP(E27,'3-3 위험성평가'!$A$5:$P$423,4,0),\"\")","v":""},{"$f":"IF(MAX('3-3 위험성평가'!$A$4:$A$423)+1>E27,VLOOKUP(E27,'3-3 위험성평가'!$A$5:$P$423,5,0),\"\")","v":""},{"$f":"IF(MAX('3-3 위험성평가'!$A$4:$A$423)+1>E27,VLOOKUP(E27,'3-3 위험성평가'!$A$5:$P$423,6,0),\"\")","v":""},{"$f":"IF(MAX('3-3 위험성평가'!$A$4:$A$423)+1>E27,VLOOKUP(E27,'3-3 위험성평가'!$A$5:$P$423,9,0),\"\")","v":""},{"$f":"IF(MAX('3-3 위험성평가'!$A$4:$A$423)+1>E27,VLOOKUP(E27,'3-3 위험성평가'!$A$5:$P$423,12,0),\"\")&IF(L27>\"\",\".\"&E27,\"\")","v":""},{"$f":"IF(MAX('3-3 위험성평가'!$A$4:$A$423)+1>E27,VLOOKUP(E27,'3-3 위험성평가'!$A$5:$P$423,13,0),\"\")","v":""},null,"하",null,null,null,null,null,null,null,"선택안함",0,{"$f":"IF(MAX('3-3 위험성평가'!$A$4:$A$423)+1>E27,VLOOKUP(E27,'3-3 위험성평가'!$A$5:$Q$423,17,0),\"\")","v":""},"선택",{"$f":"표지!$D$33","v":0},{"$f":"표지!$E$34","v":0},"선택안함",0]
["T20",2,"S40",4,20,{"$f":"IF(MAX('3-3 위험성평가'!$A$4:$A$423)+1>E28,VLOOKUP(E28,'3-3 위험성평가'!$A$5:$P$423,2,0),\"\")","v":""},{"$f":"IF(F28=\"\",\"\",VLOOKUP(VALUE(F28),'1-1 사업장 공정 정보'!$D$15:$P$41,5,0))","v":""},{"$f":"IF(MAX('3-3 위험성평가'!$A$4:$A$423)+1>E28,VLOOKUP(E28,'3-3 위험성평가'!$A$5:$P$423,3,0),\"\")","v":""},{"$f":"IF(MAX('3-3 위험성평가'!$A$4:$A$423)+1>E28,VLOOKUP(E28,'3-3 위험성평가'!$A$5:$P$423,4,0),\"\")","v":""},{"$f":"IF(MAX('3-3 위험성평가'!$A$4:$A$423)+1>E28,VLOOKUP(E28,'3-3 위험성평가'!$A$5:$P$423,5,0),\"\")","v":""},{"$f":"IF(MAX('3-3 위험성평가'!$A$4:$A$423)+1>E28,VLOOKUP(E28,'3-3 위험성평가'!$A$5:$P$423,6,0),\"\")","v":""},{"$f":"IF(MAX('3-3 위험성평가'!$A$4:$A$423)+1>E28,VLOOKUP(E28,'3-3 위험성평가'!$A$5:$P$423,9,0),\"\")","v":""},{"$f":"IF(MAX('3-3 위험성평가'!$A$4:$A$423)+1>E28,VLOOKUP(E28,'3-3 위험성평가'!$A$5:$P$423,12,0),\"\")&IF(L28>\"\",\".\"&E28,\"\")","v":""},{"$f":"IF(MAX('3-3 위험성평가'!$A$4:$A$423)+1>E28,VLOOKUP(E28,'3-3 위험성평가'!$A$5:$P$423,13,0),\"\")","v":""},null,"하",null,null,null,null,null,null,null,"선택안함",0,{"$f":"IF(MAX('3-3 위험성평가'!$A$4:$A$423)+1>E28,VLOOKUP(E28,'3-3 위험성평가'!$A$5:$Q$423,17,0),\"\")","v":""},"선택",{"$f":"표지!$D$33","v":0},{"$f":"표지!$E$34","v":0},"선택안함",0]
["T20",2,"S40",4,21,{"$f":"IF(MAX('3-3 위험성평가'!$A$4:$A$423)+1>E29,VLOOKUP(E29,'3-3 위험성평가'!$A$5:$P$423,2,0),\"\")","v":""},{"$f":"IF(F29=\"\",\"\",VLOOKUP(VALUE(F29),'1-1 사업장 공정 정보'!$D$15:$P$41,5,0))","v":""},{"$f":"IF(MAX('3-3 위험성평가'!$A$4:$A$423)+1>E29,VLOOKUP(E29,'3-3 위험성평가'!$A$5:$P$423,3,0),\"\")","v":""},{"$f":"IF(MAX('3-3 위험성평가'!$A$4:$A$423)+1>E29,VLOOKUP(E29,'3-3 위험성평가'!$A$5:$P$423,4,0),\"\")","v":""},{"$f":"IF(MAX('3-3 위험성평가'!$A$4:$A$423)+1>E29,VLOOKUP(E29,'3-3 위험성평가'!$A$5:$P$423,5,0),\"\")","v":""},{"$f":"IF(MAX('3-3 위험성평가'!$A$4:$A$423)+1>E29,VLOOKUP(E29,'3-3 위험성평가'!$A$5:$P$423,6,0),\"\")","v":""},{"$f":"IF(MAX('3-3 위험성평가'!$A$4:$A$423)+1>E29,VLOOKUP(E29,'3-3 위험성평가'!$A$5:$P$423,9,0),\"\")","v":""},{"$f":"IF(MAX('3-3 위험성평가'!$A$4:$A$423)+1>E29,VLOOKUP(E29,'3-3 위험성평가'!$A$5:$P$423,12,0),\"\")&IF(L29>\"\",\".\"&E29,\"\")","v":""},{"$f":"IF(MAX('3-3 위험성평가'!$A$4:$A$423)+1>E29,VLOOKUP(E29,'3-3 위험성평가'!$A$5:$P$423,13,0),\"\")","v":""},null,"하",null,null,null,null,null,null,null,"선택안함",0,{"$f":"IF(MAX('3-3 위험성평가'!$A$4:$A$423)+1>E29,VLOOKUP(E29,'3-3 위험성평가'!$A$5:$Q$423,17,0),\"\")","v":""},"선택",{"$f":"표지!$D$33","v":0},{"$f":"표지!$E$34","v":0},"선택안함",0]
["T20",2,"S40",4,22,{"$f":"IF(MAX('3-3 위험성평가'!$A$4:$A$423)+1>E30,VLOOKUP(E30,'3-3 위험성평가'!$A$5:$P$423,2,0),\"\")","v":""},{"$f":"IF(F30=\"\",\"\",VLOOKUP(VALUE(F30),'1-1 사업장 공정 정보'!$D$15:$P$41,5,0))","v":""},{"$f":"IF(MAX('3-3 위험성평가'!$A$4:$A$423)+1>E30,VLOOKUP(E30,'3-3 위험성평가'!$A$5:$P$423,3,0),\"\")","v":""},{"$f":"IF(MAX('3-3 위험성평가'!$A$4:$A$423)+1>E30,VLOOKUP(E30,'3-3 위험성평가'!$A$5:$P$423,4,0),\"\")","v":""},{"$f":"IF(MAX('3-3 위험성평가'!$A$4:$A$423)+1>E30,VLOOKUP(E30,'3-3 위험성평가'!$A$5:$P$423,5,0),\"\")","v":""},{"$f":"IF(MAX('3-3 위험성평가'!$A$4:$A$423)+1>E30,VLOOKUP(E30,'3-3 위험성평가'!$A$5:$P$423,6,0),\"\")","v":""},{"$f":"IF(MAX('3-3 위험성평가'!$A$4:$A$423)+1>E30,VLOOKUP(E30,'3-3 위험성평가'!$A$5:$P$423,9,0),\"\")","v":""},{"$f":"IF(MAX('3-3 위험성평가'!$A$4:$A$423)+1>E30,VLOOKUP(E30,'3-3 위험성평가'!$A$5:$P$423,12,0),\"\")&IF(L30>\"\",\".\"&E30,\"\")","v":""},{"$f":"IF(MAX('3-3 위험성평가'!$A$4:$A$423)+1>E30,VLOOKUP(E30,'3-3 위험성평가'!$A$5:$P$423,13,0),\"\")","v":""},null,"하",null,null,null,null,null,null,null,"선택안함",0,{"$f":"IF(MAX('3-3 위험성평가'!$A$4:$A$423)+1>E30,VLOOKUP(E30,'3-3 위험성평가'!$A$5:$Q$423,17,0),\"\")","v":""},"선택",{"$f":"표지!$D$33","v":0},{"$f":"표지!$E$34","v":0},"선택안함",0]
["T20",2,"S40",4,23,{"$f":"IF(MAX('3-3 위험성평가'!$A$4:$A$423)+1>E31,VLOOKUP(E31,'3-3 위험성평가'!$A$5:$P$423,2,0),\"\")","v":""},{"$f":"IF(F31=\"\",\"\",VLOOKUP(VALUE(F31),'1-1 사업장 공정 정보'!$D$15:$P$41,5,0))","v":""},{"$f":"IF(MAX('3-3 위험성평가'!$A$4:$A$423)+1>E31,VLOOKUP(E31,'3-3 위험성평가'!$A$5:$P$423,3,0),\"\")","v":""},{"$f":"IF(MAX('3-3 위험성평가'!$A$4:$A$423)+1>E31,VLOOKUP(E31,'3-3 위험성평가'!$A$5:$P$423,4,0),\"\")","v":""},{"$f":"IF(MAX('3-3 위험성평가'!$A$4:$A$423)+1>E31,VLOOKUP(E31,'3-3 위험성평가'!$A$5:$P$423,5,0),\"\")","v":""},{"$f":"IF(MAX('3-3 위험성평가'!$A$4:$A$423)+1>E31,VLOOKUP(E31,'3-3 위험성평가'!$A$5:$P$423,6,0),\"\")","v":""},{"$f":"IF(MAX('3-3 위험성평가'!$A$4:$A$423)+1>E31,VLOOKUP(E31,'3-3 위험성평가'!$A$5:$P$423,9,0),\"\")","v":""},{"$f":"IF(MAX('3-3 위험성평가'!$A$4:$A$423)+1>E31,VLOOKUP(E31,'3-3 위험성평가'!$A$5:$P$423,12,0),\"\")&IF(L31>\"\",\".\"&E31,\"\")","v":""},{"$f":"IF(MAX('3-3 위험성평가'!$A$4:$A$423)+1>E31,VLOOKUP(E31,'3-3 위험성평가'!$A$5:$P$423,13,0),\"\")","v":""},null,"하",null,null,null,null,null,null,null,"선택안함",0,{"$f":"IF(MAX('3-3 위험성평가'!$A$4:$A$423)+1>E31,VLOOKUP(E31,'3-3 위험성평가'!$A$5:$Q$423,17,0),\"\")","v":""},"선택",{"$f":"표지!$D$33","v":0},{"$f":"표지!$E$34","v":0},"선택안함",0]
["T20",2,"S40",4,24,{"$f":"IF(MAX('3-3 위험성평가'!$A$4:$A$423)+1>E32,VLOOKUP(E32,'3-3 위험성평가'!$A$5:$P$423,2,0),\"\")","v":""},{"$f":"IF(F32=\"\",\"\",VLOOKUP(VALUE(F32),'1-1 사업장 공정 정보'!$D$15:$P$41,5,0))","v":""},{"$f":"IF(MAX('3-3 위험성평가'!$A$4:$A$423)+1>E32,VLOOKUP(E32,'3-3 위험성평가'!$A$5:$P$423,3,0),\"\")","v":""},{"$f":"IF(MAX('3-3 위험성평가'!$A$4:$A$423)+1>E32,VLOOKUP(E32,'3-3 위험성평가'!$A$5:$P$423,4,0),\"\")","v":""},{"$f":"IF(MAX('3-3 위험성평가'!$A$4:$A$423)+1>E32,VLOOKUP(E32,'3-3 위험성평가'!$A$5:$P$423,5,0),\"\")","v":""},{"$f":"IF(MAX('3-3 위험성평가'!$A$4:$A$423)+1>E32,VLOOKUP(E32,'3-3 위험성평가'!$A$5:$P$423,6,0),\"\")","v":""},{"$f":"IF(MAX('3-3 위험성평가'!$A$4:$A$423)+1>E32,VLOOKUP(E32,'3-3 위험성평가'!$A$5:$P$423,9,0),\"\")","v":""},{"$f":"IF(MAX('3-3 위험성평가'!$A$4:$A$423)+1>E32,VLOOKUP(E32,'3-3 위험성평가'!$A$5:$P$423,12,0),\"\")&IF(L32>\"\",\".\"&E32,\"\")","v":""},{"$f":"IF(MAX('3-3 위험성평가'!$A$4:$A$423)+1>E32,VLOOKUP(E32,'3-3 위험성평가'!$A$5:$P$423,13,0),\"\")","v":""},null,"하",null,null,null,null,null,null,null,"선택안함",0,{"$f":"IF(MAX('3-3 위험성평가'!$A$4:$A$423)+1>E32,VLOOKUP(E32,'3-3 위험성평가'!$A$5:$Q$423,17,0),\"\")","v":""},"선택",{"$f":"표지!$D$33","v":0},{"$f":"표지!$E$34","v":0},"선택안함",0]
["T20",2,"S40",4,25,{"$f":"IF(MAX('3-3 위험성평가'!$A$4:$A$423)+1>E33,VLOOKUP(E33,'3-3 위험성평가'!$A$5:$P$423,2,0),\"\")","v":""},{"$f":"IF(F33=\"\",\"\",VLOOKUP(VALUE(F33),'1-1 사업장 공정 정보'!$D$15:$P$41,5,0))","v":""},{"$f":"IF(MAX('3-3 위험성평가'!$A$4:$A$423)+1>E33,VLOOKUP(E33,'3-3 위험성평가'!$A$5:$P$423,3,0),\"\")","v":""},{"$f":"IF(MAX('3-3 위험성평가'!$A$4:$A$423)+1>E33,VLOOKUP(E33,'3-3 위험성평가'!$A$5:$P$423,4,0),\"\")","v":""},{"$f":"IF(MAX('3-3 위험성평가'!$A$4:$A$423)+1>E33,VLOOKUP(E33,'3-3 위험성평가'!$A$5:$P$423,5,0),\"\")","v":""},{"$f":"IF(MAX('3-3 위험성평가'!$A$4:$A$423)+1>E33,VLOOKUP(E33,'3-3 위험성평가'!$A$5:$P$423,6,0),\"\")","v":""},{"$f":"IF(MAX('3-3 위험성평가'!$A$4:$A$423)+1>E33,VLOOKUP(E33,'3-3 위험성평가'!$A$5:$P$423,9,0),\"\")","v":""},{"$f":"IF(MAX('3-3 위험성평가'!$A$4:$A$423)+1>E33,VLOOKUP(E33,'3-3 위험성평가'!$A$5:$P$423,12,0),\"\")&IF(L33>\"\",\".\"&E33,\"\")","v":""},{"$f":"IF(MAX('3-3 위험성평가'!$A$4:$A$423)+1>E33,VLOOKUP(E33,'3-3 위험성평가'!$A$5:$P$423,13,0),\"\")","v":""},null,"하",null,null,null,null,null,null,null,"선택안함",0,{"$f":"IF(MAX('3-3 위험성평가'!$A$4:$A$423)+1>E33,VLOOKUP(E33,'3-3 위험성평가'!$A$5:$Q$423,17,0),\"\")","v":""},"선택",{"$f":"표지!$D$33","v":0},{"$f":"표지!$E$34","v":0},"선택안함",0]
["T20",2,"S40",4,26,{"$f":"IF(MAX('3-3 위험성평가'!$A$4:$A$423)+1>E34,VLOOKUP(E34,'3-3 위험성평가'!$A$5:$P$423,2,0),\"\")","v":""},{"$f":"IF(F34=\"\",\"\",VLOOKUP(VALUE(F34),'1-1 사업장 공정 정보'!$D$15:$P$41,5,0))","v":""},{"$f":"IF(MAX('3-3 위험성평가'!$A$4:$A$423)+1>E34,VLOOKUP(E34,'3-3 위험성평가'!$A$5:$P$423,3,0),\"\")","v":""},{"$f":"IF(MAX('3-3 위험성평가'!$A$4:$A$423)+1>E34,VLOOKUP(E34,'3-3 위험성평가'!$A$5:$P$423,4,0),\"\")","v":""},{"$f":"IF(MAX('3-3 위험성평가'!$A$4:$A$423)+1>E34,VLOOKUP(E34,'3-3 위험성평가'!$A$5:$P$423,5,0),\"\")","v":""},{"$f":"IF(MAX('3-3 위험성평가'!$A$4:$A$423)+1>E34,VLOOKUP(E34,'3-3 위험성평가'!$A$5:$P$423,6,0),\"\")","v":""},{"$f":"IF(MAX('3-3 위험성평가'!$A$4:$A$423)+1>E34,VLOOKUP(E34,'3-3 위험성평가'!$A$5:$P$423,9,0),\"\")","v":""},{"$f":"IF(MAX('3-3 위험성평가'!$A$4:$A$423)+1>E34,VLOOKUP(E34,'3-3 위험성평가'!$A$5:$P$423,12,0),\"\")&IF(L34>\"\",\".\"&E34,\"\")","v":""},{"$f":"IF(MAX('3-3 위험성평가'!$A$4:$A$423)+1>E34,VLOOKUP(E34,'3-3 위험성평가'!$A$5:$P$423,13,0),\"\")","v":""},null,"하",null,null,null,null,null,null,null,"선택안함",0,{"$f":"IF(MAX('3-3 위험성평가'!$A$4:$A$423)+1>E34,VLOOKUP(E34,'3-3 위험성평가'!$A$5:$Q$423,17,0),\"\")","v":""},"선택",{"$f":"표지!$D$33","v":0},{"$f":"표지!$E$34","v":0},"선택안함",0]
["T20",2,"S40",4,27,{"$f":"IF(MAX('3-3 위험성평가'!$A$4:$A$423)+1>E35,VLOOKUP(E35,'3-3 위험성평가'!$A$5:$P$423,2,0),\"\")","v":""},{"$f":"IF(F35=\"\",\"\",VLOOKUP(VALUE(F35),'1-1 사업장 공정 정보'!$D$15:$P$41,5,0))","v":""},{"$f":"IF(MAX('3-3 위험성평가'!$A$4:$A$423)+1>E35,VLOOKUP(E35,'3-3 위험성평가'!$A$5:$P$423,3,0),\"\")","v":""},{"$f":"IF(MAX('3-3 위험성평가'!$A$4:$A$423)+1>E35,VLOOKUP(E35,'3-3 위험성평가'!$A$5:$P$423,4,0),\"\")","v":""},{"$f":"IF(MAX('3-3 위험성평가'!$A$4:$A$423)+1>E35,VLOOKUP(E35,'3-3 위험성평가'!$A$5:$P$423,5,0),\"\")","v":""},{"$f":"IF(MAX('3-3 위험성평가'!$A$4:$A$423)+1>E35,VLOOKUP(E35,'3-3 위험성평가'!$A$5:$P$423,6,0),\"\")","v":""},{"$f":"IF(MAX('3-3 위험성평가'!$A$4:$A$423)+1>E35,VLOOKUP(E35,'3-3 위험성평가'!$A$5:$P$423,9,0),\"\")","v":""},{"$f":"IF(MAX('3-3 위험성평가'!$A$4:$A$423)+1>E35,VLOOKUP(E35,'3-3 위험성평가'!$A$5:$P$423,12,0),\"\")&IF(L35>\"\",\".\"&E35,\"\")","v":""},{"$f":"IF(MAX('3-3 위험성평가'!$A$4:$A$423)+1>E35,VLOOKUP(E35,'3-3 위험성평가'!$A$5:$P$423,13,0),\"\")","v":""},null,"하",null,null,null,null,null,null,null,"선택안함",0,{"$f":"IF(MAX('3-3 위험성평가'!$A$4:$A$423)+1>E35,VLOOKUP(E35,'3-3 위험성평가'!$A$5:$Q$423,17,0),\"\")","v":""},"선택",{"$f":"표지!$D$33","v":0},{"$f":"표지!$E$34","v":0},"선택안함",0]
["T20",2,"S40",4,28,{"$f":"IF(MAX('3-3 위험성평가'!$A$4:$A$423)+1>E36,VLOOKUP(E36,'3-3 위험성평가'!$A$5:$P$423,2,0),\"\")","v":""},{"$f":"IF(F36=\"\",\"\",VLOOKUP(VALUE(F36),'1-1 사업장 공정 정보'!$D$15:$P$41,5,0))","v":""},{"$f":"IF(MAX('3-3 위험성평가'!$A$4:$A$423)+1>E36,VLOOKUP(E36,'3-3 위험성평가'!$A$5:$P$423,3,0),\"\")","v":""},{"$f":"IF(MAX('3-3 위험성평가'!$A$4:$A$423)+1>E36,VLOOKUP(E36,'3-3 위험성평가'!$A$5:$P$423,4,0),\"\")","v":""},{"$f":"IF(MAX('3-3 위험성평가'!$A$4:$A$423)+1>E36,VLOOKUP(E36,'3-3 위험성평가'!$A$5:$P$423,5,0),\"\")","v":""},{"$f":"IF(MAX('3-3 위험성평가'!$A$4:$A$423)+1>E36,VLOOKUP(E36,'3-3 위험성평가'!$A$5:$P$423,6,0),\"\")","v":""},{"$f":"IF(MAX('3-3 위험성평가'!$A$4:$A$423)+1>E36,VLOOKUP(E36,'3-3 위험성평가'!$A$5:$P$423,9,0),\"\")","v":""},{"$f":"IF(MAX('3-3 위험성평가'!$A$4:$A$423)+1>E36,VLOOKUP(E36,'3-3 위험성평가'!$A$5:$P$423,12,0),\"\")&IF(L36>\"\",\".\"&E36,\"\")","v":""},{"$f":"IF(MAX('3-3 위험성평가'!$A$4:$A$423)+1>E36,VLOOKUP(E36,'3-3 위험성평가'!$A$5:$P$423,13,0),\"\")","v":""},null,"하",null,null,null,null,null,null,null,"선택안함",0,{"$f":"IF(MAX('3-3 위험성평가'!$A$4:$A$423)+1>E36,VLOOKUP(E36,'3-3 위험성평가'!$A$5:$Q$423,17,0),\"\")","v":""},"선택",{"$f":"표지!$D$33","v":0},{"$f":"표지!$E$34","v":0},"선택안함",0]
["T20",2,"S40",4,29,{"$f":"IF(MAX('3-3 위험성평가'!$A$4:$A$423)+1>E37,VLOOKUP(E37,'3-3 위험성평가'!$A$5:$P$423,2,0),\"\")","v":""},{"$f":"IF(F37=\"\",\"\",VLOOKUP(VALUE(F37),'1-1 사업장 공정 정보'!$D$15:$P$41,5,0))","v":""},{"$f":"IF(MAX('3-3 위험성평가'!$A$4:$A$423)+1>E37,VLOOKUP(E37,'3-3 위험성평가'!$A$5:$P$423,3,0),\"\")","v":""},{"$f":"IF(MAX('3-3 위험성평가'!$A$4:$A$423)+1>E37,VLOOKUP(E37,'3-3 위험성평가'!$A$5:$P$423,4,0),\"\")","v":""},{"$f":"IF(MAX('3-3 위험성평가'!$A$4:$A$423)+1>E37,VLOOKUP(E37,'3-3 위험성평가'!$A$5:$P$423,5,0),\"\")","v":""},{"$f":"IF(MAX('3-3 위험성평가'!$A$4:$A$423)+1>E37,VLOOKUP(E37,'3-3 위험성평가'!$A$5:$P$423,6,0),\"\")","v":""},{"$f":"IF(MAX('3-3 위험성평가'!$A$4:$A$423)+1>E37,VLOOKUP(E37,'3-3 위험성평가'!$A$5:$P$423,9,0),\"\")","v":""},{"$f":"IF(MAX('3-3 위험성평가'!$A$4:$A$423)+1>E37,VLOOKUP(E37,'3-3 위험성평가'!$A$5:$P$423,12,0),\"\")&IF(L37>\"\",\".\"&E37,\"\")","v":""},{"$f":"IF(MAX('3-3 위험성평가'!$A$4:$A$423)+1>E37,VLOOKUP(E37,'3-3 위험성평가'!$A$5:$P$423,13,0),\"\")","v":""},null,"하",null,null,null,null,null,null,null,"선택안함",0,{"$f":"IF(MAX('3-3 위험성평가'!$A$4:$A$423)+1>E37,VLOOKUP(E37,'3-3 위험성평가'!$A$5:$Q$423,17,0),\"\")","v":""},"선택",{"$f":"표지!$D$33","v":0},{"$f":"표지!$E$34","v":0},"선택안함",0]
["T20",2,"S40",4,30,{"$f":"IF(MAX('3-3 위험성평가'!$A$4:$A$423)+1>E38,VLOOKUP(E38,'3-3 위험성평가'!$A$5:$P$423,2,0),\"\")","v":""},{"$f":"IF(F38=\"\",\"\",VLOOKUP(VALUE(F38),'1-1 사업장 공정 정보'!$D$15:$P$41,5,0))","v":""},{"$f":"IF(MAX('3-3 위험성평가'!$A$4:$A$423)+1>E38,VLOOKUP(E38,'3-3 위험성평가'!$A$5:$P$423,3,0),\"\")","v":""},{"$f":"IF(MAX('3-3 위험성평가'!$A$4:$A$423)+1>E38,VLOOKUP(E38,'3-3 위험성평가'!$A$5:$P$423,4,0),\"\")","v":""},{"$f":"IF(MAX('3-3 위험성평가'!$A$4:$A$423)+1>E38,VLOOKUP(E38,'3-3 위험성평가'!$A$5:$P$423,5,0),\"\")","v":""},{"$f":"IF(MAX('3-3 위험성평가'!$A$4:$A$423)+1>E38,VLOOKUP(E38,'3-3 위험성평가'!$A$5:$P$423,6,0),\"\")","v":""},{"$f":"IF(MAX('3-3 위험성평가'!$A$4:$A$423)+1>E38,VLOOKUP(E38,'3-3 위험성평가'!$A$5:$P$423,9,0),\"\")","v":""},{"$f":"IF(MAX('3-3 위험성평가'!$A$4:$A$423)+1>E38,VLOOKUP(E38,'3-3 위험성평가'!$A$5:$P$423,12,0),\"\")&IF(L38>\"\",\".\"&E38,\"\")","v":""},{"$f":"IF(MAX('3-3 위험성평가'!$A$4:$A$423)+1>E38,VLOOKUP(E38,'3-3 위험성평가'!$A$5:$P$423,13,0),\"\")","v":""},null,"하",null,null,null,null,null,null,null,"선택안함",0,{"$f":"IF(MAX('3-3 위험성평가'!$A$4:$A$423)+1>E38,VLOOKUP(E38,'3-3 위험성평가'!$A$5:$Q$423,17,0),\"\")","v":""},"선택",{"$f":"표지!$D$33","v":0},{"$f":"표지!$E$34","v":0},"선택안함",0]
["T20",2,"S40",4,31,{"$f":"IF(MAX('3-3 위험성평가'!$A$4:$A$423)+1>E39,VLOOKUP(E39,'3-3 위험성평가'!$A$5:$P$423,2,0),\"\")","v":""},{"$f":"IF(F39=\"\",\"\",VLOOKUP(VALUE(F39),'1-1 사업장 공정 정보'!$D$15:$P$41,5,0))","v":""},{"$f":"IF(MAX('3-3 위험성평가'!$A$4:$A$423)+1>E39,VLOOKUP(E39,'3-3 위험성평가'!$A$5:$P$423,3,0),\"\")","v":""},{"$f":"IF(MAX('3-3 위험성평가'!$A$4:$A$423)+1>E39,VLOOKUP(E39,'3-3 위험성평가'!$A$5:$P$423,4,0),\"\")","v":""},{"$f":"IF(MAX('3-3 위험성평가'!$A$4:$A$423)+1>E39,VLOOKUP(E39,'3-3 위험성평가'!$A$5:$P$423,5,0),\"\")","v":""},{"$f":"IF(MAX('3-3 위험성평가'!$A$4:$A$423)+1>E39,VLOOKUP(E39,'3-3 위험성평가'!$A$5:$P$423,6,0),\"\")","v":""},{"$f":"IF(MAX('3-3 위험성평가'!$A$4:$A$423)+1>E39,VLOOKUP(E39,'3-3 위험성평가'!$A$5:$P$423,9,0),\"\")","v":""},{"$f":"IF(MAX('3-3 위험성평가'!$A$4:$A$423)+1>E39,VLOOKUP(E39,'3-3 위험성평가'!$A$5:$P$423,12,0),\"\")&IF(L39>\"\",\".\"&E39,\"\")","v":""},{"$f":"IF(MAX('3-3 위험성평가'!$A$4:$A$423)+1>E39,VLOOKUP(E39,'3-3 위험성평가'!$A$5:$P$423,13,0),\"\")","v":""},null,"하",null,null,null,null,null,null,null,"선택안함",0,{"$f":"IF(MAX('3-3 위험성평가'!$A$4:$A$423)+1>E39,VLOOKUP(E39,'3-3 위험성평가'!$A$5:$Q$423,17,0),\"\")","v":""},"선택",{"$f":"표지!$D$33","v":0},{"$f":"표지!$E$34","v":0},"선택안함",0]
["T20",2,"S40",4,32,{"$f":"IF(MAX('3-3 위험성평가'!$A$4:$A$423)+1>E40,VLOOKUP(E40,'3-3 위험성평가'!$A$5:$P$423,2,0),\"\")","v":""},{"$f":"IF(F40=\"\",\"\",VLOOKUP(VALUE(F40),'1-1 사업장 공정 정보'!$D$15:$P$41,5,0))","v":""},{"$f":"IF(MAX('3-3 위험성평가'!$A$4:$A$423)+1>E40,VLOOKUP(E40,'3-3 위험성평가'!$A$5:$P$423,3,0),\"\")","v":""},{"$f":"IF(MAX('3-3 위험성평가'!$A$4:$A$423)+1>E40,VLOOKUP(E40,'3-3 위험성평가'!$A$5:$P$423,4,0),\"\")","v":""},{"$f":"IF(MAX('3-3 위험성평가'!$A$4:$A$423)+1>E40,VLOOKUP(E40,'3-3 위험성평가'!$A$5:$P$423,5,0),\"\")","v":""},{"$f":"IF(MAX('3-3 위험성평가'!$A$4:$A$423)+1>E40,VLOOKUP(E40,'3-3 위험성평가'!$A$5:$P$423,6,0),\"\")","v":""},{"$f":"IF(MAX('3-3 위험성평가'!$A$4:$A$423)+1>E40,VLOOKUP(E40,'3-3 위험성평가'!$A$5:$P$423,9,0),\"\")","v":""},{"$f":"IF(MAX('3-3 위험성평가'!$A$4:$A$423)+1>E40,VLOOKUP(E40,'3-3 위험성평가'!$A$5:$P$423,12,0),\"\")&IF(L40>\"\",\".\"&E40,\"\")","v":""},{"$f":"IF(MAX('3-3 위험성평가'!$A$4:$A$423)+1>E40,VLOOKUP(E40,'3-3 위험성평가'!$A$5:$P$423,13,0),\"\")","v":""},null,"하",null,null,null,null,null,null,null,"선택안함",0,{"$f":"IF(MAX('3-3 위험성평가'!$A$4:$A$423)+1>E40,VLOOKUP(E40,'3-3 위험성평가'!$A$5:$Q$423,17,0),\"\")","v":""},"선택",{"$f":"표지!$D$33","v":0},{"$f":"표지!$E$34","v":0},"선택안함",0]
["T20",2,"S40",4,33,{"$f":"IF(MAX('3-3 위험성평가'!$A$4:$A$423)+1>E41,VLOOKUP(E41,'3-3 위험성평가'!$A$5:$P$423,2,0),\"\")","v":""},{"$f":"IF(F41=\"\",\"\",VLOOKUP(VALUE(F41),'1-1 사업장 공정 정보'!$D$15:$P$41,5,0))","v":""},{"$f":"IF(MAX('3-3 위험성평가'!$A$4:$A$423)+1>E41,VLOOKUP(E41,'3-3 위험성평가'!$A$5:$P$423,3,0),\"\")","v":""},{"$f":"IF(MAX('3-3 위험성평가'!$A$4:$A$423)+1>E41,VLOOKUP(E41,'3-3 위험성평가'!$A$5:$P$423,4,0),\"\")","v":""},{"$f":"IF(MAX('3-3 위험성평가'!$A$4:$A$423)+1>E41,VLOOKUP(E41,'3-3 위험성평가'!$A$5:$P$423,5,0),\"\")","v":""},{"$f":"IF(MAX('3-3 위험성평가'!$A$4:$A$423)+1>E41,VLOOKUP(E41,'3-3 위험성평가'!$A$5:$P$423,6,0),\"\")","v":""},{"$f":"IF(MAX('3-3 위험성평가'!$A$4:$A$423)+1>E41,VLOOKUP(E41,'3-3 위험성평가'!$A$5:$P$423,9,0),\"\")","v":""},{"$f":"IF(MAX('3-3 위험성평가'!$A$4:$A$423)+1>E41,VLOOKUP(E41,'3-3 위험성평가'!$A$5:$P$423,12,0),\"\")&IF(L41>\"\",\".\"&E41,\"\")","v":""},{"$f":"IF(MAX('3-3 위험성평가'!$A$4:$A$423)+1>E41,VLOOKUP(E41,'3-3 위험성평가'!$A$5:$P$423,13,0),\"\")","v":""},null,"하",null,null,null,null,null,null,null,"선택안함",0,{"$f":"IF(MAX('3-3 위험성평가'!$A$4:$A$423)+1>E41,VLOOKUP(E41,'3-3 위험성평가'!$A$5:$Q$423,17,0),\"\")","v":""},"선택",{"$f":"표지!$D$33","v":0},{"$f":"표지!$E$34","v":0},"선택안함",0]
["T20",2,"S40",4,34,{"$f":"IF(MAX('3-3 위험성평가'!$A$4:$A$423)+1>E42,VLOOKUP(E42,'3-3 위험성평가'!$A$5:$P$423,2,0),\"\")","v":""},{"$f":"IF(F42=\"\",\"\",VLOOKUP(VALUE(F42),'1-1 사업장 공정 정보'!$D$15:$P$41,5,0))","v":""},{"$f":"IF(MAX('3-3 위험성평가'!$A$4:$A$423)+1>E42,VLOOKUP(E42,'3-3 위험성평가'!$A$5:$P$423,3,0),\"\")","v":""},{"$f":"IF(MAX('3-3 위험성평가'!$A$4:$A$423)+1>E42,VLOOKUP(E42,'3-3 위험성평가'!$A$5:$P$423,4,0),\"\")","v":""},{"$f":"IF(MAX('3-3 위험성평가'!$A$4:$A$423)+1>E42,VLOOKUP(E42,'3-3 위험성평가'!$A$5:$P$423,5,0),\"\")","v":""},{"$f":"IF(MAX('3-3 위험성평가'!$A$4:$A$423)+1>E42,VLOOKUP(E42,'3-3 위험성평가'!$A$5:$P$423,6,0),\"\")","v":""},{"$f":"IF(MAX('3-3 위험성평가'!$A$4:$A$423)+1>E42,VLOOKUP(E42,'3-3 위험성평가'!$A$5:$P$423,9,0),\"\")","v":""},{"$f":"IF(MAX('3-3 위험성평가'!$A$4:$A$423)+1>E42,VLOOKUP(E42,'3-3 위험성평가'!$A$5:$P$423,12,0),\"\")&IF(L42>\"\",\".\"&E42,\"\")","v":""},{"$f":"IF(MAX('3-3 위험성평가'!$A$4:$A$423)+1>E42,VLOOKUP(E42,'3-3 위험성평가'!$A$5:$P$423,13,0),\"\")","v":""},null,"하",null,null,null,null,null,null,null,"선택안함",0,{"$f":"IF(MAX('3-3 위험성평가'!$A$4:$A$423)+1>E42,VLOOKUP(E42,'3-3 위험성평가'!$A$5:$Q$423,17,0),\"\")","v":""},"선택",{"$f":"표지!$D$33","v":0},{"$f":"표지!$E$34","v":0},"선택안함",0]
["T20",{"$f":"B42+Y43","v":2},"S40",4,35,{"$f":"IF(MAX('3-3 위험성평가'!$A$4:$A$423)+1>E43,VLOOKUP(E43,'3-3 위험성평가'!$A$5:$P$423,2,0),\"\")","v":""},{"$f":"IF(F43=\"\",\"\",VLOOKUP(VALUE(F43),'1-1 사업장 공정 정보'!$D$15:$P$41,5,0))","v":""},{"$f":"IF(MAX('3-3 위험성평가'!$A$4:$A$423)+1>E43,VLOOKUP(E43,'3-3 위험성평가'!$A$5:$P$423,3,0),\"\")","v":""},{"$f":"IF(MAX('3-3 위험성평가'!$A$4:$A$423)+1>E43,VLOOKUP(E43,'3-3 위험성평가'!$A$5:$P$423,4,0),\"\")","v":""},{"$f":"IF(MAX('3-3 위험성평가'!$A$4:$A$423)+1>E43,VLOOKUP(E43,'3-3 위험성평가'!$A$5:$P$423,5,0),\"\")","v":""},{"$f":"IF(MAX('3-3 위험성평가'!$A$4:$A$423)+1>E43,VLOOKUP(E43,'3-3 위험성평가'!$A$5:$P$423,6,0),\"\")","v":""},{"$f":"IF(MAX('3-3 위험성평가'!$A$4:$A$423)+1>E43,VLOOKUP(E43,'3-3 위험성평가'!$A$5:$P$423,9,0),\"\")","v":""},{"$f":"IF(MAX('3-3 위험성평가'!$A$4:$A$423)+1>E43,VLOOKUP(E43,'3-3 위험성평가'!$A$5:$P$423,12,0),\"\")&IF(L43>\"\",\".\"&E43,\"\")","v":""},{"$f":"IF(MAX('3-3 위험성평가'!$A$4:$A$423)+1>E43,VLOOKUP(E43,'3-3 위험성평가'!$A$5:$P$423,13,0),\"\")","v":""},null,"하",null,null,null,null,null,null,null,"선택안함",0,{"$f":"IF(MAX('3-3 위험성평가'!$A$4:$A$423)+1>E43,VLOOKUP(E43,'3-3 위험성평가'!$A$5:$Q$423,17,0),\"\")","v":""},"선택",{"$f":"표지!$D$33","v":0},{"$f":"표지!$E$34","v":0},"선택안함",0]
["T20",2,"S40",4,36,{"$f":"IF(MAX('3-3 위험성평가'!$A$4:$A$423)+1>E44,VLOOKUP(E44,'3-3 위험성평가'!$A$5:$P$423,2,0),\"\")","v":""},{"$f":"IF(F44=\"\",\"\",VLOOKUP(VALUE(F44),'1-1 사업장 공정 정보'!$D$15:$P$41,5,0))","v":""},{"$f":"IF(MAX('3-3 위험성평가'!$A$4:$A$423)+1>E44,VLOOKUP(E44,'3-3 위험성평가'!$A$5:$P$423,3,0),\"\")","v":""},{"$f":"IF(MAX('3-3 위험성평가'!$A$4:$A$423)+1>E44,VLOOKUP(E44,'3-3 위험성평가'!$A$5:$P$423,4,0),\"\")","v":""},{"$f":"IF(MAX('3-3 위험성평가'!$A$4:$A$423)+1>E44,VLOOKUP(E44,'3-3 위험성평가'!$A$5:$P$423,5,0),\"\")","v":""},{"$f":"IF(MAX('3-3 위험성평가'!$A$4:$A$423)+1>E44,VLOOKUP(E44,'3-3 위험성평가'!$A$5:$P$423,6,0),\"\")","v":""},{"$f":"IF(MAX('3-3 위험성평가'!$A$4:$A$423)+1>E44,VLOOKUP(E44,'3-3 위험성평가'!$A$5:$P$423,9,0),\"\")","v":""},{"$f":"IF(MAX('3-3 위험성평가'!$A$4:$A$423)+1>E44,VLOOKUP(E44,'3-3 위험성평가'!$A$5:$P$423,12,0),\"\")&IF(L44>\"\",\".\"&E44,\"\")","v":""},{"$f":"IF(MAX('3-3 위험성평가'!$A$4:$A$423)+1>E44,VLOOKUP(E44,'3-3 위험성평가'!$A$5:$P$423,13,0),\"\")","v":""},null,"하",null,null,null,null,null,null,null,"선택안함",0,{"$f":"IF(MAX('3-3 위험성평가'!$A$4:$A$423)+1>E44,VLOOKUP(E44,'3-3 위험성평가'!$A$5:$Q$423,17,0),\"\")","v":""},"선택",{"$f":"표지!$D$33","v":0},{"$f":"표지!$E$34","v":0},"선택안함",0]
["T20",2,"S40",4,37,{"$f":"IF(MAX('3-3 위험성평가'!$A$4:$A$423)+1>E45,VLOOKUP(E45,'3-3 위험성평가'!$A$5:$P$423,2,0),\"\")","v":""},{"$f":"IF(F45=\"\",\"\",VLOOKUP(VALUE(F45),'1-1 사업장 공정 정보'!$D$15:$P$41,5,0))","v":""},{"$f":"IF(MAX('3-3 위험성평가'!$A$4:$A$423)+1>E45,VLOOKUP(E45,'3-3 위험성평가'!$A$5:$P$423,3,0),\"\")","v":""},{"$f":"IF(MAX('3-3 위험성평가'!$A$4:$A$423)+1>E45,VLOOKUP(E45,'3-3 위험성평가'!$A$5:$P$423,4,0),\"\")","v":""},{"$f":"IF(MAX('3-3 위험성평가'!$A$4:$A$423)+1>E45,VLOOKUP(E45,'3-3 위험성평가'!$A$5:$P$423,5,0),\"\")","v":""},{"$f":"IF(MAX('3-3 위험성평가'!$A$4:$A$423)+1>E45,VLOOKUP(E45,'3-3 위험성평가'!$A$5:$P$423,6,0),\"\")","v":""},{"$f":"IF(MAX('3-3 위험성평가'!$A$4:$A$423)+1>E45,VLOOKUP(E45,'3-3 위험성평가'!$A$5:$P$423,9,0),\"\")","v":""},{"$f":"IF(MAX('3-3 위험성평가'!$A$4:$A$423)+1>E45,VLOOKUP(E45,'3-3 위험성평가'!$A$5:$P$423,12,0),\"\")&IF(L45>\"\",\".\"&E45,\"\")","v":""},{"$f":"IF(MAX('3-3 위험성평가'!$A$4:$A$423)+1>E45,VLOOKUP(E45,'3-3 위험성평가'!$A$5:$P$423,13,0),\"\")","v":""},null,"하",null,null,null,null,null,null,null,"선택안함",0,{"$f":"IF(MAX('3-3 위험성평가'!$A$4:$A$423)+1>E45,VLOOKUP(E45,'3-3 위험성평가'!$A$5:$Q$423,17,0),\"\")","v":""},"선택",{"$f":"표지!$D$33","v":0},{"$f":"표지!$E$34","v":0},"선택안함",0]
["T20",2,"S40",4,38,{"$f":"IF(MAX('3-3 위험성평가'!$A$4:$A$423)+1>E46,VLOOKUP(E46,'3-3 위험성평가'!$A$5:$P$423,2,0),\"\")","v":""},{"$f":"IF(F46=\"\",\"\",VLOOKUP(VALUE(F46),'1-1 사업장 공정 정보'!$D$15:$P$41,5,0))","v":""},{"$f":"IF(MAX('3-3 위험성평가'!$A$4:$A$423)+1>E46,VLOOKUP(E46,'3-3 위험성평가'!$A$5:$P$423,3,0),\"\")","v":""},{"$f":"IF(MAX('3-3 위험성평가'!$A$4:$A$423)+1>E46,VLOOKUP(E46,'3-3 위험성평가'!$A$5:$P$423,4,0),\"\")","v":""},{"$f":"IF(MAX('3-3 위험성평가'!$A$4:$A$423)+1>E46,VLOOKUP(E46,'3-3 위험성평가'!$A$5:$P$423,5,0),\"\")","v":""},{"$f":"IF(MAX('3-3 위험성평가'!$A$4:$A$423)+1>E46,VLOOKUP(E46,'3-3 위험성평가'!$A$5:$P$423,6,0),\"\")","v":""},{"$f":"IF(MAX('3-3 위험성평가'!$A$4:$A$423)+1>E46,VLOOKUP(E46,'3-3 위험성평가'!$A$5:$P$423,9,0),\"\")","v":""},{"$f":"IF(MAX('3-3 위험성평가'!$A$4:$A$423)+1>E46,VLOOKUP(E46,'3-3 위험성평가'!$A$5:$P$423,12,0),\"\")&IF(L46>\"\",\".\"&E46,\"\")","v":""},{"$f":"IF(MAX('3-3 위험성평가'!$A$4:$A$423)+1>E46,VLOOKUP(E46,'3-3 위험성평가'!$A$5:$P$423,13,0),\"\")","v":""},null,"하",null,null,null,null,null,null,null,"선택안함",0,{"$f":"IF(MAX('3-3 위험성평가'!$A$4:$A$423)+1>E46,VLOOKUP(E46,'3-3 위험성평가'!$A$5:$Q$423,17,0),\"\")","v":""},"선택",{"$f":"표지!$D$33","v":0},{"$f":"표지!$E$34","v":0},"선택안함",0]
["T20",2,"S40",4,39,{"$f":"IF(MAX('3-3 위험성평가'!$A$4:$A$423)+1>E47,VLOOKUP(E47,'3-3 위험성평가'!$A$5:$P$423,2,0),\"\")","v":""},{"$f":"IF(F47=\"\",\"\",VLOOKUP(VALUE(F47),'1-1 사업장 공정 정보'!$D$15:$P$41,5,0))","v":""},{"$f":"IF(MAX('3-3 위험성평가'!$A$4:$A$423)+1>E47,VLOOKUP(E47,'3-3 위험성평가'!$A$5:$P$423,3,0),\"\")","v":""},{"$f":"IF(MAX('3-3 위험성평가'!$A$4:$A$423)+1>E47,VLOOKUP(E47,'3-3 위험성평가'!$A$5:$P$423,4,0),\"\")","v":""},{"$f":"IF(MAX('3-3 위험성평가'!$A$4:$A$423)+1>E47,VLOOKUP(E47,'3-3 위험성평가'!$A$5:$P$423,5,0),\"\")","v":""},{"$f":"IF(MAX('3-3 위험성평가'!$A$4:$A$423)+1>E47,VLOOKUP(E47,'3-3 위험성평가'!$A$5:$P$423,6,0),\"\")","v":""},{"$f":"IF(MAX('3-3 위험성평가'!$A$4:$A$423)+1>E47,VLOOKUP(E47,'3-3 위험성평가'!$A$5:$P$423,9,0),\"\")","v":""},{"$f":"IF(MAX('3-3 위험성평가'!$A$4:$A$423)+1>E47,VLOOKUP(E47,'3-3 위험성평가'!$A$5:$P$423,12,0),\"\")&IF(L47>\"\",\".\"&E47,\"\")","v":""},{"$f":"IF(MAX('3-3 위험성평가'!$A$4:$A$423)+1>E47,VLOOKUP(E47,'3-3 위험성평가'!$A$5:$P$423,13,0),\"\")","v":""},null,"하",null,null,null,null,null,null,null,"선택안함",0,{"$f":"IF(MAX('3-3 위험성평가'!$A$4:$A$423)+1>E47,VLOOKUP(E47,'3-3 위험성평가'!$A$5:$Q$423,17,0),\"\")","v":""},"선택",{"$f":"표지!$D$33","v":0},{"$f":"표지!$E$34","v":0},"선택안함",0]
["T20",2,"S40",4,40,{"$f":"IF(MAX('3-3 위험성평가'!$A$4:$A$423)+1>E48,VLOOKUP(E48,'3-3 위험성평가'!$A$5:$P$423,2,0),\"\")","v":""},{"$f":"IF(F48=\"\",\"\",VLOOKUP(VALUE(F48),'1-1 사업장 공정 정보'!$D$15:$P$41,5,0))","v":""},{"$f":"IF(MAX('3-3 위험성평가'!$A$4:$A$423)+1>E48,VLOOKUP(E48,'3-3 위험성평가'!$A$5:$P$423,3,0),\"\")","v":""},{"$f":"IF(MAX('3-3 위험성평가'!$A$4:$A$423)+1>E48,VLOOKUP(E48,'3-3 위험성평가'!$A$5:$P$423,4,0),\"\")","v":""},{"$f":"IF(MAX('3-3 위험성평가'!$A$4:$A$423)+1>E48,VLOOKUP(E48,'3-3 위험성평가'!$A$5:$P$423,5,0),\"\")","v":""},{"$f":"IF(MAX('3-3 위험성평가'!$A$4:$A$423)+1>E48,VLOOKUP(E48,'3-3 위험성평가'!$A$5:$P$423,6,0),\"\")","v":""},{"$f":"IF(MAX('3-3 위험성평가'!$A$4:$A$423)+1>E48,VLOOKUP(E48,'3-3 위험성평가'!$A$5:$P$423,9,0),\"\")","v":""},{"$f":"IF(MAX('3-3 위험성평가'!$A$4:$A$423)+1>E48,VLOOKUP(E48,'3-3 위험성평가'!$A$5:$P$423,12,0),\"\")&IF(L48>\"\",\".\"&E48,\"\")","v":""},{"$f":"IF(MAX('3-3 위험성평가'!$A$4:$A$423)+1>E48,VLOOKUP(E48,'3-3 위험성평가'!$A$5:$P$423,13,0),\"\")","v":""},null,"하",null,null,null,null,null,null,null,"선택안함",0,{"$f":"IF(MAX('3-3 위험성평가'!$A$4:$A$423)+1>E48,VLOOKUP(E48,'3-3 위험성평가'!$A$5:$Q$423,17,0),\"\")","v":""},"선택",{"$f":"표지!$D$33","v":0},{"$f":"표지!$E$34","v":0},"선택안함",0]
["T20",2,"S40",4,41,{"$f":"IF(MAX('3-3 위험성평가'!$A$4:$A$423)+1>E49,VLOOKUP(E49,'3-3 위험성평가'!$A$5:$P$423,2,0),\"\")","v":""},{"$f":"IF(F49=\"\",\"\",VLOOKUP(VALUE(F49),'1-1 사업장 공정 정보'!$D$15:$P$41,5,0))","v":""},{"$f":"IF(MAX('3-3 위험성평가'!$A$4:$A$423)+1>E49,VLOOKUP(E49,'3-3 위험성평가'!$A$5:$P$423,3,0),\"\")","v":""},{"$f":"IF(MAX('3-3 위험성평가'!$A$4:$A$423)+1>E49,VLOOKUP(E49,'3-3 위험성평가'!$A$5:$P$423,4,0),\"\")","v":""},{"$f":"IF(MAX('3-3 위험성평가'!$A$4:$A$423)+1>E49,VLOOKUP(E49,'3-3 위험성평가'!$A$5:$P$423,5,0),\"\")","v":""},{"$f":"IF(MAX('3-3 위험성평가'!$A$4:$A$423)+1>E49,VLOOKUP(E49,'3-3 위험성평가'!$A$5:$P$423,6,0),\"\")","v":""},{"$f":"IF(MAX('3-3 위험성평가'!$A$4:$A$423)+1>E49,VLOOKUP(E49,'3-3 위험성평가'!$A$5:$P$423,9,0),\"\")","v":""},{"$f":"IF(MAX('3-3 위험성평가'!$A$4:$A$423)+1>E49,VLOOKUP(E49,'3-3 위험성평가'!$A$5:$P$423,12,0),\"\")&IF(L49>\"\",\".\"&E49,\"\")","v":""},{"$f":"IF(MAX('3-3 위험성평가'!$A$4:$A$423)+1>E49,VLOOKUP(E49,'3-3 위험성평가'!$A$5:$P$423,13,0),\"\")","v":""},null,"하",null,null,null,null,null,null,null,"선택안함",0,{"$f":"IF(MAX('3-3 위험성평가'!$A$4:$A$423)+1>E49,VLOOKUP(E49,'3-3 위험성평가'!$A$5:$Q$423,17,0),\"\")","v":""},"선택",{"$f":"표지!$D$33","v":0},{"$f":"표지!$E$34","v":0},"선택안함",0]
["T20",2,"S40",4,42,{"$f":"IF(MAX('3-3 위험성평가'!$A$4:$A$423)+1>E50,VLOOKUP(E50,'3-3 위험성평가'!$A$5:$P$423,2,0),\"\")","v":""},{"$f":"IF(F50=\"\",\"\",VLOOKUP(VALUE(F50),'1-1 사업장 공정 정보'!$D$15:$P$41,5,0))","v":""},{"$f":"IF(MAX('3-3 위험성평가'!$A$4:$A$423)+1>E50,VLOOKUP(E50,'3-3 위험성평가'!$A$5:$P$423,3,0),\"\")","v":""},{"$f":"IF(MAX('3-3 위험성평가'!$A$4:$A$423)+1>E50,VLOOKUP(E50,'3-3 위험성평가'!$A$5:$P$423,4,0),\"\")","v":""},{"$f":"IF(MAX('3-3 위험성평가'!$A$4:$A$423)+1>E50,VLOOKUP(E50,'3-3 위험성평가'!$A$5:$P$423,5,0),\"\")","v":""},{"$f":"IF(MAX('3-3 위험성평가'!$A$4:$A$423)+1>E50,VLOOKUP(E50,'3-3 위험성평가'!$A$5:$P$423,6,0),\"\")","v":""},{"$f":"IF(MAX('3-3 위험성평가'!$A$4:$A$423)+1>E50,VLOOKUP(E50,'3-3 위험성평가'!$A$5:$P$423,9,0),\"\")","v":""},{"$f":"IF(MAX('3-3 위험성평가'!$A$4:$A$423)+1>E50,VLOOKUP(E50,'3-3 위험성평가'!$A$5:$P$423,12,0),\"\")&IF(L50>\"\",\".\"&E50,\"\")","v":""},{"$f":"IF(MAX('3-3 위험성평가'!$A$4:$A$423)+1>E50,VLOOKUP(E50,'3-3 위험성평가'!$A$5:$P$423,13,0),\"\")","v":""},null,"하",null,null,null,null,null,null,null,"선택안함",0,{"$f":"IF(MAX('3-3 위험성평가'!$A$4:$A$423)+1>E50,VLOOKUP(E50,'3-3 위험성평가'!$A$5:$Q$423,17,0),\"\")","v":""},"선택",{"$f":"표지!$D$33","v":0},{"$f":"표지!$E$34","v":0},"선택안함",0]
["T20",2,"S40",4,43,{"$f":"IF(MAX('3-3 위험성평가'!$A$4:$A$423)+1>E51,VLOOKUP(E51,'3-3 위험성평가'!$A$5:$P$423,2,0),\"\")","v":""},{"$f":"IF(F51=\"\",\"\",VLOOKUP(VALUE(F51),'1-1 사업장 공정 정보'!$D$15:$P$41,5,0))","v":""},{"$f":"IF(MAX('3-3 위험성평가'!$A$4:$A$423)+1>E51,VLOOKUP(E51,'3-3 위험성평가'!$A$5:$P$423,3,0),\"\")","v":""},{"$f":"IF(MAX('3-3 위험성평가'!$A$4:$A$423)+1>E51,VLOOKUP(E51,'3-3 위험성평가'!$A$5:$P$423,4,0),\"\")","v":""},{"$f":"IF(MAX('3-3 위험성평가'!$A$4:$A$423)+1>E51,VLOOKUP(E51,'3-3 위험성평가'!$A$5:$P$423,5,0),\"\")","v":""},{"$f":"IF(MAX('3-3 위험성평가'!$A$4:$A$423)+1>E51,VLOOKUP(E51,'3-3 위험성평가'!$A$5:$P$423,6,0),\"\")","v":""},{"$f":"IF(MAX('3-3 위험성평가'!$A$4:$A$423)+1>E51,VLOOKUP(E51,'3-3 위험성평가'!$A$5:$P$423,9,0),\"\")","v":""},{"$f":"IF(MAX('3-3 위험성평가'!$A$4:$A$423)+1>E51,VLOOKUP(E51,'3-3 위험성평가'!$A$5:$P$423,12,0),\"\")&IF(L51>\"\",\".\"&E51,\"\")","v":""},{"$f":"IF(MAX('3-3 위험성평가'!$A$4:$A$423)+1>E51,VLOOKUP(E51,'3-3 위험성평가'!$A$5:$P$423,13,0),\"\")","v":""},null,"하",null,null,null,null,null,null,null,"선택안함",0,{"$f":"IF(MAX('3-3 위험성평가'!$A$4:$A$423)+1>E51,VLOOKUP(E51,'3-3 위험성평가'!$A$5:$Q$423,17,0),\"\")","v":""},"선택",{"$f":"표지!$D$33","v":0},{"$f":"표지!$E$34","v":0},"선택안함",0]
["T20",2,"S40",4,44,{"$f":"IF(MAX('3-3 위험성평가'!$A$4:$A$423)+1>E52,VLOOKUP(E52,'3-3 위험성평가'!$A$5:$P$423,2,0),\"\")","v":""},{"$f":"IF(F52=\"\",\"\",VLOOKUP(VALUE(F52),'1-1 사업장 공정 정보'!$D$15:$P$41,5,0))","v":""},{"$f":"IF(MAX('3-3 위험성평가'!$A$4:$A$423)+1>E52,VLOOKUP(E52,'3-3 위험성평가'!$A$5:$P$423,3,0),\"\")","v":""},{"$f":"IF(MAX('3-3 위험성평가'!$A$4:$A$423)+1>E52,VLOOKUP(E52,'3-3 위험성평가'!$A$5:$P$423,4,0),\"\")","v":""},{"$f":"IF(MAX('3-3 위험성평가'!$A$4:$A$423)+1>E52,VLOOKUP(E52,'3-3 위험성평가'!$A$5:$P$423,5,0),\"\")","v":""},{"$f":"IF(MAX('3-3 위험성평가'!$A$4:$A$423)+1>E52,VLOOKUP(E52,'3-3 위험성평가'!$A$5:$P$423,6,0),\"\")","v":""},{"$f":"IF(MAX('3-3 위험성평가'!$A$4:$A$423)+1>E52,VLOOKUP(E52,'3-3 위험성평가'!$A$5:$P$423,9,0),\"\")","v":""},{"$f":"IF(MAX('3-3 위험성평가'!$A$4:$A$423)+1>E52,VLOOKUP(E52,'3-3 위험성평가'!$A$5:$P$423,12,0),\"\")&IF(L52>\"\",\".\"&E52,\"\")","v":""},{"$f":"IF(MAX('3-3 위험성평가'!$A$4:$A$423)+1>E52,VLOOKUP(E52,'3-3 위험성평가'!$A$5:$P$423,13,0),\"\")","v":""},null,"하",null,null,null,null,null,null,null,"선택안함",0,{"$f":"IF(MAX('3-3 위험성평가'!$A$4:$A$423)+1>E52,VLOOKUP(E52,'3-3 위험성평가'!$A$5:$Q$423,17,0),\"\")","v":""},"선택",{"$f":"표지!$D$33","v":0},{"$f":"표지!$E$34","v":0},"선택안함",0]
["T20",2,"S40",4,45,{"$f":"IF(MAX('3-3 위험성평가'!$A$4:$A$423)+1>E53,VLOOKUP(E53,'3-3 위험성평가'!$A$5:$P$423,2,0),\"\")","v":""},{"$f":"IF(F53=\"\",\"\",VLOOKUP(VALUE(F53),'1-1 사업장 공정 정보'!$D$15:$P$41,5,0))","v":""},{"$f":"IF(MAX('3-3 위험성평가'!$A$4:$A$423)+1>E53,VLOOKUP(E53,'3-3 위험성평가'!$A$5:$P$423,3,0),\"\")","v":""},{"$f":"IF(MAX('3-3 위험성평가'!$A$4:$A$423)+1>E53,VLOOKUP(E53,'3-3 위험성평가'!$A$5:$P$423,4,0),\"\")","v":""},{"$f":"IF(MAX('3-3 위험성평가'!$A$4:$A$423)+1>E53,VLOOKUP(E53,'3-3 위험성평가'!$A$5:$P$423,5,0),\"\")","v":""},{"$f":"IF(MAX('3-3 위험성평가'!$A$4:$A$423)+1>E53,VLOOKUP(E53,'3-3 위험성평가'!$A$5:$P$423,6,0),\"\")","v":""},{"$f":"IF(MAX('3-3 위험성평가'!$A$4:$A$423)+1>E53,VLOOKUP(E53,'3-3 위험성평가'!$A$5:$P$423,9,0),\"\")","v":""},{"$f":"IF(MAX('3-3 위험성평가'!$A$4:$A$423)+1>E53,VLOOKUP(E53,'3-3 위험성평가'!$A$5:$P$423,12,0),\"\")&IF(L53>\"\",\".\"&E53,\"\")","v":""},{"$f":"IF(MAX('3-3 위험성평가'!$A$4:$A$423)+1>E53,VLOOKUP(E53,'3-3 위험성평가'!$A$5:$P$423,13,0),\"\")","v":""},null,"하",null,null,null,null,null,null,null,"선택안함",0,{"$f":"IF(MAX('3-3 위험성평가'!$A$4:$A$423)+1>E53,VLOOKUP(E53,'3-3 위험성평가'!$A$5:$Q$423,17,0),\"\")","v":""},"선택",{"$f":"표지!$D$33","v":0},{"$f":"표지!$E$34","v":0},"선택안함",0]
["T20",2,"S40",4,46,{"$f":"IF(MAX('3-3 위험성평가'!$A$4:$A$423)+1>E54,VLOOKUP(E54,'3-3 위험성평가'!$A$5:$P$423,2,0),\"\")","v":""},{"$f":"IF(F54=\"\",\"\",VLOOKUP(VALUE(F54),'1-1 사업장 공정 정보'!$D$15:$P$41,5,0))","v":""},{"$f":"IF(MAX('3-3 위험성평가'!$A$4:$A$423)+1>E54,VLOOKUP(E54,'3-3 위험성평가'!$A$5:$P$423,3,0),\"\")","v":""},{"$f":"IF(MAX('3-3 위험성평가'!$A$4:$A$423)+1>E54,VLOOKUP(E54,'3-3 위험성평가'!$A$5:$P$423,4,0),\"\")","v":""},{"$f":"IF(MAX('3-3 위험성평가'!$A$4:$A$423)+1>E54,VLOOKUP(E54,'3-3 위험성평가'!$A$5:$P$423,5,0),\"\")","v":""},{"$f":"IF(MAX('3-3 위험성평가'!$A$4:$A$423)+1>E54,VLOOKUP(E54,'3-3 위험성평가'!$A$5:$P$423,6,0),\"\")","v":""},{"$f":"IF(MAX('3-3 위험성평가'!$A$4:$A$423)+1>E54,VLOOKUP(E54,'3-3 위험성평가'!$A$5:$P$423,9,0),\"\")","v":""},{"$f":"IF(MAX('3-3 위험성평가'!$A$4:$A$423)+1>E54,VLOOKUP(E54,'3-3 위험성평가'!$A$5:$P$423,12,0),\"\")&IF(L54>\"\",\".\"&E54,\"\")","v":""},{"$f":"IF(MAX('3-3 위험성평가'!$A$4:$A$423)+1>E54,VLOOKUP(E54,'3-3 위험성평가'!$A$5:$P$423,13,0),\"\")","v":""},null,"하",null,null,null,null,null,null,null,"선택안함",0,{"$f":"IF(MAX('3-3 위험성평가'!$A$4:$A$423)+1>E54,VLOOKUP(E54,'3-3 위험성평가'!$A$5:$Q$423,17,0),\"\")","v":""},"선택",{"$f":"표지!$D$33","v":0},{"$f":"표지!$E$34","v":0},"선택안함",0]
["T20",2,"S40",4,47,{"$f":"IF(MAX('3-3 위험성평가'!$A$4:$A$423)+1>E55,VLOOKUP(E55,'3-3 위험성평가'!$A$5:$P$423,2,0),\"\")","v":""},{"$f":"IF(F55=\"\",\"\",VLOOKUP(VALUE(F55),'1-1 사업장 공정 정보'!$D$15:$P$41,5,0))","v":""},{"$f":"IF(MAX('3-3 위험성평가'!$A$4:$A$423)+1>E55,VLOOKUP(E55,'3-3 위험성평가'!$A$5:$P$423,3,0),\"\")","v":""},{"$f":"IF(MAX('3-3 위험성평가'!$A$4:$A$423)+1>E55,VLOOKUP(E55,'3-3 위험성평가'!$A$5:$P$423,4,0),\"\")","v":""},{"$f":"IF(MAX('3-3 위험성평가'!$A$4:$A$423)+1>E55,VLOOKUP(E55,'3-3 위험성평가'!$A$5:$P$423,5,0),\"\")","v":""},{"$f":"IF(MAX('3-3 위험성평가'!$A$4:$A$423)+1>E55,VLOOKUP(E55,'3-3 위험성평가'!$A$5:$P$423,6,0),\"\")","v":""},{"$f":"IF(MAX('3-3 위험성평가'!$A$4:$A$423)+1>E55,VLOOKUP(E55,'3-3 위험성평가'!$A$5:$P$423,9,0),\"\")","v":""},{"$f":"IF(MAX('3-3 위험성평가'!$A$4:$A$423)+1>E55,VLOOKUP(E55,'3-3 위험성평가'!$A$5:$P$423,12,0),\"\")&IF(L55>\"\",\".\"&E55,\"\")","v":""},{"$f":"IF(MAX('3-3 위험성평가'!$A$4:$A$423)+1>E55,VLOOKUP(E55,'3-3 위험성평가'!$A$5:$P$423,13,0),\"\")","v":""},null,"하",null,null,null,null,null,null,null,"선택안함",0,{"$f":"IF(MAX('3-3 위험성평가'!$A$4:$A$423)+1>E55,VLOOKUP(E55,'3-3 위험성평가'!$A$5:$Q$423,17,0),\"\")","v":""},"선택",{"$f":"표지!$D$33","v":0},{"$f":"표지!$E$34","v":0},"선택안함",0]
["T20",2,"S40",4,48,{"$f":"IF(MAX('3-3 위험성평가'!$A$4:$A$423)+1>E56,VLOOKUP(E56,'3-3 위험성평가'!$A$5:$P$423,2,0),\"\")","v":""},{"$f":"IF(F56=\"\",\"\",VLOOKUP(VALUE(F56),'1-1 사업장 공정 정보'!$D$15:$P$41,5,0))","v":""},{"$f":"IF(MAX('3-3 위험성평가'!$A$4:$A$423)+1>E56,VLOOKUP(E56,'3-3 위험성평가'!$A$5:$P$423,3,0),\"\")","v":""},{"$f":"IF(MAX('3-3 위험성평가'!$A$4:$A$423)+1>E56,VLOOKUP(E56,'3-3 위험성평가'!$A$5:$P$423,4,0),\"\")","v":""},{"$f":"IF(MAX('3-3 위험성평가'!$A$4:$A$423)+1>E56,VLOOKUP(E56,'3-3 위험성평가'!$A$5:$P$423,5,0),\"\")","v":""},{"$f":"IF(MAX('3-3 위험성평가'!$A$4:$A$423)+1>E56,VLOOKUP(E56,'3-3 위험성평가'!$A$5:$P$423,6,0),\"\")","v":""},{"$f":"IF(MAX('3-3 위험성평가'!$A$4:$A$423)+1>E56,VLOOKUP(E56,'3-3 위험성평가'!$A$5:$P$423,9,0),\"\")","v":""},{"$f":"IF(MAX('3-3 위험성평가'!$A$4:$A$423)+1>E56,VLOOKUP(E56,'3-3 위험성평가'!$A$5:$P$423,12,0),\"\")&IF(L56>\"\",\".\"&E56,\"\")","v":""},{"$f":"IF(MAX('3-3 위험성평가'!$A$4:$A$423)+1>E56,VLOOKUP(E56,'3-3 위험성평가'!$A$5:$P$423,13,0),\"\")","v":""},null,"하",null,null,null,null,null,null,null,"선택안함",0,{"$f":"IF(MAX('3-3 위험성평가'!$A$4:$A$423)+1>E56,VLOOKUP(E56,'3-3 위험성평가'!$A$5:$Q$423,17,0),\"\")","v":""},"선택",{"$f":"표지!$D$33","v":0},{"$f":"표지!$E$34","v":0},"선택안함",0]
["T20",2,"S40",4,49,{"$f":"IF(MAX('3-3 위험성평가'!$A$4:$A$423)+1>E57,VLOOKUP(E57,'3-3 위험성평가'!$A$5:$P$423,2,0),\"\")","v":""},{"$f":"IF(F57=\"\",\"\",VLOOKUP(VALUE(F57),'1-1 사업장 공정 정보'!$D$15:$P$41,5,0))","v":""},{"$f":"IF(MAX('3-3 위험성평가'!$A$4:$A$423)+1>E57,VLOOKUP(E57,'3-3 위험성평가'!$A$5:$P$423,3,0),\"\")","v":""},{"$f":"IF(MAX('3-3 위험성평가'!$A$4:$A$423)+1>E57,VLOOKUP(E57,'3-3 위험성평가'!$A$5:$P$423,4,0),\"\")","v":""},{"$f":"IF(MAX('3-3 위험성평가'!$A$4:$A$423)+1>E57,VLOOKUP(E57,'3-3 위험성평가'!$A$5:$P$423,5,0),\"\")","v":""},{"$f":"IF(MAX('3-3 위험성평가'!$A$4:$A$423)+1>E57,VLOOKUP(E57,'3-3 위험성평가'!$A$5:$P$423,6,0),\"\")","v":""},{"$f":"IF(MAX('3-3 위험성평가'!$A$4:$A$423)+1>E57,VLOOKUP(E57,'3-3 위험성평가'!$A$5:$P$423,9,0),\"\")","v":""},{"$f":"IF(MAX('3-3 위험성평가'!$A$4:$A$423)+1>E57,VLOOKUP(E57,'3-3 위험성평가'!$A$5:$P$423,12,0),\"\")&IF(L57>\"\",\".\"&E57,\"\")","v":""},{"$f":"IF(MAX('3-3 위험성평가'!$A$4:$A$423)+1>E57,VLOOKUP(E57,'3-3 위험성평가'!$A$5:$P$423,13,0),\"\")","v":""},null,"하",null,null,null,null,null,null,null,"선택안함",0,{"$f":"IF(MAX('3-3 위험성평가'!$A$4:$A$423)+1>E57,VLOOKUP(E57,'3-3 위험성평가'!$A$5:$Q$423,17,0),\"\")","v":""},"선택",{"$f":"표지!$D$33","v":0},{"$f":"표지!$E$34","v":0},"선택안함",0]
["T20",2,"S40",4,50,{"$f":"IF(MAX('3-3 위험성평가'!$A$4:$A$423)+1>E58,VLOOKUP(E58,'3-3 위험성평가'!$A$5:$P$423,2,0),\"\")","v":""},{"$f":"IF(F58=\"\",\"\",VLOOKUP(VALUE(F58),'1-1 사업장 공정 정보'!$D$15:$P$41,5,0))","v":""},{"$f":"IF(MAX('3-3 위험성평가'!$A$4:$A$423)+1>E58,VLOOKUP(E58,'3-3 위험성평가'!$A$5:$P$423,3,0),\"\")","v":""},{"$f":"IF(MAX('3-3 위험성평가'!$A$4:$A$423)+1>E58,VLOOKUP(E58,'3-3 위험성평가'!$A$5:$P$423,4,0),\"\")","v":""},{"$f":"IF(MAX('3-3 위험성평가'!$A$4:$A$423)+1>E58,VLOOKUP(E58,'3-3 위험성평가'!$A$5:$P$423,5,0),\"\")","v":""},{"$f":"IF(MAX('3-3 위험성평가'!$A$4:$A$423)+1>E58,VLOOKUP(E58,'3-3 위험성평가'!$A$5:$P$423,6,0),\"\")","v":""},{"$f":"IF(MAX('3-3 위험성평가'!$A$4:$A$423)+1>E58,VLOOKUP(E58,'3-3 위험성평가'!$A$5:$P$423,9,0),\"\")","v":""},{"$f":"IF(MAX('3-3 위험성평가'!$A$4:$A$423)+1>E58,VLOOKUP(E58,'3-3 위험성평가'!$A$5:$P$423,12,0),\"\")&IF(L58>\"\",\".\"&E58,\"\")","v":""},{"$f":"IF(MAX('3-3 위험성평가'!$A$4:$A$423)+1>E58,VLOOKUP(E58,'3-3 위험성평가'!$A$5:$P$423,13,0),\"\")","v":""},null,"하",null,null,null,null,null,null,null,"선택안함",0,{"$f":"IF(MAX('3-3 위험성평가'!$A$4:$A$423)+1>E58,VLOOKUP(E58,'3-3 위험성평가'!$A$5:$Q$423,17,0),\"\")","v":""},"선택",{"$f":"표지!$D$33","v":0},{"$f":"표지!$E$34","v":0},"선택안함",0]
["T20",2,"S40",4,51,{"$f":"IF(MAX('3-3 위험성평가'!$A$4:$A$423)+1>E59,VLOOKUP(E59,'3-3 위험성평가'!$A$5:$P$423,2,0),\"\")","v":""},{"$f":"IF(F59=\"\",\"\",VLOOKUP(VALUE(F59),'1-1 사업장 공정 정보'!$D$15:$P$41,5,0))","v":""},{"$f":"IF(MAX('3-3 위험성평가'!$A$4:$A$423)+1>E59,VLOOKUP(E59,'3-3 위험성평가'!$A$5:$P$423,3,0),\"\")","v":""},{"$f":"IF(MAX('3-3 위험성평가'!$A$4:$A$423)+1>E59,VLOOKUP(E59,'3-3 위험성평가'!$A$5:$P$423,4,0),\"\")","v":""},{"$f":"IF(MAX('3-3 위험성평가'!$A$4:$A$423)+1>E59,VLOOKUP(E59,'3-3 위험성평가'!$A$5:$P$423,5,0),\"\")","v":""},{"$f":"IF(MAX('3-3 위험성평가'!$A$4:$A$423)+1>E59,VLOOKUP(E59,'3-3 위험성평가'!$A$5:$P$423,6,0),\"\")","v":""},{"$f":"IF(MAX('3-3 위험성평가'!$A$4:$A$423)+1>E59,VLOOKUP(E59,'3-3 위험성평가'!$A$5:$P$423,9,0),\"\")","v":""},{"$f":"IF(MAX('3-3 위험성평가'!$A$4:$A$423)+1>E59,VLOOKUP(E59,'3-3 위험성평가'!$A$5:$P$423,12,0),\"\")&IF(L59>\"\",\".\"&E59,\"\")","v":""},{"$f":"IF(MAX('3-3 위험성평가'!$A$4:$A$423)+1>E59,VLOOKUP(E59,'3-3 위험성평가'!$A$5:$P$423,13,0),\"\")","v":""},null,"하",null,null,null,null,null,null,null,"선택안함",0,{"$f":"IF(MAX('3-3 위험성평가'!$A$4:$A$423)+1>E59,VLOOKUP(E59,'3-3 위험성평가'!$A$5:$Q$423,17,0),\"\")","v":""},"선택",{"$f":"표지!$D$33","v":0},{"$f":"표지!$E$34","v":0},"선택안함",0]
["T20",2,"S40",4,52,{"$f":"IF(MAX('3-3 위험성평가'!$A$4:$A$423)+1>E60,VLOOKUP(E60,'3-3 위험성평가'!$A$5:$P$423,2,0),\"\")","v":""},{"$f":"IF(F60=\"\",\"\",VLOOKUP(VALUE(F60),'1-1 사업장 공정 정보'!$D$15:$P$41,5,0))","v":""},{"$f":"IF(MAX('3-3 위험성평가'!$A$4:$A$423)+1>E60,VLOOKUP(E60,'3-3 위험성평가'!$A$5:$P$423,3,0),\"\")","v":""},{"$f":"IF(MAX('3-3 위험성평가'!$A$4:$A$423)+1>E60,VLOOKUP(E60,'3-3 위험성평가'!$A$5:$P$423,4,0),\"\")","v":""},{"$f":"IF(MAX('3-3 위험성평가'!$A$4:$A$423)+1>E60,VLOOKUP(E60,'3-3 위험성평가'!$A$5:$P$423,5,0),\"\")","v":""},{"$f":"IF(MAX('3-3 위험성평가'!$A$4:$A$423)+1>E60,VLOOKUP(E60,'3-3 위험성평가'!$A$5:$P$423,6,0),\"\")","v":""},{"$f":"IF(MAX('3-3 위험성평가'!$A$4:$A$423)+1>E60,VLOOKUP(E60,'3-3 위험성평가'!$A$5:$P$423,9,0),\"\")","v":""},{"$f":"IF(MAX('3-3 위험성평가'!$A$4:$A$423)+1>E60,VLOOKUP(E60,'3-3 위험성평가'!$A$5:$P$423,12,0),\"\")&IF(L60>\"\",\".\"&E60,\"\")","v":""},{"$f":"IF(MAX('3-3 위험성평가'!$A$4:$A$423)+1>E60,VLOOKUP(E60,'3-3 위험성평가'!$A$5:$P$423,13,0),\"\")","v":""},null,"하",null,null,null,null,null,null,null,"선택안함",0,{"$f":"IF(MAX('3-3 위험성평가'!$A$4:$A$423)+1>E60,VLOOKUP(E60,'3-3 위험성평가'!$A$5:$Q$423,17,0),\"\")","v":""},"선택",{"$f":"표지!$D$33","v":0},{"$f":"표지!$E$34","v":0},"선택안함",0]
["T20",2,"S40",4,53,{"$f":"IF(MAX('3-3 위험성평가'!$A$4:$A$423)+1>E61,VLOOKUP(E61,'3-3 위험성평가'!$A$5:$P$423,2,0),\"\")","v":""},{"$f":"IF(F61=\"\",\"\",VLOOKUP(VALUE(F61),'1-1 사업장 공정 정보'!$D$15:$P$41,5,0))","v":""},{"$f":"IF(MAX('3-3 위험성평가'!$A$4:$A$423)+1>E61,VLOOKUP(E61,'3-3 위험성평가'!$A$5:$P$423,3,0),\"\")","v":""},{"$f":"IF(MAX('3-3 위험성평가'!$A$4:$A$423)+1>E61,VLOOKUP(E61,'3-3 위험성평가'!$A$5:$P$423,4,0),\"\")","v":""},{"$f":"IF(MAX('3-3 위험성평가'!$A$4:$A$423)+1>E61,VLOOKUP(E61,'3-3 위험성평가'!$A$5:$P$423,5,0),\"\")","v":""},{"$f":"IF(MAX('3-3 위험성평가'!$A$4:$A$423)+1>E61,VLOOKUP(E61,'3-3 위험성평가'!$A$5:$P$423,6,0),\"\")","v":""},{"$f":"IF(MAX('3-3 위험성평가'!$A$4:$A$423)+1>E61,VLOOKUP(E61,'3-3 위험성평가'!$A$5:$P$423,9,0),\"\")","v":""},{"$f":"IF(MAX('3-3 위험성평가'!$A$4:$A$423)+1>E61,VLOOKUP(E61,'3-3 위험성평가'!$A$5:$P$423,12,0),\"\")&IF(L61>\"\",\".\"&E61,\"\")","v":""},{"$f":"IF(MAX('3-3 위험성평가'!$A$4:$A$423)+1>E61,VLOOKUP(E61,'3-3 위험성평가'!$A$5:$P$423,13,0),\"\")","v":""},null,"하",null,null,null,null,null,null,null,"선택안함",0,{"$f":"IF(MAX('3-3 위험성평가'!$A$4:$A$423)+1>E61,VLOOKUP(E61,'3-3 위험성평가'!$A$5:$Q$423,17,0),\"\")","v":""},"선택",{"$f":"표지!$D$33","v":0},{"$f":"표지!$E$34","v":0},"선택안함",0]
["T20",2,"S40",4,54,{"$f":"IF(MAX('3-3 위험성평가'!$A$4:$A$423)+1>E62,VLOOKUP(E62,'3-3 위험성평가'!$A$5:$P$423,2,0),\"\")","v":""},{"$f":"IF(F62=\"\",\"\",VLOOKUP(VALUE(F62),'1-1 사업장 공정 정보'!$D$15:$P$41,5,0))","v":""},{"$f":"IF(MAX('3-3 위험성평가'!$A$4:$A$423)+1>E62,VLOOKUP(E62,'3-3 위험성평가'!$A$5:$P$423,3,0),\"\")","v":""},{"$f":"IF(MAX('3-3 위험성평가'!$A$4:$A$423)+1>E62,VLOOKUP(E62,'3-3 위험성평가'!$A$5:$P$423,4,0),\"\")","v":""},{"$f":"IF(MAX('3-3 위험성평가'!$A$4:$A$423)+1>E62,VLOOKUP(E62,'3-3 위험성평가'!$A$5:$P$423,5,0),\"\")","v":""},{"$f":"IF(MAX('3-3 위험성평가'!$A$4:$A$423)+1>E62,VLOOKUP(E62,'3-3 위험성평가'!$A$5:$P$423,6,0),\"\")","v":""},{"$f":"IF(MAX('3-3 위험성평가'!$A$4:$A$423)+1>E62,VLOOKUP(E62,'3-3 위험성평가'!$A$5:$P$423,9,0),\"\")","v":""},{"$f":"IF(MAX('3-3 위험성평가'!$A$4:$A$423)+1>E62,VLOOKUP(E62,'3-3 위험성평가'!$A$5:$P$423,12,0),\"\")&IF(L62>\"\",\".\"&E62,\"\")","v":""},{"$f":"IF(MAX('3-3 위험성평가'!$A$4:$A$423)+1>E62,VLOOKUP(E62,'3-3 위험성평가'!$A$5:$P$423,13,0),\"\")","v":""},null,"하",null,null,null,null,null,null,null,"선택안함",0,{"$f":"IF(MAX('3-3 위험성평가'!$A$4:$A$423)+1>E62,VLOOKUP(E62,'3-3 위험성평가'!$A$5:$Q$423,17,0),\"\")","v":""},"선택",{"$f":"표지!$D$33","v":0},{"$f":"표지!$E$34","v":0},"선택안함",0]
["T20",2,"S40",4,55,{"$f":"IF(MAX('3-3 위험성평가'!$A$4:$A$423)+1>E63,VLOOKUP(E63,'3-3 위험성평가'!$A$5:$P$423,2,0),\"\")","v":""},{"$f":"IF(F63=\"\",\"\",VLOOKUP(VALUE(F63),'1-1 사업장 공정 정보'!$D$15:$P$41,5,0))","v":""},{"$f":"IF(MAX('3-3 위험성평가'!$A$4:$A$423)+1>E63,VLOOKUP(E63,'3-3 위험성평가'!$A$5:$P$423,3,0),\"\")","v":""},{"$f":"IF(MAX('3-3 위험성평가'!$A$4:$A$423)+1>E63,VLOOKUP(E63,'3-3 위험성평가'!$A$5:$P$423,4,0),\"\")","v":""},{"$f":"IF(MAX('3-3 위험성평가'!$A$4:$A$423)+1>E63,VLOOKUP(E63,'3-3 위험성평가'!$A$5:$P$423,5,0),\"\")","v":""},{"$f":"IF(MAX('3-3 위험성평가'!$A$4:$A$423)+1>E63,VLOOKUP(E63,'3-3 위험성평가'!$A$5:$P$423,6,0),\"\")","v":""},{"$f":"IF(MAX('3-3 위험성평가'!$A$4:$A$423)+1>E63,VLOOKUP(E63,'3-3 위험성평가'!$A$5:$P$423,9,0),\"\")","v":""},{"$f":"IF(MAX('3-3 위험성평가'!$A$4:$A$423)+1>E63,VLOOKUP(E63,'3-3 위험성평가'!$A$5:$P$423,12,0),\"\")&IF(L63>\"\",\".\"&E63,\"\")","v":""},{"$f":"IF(MAX('3-3 위험성평가'!$A$4:$A$423)+1>E63,VLOOKUP(E63,'3-3 위험성평가'!$A$5:$P$423,13,0),\"\")","v":""},null,"하",null,null,null,null,null,null,null,"선택안함",0,{"$f":"IF(MAX('3-3 위험성평가'!$A$4:$A$423)+1>E63,VLOOKUP(E63,'3-3 위험성평가'!$A$5:$Q$423,17,0),\"\")","v":""},"선택",{"$f":"표지!$D$33","v":0},{"$f":"표지!$E$34","v":0},"선택안함",0]
["T20",2,"S40",4,56,{"$f":"IF(MAX('3-3 위험성평가'!$A$4:$A$423)+1>E64,VLOOKUP(E64,'3-3 위험성평가'!$A$5:$P$423,2,0),\"\")","v":""},{"$f":"IF(F64=\"\",\"\",VLOOKUP(VALUE(F64),'1-1 사업장 공정 정보'!$D$15:$P$41,5,0))","v":""},{"$f":"IF(MAX('3-3 위험성평가'!$A$4:$A$423)+1>E64,VLOOKUP(E64,'3-3 위험성평가'!$A$5:$P$423,3,0),\"\")","v":""},{"$f":"IF(MAX('3-3 위험성평가'!$A$4:$A$423)+1>E64,VLOOKUP(E64,'3-3 위험성평가'!$A$5:$P$423,4,0),\"\")","v":""},{"$f":"IF(MAX('3-3 위험성평가'!$A$4:$A$423)+1>E64,VLOOKUP(E64,'3-3 위험성평가'!$A$5:$P$423,5,0),\"\")","v":""},{"$f":"IF(MAX('3-3 위험성평가'!$A$4:$A$423)+1>E64,VLOOKUP(E64,'3-3 위험성평가'!$A$5:$P$423,6,0),\"\")","v":""},{"$f":"IF(MAX('3-3 위험성평가'!$A$4:$A$423)+1>E64,VLOOKUP(E64,'3-3 위험성평가'!$A$5:$P$423,9,0),\"\")","v":""},{"$f":"IF(MAX('3-3 위험성평가'!$A$4:$A$423)+1>E64,VLOOKUP(E64,'3-3 위험성평가'!$A$5:$P$423,12,0),\"\")&IF(L64>\"\",\".\"&E64,\"\")","v":""},{"$f":"IF(MAX('3-3 위험성평가'!$A$4:$A$423)+1>E64,VLOOKUP(E64,'3-3 위험성평가'!$A$5:$P$423,13,0),\"\")","v":""},null,"하",null,null,null,null,null,null,null,"선택안함",0,{"$f":"IF(MAX('3-3 위험성평가'!$A$4:$A$423)+1>E64,VLOOKUP(E64,'3-3 위험성평가'!$A$5:$Q$423,17,0),\"\")","v":""},"선택",{"$f":"표지!$D$33","v":0},{"$f":"표지!$E$34","v":0},"선택안함",0]
["T20",2,"S40",4,57,{"$f":"IF(MAX('3-3 위험성평가'!$A$4:$A$423)+1>E65,VLOOKUP(E65,'3-3 위험성평가'!$A$5:$P$423,2,0),\"\")","v":""},{"$f":"IF(F65=\"\",\"\",VLOOKUP(VALUE(F65),'1-1 사업장 공정 정보'!$D$15:$P$41,5,0))","v":""},{"$f":"IF(MAX('3-3 위험성평가'!$A$4:$A$423)+1>E65,VLOOKUP(E65,'3-3 위험성평가'!$A$5:$P$423,3,0),\"\")","v":""},{"$f":"IF(MAX('3-3 위험성평가'!$A$4:$A$423)+1>E65,VLOOKUP(E65,'3-3 위험성평가'!$A$5:$P$423,4,0),\"\")","v":""},{"$f":"IF(MAX('3-3 위험성평가'!$A$4:$A$423)+1>E65,VLOOKUP(E65,'3-3 위험성평가'!$A$5:$P$423,5,0),\"\")","v":""},{"$f":"IF(MAX('3-3 위험성평가'!$A$4:$A$423)+1>E65,VLOOKUP(E65,'3-3 위험성평가'!$A$5:$P$423,6,0),\"\")","v":""},{"$f":"IF(MAX('3-3 위험성평가'!$A$4:$A$423)+1>E65,VLOOKUP(E65,'3-3 위험성평가'!$A$5:$P$423,9,0),\"\")","v":""},{"$f":"IF(MAX('3-3 위험성평가'!$A$4:$A$423)+1>E65,VLOOKUP(E65,'3-3 위험성평가'!$A$5:$P$423,12,0),\"\")&IF(L65>\"\",\".\"&E65,\"\")","v":""},{"$f":"IF(MAX('3-3 위험성평가'!$A$4:$A$423)+1>E65,VLOOKUP(E65,'3-3 위험성평가'!$A$5:$P$423,13,0),\"\")","v":""},null,"하",null,null,null,null,null,null,null,"선택안함",0,{"$f":"IF(MAX('3-3 위험성평가'!$A$4:$A$423)+1>E65,VLOOKUP(E65,'3-3 위험성평가'!$A$5:$Q$423,17,0),\"\")","v":""},"선택",{"$f":"표지!$D$33","v":0},{"$f":"표지!$E$34","v":0},"선택안함",0]
["T20",2,"S40",4,58,{"$f":"IF(MAX('3-3 위험성평가'!$A$4:$A$423)+1>E66,VLOOKUP(E66,'3-3 위험성평가'!$A$5:$P$423,2,0),\"\")","v":""},{"$f":"IF(F66=\"\",\"\",VLOOKUP(VALUE(F66),'1-1 사업장 공정 정보'!$D$15:$P$41,5,0))","v":""},{"$f":"IF(MAX('3-3 위험성평가'!$A$4:$A$423)+1>E66,VLOOKUP(E66,'3-3 위험성평가'!$A$5:$P$423,3,0),\"\")","v":""},{"$f":"IF(MAX('3-3 위험성평가'!$A$4:$A$423)+1>E66,VLOOKUP(E66,'3-3 위험성평가'!$A$5:$P$423,4,0),\"\")","v":""},{"$f":"IF(MAX('3-3 위험성평가'!$A$4:$A$423)+1>E66,VLOOKUP(E66,'3-3 위험성평가'!$A$5:$P$423,5,0),\"\")","v":""},{"$f":"IF(MAX('3-3 위험성평가'!$A$4:$A$423)+1>E66,VLOOKUP(E66,'3-3 위험성평가'!$A$5:$P$423,6,0),\"\")","v":""},{"$f":"IF(MAX('3-3 위험성평가'!$A$4:$A$423)+1>E66,VLOOKUP(E66,'3-3 위험성평가'!$A$5:$P$423,9,0),\"\")","v":""},{"$f":"IF(MAX('3-3 위험성평가'!$A$4:$A$423)+1>E66,VLOOKUP(E66,'3-3 위험성평가'!$A$5:$P$423,12,0),\"\")&IF(L66>\"\",\".\"&E66,\"\")","v":""},{"$f":"IF(MAX('3-3 위험성평가'!$A$4:$A$423)+1>E66,VLOOKUP(E66,'3-3 위험성평가'!$A$5:$P$423,13,0),\"\")","v":""},null,"하",null,null,null,null,null,null,null,"선택안함",0,{"$f":"IF(MAX('3-3 위험성평가'!$A$4:$A$423)+1>E66,VLOOKUP(E66,'3-3 위험성평가'!$A$5:$Q$423,17,0),\"\")","v":""},"선택",{"$f":"표지!$D$33","v":0},{"$f":"표지!$E$34","v":0},"선택안함",0]
["T20",2,"S40",4,59,{"$f":"IF(MAX('3-3 위험성평가'!$A$4:$A$423)+1>E67,VLOOKUP(E67,'3-3 위험성평가'!$A$5:$P$423,2,0),\"\")","v":""},{"$f":"IF(F67=\"\",\"\",VLOOKUP(VALUE(F67),'1-1 사업장 공정 정보'!$D$15:$P$41,5,0))","v":""},{"$f":"IF(MAX('3-3 위험성평가'!$A$4:$A$423)+1>E67,VLOOKUP(E67,'3-3 위험성평가'!$A$5:$P$423,3,0),\"\")","v":""},{"$f":"IF(MAX('3-3 위험성평가'!$A$4:$A$423)+1>E67,VLOOKUP(E67,'3-3 위험성평가'!$A$5:$P$423,4,0),\"\")","v":""},{"$f":"IF(MAX('3-3 위험성평가'!$A$4:$A$423)+1>E67,VLOOKUP(E67,'3-3 위험성평가'!$A$5:$P$423,5,0),\"\")","v":""},{"$f":"IF(MAX('3-3 위험성평가'!$A$4:$A$423)+1>E67,VLOOKUP(E67,'3-3 위험성평가'!$A$5:$P$423,6,0),\"\")","v":""},{"$f":"IF(MAX('3-3 위험성평가'!$A$4:$A$423)+1>E67,VLOOKUP(E67,'3-3 위험성평가'!$A$5:$P$423,9,0),\"\")","v":""},{"$f":"IF(MAX('3-3 위험성평가'!$A$4:$A$423)+1>E67,VLOOKUP(E67,'3-3 위험성평가'!$A$5:$P$423,12,0),\"\")&IF(L67>\"\",\".\"&E67,\"\")","v":""},{"$f":"IF(MAX('3-3 위험성평가'!$A$4:$A$423)+1>E67,VLOOKUP(E67,'3-3 위험성평가'!$A$5:$P$423,13,0),\"\")","v":""},null,"하",null,null,null,null,null,null,null,"선택안함",0,{"$f":"IF(MAX('3-3 위험성평가'!$A$4:$A$423)+1>E67,VLOOKUP(E67,'3-3 위험성평가'!$A$5:$Q$423,17,0),\"\")","v":""},"선택",{"$f":"표지!$D$33","v":0},{"$f":"표지!$E$34","v":0},"선택안함",0]
["T20",2,"S40",4,60,{"$f":"IF(MAX('3-3 위험성평가'!$A$4:$A$423)+1>E68,VLOOKUP(E68,'3-3 위험성평가'!$A$5:$P$423,2,0),\"\")","v":""},{"$f":"IF(F68=\"\",\"\",VLOOKUP(VALUE(F68),'1-1 사업장 공정 정보'!$D$15:$P$41,5,0))","v":""},{"$f":"IF(MAX('3-3 위험성평가'!$A$4:$A$423)+1>E68,VLOOKUP(E68,'3-3 위험성평가'!$A$5:$P$423,3,0),\"\")","v":""},{"$f":"IF(MAX('3-3 위험성평가'!$A$4:$A$423)+1>E68,VLOOKUP(E68,'3-3 위험성평가'!$A$5:$P$423,4,0),\"\")","v":""},{"$f":"IF(MAX('3-3 위험성평가'!$A$4:$A$423)+1>E68,VLOOKUP(E68,'3-3 위험성평가'!$A$5:$P$423,5,0),\"\")","v":""},{"$f":"IF(MAX('3-3 위험성평가'!$A$4:$A$423)+1>E68,VLOOKUP(E68,'3-3 위험성평가'!$A$5:$P$423,6,0),\"\")","v":""},{"$f":"IF(MAX('3-3 위험성평가'!$A$4:$A$423)+1>E68,VLOOKUP(E68,'3-3 위험성평가'!$A$5:$P$423,9,0),\"\")","v":""},{"$f":"IF(MAX('3-3 위험성평가'!$A$4:$A$423)+1>E68,VLOOKUP(E68,'3-3 위험성평가'!$A$5:$P$423,12,0),\"\")&IF(L68>\"\",\".\"&E68,\"\")","v":""},{"$f":"IF(MAX('3-3 위험성평가'!$A$4:$A$423)+1>E68,VLOOKUP(E68,'3-3 위험성평가'!$A$5:$P$423,13,0),\"\")","v":""},null,"하",null,null,null,null,null,null,null,"선택안함",0,{"$f":"IF(MAX('3-3 위험성평가'!$A$4:$A$423)+1>E68,VLOOKUP(E68,'3-3 위험성평가'!$A$5:$Q$423,17,0),\"\")","v":""},"선택",{"$f":"표지!$D$33","v":0},{"$f":"표지!$E$34","v":0},"선택안함",0]
["T20",2,"S40",4,61,{"$f":"IF(MAX('3-3 위험성평가'!$A$4:$A$423)+1>E69,VLOOKUP(E69,'3-3 위험성평가'!$A$5:$P$423,2,0),\"\")","v":""},{"$f":"IF(F69=\"\",\"\",VLOOKUP(VALUE(F69),'1-1 사업장 공정 정보'!$D$15:$P$41,5,0))","v":""},{"$f":"IF(MAX('3-3 위험성평가'!$A$4:$A$423)+1>E69,VLOOKUP(E69,'3-3 위험성평가'!$A$5:$P$423,3,0),\"\")","v":""},{"$f":"IF(MAX('3-3 위험성평가'!$A$4:$A$423)+1>E69,VLOOKUP(E69,'3-3 위험성평가'!$A$5:$P$423,4,0),\"\")","v":""},{"$f":"IF(MAX('3-3 위험성평가'!$A$4:$A$423)+1>E69,VLOOKUP(E69,'3-3 위험성평가'!$A$5:$P$423,5,0),\"\")","v":""},{"$f":"IF(MAX('3-3 위험성평가'!$A$4:$A$423)+1>E69,VLOOKUP(E69,'3-3 위험성평가'!$A$5:$P$423,6,0),\"\")","v":""},{"$f":"IF(MAX('3-3 위험성평가'!$A$4:$A$423)+1>E69,VLOOKUP(E69,'3-3 위험성평가'!$A$5:$P$423,9,0),\"\")","v":""},{"$f":"IF(MAX('3-3 위험성평가'!$A$4:$A$423)+1>E69,VLOOKUP(E69,'3-3 위험성평가'!$A$5:$P$423,12,0),\"\")&IF(L69>\"\",\".\"&E69,\"\")","v":""},{"$f":"IF(MAX('3-3 위험성평가'!$A$4:$A$423)+1>E69,VLOOKUP(E69,'3-3 위험성평가'!$A$5:$P$423,13,0),\"\")","v":""},null,"하",null,null,null,null,null,null,null,"선택안함",0,{"$f":"IF(MAX('3-3 위험성평가'!$A$4:$A$423)+1>E69,VLOOKUP(E69,'3-3 위험성평가'!$A$5:$Q$423,17,0),\"\")","v":""},"선택",{"$f":"표지!$D$33","v":0},{"$f":"표지!$E$34","v":0},"선택안함",0]
["T20",2,"S40",4,62,{"$f":"IF(MAX('3-3 위험성평가'!$A$4:$A$423)+1>E70,VLOOKUP(E70,'3-3 위험성평가'!$A$5:$P$423,2,0),\"\")","v":""},{"$f":"IF(F70=\"\",\"\",VLOOKUP(VALUE(F70),'1-1 사업장 공정 정보'!$D$15:$P$41,5,0))","v":""},{"$f":"IF(MAX('3-3 위험성평가'!$A$4:$A$423)+1>E70,VLOOKUP(E70,'3-3 위험성평가'!$A$5:$P$423,3,0),\"\")","v":""},{"$f":"IF(MAX('3-3 위험성평가'!$A$4:$A$423)+1>E70,VLOOKUP(E70,'3-3 위험성평가'!$A$5:$P$423,4,0),\"\")","v":""},{"$f":"IF(MAX('3-3 위험성평가'!$A$4:$A$423)+1>E70,VLOOKUP(E70,'3-3 위험성평가'!$A$5:$P$423,5,0),\"\")","v":""},{"$f":"IF(MAX('3-3 위험성평가'!$A$4:$A$423)+1>E70,VLOOKUP(E70,'3-3 위험성평가'!$A$5:$P$423,6,0),\"\")","v":""},{"$f":"IF(MAX('3-3 위험성평가'!$A$4:$A$423)+1>E70,VLOOKUP(E70,'3-3 위험성평가'!$A$5:$P$423,9,0),\"\")","v":""},{"$f":"IF(MAX('3-3 위험성평가'!$A$4:$A$423)+1>E70,VLOOKUP(E70,'3-3 위험성평가'!$A$5:$P$423,12,0),\"\")&IF(L70>\"\",\".\"&E70,\"\")","v":""},{"$f":"IF(MAX('3-3 위험성평가'!$A$4:$A$423)+1>E70,VLOOKUP(E70,'3-3 위험성평가'!$A$5:$P$423,13,0),\"\")","v":""},null,"하",null,null,null,null,null,null,null,"선택안함",0,{"$f":"IF(MAX('3-3 위험성평가'!$A$4:$A$423)+1>E70,VLOOKUP(E70,'3-3 위험성평가'!$A$5:$Q$423,17,0),\"\")","v":""},"선택",{"$f":"표지!$D$33","v":0},{"$f":"표지!$E$34","v":0},"선택안함",0]
["T20",2,"S40",4,63,{"$f":"IF(MAX('3-3 위험성평가'!$A$4:$A$423)+1>E71,VLOOKUP(E71,'3-3 위험성평가'!$A$5:$P$423,2,0),\"\")","v":""},{"$f":"IF(F71=\"\",\"\",VLOOKUP(VALUE(F71),'1-1 사업장 공정 정보'!$D$15:$P$41,5,0))","v":""},{"$f":"IF(MAX('3-3 위험성평가'!$A$4:$A$423)+1>E71,VLOOKUP(E71,'3-3 위험성평가'!$A$5:$P$423,3,0),\"\")","v":""},{"$f":"IF(MAX('3-3 위험성평가'!$A$4:$A$423)+1>E71,VLOOKUP(E71,'3-3 위험성평가'!$A$5:$P$423,4,0),\"\")","v":""},{"$f":"IF(MAX('3-3 위험성평가'!$A$4:$A$423)+1>E71,VLOOKUP(E71,'3-3 위험성평가'!$A$5:$P$423,5,0),\"\")","v":""},{"$f":"IF(MAX('3-3 위험성평가'!$A$4:$A$423)+1>E71,VLOOKUP(E71,'3-3 위험성평가'!$A$5:$P$423,6,0),\"\")","v":""},{"$f":"IF(MAX('3-3 위험성평가'!$A$4:$A$423)+1>E71,VLOOKUP(E71,'3-3 위험성평가'!$A$5:$P$423,9,0),\"\")","v":""},{"$f":"IF(MAX('3-3 위험성평가'!$A$4:$A$423)+1>E71,VLOOKUP(E71,'3-3 위험성평가'!$A$5:$P$423,12,0),\"\")&IF(L71>\"\",\".\"&E71,\"\")","v":""},{"$f":"IF(MAX('3-3 위험성평가'!$A$4:$A$423)+1>E71,VLOOKUP(E71,'3-3 위험성평가'!$A$5:$P$423,13,0),\"\")","v":""},null,"하",null,null,null,null,null,null,null,"선택안함",0,{"$f":"IF(MAX('3-3 위험성평가'!$A$4:$A$423)+1>E71,VLOOKUP(E71,'3-3 위험성평가'!$A$5:$Q$423,17,0),\"\")","v":""},"선택",{"$f":"표지!$D$33","v":0},{"$f":"표지!$E$34","v":0},"선택안함",0]
["T20",2,"S40",4,64,{"$f":"IF(MAX('3-3 위험성평가'!$A$4:$A$423)+1>E72,VLOOKUP(E72,'3-3 위험성평가'!$A$5:$P$423,2,0),\"\")","v":""},{"$f":"IF(F72=\"\",\"\",VLOOKUP(VALUE(F72),'1-1 사업장 공정 정보'!$D$15:$P$41,5,0))","v":""},{"$f":"IF(MAX('3-3 위험성평가'!$A$4:$A$423)+1>E72,VLOOKUP(E72,'3-3 위험성평가'!$A$5:$P$423,3,0),\"\")","v":""},{"$f":"IF(MAX('3-3 위험성평가'!$A$4:$A$423)+1>E72,VLOOKUP(E72,'3-3 위험성평가'!$A$5:$P$423,4,0),\"\")","v":""},{"$f":"IF(MAX('3-3 위험성평가'!$A$4:$A$423)+1>E72,VLOOKUP(E72,'3-3 위험성평가'!$A$5:$P$423,5,0),\"\")","v":""},{"$f":"IF(MAX('3-3 위험성평가'!$A$4:$A$423)+1>E72,VLOOKUP(E72,'3-3 위험성평가'!$A$5:$P$423,6,0),\"\")","v":""},{"$f":"IF(MAX('3-3 위험성평가'!$A$4:$A$423)+1>E72,VLOOKUP(E72,'3-3 위험성평가'!$A$5:$P$423,9,0),\"\")","v":""},{"$f":"IF(MAX('3-3 위험성평가'!$A$4:$A$423)+1>E72,VLOOKUP(E72,'3-3 위험성평가'!$A$5:$P$423,12,0),\"\")&IF(L72>\"\",\".\"&E72,\"\")","v":""},{"$f":"IF(MAX('3-3 위험성평가'!$A$4:$A$423)+1>E72,VLOOKUP(E72,'3-3 위험성평가'!$A$5:$P$423,13,0),\"\")","v":""},null,"하",null,null,null,null,null,null,null,"선택안함",0,{"$f":"IF(MAX('3-3 위험성평가'!$A$4:$A$423)+1>E72,VLOOKUP(E72,'3-3 위험성평가'!$A$5:$Q$423,17,0),\"\")","v":""},"선택",{"$f":"표지!$D$33","v":0},{"$f":"표지!$E$34","v":0},"선택안함",0]
[{"$f":"\"T\"&B73&IF(OR(X73=\"선택\",X73=1),1,0)","v":"T20"},2,"S40",4,65,{"$f":"IF(MAX('3-3 위험성평가'!$A$4:$A$423)+1>E73,VLOOKUP(E73,'3-3 위험성평가'!$A$5:$P$423,2,0),\"\")","v":""},{"$f":"IF(F73=\"\",\"\",VLOOKUP(VALUE(F73),'1-1 사업장 공정 정보'!$D$15:$P$41,5,0))","v":""},{"$f":"IF(MAX('3-3 위험성평가'!$A$4:$A$423)+1>E73,VLOOKUP(E73,'3-3 위험성평가'!$A$5:$P$423,3,0),\"\")","v":""},{"$f":"IF(MAX('3-3 위험성평가'!$A$4:$A$423)+1>E73,VLOOKUP(E73,'3-3 위험성평가'!$A$5:$P$423,4,0),\"\")","v":""},{"$f":"IF(MAX('3-3 위험성평가'!$A$4:$A$423)+1>E73,VLOOKUP(E73,'3-3 위험성평가'!$A$5:$P$423,5,0),\"\")","v":""},{"$f":"IF(MAX('3-3 위험성평가'!$A$4:$A$423)+1>E73,VLOOKUP(E73,'3-3 위험성평가'!$A$5:$P$423,6,0),\"\")","v":""},{"$f":"IF(MAX('3-3 위험성평가'!$A$4:$A$423)+1>E73,VLOOKUP(E73,'3-3 위험성평가'!$A$5:$P$423,9,0),\"\")","v":""},{"$f":"IF(MAX('3-3 위험성평가'!$A$4:$A$423)+1>E73,VLOOKUP(E73,'3-3 위험성평가'!$A$5:$P$423,12,0),\"\")&IF(L73>\"\",\".\"&E73,\"\")","v":""},{"$f":"IF(MAX('3-3 위험성평가'!$A$4:$A$423)+1>E73,VLOOKUP(E73,'3-3 위험성평가'!$A$5:$P$423,13,0),\"\")","v":""},null,"하",null,null,null,null,null,null,null,"선택안함",0,{"$f":"IF(MAX('3-3 위험성평가'!$A$4:$A$423)+1>E73,VLOOKUP(E73,'3-3 위험성평가'!$A$5:$Q$423,17,0),\"\")","v":""},"선택",{"$f":"표지!$D$33","v":0},{"$f":"표지!$E$34","v":0},"선택안함",0]
["T20",2,{"$f":"\"S\"&D74&IF(OR(AD74=\"선택\",AD74=1),1,0)","v":"S40"},4,66,{"$f":"IF(MAX('3-3 위험성평가'!$A$4:$A$423)+1>E74,VLOOKUP(E74,'3-3 위험성평가'!$A$5:$P$423,2,0),\"\")","v":""},{"$f":"IF(F74=\"\",\"\",VLOOKUP(VALUE(F74),'1-1 사업장 공정 정보'!$D$15:$P$41,5,0))","v":""},{"$f":"IF(MAX('3-3 위험성평가'!$A$4:$A$423)+1>E74,VLOOKUP(E74,'3-3 위험성평가'!$A$5:$P$423,3,0),\"\")","v":""},{"$f":"IF(MAX('3-3 위험성평가'!$A$4:$A$423)+1>E74,VLOOKUP(E74,'3-3 위험성평가'!$A$5:$P$423,4,0),\"\")","v":""},{"$f":"IF(MAX('3-3 위험성평가'!$A$4:$A$423)+1>E74,VLOOKUP(E74,'3-3 위험성평가'!$A$5:$P$423,5,0),\"\")","v":""},{"$f":"IF(MAX('3-3 위험성평가'!$A$4:$A$423)+1>E74,VLOOKUP(E74,'3-3 위험성평가'!$A$5:$P$423,6,0),\"\")","v":""},{"$f":"IF(MAX('3-3 위험성평가'!$A$4:$A$423)+1>E74,VLOOKUP(E74,'3-3 위험성평가'!$A$5:$P$423,9,0),\"\")","v":""},{"$f":"IF(MAX('3-3 위험성평가'!$A$4:$A$423)+1>E74,VLOOKUP(E74,'3-3 위험성평가'!$A$5:$P$423,12,0),\"\")&IF(L74>\"\",\".\"&E74,\"\")","v":""},{"$f":"IF(MAX('3-3 위험성평가'!$A$4:$A$423)+1>E74,VLOOKUP(E74,'3-3 위험성평가'!$A$5:$P$423,13,0),\"\")","v":""},null,"하",null,null,null,null,null,null,null,"선택안함",{"$f":"IF(OR(X74=\"선택\",X74=1),1,0)","v":0},{"$f":"IF(MAX('3-3 위험성평가'!$A$4:$A$423)+1>E74,VLOOKUP(E74,'3-3 위험성평가'!$A$5:$Q$423,17,0),\"\")","v":""},"선택",{"$f":"표지!$D$33","v":0},{"$f":"표지!$E$34","v":0},"선택안함",{"$f":"IF(OR(AD74=\"선택\",AD74=1),1,0)","v":0}]
["T20",{"$f":"B74+Y75","v":2},"S40",4,67,{"$f":"IF(MAX('3-3 위험성평가'!$A$4:$A$423)+1>E75,VLOOKUP(E75,'3-3 위험성평가'!$A$5:$P$423,2,0),\"\")","v":""},{"$f":"IF(F75=\"\",\"\",VLOOKUP(VALUE(F75),'1-1 사업장 공정 정보'!$D$15:$P$41,5,0))","v":""},{"$f":"IF(MAX('3-3 위험성평가'!$A$4:$A$423)+1>E75,VLOOKUP(E75,'3-3 위험성평가'!$A$5:$P$423,3,0),\"\")","v":""},{"$f":"IF(MAX('3-3 위험성평가'!$A$4:$A$423)+1>E75,VLOOKUP(E75,'3-3 위험성평가'!$A$5:$P$423,4,0),\"\")","v":""},{"$f":"IF(MAX('3-3 위험성평가'!$A$4:$A$423)+1>E75,VLOOKUP(E75,'3-3 위험성평가'!$A$5:$P$423,5,0),\"\")","v":""},{"$f":"IF(MAX('3-3 위험성평가'!$A$4:$A$423)+1>E75,VLOOKUP(E75,'3-3 위험성평가'!$A$5:$P$423,6,0),\"\")","v":""},{"$f":"IF(MAX('3-3 위험성평가'!$A$4:$A$423)+1>E75,VLOOKUP(E75,'3-3 위험성평가'!$A$5:$P$423,9,0),\"\")","v":""},{"$f":"IF(MAX('3-3 위험성평가'!$A$4:$A$423)+1>E75,VLOOKUP(E75,'3-3 위험성평가'!$A$5:$P$423,12,0),\"\")&IF(L75>\"\",\".\"&E75,\"\")","v":""},{"$f":"IF(MAX('3-3 위험성평가'!$A$4:$A$423)+1>E75,VLOOKUP(E75,'3-3 위험성평가'!$A$5:$P$423,13,0),\"\")","v":""},null,"하",null,null,null,null,null,null,null,"선택안함",0,{"$f":"IF(MAX('3-3 위험성평가'!$A$4:$A$423)+1>E75,VLOOKUP(E75,'3-3 위험성평가'!$A$5:$Q$423,17,0),\"\")","v":""},"선택",{"$f":"표지!$D$33","v":0},{"$f":"표지!$E$34","v":0},"선택안함",0]
["T20",2,"S40",{"$f":"D75+AE76","v":4},68,{"$f":"IF(MAX('3-3 위험성평가'!$A$4:$A$423)+1>E76,VLOOKUP(E76,'3-3 위험성평가'!$A$5:$P$423,2,0),\"\")","v":""},{"$f":"IF(F76=\"\",\"\",VLOOKUP(VALUE(F76),'1-1 사업장 공정 정보'!$D$15:$P$41,5,0))","v":""},{"$f":"IF(MAX('3-3 위험성평가'!$A$4:$A$423)+1>E76,VLOOKUP(E76,'3-3 위험성평가'!$A$5:$P$423,3,0),\"\")","v":""},{"$f":"IF(MAX('3-3 위험성평가'!$A$4:$A$423)+1>E76,VLOOKUP(E76,'3-3 위험성평가'!$A$5:$P$423,4,0),\"\")","v":""},{"$f":"IF(MAX('3-3 위험성평가'!$A$4:$A$423)+1>E76,VLOOKUP(E76,'3-3 위험성평가'!$A$5:$P$423,5,0),\"\")","v":""},{"$f":"IF(MAX('3-3 위험성평가'!$A$4:$A$423)+1>E76,VLOOKUP(E76,'3-3 위험성평가'!$A$5:$P$423,6,0),\"\")","v":""},{"$f":"IF(MAX('3-3 위험성평가'!$A$4:$A$423)+1>E76,VLOOKUP(E76,'3-3 위험성평가'!$A$5:$P$423,9,0),\"\")","v":""},{"$f":"IF(MAX('3-3 위험성평가'!$A$4:$A$423)+1>E76,VLOOKUP(E76,'3-3 위험성평가'!$A$5:$P$423,12,0),\"\")&IF(L76>\"\",\".\"&E76,\"\")","v":""},{"$f":"IF(MAX('3-3 위험성평가'!$A$4:$A$423)+1>E76,VLOOKUP(E76,'3-3 위험성평가'!$A$5:$P$423,13,0),\"\")","v":""},null,"하",null,null,null,null,null,null,null,"선택안함",0,{"$f":"IF(MAX('3-3 위험성평가'!$A$4:$A$423)+1>E76,VLOOKUP(E76,'3-3 위험성평가'!$A$5:$Q$423,17,0),\"\")","v":""},"선택",{"$f":"표지!$D$33","v":0},{"$f":"표지!$E$34","v":0},"선택안함",0]
["T20",2,"S40",4,69,{"$f":"IF(MAX('3-3 위험성평가'!$A$4:$A$423)+1>E77,VLOOKUP(E77,'3-3 위험성평가'!$A$5:$P$423,2,0),\"\")","v":""},{"$f":"IF(F77=\"\",\"\",VLOOKUP(VALUE(F77),'1-1 사업장 공정 정보'!$D$15:$P$41,5,0))","v":""},{"$f":"IF(MAX('3-3 위험성평가'!$A$4:$A$423)+1>E77,VLOOKUP(E77,'3-3 위험성평가'!$A$5:$P$423,3,0),\"\")","v":""},{"$f":"IF(MAX('3-3 위험성평가'!$A$4:$A$423)+1>E77,VLOOKUP(E77,'3-3 위험성평가'!$A$5:$P$423,4,0),\"\")","v":""},{"$f":"IF(MAX('3-3 위험성평가'!$A$4:$A$423)+1>E77,VLOOKUP(E77,'3-3 위험성평가'!$A$5:$P$423,5,0),\"\")","v":""},{"$f":"IF(MAX('3-3 위험성평가'!$A$4:$A$423)+1>E77,VLOOKUP(E77,'3-3 위험성평가'!$A$5:$P$423,6,0),\"\")","v":""},{"$f":"IF(MAX('3-3 위험성평가'!$A$4:$A$423)+1>E77,VLOOKUP(E77,'3-3 위험성평가'!$A$5:$P$423,9,0),\"\")","v":""},{"$f":"IF(MAX('3-3 위험성평가'!$A$4:$A$423)+1>E77,VLOOKUP(E77,'3-3 위험성평가'!$A$5:$P$423,12,0),\"\")&IF(L77>\"\",\".\"&E77,\"\")","v":""},{"$f":"IF(MAX('3-3 위험성평가'!$A$4:$A$423)+1>E77,VLOOKUP(E77,'3-3 위험성평가'!$A$5:$P$423,13,0),\"\")","v":""},null,"하",null,null,null,null,null,null,null,"선택안함",0,{"$f":"IF(MAX('3-3 위험성평가'!$A$4:$A$423)+1>E77,VLOOKUP(E77,'3-3 위험성평가'!$A$5:$Q$423,17,0),\"\")","v":""},"선택",{"$f":"표지!$D$33","v":0},{"$f":"표지!$E$34","v":0},"선택안함",0]
["T20",2,"S40",4,70,{"$f":"IF(MAX('3-3 위험성평가'!$A$4:$A$423)+1>E78,VLOOKUP(E78,'3-3 위험성평가'!$A$5:$P$423,2,0),\"\")","v":""},{"$f":"IF(F78=\"\",\"\",VLOOKUP(VALUE(F78),'1-1 사업장 공정 정보'!$D$15:$P$41,5,0))","v":""},{"$f":"IF(MAX('3-3 위험성평가'!$A$4:$A$423)+1>E78,VLOOKUP(E78,'3-3 위험성평가'!$A$5:$P$423,3,0),\"\")","v":""},{"$f":"IF(MAX('3-3 위험성평가'!$A$4:$A$423)+1>E78,VLOOKUP(E78,'3-3 위험성평가'!$A$5:$P$423,4,0),\"\")","v":""},{"$f":"IF(MAX('3-3 위험성평가'!$A$4:$A$423)+1>E78,VLOOKUP(E78,'3-3 위험성평가'!$A$5:$P$423,5,0),\"\")","v":""},{"$f":"IF(MAX('3-3 위험성평가'!$A$4:$A$423)+1>E78,VLOOKUP(E78,'3-3 위험성평가'!$A$5:$P$423,6,0),\"\")","v":""},{"$f":"IF(MAX('3-3 위험성평가'!$A$4:$A$423)+1>E78,VLOOKUP(E78,'3-3 위험성평가'!$A$5:$P$423,9,0),\"\")","v":""},{"$f":"IF(MAX('3-3 위험성평가'!$A$4:$A$423)+1>E78,VLOOKUP(E78,'3-3 위험성평가'!$A$5:$P$423,12,0),\"\")&IF(L78>\"\",\".\"&E78,\"\")","v":""},{"$f":"IF(MAX('3-3 위험성평가'!$A$4:$A$423)+1>E78,VLOOKUP(E78,'3-3 위험성평가'!$A$5:$P$423,13,0),\"\")","v":""},null,"하",null,null,null,null,null,null,null,"선택안함",0,{"$f":"IF(MAX('3-3 위험성평가'!$A$4:$A$423)+1>E78,VLOOKUP(E78,'3-3 위험성평가'!$A$5:$Q$423,17,0),\"\")","v":""},"선택",{"$f":"표지!$D$33","v":0},{"$f":"표지!$E$34","v":0},"선택안함",0]
["T20",2,"S40",4,71,{"$f":"IF(MAX('3-3 위험성평가'!$A$4:$A$423)+1>E79,VLOOKUP(E79,'3-3 위험성평가'!$A$5:$P$423,2,0),\"\")","v":""},{"$f":"IF(F79=\"\",\"\",VLOOKUP(VALUE(F79),'1-1 사업장 공정 정보'!$D$15:$P$41,5,0))","v":""},{"$f":"IF(MAX('3-3 위험성평가'!$A$4:$A$423)+1>E79,VLOOKUP(E79,'3-3 위험성평가'!$A$5:$P$423,3,0),\"\")","v":""},{"$f":"IF(MAX('3-3 위험성평가'!$A$4:$A$423)+1>E79,VLOOKUP(E79,'3-3 위험성평가'!$A$5:$P$423,4,0),\"\")","v":""},{"$f":"IF(MAX('3-3 위험성평가'!$A$4:$A$423)+1>E79,VLOOKUP(E79,'3-3 위험성평가'!$A$5:$P$423,5,0),\"\")","v":""},{"$f":"IF(MAX('3-3 위험성평가'!$A$4:$A$423)+1>E79,VLOOKUP(E79,'3-3 위험성평가'!$A$5:$P$423,6,0),\"\")","v":""},{"$f":"IF(MAX('3-3 위험성평가'!$A$4:$A$423)+1>E79,VLOOKUP(E79,'3-3 위험성평가'!$A$5:$P$423,9,0),\"\")","v":""},{"$f":"IF(MAX('3-3 위험성평가'!$A$4:$A$423)+1>E79,VLOOKUP(E79,'3-3 위험성평가'!$A$5:$P$423,12,0),\"\")&IF(L79>\"\",\".\"&E79,\"\")","v":""},{"$f":"IF(MAX('3-3 위험성평가'!$A$4:$A$423)+1>E79,VLOOKUP(E79,'3-3 위험성평가'!$A$5:$P$423,13,0),\"\")","v":""},null,"하",null,null,null,null,null,null,null,"선택안함",0,{"$f":"IF(MAX('3-3 위험성평가'!$A$4:$A$423)+1>E79,VLOOKUP(E79,'3-3 위험성평가'!$A$5:$Q$423,17,0),\"\")","v":""},"선택",{"$f":"표지!$D$33","v":0},{"$f":"표지!$E$34","v":0},"선택안함",0]
["T20",2,"S40",4,72,{"$f":"IF(MAX('3-3 위험성평가'!$A$4:$A$423)+1>E80,VLOOKUP(E80,'3-3 위험성평가'!$A$5:$P$423,2,0),\"\")","v":""},{"$f":"IF(F80=\"\",\"\",VLOOKUP(VALUE(F80),'1-1 사업장 공정 정보'!$D$15:$P$41,5,0))","v":""},{"$f":"IF(MAX('3-3 위험성평가'!$A$4:$A$423)+1>E80,VLOOKUP(E80,'3-3 위험성평가'!$A$5:$P$423,3,0),\"\")","v":""},{"$f":"IF(MAX('3-3 위험성평가'!$A$4:$A$423)+1>E80,VLOOKUP(E80,'3-3 위험성평가'!$A$5:$P$423,4,0),\"\")","v":""},{"$f":"IF(MAX('3-3 위험성평가'!$A$4:$A$423)+1>E80,VLOOKUP(E80,'3-3 위험성평가'!$A$5:$P$423,5,0),\"\")","v":""},{"$f":"IF(MAX('3-3 위험성평가'!$A$4:$A$423)+1>E80,VLOOKUP(E80,'3-3 위험성평가'!$A$5:$P$423,6,0),\"\")","v":""},{"$f":"IF(MAX('3-3 위험성평가'!$A$4:$A$423)+1>E80,VLOOKUP(E80,'3-3 위험성평가'!$A$5:$P$423,9,0),\"\")","v":""},{"$f":"IF(MAX('3-3 위험성평가'!$A$4:$A$423)+1>E80,VLOOKUP(E80,'3-3 위험성평가'!$A$5:$P$423,12,0),\"\")&IF(L80>\"\",\".\"&E80,\"\")","v":""},{"$f":"IF(MAX('3-3 위험성평가'!$A$4:$A$423)+1>E80,VLOOKUP(E80,'3-3 위험성평가'!$A$5:$P$423,13,0),\"\")","v":""},null,"하",null,null,null,null,null,null,null,"선택안함",0,{"$f":"IF(MAX('3-3 위험성평가'!$A$4:$A$423)+1>E80,VLOOKUP(E80,'3-3 위험성평가'!$A$5:$Q$423,17,0),\"\")","v":""},"선택",{"$f":"표지!$D$33","v":0},{"$f":"표지!$E$34","v":0},"선택안함",0]
["T20",2,"S40",4,73,{"$f":"IF(MAX('3-3 위험성평가'!$A$4:$A$423)+1>E81,VLOOKUP(E81,'3-3 위험성평가'!$A$5:$P$423,2,0),\"\")","v":""},{"$f":"IF(F81=\"\",\"\",VLOOKUP(VALUE(F81),'1-1 사업장 공정 정보'!$D$15:$P$41,5,0))","v":""},{"$f":"IF(MAX('3-3 위험성평가'!$A$4:$A$423)+1>E81,VLOOKUP(E81,'3-3 위험성평가'!$A$5:$P$423,3,0),\"\")","v":""},{"$f":"IF(MAX('3-3 위험성평가'!$A$4:$A$423)+1>E81,VLOOKUP(E81,'3-3 위험성평가'!$A$5:$P$423,4,0),\"\")","v":""},{"$f":"IF(MAX('3-3 위험성평가'!$A$4:$A$423)+1>E81,VLOOKUP(E81,'3-3 위험성평가'!$A$5:$P$423,5,0),\"\")","v":""},{"$f":"IF(MAX('3-3 위험성평가'!$A$4:$A$423)+1>E81,VLOOKUP(E81,'3-3 위험성평가'!$A$5:$P$423,6,0),\"\")","v":""},{"$f":"IF(MAX('3-3 위험성평가'!$A$4:$A$423)+1>E81,VLOOKUP(E81,'3-3 위험성평가'!$A$5:$P$423,9,0),\"\")","v":""},{"$f":"IF(MAX('3-3 위험성평가'!$A$4:$A$423)+1>E81,VLOOKUP(E81,'3-3 위험성평가'!$A$5:$P$423,12,0),\"\")&IF(L81>\"\",\".\"&E81,\"\")","v":""},{"$f":"IF(MAX('3-3 위험성평가'!$A$4:$A$423)+1>E81,VLOOKUP(E81,'3-3 위험성평가'!$A$5:$P$423,13,0),\"\")","v":""},null,"하",null,null,null,null,null,null,null,"선택안함",0,{"$f":"IF(MAX('3-3 위험성평가'!$A$4:$A$423)+1>E81,VLOOKUP(E81,'3-3 위험성평가'!$A$5:$Q$423,17,0),\"\")","v":""},"선택",{"$f":"표지!$D$33","v":0},{"$f":"표지!$E$34","v":0},"선택안함",0]
["T20",2,"S40",4,74,{"$f":"IF(MAX('3-3 위험성평가'!$A$4:$A$423)+1>E82,VLOOKUP(E82,'3-3 위험성평가'!$A$5:$P$423,2,0),\"\")","v":""},{"$f":"IF(F82=\"\",\"\",VLOOKUP(VALUE(F82),'1-1 사업장 공정 정보'!$D$15:$P$41,5,0))","v":""},{"$f":"IF(MAX('3-3 위험성평가'!$A$4:$A$423)+1>E82,VLOOKUP(E82,'3-3 위험성평가'!$A$5:$P$423,3,0),\"\")","v":""},{"$f":"IF(MAX('3-3 위험성평가'!$A$4:$A$423)+1>E82,VLOOKUP(E82,'3-3 위험성평가'!$A$5:$P$423,4,0),\"\")","v":""},{"$f":"IF(MAX('3-3 위험성평가'!$A$4:$A$423)+1>E82,VLOOKUP(E82,'3-3 위험성평가'!$A$5:$P$423,5,0),\"\")","v":""},{"$f":"IF(MAX('3-3 위험성평가'!$A$4:$A$423)+1>E82,VLOOKUP(E82,'3-3 위험성평가'!$A$5:$P$423,6,0),\"\")","v":""},{"$f":"IF(MAX('3-3 위험성평가'!$A$4:$A$423)+1>E82,VLOOKUP(E82,'3-3 위험성평가'!$A$5:$P$423,9,0),\"\")","v":""},{"$f":"IF(MAX('3-3 위험성평가'!$A$4:$A$423)+1>E82,VLOOKUP(E82,'3-3 위험성평가'!$A$5:$P$423,12,0),\"\")&IF(L82>\"\",\".\"&E82,\"\")","v":""},{"$f":"IF(MAX('3-3 위험성평가'!$A$4:$A$423)+1>E82,VLOOKUP(E82,'3-3 위험성평가'!$A$5:$P$423,13,0),\"\")","v":""},null,"하",null,null,null,null,null,null,null,"선택안함",0,{"$f":"IF(MAX('3-3 위험성평가'!$A$4:$A$423)+1>E82,VLOOKUP(E82,'3-3 위험성평가'!$A$5:$Q$423,17,0),\"\")","v":""},"선택",{"$f":"표지!$D$33","v":0},{"$f":"표지!$E$34","v":0},"선택안함",0]
["T20",2,"S40",4,75,{"$f":"IF(MAX('3-3 위험성평가'!$A$4:$A$423)+1>E83,VLOOKUP(E83,'3-3 위험성평가'!$A$5:$P$423,2,0),\"\")","v":""},{"$f":"IF(F83=\"\",\"\",VLOOKUP(VALUE(F83),'1-1 사업장 공정 정보'!$D$15:$P$41,5,0))","v":""},{"$f":"IF(MAX('3-3 위험성평가'!$A$4:$A$423)+1>E83,VLOOKUP(E83,'3-3 위험성평가'!$A$5:$P$423,3,0),\"\")","v":""},{"$f":"IF(MAX('3-3 위험성평가'!$A$4:$A$423)+1>E83,VLOOKUP(E83,'3-3 위험성평가'!$A$5:$P$423,4,0),\"\")","v":""},{"$f":"IF(MAX('3-3 위험성평가'!$A$4:$A$423)+1>E83,VLOOKUP(E83,'3-3 위험성평가'!$A$5:$P$423,5,0),\"\")","v":""},{"$f":"IF(MAX('3-3 위험성평가'!$A$4:$A$423)+1>E83,VLOOKUP(E83,'3-3 위험성평가'!$A$5:$P$423,6,0),\"\")","v":""},{"$f":"IF(MAX('3-3 위험성평가'!$A$4:$A$423)+1>E83,VLOOKUP(E83,'3-3 위험성평가'!$A$5:$P$423,9,0),\"\")","v":""},{"$f":"IF(MAX('3-3 위험성평가'!$A$4:$A$423)+1>E83,VLOOKUP(E83,'3-3 위험성평가'!$A$5:$P$423,12,0),\"\")&IF(L83>\"\",\".\"&E83,\"\")","v":""},{"$f":"IF(MAX('3-3 위험성평가'!$A$4:$A$423)+1>E83,VLOOKUP(E83,'3-3 위험성평가'!$A$5:$P$423,13,0),\"\")","v":""},null,"하",null,null,null,null,null,null,null,"선택안함",0,{"$f":"IF(MAX('3-3 위험성평가'!$A$4:$A$423)+1>E83,VLOOKUP(E83,'3-3 위험성평가'!$A$5:$Q$423,17,0),\"\")","v":""},"선택",{"$f":"표지!$D$33","v":0},{"$f":"표지!$E$34","v":0},"선택안함",0]
["T20",2,"S40",4,76,{"$f":"IF(MAX('3-3 위험성평가'!$A$4:$A$423)+1>E84,VLOOKUP(E84,'3-3 위험성평가'!$A$5:$P$423,2,0),\"\")","v":""},{"$f":"IF(F84=\"\",\"\",VLOOKUP(VALUE(F84),'1-1 사업장 공정 정보'!$D$15:$P$41,5,0))","v":""},{"$f":"IF(MAX('3-3 위험성평가'!$A$4:$A$423)+1>E84,VLOOKUP(E84,'3-3 위험성평가'!$A$5:$P$423,3,0),\"\")","v":""},{"$f":"IF(MAX('3-3 위험성평가'!$A$4:$A$423)+1>E84,VLOOKUP(E84,'3-3 위험성평가'!$A$5:$P$423,4,0),\"\")","v":""},{"$f":"IF(MAX('3-3 위험성평가'!$A$4:$A$423)+1>E84,VLOOKUP(E84,'3-3 위험성평가'!$A$5:$P$423,5,0),\"\")","v":""},{"$f":"IF(MAX('3-3 위험성평가'!$A$4:$A$423)+1>E84,VLOOKUP(E84,'3-3 위험성평가'!$A$5:$P$423,6,0),\"\")","v":""},{"$f":"IF(MAX('3-3 위험성평가'!$A$4:$A$423)+1>E84,VLOOKUP(E84,'3-3 위험성평가'!$A$5:$P$423,9,0),\"\")","v":""},{"$f":"IF(MAX('3-3 위험성평가'!$A$4:$A$423)+1>E84,VLOOKUP(E84,'3-3 위험성평가'!$A$5:$P$423,12,0),\"\")&IF(L84>\"\",\".\"&E84,\"\")","v":""},{"$f":"IF(MAX('3-3 위험성평가'!$A$4:$A$423)+1>E84,VLOOKUP(E84,'3-3 위험성평가'!$A$5:$P$423,13,0),\"\")","v":""},null,"하",null,null,null,null,null,null,null,"선택안함",0,{"$f":"IF(MAX('3-3 위험성평가'!$A$4:$A$423)+1>E84,VLOOKUP(E84,'3-3 위험성평가'!$A$5:$Q$423,17,0),\"\")","v":""},"선택",{"$f":"표지!$D$33","v":0},{"$f":"표지!$E$34","v":0},"선택안함",0]
["T20",2,"S40",4,77,{"$f":"IF(MAX('3-3 위험성평가'!$A$4:$A$423)+1>E85,VLOOKUP(E85,'3-3 위험성평가'!$A$5:$P$423,2,0),\"\")","v":""},{"$f":"IF(F85=\"\",\"\",VLOOKUP(VALUE(F85),'1-1 사업장 공정 정보'!$D$15:$P$41,5,0))","v":""},{"$f":"IF(MAX('3-3 위험성평가'!$A$4:$A$423)+1>E85,VLOOKUP(E85,'3-3 위험성평가'!$A$5:$P$423,3,0),\"\")","v":""},{"$f":"IF(MAX('3-3 위험성평가'!$A$4:$A$423)+1>E85,VLOOKUP(E85,'3-3 위험성평가'!$A$5:$P$423,4,0),\"\")","v":""},{"$f":"IF(MAX('3-3 위험성평가'!$A$4:$A$423)+1>E85,VLOOKUP(E85,'3-3 위험성평가'!$A$5:$P$423,5,0),\"\")","v":""},{"$f":"IF(MAX('3-3 위험성평가'!$A$4:$A$423)+1>E85,VLOOKUP(E85,'3-3 위험성평가'!$A$5:$P$423,6,0),\"\")","v":""},{"$f":"IF(MAX('3-3 위험성평가'!$A$4:$A$423)+1>E85,VLOOKUP(E85,'3-3 위험성평가'!$A$5:$P$423,9,0),\"\")","v":""},{"$f":"IF(MAX('3-3 위험성평가'!$A$4:$A$423)+1>E85,VLOOKUP(E85,'3-3 위험성평가'!$A$5:$P$423,12,0),\"\")&IF(L85>\"\",\".\"&E85,\"\")","v":""},{"$f":"IF(MAX('3-3 위험성평가'!$A$4:$A$423)+1>E85,VLOOKUP(E85,'3-3 위험성평가'!$A$5:$P$423,13,0),\"\")","v":""},null,"하",null,null,null,null,null,null,null,"선택안함",0,{"$f":"IF(MAX('3-3 위험성평가'!$A$4:$A$423)+1>E85,VLOOKUP(E85,'3-3 위험성평가'!$A$5:$Q$423,17,0),\"\")","v":""},"선택",{"$f":"표지!$D$33","v":0},{"$f":"표지!$E$34","v":0},"선택안함",0]
["T20",2,"S40",4,78,{"$f":"IF(MAX('3-3 위험성평가'!$A$4:$A$423)+1>E86,VLOOKUP(E86,'3-3 위험성평가'!$A$5:$P$423,2,0),\"\")","v":""},{"$f":"IF(F86=\"\",\"\",VLOOKUP(VALUE(F86),'1-1 사업장 공정 정보'!$D$15:$P$41,5,0))","v":""},{"$f":"IF(MAX('3-3 위험성평가'!$A$4:$A$423)+1>E86,VLOOKUP(E86,'3-3 위험성평가'!$A$5:$P$423,3,0),\"\")","v":""},{"$f":"IF(MAX('3-3 위험성평가'!$A$4:$A$423)+1>E86,VLOOKUP(E86,'3-3 위험성평가'!$A$5:$P$423,4,0),\"\")","v":""},{"$f":"IF(MAX('3-3 위험성평가'!$A$4:$A$423)+1>E86,VLOOKUP(E86,'3-3 위험성평가'!$A$5:$P$423,5,0),\"\")","v":""},{"$f":"IF(MAX('3-3 위험성평가'!$A$4:$A$423)+1>E86,VLOOKUP(E86,'3-3 위험성평가'!$A$5:$P$423,6,0),\"\")","v":""},{"$f":"IF(MAX('3-3 위험성평가'!$A$4:$A$423)+1>E86,VLOOKUP(E86,'3-3 위험성평가'!$A$5:$P$423,9,0),\"\")","v":""},{"$f":"IF(MAX('3-3 위험성평가'!$A$4:$A$423)+1>E86,VLOOKUP(E86,'3-3 위험성평가'!$A$5:$P$423,12,0),\"\")&IF(L86>\"\",\".\"&E86,\"\")","v":""},{"$f":"IF(MAX('3-3 위험성평가'!$A$4:$A$423)+1>E86,VLOOKUP(E86,'3-3 위험성평가'!$A$5:$P$423,13,0),\"\")","v":""},null,"하",null,null,null,null,null,null,null,"선택안함",0,{"$f":"IF(MAX('3-3 위험성평가'!$A$4:$A$423)+1>E86,VLOOKUP(E86,'3-3 위험성평가'!$A$5:$Q$423,17,0),\"\")","v":""},"선택",{"$f":"표지!$D$33","v":0},{"$f":"표지!$E$34","v":0},"선택안함",0]
["T20",2,"S40",4,79,{"$f":"IF(MAX('3-3 위험성평가'!$A$4:$A$423)+1>E87,VLOOKUP(E87,'3-3 위험성평가'!$A$5:$P$423,2,0),\"\")","v":""},{"$f":"IF(F87=\"\",\"\",VLOOKUP(VALUE(F87),'1-1 사업장 공정 정보'!$D$15:$P$41,5,0))","v":""},{"$f":"IF(MAX('3-3 위험성평가'!$A$4:$A$423)+1>E87,VLOOKUP(E87,'3-3 위험성평가'!$A$5:$P$423,3,0),\"\")","v":""},{"$f":"IF(MAX('3-3 위험성평가'!$A$4:$A$423)+1>E87,VLOOKUP(E87,'3-3 위험성평가'!$A$5:$P$423,4,0),\"\")","v":""},{"$f":"IF(MAX('3-3 위험성평가'!$A$4:$A$423)+1>E87,VLOOKUP(E87,'3-3 위험성평가'!$A$5:$P$423,5,0),\"\")","v":""},{"$f":"IF(MAX('3-3 위험성평가'!$A$4:$A$423)+1>E87,VLOOKUP(E87,'3-3 위험성평가'!$A$5:$P$423,6,0),\"\")","v":""},{"$f":"IF(MAX('3-3 위험성평가'!$A$4:$A$423)+1>E87,VLOOKUP(E87,'3-3 위험성평가'!$A$5:$P$423,9,0),\"\")","v":""},{"$f":"IF(MAX('3-3 위험성평가'!$A$4:$A$423)+1>E87,VLOOKUP(E87,'3-3 위험성평가'!$A$5:$P$423,12,0),\"\")&IF(L87>\"\",\".\"&E87,\"\")","v":""},{"$f":"IF(MAX('3-3 위험성평가'!$A$4:$A$423)+1>E87,VLOOKUP(E87,'3-3 위험성평가'!$A$5:$P$423,13,0),\"\")","v":""},null,"하",null,null,null,null,null,null,null,"선택안함",0,{"$f":"IF(MAX('3-3 위험성평가'!$A$4:$A$423)+1>E87,VLOOKUP(E87,'3-3 위험성평가'!$A$5:$Q$423,17,0),\"\")","v":""},"선택",{"$f":"표지!$D$33","v":0},{"$f":"표지!$E$34","v":0},"선택안함",0]
["T20",2,"S40",4,80,{"$f":"IF(MAX('3-3 위험성평가'!$A$4:$A$423)+1>E88,VLOOKUP(E88,'3-3 위험성평가'!$A$5:$P$423,2,0),\"\")","v":""},{"$f":"IF(F88=\"\",\"\",VLOOKUP(VALUE(F88),'1-1 사업장 공정 정보'!$D$15:$P$41,5,0))","v":""},{"$f":"IF(MAX('3-3 위험성평가'!$A$4:$A$423)+1>E88,VLOOKUP(E88,'3-3 위험성평가'!$A$5:$P$423,3,0),\"\")","v":""},{"$f":"IF(MAX('3-3 위험성평가'!$A$4:$A$423)+1>E88,VLOOKUP(E88,'3-3 위험성평가'!$A$5:$P$423,4,0),\"\")","v":""},{"$f":"IF(MAX('3-3 위험성평가'!$A$4:$A$423)+1>E88,VLOOKUP(E88,'3-3 위험성평가'!$A$5:$P$423,5,0),\"\")","v":""},{"$f":"IF(MAX('3-3 위험성평가'!$A$4:$A$423)+1>E88,VLOOKUP(E88,'3-3 위험성평가'!$A$5:$P$423,6,0),\"\")","v":""},{"$f":"IF(MAX('3-3 위험성평가'!$A$4:$A$423)+1>E88,VLOOKUP(E88,'3-3 위험성평가'!$A$5:$P$423,9,0),\"\")","v":""},{"$f":"IF(MAX('3-3 위험성평가'!$A$4:$A$423)+1>E88,VLOOKUP(E88,'3-3 위험성평가'!$A$5:$P$423,12,0),\"\")&IF(L88>\"\",\".\"&E88,\"\")","v":""},{"$f":"IF(MAX('3-3 위험성평가'!$A$4:$A$423)+1>E88,VLOOKUP(E88,'3-3 위험성평가'!$A$5:$P$423,13,0),\"\")","v":""},null,"하",null,null,null,null,null,null,null,"선택안함",0,{"$f":"IF(MAX('3-3 위험성평가'!$A$4:$A$423)+1>E88,VLOOKUP(E88,'3-3 위험성평가'!$A$5:$Q$423,17,0),\"\")","v":""},"선택",{"$f":"표지!$D$33","v":0},{"$f":"표지!$E$34","v":0},"선택안함",0]
["T20",2,"S40",4,81,{"$f":"IF(MAX('3-3 위험성평가'!$A$4:$A$423)+1>E89,VLOOKUP(E89,'3-3 위험성평가'!$A$5:$P$423,2,0),\"\")","v":""},{"$f":"IF(F89=\"\",\"\",VLOOKUP(VALUE(F89),'1-1 사업장 공정 정보'!$D$15:$P$41,5,0))","v":""},{"$f":"IF(MAX('3-3 위험성평가'!$A$4:$A$423)+1>E89,VLOOKUP(E89,'3-3 위험성평가'!$A$5:$P$423,3,0),\"\")","v":""},{"$f":"IF(MAX('3-3 위험성평가'!$A$4:$A$423)+1>E89,VLOOKUP(E89,'3-3 위험성평가'!$A$5:$P$423,4,0),\"\")","v":""},{"$f":"IF(MAX('3-3 위험성평가'!$A$4:$A$423)+1>E89,VLOOKUP(E89,'3-3 위험성평가'!$A$5:$P$423,5,0),\"\")","v":""},{"$f":"IF(MAX('3-3 위험성평가'!$A$4:$A$423)+1>E89,VLOOKUP(E89,'3-3 위험성평가'!$A$5:$P$423,6,0),\"\")","v":""},{"$f":"IF(MAX('3-3 위험성평가'!$A$4:$A$423)+1>E89,VLOOKUP(E89,'3-3 위험성평가'!$A$5:$P$423,9,0),\"\")","v":""},{"$f":"IF(MAX('3-3 위험성평가'!$A$4:$A$423)+1>E89,VLOOKUP(E89,'3-3 위험성평가'!$A$5:$P$423,12,0),\"\")&IF(L89>\"\",\".\"&E89,\"\")","v":""},{"$f":"IF(MAX('3-3 위험성평가'!$A$4:$A$423)+1>E89,VLOOKUP(E89,'3-3 위험성평가'!$A$5:$P$423,13,0),\"\")","v":""},null,"하",null,null,null,null,null,null,null,"선택안함",0,{"$f":"IF(MAX('3-3 위험성평가'!$A$4:$A$423)+1>E89,VLOOKUP(E89,'3-3 위험성평가'!$A$5:$Q$423,17,0),\"\")","v":""},"선택",{"$f":"표지!$D$33","v":0},{"$f":"표지!$E$34","v":0},"선택안함",0]
["T20",2,"S40",4,82,{"$f":"IF(MAX('3-3 위험성평가'!$A$4:$A$423)+1>E90,VLOOKUP(E90,'3-3 위험성평가'!$A$5:$P$423,2,0),\"\")","v":""},{"$f":"IF(F90=\"\",\"\",VLOOKUP(VALUE(F90),'1-1 사업장 공정 정보'!$D$15:$P$41,5,0))","v":""},{"$f":"IF(MAX('3-3 위험성평가'!$A$4:$A$423)+1>E90,VLOOKUP(E90,'3-3 위험성평가'!$A$5:$P$423,3,0),\"\")","v":""},{"$f":"IF(MAX('3-3 위험성평가'!$A$4:$A$423)+1>E90,VLOOKUP(E90,'3-3 위험성평가'!$A$5:$P$423,4,0),\"\")","v":""},{"$f":"IF(MAX('3-3 위험성평가'!$A$4:$A$423)+1>E90,VLOOKUP(E90,'3-3 위험성평가'!$A$5:$P$423,5,0),\"\")","v":""},{"$f":"IF(MAX('3-3 위험성평가'!$A$4:$A$423)+1>E90,VLOOKUP(E90,'3-3 위험성평가'!$A$5:$P$423,6,0),\"\")","v":""},{"$f":"IF(MAX('3-3 위험성평가'!$A$4:$A$423)+1>E90,VLOOKUP(E90,'3-3 위험성평가'!$A$5:$P$423,9,0),\"\")","v":""},{"$f":"IF(MAX('3-3 위험성평가'!$A$4:$A$423)+1>E90,VLOOKUP(E90,'3-3 위험성평가'!$A$5:$P$423,12,0),\"\")&IF(L90>\"\",\".\"&E90,\"\")","v":""},{"$f":"IF(MAX('3-3 위험성평가'!$A$4:$A$423)+1>E90,VLOOKUP(E90,'3-3 위험성평가'!$A$5:$P$423,13,0),\"\")","v":""},null,"하",null,null,null,null,null,null,null,"선택안함",0,{"$f":"IF(MAX('3-3 위험성평가'!$A$4:$A$423)+1>E90,VLOOKUP(E90,'3-3 위험성평가'!$A$5:$Q$423,17,0),\"\")","v":""},"선택",{"$f":"표지!$D$33","v":0},{"$f":"표지!$E$34","v":0},"선택안함",0]
["T20",2,"S40",4,83,{"$f":"IF(MAX('3-3 위험성평가'!$A$4:$A$423)+1>E91,VLOOKUP(E91,'3-3 위험성평가'!$A$5:$P$423,2,0),\"\")","v":""},{"$f":"IF(F91=\"\",\"\",VLOOKUP(VALUE(F91),'1-1 사업장 공정 정보'!$D$15:$P$41,5,0))","v":""},{"$f":"IF(MAX('3-3 위험성평가'!$A$4:$A$423)+1>E91,VLOOKUP(E91,'3-3 위험성평가'!$A$5:$P$423,3,0),\"\")","v":""},{"$f":"IF(MAX('3-3 위험성평가'!$A$4:$A$423)+1>E91,VLOOKUP(E91,'3-3 위험성평가'!$A$5:$P$423,4,0),\"\")","v":""},{"$f":"IF(MAX('3-3 위험성평가'!$A$4:$A$423)+1>E91,VLOOKUP(E91,'3-3 위험성평가'!$A$5:$P$423,5,0),\"\")","v":""},{"$f":"IF(MAX('3-3 위험성평가'!$A$4:$A$423)+1>E91,VLOOKUP(E91,'3-3 위험성평가'!$A$5:$P$423,6,0),\"\")","v":""},{"$f":"IF(MAX('3-3 위험성평가'!$A$4:$A$423)+1>E91,VLOOKUP(E91,'3-3 위험성평가'!$A$5:$P$423,9,0),\"\")","v":""},{"$f":"IF(MAX('3-3 위험성평가'!$A$4:$A$423)+1>E91,VLOOKUP(E91,'3-3 위험성평가'!$A$5:$P$423,12,0),\"\")&IF(L91>\"\",\".\"&E91,\"\")","v":""},{"$f":"IF(MAX('3-3 위험성평가'!$A$4:$A$423)+1>E91,VLOOKUP(E91,'3-3 위험성평가'!$A$5:$P$423,13,0),\"\")","v":""},null,"하",null,null,null,null,null,null,null,"선택안함",0,{"$f":"IF(MAX('3-3 위험성평가'!$A$4:$A$423)+1>E91,VLOOKUP(E91,'3-3 위험성평가'!$A$5:$Q$423,17,0),\"\")","v":""},"선택",{"$f":"표지!$D$33","v":0},{"$f":"표지!$E$34","v":0},"선택안함",0]
["T20",2,"S40",4,84,{"$f":"IF(MAX('3-3 위험성평가'!$A$4:$A$423)+1>E92,VLOOKUP(E92,'3-3 위험성평가'!$A$5:$P$423,2,0),\"\")","v":""},{"$f":"IF(F92=\"\",\"\",VLOOKUP(VALUE(F92),'1-1 사업장 공정 정보'!$D$15:$P$41,5,0))","v":""},{"$f":"IF(MAX('3-3 위험성평가'!$A$4:$A$423)+1>E92,VLOOKUP(E92,'3-3 위험성평가'!$A$5:$P$423,3,0),\"\")","v":""},{"$f":"IF(MAX('3-3 위험성평가'!$A$4:$A$423)+1>E92,VLOOKUP(E92,'3-3 위험성평가'!$A$5:$P$423,4,0),\"\")","v":""},{"$f":"IF(MAX('3-3 위험성평가'!$A$4:$A$423)+1>E92,VLOOKUP(E92,'3-3 위험성평가'!$A$5:$P$423,5,0),\"\")","v":""},{"$f":"IF(MAX('3-3 위험성평가'!$A$4:$A$423)+1>E92,VLOOKUP(E92,'3-3 위험성평가'!$A$5:$P$423,6,0),\"\")","v":""},{"$f":"IF(MAX('3-3 위험성평가'!$A$4:$A$423)+1>E92,VLOOKUP(E92,'3-3 위험성평가'!$A$5:$P$423,9,0),\"\")","v":""},{"$f":"IF(MAX('3-3 위험성평가'!$A$4:$A$423)+1>E92,VLOOKUP(E92,'3-3 위험성평가'!$A$5:$P$423,12,0),\"\")&IF(L92>\"\",\".\"&E92,\"\")","v":""},{"$f":"IF(MAX('3-3 위험성평가'!$A$4:$A$423)+1>E92,VLOOKUP(E92,'3-3 위험성평가'!$A$5:$P$423,13,0),\"\")","v":""},null,"하",null,null,null,null,null,null,null,"선택안함",0,{"$f":"IF(MAX('3-3 위험성평가'!$A$4:$A$423)+1>E92,VLOOKUP(E92,'3-3 위험성평가'!$A$5:$Q$423,17,0),\"\")","v":""},"선택",{"$f":"표지!$D$33","v":0},{"$f":"표지!$E$34","v":0},"선택안함",0]
["T20",2,"S40",4,85,{"$f":"IF(MAX('3-3 위험성평가'!$A$4:$A$423)+1>E93,VLOOKUP(E93,'3-3 위험성평가'!$A$5:$P$423,2,0),\"\")","v":""},{"$f":"IF(F93=\"\",\"\",VLOOKUP(VALUE(F93),'1-1 사업장 공정 정보'!$D$15:$P$41,5,0))","v":""},{"$f":"IF(MAX('3-3 위험성평가'!$A$4:$A$423)+1>E93,VLOOKUP(E93,'3-3 위험성평가'!$A$5:$P$423,3,0),\"\")","v":""},{"$f":"IF(MAX('3-3 위험성평가'!$A$4:$A$423)+1>E93,VLOOKUP(E93,'3-3 위험성평가'!$A$5:$P$423,4,0),\"\")","v":""},{"$f":"IF(MAX('3-3 위험성평가'!$A$4:$A$423)+1>E93,VLOOKUP(E93,'3-3 위험성평가'!$A$5:$P$423,5,0),\"\")","v":""},{"$f":"IF(MAX('3-3 위험성평가'!$A$4:$A$423)+1>E93,VLOOKUP(E93,'3-3 위험성평가'!$A$5:$P$423,6,0),\"\")","v":""},{"$f":"IF(MAX('3-3 위험성평가'!$A$4:$A$423)+1>E93,VLOOKUP(E93,'3-3 위험성평가'!$A$5:$P$423,9,0),\"\")","v":""},{"$f":"IF(MAX('3-3 위험성평가'!$A$4:$A$423)+1>E93,VLOOKUP(E93,'3-3 위험성평가'!$A$5:$P$423,12,0),\"\")&IF(L93>\"\",\".\"&E93,\"\")","v":""},{"$f":"IF(MAX('3-3 위험성평가'!$A$4:$A$423)+1>E93,VLOOKUP(E93,'3-3 위험성평가'!$A$5:$P$423,13,0),\"\")","v":""},null,"하",null,null,null,null,null,null,null,"선택안함",0,{"$f":"IF(MAX('3-3 위험성평가'!$A$4:$A$423)+1>E93,VLOOKUP(E93,'3-3 위험성평가'!$A$5:$Q$423,17,0),\"\")","v":""},"선택",{"$f":"표지!$D$33","v":0},{"$f":"표지!$E$34","v":0},"선택안함",0]
["T20",2,"S40",4,86,{"$f":"IF(MAX('3-3 위험성평가'!$A$4:$A$423)+1>E94,VLOOKUP(E94,'3-3 위험성평가'!$A$5:$P$423,2,0),\"\")","v":""},{"$f":"IF(F94=\"\",\"\",VLOOKUP(VALUE(F94),'1-1 사업장 공정 정보'!$D$15:$P$41,5,0))","v":""},{"$f":"IF(MAX('3-3 위험성평가'!$A$4:$A$423)+1>E94,VLOOKUP(E94,'3-3 위험성평가'!$A$5:$P$423,3,0),\"\")","v":""},{"$f":"IF(MAX('3-3 위험성평가'!$A$4:$A$423)+1>E94,VLOOKUP(E94,'3-3 위험성평가'!$A$5:$P$423,4,0),\"\")","v":""},{"$f":"IF(MAX('3-3 위험성평가'!$A$4:$A$423)+1>E94,VLOOKUP(E94,'3-3 위험성평가'!$A$5:$P$423,5,0),\"\")","v":""},{"$f":"IF(MAX('3-3 위험성평가'!$A$4:$A$423)+1>E94,VLOOKUP(E94,'3-3 위험성평가'!$A$5:$P$423,6,0),\"\")","v":""},{"$f":"IF(MAX('3-3 위험성평가'!$A$4:$A$423)+1>E94,VLOOKUP(E94,'3-3 위험성평가'!$A$5:$P$423,9,0),\"\")","v":""},{"$f":"IF(MAX('3-3 위험성평가'!$A$4:$A$423)+1>E94,VLOOKUP(E94,'3-3 위험성평가'!$A$5:$P$423,12,0),\"\")&IF(L94>\"\",\".\"&E94,\"\")","v":""},{"$f":"IF(MAX('3-3 위험성평가'!$A$4:$A$423)+1>E94,VLOOKUP(E94,'3-3 위험성평가'!$A$5:$P$423,13,0),\"\")","v":""},null,"하",null,null,null,null,null,null,null,"선택안함",0,{"$f":"IF(MAX('3-3 위험성평가'!$A$4:$A$423)+1>E94,VLOOKUP(E94,'3-3 위험성평가'!$A$5:$Q$423,17,0),\"\")","v":""},"선택",{"$f":"표지!$D$33","v":0},{"$f":"표지!$E$34","v":0},"선택안함",0]
["T20",2,"S40",4,87,{"$f":"IF(MAX('3-3 위험성평가'!$A$4:$A$423)+1>E95,VLOOKUP(E95,'3-3 위험성평가'!$A$5:$P$423,2,0),\"\")","v":""},{"$f":"IF(F95=\"\",\"\",VLOOKUP(VALUE(F95),'1-1 사업장 공정 정보'!$D$15:$P$41,5,0))","v":""},{"$f":"IF(MAX('3-3 위험성평가'!$A$4:$A$423)+1>E95,VLOOKUP(E95,'3-3 위험성평가'!$A$5:$P$423,3,0),\"\")","v":""},{"$f":"IF(MAX('3-3 위험성평가'!$A$4:$A$423)+1>E95,VLOOKUP(E95,'3-3 위험성평가'!$A$5:$P$423,4,0),\"\")","v":""},{"$f":"IF(MAX('3-3 위험성평가'!$A$4:$A$423)+1>E95,VLOOKUP(E95,'3-3 위험성평가'!$A$5:$P$423,5,0),\"\")","v":""},{"$f":"IF(MAX('3-3 위험성평가'!$A$4:$A$423)+1>E95,VLOOKUP(E95,'3-3 위험성평가'!$A$5:$P$423,6,0),\"\")","v":""},{"$f":"IF(MAX('3-3 위험성평가'!$A$4:$A$423)+1>E95,VLOOKUP(E95,'3-3 위험성평가'!$A$5:$P$423,9,0),\"\")","v":""},{"$f":"IF(MAX('3-3 위험성평가'!$A$4:$A$423)+1>E95,VLOOKUP(E95,'3-3 위험성평가'!$A$5:$P$423,12,0),\"\")&IF(L95>\"\",\".\"&E95,\"\")","v":""},{"$f":"IF(MAX('3-3 위험성평가'!$A$4:$A$423)+1>E95,VLOOKUP(E95,'3-3 위험성평가'!$A$5:$P$423,13,0),\"\")","v":""},null,"하",null,null,null,null,null,null,null,"선택안함",0,{"$f":"IF(MAX('3-3 위험성평가'!$A$4:$A$423)+1>E95,VLOOKUP(E95,'3-3 위험성평가'!$A$5:$Q$423,17,0),\"\")","v":""},"선택",{"$f":"표지!$D$33","v":0},{"$f":"표지!$E$34","v":0},"선택안함",0]
["T20",2,"S40",4,88,{"$f":"IF(MAX('3-3 위험성평가'!$A$4:$A$423)+1>E96,VLOOKUP(E96,'3-3 위험성평가'!$A$5:$P$423,2,0),\"\")","v":""},{"$f":"IF(F96=\"\",\"\",VLOOKUP(VALUE(F96),'1-1 사업장 공정 정보'!$D$15:$P$41,5,0))","v":""},{"$f":"IF(MAX('3-3 위험성평가'!$A$4:$A$423)+1>E96,VLOOKUP(E96,'3-3 위험성평가'!$A$5:$P$423,3,0),\"\")","v":""},{"$f":"IF(MAX('3-3 위험성평가'!$A$4:$A$423)+1>E96,VLOOKUP(E96,'3-3 위험성평가'!$A$5:$P$423,4,0),\"\")","v":""},{"$f":"IF(MAX('3-3 위험성평가'!$A$4:$A$423)+1>E96,VLOOKUP(E96,'3-3 위험성평가'!$A$5:$P$423,5,0),\"\")","v":""},{"$f":"IF(MAX('3-3 위험성평가'!$A$4:$A$423)+1>E96,VLOOKUP(E96,'3-3 위험성평가'!$A$5:$P$423,6,0),\"\")","v":""},{"$f":"IF(MAX('3-3 위험성평가'!$A$4:$A$423)+1>E96,VLOOKUP(E96,'3-3 위험성평가'!$A$5:$P$423,9,0),\"\")","v":""},{"$f":"IF(MAX('3-3 위험성평가'!$A$4:$A$423)+1>E96,VLOOKUP(E96,'3-3 위험성평가'!$A$5:$P$423,12,0),\"\")&IF(L96>\"\",\".\"&E96,\"\")","v":""},{"$f":"IF(MAX('3-3 위험성평가'!$A$4:$A$423)+1>E96,VLOOKUP(E96,'3-3 위험성평가'!$A$5:$P$423,13,0),\"\")","v":""},null,"하",null,null,null,null,null,null,null,"선택안함",0,{"$f":"IF(MAX('3-3 위험성평가'!$A$4:$A$423)+1>E96,VLOOKUP(E96,'3-3 위험성평가'!$A$5:$Q$423,17,0),\"\")","v":""},"선택",{"$f":"표지!$D$33","v":0},{"$f":"표지!$E$34","v":0},"선택안함",0]
["T20",2,"S40",4,89,{"$f":"IF(MAX('3-3 위험성평가'!$A$4:$A$423)+1>E97,VLOOKUP(E97,'3-3 위험성평가'!$A$5:$P$423,2,0),\"\")","v":""},{"$f":"IF(F97=\"\",\"\",VLOOKUP(VALUE(F97),'1-1 사업장 공정 정보'!$D$15:$P$41,5,0))","v":""},{"$f":"IF(MAX('3-3 위험성평가'!$A$4:$A$423)+1>E97,VLOOKUP(E97,'3-3 위험성평가'!$A$5:$P$423,3,0),\"\")","v":""},{"$f":"IF(MAX('3-3 위험성평가'!$A$4:$A$423)+1>E97,VLOOKUP(E97,'3-3 위험성평가'!$A$5:$P$423,4,0),\"\")","v":""},{"$f":"IF(MAX('3-3 위험성평가'!$A$4:$A$423)+1>E97,VLOOKUP(E97,'3-3 위험성평가'!$A$5:$P$423,5,0),\"\")","v":""},{"$f":"IF(MAX('3-3 위험성평가'!$A$4:$A$423)+1>E97,VLOOKUP(E97,'3-3 위험성평가'!$A$5:$P$423,6,0),\"\")","v":""},{"$f":"IF(MAX('3-3 위험성평가'!$A$4:$A$423)+1>E97,VLOOKUP(E97,'3-3 위험성평가'!$A$5:$P$423,9,0),\"\")","v":""},{"$f":"IF(MAX('3-3 위험성평가'!$A$4:$A$423)+1>E97,VLOOKUP(E97,'3-3 위험성평가'!$A$5:$P$423,12,0),\"\")&IF(L97>\"\",\".\"&E97,\"\")","v":""},{"$f":"IF(MAX('3-3 위험성평가'!$A$4:$A$423)+1>E97,VLOOKUP(E97,'3-3 위험성평가'!$A$5:$P$423,13,0),\"\")","v":""},null,"하",null,null,null,null,null,null,null,"선택안함",0,{"$f":"IF(MAX('3-3 위험성평가'!$A$4:$A$423)+1>E97,VLOOKUP(E97,'3-3 위험성평가'!$A$5:$Q$423,17,0),\"\")","v":""},"선택",{"$f":"표지!$D$33","v":0},{"$f":"표지!$E$34","v":0},"선택안함",0]
["T20",2,"S40",4,90,{"$f":"IF(MAX('3-3 위험성평가'!$A$4:$A$423)+1>E98,VLOOKUP(E98,'3-3 위험성평가'!$A$5:$P$423,2,0),\"\")","v":""},{"$f":"IF(F98=\"\",\"\",VLOOKUP(VALUE(F98),'1-1 사업장 공정 정보'!$D$15:$P$41,5,0))","v":""},{"$f":"IF(MAX('3-3 위험성평가'!$A$4:$A$423)+1>E98,VLOOKUP(E98,'3-3 위험성평가'!$A$5:$P$423,3,0),\"\")","v":""},{"$f":"IF(MAX('3-3 위험성평가'!$A$4:$A$423)+1>E98,VLOOKUP(E98,'3-3 위험성평가'!$A$5:$P$423,4,0),\"\")","v":""},{"$f":"IF(MAX('3-3 위험성평가'!$A$4:$A$423)+1>E98,VLOOKUP(E98,'3-3 위험성평가'!$A$5:$P$423,5,0),\"\")","v":""},{"$f":"IF(MAX('3-3 위험성평가'!$A$4:$A$423)+1>E98,VLOOKUP(E98,'3-3 위험성평가'!$A$5:$P$423,6,0),\"\")","v":""},{"$f":"IF(MAX('3-3 위험성평가'!$A$4:$A$423)+1>E98,VLOOKUP(E98,'3-3 위험성평가'!$A$5:$P$423,9,0),\"\")","v":""},{"$f":"IF(MAX('3-3 위험성평가'!$A$4:$A$423)+1>E98,VLOOKUP(E98,'3-3 위험성평가'!$A$5:$P$423,12,0),\"\")&IF(L98>\"\",\".\"&E98,\"\")","v":""},{"$f":"IF(MAX('3-3 위험성평가'!$A$4:$A$423)+1>E98,VLOOKUP(E98,'3-3 위험성평가'!$A$5:$P$423,13,0),\"\")","v":""},null,"하",null,null,null,null,null,null,null,"선택안함",0,{"$f":"IF(MAX('3-3 위험성평가'!$A$4:$A$423)+1>E98,VLOOKUP(E98,'3-3 위험성평가'!$A$5:$Q$423,17,0),\"\")","v":""},"선택",{"$f":"표지!$D$33","v":0},{"$f":"표지!$E$34","v":0},"선택안함",0]
["T20",2,"S40",4,91,{"$f":"IF(MAX('3-3 위험성평가'!$A$4:$A$423)+1>E99,VLOOKUP(E99,'3-3 위험성평가'!$A$5:$P$423,2,0),\"\")","v":""},{"$f":"IF(F99=\"\",\"\",VLOOKUP(VALUE(F99),'1-1 사업장 공정 정보'!$D$15:$P$41,5,0))","v":""},{"$f":"IF(MAX('3-3 위험성평가'!$A$4:$A$423)+1>E99,VLOOKUP(E99,'3-3 위험성평가'!$A$5:$P$423,3,0),\"\")","v":""},{"$f":"IF(MAX('3-3 위험성평가'!$A$4:$A$423)+1>E99,VLOOKUP(E99,'3-3 위험성평가'!$A$5:$P$423,4,0),\"\")","v":""},{"$f":"IF(MAX('3-3 위험성평가'!$A$4:$A$423)+1>E99,VLOOKUP(E99,'3-3 위험성평가'!$A$5:$P$423,5,0),\"\")","v":""},{"$f":"IF(MAX('3-3 위험성평가'!$A$4:$A$423)+1>E99,VLOOKUP(E99,'3-3 위험성평가'!$A$5:$P$423,6,0),\"\")","v":""},{"$f":"IF(MAX('3-3 위험성평가'!$A$4:$A$423)+1>E99,VLOOKUP(E99,'3-3 위험성평가'!$A$5:$P$423,9,0),\"\")","v":""},{"$f":"IF(MAX('3-3 위험성평가'!$A$4:$A$423)+1>E99,VLOOKUP(E99,'3-3 위험성평가'!$A$5:$P$423,12,0),\"\")&IF(L99>\"\",\".\"&E99,\"\")","v":""},{"$f":"IF(MAX('3-3 위험성평가'!$A$4:$A$423)+1>E99,VLOOKUP(E99,'3-3 위험성평가'!$A$5:$P$423,13,0),\"\")","v":""},null,"하",null,null,null,null,null,null,null,"선택안함",0,{"$f":"IF(MAX('3-3 위험성평가'!$A$4:$A$423)+1>E99,VLOOKUP(E99,'3-3 위험성평가'!$A$5:$Q$423,17,0),\"\")","v":""},"선택",{"$f":"표지!$D$33","v":0},{"$f":"표지!$E$34","v":0},"선택안함",0]
["T20",2,"S40",4,92,{"$f":"IF(MAX('3-3 위험성평가'!$A$4:$A$423)+1>E100,VLOOKUP(E100,'3-3 위험성평가'!$A$5:$P$423,2,0),\"\")","v":""},{"$f":"IF(F100=\"\",\"\",VLOOKUP(VALUE(F100),'1-1 사업장 공정 정보'!$D$15:$P$41,5,0))","v":""},{"$f":"IF(MAX('3-3 위험성평가'!$A$4:$A$423)+1>E100,VLOOKUP(E100,'3-3 위험성평가'!$A$5:$P$423,3,0),\"\")","v":""},{"$f":"IF(MAX('3-3 위험성평가'!$A$4:$A$423)+1>E100,VLOOKUP(E100,'3-3 위험성평가'!$A$5:$P$423,4,0),\"\")","v":""},{"$f":"IF(MAX('3-3 위험성평가'!$A$4:$A$423)+1>E100,VLOOKUP(E100,'3-3 위험성평가'!$A$5:$P$423,5,0),\"\")","v":""},{"$f":"IF(MAX('3-3 위험성평가'!$A$4:$A$423)+1>E100,VLOOKUP(E100,'3-3 위험성평가'!$A$5:$P$423,6,0),\"\")","v":""},{"$f":"IF(MAX('3-3 위험성평가'!$A$4:$A$423)+1>E100,VLOOKUP(E100,'3-3 위험성평가'!$A$5:$P$423,9,0),\"\")","v":""},{"$f":"IF(MAX('3-3 위험성평가'!$A$4:$A$423)+1>E100,VLOOKUP(E100,'3-3 위험성평가'!$A$5:$P$423,12,0),\"\")&IF(L100>\"\",\".\"&E100,\"\")","v":""},{"$f":"IF(MAX('3-3 위험성평가'!$A$4:$A$423)+1>E100,VLOOKUP(E100,'3-3 위험성평가'!$A$5:$P$423,13,0),\"\")","v":""},null,"하",null,null,null,null,null,null,null,"선택안함",0,{"$f":"IF(MAX('3-3 위험성평가'!$A$4:$A$423)+1>E100,VLOOKUP(E100,'3-3 위험성평가'!$A$5:$Q$423,17,0),\"\")","v":""},"선택",{"$f":"표지!$D$33","v":0},{"$f":"표지!$E$34","v":0},"선택안함",0]
["T20",2,"S40",4,93,{"$f":"IF(MAX('3-3 위험성평가'!$A$4:$A$423)+1>E101,VLOOKUP(E101,'3-3 위험성평가'!$A$5:$P$423,2,0),\"\")","v":""},{"$f":"IF(F101=\"\",\"\",VLOOKUP(VALUE(F101),'1-1 사업장 공정 정보'!$D$15:$P$41,5,0))","v":""},{"$f":"IF(MAX('3-3 위험성평가'!$A$4:$A$423)+1>E101,VLOOKUP(E101,'3-3 위험성평가'!$A$5:$P$423,3,0),\"\")","v":""},{"$f":"IF(MAX('3-3 위험성평가'!$A$4:$A$423)+1>E101,VLOOKUP(E101,'3-3 위험성평가'!$A$5:$P$423,4,0),\"\")","v":""},{"$f":"IF(MAX('3-3 위험성평가'!$A$4:$A$423)+1>E101,VLOOKUP(E101,'3-3 위험성평가'!$A$5:$P$423,5,0),\"\")","v":""},{"$f":"IF(MAX('3-3 위험성평가'!$A$4:$A$423)+1>E101,VLOOKUP(E101,'3-3 위험성평가'!$A$5:$P$423,6,0),\"\")","v":""},{"$f":"IF(MAX('3-3 위험성평가'!$A$4:$A$423)+1>E101,VLOOKUP(E101,'3-3 위험성평가'!$A$5:$P$423,9,0),\"\")","v":""},{"$f":"IF(MAX('3-3 위험성평가'!$A$4:$A$423)+1>E101,VLOOKUP(E101,'3-3 위험성평가'!$A$5:$P$423,12,0),\"\")&IF(L101>\"\",\".\"&E101,\"\")","v":""},{"$f":"IF(MAX('3-3 위험성평가'!$A$4:$A$423)+1>E101,VLOOKUP(E101,'3-3 위험성평가'!$A$5:$P$423,13,0),\"\")","v":""},null,"하",null,null,null,null,null,null,null,"선택안함",0,{"$f":"IF(MAX('3-3 위험성평가'!$A$4:$A$423)+1>E101,VLOOKUP(E101,'3-3 위험성평가'!$A$5:$Q$423,17,0),\"\")","v":""},"선택",{"$f":"표지!$D$33","v":0},{"$f":"표지!$E$34","v":0},"선택안함",0]
["T20",2,"S40",4,94,{"$f":"IF(MAX('3-3 위험성평가'!$A$4:$A$423)+1>E102,VLOOKUP(E102,'3-3 위험성평가'!$A$5:$P$423,2,0),\"\")","v":""},{"$f":"IF(F102=\"\",\"\",VLOOKUP(VALUE(F102),'1-1 사업장 공정 정보'!$D$15:$P$41,5,0))","v":""},{"$f":"IF(MAX('3-3 위험성평가'!$A$4:$A$423)+1>E102,VLOOKUP(E102,'3-3 위험성평가'!$A$5:$P$423,3,0),\"\")","v":""},{"$f":"IF(MAX('3-3 위험성평가'!$A$4:$A$423)+1>E102,VLOOKUP(E102,'3-3 위험성평가'!$A$5:$P$423,4,0),\"\")","v":""},{"$f":"IF(MAX('3-3 위험성평가'!$A$4:$A$423)+1>E102,VLOOKUP(E102,'3-3 위험성평가'!$A$5:$P$423,5,0),\"\")","v":""},{"$f":"IF(MAX('3-3 위험성평가'!$A$4:$A$423)+1>E102,VLOOKUP(E102,'3-3 위험성평가'!$A$5:$P$423,6,0),\"\")","v":""},{"$f":"IF(MAX('3-3 위험성평가'!$A$4:$A$423)+1>E102,VLOOKUP(E102,'3-3 위험성평가'!$A$5:$P$423,9,0),\"\")","v":""},{"$f":"IF(MAX('3-3 위험성평가'!$A$4:$A$423)+1>E102,VLOOKUP(E102,'3-3 위험성평가'!$A$5:$P$423,12,0),\"\")&IF(L102>\"\",\".\"&E102,\"\")","v":""},{"$f":"IF(MAX('3-3 위험성평가'!$A$4:$A$423)+1>E102,VLOOKUP(E102,'3-3 위험성평가'!$A$5:$P$423,13,0),\"\")","v":""},null,"하",null,null,null,null,null,null,null,"선택안함",0,{"$f":"IF(MAX('3-3 위험성평가'!$A$4:$A$423)+1>E102,VLOOKUP(E102,'3-3 위험성평가'!$A$5:$Q$423,17,0),\"\")","v":""},"선택",{"$f":"표지!$D$33","v":0},{"$f":"표지!$E$34","v":0},"선택안함",0]
["T20",2,"S40",4,95,{"$f":"IF(MAX('3-3 위험성평가'!$A$4:$A$423)+1>E103,VLOOKUP(E103,'3-3 위험성평가'!$A$5:$P$423,2,0),\"\")","v":""},{"$f":"IF(F103=\"\",\"\",VLOOKUP(VALUE(F103),'1-1 사업장 공정 정보'!$D$15:$P$41,5,0))","v":""},{"$f":"IF(MAX('3-3 위험성평가'!$A$4:$A$423)+1>E103,VLOOKUP(E103,'3-3 위험성평가'!$A$5:$P$423,3,0),\"\")","v":""},{"$f":"IF(MAX('3-3 위험성평가'!$A$4:$A$423)+1>E103,VLOOKUP(E103,'3-3 위험성평가'!$A$5:$P$423,4,0),\"\")","v":""},{"$f":"IF(MAX('3-3 위험성평가'!$A$4:$A$423)+1>E103,VLOOKUP(E103,'3-3 위험성평가'!$A$5:$P$423,5,0),\"\")","v":""},{"$f":"IF(MAX('3-3 위험성평가'!$A$4:$A$423)+1>E103,VLOOKUP(E103,'3-3 위험성평가'!$A$5:$P$423,6,0),\"\")","v":""},{"$f":"IF(MAX('3-3 위험성평가'!$A$4:$A$423)+1>E103,VLOOKUP(E103,'3-3 위험성평가'!$A$5:$P$423,9,0),\"\")","v":""},{"$f":"IF(MAX('3-3 위험성평가'!$A$4:$A$423)+1>E103,VLOOKUP(E103,'3-3 위험성평가'!$A$5:$P$423,12,0),\"\")&IF(L103>\"\",\".\"&E103,\"\")","v":""},{"$f":"IF(MAX('3-3 위험성평가'!$A$4:$A$423)+1>E103,VLOOKUP(E103,'3-3 위험성평가'!$A$5:$P$423,13,0),\"\")","v":""},null,"하",null,null,null,null,null,null,null,"선택안함",0,{"$f":"IF(MAX('3-3 위험성평가'!$A$4:$A$423)+1>E103,VLOOKUP(E103,'3-3 위험성평가'!$A$5:$Q$423,17,0),\"\")","v":""},"선택",{"$f":"표지!$D$33","v":0},{"$f":"표지!$E$34","v":0},"선택안함",0]
["T20",2,"S40",4,96,{"$f":"IF(MAX('3-3 위험성평가'!$A$4:$A$423)+1>E104,VLOOKUP(E104,'3-3 위험성평가'!$A$5:$P$423,2,0),\"\")","v":""},{"$f":"IF(F104=\"\",\"\",VLOOKUP(VALUE(F104),'1-1 사업장 공정 정보'!$D$15:$P$41,5,0))","v":""},{"$f":"IF(MAX('3-3 위험성평가'!$A$4:$A$423)+1>E104,VLOOKUP(E104,'3-3 위험성평가'!$A$5:$P$423,3,0),\"\")","v":""},{"$f":"IF(MAX('3-3 위험성평가'!$A$4:$A$423)+1>E104,VLOOKUP(E104,'3-3 위험성평가'!$A$5:$P$423,4,0),\"\")","v":""},{"$f":"IF(MAX('3-3 위험성평가'!$A$4:$A$423)+1>E104,VLOOKUP(E104,'3-3 위험성평가'!$A$5:$P$423,5,0),\"\")","v":""},{"$f":"IF(MAX('3-3 위험성평가'!$A$4:$A$423)+1>E104,VLOOKUP(E104,'3-3 위험성평가'!$A$5:$P$423,6,0),\"\")","v":""},{"$f":"IF(MAX('3-3 위험성평가'!$A$4:$A$423)+1>E104,VLOOKUP(E104,'3-3 위험성평가'!$A$5:$P$423,9,0),\"\")","v":""},{"$f":"IF(MAX('3-3 위험성평가'!$A$4:$A$423)+1>E104,VLOOKUP(E104,'3-3 위험성평가'!$A$5:$P$423,12,0),\"\")&IF(L104>\"\",\".\"&E104,\"\")","v":""},{"$f":"IF(MAX('3-3 위험성평가'!$A$4:$A$423)+1>E104,VLOOKUP(E104,'3-3 위험성평가'!$A$5:$P$423,13,0),\"\")","v":""},null,"하",null,null,null,null,null,null,null,"선택안함",0,{"$f":"IF(MAX('3-3 위험성평가'!$A$4:$A$423)+1>E104,VLOOKUP(E104,'3-3 위험성평가'!$A$5:$Q$423,17,0),\"\")","v":""},"선택",{"$f":"표지!$D$33","v":0},{"$f":"표지!$E$34","v":0},"선택안함",0]
["T20",2,"S40",4,97,{"$f":"IF(MAX('3-3 위험성평가'!$A$4:$A$423)+1>E105,VLOOKUP(E105,'3-3 위험성평가'!$A$5:$P$423,2,0),\"\")","v":""},{"$f":"IF(F105=\"\",\"\",VLOOKUP(VALUE(F105),'1-1 사업장 공정 정보'!$D$15:$P$41,5,0))","v":""},{"$f":"IF(MAX('3-3 위험성평가'!$A$4:$A$423)+1>E105,VLOOKUP(E105,'3-3 위험성평가'!$A$5:$P$423,3,0),\"\")","v":""},{"$f":"IF(MAX('3-3 위험성평가'!$A$4:$A$423)+1>E105,VLOOKUP(E105,'3-3 위험성평가'!$A$5:$P$423,4,0),\"\")","v":""},{"$f":"IF(MAX('3-3 위험성평가'!$A$4:$A$423)+1>E105,VLOOKUP(E105,'3-3 위험성평가'!$A$5:$P$423,5,0),\"\")","v":""},{"$f":"IF(MAX('3-3 위험성평가'!$A$4:$A$423)+1>E105,VLOOKUP(E105,'3-3 위험성평가'!$A$5:$P$423,6,0),\"\")","v":""},{"$f":"IF(MAX('3-3 위험성평가'!$A$4:$A$423)+1>E105,VLOOKUP(E105,'3-3 위험성평가'!$A$5:$P$423,9,0),\"\")","v":""},{"$f":"IF(MAX('3-3 위험성평가'!$A$4:$A$423)+1>E105,VLOOKUP(E105,'3-3 위험성평가'!$A$5:$P$423,12,0),\"\")&IF(L105>\"\",\".\"&E105,\"\")","v":""},{"$f":"IF(MAX('3-3 위험성평가'!$A$4:$A$423)+1>E105,VLOOKUP(E105,'3-3 위험성평가'!$A$5:$P$423,13,0),\"\")","v":""},null,"하",null,null,null,null,null,null,null,"선택안함",0,{"$f":"IF(MAX('3-3 위험성평가'!$A$4:$A$423)+1>E105,VLOOKUP(E105,'3-3 위험성평가'!$A$5:$Q$423,17,0),\"\")","v":""},"선택",{"$f":"표지!$D$33","v":0},{"$f":"표지!$E$34","v":0},"선택안함",0]
["T20",2,"S40",4,98,{"$f":"IF(MAX('3-3 위험성평가'!$A$4:$A$423)+1>E106,VLOOKUP(E106,'3-3 위험성평가'!$A$5:$P$423,2,0),\"\")","v":""},{"$f":"IF(F106=\"\",\"\",VLOOKUP(VALUE(F106),'1-1 사업장 공정 정보'!$D$15:$P$41,5,0))","v":""},{"$f":"IF(MAX('3-3 위험성평가'!$A$4:$A$423)+1>E106,VLOOKUP(E106,'3-3 위험성평가'!$A$5:$P$423,3,0),\"\")","v":""},{"$f":"IF(MAX('3-3 위험성평가'!$A$4:$A$423)+1>E106,VLOOKUP(E106,'3-3 위험성평가'!$A$5:$P$423,4,0),\"\")","v":""},{"$f":"IF(MAX('3-3 위험성평가'!$A$4:$A$423)+1>E106,VLOOKUP(E106,'3-3 위험성평가'!$A$5:$P$423,5,0),\"\")","v":""},{"$f":"IF(MAX('3-3 위험성평가'!$A$4:$A$423)+1>E106,VLOOKUP(E106,'3-3 위험성평가'!$A$5:$P$423,6,0),\"\")","v":""},{"$f":"IF(MAX('3-3 위험성평가'!$A$4:$A$423)+1>E106,VLOOKUP(E106,'3-3 위험성평가'!$A$5:$P$423,9,0),\"\")","v":""},{"$f":"IF(MAX('3-3 위험성평가'!$A$4:$A$423)+1>E106,VLOOKUP(E106,'3-3 위험성평가'!$A$5:$P$423,12,0),\"\")&IF(L106>\"\",\".\"&E106,\"\")","v":""},{"$f":"IF(MAX('3-3 위험성평가'!$A$4:$A$423)+1>E106,VLOOKUP(E106,'3-3 위험성평가'!$A$5:$P$423,13,0),\"\")","v":""},null,"하",null,null,null,null,null,null,null,"선택안함",0,{"$f":"IF(MAX('3-3 위험성평가'!$A$4:$A$423)+1>E106,VLOOKUP(E106,'3-3 위험성평가'!$A$5:$Q$423,17,0),\"\")","v":""},"선택",{"$f":"표지!$D$33","v":0},{"$f":"표지!$E$34","v":0},"선택안함",0]
["T20",{"$f":"B106+Y107","v":2},"S40",4,99,{"$f":"IF(MAX('3-3 위험성평가'!$A$4:$A$423)+1>E107,VLOOKUP(E107,'3-3 위험성평가'!$A$5:$P$423,2,0),\"\")","v":""},{"$f":"IF(F107=\"\",\"\",VLOOKUP(VALUE(F107),'1-1 사업장 공정 정보'!$D$15:$P$41,5,0))","v":""},{"$f":"IF(MAX('3-3 위험성평가'!$A$4:$A$423)+1>E107,VLOOKUP(E107,'3-3 위험성평가'!$A$5:$P$423,3,0),\"\")","v":""},{"$f":"IF(MAX('3-3 위험성평가'!$A$4:$A$423)+1>E107,VLOOKUP(E107,'3-3 위험성평가'!$A$5:$P$423,4,0),\"\")","v":""},{"$f":"IF(MAX('3-3 위험성평가'!$A$4:$A$423)+1>E107,VLOOKUP(E107,'3-3 위험성평가'!$A$5:$P$423,5,0),\"\")","v":""},{"$f":"IF(MAX('3-3 위험성평가'!$A$4:$A$423)+1>E107,VLOOKUP(E107,'3-3 위험성평가'!$A$5:$P$423,6,0),\"\")","v":""},{"$f":"IF(MAX('3-3 위험성평가'!$A$4:$A$423)+1>E107,VLOOKUP(E107,'3-3 위험성평가'!$A$5:$P$423,9,0),\"\")","v":""},{"$f":"IF(MAX('3-3 위험성평가'!$A$4:$A$423)+1>E107,VLOOKUP(E107,'3-3 위험성평가'!$A$5:$P$423,12,0),\"\")&IF(L107>\"\",\".\"&E107,\"\")","v":""},{"$f":"IF(MAX('3-3 위험성평가'!$A$4:$A$423)+1>E107,VLOOKUP(E107,'3-3 위험성평가'!$A$5:$P$423,13,0),\"\")","v":""},null,"하",null,null,null,null,null,null,null,"선택안함",0,{"$f":"IF(MAX('3-3 위험성평가'!$A$4:$A$423)+1>E107,VLOOKUP(E107,'3-3 위험성평가'!$A$5:$Q$423,17,0),\"\")","v":""},"선택",{"$f":"표지!$D$33","v":0},{"$f":"표지!$E$34","v":0},"선택안함",0]
["T20",2,"S40",4,100,{"$f":"IF(MAX('3-3 위험성평가'!$A$4:$A$423)+1>E108,VLOOKUP(E108,'3-3 위험성평가'!$A$5:$P$423,2,0),\"\")","v":""},{"$f":"IF(F108=\"\",\"\",VLOOKUP(VALUE(F108),'1-1 사업장 공정 정보'!$D$15:$P$41,5,0))","v":""},{"$f":"IF(MAX('3-3 위험성평가'!$A$4:$A$423)+1>E108,VLOOKUP(E108,'3-3 위험성평가'!$A$5:$P$423,3,0),\"\")","v":""},{"$f":"IF(MAX('3-3 위험성평가'!$A$4:$A$423)+1>E108,VLOOKUP(E108,'3-3 위험성평가'!$A$5:$P$423,4,0),\"\")","v":""},{"$f":"IF(MAX('3-3 위험성평가'!$A$4:$A$423)+1>E108,VLOOKUP(E108,'3-3 위험성평가'!$A$5:$P$423,5,0),\"\")","v":""},{"$f":"IF(MAX('3-3 위험성평가'!$A$4:$A$423)+1>E108,VLOOKUP(E108,'3-3 위험성평가'!$A$5:$P$423,6,0),\"\")","v":""},{"$f":"IF(MAX('3-3 위험성평가'!$A$4:$A$423)+1>E108,VLOOKUP(E108,'3-3 위험성평가'!$A$5:$P$423,9,0),\"\")","v":""},{"$f":"IF(MAX('3-3 위험성평가'!$A$4:$A$423)+1>E108,VLOOKUP(E108,'3-3 위험성평가'!$A$5:$P$423,12,0),\"\")&IF(L108>\"\",\".\"&E108,\"\")","v":""},{"$f":"IF(MAX('3-3 위험성평가'!$A$4:$A$423)+1>E108,VLOOKUP(E108,'3-3 위험성평가'!$A$5:$P$423,13,0),\"\")","v":""},null,"하",null,null,null,null,null,null,null,"선택안함",0,{"$f":"IF(MAX('3-3 위험성평가'!$A$4:$A$423)+1>E108,VLOOKUP(E108,'3-3 위험성평가'!$A$5:$Q$423,17,0),\"\")","v":""},"선택",{"$f":"표지!$D$33","v":0},{"$f":"표지!$E$34","v":0},"선택안함",0]
["T20",2,"S40",4,101,{"$f":"IF(MAX('3-3 위험성평가'!$A$4:$A$423)+1>E109,VLOOKUP(E109,'3-3 위험성평가'!$A$5:$P$423,2,0),\"\")","v":""},{"$f":"IF(F109=\"\",\"\",VLOOKUP(VALUE(F109),'1-1 사업장 공정 정보'!$D$15:$P$41,5,0))","v":""},{"$f":"IF(MAX('3-3 위험성평가'!$A$4:$A$423)+1>E109,VLOOKUP(E109,'3-3 위험성평가'!$A$5:$P$423,3,0),\"\")","v":""},{"$f":"IF(MAX('3-3 위험성평가'!$A$4:$A$423)+1>E109,VLOOKUP(E109,'3-3 위험성평가'!$A$5:$P$423,4,0),\"\")","v":""},{"$f":"IF(MAX('3-3 위험성평가'!$A$4:$A$423)+1>E109,VLOOKUP(E109,'3-3 위험성평가'!$A$5:$P$423,5,0),\"\")","v":""},{"$f":"IF(MAX('3-3 위험성평가'!$A$4:$A$423)+1>E109,VLOOKUP(E109,'3-3 위험성평가'!$A$5:$P$423,6,0),\"\")","v":""},{"$f":"IF(MAX('3-3 위험성평가'!$A$4:$A$423)+1>E109,VLOOKUP(E109,'3-3 위험성평가'!$A$5:$P$423,9,0),\"\")","v":""},{"$f":"IF(MAX('3-3 위험성평가'!$A$4:$A$423)+1>E109,VLOOKUP(E109,'3-3 위험성평가'!$A$5:$P$423,12,0),\"\")&IF(L109>\"\",\".\"&E109,\"\")","v":""},{"$f":"IF(MAX('3-3 위험성평가'!$A$4:$A$423)+1>E109,VLOOKUP(E109,'3-3 위험성평가'!$A$5:$P$423,13,0),\"\")","v":""},null,"하",null,null,null,null,null,null,null,"선택안함",0,{"$f":"IF(MAX('3-3 위험성평가'!$A$4:$A$423)+1>E109,VLOOKUP(E109,'3-3 위험성평가'!$A$5:$Q$423,17,0),\"\")","v":""},"선택",{"$f":"표지!$D$33","v":0},{"$f":"표지!$E$34","v":0},"선택안함",0]
["T20",2,"S40",4,102,{"$f":"IF(MAX('3-3 위험성평가'!$A$4:$A$423)+1>E110,VLOOKUP(E110,'3-3 위험성평가'!$A$5:$P$423,2,0),\"\")","v":""},{"$f":"IF(F110=\"\",\"\",VLOOKUP(VALUE(F110),'1-1 사업장 공정 정보'!$D$15:$P$41,5,0))","v":""},{"$f":"IF(MAX('3-3 위험성평가'!$A$4:$A$423)+1>E110,VLOOKUP(E110,'3-3 위험성평가'!$A$5:$P$423,3,0),\"\")","v":""},{"$f":"IF(MAX('3-3 위험성평가'!$A$4:$A$423)+1>E110,VLOOKUP(E110,'3-3 위험성평가'!$A$5:$P$423,4,0),\"\")","v":""},{"$f":"IF(MAX('3-3 위험성평가'!$A$4:$A$423)+1>E110,VLOOKUP(E110,'3-3 위험성평가'!$A$5:$P$423,5,0),\"\")","v":""},{"$f":"IF(MAX('3-3 위험성평가'!$A$4:$A$423)+1>E110,VLOOKUP(E110,'3-3 위험성평가'!$A$5:$P$423,6,0),\"\")","v":""},{"$f":"IF(MAX('3-3 위험성평가'!$A$4:$A$423)+1>E110,VLOOKUP(E110,'3-3 위험성평가'!$A$5:$P$423,9,0),\"\")","v":""},{"$f":"IF(MAX('3-3 위험성평가'!$A$4:$A$423)+1>E110,VLOOKUP(E110,'3-3 위험성평가'!$A$5:$P$423,12,0),\"\")&IF(L110>\"\",\".\"&E110,\"\")","v":""},{"$f":"IF(MAX('3-3 위험성평가'!$A$4:$A$423)+1>E110,VLOOKUP(E110,'3-3 위험성평가'!$A$5:$P$423,13,0),\"\")","v":""},null,"하",null,null,null,null,null,null,null,"선택안함",0,{"$f":"IF(MAX('3-3 위험성평가'!$A$4:$A$423)+1>E110,VLOOKUP(E110,'3-3 위험성평가'!$A$5:$Q$423,17,0),\"\")","v":""},"선택",{"$f":"표지!$D$33","v":0},{"$f":"표지!$E$34","v":0},"선택안함",0]
["T20",2,"S40",4,103,{"$f":"IF(MAX('3-3 위험성평가'!$A$4:$A$423)+1>E111,VLOOKUP(E111,'3-3 위험성평가'!$A$5:$P$423,2,0),\"\")","v":""},{"$f":"IF(F111=\"\",\"\",VLOOKUP(VALUE(F111),'1-1 사업장 공정 정보'!$D$15:$P$41,5,0))","v":""},{"$f":"IF(MAX('3-3 위험성평가'!$A$4:$A$423)+1>E111,VLOOKUP(E111,'3-3 위험성평가'!$A$5:$P$423,3,0),\"\")","v":""},{"$f":"IF(MAX('3-3 위험성평가'!$A$4:$A$423)+1>E111,VLOOKUP(E111,'3-3 위험성평가'!$A$5:$P$423,4,0),\"\")","v":""},{"$f":"IF(MAX('3-3 위험성평가'!$A$4:$A$423)+1>E111,VLOOKUP(E111,'3-3 위험성평가'!$A$5:$P$423,5,0),\"\")","v":""},{"$f":"IF(MAX('3-3 위험성평가'!$A$4:$A$423)+1>E111,VLOOKUP(E111,'3-3 위험성평가'!$A$5:$P$423,6,0),\"\")","v":""},{"$f":"IF(MAX('3-3 위험성평가'!$A$4:$A$423)+1>E111,VLOOKUP(E111,'3-3 위험성평가'!$A$5:$P$423,9,0),\"\")","v":""},{"$f":"IF(MAX('3-3 위험성평가'!$A$4:$A$423)+1>E111,VLOOKUP(E111,'3-3 위험성평가'!$A$5:$P$423,12,0),\"\")&IF(L111>\"\",\".\"&E111,\"\")","v":""},{"$f":"IF(MAX('3-3 위험성평가'!$A$4:$A$423)+1>E111,VLOOKUP(E111,'3-3 위험성평가'!$A$5:$P$423,13,0),\"\")","v":""},null,"하",null,null,null,null,null,null,null,"선택안함",0,{"$f":"IF(MAX('3-3 위험성평가'!$A$4:$A$423)+1>E111,VLOOKUP(E111,'3-3 위험성평가'!$A$5:$Q$423,17,0),\"\")","v":""},"선택",{"$f":"표지!$D$33","v":0},{"$f":"표지!$E$34","v":0},"선택안함",0]
["T20",2,"S40",4,104,{"$f":"IF(MAX('3-3 위험성평가'!$A$4:$A$423)+1>E112,VLOOKUP(E112,'3-3 위험성평가'!$A$5:$P$423,2,0),\"\")","v":""},{"$f":"IF(F112=\"\",\"\",VLOOKUP(VALUE(F112),'1-1 사업장 공정 정보'!$D$15:$P$41,5,0))","v":""},{"$f":"IF(MAX('3-3 위험성평가'!$A$4:$A$423)+1>E112,VLOOKUP(E112,'3-3 위험성평가'!$A$5:$P$423,3,0),\"\")","v":""},{"$f":"IF(MAX('3-3 위험성평가'!$A$4:$A$423)+1>E112,VLOOKUP(E112,'3-3 위험성평가'!$A$5:$P$423,4,0),\"\")","v":""},{"$f":"IF(MAX('3-3 위험성평가'!$A$4:$A$423)+1>E112,VLOOKUP(E112,'3-3 위험성평가'!$A$5:$P$423,5,0),\"\")","v":""},{"$f":"IF(MAX('3-3 위험성평가'!$A$4:$A$423)+1>E112,VLOOKUP(E112,'3-3 위험성평가'!$A$5:$P$423,6,0),\"\")","v":""},{"$f":"IF(MAX('3-3 위험성평가'!$A$4:$A$423)+1>E112,VLOOKUP(E112,'3-3 위험성평가'!$A$5:$P$423,9,0),\"\")","v":""},{"$f":"IF(MAX('3-3 위험성평가'!$A$4:$A$423)+1>E112,VLOOKUP(E112,'3-3 위험성평가'!$A$5:$P$423,12,0),\"\")&IF(L112>\"\",\".\"&E112,\"\")","v":""},{"$f":"IF(MAX('3-3 위험성평가'!$A$4:$A$423)+1>E112,VLOOKUP(E112,'3-3 위험성평가'!$A$5:$P$423,13,0),\"\")","v":""},null,"하",null,null,null,null,null,null,null,"선택안함",0,{"$f":"IF(MAX('3-3 위험성평가'!$A$4:$A$423)+1>E112,VLOOKUP(E112,'3-3 위험성평가'!$A$5:$Q$423,17,0),\"\")","v":""},"선택",{"$f":"표지!$D$33","v":0},{"$f":"표지!$E$34","v":0},"선택안함",0]
["T20",2,"S40",4,105,{"$f":"IF(MAX('3-3 위험성평가'!$A$4:$A$423)+1>E113,VLOOKUP(E113,'3-3 위험성평가'!$A$5:$P$423,2,0),\"\")","v":""},{"$f":"IF(F113=\"\",\"\",VLOOKUP(VALUE(F113),'1-1 사업장 공정 정보'!$D$15:$P$41,5,0))","v":""},{"$f":"IF(MAX('3-3 위험성평가'!$A$4:$A$423)+1>E113,VLOOKUP(E113,'3-3 위험성평가'!$A$5:$P$423,3,0),\"\")","v":""},{"$f":"IF(MAX('3-3 위험성평가'!$A$4:$A$423)+1>E113,VLOOKUP(E113,'3-3 위험성평가'!$A$5:$P$423,4,0),\"\")","v":""},{"$f":"IF(MAX('3-3 위험성평가'!$A$4:$A$423)+1>E113,VLOOKUP(E113,'3-3 위험성평가'!$A$5:$P$423,5,0),\"\")","v":""},{"$f":"IF(MAX('3-3 위험성평가'!$A$4:$A$423)+1>E113,VLOOKUP(E113,'3-3 위험성평가'!$A$5:$P$423,6,0),\"\")","v":""},{"$f":"IF(MAX('3-3 위험성평가'!$A$4:$A$423)+1>E113,VLOOKUP(E113,'3-3 위험성평가'!$A$5:$P$423,9,0),\"\")","v":""},{"$f":"IF(MAX('3-3 위험성평가'!$A$4:$A$423)+1>E113,VLOOKUP(E113,'3-3 위험성평가'!$A$5:$P$423,12,0),\"\")&IF(L113>\"\",\".\"&E113,\"\")","v":""},{"$f":"IF(MAX('3-3 위험성평가'!$A$4:$A$423)+1>E113,VLOOKUP(E113,'3-3 위험성평가'!$A$5:$P$423,13,0),\"\")","v":""},null,"하",null,null,null,null,null,null,null,"선택안함",0,{"$f":"IF(MAX('3-3 위험성평가'!$A$4:$A$423)+1>E113,VLOOKUP(E113,'3-3 위험성평가'!$A$5:$Q$423,17,0),\"\")","v":""},"선택",{"$f":"표지!$D$33","v":0},{"$f":"표지!$E$34","v":0},"선택안함",0]
["T20",2,"S40",4,106,{"$f":"IF(MAX('3-3 위험성평가'!$A$4:$A$423)+1>E114,VLOOKUP(E114,'3-3 위험성평가'!$A$5:$P$423,2,0),\"\")","v":""},{"$f":"IF(F114=\"\",\"\",VLOOKUP(VALUE(F114),'1-1 사업장 공정 정보'!$D$15:$P$41,5,0))","v":""},{"$f":"IF(MAX('3-3 위험성평가'!$A$4:$A$423)+1>E114,VLOOKUP(E114,'3-3 위험성평가'!$A$5:$P$423,3,0),\"\")","v":""},{"$f":"IF(MAX('3-3 위험성평가'!$A$4:$A$423)+1>E114,VLOOKUP(E114,'3-3 위험성평가'!$A$5:$P$423,4,0),\"\")","v":""},{"$f":"IF(MAX('3-3 위험성평가'!$A$4:$A$423)+1>E114,VLOOKUP(E114,'3-3 위험성평가'!$A$5:$P$423,5,0),\"\")","v":""},{"$f":"IF(MAX('3-3 위험성평가'!$A$4:$A$423)+1>E114,VLOOKUP(E114,'3-3 위험성평가'!$A$5:$P$423,6,0),\"\")","v":""},{"$f":"IF(MAX('3-3 위험성평가'!$A$4:$A$423)+1>E114,VLOOKUP(E114,'3-3 위험성평가'!$A$5:$P$423,9,0),\"\")","v":""},{"$f":"IF(MAX('3-3 위험성평가'!$A$4:$A$423)+1>E114,VLOOKUP(E114,'3-3 위험성평가'!$A$5:$P$423,12,0),\"\")&IF(L114>\"\",\".\"&E114,\"\")","v":""},{"$f":"IF(MAX('3-3 위험성평가'!$A$4:$A$423)+1>E114,VLOOKUP(E114,'3-3 위험성평가'!$A$5:$P$423,13,0),\"\")","v":""},null,"하",null,null,null,null,null,null,null,"선택안함",0,{"$f":"IF(MAX('3-3 위험성평가'!$A$4:$A$423)+1>E114,VLOOKUP(E114,'3-3 위험성평가'!$A$5:$Q$423,17,0),\"\")","v":""},"선택",{"$f":"표지!$D$33","v":0},{"$f":"표지!$E$34","v":0},"선택안함",0]
["T20",2,"S40",4,107,{"$f":"IF(MAX('3-3 위험성평가'!$A$4:$A$423)+1>E115,VLOOKUP(E115,'3-3 위험성평가'!$A$5:$P$423,2,0),\"\")","v":""},{"$f":"IF(F115=\"\",\"\",VLOOKUP(VALUE(F115),'1-1 사업장 공정 정보'!$D$15:$P$41,5,0))","v":""},{"$f":"IF(MAX('3-3 위험성평가'!$A$4:$A$423)+1>E115,VLOOKUP(E115,'3-3 위험성평가'!$A$5:$P$423,3,0),\"\")","v":""},{"$f":"IF(MAX('3-3 위험성평가'!$A$4:$A$423)+1>E115,VLOOKUP(E115,'3-3 위험성평가'!$A$5:$P$423,4,0),\"\")","v":""},{"$f":"IF(MAX('3-3 위험성평가'!$A$4:$A$423)+1>E115,VLOOKUP(E115,'3-3 위험성평가'!$A$5:$P$423,5,0),\"\")","v":""},{"$f":"IF(MAX('3-3 위험성평가'!$A$4:$A$423)+1>E115,VLOOKUP(E115,'3-3 위험성평가'!$A$5:$P$423,6,0),\"\")","v":""},{"$f":"IF(MAX('3-3 위험성평가'!$A$4:$A$423)+1>E115,VLOOKUP(E115,'3-3 위험성평가'!$A$5:$P$423,9,0),\"\")","v":""},{"$f":"IF(MAX('3-3 위험성평가'!$A$4:$A$423)+1>E115,VLOOKUP(E115,'3-3 위험성평가'!$A$5:$P$423,12,0),\"\")&IF(L115>\"\",\".\"&E115,\"\")","v":""},{"$f":"IF(MAX('3-3 위험성평가'!$A$4:$A$423)+1>E115,VLOOKUP(E115,'3-3 위험성평가'!$A$5:$P$423,13,0),\"\")","v":""},null,"하",null,null,null,null,null,null,null,"선택안함",0,{"$f":"IF(MAX('3-3 위험성평가'!$A$4:$A$423)+1>E115,VLOOKUP(E115,'3-3 위험성평가'!$A$5:$Q$423,17,0),\"\")","v":""},"선택",{"$f":"표지!$D$33","v":0},{"$f":"표지!$E$34","v":0},"선택안함",0]
["T20",2,"S40",4,108,{"$f":"IF(MAX('3-3 위험성평가'!$A$4:$A$423)+1>E116,VLOOKUP(E116,'3-3 위험성평가'!$A$5:$P$423,2,0),\"\")","v":""},{"$f":"IF(F116=\"\",\"\",VLOOKUP(VALUE(F116),'1-1 사업장 공정 정보'!$D$15:$P$41,5,0))","v":""},{"$f":"IF(MAX('3-3 위험성평가'!$A$4:$A$423)+1>E116,VLOOKUP(E116,'3-3 위험성평가'!$A$5:$P$423,3,0),\"\")","v":""},{"$f":"IF(MAX('3-3 위험성평가'!$A$4:$A$423)+1>E116,VLOOKUP(E116,'3-3 위험성평가'!$A$5:$P$423,4,0),\"\")","v":""},{"$f":"IF(MAX('3-3 위험성평가'!$A$4:$A$423)+1>E116,VLOOKUP(E116,'3-3 위험성평가'!$A$5:$P$423,5,0),\"\")","v":""},{"$f":"IF(MAX('3-3 위험성평가'!$A$4:$A$423)+1>E116,VLOOKUP(E116,'3-3 위험성평가'!$A$5:$P$423,6,0),\"\")","v":""},{"$f":"IF(MAX('3-3 위험성평가'!$A$4:$A$423)+1>E116,VLOOKUP(E116,'3-3 위험성평가'!$A$5:$P$423,9,0),\"\")","v":""},{"$f":"IF(MAX('3-3 위험성평가'!$A$4:$A$423)+1>E116,VLOOKUP(E116,'3-3 위험성평가'!$A$5:$P$423,12,0),\"\")&IF(L116>\"\",\".\"&E116,\"\")","v":""},{"$f":"IF(MAX('3-3 위험성평가'!$A$4:$A$423)+1>E116,VLOOKUP(E116,'3-3 위험성평가'!$A$5:$P$423,13,0),\"\")","v":""},null,"하",null,null,null,null,null,null,null,"선택안함",0,{"$f":"IF(MAX('3-3 위험성평가'!$A$4:$A$423)+1>E116,VLOOKUP(E116,'3-3 위험성평가'!$A$5:$Q$423,17,0),\"\")","v":""},"선택",{"$f":"표지!$D$33","v":0},{"$f":"표지!$E$34","v":0},"선택안함",0]
["T20",2,"S40",4,109,{"$f":"IF(MAX('3-3 위험성평가'!$A$4:$A$423)+1>E117,VLOOKUP(E117,'3-3 위험성평가'!$A$5:$P$423,2,0),\"\")","v":""},{"$f":"IF(F117=\"\",\"\",VLOOKUP(VALUE(F117),'1-1 사업장 공정 정보'!$D$15:$P$41,5,0))","v":""},{"$f":"IF(MAX('3-3 위험성평가'!$A$4:$A$423)+1>E117,VLOOKUP(E117,'3-3 위험성평가'!$A$5:$P$423,3,0),\"\")","v":""},{"$f":"IF(MAX('3-3 위험성평가'!$A$4:$A$423)+1>E117,VLOOKUP(E117,'3-3 위험성평가'!$A$5:$P$423,4,0),\"\")","v":""},{"$f":"IF(MAX('3-3 위험성평가'!$A$4:$A$423)+1>E117,VLOOKUP(E117,'3-3 위험성평가'!$A$5:$P$423,5,0),\"\")","v":""},{"$f":"IF(MAX('3-3 위험성평가'!$A$4:$A$423)+1>E117,VLOOKUP(E117,'3-3 위험성평가'!$A$5:$P$423,6,0),\"\")","v":""},{"$f":"IF(MAX('3-3 위험성평가'!$A$4:$A$423)+1>E117,VLOOKUP(E117,'3-3 위험성평가'!$A$5:$P$423,9,0),\"\")","v":""},{"$f":"IF(MAX('3-3 위험성평가'!$A$4:$A$423)+1>E117,VLOOKUP(E117,'3-3 위험성평가'!$A$5:$P$423,12,0),\"\")&IF(L117>\"\",\".\"&E117,\"\")","v":""},{"$f":"IF(MAX('3-3 위험성평가'!$A$4:$A$423)+1>E117,VLOOKUP(E117,'3-3 위험성평가'!$A$5:$P$423,13,0),\"\")","v":""},null,"하",null,null,null,null,null,null,null,"선택안함",0,{"$f":"IF(MAX('3-3 위험성평가'!$A$4:$A$423)+1>E117,VLOOKUP(E117,'3-3 위험성평가'!$A$5:$Q$423,17,0),\"\")","v":""},"선택",{"$f":"표지!$D$33","v":0},{"$f":"표지!$E$34","v":0},"선택안함",0]
["T20",2,"S40",4,110,{"$f":"IF(MAX('3-3 위험성평가'!$A$4:$A$423)+1>E118,VLOOKUP(E118,'3-3 위험성평가'!$A$5:$P$423,2,0),\"\")","v":""},{"$f":"IF(F118=\"\",\"\",VLOOKUP(VALUE(F118),'1-1 사업장 공정 정보'!$D$15:$P$41,5,0))","v":""},{"$f":"IF(MAX('3-3 위험성평가'!$A$4:$A$423)+1>E118,VLOOKUP(E118,'3-3 위험성평가'!$A$5:$P$423,3,0),\"\")","v":""},{"$f":"IF(MAX('3-3 위험성평가'!$A$4:$A$423)+1>E118,VLOOKUP(E118,'3-3 위험성평가'!$A$5:$P$423,4,0),\"\")","v":""},{"$f":"IF(MAX('3-3 위험성평가'!$A$4:$A$423)+1>E118,VLOOKUP(E118,'3-3 위험성평가'!$A$5:$P$423,5,0),\"\")","v":""},{"$f":"IF(MAX('3-3 위험성평가'!$A$4:$A$423)+1>E118,VLOOKUP(E118,'3-3 위험성평가'!$A$5:$P$423,6,0),\"\")","v":""},{"$f":"IF(MAX('3-3 위험성평가'!$A$4:$A$423)+1>E118,VLOOKUP(E118,'3-3 위험성평가'!$A$5:$P$423,9,0),\"\")","v":""},{"$f":"IF(MAX('3-3 위험성평가'!$A$4:$A$423)+1>E118,VLOOKUP(E118,'3-3 위험성평가'!$A$5:$P$423,12,0),\"\")&IF(L118>\"\",\".\"&E118,\"\")","v":""},{"$f":"IF(MAX('3-3 위험성평가'!$A$4:$A$423)+1>E118,VLOOKUP(E118,'3-3 위험성평가'!$A$5:$P$423,13,0),\"\")","v":""},null,"하",null,null,null,null,null,null,null,"선택안함",0,{"$f":"IF(MAX('3-3 위험성평가'!$A$4:$A$423)+1>E118,VLOOKUP(E118,'3-3 위험성평가'!$A$5:$Q$423,17,0),\"\")","v":""},"선택",{"$f":"표지!$D$33","v":0},{"$f":"표지!$E$34","v":0},"선택안함",0]
["T20",2,"S40",4,111,{"$f":"IF(MAX('3-3 위험성평가'!$A$4:$A$423)+1>E119,VLOOKUP(E119,'3-3 위험성평가'!$A$5:$P$423,2,0),\"\")","v":""},{"$f":"IF(F119=\"\",\"\",VLOOKUP(VALUE(F119),'1-1 사업장 공정 정보'!$D$15:$P$41,5,0))","v":""},{"$f":"IF(MAX('3-3 위험성평가'!$A$4:$A$423)+1>E119,VLOOKUP(E119,'3-3 위험성평가'!$A$5:$P$423,3,0),\"\")","v":""},{"$f":"IF(MAX('3-3 위험성평가'!$A$4:$A$423)+1>E119,VLOOKUP(E119,'3-3 위험성평가'!$A$5:$P$423,4,0),\"\")","v":""},{"$f":"IF(MAX('3-3 위험성평가'!$A$4:$A$423)+1>E119,VLOOKUP(E119,'3-3 위험성평가'!$A$5:$P$423,5,0),\"\")","v":""},{"$f":"IF(MAX('3-3 위험성평가'!$A$4:$A$423)+1>E119,VLOOKUP(E119,'3-3 위험성평가'!$A$5:$P$423,6,0),\"\")","v":""},{"$f":"IF(MAX('3-3 위험성평가'!$A$4:$A$423)+1>E119,VLOOKUP(E119,'3-3 위험성평가'!$A$5:$P$423,9,0),\"\")","v":""},{"$f":"IF(MAX('3-3 위험성평가'!$A$4:$A$423)+1>E119,VLOOKUP(E119,'3-3 위험성평가'!$A$5:$P$423,12,0),\"\")&IF(L119>\"\",\".\"&E119,\"\")","v":""},{"$f":"IF(MAX('3-3 위험성평가'!$A$4:$A$423)+1>E119,VLOOKUP(E119,'3-3 위험성평가'!$A$5:$P$423,13,0),\"\")","v":""},null,"하",null,null,null,null,null,null,null,"선택안함",0,{"$f":"IF(MAX('3-3 위험성평가'!$A$4:$A$423)+1>E119,VLOOKUP(E119,'3-3 위험성평가'!$A$5:$Q$423,17,0),\"\")","v":""},"선택",{"$f":"표지!$D$33","v":0},{"$f":"표지!$E$34","v":0},"선택안함",0]
["T20",2,"S40",4,112,{"$f":"IF(MAX('3-3 위험성평가'!$A$4:$A$423)+1>E120,VLOOKUP(E120,'3-3 위험성평가'!$A$5:$P$423,2,0),\"\")","v":""},{"$f":"IF(F120=\"\",\"\",VLOOKUP(VALUE(F120),'1-1 사업장 공정 정보'!$D$15:$P$41,5,0))","v":""},{"$f":"IF(MAX('3-3 위험성평가'!$A$4:$A$423)+1>E120,VLOOKUP(E120,'3-3 위험성평가'!$A$5:$P$423,3,0),\"\")","v":""},{"$f":"IF(MAX('3-3 위험성평가'!$A$4:$A$423)+1>E120,VLOOKUP(E120,'3-3 위험성평가'!$A$5:$P$423,4,0),\"\")","v":""},{"$f":"IF(MAX('3-3 위험성평가'!$A$4:$A$423)+1>E120,VLOOKUP(E120,'3-3 위험성평가'!$A$5:$P$423,5,0),\"\")","v":""},{"$f":"IF(MAX('3-3 위험성평가'!$A$4:$A$423)+1>E120,VLOOKUP(E120,'3-3 위험성평가'!$A$5:$P$423,6,0),\"\")","v":""},{"$f":"IF(MAX('3-3 위험성평가'!$A$4:$A$423)+1>E120,VLOOKUP(E120,'3-3 위험성평가'!$A$5:$P$423,9,0),\"\")","v":""},{"$f":"IF(MAX('3-3 위험성평가'!$A$4:$A$423)+1>E120,VLOOKUP(E120,'3-3 위험성평가'!$A$5:$P$423,12,0),\"\")&IF(L120>\"\",\".\"&E120,\"\")","v":""},{"$f":"IF(MAX('3-3 위험성평가'!$A$4:$A$423)+1>E120,VLOOKUP(E120,'3-3 위험성평가'!$A$5:$P$423,13,0),\"\")","v":""},null,"하",null,null,null,null,null,null,null,"선택안함",0,{"$f":"IF(MAX('3-3 위험성평가'!$A$4:$A$423)+1>E120,VLOOKUP(E120,'3-3 위험성평가'!$A$5:$Q$423,17,0),\"\")","v":""},"선택",{"$f":"표지!$D$33","v":0},{"$f":"표지!$E$34","v":0},"선택안함",0]
["T20",2,"S40",4,113,{"$f":"IF(MAX('3-3 위험성평가'!$A$4:$A$423)+1>E121,VLOOKUP(E121,'3-3 위험성평가'!$A$5:$P$423,2,0),\"\")","v":""},{"$f":"IF(F121=\"\",\"\",VLOOKUP(VALUE(F121),'1-1 사업장 공정 정보'!$D$15:$P$41,5,0))","v":""},{"$f":"IF(MAX('3-3 위험성평가'!$A$4:$A$423)+1>E121,VLOOKUP(E121,'3-3 위험성평가'!$A$5:$P$423,3,0),\"\")","v":""},{"$f":"IF(MAX('3-3 위험성평가'!$A$4:$A$423)+1>E121,VLOOKUP(E121,'3-3 위험성평가'!$A$5:$P$423,4,0),\"\")","v":""},{"$f":"IF(MAX('3-3 위험성평가'!$A$4:$A$423)+1>E121,VLOOKUP(E121,'3-3 위험성평가'!$A$5:$P$423,5,0),\"\")","v":""},{"$f":"IF(MAX('3-3 위험성평가'!$A$4:$A$423)+1>E121,VLOOKUP(E121,'3-3 위험성평가'!$A$5:$P$423,6,0),\"\")","v":""},{"$f":"IF(MAX('3-3 위험성평가'!$A$4:$A$423)+1>E121,VLOOKUP(E121,'3-3 위험성평가'!$A$5:$P$423,9,0),\"\")","v":""},{"$f":"IF(MAX('3-3 위험성평가'!$A$4:$A$423)+1>E121,VLOOKUP(E121,'3-3 위험성평가'!$A$5:$P$423,12,0),\"\")&IF(L121>\"\",\".\"&E121,\"\")","v":""},{"$f":"IF(MAX('3-3 위험성평가'!$A$4:$A$423)+1>E121,VLOOKUP(E121,'3-3 위험성평가'!$A$5:$P$423,13,0),\"\")","v":""},null,"하",null,null,null,null,null,null,null,"선택안함",0,{"$f":"IF(MAX('3-3 위험성평가'!$A$4:$A$423)+1>E121,VLOOKUP(E121,'3-3 위험성평가'!$A$5:$Q$423,17,0),\"\")","v":""},"선택",{"$f":"표지!$D$33","v":0},{"$f":"표지!$E$34","v":0},"선택안함",0]
["T20",2,"S40",4,114,{"$f":"IF(MAX('3-3 위험성평가'!$A$4:$A$423)+1>E122,VLOOKUP(E122,'3-3 위험성평가'!$A$5:$P$423,2,0),\"\")","v":""},{"$f":"IF(F122=\"\",\"\",VLOOKUP(VALUE(F122),'1-1 사업장 공정 정보'!$D$15:$P$41,5,0))","v":""},{"$f":"IF(MAX('3-3 위험성평가'!$A$4:$A$423)+1>E122,VLOOKUP(E122,'3-3 위험성평가'!$A$5:$P$423,3,0),\"\")","v":""},{"$f":"IF(MAX('3-3 위험성평가'!$A$4:$A$423)+1>E122,VLOOKUP(E122,'3-3 위험성평가'!$A$5:$P$423,4,0),\"\")","v":""},{"$f":"IF(MAX('3-3 위험성평가'!$A$4:$A$423)+1>E122,VLOOKUP(E122,'3-3 위험성평가'!$A$5:$P$423,5,0),\"\")","v":""},{"$f":"IF(MAX('3-3 위험성평가'!$A$4:$A$423)+1>E122,VLOOKUP(E122,'3-3 위험성평가'!$A$5:$P$423,6,0),\"\")","v":""},{"$f":"IF(MAX('3-3 위험성평가'!$A$4:$A$423)+1>E122,VLOOKUP(E122,'3-3 위험성평가'!$A$5:$P$423,9,0),\"\")","v":""},{"$f":"IF(MAX('3-3 위험성평가'!$A$4:$A$423)+1>E122,VLOOKUP(E122,'3-3 위험성평가'!$A$5:$P$423,12,0),\"\")&IF(L122>\"\",\".\"&E122,\"\")","v":""},{"$f":"IF(MAX('3-3 위험성평가'!$A$4:$A$423)+1>E122,VLOOKUP(E122,'3-3 위험성평가'!$A$5:$P$423,13,0),\"\")","v":""},null,"하",null,null,null,null,null,null,null,"선택안함",0,{"$f":"IF(MAX('3-3 위험성평가'!$A$4:$A$423)+1>E122,VLOOKUP(E122,'3-3 위험성평가'!$A$5:$Q$423,17,0),\"\")","v":""},"선택",{"$f":"표지!$D$33","v":0},{"$f":"표지!$E$34","v":0},"선택안함",0]
["T20",2,"S40",4,115,{"$f":"IF(MAX('3-3 위험성평가'!$A$4:$A$423)+1>E123,VLOOKUP(E123,'3-3 위험성평가'!$A$5:$P$423,2,0),\"\")","v":""},{"$f":"IF(F123=\"\",\"\",VLOOKUP(VALUE(F123),'1-1 사업장 공정 정보'!$D$15:$P$41,5,0))","v":""},{"$f":"IF(MAX('3-3 위험성평가'!$A$4:$A$423)+1>E123,VLOOKUP(E123,'3-3 위험성평가'!$A$5:$P$423,3,0),\"\")","v":""},{"$f":"IF(MAX('3-3 위험성평가'!$A$4:$A$423)+1>E123,VLOOKUP(E123,'3-3 위험성평가'!$A$5:$P$423,4,0),\"\")","v":""},{"$f":"IF(MAX('3-3 위험성평가'!$A$4:$A$423)+1>E123,VLOOKUP(E123,'3-3 위험성평가'!$A$5:$P$423,5,0),\"\")","v":""},{"$f":"IF(MAX('3-3 위험성평가'!$A$4:$A$423)+1>E123,VLOOKUP(E123,'3-3 위험성평가'!$A$5:$P$423,6,0),\"\")","v":""},{"$f":"IF(MAX('3-3 위험성평가'!$A$4:$A$423)+1>E123,VLOOKUP(E123,'3-3 위험성평가'!$A$5:$P$423,9,0),\"\")","v":""},{"$f":"IF(MAX('3-3 위험성평가'!$A$4:$A$423)+1>E123,VLOOKUP(E123,'3-3 위험성평가'!$A$5:$P$423,12,0),\"\")&IF(L123>\"\",\".\"&E123,\"\")","v":""},{"$f":"IF(MAX('3-3 위험성평가'!$A$4:$A$423)+1>E123,VLOOKUP(E123,'3-3 위험성평가'!$A$5:$P$423,13,0),\"\")","v":""},null,"하",null,null,null,null,null,null,null,"선택안함",0,{"$f":"IF(MAX('3-3 위험성평가'!$A$4:$A$423)+1>E123,VLOOKUP(E123,'3-3 위험성평가'!$A$5:$Q$423,17,0),\"\")","v":""},"선택",{"$f":"표지!$D$33","v":0},{"$f":"표지!$E$34","v":0},"선택안함",0]
["T20",2,"S40",4,116,{"$f":"IF(MAX('3-3 위험성평가'!$A$4:$A$423)+1>E124,VLOOKUP(E124,'3-3 위험성평가'!$A$5:$P$423,2,0),\"\")","v":""},{"$f":"IF(F124=\"\",\"\",VLOOKUP(VALUE(F124),'1-1 사업장 공정 정보'!$D$15:$P$41,5,0))","v":""},{"$f":"IF(MAX('3-3 위험성평가'!$A$4:$A$423)+1>E124,VLOOKUP(E124,'3-3 위험성평가'!$A$5:$P$423,3,0),\"\")","v":""},{"$f":"IF(MAX('3-3 위험성평가'!$A$4:$A$423)+1>E124,VLOOKUP(E124,'3-3 위험성평가'!$A$5:$P$423,4,0),\"\")","v":""},{"$f":"IF(MAX('3-3 위험성평가'!$A$4:$A$423)+1>E124,VLOOKUP(E124,'3-3 위험성평가'!$A$5:$P$423,5,0),\"\")","v":""},{"$f":"IF(MAX('3-3 위험성평가'!$A$4:$A$423)+1>E124,VLOOKUP(E124,'3-3 위험성평가'!$A$5:$P$423,6,0),\"\")","v":""},{"$f":"IF(MAX('3-3 위험성평가'!$A$4:$A$423)+1>E124,VLOOKUP(E124,'3-3 위험성평가'!$A$5:$P$423,9,0),\"\")","v":""},{"$f":"IF(MAX('3-3 위험성평가'!$A$4:$A$423)+1>E124,VLOOKUP(E124,'3-3 위험성평가'!$A$5:$P$423,12,0),\"\")&IF(L124>\"\",\".\"&E124,\"\")","v":""},{"$f":"IF(MAX('3-3 위험성평가'!$A$4:$A$423)+1>E124,VLOOKUP(E124,'3-3 위험성평가'!$A$5:$P$423,13,0),\"\")","v":""},null,"하",null,null,null,null,null,null,null,"선택안함",0,{"$f":"IF(MAX('3-3 위험성평가'!$A$4:$A$423)+1>E124,VLOOKUP(E124,'3-3 위험성평가'!$A$5:$Q$423,17,0),\"\")","v":""},"선택",{"$f":"표지!$D$33","v":0},{"$f":"표지!$E$34","v":0},"선택안함",0]
["T20",2,"S40",4,117,{"$f":"IF(MAX('3-3 위험성평가'!$A$4:$A$423)+1>E125,VLOOKUP(E125,'3-3 위험성평가'!$A$5:$P$423,2,0),\"\")","v":""},{"$f":"IF(F125=\"\",\"\",VLOOKUP(VALUE(F125),'1-1 사업장 공정 정보'!$D$15:$P$41,5,0))","v":""},{"$f":"IF(MAX('3-3 위험성평가'!$A$4:$A$423)+1>E125,VLOOKUP(E125,'3-3 위험성평가'!$A$5:$P$423,3,0),\"\")","v":""},{"$f":"IF(MAX('3-3 위험성평가'!$A$4:$A$423)+1>E125,VLOOKUP(E125,'3-3 위험성평가'!$A$5:$P$423,4,0),\"\")","v":""},{"$f":"IF(MAX('3-3 위험성평가'!$A$4:$A$423)+1>E125,VLOOKUP(E125,'3-3 위험성평가'!$A$5:$P$423,5,0),\"\")","v":""},{"$f":"IF(MAX('3-3 위험성평가'!$A$4:$A$423)+1>E125,VLOOKUP(E125,'3-3 위험성평가'!$A$5:$P$423,6,0),\"\")","v":""},{"$f":"IF(MAX('3-3 위험성평가'!$A$4:$A$423)+1>E125,VLOOKUP(E125,'3-3 위험성평가'!$A$5:$P$423,9,0),\"\")","v":""},{"$f":"IF(MAX('3-3 위험성평가'!$A$4:$A$423)+1>E125,VLOOKUP(E125,'3-3 위험성평가'!$A$5:$P$423,12,0),\"\")&IF(L125>\"\",\".\"&E125,\"\")","v":""},{"$f":"IF(MAX('3-3 위험성평가'!$A$4:$A$423)+1>E125,VLOOKUP(E125,'3-3 위험성평가'!$A$5:$P$423,13,0),\"\")","v":""},null,"하",null,null,null,null,null,null,null,"선택안함",0,{"$f":"IF(MAX('3-3 위험성평가'!$A$4:$A$423)+1>E125,VLOOKUP(E125,'3-3 위험성평가'!$A$5:$Q$423,17,0),\"\")","v":""},"선택",{"$f":"표지!$D$33","v":0},{"$f":"표지!$E$34","v":0},"선택안함",0]
["T20",2,"S40",4,118,{"$f":"IF(MAX('3-3 위험성평가'!$A$4:$A$423)+1>E126,VLOOKUP(E126,'3-3 위험성평가'!$A$5:$P$423,2,0),\"\")","v":""},{"$f":"IF(F126=\"\",\"\",VLOOKUP(VALUE(F126),'1-1 사업장 공정 정보'!$D$15:$P$41,5,0))","v":""},{"$f":"IF(MAX('3-3 위험성평가'!$A$4:$A$423)+1>E126,VLOOKUP(E126,'3-3 위험성평가'!$A$5:$P$423,3,0),\"\")","v":""},{"$f":"IF(MAX('3-3 위험성평가'!$A$4:$A$423)+1>E126,VLOOKUP(E126,'3-3 위험성평가'!$A$5:$P$423,4,0),\"\")","v":""},{"$f":"IF(MAX('3-3 위험성평가'!$A$4:$A$423)+1>E126,VLOOKUP(E126,'3-3 위험성평가'!$A$5:$P$423,5,0),\"\")","v":""},{"$f":"IF(MAX('3-3 위험성평가'!$A$4:$A$423)+1>E126,VLOOKUP(E126,'3-3 위험성평가'!$A$5:$P$423,6,0),\"\")","v":""},{"$f":"IF(MAX('3-3 위험성평가'!$A$4:$A$423)+1>E126,VLOOKUP(E126,'3-3 위험성평가'!$A$5:$P$423,9,0),\"\")","v":""},{"$f":"IF(MAX('3-3 위험성평가'!$A$4:$A$423)+1>E126,VLOOKUP(E126,'3-3 위험성평가'!$A$5:$P$423,12,0),\"\")&IF(L126>\"\",\".\"&E126,\"\")","v":""},{"$f":"IF(MAX('3-3 위험성평가'!$A$4:$A$423)+1>E126,VLOOKUP(E126,'3-3 위험성평가'!$A$5:$P$423,13,0),\"\")","v":""},null,"하",null,null,null,null,null,null,null,"선택안함",0,{"$f":"IF(MAX('3-3 위험성평가'!$A$4:$A$423)+1>E126,VLOOKUP(E126,'3-3 위험성평가'!$A$5:$Q$423,17,0),\"\")","v":""},"선택",{"$f":"표지!$D$33","v":0},{"$f":"표지!$E$34","v":0},"선택안함",0]
["T20",2,"S40",4,119,{"$f":"IF(MAX('3-3 위험성평가'!$A$4:$A$423)+1>E127,VLOOKUP(E127,'3-3 위험성평가'!$A$5:$P$423,2,0),\"\")","v":""},{"$f":"IF(F127=\"\",\"\",VLOOKUP(VALUE(F127),'1-1 사업장 공정 정보'!$D$15:$P$41,5,0))","v":""},{"$f":"IF(MAX('3-3 위험성평가'!$A$4:$A$423)+1>E127,VLOOKUP(E127,'3-3 위험성평가'!$A$5:$P$423,3,0),\"\")","v":""},{"$f":"IF(MAX('3-3 위험성평가'!$A$4:$A$423)+1>E127,VLOOKUP(E127,'3-3 위험성평가'!$A$5:$P$423,4,0),\"\")","v":""},{"$f":"IF(MAX('3-3 위험성평가'!$A$4:$A$423)+1>E127,VLOOKUP(E127,'3-3 위험성평가'!$A$5:$P$423,5,0),\"\")","v":""},{"$f":"IF(MAX('3-3 위험성평가'!$A$4:$A$423)+1>E127,VLOOKUP(E127,'3-3 위험성평가'!$A$5:$P$423,6,0),\"\")","v":""},{"$f":"IF(MAX('3-3 위험성평가'!$A$4:$A$423)+1>E127,VLOOKUP(E127,'3-3 위험성평가'!$A$5:$P$423,9,0),\"\")","v":""},{"$f":"IF(MAX('3-3 위험성평가'!$A$4:$A$423)+1>E127,VLOOKUP(E127,'3-3 위험성평가'!$A$5:$P$423,12,0),\"\")&IF(L127>\"\",\".\"&E127,\"\")","v":""},{"$f":"IF(MAX('3-3 위험성평가'!$A$4:$A$423)+1>E127,VLOOKUP(E127,'3-3 위험성평가'!$A$5:$P$423,13,0),\"\")","v":""},null,"하",null,null,null,null,null,null,null,"선택안함",0,{"$f":"IF(MAX('3-3 위험성평가'!$A$4:$A$423)+1>E127,VLOOKUP(E127,'3-3 위험성평가'!$A$5:$Q$423,17,0),\"\")","v":""},"선택",{"$f":"표지!$D$33","v":0},{"$f":"표지!$E$34","v":0},"선택안함",0]
["T20",2,"S40",4,120,{"$f":"IF(MAX('3-3 위험성평가'!$A$4:$A$423)+1>E128,VLOOKUP(E128,'3-3 위험성평가'!$A$5:$P$423,2,0),\"\")","v":""},{"$f":"IF(F128=\"\",\"\",VLOOKUP(VALUE(F128),'1-1 사업장 공정 정보'!$D$15:$P$41,5,0))","v":""},{"$f":"IF(MAX('3-3 위험성평가'!$A$4:$A$423)+1>E128,VLOOKUP(E128,'3-3 위험성평가'!$A$5:$P$423,3,0),\"\")","v":""},{"$f":"IF(MAX('3-3 위험성평가'!$A$4:$A$423)+1>E128,VLOOKUP(E128,'3-3 위험성평가'!$A$5:$P$423,4,0),\"\")","v":""},{"$f":"IF(MAX('3-3 위험성평가'!$A$4:$A$423)+1>E128,VLOOKUP(E128,'3-3 위험성평가'!$A$5:$P$423,5,0),\"\")","v":""},{"$f":"IF(MAX('3-3 위험성평가'!$A$4:$A$423)+1>E128,VLOOKUP(E128,'3-3 위험성평가'!$A$5:$P$423,6,0),\"\")","v":""},{"$f":"IF(MAX('3-3 위험성평가'!$A$4:$A$423)+1>E128,VLOOKUP(E128,'3-3 위험성평가'!$A$5:$P$423,9,0),\"\")","v":""},{"$f":"IF(MAX('3-3 위험성평가'!$A$4:$A$423)+1>E128,VLOOKUP(E128,'3-3 위험성평가'!$A$5:$P$423,12,0),\"\")&IF(L128>\"\",\".\"&E128,\"\")","v":""},{"$f":"IF(MAX('3-3 위험성평가'!$A$4:$A$423)+1>E128,VLOOKUP(E128,'3-3 위험성평가'!$A$5:$P$423,13,0),\"\")","v":""},null,"하",null,null,null,null,null,null,null,"선택안함",0,{"$f":"IF(MAX('3-3 위험성평가'!$A$4:$A$423)+1>E128,VLOOKUP(E128,'3-3 위험성평가'!$A$5:$Q$423,17,0),\"\")","v":""},"선택",{"$f":"표지!$D$33","v":0},{"$f":"표지!$E$34","v":0},"선택안함",0]
["T20",2,"S40",4,121,{"$f":"IF(MAX('3-3 위험성평가'!$A$4:$A$423)+1>E129,VLOOKUP(E129,'3-3 위험성평가'!$A$5:$P$423,2,0),\"\")","v":""},{"$f":"IF(F129=\"\",\"\",VLOOKUP(VALUE(F129),'1-1 사업장 공정 정보'!$D$15:$P$41,5,0))","v":""},{"$f":"IF(MAX('3-3 위험성평가'!$A$4:$A$423)+1>E129,VLOOKUP(E129,'3-3 위험성평가'!$A$5:$P$423,3,0),\"\")","v":""},{"$f":"IF(MAX('3-3 위험성평가'!$A$4:$A$423)+1>E129,VLOOKUP(E129,'3-3 위험성평가'!$A$5:$P$423,4,0),\"\")","v":""},{"$f":"IF(MAX('3-3 위험성평가'!$A$4:$A$423)+1>E129,VLOOKUP(E129,'3-3 위험성평가'!$A$5:$P$423,5,0),\"\")","v":""},{"$f":"IF(MAX('3-3 위험성평가'!$A$4:$A$423)+1>E129,VLOOKUP(E129,'3-3 위험성평가'!$A$5:$P$423,6,0),\"\")","v":""},{"$f":"IF(MAX('3-3 위험성평가'!$A$4:$A$423)+1>E129,VLOOKUP(E129,'3-3 위험성평가'!$A$5:$P$423,9,0),\"\")","v":""},{"$f":"IF(MAX('3-3 위험성평가'!$A$4:$A$423)+1>E129,VLOOKUP(E129,'3-3 위험성평가'!$A$5:$P$423,12,0),\"\")&IF(L129>\"\",\".\"&E129,\"\")","v":""},{"$f":"IF(MAX('3-3 위험성평가'!$A$4:$A$423)+1>E129,VLOOKUP(E129,'3-3 위험성평가'!$A$5:$P$423,13,0),\"\")","v":""},null,"하",null,null,null,null,null,null,null,"선택안함",0,{"$f":"IF(MAX('3-3 위험성평가'!$A$4:$A$423)+1>E129,VLOOKUP(E129,'3-3 위험성평가'!$A$5:$Q$423,17,0),\"\")","v":""},"선택",{"$f":"표지!$D$33","v":0},{"$f":"표지!$E$34","v":0},"선택안함",0]
["T20",2,"S40",4,122,{"$f":"IF(MAX('3-3 위험성평가'!$A$4:$A$423)+1>E130,VLOOKUP(E130,'3-3 위험성평가'!$A$5:$P$423,2,0),\"\")","v":""},{"$f":"IF(F130=\"\",\"\",VLOOKUP(VALUE(F130),'1-1 사업장 공정 정보'!$D$15:$P$41,5,0))","v":""},{"$f":"IF(MAX('3-3 위험성평가'!$A$4:$A$423)+1>E130,VLOOKUP(E130,'3-3 위험성평가'!$A$5:$P$423,3,0),\"\")","v":""},{"$f":"IF(MAX('3-3 위험성평가'!$A$4:$A$423)+1>E130,VLOOKUP(E130,'3-3 위험성평가'!$A$5:$P$423,4,0),\"\")","v":""},{"$f":"IF(MAX('3-3 위험성평가'!$A$4:$A$423)+1>E130,VLOOKUP(E130,'3-3 위험성평가'!$A$5:$P$423,5,0),\"\")","v":""},{"$f":"IF(MAX('3-3 위험성평가'!$A$4:$A$423)+1>E130,VLOOKUP(E130,'3-3 위험성평가'!$A$5:$P$423,6,0),\"\")","v":""},{"$f":"IF(MAX('3-3 위험성평가'!$A$4:$A$423)+1>E130,VLOOKUP(E130,'3-3 위험성평가'!$A$5:$P$423,9,0),\"\")","v":""},{"$f":"IF(MAX('3-3 위험성평가'!$A$4:$A$423)+1>E130,VLOOKUP(E130,'3-3 위험성평가'!$A$5:$P$423,12,0),\"\")&IF(L130>\"\",\".\"&E130,\"\")","v":""},{"$f":"IF(MAX('3-3 위험성평가'!$A$4:$A$423)+1>E130,VLOOKUP(E130,'3-3 위험성평가'!$A$5:$P$423,13,0),\"\")","v":""},null,"하",null,null,null,null,null,null,null,"선택안함",0,{"$f":"IF(MAX('3-3 위험성평가'!$A$4:$A$423)+1>E130,VLOOKUP(E130,'3-3 위험성평가'!$A$5:$Q$423,17,0),\"\")","v":""},"선택",{"$f":"표지!$D$33","v":0},{"$f":"표지!$E$34","v":0},"선택안함",0]
["T20",2,"S40",4,123,{"$f":"IF(MAX('3-3 위험성평가'!$A$4:$A$423)+1>E131,VLOOKUP(E131,'3-3 위험성평가'!$A$5:$P$423,2,0),\"\")","v":""},{"$f":"IF(F131=\"\",\"\",VLOOKUP(VALUE(F131),'1-1 사업장 공정 정보'!$D$15:$P$41,5,0))","v":""},{"$f":"IF(MAX('3-3 위험성평가'!$A$4:$A$423)+1>E131,VLOOKUP(E131,'3-3 위험성평가'!$A$5:$P$423,3,0),\"\")","v":""},{"$f":"IF(MAX('3-3 위험성평가'!$A$4:$A$423)+1>E131,VLOOKUP(E131,'3-3 위험성평가'!$A$5:$P$423,4,0),\"\")","v":""},{"$f":"IF(MAX('3-3 위험성평가'!$A$4:$A$423)+1>E131,VLOOKUP(E131,'3-3 위험성평가'!$A$5:$P$423,5,0),\"\")","v":""},{"$f":"IF(MAX('3-3 위험성평가'!$A$4:$A$423)+1>E131,VLOOKUP(E131,'3-3 위험성평가'!$A$5:$P$423,6,0),\"\")","v":""},{"$f":"IF(MAX('3-3 위험성평가'!$A$4:$A$423)+1>E131,VLOOKUP(E131,'3-3 위험성평가'!$A$5:$P$423,9,0),\"\")","v":""},{"$f":"IF(MAX('3-3 위험성평가'!$A$4:$A$423)+1>E131,VLOOKUP(E131,'3-3 위험성평가'!$A$5:$P$423,12,0),\"\")&IF(L131>\"\",\".\"&E131,\"\")","v":""},{"$f":"IF(MAX('3-3 위험성평가'!$A$4:$A$423)+1>E131,VLOOKUP(E131,'3-3 위험성평가'!$A$5:$P$423,13,0),\"\")","v":""},null,"하",null,null,null,null,null,null,null,"선택안함",0,{"$f":"IF(MAX('3-3 위험성평가'!$A$4:$A$423)+1>E131,VLOOKUP(E131,'3-3 위험성평가'!$A$5:$Q$423,17,0),\"\")","v":""},"선택",{"$f":"표지!$D$33","v":0},{"$f":"표지!$E$34","v":0},"선택안함",0]
["T20",2,"S40",4,124,{"$f":"IF(MAX('3-3 위험성평가'!$A$4:$A$423)+1>E132,VLOOKUP(E132,'3-3 위험성평가'!$A$5:$P$423,2,0),\"\")","v":""},{"$f":"IF(F132=\"\",\"\",VLOOKUP(VALUE(F132),'1-1 사업장 공정 정보'!$D$15:$P$41,5,0))","v":""},{"$f":"IF(MAX('3-3 위험성평가'!$A$4:$A$423)+1>E132,VLOOKUP(E132,'3-3 위험성평가'!$A$5:$P$423,3,0),\"\")","v":""},{"$f":"IF(MAX('3-3 위험성평가'!$A$4:$A$423)+1>E132,VLOOKUP(E132,'3-3 위험성평가'!$A$5:$P$423,4,0),\"\")","v":""},{"$f":"IF(MAX('3-3 위험성평가'!$A$4:$A$423)+1>E132,VLOOKUP(E132,'3-3 위험성평가'!$A$5:$P$423,5,0),\"\")","v":""},{"$f":"IF(MAX('3-3 위험성평가'!$A$4:$A$423)+1>E132,VLOOKUP(E132,'3-3 위험성평가'!$A$5:$P$423,6,0),\"\")","v":""},{"$f":"IF(MAX('3-3 위험성평가'!$A$4:$A$423)+1>E132,VLOOKUP(E132,'3-3 위험성평가'!$A$5:$P$423,9,0),\"\")","v":""},{"$f":"IF(MAX('3-3 위험성평가'!$A$4:$A$423)+1>E132,VLOOKUP(E132,'3-3 위험성평가'!$A$5:$P$423,12,0),\"\")&IF(L132>\"\",\".\"&E132,\"\")","v":""},{"$f":"IF(MAX('3-3 위험성평가'!$A$4:$A$423)+1>E132,VLOOKUP(E132,'3-3 위험성평가'!$A$5:$P$423,13,0),\"\")","v":""},null,"하",null,null,null,null,null,null,null,"선택안함",0,{"$f":"IF(MAX('3-3 위험성평가'!$A$4:$A$423)+1>E132,VLOOKUP(E132,'3-3 위험성평가'!$A$5:$Q$423,17,0),\"\")","v":""},"선택",{"$f":"표지!$D$33","v":0},{"$f":"표지!$E$34","v":0},"선택안함",0]
["T20",2,"S40",4,125,{"$f":"IF(MAX('3-3 위험성평가'!$A$4:$A$423)+1>E133,VLOOKUP(E133,'3-3 위험성평가'!$A$5:$P$423,2,0),\"\")","v":""},{"$f":"IF(F133=\"\",\"\",VLOOKUP(VALUE(F133),'1-1 사업장 공정 정보'!$D$15:$P$41,5,0))","v":""},{"$f":"IF(MAX('3-3 위험성평가'!$A$4:$A$423)+1>E133,VLOOKUP(E133,'3-3 위험성평가'!$A$5:$P$423,3,0),\"\")","v":""},{"$f":"IF(MAX('3-3 위험성평가'!$A$4:$A$423)+1>E133,VLOOKUP(E133,'3-3 위험성평가'!$A$5:$P$423,4,0),\"\")","v":""},{"$f":"IF(MAX('3-3 위험성평가'!$A$4:$A$423)+1>E133,VLOOKUP(E133,'3-3 위험성평가'!$A$5:$P$423,5,0),\"\")","v":""},{"$f":"IF(MAX('3-3 위험성평가'!$A$4:$A$423)+1>E133,VLOOKUP(E133,'3-3 위험성평가'!$A$5:$P$423,6,0),\"\")","v":""},{"$f":"IF(MAX('3-3 위험성평가'!$A$4:$A$423)+1>E133,VLOOKUP(E133,'3-3 위험성평가'!$A$5:$P$423,9,0),\"\")","v":""},{"$f":"IF(MAX('3-3 위험성평가'!$A$4:$A$423)+1>E133,VLOOKUP(E133,'3-3 위험성평가'!$A$5:$P$423,12,0),\"\")&IF(L133>\"\",\".\"&E133,\"\")","v":""},{"$f":"IF(MAX('3-3 위험성평가'!$A$4:$A$423)+1>E133,VLOOKUP(E133,'3-3 위험성평가'!$A$5:$P$423,13,0),\"\")","v":""},null,"하",null,null,null,null,null,null,null,"선택안함",0,{"$f":"IF(MAX('3-3 위험성평가'!$A$4:$A$423)+1>E133,VLOOKUP(E133,'3-3 위험성평가'!$A$5:$Q$423,17,0),\"\")","v":""},"선택",{"$f":"표지!$D$33","v":0},{"$f":"표지!$E$34","v":0},"선택안함",0]
["T20",2,"S40",4,126,{"$f":"IF(MAX('3-3 위험성평가'!$A$4:$A$423)+1>E134,VLOOKUP(E134,'3-3 위험성평가'!$A$5:$P$423,2,0),\"\")","v":""},{"$f":"IF(F134=\"\",\"\",VLOOKUP(VALUE(F134),'1-1 사업장 공정 정보'!$D$15:$P$41,5,0))","v":""},{"$f":"IF(MAX('3-3 위험성평가'!$A$4:$A$423)+1>E134,VLOOKUP(E134,'3-3 위험성평가'!$A$5:$P$423,3,0),\"\")","v":""},{"$f":"IF(MAX('3-3 위험성평가'!$A$4:$A$423)+1>E134,VLOOKUP(E134,'3-3 위험성평가'!$A$5:$P$423,4,0),\"\")","v":""},{"$f":"IF(MAX('3-3 위험성평가'!$A$4:$A$423)+1>E134,VLOOKUP(E134,'3-3 위험성평가'!$A$5:$P$423,5,0),\"\")","v":""},{"$f":"IF(MAX('3-3 위험성평가'!$A$4:$A$423)+1>E134,VLOOKUP(E134,'3-3 위험성평가'!$A$5:$P$423,6,0),\"\")","v":""},{"$f":"IF(MAX('3-3 위험성평가'!$A$4:$A$423)+1>E134,VLOOKUP(E134,'3-3 위험성평가'!$A$5:$P$423,9,0),\"\")","v":""},{"$f":"IF(MAX('3-3 위험성평가'!$A$4:$A$423)+1>E134,VLOOKUP(E134,'3-3 위험성평가'!$A$5:$P$423,12,0),\"\")&IF(L134>\"\",\".\"&E134,\"\")","v":""},{"$f":"IF(MAX('3-3 위험성평가'!$A$4:$A$423)+1>E134,VLOOKUP(E134,'3-3 위험성평가'!$A$5:$P$423,13,0),\"\")","v":""},null,"하",null,null,null,null,null,null,null,"선택안함",0,{"$f":"IF(MAX('3-3 위험성평가'!$A$4:$A$423)+1>E134,VLOOKUP(E134,'3-3 위험성평가'!$A$5:$Q$423,17,0),\"\")","v":""},"선택",{"$f":"표지!$D$33","v":0},{"$f":"표지!$E$34","v":0},"선택안함",0]
["T20",2,"S40",4,127,{"$f":"IF(MAX('3-3 위험성평가'!$A$4:$A$423)+1>E135,VLOOKUP(E135,'3-3 위험성평가'!$A$5:$P$423,2,0),\"\")","v":""},{"$f":"IF(F135=\"\",\"\",VLOOKUP(VALUE(F135),'1-1 사업장 공정 정보'!$D$15:$P$41,5,0))","v":""},{"$f":"IF(MAX('3-3 위험성평가'!$A$4:$A$423)+1>E135,VLOOKUP(E135,'3-3 위험성평가'!$A$5:$P$423,3,0),\"\")","v":""},{"$f":"IF(MAX('3-3 위험성평가'!$A$4:$A$423)+1>E135,VLOOKUP(E135,'3-3 위험성평가'!$A$5:$P$423,4,0),\"\")","v":""},{"$f":"IF(MAX('3-3 위험성평가'!$A$4:$A$423)+1>E135,VLOOKUP(E135,'3-3 위험성평가'!$A$5:$P$423,5,0),\"\")","v":""},{"$f":"IF(MAX('3-3 위험성평가'!$A$4:$A$423)+1>E135,VLOOKUP(E135,'3-3 위험성평가'!$A$5:$P$423,6,0),\"\")","v":""},{"$f":"IF(MAX('3-3 위험성평가'!$A$4:$A$423)+1>E135,VLOOKUP(E135,'3-3 위험성평가'!$A$5:$P$423,9,0),\"\")","v":""},{"$f":"IF(MAX('3-3 위험성평가'!$A$4:$A$423)+1>E135,VLOOKUP(E135,'3-3 위험성평가'!$A$5:$P$423,12,0),\"\")&IF(L135>\"\",\".\"&E135,\"\")","v":""},{"$f":"IF(MAX('3-3 위험성평가'!$A$4:$A$423)+1>E135,VLOOKUP(E135,'3-3 위험성평가'!$A$5:$P$423,13,0),\"\")","v":""},null,"하",null,null,null,null,null,null,null,"선택안함",0,{"$f":"IF(MAX('3-3 위험성평가'!$A$4:$A$423)+1>E135,VLOOKUP(E135,'3-3 위험성평가'!$A$5:$Q$423,17,0),\"\")","v":""},"선택",{"$f":"표지!$D$33","v":0},{"$f":"표지!$E$34","v":0},"선택안함",0]
["T20",2,"S40",4,128,{"$f":"IF(MAX('3-3 위험성평가'!$A$4:$A$423)+1>E136,VLOOKUP(E136,'3-3 위험성평가'!$A$5:$P$423,2,0),\"\")","v":""},{"$f":"IF(F136=\"\",\"\",VLOOKUP(VALUE(F136),'1-1 사업장 공정 정보'!$D$15:$P$41,5,0))","v":""},{"$f":"IF(MAX('3-3 위험성평가'!$A$4:$A$423)+1>E136,VLOOKUP(E136,'3-3 위험성평가'!$A$5:$P$423,3,0),\"\")","v":""},{"$f":"IF(MAX('3-3 위험성평가'!$A$4:$A$423)+1>E136,VLOOKUP(E136,'3-3 위험성평가'!$A$5:$P$423,4,0),\"\")","v":""},{"$f":"IF(MAX('3-3 위험성평가'!$A$4:$A$423)+1>E136,VLOOKUP(E136,'3-3 위험성평가'!$A$5:$P$423,5,0),\"\")","v":""},{"$f":"IF(MAX('3-3 위험성평가'!$A$4:$A$423)+1>E136,VLOOKUP(E136,'3-3 위험성평가'!$A$5:$P$423,6,0),\"\")","v":""},{"$f":"IF(MAX('3-3 위험성평가'!$A$4:$A$423)+1>E136,VLOOKUP(E136,'3-3 위험성평가'!$A$5:$P$423,9,0),\"\")","v":""},{"$f":"IF(MAX('3-3 위험성평가'!$A$4:$A$423)+1>E136,VLOOKUP(E136,'3-3 위험성평가'!$A$5:$P$423,12,0),\"\")&IF(L136>\"\",\".\"&E136,\"\")","v":""},{"$f":"IF(MAX('3-3 위험성평가'!$A$4:$A$423)+1>E136,VLOOKUP(E136,'3-3 위험성평가'!$A$5:$P$423,13,0),\"\")","v":""},null,"하",null,null,null,null,null,null,null,"선택안함",0,{"$f":"IF(MAX('3-3 위험성평가'!$A$4:$A$423)+1>E136,VLOOKUP(E136,'3-3 위험성평가'!$A$5:$Q$423,17,0),\"\")","v":""},"선택",{"$f":"표지!$D$33","v":0},{"$f":"표지!$E$34","v":0},"선택안함",0]
[{"$f":"\"T\"&B137&IF(OR(X137=\"선택\",X137=1),1,0)","v":"T20"},2,"S40",4,129,{"$f":"IF(MAX('3-3 위험성평가'!$A$4:$A$423)+1>E137,VLOOKUP(E137,'3-3 위험성평가'!$A$5:$P$423,2,0),\"\")","v":""},{"$f":"IF(F137=\"\",\"\",VLOOKUP(VALUE(F137),'1-1 사업장 공정 정보'!$D$15:$P$41,5,0))","v":""},{"$f":"IF(MAX('3-3 위험성평가'!$A$4:$A$423)+1>E137,VLOOKUP(E137,'3-3 위험성평가'!$A$5:$P$423,3,0),\"\")","v":""},{"$f":"IF(MAX('3-3 위험성평가'!$A$4:$A$423)+1>E137,VLOOKUP(E137,'3-3 위험성평가'!$A$5:$P$423,4,0),\"\")","v":""},{"$f":"IF(MAX('3-3 위험성평가'!$A$4:$A$423)+1>E137,VLOOKUP(E137,'3-3 위험성평가'!$A$5:$P$423,5,0),\"\")","v":""},{"$f":"IF(MAX('3-3 위험성평가'!$A$4:$A$423)+1>E137,VLOOKUP(E137,'3-3 위험성평가'!$A$5:$P$423,6,0),\"\")","v":""},{"$f":"IF(MAX('3-3 위험성평가'!$A$4:$A$423)+1>E137,VLOOKUP(E137,'3-3 위험성평가'!$A$5:$P$423,9,0),\"\")","v":""},{"$f":"IF(MAX('3-3 위험성평가'!$A$4:$A$423)+1>E137,VLOOKUP(E137,'3-3 위험성평가'!$A$5:$P$423,12,0),\"\")&IF(L137>\"\",\".\"&E137,\"\")","v":""},{"$f":"IF(MAX('3-3 위험성평가'!$A$4:$A$423)+1>E137,VLOOKUP(E137,'3-3 위험성평가'!$A$5:$P$423,13,0),\"\")","v":""},null,"하",null,null,null,null,null,null,null,"선택안함",0,{"$f":"IF(MAX('3-3 위험성평가'!$A$4:$A$423)+1>E137,VLOOKUP(E137,'3-3 위험성평가'!$A$5:$Q$423,17,0),\"\")","v":""},"선택",{"$f":"표지!$D$33","v":0},{"$f":"표지!$E$34","v":0},"선택안함",0]
["T20",2,{"$f":"\"S\"&D138&IF(OR(AD138=\"선택\",AD138=1),1,0)","v":"S40"},4,130,{"$f":"IF(MAX('3-3 위험성평가'!$A$4:$A$423)+1>E138,VLOOKUP(E138,'3-3 위험성평가'!$A$5:$P$423,2,0),\"\")","v":""},{"$f":"IF(F138=\"\",\"\",VLOOKUP(VALUE(F138),'1-1 사업장 공정 정보'!$D$15:$P$41,5,0))","v":""},{"$f":"IF(MAX('3-3 위험성평가'!$A$4:$A$423)+1>E138,VLOOKUP(E138,'3-3 위험성평가'!$A$5:$P$423,3,0),\"\")","v":""},{"$f":"IF(MAX('3-3 위험성평가'!$A$4:$A$423)+1>E138,VLOOKUP(E138,'3-3 위험성평가'!$A$5:$P$423,4,0),\"\")","v":""},{"$f":"IF(MAX('3-3 위험성평가'!$A$4:$A$423)+1>E138,VLOOKUP(E138,'3-3 위험성평가'!$A$5:$P$423,5,0),\"\")","v":""},{"$f":"IF(MAX('3-3 위험성평가'!$A$4:$A$423)+1>E138,VLOOKUP(E138,'3-3 위험성평가'!$A$5:$P$423,6,0),\"\")","v":""},{"$f":"IF(MAX('3-3 위험성평가'!$A$4:$A$423)+1>E138,VLOOKUP(E138,'3-3 위험성평가'!$A$5:$P$423,9,0),\"\")","v":""},{"$f":"IF(MAX('3-3 위험성평가'!$A$4:$A$423)+1>E138,VLOOKUP(E138,'3-3 위험성평가'!$A$5:$P$423,12,0),\"\")&IF(L138>\"\",\".\"&E138,\"\")","v":""},{"$f":"IF(MAX('3-3 위험성평가'!$A$4:$A$423)+1>E138,VLOOKUP(E138,'3-3 위험성평가'!$A$5:$P$423,13,0),\"\")","v":""},null,"하",null,null,null,null,null,null,null,"선택안함",{"$f":"IF(OR(X138=\"선택\",X138=1),1,0)","v":0},{"$f":"IF(MAX('3-3 위험성평가'!$A$4:$A$423)+1>E138,VLOOKUP(E138,'3-3 위험성평가'!$A$5:$Q$423,17,0),\"\")","v":""},"선택",{"$f":"표지!$D$33","v":0},{"$f":"표지!$E$34","v":0},"선택안함",{"$f":"IF(OR(AD138=\"선택\",AD138=1),1,0)","v":0}]
["T20",{"$f":"B138+Y139","v":2},"S40",4,131,{"$f":"IF(MAX('3-3 위험성평가'!$A$4:$A$423)+1>E139,VLOOKUP(E139,'3-3 위험성평가'!$A$5:$P$423,2,0),\"\")","v":""},{"$f":"IF(F139=\"\",\"\",VLOOKUP(VALUE(F139),'1-1 사업장 공정 정보'!$D$15:$P$41,5,0))","v":""},{"$f":"IF(MAX('3-3 위험성평가'!$A$4:$A$423)+1>E139,VLOOKUP(E139,'3-3 위험성평가'!$A$5:$P$423,3,0),\"\")","v":""},{"$f":"IF(MAX('3-3 위험성평가'!$A$4:$A$423)+1>E139,VLOOKUP(E139,'3-3 위험성평가'!$A$5:$P$423,4,0),\"\")","v":""},{"$f":"IF(MAX('3-3 위험성평가'!$A$4:$A$423)+1>E139,VLOOKUP(E139,'3-3 위험성평가'!$A$5:$P$423,5,0),\"\")","v":""},{"$f":"IF(MAX('3-3 위험성평가'!$A$4:$A$423)+1>E139,VLOOKUP(E139,'3-3 위험성평가'!$A$5:$P$423,6,0),\"\")","v":""},{"$f":"IF(MAX('3-3 위험성평가'!$A$4:$A$423)+1>E139,VLOOKUP(E139,'3-3 위험성평가'!$A$5:$P$423,9,0),\"\")","v":""},{"$f":"IF(MAX('3-3 위험성평가'!$A$4:$A$423)+1>E139,VLOOKUP(E139,'3-3 위험성평가'!$A$5:$P$423,12,0),\"\")&IF(L139>\"\",\".\"&E139,\"\")","v":""},{"$f":"IF(MAX('3-3 위험성평가'!$A$4:$A$423)+1>E139,VLOOKUP(E139,'3-3 위험성평가'!$A$5:$P$423,13,0),\"\")","v":""},null,"하",null,null,null,null,null,null,null,"선택안함",0,{"$f":"IF(MAX('3-3 위험성평가'!$A$4:$A$423)+1>E139,VLOOKUP(E139,'3-3 위험성평가'!$A$5:$Q$423,17,0),\"\")","v":""},"선택",{"$f":"표지!$D$33","v":0},{"$f":"표지!$E$34","v":0},"선택안함",0]
["T20",2,"S40",{"$f":"D139+AE140","v":4},132,{"$f":"IF(MAX('3-3 위험성평가'!$A$4:$A$423)+1>E140,VLOOKUP(E140,'3-3 위험성평가'!$A$5:$P$423,2,0),\"\")","v":""},{"$f":"IF(F140=\"\",\"\",VLOOKUP(VALUE(F140),'1-1 사업장 공정 정보'!$D$15:$P$41,5,0))","v":""},{"$f":"IF(MAX('3-3 위험성평가'!$A$4:$A$423)+1>E140,VLOOKUP(E140,'3-3 위험성평가'!$A$5:$P$423,3,0),\"\")","v":""},{"$f":"IF(MAX('3-3 위험성평가'!$A$4:$A$423)+1>E140,VLOOKUP(E140,'3-3 위험성평가'!$A$5:$P$423,4,0),\"\")","v":""},{"$f":"IF(MAX('3-3 위험성평가'!$A$4:$A$423)+1>E140,VLOOKUP(E140,'3-3 위험성평가'!$A$5:$P$423,5,0),\"\")","v":""},{"$f":"IF(MAX('3-3 위험성평가'!$A$4:$A$423)+1>E140,VLOOKUP(E140,'3-3 위험성평가'!$A$5:$P$423,6,0),\"\")","v":""},{"$f":"IF(MAX('3-3 위험성평가'!$A$4:$A$423)+1>E140,VLOOKUP(E140,'3-3 위험성평가'!$A$5:$P$423,9,0),\"\")","v":""},{"$f":"IF(MAX('3-3 위험성평가'!$A$4:$A$423)+1>E140,VLOOKUP(E140,'3-3 위험성평가'!$A$5:$P$423,12,0),\"\")&IF(L140>\"\",\".\"&E140,\"\")","v":""},{"$f":"IF(MAX('3-3 위험성평가'!$A$4:$A$423)+1>E140,VLOOKUP(E140,'3-3 위험성평가'!$A$5:$P$423,13,0),\"\")","v":""},null,"하",null,null,null,null,null,null,null,"선택안함",0,{"$f":"IF(MAX('3-3 위험성평가'!$A$4:$A$423)+1>E140,VLOOKUP(E140,'3-3 위험성평가'!$A$5:$Q$423,17,0),\"\")","v":""},"선택",{"$f":"표지!$D$33","v":0},{"$f":"표지!$E$34","v":0},"선택안함",0]
["T20",2,"S40",4,133,{"$f":"IF(MAX('3-3 위험성평가'!$A$4:$A$423)+1>E141,VLOOKUP(E141,'3-3 위험성평가'!$A$5:$P$423,2,0),\"\")","v":""},{"$f":"IF(F141=\"\",\"\",VLOOKUP(VALUE(F141),'1-1 사업장 공정 정보'!$D$15:$P$41,5,0))","v":""},{"$f":"IF(MAX('3-3 위험성평가'!$A$4:$A$423)+1>E141,VLOOKUP(E141,'3-3 위험성평가'!$A$5:$P$423,3,0),\"\")","v":""},{"$f":"IF(MAX('3-3 위험성평가'!$A$4:$A$423)+1>E141,VLOOKUP(E141,'3-3 위험성평가'!$A$5:$P$423,4,0),\"\")","v":""},{"$f":"IF(MAX('3-3 위험성평가'!$A$4:$A$423)+1>E141,VLOOKUP(E141,'3-3 위험성평가'!$A$5:$P$423,5,0),\"\")","v":""},{"$f":"IF(MAX('3-3 위험성평가'!$A$4:$A$423)+1>E141,VLOOKUP(E141,'3-3 위험성평가'!$A$5:$P$423,6,0),\"\")","v":""},{"$f":"IF(MAX('3-3 위험성평가'!$A$4:$A$423)+1>E141,VLOOKUP(E141,'3-3 위험성평가'!$A$5:$P$423,9,0),\"\")","v":""},{"$f":"IF(MAX('3-3 위험성평가'!$A$4:$A$423)+1>E141,VLOOKUP(E141,'3-3 위험성평가'!$A$5:$P$423,12,0),\"\")&IF(L141>\"\",\".\"&E141,\"\")","v":""},{"$f":"IF(MAX('3-3 위험성평가'!$A$4:$A$423)+1>E141,VLOOKUP(E141,'3-3 위험성평가'!$A$5:$P$423,13,0),\"\")","v":""},null,"하",null,null,null,null,null,null,null,"선택안함",0,{"$f":"IF(MAX('3-3 위험성평가'!$A$4:$A$423)+1>E141,VLOOKUP(E141,'3-3 위험성평가'!$A$5:$Q$423,17,0),\"\")","v":""},"선택",{"$f":"표지!$D$33","v":0},{"$f":"표지!$E$34","v":0},"선택안함",0]
["T20",2,"S40",4,134,{"$f":"IF(MAX('3-3 위험성평가'!$A$4:$A$423)+1>E142,VLOOKUP(E142,'3-3 위험성평가'!$A$5:$P$423,2,0),\"\")","v":""},{"$f":"IF(F142=\"\",\"\",VLOOKUP(VALUE(F142),'1-1 사업장 공정 정보'!$D$15:$P$41,5,0))","v":""},{"$f":"IF(MAX('3-3 위험성평가'!$A$4:$A$423)+1>E142,VLOOKUP(E142,'3-3 위험성평가'!$A$5:$P$423,3,0),\"\")","v":""},{"$f":"IF(MAX('3-3 위험성평가'!$A$4:$A$423)+1>E142,VLOOKUP(E142,'3-3 위험성평가'!$A$5:$P$423,4,0),\"\")","v":""},{"$f":"IF(MAX('3-3 위험성평가'!$A$4:$A$423)+1>E142,VLOOKUP(E142,'3-3 위험성평가'!$A$5:$P$423,5,0),\"\")","v":""},{"$f":"IF(MAX('3-3 위험성평가'!$A$4:$A$423)+1>E142,VLOOKUP(E142,'3-3 위험성평가'!$A$5:$P$423,6,0),\"\")","v":""},{"$f":"IF(MAX('3-3 위험성평가'!$A$4:$A$423)+1>E142,VLOOKUP(E142,'3-3 위험성평가'!$A$5:$P$423,9,0),\"\")","v":""},{"$f":"IF(MAX('3-3 위험성평가'!$A$4:$A$423)+1>E142,VLOOKUP(E142,'3-3 위험성평가'!$A$5:$P$423,12,0),\"\")&IF(L142>\"\",\".\"&E142,\"\")","v":""},{"$f":"IF(MAX('3-3 위험성평가'!$A$4:$A$423)+1>E142,VLOOKUP(E142,'3-3 위험성평가'!$A$5:$P$423,13,0),\"\")","v":""},null,"하",null,null,null,null,null,null,null,"선택안함",0,{"$f":"IF(MAX('3-3 위험성평가'!$A$4:$A$423)+1>E142,VLOOKUP(E142,'3-3 위험성평가'!$A$5:$Q$423,17,0),\"\")","v":""},"선택",{"$f":"표지!$D$33","v":0},{"$f":"표지!$E$34","v":0},"선택안함",0]
["T20",2,"S40",4,135,{"$f":"IF(MAX('3-3 위험성평가'!$A$4:$A$423)+1>E143,VLOOKUP(E143,'3-3 위험성평가'!$A$5:$P$423,2,0),\"\")","v":""},{"$f":"IF(F143=\"\",\"\",VLOOKUP(VALUE(F143),'1-1 사업장 공정 정보'!$D$15:$P$41,5,0))","v":""},{"$f":"IF(MAX('3-3 위험성평가'!$A$4:$A$423)+1>E143,VLOOKUP(E143,'3-3 위험성평가'!$A$5:$P$423,3,0),\"\")","v":""},{"$f":"IF(MAX('3-3 위험성평가'!$A$4:$A$423)+1>E143,VLOOKUP(E143,'3-3 위험성평가'!$A$5:$P$423,4,0),\"\")","v":""},{"$f":"IF(MAX('3-3 위험성평가'!$A$4:$A$423)+1>E143,VLOOKUP(E143,'3-3 위험성평가'!$A$5:$P$423,5,0),\"\")","v":""},{"$f":"IF(MAX('3-3 위험성평가'!$A$4:$A$423)+1>E143,VLOOKUP(E143,'3-3 위험성평가'!$A$5:$P$423,6,0),\"\")","v":""},{"$f":"IF(MAX('3-3 위험성평가'!$A$4:$A$423)+1>E143,VLOOKUP(E143,'3-3 위험성평가'!$A$5:$P$423,9,0),\"\")","v":""},{"$f":"IF(MAX('3-3 위험성평가'!$A$4:$A$423)+1>E143,VLOOKUP(E143,'3-3 위험성평가'!$A$5:$P$423,12,0),\"\")&IF(L143>\"\",\".\"&E143,\"\")","v":""},{"$f":"IF(MAX('3-3 위험성평가'!$A$4:$A$423)+1>E143,VLOOKUP(E143,'3-3 위험성평가'!$A$5:$P$423,13,0),\"\")","v":""},null,"하",null,null,null,null,null,null,null,"선택안함",0,{"$f":"IF(MAX('3-3 위험성평가'!$A$4:$A$423)+1>E143,VLOOKUP(E143,'3-3 위험성평가'!$A$5:$Q$423,17,0),\"\")","v":""},"선택",{"$f":"표지!$D$33","v":0},{"$f":"표지!$E$34","v":0},"선택안함",0]
["T20",2,"S40",4,136,{"$f":"IF(MAX('3-3 위험성평가'!$A$4:$A$423)+1>E144,VLOOKUP(E144,'3-3 위험성평가'!$A$5:$P$423,2,0),\"\")","v":""},{"$f":"IF(F144=\"\",\"\",VLOOKUP(VALUE(F144),'1-1 사업장 공정 정보'!$D$15:$P$41,5,0))","v":""},{"$f":"IF(MAX('3-3 위험성평가'!$A$4:$A$423)+1>E144,VLOOKUP(E144,'3-3 위험성평가'!$A$5:$P$423,3,0),\"\")","v":""},{"$f":"IF(MAX('3-3 위험성평가'!$A$4:$A$423)+1>E144,VLOOKUP(E144,'3-3 위험성평가'!$A$5:$P$423,4,0),\"\")","v":""},{"$f":"IF(MAX('3-3 위험성평가'!$A$4:$A$423)+1>E144,VLOOKUP(E144,'3-3 위험성평가'!$A$5:$P$423,5,0),\"\")","v":""},{"$f":"IF(MAX('3-3 위험성평가'!$A$4:$A$423)+1>E144,VLOOKUP(E144,'3-3 위험성평가'!$A$5:$P$423,6,0),\"\")","v":""},{"$f":"IF(MAX('3-3 위험성평가'!$A$4:$A$423)+1>E144,VLOOKUP(E144,'3-3 위험성평가'!$A$5:$P$423,9,0),\"\")","v":""},{"$f":"IF(MAX('3-3 위험성평가'!$A$4:$A$423)+1>E144,VLOOKUP(E144,'3-3 위험성평가'!$A$5:$P$423,12,0),\"\")&IF(L144>\"\",\".\"&E144,\"\")","v":""},{"$f":"IF(MAX('3-3 위험성평가'!$A$4:$A$423)+1>E144,VLOOKUP(E144,'3-3 위험성평가'!$A$5:$P$423,13,0),\"\")","v":""},null,"하",null,null,null,null,null,null,null,"선택안함",0,{"$f":"IF(MAX('3-3 위험성평가'!$A$4:$A$423)+1>E144,VLOOKUP(E144,'3-3 위험성평가'!$A$5:$Q$423,17,0),\"\")","v":""},"선택",{"$f":"표지!$D$33","v":0},{"$f":"표지!$E$34","v":0},"선택안함",0]
["T20",2,"S40",4,137,{"$f":"IF(MAX('3-3 위험성평가'!$A$4:$A$423)+1>E145,VLOOKUP(E145,'3-3 위험성평가'!$A$5:$P$423,2,0),\"\")","v":""},{"$f":"IF(F145=\"\",\"\",VLOOKUP(VALUE(F145),'1-1 사업장 공정 정보'!$D$15:$P$41,5,0))","v":""},{"$f":"IF(MAX('3-3 위험성평가'!$A$4:$A$423)+1>E145,VLOOKUP(E145,'3-3 위험성평가'!$A$5:$P$423,3,0),\"\")","v":""},{"$f":"IF(MAX('3-3 위험성평가'!$A$4:$A$423)+1>E145,VLOOKUP(E145,'3-3 위험성평가'!$A$5:$P$423,4,0),\"\")","v":""},{"$f":"IF(MAX('3-3 위험성평가'!$A$4:$A$423)+1>E145,VLOOKUP(E145,'3-3 위험성평가'!$A$5:$P$423,5,0),\"\")","v":""},{"$f":"IF(MAX('3-3 위험성평가'!$A$4:$A$423)+1>E145,VLOOKUP(E145,'3-3 위험성평가'!$A$5:$P$423,6,0),\"\")","v":""},{"$f":"IF(MAX('3-3 위험성평가'!$A$4:$A$423)+1>E145,VLOOKUP(E145,'3-3 위험성평가'!$A$5:$P$423,9,0),\"\")","v":""},{"$f":"IF(MAX('3-3 위험성평가'!$A$4:$A$423)+1>E145,VLOOKUP(E145,'3-3 위험성평가'!$A$5:$P$423,12,0),\"\")&IF(L145>\"\",\".\"&E145,\"\")","v":""},{"$f":"IF(MAX('3-3 위험성평가'!$A$4:$A$423)+1>E145,VLOOKUP(E145,'3-3 위험성평가'!$A$5:$P$423,13,0),\"\")","v":""},null,"하",null,null,null,null,null,null,null,"선택안함",0,{"$f":"IF(MAX('3-3 위험성평가'!$A$4:$A$423)+1>E145,VLOOKUP(E145,'3-3 위험성평가'!$A$5:$Q$423,17,0),\"\")","v":""},"선택",{"$f":"표지!$D$33","v":0},{"$f":"표지!$E$34","v":0},"선택안함",0]
["T20",2,"S40",4,138,{"$f":"IF(MAX('3-3 위험성평가'!$A$4:$A$423)+1>E146,VLOOKUP(E146,'3-3 위험성평가'!$A$5:$P$423,2,0),\"\")","v":""},{"$f":"IF(F146=\"\",\"\",VLOOKUP(VALUE(F146),'1-1 사업장 공정 정보'!$D$15:$P$41,5,0))","v":""},{"$f":"IF(MAX('3-3 위험성평가'!$A$4:$A$423)+1>E146,VLOOKUP(E146,'3-3 위험성평가'!$A$5:$P$423,3,0),\"\")","v":""},{"$f":"IF(MAX('3-3 위험성평가'!$A$4:$A$423)+1>E146,VLOOKUP(E146,'3-3 위험성평가'!$A$5:$P$423,4,0),\"\")","v":""},{"$f":"IF(MAX('3-3 위험성평가'!$A$4:$A$423)+1>E146,VLOOKUP(E146,'3-3 위험성평가'!$A$5:$P$423,5,0),\"\")","v":""},{"$f":"IF(MAX('3-3 위험성평가'!$A$4:$A$423)+1>E146,VLOOKUP(E146,'3-3 위험성평가'!$A$5:$P$423,6,0),\"\")","v":""},{"$f":"IF(MAX('3-3 위험성평가'!$A$4:$A$423)+1>E146,VLOOKUP(E146,'3-3 위험성평가'!$A$5:$P$423,9,0),\"\")","v":""},{"$f":"IF(MAX('3-3 위험성평가'!$A$4:$A$423)+1>E146,VLOOKUP(E146,'3-3 위험성평가'!$A$5:$P$423,12,0),\"\")&IF(L146>\"\",\".\"&E146,\"\")","v":""},{"$f":"IF(MAX('3-3 위험성평가'!$A$4:$A$423)+1>E146,VLOOKUP(E146,'3-3 위험성평가'!$A$5:$P$423,13,0),\"\")","v":""},null,"하",null,null,null,null,null,null,null,"선택안함",0,{"$f":"IF(MAX('3-3 위험성평가'!$A$4:$A$423)+1>E146,VLOOKUP(E146,'3-3 위험성평가'!$A$5:$Q$423,17,0),\"\")","v":""},"선택",{"$f":"표지!$D$33","v":0},{"$f":"표지!$E$34","v":0},"선택안함",0]
["T20",2,"S40",4,139,{"$f":"IF(MAX('3-3 위험성평가'!$A$4:$A$423)+1>E147,VLOOKUP(E147,'3-3 위험성평가'!$A$5:$P$423,2,0),\"\")","v":""},{"$f":"IF(F147=\"\",\"\",VLOOKUP(VALUE(F147),'1-1 사업장 공정 정보'!$D$15:$P$41,5,0))","v":""},{"$f":"IF(MAX('3-3 위험성평가'!$A$4:$A$423)+1>E147,VLOOKUP(E147,'3-3 위험성평가'!$A$5:$P$423,3,0),\"\")","v":""},{"$f":"IF(MAX('3-3 위험성평가'!$A$4:$A$423)+1>E147,VLOOKUP(E147,'3-3 위험성평가'!$A$5:$P$423,4,0),\"\")","v":""},{"$f":"IF(MAX('3-3 위험성평가'!$A$4:$A$423)+1>E147,VLOOKUP(E147,'3-3 위험성평가'!$A$5:$P$423,5,0),\"\")","v":""},{"$f":"IF(MAX('3-3 위험성평가'!$A$4:$A$423)+1>E147,VLOOKUP(E147,'3-3 위험성평가'!$A$5:$P$423,6,0),\"\")","v":""},{"$f":"IF(MAX('3-3 위험성평가'!$A$4:$A$423)+1>E147,VLOOKUP(E147,'3-3 위험성평가'!$A$5:$P$423,9,0),\"\")","v":""},{"$f":"IF(MAX('3-3 위험성평가'!$A$4:$A$423)+1>E147,VLOOKUP(E147,'3-3 위험성평가'!$A$5:$P$423,12,0),\"\")&IF(L147>\"\",\".\"&E147,\"\")","v":""},{"$f":"IF(MAX('3-3 위험성평가'!$A$4:$A$423)+1>E147,VLOOKUP(E147,'3-3 위험성평가'!$A$5:$P$423,13,0),\"\")","v":""},null,"하",null,null,null,null,null,null,null,"선택안함",0,{"$f":"IF(MAX('3-3 위험성평가'!$A$4:$A$423)+1>E147,VLOOKUP(E147,'3-3 위험성평가'!$A$5:$Q$423,17,0),\"\")","v":""},"선택",{"$f":"표지!$D$33","v":0},{"$f":"표지!$E$34","v":0},"선택안함",0]
["T20",2,"S40",4,140,{"$f":"IF(MAX('3-3 위험성평가'!$A$4:$A$423)+1>E148,VLOOKUP(E148,'3-3 위험성평가'!$A$5:$P$423,2,0),\"\")","v":""},{"$f":"IF(F148=\"\",\"\",VLOOKUP(VALUE(F148),'1-1 사업장 공정 정보'!$D$15:$P$41,5,0))","v":""},{"$f":"IF(MAX('3-3 위험성평가'!$A$4:$A$423)+1>E148,VLOOKUP(E148,'3-3 위험성평가'!$A$5:$P$423,3,0),\"\")","v":""},{"$f":"IF(MAX('3-3 위험성평가'!$A$4:$A$423)+1>E148,VLOOKUP(E148,'3-3 위험성평가'!$A$5:$P$423,4,0),\"\")","v":""},{"$f":"IF(MAX('3-3 위험성평가'!$A$4:$A$423)+1>E148,VLOOKUP(E148,'3-3 위험성평가'!$A$5:$P$423,5,0),\"\")","v":""},{"$f":"IF(MAX('3-3 위험성평가'!$A$4:$A$423)+1>E148,VLOOKUP(E148,'3-3 위험성평가'!$A$5:$P$423,6,0),\"\")","v":""},{"$f":"IF(MAX('3-3 위험성평가'!$A$4:$A$423)+1>E148,VLOOKUP(E148,'3-3 위험성평가'!$A$5:$P$423,9,0),\"\")","v":""},{"$f":"IF(MAX('3-3 위험성평가'!$A$4:$A$423)+1>E148,VLOOKUP(E148,'3-3 위험성평가'!$A$5:$P$423,12,0),\"\")&IF(L148>\"\",\".\"&E148,\"\")","v":""},{"$f":"IF(MAX('3-3 위험성평가'!$A$4:$A$423)+1>E148,VLOOKUP(E148,'3-3 위험성평가'!$A$5:$P$423,13,0),\"\")","v":""},null,"하",null,null,null,null,null,null,null,"선택안함",0,{"$f":"IF(MAX('3-3 위험성평가'!$A$4:$A$423)+1>E148,VLOOKUP(E148,'3-3 위험성평가'!$A$5:$Q$423,17,0),\"\")","v":""},"선택",{"$f":"표지!$D$33","v":0},{"$f":"표지!$E$34","v":0},"선택안함",0]
["T20",2,"S40",4,141,{"$f":"IF(MAX('3-3 위험성평가'!$A$4:$A$423)+1>E149,VLOOKUP(E149,'3-3 위험성평가'!$A$5:$P$423,2,0),\"\")","v":""},{"$f":"IF(F149=\"\",\"\",VLOOKUP(VALUE(F149),'1-1 사업장 공정 정보'!$D$15:$P$41,5,0))","v":""},{"$f":"IF(MAX('3-3 위험성평가'!$A$4:$A$423)+1>E149,VLOOKUP(E149,'3-3 위험성평가'!$A$5:$P$423,3,0),\"\")","v":""},{"$f":"IF(MAX('3-3 위험성평가'!$A$4:$A$423)+1>E149,VLOOKUP(E149,'3-3 위험성평가'!$A$5:$P$423,4,0),\"\")","v":""},{"$f":"IF(MAX('3-3 위험성평가'!$A$4:$A$423)+1>E149,VLOOKUP(E149,'3-3 위험성평가'!$A$5:$P$423,5,0),\"\")","v":""},{"$f":"IF(MAX('3-3 위험성평가'!$A$4:$A$423)+1>E149,VLOOKUP(E149,'3-3 위험성평가'!$A$5:$P$423,6,0),\"\")","v":""},{"$f":"IF(MAX('3-3 위험성평가'!$A$4:$A$423)+1>E149,VLOOKUP(E149,'3-3 위험성평가'!$A$5:$P$423,9,0),\"\")","v":""},{"$f":"IF(MAX('3-3 위험성평가'!$A$4:$A$423)+1>E149,VLOOKUP(E149,'3-3 위험성평가'!$A$5:$P$423,12,0),\"\")&IF(L149>\"\",\".\"&E149,\"\")","v":""},{"$f":"IF(MAX('3-3 위험성평가'!$A$4:$A$423)+1>E149,VLOOKUP(E149,'3-3 위험성평가'!$A$5:$P$423,13,0),\"\")","v":""},null,"하",null,null,null,null,null,null,null,"선택안함",0,{"$f":"IF(MAX('3-3 위험성평가'!$A$4:$A$423)+1>E149,VLOOKUP(E149,'3-3 위험성평가'!$A$5:$Q$423,17,0),\"\")","v":""},"선택",{"$f":"표지!$D$33","v":0},{"$f":"표지!$E$34","v":0},"선택안함",0]
["T20",2,"S40",4,142,{"$f":"IF(MAX('3-3 위험성평가'!$A$4:$A$423)+1>E150,VLOOKUP(E150,'3-3 위험성평가'!$A$5:$P$423,2,0),\"\")","v":""},{"$f":"IF(F150=\"\",\"\",VLOOKUP(VALUE(F150),'1-1 사업장 공정 정보'!$D$15:$P$41,5,0))","v":""},{"$f":"IF(MAX('3-3 위험성평가'!$A$4:$A$423)+1>E150,VLOOKUP(E150,'3-3 위험성평가'!$A$5:$P$423,3,0),\"\")","v":""},{"$f":"IF(MAX('3-3 위험성평가'!$A$4:$A$423)+1>E150,VLOOKUP(E150,'3-3 위험성평가'!$A$5:$P$423,4,0),\"\")","v":""},{"$f":"IF(MAX('3-3 위험성평가'!$A$4:$A$423)+1>E150,VLOOKUP(E150,'3-3 위험성평가'!$A$5:$P$423,5,0),\"\")","v":""},{"$f":"IF(MAX('3-3 위험성평가'!$A$4:$A$423)+1>E150,VLOOKUP(E150,'3-3 위험성평가'!$A$5:$P$423,6,0),\"\")","v":""},{"$f":"IF(MAX('3-3 위험성평가'!$A$4:$A$423)+1>E150,VLOOKUP(E150,'3-3 위험성평가'!$A$5:$P$423,9,0),\"\")","v":""},{"$f":"IF(MAX('3-3 위험성평가'!$A$4:$A$423)+1>E150,VLOOKUP(E150,'3-3 위험성평가'!$A$5:$P$423,12,0),\"\")&IF(L150>\"\",\".\"&E150,\"\")","v":""},{"$f":"IF(MAX('3-3 위험성평가'!$A$4:$A$423)+1>E150,VLOOKUP(E150,'3-3 위험성평가'!$A$5:$P$423,13,0),\"\")","v":""},null,"하",null,null,null,null,null,null,null,"선택안함",0,{"$f":"IF(MAX('3-3 위험성평가'!$A$4:$A$423)+1>E150,VLOOKUP(E150,'3-3 위험성평가'!$A$5:$Q$423,17,0),\"\")","v":""},"선택",{"$f":"표지!$D$33","v":0},{"$f":"표지!$E$34","v":0},"선택안함",0]
["T20",2,"S40",4,143,{"$f":"IF(MAX('3-3 위험성평가'!$A$4:$A$423)+1>E151,VLOOKUP(E151,'3-3 위험성평가'!$A$5:$P$423,2,0),\"\")","v":""},{"$f":"IF(F151=\"\",\"\",VLOOKUP(VALUE(F151),'1-1 사업장 공정 정보'!$D$15:$P$41,5,0))","v":""},{"$f":"IF(MAX('3-3 위험성평가'!$A$4:$A$423)+1>E151,VLOOKUP(E151,'3-3 위험성평가'!$A$5:$P$423,3,0),\"\")","v":""},{"$f":"IF(MAX('3-3 위험성평가'!$A$4:$A$423)+1>E151,VLOOKUP(E151,'3-3 위험성평가'!$A$5:$P$423,4,0),\"\")","v":""},{"$f":"IF(MAX('3-3 위험성평가'!$A$4:$A$423)+1>E151,VLOOKUP(E151,'3-3 위험성평가'!$A$5:$P$423,5,0),\"\")","v":""},{"$f":"IF(MAX('3-3 위험성평가'!$A$4:$A$423)+1>E151,VLOOKUP(E151,'3-3 위험성평가'!$A$5:$P$423,6,0),\"\")","v":""},{"$f":"IF(MAX('3-3 위험성평가'!$A$4:$A$423)+1>E151,VLOOKUP(E151,'3-3 위험성평가'!$A$5:$P$423,9,0),\"\")","v":""},{"$f":"IF(MAX('3-3 위험성평가'!$A$4:$A$423)+1>E151,VLOOKUP(E151,'3-3 위험성평가'!$A$5:$P$423,12,0),\"\")&IF(L151>\"\",\".\"&E151,\"\")","v":""},{"$f":"IF(MAX('3-3 위험성평가'!$A$4:$A$423)+1>E151,VLOOKUP(E151,'3-3 위험성평가'!$A$5:$P$423,13,0),\"\")","v":""},null,"하",null,null,null,null,null,null,null,"선택안함",0,{"$f":"IF(MAX('3-3 위험성평가'!$A$4:$A$423)+1>E151,VLOOKUP(E151,'3-3 위험성평가'!$A$5:$Q$423,17,0),\"\")","v":""},"선택",{"$f":"표지!$D$33","v":0},{"$f":"표지!$E$34","v":0},"선택안함",0]
["T20",2,"S40",4,144,{"$f":"IF(MAX('3-3 위험성평가'!$A$4:$A$423)+1>E152,VLOOKUP(E152,'3-3 위험성평가'!$A$5:$P$423,2,0),\"\")","v":""},{"$f":"IF(F152=\"\",\"\",VLOOKUP(VALUE(F152),'1-1 사업장 공정 정보'!$D$15:$P$41,5,0))","v":""},{"$f":"IF(MAX('3-3 위험성평가'!$A$4:$A$423)+1>E152,VLOOKUP(E152,'3-3 위험성평가'!$A$5:$P$423,3,0),\"\")","v":""},{"$f":"IF(MAX('3-3 위험성평가'!$A$4:$A$423)+1>E152,VLOOKUP(E152,'3-3 위험성평가'!$A$5:$P$423,4,0),\"\")","v":""},{"$f":"IF(MAX('3-3 위험성평가'!$A$4:$A$423)+1>E152,VLOOKUP(E152,'3-3 위험성평가'!$A$5:$P$423,5,0),\"\")","v":""},{"$f":"IF(MAX('3-3 위험성평가'!$A$4:$A$423)+1>E152,VLOOKUP(E152,'3-3 위험성평가'!$A$5:$P$423,6,0),\"\")","v":""},{"$f":"IF(MAX('3-3 위험성평가'!$A$4:$A$423)+1>E152,VLOOKUP(E152,'3-3 위험성평가'!$A$5:$P$423,9,0),\"\")","v":""},{"$f":"IF(MAX('3-3 위험성평가'!$A$4:$A$423)+1>E152,VLOOKUP(E152,'3-3 위험성평가'!$A$5:$P$423,12,0),\"\")&IF(L152>\"\",\".\"&E152,\"\")","v":""},{"$f":"IF(MAX('3-3 위험성평가'!$A$4:$A$423)+1>E152,VLOOKUP(E152,'3-3 위험성평가'!$A$5:$P$423,13,0),\"\")","v":""},null,"하",null,null,null,null,null,null,null,"선택안함",0,{"$f":"IF(MAX('3-3 위험성평가'!$A$4:$A$423)+1>E152,VLOOKUP(E152,'3-3 위험성평가'!$A$5:$Q$423,17,0),\"\")","v":""},"선택",{"$f":"표지!$D$33","v":0},{"$f":"표지!$E$34","v":0},"선택안함",0]
["T20",2,"S40",4,145,{"$f":"IF(MAX('3-3 위험성평가'!$A$4:$A$423)+1>E153,VLOOKUP(E153,'3-3 위험성평가'!$A$5:$P$423,2,0),\"\")","v":""},{"$f":"IF(F153=\"\",\"\",VLOOKUP(VALUE(F153),'1-1 사업장 공정 정보'!$D$15:$P$41,5,0))","v":""},{"$f":"IF(MAX('3-3 위험성평가'!$A$4:$A$423)+1>E153,VLOOKUP(E153,'3-3 위험성평가'!$A$5:$P$423,3,0),\"\")","v":""},{"$f":"IF(MAX('3-3 위험성평가'!$A$4:$A$423)+1>E153,VLOOKUP(E153,'3-3 위험성평가'!$A$5:$P$423,4,0),\"\")","v":""},{"$f":"IF(MAX('3-3 위험성평가'!$A$4:$A$423)+1>E153,VLOOKUP(E153,'3-3 위험성평가'!$A$5:$P$423,5,0),\"\")","v":""},{"$f":"IF(MAX('3-3 위험성평가'!$A$4:$A$423)+1>E153,VLOOKUP(E153,'3-3 위험성평가'!$A$5:$P$423,6,0),\"\")","v":""},{"$f":"IF(MAX('3-3 위험성평가'!$A$4:$A$423)+1>E153,VLOOKUP(E153,'3-3 위험성평가'!$A$5:$P$423,9,0),\"\")","v":""},{"$f":"IF(MAX('3-3 위험성평가'!$A$4:$A$423)+1>E153,VLOOKUP(E153,'3-3 위험성평가'!$A$5:$P$423,12,0),\"\")&IF(L153>\"\",\".\"&E153,\"\")","v":""},{"$f":"IF(MAX('3-3 위험성평가'!$A$4:$A$423)+1>E153,VLOOKUP(E153,'3-3 위험성평가'!$A$5:$P$423,13,0),\"\")","v":""},null,"하",null,null,null,null,null,null,null,"선택안함",0,{"$f":"IF(MAX('3-3 위험성평가'!$A$4:$A$423)+1>E153,VLOOKUP(E153,'3-3 위험성평가'!$A$5:$Q$423,17,0),\"\")","v":""},"선택",{"$f":"표지!$D$33","v":0},{"$f":"표지!$E$34","v":0},"선택안함",0]
["T20",{"$f":"B153+Y154","v":2},"S40",4,146,{"$f":"IF(MAX('3-3 위험성평가'!$A$4:$A$423)+1>E154,VLOOKUP(E154,'3-3 위험성평가'!$A$5:$P$423,2,0),\"\")","v":""},{"$f":"IF(F154=\"\",\"\",VLOOKUP(VALUE(F154),'1-1 사업장 공정 정보'!$D$15:$P$41,5,0))","v":""},{"$f":"IF(MAX('3-3 위험성평가'!$A$4:$A$423)+1>E154,VLOOKUP(E154,'3-3 위험성평가'!$A$5:$P$423,3,0),\"\")","v":""},{"$f":"IF(MAX('3-3 위험성평가'!$A$4:$A$423)+1>E154,VLOOKUP(E154,'3-3 위험성평가'!$A$5:$P$423,4,0),\"\")","v":""},{"$f":"IF(MAX('3-3 위험성평가'!$A$4:$A$423)+1>E154,VLOOKUP(E154,'3-3 위험성평가'!$A$5:$P$423,5,0),\"\")","v":""},{"$f":"IF(MAX('3-3 위험성평가'!$A$4:$A$423)+1>E154,VLOOKUP(E154,'3-3 위험성평가'!$A$5:$P$423,6,0),\"\")","v":""},{"$f":"IF(MAX('3-3 위험성평가'!$A$4:$A$423)+1>E154,VLOOKUP(E154,'3-3 위험성평가'!$A$5:$P$423,9,0),\"\")","v":""},{"$f":"IF(MAX('3-3 위험성평가'!$A$4:$A$423)+1>E154,VLOOKUP(E154,'3-3 위험성평가'!$A$5:$P$423,12,0),\"\")&IF(L154>\"\",\".\"&E154,\"\")","v":""},{"$f":"IF(MAX('3-3 위험성평가'!$A$4:$A$423)+1>E154,VLOOKUP(E154,'3-3 위험성평가'!$A$5:$P$423,13,0),\"\")","v":""},null,"하",null,null,null,null,null,null,null,"선택안함",0,{"$f":"IF(MAX('3-3 위험성평가'!$A$4:$A$423)+1>E154,VLOOKUP(E154,'3-3 위험성평가'!$A$5:$Q$423,17,0),\"\")","v":""},"선택",{"$f":"표지!$D$33","v":0},{"$f":"표지!$E$34","v":0},"선택안함",0]
["T20",2,"S40",4,147,{"$f":"IF(MAX('3-3 위험성평가'!$A$4:$A$423)+1>E155,VLOOKUP(E155,'3-3 위험성평가'!$A$5:$P$423,2,0),\"\")","v":""},{"$f":"IF(F155=\"\",\"\",VLOOKUP(VALUE(F155),'1-1 사업장 공정 정보'!$D$15:$P$41,5,0))","v":""},{"$f":"IF(MAX('3-3 위험성평가'!$A$4:$A$423)+1>E155,VLOOKUP(E155,'3-3 위험성평가'!$A$5:$P$423,3,0),\"\")","v":""},{"$f":"IF(MAX('3-3 위험성평가'!$A$4:$A$423)+1>E155,VLOOKUP(E155,'3-3 위험성평가'!$A$5:$P$423,4,0),\"\")","v":""},{"$f":"IF(MAX('3-3 위험성평가'!$A$4:$A$423)+1>E155,VLOOKUP(E155,'3-3 위험성평가'!$A$5:$P$423,5,0),\"\")","v":""},{"$f":"IF(MAX('3-3 위험성평가'!$A$4:$A$423)+1>E155,VLOOKUP(E155,'3-3 위험성평가'!$A$5:$P$423,6,0),\"\")","v":""},{"$f":"IF(MAX('3-3 위험성평가'!$A$4:$A$423)+1>E155,VLOOKUP(E155,'3-3 위험성평가'!$A$5:$P$423,9,0),\"\")","v":""},{"$f":"IF(MAX('3-3 위험성평가'!$A$4:$A$423)+1>E155,VLOOKUP(E155,'3-3 위험성평가'!$A$5:$P$423,12,0),\"\")&IF(L155>\"\",\".\"&E155,\"\")","v":""},{"$f":"IF(MAX('3-3 위험성평가'!$A$4:$A$423)+1>E155,VLOOKUP(E155,'3-3 위험성평가'!$A$5:$P$423,13,0),\"\")","v":""},null,"하",null,null,null,null,null,null,null,"선택안함",0,{"$f":"IF(MAX('3-3 위험성평가'!$A$4:$A$423)+1>E155,VLOOKUP(E155,'3-3 위험성평가'!$A$5:$Q$423,17,0),\"\")","v":""},"선택",{"$f":"표지!$D$33","v":0},{"$f":"표지!$E$34","v":0},"선택안함",0]
["T20",2,"S40",4,148,{"$f":"IF(MAX('3-3 위험성평가'!$A$4:$A$423)+1>E156,VLOOKUP(E156,'3-3 위험성평가'!$A$5:$P$423,2,0),\"\")","v":""},{"$f":"IF(F156=\"\",\"\",VLOOKUP(VALUE(F156),'1-1 사업장 공정 정보'!$D$15:$P$41,5,0))","v":""},{"$f":"IF(MAX('3-3 위험성평가'!$A$4:$A$423)+1>E156,VLOOKUP(E156,'3-3 위험성평가'!$A$5:$P$423,3,0),\"\")","v":""},{"$f":"IF(MAX('3-3 위험성평가'!$A$4:$A$423)+1>E156,VLOOKUP(E156,'3-3 위험성평가'!$A$5:$P$423,4,0),\"\")","v":""},{"$f":"IF(MAX('3-3 위험성평가'!$A$4:$A$423)+1>E156,VLOOKUP(E156,'3-3 위험성평가'!$A$5:$P$423,5,0),\"\")","v":""},{"$f":"IF(MAX('3-3 위험성평가'!$A$4:$A$423)+1>E156,VLOOKUP(E156,'3-3 위험성평가'!$A$5:$P$423,6,0),\"\")","v":""},{"$f":"IF(MAX('3-3 위험성평가'!$A$4:$A$423)+1>E156,VLOOKUP(E156,'3-3 위험성평가'!$A$5:$P$423,9,0),\"\")","v":""},{"$f":"IF(MAX('3-3 위험성평가'!$A$4:$A$423)+1>E156,VLOOKUP(E156,'3-3 위험성평가'!$A$5:$P$423,12,0),\"\")&IF(L156>\"\",\".\"&E156,\"\")","v":""},{"$f":"IF(MAX('3-3 위험성평가'!$A$4:$A$423)+1>E156,VLOOKUP(E156,'3-3 위험성평가'!$A$5:$P$423,13,0),\"\")","v":""},null,"하",null,null,null,null,null,null,null,"선택안함",0,{"$f":"IF(MAX('3-3 위험성평가'!$A$4:$A$423)+1>E156,VLOOKUP(E156,'3-3 위험성평가'!$A$5:$Q$423,17,0),\"\")","v":""},"선택",{"$f":"표지!$D$33","v":0},{"$f":"표지!$E$34","v":0},"선택안함",0]
["T20",2,"S40",4,149,{"$f":"IF(MAX('3-3 위험성평가'!$A$4:$A$423)+1>E157,VLOOKUP(E157,'3-3 위험성평가'!$A$5:$P$423,2,0),\"\")","v":""},{"$f":"IF(F157=\"\",\"\",VLOOKUP(VALUE(F157),'1-1 사업장 공정 정보'!$D$15:$P$41,5,0))","v":""},{"$f":"IF(MAX('3-3 위험성평가'!$A$4:$A$423)+1>E157,VLOOKUP(E157,'3-3 위험성평가'!$A$5:$P$423,3,0),\"\")","v":""},{"$f":"IF(MAX('3-3 위험성평가'!$A$4:$A$423)+1>E157,VLOOKUP(E157,'3-3 위험성평가'!$A$5:$P$423,4,0),\"\")","v":""},{"$f":"IF(MAX('3-3 위험성평가'!$A$4:$A$423)+1>E157,VLOOKUP(E157,'3-3 위험성평가'!$A$5:$P$423,5,0),\"\")","v":""},{"$f":"IF(MAX('3-3 위험성평가'!$A$4:$A$423)+1>E157,VLOOKUP(E157,'3-3 위험성평가'!$A$5:$P$423,6,0),\"\")","v":""},{"$f":"IF(MAX('3-3 위험성평가'!$A$4:$A$423)+1>E157,VLOOKUP(E157,'3-3 위험성평가'!$A$5:$P$423,9,0),\"\")","v":""},{"$f":"IF(MAX('3-3 위험성평가'!$A$4:$A$423)+1>E157,VLOOKUP(E157,'3-3 위험성평가'!$A$5:$P$423,12,0),\"\")&IF(L157>\"\",\".\"&E157,\"\")","v":""},{"$f":"IF(MAX('3-3 위험성평가'!$A$4:$A$423)+1>E157,VLOOKUP(E157,'3-3 위험성평가'!$A$5:$P$423,13,0),\"\")","v":""},null,"하",null,null,null,null,null,null,null,"선택안함",0,{"$f":"IF(MAX('3-3 위험성평가'!$A$4:$A$423)+1>E157,VLOOKUP(E157,'3-3 위험성평가'!$A$5:$Q$423,17,0),\"\")","v":""},"선택",{"$f":"표지!$D$33","v":0},{"$f":"표지!$E$34","v":0},"선택안함",0]
["T20",2,"S40",4,150,{"$f":"IF(MAX('3-3 위험성평가'!$A$4:$A$423)+1>E158,VLOOKUP(E158,'3-3 위험성평가'!$A$5:$P$423,2,0),\"\")","v":""},{"$f":"IF(F158=\"\",\"\",VLOOKUP(VALUE(F158),'1-1 사업장 공정 정보'!$D$15:$P$41,5,0))","v":""},{"$f":"IF(MAX('3-3 위험성평가'!$A$4:$A$423)+1>E158,VLOOKUP(E158,'3-3 위험성평가'!$A$5:$P$423,3,0),\"\")","v":""},{"$f":"IF(MAX('3-3 위험성평가'!$A$4:$A$423)+1>E158,VLOOKUP(E158,'3-3 위험성평가'!$A$5:$P$423,4,0),\"\")","v":""},{"$f":"IF(MAX('3-3 위험성평가'!$A$4:$A$423)+1>E158,VLOOKUP(E158,'3-3 위험성평가'!$A$5:$P$423,5,0),\"\")","v":""},{"$f":"IF(MAX('3-3 위험성평가'!$A$4:$A$423)+1>E158,VLOOKUP(E158,'3-3 위험성평가'!$A$5:$P$423,6,0),\"\")","v":""},{"$f":"IF(MAX('3-3 위험성평가'!$A$4:$A$423)+1>E158,VLOOKUP(E158,'3-3 위험성평가'!$A$5:$P$423,9,0),\"\")","v":""},{"$f":"IF(MAX('3-3 위험성평가'!$A$4:$A$423)+1>E158,VLOOKUP(E158,'3-3 위험성평가'!$A$5:$P$423,12,0),\"\")&IF(L158>\"\",\".\"&E158,\"\")","v":""},{"$f":"IF(MAX('3-3 위험성평가'!$A$4:$A$423)+1>E158,VLOOKUP(E158,'3-3 위험성평가'!$A$5:$P$423,13,0),\"\")","v":""},null,"하",null,null,null,null,null,null,null,"선택안함",0,{"$f":"IF(MAX('3-3 위험성평가'!$A$4:$A$423)+1>E158,VLOOKUP(E158,'3-3 위험성평가'!$A$5:$Q$423,17,0),\"\")","v":""},"선택",{"$f":"표지!$D$33","v":0},{"$f":"표지!$E$34","v":0},"선택안함",0]
["T20",2,"S40",4,151,{"$f":"IF(MAX('3-3 위험성평가'!$A$4:$A$423)+1>E159,VLOOKUP(E159,'3-3 위험성평가'!$A$5:$P$423,2,0),\"\")","v":""},{"$f":"IF(F159=\"\",\"\",VLOOKUP(VALUE(F159),'1-1 사업장 공정 정보'!$D$15:$P$41,5,0))","v":""},{"$f":"IF(MAX('3-3 위험성평가'!$A$4:$A$423)+1>E159,VLOOKUP(E159,'3-3 위험성평가'!$A$5:$P$423,3,0),\"\")","v":""},{"$f":"IF(MAX('3-3 위험성평가'!$A$4:$A$423)+1>E159,VLOOKUP(E159,'3-3 위험성평가'!$A$5:$P$423,4,0),\"\")","v":""},{"$f":"IF(MAX('3-3 위험성평가'!$A$4:$A$423)+1>E159,VLOOKUP(E159,'3-3 위험성평가'!$A$5:$P$423,5,0),\"\")","v":""},{"$f":"IF(MAX('3-3 위험성평가'!$A$4:$A$423)+1>E159,VLOOKUP(E159,'3-3 위험성평가'!$A$5:$P$423,6,0),\"\")","v":""},{"$f":"IF(MAX('3-3 위험성평가'!$A$4:$A$423)+1>E159,VLOOKUP(E159,'3-3 위험성평가'!$A$5:$P$423,9,0),\"\")","v":""},{"$f":"IF(MAX('3-3 위험성평가'!$A$4:$A$423)+1>E159,VLOOKUP(E159,'3-3 위험성평가'!$A$5:$P$423,12,0),\"\")&IF(L159>\"\",\".\"&E159,\"\")","v":""},{"$f":"IF(MAX('3-3 위험성평가'!$A$4:$A$423)+1>E159,VLOOKUP(E159,'3-3 위험성평가'!$A$5:$P$423,13,0),\"\")","v":""},null,"하",null,null,null,null,null,null,null,"선택안함",0,{"$f":"IF(MAX('3-3 위험성평가'!$A$4:$A$423)+1>E159,VLOOKUP(E159,'3-3 위험성평가'!$A$5:$Q$423,17,0),\"\")","v":""},"선택",{"$f":"표지!$D$33","v":0},{"$f":"표지!$E$34","v":0},"선택안함",0]
["T20",2,"S40",4,152,{"$f":"IF(MAX('3-3 위험성평가'!$A$4:$A$423)+1>E160,VLOOKUP(E160,'3-3 위험성평가'!$A$5:$P$423,2,0),\"\")","v":""},{"$f":"IF(F160=\"\",\"\",VLOOKUP(VALUE(F160),'1-1 사업장 공정 정보'!$D$15:$P$41,5,0))","v":""},{"$f":"IF(MAX('3-3 위험성평가'!$A$4:$A$423)+1>E160,VLOOKUP(E160,'3-3 위험성평가'!$A$5:$P$423,3,0),\"\")","v":""},{"$f":"IF(MAX('3-3 위험성평가'!$A$4:$A$423)+1>E160,VLOOKUP(E160,'3-3 위험성평가'!$A$5:$P$423,4,0),\"\")","v":""},{"$f":"IF(MAX('3-3 위험성평가'!$A$4:$A$423)+1>E160,VLOOKUP(E160,'3-3 위험성평가'!$A$5:$P$423,5,0),\"\")","v":""},{"$f":"IF(MAX('3-3 위험성평가'!$A$4:$A$423)+1>E160,VLOOKUP(E160,'3-3 위험성평가'!$A$5:$P$423,6,0),\"\")","v":""},{"$f":"IF(MAX('3-3 위험성평가'!$A$4:$A$423)+1>E160,VLOOKUP(E160,'3-3 위험성평가'!$A$5:$P$423,9,0),\"\")","v":""},{"$f":"IF(MAX('3-3 위험성평가'!$A$4:$A$423)+1>E160,VLOOKUP(E160,'3-3 위험성평가'!$A$5:$P$423,12,0),\"\")&IF(L160>\"\",\".\"&E160,\"\")","v":""},{"$f":"IF(MAX('3-3 위험성평가'!$A$4:$A$423)+1>E160,VLOOKUP(E160,'3-3 위험성평가'!$A$5:$P$423,13,0),\"\")","v":""},null,"하",null,null,null,null,null,null,null,"선택안함",0,{"$f":"IF(MAX('3-3 위험성평가'!$A$4:$A$423)+1>E160,VLOOKUP(E160,'3-3 위험성평가'!$A$5:$Q$423,17,0),\"\")","v":""},"선택",{"$f":"표지!$D$33","v":0},{"$f":"표지!$E$34","v":0},"선택안함",0]
["T20",2,"S40",4,153,{"$f":"IF(MAX('3-3 위험성평가'!$A$4:$A$423)+1>E161,VLOOKUP(E161,'3-3 위험성평가'!$A$5:$P$423,2,0),\"\")","v":""},{"$f":"IF(F161=\"\",\"\",VLOOKUP(VALUE(F161),'1-1 사업장 공정 정보'!$D$15:$P$41,5,0))","v":""},{"$f":"IF(MAX('3-3 위험성평가'!$A$4:$A$423)+1>E161,VLOOKUP(E161,'3-3 위험성평가'!$A$5:$P$423,3,0),\"\")","v":""},{"$f":"IF(MAX('3-3 위험성평가'!$A$4:$A$423)+1>E161,VLOOKUP(E161,'3-3 위험성평가'!$A$5:$P$423,4,0),\"\")","v":""},{"$f":"IF(MAX('3-3 위험성평가'!$A$4:$A$423)+1>E161,VLOOKUP(E161,'3-3 위험성평가'!$A$5:$P$423,5,0),\"\")","v":""},{"$f":"IF(MAX('3-3 위험성평가'!$A$4:$A$423)+1>E161,VLOOKUP(E161,'3-3 위험성평가'!$A$5:$P$423,6,0),\"\")","v":""},{"$f":"IF(MAX('3-3 위험성평가'!$A$4:$A$423)+1>E161,VLOOKUP(E161,'3-3 위험성평가'!$A$5:$P$423,9,0),\"\")","v":""},{"$f":"IF(MAX('3-3 위험성평가'!$A$4:$A$423)+1>E161,VLOOKUP(E161,'3-3 위험성평가'!$A$5:$P$423,12,0),\"\")&IF(L161>\"\",\".\"&E161,\"\")","v":""},{"$f":"IF(MAX('3-3 위험성평가'!$A$4:$A$423)+1>E161,VLOOKUP(E161,'3-3 위험성평가'!$A$5:$P$423,13,0),\"\")","v":""},null,"하",null,null,null,null,null,null,null,"선택안함",0,{"$f":"IF(MAX('3-3 위험성평가'!$A$4:$A$423)+1>E161,VLOOKUP(E161,'3-3 위험성평가'!$A$5:$Q$423,17,0),\"\")","v":""},"선택",{"$f":"표지!$D$33","v":0},{"$f":"표지!$E$34","v":0},"선택안함",0]
["T20",2,"S40",4,154,{"$f":"IF(MAX('3-3 위험성평가'!$A$4:$A$423)+1>E162,VLOOKUP(E162,'3-3 위험성평가'!$A$5:$P$423,2,0),\"\")","v":""},{"$f":"IF(F162=\"\",\"\",VLOOKUP(VALUE(F162),'1-1 사업장 공정 정보'!$D$15:$P$41,5,0))","v":""},{"$f":"IF(MAX('3-3 위험성평가'!$A$4:$A$423)+1>E162,VLOOKUP(E162,'3-3 위험성평가'!$A$5:$P$423,3,0),\"\")","v":""},{"$f":"IF(MAX('3-3 위험성평가'!$A$4:$A$423)+1>E162,VLOOKUP(E162,'3-3 위험성평가'!$A$5:$P$423,4,0),\"\")","v":""},{"$f":"IF(MAX('3-3 위험성평가'!$A$4:$A$423)+1>E162,VLOOKUP(E162,'3-3 위험성평가'!$A$5:$P$423,5,0),\"\")","v":""},{"$f":"IF(MAX('3-3 위험성평가'!$A$4:$A$423)+1>E162,VLOOKUP(E162,'3-3 위험성평가'!$A$5:$P$423,6,0),\"\")","v":""},{"$f":"IF(MAX('3-3 위험성평가'!$A$4:$A$423)+1>E162,VLOOKUP(E162,'3-3 위험성평가'!$A$5:$P$423,9,0),\"\")","v":""},{"$f":"IF(MAX('3-3 위험성평가'!$A$4:$A$423)+1>E162,VLOOKUP(E162,'3-3 위험성평가'!$A$5:$P$423,12,0),\"\")&IF(L162>\"\",\".\"&E162,\"\")","v":""},{"$f":"IF(MAX('3-3 위험성평가'!$A$4:$A$423)+1>E162,VLOOKUP(E162,'3-3 위험성평가'!$A$5:$P$423,13,0),\"\")","v":""},null,"하",null,null,null,null,null,null,null,"선택안함",0,{"$f":"IF(MAX('3-3 위험성평가'!$A$4:$A$423)+1>E162,VLOOKUP(E162,'3-3 위험성평가'!$A$5:$Q$423,17,0),\"\")","v":""},"선택",{"$f":"표지!$D$33","v":0},{"$f":"표지!$E$34","v":0},"선택안함",0]
["T20",2,"S40",4,155,{"$f":"IF(MAX('3-3 위험성평가'!$A$4:$A$423)+1>E163,VLOOKUP(E163,'3-3 위험성평가'!$A$5:$P$423,2,0),\"\")","v":""},{"$f":"IF(F163=\"\",\"\",VLOOKUP(VALUE(F163),'1-1 사업장 공정 정보'!$D$15:$P$41,5,0))","v":""},{"$f":"IF(MAX('3-3 위험성평가'!$A$4:$A$423)+1>E163,VLOOKUP(E163,'3-3 위험성평가'!$A$5:$P$423,3,0),\"\")","v":""},{"$f":"IF(MAX('3-3 위험성평가'!$A$4:$A$423)+1>E163,VLOOKUP(E163,'3-3 위험성평가'!$A$5:$P$423,4,0),\"\")","v":""},{"$f":"IF(MAX('3-3 위험성평가'!$A$4:$A$423)+1>E163,VLOOKUP(E163,'3-3 위험성평가'!$A$5:$P$423,5,0),\"\")","v":""},{"$f":"IF(MAX('3-3 위험성평가'!$A$4:$A$423)+1>E163,VLOOKUP(E163,'3-3 위험성평가'!$A$5:$P$423,6,0),\"\")","v":""},{"$f":"IF(MAX('3-3 위험성평가'!$A$4:$A$423)+1>E163,VLOOKUP(E163,'3-3 위험성평가'!$A$5:$P$423,9,0),\"\")","v":""},{"$f":"IF(MAX('3-3 위험성평가'!$A$4:$A$423)+1>E163,VLOOKUP(E163,'3-3 위험성평가'!$A$5:$P$423,12,0),\"\")&IF(L163>\"\",\".\"&E163,\"\")","v":""},{"$f":"IF(MAX('3-3 위험성평가'!$A$4:$A$423)+1>E163,VLOOKUP(E163,'3-3 위험성평가'!$A$5:$P$423,13,0),\"\")","v":""},null,"하",null,null,null,null,null,null,null,"선택안함",0,{"$f":"IF(MAX('3-3 위험성평가'!$A$4:$A$423)+1>E163,VLOOKUP(E163,'3-3 위험성평가'!$A$5:$Q$423,17,0),\"\")","v":""},"선택",{"$f":"표지!$D$33","v":0},{"$f":"표지!$E$34","v":0},"선택안함",0]
["T20",2,"S40",4,156,{"$f":"IF(MAX('3-3 위험성평가'!$A$4:$A$423)+1>E164,VLOOKUP(E164,'3-3 위험성평가'!$A$5:$P$423,2,0),\"\")","v":""},{"$f":"IF(F164=\"\",\"\",VLOOKUP(VALUE(F164),'1-1 사업장 공정 정보'!$D$15:$P$41,5,0))","v":""},{"$f":"IF(MAX('3-3 위험성평가'!$A$4:$A$423)+1>E164,VLOOKUP(E164,'3-3 위험성평가'!$A$5:$P$423,3,0),\"\")","v":""},{"$f":"IF(MAX('3-3 위험성평가'!$A$4:$A$423)+1>E164,VLOOKUP(E164,'3-3 위험성평가'!$A$5:$P$423,4,0),\"\")","v":""},{"$f":"IF(MAX('3-3 위험성평가'!$A$4:$A$423)+1>E164,VLOOKUP(E164,'3-3 위험성평가'!$A$5:$P$423,5,0),\"\")","v":""},{"$f":"IF(MAX('3-3 위험성평가'!$A$4:$A$423)+1>E164,VLOOKUP(E164,'3-3 위험성평가'!$A$5:$P$423,6,0),\"\")","v":""},{"$f":"IF(MAX('3-3 위험성평가'!$A$4:$A$423)+1>E164,VLOOKUP(E164,'3-3 위험성평가'!$A$5:$P$423,9,0),\"\")","v":""},{"$f":"IF(MAX('3-3 위험성평가'!$A$4:$A$423)+1>E164,VLOOKUP(E164,'3-3 위험성평가'!$A$5:$P$423,12,0),\"\")&IF(L164>\"\",\".\"&E164,\"\")","v":""},{"$f":"IF(MAX('3-3 위험성평가'!$A$4:$A$423)+1>E164,VLOOKUP(E164,'3-3 위험성평가'!$A$5:$P$423,13,0),\"\")","v":""},null,"하",null,null,null,null,null,null,null,"선택안함",0,{"$f":"IF(MAX('3-3 위험성평가'!$A$4:$A$423)+1>E164,VLOOKUP(E164,'3-3 위험성평가'!$A$5:$Q$423,17,0),\"\")","v":""},"선택",{"$f":"표지!$D$33","v":0},{"$f":"표지!$E$34","v":0},"선택안함",0]
["T20",2,"S40",4,157,{"$f":"IF(MAX('3-3 위험성평가'!$A$4:$A$423)+1>E165,VLOOKUP(E165,'3-3 위험성평가'!$A$5:$P$423,2,0),\"\")","v":""},{"$f":"IF(F165=\"\",\"\",VLOOKUP(VALUE(F165),'1-1 사업장 공정 정보'!$D$15:$P$41,5,0))","v":""},{"$f":"IF(MAX('3-3 위험성평가'!$A$4:$A$423)+1>E165,VLOOKUP(E165,'3-3 위험성평가'!$A$5:$P$423,3,0),\"\")","v":""},{"$f":"IF(MAX('3-3 위험성평가'!$A$4:$A$423)+1>E165,VLOOKUP(E165,'3-3 위험성평가'!$A$5:$P$423,4,0),\"\")","v":""},{"$f":"IF(MAX('3-3 위험성평가'!$A$4:$A$423)+1>E165,VLOOKUP(E165,'3-3 위험성평가'!$A$5:$P$423,5,0),\"\")","v":""},{"$f":"IF(MAX('3-3 위험성평가'!$A$4:$A$423)+1>E165,VLOOKUP(E165,'3-3 위험성평가'!$A$5:$P$423,6,0),\"\")","v":""},{"$f":"IF(MAX('3-3 위험성평가'!$A$4:$A$423)+1>E165,VLOOKUP(E165,'3-3 위험성평가'!$A$5:$P$423,9,0),\"\")","v":""},{"$f":"IF(MAX('3-3 위험성평가'!$A$4:$A$423)+1>E165,VLOOKUP(E165,'3-3 위험성평가'!$A$5:$P$423,12,0),\"\")&IF(L165>\"\",\".\"&E165,\"\")","v":""},{"$f":"IF(MAX('3-3 위험성평가'!$A$4:$A$423)+1>E165,VLOOKUP(E165,'3-3 위험성평가'!$A$5:$P$423,13,0),\"\")","v":""},null,"하",null,null,null,null,null,null,null,"선택안함",0,{"$f":"IF(MAX('3-3 위험성평가'!$A$4:$A$423)+1>E165,VLOOKUP(E165,'3-3 위험성평가'!$A$5:$Q$423,17,0),\"\")","v":""},"선택",{"$f":"표지!$D$33","v":0},{"$f":"표지!$E$34","v":0},"선택안함",0]
["T20",2,"S40",4,158,{"$f":"IF(MAX('3-3 위험성평가'!$A$4:$A$423)+1>E166,VLOOKUP(E166,'3-3 위험성평가'!$A$5:$P$423,2,0),\"\")","v":""},{"$f":"IF(F166=\"\",\"\",VLOOKUP(VALUE(F166),'1-1 사업장 공정 정보'!$D$15:$P$41,5,0))","v":""},{"$f":"IF(MAX('3-3 위험성평가'!$A$4:$A$423)+1>E166,VLOOKUP(E166,'3-3 위험성평가'!$A$5:$P$423,3,0),\"\")","v":""},{"$f":"IF(MAX('3-3 위험성평가'!$A$4:$A$423)+1>E166,VLOOKUP(E166,'3-3 위험성평가'!$A$5:$P$423,4,0),\"\")","v":""},{"$f":"IF(MAX('3-3 위험성평가'!$A$4:$A$423)+1>E166,VLOOKUP(E166,'3-3 위험성평가'!$A$5:$P$423,5,0),\"\")","v":""},{"$f":"IF(MAX('3-3 위험성평가'!$A$4:$A$423)+1>E166,VLOOKUP(E166,'3-3 위험성평가'!$A$5:$P$423,6,0),\"\")","v":""},{"$f":"IF(MAX('3-3 위험성평가'!$A$4:$A$423)+1>E166,VLOOKUP(E166,'3-3 위험성평가'!$A$5:$P$423,9,0),\"\")","v":""},{"$f":"IF(MAX('3-3 위험성평가'!$A$4:$A$423)+1>E166,VLOOKUP(E166,'3-3 위험성평가'!$A$5:$P$423,12,0),\"\")&IF(L166>\"\",\".\"&E166,\"\")","v":""},{"$f":"IF(MAX('3-3 위험성평가'!$A$4:$A$423)+1>E166,VLOOKUP(E166,'3-3 위험성평가'!$A$5:$P$423,13,0),\"\")","v":""},null,"하",null,null,null,null,null,null,null,"선택안함",0,{"$f":"IF(MAX('3-3 위험성평가'!$A$4:$A$423)+1>E166,VLOOKUP(E166,'3-3 위험성평가'!$A$5:$Q$423,17,0),\"\")","v":""},"선택",{"$f":"표지!$D$33","v":0},{"$f":"표지!$E$34","v":0},"선택안함",0]
["T20",2,"S40",4,159,{"$f":"IF(MAX('3-3 위험성평가'!$A$4:$A$423)+1>E167,VLOOKUP(E167,'3-3 위험성평가'!$A$5:$P$423,2,0),\"\")","v":""},{"$f":"IF(F167=\"\",\"\",VLOOKUP(VALUE(F167),'1-1 사업장 공정 정보'!$D$15:$P$41,5,0))","v":""},{"$f":"IF(MAX('3-3 위험성평가'!$A$4:$A$423)+1>E167,VLOOKUP(E167,'3-3 위험성평가'!$A$5:$P$423,3,0),\"\")","v":""},{"$f":"IF(MAX('3-3 위험성평가'!$A$4:$A$423)+1>E167,VLOOKUP(E167,'3-3 위험성평가'!$A$5:$P$423,4,0),\"\")","v":""},{"$f":"IF(MAX('3-3 위험성평가'!$A$4:$A$423)+1>E167,VLOOKUP(E167,'3-3 위험성평가'!$A$5:$P$423,5,0),\"\")","v":""},{"$f":"IF(MAX('3-3 위험성평가'!$A$4:$A$423)+1>E167,VLOOKUP(E167,'3-3 위험성평가'!$A$5:$P$423,6,0),\"\")","v":""},{"$f":"IF(MAX('3-3 위험성평가'!$A$4:$A$423)+1>E167,VLOOKUP(E167,'3-3 위험성평가'!$A$5:$P$423,9,0),\"\")","v":""},{"$f":"IF(MAX('3-3 위험성평가'!$A$4:$A$423)+1>E167,VLOOKUP(E167,'3-3 위험성평가'!$A$5:$P$423,12,0),\"\")&IF(L167>\"\",\".\"&E167,\"\")","v":""},{"$f":"IF(MAX('3-3 위험성평가'!$A$4:$A$423)+1>E167,VLOOKUP(E167,'3-3 위험성평가'!$A$5:$P$423,13,0),\"\")","v":""},null,"하",null,null,null,null,null,null,null,"선택안함",0,{"$f":"IF(MAX('3-3 위험성평가'!$A$4:$A$423)+1>E167,VLOOKUP(E167,'3-3 위험성평가'!$A$5:$Q$423,17,0),\"\")","v":""},"선택",{"$f":"표지!$D$33","v":0},{"$f":"표지!$E$34","v":0},"선택안함",0]
["T20",2,"S40",4,160,{"$f":"IF(MAX('3-3 위험성평가'!$A$4:$A$423)+1>E168,VLOOKUP(E168,'3-3 위험성평가'!$A$5:$P$423,2,0),\"\")","v":""},{"$f":"IF(F168=\"\",\"\",VLOOKUP(VALUE(F168),'1-1 사업장 공정 정보'!$D$15:$P$41,5,0))","v":""},{"$f":"IF(MAX('3-3 위험성평가'!$A$4:$A$423)+1>E168,VLOOKUP(E168,'3-3 위험성평가'!$A$5:$P$423,3,0),\"\")","v":""},{"$f":"IF(MAX('3-3 위험성평가'!$A$4:$A$423)+1>E168,VLOOKUP(E168,'3-3 위험성평가'!$A$5:$P$423,4,0),\"\")","v":""},{"$f":"IF(MAX('3-3 위험성평가'!$A$4:$A$423)+1>E168,VLOOKUP(E168,'3-3 위험성평가'!$A$5:$P$423,5,0),\"\")","v":""},{"$f":"IF(MAX('3-3 위험성평가'!$A$4:$A$423)+1>E168,VLOOKUP(E168,'3-3 위험성평가'!$A$5:$P$423,6,0),\"\")","v":""},{"$f":"IF(MAX('3-3 위험성평가'!$A$4:$A$423)+1>E168,VLOOKUP(E168,'3-3 위험성평가'!$A$5:$P$423,9,0),\"\")","v":""},{"$f":"IF(MAX('3-3 위험성평가'!$A$4:$A$423)+1>E168,VLOOKUP(E168,'3-3 위험성평가'!$A$5:$P$423,12,0),\"\")&IF(L168>\"\",\".\"&E168,\"\")","v":""},{"$f":"IF(MAX('3-3 위험성평가'!$A$4:$A$423)+1>E168,VLOOKUP(E168,'3-3 위험성평가'!$A$5:$P$423,13,0),\"\")","v":""},null,"하",null,null,null,null,null,null,null,"선택안함",0,{"$f":"IF(MAX('3-3 위험성평가'!$A$4:$A$423)+1>E168,VLOOKUP(E168,'3-3 위험성평가'!$A$5:$Q$423,17,0),\"\")","v":""},"선택",{"$f":"표지!$D$33","v":0},{"$f":"표지!$E$34","v":0},"선택안함",0]
["T20",2,"S40",4,161,{"$f":"IF(MAX('3-3 위험성평가'!$A$4:$A$423)+1>E169,VLOOKUP(E169,'3-3 위험성평가'!$A$5:$P$423,2,0),\"\")","v":""},{"$f":"IF(F169=\"\",\"\",VLOOKUP(VALUE(F169),'1-1 사업장 공정 정보'!$D$15:$P$41,5,0))","v":""},{"$f":"IF(MAX('3-3 위험성평가'!$A$4:$A$423)+1>E169,VLOOKUP(E169,'3-3 위험성평가'!$A$5:$P$423,3,0),\"\")","v":""},{"$f":"IF(MAX('3-3 위험성평가'!$A$4:$A$423)+1>E169,VLOOKUP(E169,'3-3 위험성평가'!$A$5:$P$423,4,0),\"\")","v":""},{"$f":"IF(MAX('3-3 위험성평가'!$A$4:$A$423)+1>E169,VLOOKUP(E169,'3-3 위험성평가'!$A$5:$P$423,5,0),\"\")","v":""},{"$f":"IF(MAX('3-3 위험성평가'!$A$4:$A$423)+1>E169,VLOOKUP(E169,'3-3 위험성평가'!$A$5:$P$423,6,0),\"\")","v":""},{"$f":"IF(MAX('3-3 위험성평가'!$A$4:$A$423)+1>E169,VLOOKUP(E169,'3-3 위험성평가'!$A$5:$P$423,9,0),\"\")","v":""},{"$f":"IF(MAX('3-3 위험성평가'!$A$4:$A$423)+1>E169,VLOOKUP(E169,'3-3 위험성평가'!$A$5:$P$423,12,0),\"\")&IF(L169>\"\",\".\"&E169,\"\")","v":""},{"$f":"IF(MAX('3-3 위험성평가'!$A$4:$A$423)+1>E169,VLOOKUP(E169,'3-3 위험성평가'!$A$5:$P$423,13,0),\"\")","v":""},null,"하",null,null,null,null,null,null,null,"선택안함",0,{"$f":"IF(MAX('3-3 위험성평가'!$A$4:$A$423)+1>E169,VLOOKUP(E169,'3-3 위험성평가'!$A$5:$Q$423,17,0),\"\")","v":""},"선택",{"$f":"표지!$D$33","v":0},{"$f":"표지!$E$34","v":0},"선택안함",0]
["T20",2,"S40",4,162,{"$f":"IF(MAX('3-3 위험성평가'!$A$4:$A$423)+1>E170,VLOOKUP(E170,'3-3 위험성평가'!$A$5:$P$423,2,0),\"\")","v":""},{"$f":"IF(F170=\"\",\"\",VLOOKUP(VALUE(F170),'1-1 사업장 공정 정보'!$D$15:$P$41,5,0))","v":""},{"$f":"IF(MAX('3-3 위험성평가'!$A$4:$A$423)+1>E170,VLOOKUP(E170,'3-3 위험성평가'!$A$5:$P$423,3,0),\"\")","v":""},{"$f":"IF(MAX('3-3 위험성평가'!$A$4:$A$423)+1>E170,VLOOKUP(E170,'3-3 위험성평가'!$A$5:$P$423,4,0),\"\")","v":""},{"$f":"IF(MAX('3-3 위험성평가'!$A$4:$A$423)+1>E170,VLOOKUP(E170,'3-3 위험성평가'!$A$5:$P$423,5,0),\"\")","v":""},{"$f":"IF(MAX('3-3 위험성평가'!$A$4:$A$423)+1>E170,VLOOKUP(E170,'3-3 위험성평가'!$A$5:$P$423,6,0),\"\")","v":""},{"$f":"IF(MAX('3-3 위험성평가'!$A$4:$A$423)+1>E170,VLOOKUP(E170,'3-3 위험성평가'!$A$5:$P$423,9,0),\"\")","v":""},{"$f":"IF(MAX('3-3 위험성평가'!$A$4:$A$423)+1>E170,VLOOKUP(E170,'3-3 위험성평가'!$A$5:$P$423,12,0),\"\")&IF(L170>\"\",\".\"&E170,\"\")","v":""},{"$f":"IF(MAX('3-3 위험성평가'!$A$4:$A$423)+1>E170,VLOOKUP(E170,'3-3 위험성평가'!$A$5:$P$423,13,0),\"\")","v":""},null,"하",null,null,null,null,null,null,null,"선택안함",0,{"$f":"IF(MAX('3-3 위험성평가'!$A$4:$A$423)+1>E170,VLOOKUP(E170,'3-3 위험성평가'!$A$5:$Q$423,17,0),\"\")","v":""},"선택",{"$f":"표지!$D$33","v":0},{"$f":"표지!$E$34","v":0},"선택안함",0]
["T20",2,"S40",4,163,{"$f":"IF(MAX('3-3 위험성평가'!$A$4:$A$423)+1>E171,VLOOKUP(E171,'3-3 위험성평가'!$A$5:$P$423,2,0),\"\")","v":""},{"$f":"IF(F171=\"\",\"\",VLOOKUP(VALUE(F171),'1-1 사업장 공정 정보'!$D$15:$P$41,5,0))","v":""},{"$f":"IF(MAX('3-3 위험성평가'!$A$4:$A$423)+1>E171,VLOOKUP(E171,'3-3 위험성평가'!$A$5:$P$423,3,0),\"\")","v":""},{"$f":"IF(MAX('3-3 위험성평가'!$A$4:$A$423)+1>E171,VLOOKUP(E171,'3-3 위험성평가'!$A$5:$P$423,4,0),\"\")","v":""},{"$f":"IF(MAX('3-3 위험성평가'!$A$4:$A$423)+1>E171,VLOOKUP(E171,'3-3 위험성평가'!$A$5:$P$423,5,0),\"\")","v":""},{"$f":"IF(MAX('3-3 위험성평가'!$A$4:$A$423)+1>E171,VLOOKUP(E171,'3-3 위험성평가'!$A$5:$P$423,6,0),\"\")","v":""},{"$f":"IF(MAX('3-3 위험성평가'!$A$4:$A$423)+1>E171,VLOOKUP(E171,'3-3 위험성평가'!$A$5:$P$423,9,0),\"\")","v":""},{"$f":"IF(MAX('3-3 위험성평가'!$A$4:$A$423)+1>E171,VLOOKUP(E171,'3-3 위험성평가'!$A$5:$P$423,12,0),\"\")&IF(L171>\"\",\".\"&E171,\"\")","v":""},{"$f":"IF(MAX('3-3 위험성평가'!$A$4:$A$423)+1>E171,VLOOKUP(E171,'3-3 위험성평가'!$A$5:$P$423,13,0),\"\")","v":""},null,"하",null,null,null,null,null,null,null,"선택안함",0,{"$f":"IF(MAX('3-3 위험성평가'!$A$4:$A$423)+1>E171,VLOOKUP(E171,'3-3 위험성평가'!$A$5:$Q$423,17,0),\"\")","v":""},"선택",{"$f":"표지!$D$33","v":0},{"$f":"표지!$E$34","v":0},"선택안함",0]
["T20",2,"S40",4,164,{"$f":"IF(MAX('3-3 위험성평가'!$A$4:$A$423)+1>E172,VLOOKUP(E172,'3-3 위험성평가'!$A$5:$P$423,2,0),\"\")","v":""},{"$f":"IF(F172=\"\",\"\",VLOOKUP(VALUE(F172),'1-1 사업장 공정 정보'!$D$15:$P$41,5,0))","v":""},{"$f":"IF(MAX('3-3 위험성평가'!$A$4:$A$423)+1>E172,VLOOKUP(E172,'3-3 위험성평가'!$A$5:$P$423,3,0),\"\")","v":""},{"$f":"IF(MAX('3-3 위험성평가'!$A$4:$A$423)+1>E172,VLOOKUP(E172,'3-3 위험성평가'!$A$5:$P$423,4,0),\"\")","v":""},{"$f":"IF(MAX('3-3 위험성평가'!$A$4:$A$423)+1>E172,VLOOKUP(E172,'3-3 위험성평가'!$A$5:$P$423,5,0),\"\")","v":""},{"$f":"IF(MAX('3-3 위험성평가'!$A$4:$A$423)+1>E172,VLOOKUP(E172,'3-3 위험성평가'!$A$5:$P$423,6,0),\"\")","v":""},{"$f":"IF(MAX('3-3 위험성평가'!$A$4:$A$423)+1>E172,VLOOKUP(E172,'3-3 위험성평가'!$A$5:$P$423,9,0),\"\")","v":""},{"$f":"IF(MAX('3-3 위험성평가'!$A$4:$A$423)+1>E172,VLOOKUP(E172,'3-3 위험성평가'!$A$5:$P$423,12,0),\"\")&IF(L172>\"\",\".\"&E172,\"\")","v":""},{"$f":"IF(MAX('3-3 위험성평가'!$A$4:$A$423)+1>E172,VLOOKUP(E172,'3-3 위험성평가'!$A$5:$P$423,13,0),\"\")","v":""},null,"하",null,null,null,null,null,null,null,"선택안함",0,{"$f":"IF(MAX('3-3 위험성평가'!$A$4:$A$423)+1>E172,VLOOKUP(E172,'3-3 위험성평가'!$A$5:$Q$423,17,0),\"\")","v":""},"선택",{"$f":"표지!$D$33","v":0},{"$f":"표지!$E$34","v":0},"선택안함",0]
["T20",2,"S40",4,165,{"$f":"IF(MAX('3-3 위험성평가'!$A$4:$A$423)+1>E173,VLOOKUP(E173,'3-3 위험성평가'!$A$5:$P$423,2,0),\"\")","v":""},{"$f":"IF(F173=\"\",\"\",VLOOKUP(VALUE(F173),'1-1 사업장 공정 정보'!$D$15:$P$41,5,0))","v":""},{"$f":"IF(MAX('3-3 위험성평가'!$A$4:$A$423)+1>E173,VLOOKUP(E173,'3-3 위험성평가'!$A$5:$P$423,3,0),\"\")","v":""},{"$f":"IF(MAX('3-3 위험성평가'!$A$4:$A$423)+1>E173,VLOOKUP(E173,'3-3 위험성평가'!$A$5:$P$423,4,0),\"\")","v":""},{"$f":"IF(MAX('3-3 위험성평가'!$A$4:$A$423)+1>E173,VLOOKUP(E173,'3-3 위험성평가'!$A$5:$P$423,5,0),\"\")","v":""},{"$f":"IF(MAX('3-3 위험성평가'!$A$4:$A$423)+1>E173,VLOOKUP(E173,'3-3 위험성평가'!$A$5:$P$423,6,0),\"\")","v":""},{"$f":"IF(MAX('3-3 위험성평가'!$A$4:$A$423)+1>E173,VLOOKUP(E173,'3-3 위험성평가'!$A$5:$P$423,9,0),\"\")","v":""},{"$f":"IF(MAX('3-3 위험성평가'!$A$4:$A$423)+1>E173,VLOOKUP(E173,'3-3 위험성평가'!$A$5:$P$423,12,0),\"\")&IF(L173>\"\",\".\"&E173,\"\")","v":""},{"$f":"IF(MAX('3-3 위험성평가'!$A$4:$A$423)+1>E173,VLOOKUP(E173,'3-3 위험성평가'!$A$5:$P$423,13,0),\"\")","v":""},null,"하",null,null,null,null,null,null,null,"선택안함",0,{"$f":"IF(MAX('3-3 위험성평가'!$A$4:$A$423)+1>E173,VLOOKUP(E173,'3-3 위험성평가'!$A$5:$Q$423,17,0),\"\")","v":""},"선택",{"$f":"표지!$D$33","v":0},{"$f":"표지!$E$34","v":0},"선택안함",0]
["T20",2,"S40",4,166,{"$f":"IF(MAX('3-3 위험성평가'!$A$4:$A$423)+1>E174,VLOOKUP(E174,'3-3 위험성평가'!$A$5:$P$423,2,0),\"\")","v":""},{"$f":"IF(F174=\"\",\"\",VLOOKUP(VALUE(F174),'1-1 사업장 공정 정보'!$D$15:$P$41,5,0))","v":""},{"$f":"IF(MAX('3-3 위험성평가'!$A$4:$A$423)+1>E174,VLOOKUP(E174,'3-3 위험성평가'!$A$5:$P$423,3,0),\"\")","v":""},{"$f":"IF(MAX('3-3 위험성평가'!$A$4:$A$423)+1>E174,VLOOKUP(E174,'3-3 위험성평가'!$A$5:$P$423,4,0),\"\")","v":""},{"$f":"IF(MAX('3-3 위험성평가'!$A$4:$A$423)+1>E174,VLOOKUP(E174,'3-3 위험성평가'!$A$5:$P$423,5,0),\"\")","v":""},{"$f":"IF(MAX('3-3 위험성평가'!$A$4:$A$423)+1>E174,VLOOKUP(E174,'3-3 위험성평가'!$A$5:$P$423,6,0),\"\")","v":""},{"$f":"IF(MAX('3-3 위험성평가'!$A$4:$A$423)+1>E174,VLOOKUP(E174,'3-3 위험성평가'!$A$5:$P$423,9,0),\"\")","v":""},{"$f":"IF(MAX('3-3 위험성평가'!$A$4:$A$423)+1>E174,VLOOKUP(E174,'3-3 위험성평가'!$A$5:$P$423,12,0),\"\")&IF(L174>\"\",\".\"&E174,\"\")","v":""},{"$f":"IF(MAX('3-3 위험성평가'!$A$4:$A$423)+1>E174,VLOOKUP(E174,'3-3 위험성평가'!$A$5:$P$423,13,0),\"\")","v":""},null,"하",null,null,null,null,null,null,null,"선택안함",0,{"$f":"IF(MAX('3-3 위험성평가'!$A$4:$A$423)+1>E174,VLOOKUP(E174,'3-3 위험성평가'!$A$5:$Q$423,17,0),\"\")","v":""},"선택",{"$f":"표지!$D$33","v":0},{"$f":"표지!$E$34","v":0},"선택안함",0]
["T20",2,"S40",4,167,{"$f":"IF(MAX('3-3 위험성평가'!$A$4:$A$423)+1>E175,VLOOKUP(E175,'3-3 위험성평가'!$A$5:$P$423,2,0),\"\")","v":""},{"$f":"IF(F175=\"\",\"\",VLOOKUP(VALUE(F175),'1-1 사업장 공정 정보'!$D$15:$P$41,5,0))","v":""},{"$f":"IF(MAX('3-3 위험성평가'!$A$4:$A$423)+1>E175,VLOOKUP(E175,'3-3 위험성평가'!$A$5:$P$423,3,0),\"\")","v":""},{"$f":"IF(MAX('3-3 위험성평가'!$A$4:$A$423)+1>E175,VLOOKUP(E175,'3-3 위험성평가'!$A$5:$P$423,4,0),\"\")","v":""},{"$f":"IF(MAX('3-3 위험성평가'!$A$4:$A$423)+1>E175,VLOOKUP(E175,'3-3 위험성평가'!$A$5:$P$423,5,0),\"\")","v":""},{"$f":"IF(MAX('3-3 위험성평가'!$A$4:$A$423)+1>E175,VLOOKUP(E175,'3-3 위험성평가'!$A$5:$P$423,6,0),\"\")","v":""},{"$f":"IF(MAX('3-3 위험성평가'!$A$4:$A$423)+1>E175,VLOOKUP(E175,'3-3 위험성평가'!$A$5:$P$423,9,0),\"\")","v":""},{"$f":"IF(MAX('3-3 위험성평가'!$A$4:$A$423)+1>E175,VLOOKUP(E175,'3-3 위험성평가'!$A$5:$P$423,12,0),\"\")&IF(L175>\"\",\".\"&E175,\"\")","v":""},{"$f":"IF(MAX('3-3 위험성평가'!$A$4:$A$423)+1>E175,VLOOKUP(E175,'3-3 위험성평가'!$A$5:$P$423,13,0),\"\")","v":""},null,"하",null,null,null,null,null,null,null,"선택안함",0,{"$f":"IF(MAX('3-3 위험성평가'!$A$4:$A$423)+1>E175,VLOOKUP(E175,'3-3 위험성평가'!$A$5:$Q$423,17,0),\"\")","v":""},"선택",{"$f":"표지!$D$33","v":0},{"$f":"표지!$E$34","v":0},"선택안함",0]
["T20",2,"S40",4,168,{"$f":"IF(MAX('3-3 위험성평가'!$A$4:$A$423)+1>E176,VLOOKUP(E176,'3-3 위험성평가'!$A$5:$P$423,2,0),\"\")","v":""},{"$f":"IF(F176=\"\",\"\",VLOOKUP(VALUE(F176),'1-1 사업장 공정 정보'!$D$15:$P$41,5,0))","v":""},{"$f":"IF(MAX('3-3 위험성평가'!$A$4:$A$423)+1>E176,VLOOKUP(E176,'3-3 위험성평가'!$A$5:$P$423,3,0),\"\")","v":""},{"$f":"IF(MAX('3-3 위험성평가'!$A$4:$A$423)+1>E176,VLOOKUP(E176,'3-3 위험성평가'!$A$5:$P$423,4,0),\"\")","v":""},{"$f":"IF(MAX('3-3 위험성평가'!$A$4:$A$423)+1>E176,VLOOKUP(E176,'3-3 위험성평가'!$A$5:$P$423,5,0),\"\")","v":""},{"$f":"IF(MAX('3-3 위험성평가'!$A$4:$A$423)+1>E176,VLOOKUP(E176,'3-3 위험성평가'!$A$5:$P$423,6,0),\"\")","v":""},{"$f":"IF(MAX('3-3 위험성평가'!$A$4:$A$423)+1>E176,VLOOKUP(E176,'3-3 위험성평가'!$A$5:$P$423,9,0),\"\")","v":""},{"$f":"IF(MAX('3-3 위험성평가'!$A$4:$A$423)+1>E176,VLOOKUP(E176,'3-3 위험성평가'!$A$5:$P$423,12,0),\"\")&IF(L176>\"\",\".\"&E176,\"\")","v":""},{"$f":"IF(MAX('3-3 위험성평가'!$A$4:$A$423)+1>E176,VLOOKUP(E176,'3-3 위험성평가'!$A$5:$P$423,13,0),\"\")","v":""},null,"하",null,null,null,null,null,null,null,"선택안함",0,{"$f":"IF(MAX('3-3 위험성평가'!$A$4:$A$423)+1>E176,VLOOKUP(E176,'3-3 위험성평가'!$A$5:$Q$423,17,0),\"\")","v":""},"선택",{"$f":"표지!$D$33","v":0},{"$f":"표지!$E$34","v":0},"선택안함",0]
["T20",2,"S40",4,169,{"$f":"IF(MAX('3-3 위험성평가'!$A$4:$A$423)+1>E177,VLOOKUP(E177,'3-3 위험성평가'!$A$5:$P$423,2,0),\"\")","v":""},{"$f":"IF(F177=\"\",\"\",VLOOKUP(VALUE(F177),'1-1 사업장 공정 정보'!$D$15:$P$41,5,0))","v":""},{"$f":"IF(MAX('3-3 위험성평가'!$A$4:$A$423)+1>E177,VLOOKUP(E177,'3-3 위험성평가'!$A$5:$P$423,3,0),\"\")","v":""},{"$f":"IF(MAX('3-3 위험성평가'!$A$4:$A$423)+1>E177,VLOOKUP(E177,'3-3 위험성평가'!$A$5:$P$423,4,0),\"\")","v":""},{"$f":"IF(MAX('3-3 위험성평가'!$A$4:$A$423)+1>E177,VLOOKUP(E177,'3-3 위험성평가'!$A$5:$P$423,5,0),\"\")","v":""},{"$f":"IF(MAX('3-3 위험성평가'!$A$4:$A$423)+1>E177,VLOOKUP(E177,'3-3 위험성평가'!$A$5:$P$423,6,0),\"\")","v":""},{"$f":"IF(MAX('3-3 위험성평가'!$A$4:$A$423)+1>E177,VLOOKUP(E177,'3-3 위험성평가'!$A$5:$P$423,9,0),\"\")","v":""},{"$f":"IF(MAX('3-3 위험성평가'!$A$4:$A$423)+1>E177,VLOOKUP(E177,'3-3 위험성평가'!$A$5:$P$423,12,0),\"\")&IF(L177>\"\",\".\"&E177,\"\")","v":""},{"$f":"IF(MAX('3-3 위험성평가'!$A$4:$A$423)+1>E177,VLOOKUP(E177,'3-3 위험성평가'!$A$5:$P$423,13,0),\"\")","v":""},null,"하",null,null,null,null,null,null,null,"선택안함",0,{"$f":"IF(MAX('3-3 위험성평가'!$A$4:$A$423)+1>E177,VLOOKUP(E177,'3-3 위험성평가'!$A$5:$Q$423,17,0),\"\")","v":""},"선택",{"$f":"표지!$D$33","v":0},{"$f":"표지!$E$34","v":0},"선택안함",0]
["T20",2,"S40",4,170,{"$f":"IF(MAX('3-3 위험성평가'!$A$4:$A$423)+1>E178,VLOOKUP(E178,'3-3 위험성평가'!$A$5:$P$423,2,0),\"\")","v":""},{"$f":"IF(F178=\"\",\"\",VLOOKUP(VALUE(F178),'1-1 사업장 공정 정보'!$D$15:$P$41,5,0))","v":""},{"$f":"IF(MAX('3-3 위험성평가'!$A$4:$A$423)+1>E178,VLOOKUP(E178,'3-3 위험성평가'!$A$5:$P$423,3,0),\"\")","v":""},{"$f":"IF(MAX('3-3 위험성평가'!$A$4:$A$423)+1>E178,VLOOKUP(E178,'3-3 위험성평가'!$A$5:$P$423,4,0),\"\")","v":""},{"$f":"IF(MAX('3-3 위험성평가'!$A$4:$A$423)+1>E178,VLOOKUP(E178,'3-3 위험성평가'!$A$5:$P$423,5,0),\"\")","v":""},{"$f":"IF(MAX('3-3 위험성평가'!$A$4:$A$423)+1>E178,VLOOKUP(E178,'3-3 위험성평가'!$A$5:$P$423,6,0),\"\")","v":""},{"$f":"IF(MAX('3-3 위험성평가'!$A$4:$A$423)+1>E178,VLOOKUP(E178,'3-3 위험성평가'!$A$5:$P$423,9,0),\"\")","v":""},{"$f":"IF(MAX('3-3 위험성평가'!$A$4:$A$423)+1>E178,VLOOKUP(E178,'3-3 위험성평가'!$A$5:$P$423,12,0),\"\")&IF(L178>\"\",\".\"&E178,\"\")","v":""},{"$f":"IF(MAX('3-3 위험성평가'!$A$4:$A$423)+1>E178,VLOOKUP(E178,'3-3 위험성평가'!$A$5:$P$423,13,0),\"\")","v":""},null,"하",null,null,null,null,null,null,null,"선택안함",0,{"$f":"IF(MAX('3-3 위험성평가'!$A$4:$A$423)+1>E178,VLOOKUP(E178,'3-3 위험성평가'!$A$5:$Q$423,17,0),\"\")","v":""},"선택",{"$f":"표지!$D$33","v":0},{"$f":"표지!$E$34","v":0},"선택안함",0]
["T20",2,"S40",4,171,{"$f":"IF(MAX('3-3 위험성평가'!$A$4:$A$423)+1>E179,VLOOKUP(E179,'3-3 위험성평가'!$A$5:$P$423,2,0),\"\")","v":""},{"$f":"IF(F179=\"\",\"\",VLOOKUP(VALUE(F179),'1-1 사업장 공정 정보'!$D$15:$P$41,5,0))","v":""},{"$f":"IF(MAX('3-3 위험성평가'!$A$4:$A$423)+1>E179,VLOOKUP(E179,'3-3 위험성평가'!$A$5:$P$423,3,0),\"\")","v":""},{"$f":"IF(MAX('3-3 위험성평가'!$A$4:$A$423)+1>E179,VLOOKUP(E179,'3-3 위험성평가'!$A$5:$P$423,4,0),\"\")","v":""},{"$f":"IF(MAX('3-3 위험성평가'!$A$4:$A$423)+1>E179,VLOOKUP(E179,'3-3 위험성평가'!$A$5:$P$423,5,0),\"\")","v":""},{"$f":"IF(MAX('3-3 위험성평가'!$A$4:$A$423)+1>E179,VLOOKUP(E179,'3-3 위험성평가'!$A$5:$P$423,6,0),\"\")","v":""},{"$f":"IF(MAX('3-3 위험성평가'!$A$4:$A$423)+1>E179,VLOOKUP(E179,'3-3 위험성평가'!$A$5:$P$423,9,0),\"\")","v":""},{"$f":"IF(MAX('3-3 위험성평가'!$A$4:$A$423)+1>E179,VLOOKUP(E179,'3-3 위험성평가'!$A$5:$P$423,12,0),\"\")&IF(L179>\"\",\".\"&E179,\"\")","v":""},{"$f":"IF(MAX('3-3 위험성평가'!$A$4:$A$423)+1>E179,VLOOKUP(E179,'3-3 위험성평가'!$A$5:$P$423,13,0),\"\")","v":""},null,"하",null,null,null,null,null,null,null,"선택안함",0,{"$f":"IF(MAX('3-3 위험성평가'!$A$4:$A$423)+1>E179,VLOOKUP(E179,'3-3 위험성평가'!$A$5:$Q$423,17,0),\"\")","v":""},"선택",{"$f":"표지!$D$33","v":0},{"$f":"표지!$E$34","v":0},"선택안함",0]
["T20",2,"S40",4,172,{"$f":"IF(MAX('3-3 위험성평가'!$A$4:$A$423)+1>E180,VLOOKUP(E180,'3-3 위험성평가'!$A$5:$P$423,2,0),\"\")","v":""},{"$f":"IF(F180=\"\",\"\",VLOOKUP(VALUE(F180),'1-1 사업장 공정 정보'!$D$15:$P$41,5,0))","v":""},{"$f":"IF(MAX('3-3 위험성평가'!$A$4:$A$423)+1>E180,VLOOKUP(E180,'3-3 위험성평가'!$A$5:$P$423,3,0),\"\")","v":""},{"$f":"IF(MAX('3-3 위험성평가'!$A$4:$A$423)+1>E180,VLOOKUP(E180,'3-3 위험성평가'!$A$5:$P$423,4,0),\"\")","v":""},{"$f":"IF(MAX('3-3 위험성평가'!$A$4:$A$423)+1>E180,VLOOKUP(E180,'3-3 위험성평가'!$A$5:$P$423,5,0),\"\")","v":""},{"$f":"IF(MAX('3-3 위험성평가'!$A$4:$A$423)+1>E180,VLOOKUP(E180,'3-3 위험성평가'!$A$5:$P$423,6,0),\"\")","v":""},{"$f":"IF(MAX('3-3 위험성평가'!$A$4:$A$423)+1>E180,VLOOKUP(E180,'3-3 위험성평가'!$A$5:$P$423,9,0),\"\")","v":""},{"$f":"IF(MAX('3-3 위험성평가'!$A$4:$A$423)+1>E180,VLOOKUP(E180,'3-3 위험성평가'!$A$5:$P$423,12,0),\"\")&IF(L180>\"\",\".\"&E180,\"\")","v":""},{"$f":"IF(MAX('3-3 위험성평가'!$A$4:$A$423)+1>E180,VLOOKUP(E180,'3-3 위험성평가'!$A$5:$P$423,13,0),\"\")","v":""},null,"하",null,null,null,null,null,null,null,"선택안함",0,{"$f":"IF(MAX('3-3 위험성평가'!$A$4:$A$423)+1>E180,VLOOKUP(E180,'3-3 위험성평가'!$A$5:$Q$423,17,0),\"\")","v":""},"선택",{"$f":"표지!$D$33","v":0},{"$f":"표지!$E$34","v":0},"선택안함",0]
["T20",2,"S40",4,173,{"$f":"IF(MAX('3-3 위험성평가'!$A$4:$A$423)+1>E181,VLOOKUP(E181,'3-3 위험성평가'!$A$5:$P$423,2,0),\"\")","v":""},{"$f":"IF(F181=\"\",\"\",VLOOKUP(VALUE(F181),'1-1 사업장 공정 정보'!$D$15:$P$41,5,0))","v":""},{"$f":"IF(MAX('3-3 위험성평가'!$A$4:$A$423)+1>E181,VLOOKUP(E181,'3-3 위험성평가'!$A$5:$P$423,3,0),\"\")","v":""},{"$f":"IF(MAX('3-3 위험성평가'!$A$4:$A$423)+1>E181,VLOOKUP(E181,'3-3 위험성평가'!$A$5:$P$423,4,0),\"\")","v":""},{"$f":"IF(MAX('3-3 위험성평가'!$A$4:$A$423)+1>E181,VLOOKUP(E181,'3-3 위험성평가'!$A$5:$P$423,5,0),\"\")","v":""},{"$f":"IF(MAX('3-3 위험성평가'!$A$4:$A$423)+1>E181,VLOOKUP(E181,'3-3 위험성평가'!$A$5:$P$423,6,0),\"\")","v":""},{"$f":"IF(MAX('3-3 위험성평가'!$A$4:$A$423)+1>E181,VLOOKUP(E181,'3-3 위험성평가'!$A$5:$P$423,9,0),\"\")","v":""},{"$f":"IF(MAX('3-3 위험성평가'!$A$4:$A$423)+1>E181,VLOOKUP(E181,'3-3 위험성평가'!$A$5:$P$423,12,0),\"\")&IF(L181>\"\",\".\"&E181,\"\")","v":""},{"$f":"IF(MAX('3-3 위험성평가'!$A$4:$A$423)+1>E181,VLOOKUP(E181,'3-3 위험성평가'!$A$5:$P$423,13,0),\"\")","v":""},null,"하",null,null,null,null,null,null,null,"선택안함",0,{"$f":"IF(MAX('3-3 위험성평가'!$A$4:$A$423)+1>E181,VLOOKUP(E181,'3-3 위험성평가'!$A$5:$Q$423,17,0),\"\")","v":""},"선택",{"$f":"표지!$D$33","v":0},{"$f":"표지!$E$34","v":0},"선택안함",0]
["T20",2,"S40",4,174,{"$f":"IF(MAX('3-3 위험성평가'!$A$4:$A$423)+1>E182,VLOOKUP(E182,'3-3 위험성평가'!$A$5:$P$423,2,0),\"\")","v":""},{"$f":"IF(F182=\"\",\"\",VLOOKUP(VALUE(F182),'1-1 사업장 공정 정보'!$D$15:$P$41,5,0))","v":""},{"$f":"IF(MAX('3-3 위험성평가'!$A$4:$A$423)+1>E182,VLOOKUP(E182,'3-3 위험성평가'!$A$5:$P$423,3,0),\"\")","v":""},{"$f":"IF(MAX('3-3 위험성평가'!$A$4:$A$423)+1>E182,VLOOKUP(E182,'3-3 위험성평가'!$A$5:$P$423,4,0),\"\")","v":""},{"$f":"IF(MAX('3-3 위험성평가'!$A$4:$A$423)+1>E182,VLOOKUP(E182,'3-3 위험성평가'!$A$5:$P$423,5,0),\"\")","v":""},{"$f":"IF(MAX('3-3 위험성평가'!$A$4:$A$423)+1>E182,VLOOKUP(E182,'3-3 위험성평가'!$A$5:$P$423,6,0),\"\")","v":""},{"$f":"IF(MAX('3-3 위험성평가'!$A$4:$A$423)+1>E182,VLOOKUP(E182,'3-3 위험성평가'!$A$5:$P$423,9,0),\"\")","v":""},{"$f":"IF(MAX('3-3 위험성평가'!$A$4:$A$423)+1>E182,VLOOKUP(E182,'3-3 위험성평가'!$A$5:$P$423,12,0),\"\")&IF(L182>\"\",\".\"&E182,\"\")","v":""},{"$f":"IF(MAX('3-3 위험성평가'!$A$4:$A$423)+1>E182,VLOOKUP(E182,'3-3 위험성평가'!$A$5:$P$423,13,0),\"\")","v":""},null,"하",null,null,null,null,null,null,null,"선택안함",0,{"$f":"IF(MAX('3-3 위험성평가'!$A$4:$A$423)+1>E182,VLOOKUP(E182,'3-3 위험성평가'!$A$5:$Q$423,17,0),\"\")","v":""},"선택",{"$f":"표지!$D$33","v":0},{"$f":"표지!$E$34","v":0},"선택안함",0]
["T20",2,"S40",4,175,{"$f":"IF(MAX('3-3 위험성평가'!$A$4:$A$423)+1>E183,VLOOKUP(E183,'3-3 위험성평가'!$A$5:$P$423,2,0),\"\")","v":""},{"$f":"IF(F183=\"\",\"\",VLOOKUP(VALUE(F183),'1-1 사업장 공정 정보'!$D$15:$P$41,5,0))","v":""},{"$f":"IF(MAX('3-3 위험성평가'!$A$4:$A$423)+1>E183,VLOOKUP(E183,'3-3 위험성평가'!$A$5:$P$423,3,0),\"\")","v":""},{"$f":"IF(MAX('3-3 위험성평가'!$A$4:$A$423)+1>E183,VLOOKUP(E183,'3-3 위험성평가'!$A$5:$P$423,4,0),\"\")","v":""},{"$f":"IF(MAX('3-3 위험성평가'!$A$4:$A$423)+1>E183,VLOOKUP(E183,'3-3 위험성평가'!$A$5:$P$423,5,0),\"\")","v":""},{"$f":"IF(MAX('3-3 위험성평가'!$A$4:$A$423)+1>E183,VLOOKUP(E183,'3-3 위험성평가'!$A$5:$P$423,6,0),\"\")","v":""},{"$f":"IF(MAX('3-3 위험성평가'!$A$4:$A$423)+1>E183,VLOOKUP(E183,'3-3 위험성평가'!$A$5:$P$423,9,0),\"\")","v":""},{"$f":"IF(MAX('3-3 위험성평가'!$A$4:$A$423)+1>E183,VLOOKUP(E183,'3-3 위험성평가'!$A$5:$P$423,12,0),\"\")&IF(L183>\"\",\".\"&E183,\"\")","v":""},{"$f":"IF(MAX('3-3 위험성평가'!$A$4:$A$423)+1>E183,VLOOKUP(E183,'3-3 위험성평가'!$A$5:$P$423,13,0),\"\")","v":""},null,"하",null,null,null,null,null,null,null,"선택안함",0,{"$f":"IF(MAX('3-3 위험성평가'!$A$4:$A$423)+1>E183,VLOOKUP(E183,'3-3 위험성평가'!$A$5:$Q$423,17,0),\"\")","v":""},"선택",{"$f":"표지!$D$33","v":0},{"$f":"표지!$E$34","v":0},"선택안함",0]
["T20",2,"S40",4,176,{"$f":"IF(MAX('3-3 위험성평가'!$A$4:$A$423)+1>E184,VLOOKUP(E184,'3-3 위험성평가'!$A$5:$P$423,2,0),\"\")","v":""},{"$f":"IF(F184=\"\",\"\",VLOOKUP(VALUE(F184),'1-1 사업장 공정 정보'!$D$15:$P$41,5,0))","v":""},{"$f":"IF(MAX('3-3 위험성평가'!$A$4:$A$423)+1>E184,VLOOKUP(E184,'3-3 위험성평가'!$A$5:$P$423,3,0),\"\")","v":""},{"$f":"IF(MAX('3-3 위험성평가'!$A$4:$A$423)+1>E184,VLOOKUP(E184,'3-3 위험성평가'!$A$5:$P$423,4,0),\"\")","v":""},{"$f":"IF(MAX('3-3 위험성평가'!$A$4:$A$423)+1>E184,VLOOKUP(E184,'3-3 위험성평가'!$A$5:$P$423,5,0),\"\")","v":""},{"$f":"IF(MAX('3-3 위험성평가'!$A$4:$A$423)+1>E184,VLOOKUP(E184,'3-3 위험성평가'!$A$5:$P$423,6,0),\"\")","v":""},{"$f":"IF(MAX('3-3 위험성평가'!$A$4:$A$423)+1>E184,VLOOKUP(E184,'3-3 위험성평가'!$A$5:$P$423,9,0),\"\")","v":""},{"$f":"IF(MAX('3-3 위험성평가'!$A$4:$A$423)+1>E184,VLOOKUP(E184,'3-3 위험성평가'!$A$5:$P$423,12,0),\"\")&IF(L184>\"\",\".\"&E184,\"\")","v":""},{"$f":"IF(MAX('3-3 위험성평가'!$A$4:$A$423)+1>E184,VLOOKUP(E184,'3-3 위험성평가'!$A$5:$P$423,13,0),\"\")","v":""},null,"하",null,null,null,null,null,null,null,"선택안함",0,{"$f":"IF(MAX('3-3 위험성평가'!$A$4:$A$423)+1>E184,VLOOKUP(E184,'3-3 위험성평가'!$A$5:$Q$423,17,0),\"\")","v":""},"선택",{"$f":"표지!$D$33","v":0},{"$f":"표지!$E$34","v":0},"선택안함",0]
["T20",2,"S40",4,177,{"$f":"IF(MAX('3-3 위험성평가'!$A$4:$A$423)+1>E185,VLOOKUP(E185,'3-3 위험성평가'!$A$5:$P$423,2,0),\"\")","v":""},{"$f":"IF(F185=\"\",\"\",VLOOKUP(VALUE(F185),'1-1 사업장 공정 정보'!$D$15:$P$41,5,0))","v":""},{"$f":"IF(MAX('3-3 위험성평가'!$A$4:$A$423)+1>E185,VLOOKUP(E185,'3-3 위험성평가'!$A$5:$P$423,3,0),\"\")","v":""},{"$f":"IF(MAX('3-3 위험성평가'!$A$4:$A$423)+1>E185,VLOOKUP(E185,'3-3 위험성평가'!$A$5:$P$423,4,0),\"\")","v":""},{"$f":"IF(MAX('3-3 위험성평가'!$A$4:$A$423)+1>E185,VLOOKUP(E185,'3-3 위험성평가'!$A$5:$P$423,5,0),\"\")","v":""},{"$f":"IF(MAX('3-3 위험성평가'!$A$4:$A$423)+1>E185,VLOOKUP(E185,'3-3 위험성평가'!$A$5:$P$423,6,0),\"\")","v":""},{"$f":"IF(MAX('3-3 위험성평가'!$A$4:$A$423)+1>E185,VLOOKUP(E185,'3-3 위험성평가'!$A$5:$P$423,9,0),\"\")","v":""},{"$f":"IF(MAX('3-3 위험성평가'!$A$4:$A$423)+1>E185,VLOOKUP(E185,'3-3 위험성평가'!$A$5:$P$423,12,0),\"\")&IF(L185>\"\",\".\"&E185,\"\")","v":""},{"$f":"IF(MAX('3-3 위험성평가'!$A$4:$A$423)+1>E185,VLOOKUP(E185,'3-3 위험성평가'!$A$5:$P$423,13,0),\"\")","v":""},null,"하",null,null,null,null,null,null,null,"선택안함",0,{"$f":"IF(MAX('3-3 위험성평가'!$A$4:$A$423)+1>E185,VLOOKUP(E185,'3-3 위험성평가'!$A$5:$Q$423,17,0),\"\")","v":""},"선택",{"$f":"표지!$D$33","v":0},{"$f":"표지!$E$34","v":0},"선택안함",0]
["T20",2,"S40",4,178,{"$f":"IF(MAX('3-3 위험성평가'!$A$4:$A$423)+1>E186,VLOOKUP(E186,'3-3 위험성평가'!$A$5:$P$423,2,0),\"\")","v":""},{"$f":"IF(F186=\"\",\"\",VLOOKUP(VALUE(F186),'1-1 사업장 공정 정보'!$D$15:$P$41,5,0))","v":""},{"$f":"IF(MAX('3-3 위험성평가'!$A$4:$A$423)+1>E186,VLOOKUP(E186,'3-3 위험성평가'!$A$5:$P$423,3,0),\"\")","v":""},{"$f":"IF(MAX('3-3 위험성평가'!$A$4:$A$423)+1>E186,VLOOKUP(E186,'3-3 위험성평가'!$A$5:$P$423,4,0),\"\")","v":""},{"$f":"IF(MAX('3-3 위험성평가'!$A$4:$A$423)+1>E186,VLOOKUP(E186,'3-3 위험성평가'!$A$5:$P$423,5,0),\"\")","v":""},{"$f":"IF(MAX('3-3 위험성평가'!$A$4:$A$423)+1>E186,VLOOKUP(E186,'3-3 위험성평가'!$A$5:$P$423,6,0),\"\")","v":""},{"$f":"IF(MAX('3-3 위험성평가'!$A$4:$A$423)+1>E186,VLOOKUP(E186,'3-3 위험성평가'!$A$5:$P$423,9,0),\"\")","v":""},{"$f":"IF(MAX('3-3 위험성평가'!$A$4:$A$423)+1>E186,VLOOKUP(E186,'3-3 위험성평가'!$A$5:$P$423,12,0),\"\")&IF(L186>\"\",\".\"&E186,\"\")","v":""},{"$f":"IF(MAX('3-3 위험성평가'!$A$4:$A$423)+1>E186,VLOOKUP(E186,'3-3 위험성평가'!$A$5:$P$423,13,0),\"\")","v":""},null,"하",null,null,null,null,null,null,null,"선택안함",0,{"$f":"IF(MAX('3-3 위험성평가'!$A$4:$A$423)+1>E186,VLOOKUP(E186,'3-3 위험성평가'!$A$5:$Q$423,17,0),\"\")","v":""},"선택",{"$f":"표지!$D$33","v":0},{"$f":"표지!$E$34","v":0},"선택안함",0]
["T20",2,"S40",4,179,{"$f":"IF(MAX('3-3 위험성평가'!$A$4:$A$423)+1>E187,VLOOKUP(E187,'3-3 위험성평가'!$A$5:$P$423,2,0),\"\")","v":""},{"$f":"IF(F187=\"\",\"\",VLOOKUP(VALUE(F187),'1-1 사업장 공정 정보'!$D$15:$P$41,5,0))","v":""},{"$f":"IF(MAX('3-3 위험성평가'!$A$4:$A$423)+1>E187,VLOOKUP(E187,'3-3 위험성평가'!$A$5:$P$423,3,0),\"\")","v":""},{"$f":"IF(MAX('3-3 위험성평가'!$A$4:$A$423)+1>E187,VLOOKUP(E187,'3-3 위험성평가'!$A$5:$P$423,4,0),\"\")","v":""},{"$f":"IF(MAX('3-3 위험성평가'!$A$4:$A$423)+1>E187,VLOOKUP(E187,'3-3 위험성평가'!$A$5:$P$423,5,0),\"\")","v":""},{"$f":"IF(MAX('3-3 위험성평가'!$A$4:$A$423)+1>E187,VLOOKUP(E187,'3-3 위험성평가'!$A$5:$P$423,6,0),\"\")","v":""},{"$f":"IF(MAX('3-3 위험성평가'!$A$4:$A$423)+1>E187,VLOOKUP(E187,'3-3 위험성평가'!$A$5:$P$423,9,0),\"\")","v":""},{"$f":"IF(MAX('3-3 위험성평가'!$A$4:$A$423)+1>E187,VLOOKUP(E187,'3-3 위험성평가'!$A$5:$P$423,12,0),\"\")&IF(L187>\"\",\".\"&E187,\"\")","v":""},{"$f":"IF(MAX('3-3 위험성평가'!$A$4:$A$423)+1>E187,VLOOKUP(E187,'3-3 위험성평가'!$A$5:$P$423,13,0),\"\")","v":""},null,"하",null,null,null,null,null,null,null,"선택안함",0,{"$f":"IF(MAX('3-3 위험성평가'!$A$4:$A$423)+1>E187,VLOOKUP(E187,'3-3 위험성평가'!$A$5:$Q$423,17,0),\"\")","v":""},"선택",{"$f":"표지!$D$33","v":0},{"$f":"표지!$E$34","v":0},"선택안함",0]
["T20",2,"S40",4,180,{"$f":"IF(MAX('3-3 위험성평가'!$A$4:$A$423)+1>E188,VLOOKUP(E188,'3-3 위험성평가'!$A$5:$P$423,2,0),\"\")","v":""},{"$f":"IF(F188=\"\",\"\",VLOOKUP(VALUE(F188),'1-1 사업장 공정 정보'!$D$15:$P$41,5,0))","v":""},{"$f":"IF(MAX('3-3 위험성평가'!$A$4:$A$423)+1>E188,VLOOKUP(E188,'3-3 위험성평가'!$A$5:$P$423,3,0),\"\")","v":""},{"$f":"IF(MAX('3-3 위험성평가'!$A$4:$A$423)+1>E188,VLOOKUP(E188,'3-3 위험성평가'!$A$5:$P$423,4,0),\"\")","v":""},{"$f":"IF(MAX('3-3 위험성평가'!$A$4:$A$423)+1>E188,VLOOKUP(E188,'3-3 위험성평가'!$A$5:$P$423,5,0),\"\")","v":""},{"$f":"IF(MAX('3-3 위험성평가'!$A$4:$A$423)+1>E188,VLOOKUP(E188,'3-3 위험성평가'!$A$5:$P$423,6,0),\"\")","v":""},{"$f":"IF(MAX('3-3 위험성평가'!$A$4:$A$423)+1>E188,VLOOKUP(E188,'3-3 위험성평가'!$A$5:$P$423,9,0),\"\")","v":""},{"$f":"IF(MAX('3-3 위험성평가'!$A$4:$A$423)+1>E188,VLOOKUP(E188,'3-3 위험성평가'!$A$5:$P$423,12,0),\"\")&IF(L188>\"\",\".\"&E188,\"\")","v":""},{"$f":"IF(MAX('3-3 위험성평가'!$A$4:$A$423)+1>E188,VLOOKUP(E188,'3-3 위험성평가'!$A$5:$P$423,13,0),\"\")","v":""},null,"하",null,null,null,null,null,null,null,"선택안함",0,{"$f":"IF(MAX('3-3 위험성평가'!$A$4:$A$423)+1>E188,VLOOKUP(E188,'3-3 위험성평가'!$A$5:$Q$423,17,0),\"\")","v":""},"선택",{"$f":"표지!$D$33","v":0},{"$f":"표지!$E$34","v":0},"선택안함",0]
["T20",2,"S40",4,181,{"$f":"IF(MAX('3-3 위험성평가'!$A$4:$A$423)+1>E189,VLOOKUP(E189,'3-3 위험성평가'!$A$5:$P$423,2,0),\"\")","v":""},{"$f":"IF(F189=\"\",\"\",VLOOKUP(VALUE(F189),'1-1 사업장 공정 정보'!$D$15:$P$41,5,0))","v":""},{"$f":"IF(MAX('3-3 위험성평가'!$A$4:$A$423)+1>E189,VLOOKUP(E189,'3-3 위험성평가'!$A$5:$P$423,3,0),\"\")","v":""},{"$f":"IF(MAX('3-3 위험성평가'!$A$4:$A$423)+1>E189,VLOOKUP(E189,'3-3 위험성평가'!$A$5:$P$423,4,0),\"\")","v":""},{"$f":"IF(MAX('3-3 위험성평가'!$A$4:$A$423)+1>E189,VLOOKUP(E189,'3-3 위험성평가'!$A$5:$P$423,5,0),\"\")","v":""},{"$f":"IF(MAX('3-3 위험성평가'!$A$4:$A$423)+1>E189,VLOOKUP(E189,'3-3 위험성평가'!$A$5:$P$423,6,0),\"\")","v":""},{"$f":"IF(MAX('3-3 위험성평가'!$A$4:$A$423)+1>E189,VLOOKUP(E189,'3-3 위험성평가'!$A$5:$P$423,9,0),\"\")","v":""},{"$f":"IF(MAX('3-3 위험성평가'!$A$4:$A$423)+1>E189,VLOOKUP(E189,'3-3 위험성평가'!$A$5:$P$423,12,0),\"\")&IF(L189>\"\",\".\"&E189,\"\")","v":""},{"$f":"IF(MAX('3-3 위험성평가'!$A$4:$A$423)+1>E189,VLOOKUP(E189,'3-3 위험성평가'!$A$5:$P$423,13,0),\"\")","v":""},null,"하",null,null,null,null,null,null,null,"선택안함",0,{"$f":"IF(MAX('3-3 위험성평가'!$A$4:$A$423)+1>E189,VLOOKUP(E189,'3-3 위험성평가'!$A$5:$Q$423,17,0),\"\")","v":""},"선택",{"$f":"표지!$D$33","v":0},{"$f":"표지!$E$34","v":0},"선택안함",0]
["T20",2,"S40",4,182,{"$f":"IF(MAX('3-3 위험성평가'!$A$4:$A$423)+1>E190,VLOOKUP(E190,'3-3 위험성평가'!$A$5:$P$423,2,0),\"\")","v":""},{"$f":"IF(F190=\"\",\"\",VLOOKUP(VALUE(F190),'1-1 사업장 공정 정보'!$D$15:$P$41,5,0))","v":""},{"$f":"IF(MAX('3-3 위험성평가'!$A$4:$A$423)+1>E190,VLOOKUP(E190,'3-3 위험성평가'!$A$5:$P$423,3,0),\"\")","v":""},{"$f":"IF(MAX('3-3 위험성평가'!$A$4:$A$423)+1>E190,VLOOKUP(E190,'3-3 위험성평가'!$A$5:$P$423,4,0),\"\")","v":""},{"$f":"IF(MAX('3-3 위험성평가'!$A$4:$A$423)+1>E190,VLOOKUP(E190,'3-3 위험성평가'!$A$5:$P$423,5,0),\"\")","v":""},{"$f":"IF(MAX('3-3 위험성평가'!$A$4:$A$423)+1>E190,VLOOKUP(E190,'3-3 위험성평가'!$A$5:$P$423,6,0),\"\")","v":""},{"$f":"IF(MAX('3-3 위험성평가'!$A$4:$A$423)+1>E190,VLOOKUP(E190,'3-3 위험성평가'!$A$5:$P$423,9,0),\"\")","v":""},{"$f":"IF(MAX('3-3 위험성평가'!$A$4:$A$423)+1>E190,VLOOKUP(E190,'3-3 위험성평가'!$A$5:$P$423,12,0),\"\")&IF(L190>\"\",\".\"&E190,\"\")","v":""},{"$f":"IF(MAX('3-3 위험성평가'!$A$4:$A$423)+1>E190,VLOOKUP(E190,'3-3 위험성평가'!$A$5:$P$423,13,0),\"\")","v":""},null,"하",null,null,null,null,null,null,null,"선택안함",0,{"$f":"IF(MAX('3-3 위험성평가'!$A$4:$A$423)+1>E190,VLOOKUP(E190,'3-3 위험성평가'!$A$5:$Q$423,17,0),\"\")","v":""},"선택",{"$f":"표지!$D$33","v":0},{"$f":"표지!$E$34","v":0},"선택안함",0]
["T20",2,"S40",4,183,{"$f":"IF(MAX('3-3 위험성평가'!$A$4:$A$423)+1>E191,VLOOKUP(E191,'3-3 위험성평가'!$A$5:$P$423,2,0),\"\")","v":""},{"$f":"IF(F191=\"\",\"\",VLOOKUP(VALUE(F191),'1-1 사업장 공정 정보'!$D$15:$P$41,5,0))","v":""},{"$f":"IF(MAX('3-3 위험성평가'!$A$4:$A$423)+1>E191,VLOOKUP(E191,'3-3 위험성평가'!$A$5:$P$423,3,0),\"\")","v":""},{"$f":"IF(MAX('3-3 위험성평가'!$A$4:$A$423)+1>E191,VLOOKUP(E191,'3-3 위험성평가'!$A$5:$P$423,4,0),\"\")","v":""},{"$f":"IF(MAX('3-3 위험성평가'!$A$4:$A$423)+1>E191,VLOOKUP(E191,'3-3 위험성평가'!$A$5:$P$423,5,0),\"\")","v":""},{"$f":"IF(MAX('3-3 위험성평가'!$A$4:$A$423)+1>E191,VLOOKUP(E191,'3-3 위험성평가'!$A$5:$P$423,6,0),\"\")","v":""},{"$f":"IF(MAX('3-3 위험성평가'!$A$4:$A$423)+1>E191,VLOOKUP(E191,'3-3 위험성평가'!$A$5:$P$423,9,0),\"\")","v":""},{"$f":"IF(MAX('3-3 위험성평가'!$A$4:$A$423)+1>E191,VLOOKUP(E191,'3-3 위험성평가'!$A$5:$P$423,12,0),\"\")&IF(L191>\"\",\".\"&E191,\"\")","v":""},{"$f":"IF(MAX('3-3 위험성평가'!$A$4:$A$423)+1>E191,VLOOKUP(E191,'3-3 위험성평가'!$A$5:$P$423,13,0),\"\")","v":""},null,"하",null,null,null,null,null,null,null,"선택안함",0,{"$f":"IF(MAX('3-3 위험성평가'!$A$4:$A$423)+1>E191,VLOOKUP(E191,'3-3 위험성평가'!$A$5:$Q$423,17,0),\"\")","v":""},"선택",{"$f":"표지!$D$33","v":0},{"$f":"표지!$E$34","v":0},"선택안함",0]
["T20",2,"S40",4,184,{"$f":"IF(MAX('3-3 위험성평가'!$A$4:$A$423)+1>E192,VLOOKUP(E192,'3-3 위험성평가'!$A$5:$P$423,2,0),\"\")","v":""},{"$f":"IF(F192=\"\",\"\",VLOOKUP(VALUE(F192),'1-1 사업장 공정 정보'!$D$15:$P$41,5,0))","v":""},{"$f":"IF(MAX('3-3 위험성평가'!$A$4:$A$423)+1>E192,VLOOKUP(E192,'3-3 위험성평가'!$A$5:$P$423,3,0),\"\")","v":""},{"$f":"IF(MAX('3-3 위험성평가'!$A$4:$A$423)+1>E192,VLOOKUP(E192,'3-3 위험성평가'!$A$5:$P$423,4,0),\"\")","v":""},{"$f":"IF(MAX('3-3 위험성평가'!$A$4:$A$423)+1>E192,VLOOKUP(E192,'3-3 위험성평가'!$A$5:$P$423,5,0),\"\")","v":""},{"$f":"IF(MAX('3-3 위험성평가'!$A$4:$A$423)+1>E192,VLOOKUP(E192,'3-3 위험성평가'!$A$5:$P$423,6,0),\"\")","v":""},{"$f":"IF(MAX('3-3 위험성평가'!$A$4:$A$423)+1>E192,VLOOKUP(E192,'3-3 위험성평가'!$A$5:$P$423,9,0),\"\")","v":""},{"$f":"IF(MAX('3-3 위험성평가'!$A$4:$A$423)+1>E192,VLOOKUP(E192,'3-3 위험성평가'!$A$5:$P$423,12,0),\"\")&IF(L192>\"\",\".\"&E192,\"\")","v":""},{"$f":"IF(MAX('3-3 위험성평가'!$A$4:$A$423)+1>E192,VLOOKUP(E192,'3-3 위험성평가'!$A$5:$P$423,13,0),\"\")","v":""},null,"하",null,null,null,null,null,null,null,"선택안함",0,{"$f":"IF(MAX('3-3 위험성평가'!$A$4:$A$423)+1>E192,VLOOKUP(E192,'3-3 위험성평가'!$A$5:$Q$423,17,0),\"\")","v":""},"선택",{"$f":"표지!$D$33","v":0},{"$f":"표지!$E$34","v":0},"선택안함",0]
["T20",2,"S40",4,185,{"$f":"IF(MAX('3-3 위험성평가'!$A$4:$A$423)+1>E193,VLOOKUP(E193,'3-3 위험성평가'!$A$5:$P$423,2,0),\"\")","v":""},{"$f":"IF(F193=\"\",\"\",VLOOKUP(VALUE(F193),'1-1 사업장 공정 정보'!$D$15:$P$41,5,0))","v":""},{"$f":"IF(MAX('3-3 위험성평가'!$A$4:$A$423)+1>E193,VLOOKUP(E193,'3-3 위험성평가'!$A$5:$P$423,3,0),\"\")","v":""},{"$f":"IF(MAX('3-3 위험성평가'!$A$4:$A$423)+1>E193,VLOOKUP(E193,'3-3 위험성평가'!$A$5:$P$423,4,0),\"\")","v":""},{"$f":"IF(MAX('3-3 위험성평가'!$A$4:$A$423)+1>E193,VLOOKUP(E193,'3-3 위험성평가'!$A$5:$P$423,5,0),\"\")","v":""},{"$f":"IF(MAX('3-3 위험성평가'!$A$4:$A$423)+1>E193,VLOOKUP(E193,'3-3 위험성평가'!$A$5:$P$423,6,0),\"\")","v":""},{"$f":"IF(MAX('3-3 위험성평가'!$A$4:$A$423)+1>E193,VLOOKUP(E193,'3-3 위험성평가'!$A$5:$P$423,9,0),\"\")","v":""},{"$f":"IF(MAX('3-3 위험성평가'!$A$4:$A$423)+1>E193,VLOOKUP(E193,'3-3 위험성평가'!$A$5:$P$423,12,0),\"\")&IF(L193>\"\",\".\"&E193,\"\")","v":""},{"$f":"IF(MAX('3-3 위험성평가'!$A$4:$A$423)+1>E193,VLOOKUP(E193,'3-3 위험성평가'!$A$5:$P$423,13,0),\"\")","v":""},null,"하",null,null,null,null,null,null,null,"선택안함",0,{"$f":"IF(MAX('3-3 위험성평가'!$A$4:$A$423)+1>E193,VLOOKUP(E193,'3-3 위험성평가'!$A$5:$Q$423,17,0),\"\")","v":""},"선택",{"$f":"표지!$D$33","v":0},{"$f":"표지!$E$34","v":0},"선택안함",0]
["T20",2,"S40",4,186,{"$f":"IF(MAX('3-3 위험성평가'!$A$4:$A$423)+1>E194,VLOOKUP(E194,'3-3 위험성평가'!$A$5:$P$423,2,0),\"\")","v":""},{"$f":"IF(F194=\"\",\"\",VLOOKUP(VALUE(F194),'1-1 사업장 공정 정보'!$D$15:$P$41,5,0))","v":""},{"$f":"IF(MAX('3-3 위험성평가'!$A$4:$A$423)+1>E194,VLOOKUP(E194,'3-3 위험성평가'!$A$5:$P$423,3,0),\"\")","v":""},{"$f":"IF(MAX('3-3 위험성평가'!$A$4:$A$423)+1>E194,VLOOKUP(E194,'3-3 위험성평가'!$A$5:$P$423,4,0),\"\")","v":""},{"$f":"IF(MAX('3-3 위험성평가'!$A$4:$A$423)+1>E194,VLOOKUP(E194,'3-3 위험성평가'!$A$5:$P$423,5,0),\"\")","v":""},{"$f":"IF(MAX('3-3 위험성평가'!$A$4:$A$423)+1>E194,VLOOKUP(E194,'3-3 위험성평가'!$A$5:$P$423,6,0),\"\")","v":""},{"$f":"IF(MAX('3-3 위험성평가'!$A$4:$A$423)+1>E194,VLOOKUP(E194,'3-3 위험성평가'!$A$5:$P$423,9,0),\"\")","v":""},{"$f":"IF(MAX('3-3 위험성평가'!$A$4:$A$423)+1>E194,VLOOKUP(E194,'3-3 위험성평가'!$A$5:$P$423,12,0),\"\")&IF(L194>\"\",\".\"&E194,\"\")","v":""},{"$f":"IF(MAX('3-3 위험성평가'!$A$4:$A$423)+1>E194,VLOOKUP(E194,'3-3 위험성평가'!$A$5:$P$423,13,0),\"\")","v":""},null,"하",null,null,null,null,null,null,null,"선택안함",0,{"$f":"IF(MAX('3-3 위험성평가'!$A$4:$A$423)+1>E194,VLOOKUP(E194,'3-3 위험성평가'!$A$5:$Q$423,17,0),\"\")","v":""},"선택",{"$f":"표지!$D$33","v":0},{"$f":"표지!$E$34","v":0},"선택안함",0]
["T20",2,"S40",4,187,{"$f":"IF(MAX('3-3 위험성평가'!$A$4:$A$423)+1>E195,VLOOKUP(E195,'3-3 위험성평가'!$A$5:$P$423,2,0),\"\")","v":""},{"$f":"IF(F195=\"\",\"\",VLOOKUP(VALUE(F195),'1-1 사업장 공정 정보'!$D$15:$P$41,5,0))","v":""},{"$f":"IF(MAX('3-3 위험성평가'!$A$4:$A$423)+1>E195,VLOOKUP(E195,'3-3 위험성평가'!$A$5:$P$423,3,0),\"\")","v":""},{"$f":"IF(MAX('3-3 위험성평가'!$A$4:$A$423)+1>E195,VLOOKUP(E195,'3-3 위험성평가'!$A$5:$P$423,4,0),\"\")","v":""},{"$f":"IF(MAX('3-3 위험성평가'!$A$4:$A$423)+1>E195,VLOOKUP(E195,'3-3 위험성평가'!$A$5:$P$423,5,0),\"\")","v":""},{"$f":"IF(MAX('3-3 위험성평가'!$A$4:$A$423)+1>E195,VLOOKUP(E195,'3-3 위험성평가'!$A$5:$P$423,6,0),\"\")","v":""},{"$f":"IF(MAX('3-3 위험성평가'!$A$4:$A$423)+1>E195,VLOOKUP(E195,'3-3 위험성평가'!$A$5:$P$423,9,0),\"\")","v":""},{"$f":"IF(MAX('3-3 위험성평가'!$A$4:$A$423)+1>E195,VLOOKUP(E195,'3-3 위험성평가'!$A$5:$P$423,12,0),\"\")&IF(L195>\"\",\".\"&E195,\"\")","v":""},{"$f":"IF(MAX('3-3 위험성평가'!$A$4:$A$423)+1>E195,VLOOKUP(E195,'3-3 위험성평가'!$A$5:$P$423,13,0),\"\")","v":""},null,"하",null,null,null,null,null,null,null,"선택안함",0,{"$f":"IF(MAX('3-3 위험성평가'!$A$4:$A$423)+1>E195,VLOOKUP(E195,'3-3 위험성평가'!$A$5:$Q$423,17,0),\"\")","v":""},"선택",{"$f":"표지!$D$33","v":0},{"$f":"표지!$E$34","v":0},"선택안함",0]
["T20",2,"S40",4,188,{"$f":"IF(MAX('3-3 위험성평가'!$A$4:$A$423)+1>E196,VLOOKUP(E196,'3-3 위험성평가'!$A$5:$P$423,2,0),\"\")","v":""},{"$f":"IF(F196=\"\",\"\",VLOOKUP(VALUE(F196),'1-1 사업장 공정 정보'!$D$15:$P$41,5,0))","v":""},{"$f":"IF(MAX('3-3 위험성평가'!$A$4:$A$423)+1>E196,VLOOKUP(E196,'3-3 위험성평가'!$A$5:$P$423,3,0),\"\")","v":""},{"$f":"IF(MAX('3-3 위험성평가'!$A$4:$A$423)+1>E196,VLOOKUP(E196,'3-3 위험성평가'!$A$5:$P$423,4,0),\"\")","v":""},{"$f":"IF(MAX('3-3 위험성평가'!$A$4:$A$423)+1>E196,VLOOKUP(E196,'3-3 위험성평가'!$A$5:$P$423,5,0),\"\")","v":""},{"$f":"IF(MAX('3-3 위험성평가'!$A$4:$A$423)+1>E196,VLOOKUP(E196,'3-3 위험성평가'!$A$5:$P$423,6,0),\"\")","v":""},{"$f":"IF(MAX('3-3 위험성평가'!$A$4:$A$423)+1>E196,VLOOKUP(E196,'3-3 위험성평가'!$A$5:$P$423,9,0),\"\")","v":""},{"$f":"IF(MAX('3-3 위험성평가'!$A$4:$A$423)+1>E196,VLOOKUP(E196,'3-3 위험성평가'!$A$5:$P$423,12,0),\"\")&IF(L196>\"\",\".\"&E196,\"\")","v":""},{"$f":"IF(MAX('3-3 위험성평가'!$A$4:$A$423)+1>E196,VLOOKUP(E196,'3-3 위험성평가'!$A$5:$P$423,13,0),\"\")","v":""},null,"하",null,null,null,null,null,null,null,"선택안함",0,{"$f":"IF(MAX('3-3 위험성평가'!$A$4:$A$423)+1>E196,VLOOKUP(E196,'3-3 위험성평가'!$A$5:$Q$423,17,0),\"\")","v":""},"선택",{"$f":"표지!$D$33","v":0},{"$f":"표지!$E$34","v":0},"선택안함",0]
["T20",2,"S40",4,189,{"$f":"IF(MAX('3-3 위험성평가'!$A$4:$A$423)+1>E197,VLOOKUP(E197,'3-3 위험성평가'!$A$5:$P$423,2,0),\"\")","v":""},{"$f":"IF(F197=\"\",\"\",VLOOKUP(VALUE(F197),'1-1 사업장 공정 정보'!$D$15:$P$41,5,0))","v":""},{"$f":"IF(MAX('3-3 위험성평가'!$A$4:$A$423)+1>E197,VLOOKUP(E197,'3-3 위험성평가'!$A$5:$P$423,3,0),\"\")","v":""},{"$f":"IF(MAX('3-3 위험성평가'!$A$4:$A$423)+1>E197,VLOOKUP(E197,'3-3 위험성평가'!$A$5:$P$423,4,0),\"\")","v":""},{"$f":"IF(MAX('3-3 위험성평가'!$A$4:$A$423)+1>E197,VLOOKUP(E197,'3-3 위험성평가'!$A$5:$P$423,5,0),\"\")","v":""},{"$f":"IF(MAX('3-3 위험성평가'!$A$4:$A$423)+1>E197,VLOOKUP(E197,'3-3 위험성평가'!$A$5:$P$423,6,0),\"\")","v":""},{"$f":"IF(MAX('3-3 위험성평가'!$A$4:$A$423)+1>E197,VLOOKUP(E197,'3-3 위험성평가'!$A$5:$P$423,9,0),\"\")","v":""},{"$f":"IF(MAX('3-3 위험성평가'!$A$4:$A$423)+1>E197,VLOOKUP(E197,'3-3 위험성평가'!$A$5:$P$423,12,0),\"\")&IF(L197>\"\",\".\"&E197,\"\")","v":""},{"$f":"IF(MAX('3-3 위험성평가'!$A$4:$A$423)+1>E197,VLOOKUP(E197,'3-3 위험성평가'!$A$5:$P$423,13,0),\"\")","v":""},null,"하",null,null,null,null,null,null,null,"선택안함",0,{"$f":"IF(MAX('3-3 위험성평가'!$A$4:$A$423)+1>E197,VLOOKUP(E197,'3-3 위험성평가'!$A$5:$Q$423,17,0),\"\")","v":""},"선택",{"$f":"표지!$D$33","v":0},{"$f":"표지!$E$34","v":0},"선택안함",0]
["T20",2,"S40",4,190,{"$f":"IF(MAX('3-3 위험성평가'!$A$4:$A$423)+1>E198,VLOOKUP(E198,'3-3 위험성평가'!$A$5:$P$423,2,0),\"\")","v":""},{"$f":"IF(F198=\"\",\"\",VLOOKUP(VALUE(F198),'1-1 사업장 공정 정보'!$D$15:$P$41,5,0))","v":""},{"$f":"IF(MAX('3-3 위험성평가'!$A$4:$A$423)+1>E198,VLOOKUP(E198,'3-3 위험성평가'!$A$5:$P$423,3,0),\"\")","v":""},{"$f":"IF(MAX('3-3 위험성평가'!$A$4:$A$423)+1>E198,VLOOKUP(E198,'3-3 위험성평가'!$A$5:$P$423,4,0),\"\")","v":""},{"$f":"IF(MAX('3-3 위험성평가'!$A$4:$A$423)+1>E198,VLOOKUP(E198,'3-3 위험성평가'!$A$5:$P$423,5,0),\"\")","v":""},{"$f":"IF(MAX('3-3 위험성평가'!$A$4:$A$423)+1>E198,VLOOKUP(E198,'3-3 위험성평가'!$A$5:$P$423,6,0),\"\")","v":""},{"$f":"IF(MAX('3-3 위험성평가'!$A$4:$A$423)+1>E198,VLOOKUP(E198,'3-3 위험성평가'!$A$5:$P$423,9,0),\"\")","v":""},{"$f":"IF(MAX('3-3 위험성평가'!$A$4:$A$423)+1>E198,VLOOKUP(E198,'3-3 위험성평가'!$A$5:$P$423,12,0),\"\")&IF(L198>\"\",\".\"&E198,\"\")","v":""},{"$f":"IF(MAX('3-3 위험성평가'!$A$4:$A$423)+1>E198,VLOOKUP(E198,'3-3 위험성평가'!$A$5:$P$423,13,0),\"\")","v":""},null,"하",null,null,null,null,null,null,null,"선택안함",0,{"$f":"IF(MAX('3-3 위험성평가'!$A$4:$A$423)+1>E198,VLOOKUP(E198,'3-3 위험성평가'!$A$5:$Q$423,17,0),\"\")","v":""},"선택",{"$f":"표지!$D$33","v":0},{"$f":"표지!$E$34","v":0},"선택안함",0]
["T20",2,"S40",4,191,{"$f":"IF(MAX('3-3 위험성평가'!$A$4:$A$423)+1>E199,VLOOKUP(E199,'3-3 위험성평가'!$A$5:$P$423,2,0),\"\")","v":""},{"$f":"IF(F199=\"\",\"\",VLOOKUP(VALUE(F199),'1-1 사업장 공정 정보'!$D$15:$P$41,5,0))","v":""},{"$f":"IF(MAX('3-3 위험성평가'!$A$4:$A$423)+1>E199,VLOOKUP(E199,'3-3 위험성평가'!$A$5:$P$423,3,0),\"\")","v":""},{"$f":"IF(MAX('3-3 위험성평가'!$A$4:$A$423)+1>E199,VLOOKUP(E199,'3-3 위험성평가'!$A$5:$P$423,4,0),\"\")","v":""},{"$f":"IF(MAX('3-3 위험성평가'!$A$4:$A$423)+1>E199,VLOOKUP(E199,'3-3 위험성평가'!$A$5:$P$423,5,0),\"\")","v":""},{"$f":"IF(MAX('3-3 위험성평가'!$A$4:$A$423)+1>E199,VLOOKUP(E199,'3-3 위험성평가'!$A$5:$P$423,6,0),\"\")","v":""},{"$f":"IF(MAX('3-3 위험성평가'!$A$4:$A$423)+1>E199,VLOOKUP(E199,'3-3 위험성평가'!$A$5:$P$423,9,0),\"\")","v":""},{"$f":"IF(MAX('3-3 위험성평가'!$A$4:$A$423)+1>E199,VLOOKUP(E199,'3-3 위험성평가'!$A$5:$P$423,12,0),\"\")&IF(L199>\"\",\".\"&E199,\"\")","v":""},{"$f":"IF(MAX('3-3 위험성평가'!$A$4:$A$423)+1>E199,VLOOKUP(E199,'3-3 위험성평가'!$A$5:$P$423,13,0),\"\")","v":""},null,"하",null,null,null,null,null,null,null,"선택안함",0,{"$f":"IF(MAX('3-3 위험성평가'!$A$4:$A$423)+1>E199,VLOOKUP(E199,'3-3 위험성평가'!$A$5:$Q$423,17,0),\"\")","v":""},"선택",{"$f":"표지!$D$33","v":0},{"$f":"표지!$E$34","v":0},"선택안함",0]
["T20",2,"S40",4,192,{"$f":"IF(MAX('3-3 위험성평가'!$A$4:$A$423)+1>E200,VLOOKUP(E200,'3-3 위험성평가'!$A$5:$P$423,2,0),\"\")","v":""},{"$f":"IF(F200=\"\",\"\",VLOOKUP(VALUE(F200),'1-1 사업장 공정 정보'!$D$15:$P$41,5,0))","v":""},{"$f":"IF(MAX('3-3 위험성평가'!$A$4:$A$423)+1>E200,VLOOKUP(E200,'3-3 위험성평가'!$A$5:$P$423,3,0),\"\")","v":""},{"$f":"IF(MAX('3-3 위험성평가'!$A$4:$A$423)+1>E200,VLOOKUP(E200,'3-3 위험성평가'!$A$5:$P$423,4,0),\"\")","v":""},{"$f":"IF(MAX('3-3 위험성평가'!$A$4:$A$423)+1>E200,VLOOKUP(E200,'3-3 위험성평가'!$A$5:$P$423,5,0),\"\")","v":""},{"$f":"IF(MAX('3-3 위험성평가'!$A$4:$A$423)+1>E200,VLOOKUP(E200,'3-3 위험성평가'!$A$5:$P$423,6,0),\"\")","v":""},{"$f":"IF(MAX('3-3 위험성평가'!$A$4:$A$423)+1>E200,VLOOKUP(E200,'3-3 위험성평가'!$A$5:$P$423,9,0),\"\")","v":""},{"$f":"IF(MAX('3-3 위험성평가'!$A$4:$A$423)+1>E200,VLOOKUP(E200,'3-3 위험성평가'!$A$5:$P$423,12,0),\"\")&IF(L200>\"\",\".\"&E200,\"\")","v":""},{"$f":"IF(MAX('3-3 위험성평가'!$A$4:$A$423)+1>E200,VLOOKUP(E200,'3-3 위험성평가'!$A$5:$P$423,13,0),\"\")","v":""},null,"하",null,null,null,null,null,null,null,"선택안함",0,{"$f":"IF(MAX('3-3 위험성평가'!$A$4:$A$423)+1>E200,VLOOKUP(E200,'3-3 위험성평가'!$A$5:$Q$423,17,0),\"\")","v":""},"선택",{"$f":"표지!$D$33","v":0},{"$f":"표지!$E$34","v":0},"선택안함",0]
[{"$f":"\"T\"&B201&IF(OR(X201=\"선택\",X201=1),1,0)","v":"T20"},2,"S40",4,193,{"$f":"IF(MAX('3-3 위험성평가'!$A$4:$A$423)+1>E201,VLOOKUP(E201,'3-3 위험성평가'!$A$5:$P$423,2,0),\"\")","v":""},{"$f":"IF(F201=\"\",\"\",VLOOKUP(VALUE(F201),'1-1 사업장 공정 정보'!$D$15:$P$41,5,0))","v":""},{"$f":"IF(MAX('3-3 위험성평가'!$A$4:$A$423)+1>E201,VLOOKUP(E201,'3-3 위험성평가'!$A$5:$P$423,3,0),\"\")","v":""},{"$f":"IF(MAX('3-3 위험성평가'!$A$4:$A$423)+1>E201,VLOOKUP(E201,'3-3 위험성평가'!$A$5:$P$423,4,0),\"\")","v":""},{"$f":"IF(MAX('3-3 위험성평가'!$A$4:$A$423)+1>E201,VLOOKUP(E201,'3-3 위험성평가'!$A$5:$P$423,5,0),\"\")","v":""},{"$f":"IF(MAX('3-3 위험성평가'!$A$4:$A$423)+1>E201,VLOOKUP(E201,'3-3 위험성평가'!$A$5:$P$423,6,0),\"\")","v":""},{"$f":"IF(MAX('3-3 위험성평가'!$A$4:$A$423)+1>E201,VLOOKUP(E201,'3-3 위험성평가'!$A$5:$P$423,9,0),\"\")","v":""},{"$f":"IF(MAX('3-3 위험성평가'!$A$4:$A$423)+1>E201,VLOOKUP(E201,'3-3 위험성평가'!$A$5:$P$423,12,0),\"\")&IF(L201>\"\",\".\"&E201,\"\")","v":""},{"$f":"IF(MAX('3-3 위험성평가'!$A$4:$A$423)+1>E201,VLOOKUP(E201,'3-3 위험성평가'!$A$5:$P$423,13,0),\"\")","v":""},null,"하",null,null,null,null,null,null,null,"선택안함",0,{"$f":"IF(MAX('3-3 위험성평가'!$A$4:$A$423)+1>E201,VLOOKUP(E201,'3-3 위험성평가'!$A$5:$Q$423,17,0),\"\")","v":""},"선택",{"$f":"표지!$D$33","v":0},{"$f":"표지!$E$34","v":0},"선택안함",0]
["T20",2,{"$f":"\"S\"&D202&IF(OR(AD202=\"선택\",AD202=1),1,0)","v":"S40"},4,194,{"$f":"IF(MAX('3-3 위험성평가'!$A$4:$A$423)+1>E202,VLOOKUP(E202,'3-3 위험성평가'!$A$5:$P$423,2,0),\"\")","v":""},{"$f":"IF(F202=\"\",\"\",VLOOKUP(VALUE(F202),'1-1 사업장 공정 정보'!$D$15:$P$41,5,0))","v":""},{"$f":"IF(MAX('3-3 위험성평가'!$A$4:$A$423)+1>E202,VLOOKUP(E202,'3-3 위험성평가'!$A$5:$P$423,3,0),\"\")","v":""},{"$f":"IF(MAX('3-3 위험성평가'!$A$4:$A$423)+1>E202,VLOOKUP(E202,'3-3 위험성평가'!$A$5:$P$423,4,0),\"\")","v":""},{"$f":"IF(MAX('3-3 위험성평가'!$A$4:$A$423)+1>E202,VLOOKUP(E202,'3-3 위험성평가'!$A$5:$P$423,5,0),\"\")","v":""},{"$f":"IF(MAX('3-3 위험성평가'!$A$4:$A$423)+1>E202,VLOOKUP(E202,'3-3 위험성평가'!$A$5:$P$423,6,0),\"\")","v":""},{"$f":"IF(MAX('3-3 위험성평가'!$A$4:$A$423)+1>E202,VLOOKUP(E202,'3-3 위험성평가'!$A$5:$P$423,9,0),\"\")","v":""},{"$f":"IF(MAX('3-3 위험성평가'!$A$4:$A$423)+1>E202,VLOOKUP(E202,'3-3 위험성평가'!$A$5:$P$423,12,0),\"\")&IF(L202>\"\",\".\"&E202,\"\")","v":""},{"$f":"IF(MAX('3-3 위험성평가'!$A$4:$A$423)+1>E202,VLOOKUP(E202,'3-3 위험성평가'!$A$5:$P$423,13,0),\"\")","v":""},null,"하",null,null,null,null,null,null,null,"선택안함",{"$f":"IF(OR(X202=\"선택\",X202=1),1,0)","v":0},{"$f":"IF(MAX('3-3 위험성평가'!$A$4:$A$423)+1>E202,VLOOKUP(E202,'3-3 위험성평가'!$A$5:$Q$423,17,0),\"\")","v":""},"선택",{"$f":"표지!$D$33","v":0},{"$f":"표지!$E$34","v":0},"선택안함",{"$f":"IF(OR(AD202=\"선택\",AD202=1),1,0)","v":0}]
["T20",2,"S40",4,195,{"$f":"IF(MAX('3-3 위험성평가'!$A$4:$A$423)+1>E203,VLOOKUP(E203,'3-3 위험성평가'!$A$5:$P$423,2,0),\"\")","v":""},{"$f":"IF(F203=\"\",\"\",VLOOKUP(VALUE(F203),'1-1 사업장 공정 정보'!$D$15:$P$41,5,0))","v":""},{"$f":"IF(MAX('3-3 위험성평가'!$A$4:$A$423)+1>E203,VLOOKUP(E203,'3-3 위험성평가'!$A$5:$P$423,3,0),\"\")","v":""},{"$f":"IF(MAX('3-3 위험성평가'!$A$4:$A$423)+1>E203,VLOOKUP(E203,'3-3 위험성평가'!$A$5:$P$423,4,0),\"\")","v":""},{"$f":"IF(MAX('3-3 위험성평가'!$A$4:$A$423)+1>E203,VLOOKUP(E203,'3-3 위험성평가'!$A$5:$P$423,5,0),\"\")","v":""},{"$f":"IF(MAX('3-3 위험성평가'!$A$4:$A$423)+1>E203,VLOOKUP(E203,'3-3 위험성평가'!$A$5:$P$423,6,0),\"\")","v":""},{"$f":"IF(MAX('3-3 위험성평가'!$A$4:$A$423)+1>E203,VLOOKUP(E203,'3-3 위험성평가'!$A$5:$P$423,9,0),\"\")","v":""},{"$f":"IF(MAX('3-3 위험성평가'!$A$4:$A$423)+1>E203,VLOOKUP(E203,'3-3 위험성평가'!$A$5:$P$423,12,0),\"\")&IF(L203>\"\",\".\"&E203,\"\")","v":""},{"$f":"IF(MAX('3-3 위험성평가'!$A$4:$A$423)+1>E203,VLOOKUP(E203,'3-3 위험성평가'!$A$5:$P$423,13,0),\"\")","v":""},null,"하",null,null,null,null,null,null,null,"선택안함",0,{"$f":"IF(MAX('3-3 위험성평가'!$A$4:$A$423)+1>E203,VLOOKUP(E203,'3-3 위험성평가'!$A$5:$Q$423,17,0),\"\")","v":""},"선택",{"$f":"표지!$D$33","v":0},{"$f":"표지!$E$34","v":0},"선택안함",0]
["T20",2,"S40",{"$f":"D203+AE204","v":4},196,{"$f":"IF(MAX('3-3 위험성평가'!$A$4:$A$423)+1>E204,VLOOKUP(E204,'3-3 위험성평가'!$A$5:$P$423,2,0),\"\")","v":""},{"$f":"IF(F204=\"\",\"\",VLOOKUP(VALUE(F204),'1-1 사업장 공정 정보'!$D$15:$P$41,5,0))","v":""},{"$f":"IF(MAX('3-3 위험성평가'!$A$4:$A$423)+1>E204,VLOOKUP(E204,'3-3 위험성평가'!$A$5:$P$423,3,0),\"\")","v":""},{"$f":"IF(MAX('3-3 위험성평가'!$A$4:$A$423)+1>E204,VLOOKUP(E204,'3-3 위험성평가'!$A$5:$P$423,4,0),\"\")","v":""},{"$f":"IF(MAX('3-3 위험성평가'!$A$4:$A$423)+1>E204,VLOOKUP(E204,'3-3 위험성평가'!$A$5:$P$423,5,0),\"\")","v":""},{"$f":"IF(MAX('3-3 위험성평가'!$A$4:$A$423)+1>E204,VLOOKUP(E204,'3-3 위험성평가'!$A$5:$P$423,6,0),\"\")","v":""},{"$f":"IF(MAX('3-3 위험성평가'!$A$4:$A$423)+1>E204,VLOOKUP(E204,'3-3 위험성평가'!$A$5:$P$423,9,0),\"\")","v":""},{"$f":"IF(MAX('3-3 위험성평가'!$A$4:$A$423)+1>E204,VLOOKUP(E204,'3-3 위험성평가'!$A$5:$P$423,12,0),\"\")&IF(L204>\"\",\".\"&E204,\"\")","v":""},{"$f":"IF(MAX('3-3 위험성평가'!$A$4:$A$423)+1>E204,VLOOKUP(E204,'3-3 위험성평가'!$A$5:$P$423,13,0),\"\")","v":""},null,"하",null,null,null,null,null,null,null,"선택안함",0,{"$f":"IF(MAX('3-3 위험성평가'!$A$4:$A$423)+1>E204,VLOOKUP(E204,'3-3 위험성평가'!$A$5:$Q$423,17,0),\"\")","v":""},"선택",{"$f":"표지!$D$33","v":0},{"$f":"표지!$E$34","v":0},"선택안함",0]
["T20",2,"S40",4,197,{"$f":"IF(MAX('3-3 위험성평가'!$A$4:$A$423)+1>E205,VLOOKUP(E205,'3-3 위험성평가'!$A$5:$P$423,2,0),\"\")","v":""},{"$f":"IF(F205=\"\",\"\",VLOOKUP(VALUE(F205),'1-1 사업장 공정 정보'!$D$15:$P$41,5,0))","v":""},{"$f":"IF(MAX('3-3 위험성평가'!$A$4:$A$423)+1>E205,VLOOKUP(E205,'3-3 위험성평가'!$A$5:$P$423,3,0),\"\")","v":""},{"$f":"IF(MAX('3-3 위험성평가'!$A$4:$A$423)+1>E205,VLOOKUP(E205,'3-3 위험성평가'!$A$5:$P$423,4,0),\"\")","v":""},{"$f":"IF(MAX('3-3 위험성평가'!$A$4:$A$423)+1>E205,VLOOKUP(E205,'3-3 위험성평가'!$A$5:$P$423,5,0),\"\")","v":""},{"$f":"IF(MAX('3-3 위험성평가'!$A$4:$A$423)+1>E205,VLOOKUP(E205,'3-3 위험성평가'!$A$5:$P$423,6,0),\"\")","v":""},{"$f":"IF(MAX('3-3 위험성평가'!$A$4:$A$423)+1>E205,VLOOKUP(E205,'3-3 위험성평가'!$A$5:$P$423,9,0),\"\")","v":""},{"$f":"IF(MAX('3-3 위험성평가'!$A$4:$A$423)+1>E205,VLOOKUP(E205,'3-3 위험성평가'!$A$5:$P$423,12,0),\"\")&IF(L205>\"\",\".\"&E205,\"\")","v":""},{"$f":"IF(MAX('3-3 위험성평가'!$A$4:$A$423)+1>E205,VLOOKUP(E205,'3-3 위험성평가'!$A$5:$P$423,13,0),\"\")","v":""},null,"하",null,null,null,null,null,null,null,"선택안함",0,{"$f":"IF(MAX('3-3 위험성평가'!$A$4:$A$423)+1>E205,VLOOKUP(E205,'3-3 위험성평가'!$A$5:$Q$423,17,0),\"\")","v":""},"선택",{"$f":"표지!$D$33","v":0},{"$f":"표지!$E$34","v":0},"선택안함",0]
["T20",2,"S40",4,198,{"$f":"IF(MAX('3-3 위험성평가'!$A$4:$A$423)+1>E206,VLOOKUP(E206,'3-3 위험성평가'!$A$5:$P$423,2,0),\"\")","v":""},{"$f":"IF(F206=\"\",\"\",VLOOKUP(VALUE(F206),'1-1 사업장 공정 정보'!$D$15:$P$41,5,0))","v":""},{"$f":"IF(MAX('3-3 위험성평가'!$A$4:$A$423)+1>E206,VLOOKUP(E206,'3-3 위험성평가'!$A$5:$P$423,3,0),\"\")","v":""},{"$f":"IF(MAX('3-3 위험성평가'!$A$4:$A$423)+1>E206,VLOOKUP(E206,'3-3 위험성평가'!$A$5:$P$423,4,0),\"\")","v":""},{"$f":"IF(MAX('3-3 위험성평가'!$A$4:$A$423)+1>E206,VLOOKUP(E206,'3-3 위험성평가'!$A$5:$P$423,5,0),\"\")","v":""},{"$f":"IF(MAX('3-3 위험성평가'!$A$4:$A$423)+1>E206,VLOOKUP(E206,'3-3 위험성평가'!$A$5:$P$423,6,0),\"\")","v":""},{"$f":"IF(MAX('3-3 위험성평가'!$A$4:$A$423)+1>E206,VLOOKUP(E206,'3-3 위험성평가'!$A$5:$P$423,9,0),\"\")","v":""},{"$f":"IF(MAX('3-3 위험성평가'!$A$4:$A$423)+1>E206,VLOOKUP(E206,'3-3 위험성평가'!$A$5:$P$423,12,0),\"\")&IF(L206>\"\",\".\"&E206,\"\")","v":""},{"$f":"IF(MAX('3-3 위험성평가'!$A$4:$A$423)+1>E206,VLOOKUP(E206,'3-3 위험성평가'!$A$5:$P$423,13,0),\"\")","v":""},null,"하",null,null,null,null,null,null,null,"선택안함",0,{"$f":"IF(MAX('3-3 위험성평가'!$A$4:$A$423)+1>E206,VLOOKUP(E206,'3-3 위험성평가'!$A$5:$Q$423,17,0),\"\")","v":""},"선택",{"$f":"표지!$D$33","v":0},{"$f":"표지!$E$34","v":0},"선택안함",0]
["T20",2,"S40",4,199,{"$f":"IF(MAX('3-3 위험성평가'!$A$4:$A$423)+1>E207,VLOOKUP(E207,'3-3 위험성평가'!$A$5:$P$423,2,0),\"\")","v":""},{"$f":"IF(F207=\"\",\"\",VLOOKUP(VALUE(F207),'1-1 사업장 공정 정보'!$D$15:$P$41,5,0))","v":""},{"$f":"IF(MAX('3-3 위험성평가'!$A$4:$A$423)+1>E207,VLOOKUP(E207,'3-3 위험성평가'!$A$5:$P$423,3,0),\"\")","v":""},{"$f":"IF(MAX('3-3 위험성평가'!$A$4:$A$423)+1>E207,VLOOKUP(E207,'3-3 위험성평가'!$A$5:$P$423,4,0),\"\")","v":""},{"$f":"IF(MAX('3-3 위험성평가'!$A$4:$A$423)+1>E207,VLOOKUP(E207,'3-3 위험성평가'!$A$5:$P$423,5,0),\"\")","v":""},{"$f":"IF(MAX('3-3 위험성평가'!$A$4:$A$423)+1>E207,VLOOKUP(E207,'3-3 위험성평가'!$A$5:$P$423,6,0),\"\")","v":""},{"$f":"IF(MAX('3-3 위험성평가'!$A$4:$A$423)+1>E207,VLOOKUP(E207,'3-3 위험성평가'!$A$5:$P$423,9,0),\"\")","v":""},{"$f":"IF(MAX('3-3 위험성평가'!$A$4:$A$423)+1>E207,VLOOKUP(E207,'3-3 위험성평가'!$A$5:$P$423,12,0),\"\")&IF(L207>\"\",\".\"&E207,\"\")","v":""},{"$f":"IF(MAX('3-3 위험성평가'!$A$4:$A$423)+1>E207,VLOOKUP(E207,'3-3 위험성평가'!$A$5:$P$423,13,0),\"\")","v":""},null,"하",null,null,null,null,null,null,null,"선택안함",0,{"$f":"IF(MAX('3-3 위험성평가'!$A$4:$A$423)+1>E207,VLOOKUP(E207,'3-3 위험성평가'!$A$5:$Q$423,17,0),\"\")","v":""},"선택",{"$f":"표지!$D$33","v":0},{"$f":"표지!$E$34","v":0},"선택안함",0]
["T20",2,"S40",4,200,{"$f":"IF(MAX('3-3 위험성평가'!$A$4:$A$423)+1>E208,VLOOKUP(E208,'3-3 위험성평가'!$A$5:$P$423,2,0),\"\")","v":""},{"$f":"IF(F208=\"\",\"\",VLOOKUP(VALUE(F208),'1-1 사업장 공정 정보'!$D$15:$P$41,5,0))","v":""},{"$f":"IF(MAX('3-3 위험성평가'!$A$4:$A$423)+1>E208,VLOOKUP(E208,'3-3 위험성평가'!$A$5:$P$423,3,0),\"\")","v":""},{"$f":"IF(MAX('3-3 위험성평가'!$A$4:$A$423)+1>E208,VLOOKUP(E208,'3-3 위험성평가'!$A$5:$P$423,4,0),\"\")","v":""},{"$f":"IF(MAX('3-3 위험성평가'!$A$4:$A$423)+1>E208,VLOOKUP(E208,'3-3 위험성평가'!$A$5:$P$423,5,0),\"\")","v":""},{"$f":"IF(MAX('3-3 위험성평가'!$A$4:$A$423)+1>E208,VLOOKUP(E208,'3-3 위험성평가'!$A$5:$P$423,6,0),\"\")","v":""},{"$f":"IF(MAX('3-3 위험성평가'!$A$4:$A$423)+1>E208,VLOOKUP(E208,'3-3 위험성평가'!$A$5:$P$423,9,0),\"\")","v":""},{"$f":"IF(MAX('3-3 위험성평가'!$A$4:$A$423)+1>E208,VLOOKUP(E208,'3-3 위험성평가'!$A$5:$P$423,12,0),\"\")&IF(L208>\"\",\".\"&E208,\"\")","v":""},{"$f":"IF(MAX('3-3 위험성평가'!$A$4:$A$423)+1>E208,VLOOKUP(E208,'3-3 위험성평가'!$A$5:$P$423,13,0),\"\")","v":""},null,"하",null,null,null,null,null,null,null,"선택안함",0,{"$f":"IF(MAX('3-3 위험성평가'!$A$4:$A$423)+1>E208,VLOOKUP(E208,'3-3 위험성평가'!$A$5:$Q$423,17,0),\"\")","v":""},"선택",{"$f":"표지!$D$33","v":0},{"$f":"표지!$E$34","v":0},"선택안함",0]
["T20",2,"S40",4,201,{"$f":"IF(MAX('3-3 위험성평가'!$A$4:$A$423)+1>E209,VLOOKUP(E209,'3-3 위험성평가'!$A$5:$P$423,2,0),\"\")","v":""},{"$f":"IF(F209=\"\",\"\",VLOOKUP(VALUE(F209),'1-1 사업장 공정 정보'!$D$15:$P$41,5,0))","v":""},{"$f":"IF(MAX('3-3 위험성평가'!$A$4:$A$423)+1>E209,VLOOKUP(E209,'3-3 위험성평가'!$A$5:$P$423,3,0),\"\")","v":""},{"$f":"IF(MAX('3-3 위험성평가'!$A$4:$A$423)+1>E209,VLOOKUP(E209,'3-3 위험성평가'!$A$5:$P$423,4,0),\"\")","v":""},{"$f":"IF(MAX('3-3 위험성평가'!$A$4:$A$423)+1>E209,VLOOKUP(E209,'3-3 위험성평가'!$A$5:$P$423,5,0),\"\")","v":""},{"$f":"IF(MAX('3-3 위험성평가'!$A$4:$A$423)+1>E209,VLOOKUP(E209,'3-3 위험성평가'!$A$5:$P$423,6,0),\"\")","v":""},{"$f":"IF(MAX('3-3 위험성평가'!$A$4:$A$423)+1>E209,VLOOKUP(E209,'3-3 위험성평가'!$A$5:$P$423,9,0),\"\")","v":""},{"$f":"IF(MAX('3-3 위험성평가'!$A$4:$A$423)+1>E209,VLOOKUP(E209,'3-3 위험성평가'!$A$5:$P$423,12,0),\"\")&IF(L209>\"\",\".\"&E209,\"\")","v":""},{"$f":"IF(MAX('3-3 위험성평가'!$A$4:$A$423)+1>E209,VLOOKUP(E209,'3-3 위험성평가'!$A$5:$P$423,13,0),\"\")","v":""},null,"하",null,null,null,null,null,null,null,"선택안함",0,{"$f":"IF(MAX('3-3 위험성평가'!$A$4:$A$423)+1>E209,VLOOKUP(E209,'3-3 위험성평가'!$A$5:$Q$423,17,0),\"\")","v":""},"선택",{"$f":"표지!$D$33","v":0},{"$f":"표지!$E$34","v":0},"선택안함",0]
["T20",2,"S40",4,202,{"$f":"IF(MAX('3-3 위험성평가'!$A$4:$A$423)+1>E210,VLOOKUP(E210,'3-3 위험성평가'!$A$5:$P$423,2,0),\"\")","v":""},{"$f":"IF(F210=\"\",\"\",VLOOKUP(VALUE(F210),'1-1 사업장 공정 정보'!$D$15:$P$41,5,0))","v":""},{"$f":"IF(MAX('3-3 위험성평가'!$A$4:$A$423)+1>E210,VLOOKUP(E210,'3-3 위험성평가'!$A$5:$P$423,3,0),\"\")","v":""},{"$f":"IF(MAX('3-3 위험성평가'!$A$4:$A$423)+1>E210,VLOOKUP(E210,'3-3 위험성평가'!$A$5:$P$423,4,0),\"\")","v":""},{"$f":"IF(MAX('3-3 위험성평가'!$A$4:$A$423)+1>E210,VLOOKUP(E210,'3-3 위험성평가'!$A$5:$P$423,5,0),\"\")","v":""},{"$f":"IF(MAX('3-3 위험성평가'!$A$4:$A$423)+1>E210,VLOOKUP(E210,'3-3 위험성평가'!$A$5:$P$423,6,0),\"\")","v":""},{"$f":"IF(MAX('3-3 위험성평가'!$A$4:$A$423)+1>E210,VLOOKUP(E210,'3-3 위험성평가'!$A$5:$P$423,9,0),\"\")","v":""},{"$f":"IF(MAX('3-3 위험성평가'!$A$4:$A$423)+1>E210,VLOOKUP(E210,'3-3 위험성평가'!$A$5:$P$423,12,0),\"\")&IF(L210>\"\",\".\"&E210,\"\")","v":""},{"$f":"IF(MAX('3-3 위험성평가'!$A$4:$A$423)+1>E210,VLOOKUP(E210,'3-3 위험성평가'!$A$5:$P$423,13,0),\"\")","v":""},null,"하",null,null,null,null,null,null,null,"선택안함",0,{"$f":"IF(MAX('3-3 위험성평가'!$A$4:$A$423)+1>E210,VLOOKUP(E210,'3-3 위험성평가'!$A$5:$Q$423,17,0),\"\")","v":""},"선택",{"$f":"표지!$D$33","v":0},{"$f":"표지!$E$34","v":0},"선택안함",0]
["T20",2,"S40",4,203,{"$f":"IF(MAX('3-3 위험성평가'!$A$4:$A$423)+1>E211,VLOOKUP(E211,'3-3 위험성평가'!$A$5:$P$423,2,0),\"\")","v":""},{"$f":"IF(F211=\"\",\"\",VLOOKUP(VALUE(F211),'1-1 사업장 공정 정보'!$D$15:$P$41,5,0))","v":""},{"$f":"IF(MAX('3-3 위험성평가'!$A$4:$A$423)+1>E211,VLOOKUP(E211,'3-3 위험성평가'!$A$5:$P$423,3,0),\"\")","v":""},{"$f":"IF(MAX('3-3 위험성평가'!$A$4:$A$423)+1>E211,VLOOKUP(E211,'3-3 위험성평가'!$A$5:$P$423,4,0),\"\")","v":""},{"$f":"IF(MAX('3-3 위험성평가'!$A$4:$A$423)+1>E211,VLOOKUP(E211,'3-3 위험성평가'!$A$5:$P$423,5,0),\"\")","v":""},{"$f":"IF(MAX('3-3 위험성평가'!$A$4:$A$423)+1>E211,VLOOKUP(E211,'3-3 위험성평가'!$A$5:$P$423,6,0),\"\")","v":""},{"$f":"IF(MAX('3-3 위험성평가'!$A$4:$A$423)+1>E211,VLOOKUP(E211,'3-3 위험성평가'!$A$5:$P$423,9,0),\"\")","v":""},{"$f":"IF(MAX('3-3 위험성평가'!$A$4:$A$423)+1>E211,VLOOKUP(E211,'3-3 위험성평가'!$A$5:$P$423,12,0),\"\")&IF(L211>\"\",\".\"&E211,\"\")","v":""},{"$f":"IF(MAX('3-3 위험성평가'!$A$4:$A$423)+1>E211,VLOOKUP(E211,'3-3 위험성평가'!$A$5:$P$423,13,0),\"\")","v":""},null,"하",null,null,null,null,null,null,null,"선택안함",0,{"$f":"IF(MAX('3-3 위험성평가'!$A$4:$A$423)+1>E211,VLOOKUP(E211,'3-3 위험성평가'!$A$5:$Q$423,17,0),\"\")","v":""},"선택",{"$f":"표지!$D$33","v":0},{"$f":"표지!$E$34","v":0},"선택안함",0]
["T20",2,"S40",4,204,{"$f":"IF(MAX('3-3 위험성평가'!$A$4:$A$423)+1>E212,VLOOKUP(E212,'3-3 위험성평가'!$A$5:$P$423,2,0),\"\")","v":""},{"$f":"IF(F212=\"\",\"\",VLOOKUP(VALUE(F212),'1-1 사업장 공정 정보'!$D$15:$P$41,5,0))","v":""},{"$f":"IF(MAX('3-3 위험성평가'!$A$4:$A$423)+1>E212,VLOOKUP(E212,'3-3 위험성평가'!$A$5:$P$423,3,0),\"\")","v":""},{"$f":"IF(MAX('3-3 위험성평가'!$A$4:$A$423)+1>E212,VLOOKUP(E212,'3-3 위험성평가'!$A$5:$P$423,4,0),\"\")","v":""},{"$f":"IF(MAX('3-3 위험성평가'!$A$4:$A$423)+1>E212,VLOOKUP(E212,'3-3 위험성평가'!$A$5:$P$423,5,0),\"\")","v":""},{"$f":"IF(MAX('3-3 위험성평가'!$A$4:$A$423)+1>E212,VLOOKUP(E212,'3-3 위험성평가'!$A$5:$P$423,6,0),\"\")","v":""},{"$f":"IF(MAX('3-3 위험성평가'!$A$4:$A$423)+1>E212,VLOOKUP(E212,'3-3 위험성평가'!$A$5:$P$423,9,0),\"\")","v":""},{"$f":"IF(MAX('3-3 위험성평가'!$A$4:$A$423)+1>E212,VLOOKUP(E212,'3-3 위험성평가'!$A$5:$P$423,12,0),\"\")&IF(L212>\"\",\".\"&E212,\"\")","v":""},{"$f":"IF(MAX('3-3 위험성평가'!$A$4:$A$423)+1>E212,VLOOKUP(E212,'3-3 위험성평가'!$A$5:$P$423,13,0),\"\")","v":""},null,"하",null,null,null,null,null,null,null,"선택안함",0,{"$f":"IF(MAX('3-3 위험성평가'!$A$4:$A$423)+1>E212,VLOOKUP(E212,'3-3 위험성평가'!$A$5:$Q$423,17,0),\"\")","v":""},"선택",{"$f":"표지!$D$33","v":0},{"$f":"표지!$E$34","v":0},"선택안함",0]
["T20",2,"S40",4,205,{"$f":"IF(MAX('3-3 위험성평가'!$A$4:$A$423)+1>E213,VLOOKUP(E213,'3-3 위험성평가'!$A$5:$P$423,2,0),\"\")","v":""},{"$f":"IF(F213=\"\",\"\",VLOOKUP(VALUE(F213),'1-1 사업장 공정 정보'!$D$15:$P$41,5,0))","v":""},{"$f":"IF(MAX('3-3 위험성평가'!$A$4:$A$423)+1>E213,VLOOKUP(E213,'3-3 위험성평가'!$A$5:$P$423,3,0),\"\")","v":""},{"$f":"IF(MAX('3-3 위험성평가'!$A$4:$A$423)+1>E213,VLOOKUP(E213,'3-3 위험성평가'!$A$5:$P$423,4,0),\"\")","v":""},{"$f":"IF(MAX('3-3 위험성평가'!$A$4:$A$423)+1>E213,VLOOKUP(E213,'3-3 위험성평가'!$A$5:$P$423,5,0),\"\")","v":""},{"$f":"IF(MAX('3-3 위험성평가'!$A$4:$A$423)+1>E213,VLOOKUP(E213,'3-3 위험성평가'!$A$5:$P$423,6,0),\"\")","v":""},{"$f":"IF(MAX('3-3 위험성평가'!$A$4:$A$423)+1>E213,VLOOKUP(E213,'3-3 위험성평가'!$A$5:$P$423,9,0),\"\")","v":""},{"$f":"IF(MAX('3-3 위험성평가'!$A$4:$A$423)+1>E213,VLOOKUP(E213,'3-3 위험성평가'!$A$5:$P$423,12,0),\"\")&IF(L213>\"\",\".\"&E213,\"\")","v":""},{"$f":"IF(MAX('3-3 위험성평가'!$A$4:$A$423)+1>E213,VLOOKUP(E213,'3-3 위험성평가'!$A$5:$P$423,13,0),\"\")","v":""},null,"하",null,null,null,null,null,null,null,"선택안함",0,{"$f":"IF(MAX('3-3 위험성평가'!$A$4:$A$423)+1>E213,VLOOKUP(E213,'3-3 위험성평가'!$A$5:$Q$423,17,0),\"\")","v":""},"선택",{"$f":"표지!$D$33","v":0},{"$f":"표지!$E$34","v":0},"선택안함",0]
["T20",2,"S40",4,206,{"$f":"IF(MAX('3-3 위험성평가'!$A$4:$A$423)+1>E214,VLOOKUP(E214,'3-3 위험성평가'!$A$5:$P$423,2,0),\"\")","v":""},{"$f":"IF(F214=\"\",\"\",VLOOKUP(VALUE(F214),'1-1 사업장 공정 정보'!$D$15:$P$41,5,0))","v":""},{"$f":"IF(MAX('3-3 위험성평가'!$A$4:$A$423)+1>E214,VLOOKUP(E214,'3-3 위험성평가'!$A$5:$P$423,3,0),\"\")","v":""},{"$f":"IF(MAX('3-3 위험성평가'!$A$4:$A$423)+1>E214,VLOOKUP(E214,'3-3 위험성평가'!$A$5:$P$423,4,0),\"\")","v":""},{"$f":"IF(MAX('3-3 위험성평가'!$A$4:$A$423)+1>E214,VLOOKUP(E214,'3-3 위험성평가'!$A$5:$P$423,5,0),\"\")","v":""},{"$f":"IF(MAX('3-3 위험성평가'!$A$4:$A$423)+1>E214,VLOOKUP(E214,'3-3 위험성평가'!$A$5:$P$423,6,0),\"\")","v":""},{"$f":"IF(MAX('3-3 위험성평가'!$A$4:$A$423)+1>E214,VLOOKUP(E214,'3-3 위험성평가'!$A$5:$P$423,9,0),\"\")","v":""},{"$f":"IF(MAX('3-3 위험성평가'!$A$4:$A$423)+1>E214,VLOOKUP(E214,'3-3 위험성평가'!$A$5:$P$423,12,0),\"\")&IF(L214>\"\",\".\"&E214,\"\")","v":""},{"$f":"IF(MAX('3-3 위험성평가'!$A$4:$A$423)+1>E214,VLOOKUP(E214,'3-3 위험성평가'!$A$5:$P$423,13,0),\"\")","v":""},null,"하",null,null,null,null,null,null,null,"선택안함",0,{"$f":"IF(MAX('3-3 위험성평가'!$A$4:$A$423)+1>E214,VLOOKUP(E214,'3-3 위험성평가'!$A$5:$Q$423,17,0),\"\")","v":""},"선택",{"$f":"표지!$D$33","v":0},{"$f":"표지!$E$34","v":0},"선택안함",0]
["T20",2,"S40",4,207,{"$f":"IF(MAX('3-3 위험성평가'!$A$4:$A$423)+1>E215,VLOOKUP(E215,'3-3 위험성평가'!$A$5:$P$423,2,0),\"\")","v":""},{"$f":"IF(F215=\"\",\"\",VLOOKUP(VALUE(F215),'1-1 사업장 공정 정보'!$D$15:$P$41,5,0))","v":""},{"$f":"IF(MAX('3-3 위험성평가'!$A$4:$A$423)+1>E215,VLOOKUP(E215,'3-3 위험성평가'!$A$5:$P$423,3,0),\"\")","v":""},{"$f":"IF(MAX('3-3 위험성평가'!$A$4:$A$423)+1>E215,VLOOKUP(E215,'3-3 위험성평가'!$A$5:$P$423,4,0),\"\")","v":""},{"$f":"IF(MAX('3-3 위험성평가'!$A$4:$A$423)+1>E215,VLOOKUP(E215,'3-3 위험성평가'!$A$5:$P$423,5,0),\"\")","v":""},{"$f":"IF(MAX('3-3 위험성평가'!$A$4:$A$423)+1>E215,VLOOKUP(E215,'3-3 위험성평가'!$A$5:$P$423,6,0),\"\")","v":""},{"$f":"IF(MAX('3-3 위험성평가'!$A$4:$A$423)+1>E215,VLOOKUP(E215,'3-3 위험성평가'!$A$5:$P$423,9,0),\"\")","v":""},{"$f":"IF(MAX('3-3 위험성평가'!$A$4:$A$423)+1>E215,VLOOKUP(E215,'3-3 위험성평가'!$A$5:$P$423,12,0),\"\")&IF(L215>\"\",\".\"&E215,\"\")","v":""},{"$f":"IF(MAX('3-3 위험성평가'!$A$4:$A$423)+1>E215,VLOOKUP(E215,'3-3 위험성평가'!$A$5:$P$423,13,0),\"\")","v":""},null,"하",null,null,null,null,null,null,null,"선택안함",0,{"$f":"IF(MAX('3-3 위험성평가'!$A$4:$A$423)+1>E215,VLOOKUP(E215,'3-3 위험성평가'!$A$5:$Q$423,17,0),\"\")","v":""},"선택",{"$f":"표지!$D$33","v":0},{"$f":"표지!$E$34","v":0},"선택안함",0]
["T20",2,"S40",4,208,{"$f":"IF(MAX('3-3 위험성평가'!$A$4:$A$423)+1>E216,VLOOKUP(E216,'3-3 위험성평가'!$A$5:$P$423,2,0),\"\")","v":""},{"$f":"IF(F216=\"\",\"\",VLOOKUP(VALUE(F216),'1-1 사업장 공정 정보'!$D$15:$P$41,5,0))","v":""},{"$f":"IF(MAX('3-3 위험성평가'!$A$4:$A$423)+1>E216,VLOOKUP(E216,'3-3 위험성평가'!$A$5:$P$423,3,0),\"\")","v":""},{"$f":"IF(MAX('3-3 위험성평가'!$A$4:$A$423)+1>E216,VLOOKUP(E216,'3-3 위험성평가'!$A$5:$P$423,4,0),\"\")","v":""},{"$f":"IF(MAX('3-3 위험성평가'!$A$4:$A$423)+1>E216,VLOOKUP(E216,'3-3 위험성평가'!$A$5:$P$423,5,0),\"\")","v":""},{"$f":"IF(MAX('3-3 위험성평가'!$A$4:$A$423)+1>E216,VLOOKUP(E216,'3-3 위험성평가'!$A$5:$P$423,6,0),\"\")","v":""},{"$f":"IF(MAX('3-3 위험성평가'!$A$4:$A$423)+1>E216,VLOOKUP(E216,'3-3 위험성평가'!$A$5:$P$423,9,0),\"\")","v":""},{"$f":"IF(MAX('3-3 위험성평가'!$A$4:$A$423)+1>E216,VLOOKUP(E216,'3-3 위험성평가'!$A$5:$P$423,12,0),\"\")&IF(L216>\"\",\".\"&E216,\"\")","v":""},{"$f":"IF(MAX('3-3 위험성평가'!$A$4:$A$423)+1>E216,VLOOKUP(E216,'3-3 위험성평가'!$A$5:$P$423,13,0),\"\")","v":""},null,"하",null,null,null,null,null,null,null,"선택안함",0,{"$f":"IF(MAX('3-3 위험성평가'!$A$4:$A$423)+1>E216,VLOOKUP(E216,'3-3 위험성평가'!$A$5:$Q$423,17,0),\"\")","v":""},"선택",{"$f":"표지!$D$33","v":0},{"$f":"표지!$E$34","v":0},"선택안함",0]
["T20",2,"S40",4,209,{"$f":"IF(MAX('3-3 위험성평가'!$A$4:$A$423)+1>E217,VLOOKUP(E217,'3-3 위험성평가'!$A$5:$P$423,2,0),\"\")","v":""},{"$f":"IF(F217=\"\",\"\",VLOOKUP(VALUE(F217),'1-1 사업장 공정 정보'!$D$15:$P$41,5,0))","v":""},{"$f":"IF(MAX('3-3 위험성평가'!$A$4:$A$423)+1>E217,VLOOKUP(E217,'3-3 위험성평가'!$A$5:$P$423,3,0),\"\")","v":""},{"$f":"IF(MAX('3-3 위험성평가'!$A$4:$A$423)+1>E217,VLOOKUP(E217,'3-3 위험성평가'!$A$5:$P$423,4,0),\"\")","v":""},{"$f":"IF(MAX('3-3 위험성평가'!$A$4:$A$423)+1>E217,VLOOKUP(E217,'3-3 위험성평가'!$A$5:$P$423,5,0),\"\")","v":""},{"$f":"IF(MAX('3-3 위험성평가'!$A$4:$A$423)+1>E217,VLOOKUP(E217,'3-3 위험성평가'!$A$5:$P$423,6,0),\"\")","v":""},{"$f":"IF(MAX('3-3 위험성평가'!$A$4:$A$423)+1>E217,VLOOKUP(E217,'3-3 위험성평가'!$A$5:$P$423,9,0),\"\")","v":""},{"$f":"IF(MAX('3-3 위험성평가'!$A$4:$A$423)+1>E217,VLOOKUP(E217,'3-3 위험성평가'!$A$5:$P$423,12,0),\"\")&IF(L217>\"\",\".\"&E217,\"\")","v":""},{"$f":"IF(MAX('3-3 위험성평가'!$A$4:$A$423)+1>E217,VLOOKUP(E217,'3-3 위험성평가'!$A$5:$P$423,13,0),\"\")","v":""},null,"하",null,null,null,null,null,null,null,"선택안함",0,{"$f":"IF(MAX('3-3 위험성평가'!$A$4:$A$423)+1>E217,VLOOKUP(E217,'3-3 위험성평가'!$A$5:$Q$423,17,0),\"\")","v":""},"선택",{"$f":"표지!$D$33","v":0},{"$f":"표지!$E$34","v":0},"선택안함",0]
["T20",{"$f":"B217+Y218","v":2},"S40",4,210,{"$f":"IF(MAX('3-3 위험성평가'!$A$4:$A$423)+1>E218,VLOOKUP(E218,'3-3 위험성평가'!$A$5:$P$423,2,0),\"\")","v":""},{"$f":"IF(F218=\"\",\"\",VLOOKUP(VALUE(F218),'1-1 사업장 공정 정보'!$D$15:$P$41,5,0))","v":""},{"$f":"IF(MAX('3-3 위험성평가'!$A$4:$A$423)+1>E218,VLOOKUP(E218,'3-3 위험성평가'!$A$5:$P$423,3,0),\"\")","v":""},{"$f":"IF(MAX('3-3 위험성평가'!$A$4:$A$423)+1>E218,VLOOKUP(E218,'3-3 위험성평가'!$A$5:$P$423,4,0),\"\")","v":""},{"$f":"IF(MAX('3-3 위험성평가'!$A$4:$A$423)+1>E218,VLOOKUP(E218,'3-3 위험성평가'!$A$5:$P$423,5,0),\"\")","v":""},{"$f":"IF(MAX('3-3 위험성평가'!$A$4:$A$423)+1>E218,VLOOKUP(E218,'3-3 위험성평가'!$A$5:$P$423,6,0),\"\")","v":""},{"$f":"IF(MAX('3-3 위험성평가'!$A$4:$A$423)+1>E218,VLOOKUP(E218,'3-3 위험성평가'!$A$5:$P$423,9,0),\"\")","v":""},{"$f":"IF(MAX('3-3 위험성평가'!$A$4:$A$423)+1>E218,VLOOKUP(E218,'3-3 위험성평가'!$A$5:$P$423,12,0),\"\")&IF(L218>\"\",\".\"&E218,\"\")","v":""},{"$f":"IF(MAX('3-3 위험성평가'!$A$4:$A$423)+1>E218,VLOOKUP(E218,'3-3 위험성평가'!$A$5:$P$423,13,0),\"\")","v":""},null,"하",null,null,null,null,null,null,null,"선택안함",0,{"$f":"IF(MAX('3-3 위험성평가'!$A$4:$A$423)+1>E218,VLOOKUP(E218,'3-3 위험성평가'!$A$5:$Q$423,17,0),\"\")","v":""},"선택",{"$f":"표지!$D$33","v":0},{"$f":"표지!$E$34","v":0},"선택안함",0]
["T20",2,"S40",4,211,{"$f":"IF(MAX('3-3 위험성평가'!$A$4:$A$423)+1>E219,VLOOKUP(E219,'3-3 위험성평가'!$A$5:$P$423,2,0),\"\")","v":""},{"$f":"IF(F219=\"\",\"\",VLOOKUP(VALUE(F219),'1-1 사업장 공정 정보'!$D$15:$P$41,5,0))","v":""},{"$f":"IF(MAX('3-3 위험성평가'!$A$4:$A$423)+1>E219,VLOOKUP(E219,'3-3 위험성평가'!$A$5:$P$423,3,0),\"\")","v":""},{"$f":"IF(MAX('3-3 위험성평가'!$A$4:$A$423)+1>E219,VLOOKUP(E219,'3-3 위험성평가'!$A$5:$P$423,4,0),\"\")","v":""},{"$f":"IF(MAX('3-3 위험성평가'!$A$4:$A$423)+1>E219,VLOOKUP(E219,'3-3 위험성평가'!$A$5:$P$423,5,0),\"\")","v":""},{"$f":"IF(MAX('3-3 위험성평가'!$A$4:$A$423)+1>E219,VLOOKUP(E219,'3-3 위험성평가'!$A$5:$P$423,6,0),\"\")","v":""},{"$f":"IF(MAX('3-3 위험성평가'!$A$4:$A$423)+1>E219,VLOOKUP(E219,'3-3 위험성평가'!$A$5:$P$423,9,0),\"\")","v":""},{"$f":"IF(MAX('3-3 위험성평가'!$A$4:$A$423)+1>E219,VLOOKUP(E219,'3-3 위험성평가'!$A$5:$P$423,12,0),\"\")&IF(L219>\"\",\".\"&E219,\"\")","v":""},{"$f":"IF(MAX('3-3 위험성평가'!$A$4:$A$423)+1>E219,VLOOKUP(E219,'3-3 위험성평가'!$A$5:$P$423,13,0),\"\")","v":""},null,"하",null,null,null,null,null,null,null,"선택안함",0,{"$f":"IF(MAX('3-3 위험성평가'!$A$4:$A$423)+1>E219,VLOOKUP(E219,'3-3 위험성평가'!$A$5:$Q$423,17,0),\"\")","v":""},"선택",{"$f":"표지!$D$33","v":0},{"$f":"표지!$E$34","v":0},"선택안함",0]
["T20",2,"S40",4,212,{"$f":"IF(MAX('3-3 위험성평가'!$A$4:$A$423)+1>E220,VLOOKUP(E220,'3-3 위험성평가'!$A$5:$P$423,2,0),\"\")","v":""},{"$f":"IF(F220=\"\",\"\",VLOOKUP(VALUE(F220),'1-1 사업장 공정 정보'!$D$15:$P$41,5,0))","v":""},{"$f":"IF(MAX('3-3 위험성평가'!$A$4:$A$423)+1>E220,VLOOKUP(E220,'3-3 위험성평가'!$A$5:$P$423,3,0),\"\")","v":""},{"$f":"IF(MAX('3-3 위험성평가'!$A$4:$A$423)+1>E220,VLOOKUP(E220,'3-3 위험성평가'!$A$5:$P$423,4,0),\"\")","v":""},{"$f":"IF(MAX('3-3 위험성평가'!$A$4:$A$423)+1>E220,VLOOKUP(E220,'3-3 위험성평가'!$A$5:$P$423,5,0),\"\")","v":""},{"$f":"IF(MAX('3-3 위험성평가'!$A$4:$A$423)+1>E220,VLOOKUP(E220,'3-3 위험성평가'!$A$5:$P$423,6,0),\"\")","v":""},{"$f":"IF(MAX('3-3 위험성평가'!$A$4:$A$423)+1>E220,VLOOKUP(E220,'3-3 위험성평가'!$A$5:$P$423,9,0),\"\")","v":""},{"$f":"IF(MAX('3-3 위험성평가'!$A$4:$A$423)+1>E220,VLOOKUP(E220,'3-3 위험성평가'!$A$5:$P$423,12,0),\"\")&IF(L220>\"\",\".\"&E220,\"\")","v":""},{"$f":"IF(MAX('3-3 위험성평가'!$A$4:$A$423)+1>E220,VLOOKUP(E220,'3-3 위험성평가'!$A$5:$P$423,13,0),\"\")","v":""},null,"하",null,null,null,null,null,null,null,"선택안함",0,{"$f":"IF(MAX('3-3 위험성평가'!$A$4:$A$423)+1>E220,VLOOKUP(E220,'3-3 위험성평가'!$A$5:$Q$423,17,0),\"\")","v":""},"선택",{"$f":"표지!$D$33","v":0},{"$f":"표지!$E$34","v":0},"선택안함",0]
["T20",2,"S40",4,213,{"$f":"IF(MAX('3-3 위험성평가'!$A$4:$A$423)+1>E221,VLOOKUP(E221,'3-3 위험성평가'!$A$5:$P$423,2,0),\"\")","v":""},{"$f":"IF(F221=\"\",\"\",VLOOKUP(VALUE(F221),'1-1 사업장 공정 정보'!$D$15:$P$41,5,0))","v":""},{"$f":"IF(MAX('3-3 위험성평가'!$A$4:$A$423)+1>E221,VLOOKUP(E221,'3-3 위험성평가'!$A$5:$P$423,3,0),\"\")","v":""},{"$f":"IF(MAX('3-3 위험성평가'!$A$4:$A$423)+1>E221,VLOOKUP(E221,'3-3 위험성평가'!$A$5:$P$423,4,0),\"\")","v":""},{"$f":"IF(MAX('3-3 위험성평가'!$A$4:$A$423)+1>E221,VLOOKUP(E221,'3-3 위험성평가'!$A$5:$P$423,5,0),\"\")","v":""},{"$f":"IF(MAX('3-3 위험성평가'!$A$4:$A$423)+1>E221,VLOOKUP(E221,'3-3 위험성평가'!$A$5:$P$423,6,0),\"\")","v":""},{"$f":"IF(MAX('3-3 위험성평가'!$A$4:$A$423)+1>E221,VLOOKUP(E221,'3-3 위험성평가'!$A$5:$P$423,9,0),\"\")","v":""},{"$f":"IF(MAX('3-3 위험성평가'!$A$4:$A$423)+1>E221,VLOOKUP(E221,'3-3 위험성평가'!$A$5:$P$423,12,0),\"\")&IF(L221>\"\",\".\"&E221,\"\")","v":""},{"$f":"IF(MAX('3-3 위험성평가'!$A$4:$A$423)+1>E221,VLOOKUP(E221,'3-3 위험성평가'!$A$5:$P$423,13,0),\"\")","v":""},null,"하",null,null,null,null,null,null,null,"선택안함",0,{"$f":"IF(MAX('3-3 위험성평가'!$A$4:$A$423)+1>E221,VLOOKUP(E221,'3-3 위험성평가'!$A$5:$Q$423,17,0),\"\")","v":""},"선택",{"$f":"표지!$D$33","v":0},{"$f":"표지!$E$34","v":0},"선택안함",0]
["T20",2,"S40",4,214,{"$f":"IF(MAX('3-3 위험성평가'!$A$4:$A$423)+1>E222,VLOOKUP(E222,'3-3 위험성평가'!$A$5:$P$423,2,0),\"\")","v":""},{"$f":"IF(F222=\"\",\"\",VLOOKUP(VALUE(F222),'1-1 사업장 공정 정보'!$D$15:$P$41,5,0))","v":""},{"$f":"IF(MAX('3-3 위험성평가'!$A$4:$A$423)+1>E222,VLOOKUP(E222,'3-3 위험성평가'!$A$5:$P$423,3,0),\"\")","v":""},{"$f":"IF(MAX('3-3 위험성평가'!$A$4:$A$423)+1>E222,VLOOKUP(E222,'3-3 위험성평가'!$A$5:$P$423,4,0),\"\")","v":""},{"$f":"IF(MAX('3-3 위험성평가'!$A$4:$A$423)+1>E222,VLOOKUP(E222,'3-3 위험성평가'!$A$5:$P$423,5,0),\"\")","v":""},{"$f":"IF(MAX('3-3 위험성평가'!$A$4:$A$423)+1>E222,VLOOKUP(E222,'3-3 위험성평가'!$A$5:$P$423,6,0),\"\")","v":""},{"$f":"IF(MAX('3-3 위험성평가'!$A$4:$A$423)+1>E222,VLOOKUP(E222,'3-3 위험성평가'!$A$5:$P$423,9,0),\"\")","v":""},{"$f":"IF(MAX('3-3 위험성평가'!$A$4:$A$423)+1>E222,VLOOKUP(E222,'3-3 위험성평가'!$A$5:$P$423,12,0),\"\")&IF(L222>\"\",\".\"&E222,\"\")","v":""},{"$f":"IF(MAX('3-3 위험성평가'!$A$4:$A$423)+1>E222,VLOOKUP(E222,'3-3 위험성평가'!$A$5:$P$423,13,0),\"\")","v":""},null,"하",null,null,null,null,null,null,null,"선택안함",0,{"$f":"IF(MAX('3-3 위험성평가'!$A$4:$A$423)+1>E222,VLOOKUP(E222,'3-3 위험성평가'!$A$5:$Q$423,17,0),\"\")","v":""},"선택",{"$f":"표지!$D$33","v":0},{"$f":"표지!$E$34","v":0},"선택안함",0]
["T20",2,"S40",4,215,{"$f":"IF(MAX('3-3 위험성평가'!$A$4:$A$423)+1>E223,VLOOKUP(E223,'3-3 위험성평가'!$A$5:$P$423,2,0),\"\")","v":""},{"$f":"IF(F223=\"\",\"\",VLOOKUP(VALUE(F223),'1-1 사업장 공정 정보'!$D$15:$P$41,5,0))","v":""},{"$f":"IF(MAX('3-3 위험성평가'!$A$4:$A$423)+1>E223,VLOOKUP(E223,'3-3 위험성평가'!$A$5:$P$423,3,0),\"\")","v":""},{"$f":"IF(MAX('3-3 위험성평가'!$A$4:$A$423)+1>E223,VLOOKUP(E223,'3-3 위험성평가'!$A$5:$P$423,4,0),\"\")","v":""},{"$f":"IF(MAX('3-3 위험성평가'!$A$4:$A$423)+1>E223,VLOOKUP(E223,'3-3 위험성평가'!$A$5:$P$423,5,0),\"\")","v":""},{"$f":"IF(MAX('3-3 위험성평가'!$A$4:$A$423)+1>E223,VLOOKUP(E223,'3-3 위험성평가'!$A$5:$P$423,6,0),\"\")","v":""},{"$f":"IF(MAX('3-3 위험성평가'!$A$4:$A$423)+1>E223,VLOOKUP(E223,'3-3 위험성평가'!$A$5:$P$423,9,0),\"\")","v":""},{"$f":"IF(MAX('3-3 위험성평가'!$A$4:$A$423)+1>E223,VLOOKUP(E223,'3-3 위험성평가'!$A$5:$P$423,12,0),\"\")&IF(L223>\"\",\".\"&E223,\"\")","v":""},{"$f":"IF(MAX('3-3 위험성평가'!$A$4:$A$423)+1>E223,VLOOKUP(E223,'3-3 위험성평가'!$A$5:$P$423,13,0),\"\")","v":""},null,"하",null,null,null,null,null,null,null,"선택안함",0,{"$f":"IF(MAX('3-3 위험성평가'!$A$4:$A$423)+1>E223,VLOOKUP(E223,'3-3 위험성평가'!$A$5:$Q$423,17,0),\"\")","v":""},"선택",{"$f":"표지!$D$33","v":0},{"$f":"표지!$E$34","v":0},"선택안함",0]
["T20",2,"S40",4,216,{"$f":"IF(MAX('3-3 위험성평가'!$A$4:$A$423)+1>E224,VLOOKUP(E224,'3-3 위험성평가'!$A$5:$P$423,2,0),\"\")","v":""},{"$f":"IF(F224=\"\",\"\",VLOOKUP(VALUE(F224),'1-1 사업장 공정 정보'!$D$15:$P$41,5,0))","v":""},{"$f":"IF(MAX('3-3 위험성평가'!$A$4:$A$423)+1>E224,VLOOKUP(E224,'3-3 위험성평가'!$A$5:$P$423,3,0),\"\")","v":""},{"$f":"IF(MAX('3-3 위험성평가'!$A$4:$A$423)+1>E224,VLOOKUP(E224,'3-3 위험성평가'!$A$5:$P$423,4,0),\"\")","v":""},{"$f":"IF(MAX('3-3 위험성평가'!$A$4:$A$423)+1>E224,VLOOKUP(E224,'3-3 위험성평가'!$A$5:$P$423,5,0),\"\")","v":""},{"$f":"IF(MAX('3-3 위험성평가'!$A$4:$A$423)+1>E224,VLOOKUP(E224,'3-3 위험성평가'!$A$5:$P$423,6,0),\"\")","v":""},{"$f":"IF(MAX('3-3 위험성평가'!$A$4:$A$423)+1>E224,VLOOKUP(E224,'3-3 위험성평가'!$A$5:$P$423,9,0),\"\")","v":""},{"$f":"IF(MAX('3-3 위험성평가'!$A$4:$A$423)+1>E224,VLOOKUP(E224,'3-3 위험성평가'!$A$5:$P$423,12,0),\"\")&IF(L224>\"\",\".\"&E224,\"\")","v":""},{"$f":"IF(MAX('3-3 위험성평가'!$A$4:$A$423)+1>E224,VLOOKUP(E224,'3-3 위험성평가'!$A$5:$P$423,13,0),\"\")","v":""},null,"하",null,null,null,null,null,null,null,"선택안함",0,{"$f":"IF(MAX('3-3 위험성평가'!$A$4:$A$423)+1>E224,VLOOKUP(E224,'3-3 위험성평가'!$A$5:$Q$423,17,0),\"\")","v":""},"선택",{"$f":"표지!$D$33","v":0},{"$f":"표지!$E$34","v":0},"선택안함",0]
["T20",2,"S40",4,217,{"$f":"IF(MAX('3-3 위험성평가'!$A$4:$A$423)+1>E225,VLOOKUP(E225,'3-3 위험성평가'!$A$5:$P$423,2,0),\"\")","v":""},{"$f":"IF(F225=\"\",\"\",VLOOKUP(VALUE(F225),'1-1 사업장 공정 정보'!$D$15:$P$41,5,0))","v":""},{"$f":"IF(MAX('3-3 위험성평가'!$A$4:$A$423)+1>E225,VLOOKUP(E225,'3-3 위험성평가'!$A$5:$P$423,3,0),\"\")","v":""},{"$f":"IF(MAX('3-3 위험성평가'!$A$4:$A$423)+1>E225,VLOOKUP(E225,'3-3 위험성평가'!$A$5:$P$423,4,0),\"\")","v":""},{"$f":"IF(MAX('3-3 위험성평가'!$A$4:$A$423)+1>E225,VLOOKUP(E225,'3-3 위험성평가'!$A$5:$P$423,5,0),\"\")","v":""},{"$f":"IF(MAX('3-3 위험성평가'!$A$4:$A$423)+1>E225,VLOOKUP(E225,'3-3 위험성평가'!$A$5:$P$423,6,0),\"\")","v":""},{"$f":"IF(MAX('3-3 위험성평가'!$A$4:$A$423)+1>E225,VLOOKUP(E225,'3-3 위험성평가'!$A$5:$P$423,9,0),\"\")","v":""},{"$f":"IF(MAX('3-3 위험성평가'!$A$4:$A$423)+1>E225,VLOOKUP(E225,'3-3 위험성평가'!$A$5:$P$423,12,0),\"\")&IF(L225>\"\",\".\"&E225,\"\")","v":""},{"$f":"IF(MAX('3-3 위험성평가'!$A$4:$A$423)+1>E225,VLOOKUP(E225,'3-3 위험성평가'!$A$5:$P$423,13,0),\"\")","v":""},null,"하",null,null,null,null,null,null,null,"선택안함",0,{"$f":"IF(MAX('3-3 위험성평가'!$A$4:$A$423)+1>E225,VLOOKUP(E225,'3-3 위험성평가'!$A$5:$Q$423,17,0),\"\")","v":""},"선택",{"$f":"표지!$D$33","v":0},{"$f":"표지!$E$34","v":0},"선택안함",0]
["T20",2,"S40",4,218,{"$f":"IF(MAX('3-3 위험성평가'!$A$4:$A$423)+1>E226,VLOOKUP(E226,'3-3 위험성평가'!$A$5:$P$423,2,0),\"\")","v":""},{"$f":"IF(F226=\"\",\"\",VLOOKUP(VALUE(F226),'1-1 사업장 공정 정보'!$D$15:$P$41,5,0))","v":""},{"$f":"IF(MAX('3-3 위험성평가'!$A$4:$A$423)+1>E226,VLOOKUP(E226,'3-3 위험성평가'!$A$5:$P$423,3,0),\"\")","v":""},{"$f":"IF(MAX('3-3 위험성평가'!$A$4:$A$423)+1>E226,VLOOKUP(E226,'3-3 위험성평가'!$A$5:$P$423,4,0),\"\")","v":""},{"$f":"IF(MAX('3-3 위험성평가'!$A$4:$A$423)+1>E226,VLOOKUP(E226,'3-3 위험성평가'!$A$5:$P$423,5,0),\"\")","v":""},{"$f":"IF(MAX('3-3 위험성평가'!$A$4:$A$423)+1>E226,VLOOKUP(E226,'3-3 위험성평가'!$A$5:$P$423,6,0),\"\")","v":""},{"$f":"IF(MAX('3-3 위험성평가'!$A$4:$A$423)+1>E226,VLOOKUP(E226,'3-3 위험성평가'!$A$5:$P$423,9,0),\"\")","v":""},{"$f":"IF(MAX('3-3 위험성평가'!$A$4:$A$423)+1>E226,VLOOKUP(E226,'3-3 위험성평가'!$A$5:$P$423,12,0),\"\")&IF(L226>\"\",\".\"&E226,\"\")","v":""},{"$f":"IF(MAX('3-3 위험성평가'!$A$4:$A$423)+1>E226,VLOOKUP(E226,'3-3 위험성평가'!$A$5:$P$423,13,0),\"\")","v":""},null,"하",null,null,null,null,null,null,null,"선택안함",0,{"$f":"IF(MAX('3-3 위험성평가'!$A$4:$A$423)+1>E226,VLOOKUP(E226,'3-3 위험성평가'!$A$5:$Q$423,17,0),\"\")","v":""},"선택",{"$f":"표지!$D$33","v":0},{"$f":"표지!$E$34","v":0},"선택안함",0]
["T20",2,"S40",4,219,{"$f":"IF(MAX('3-3 위험성평가'!$A$4:$A$423)+1>E227,VLOOKUP(E227,'3-3 위험성평가'!$A$5:$P$423,2,0),\"\")","v":""},{"$f":"IF(F227=\"\",\"\",VLOOKUP(VALUE(F227),'1-1 사업장 공정 정보'!$D$15:$P$41,5,0))","v":""},{"$f":"IF(MAX('3-3 위험성평가'!$A$4:$A$423)+1>E227,VLOOKUP(E227,'3-3 위험성평가'!$A$5:$P$423,3,0),\"\")","v":""},{"$f":"IF(MAX('3-3 위험성평가'!$A$4:$A$423)+1>E227,VLOOKUP(E227,'3-3 위험성평가'!$A$5:$P$423,4,0),\"\")","v":""},{"$f":"IF(MAX('3-3 위험성평가'!$A$4:$A$423)+1>E227,VLOOKUP(E227,'3-3 위험성평가'!$A$5:$P$423,5,0),\"\")","v":""},{"$f":"IF(MAX('3-3 위험성평가'!$A$4:$A$423)+1>E227,VLOOKUP(E227,'3-3 위험성평가'!$A$5:$P$423,6,0),\"\")","v":""},{"$f":"IF(MAX('3-3 위험성평가'!$A$4:$A$423)+1>E227,VLOOKUP(E227,'3-3 위험성평가'!$A$5:$P$423,9,0),\"\")","v":""},{"$f":"IF(MAX('3-3 위험성평가'!$A$4:$A$423)+1>E227,VLOOKUP(E227,'3-3 위험성평가'!$A$5:$P$423,12,0),\"\")&IF(L227>\"\",\".\"&E227,\"\")","v":""},{"$f":"IF(MAX('3-3 위험성평가'!$A$4:$A$423)+1>E227,VLOOKUP(E227,'3-3 위험성평가'!$A$5:$P$423,13,0),\"\")","v":""},null,"하",null,null,null,null,null,null,null,"선택안함",0,{"$f":"IF(MAX('3-3 위험성평가'!$A$4:$A$423)+1>E227,VLOOKUP(E227,'3-3 위험성평가'!$A$5:$Q$423,17,0),\"\")","v":""},"선택",{"$f":"표지!$D$33","v":0},{"$f":"표지!$E$34","v":0},"선택안함",0]
["T20",2,"S40",4,220,{"$f":"IF(MAX('3-3 위험성평가'!$A$4:$A$423)+1>E228,VLOOKUP(E228,'3-3 위험성평가'!$A$5:$P$423,2,0),\"\")","v":""},{"$f":"IF(F228=\"\",\"\",VLOOKUP(VALUE(F228),'1-1 사업장 공정 정보'!$D$15:$P$41,5,0))","v":""},{"$f":"IF(MAX('3-3 위험성평가'!$A$4:$A$423)+1>E228,VLOOKUP(E228,'3-3 위험성평가'!$A$5:$P$423,3,0),\"\")","v":""},{"$f":"IF(MAX('3-3 위험성평가'!$A$4:$A$423)+1>E228,VLOOKUP(E228,'3-3 위험성평가'!$A$5:$P$423,4,0),\"\")","v":""},{"$f":"IF(MAX('3-3 위험성평가'!$A$4:$A$423)+1>E228,VLOOKUP(E228,'3-3 위험성평가'!$A$5:$P$423,5,0),\"\")","v":""},{"$f":"IF(MAX('3-3 위험성평가'!$A$4:$A$423)+1>E228,VLOOKUP(E228,'3-3 위험성평가'!$A$5:$P$423,6,0),\"\")","v":""},{"$f":"IF(MAX('3-3 위험성평가'!$A$4:$A$423)+1>E228,VLOOKUP(E228,'3-3 위험성평가'!$A$5:$P$423,9,0),\"\")","v":""},{"$f":"IF(MAX('3-3 위험성평가'!$A$4:$A$423)+1>E228,VLOOKUP(E228,'3-3 위험성평가'!$A$5:$P$423,12,0),\"\")&IF(L228>\"\",\".\"&E228,\"\")","v":""},{"$f":"IF(MAX('3-3 위험성평가'!$A$4:$A$423)+1>E228,VLOOKUP(E228,'3-3 위험성평가'!$A$5:$P$423,13,0),\"\")","v":""},null,"하",null,null,null,null,null,null,null,"선택안함",0,{"$f":"IF(MAX('3-3 위험성평가'!$A$4:$A$423)+1>E228,VLOOKUP(E228,'3-3 위험성평가'!$A$5:$Q$423,17,0),\"\")","v":""},"선택",{"$f":"표지!$D$33","v":0},{"$f":"표지!$E$34","v":0},"선택안함",0]
["T20",2,"S40",4,221,{"$f":"IF(MAX('3-3 위험성평가'!$A$4:$A$423)+1>E229,VLOOKUP(E229,'3-3 위험성평가'!$A$5:$P$423,2,0),\"\")","v":""},{"$f":"IF(F229=\"\",\"\",VLOOKUP(VALUE(F229),'1-1 사업장 공정 정보'!$D$15:$P$41,5,0))","v":""},{"$f":"IF(MAX('3-3 위험성평가'!$A$4:$A$423)+1>E229,VLOOKUP(E229,'3-3 위험성평가'!$A$5:$P$423,3,0),\"\")","v":""},{"$f":"IF(MAX('3-3 위험성평가'!$A$4:$A$423)+1>E229,VLOOKUP(E229,'3-3 위험성평가'!$A$5:$P$423,4,0),\"\")","v":""},{"$f":"IF(MAX('3-3 위험성평가'!$A$4:$A$423)+1>E229,VLOOKUP(E229,'3-3 위험성평가'!$A$5:$P$423,5,0),\"\")","v":""},{"$f":"IF(MAX('3-3 위험성평가'!$A$4:$A$423)+1>E229,VLOOKUP(E229,'3-3 위험성평가'!$A$5:$P$423,6,0),\"\")","v":""},{"$f":"IF(MAX('3-3 위험성평가'!$A$4:$A$423)+1>E229,VLOOKUP(E229,'3-3 위험성평가'!$A$5:$P$423,9,0),\"\")","v":""},{"$f":"IF(MAX('3-3 위험성평가'!$A$4:$A$423)+1>E229,VLOOKUP(E229,'3-3 위험성평가'!$A$5:$P$423,12,0),\"\")&IF(L229>\"\",\".\"&E229,\"\")","v":""},{"$f":"IF(MAX('3-3 위험성평가'!$A$4:$A$423)+1>E229,VLOOKUP(E229,'3-3 위험성평가'!$A$5:$P$423,13,0),\"\")","v":""},null,"하",null,null,null,null,null,null,null,"선택안함",0,{"$f":"IF(MAX('3-3 위험성평가'!$A$4:$A$423)+1>E229,VLOOKUP(E229,'3-3 위험성평가'!$A$5:$Q$423,17,0),\"\")","v":""},"선택",{"$f":"표지!$D$33","v":0},{"$f":"표지!$E$34","v":0},"선택안함",0]
["T20",2,"S40",4,222,{"$f":"IF(MAX('3-3 위험성평가'!$A$4:$A$423)+1>E230,VLOOKUP(E230,'3-3 위험성평가'!$A$5:$P$423,2,0),\"\")","v":""},{"$f":"IF(F230=\"\",\"\",VLOOKUP(VALUE(F230),'1-1 사업장 공정 정보'!$D$15:$P$41,5,0))","v":""},{"$f":"IF(MAX('3-3 위험성평가'!$A$4:$A$423)+1>E230,VLOOKUP(E230,'3-3 위험성평가'!$A$5:$P$423,3,0),\"\")","v":""},{"$f":"IF(MAX('3-3 위험성평가'!$A$4:$A$423)+1>E230,VLOOKUP(E230,'3-3 위험성평가'!$A$5:$P$423,4,0),\"\")","v":""},{"$f":"IF(MAX('3-3 위험성평가'!$A$4:$A$423)+1>E230,VLOOKUP(E230,'3-3 위험성평가'!$A$5:$P$423,5,0),\"\")","v":""},{"$f":"IF(MAX('3-3 위험성평가'!$A$4:$A$423)+1>E230,VLOOKUP(E230,'3-3 위험성평가'!$A$5:$P$423,6,0),\"\")","v":""},{"$f":"IF(MAX('3-3 위험성평가'!$A$4:$A$423)+1>E230,VLOOKUP(E230,'3-3 위험성평가'!$A$5:$P$423,9,0),\"\")","v":""},{"$f":"IF(MAX('3-3 위험성평가'!$A$4:$A$423)+1>E230,VLOOKUP(E230,'3-3 위험성평가'!$A$5:$P$423,12,0),\"\")&IF(L230>\"\",\".\"&E230,\"\")","v":""},{"$f":"IF(MAX('3-3 위험성평가'!$A$4:$A$423)+1>E230,VLOOKUP(E230,'3-3 위험성평가'!$A$5:$P$423,13,0),\"\")","v":""},null,"하",null,null,null,null,null,null,null,"선택안함",0,{"$f":"IF(MAX('3-3 위험성평가'!$A$4:$A$423)+1>E230,VLOOKUP(E230,'3-3 위험성평가'!$A$5:$Q$423,17,0),\"\")","v":""},"선택",{"$f":"표지!$D$33","v":0},{"$f":"표지!$E$34","v":0},"선택안함",0]
["T20",2,"S40",4,223,{"$f":"IF(MAX('3-3 위험성평가'!$A$4:$A$423)+1>E231,VLOOKUP(E231,'3-3 위험성평가'!$A$5:$P$423,2,0),\"\")","v":""},{"$f":"IF(F231=\"\",\"\",VLOOKUP(VALUE(F231),'1-1 사업장 공정 정보'!$D$15:$P$41,5,0))","v":""},{"$f":"IF(MAX('3-3 위험성평가'!$A$4:$A$423)+1>E231,VLOOKUP(E231,'3-3 위험성평가'!$A$5:$P$423,3,0),\"\")","v":""},{"$f":"IF(MAX('3-3 위험성평가'!$A$4:$A$423)+1>E231,VLOOKUP(E231,'3-3 위험성평가'!$A$5:$P$423,4,0),\"\")","v":""},{"$f":"IF(MAX('3-3 위험성평가'!$A$4:$A$423)+1>E231,VLOOKUP(E231,'3-3 위험성평가'!$A$5:$P$423,5,0),\"\")","v":""},{"$f":"IF(MAX('3-3 위험성평가'!$A$4:$A$423)+1>E231,VLOOKUP(E231,'3-3 위험성평가'!$A$5:$P$423,6,0),\"\")","v":""},{"$f":"IF(MAX('3-3 위험성평가'!$A$4:$A$423)+1>E231,VLOOKUP(E231,'3-3 위험성평가'!$A$5:$P$423,9,0),\"\")","v":""},{"$f":"IF(MAX('3-3 위험성평가'!$A$4:$A$423)+1>E231,VLOOKUP(E231,'3-3 위험성평가'!$A$5:$P$423,12,0),\"\")&IF(L231>\"\",\".\"&E231,\"\")","v":""},{"$f":"IF(MAX('3-3 위험성평가'!$A$4:$A$423)+1>E231,VLOOKUP(E231,'3-3 위험성평가'!$A$5:$P$423,13,0),\"\")","v":""},null,"하",null,null,null,null,null,null,null,"선택안함",0,{"$f":"IF(MAX('3-3 위험성평가'!$A$4:$A$423)+1>E231,VLOOKUP(E231,'3-3 위험성평가'!$A$5:$Q$423,17,0),\"\")","v":""},"선택",{"$f":"표지!$D$33","v":0},{"$f":"표지!$E$34","v":0},"선택안함",0]
["T20",2,"S40",4,224,{"$f":"IF(MAX('3-3 위험성평가'!$A$4:$A$423)+1>E232,VLOOKUP(E232,'3-3 위험성평가'!$A$5:$P$423,2,0),\"\")","v":""},{"$f":"IF(F232=\"\",\"\",VLOOKUP(VALUE(F232),'1-1 사업장 공정 정보'!$D$15:$P$41,5,0))","v":""},{"$f":"IF(MAX('3-3 위험성평가'!$A$4:$A$423)+1>E232,VLOOKUP(E232,'3-3 위험성평가'!$A$5:$P$423,3,0),\"\")","v":""},{"$f":"IF(MAX('3-3 위험성평가'!$A$4:$A$423)+1>E232,VLOOKUP(E232,'3-3 위험성평가'!$A$5:$P$423,4,0),\"\")","v":""},{"$f":"IF(MAX('3-3 위험성평가'!$A$4:$A$423)+1>E232,VLOOKUP(E232,'3-3 위험성평가'!$A$5:$P$423,5,0),\"\")","v":""},{"$f":"IF(MAX('3-3 위험성평가'!$A$4:$A$423)+1>E232,VLOOKUP(E232,'3-3 위험성평가'!$A$5:$P$423,6,0),\"\")","v":""},{"$f":"IF(MAX('3-3 위험성평가'!$A$4:$A$423)+1>E232,VLOOKUP(E232,'3-3 위험성평가'!$A$5:$P$423,9,0),\"\")","v":""},{"$f":"IF(MAX('3-3 위험성평가'!$A$4:$A$423)+1>E232,VLOOKUP(E232,'3-3 위험성평가'!$A$5:$P$423,12,0),\"\")&IF(L232>\"\",\".\"&E232,\"\")","v":""},{"$f":"IF(MAX('3-3 위험성평가'!$A$4:$A$423)+1>E232,VLOOKUP(E232,'3-3 위험성평가'!$A$5:$P$423,13,0),\"\")","v":""},null,"하",null,null,null,null,null,null,null,"선택안함",0,{"$f":"IF(MAX('3-3 위험성평가'!$A$4:$A$423)+1>E232,VLOOKUP(E232,'3-3 위험성평가'!$A$5:$Q$423,17,0),\"\")","v":""},"선택",{"$f":"표지!$D$33","v":0},{"$f":"표지!$E$34","v":0},"선택안함",0]
["T20",2,"S40",4,225,{"$f":"IF(MAX('3-3 위험성평가'!$A$4:$A$423)+1>E233,VLOOKUP(E233,'3-3 위험성평가'!$A$5:$P$423,2,0),\"\")","v":""},{"$f":"IF(F233=\"\",\"\",VLOOKUP(VALUE(F233),'1-1 사업장 공정 정보'!$D$15:$P$41,5,0))","v":""},{"$f":"IF(MAX('3-3 위험성평가'!$A$4:$A$423)+1>E233,VLOOKUP(E233,'3-3 위험성평가'!$A$5:$P$423,3,0),\"\")","v":""},{"$f":"IF(MAX('3-3 위험성평가'!$A$4:$A$423)+1>E233,VLOOKUP(E233,'3-3 위험성평가'!$A$5:$P$423,4,0),\"\")","v":""},{"$f":"IF(MAX('3-3 위험성평가'!$A$4:$A$423)+1>E233,VLOOKUP(E233,'3-3 위험성평가'!$A$5:$P$423,5,0),\"\")","v":""},{"$f":"IF(MAX('3-3 위험성평가'!$A$4:$A$423)+1>E233,VLOOKUP(E233,'3-3 위험성평가'!$A$5:$P$423,6,0),\"\")","v":""},{"$f":"IF(MAX('3-3 위험성평가'!$A$4:$A$423)+1>E233,VLOOKUP(E233,'3-3 위험성평가'!$A$5:$P$423,9,0),\"\")","v":""},{"$f":"IF(MAX('3-3 위험성평가'!$A$4:$A$423)+1>E233,VLOOKUP(E233,'3-3 위험성평가'!$A$5:$P$423,12,0),\"\")&IF(L233>\"\",\".\"&E233,\"\")","v":""},{"$f":"IF(MAX('3-3 위험성평가'!$A$4:$A$423)+1>E233,VLOOKUP(E233,'3-3 위험성평가'!$A$5:$P$423,13,0),\"\")","v":""},null,"하",null,null,null,null,null,null,null,"선택안함",0,{"$f":"IF(MAX('3-3 위험성평가'!$A$4:$A$423)+1>E233,VLOOKUP(E233,'3-3 위험성평가'!$A$5:$Q$423,17,0),\"\")","v":""},"선택",{"$f":"표지!$D$33","v":0},{"$f":"표지!$E$34","v":0},"선택안함",0]
["T20",2,"S40",4,226,{"$f":"IF(MAX('3-3 위험성평가'!$A$4:$A$423)+1>E234,VLOOKUP(E234,'3-3 위험성평가'!$A$5:$P$423,2,0),\"\")","v":""},{"$f":"IF(F234=\"\",\"\",VLOOKUP(VALUE(F234),'1-1 사업장 공정 정보'!$D$15:$P$41,5,0))","v":""},{"$f":"IF(MAX('3-3 위험성평가'!$A$4:$A$423)+1>E234,VLOOKUP(E234,'3-3 위험성평가'!$A$5:$P$423,3,0),\"\")","v":""},{"$f":"IF(MAX('3-3 위험성평가'!$A$4:$A$423)+1>E234,VLOOKUP(E234,'3-3 위험성평가'!$A$5:$P$423,4,0),\"\")","v":""},{"$f":"IF(MAX('3-3 위험성평가'!$A$4:$A$423)+1>E234,VLOOKUP(E234,'3-3 위험성평가'!$A$5:$P$423,5,0),\"\")","v":""},{"$f":"IF(MAX('3-3 위험성평가'!$A$4:$A$423)+1>E234,VLOOKUP(E234,'3-3 위험성평가'!$A$5:$P$423,6,0),\"\")","v":""},{"$f":"IF(MAX('3-3 위험성평가'!$A$4:$A$423)+1>E234,VLOOKUP(E234,'3-3 위험성평가'!$A$5:$P$423,9,0),\"\")","v":""},{"$f":"IF(MAX('3-3 위험성평가'!$A$4:$A$423)+1>E234,VLOOKUP(E234,'3-3 위험성평가'!$A$5:$P$423,12,0),\"\")&IF(L234>\"\",\".\"&E234,\"\")","v":""},{"$f":"IF(MAX('3-3 위험성평가'!$A$4:$A$423)+1>E234,VLOOKUP(E234,'3-3 위험성평가'!$A$5:$P$423,13,0),\"\")","v":""},null,"하",null,null,null,null,null,null,null,"선택안함",0,{"$f":"IF(MAX('3-3 위험성평가'!$A$4:$A$423)+1>E234,VLOOKUP(E234,'3-3 위험성평가'!$A$5:$Q$423,17,0),\"\")","v":""},"선택",{"$f":"표지!$D$33","v":0},{"$f":"표지!$E$34","v":0},"선택안함",0]
["T20",2,"S40",4,227,{"$f":"IF(MAX('3-3 위험성평가'!$A$4:$A$423)+1>E235,VLOOKUP(E235,'3-3 위험성평가'!$A$5:$P$423,2,0),\"\")","v":""},{"$f":"IF(F235=\"\",\"\",VLOOKUP(VALUE(F235),'1-1 사업장 공정 정보'!$D$15:$P$41,5,0))","v":""},{"$f":"IF(MAX('3-3 위험성평가'!$A$4:$A$423)+1>E235,VLOOKUP(E235,'3-3 위험성평가'!$A$5:$P$423,3,0),\"\")","v":""},{"$f":"IF(MAX('3-3 위험성평가'!$A$4:$A$423)+1>E235,VLOOKUP(E235,'3-3 위험성평가'!$A$5:$P$423,4,0),\"\")","v":""},{"$f":"IF(MAX('3-3 위험성평가'!$A$4:$A$423)+1>E235,VLOOKUP(E235,'3-3 위험성평가'!$A$5:$P$423,5,0),\"\")","v":""},{"$f":"IF(MAX('3-3 위험성평가'!$A$4:$A$423)+1>E235,VLOOKUP(E235,'3-3 위험성평가'!$A$5:$P$423,6,0),\"\")","v":""},{"$f":"IF(MAX('3-3 위험성평가'!$A$4:$A$423)+1>E235,VLOOKUP(E235,'3-3 위험성평가'!$A$5:$P$423,9,0),\"\")","v":""},{"$f":"IF(MAX('3-3 위험성평가'!$A$4:$A$423)+1>E235,VLOOKUP(E235,'3-3 위험성평가'!$A$5:$P$423,12,0),\"\")&IF(L235>\"\",\".\"&E235,\"\")","v":""},{"$f":"IF(MAX('3-3 위험성평가'!$A$4:$A$423)+1>E235,VLOOKUP(E235,'3-3 위험성평가'!$A$5:$P$423,13,0),\"\")","v":""},null,"하",null,null,null,null,null,null,null,"선택안함",0,{"$f":"IF(MAX('3-3 위험성평가'!$A$4:$A$423)+1>E235,VLOOKUP(E235,'3-3 위험성평가'!$A$5:$Q$423,17,0),\"\")","v":""},"선택",{"$f":"표지!$D$33","v":0},{"$f":"표지!$E$34","v":0},"선택안함",0]
["T20",2,"S40",4,228,{"$f":"IF(MAX('3-3 위험성평가'!$A$4:$A$423)+1>E236,VLOOKUP(E236,'3-3 위험성평가'!$A$5:$P$423,2,0),\"\")","v":""},{"$f":"IF(F236=\"\",\"\",VLOOKUP(VALUE(F236),'1-1 사업장 공정 정보'!$D$15:$P$41,5,0))","v":""},{"$f":"IF(MAX('3-3 위험성평가'!$A$4:$A$423)+1>E236,VLOOKUP(E236,'3-3 위험성평가'!$A$5:$P$423,3,0),\"\")","v":""},{"$f":"IF(MAX('3-3 위험성평가'!$A$4:$A$423)+1>E236,VLOOKUP(E236,'3-3 위험성평가'!$A$5:$P$423,4,0),\"\")","v":""},{"$f":"IF(MAX('3-3 위험성평가'!$A$4:$A$423)+1>E236,VLOOKUP(E236,'3-3 위험성평가'!$A$5:$P$423,5,0),\"\")","v":""},{"$f":"IF(MAX('3-3 위험성평가'!$A$4:$A$423)+1>E236,VLOOKUP(E236,'3-3 위험성평가'!$A$5:$P$423,6,0),\"\")","v":""},{"$f":"IF(MAX('3-3 위험성평가'!$A$4:$A$423)+1>E236,VLOOKUP(E236,'3-3 위험성평가'!$A$5:$P$423,9,0),\"\")","v":""},{"$f":"IF(MAX('3-3 위험성평가'!$A$4:$A$423)+1>E236,VLOOKUP(E236,'3-3 위험성평가'!$A$5:$P$423,12,0),\"\")&IF(L236>\"\",\".\"&E236,\"\")","v":""},{"$f":"IF(MAX('3-3 위험성평가'!$A$4:$A$423)+1>E236,VLOOKUP(E236,'3-3 위험성평가'!$A$5:$P$423,13,0),\"\")","v":""},null,"하",null,null,null,null,null,null,null,"선택안함",0,{"$f":"IF(MAX('3-3 위험성평가'!$A$4:$A$423)+1>E236,VLOOKUP(E236,'3-3 위험성평가'!$A$5:$Q$423,17,0),\"\")","v":""},"선택",{"$f":"표지!$D$33","v":0},{"$f":"표지!$E$34","v":0},"선택안함",0]
["T20",2,"S40",4,229,{"$f":"IF(MAX('3-3 위험성평가'!$A$4:$A$423)+1>E237,VLOOKUP(E237,'3-3 위험성평가'!$A$5:$P$423,2,0),\"\")","v":""},{"$f":"IF(F237=\"\",\"\",VLOOKUP(VALUE(F237),'1-1 사업장 공정 정보'!$D$15:$P$41,5,0))","v":""},{"$f":"IF(MAX('3-3 위험성평가'!$A$4:$A$423)+1>E237,VLOOKUP(E237,'3-3 위험성평가'!$A$5:$P$423,3,0),\"\")","v":""},{"$f":"IF(MAX('3-3 위험성평가'!$A$4:$A$423)+1>E237,VLOOKUP(E237,'3-3 위험성평가'!$A$5:$P$423,4,0),\"\")","v":""},{"$f":"IF(MAX('3-3 위험성평가'!$A$4:$A$423)+1>E237,VLOOKUP(E237,'3-3 위험성평가'!$A$5:$P$423,5,0),\"\")","v":""},{"$f":"IF(MAX('3-3 위험성평가'!$A$4:$A$423)+1>E237,VLOOKUP(E237,'3-3 위험성평가'!$A$5:$P$423,6,0),\"\")","v":""},{"$f":"IF(MAX('3-3 위험성평가'!$A$4:$A$423)+1>E237,VLOOKUP(E237,'3-3 위험성평가'!$A$5:$P$423,9,0),\"\")","v":""},{"$f":"IF(MAX('3-3 위험성평가'!$A$4:$A$423)+1>E237,VLOOKUP(E237,'3-3 위험성평가'!$A$5:$P$423,12,0),\"\")&IF(L237>\"\",\".\"&E237,\"\")","v":""},{"$f":"IF(MAX('3-3 위험성평가'!$A$4:$A$423)+1>E237,VLOOKUP(E237,'3-3 위험성평가'!$A$5:$P$423,13,0),\"\")","v":""},null,"하",null,null,null,null,null,null,null,"선택안함",0,{"$f":"IF(MAX('3-3 위험성평가'!$A$4:$A$423)+1>E237,VLOOKUP(E237,'3-3 위험성평가'!$A$5:$Q$423,17,0),\"\")","v":""},"선택",{"$f":"표지!$D$33","v":0},{"$f":"표지!$E$34","v":0},"선택안함",0]
["T20",2,"S40",4,230,{"$f":"IF(MAX('3-3 위험성평가'!$A$4:$A$423)+1>E238,VLOOKUP(E238,'3-3 위험성평가'!$A$5:$P$423,2,0),\"\")","v":""},{"$f":"IF(F238=\"\",\"\",VLOOKUP(VALUE(F238),'1-1 사업장 공정 정보'!$D$15:$P$41,5,0))","v":""},{"$f":"IF(MAX('3-3 위험성평가'!$A$4:$A$423)+1>E238,VLOOKUP(E238,'3-3 위험성평가'!$A$5:$P$423,3,0),\"\")","v":""},{"$f":"IF(MAX('3-3 위험성평가'!$A$4:$A$423)+1>E238,VLOOKUP(E238,'3-3 위험성평가'!$A$5:$P$423,4,0),\"\")","v":""},{"$f":"IF(MAX('3-3 위험성평가'!$A$4:$A$423)+1>E238,VLOOKUP(E238,'3-3 위험성평가'!$A$5:$P$423,5,0),\"\")","v":""},{"$f":"IF(MAX('3-3 위험성평가'!$A$4:$A$423)+1>E238,VLOOKUP(E238,'3-3 위험성평가'!$A$5:$P$423,6,0),\"\")","v":""},{"$f":"IF(MAX('3-3 위험성평가'!$A$4:$A$423)+1>E238,VLOOKUP(E238,'3-3 위험성평가'!$A$5:$P$423,9,0),\"\")","v":""},{"$f":"IF(MAX('3-3 위험성평가'!$A$4:$A$423)+1>E238,VLOOKUP(E238,'3-3 위험성평가'!$A$5:$P$423,12,0),\"\")&IF(L238>\"\",\".\"&E238,\"\")","v":""},{"$f":"IF(MAX('3-3 위험성평가'!$A$4:$A$423)+1>E238,VLOOKUP(E238,'3-3 위험성평가'!$A$5:$P$423,13,0),\"\")","v":""},null,"하",null,null,null,null,null,null,null,"선택안함",0,{"$f":"IF(MAX('3-3 위험성평가'!$A$4:$A$423)+1>E238,VLOOKUP(E238,'3-3 위험성평가'!$A$5:$Q$423,17,0),\"\")","v":""},"선택",{"$f":"표지!$D$33","v":0},{"$f":"표지!$E$34","v":0},"선택안함",0]
["T20",2,"S40",4,231,{"$f":"IF(MAX('3-3 위험성평가'!$A$4:$A$423)+1>E239,VLOOKUP(E239,'3-3 위험성평가'!$A$5:$P$423,2,0),\"\")","v":""},{"$f":"IF(F239=\"\",\"\",VLOOKUP(VALUE(F239),'1-1 사업장 공정 정보'!$D$15:$P$41,5,0))","v":""},{"$f":"IF(MAX('3-3 위험성평가'!$A$4:$A$423)+1>E239,VLOOKUP(E239,'3-3 위험성평가'!$A$5:$P$423,3,0),\"\")","v":""},{"$f":"IF(MAX('3-3 위험성평가'!$A$4:$A$423)+1>E239,VLOOKUP(E239,'3-3 위험성평가'!$A$5:$P$423,4,0),\"\")","v":""},{"$f":"IF(MAX('3-3 위험성평가'!$A$4:$A$423)+1>E239,VLOOKUP(E239,'3-3 위험성평가'!$A$5:$P$423,5,0),\"\")","v":""},{"$f":"IF(MAX('3-3 위험성평가'!$A$4:$A$423)+1>E239,VLOOKUP(E239,'3-3 위험성평가'!$A$5:$P$423,6,0),\"\")","v":""},{"$f":"IF(MAX('3-3 위험성평가'!$A$4:$A$423)+1>E239,VLOOKUP(E239,'3-3 위험성평가'!$A$5:$P$423,9,0),\"\")","v":""},{"$f":"IF(MAX('3-3 위험성평가'!$A$4:$A$423)+1>E239,VLOOKUP(E239,'3-3 위험성평가'!$A$5:$P$423,12,0),\"\")&IF(L239>\"\",\".\"&E239,\"\")","v":""},{"$f":"IF(MAX('3-3 위험성평가'!$A$4:$A$423)+1>E239,VLOOKUP(E239,'3-3 위험성평가'!$A$5:$P$423,13,0),\"\")","v":""},null,"하",null,null,null,null,null,null,null,"선택안함",0,{"$f":"IF(MAX('3-3 위험성평가'!$A$4:$A$423)+1>E239,VLOOKUP(E239,'3-3 위험성평가'!$A$5:$Q$423,17,0),\"\")","v":""},"선택",{"$f":"표지!$D$33","v":0},{"$f":"표지!$E$34","v":0},"선택안함",0]
["T20",2,"S40",4,232,{"$f":"IF(MAX('3-3 위험성평가'!$A$4:$A$423)+1>E240,VLOOKUP(E240,'3-3 위험성평가'!$A$5:$P$423,2,0),\"\")","v":""},{"$f":"IF(F240=\"\",\"\",VLOOKUP(VALUE(F240),'1-1 사업장 공정 정보'!$D$15:$P$41,5,0))","v":""},{"$f":"IF(MAX('3-3 위험성평가'!$A$4:$A$423)+1>E240,VLOOKUP(E240,'3-3 위험성평가'!$A$5:$P$423,3,0),\"\")","v":""},{"$f":"IF(MAX('3-3 위험성평가'!$A$4:$A$423)+1>E240,VLOOKUP(E240,'3-3 위험성평가'!$A$5:$P$423,4,0),\"\")","v":""},{"$f":"IF(MAX('3-3 위험성평가'!$A$4:$A$423)+1>E240,VLOOKUP(E240,'3-3 위험성평가'!$A$5:$P$423,5,0),\"\")","v":""},{"$f":"IF(MAX('3-3 위험성평가'!$A$4:$A$423)+1>E240,VLOOKUP(E240,'3-3 위험성평가'!$A$5:$P$423,6,0),\"\")","v":""},{"$f":"IF(MAX('3-3 위험성평가'!$A$4:$A$423)+1>E240,VLOOKUP(E240,'3-3 위험성평가'!$A$5:$P$423,9,0),\"\")","v":""},{"$f":"IF(MAX('3-3 위험성평가'!$A$4:$A$423)+1>E240,VLOOKUP(E240,'3-3 위험성평가'!$A$5:$P$423,12,0),\"\")&IF(L240>\"\",\".\"&E240,\"\")","v":""},{"$f":"IF(MAX('3-3 위험성평가'!$A$4:$A$423)+1>E240,VLOOKUP(E240,'3-3 위험성평가'!$A$5:$P$423,13,0),\"\")","v":""},null,"하",null,null,null,null,null,null,null,"선택안함",0,{"$f":"IF(MAX('3-3 위험성평가'!$A$4:$A$423)+1>E240,VLOOKUP(E240,'3-3 위험성평가'!$A$5:$Q$423,17,0),\"\")","v":""},"선택",{"$f":"표지!$D$33","v":0},{"$f":"표지!$E$34","v":0},"선택안함",0]
["T20",2,"S40",4,233,{"$f":"IF(MAX('3-3 위험성평가'!$A$4:$A$423)+1>E241,VLOOKUP(E241,'3-3 위험성평가'!$A$5:$P$423,2,0),\"\")","v":""},{"$f":"IF(F241=\"\",\"\",VLOOKUP(VALUE(F241),'1-1 사업장 공정 정보'!$D$15:$P$41,5,0))","v":""},{"$f":"IF(MAX('3-3 위험성평가'!$A$4:$A$423)+1>E241,VLOOKUP(E241,'3-3 위험성평가'!$A$5:$P$423,3,0),\"\")","v":""},{"$f":"IF(MAX('3-3 위험성평가'!$A$4:$A$423)+1>E241,VLOOKUP(E241,'3-3 위험성평가'!$A$5:$P$423,4,0),\"\")","v":""},{"$f":"IF(MAX('3-3 위험성평가'!$A$4:$A$423)+1>E241,VLOOKUP(E241,'3-3 위험성평가'!$A$5:$P$423,5,0),\"\")","v":""},{"$f":"IF(MAX('3-3 위험성평가'!$A$4:$A$423)+1>E241,VLOOKUP(E241,'3-3 위험성평가'!$A$5:$P$423,6,0),\"\")","v":""},{"$f":"IF(MAX('3-3 위험성평가'!$A$4:$A$423)+1>E241,VLOOKUP(E241,'3-3 위험성평가'!$A$5:$P$423,9,0),\"\")","v":""},{"$f":"IF(MAX('3-3 위험성평가'!$A$4:$A$423)+1>E241,VLOOKUP(E241,'3-3 위험성평가'!$A$5:$P$423,12,0),\"\")&IF(L241>\"\",\".\"&E241,\"\")","v":""},{"$f":"IF(MAX('3-3 위험성평가'!$A$4:$A$423)+1>E241,VLOOKUP(E241,'3-3 위험성평가'!$A$5:$P$423,13,0),\"\")","v":""},null,"하",null,null,null,null,null,null,null,"선택안함",0,{"$f":"IF(MAX('3-3 위험성평가'!$A$4:$A$423)+1>E241,VLOOKUP(E241,'3-3 위험성평가'!$A$5:$Q$423,17,0),\"\")","v":""},"선택",{"$f":"표지!$D$33","v":0},{"$f":"표지!$E$34","v":0},"선택안함",0]
["T20",2,"S40",4,234,{"$f":"IF(MAX('3-3 위험성평가'!$A$4:$A$423)+1>E242,VLOOKUP(E242,'3-3 위험성평가'!$A$5:$P$423,2,0),\"\")","v":""},{"$f":"IF(F242=\"\",\"\",VLOOKUP(VALUE(F242),'1-1 사업장 공정 정보'!$D$15:$P$41,5,0))","v":""},{"$f":"IF(MAX('3-3 위험성평가'!$A$4:$A$423)+1>E242,VLOOKUP(E242,'3-3 위험성평가'!$A$5:$P$423,3,0),\"\")","v":""},{"$f":"IF(MAX('3-3 위험성평가'!$A$4:$A$423)+1>E242,VLOOKUP(E242,'3-3 위험성평가'!$A$5:$P$423,4,0),\"\")","v":""},{"$f":"IF(MAX('3-3 위험성평가'!$A$4:$A$423)+1>E242,VLOOKUP(E242,'3-3 위험성평가'!$A$5:$P$423,5,0),\"\")","v":""},{"$f":"IF(MAX('3-3 위험성평가'!$A$4:$A$423)+1>E242,VLOOKUP(E242,'3-3 위험성평가'!$A$5:$P$423,6,0),\"\")","v":""},{"$f":"IF(MAX('3-3 위험성평가'!$A$4:$A$423)+1>E242,VLOOKUP(E242,'3-3 위험성평가'!$A$5:$P$423,9,0),\"\")","v":""},{"$f":"IF(MAX('3-3 위험성평가'!$A$4:$A$423)+1>E242,VLOOKUP(E242,'3-3 위험성평가'!$A$5:$P$423,12,0),\"\")&IF(L242>\"\",\".\"&E242,\"\")","v":""},{"$f":"IF(MAX('3-3 위험성평가'!$A$4:$A$423)+1>E242,VLOOKUP(E242,'3-3 위험성평가'!$A$5:$P$423,13,0),\"\")","v":""},null,"하",null,null,null,null,null,null,null,"선택안함",0,{"$f":"IF(MAX('3-3 위험성평가'!$A$4:$A$423)+1>E242,VLOOKUP(E242,'3-3 위험성평가'!$A$5:$Q$423,17,0),\"\")","v":""},"선택",{"$f":"표지!$D$33","v":0},{"$f":"표지!$E$34","v":0},"선택안함",0]
["T20",2,"S40",4,235,{"$f":"IF(MAX('3-3 위험성평가'!$A$4:$A$423)+1>E243,VLOOKUP(E243,'3-3 위험성평가'!$A$5:$P$423,2,0),\"\")","v":""},{"$f":"IF(F243=\"\",\"\",VLOOKUP(VALUE(F243),'1-1 사업장 공정 정보'!$D$15:$P$41,5,0))","v":""},{"$f":"IF(MAX('3-3 위험성평가'!$A$4:$A$423)+1>E243,VLOOKUP(E243,'3-3 위험성평가'!$A$5:$P$423,3,0),\"\")","v":""},{"$f":"IF(MAX('3-3 위험성평가'!$A$4:$A$423)+1>E243,VLOOKUP(E243,'3-3 위험성평가'!$A$5:$P$423,4,0),\"\")","v":""},{"$f":"IF(MAX('3-3 위험성평가'!$A$4:$A$423)+1>E243,VLOOKUP(E243,'3-3 위험성평가'!$A$5:$P$423,5,0),\"\")","v":""},{"$f":"IF(MAX('3-3 위험성평가'!$A$4:$A$423)+1>E243,VLOOKUP(E243,'3-3 위험성평가'!$A$5:$P$423,6,0),\"\")","v":""},{"$f":"IF(MAX('3-3 위험성평가'!$A$4:$A$423)+1>E243,VLOOKUP(E243,'3-3 위험성평가'!$A$5:$P$423,9,0),\"\")","v":""},{"$f":"IF(MAX('3-3 위험성평가'!$A$4:$A$423)+1>E243,VLOOKUP(E243,'3-3 위험성평가'!$A$5:$P$423,12,0),\"\")&IF(L243>\"\",\".\"&E243,\"\")","v":""},{"$f":"IF(MAX('3-3 위험성평가'!$A$4:$A$423)+1>E243,VLOOKUP(E243,'3-3 위험성평가'!$A$5:$P$423,13,0),\"\")","v":""},null,"하",null,null,null,null,null,null,null,"선택안함",0,{"$f":"IF(MAX('3-3 위험성평가'!$A$4:$A$423)+1>E243,VLOOKUP(E243,'3-3 위험성평가'!$A$5:$Q$423,17,0),\"\")","v":""},"선택",{"$f":"표지!$D$33","v":0},{"$f":"표지!$E$34","v":0},"선택안함",0]
["T20",2,"S40",4,236,{"$f":"IF(MAX('3-3 위험성평가'!$A$4:$A$423)+1>E244,VLOOKUP(E244,'3-3 위험성평가'!$A$5:$P$423,2,0),\"\")","v":""},{"$f":"IF(F244=\"\",\"\",VLOOKUP(VALUE(F244),'1-1 사업장 공정 정보'!$D$15:$P$41,5,0))","v":""},{"$f":"IF(MAX('3-3 위험성평가'!$A$4:$A$423)+1>E244,VLOOKUP(E244,'3-3 위험성평가'!$A$5:$P$423,3,0),\"\")","v":""},{"$f":"IF(MAX('3-3 위험성평가'!$A$4:$A$423)+1>E244,VLOOKUP(E244,'3-3 위험성평가'!$A$5:$P$423,4,0),\"\")","v":""},{"$f":"IF(MAX('3-3 위험성평가'!$A$4:$A$423)+1>E244,VLOOKUP(E244,'3-3 위험성평가'!$A$5:$P$423,5,0),\"\")","v":""},{"$f":"IF(MAX('3-3 위험성평가'!$A$4:$A$423)+1>E244,VLOOKUP(E244,'3-3 위험성평가'!$A$5:$P$423,6,0),\"\")","v":""},{"$f":"IF(MAX('3-3 위험성평가'!$A$4:$A$423)+1>E244,VLOOKUP(E244,'3-3 위험성평가'!$A$5:$P$423,9,0),\"\")","v":""},{"$f":"IF(MAX('3-3 위험성평가'!$A$4:$A$423)+1>E244,VLOOKUP(E244,'3-3 위험성평가'!$A$5:$P$423,12,0),\"\")&IF(L244>\"\",\".\"&E244,\"\")","v":""},{"$f":"IF(MAX('3-3 위험성평가'!$A$4:$A$423)+1>E244,VLOOKUP(E244,'3-3 위험성평가'!$A$5:$P$423,13,0),\"\")","v":""},null,"하",null,null,null,null,null,null,null,"선택안함",0,{"$f":"IF(MAX('3-3 위험성평가'!$A$4:$A$423)+1>E244,VLOOKUP(E244,'3-3 위험성평가'!$A$5:$Q$423,17,0),\"\")","v":""},"선택",{"$f":"표지!$D$33","v":0},{"$f":"표지!$E$34","v":0},"선택안함",0]
["T20",2,"S40",4,237,{"$f":"IF(MAX('3-3 위험성평가'!$A$4:$A$423)+1>E245,VLOOKUP(E245,'3-3 위험성평가'!$A$5:$P$423,2,0),\"\")","v":""},{"$f":"IF(F245=\"\",\"\",VLOOKUP(VALUE(F245),'1-1 사업장 공정 정보'!$D$15:$P$41,5,0))","v":""},{"$f":"IF(MAX('3-3 위험성평가'!$A$4:$A$423)+1>E245,VLOOKUP(E245,'3-3 위험성평가'!$A$5:$P$423,3,0),\"\")","v":""},{"$f":"IF(MAX('3-3 위험성평가'!$A$4:$A$423)+1>E245,VLOOKUP(E245,'3-3 위험성평가'!$A$5:$P$423,4,0),\"\")","v":""},{"$f":"IF(MAX('3-3 위험성평가'!$A$4:$A$423)+1>E245,VLOOKUP(E245,'3-3 위험성평가'!$A$5:$P$423,5,0),\"\")","v":""},{"$f":"IF(MAX('3-3 위험성평가'!$A$4:$A$423)+1>E245,VLOOKUP(E245,'3-3 위험성평가'!$A$5:$P$423,6,0),\"\")","v":""},{"$f":"IF(MAX('3-3 위험성평가'!$A$4:$A$423)+1>E245,VLOOKUP(E245,'3-3 위험성평가'!$A$5:$P$423,9,0),\"\")","v":""},{"$f":"IF(MAX('3-3 위험성평가'!$A$4:$A$423)+1>E245,VLOOKUP(E245,'3-3 위험성평가'!$A$5:$P$423,12,0),\"\")&IF(L245>\"\",\".\"&E245,\"\")","v":""},{"$f":"IF(MAX('3-3 위험성평가'!$A$4:$A$423)+1>E245,VLOOKUP(E245,'3-3 위험성평가'!$A$5:$P$423,13,0),\"\")","v":""},null,"하",null,null,null,null,null,null,null,"선택안함",0,{"$f":"IF(MAX('3-3 위험성평가'!$A$4:$A$423)+1>E245,VLOOKUP(E245,'3-3 위험성평가'!$A$5:$Q$423,17,0),\"\")","v":""},"선택",{"$f":"표지!$D$33","v":0},{"$f":"표지!$E$34","v":0},"선택안함",0]
["T20",2,"S40",4,238,{"$f":"IF(MAX('3-3 위험성평가'!$A$4:$A$423)+1>E246,VLOOKUP(E246,'3-3 위험성평가'!$A$5:$P$423,2,0),\"\")","v":""},{"$f":"IF(F246=\"\",\"\",VLOOKUP(VALUE(F246),'1-1 사업장 공정 정보'!$D$15:$P$41,5,0))","v":""},{"$f":"IF(MAX('3-3 위험성평가'!$A$4:$A$423)+1>E246,VLOOKUP(E246,'3-3 위험성평가'!$A$5:$P$423,3,0),\"\")","v":""},{"$f":"IF(MAX('3-3 위험성평가'!$A$4:$A$423)+1>E246,VLOOKUP(E246,'3-3 위험성평가'!$A$5:$P$423,4,0),\"\")","v":""},{"$f":"IF(MAX('3-3 위험성평가'!$A$4:$A$423)+1>E246,VLOOKUP(E246,'3-3 위험성평가'!$A$5:$P$423,5,0),\"\")","v":""},{"$f":"IF(MAX('3-3 위험성평가'!$A$4:$A$423)+1>E246,VLOOKUP(E246,'3-3 위험성평가'!$A$5:$P$423,6,0),\"\")","v":""},{"$f":"IF(MAX('3-3 위험성평가'!$A$4:$A$423)+1>E246,VLOOKUP(E246,'3-3 위험성평가'!$A$5:$P$423,9,0),\"\")","v":""},{"$f":"IF(MAX('3-3 위험성평가'!$A$4:$A$423)+1>E246,VLOOKUP(E246,'3-3 위험성평가'!$A$5:$P$423,12,0),\"\")&IF(L246>\"\",\".\"&E246,\"\")","v":""},{"$f":"IF(MAX('3-3 위험성평가'!$A$4:$A$423)+1>E246,VLOOKUP(E246,'3-3 위험성평가'!$A$5:$P$423,13,0),\"\")","v":""},null,"하",null,null,null,null,null,null,null,"선택안함",0,{"$f":"IF(MAX('3-3 위험성평가'!$A$4:$A$423)+1>E246,VLOOKUP(E246,'3-3 위험성평가'!$A$5:$Q$423,17,0),\"\")","v":""},"선택",{"$f":"표지!$D$33","v":0},{"$f":"표지!$E$34","v":0},"선택안함",0]
["T20",2,"S40",4,239,{"$f":"IF(MAX('3-3 위험성평가'!$A$4:$A$423)+1>E247,VLOOKUP(E247,'3-3 위험성평가'!$A$5:$P$423,2,0),\"\")","v":""},{"$f":"IF(F247=\"\",\"\",VLOOKUP(VALUE(F247),'1-1 사업장 공정 정보'!$D$15:$P$41,5,0))","v":""},{"$f":"IF(MAX('3-3 위험성평가'!$A$4:$A$423)+1>E247,VLOOKUP(E247,'3-3 위험성평가'!$A$5:$P$423,3,0),\"\")","v":""},{"$f":"IF(MAX('3-3 위험성평가'!$A$4:$A$423)+1>E247,VLOOKUP(E247,'3-3 위험성평가'!$A$5:$P$423,4,0),\"\")","v":""},{"$f":"IF(MAX('3-3 위험성평가'!$A$4:$A$423)+1>E247,VLOOKUP(E247,'3-3 위험성평가'!$A$5:$P$423,5,0),\"\")","v":""},{"$f":"IF(MAX('3-3 위험성평가'!$A$4:$A$423)+1>E247,VLOOKUP(E247,'3-3 위험성평가'!$A$5:$P$423,6,0),\"\")","v":""},{"$f":"IF(MAX('3-3 위험성평가'!$A$4:$A$423)+1>E247,VLOOKUP(E247,'3-3 위험성평가'!$A$5:$P$423,9,0),\"\")","v":""},{"$f":"IF(MAX('3-3 위험성평가'!$A$4:$A$423)+1>E247,VLOOKUP(E247,'3-3 위험성평가'!$A$5:$P$423,12,0),\"\")&IF(L247>\"\",\".\"&E247,\"\")","v":""},{"$f":"IF(MAX('3-3 위험성평가'!$A$4:$A$423)+1>E247,VLOOKUP(E247,'3-3 위험성평가'!$A$5:$P$423,13,0),\"\")","v":""},null,"하",null,null,null,null,null,null,null,"선택안함",0,{"$f":"IF(MAX('3-3 위험성평가'!$A$4:$A$423)+1>E247,VLOOKUP(E247,'3-3 위험성평가'!$A$5:$Q$423,17,0),\"\")","v":""},"선택",{"$f":"표지!$D$33","v":0},{"$f":"표지!$E$34","v":0},"선택안함",0]
["T20",2,"S40",4,240,{"$f":"IF(MAX('3-3 위험성평가'!$A$4:$A$423)+1>E248,VLOOKUP(E248,'3-3 위험성평가'!$A$5:$P$423,2,0),\"\")","v":""},{"$f":"IF(F248=\"\",\"\",VLOOKUP(VALUE(F248),'1-1 사업장 공정 정보'!$D$15:$P$41,5,0))","v":""},{"$f":"IF(MAX('3-3 위험성평가'!$A$4:$A$423)+1>E248,VLOOKUP(E248,'3-3 위험성평가'!$A$5:$P$423,3,0),\"\")","v":""},{"$f":"IF(MAX('3-3 위험성평가'!$A$4:$A$423)+1>E248,VLOOKUP(E248,'3-3 위험성평가'!$A$5:$P$423,4,0),\"\")","v":""},{"$f":"IF(MAX('3-3 위험성평가'!$A$4:$A$423)+1>E248,VLOOKUP(E248,'3-3 위험성평가'!$A$5:$P$423,5,0),\"\")","v":""},{"$f":"IF(MAX('3-3 위험성평가'!$A$4:$A$423)+1>E248,VLOOKUP(E248,'3-3 위험성평가'!$A$5:$P$423,6,0),\"\")","v":""},{"$f":"IF(MAX('3-3 위험성평가'!$A$4:$A$423)+1>E248,VLOOKUP(E248,'3-3 위험성평가'!$A$5:$P$423,9,0),\"\")","v":""},{"$f":"IF(MAX('3-3 위험성평가'!$A$4:$A$423)+1>E248,VLOOKUP(E248,'3-3 위험성평가'!$A$5:$P$423,12,0),\"\")&IF(L248>\"\",\".\"&E248,\"\")","v":""},{"$f":"IF(MAX('3-3 위험성평가'!$A$4:$A$423)+1>E248,VLOOKUP(E248,'3-3 위험성평가'!$A$5:$P$423,13,0),\"\")","v":""},null,"하",null,null,null,null,null,null,null,"선택안함",0,{"$f":"IF(MAX('3-3 위험성평가'!$A$4:$A$423)+1>E248,VLOOKUP(E248,'3-3 위험성평가'!$A$5:$Q$423,17,0),\"\")","v":""},"선택",{"$f":"표지!$D$33","v":0},{"$f":"표지!$E$34","v":0},"선택안함",0]
["T20",2,"S40",4,241,{"$f":"IF(MAX('3-3 위험성평가'!$A$4:$A$423)+1>E249,VLOOKUP(E249,'3-3 위험성평가'!$A$5:$P$423,2,0),\"\")","v":""},{"$f":"IF(F249=\"\",\"\",VLOOKUP(VALUE(F249),'1-1 사업장 공정 정보'!$D$15:$P$41,5,0))","v":""},{"$f":"IF(MAX('3-3 위험성평가'!$A$4:$A$423)+1>E249,VLOOKUP(E249,'3-3 위험성평가'!$A$5:$P$423,3,0),\"\")","v":""},{"$f":"IF(MAX('3-3 위험성평가'!$A$4:$A$423)+1>E249,VLOOKUP(E249,'3-3 위험성평가'!$A$5:$P$423,4,0),\"\")","v":""},{"$f":"IF(MAX('3-3 위험성평가'!$A$4:$A$423)+1>E249,VLOOKUP(E249,'3-3 위험성평가'!$A$5:$P$423,5,0),\"\")","v":""},{"$f":"IF(MAX('3-3 위험성평가'!$A$4:$A$423)+1>E249,VLOOKUP(E249,'3-3 위험성평가'!$A$5:$P$423,6,0),\"\")","v":""},{"$f":"IF(MAX('3-3 위험성평가'!$A$4:$A$423)+1>E249,VLOOKUP(E249,'3-3 위험성평가'!$A$5:$P$423,9,0),\"\")","v":""},{"$f":"IF(MAX('3-3 위험성평가'!$A$4:$A$423)+1>E249,VLOOKUP(E249,'3-3 위험성평가'!$A$5:$P$423,12,0),\"\")&IF(L249>\"\",\".\"&E249,\"\")","v":""},{"$f":"IF(MAX('3-3 위험성평가'!$A$4:$A$423)+1>E249,VLOOKUP(E249,'3-3 위험성평가'!$A$5:$P$423,13,0),\"\")","v":""},null,"하",null,null,null,null,null,null,null,"선택안함",0,{"$f":"IF(MAX('3-3 위험성평가'!$A$4:$A$423)+1>E249,VLOOKUP(E249,'3-3 위험성평가'!$A$5:$Q$423,17,0),\"\")","v":""},"선택",{"$f":"표지!$D$33","v":0},{"$f":"표지!$E$34","v":0},"선택안함",0]
["T20",2,"S40",4,242,{"$f":"IF(MAX('3-3 위험성평가'!$A$4:$A$423)+1>E250,VLOOKUP(E250,'3-3 위험성평가'!$A$5:$P$423,2,0),\"\")","v":""},{"$f":"IF(F250=\"\",\"\",VLOOKUP(VALUE(F250),'1-1 사업장 공정 정보'!$D$15:$P$41,5,0))","v":""},{"$f":"IF(MAX('3-3 위험성평가'!$A$4:$A$423)+1>E250,VLOOKUP(E250,'3-3 위험성평가'!$A$5:$P$423,3,0),\"\")","v":""},{"$f":"IF(MAX('3-3 위험성평가'!$A$4:$A$423)+1>E250,VLOOKUP(E250,'3-3 위험성평가'!$A$5:$P$423,4,0),\"\")","v":""},{"$f":"IF(MAX('3-3 위험성평가'!$A$4:$A$423)+1>E250,VLOOKUP(E250,'3-3 위험성평가'!$A$5:$P$423,5,0),\"\")","v":""},{"$f":"IF(MAX('3-3 위험성평가'!$A$4:$A$423)+1>E250,VLOOKUP(E250,'3-3 위험성평가'!$A$5:$P$423,6,0),\"\")","v":""},{"$f":"IF(MAX('3-3 위험성평가'!$A$4:$A$423)+1>E250,VLOOKUP(E250,'3-3 위험성평가'!$A$5:$P$423,9,0),\"\")","v":""},{"$f":"IF(MAX('3-3 위험성평가'!$A$4:$A$423)+1>E250,VLOOKUP(E250,'3-3 위험성평가'!$A$5:$P$423,12,0),\"\")&IF(L250>\"\",\".\"&E250,\"\")","v":""},{"$f":"IF(MAX('3-3 위험성평가'!$A$4:$A$423)+1>E250,VLOOKUP(E250,'3-3 위험성평가'!$A$5:$P$423,13,0),\"\")","v":""},null,"하",null,null,null,null,null,null,null,"선택안함",0,{"$f":"IF(MAX('3-3 위험성평가'!$A$4:$A$423)+1>E250,VLOOKUP(E250,'3-3 위험성평가'!$A$5:$Q$423,17,0),\"\")","v":""},"선택",{"$f":"표지!$D$33","v":0},{"$f":"표지!$E$34","v":0},"선택안함",0]
["T20",2,"S40",4,243,{"$f":"IF(MAX('3-3 위험성평가'!$A$4:$A$423)+1>E251,VLOOKUP(E251,'3-3 위험성평가'!$A$5:$P$423,2,0),\"\")","v":""},{"$f":"IF(F251=\"\",\"\",VLOOKUP(VALUE(F251),'1-1 사업장 공정 정보'!$D$15:$P$41,5,0))","v":""},{"$f":"IF(MAX('3-3 위험성평가'!$A$4:$A$423)+1>E251,VLOOKUP(E251,'3-3 위험성평가'!$A$5:$P$423,3,0),\"\")","v":""},{"$f":"IF(MAX('3-3 위험성평가'!$A$4:$A$423)+1>E251,VLOOKUP(E251,'3-3 위험성평가'!$A$5:$P$423,4,0),\"\")","v":""},{"$f":"IF(MAX('3-3 위험성평가'!$A$4:$A$423)+1>E251,VLOOKUP(E251,'3-3 위험성평가'!$A$5:$P$423,5,0),\"\")","v":""},{"$f":"IF(MAX('3-3 위험성평가'!$A$4:$A$423)+1>E251,VLOOKUP(E251,'3-3 위험성평가'!$A$5:$P$423,6,0),\"\")","v":""},{"$f":"IF(MAX('3-3 위험성평가'!$A$4:$A$423)+1>E251,VLOOKUP(E251,'3-3 위험성평가'!$A$5:$P$423,9,0),\"\")","v":""},{"$f":"IF(MAX('3-3 위험성평가'!$A$4:$A$423)+1>E251,VLOOKUP(E251,'3-3 위험성평가'!$A$5:$P$423,12,0),\"\")&IF(L251>\"\",\".\"&E251,\"\")","v":""},{"$f":"IF(MAX('3-3 위험성평가'!$A$4:$A$423)+1>E251,VLOOKUP(E251,'3-3 위험성평가'!$A$5:$P$423,13,0),\"\")","v":""},null,"하",null,null,null,null,null,null,null,"선택안함",0,{"$f":"IF(MAX('3-3 위험성평가'!$A$4:$A$423)+1>E251,VLOOKUP(E251,'3-3 위험성평가'!$A$5:$Q$423,17,0),\"\")","v":""},"선택",{"$f":"표지!$D$33","v":0},{"$f":"표지!$E$34","v":0},"선택안함",0]
["T20",2,"S40",4,244,{"$f":"IF(MAX('3-3 위험성평가'!$A$4:$A$423)+1>E252,VLOOKUP(E252,'3-3 위험성평가'!$A$5:$P$423,2,0),\"\")","v":""},{"$f":"IF(F252=\"\",\"\",VLOOKUP(VALUE(F252),'1-1 사업장 공정 정보'!$D$15:$P$41,5,0))","v":""},{"$f":"IF(MAX('3-3 위험성평가'!$A$4:$A$423)+1>E252,VLOOKUP(E252,'3-3 위험성평가'!$A$5:$P$423,3,0),\"\")","v":""},{"$f":"IF(MAX('3-3 위험성평가'!$A$4:$A$423)+1>E252,VLOOKUP(E252,'3-3 위험성평가'!$A$5:$P$423,4,0),\"\")","v":""},{"$f":"IF(MAX('3-3 위험성평가'!$A$4:$A$423)+1>E252,VLOOKUP(E252,'3-3 위험성평가'!$A$5:$P$423,5,0),\"\")","v":""},{"$f":"IF(MAX('3-3 위험성평가'!$A$4:$A$423)+1>E252,VLOOKUP(E252,'3-3 위험성평가'!$A$5:$P$423,6,0),\"\")","v":""},{"$f":"IF(MAX('3-3 위험성평가'!$A$4:$A$423)+1>E252,VLOOKUP(E252,'3-3 위험성평가'!$A$5:$P$423,9,0),\"\")","v":""},{"$f":"IF(MAX('3-3 위험성평가'!$A$4:$A$423)+1>E252,VLOOKUP(E252,'3-3 위험성평가'!$A$5:$P$423,12,0),\"\")&IF(L252>\"\",\".\"&E252,\"\")","v":""},{"$f":"IF(MAX('3-3 위험성평가'!$A$4:$A$423)+1>E252,VLOOKUP(E252,'3-3 위험성평가'!$A$5:$P$423,13,0),\"\")","v":""},null,"하",null,null,null,null,null,null,null,"선택안함",0,{"$f":"IF(MAX('3-3 위험성평가'!$A$4:$A$423)+1>E252,VLOOKUP(E252,'3-3 위험성평가'!$A$5:$Q$423,17,0),\"\")","v":""},"선택",{"$f":"표지!$D$33","v":0},{"$f":"표지!$E$34","v":0},"선택안함",0]
["T20",2,"S40",4,245,{"$f":"IF(MAX('3-3 위험성평가'!$A$4:$A$423)+1>E253,VLOOKUP(E253,'3-3 위험성평가'!$A$5:$P$423,2,0),\"\")","v":""},{"$f":"IF(F253=\"\",\"\",VLOOKUP(VALUE(F253),'1-1 사업장 공정 정보'!$D$15:$P$41,5,0))","v":""},{"$f":"IF(MAX('3-3 위험성평가'!$A$4:$A$423)+1>E253,VLOOKUP(E253,'3-3 위험성평가'!$A$5:$P$423,3,0),\"\")","v":""},{"$f":"IF(MAX('3-3 위험성평가'!$A$4:$A$423)+1>E253,VLOOKUP(E253,'3-3 위험성평가'!$A$5:$P$423,4,0),\"\")","v":""},{"$f":"IF(MAX('3-3 위험성평가'!$A$4:$A$423)+1>E253,VLOOKUP(E253,'3-3 위험성평가'!$A$5:$P$423,5,0),\"\")","v":""},{"$f":"IF(MAX('3-3 위험성평가'!$A$4:$A$423)+1>E253,VLOOKUP(E253,'3-3 위험성평가'!$A$5:$P$423,6,0),\"\")","v":""},{"$f":"IF(MAX('3-3 위험성평가'!$A$4:$A$423)+1>E253,VLOOKUP(E253,'3-3 위험성평가'!$A$5:$P$423,9,0),\"\")","v":""},{"$f":"IF(MAX('3-3 위험성평가'!$A$4:$A$423)+1>E253,VLOOKUP(E253,'3-3 위험성평가'!$A$5:$P$423,12,0),\"\")&IF(L253>\"\",\".\"&E253,\"\")","v":""},{"$f":"IF(MAX('3-3 위험성평가'!$A$4:$A$423)+1>E253,VLOOKUP(E253,'3-3 위험성평가'!$A$5:$P$423,13,0),\"\")","v":""},null,"하",null,null,null,null,null,null,null,"선택안함",0,{"$f":"IF(MAX('3-3 위험성평가'!$A$4:$A$423)+1>E253,VLOOKUP(E253,'3-3 위험성평가'!$A$5:$Q$423,17,0),\"\")","v":""},"선택",{"$f":"표지!$D$33","v":0},{"$f":"표지!$E$34","v":0},"선택안함",0]
["T20",2,"S40",4,246,{"$f":"IF(MAX('3-3 위험성평가'!$A$4:$A$423)+1>E254,VLOOKUP(E254,'3-3 위험성평가'!$A$5:$P$423,2,0),\"\")","v":""},{"$f":"IF(F254=\"\",\"\",VLOOKUP(VALUE(F254),'1-1 사업장 공정 정보'!$D$15:$P$41,5,0))","v":""},{"$f":"IF(MAX('3-3 위험성평가'!$A$4:$A$423)+1>E254,VLOOKUP(E254,'3-3 위험성평가'!$A$5:$P$423,3,0),\"\")","v":""},{"$f":"IF(MAX('3-3 위험성평가'!$A$4:$A$423)+1>E254,VLOOKUP(E254,'3-3 위험성평가'!$A$5:$P$423,4,0),\"\")","v":""},{"$f":"IF(MAX('3-3 위험성평가'!$A$4:$A$423)+1>E254,VLOOKUP(E254,'3-3 위험성평가'!$A$5:$P$423,5,0),\"\")","v":""},{"$f":"IF(MAX('3-3 위험성평가'!$A$4:$A$423)+1>E254,VLOOKUP(E254,'3-3 위험성평가'!$A$5:$P$423,6,0),\"\")","v":""},{"$f":"IF(MAX('3-3 위험성평가'!$A$4:$A$423)+1>E254,VLOOKUP(E254,'3-3 위험성평가'!$A$5:$P$423,9,0),\"\")","v":""},{"$f":"IF(MAX('3-3 위험성평가'!$A$4:$A$423)+1>E254,VLOOKUP(E254,'3-3 위험성평가'!$A$5:$P$423,12,0),\"\")&IF(L254>\"\",\".\"&E254,\"\")","v":""},{"$f":"IF(MAX('3-3 위험성평가'!$A$4:$A$423)+1>E254,VLOOKUP(E254,'3-3 위험성평가'!$A$5:$P$423,13,0),\"\")","v":""},null,"하",null,null,null,null,null,null,null,"선택안함",0,{"$f":"IF(MAX('3-3 위험성평가'!$A$4:$A$423)+1>E254,VLOOKUP(E254,'3-3 위험성평가'!$A$5:$Q$423,17,0),\"\")","v":""},"선택",{"$f":"표지!$D$33","v":0},{"$f":"표지!$E$34","v":0},"선택안함",0]
["T20",2,"S40",4,247,{"$f":"IF(MAX('3-3 위험성평가'!$A$4:$A$423)+1>E255,VLOOKUP(E255,'3-3 위험성평가'!$A$5:$P$423,2,0),\"\")","v":""},{"$f":"IF(F255=\"\",\"\",VLOOKUP(VALUE(F255),'1-1 사업장 공정 정보'!$D$15:$P$41,5,0))","v":""},{"$f":"IF(MAX('3-3 위험성평가'!$A$4:$A$423)+1>E255,VLOOKUP(E255,'3-3 위험성평가'!$A$5:$P$423,3,0),\"\")","v":""},{"$f":"IF(MAX('3-3 위험성평가'!$A$4:$A$423)+1>E255,VLOOKUP(E255,'3-3 위험성평가'!$A$5:$P$423,4,0),\"\")","v":""},{"$f":"IF(MAX('3-3 위험성평가'!$A$4:$A$423)+1>E255,VLOOKUP(E255,'3-3 위험성평가'!$A$5:$P$423,5,0),\"\")","v":""},{"$f":"IF(MAX('3-3 위험성평가'!$A$4:$A$423)+1>E255,VLOOKUP(E255,'3-3 위험성평가'!$A$5:$P$423,6,0),\"\")","v":""},{"$f":"IF(MAX('3-3 위험성평가'!$A$4:$A$423)+1>E255,VLOOKUP(E255,'3-3 위험성평가'!$A$5:$P$423,9,0),\"\")","v":""},{"$f":"IF(MAX('3-3 위험성평가'!$A$4:$A$423)+1>E255,VLOOKUP(E255,'3-3 위험성평가'!$A$5:$P$423,12,0),\"\")&IF(L255>\"\",\".\"&E255,\"\")","v":""},{"$f":"IF(MAX('3-3 위험성평가'!$A$4:$A$423)+1>E255,VLOOKUP(E255,'3-3 위험성평가'!$A$5:$P$423,13,0),\"\")","v":""},null,"하",null,null,null,null,null,null,null,"선택안함",0,{"$f":"IF(MAX('3-3 위험성평가'!$A$4:$A$423)+1>E255,VLOOKUP(E255,'3-3 위험성평가'!$A$5:$Q$423,17,0),\"\")","v":""},"선택",{"$f":"표지!$D$33","v":0},{"$f":"표지!$E$34","v":0},"선택안함",0]
["T20",2,"S40",4,248,{"$f":"IF(MAX('3-3 위험성평가'!$A$4:$A$423)+1>E256,VLOOKUP(E256,'3-3 위험성평가'!$A$5:$P$423,2,0),\"\")","v":""},{"$f":"IF(F256=\"\",\"\",VLOOKUP(VALUE(F256),'1-1 사업장 공정 정보'!$D$15:$P$41,5,0))","v":""},{"$f":"IF(MAX('3-3 위험성평가'!$A$4:$A$423)+1>E256,VLOOKUP(E256,'3-3 위험성평가'!$A$5:$P$423,3,0),\"\")","v":""},{"$f":"IF(MAX('3-3 위험성평가'!$A$4:$A$423)+1>E256,VLOOKUP(E256,'3-3 위험성평가'!$A$5:$P$423,4,0),\"\")","v":""},{"$f":"IF(MAX('3-3 위험성평가'!$A$4:$A$423)+1>E256,VLOOKUP(E256,'3-3 위험성평가'!$A$5:$P$423,5,0),\"\")","v":""},{"$f":"IF(MAX('3-3 위험성평가'!$A$4:$A$423)+1>E256,VLOOKUP(E256,'3-3 위험성평가'!$A$5:$P$423,6,0),\"\")","v":""},{"$f":"IF(MAX('3-3 위험성평가'!$A$4:$A$423)+1>E256,VLOOKUP(E256,'3-3 위험성평가'!$A$5:$P$423,9,0),\"\")","v":""},{"$f":"IF(MAX('3-3 위험성평가'!$A$4:$A$423)+1>E256,VLOOKUP(E256,'3-3 위험성평가'!$A$5:$P$423,12,0),\"\")&IF(L256>\"\",\".\"&E256,\"\")","v":""},{"$f":"IF(MAX('3-3 위험성평가'!$A$4:$A$423)+1>E256,VLOOKUP(E256,'3-3 위험성평가'!$A$5:$P$423,13,0),\"\")","v":""},null,"하",null,null,null,null,null,null,null,"선택안함",0,{"$f":"IF(MAX('3-3 위험성평가'!$A$4:$A$423)+1>E256,VLOOKUP(E256,'3-3 위험성평가'!$A$5:$Q$423,17,0),\"\")","v":""},"선택",{"$f":"표지!$D$33","v":0},{"$f":"표지!$E$34","v":0},"선택안함",0]
["T20",2,"S40",4,249,{"$f":"IF(MAX('3-3 위험성평가'!$A$4:$A$423)+1>E257,VLOOKUP(E257,'3-3 위험성평가'!$A$5:$P$423,2,0),\"\")","v":""},{"$f":"IF(F257=\"\",\"\",VLOOKUP(VALUE(F257),'1-1 사업장 공정 정보'!$D$15:$P$41,5,0))","v":""},{"$f":"IF(MAX('3-3 위험성평가'!$A$4:$A$423)+1>E257,VLOOKUP(E257,'3-3 위험성평가'!$A$5:$P$423,3,0),\"\")","v":""},{"$f":"IF(MAX('3-3 위험성평가'!$A$4:$A$423)+1>E257,VLOOKUP(E257,'3-3 위험성평가'!$A$5:$P$423,4,0),\"\")","v":""},{"$f":"IF(MAX('3-3 위험성평가'!$A$4:$A$423)+1>E257,VLOOKUP(E257,'3-3 위험성평가'!$A$5:$P$423,5,0),\"\")","v":""},{"$f":"IF(MAX('3-3 위험성평가'!$A$4:$A$423)+1>E257,VLOOKUP(E257,'3-3 위험성평가'!$A$5:$P$423,6,0),\"\")","v":""},{"$f":"IF(MAX('3-3 위험성평가'!$A$4:$A$423)+1>E257,VLOOKUP(E257,'3-3 위험성평가'!$A$5:$P$423,9,0),\"\")","v":""},{"$f":"IF(MAX('3-3 위험성평가'!$A$4:$A$423)+1>E257,VLOOKUP(E257,'3-3 위험성평가'!$A$5:$P$423,12,0),\"\")&IF(L257>\"\",\".\"&E257,\"\")","v":""},{"$f":"IF(MAX('3-3 위험성평가'!$A$4:$A$423)+1>E257,VLOOKUP(E257,'3-3 위험성평가'!$A$5:$P$423,13,0),\"\")","v":""},null,"하",null,null,null,null,null,null,null,"선택안함",0,{"$f":"IF(MAX('3-3 위험성평가'!$A$4:$A$423)+1>E257,VLOOKUP(E257,'3-3 위험성평가'!$A$5:$Q$423,17,0),\"\")","v":""},"선택",{"$f":"표지!$D$33","v":0},{"$f":"표지!$E$34","v":0},"선택안함",0]
["T20",2,"S40",4,250,{"$f":"IF(MAX('3-3 위험성평가'!$A$4:$A$423)+1>E258,VLOOKUP(E258,'3-3 위험성평가'!$A$5:$P$423,2,0),\"\")","v":""},{"$f":"IF(F258=\"\",\"\",VLOOKUP(VALUE(F258),'1-1 사업장 공정 정보'!$D$15:$P$41,5,0))","v":""},{"$f":"IF(MAX('3-3 위험성평가'!$A$4:$A$423)+1>E258,VLOOKUP(E258,'3-3 위험성평가'!$A$5:$P$423,3,0),\"\")","v":""},{"$f":"IF(MAX('3-3 위험성평가'!$A$4:$A$423)+1>E258,VLOOKUP(E258,'3-3 위험성평가'!$A$5:$P$423,4,0),\"\")","v":""},{"$f":"IF(MAX('3-3 위험성평가'!$A$4:$A$423)+1>E258,VLOOKUP(E258,'3-3 위험성평가'!$A$5:$P$423,5,0),\"\")","v":""},{"$f":"IF(MAX('3-3 위험성평가'!$A$4:$A$423)+1>E258,VLOOKUP(E258,'3-3 위험성평가'!$A$5:$P$423,6,0),\"\")","v":""},{"$f":"IF(MAX('3-3 위험성평가'!$A$4:$A$423)+1>E258,VLOOKUP(E258,'3-3 위험성평가'!$A$5:$P$423,9,0),\"\")","v":""},{"$f":"IF(MAX('3-3 위험성평가'!$A$4:$A$423)+1>E258,VLOOKUP(E258,'3-3 위험성평가'!$A$5:$P$423,12,0),\"\")&IF(L258>\"\",\".\"&E258,\"\")","v":""},{"$f":"IF(MAX('3-3 위험성평가'!$A$4:$A$423)+1>E258,VLOOKUP(E258,'3-3 위험성평가'!$A$5:$P$423,13,0),\"\")","v":""},null,"하",null,null,null,null,null,null,null,"선택안함",0,{"$f":"IF(MAX('3-3 위험성평가'!$A$4:$A$423)+1>E258,VLOOKUP(E258,'3-3 위험성평가'!$A$5:$Q$423,17,0),\"\")","v":""},"선택",{"$f":"표지!$D$33","v":0},{"$f":"표지!$E$34","v":0},"선택안함",0]
["T20",2,"S40",4,251,{"$f":"IF(MAX('3-3 위험성평가'!$A$4:$A$423)+1>E259,VLOOKUP(E259,'3-3 위험성평가'!$A$5:$P$423,2,0),\"\")","v":""},{"$f":"IF(F259=\"\",\"\",VLOOKUP(VALUE(F259),'1-1 사업장 공정 정보'!$D$15:$P$41,5,0))","v":""},{"$f":"IF(MAX('3-3 위험성평가'!$A$4:$A$423)+1>E259,VLOOKUP(E259,'3-3 위험성평가'!$A$5:$P$423,3,0),\"\")","v":""},{"$f":"IF(MAX('3-3 위험성평가'!$A$4:$A$423)+1>E259,VLOOKUP(E259,'3-3 위험성평가'!$A$5:$P$423,4,0),\"\")","v":""},{"$f":"IF(MAX('3-3 위험성평가'!$A$4:$A$423)+1>E259,VLOOKUP(E259,'3-3 위험성평가'!$A$5:$P$423,5,0),\"\")","v":""},{"$f":"IF(MAX('3-3 위험성평가'!$A$4:$A$423)+1>E259,VLOOKUP(E259,'3-3 위험성평가'!$A$5:$P$423,6,0),\"\")","v":""},{"$f":"IF(MAX('3-3 위험성평가'!$A$4:$A$423)+1>E259,VLOOKUP(E259,'3-3 위험성평가'!$A$5:$P$423,9,0),\"\")","v":""},{"$f":"IF(MAX('3-3 위험성평가'!$A$4:$A$423)+1>E259,VLOOKUP(E259,'3-3 위험성평가'!$A$5:$P$423,12,0),\"\")&IF(L259>\"\",\".\"&E259,\"\")","v":""},{"$f":"IF(MAX('3-3 위험성평가'!$A$4:$A$423)+1>E259,VLOOKUP(E259,'3-3 위험성평가'!$A$5:$P$423,13,0),\"\")","v":""},null,"하",null,null,null,null,null,null,null,"선택안함",0,{"$f":"IF(MAX('3-3 위험성평가'!$A$4:$A$423)+1>E259,VLOOKUP(E259,'3-3 위험성평가'!$A$5:$Q$423,17,0),\"\")","v":""},"선택",{"$f":"표지!$D$33","v":0},{"$f":"표지!$E$34","v":0},"선택안함",0]
["T20",2,"S40",4,252,{"$f":"IF(MAX('3-3 위험성평가'!$A$4:$A$423)+1>E260,VLOOKUP(E260,'3-3 위험성평가'!$A$5:$P$423,2,0),\"\")","v":""},{"$f":"IF(F260=\"\",\"\",VLOOKUP(VALUE(F260),'1-1 사업장 공정 정보'!$D$15:$P$41,5,0))","v":""},{"$f":"IF(MAX('3-3 위험성평가'!$A$4:$A$423)+1>E260,VLOOKUP(E260,'3-3 위험성평가'!$A$5:$P$423,3,0),\"\")","v":""},{"$f":"IF(MAX('3-3 위험성평가'!$A$4:$A$423)+1>E260,VLOOKUP(E260,'3-3 위험성평가'!$A$5:$P$423,4,0),\"\")","v":""},{"$f":"IF(MAX('3-3 위험성평가'!$A$4:$A$423)+1>E260,VLOOKUP(E260,'3-3 위험성평가'!$A$5:$P$423,5,0),\"\")","v":""},{"$f":"IF(MAX('3-3 위험성평가'!$A$4:$A$423)+1>E260,VLOOKUP(E260,'3-3 위험성평가'!$A$5:$P$423,6,0),\"\")","v":""},{"$f":"IF(MAX('3-3 위험성평가'!$A$4:$A$423)+1>E260,VLOOKUP(E260,'3-3 위험성평가'!$A$5:$P$423,9,0),\"\")","v":""},{"$f":"IF(MAX('3-3 위험성평가'!$A$4:$A$423)+1>E260,VLOOKUP(E260,'3-3 위험성평가'!$A$5:$P$423,12,0),\"\")&IF(L260>\"\",\".\"&E260,\"\")","v":""},{"$f":"IF(MAX('3-3 위험성평가'!$A$4:$A$423)+1>E260,VLOOKUP(E260,'3-3 위험성평가'!$A$5:$P$423,13,0),\"\")","v":""},null,"하",null,null,null,null,null,null,null,"선택안함",0,{"$f":"IF(MAX('3-3 위험성평가'!$A$4:$A$423)+1>E260,VLOOKUP(E260,'3-3 위험성평가'!$A$5:$Q$423,17,0),\"\")","v":""},"선택",{"$f":"표지!$D$33","v":0},{"$f":"표지!$E$34","v":0},"선택안함",0]
["T20",2,"S40",4,253,{"$f":"IF(MAX('3-3 위험성평가'!$A$4:$A$423)+1>E261,VLOOKUP(E261,'3-3 위험성평가'!$A$5:$P$423,2,0),\"\")","v":""},{"$f":"IF(F261=\"\",\"\",VLOOKUP(VALUE(F261),'1-1 사업장 공정 정보'!$D$15:$P$41,5,0))","v":""},{"$f":"IF(MAX('3-3 위험성평가'!$A$4:$A$423)+1>E261,VLOOKUP(E261,'3-3 위험성평가'!$A$5:$P$423,3,0),\"\")","v":""},{"$f":"IF(MAX('3-3 위험성평가'!$A$4:$A$423)+1>E261,VLOOKUP(E261,'3-3 위험성평가'!$A$5:$P$423,4,0),\"\")","v":""},{"$f":"IF(MAX('3-3 위험성평가'!$A$4:$A$423)+1>E261,VLOOKUP(E261,'3-3 위험성평가'!$A$5:$P$423,5,0),\"\")","v":""},{"$f":"IF(MAX('3-3 위험성평가'!$A$4:$A$423)+1>E261,VLOOKUP(E261,'3-3 위험성평가'!$A$5:$P$423,6,0),\"\")","v":""},{"$f":"IF(MAX('3-3 위험성평가'!$A$4:$A$423)+1>E261,VLOOKUP(E261,'3-3 위험성평가'!$A$5:$P$423,9,0),\"\")","v":""},{"$f":"IF(MAX('3-3 위험성평가'!$A$4:$A$423)+1>E261,VLOOKUP(E261,'3-3 위험성평가'!$A$5:$P$423,12,0),\"\")&IF(L261>\"\",\".\"&E261,\"\")","v":""},{"$f":"IF(MAX('3-3 위험성평가'!$A$4:$A$423)+1>E261,VLOOKUP(E261,'3-3 위험성평가'!$A$5:$P$423,13,0),\"\")","v":""},null,"하",null,null,null,null,null,null,null,"선택안함",0,{"$f":"IF(MAX('3-3 위험성평가'!$A$4:$A$423)+1>E261,VLOOKUP(E261,'3-3 위험성평가'!$A$5:$Q$423,17,0),\"\")","v":""},"선택",{"$f":"표지!$D$33","v":0},{"$f":"표지!$E$34","v":0},"선택안함",0]
["T20",2,"S40",4,254,{"$f":"IF(MAX('3-3 위험성평가'!$A$4:$A$423)+1>E262,VLOOKUP(E262,'3-3 위험성평가'!$A$5:$P$423,2,0),\"\")","v":""},{"$f":"IF(F262=\"\",\"\",VLOOKUP(VALUE(F262),'1-1 사업장 공정 정보'!$D$15:$P$41,5,0))","v":""},{"$f":"IF(MAX('3-3 위험성평가'!$A$4:$A$423)+1>E262,VLOOKUP(E262,'3-3 위험성평가'!$A$5:$P$423,3,0),\"\")","v":""},{"$f":"IF(MAX('3-3 위험성평가'!$A$4:$A$423)+1>E262,VLOOKUP(E262,'3-3 위험성평가'!$A$5:$P$423,4,0),\"\")","v":""},{"$f":"IF(MAX('3-3 위험성평가'!$A$4:$A$423)+1>E262,VLOOKUP(E262,'3-3 위험성평가'!$A$5:$P$423,5,0),\"\")","v":""},{"$f":"IF(MAX('3-3 위험성평가'!$A$4:$A$423)+1>E262,VLOOKUP(E262,'3-3 위험성평가'!$A$5:$P$423,6,0),\"\")","v":""},{"$f":"IF(MAX('3-3 위험성평가'!$A$4:$A$423)+1>E262,VLOOKUP(E262,'3-3 위험성평가'!$A$5:$P$423,9,0),\"\")","v":""},{"$f":"IF(MAX('3-3 위험성평가'!$A$4:$A$423)+1>E262,VLOOKUP(E262,'3-3 위험성평가'!$A$5:$P$423,12,0),\"\")&IF(L262>\"\",\".\"&E262,\"\")","v":""},{"$f":"IF(MAX('3-3 위험성평가'!$A$4:$A$423)+1>E262,VLOOKUP(E262,'3-3 위험성평가'!$A$5:$P$423,13,0),\"\")","v":""},null,"하",null,null,null,null,null,null,null,"선택안함",0,{"$f":"IF(MAX('3-3 위험성평가'!$A$4:$A$423)+1>E262,VLOOKUP(E262,'3-3 위험성평가'!$A$5:$Q$423,17,0),\"\")","v":""},"선택",{"$f":"표지!$D$33","v":0},{"$f":"표지!$E$34","v":0},"선택안함",0]
["T20",2,"S40",4,255,{"$f":"IF(MAX('3-3 위험성평가'!$A$4:$A$423)+1>E263,VLOOKUP(E263,'3-3 위험성평가'!$A$5:$P$423,2,0),\"\")","v":""},{"$f":"IF(F263=\"\",\"\",VLOOKUP(VALUE(F263),'1-1 사업장 공정 정보'!$D$15:$P$41,5,0))","v":""},{"$f":"IF(MAX('3-3 위험성평가'!$A$4:$A$423)+1>E263,VLOOKUP(E263,'3-3 위험성평가'!$A$5:$P$423,3,0),\"\")","v":""},{"$f":"IF(MAX('3-3 위험성평가'!$A$4:$A$423)+1>E263,VLOOKUP(E263,'3-3 위험성평가'!$A$5:$P$423,4,0),\"\")","v":""},{"$f":"IF(MAX('3-3 위험성평가'!$A$4:$A$423)+1>E263,VLOOKUP(E263,'3-3 위험성평가'!$A$5:$P$423,5,0),\"\")","v":""},{"$f":"IF(MAX('3-3 위험성평가'!$A$4:$A$423)+1>E263,VLOOKUP(E263,'3-3 위험성평가'!$A$5:$P$423,6,0),\"\")","v":""},{"$f":"IF(MAX('3-3 위험성평가'!$A$4:$A$423)+1>E263,VLOOKUP(E263,'3-3 위험성평가'!$A$5:$P$423,9,0),\"\")","v":""},{"$f":"IF(MAX('3-3 위험성평가'!$A$4:$A$423)+1>E263,VLOOKUP(E263,'3-3 위험성평가'!$A$5:$P$423,12,0),\"\")&IF(L263>\"\",\".\"&E263,\"\")","v":""},{"$f":"IF(MAX('3-3 위험성평가'!$A$4:$A$423)+1>E263,VLOOKUP(E263,'3-3 위험성평가'!$A$5:$P$423,13,0),\"\")","v":""},null,"하",null,null,null,null,null,null,null,"선택안함",0,{"$f":"IF(MAX('3-3 위험성평가'!$A$4:$A$423)+1>E263,VLOOKUP(E263,'3-3 위험성평가'!$A$5:$Q$423,17,0),\"\")","v":""},"선택",{"$f":"표지!$D$33","v":0},{"$f":"표지!$E$34","v":0},"선택안함",0]
["T20",2,"S40",4,256,{"$f":"IF(MAX('3-3 위험성평가'!$A$4:$A$423)+1>E264,VLOOKUP(E264,'3-3 위험성평가'!$A$5:$P$423,2,0),\"\")","v":""},{"$f":"IF(F264=\"\",\"\",VLOOKUP(VALUE(F264),'1-1 사업장 공정 정보'!$D$15:$P$41,5,0))","v":""},{"$f":"IF(MAX('3-3 위험성평가'!$A$4:$A$423)+1>E264,VLOOKUP(E264,'3-3 위험성평가'!$A$5:$P$423,3,0),\"\")","v":""},{"$f":"IF(MAX('3-3 위험성평가'!$A$4:$A$423)+1>E264,VLOOKUP(E264,'3-3 위험성평가'!$A$5:$P$423,4,0),\"\")","v":""},{"$f":"IF(MAX('3-3 위험성평가'!$A$4:$A$423)+1>E264,VLOOKUP(E264,'3-3 위험성평가'!$A$5:$P$423,5,0),\"\")","v":""},{"$f":"IF(MAX('3-3 위험성평가'!$A$4:$A$423)+1>E264,VLOOKUP(E264,'3-3 위험성평가'!$A$5:$P$423,6,0),\"\")","v":""},{"$f":"IF(MAX('3-3 위험성평가'!$A$4:$A$423)+1>E264,VLOOKUP(E264,'3-3 위험성평가'!$A$5:$P$423,9,0),\"\")","v":""},{"$f":"IF(MAX('3-3 위험성평가'!$A$4:$A$423)+1>E264,VLOOKUP(E264,'3-3 위험성평가'!$A$5:$P$423,12,0),\"\")&IF(L264>\"\",\".\"&E264,\"\")","v":""},{"$f":"IF(MAX('3-3 위험성평가'!$A$4:$A$423)+1>E264,VLOOKUP(E264,'3-3 위험성평가'!$A$5:$P$423,13,0),\"\")","v":""},null,"하",null,null,null,null,null,null,null,"선택안함",0,{"$f":"IF(MAX('3-3 위험성평가'!$A$4:$A$423)+1>E264,VLOOKUP(E264,'3-3 위험성평가'!$A$5:$Q$423,17,0),\"\")","v":""},"선택",{"$f":"표지!$D$33","v":0},{"$f":"표지!$E$34","v":0},"선택안함",0]
[{"$f":"\"T\"&B265&IF(OR(X265=\"선택\",X265=1),1,0)","v":"T20"},2,"S40",4,257,{"$f":"IF(MAX('3-3 위험성평가'!$A$4:$A$423)+1>E265,VLOOKUP(E265,'3-3 위험성평가'!$A$5:$P$423,2,0),\"\")","v":""},{"$f":"IF(F265=\"\",\"\",VLOOKUP(VALUE(F265),'1-1 사업장 공정 정보'!$D$15:$P$41,5,0))","v":""},{"$f":"IF(MAX('3-3 위험성평가'!$A$4:$A$423)+1>E265,VLOOKUP(E265,'3-3 위험성평가'!$A$5:$P$423,3,0),\"\")","v":""},{"$f":"IF(MAX('3-3 위험성평가'!$A$4:$A$423)+1>E265,VLOOKUP(E265,'3-3 위험성평가'!$A$5:$P$423,4,0),\"\")","v":""},{"$f":"IF(MAX('3-3 위험성평가'!$A$4:$A$423)+1>E265,VLOOKUP(E265,'3-3 위험성평가'!$A$5:$P$423,5,0),\"\")","v":""},{"$f":"IF(MAX('3-3 위험성평가'!$A$4:$A$423)+1>E265,VLOOKUP(E265,'3-3 위험성평가'!$A$5:$P$423,6,0),\"\")","v":""},{"$f":"IF(MAX('3-3 위험성평가'!$A$4:$A$423)+1>E265,VLOOKUP(E265,'3-3 위험성평가'!$A$5:$P$423,9,0),\"\")","v":""},{"$f":"IF(MAX('3-3 위험성평가'!$A$4:$A$423)+1>E265,VLOOKUP(E265,'3-3 위험성평가'!$A$5:$P$423,12,0),\"\")&IF(L265>\"\",\".\"&E265,\"\")","v":""},{"$f":"IF(MAX('3-3 위험성평가'!$A$4:$A$423)+1>E265,VLOOKUP(E265,'3-3 위험성평가'!$A$5:$P$423,13,0),\"\")","v":""},null,"하",null,null,null,null,null,null,null,"선택안함",0,{"$f":"IF(MAX('3-3 위험성평가'!$A$4:$A$423)+1>E265,VLOOKUP(E265,'3-3 위험성평가'!$A$5:$Q$423,17,0),\"\")","v":""},"선택",{"$f":"표지!$D$33","v":0},{"$f":"표지!$E$34","v":0},"선택안함",0]
["T20",2,{"$f":"\"S\"&D266&IF(OR(AD266=\"선택\",AD266=1),1,0)","v":"S40"},4,258,{"$f":"IF(MAX('3-3 위험성평가'!$A$4:$A$423)+1>E266,VLOOKUP(E266,'3-3 위험성평가'!$A$5:$P$423,2,0),\"\")","v":""},{"$f":"IF(F266=\"\",\"\",VLOOKUP(VALUE(F266),'1-1 사업장 공정 정보'!$D$15:$P$41,5,0))","v":""},{"$f":"IF(MAX('3-3 위험성평가'!$A$4:$A$423)+1>E266,VLOOKUP(E266,'3-3 위험성평가'!$A$5:$P$423,3,0),\"\")","v":""},{"$f":"IF(MAX('3-3 위험성평가'!$A$4:$A$423)+1>E266,VLOOKUP(E266,'3-3 위험성평가'!$A$5:$P$423,4,0),\"\")","v":""},{"$f":"IF(MAX('3-3 위험성평가'!$A$4:$A$423)+1>E266,VLOOKUP(E266,'3-3 위험성평가'!$A$5:$P$423,5,0),\"\")","v":""},{"$f":"IF(MAX('3-3 위험성평가'!$A$4:$A$423)+1>E266,VLOOKUP(E266,'3-3 위험성평가'!$A$5:$P$423,6,0),\"\")","v":""},{"$f":"IF(MAX('3-3 위험성평가'!$A$4:$A$423)+1>E266,VLOOKUP(E266,'3-3 위험성평가'!$A$5:$P$423,9,0),\"\")","v":""},{"$f":"IF(MAX('3-3 위험성평가'!$A$4:$A$423)+1>E266,VLOOKUP(E266,'3-3 위험성평가'!$A$5:$P$423,12,0),\"\")&IF(L266>\"\",\".\"&E266,\"\")","v":""},{"$f":"IF(MAX('3-3 위험성평가'!$A$4:$A$423)+1>E266,VLOOKUP(E266,'3-3 위험성평가'!$A$5:$P$423,13,0),\"\")","v":""},null,"하",null,null,null,null,null,null,null,"선택안함",{"$f":"IF(OR(X266=\"선택\",X266=1),1,0)","v":0},{"$f":"IF(MAX('3-3 위험성평가'!$A$4:$A$423)+1>E266,VLOOKUP(E266,'3-3 위험성평가'!$A$5:$Q$423,17,0),\"\")","v":""},"선택",{"$f":"표지!$D$33","v":0},{"$f":"표지!$E$34","v":0},"선택안함",{"$f":"IF(OR(AD266=\"선택\",AD266=1),1,0)","v":0}]
["T20",2,"S40",4,259,{"$f":"IF(MAX('3-3 위험성평가'!$A$4:$A$423)+1>E267,VLOOKUP(E267,'3-3 위험성평가'!$A$5:$P$423,2,0),\"\")","v":""},{"$f":"IF(F267=\"\",\"\",VLOOKUP(VALUE(F267),'1-1 사업장 공정 정보'!$D$15:$P$41,5,0))","v":""},{"$f":"IF(MAX('3-3 위험성평가'!$A$4:$A$423)+1>E267,VLOOKUP(E267,'3-3 위험성평가'!$A$5:$P$423,3,0),\"\")","v":""},{"$f":"IF(MAX('3-3 위험성평가'!$A$4:$A$423)+1>E267,VLOOKUP(E267,'3-3 위험성평가'!$A$5:$P$423,4,0),\"\")","v":""},{"$f":"IF(MAX('3-3 위험성평가'!$A$4:$A$423)+1>E267,VLOOKUP(E267,'3-3 위험성평가'!$A$5:$P$423,5,0),\"\")","v":""},{"$f":"IF(MAX('3-3 위험성평가'!$A$4:$A$423)+1>E267,VLOOKUP(E267,'3-3 위험성평가'!$A$5:$P$423,6,0),\"\")","v":""},{"$f":"IF(MAX('3-3 위험성평가'!$A$4:$A$423)+1>E267,VLOOKUP(E267,'3-3 위험성평가'!$A$5:$P$423,9,0),\"\")","v":""},{"$f":"IF(MAX('3-3 위험성평가'!$A$4:$A$423)+1>E267,VLOOKUP(E267,'3-3 위험성평가'!$A$5:$P$423,12,0),\"\")&IF(L267>\"\",\".\"&E267,\"\")","v":""},{"$f":"IF(MAX('3-3 위험성평가'!$A$4:$A$423)+1>E267,VLOOKUP(E267,'3-3 위험성평가'!$A$5:$P$423,13,0),\"\")","v":""},null,"하",null,null,null,null,null,null,null,"선택안함",0,{"$f":"IF(MAX('3-3 위험성평가'!$A$4:$A$423)+1>E267,VLOOKUP(E267,'3-3 위험성평가'!$A$5:$Q$423,17,0),\"\")","v":""},"선택",{"$f":"표지!$D$33","v":0},{"$f":"표지!$E$34","v":0},"선택안함",0]
["T20",2,"S40",{"$f":"D267+AE268","v":4},260,{"$f":"IF(MAX('3-3 위험성평가'!$A$4:$A$423)+1>E268,VLOOKUP(E268,'3-3 위험성평가'!$A$5:$P$423,2,0),\"\")","v":""},{"$f":"IF(F268=\"\",\"\",VLOOKUP(VALUE(F268),'1-1 사업장 공정 정보'!$D$15:$P$41,5,0))","v":""},{"$f":"IF(MAX('3-3 위험성평가'!$A$4:$A$423)+1>E268,VLOOKUP(E268,'3-3 위험성평가'!$A$5:$P$423,3,0),\"\")","v":""},{"$f":"IF(MAX('3-3 위험성평가'!$A$4:$A$423)+1>E268,VLOOKUP(E268,'3-3 위험성평가'!$A$5:$P$423,4,0),\"\")","v":""},{"$f":"IF(MAX('3-3 위험성평가'!$A$4:$A$423)+1>E268,VLOOKUP(E268,'3-3 위험성평가'!$A$5:$P$423,5,0),\"\")","v":""},{"$f":"IF(MAX('3-3 위험성평가'!$A$4:$A$423)+1>E268,VLOOKUP(E268,'3-3 위험성평가'!$A$5:$P$423,6,0),\"\")","v":""},{"$f":"IF(MAX('3-3 위험성평가'!$A$4:$A$423)+1>E268,VLOOKUP(E268,'3-3 위험성평가'!$A$5:$P$423,9,0),\"\")","v":""},{"$f":"IF(MAX('3-3 위험성평가'!$A$4:$A$423)+1>E268,VLOOKUP(E268,'3-3 위험성평가'!$A$5:$P$423,12,0),\"\")&IF(L268>\"\",\".\"&E268,\"\")","v":""},{"$f":"IF(MAX('3-3 위험성평가'!$A$4:$A$423)+1>E268,VLOOKUP(E268,'3-3 위험성평가'!$A$5:$P$423,13,0),\"\")","v":""},null,"하",null,null,null,null,null,null,null,"선택안함",0,{"$f":"IF(MAX('3-3 위험성평가'!$A$4:$A$423)+1>E268,VLOOKUP(E268,'3-3 위험성평가'!$A$5:$Q$423,17,0),\"\")","v":""},"선택",{"$f":"표지!$D$33","v":0},{"$f":"표지!$E$34","v":0},"선택안함",0]
["T20",2,"S40",4,261,{"$f":"IF(MAX('3-3 위험성평가'!$A$4:$A$423)+1>E269,VLOOKUP(E269,'3-3 위험성평가'!$A$5:$P$423,2,0),\"\")","v":""},{"$f":"IF(F269=\"\",\"\",VLOOKUP(VALUE(F269),'1-1 사업장 공정 정보'!$D$15:$P$41,5,0))","v":""},{"$f":"IF(MAX('3-3 위험성평가'!$A$4:$A$423)+1>E269,VLOOKUP(E269,'3-3 위험성평가'!$A$5:$P$423,3,0),\"\")","v":""},{"$f":"IF(MAX('3-3 위험성평가'!$A$4:$A$423)+1>E269,VLOOKUP(E269,'3-3 위험성평가'!$A$5:$P$423,4,0),\"\")","v":""},{"$f":"IF(MAX('3-3 위험성평가'!$A$4:$A$423)+1>E269,VLOOKUP(E269,'3-3 위험성평가'!$A$5:$P$423,5,0),\"\")","v":""},{"$f":"IF(MAX('3-3 위험성평가'!$A$4:$A$423)+1>E269,VLOOKUP(E269,'3-3 위험성평가'!$A$5:$P$423,6,0),\"\")","v":""},{"$f":"IF(MAX('3-3 위험성평가'!$A$4:$A$423)+1>E269,VLOOKUP(E269,'3-3 위험성평가'!$A$5:$P$423,9,0),\"\")","v":""},{"$f":"IF(MAX('3-3 위험성평가'!$A$4:$A$423)+1>E269,VLOOKUP(E269,'3-3 위험성평가'!$A$5:$P$423,12,0),\"\")&IF(L269>\"\",\".\"&E269,\"\")","v":""},{"$f":"IF(MAX('3-3 위험성평가'!$A$4:$A$423)+1>E269,VLOOKUP(E269,'3-3 위험성평가'!$A$5:$P$423,13,0),\"\")","v":""},null,"하",null,null,null,null,null,null,null,"선택안함",0,{"$f":"IF(MAX('3-3 위험성평가'!$A$4:$A$423)+1>E269,VLOOKUP(E269,'3-3 위험성평가'!$A$5:$Q$423,17,0),\"\")","v":""},"선택",{"$f":"표지!$D$33","v":0},{"$f":"표지!$E$34","v":0},"선택안함",0]
["T20",2,"S40",4,262,{"$f":"IF(MAX('3-3 위험성평가'!$A$4:$A$423)+1>E270,VLOOKUP(E270,'3-3 위험성평가'!$A$5:$P$423,2,0),\"\")","v":""},{"$f":"IF(F270=\"\",\"\",VLOOKUP(VALUE(F270),'1-1 사업장 공정 정보'!$D$15:$P$41,5,0))","v":""},{"$f":"IF(MAX('3-3 위험성평가'!$A$4:$A$423)+1>E270,VLOOKUP(E270,'3-3 위험성평가'!$A$5:$P$423,3,0),\"\")","v":""},{"$f":"IF(MAX('3-3 위험성평가'!$A$4:$A$423)+1>E270,VLOOKUP(E270,'3-3 위험성평가'!$A$5:$P$423,4,0),\"\")","v":""},{"$f":"IF(MAX('3-3 위험성평가'!$A$4:$A$423)+1>E270,VLOOKUP(E270,'3-3 위험성평가'!$A$5:$P$423,5,0),\"\")","v":""},{"$f":"IF(MAX('3-3 위험성평가'!$A$4:$A$423)+1>E270,VLOOKUP(E270,'3-3 위험성평가'!$A$5:$P$423,6,0),\"\")","v":""},{"$f":"IF(MAX('3-3 위험성평가'!$A$4:$A$423)+1>E270,VLOOKUP(E270,'3-3 위험성평가'!$A$5:$P$423,9,0),\"\")","v":""},{"$f":"IF(MAX('3-3 위험성평가'!$A$4:$A$423)+1>E270,VLOOKUP(E270,'3-3 위험성평가'!$A$5:$P$423,12,0),\"\")&IF(L270>\"\",\".\"&E270,\"\")","v":""},{"$f":"IF(MAX('3-3 위험성평가'!$A$4:$A$423)+1>E270,VLOOKUP(E270,'3-3 위험성평가'!$A$5:$P$423,13,0),\"\")","v":""},null,"하",null,null,null,null,null,null,null,"선택안함",0,{"$f":"IF(MAX('3-3 위험성평가'!$A$4:$A$423)+1>E270,VLOOKUP(E270,'3-3 위험성평가'!$A$5:$Q$423,17,0),\"\")","v":""},"선택",{"$f":"표지!$D$33","v":0},{"$f":"표지!$E$34","v":0},"선택안함",0]
["T20",2,"S40",4,263,{"$f":"IF(MAX('3-3 위험성평가'!$A$4:$A$423)+1>E271,VLOOKUP(E271,'3-3 위험성평가'!$A$5:$P$423,2,0),\"\")","v":""},{"$f":"IF(F271=\"\",\"\",VLOOKUP(VALUE(F271),'1-1 사업장 공정 정보'!$D$15:$P$41,5,0))","v":""},{"$f":"IF(MAX('3-3 위험성평가'!$A$4:$A$423)+1>E271,VLOOKUP(E271,'3-3 위험성평가'!$A$5:$P$423,3,0),\"\")","v":""},{"$f":"IF(MAX('3-3 위험성평가'!$A$4:$A$423)+1>E271,VLOOKUP(E271,'3-3 위험성평가'!$A$5:$P$423,4,0),\"\")","v":""},{"$f":"IF(MAX('3-3 위험성평가'!$A$4:$A$423)+1>E271,VLOOKUP(E271,'3-3 위험성평가'!$A$5:$P$423,5,0),\"\")","v":""},{"$f":"IF(MAX('3-3 위험성평가'!$A$4:$A$423)+1>E271,VLOOKUP(E271,'3-3 위험성평가'!$A$5:$P$423,6,0),\"\")","v":""},{"$f":"IF(MAX('3-3 위험성평가'!$A$4:$A$423)+1>E271,VLOOKUP(E271,'3-3 위험성평가'!$A$5:$P$423,9,0),\"\")","v":""},{"$f":"IF(MAX('3-3 위험성평가'!$A$4:$A$423)+1>E271,VLOOKUP(E271,'3-3 위험성평가'!$A$5:$P$423,12,0),\"\")&IF(L271>\"\",\".\"&E271,\"\")","v":""},{"$f":"IF(MAX('3-3 위험성평가'!$A$4:$A$423)+1>E271,VLOOKUP(E271,'3-3 위험성평가'!$A$5:$P$423,13,0),\"\")","v":""},null,"하",null,null,null,null,null,null,null,"선택안함",0,{"$f":"IF(MAX('3-3 위험성평가'!$A$4:$A$423)+1>E271,VLOOKUP(E271,'3-3 위험성평가'!$A$5:$Q$423,17,0),\"\")","v":""},"선택",{"$f":"표지!$D$33","v":0},{"$f":"표지!$E$34","v":0},"선택안함",0]
["T20",2,"S40",4,264,{"$f":"IF(MAX('3-3 위험성평가'!$A$4:$A$423)+1>E272,VLOOKUP(E272,'3-3 위험성평가'!$A$5:$P$423,2,0),\"\")","v":""},{"$f":"IF(F272=\"\",\"\",VLOOKUP(VALUE(F272),'1-1 사업장 공정 정보'!$D$15:$P$41,5,0))","v":""},{"$f":"IF(MAX('3-3 위험성평가'!$A$4:$A$423)+1>E272,VLOOKUP(E272,'3-3 위험성평가'!$A$5:$P$423,3,0),\"\")","v":""},{"$f":"IF(MAX('3-3 위험성평가'!$A$4:$A$423)+1>E272,VLOOKUP(E272,'3-3 위험성평가'!$A$5:$P$423,4,0),\"\")","v":""},{"$f":"IF(MAX('3-3 위험성평가'!$A$4:$A$423)+1>E272,VLOOKUP(E272,'3-3 위험성평가'!$A$5:$P$423,5,0),\"\")","v":""},{"$f":"IF(MAX('3-3 위험성평가'!$A$4:$A$423)+1>E272,VLOOKUP(E272,'3-3 위험성평가'!$A$5:$P$423,6,0),\"\")","v":""},{"$f":"IF(MAX('3-3 위험성평가'!$A$4:$A$423)+1>E272,VLOOKUP(E272,'3-3 위험성평가'!$A$5:$P$423,9,0),\"\")","v":""},{"$f":"IF(MAX('3-3 위험성평가'!$A$4:$A$423)+1>E272,VLOOKUP(E272,'3-3 위험성평가'!$A$5:$P$423,12,0),\"\")&IF(L272>\"\",\".\"&E272,\"\")","v":""},{"$f":"IF(MAX('3-3 위험성평가'!$A$4:$A$423)+1>E272,VLOOKUP(E272,'3-3 위험성평가'!$A$5:$P$423,13,0),\"\")","v":""},null,"하",null,null,null,null,null,null,null,"선택안함",0,{"$f":"IF(MAX('3-3 위험성평가'!$A$4:$A$423)+1>E272,VLOOKUP(E272,'3-3 위험성평가'!$A$5:$Q$423,17,0),\"\")","v":""},"선택",{"$f":"표지!$D$33","v":0},{"$f":"표지!$E$34","v":0},"선택안함",0]
["T20",2,"S40",4,265,{"$f":"IF(MAX('3-3 위험성평가'!$A$4:$A$423)+1>E273,VLOOKUP(E273,'3-3 위험성평가'!$A$5:$P$423,2,0),\"\")","v":""},{"$f":"IF(F273=\"\",\"\",VLOOKUP(VALUE(F273),'1-1 사업장 공정 정보'!$D$15:$P$41,5,0))","v":""},{"$f":"IF(MAX('3-3 위험성평가'!$A$4:$A$423)+1>E273,VLOOKUP(E273,'3-3 위험성평가'!$A$5:$P$423,3,0),\"\")","v":""},{"$f":"IF(MAX('3-3 위험성평가'!$A$4:$A$423)+1>E273,VLOOKUP(E273,'3-3 위험성평가'!$A$5:$P$423,4,0),\"\")","v":""},{"$f":"IF(MAX('3-3 위험성평가'!$A$4:$A$423)+1>E273,VLOOKUP(E273,'3-3 위험성평가'!$A$5:$P$423,5,0),\"\")","v":""},{"$f":"IF(MAX('3-3 위험성평가'!$A$4:$A$423)+1>E273,VLOOKUP(E273,'3-3 위험성평가'!$A$5:$P$423,6,0),\"\")","v":""},{"$f":"IF(MAX('3-3 위험성평가'!$A$4:$A$423)+1>E273,VLOOKUP(E273,'3-3 위험성평가'!$A$5:$P$423,9,0),\"\")","v":""},{"$f":"IF(MAX('3-3 위험성평가'!$A$4:$A$423)+1>E273,VLOOKUP(E273,'3-3 위험성평가'!$A$5:$P$423,12,0),\"\")&IF(L273>\"\",\".\"&E273,\"\")","v":""},{"$f":"IF(MAX('3-3 위험성평가'!$A$4:$A$423)+1>E273,VLOOKUP(E273,'3-3 위험성평가'!$A$5:$P$423,13,0),\"\")","v":""},null,"하",null,null,null,null,null,null,null,"선택안함",0,{"$f":"IF(MAX('3-3 위험성평가'!$A$4:$A$423)+1>E273,VLOOKUP(E273,'3-3 위험성평가'!$A$5:$Q$423,17,0),\"\")","v":""},"선택",{"$f":"표지!$D$33","v":0},{"$f":"표지!$E$34","v":0},"선택안함",0]
["T20",2,"S40",4,266,{"$f":"IF(MAX('3-3 위험성평가'!$A$4:$A$423)+1>E274,VLOOKUP(E274,'3-3 위험성평가'!$A$5:$P$423,2,0),\"\")","v":""},{"$f":"IF(F274=\"\",\"\",VLOOKUP(VALUE(F274),'1-1 사업장 공정 정보'!$D$15:$P$41,5,0))","v":""},{"$f":"IF(MAX('3-3 위험성평가'!$A$4:$A$423)+1>E274,VLOOKUP(E274,'3-3 위험성평가'!$A$5:$P$423,3,0),\"\")","v":""},{"$f":"IF(MAX('3-3 위험성평가'!$A$4:$A$423)+1>E274,VLOOKUP(E274,'3-3 위험성평가'!$A$5:$P$423,4,0),\"\")","v":""},{"$f":"IF(MAX('3-3 위험성평가'!$A$4:$A$423)+1>E274,VLOOKUP(E274,'3-3 위험성평가'!$A$5:$P$423,5,0),\"\")","v":""},{"$f":"IF(MAX('3-3 위험성평가'!$A$4:$A$423)+1>E274,VLOOKUP(E274,'3-3 위험성평가'!$A$5:$P$423,6,0),\"\")","v":""},{"$f":"IF(MAX('3-3 위험성평가'!$A$4:$A$423)+1>E274,VLOOKUP(E274,'3-3 위험성평가'!$A$5:$P$423,9,0),\"\")","v":""},{"$f":"IF(MAX('3-3 위험성평가'!$A$4:$A$423)+1>E274,VLOOKUP(E274,'3-3 위험성평가'!$A$5:$P$423,12,0),\"\")&IF(L274>\"\",\".\"&E274,\"\")","v":""},{"$f":"IF(MAX('3-3 위험성평가'!$A$4:$A$423)+1>E274,VLOOKUP(E274,'3-3 위험성평가'!$A$5:$P$423,13,0),\"\")","v":""},null,"하",null,null,null,null,null,null,null,"선택안함",0,{"$f":"IF(MAX('3-3 위험성평가'!$A$4:$A$423)+1>E274,VLOOKUP(E274,'3-3 위험성평가'!$A$5:$Q$423,17,0),\"\")","v":""},"선택",{"$f":"표지!$D$33","v":0},{"$f":"표지!$E$34","v":0},"선택안함",0]
["T20",2,"S40",4,267,{"$f":"IF(MAX('3-3 위험성평가'!$A$4:$A$423)+1>E275,VLOOKUP(E275,'3-3 위험성평가'!$A$5:$P$423,2,0),\"\")","v":""},{"$f":"IF(F275=\"\",\"\",VLOOKUP(VALUE(F275),'1-1 사업장 공정 정보'!$D$15:$P$41,5,0))","v":""},{"$f":"IF(MAX('3-3 위험성평가'!$A$4:$A$423)+1>E275,VLOOKUP(E275,'3-3 위험성평가'!$A$5:$P$423,3,0),\"\")","v":""},{"$f":"IF(MAX('3-3 위험성평가'!$A$4:$A$423)+1>E275,VLOOKUP(E275,'3-3 위험성평가'!$A$5:$P$423,4,0),\"\")","v":""},{"$f":"IF(MAX('3-3 위험성평가'!$A$4:$A$423)+1>E275,VLOOKUP(E275,'3-3 위험성평가'!$A$5:$P$423,5,0),\"\")","v":""},{"$f":"IF(MAX('3-3 위험성평가'!$A$4:$A$423)+1>E275,VLOOKUP(E275,'3-3 위험성평가'!$A$5:$P$423,6,0),\"\")","v":""},{"$f":"IF(MAX('3-3 위험성평가'!$A$4:$A$423)+1>E275,VLOOKUP(E275,'3-3 위험성평가'!$A$5:$P$423,9,0),\"\")","v":""},{"$f":"IF(MAX('3-3 위험성평가'!$A$4:$A$423)+1>E275,VLOOKUP(E275,'3-3 위험성평가'!$A$5:$P$423,12,0),\"\")&IF(L275>\"\",\".\"&E275,\"\")","v":""},{"$f":"IF(MAX('3-3 위험성평가'!$A$4:$A$423)+1>E275,VLOOKUP(E275,'3-3 위험성평가'!$A$5:$P$423,13,0),\"\")","v":""},null,"하",null,null,null,null,null,null,null,"선택안함",0,{"$f":"IF(MAX('3-3 위험성평가'!$A$4:$A$423)+1>E275,VLOOKUP(E275,'3-3 위험성평가'!$A$5:$Q$423,17,0),\"\")","v":""},"선택",{"$f":"표지!$D$33","v":0},{"$f":"표지!$E$34","v":0},"선택안함",0]
["T20",2,"S40",4,268,{"$f":"IF(MAX('3-3 위험성평가'!$A$4:$A$423)+1>E276,VLOOKUP(E276,'3-3 위험성평가'!$A$5:$P$423,2,0),\"\")","v":""},{"$f":"IF(F276=\"\",\"\",VLOOKUP(VALUE(F276),'1-1 사업장 공정 정보'!$D$15:$P$41,5,0))","v":""},{"$f":"IF(MAX('3-3 위험성평가'!$A$4:$A$423)+1>E276,VLOOKUP(E276,'3-3 위험성평가'!$A$5:$P$423,3,0),\"\")","v":""},{"$f":"IF(MAX('3-3 위험성평가'!$A$4:$A$423)+1>E276,VLOOKUP(E276,'3-3 위험성평가'!$A$5:$P$423,4,0),\"\")","v":""},{"$f":"IF(MAX('3-3 위험성평가'!$A$4:$A$423)+1>E276,VLOOKUP(E276,'3-3 위험성평가'!$A$5:$P$423,5,0),\"\")","v":""},{"$f":"IF(MAX('3-3 위험성평가'!$A$4:$A$423)+1>E276,VLOOKUP(E276,'3-3 위험성평가'!$A$5:$P$423,6,0),\"\")","v":""},{"$f":"IF(MAX('3-3 위험성평가'!$A$4:$A$423)+1>E276,VLOOKUP(E276,'3-3 위험성평가'!$A$5:$P$423,9,0),\"\")","v":""},{"$f":"IF(MAX('3-3 위험성평가'!$A$4:$A$423)+1>E276,VLOOKUP(E276,'3-3 위험성평가'!$A$5:$P$423,12,0),\"\")&IF(L276>\"\",\".\"&E276,\"\")","v":""},{"$f":"IF(MAX('3-3 위험성평가'!$A$4:$A$423)+1>E276,VLOOKUP(E276,'3-3 위험성평가'!$A$5:$P$423,13,0),\"\")","v":""},null,"하",null,null,null,null,null,null,null,"선택안함",0,{"$f":"IF(MAX('3-3 위험성평가'!$A$4:$A$423)+1>E276,VLOOKUP(E276,'3-3 위험성평가'!$A$5:$Q$423,17,0),\"\")","v":""},"선택",{"$f":"표지!$D$33","v":0},{"$f":"표지!$E$34","v":0},"선택안함",0]
["T20",2,"S40",4,269,{"$f":"IF(MAX('3-3 위험성평가'!$A$4:$A$423)+1>E277,VLOOKUP(E277,'3-3 위험성평가'!$A$5:$P$423,2,0),\"\")","v":""},{"$f":"IF(F277=\"\",\"\",VLOOKUP(VALUE(F277),'1-1 사업장 공정 정보'!$D$15:$P$41,5,0))","v":""},{"$f":"IF(MAX('3-3 위험성평가'!$A$4:$A$423)+1>E277,VLOOKUP(E277,'3-3 위험성평가'!$A$5:$P$423,3,0),\"\")","v":""},{"$f":"IF(MAX('3-3 위험성평가'!$A$4:$A$423)+1>E277,VLOOKUP(E277,'3-3 위험성평가'!$A$5:$P$423,4,0),\"\")","v":""},{"$f":"IF(MAX('3-3 위험성평가'!$A$4:$A$423)+1>E277,VLOOKUP(E277,'3-3 위험성평가'!$A$5:$P$423,5,0),\"\")","v":""},{"$f":"IF(MAX('3-3 위험성평가'!$A$4:$A$423)+1>E277,VLOOKUP(E277,'3-3 위험성평가'!$A$5:$P$423,6,0),\"\")","v":""},{"$f":"IF(MAX('3-3 위험성평가'!$A$4:$A$423)+1>E277,VLOOKUP(E277,'3-3 위험성평가'!$A$5:$P$423,9,0),\"\")","v":""},{"$f":"IF(MAX('3-3 위험성평가'!$A$4:$A$423)+1>E277,VLOOKUP(E277,'3-3 위험성평가'!$A$5:$P$423,12,0),\"\")&IF(L277>\"\",\".\"&E277,\"\")","v":""},{"$f":"IF(MAX('3-3 위험성평가'!$A$4:$A$423)+1>E277,VLOOKUP(E277,'3-3 위험성평가'!$A$5:$P$423,13,0),\"\")","v":""},null,"하",null,null,null,null,null,null,null,"선택안함",0,{"$f":"IF(MAX('3-3 위험성평가'!$A$4:$A$423)+1>E277,VLOOKUP(E277,'3-3 위험성평가'!$A$5:$Q$423,17,0),\"\")","v":""},"선택",{"$f":"표지!$D$33","v":0},{"$f":"표지!$E$34","v":0},"선택안함",0]
["T20",2,"S40",4,270,{"$f":"IF(MAX('3-3 위험성평가'!$A$4:$A$423)+1>E278,VLOOKUP(E278,'3-3 위험성평가'!$A$5:$P$423,2,0),\"\")","v":""},{"$f":"IF(F278=\"\",\"\",VLOOKUP(VALUE(F278),'1-1 사업장 공정 정보'!$D$15:$P$41,5,0))","v":""},{"$f":"IF(MAX('3-3 위험성평가'!$A$4:$A$423)+1>E278,VLOOKUP(E278,'3-3 위험성평가'!$A$5:$P$423,3,0),\"\")","v":""},{"$f":"IF(MAX('3-3 위험성평가'!$A$4:$A$423)+1>E278,VLOOKUP(E278,'3-3 위험성평가'!$A$5:$P$423,4,0),\"\")","v":""},{"$f":"IF(MAX('3-3 위험성평가'!$A$4:$A$423)+1>E278,VLOOKUP(E278,'3-3 위험성평가'!$A$5:$P$423,5,0),\"\")","v":""},{"$f":"IF(MAX('3-3 위험성평가'!$A$4:$A$423)+1>E278,VLOOKUP(E278,'3-3 위험성평가'!$A$5:$P$423,6,0),\"\")","v":""},{"$f":"IF(MAX('3-3 위험성평가'!$A$4:$A$423)+1>E278,VLOOKUP(E278,'3-3 위험성평가'!$A$5:$P$423,9,0),\"\")","v":""},{"$f":"IF(MAX('3-3 위험성평가'!$A$4:$A$423)+1>E278,VLOOKUP(E278,'3-3 위험성평가'!$A$5:$P$423,12,0),\"\")&IF(L278>\"\",\".\"&E278,\"\")","v":""},{"$f":"IF(MAX('3-3 위험성평가'!$A$4:$A$423)+1>E278,VLOOKUP(E278,'3-3 위험성평가'!$A$5:$P$423,13,0),\"\")","v":""},null,"하",null,null,null,null,null,null,null,"선택안함",0,{"$f":"IF(MAX('3-3 위험성평가'!$A$4:$A$423)+1>E278,VLOOKUP(E278,'3-3 위험성평가'!$A$5:$Q$423,17,0),\"\")","v":""},"선택",{"$f":"표지!$D$33","v":0},{"$f":"표지!$E$34","v":0},"선택안함",0]
["T20",2,"S40",4,271,{"$f":"IF(MAX('3-3 위험성평가'!$A$4:$A$423)+1>E279,VLOOKUP(E279,'3-3 위험성평가'!$A$5:$P$423,2,0),\"\")","v":""},{"$f":"IF(F279=\"\",\"\",VLOOKUP(VALUE(F279),'1-1 사업장 공정 정보'!$D$15:$P$41,5,0))","v":""},{"$f":"IF(MAX('3-3 위험성평가'!$A$4:$A$423)+1>E279,VLOOKUP(E279,'3-3 위험성평가'!$A$5:$P$423,3,0),\"\")","v":""},{"$f":"IF(MAX('3-3 위험성평가'!$A$4:$A$423)+1>E279,VLOOKUP(E279,'3-3 위험성평가'!$A$5:$P$423,4,0),\"\")","v":""},{"$f":"IF(MAX('3-3 위험성평가'!$A$4:$A$423)+1>E279,VLOOKUP(E279,'3-3 위험성평가'!$A$5:$P$423,5,0),\"\")","v":""},{"$f":"IF(MAX('3-3 위험성평가'!$A$4:$A$423)+1>E279,VLOOKUP(E279,'3-3 위험성평가'!$A$5:$P$423,6,0),\"\")","v":""},{"$f":"IF(MAX('3-3 위험성평가'!$A$4:$A$423)+1>E279,VLOOKUP(E279,'3-3 위험성평가'!$A$5:$P$423,9,0),\"\")","v":""},{"$f":"IF(MAX('3-3 위험성평가'!$A$4:$A$423)+1>E279,VLOOKUP(E279,'3-3 위험성평가'!$A$5:$P$423,12,0),\"\")&IF(L279>\"\",\".\"&E279,\"\")","v":""},{"$f":"IF(MAX('3-3 위험성평가'!$A$4:$A$423)+1>E279,VLOOKUP(E279,'3-3 위험성평가'!$A$5:$P$423,13,0),\"\")","v":""},null,"하",null,null,null,null,null,null,null,"선택안함",0,{"$f":"IF(MAX('3-3 위험성평가'!$A$4:$A$423)+1>E279,VLOOKUP(E279,'3-3 위험성평가'!$A$5:$Q$423,17,0),\"\")","v":""},"선택",{"$f":"표지!$D$33","v":0},{"$f":"표지!$E$34","v":0},"선택안함",0]
["T20",2,"S40",4,272,{"$f":"IF(MAX('3-3 위험성평가'!$A$4:$A$423)+1>E280,VLOOKUP(E280,'3-3 위험성평가'!$A$5:$P$423,2,0),\"\")","v":""},{"$f":"IF(F280=\"\",\"\",VLOOKUP(VALUE(F280),'1-1 사업장 공정 정보'!$D$15:$P$41,5,0))","v":""},{"$f":"IF(MAX('3-3 위험성평가'!$A$4:$A$423)+1>E280,VLOOKUP(E280,'3-3 위험성평가'!$A$5:$P$423,3,0),\"\")","v":""},{"$f":"IF(MAX('3-3 위험성평가'!$A$4:$A$423)+1>E280,VLOOKUP(E280,'3-3 위험성평가'!$A$5:$P$423,4,0),\"\")","v":""},{"$f":"IF(MAX('3-3 위험성평가'!$A$4:$A$423)+1>E280,VLOOKUP(E280,'3-3 위험성평가'!$A$5:$P$423,5,0),\"\")","v":""},{"$f":"IF(MAX('3-3 위험성평가'!$A$4:$A$423)+1>E280,VLOOKUP(E280,'3-3 위험성평가'!$A$5:$P$423,6,0),\"\")","v":""},{"$f":"IF(MAX('3-3 위험성평가'!$A$4:$A$423)+1>E280,VLOOKUP(E280,'3-3 위험성평가'!$A$5:$P$423,9,0),\"\")","v":""},{"$f":"IF(MAX('3-3 위험성평가'!$A$4:$A$423)+1>E280,VLOOKUP(E280,'3-3 위험성평가'!$A$5:$P$423,12,0),\"\")&IF(L280>\"\",\".\"&E280,\"\")","v":""},{"$f":"IF(MAX('3-3 위험성평가'!$A$4:$A$423)+1>E280,VLOOKUP(E280,'3-3 위험성평가'!$A$5:$P$423,13,0),\"\")","v":""},null,"하",null,null,null,null,null,null,null,"선택안함",0,{"$f":"IF(MAX('3-3 위험성평가'!$A$4:$A$423)+1>E280,VLOOKUP(E280,'3-3 위험성평가'!$A$5:$Q$423,17,0),\"\")","v":""},"선택",{"$f":"표지!$D$33","v":0},{"$f":"표지!$E$34","v":0},"선택안함",0]
["T20",2,"S40",4,273,{"$f":"IF(MAX('3-3 위험성평가'!$A$4:$A$423)+1>E281,VLOOKUP(E281,'3-3 위험성평가'!$A$5:$P$423,2,0),\"\")","v":""},{"$f":"IF(F281=\"\",\"\",VLOOKUP(VALUE(F281),'1-1 사업장 공정 정보'!$D$15:$P$41,5,0))","v":""},{"$f":"IF(MAX('3-3 위험성평가'!$A$4:$A$423)+1>E281,VLOOKUP(E281,'3-3 위험성평가'!$A$5:$P$423,3,0),\"\")","v":""},{"$f":"IF(MAX('3-3 위험성평가'!$A$4:$A$423)+1>E281,VLOOKUP(E281,'3-3 위험성평가'!$A$5:$P$423,4,0),\"\")","v":""},{"$f":"IF(MAX('3-3 위험성평가'!$A$4:$A$423)+1>E281,VLOOKUP(E281,'3-3 위험성평가'!$A$5:$P$423,5,0),\"\")","v":""},{"$f":"IF(MAX('3-3 위험성평가'!$A$4:$A$423)+1>E281,VLOOKUP(E281,'3-3 위험성평가'!$A$5:$P$423,6,0),\"\")","v":""},{"$f":"IF(MAX('3-3 위험성평가'!$A$4:$A$423)+1>E281,VLOOKUP(E281,'3-3 위험성평가'!$A$5:$P$423,9,0),\"\")","v":""},{"$f":"IF(MAX('3-3 위험성평가'!$A$4:$A$423)+1>E281,VLOOKUP(E281,'3-3 위험성평가'!$A$5:$P$423,12,0),\"\")&IF(L281>\"\",\".\"&E281,\"\")","v":""},{"$f":"IF(MAX('3-3 위험성평가'!$A$4:$A$423)+1>E281,VLOOKUP(E281,'3-3 위험성평가'!$A$5:$P$423,13,0),\"\")","v":""},null,"하",null,null,null,null,null,null,null,"선택안함",0,{"$f":"IF(MAX('3-3 위험성평가'!$A$4:$A$423)+1>E281,VLOOKUP(E281,'3-3 위험성평가'!$A$5:$Q$423,17,0),\"\")","v":""},"선택",{"$f":"표지!$D$33","v":0},{"$f":"표지!$E$34","v":0},"선택안함",0]
["T20",{"$f":"B281+Y282","v":2},"S40",4,274,{"$f":"IF(MAX('3-3 위험성평가'!$A$4:$A$423)+1>E282,VLOOKUP(E282,'3-3 위험성평가'!$A$5:$P$423,2,0),\"\")","v":""},{"$f":"IF(F282=\"\",\"\",VLOOKUP(VALUE(F282),'1-1 사업장 공정 정보'!$D$15:$P$41,5,0))","v":""},{"$f":"IF(MAX('3-3 위험성평가'!$A$4:$A$423)+1>E282,VLOOKUP(E282,'3-3 위험성평가'!$A$5:$P$423,3,0),\"\")","v":""},{"$f":"IF(MAX('3-3 위험성평가'!$A$4:$A$423)+1>E282,VLOOKUP(E282,'3-3 위험성평가'!$A$5:$P$423,4,0),\"\")","v":""},{"$f":"IF(MAX('3-3 위험성평가'!$A$4:$A$423)+1>E282,VLOOKUP(E282,'3-3 위험성평가'!$A$5:$P$423,5,0),\"\")","v":""},{"$f":"IF(MAX('3-3 위험성평가'!$A$4:$A$423)+1>E282,VLOOKUP(E282,'3-3 위험성평가'!$A$5:$P$423,6,0),\"\")","v":""},{"$f":"IF(MAX('3-3 위험성평가'!$A$4:$A$423)+1>E282,VLOOKUP(E282,'3-3 위험성평가'!$A$5:$P$423,9,0),\"\")","v":""},{"$f":"IF(MAX('3-3 위험성평가'!$A$4:$A$423)+1>E282,VLOOKUP(E282,'3-3 위험성평가'!$A$5:$P$423,12,0),\"\")&IF(L282>\"\",\".\"&E282,\"\")","v":""},{"$f":"IF(MAX('3-3 위험성평가'!$A$4:$A$423)+1>E282,VLOOKUP(E282,'3-3 위험성평가'!$A$5:$P$423,13,0),\"\")","v":""},null,"하",null,null,null,null,null,null,null,"선택안함",0,{"$f":"IF(MAX('3-3 위험성평가'!$A$4:$A$423)+1>E282,VLOOKUP(E282,'3-3 위험성평가'!$A$5:$Q$423,17,0),\"\")","v":""},"선택",{"$f":"표지!$D$33","v":0},{"$f":"표지!$E$34","v":0},"선택안함",0]
["T20",2,"S40",4,275,{"$f":"IF(MAX('3-3 위험성평가'!$A$4:$A$423)+1>E283,VLOOKUP(E283,'3-3 위험성평가'!$A$5:$P$423,2,0),\"\")","v":""},{"$f":"IF(F283=\"\",\"\",VLOOKUP(VALUE(F283),'1-1 사업장 공정 정보'!$D$15:$P$41,5,0))","v":""},{"$f":"IF(MAX('3-3 위험성평가'!$A$4:$A$423)+1>E283,VLOOKUP(E283,'3-3 위험성평가'!$A$5:$P$423,3,0),\"\")","v":""},{"$f":"IF(MAX('3-3 위험성평가'!$A$4:$A$423)+1>E283,VLOOKUP(E283,'3-3 위험성평가'!$A$5:$P$423,4,0),\"\")","v":""},{"$f":"IF(MAX('3-3 위험성평가'!$A$4:$A$423)+1>E283,VLOOKUP(E283,'3-3 위험성평가'!$A$5:$P$423,5,0),\"\")","v":""},{"$f":"IF(MAX('3-3 위험성평가'!$A$4:$A$423)+1>E283,VLOOKUP(E283,'3-3 위험성평가'!$A$5:$P$423,6,0),\"\")","v":""},{"$f":"IF(MAX('3-3 위험성평가'!$A$4:$A$423)+1>E283,VLOOKUP(E283,'3-3 위험성평가'!$A$5:$P$423,9,0),\"\")","v":""},{"$f":"IF(MAX('3-3 위험성평가'!$A$4:$A$423)+1>E283,VLOOKUP(E283,'3-3 위험성평가'!$A$5:$P$423,12,0),\"\")&IF(L283>\"\",\".\"&E283,\"\")","v":""},{"$f":"IF(MAX('3-3 위험성평가'!$A$4:$A$423)+1>E283,VLOOKUP(E283,'3-3 위험성평가'!$A$5:$P$423,13,0),\"\")","v":""},null,"하",null,null,null,null,null,null,null,"선택안함",0,{"$f":"IF(MAX('3-3 위험성평가'!$A$4:$A$423)+1>E283,VLOOKUP(E283,'3-3 위험성평가'!$A$5:$Q$423,17,0),\"\")","v":""},"선택",{"$f":"표지!$D$33","v":0},{"$f":"표지!$E$34","v":0},"선택안함",0]
["T20",2,"S40",4,276,{"$f":"IF(MAX('3-3 위험성평가'!$A$4:$A$423)+1>E284,VLOOKUP(E284,'3-3 위험성평가'!$A$5:$P$423,2,0),\"\")","v":""},{"$f":"IF(F284=\"\",\"\",VLOOKUP(VALUE(F284),'1-1 사업장 공정 정보'!$D$15:$P$41,5,0))","v":""},{"$f":"IF(MAX('3-3 위험성평가'!$A$4:$A$423)+1>E284,VLOOKUP(E284,'3-3 위험성평가'!$A$5:$P$423,3,0),\"\")","v":""},{"$f":"IF(MAX('3-3 위험성평가'!$A$4:$A$423)+1>E284,VLOOKUP(E284,'3-3 위험성평가'!$A$5:$P$423,4,0),\"\")","v":""},{"$f":"IF(MAX('3-3 위험성평가'!$A$4:$A$423)+1>E284,VLOOKUP(E284,'3-3 위험성평가'!$A$5:$P$423,5,0),\"\")","v":""},{"$f":"IF(MAX('3-3 위험성평가'!$A$4:$A$423)+1>E284,VLOOKUP(E284,'3-3 위험성평가'!$A$5:$P$423,6,0),\"\")","v":""},{"$f":"IF(MAX('3-3 위험성평가'!$A$4:$A$423)+1>E284,VLOOKUP(E284,'3-3 위험성평가'!$A$5:$P$423,9,0),\"\")","v":""},{"$f":"IF(MAX('3-3 위험성평가'!$A$4:$A$423)+1>E284,VLOOKUP(E284,'3-3 위험성평가'!$A$5:$P$423,12,0),\"\")&IF(L284>\"\",\".\"&E284,\"\")","v":""},{"$f":"IF(MAX('3-3 위험성평가'!$A$4:$A$423)+1>E284,VLOOKUP(E284,'3-3 위험성평가'!$A$5:$P$423,13,0),\"\")","v":""},null,"하",null,null,null,null,null,null,null,"선택안함",0,{"$f":"IF(MAX('3-3 위험성평가'!$A$4:$A$423)+1>E284,VLOOKUP(E284,'3-3 위험성평가'!$A$5:$Q$423,17,0),\"\")","v":""},"선택",{"$f":"표지!$D$33","v":0},{"$f":"표지!$E$34","v":0},"선택안함",0]
["T20",2,"S40",4,277,{"$f":"IF(MAX('3-3 위험성평가'!$A$4:$A$423)+1>E285,VLOOKUP(E285,'3-3 위험성평가'!$A$5:$P$423,2,0),\"\")","v":""},{"$f":"IF(F285=\"\",\"\",VLOOKUP(VALUE(F285),'1-1 사업장 공정 정보'!$D$15:$P$41,5,0))","v":""},{"$f":"IF(MAX('3-3 위험성평가'!$A$4:$A$423)+1>E285,VLOOKUP(E285,'3-3 위험성평가'!$A$5:$P$423,3,0),\"\")","v":""},{"$f":"IF(MAX('3-3 위험성평가'!$A$4:$A$423)+1>E285,VLOOKUP(E285,'3-3 위험성평가'!$A$5:$P$423,4,0),\"\")","v":""},{"$f":"IF(MAX('3-3 위험성평가'!$A$4:$A$423)+1>E285,VLOOKUP(E285,'3-3 위험성평가'!$A$5:$P$423,5,0),\"\")","v":""},{"$f":"IF(MAX('3-3 위험성평가'!$A$4:$A$423)+1>E285,VLOOKUP(E285,'3-3 위험성평가'!$A$5:$P$423,6,0),\"\")","v":""},{"$f":"IF(MAX('3-3 위험성평가'!$A$4:$A$423)+1>E285,VLOOKUP(E285,'3-3 위험성평가'!$A$5:$P$423,9,0),\"\")","v":""},{"$f":"IF(MAX('3-3 위험성평가'!$A$4:$A$423)+1>E285,VLOOKUP(E285,'3-3 위험성평가'!$A$5:$P$423,12,0),\"\")&IF(L285>\"\",\".\"&E285,\"\")","v":""},{"$f":"IF(MAX('3-3 위험성평가'!$A$4:$A$423)+1>E285,VLOOKUP(E285,'3-3 위험성평가'!$A$5:$P$423,13,0),\"\")","v":""},null,"하",null,null,null,null,null,null,null,"선택안함",0,{"$f":"IF(MAX('3-3 위험성평가'!$A$4:$A$423)+1>E285,VLOOKUP(E285,'3-3 위험성평가'!$A$5:$Q$423,17,0),\"\")","v":""},"선택",{"$f":"표지!$D$33","v":0},{"$f":"표지!$E$34","v":0},"선택안함",0]
["T20",2,"S40",4,278,{"$f":"IF(MAX('3-3 위험성평가'!$A$4:$A$423)+1>E286,VLOOKUP(E286,'3-3 위험성평가'!$A$5:$P$423,2,0),\"\")","v":""},{"$f":"IF(F286=\"\",\"\",VLOOKUP(VALUE(F286),'1-1 사업장 공정 정보'!$D$15:$P$41,5,0))","v":""},{"$f":"IF(MAX('3-3 위험성평가'!$A$4:$A$423)+1>E286,VLOOKUP(E286,'3-3 위험성평가'!$A$5:$P$423,3,0),\"\")","v":""},{"$f":"IF(MAX('3-3 위험성평가'!$A$4:$A$423)+1>E286,VLOOKUP(E286,'3-3 위험성평가'!$A$5:$P$423,4,0),\"\")","v":""},{"$f":"IF(MAX('3-3 위험성평가'!$A$4:$A$423)+1>E286,VLOOKUP(E286,'3-3 위험성평가'!$A$5:$P$423,5,0),\"\")","v":""},{"$f":"IF(MAX('3-3 위험성평가'!$A$4:$A$423)+1>E286,VLOOKUP(E286,'3-3 위험성평가'!$A$5:$P$423,6,0),\"\")","v":""},{"$f":"IF(MAX('3-3 위험성평가'!$A$4:$A$423)+1>E286,VLOOKUP(E286,'3-3 위험성평가'!$A$5:$P$423,9,0),\"\")","v":""},{"$f":"IF(MAX('3-3 위험성평가'!$A$4:$A$423)+1>E286,VLOOKUP(E286,'3-3 위험성평가'!$A$5:$P$423,12,0),\"\")&IF(L286>\"\",\".\"&E286,\"\")","v":""},{"$f":"IF(MAX('3-3 위험성평가'!$A$4:$A$423)+1>E286,VLOOKUP(E286,'3-3 위험성평가'!$A$5:$P$423,13,0),\"\")","v":""},null,"하",null,null,null,null,null,null,null,"선택안함",0,{"$f":"IF(MAX('3-3 위험성평가'!$A$4:$A$423)+1>E286,VLOOKUP(E286,'3-3 위험성평가'!$A$5:$Q$423,17,0),\"\")","v":""},"선택",{"$f":"표지!$D$33","v":0},{"$f":"표지!$E$34","v":0},"선택안함",0]
["T20",2,"S40",4,279,{"$f":"IF(MAX('3-3 위험성평가'!$A$4:$A$423)+1>E287,VLOOKUP(E287,'3-3 위험성평가'!$A$5:$P$423,2,0),\"\")","v":""},{"$f":"IF(F287=\"\",\"\",VLOOKUP(VALUE(F287),'1-1 사업장 공정 정보'!$D$15:$P$41,5,0))","v":""},{"$f":"IF(MAX('3-3 위험성평가'!$A$4:$A$423)+1>E287,VLOOKUP(E287,'3-3 위험성평가'!$A$5:$P$423,3,0),\"\")","v":""},{"$f":"IF(MAX('3-3 위험성평가'!$A$4:$A$423)+1>E287,VLOOKUP(E287,'3-3 위험성평가'!$A$5:$P$423,4,0),\"\")","v":""},{"$f":"IF(MAX('3-3 위험성평가'!$A$4:$A$423)+1>E287,VLOOKUP(E287,'3-3 위험성평가'!$A$5:$P$423,5,0),\"\")","v":""},{"$f":"IF(MAX('3-3 위험성평가'!$A$4:$A$423)+1>E287,VLOOKUP(E287,'3-3 위험성평가'!$A$5:$P$423,6,0),\"\")","v":""},{"$f":"IF(MAX('3-3 위험성평가'!$A$4:$A$423)+1>E287,VLOOKUP(E287,'3-3 위험성평가'!$A$5:$P$423,9,0),\"\")","v":""},{"$f":"IF(MAX('3-3 위험성평가'!$A$4:$A$423)+1>E287,VLOOKUP(E287,'3-3 위험성평가'!$A$5:$P$423,12,0),\"\")&IF(L287>\"\",\".\"&E287,\"\")","v":""},{"$f":"IF(MAX('3-3 위험성평가'!$A$4:$A$423)+1>E287,VLOOKUP(E287,'3-3 위험성평가'!$A$5:$P$423,13,0),\"\")","v":""},null,"하",null,null,null,null,null,null,null,"선택안함",0,{"$f":"IF(MAX('3-3 위험성평가'!$A$4:$A$423)+1>E287,VLOOKUP(E287,'3-3 위험성평가'!$A$5:$Q$423,17,0),\"\")","v":""},"선택",{"$f":"표지!$D$33","v":0},{"$f":"표지!$E$34","v":0},"선택안함",0]
["T20",2,"S40",4,280,{"$f":"IF(MAX('3-3 위험성평가'!$A$4:$A$423)+1>E288,VLOOKUP(E288,'3-3 위험성평가'!$A$5:$P$423,2,0),\"\")","v":""},{"$f":"IF(F288=\"\",\"\",VLOOKUP(VALUE(F288),'1-1 사업장 공정 정보'!$D$15:$P$41,5,0))","v":""},{"$f":"IF(MAX('3-3 위험성평가'!$A$4:$A$423)+1>E288,VLOOKUP(E288,'3-3 위험성평가'!$A$5:$P$423,3,0),\"\")","v":""},{"$f":"IF(MAX('3-3 위험성평가'!$A$4:$A$423)+1>E288,VLOOKUP(E288,'3-3 위험성평가'!$A$5:$P$423,4,0),\"\")","v":""},{"$f":"IF(MAX('3-3 위험성평가'!$A$4:$A$423)+1>E288,VLOOKUP(E288,'3-3 위험성평가'!$A$5:$P$423,5,0),\"\")","v":""},{"$f":"IF(MAX('3-3 위험성평가'!$A$4:$A$423)+1>E288,VLOOKUP(E288,'3-3 위험성평가'!$A$5:$P$423,6,0),\"\")","v":""},{"$f":"IF(MAX('3-3 위험성평가'!$A$4:$A$423)+1>E288,VLOOKUP(E288,'3-3 위험성평가'!$A$5:$P$423,9,0),\"\")","v":""},{"$f":"IF(MAX('3-3 위험성평가'!$A$4:$A$423)+1>E288,VLOOKUP(E288,'3-3 위험성평가'!$A$5:$P$423,12,0),\"\")&IF(L288>\"\",\".\"&E288,\"\")","v":""},{"$f":"IF(MAX('3-3 위험성평가'!$A$4:$A$423)+1>E288,VLOOKUP(E288,'3-3 위험성평가'!$A$5:$P$423,13,0),\"\")","v":""},null,"하",null,null,null,null,null,null,null,"선택안함",0,{"$f":"IF(MAX('3-3 위험성평가'!$A$4:$A$423)+1>E288,VLOOKUP(E288,'3-3 위험성평가'!$A$5:$Q$423,17,0),\"\")","v":""},"선택",{"$f":"표지!$D$33","v":0},{"$f":"표지!$E$34","v":0},"선택안함",0]
["T20",2,"S40",4,281,{"$f":"IF(MAX('3-3 위험성평가'!$A$4:$A$423)+1>E289,VLOOKUP(E289,'3-3 위험성평가'!$A$5:$P$423,2,0),\"\")","v":""},{"$f":"IF(F289=\"\",\"\",VLOOKUP(VALUE(F289),'1-1 사업장 공정 정보'!$D$15:$P$41,5,0))","v":""},{"$f":"IF(MAX('3-3 위험성평가'!$A$4:$A$423)+1>E289,VLOOKUP(E289,'3-3 위험성평가'!$A$5:$P$423,3,0),\"\")","v":""},{"$f":"IF(MAX('3-3 위험성평가'!$A$4:$A$423)+1>E289,VLOOKUP(E289,'3-3 위험성평가'!$A$5:$P$423,4,0),\"\")","v":""},{"$f":"IF(MAX('3-3 위험성평가'!$A$4:$A$423)+1>E289,VLOOKUP(E289,'3-3 위험성평가'!$A$5:$P$423,5,0),\"\")","v":""},{"$f":"IF(MAX('3-3 위험성평가'!$A$4:$A$423)+1>E289,VLOOKUP(E289,'3-3 위험성평가'!$A$5:$P$423,6,0),\"\")","v":""},{"$f":"IF(MAX('3-3 위험성평가'!$A$4:$A$423)+1>E289,VLOOKUP(E289,'3-3 위험성평가'!$A$5:$P$423,9,0),\"\")","v":""},{"$f":"IF(MAX('3-3 위험성평가'!$A$4:$A$423)+1>E289,VLOOKUP(E289,'3-3 위험성평가'!$A$5:$P$423,12,0),\"\")&IF(L289>\"\",\".\"&E289,\"\")","v":""},{"$f":"IF(MAX('3-3 위험성평가'!$A$4:$A$423)+1>E289,VLOOKUP(E289,'3-3 위험성평가'!$A$5:$P$423,13,0),\"\")","v":""},null,"하",null,null,null,null,null,null,null,"선택안함",0,{"$f":"IF(MAX('3-3 위험성평가'!$A$4:$A$423)+1>E289,VLOOKUP(E289,'3-3 위험성평가'!$A$5:$Q$423,17,0),\"\")","v":""},"선택",{"$f":"표지!$D$33","v":0},{"$f":"표지!$E$34","v":0},"선택안함",0]
["T20",2,"S40",4,282,{"$f":"IF(MAX('3-3 위험성평가'!$A$4:$A$423)+1>E290,VLOOKUP(E290,'3-3 위험성평가'!$A$5:$P$423,2,0),\"\")","v":""},{"$f":"IF(F290=\"\",\"\",VLOOKUP(VALUE(F290),'1-1 사업장 공정 정보'!$D$15:$P$41,5,0))","v":""},{"$f":"IF(MAX('3-3 위험성평가'!$A$4:$A$423)+1>E290,VLOOKUP(E290,'3-3 위험성평가'!$A$5:$P$423,3,0),\"\")","v":""},{"$f":"IF(MAX('3-3 위험성평가'!$A$4:$A$423)+1>E290,VLOOKUP(E290,'3-3 위험성평가'!$A$5:$P$423,4,0),\"\")","v":""},{"$f":"IF(MAX('3-3 위험성평가'!$A$4:$A$423)+1>E290,VLOOKUP(E290,'3-3 위험성평가'!$A$5:$P$423,5,0),\"\")","v":""},{"$f":"IF(MAX('3-3 위험성평가'!$A$4:$A$423)+1>E290,VLOOKUP(E290,'3-3 위험성평가'!$A$5:$P$423,6,0),\"\")","v":""},{"$f":"IF(MAX('3-3 위험성평가'!$A$4:$A$423)+1>E290,VLOOKUP(E290,'3-3 위험성평가'!$A$5:$P$423,9,0),\"\")","v":""},{"$f":"IF(MAX('3-3 위험성평가'!$A$4:$A$423)+1>E290,VLOOKUP(E290,'3-3 위험성평가'!$A$5:$P$423,12,0),\"\")&IF(L290>\"\",\".\"&E290,\"\")","v":""},{"$f":"IF(MAX('3-3 위험성평가'!$A$4:$A$423)+1>E290,VLOOKUP(E290,'3-3 위험성평가'!$A$5:$P$423,13,0),\"\")","v":""},null,"하",null,null,null,null,null,null,null,"선택안함",0,{"$f":"IF(MAX('3-3 위험성평가'!$A$4:$A$423)+1>E290,VLOOKUP(E290,'3-3 위험성평가'!$A$5:$Q$423,17,0),\"\")","v":""},"선택",{"$f":"표지!$D$33","v":0},{"$f":"표지!$E$34","v":0},"선택안함",0]
["T20",2,"S40",4,283,{"$f":"IF(MAX('3-3 위험성평가'!$A$4:$A$423)+1>E291,VLOOKUP(E291,'3-3 위험성평가'!$A$5:$P$423,2,0),\"\")","v":""},{"$f":"IF(F291=\"\",\"\",VLOOKUP(VALUE(F291),'1-1 사업장 공정 정보'!$D$15:$P$41,5,0))","v":""},{"$f":"IF(MAX('3-3 위험성평가'!$A$4:$A$423)+1>E291,VLOOKUP(E291,'3-3 위험성평가'!$A$5:$P$423,3,0),\"\")","v":""},{"$f":"IF(MAX('3-3 위험성평가'!$A$4:$A$423)+1>E291,VLOOKUP(E291,'3-3 위험성평가'!$A$5:$P$423,4,0),\"\")","v":""},{"$f":"IF(MAX('3-3 위험성평가'!$A$4:$A$423)+1>E291,VLOOKUP(E291,'3-3 위험성평가'!$A$5:$P$423,5,0),\"\")","v":""},{"$f":"IF(MAX('3-3 위험성평가'!$A$4:$A$423)+1>E291,VLOOKUP(E291,'3-3 위험성평가'!$A$5:$P$423,6,0),\"\")","v":""},{"$f":"IF(MAX('3-3 위험성평가'!$A$4:$A$423)+1>E291,VLOOKUP(E291,'3-3 위험성평가'!$A$5:$P$423,9,0),\"\")","v":""},{"$f":"IF(MAX('3-3 위험성평가'!$A$4:$A$423)+1>E291,VLOOKUP(E291,'3-3 위험성평가'!$A$5:$P$423,12,0),\"\")&IF(L291>\"\",\".\"&E291,\"\")","v":""},{"$f":"IF(MAX('3-3 위험성평가'!$A$4:$A$423)+1>E291,VLOOKUP(E291,'3-3 위험성평가'!$A$5:$P$423,13,0),\"\")","v":""},null,"하",null,null,null,null,null,null,null,"선택안함",0,{"$f":"IF(MAX('3-3 위험성평가'!$A$4:$A$423)+1>E291,VLOOKUP(E291,'3-3 위험성평가'!$A$5:$Q$423,17,0),\"\")","v":""},"선택",{"$f":"표지!$D$33","v":0},{"$f":"표지!$E$34","v":0},"선택안함",0]
["T20",2,"S40",4,284,{"$f":"IF(MAX('3-3 위험성평가'!$A$4:$A$423)+1>E292,VLOOKUP(E292,'3-3 위험성평가'!$A$5:$P$423,2,0),\"\")","v":""},{"$f":"IF(F292=\"\",\"\",VLOOKUP(VALUE(F292),'1-1 사업장 공정 정보'!$D$15:$P$41,5,0))","v":""},{"$f":"IF(MAX('3-3 위험성평가'!$A$4:$A$423)+1>E292,VLOOKUP(E292,'3-3 위험성평가'!$A$5:$P$423,3,0),\"\")","v":""},{"$f":"IF(MAX('3-3 위험성평가'!$A$4:$A$423)+1>E292,VLOOKUP(E292,'3-3 위험성평가'!$A$5:$P$423,4,0),\"\")","v":""},{"$f":"IF(MAX('3-3 위험성평가'!$A$4:$A$423)+1>E292,VLOOKUP(E292,'3-3 위험성평가'!$A$5:$P$423,5,0),\"\")","v":""},{"$f":"IF(MAX('3-3 위험성평가'!$A$4:$A$423)+1>E292,VLOOKUP(E292,'3-3 위험성평가'!$A$5:$P$423,6,0),\"\")","v":""},{"$f":"IF(MAX('3-3 위험성평가'!$A$4:$A$423)+1>E292,VLOOKUP(E292,'3-3 위험성평가'!$A$5:$P$423,9,0),\"\")","v":""},{"$f":"IF(MAX('3-3 위험성평가'!$A$4:$A$423)+1>E292,VLOOKUP(E292,'3-3 위험성평가'!$A$5:$P$423,12,0),\"\")&IF(L292>\"\",\".\"&E292,\"\")","v":""},{"$f":"IF(MAX('3-3 위험성평가'!$A$4:$A$423)+1>E292,VLOOKUP(E292,'3-3 위험성평가'!$A$5:$P$423,13,0),\"\")","v":""},null,"하",null,null,null,null,null,null,null,"선택안함",0,{"$f":"IF(MAX('3-3 위험성평가'!$A$4:$A$423)+1>E292,VLOOKUP(E292,'3-3 위험성평가'!$A$5:$Q$423,17,0),\"\")","v":""},"선택",{"$f":"표지!$D$33","v":0},{"$f":"표지!$E$34","v":0},"선택안함",0]
["T20",2,"S40",4,285,{"$f":"IF(MAX('3-3 위험성평가'!$A$4:$A$423)+1>E293,VLOOKUP(E293,'3-3 위험성평가'!$A$5:$P$423,2,0),\"\")","v":""},{"$f":"IF(F293=\"\",\"\",VLOOKUP(VALUE(F293),'1-1 사업장 공정 정보'!$D$15:$P$41,5,0))","v":""},{"$f":"IF(MAX('3-3 위험성평가'!$A$4:$A$423)+1>E293,VLOOKUP(E293,'3-3 위험성평가'!$A$5:$P$423,3,0),\"\")","v":""},{"$f":"IF(MAX('3-3 위험성평가'!$A$4:$A$423)+1>E293,VLOOKUP(E293,'3-3 위험성평가'!$A$5:$P$423,4,0),\"\")","v":""},{"$f":"IF(MAX('3-3 위험성평가'!$A$4:$A$423)+1>E293,VLOOKUP(E293,'3-3 위험성평가'!$A$5:$P$423,5,0),\"\")","v":""},{"$f":"IF(MAX('3-3 위험성평가'!$A$4:$A$423)+1>E293,VLOOKUP(E293,'3-3 위험성평가'!$A$5:$P$423,6,0),\"\")","v":""},{"$f":"IF(MAX('3-3 위험성평가'!$A$4:$A$423)+1>E293,VLOOKUP(E293,'3-3 위험성평가'!$A$5:$P$423,9,0),\"\")","v":""},{"$f":"IF(MAX('3-3 위험성평가'!$A$4:$A$423)+1>E293,VLOOKUP(E293,'3-3 위험성평가'!$A$5:$P$423,12,0),\"\")&IF(L293>\"\",\".\"&E293,\"\")","v":""},{"$f":"IF(MAX('3-3 위험성평가'!$A$4:$A$423)+1>E293,VLOOKUP(E293,'3-3 위험성평가'!$A$5:$P$423,13,0),\"\")","v":""},null,"하",null,null,null,null,null,null,null,"선택안함",0,{"$f":"IF(MAX('3-3 위험성평가'!$A$4:$A$423)+1>E293,VLOOKUP(E293,'3-3 위험성평가'!$A$5:$Q$423,17,0),\"\")","v":""},"선택",{"$f":"표지!$D$33","v":0},{"$f":"표지!$E$34","v":0},"선택안함",0]
["T20",2,"S40",4,286,{"$f":"IF(MAX('3-3 위험성평가'!$A$4:$A$423)+1>E294,VLOOKUP(E294,'3-3 위험성평가'!$A$5:$P$423,2,0),\"\")","v":""},{"$f":"IF(F294=\"\",\"\",VLOOKUP(VALUE(F294),'1-1 사업장 공정 정보'!$D$15:$P$41,5,0))","v":""},{"$f":"IF(MAX('3-3 위험성평가'!$A$4:$A$423)+1>E294,VLOOKUP(E294,'3-3 위험성평가'!$A$5:$P$423,3,0),\"\")","v":""},{"$f":"IF(MAX('3-3 위험성평가'!$A$4:$A$423)+1>E294,VLOOKUP(E294,'3-3 위험성평가'!$A$5:$P$423,4,0),\"\")","v":""},{"$f":"IF(MAX('3-3 위험성평가'!$A$4:$A$423)+1>E294,VLOOKUP(E294,'3-3 위험성평가'!$A$5:$P$423,5,0),\"\")","v":""},{"$f":"IF(MAX('3-3 위험성평가'!$A$4:$A$423)+1>E294,VLOOKUP(E294,'3-3 위험성평가'!$A$5:$P$423,6,0),\"\")","v":""},{"$f":"IF(MAX('3-3 위험성평가'!$A$4:$A$423)+1>E294,VLOOKUP(E294,'3-3 위험성평가'!$A$5:$P$423,9,0),\"\")","v":""},{"$f":"IF(MAX('3-3 위험성평가'!$A$4:$A$423)+1>E294,VLOOKUP(E294,'3-3 위험성평가'!$A$5:$P$423,12,0),\"\")&IF(L294>\"\",\".\"&E294,\"\")","v":""},{"$f":"IF(MAX('3-3 위험성평가'!$A$4:$A$423)+1>E294,VLOOKUP(E294,'3-3 위험성평가'!$A$5:$P$423,13,0),\"\")","v":""},null,"하",null,null,null,null,null,null,null,"선택안함",0,{"$f":"IF(MAX('3-3 위험성평가'!$A$4:$A$423)+1>E294,VLOOKUP(E294,'3-3 위험성평가'!$A$5:$Q$423,17,0),\"\")","v":""},"선택",{"$f":"표지!$D$33","v":0},{"$f":"표지!$E$34","v":0},"선택안함",0]
["T20",2,"S40",4,287,{"$f":"IF(MAX('3-3 위험성평가'!$A$4:$A$423)+1>E295,VLOOKUP(E295,'3-3 위험성평가'!$A$5:$P$423,2,0),\"\")","v":""},{"$f":"IF(F295=\"\",\"\",VLOOKUP(VALUE(F295),'1-1 사업장 공정 정보'!$D$15:$P$41,5,0))","v":""},{"$f":"IF(MAX('3-3 위험성평가'!$A$4:$A$423)+1>E295,VLOOKUP(E295,'3-3 위험성평가'!$A$5:$P$423,3,0),\"\")","v":""},{"$f":"IF(MAX('3-3 위험성평가'!$A$4:$A$423)+1>E295,VLOOKUP(E295,'3-3 위험성평가'!$A$5:$P$423,4,0),\"\")","v":""},{"$f":"IF(MAX('3-3 위험성평가'!$A$4:$A$423)+1>E295,VLOOKUP(E295,'3-3 위험성평가'!$A$5:$P$423,5,0),\"\")","v":""},{"$f":"IF(MAX('3-3 위험성평가'!$A$4:$A$423)+1>E295,VLOOKUP(E295,'3-3 위험성평가'!$A$5:$P$423,6,0),\"\")","v":""},{"$f":"IF(MAX('3-3 위험성평가'!$A$4:$A$423)+1>E295,VLOOKUP(E295,'3-3 위험성평가'!$A$5:$P$423,9,0),\"\")","v":""},{"$f":"IF(MAX('3-3 위험성평가'!$A$4:$A$423)+1>E295,VLOOKUP(E295,'3-3 위험성평가'!$A$5:$P$423,12,0),\"\")&IF(L295>\"\",\".\"&E295,\"\")","v":""},{"$f":"IF(MAX('3-3 위험성평가'!$A$4:$A$423)+1>E295,VLOOKUP(E295,'3-3 위험성평가'!$A$5:$P$423,13,0),\"\")","v":""},null,"하",null,null,null,null,null,null,null,"선택안함",0,{"$f":"IF(MAX('3-3 위험성평가'!$A$4:$A$423)+1>E295,VLOOKUP(E295,'3-3 위험성평가'!$A$5:$Q$423,17,0),\"\")","v":""},"선택",{"$f":"표지!$D$33","v":0},{"$f":"표지!$E$34","v":0},"선택안함",0]
["T20",2,"S40",4,288,{"$f":"IF(MAX('3-3 위험성평가'!$A$4:$A$423)+1>E296,VLOOKUP(E296,'3-3 위험성평가'!$A$5:$P$423,2,0),\"\")","v":""},{"$f":"IF(F296=\"\",\"\",VLOOKUP(VALUE(F296),'1-1 사업장 공정 정보'!$D$15:$P$41,5,0))","v":""},{"$f":"IF(MAX('3-3 위험성평가'!$A$4:$A$423)+1>E296,VLOOKUP(E296,'3-3 위험성평가'!$A$5:$P$423,3,0),\"\")","v":""},{"$f":"IF(MAX('3-3 위험성평가'!$A$4:$A$423)+1>E296,VLOOKUP(E296,'3-3 위험성평가'!$A$5:$P$423,4,0),\"\")","v":""},{"$f":"IF(MAX('3-3 위험성평가'!$A$4:$A$423)+1>E296,VLOOKUP(E296,'3-3 위험성평가'!$A$5:$P$423,5,0),\"\")","v":""},{"$f":"IF(MAX('3-3 위험성평가'!$A$4:$A$423)+1>E296,VLOOKUP(E296,'3-3 위험성평가'!$A$5:$P$423,6,0),\"\")","v":""},{"$f":"IF(MAX('3-3 위험성평가'!$A$4:$A$423)+1>E296,VLOOKUP(E296,'3-3 위험성평가'!$A$5:$P$423,9,0),\"\")","v":""},{"$f":"IF(MAX('3-3 위험성평가'!$A$4:$A$423)+1>E296,VLOOKUP(E296,'3-3 위험성평가'!$A$5:$P$423,12,0),\"\")&IF(L296>\"\",\".\"&E296,\"\")","v":""},{"$f":"IF(MAX('3-3 위험성평가'!$A$4:$A$423)+1>E296,VLOOKUP(E296,'3-3 위험성평가'!$A$5:$P$423,13,0),\"\")","v":""},null,"하",null,null,null,null,null,null,null,"선택안함",0,{"$f":"IF(MAX('3-3 위험성평가'!$A$4:$A$423)+1>E296,VLOOKUP(E296,'3-3 위험성평가'!$A$5:$Q$423,17,0),\"\")","v":""},"선택",{"$f":"표지!$D$33","v":0},{"$f":"표지!$E$34","v":0},"선택안함",0]
["T20",2,"S40",4,289,{"$f":"IF(MAX('3-3 위험성평가'!$A$4:$A$423)+1>E297,VLOOKUP(E297,'3-3 위험성평가'!$A$5:$P$423,2,0),\"\")","v":""},{"$f":"IF(F297=\"\",\"\",VLOOKUP(VALUE(F297),'1-1 사업장 공정 정보'!$D$15:$P$41,5,0))","v":""},{"$f":"IF(MAX('3-3 위험성평가'!$A$4:$A$423)+1>E297,VLOOKUP(E297,'3-3 위험성평가'!$A$5:$P$423,3,0),\"\")","v":""},{"$f":"IF(MAX('3-3 위험성평가'!$A$4:$A$423)+1>E297,VLOOKUP(E297,'3-3 위험성평가'!$A$5:$P$423,4,0),\"\")","v":""},{"$f":"IF(MAX('3-3 위험성평가'!$A$4:$A$423)+1>E297,VLOOKUP(E297,'3-3 위험성평가'!$A$5:$P$423,5,0),\"\")","v":""},{"$f":"IF(MAX('3-3 위험성평가'!$A$4:$A$423)+1>E297,VLOOKUP(E297,'3-3 위험성평가'!$A$5:$P$423,6,0),\"\")","v":""},{"$f":"IF(MAX('3-3 위험성평가'!$A$4:$A$423)+1>E297,VLOOKUP(E297,'3-3 위험성평가'!$A$5:$P$423,9,0),\"\")","v":""},{"$f":"IF(MAX('3-3 위험성평가'!$A$4:$A$423)+1>E297,VLOOKUP(E297,'3-3 위험성평가'!$A$5:$P$423,12,0),\"\")&IF(L297>\"\",\".\"&E297,\"\")","v":""},{"$f":"IF(MAX('3-3 위험성평가'!$A$4:$A$423)+1>E297,VLOOKUP(E297,'3-3 위험성평가'!$A$5:$P$423,13,0),\"\")","v":""},null,"하",null,null,null,null,null,null,null,"선택안함",0,{"$f":"IF(MAX('3-3 위험성평가'!$A$4:$A$423)+1>E297,VLOOKUP(E297,'3-3 위험성평가'!$A$5:$Q$423,17,0),\"\")","v":""},"선택",{"$f":"표지!$D$33","v":0},{"$f":"표지!$E$34","v":0},"선택안함",0]
["T20",2,"S40",4,290,{"$f":"IF(MAX('3-3 위험성평가'!$A$4:$A$423)+1>E298,VLOOKUP(E298,'3-3 위험성평가'!$A$5:$P$423,2,0),\"\")","v":""},{"$f":"IF(F298=\"\",\"\",VLOOKUP(VALUE(F298),'1-1 사업장 공정 정보'!$D$15:$P$41,5,0))","v":""},{"$f":"IF(MAX('3-3 위험성평가'!$A$4:$A$423)+1>E298,VLOOKUP(E298,'3-3 위험성평가'!$A$5:$P$423,3,0),\"\")","v":""},{"$f":"IF(MAX('3-3 위험성평가'!$A$4:$A$423)+1>E298,VLOOKUP(E298,'3-3 위험성평가'!$A$5:$P$423,4,0),\"\")","v":""},{"$f":"IF(MAX('3-3 위험성평가'!$A$4:$A$423)+1>E298,VLOOKUP(E298,'3-3 위험성평가'!$A$5:$P$423,5,0),\"\")","v":""},{"$f":"IF(MAX('3-3 위험성평가'!$A$4:$A$423)+1>E298,VLOOKUP(E298,'3-3 위험성평가'!$A$5:$P$423,6,0),\"\")","v":""},{"$f":"IF(MAX('3-3 위험성평가'!$A$4:$A$423)+1>E298,VLOOKUP(E298,'3-3 위험성평가'!$A$5:$P$423,9,0),\"\")","v":""},{"$f":"IF(MAX('3-3 위험성평가'!$A$4:$A$423)+1>E298,VLOOKUP(E298,'3-3 위험성평가'!$A$5:$P$423,12,0),\"\")&IF(L298>\"\",\".\"&E298,\"\")","v":""},{"$f":"IF(MAX('3-3 위험성평가'!$A$4:$A$423)+1>E298,VLOOKUP(E298,'3-3 위험성평가'!$A$5:$P$423,13,0),\"\")","v":""},null,"하",null,null,null,null,null,null,null,"선택안함",0,{"$f":"IF(MAX('3-3 위험성평가'!$A$4:$A$423)+1>E298,VLOOKUP(E298,'3-3 위험성평가'!$A$5:$Q$423,17,0),\"\")","v":""},"선택",{"$f":"표지!$D$33","v":0},{"$f":"표지!$E$34","v":0},"선택안함",0]
["T20",2,"S40",4,291,{"$f":"IF(MAX('3-3 위험성평가'!$A$4:$A$423)+1>E299,VLOOKUP(E299,'3-3 위험성평가'!$A$5:$P$423,2,0),\"\")","v":""},{"$f":"IF(F299=\"\",\"\",VLOOKUP(VALUE(F299),'1-1 사업장 공정 정보'!$D$15:$P$41,5,0))","v":""},{"$f":"IF(MAX('3-3 위험성평가'!$A$4:$A$423)+1>E299,VLOOKUP(E299,'3-3 위험성평가'!$A$5:$P$423,3,0),\"\")","v":""},{"$f":"IF(MAX('3-3 위험성평가'!$A$4:$A$423)+1>E299,VLOOKUP(E299,'3-3 위험성평가'!$A$5:$P$423,4,0),\"\")","v":""},{"$f":"IF(MAX('3-3 위험성평가'!$A$4:$A$423)+1>E299,VLOOKUP(E299,'3-3 위험성평가'!$A$5:$P$423,5,0),\"\")","v":""},{"$f":"IF(MAX('3-3 위험성평가'!$A$4:$A$423)+1>E299,VLOOKUP(E299,'3-3 위험성평가'!$A$5:$P$423,6,0),\"\")","v":""},{"$f":"IF(MAX('3-3 위험성평가'!$A$4:$A$423)+1>E299,VLOOKUP(E299,'3-3 위험성평가'!$A$5:$P$423,9,0),\"\")","v":""},{"$f":"IF(MAX('3-3 위험성평가'!$A$4:$A$423)+1>E299,VLOOKUP(E299,'3-3 위험성평가'!$A$5:$P$423,12,0),\"\")&IF(L299>\"\",\".\"&E299,\"\")","v":""},{"$f":"IF(MAX('3-3 위험성평가'!$A$4:$A$423)+1>E299,VLOOKUP(E299,'3-3 위험성평가'!$A$5:$P$423,13,0),\"\")","v":""},null,"하",null,null,null,null,null,null,null,"선택안함",0,{"$f":"IF(MAX('3-3 위험성평가'!$A$4:$A$423)+1>E299,VLOOKUP(E299,'3-3 위험성평가'!$A$5:$Q$423,17,0),\"\")","v":""},"선택",{"$f":"표지!$D$33","v":0},{"$f":"표지!$E$34","v":0},"선택안함",0]
["T20",2,"S40",4,292,{"$f":"IF(MAX('3-3 위험성평가'!$A$4:$A$423)+1>E300,VLOOKUP(E300,'3-3 위험성평가'!$A$5:$P$423,2,0),\"\")","v":""},{"$f":"IF(F300=\"\",\"\",VLOOKUP(VALUE(F300),'1-1 사업장 공정 정보'!$D$15:$P$41,5,0))","v":""},{"$f":"IF(MAX('3-3 위험성평가'!$A$4:$A$423)+1>E300,VLOOKUP(E300,'3-3 위험성평가'!$A$5:$P$423,3,0),\"\")","v":""},{"$f":"IF(MAX('3-3 위험성평가'!$A$4:$A$423)+1>E300,VLOOKUP(E300,'3-3 위험성평가'!$A$5:$P$423,4,0),\"\")","v":""},{"$f":"IF(MAX('3-3 위험성평가'!$A$4:$A$423)+1>E300,VLOOKUP(E300,'3-3 위험성평가'!$A$5:$P$423,5,0),\"\")","v":""},{"$f":"IF(MAX('3-3 위험성평가'!$A$4:$A$423)+1>E300,VLOOKUP(E300,'3-3 위험성평가'!$A$5:$P$423,6,0),\"\")","v":""},{"$f":"IF(MAX('3-3 위험성평가'!$A$4:$A$423)+1>E300,VLOOKUP(E300,'3-3 위험성평가'!$A$5:$P$423,9,0),\"\")","v":""},{"$f":"IF(MAX('3-3 위험성평가'!$A$4:$A$423)+1>E300,VLOOKUP(E300,'3-3 위험성평가'!$A$5:$P$423,12,0),\"\")&IF(L300>\"\",\".\"&E300,\"\")","v":""},{"$f":"IF(MAX('3-3 위험성평가'!$A$4:$A$423)+1>E300,VLOOKUP(E300,'3-3 위험성평가'!$A$5:$P$423,13,0),\"\")","v":""},null,"하",null,null,null,null,null,null,null,"선택안함",0,{"$f":"IF(MAX('3-3 위험성평가'!$A$4:$A$423)+1>E300,VLOOKUP(E300,'3-3 위험성평가'!$A$5:$Q$423,17,0),\"\")","v":""},"선택",{"$f":"표지!$D$33","v":0},{"$f":"표지!$E$34","v":0},"선택안함",0]
["T20",2,"S40",4,293,{"$f":"IF(MAX('3-3 위험성평가'!$A$4:$A$423)+1>E301,VLOOKUP(E301,'3-3 위험성평가'!$A$5:$P$423,2,0),\"\")","v":""},{"$f":"IF(F301=\"\",\"\",VLOOKUP(VALUE(F301),'1-1 사업장 공정 정보'!$D$15:$P$41,5,0))","v":""},{"$f":"IF(MAX('3-3 위험성평가'!$A$4:$A$423)+1>E301,VLOOKUP(E301,'3-3 위험성평가'!$A$5:$P$423,3,0),\"\")","v":""},{"$f":"IF(MAX('3-3 위험성평가'!$A$4:$A$423)+1>E301,VLOOKUP(E301,'3-3 위험성평가'!$A$5:$P$423,4,0),\"\")","v":""},{"$f":"IF(MAX('3-3 위험성평가'!$A$4:$A$423)+1>E301,VLOOKUP(E301,'3-3 위험성평가'!$A$5:$P$423,5,0),\"\")","v":""},{"$f":"IF(MAX('3-3 위험성평가'!$A$4:$A$423)+1>E301,VLOOKUP(E301,'3-3 위험성평가'!$A$5:$P$423,6,0),\"\")","v":""},{"$f":"IF(MAX('3-3 위험성평가'!$A$4:$A$423)+1>E301,VLOOKUP(E301,'3-3 위험성평가'!$A$5:$P$423,9,0),\"\")","v":""},{"$f":"IF(MAX('3-3 위험성평가'!$A$4:$A$423)+1>E301,VLOOKUP(E301,'3-3 위험성평가'!$A$5:$P$423,12,0),\"\")&IF(L301>\"\",\".\"&E301,\"\")","v":""},{"$f":"IF(MAX('3-3 위험성평가'!$A$4:$A$423)+1>E301,VLOOKUP(E301,'3-3 위험성평가'!$A$5:$P$423,13,0),\"\")","v":""},null,"하",null,null,null,null,null,null,null,"선택안함",0,{"$f":"IF(MAX('3-3 위험성평가'!$A$4:$A$423)+1>E301,VLOOKUP(E301,'3-3 위험성평가'!$A$5:$Q$423,17,0),\"\")","v":""},"선택",{"$f":"표지!$D$33","v":0},{"$f":"표지!$E$34","v":0},"선택안함",0]
["T20",2,"S40",4,294,{"$f":"IF(MAX('3-3 위험성평가'!$A$4:$A$423)+1>E302,VLOOKUP(E302,'3-3 위험성평가'!$A$5:$P$423,2,0),\"\")","v":""},{"$f":"IF(F302=\"\",\"\",VLOOKUP(VALUE(F302),'1-1 사업장 공정 정보'!$D$15:$P$41,5,0))","v":""},{"$f":"IF(MAX('3-3 위험성평가'!$A$4:$A$423)+1>E302,VLOOKUP(E302,'3-3 위험성평가'!$A$5:$P$423,3,0),\"\")","v":""},{"$f":"IF(MAX('3-3 위험성평가'!$A$4:$A$423)+1>E302,VLOOKUP(E302,'3-3 위험성평가'!$A$5:$P$423,4,0),\"\")","v":""},{"$f":"IF(MAX('3-3 위험성평가'!$A$4:$A$423)+1>E302,VLOOKUP(E302,'3-3 위험성평가'!$A$5:$P$423,5,0),\"\")","v":""},{"$f":"IF(MAX('3-3 위험성평가'!$A$4:$A$423)+1>E302,VLOOKUP(E302,'3-3 위험성평가'!$A$5:$P$423,6,0),\"\")","v":""},{"$f":"IF(MAX('3-3 위험성평가'!$A$4:$A$423)+1>E302,VLOOKUP(E302,'3-3 위험성평가'!$A$5:$P$423,9,0),\"\")","v":""},{"$f":"IF(MAX('3-3 위험성평가'!$A$4:$A$423)+1>E302,VLOOKUP(E302,'3-3 위험성평가'!$A$5:$P$423,12,0),\"\")&IF(L302>\"\",\".\"&E302,\"\")","v":""},{"$f":"IF(MAX('3-3 위험성평가'!$A$4:$A$423)+1>E302,VLOOKUP(E302,'3-3 위험성평가'!$A$5:$P$423,13,0),\"\")","v":""},null,"하",null,null,null,null,null,null,null,"선택안함",0,{"$f":"IF(MAX('3-3 위험성평가'!$A$4:$A$423)+1>E302,VLOOKUP(E302,'3-3 위험성평가'!$A$5:$Q$423,17,0),\"\")","v":""},"선택",{"$f":"표지!$D$33","v":0},{"$f":"표지!$E$34","v":0},"선택안함",0]
["T20",2,"S40",4,295,{"$f":"IF(MAX('3-3 위험성평가'!$A$4:$A$423)+1>E303,VLOOKUP(E303,'3-3 위험성평가'!$A$5:$P$423,2,0),\"\")","v":""},{"$f":"IF(F303=\"\",\"\",VLOOKUP(VALUE(F303),'1-1 사업장 공정 정보'!$D$15:$P$41,5,0))","v":""},{"$f":"IF(MAX('3-3 위험성평가'!$A$4:$A$423)+1>E303,VLOOKUP(E303,'3-3 위험성평가'!$A$5:$P$423,3,0),\"\")","v":""},{"$f":"IF(MAX('3-3 위험성평가'!$A$4:$A$423)+1>E303,VLOOKUP(E303,'3-3 위험성평가'!$A$5:$P$423,4,0),\"\")","v":""},{"$f":"IF(MAX('3-3 위험성평가'!$A$4:$A$423)+1>E303,VLOOKUP(E303,'3-3 위험성평가'!$A$5:$P$423,5,0),\"\")","v":""},{"$f":"IF(MAX('3-3 위험성평가'!$A$4:$A$423)+1>E303,VLOOKUP(E303,'3-3 위험성평가'!$A$5:$P$423,6,0),\"\")","v":""},{"$f":"IF(MAX('3-3 위험성평가'!$A$4:$A$423)+1>E303,VLOOKUP(E303,'3-3 위험성평가'!$A$5:$P$423,9,0),\"\")","v":""},{"$f":"IF(MAX('3-3 위험성평가'!$A$4:$A$423)+1>E303,VLOOKUP(E303,'3-3 위험성평가'!$A$5:$P$423,12,0),\"\")&IF(L303>\"\",\".\"&E303,\"\")","v":""},{"$f":"IF(MAX('3-3 위험성평가'!$A$4:$A$423)+1>E303,VLOOKUP(E303,'3-3 위험성평가'!$A$5:$P$423,13,0),\"\")","v":""},null,"하",null,null,null,null,null,null,null,"선택안함",0,{"$f":"IF(MAX('3-3 위험성평가'!$A$4:$A$423)+1>E303,VLOOKUP(E303,'3-3 위험성평가'!$A$5:$Q$423,17,0),\"\")","v":""},"선택",{"$f":"표지!$D$33","v":0},{"$f":"표지!$E$34","v":0},"선택안함",0]
["T20",2,"S40",4,296,{"$f":"IF(MAX('3-3 위험성평가'!$A$4:$A$423)+1>E304,VLOOKUP(E304,'3-3 위험성평가'!$A$5:$P$423,2,0),\"\")","v":""},{"$f":"IF(F304=\"\",\"\",VLOOKUP(VALUE(F304),'1-1 사업장 공정 정보'!$D$15:$P$41,5,0))","v":""},{"$f":"IF(MAX('3-3 위험성평가'!$A$4:$A$423)+1>E304,VLOOKUP(E304,'3-3 위험성평가'!$A$5:$P$423,3,0),\"\")","v":""},{"$f":"IF(MAX('3-3 위험성평가'!$A$4:$A$423)+1>E304,VLOOKUP(E304,'3-3 위험성평가'!$A$5:$P$423,4,0),\"\")","v":""},{"$f":"IF(MAX('3-3 위험성평가'!$A$4:$A$423)+1>E304,VLOOKUP(E304,'3-3 위험성평가'!$A$5:$P$423,5,0),\"\")","v":""},{"$f":"IF(MAX('3-3 위험성평가'!$A$4:$A$423)+1>E304,VLOOKUP(E304,'3-3 위험성평가'!$A$5:$P$423,6,0),\"\")","v":""},{"$f":"IF(MAX('3-3 위험성평가'!$A$4:$A$423)+1>E304,VLOOKUP(E304,'3-3 위험성평가'!$A$5:$P$423,9,0),\"\")","v":""},{"$f":"IF(MAX('3-3 위험성평가'!$A$4:$A$423)+1>E304,VLOOKUP(E304,'3-3 위험성평가'!$A$5:$P$423,12,0),\"\")&IF(L304>\"\",\".\"&E304,\"\")","v":""},{"$f":"IF(MAX('3-3 위험성평가'!$A$4:$A$423)+1>E304,VLOOKUP(E304,'3-3 위험성평가'!$A$5:$P$423,13,0),\"\")","v":""},null,"하",null,null,null,null,null,null,null,"선택안함",0,{"$f":"IF(MAX('3-3 위험성평가'!$A$4:$A$423)+1>E304,VLOOKUP(E304,'3-3 위험성평가'!$A$5:$Q$423,17,0),\"\")","v":""},"선택",{"$f":"표지!$D$33","v":0},{"$f":"표지!$E$34","v":0},"선택안함",0]
["T20",2,"S40",4,297,{"$f":"IF(MAX('3-3 위험성평가'!$A$4:$A$423)+1>E305,VLOOKUP(E305,'3-3 위험성평가'!$A$5:$P$423,2,0),\"\")","v":""},{"$f":"IF(F305=\"\",\"\",VLOOKUP(VALUE(F305),'1-1 사업장 공정 정보'!$D$15:$P$41,5,0))","v":""},{"$f":"IF(MAX('3-3 위험성평가'!$A$4:$A$423)+1>E305,VLOOKUP(E305,'3-3 위험성평가'!$A$5:$P$423,3,0),\"\")","v":""},{"$f":"IF(MAX('3-3 위험성평가'!$A$4:$A$423)+1>E305,VLOOKUP(E305,'3-3 위험성평가'!$A$5:$P$423,4,0),\"\")","v":""},{"$f":"IF(MAX('3-3 위험성평가'!$A$4:$A$423)+1>E305,VLOOKUP(E305,'3-3 위험성평가'!$A$5:$P$423,5,0),\"\")","v":""},{"$f":"IF(MAX('3-3 위험성평가'!$A$4:$A$423)+1>E305,VLOOKUP(E305,'3-3 위험성평가'!$A$5:$P$423,6,0),\"\")","v":""},{"$f":"IF(MAX('3-3 위험성평가'!$A$4:$A$423)+1>E305,VLOOKUP(E305,'3-3 위험성평가'!$A$5:$P$423,9,0),\"\")","v":""},{"$f":"IF(MAX('3-3 위험성평가'!$A$4:$A$423)+1>E305,VLOOKUP(E305,'3-3 위험성평가'!$A$5:$P$423,12,0),\"\")&IF(L305>\"\",\".\"&E305,\"\")","v":""},{"$f":"IF(MAX('3-3 위험성평가'!$A$4:$A$423)+1>E305,VLOOKUP(E305,'3-3 위험성평가'!$A$5:$P$423,13,0),\"\")","v":""},null,"하",null,null,null,null,null,null,null,"선택안함",0,{"$f":"IF(MAX('3-3 위험성평가'!$A$4:$A$423)+1>E305,VLOOKUP(E305,'3-3 위험성평가'!$A$5:$Q$423,17,0),\"\")","v":""},"선택",{"$f":"표지!$D$33","v":0},{"$f":"표지!$E$34","v":0},"선택안함",0]
["T20",2,"S40",4,298,{"$f":"IF(MAX('3-3 위험성평가'!$A$4:$A$423)+1>E306,VLOOKUP(E306,'3-3 위험성평가'!$A$5:$P$423,2,0),\"\")","v":""},{"$f":"IF(F306=\"\",\"\",VLOOKUP(VALUE(F306),'1-1 사업장 공정 정보'!$D$15:$P$41,5,0))","v":""},{"$f":"IF(MAX('3-3 위험성평가'!$A$4:$A$423)+1>E306,VLOOKUP(E306,'3-3 위험성평가'!$A$5:$P$423,3,0),\"\")","v":""},{"$f":"IF(MAX('3-3 위험성평가'!$A$4:$A$423)+1>E306,VLOOKUP(E306,'3-3 위험성평가'!$A$5:$P$423,4,0),\"\")","v":""},{"$f":"IF(MAX('3-3 위험성평가'!$A$4:$A$423)+1>E306,VLOOKUP(E306,'3-3 위험성평가'!$A$5:$P$423,5,0),\"\")","v":""},{"$f":"IF(MAX('3-3 위험성평가'!$A$4:$A$423)+1>E306,VLOOKUP(E306,'3-3 위험성평가'!$A$5:$P$423,6,0),\"\")","v":""},{"$f":"IF(MAX('3-3 위험성평가'!$A$4:$A$423)+1>E306,VLOOKUP(E306,'3-3 위험성평가'!$A$5:$P$423,9,0),\"\")","v":""},{"$f":"IF(MAX('3-3 위험성평가'!$A$4:$A$423)+1>E306,VLOOKUP(E306,'3-3 위험성평가'!$A$5:$P$423,12,0),\"\")&IF(L306>\"\",\".\"&E306,\"\")","v":""},{"$f":"IF(MAX('3-3 위험성평가'!$A$4:$A$423)+1>E306,VLOOKUP(E306,'3-3 위험성평가'!$A$5:$P$423,13,0),\"\")","v":""},null,"하",null,null,null,null,null,null,null,"선택안함",0,{"$f":"IF(MAX('3-3 위험성평가'!$A$4:$A$423)+1>E306,VLOOKUP(E306,'3-3 위험성평가'!$A$5:$Q$423,17,0),\"\")","v":""},"선택",{"$f":"표지!$D$33","v":0},{"$f":"표지!$E$34","v":0},"선택안함",0]
["T20",2,"S40",4,299,{"$f":"IF(MAX('3-3 위험성평가'!$A$4:$A$423)+1>E307,VLOOKUP(E307,'3-3 위험성평가'!$A$5:$P$423,2,0),\"\")","v":""},{"$f":"IF(F307=\"\",\"\",VLOOKUP(VALUE(F307),'1-1 사업장 공정 정보'!$D$15:$P$41,5,0))","v":""},{"$f":"IF(MAX('3-3 위험성평가'!$A$4:$A$423)+1>E307,VLOOKUP(E307,'3-3 위험성평가'!$A$5:$P$423,3,0),\"\")","v":""},{"$f":"IF(MAX('3-3 위험성평가'!$A$4:$A$423)+1>E307,VLOOKUP(E307,'3-3 위험성평가'!$A$5:$P$423,4,0),\"\")","v":""},{"$f":"IF(MAX('3-3 위험성평가'!$A$4:$A$423)+1>E307,VLOOKUP(E307,'3-3 위험성평가'!$A$5:$P$423,5,0),\"\")","v":""},{"$f":"IF(MAX('3-3 위험성평가'!$A$4:$A$423)+1>E307,VLOOKUP(E307,'3-3 위험성평가'!$A$5:$P$423,6,0),\"\")","v":""},{"$f":"IF(MAX('3-3 위험성평가'!$A$4:$A$423)+1>E307,VLOOKUP(E307,'3-3 위험성평가'!$A$5:$P$423,9,0),\"\")","v":""},{"$f":"IF(MAX('3-3 위험성평가'!$A$4:$A$423)+1>E307,VLOOKUP(E307,'3-3 위험성평가'!$A$5:$P$423,12,0),\"\")&IF(L307>\"\",\".\"&E307,\"\")","v":""},{"$f":"IF(MAX('3-3 위험성평가'!$A$4:$A$423)+1>E307,VLOOKUP(E307,'3-3 위험성평가'!$A$5:$P$423,13,0),\"\")","v":""},null,"하",null,null,null,null,null,null,null,"선택안함",0,{"$f":"IF(MAX('3-3 위험성평가'!$A$4:$A$423)+1>E307,VLOOKUP(E307,'3-3 위험성평가'!$A$5:$Q$423,17,0),\"\")","v":""},"선택",{"$f":"표지!$D$33","v":0},{"$f":"표지!$E$34","v":0},"선택안함",0]
["T20",2,"S40",4,300,{"$f":"IF(MAX('3-3 위험성평가'!$A$4:$A$423)+1>E308,VLOOKUP(E308,'3-3 위험성평가'!$A$5:$P$423,2,0),\"\")","v":""},{"$f":"IF(F308=\"\",\"\",VLOOKUP(VALUE(F308),'1-1 사업장 공정 정보'!$D$15:$P$41,5,0))","v":""},{"$f":"IF(MAX('3-3 위험성평가'!$A$4:$A$423)+1>E308,VLOOKUP(E308,'3-3 위험성평가'!$A$5:$P$423,3,0),\"\")","v":""},{"$f":"IF(MAX('3-3 위험성평가'!$A$4:$A$423)+1>E308,VLOOKUP(E308,'3-3 위험성평가'!$A$5:$P$423,4,0),\"\")","v":""},{"$f":"IF(MAX('3-3 위험성평가'!$A$4:$A$423)+1>E308,VLOOKUP(E308,'3-3 위험성평가'!$A$5:$P$423,5,0),\"\")","v":""},{"$f":"IF(MAX('3-3 위험성평가'!$A$4:$A$423)+1>E308,VLOOKUP(E308,'3-3 위험성평가'!$A$5:$P$423,6,0),\"\")","v":""},{"$f":"IF(MAX('3-3 위험성평가'!$A$4:$A$423)+1>E308,VLOOKUP(E308,'3-3 위험성평가'!$A$5:$P$423,9,0),\"\")","v":""},{"$f":"IF(MAX('3-3 위험성평가'!$A$4:$A$423)+1>E308,VLOOKUP(E308,'3-3 위험성평가'!$A$5:$P$423,12,0),\"\")&IF(L308>\"\",\".\"&E308,\"\")","v":""},{"$f":"IF(MAX('3-3 위험성평가'!$A$4:$A$423)+1>E308,VLOOKUP(E308,'3-3 위험성평가'!$A$5:$P$423,13,0),\"\")","v":""},null,"하",null,null,null,null,null,null,null,"선택안함",0,{"$f":"IF(MAX('3-3 위험성평가'!$A$4:$A$423)+1>E308,VLOOKUP(E308,'3-3 위험성평가'!$A$5:$Q$423,17,0),\"\")","v":""},"선택",{"$f":"표지!$D$33","v":0},{"$f":"표지!$E$34","v":0},"선택안함",0]
["T20",2,"S40",4,301,{"$f":"IF(MAX('3-3 위험성평가'!$A$4:$A$423)+1>E309,VLOOKUP(E309,'3-3 위험성평가'!$A$5:$P$423,2,0),\"\")","v":""},{"$f":"IF(F309=\"\",\"\",VLOOKUP(VALUE(F309),'1-1 사업장 공정 정보'!$D$15:$P$41,5,0))","v":""},{"$f":"IF(MAX('3-3 위험성평가'!$A$4:$A$423)+1>E309,VLOOKUP(E309,'3-3 위험성평가'!$A$5:$P$423,3,0),\"\")","v":""},{"$f":"IF(MAX('3-3 위험성평가'!$A$4:$A$423)+1>E309,VLOOKUP(E309,'3-3 위험성평가'!$A$5:$P$423,4,0),\"\")","v":""},{"$f":"IF(MAX('3-3 위험성평가'!$A$4:$A$423)+1>E309,VLOOKUP(E309,'3-3 위험성평가'!$A$5:$P$423,5,0),\"\")","v":""},{"$f":"IF(MAX('3-3 위험성평가'!$A$4:$A$423)+1>E309,VLOOKUP(E309,'3-3 위험성평가'!$A$5:$P$423,6,0),\"\")","v":""},{"$f":"IF(MAX('3-3 위험성평가'!$A$4:$A$423)+1>E309,VLOOKUP(E309,'3-3 위험성평가'!$A$5:$P$423,9,0),\"\")","v":""},{"$f":"IF(MAX('3-3 위험성평가'!$A$4:$A$423)+1>E309,VLOOKUP(E309,'3-3 위험성평가'!$A$5:$P$423,12,0),\"\")&IF(L309>\"\",\".\"&E309,\"\")","v":""},{"$f":"IF(MAX('3-3 위험성평가'!$A$4:$A$423)+1>E309,VLOOKUP(E309,'3-3 위험성평가'!$A$5:$P$423,13,0),\"\")","v":""},null,"하",null,null,null,null,null,null,null,"선택안함",0,{"$f":"IF(MAX('3-3 위험성평가'!$A$4:$A$423)+1>E309,VLOOKUP(E309,'3-3 위험성평가'!$A$5:$Q$423,17,0),\"\")","v":""},"선택",{"$f":"표지!$D$33","v":0},{"$f":"표지!$E$34","v":0},"선택안함",0]
["T20",2,"S40",4,302,{"$f":"IF(MAX('3-3 위험성평가'!$A$4:$A$423)+1>E310,VLOOKUP(E310,'3-3 위험성평가'!$A$5:$P$423,2,0),\"\")","v":""},{"$f":"IF(F310=\"\",\"\",VLOOKUP(VALUE(F310),'1-1 사업장 공정 정보'!$D$15:$P$41,5,0))","v":""},{"$f":"IF(MAX('3-3 위험성평가'!$A$4:$A$423)+1>E310,VLOOKUP(E310,'3-3 위험성평가'!$A$5:$P$423,3,0),\"\")","v":""},{"$f":"IF(MAX('3-3 위험성평가'!$A$4:$A$423)+1>E310,VLOOKUP(E310,'3-3 위험성평가'!$A$5:$P$423,4,0),\"\")","v":""},{"$f":"IF(MAX('3-3 위험성평가'!$A$4:$A$423)+1>E310,VLOOKUP(E310,'3-3 위험성평가'!$A$5:$P$423,5,0),\"\")","v":""},{"$f":"IF(MAX('3-3 위험성평가'!$A$4:$A$423)+1>E310,VLOOKUP(E310,'3-3 위험성평가'!$A$5:$P$423,6,0),\"\")","v":""},{"$f":"IF(MAX('3-3 위험성평가'!$A$4:$A$423)+1>E310,VLOOKUP(E310,'3-3 위험성평가'!$A$5:$P$423,9,0),\"\")","v":""},{"$f":"IF(MAX('3-3 위험성평가'!$A$4:$A$423)+1>E310,VLOOKUP(E310,'3-3 위험성평가'!$A$5:$P$423,12,0),\"\")&IF(L310>\"\",\".\"&E310,\"\")","v":""},{"$f":"IF(MAX('3-3 위험성평가'!$A$4:$A$423)+1>E310,VLOOKUP(E310,'3-3 위험성평가'!$A$5:$P$423,13,0),\"\")","v":""},null,"하",null,null,null,null,null,null,null,"선택안함",0,{"$f":"IF(MAX('3-3 위험성평가'!$A$4:$A$423)+1>E310,VLOOKUP(E310,'3-3 위험성평가'!$A$5:$Q$423,17,0),\"\")","v":""},"선택",{"$f":"표지!$D$33","v":0},{"$f":"표지!$E$34","v":0},"선택안함",0]
["T20",2,"S40",4,303,{"$f":"IF(MAX('3-3 위험성평가'!$A$4:$A$423)+1>E311,VLOOKUP(E311,'3-3 위험성평가'!$A$5:$P$423,2,0),\"\")","v":""},{"$f":"IF(F311=\"\",\"\",VLOOKUP(VALUE(F311),'1-1 사업장 공정 정보'!$D$15:$P$41,5,0))","v":""},{"$f":"IF(MAX('3-3 위험성평가'!$A$4:$A$423)+1>E311,VLOOKUP(E311,'3-3 위험성평가'!$A$5:$P$423,3,0),\"\")","v":""},{"$f":"IF(MAX('3-3 위험성평가'!$A$4:$A$423)+1>E311,VLOOKUP(E311,'3-3 위험성평가'!$A$5:$P$423,4,0),\"\")","v":""},{"$f":"IF(MAX('3-3 위험성평가'!$A$4:$A$423)+1>E311,VLOOKUP(E311,'3-3 위험성평가'!$A$5:$P$423,5,0),\"\")","v":""},{"$f":"IF(MAX('3-3 위험성평가'!$A$4:$A$423)+1>E311,VLOOKUP(E311,'3-3 위험성평가'!$A$5:$P$423,6,0),\"\")","v":""},{"$f":"IF(MAX('3-3 위험성평가'!$A$4:$A$423)+1>E311,VLOOKUP(E311,'3-3 위험성평가'!$A$5:$P$423,9,0),\"\")","v":""},{"$f":"IF(MAX('3-3 위험성평가'!$A$4:$A$423)+1>E311,VLOOKUP(E311,'3-3 위험성평가'!$A$5:$P$423,12,0),\"\")&IF(L311>\"\",\".\"&E311,\"\")","v":""},{"$f":"IF(MAX('3-3 위험성평가'!$A$4:$A$423)+1>E311,VLOOKUP(E311,'3-3 위험성평가'!$A$5:$P$423,13,0),\"\")","v":""},null,"하",null,null,null,null,null,null,null,"선택안함",0,{"$f":"IF(MAX('3-3 위험성평가'!$A$4:$A$423)+1>E311,VLOOKUP(E311,'3-3 위험성평가'!$A$5:$Q$423,17,0),\"\")","v":""},"선택",{"$f":"표지!$D$33","v":0},{"$f":"표지!$E$34","v":0},"선택안함",0]
["T20",2,"S40",4,304,{"$f":"IF(MAX('3-3 위험성평가'!$A$4:$A$423)+1>E312,VLOOKUP(E312,'3-3 위험성평가'!$A$5:$P$423,2,0),\"\")","v":""},{"$f":"IF(F312=\"\",\"\",VLOOKUP(VALUE(F312),'1-1 사업장 공정 정보'!$D$15:$P$41,5,0))","v":""},{"$f":"IF(MAX('3-3 위험성평가'!$A$4:$A$423)+1>E312,VLOOKUP(E312,'3-3 위험성평가'!$A$5:$P$423,3,0),\"\")","v":""},{"$f":"IF(MAX('3-3 위험성평가'!$A$4:$A$423)+1>E312,VLOOKUP(E312,'3-3 위험성평가'!$A$5:$P$423,4,0),\"\")","v":""},{"$f":"IF(MAX('3-3 위험성평가'!$A$4:$A$423)+1>E312,VLOOKUP(E312,'3-3 위험성평가'!$A$5:$P$423,5,0),\"\")","v":""},{"$f":"IF(MAX('3-3 위험성평가'!$A$4:$A$423)+1>E312,VLOOKUP(E312,'3-3 위험성평가'!$A$5:$P$423,6,0),\"\")","v":""},{"$f":"IF(MAX('3-3 위험성평가'!$A$4:$A$423)+1>E312,VLOOKUP(E312,'3-3 위험성평가'!$A$5:$P$423,9,0),\"\")","v":""},{"$f":"IF(MAX('3-3 위험성평가'!$A$4:$A$423)+1>E312,VLOOKUP(E312,'3-3 위험성평가'!$A$5:$P$423,12,0),\"\")&IF(L312>\"\",\".\"&E312,\"\")","v":""},{"$f":"IF(MAX('3-3 위험성평가'!$A$4:$A$423)+1>E312,VLOOKUP(E312,'3-3 위험성평가'!$A$5:$P$423,13,0),\"\")","v":""},null,"하",null,null,null,null,null,null,null,"선택안함",0,{"$f":"IF(MAX('3-3 위험성평가'!$A$4:$A$423)+1>E312,VLOOKUP(E312,'3-3 위험성평가'!$A$5:$Q$423,17,0),\"\")","v":""},"선택",{"$f":"표지!$D$33","v":0},{"$f":"표지!$E$34","v":0},"선택안함",0]
["T20",2,"S40",4,305,{"$f":"IF(MAX('3-3 위험성평가'!$A$4:$A$423)+1>E313,VLOOKUP(E313,'3-3 위험성평가'!$A$5:$P$423,2,0),\"\")","v":""},{"$f":"IF(F313=\"\",\"\",VLOOKUP(VALUE(F313),'1-1 사업장 공정 정보'!$D$15:$P$41,5,0))","v":""},{"$f":"IF(MAX('3-3 위험성평가'!$A$4:$A$423)+1>E313,VLOOKUP(E313,'3-3 위험성평가'!$A$5:$P$423,3,0),\"\")","v":""},{"$f":"IF(MAX('3-3 위험성평가'!$A$4:$A$423)+1>E313,VLOOKUP(E313,'3-3 위험성평가'!$A$5:$P$423,4,0),\"\")","v":""},{"$f":"IF(MAX('3-3 위험성평가'!$A$4:$A$423)+1>E313,VLOOKUP(E313,'3-3 위험성평가'!$A$5:$P$423,5,0),\"\")","v":""},{"$f":"IF(MAX('3-3 위험성평가'!$A$4:$A$423)+1>E313,VLOOKUP(E313,'3-3 위험성평가'!$A$5:$P$423,6,0),\"\")","v":""},{"$f":"IF(MAX('3-3 위험성평가'!$A$4:$A$423)+1>E313,VLOOKUP(E313,'3-3 위험성평가'!$A$5:$P$423,9,0),\"\")","v":""},{"$f":"IF(MAX('3-3 위험성평가'!$A$4:$A$423)+1>E313,VLOOKUP(E313,'3-3 위험성평가'!$A$5:$P$423,12,0),\"\")&IF(L313>\"\",\".\"&E313,\"\")","v":""},{"$f":"IF(MAX('3-3 위험성평가'!$A$4:$A$423)+1>E313,VLOOKUP(E313,'3-3 위험성평가'!$A$5:$P$423,13,0),\"\")","v":""},null,"하",null,null,null,null,null,null,null,"선택안함",0,{"$f":"IF(MAX('3-3 위험성평가'!$A$4:$A$423)+1>E313,VLOOKUP(E313,'3-3 위험성평가'!$A$5:$Q$423,17,0),\"\")","v":""},"선택",{"$f":"표지!$D$33","v":0},{"$f":"표지!$E$34","v":0},"선택안함",0]
["T20",2,"S40",4,306,{"$f":"IF(MAX('3-3 위험성평가'!$A$4:$A$423)+1>E314,VLOOKUP(E314,'3-3 위험성평가'!$A$5:$P$423,2,0),\"\")","v":""},{"$f":"IF(F314=\"\",\"\",VLOOKUP(VALUE(F314),'1-1 사업장 공정 정보'!$D$15:$P$41,5,0))","v":""},{"$f":"IF(MAX('3-3 위험성평가'!$A$4:$A$423)+1>E314,VLOOKUP(E314,'3-3 위험성평가'!$A$5:$P$423,3,0),\"\")","v":""},{"$f":"IF(MAX('3-3 위험성평가'!$A$4:$A$423)+1>E314,VLOOKUP(E314,'3-3 위험성평가'!$A$5:$P$423,4,0),\"\")","v":""},{"$f":"IF(MAX('3-3 위험성평가'!$A$4:$A$423)+1>E314,VLOOKUP(E314,'3-3 위험성평가'!$A$5:$P$423,5,0),\"\")","v":""},{"$f":"IF(MAX('3-3 위험성평가'!$A$4:$A$423)+1>E314,VLOOKUP(E314,'3-3 위험성평가'!$A$5:$P$423,6,0),\"\")","v":""},{"$f":"IF(MAX('3-3 위험성평가'!$A$4:$A$423)+1>E314,VLOOKUP(E314,'3-3 위험성평가'!$A$5:$P$423,9,0),\"\")","v":""},{"$f":"IF(MAX('3-3 위험성평가'!$A$4:$A$423)+1>E314,VLOOKUP(E314,'3-3 위험성평가'!$A$5:$P$423,12,0),\"\")&IF(L314>\"\",\".\"&E314,\"\")","v":""},{"$f":"IF(MAX('3-3 위험성평가'!$A$4:$A$423)+1>E314,VLOOKUP(E314,'3-3 위험성평가'!$A$5:$P$423,13,0),\"\")","v":""},null,"하",null,null,null,null,null,null,null,"선택안함",0,{"$f":"IF(MAX('3-3 위험성평가'!$A$4:$A$423)+1>E314,VLOOKUP(E314,'3-3 위험성평가'!$A$5:$Q$423,17,0),\"\")","v":""},"선택",{"$f":"표지!$D$33","v":0},{"$f":"표지!$E$34","v":0},"선택안함",0]
["T20",2,"S40",4,307,{"$f":"IF(MAX('3-3 위험성평가'!$A$4:$A$423)+1>E315,VLOOKUP(E315,'3-3 위험성평가'!$A$5:$P$423,2,0),\"\")","v":""},{"$f":"IF(F315=\"\",\"\",VLOOKUP(VALUE(F315),'1-1 사업장 공정 정보'!$D$15:$P$41,5,0))","v":""},{"$f":"IF(MAX('3-3 위험성평가'!$A$4:$A$423)+1>E315,VLOOKUP(E315,'3-3 위험성평가'!$A$5:$P$423,3,0),\"\")","v":""},{"$f":"IF(MAX('3-3 위험성평가'!$A$4:$A$423)+1>E315,VLOOKUP(E315,'3-3 위험성평가'!$A$5:$P$423,4,0),\"\")","v":""},{"$f":"IF(MAX('3-3 위험성평가'!$A$4:$A$423)+1>E315,VLOOKUP(E315,'3-3 위험성평가'!$A$5:$P$423,5,0),\"\")","v":""},{"$f":"IF(MAX('3-3 위험성평가'!$A$4:$A$423)+1>E315,VLOOKUP(E315,'3-3 위험성평가'!$A$5:$P$423,6,0),\"\")","v":""},{"$f":"IF(MAX('3-3 위험성평가'!$A$4:$A$423)+1>E315,VLOOKUP(E315,'3-3 위험성평가'!$A$5:$P$423,9,0),\"\")","v":""},{"$f":"IF(MAX('3-3 위험성평가'!$A$4:$A$423)+1>E315,VLOOKUP(E315,'3-3 위험성평가'!$A$5:$P$423,12,0),\"\")&IF(L315>\"\",\".\"&E315,\"\")","v":""},{"$f":"IF(MAX('3-3 위험성평가'!$A$4:$A$423)+1>E315,VLOOKUP(E315,'3-3 위험성평가'!$A$5:$P$423,13,0),\"\")","v":""},null,"하",null,null,null,null,null,null,null,"선택안함",0,{"$f":"IF(MAX('3-3 위험성평가'!$A$4:$A$423)+1>E315,VLOOKUP(E315,'3-3 위험성평가'!$A$5:$Q$423,17,0),\"\")","v":""},"선택",{"$f":"표지!$D$33","v":0},{"$f":"표지!$E$34","v":0},"선택안함",0]
["T20",2,"S40",4,308,{"$f":"IF(MAX('3-3 위험성평가'!$A$4:$A$423)+1>E316,VLOOKUP(E316,'3-3 위험성평가'!$A$5:$P$423,2,0),\"\")","v":""},{"$f":"IF(F316=\"\",\"\",VLOOKUP(VALUE(F316),'1-1 사업장 공정 정보'!$D$15:$P$41,5,0))","v":""},{"$f":"IF(MAX('3-3 위험성평가'!$A$4:$A$423)+1>E316,VLOOKUP(E316,'3-3 위험성평가'!$A$5:$P$423,3,0),\"\")","v":""},{"$f":"IF(MAX('3-3 위험성평가'!$A$4:$A$423)+1>E316,VLOOKUP(E316,'3-3 위험성평가'!$A$5:$P$423,4,0),\"\")","v":""},{"$f":"IF(MAX('3-3 위험성평가'!$A$4:$A$423)+1>E316,VLOOKUP(E316,'3-3 위험성평가'!$A$5:$P$423,5,0),\"\")","v":""},{"$f":"IF(MAX('3-3 위험성평가'!$A$4:$A$423)+1>E316,VLOOKUP(E316,'3-3 위험성평가'!$A$5:$P$423,6,0),\"\")","v":""},{"$f":"IF(MAX('3-3 위험성평가'!$A$4:$A$423)+1>E316,VLOOKUP(E316,'3-3 위험성평가'!$A$5:$P$423,9,0),\"\")","v":""},{"$f":"IF(MAX('3-3 위험성평가'!$A$4:$A$423)+1>E316,VLOOKUP(E316,'3-3 위험성평가'!$A$5:$P$423,12,0),\"\")&IF(L316>\"\",\".\"&E316,\"\")","v":""},{"$f":"IF(MAX('3-3 위험성평가'!$A$4:$A$423)+1>E316,VLOOKUP(E316,'3-3 위험성평가'!$A$5:$P$423,13,0),\"\")","v":""},null,"하",null,null,null,null,null,null,null,"선택안함",0,{"$f":"IF(MAX('3-3 위험성평가'!$A$4:$A$423)+1>E316,VLOOKUP(E316,'3-3 위험성평가'!$A$5:$Q$423,17,0),\"\")","v":""},"선택",{"$f":"표지!$D$33","v":0},{"$f":"표지!$E$34","v":0},"선택안함",0]
["T20",2,"S40",4,309,{"$f":"IF(MAX('3-3 위험성평가'!$A$4:$A$423)+1>E317,VLOOKUP(E317,'3-3 위험성평가'!$A$5:$P$423,2,0),\"\")","v":""},{"$f":"IF(F317=\"\",\"\",VLOOKUP(VALUE(F317),'1-1 사업장 공정 정보'!$D$15:$P$41,5,0))","v":""},{"$f":"IF(MAX('3-3 위험성평가'!$A$4:$A$423)+1>E317,VLOOKUP(E317,'3-3 위험성평가'!$A$5:$P$423,3,0),\"\")","v":""},{"$f":"IF(MAX('3-3 위험성평가'!$A$4:$A$423)+1>E317,VLOOKUP(E317,'3-3 위험성평가'!$A$5:$P$423,4,0),\"\")","v":""},{"$f":"IF(MAX('3-3 위험성평가'!$A$4:$A$423)+1>E317,VLOOKUP(E317,'3-3 위험성평가'!$A$5:$P$423,5,0),\"\")","v":""},{"$f":"IF(MAX('3-3 위험성평가'!$A$4:$A$423)+1>E317,VLOOKUP(E317,'3-3 위험성평가'!$A$5:$P$423,6,0),\"\")","v":""},{"$f":"IF(MAX('3-3 위험성평가'!$A$4:$A$423)+1>E317,VLOOKUP(E317,'3-3 위험성평가'!$A$5:$P$423,9,0),\"\")","v":""},{"$f":"IF(MAX('3-3 위험성평가'!$A$4:$A$423)+1>E317,VLOOKUP(E317,'3-3 위험성평가'!$A$5:$P$423,12,0),\"\")&IF(L317>\"\",\".\"&E317,\"\")","v":""},{"$f":"IF(MAX('3-3 위험성평가'!$A$4:$A$423)+1>E317,VLOOKUP(E317,'3-3 위험성평가'!$A$5:$P$423,13,0),\"\")","v":""},null,"하",null,null,null,null,null,null,null,"선택안함",0,{"$f":"IF(MAX('3-3 위험성평가'!$A$4:$A$423)+1>E317,VLOOKUP(E317,'3-3 위험성평가'!$A$5:$Q$423,17,0),\"\")","v":""},"선택",{"$f":"표지!$D$33","v":0},{"$f":"표지!$E$34","v":0},"선택안함",0]
["T20",2,"S40",4,310,{"$f":"IF(MAX('3-3 위험성평가'!$A$4:$A$423)+1>E318,VLOOKUP(E318,'3-3 위험성평가'!$A$5:$P$423,2,0),\"\")","v":""},{"$f":"IF(F318=\"\",\"\",VLOOKUP(VALUE(F318),'1-1 사업장 공정 정보'!$D$15:$P$41,5,0))","v":""},{"$f":"IF(MAX('3-3 위험성평가'!$A$4:$A$423)+1>E318,VLOOKUP(E318,'3-3 위험성평가'!$A$5:$P$423,3,0),\"\")","v":""},{"$f":"IF(MAX('3-3 위험성평가'!$A$4:$A$423)+1>E318,VLOOKUP(E318,'3-3 위험성평가'!$A$5:$P$423,4,0),\"\")","v":""},{"$f":"IF(MAX('3-3 위험성평가'!$A$4:$A$423)+1>E318,VLOOKUP(E318,'3-3 위험성평가'!$A$5:$P$423,5,0),\"\")","v":""},{"$f":"IF(MAX('3-3 위험성평가'!$A$4:$A$423)+1>E318,VLOOKUP(E318,'3-3 위험성평가'!$A$5:$P$423,6,0),\"\")","v":""},{"$f":"IF(MAX('3-3 위험성평가'!$A$4:$A$423)+1>E318,VLOOKUP(E318,'3-3 위험성평가'!$A$5:$P$423,9,0),\"\")","v":""},{"$f":"IF(MAX('3-3 위험성평가'!$A$4:$A$423)+1>E318,VLOOKUP(E318,'3-3 위험성평가'!$A$5:$P$423,12,0),\"\")&IF(L318>\"\",\".\"&E318,\"\")","v":""},{"$f":"IF(MAX('3-3 위험성평가'!$A$4:$A$423)+1>E318,VLOOKUP(E318,'3-3 위험성평가'!$A$5:$P$423,13,0),\"\")","v":""},null,"하",null,null,null,null,null,null,null,"선택안함",0,{"$f":"IF(MAX('3-3 위험성평가'!$A$4:$A$423)+1>E318,VLOOKUP(E318,'3-3 위험성평가'!$A$5:$Q$423,17,0),\"\")","v":""},"선택",{"$f":"표지!$D$33","v":0},{"$f":"표지!$E$34","v":0},"선택안함",0]
["T20",2,"S40",4,311,{"$f":"IF(MAX('3-3 위험성평가'!$A$4:$A$423)+1>E319,VLOOKUP(E319,'3-3 위험성평가'!$A$5:$P$423,2,0),\"\")","v":""},{"$f":"IF(F319=\"\",\"\",VLOOKUP(VALUE(F319),'1-1 사업장 공정 정보'!$D$15:$P$41,5,0))","v":""},{"$f":"IF(MAX('3-3 위험성평가'!$A$4:$A$423)+1>E319,VLOOKUP(E319,'3-3 위험성평가'!$A$5:$P$423,3,0),\"\")","v":""},{"$f":"IF(MAX('3-3 위험성평가'!$A$4:$A$423)+1>E319,VLOOKUP(E319,'3-3 위험성평가'!$A$5:$P$423,4,0),\"\")","v":""},{"$f":"IF(MAX('3-3 위험성평가'!$A$4:$A$423)+1>E319,VLOOKUP(E319,'3-3 위험성평가'!$A$5:$P$423,5,0),\"\")","v":""},{"$f":"IF(MAX('3-3 위험성평가'!$A$4:$A$423)+1>E319,VLOOKUP(E319,'3-3 위험성평가'!$A$5:$P$423,6,0),\"\")","v":""},{"$f":"IF(MAX('3-3 위험성평가'!$A$4:$A$423)+1>E319,VLOOKUP(E319,'3-3 위험성평가'!$A$5:$P$423,9,0),\"\")","v":""},{"$f":"IF(MAX('3-3 위험성평가'!$A$4:$A$423)+1>E319,VLOOKUP(E319,'3-3 위험성평가'!$A$5:$P$423,12,0),\"\")&IF(L319>\"\",\".\"&E319,\"\")","v":""},{"$f":"IF(MAX('3-3 위험성평가'!$A$4:$A$423)+1>E319,VLOOKUP(E319,'3-3 위험성평가'!$A$5:$P$423,13,0),\"\")","v":""},null,"하",null,null,null,null,null,null,null,"선택안함",0,{"$f":"IF(MAX('3-3 위험성평가'!$A$4:$A$423)+1>E319,VLOOKUP(E319,'3-3 위험성평가'!$A$5:$Q$423,17,0),\"\")","v":""},"선택",{"$f":"표지!$D$33","v":0},{"$f":"표지!$E$34","v":0},"선택안함",0]
["T20",2,"S40",4,312,{"$f":"IF(MAX('3-3 위험성평가'!$A$4:$A$423)+1>E320,VLOOKUP(E320,'3-3 위험성평가'!$A$5:$P$423,2,0),\"\")","v":""},{"$f":"IF(F320=\"\",\"\",VLOOKUP(VALUE(F320),'1-1 사업장 공정 정보'!$D$15:$P$41,5,0))","v":""},{"$f":"IF(MAX('3-3 위험성평가'!$A$4:$A$423)+1>E320,VLOOKUP(E320,'3-3 위험성평가'!$A$5:$P$423,3,0),\"\")","v":""},{"$f":"IF(MAX('3-3 위험성평가'!$A$4:$A$423)+1>E320,VLOOKUP(E320,'3-3 위험성평가'!$A$5:$P$423,4,0),\"\")","v":""},{"$f":"IF(MAX('3-3 위험성평가'!$A$4:$A$423)+1>E320,VLOOKUP(E320,'3-3 위험성평가'!$A$5:$P$423,5,0),\"\")","v":""},{"$f":"IF(MAX('3-3 위험성평가'!$A$4:$A$423)+1>E320,VLOOKUP(E320,'3-3 위험성평가'!$A$5:$P$423,6,0),\"\")","v":""},{"$f":"IF(MAX('3-3 위험성평가'!$A$4:$A$423)+1>E320,VLOOKUP(E320,'3-3 위험성평가'!$A$5:$P$423,9,0),\"\")","v":""},{"$f":"IF(MAX('3-3 위험성평가'!$A$4:$A$423)+1>E320,VLOOKUP(E320,'3-3 위험성평가'!$A$5:$P$423,12,0),\"\")&IF(L320>\"\",\".\"&E320,\"\")","v":""},{"$f":"IF(MAX('3-3 위험성평가'!$A$4:$A$423)+1>E320,VLOOKUP(E320,'3-3 위험성평가'!$A$5:$P$423,13,0),\"\")","v":""},null,"하",null,null,null,null,null,null,null,"선택안함",0,{"$f":"IF(MAX('3-3 위험성평가'!$A$4:$A$423)+1>E320,VLOOKUP(E320,'3-3 위험성평가'!$A$5:$Q$423,17,0),\"\")","v":""},"선택",{"$f":"표지!$D$33","v":0},{"$f":"표지!$E$34","v":0},"선택안함",0]
["T20",2,"S40",4,313,{"$f":"IF(MAX('3-3 위험성평가'!$A$4:$A$423)+1>E321,VLOOKUP(E321,'3-3 위험성평가'!$A$5:$P$423,2,0),\"\")","v":""},{"$f":"IF(F321=\"\",\"\",VLOOKUP(VALUE(F321),'1-1 사업장 공정 정보'!$D$15:$P$41,5,0))","v":""},{"$f":"IF(MAX('3-3 위험성평가'!$A$4:$A$423)+1>E321,VLOOKUP(E321,'3-3 위험성평가'!$A$5:$P$423,3,0),\"\")","v":""},{"$f":"IF(MAX('3-3 위험성평가'!$A$4:$A$423)+1>E321,VLOOKUP(E321,'3-3 위험성평가'!$A$5:$P$423,4,0),\"\")","v":""},{"$f":"IF(MAX('3-3 위험성평가'!$A$4:$A$423)+1>E321,VLOOKUP(E321,'3-3 위험성평가'!$A$5:$P$423,5,0),\"\")","v":""},{"$f":"IF(MAX('3-3 위험성평가'!$A$4:$A$423)+1>E321,VLOOKUP(E321,'3-3 위험성평가'!$A$5:$P$423,6,0),\"\")","v":""},{"$f":"IF(MAX('3-3 위험성평가'!$A$4:$A$423)+1>E321,VLOOKUP(E321,'3-3 위험성평가'!$A$5:$P$423,9,0),\"\")","v":""},{"$f":"IF(MAX('3-3 위험성평가'!$A$4:$A$423)+1>E321,VLOOKUP(E321,'3-3 위험성평가'!$A$5:$P$423,12,0),\"\")&IF(L321>\"\",\".\"&E321,\"\")","v":""},{"$f":"IF(MAX('3-3 위험성평가'!$A$4:$A$423)+1>E321,VLOOKUP(E321,'3-3 위험성평가'!$A$5:$P$423,13,0),\"\")","v":""},null,"하",null,null,null,null,null,null,null,"선택안함",0,{"$f":"IF(MAX('3-3 위험성평가'!$A$4:$A$423)+1>E321,VLOOKUP(E321,'3-3 위험성평가'!$A$5:$Q$423,17,0),\"\")","v":""},"선택",{"$f":"표지!$D$33","v":0},{"$f":"표지!$E$34","v":0},"선택안함",0]
["T20",2,"S40",4,314,{"$f":"IF(MAX('3-3 위험성평가'!$A$4:$A$423)+1>E322,VLOOKUP(E322,'3-3 위험성평가'!$A$5:$P$423,2,0),\"\")","v":""},{"$f":"IF(F322=\"\",\"\",VLOOKUP(VALUE(F322),'1-1 사업장 공정 정보'!$D$15:$P$41,5,0))","v":""},{"$f":"IF(MAX('3-3 위험성평가'!$A$4:$A$423)+1>E322,VLOOKUP(E322,'3-3 위험성평가'!$A$5:$P$423,3,0),\"\")","v":""},{"$f":"IF(MAX('3-3 위험성평가'!$A$4:$A$423)+1>E322,VLOOKUP(E322,'3-3 위험성평가'!$A$5:$P$423,4,0),\"\")","v":""},{"$f":"IF(MAX('3-3 위험성평가'!$A$4:$A$423)+1>E322,VLOOKUP(E322,'3-3 위험성평가'!$A$5:$P$423,5,0),\"\")","v":""},{"$f":"IF(MAX('3-3 위험성평가'!$A$4:$A$423)+1>E322,VLOOKUP(E322,'3-3 위험성평가'!$A$5:$P$423,6,0),\"\")","v":""},{"$f":"IF(MAX('3-3 위험성평가'!$A$4:$A$423)+1>E322,VLOOKUP(E322,'3-3 위험성평가'!$A$5:$P$423,9,0),\"\")","v":""},{"$f":"IF(MAX('3-3 위험성평가'!$A$4:$A$423)+1>E322,VLOOKUP(E322,'3-3 위험성평가'!$A$5:$P$423,12,0),\"\")&IF(L322>\"\",\".\"&E322,\"\")","v":""},{"$f":"IF(MAX('3-3 위험성평가'!$A$4:$A$423)+1>E322,VLOOKUP(E322,'3-3 위험성평가'!$A$5:$P$423,13,0),\"\")","v":""},null,"하",null,null,null,null,null,null,null,"선택안함",0,{"$f":"IF(MAX('3-3 위험성평가'!$A$4:$A$423)+1>E322,VLOOKUP(E322,'3-3 위험성평가'!$A$5:$Q$423,17,0),\"\")","v":""},"선택",{"$f":"표지!$D$33","v":0},{"$f":"표지!$E$34","v":0},"선택안함",0]
["T20",2,"S40",4,315,{"$f":"IF(MAX('3-3 위험성평가'!$A$4:$A$423)+1>E323,VLOOKUP(E323,'3-3 위험성평가'!$A$5:$P$423,2,0),\"\")","v":""},{"$f":"IF(F323=\"\",\"\",VLOOKUP(VALUE(F323),'1-1 사업장 공정 정보'!$D$15:$P$41,5,0))","v":""},{"$f":"IF(MAX('3-3 위험성평가'!$A$4:$A$423)+1>E323,VLOOKUP(E323,'3-3 위험성평가'!$A$5:$P$423,3,0),\"\")","v":""},{"$f":"IF(MAX('3-3 위험성평가'!$A$4:$A$423)+1>E323,VLOOKUP(E323,'3-3 위험성평가'!$A$5:$P$423,4,0),\"\")","v":""},{"$f":"IF(MAX('3-3 위험성평가'!$A$4:$A$423)+1>E323,VLOOKUP(E323,'3-3 위험성평가'!$A$5:$P$423,5,0),\"\")","v":""},{"$f":"IF(MAX('3-3 위험성평가'!$A$4:$A$423)+1>E323,VLOOKUP(E323,'3-3 위험성평가'!$A$5:$P$423,6,0),\"\")","v":""},{"$f":"IF(MAX('3-3 위험성평가'!$A$4:$A$423)+1>E323,VLOOKUP(E323,'3-3 위험성평가'!$A$5:$P$423,9,0),\"\")","v":""},{"$f":"IF(MAX('3-3 위험성평가'!$A$4:$A$423)+1>E323,VLOOKUP(E323,'3-3 위험성평가'!$A$5:$P$423,12,0),\"\")&IF(L323>\"\",\".\"&E323,\"\")","v":""},{"$f":"IF(MAX('3-3 위험성평가'!$A$4:$A$423)+1>E323,VLOOKUP(E323,'3-3 위험성평가'!$A$5:$P$423,13,0),\"\")","v":""},null,"하",null,null,null,null,null,null,null,"선택안함",0,{"$f":"IF(MAX('3-3 위험성평가'!$A$4:$A$423)+1>E323,VLOOKUP(E323,'3-3 위험성평가'!$A$5:$Q$423,17,0),\"\")","v":""},"선택",{"$f":"표지!$D$33","v":0},{"$f":"표지!$E$34","v":0},"선택안함",0]
["T20",2,"S40",4,316,{"$f":"IF(MAX('3-3 위험성평가'!$A$4:$A$423)+1>E324,VLOOKUP(E324,'3-3 위험성평가'!$A$5:$P$423,2,0),\"\")","v":""},{"$f":"IF(F324=\"\",\"\",VLOOKUP(VALUE(F324),'1-1 사업장 공정 정보'!$D$15:$P$41,5,0))","v":""},{"$f":"IF(MAX('3-3 위험성평가'!$A$4:$A$423)+1>E324,VLOOKUP(E324,'3-3 위험성평가'!$A$5:$P$423,3,0),\"\")","v":""},{"$f":"IF(MAX('3-3 위험성평가'!$A$4:$A$423)+1>E324,VLOOKUP(E324,'3-3 위험성평가'!$A$5:$P$423,4,0),\"\")","v":""},{"$f":"IF(MAX('3-3 위험성평가'!$A$4:$A$423)+1>E324,VLOOKUP(E324,'3-3 위험성평가'!$A$5:$P$423,5,0),\"\")","v":""},{"$f":"IF(MAX('3-3 위험성평가'!$A$4:$A$423)+1>E324,VLOOKUP(E324,'3-3 위험성평가'!$A$5:$P$423,6,0),\"\")","v":""},{"$f":"IF(MAX('3-3 위험성평가'!$A$4:$A$423)+1>E324,VLOOKUP(E324,'3-3 위험성평가'!$A$5:$P$423,9,0),\"\")","v":""},{"$f":"IF(MAX('3-3 위험성평가'!$A$4:$A$423)+1>E324,VLOOKUP(E324,'3-3 위험성평가'!$A$5:$P$423,12,0),\"\")&IF(L324>\"\",\".\"&E324,\"\")","v":""},{"$f":"IF(MAX('3-3 위험성평가'!$A$4:$A$423)+1>E324,VLOOKUP(E324,'3-3 위험성평가'!$A$5:$P$423,13,0),\"\")","v":""},null,"하",null,null,null,null,null,null,null,"선택안함",0,{"$f":"IF(MAX('3-3 위험성평가'!$A$4:$A$423)+1>E324,VLOOKUP(E324,'3-3 위험성평가'!$A$5:$Q$423,17,0),\"\")","v":""},"선택",{"$f":"표지!$D$33","v":0},{"$f":"표지!$E$34","v":0},"선택안함",0]
["T20",2,"S40",4,317,{"$f":"IF(MAX('3-3 위험성평가'!$A$4:$A$423)+1>E325,VLOOKUP(E325,'3-3 위험성평가'!$A$5:$P$423,2,0),\"\")","v":""},{"$f":"IF(F325=\"\",\"\",VLOOKUP(VALUE(F325),'1-1 사업장 공정 정보'!$D$15:$P$41,5,0))","v":""},{"$f":"IF(MAX('3-3 위험성평가'!$A$4:$A$423)+1>E325,VLOOKUP(E325,'3-3 위험성평가'!$A$5:$P$423,3,0),\"\")","v":""},{"$f":"IF(MAX('3-3 위험성평가'!$A$4:$A$423)+1>E325,VLOOKUP(E325,'3-3 위험성평가'!$A$5:$P$423,4,0),\"\")","v":""},{"$f":"IF(MAX('3-3 위험성평가'!$A$4:$A$423)+1>E325,VLOOKUP(E325,'3-3 위험성평가'!$A$5:$P$423,5,0),\"\")","v":""},{"$f":"IF(MAX('3-3 위험성평가'!$A$4:$A$423)+1>E325,VLOOKUP(E325,'3-3 위험성평가'!$A$5:$P$423,6,0),\"\")","v":""},{"$f":"IF(MAX('3-3 위험성평가'!$A$4:$A$423)+1>E325,VLOOKUP(E325,'3-3 위험성평가'!$A$5:$P$423,9,0),\"\")","v":""},{"$f":"IF(MAX('3-3 위험성평가'!$A$4:$A$423)+1>E325,VLOOKUP(E325,'3-3 위험성평가'!$A$5:$P$423,12,0),\"\")&IF(L325>\"\",\".\"&E325,\"\")","v":""},{"$f":"IF(MAX('3-3 위험성평가'!$A$4:$A$423)+1>E325,VLOOKUP(E325,'3-3 위험성평가'!$A$5:$P$423,13,0),\"\")","v":""},null,"하",null,null,null,null,null,null,null,"선택안함",0,{"$f":"IF(MAX('3-3 위험성평가'!$A$4:$A$423)+1>E325,VLOOKUP(E325,'3-3 위험성평가'!$A$5:$Q$423,17,0),\"\")","v":""},"선택",{"$f":"표지!$D$33","v":0},{"$f":"표지!$E$34","v":0},"선택안함",0]
["T20",2,"S40",4,318,{"$f":"IF(MAX('3-3 위험성평가'!$A$4:$A$423)+1>E326,VLOOKUP(E326,'3-3 위험성평가'!$A$5:$P$423,2,0),\"\")","v":""},{"$f":"IF(F326=\"\",\"\",VLOOKUP(VALUE(F326),'1-1 사업장 공정 정보'!$D$15:$P$41,5,0))","v":""},{"$f":"IF(MAX('3-3 위험성평가'!$A$4:$A$423)+1>E326,VLOOKUP(E326,'3-3 위험성평가'!$A$5:$P$423,3,0),\"\")","v":""},{"$f":"IF(MAX('3-3 위험성평가'!$A$4:$A$423)+1>E326,VLOOKUP(E326,'3-3 위험성평가'!$A$5:$P$423,4,0),\"\")","v":""},{"$f":"IF(MAX('3-3 위험성평가'!$A$4:$A$423)+1>E326,VLOOKUP(E326,'3-3 위험성평가'!$A$5:$P$423,5,0),\"\")","v":""},{"$f":"IF(MAX('3-3 위험성평가'!$A$4:$A$423)+1>E326,VLOOKUP(E326,'3-3 위험성평가'!$A$5:$P$423,6,0),\"\")","v":""},{"$f":"IF(MAX('3-3 위험성평가'!$A$4:$A$423)+1>E326,VLOOKUP(E326,'3-3 위험성평가'!$A$5:$P$423,9,0),\"\")","v":""},{"$f":"IF(MAX('3-3 위험성평가'!$A$4:$A$423)+1>E326,VLOOKUP(E326,'3-3 위험성평가'!$A$5:$P$423,12,0),\"\")&IF(L326>\"\",\".\"&E326,\"\")","v":""},{"$f":"IF(MAX('3-3 위험성평가'!$A$4:$A$423)+1>E326,VLOOKUP(E326,'3-3 위험성평가'!$A$5:$P$423,13,0),\"\")","v":""},null,"하",null,null,null,null,null,null,null,"선택안함",0,{"$f":"IF(MAX('3-3 위험성평가'!$A$4:$A$423)+1>E326,VLOOKUP(E326,'3-3 위험성평가'!$A$5:$Q$423,17,0),\"\")","v":""},"선택",{"$f":"표지!$D$33","v":0},{"$f":"표지!$E$34","v":0},"선택안함",0]
["T20",2,"S40",4,319,{"$f":"IF(MAX('3-3 위험성평가'!$A$4:$A$423)+1>E327,VLOOKUP(E327,'3-3 위험성평가'!$A$5:$P$423,2,0),\"\")","v":""},{"$f":"IF(F327=\"\",\"\",VLOOKUP(VALUE(F327),'1-1 사업장 공정 정보'!$D$15:$P$41,5,0))","v":""},{"$f":"IF(MAX('3-3 위험성평가'!$A$4:$A$423)+1>E327,VLOOKUP(E327,'3-3 위험성평가'!$A$5:$P$423,3,0),\"\")","v":""},{"$f":"IF(MAX('3-3 위험성평가'!$A$4:$A$423)+1>E327,VLOOKUP(E327,'3-3 위험성평가'!$A$5:$P$423,4,0),\"\")","v":""},{"$f":"IF(MAX('3-3 위험성평가'!$A$4:$A$423)+1>E327,VLOOKUP(E327,'3-3 위험성평가'!$A$5:$P$423,5,0),\"\")","v":""},{"$f":"IF(MAX('3-3 위험성평가'!$A$4:$A$423)+1>E327,VLOOKUP(E327,'3-3 위험성평가'!$A$5:$P$423,6,0),\"\")","v":""},{"$f":"IF(MAX('3-3 위험성평가'!$A$4:$A$423)+1>E327,VLOOKUP(E327,'3-3 위험성평가'!$A$5:$P$423,9,0),\"\")","v":""},{"$f":"IF(MAX('3-3 위험성평가'!$A$4:$A$423)+1>E327,VLOOKUP(E327,'3-3 위험성평가'!$A$5:$P$423,12,0),\"\")&IF(L327>\"\",\".\"&E327,\"\")","v":""},{"$f":"IF(MAX('3-3 위험성평가'!$A$4:$A$423)+1>E327,VLOOKUP(E327,'3-3 위험성평가'!$A$5:$P$423,13,0),\"\")","v":""},null,"하",null,null,null,null,null,null,null,"선택안함",0,{"$f":"IF(MAX('3-3 위험성평가'!$A$4:$A$423)+1>E327,VLOOKUP(E327,'3-3 위험성평가'!$A$5:$Q$423,17,0),\"\")","v":""},"선택",{"$f":"표지!$D$33","v":0},{"$f":"표지!$E$34","v":0},"선택안함",0]
["T20",2,"S40",4,320,{"$f":"IF(MAX('3-3 위험성평가'!$A$4:$A$423)+1>E328,VLOOKUP(E328,'3-3 위험성평가'!$A$5:$P$423,2,0),\"\")","v":""},{"$f":"IF(F328=\"\",\"\",VLOOKUP(VALUE(F328),'1-1 사업장 공정 정보'!$D$15:$P$41,5,0))","v":""},{"$f":"IF(MAX('3-3 위험성평가'!$A$4:$A$423)+1>E328,VLOOKUP(E328,'3-3 위험성평가'!$A$5:$P$423,3,0),\"\")","v":""},{"$f":"IF(MAX('3-3 위험성평가'!$A$4:$A$423)+1>E328,VLOOKUP(E328,'3-3 위험성평가'!$A$5:$P$423,4,0),\"\")","v":""},{"$f":"IF(MAX('3-3 위험성평가'!$A$4:$A$423)+1>E328,VLOOKUP(E328,'3-3 위험성평가'!$A$5:$P$423,5,0),\"\")","v":""},{"$f":"IF(MAX('3-3 위험성평가'!$A$4:$A$423)+1>E328,VLOOKUP(E328,'3-3 위험성평가'!$A$5:$P$423,6,0),\"\")","v":""},{"$f":"IF(MAX('3-3 위험성평가'!$A$4:$A$423)+1>E328,VLOOKUP(E328,'3-3 위험성평가'!$A$5:$P$423,9,0),\"\")","v":""},{"$f":"IF(MAX('3-3 위험성평가'!$A$4:$A$423)+1>E328,VLOOKUP(E328,'3-3 위험성평가'!$A$5:$P$423,12,0),\"\")&IF(L328>\"\",\".\"&E328,\"\")","v":""},{"$f":"IF(MAX('3-3 위험성평가'!$A$4:$A$423)+1>E328,VLOOKUP(E328,'3-3 위험성평가'!$A$5:$P$423,13,0),\"\")","v":""},null,"하",null,null,null,null,null,null,null,"선택안함",0,{"$f":"IF(MAX('3-3 위험성평가'!$A$4:$A$423)+1>E328,VLOOKUP(E328,'3-3 위험성평가'!$A$5:$Q$423,17,0),\"\")","v":""},"선택",{"$f":"표지!$D$33","v":0},{"$f":"표지!$E$34","v":0},"선택안함",0]
[{"$f":"\"T\"&B329&IF(OR(X329=\"선택\",X329=1),1,0)","v":"T20"},2,"S40",4,321,{"$f":"IF(MAX('3-3 위험성평가'!$A$4:$A$423)+1>E329,VLOOKUP(E329,'3-3 위험성평가'!$A$5:$P$423,2,0),\"\")","v":""},{"$f":"IF(F329=\"\",\"\",VLOOKUP(VALUE(F329),'1-1 사업장 공정 정보'!$D$15:$P$41,5,0))","v":""},{"$f":"IF(MAX('3-3 위험성평가'!$A$4:$A$423)+1>E329,VLOOKUP(E329,'3-3 위험성평가'!$A$5:$P$423,3,0),\"\")","v":""},{"$f":"IF(MAX('3-3 위험성평가'!$A$4:$A$423)+1>E329,VLOOKUP(E329,'3-3 위험성평가'!$A$5:$P$423,4,0),\"\")","v":""},{"$f":"IF(MAX('3-3 위험성평가'!$A$4:$A$423)+1>E329,VLOOKUP(E329,'3-3 위험성평가'!$A$5:$P$423,5,0),\"\")","v":""},{"$f":"IF(MAX('3-3 위험성평가'!$A$4:$A$423)+1>E329,VLOOKUP(E329,'3-3 위험성평가'!$A$5:$P$423,6,0),\"\")","v":""},{"$f":"IF(MAX('3-3 위험성평가'!$A$4:$A$423)+1>E329,VLOOKUP(E329,'3-3 위험성평가'!$A$5:$P$423,9,0),\"\")","v":""},{"$f":"IF(MAX('3-3 위험성평가'!$A$4:$A$423)+1>E329,VLOOKUP(E329,'3-3 위험성평가'!$A$5:$P$423,12,0),\"\")&IF(L329>\"\",\".\"&E329,\"\")","v":""},{"$f":"IF(MAX('3-3 위험성평가'!$A$4:$A$423)+1>E329,VLOOKUP(E329,'3-3 위험성평가'!$A$5:$P$423,13,0),\"\")","v":""},null,"하",null,null,null,null,null,null,null,"선택안함",0,{"$f":"IF(MAX('3-3 위험성평가'!$A$4:$A$423)+1>E329,VLOOKUP(E329,'3-3 위험성평가'!$A$5:$Q$423,17,0),\"\")","v":""},"선택",{"$f":"표지!$D$33","v":0},{"$f":"표지!$E$34","v":0},"선택안함",0]
["T20",2,{"$f":"\"S\"&D330&IF(OR(AD330=\"선택\",AD330=1),1,0)","v":"S40"},4,322,{"$f":"IF(MAX('3-3 위험성평가'!$A$4:$A$423)+1>E330,VLOOKUP(E330,'3-3 위험성평가'!$A$5:$P$423,2,0),\"\")","v":""},{"$f":"IF(F330=\"\",\"\",VLOOKUP(VALUE(F330),'1-1 사업장 공정 정보'!$D$15:$P$41,5,0))","v":""},{"$f":"IF(MAX('3-3 위험성평가'!$A$4:$A$423)+1>E330,VLOOKUP(E330,'3-3 위험성평가'!$A$5:$P$423,3,0),\"\")","v":""},{"$f":"IF(MAX('3-3 위험성평가'!$A$4:$A$423)+1>E330,VLOOKUP(E330,'3-3 위험성평가'!$A$5:$P$423,4,0),\"\")","v":""},{"$f":"IF(MAX('3-3 위험성평가'!$A$4:$A$423)+1>E330,VLOOKUP(E330,'3-3 위험성평가'!$A$5:$P$423,5,0),\"\")","v":""},{"$f":"IF(MAX('3-3 위험성평가'!$A$4:$A$423)+1>E330,VLOOKUP(E330,'3-3 위험성평가'!$A$5:$P$423,6,0),\"\")","v":""},{"$f":"IF(MAX('3-3 위험성평가'!$A$4:$A$423)+1>E330,VLOOKUP(E330,'3-3 위험성평가'!$A$5:$P$423,9,0),\"\")","v":""},{"$f":"IF(MAX('3-3 위험성평가'!$A$4:$A$423)+1>E330,VLOOKUP(E330,'3-3 위험성평가'!$A$5:$P$423,12,0),\"\")&IF(L330>\"\",\".\"&E330,\"\")","v":""},{"$f":"IF(MAX('3-3 위험성평가'!$A$4:$A$423)+1>E330,VLOOKUP(E330,'3-3 위험성평가'!$A$5:$P$423,13,0),\"\")","v":""},null,"하",null,null,null,null,null,null,null,"선택안함",{"$f":"IF(OR(X330=\"선택\",X330=1),1,0)","v":0},{"$f":"IF(MAX('3-3 위험성평가'!$A$4:$A$423)+1>E330,VLOOKUP(E330,'3-3 위험성평가'!$A$5:$Q$423,17,0),\"\")","v":""},"선택",{"$f":"표지!$D$33","v":0},{"$f":"표지!$E$34","v":0},"선택안함",{"$f":"IF(OR(AD330=\"선택\",AD330=1),1,0)","v":0}]
["T20",2,"S40",4,323,{"$f":"IF(MAX('3-3 위험성평가'!$A$4:$A$423)+1>E331,VLOOKUP(E331,'3-3 위험성평가'!$A$5:$P$423,2,0),\"\")","v":""},{"$f":"IF(F331=\"\",\"\",VLOOKUP(VALUE(F331),'1-1 사업장 공정 정보'!$D$15:$P$41,5,0))","v":""},{"$f":"IF(MAX('3-3 위험성평가'!$A$4:$A$423)+1>E331,VLOOKUP(E331,'3-3 위험성평가'!$A$5:$P$423,3,0),\"\")","v":""},{"$f":"IF(MAX('3-3 위험성평가'!$A$4:$A$423)+1>E331,VLOOKUP(E331,'3-3 위험성평가'!$A$5:$P$423,4,0),\"\")","v":""},{"$f":"IF(MAX('3-3 위험성평가'!$A$4:$A$423)+1>E331,VLOOKUP(E331,'3-3 위험성평가'!$A$5:$P$423,5,0),\"\")","v":""},{"$f":"IF(MAX('3-3 위험성평가'!$A$4:$A$423)+1>E331,VLOOKUP(E331,'3-3 위험성평가'!$A$5:$P$423,6,0),\"\")","v":""},{"$f":"IF(MAX('3-3 위험성평가'!$A$4:$A$423)+1>E331,VLOOKUP(E331,'3-3 위험성평가'!$A$5:$P$423,9,0),\"\")","v":""},{"$f":"IF(MAX('3-3 위험성평가'!$A$4:$A$423)+1>E331,VLOOKUP(E331,'3-3 위험성평가'!$A$5:$P$423,12,0),\"\")&IF(L331>\"\",\".\"&E331,\"\")","v":""},{"$f":"IF(MAX('3-3 위험성평가'!$A$4:$A$423)+1>E331,VLOOKUP(E331,'3-3 위험성평가'!$A$5:$P$423,13,0),\"\")","v":""},null,"하",null,null,null,null,null,null,null,"선택안함",0,{"$f":"IF(MAX('3-3 위험성평가'!$A$4:$A$423)+1>E331,VLOOKUP(E331,'3-3 위험성평가'!$A$5:$Q$423,17,0),\"\")","v":""},"선택",{"$f":"표지!$D$33","v":0},{"$f":"표지!$E$34","v":0},"선택안함",0]
["T20",2,"S40",{"$f":"D331+AE332","v":4},324,{"$f":"IF(MAX('3-3 위험성평가'!$A$4:$A$423)+1>E332,VLOOKUP(E332,'3-3 위험성평가'!$A$5:$P$423,2,0),\"\")","v":""},{"$f":"IF(F332=\"\",\"\",VLOOKUP(VALUE(F332),'1-1 사업장 공정 정보'!$D$15:$P$41,5,0))","v":""},{"$f":"IF(MAX('3-3 위험성평가'!$A$4:$A$423)+1>E332,VLOOKUP(E332,'3-3 위험성평가'!$A$5:$P$423,3,0),\"\")","v":""},{"$f":"IF(MAX('3-3 위험성평가'!$A$4:$A$423)+1>E332,VLOOKUP(E332,'3-3 위험성평가'!$A$5:$P$423,4,0),\"\")","v":""},{"$f":"IF(MAX('3-3 위험성평가'!$A$4:$A$423)+1>E332,VLOOKUP(E332,'3-3 위험성평가'!$A$5:$P$423,5,0),\"\")","v":""},{"$f":"IF(MAX('3-3 위험성평가'!$A$4:$A$423)+1>E332,VLOOKUP(E332,'3-3 위험성평가'!$A$5:$P$423,6,0),\"\")","v":""},{"$f":"IF(MAX('3-3 위험성평가'!$A$4:$A$423)+1>E332,VLOOKUP(E332,'3-3 위험성평가'!$A$5:$P$423,9,0),\"\")","v":""},{"$f":"IF(MAX('3-3 위험성평가'!$A$4:$A$423)+1>E332,VLOOKUP(E332,'3-3 위험성평가'!$A$5:$P$423,12,0),\"\")&IF(L332>\"\",\".\"&E332,\"\")","v":""},{"$f":"IF(MAX('3-3 위험성평가'!$A$4:$A$423)+1>E332,VLOOKUP(E332,'3-3 위험성평가'!$A$5:$P$423,13,0),\"\")","v":""},null,"하",null,null,null,null,null,null,null,"선택안함",0,{"$f":"IF(MAX('3-3 위험성평가'!$A$4:$A$423)+1>E332,VLOOKUP(E332,'3-3 위험성평가'!$A$5:$Q$423,17,0),\"\")","v":""},"선택",{"$f":"표지!$D$33","v":0},{"$f":"표지!$E$34","v":0},"선택안함",0]
["T20",2,"S40",4,325,{"$f":"IF(MAX('3-3 위험성평가'!$A$4:$A$423)+1>E333,VLOOKUP(E333,'3-3 위험성평가'!$A$5:$P$423,2,0),\"\")","v":""},{"$f":"IF(F333=\"\",\"\",VLOOKUP(VALUE(F333),'1-1 사업장 공정 정보'!$D$15:$P$41,5,0))","v":""},{"$f":"IF(MAX('3-3 위험성평가'!$A$4:$A$423)+1>E333,VLOOKUP(E333,'3-3 위험성평가'!$A$5:$P$423,3,0),\"\")","v":""},{"$f":"IF(MAX('3-3 위험성평가'!$A$4:$A$423)+1>E333,VLOOKUP(E333,'3-3 위험성평가'!$A$5:$P$423,4,0),\"\")","v":""},{"$f":"IF(MAX('3-3 위험성평가'!$A$4:$A$423)+1>E333,VLOOKUP(E333,'3-3 위험성평가'!$A$5:$P$423,5,0),\"\")","v":""},{"$f":"IF(MAX('3-3 위험성평가'!$A$4:$A$423)+1>E333,VLOOKUP(E333,'3-3 위험성평가'!$A$5:$P$423,6,0),\"\")","v":""},{"$f":"IF(MAX('3-3 위험성평가'!$A$4:$A$423)+1>E333,VLOOKUP(E333,'3-3 위험성평가'!$A$5:$P$423,9,0),\"\")","v":""},{"$f":"IF(MAX('3-3 위험성평가'!$A$4:$A$423)+1>E333,VLOOKUP(E333,'3-3 위험성평가'!$A$5:$P$423,12,0),\"\")&IF(L333>\"\",\".\"&E333,\"\")","v":""},{"$f":"IF(MAX('3-3 위험성평가'!$A$4:$A$423)+1>E333,VLOOKUP(E333,'3-3 위험성평가'!$A$5:$P$423,13,0),\"\")","v":""},null,"하",null,null,null,null,null,null,null,"선택안함",0,{"$f":"IF(MAX('3-3 위험성평가'!$A$4:$A$423)+1>E333,VLOOKUP(E333,'3-3 위험성평가'!$A$5:$Q$423,17,0),\"\")","v":""},"선택",{"$f":"표지!$D$33","v":0},{"$f":"표지!$E$34","v":0},"선택안함",0]
["T20",2,"S40",4,326,{"$f":"IF(MAX('3-3 위험성평가'!$A$4:$A$423)+1>E334,VLOOKUP(E334,'3-3 위험성평가'!$A$5:$P$423,2,0),\"\")","v":""},{"$f":"IF(F334=\"\",\"\",VLOOKUP(VALUE(F334),'1-1 사업장 공정 정보'!$D$15:$P$41,5,0))","v":""},{"$f":"IF(MAX('3-3 위험성평가'!$A$4:$A$423)+1>E334,VLOOKUP(E334,'3-3 위험성평가'!$A$5:$P$423,3,0),\"\")","v":""},{"$f":"IF(MAX('3-3 위험성평가'!$A$4:$A$423)+1>E334,VLOOKUP(E334,'3-3 위험성평가'!$A$5:$P$423,4,0),\"\")","v":""},{"$f":"IF(MAX('3-3 위험성평가'!$A$4:$A$423)+1>E334,VLOOKUP(E334,'3-3 위험성평가'!$A$5:$P$423,5,0),\"\")","v":""},{"$f":"IF(MAX('3-3 위험성평가'!$A$4:$A$423)+1>E334,VLOOKUP(E334,'3-3 위험성평가'!$A$5:$P$423,6,0),\"\")","v":""},{"$f":"IF(MAX('3-3 위험성평가'!$A$4:$A$423)+1>E334,VLOOKUP(E334,'3-3 위험성평가'!$A$5:$P$423,9,0),\"\")","v":""},{"$f":"IF(MAX('3-3 위험성평가'!$A$4:$A$423)+1>E334,VLOOKUP(E334,'3-3 위험성평가'!$A$5:$P$423,12,0),\"\")&IF(L334>\"\",\".\"&E334,\"\")","v":""},{"$f":"IF(MAX('3-3 위험성평가'!$A$4:$A$423)+1>E334,VLOOKUP(E334,'3-3 위험성평가'!$A$5:$P$423,13,0),\"\")","v":""},null,"하",null,null,null,null,null,null,null,"선택안함",0,{"$f":"IF(MAX('3-3 위험성평가'!$A$4:$A$423)+1>E334,VLOOKUP(E334,'3-3 위험성평가'!$A$5:$Q$423,17,0),\"\")","v":""},"선택",{"$f":"표지!$D$33","v":0},{"$f":"표지!$E$34","v":0},"선택안함",0]
["T20",2,"S40",4,327,{"$f":"IF(MAX('3-3 위험성평가'!$A$4:$A$423)+1>E335,VLOOKUP(E335,'3-3 위험성평가'!$A$5:$P$423,2,0),\"\")","v":""},{"$f":"IF(F335=\"\",\"\",VLOOKUP(VALUE(F335),'1-1 사업장 공정 정보'!$D$15:$P$41,5,0))","v":""},{"$f":"IF(MAX('3-3 위험성평가'!$A$4:$A$423)+1>E335,VLOOKUP(E335,'3-3 위험성평가'!$A$5:$P$423,3,0),\"\")","v":""},{"$f":"IF(MAX('3-3 위험성평가'!$A$4:$A$423)+1>E335,VLOOKUP(E335,'3-3 위험성평가'!$A$5:$P$423,4,0),\"\")","v":""},{"$f":"IF(MAX('3-3 위험성평가'!$A$4:$A$423)+1>E335,VLOOKUP(E335,'3-3 위험성평가'!$A$5:$P$423,5,0),\"\")","v":""},{"$f":"IF(MAX('3-3 위험성평가'!$A$4:$A$423)+1>E335,VLOOKUP(E335,'3-3 위험성평가'!$A$5:$P$423,6,0),\"\")","v":""},{"$f":"IF(MAX('3-3 위험성평가'!$A$4:$A$423)+1>E335,VLOOKUP(E335,'3-3 위험성평가'!$A$5:$P$423,9,0),\"\")","v":""},{"$f":"IF(MAX('3-3 위험성평가'!$A$4:$A$423)+1>E335,VLOOKUP(E335,'3-3 위험성평가'!$A$5:$P$423,12,0),\"\")&IF(L335>\"\",\".\"&E335,\"\")","v":""},{"$f":"IF(MAX('3-3 위험성평가'!$A$4:$A$423)+1>E335,VLOOKUP(E335,'3-3 위험성평가'!$A$5:$P$423,13,0),\"\")","v":""},null,"하",null,null,null,null,null,null,null,"선택안함",0,{"$f":"IF(MAX('3-3 위험성평가'!$A$4:$A$423)+1>E335,VLOOKUP(E335,'3-3 위험성평가'!$A$5:$Q$423,17,0),\"\")","v":""},"선택",{"$f":"표지!$D$33","v":0},{"$f":"표지!$E$34","v":0},"선택안함",0]
["T20",2,"S40",4,328,{"$f":"IF(MAX('3-3 위험성평가'!$A$4:$A$423)+1>E336,VLOOKUP(E336,'3-3 위험성평가'!$A$5:$P$423,2,0),\"\")","v":""},{"$f":"IF(F336=\"\",\"\",VLOOKUP(VALUE(F336),'1-1 사업장 공정 정보'!$D$15:$P$41,5,0))","v":""},{"$f":"IF(MAX('3-3 위험성평가'!$A$4:$A$423)+1>E336,VLOOKUP(E336,'3-3 위험성평가'!$A$5:$P$423,3,0),\"\")","v":""},{"$f":"IF(MAX('3-3 위험성평가'!$A$4:$A$423)+1>E336,VLOOKUP(E336,'3-3 위험성평가'!$A$5:$P$423,4,0),\"\")","v":""},{"$f":"IF(MAX('3-3 위험성평가'!$A$4:$A$423)+1>E336,VLOOKUP(E336,'3-3 위험성평가'!$A$5:$P$423,5,0),\"\")","v":""},{"$f":"IF(MAX('3-3 위험성평가'!$A$4:$A$423)+1>E336,VLOOKUP(E336,'3-3 위험성평가'!$A$5:$P$423,6,0),\"\")","v":""},{"$f":"IF(MAX('3-3 위험성평가'!$A$4:$A$423)+1>E336,VLOOKUP(E336,'3-3 위험성평가'!$A$5:$P$423,9,0),\"\")","v":""},{"$f":"IF(MAX('3-3 위험성평가'!$A$4:$A$423)+1>E336,VLOOKUP(E336,'3-3 위험성평가'!$A$5:$P$423,12,0),\"\")&IF(L336>\"\",\".\"&E336,\"\")","v":""},{"$f":"IF(MAX('3-3 위험성평가'!$A$4:$A$423)+1>E336,VLOOKUP(E336,'3-3 위험성평가'!$A$5:$P$423,13,0),\"\")","v":""},null,"하",null,null,null,null,null,null,null,"선택안함",0,{"$f":"IF(MAX('3-3 위험성평가'!$A$4:$A$423)+1>E336,VLOOKUP(E336,'3-3 위험성평가'!$A$5:$Q$423,17,0),\"\")","v":""},"선택",{"$f":"표지!$D$33","v":0},{"$f":"표지!$E$34","v":0},"선택안함",0]
["T20",2,"S40",4,329,{"$f":"IF(MAX('3-3 위험성평가'!$A$4:$A$423)+1>E337,VLOOKUP(E337,'3-3 위험성평가'!$A$5:$P$423,2,0),\"\")","v":""},{"$f":"IF(F337=\"\",\"\",VLOOKUP(VALUE(F337),'1-1 사업장 공정 정보'!$D$15:$P$41,5,0))","v":""},{"$f":"IF(MAX('3-3 위험성평가'!$A$4:$A$423)+1>E337,VLOOKUP(E337,'3-3 위험성평가'!$A$5:$P$423,3,0),\"\")","v":""},{"$f":"IF(MAX('3-3 위험성평가'!$A$4:$A$423)+1>E337,VLOOKUP(E337,'3-3 위험성평가'!$A$5:$P$423,4,0),\"\")","v":""},{"$f":"IF(MAX('3-3 위험성평가'!$A$4:$A$423)+1>E337,VLOOKUP(E337,'3-3 위험성평가'!$A$5:$P$423,5,0),\"\")","v":""},{"$f":"IF(MAX('3-3 위험성평가'!$A$4:$A$423)+1>E337,VLOOKUP(E337,'3-3 위험성평가'!$A$5:$P$423,6,0),\"\")","v":""},{"$f":"IF(MAX('3-3 위험성평가'!$A$4:$A$423)+1>E337,VLOOKUP(E337,'3-3 위험성평가'!$A$5:$P$423,9,0),\"\")","v":""},{"$f":"IF(MAX('3-3 위험성평가'!$A$4:$A$423)+1>E337,VLOOKUP(E337,'3-3 위험성평가'!$A$5:$P$423,12,0),\"\")&IF(L337>\"\",\".\"&E337,\"\")","v":""},{"$f":"IF(MAX('3-3 위험성평가'!$A$4:$A$423)+1>E337,VLOOKUP(E337,'3-3 위험성평가'!$A$5:$P$423,13,0),\"\")","v":""},null,"하",null,null,null,null,null,null,null,"선택안함",0,{"$f":"IF(MAX('3-3 위험성평가'!$A$4:$A$423)+1>E337,VLOOKUP(E337,'3-3 위험성평가'!$A$5:$Q$423,17,0),\"\")","v":""},"선택",{"$f":"표지!$D$33","v":0},{"$f":"표지!$E$34","v":0},"선택안함",0]
["T20",2,"S40",4,330,{"$f":"IF(MAX('3-3 위험성평가'!$A$4:$A$423)+1>E338,VLOOKUP(E338,'3-3 위험성평가'!$A$5:$P$423,2,0),\"\")","v":""},{"$f":"IF(F338=\"\",\"\",VLOOKUP(VALUE(F338),'1-1 사업장 공정 정보'!$D$15:$P$41,5,0))","v":""},{"$f":"IF(MAX('3-3 위험성평가'!$A$4:$A$423)+1>E338,VLOOKUP(E338,'3-3 위험성평가'!$A$5:$P$423,3,0),\"\")","v":""},{"$f":"IF(MAX('3-3 위험성평가'!$A$4:$A$423)+1>E338,VLOOKUP(E338,'3-3 위험성평가'!$A$5:$P$423,4,0),\"\")","v":""},{"$f":"IF(MAX('3-3 위험성평가'!$A$4:$A$423)+1>E338,VLOOKUP(E338,'3-3 위험성평가'!$A$5:$P$423,5,0),\"\")","v":""},{"$f":"IF(MAX('3-3 위험성평가'!$A$4:$A$423)+1>E338,VLOOKUP(E338,'3-3 위험성평가'!$A$5:$P$423,6,0),\"\")","v":""},{"$f":"IF(MAX('3-3 위험성평가'!$A$4:$A$423)+1>E338,VLOOKUP(E338,'3-3 위험성평가'!$A$5:$P$423,9,0),\"\")","v":""},{"$f":"IF(MAX('3-3 위험성평가'!$A$4:$A$423)+1>E338,VLOOKUP(E338,'3-3 위험성평가'!$A$5:$P$423,12,0),\"\")&IF(L338>\"\",\".\"&E338,\"\")","v":""},{"$f":"IF(MAX('3-3 위험성평가'!$A$4:$A$423)+1>E338,VLOOKUP(E338,'3-3 위험성평가'!$A$5:$P$423,13,0),\"\")","v":""},null,"하",null,null,null,null,null,null,null,"선택안함",0,{"$f":"IF(MAX('3-3 위험성평가'!$A$4:$A$423)+1>E338,VLOOKUP(E338,'3-3 위험성평가'!$A$5:$Q$423,17,0),\"\")","v":""},"선택",{"$f":"표지!$D$33","v":0},{"$f":"표지!$E$34","v":0},"선택안함",0]
["T20",2,"S40",4,331,{"$f":"IF(MAX('3-3 위험성평가'!$A$4:$A$423)+1>E339,VLOOKUP(E339,'3-3 위험성평가'!$A$5:$P$423,2,0),\"\")","v":""},{"$f":"IF(F339=\"\",\"\",VLOOKUP(VALUE(F339),'1-1 사업장 공정 정보'!$D$15:$P$41,5,0))","v":""},{"$f":"IF(MAX('3-3 위험성평가'!$A$4:$A$423)+1>E339,VLOOKUP(E339,'3-3 위험성평가'!$A$5:$P$423,3,0),\"\")","v":""},{"$f":"IF(MAX('3-3 위험성평가'!$A$4:$A$423)+1>E339,VLOOKUP(E339,'3-3 위험성평가'!$A$5:$P$423,4,0),\"\")","v":""},{"$f":"IF(MAX('3-3 위험성평가'!$A$4:$A$423)+1>E339,VLOOKUP(E339,'3-3 위험성평가'!$A$5:$P$423,5,0),\"\")","v":""},{"$f":"IF(MAX('3-3 위험성평가'!$A$4:$A$423)+1>E339,VLOOKUP(E339,'3-3 위험성평가'!$A$5:$P$423,6,0),\"\")","v":""},{"$f":"IF(MAX('3-3 위험성평가'!$A$4:$A$423)+1>E339,VLOOKUP(E339,'3-3 위험성평가'!$A$5:$P$423,9,0),\"\")","v":""},{"$f":"IF(MAX('3-3 위험성평가'!$A$4:$A$423)+1>E339,VLOOKUP(E339,'3-3 위험성평가'!$A$5:$P$423,12,0),\"\")&IF(L339>\"\",\".\"&E339,\"\")","v":""},{"$f":"IF(MAX('3-3 위험성평가'!$A$4:$A$423)+1>E339,VLOOKUP(E339,'3-3 위험성평가'!$A$5:$P$423,13,0),\"\")","v":""},null,"하",null,null,null,null,null,null,null,"선택안함",0,{"$f":"IF(MAX('3-3 위험성평가'!$A$4:$A$423)+1>E339,VLOOKUP(E339,'3-3 위험성평가'!$A$5:$Q$423,17,0),\"\")","v":""},"선택",{"$f":"표지!$D$33","v":0},{"$f":"표지!$E$34","v":0},"선택안함",0]
["T20",2,"S40",4,332,{"$f":"IF(MAX('3-3 위험성평가'!$A$4:$A$423)+1>E340,VLOOKUP(E340,'3-3 위험성평가'!$A$5:$P$423,2,0),\"\")","v":""},{"$f":"IF(F340=\"\",\"\",VLOOKUP(VALUE(F340),'1-1 사업장 공정 정보'!$D$15:$P$41,5,0))","v":""},{"$f":"IF(MAX('3-3 위험성평가'!$A$4:$A$423)+1>E340,VLOOKUP(E340,'3-3 위험성평가'!$A$5:$P$423,3,0),\"\")","v":""},{"$f":"IF(MAX('3-3 위험성평가'!$A$4:$A$423)+1>E340,VLOOKUP(E340,'3-3 위험성평가'!$A$5:$P$423,4,0),\"\")","v":""},{"$f":"IF(MAX('3-3 위험성평가'!$A$4:$A$423)+1>E340,VLOOKUP(E340,'3-3 위험성평가'!$A$5:$P$423,5,0),\"\")","v":""},{"$f":"IF(MAX('3-3 위험성평가'!$A$4:$A$423)+1>E340,VLOOKUP(E340,'3-3 위험성평가'!$A$5:$P$423,6,0),\"\")","v":""},{"$f":"IF(MAX('3-3 위험성평가'!$A$4:$A$423)+1>E340,VLOOKUP(E340,'3-3 위험성평가'!$A$5:$P$423,9,0),\"\")","v":""},{"$f":"IF(MAX('3-3 위험성평가'!$A$4:$A$423)+1>E340,VLOOKUP(E340,'3-3 위험성평가'!$A$5:$P$423,12,0),\"\")&IF(L340>\"\",\".\"&E340,\"\")","v":""},{"$f":"IF(MAX('3-3 위험성평가'!$A$4:$A$423)+1>E340,VLOOKUP(E340,'3-3 위험성평가'!$A$5:$P$423,13,0),\"\")","v":""},null,"하",null,null,null,null,null,null,null,"선택안함",0,{"$f":"IF(MAX('3-3 위험성평가'!$A$4:$A$423)+1>E340,VLOOKUP(E340,'3-3 위험성평가'!$A$5:$Q$423,17,0),\"\")","v":""},"선택",{"$f":"표지!$D$33","v":0},{"$f":"표지!$E$34","v":0},"선택안함",0]
["T20",2,"S40",4,333,{"$f":"IF(MAX('3-3 위험성평가'!$A$4:$A$423)+1>E341,VLOOKUP(E341,'3-3 위험성평가'!$A$5:$P$423,2,0),\"\")","v":""},{"$f":"IF(F341=\"\",\"\",VLOOKUP(VALUE(F341),'1-1 사업장 공정 정보'!$D$15:$P$41,5,0))","v":""},{"$f":"IF(MAX('3-3 위험성평가'!$A$4:$A$423)+1>E341,VLOOKUP(E341,'3-3 위험성평가'!$A$5:$P$423,3,0),\"\")","v":""},{"$f":"IF(MAX('3-3 위험성평가'!$A$4:$A$423)+1>E341,VLOOKUP(E341,'3-3 위험성평가'!$A$5:$P$423,4,0),\"\")","v":""},{"$f":"IF(MAX('3-3 위험성평가'!$A$4:$A$423)+1>E341,VLOOKUP(E341,'3-3 위험성평가'!$A$5:$P$423,5,0),\"\")","v":""},{"$f":"IF(MAX('3-3 위험성평가'!$A$4:$A$423)+1>E341,VLOOKUP(E341,'3-3 위험성평가'!$A$5:$P$423,6,0),\"\")","v":""},{"$f":"IF(MAX('3-3 위험성평가'!$A$4:$A$423)+1>E341,VLOOKUP(E341,'3-3 위험성평가'!$A$5:$P$423,9,0),\"\")","v":""},{"$f":"IF(MAX('3-3 위험성평가'!$A$4:$A$423)+1>E341,VLOOKUP(E341,'3-3 위험성평가'!$A$5:$P$423,12,0),\"\")&IF(L341>\"\",\".\"&E341,\"\")","v":""},{"$f":"IF(MAX('3-3 위험성평가'!$A$4:$A$423)+1>E341,VLOOKUP(E341,'3-3 위험성평가'!$A$5:$P$423,13,0),\"\")","v":""},null,"하",null,null,null,null,null,null,null,"선택안함",0,{"$f":"IF(MAX('3-3 위험성평가'!$A$4:$A$423)+1>E341,VLOOKUP(E341,'3-3 위험성평가'!$A$5:$Q$423,17,0),\"\")","v":""},"선택",{"$f":"표지!$D$33","v":0},{"$f":"표지!$E$34","v":0},"선택안함",0]
["T20",2,"S40",4,334,{"$f":"IF(MAX('3-3 위험성평가'!$A$4:$A$423)+1>E342,VLOOKUP(E342,'3-3 위험성평가'!$A$5:$P$423,2,0),\"\")","v":""},{"$f":"IF(F342=\"\",\"\",VLOOKUP(VALUE(F342),'1-1 사업장 공정 정보'!$D$15:$P$41,5,0))","v":""},{"$f":"IF(MAX('3-3 위험성평가'!$A$4:$A$423)+1>E342,VLOOKUP(E342,'3-3 위험성평가'!$A$5:$P$423,3,0),\"\")","v":""},{"$f":"IF(MAX('3-3 위험성평가'!$A$4:$A$423)+1>E342,VLOOKUP(E342,'3-3 위험성평가'!$A$5:$P$423,4,0),\"\")","v":""},{"$f":"IF(MAX('3-3 위험성평가'!$A$4:$A$423)+1>E342,VLOOKUP(E342,'3-3 위험성평가'!$A$5:$P$423,5,0),\"\")","v":""},{"$f":"IF(MAX('3-3 위험성평가'!$A$4:$A$423)+1>E342,VLOOKUP(E342,'3-3 위험성평가'!$A$5:$P$423,6,0),\"\")","v":""},{"$f":"IF(MAX('3-3 위험성평가'!$A$4:$A$423)+1>E342,VLOOKUP(E342,'3-3 위험성평가'!$A$5:$P$423,9,0),\"\")","v":""},{"$f":"IF(MAX('3-3 위험성평가'!$A$4:$A$423)+1>E342,VLOOKUP(E342,'3-3 위험성평가'!$A$5:$P$423,12,0),\"\")&IF(L342>\"\",\".\"&E342,\"\")","v":""},{"$f":"IF(MAX('3-3 위험성평가'!$A$4:$A$423)+1>E342,VLOOKUP(E342,'3-3 위험성평가'!$A$5:$P$423,13,0),\"\")","v":""},null,"하",null,null,null,null,null,null,null,"선택안함",0,{"$f":"IF(MAX('3-3 위험성평가'!$A$4:$A$423)+1>E342,VLOOKUP(E342,'3-3 위험성평가'!$A$5:$Q$423,17,0),\"\")","v":""},"선택",{"$f":"표지!$D$33","v":0},{"$f":"표지!$E$34","v":0},"선택안함",0]
["T20",2,"S40",4,335,{"$f":"IF(MAX('3-3 위험성평가'!$A$4:$A$423)+1>E343,VLOOKUP(E343,'3-3 위험성평가'!$A$5:$P$423,2,0),\"\")","v":""},{"$f":"IF(F343=\"\",\"\",VLOOKUP(VALUE(F343),'1-1 사업장 공정 정보'!$D$15:$P$41,5,0))","v":""},{"$f":"IF(MAX('3-3 위험성평가'!$A$4:$A$423)+1>E343,VLOOKUP(E343,'3-3 위험성평가'!$A$5:$P$423,3,0),\"\")","v":""},{"$f":"IF(MAX('3-3 위험성평가'!$A$4:$A$423)+1>E343,VLOOKUP(E343,'3-3 위험성평가'!$A$5:$P$423,4,0),\"\")","v":""},{"$f":"IF(MAX('3-3 위험성평가'!$A$4:$A$423)+1>E343,VLOOKUP(E343,'3-3 위험성평가'!$A$5:$P$423,5,0),\"\")","v":""},{"$f":"IF(MAX('3-3 위험성평가'!$A$4:$A$423)+1>E343,VLOOKUP(E343,'3-3 위험성평가'!$A$5:$P$423,6,0),\"\")","v":""},{"$f":"IF(MAX('3-3 위험성평가'!$A$4:$A$423)+1>E343,VLOOKUP(E343,'3-3 위험성평가'!$A$5:$P$423,9,0),\"\")","v":""},{"$f":"IF(MAX('3-3 위험성평가'!$A$4:$A$423)+1>E343,VLOOKUP(E343,'3-3 위험성평가'!$A$5:$P$423,12,0),\"\")&IF(L343>\"\",\".\"&E343,\"\")","v":""},{"$f":"IF(MAX('3-3 위험성평가'!$A$4:$A$423)+1>E343,VLOOKUP(E343,'3-3 위험성평가'!$A$5:$P$423,13,0),\"\")","v":""},null,"하",null,null,null,null,null,null,null,"선택안함",0,{"$f":"IF(MAX('3-3 위험성평가'!$A$4:$A$423)+1>E343,VLOOKUP(E343,'3-3 위험성평가'!$A$5:$Q$423,17,0),\"\")","v":""},"선택",{"$f":"표지!$D$33","v":0},{"$f":"표지!$E$34","v":0},"선택안함",0]
["T20",2,"S40",4,336,{"$f":"IF(MAX('3-3 위험성평가'!$A$4:$A$423)+1>E344,VLOOKUP(E344,'3-3 위험성평가'!$A$5:$P$423,2,0),\"\")","v":""},{"$f":"IF(F344=\"\",\"\",VLOOKUP(VALUE(F344),'1-1 사업장 공정 정보'!$D$15:$P$41,5,0))","v":""},{"$f":"IF(MAX('3-3 위험성평가'!$A$4:$A$423)+1>E344,VLOOKUP(E344,'3-3 위험성평가'!$A$5:$P$423,3,0),\"\")","v":""},{"$f":"IF(MAX('3-3 위험성평가'!$A$4:$A$423)+1>E344,VLOOKUP(E344,'3-3 위험성평가'!$A$5:$P$423,4,0),\"\")","v":""},{"$f":"IF(MAX('3-3 위험성평가'!$A$4:$A$423)+1>E344,VLOOKUP(E344,'3-3 위험성평가'!$A$5:$P$423,5,0),\"\")","v":""},{"$f":"IF(MAX('3-3 위험성평가'!$A$4:$A$423)+1>E344,VLOOKUP(E344,'3-3 위험성평가'!$A$5:$P$423,6,0),\"\")","v":""},{"$f":"IF(MAX('3-3 위험성평가'!$A$4:$A$423)+1>E344,VLOOKUP(E344,'3-3 위험성평가'!$A$5:$P$423,9,0),\"\")","v":""},{"$f":"IF(MAX('3-3 위험성평가'!$A$4:$A$423)+1>E344,VLOOKUP(E344,'3-3 위험성평가'!$A$5:$P$423,12,0),\"\")&IF(L344>\"\",\".\"&E344,\"\")","v":""},{"$f":"IF(MAX('3-3 위험성평가'!$A$4:$A$423)+1>E344,VLOOKUP(E344,'3-3 위험성평가'!$A$5:$P$423,13,0),\"\")","v":""},null,"하",null,null,null,null,null,null,null,"선택안함",0,{"$f":"IF(MAX('3-3 위험성평가'!$A$4:$A$423)+1>E344,VLOOKUP(E344,'3-3 위험성평가'!$A$5:$Q$423,17,0),\"\")","v":""},"선택",{"$f":"표지!$D$33","v":0},{"$f":"표지!$E$34","v":0},"선택안함",0]
["T20",2,"S40",4,337,{"$f":"IF(MAX('3-3 위험성평가'!$A$4:$A$423)+1>E345,VLOOKUP(E345,'3-3 위험성평가'!$A$5:$P$423,2,0),\"\")","v":""},{"$f":"IF(F345=\"\",\"\",VLOOKUP(VALUE(F345),'1-1 사업장 공정 정보'!$D$15:$P$41,5,0))","v":""},{"$f":"IF(MAX('3-3 위험성평가'!$A$4:$A$423)+1>E345,VLOOKUP(E345,'3-3 위험성평가'!$A$5:$P$423,3,0),\"\")","v":""},{"$f":"IF(MAX('3-3 위험성평가'!$A$4:$A$423)+1>E345,VLOOKUP(E345,'3-3 위험성평가'!$A$5:$P$423,4,0),\"\")","v":""},{"$f":"IF(MAX('3-3 위험성평가'!$A$4:$A$423)+1>E345,VLOOKUP(E345,'3-3 위험성평가'!$A$5:$P$423,5,0),\"\")","v":""},{"$f":"IF(MAX('3-3 위험성평가'!$A$4:$A$423)+1>E345,VLOOKUP(E345,'3-3 위험성평가'!$A$5:$P$423,6,0),\"\")","v":""},{"$f":"IF(MAX('3-3 위험성평가'!$A$4:$A$423)+1>E345,VLOOKUP(E345,'3-3 위험성평가'!$A$5:$P$423,9,0),\"\")","v":""},{"$f":"IF(MAX('3-3 위험성평가'!$A$4:$A$423)+1>E345,VLOOKUP(E345,'3-3 위험성평가'!$A$5:$P$423,12,0),\"\")&IF(L345>\"\",\".\"&E345,\"\")","v":""},{"$f":"IF(MAX('3-3 위험성평가'!$A$4:$A$423)+1>E345,VLOOKUP(E345,'3-3 위험성평가'!$A$5:$P$423,13,0),\"\")","v":""},null,"하",null,null,null,null,null,null,null,"선택안함",0,{"$f":"IF(MAX('3-3 위험성평가'!$A$4:$A$423)+1>E345,VLOOKUP(E345,'3-3 위험성평가'!$A$5:$Q$423,17,0),\"\")","v":""},"선택",{"$f":"표지!$D$33","v":0},{"$f":"표지!$E$34","v":0},"선택안함",0]
["T20",{"$f":"B345+Y346","v":2},"S40",4,338,{"$f":"IF(MAX('3-3 위험성평가'!$A$4:$A$423)+1>E346,VLOOKUP(E346,'3-3 위험성평가'!$A$5:$P$423,2,0),\"\")","v":""},{"$f":"IF(F346=\"\",\"\",VLOOKUP(VALUE(F346),'1-1 사업장 공정 정보'!$D$15:$P$41,5,0))","v":""},{"$f":"IF(MAX('3-3 위험성평가'!$A$4:$A$423)+1>E346,VLOOKUP(E346,'3-3 위험성평가'!$A$5:$P$423,3,0),\"\")","v":""},{"$f":"IF(MAX('3-3 위험성평가'!$A$4:$A$423)+1>E346,VLOOKUP(E346,'3-3 위험성평가'!$A$5:$P$423,4,0),\"\")","v":""},{"$f":"IF(MAX('3-3 위험성평가'!$A$4:$A$423)+1>E346,VLOOKUP(E346,'3-3 위험성평가'!$A$5:$P$423,5,0),\"\")","v":""},{"$f":"IF(MAX('3-3 위험성평가'!$A$4:$A$423)+1>E346,VLOOKUP(E346,'3-3 위험성평가'!$A$5:$P$423,6,0),\"\")","v":""},{"$f":"IF(MAX('3-3 위험성평가'!$A$4:$A$423)+1>E346,VLOOKUP(E346,'3-3 위험성평가'!$A$5:$P$423,9,0),\"\")","v":""},{"$f":"IF(MAX('3-3 위험성평가'!$A$4:$A$423)+1>E346,VLOOKUP(E346,'3-3 위험성평가'!$A$5:$P$423,12,0),\"\")&IF(L346>\"\",\".\"&E346,\"\")","v":""},{"$f":"IF(MAX('3-3 위험성평가'!$A$4:$A$423)+1>E346,VLOOKUP(E346,'3-3 위험성평가'!$A$5:$P$423,13,0),\"\")","v":""},null,"하",null,null,null,null,null,null,null,"선택안함",0,{"$f":"IF(MAX('3-3 위험성평가'!$A$4:$A$423)+1>E346,VLOOKUP(E346,'3-3 위험성평가'!$A$5:$Q$423,17,0),\"\")","v":""},"선택",{"$f":"표지!$D$33","v":0},{"$f":"표지!$E$34","v":0},"선택안함",0]
["T20",2,"S40",4,339,{"$f":"IF(MAX('3-3 위험성평가'!$A$4:$A$423)+1>E347,VLOOKUP(E347,'3-3 위험성평가'!$A$5:$P$423,2,0),\"\")","v":""},{"$f":"IF(F347=\"\",\"\",VLOOKUP(VALUE(F347),'1-1 사업장 공정 정보'!$D$15:$P$41,5,0))","v":""},{"$f":"IF(MAX('3-3 위험성평가'!$A$4:$A$423)+1>E347,VLOOKUP(E347,'3-3 위험성평가'!$A$5:$P$423,3,0),\"\")","v":""},{"$f":"IF(MAX('3-3 위험성평가'!$A$4:$A$423)+1>E347,VLOOKUP(E347,'3-3 위험성평가'!$A$5:$P$423,4,0),\"\")","v":""},{"$f":"IF(MAX('3-3 위험성평가'!$A$4:$A$423)+1>E347,VLOOKUP(E347,'3-3 위험성평가'!$A$5:$P$423,5,0),\"\")","v":""},{"$f":"IF(MAX('3-3 위험성평가'!$A$4:$A$423)+1>E347,VLOOKUP(E347,'3-3 위험성평가'!$A$5:$P$423,6,0),\"\")","v":""},{"$f":"IF(MAX('3-3 위험성평가'!$A$4:$A$423)+1>E347,VLOOKUP(E347,'3-3 위험성평가'!$A$5:$P$423,9,0),\"\")","v":""},{"$f":"IF(MAX('3-3 위험성평가'!$A$4:$A$423)+1>E347,VLOOKUP(E347,'3-3 위험성평가'!$A$5:$P$423,12,0),\"\")&IF(L347>\"\",\".\"&E347,\"\")","v":""},{"$f":"IF(MAX('3-3 위험성평가'!$A$4:$A$423)+1>E347,VLOOKUP(E347,'3-3 위험성평가'!$A$5:$P$423,13,0),\"\")","v":""},null,"하",null,null,null,null,null,null,null,"선택안함",0,{"$f":"IF(MAX('3-3 위험성평가'!$A$4:$A$423)+1>E347,VLOOKUP(E347,'3-3 위험성평가'!$A$5:$Q$423,17,0),\"\")","v":""},"선택",{"$f":"표지!$D$33","v":0},{"$f":"표지!$E$34","v":0},"선택안함",0]
["T20",2,"S40",4,340,{"$f":"IF(MAX('3-3 위험성평가'!$A$4:$A$423)+1>E348,VLOOKUP(E348,'3-3 위험성평가'!$A$5:$P$423,2,0),\"\")","v":""},{"$f":"IF(F348=\"\",\"\",VLOOKUP(VALUE(F348),'1-1 사업장 공정 정보'!$D$15:$P$41,5,0))","v":""},{"$f":"IF(MAX('3-3 위험성평가'!$A$4:$A$423)+1>E348,VLOOKUP(E348,'3-3 위험성평가'!$A$5:$P$423,3,0),\"\")","v":""},{"$f":"IF(MAX('3-3 위험성평가'!$A$4:$A$423)+1>E348,VLOOKUP(E348,'3-3 위험성평가'!$A$5:$P$423,4,0),\"\")","v":""},{"$f":"IF(MAX('3-3 위험성평가'!$A$4:$A$423)+1>E348,VLOOKUP(E348,'3-3 위험성평가'!$A$5:$P$423,5,0),\"\")","v":""},{"$f":"IF(MAX('3-3 위험성평가'!$A$4:$A$423)+1>E348,VLOOKUP(E348,'3-3 위험성평가'!$A$5:$P$423,6,0),\"\")","v":""},{"$f":"IF(MAX('3-3 위험성평가'!$A$4:$A$423)+1>E348,VLOOKUP(E348,'3-3 위험성평가'!$A$5:$P$423,9,0),\"\")","v":""},{"$f":"IF(MAX('3-3 위험성평가'!$A$4:$A$423)+1>E348,VLOOKUP(E348,'3-3 위험성평가'!$A$5:$P$423,12,0),\"\")&IF(L348>\"\",\".\"&E348,\"\")","v":""},{"$f":"IF(MAX('3-3 위험성평가'!$A$4:$A$423)+1>E348,VLOOKUP(E348,'3-3 위험성평가'!$A$5:$P$423,13,0),\"\")","v":""},null,"하",null,null,null,null,null,null,null,"선택안함",0,{"$f":"IF(MAX('3-3 위험성평가'!$A$4:$A$423)+1>E348,VLOOKUP(E348,'3-3 위험성평가'!$A$5:$Q$423,17,0),\"\")","v":""},"선택",{"$f":"표지!$D$33","v":0},{"$f":"표지!$E$34","v":0},"선택안함",0]
["T20",2,"S40",4,341,{"$f":"IF(MAX('3-3 위험성평가'!$A$4:$A$423)+1>E349,VLOOKUP(E349,'3-3 위험성평가'!$A$5:$P$423,2,0),\"\")","v":""},{"$f":"IF(F349=\"\",\"\",VLOOKUP(VALUE(F349),'1-1 사업장 공정 정보'!$D$15:$P$41,5,0))","v":""},{"$f":"IF(MAX('3-3 위험성평가'!$A$4:$A$423)+1>E349,VLOOKUP(E349,'3-3 위험성평가'!$A$5:$P$423,3,0),\"\")","v":""},{"$f":"IF(MAX('3-3 위험성평가'!$A$4:$A$423)+1>E349,VLOOKUP(E349,'3-3 위험성평가'!$A$5:$P$423,4,0),\"\")","v":""},{"$f":"IF(MAX('3-3 위험성평가'!$A$4:$A$423)+1>E349,VLOOKUP(E349,'3-3 위험성평가'!$A$5:$P$423,5,0),\"\")","v":""},{"$f":"IF(MAX('3-3 위험성평가'!$A$4:$A$423)+1>E349,VLOOKUP(E349,'3-3 위험성평가'!$A$5:$P$423,6,0),\"\")","v":""},{"$f":"IF(MAX('3-3 위험성평가'!$A$4:$A$423)+1>E349,VLOOKUP(E349,'3-3 위험성평가'!$A$5:$P$423,9,0),\"\")","v":""},{"$f":"IF(MAX('3-3 위험성평가'!$A$4:$A$423)+1>E349,VLOOKUP(E349,'3-3 위험성평가'!$A$5:$P$423,12,0),\"\")&IF(L349>\"\",\".\"&E349,\"\")","v":""},{"$f":"IF(MAX('3-3 위험성평가'!$A$4:$A$423)+1>E349,VLOOKUP(E349,'3-3 위험성평가'!$A$5:$P$423,13,0),\"\")","v":""},null,"하",null,null,null,null,null,null,null,"선택안함",0,{"$f":"IF(MAX('3-3 위험성평가'!$A$4:$A$423)+1>E349,VLOOKUP(E349,'3-3 위험성평가'!$A$5:$Q$423,17,0),\"\")","v":""},"선택",{"$f":"표지!$D$33","v":0},{"$f":"표지!$E$34","v":0},"선택안함",0]
["T20",2,"S40",4,342,{"$f":"IF(MAX('3-3 위험성평가'!$A$4:$A$423)+1>E350,VLOOKUP(E350,'3-3 위험성평가'!$A$5:$P$423,2,0),\"\")","v":""},{"$f":"IF(F350=\"\",\"\",VLOOKUP(VALUE(F350),'1-1 사업장 공정 정보'!$D$15:$P$41,5,0))","v":""},{"$f":"IF(MAX('3-3 위험성평가'!$A$4:$A$423)+1>E350,VLOOKUP(E350,'3-3 위험성평가'!$A$5:$P$423,3,0),\"\")","v":""},{"$f":"IF(MAX('3-3 위험성평가'!$A$4:$A$423)+1>E350,VLOOKUP(E350,'3-3 위험성평가'!$A$5:$P$423,4,0),\"\")","v":""},{"$f":"IF(MAX('3-3 위험성평가'!$A$4:$A$423)+1>E350,VLOOKUP(E350,'3-3 위험성평가'!$A$5:$P$423,5,0),\"\")","v":""},{"$f":"IF(MAX('3-3 위험성평가'!$A$4:$A$423)+1>E350,VLOOKUP(E350,'3-3 위험성평가'!$A$5:$P$423,6,0),\"\")","v":""},{"$f":"IF(MAX('3-3 위험성평가'!$A$4:$A$423)+1>E350,VLOOKUP(E350,'3-3 위험성평가'!$A$5:$P$423,9,0),\"\")","v":""},{"$f":"IF(MAX('3-3 위험성평가'!$A$4:$A$423)+1>E350,VLOOKUP(E350,'3-3 위험성평가'!$A$5:$P$423,12,0),\"\")&IF(L350>\"\",\".\"&E350,\"\")","v":""},{"$f":"IF(MAX('3-3 위험성평가'!$A$4:$A$423)+1>E350,VLOOKUP(E350,'3-3 위험성평가'!$A$5:$P$423,13,0),\"\")","v":""},null,"하",null,null,null,null,null,null,null,"선택안함",0,{"$f":"IF(MAX('3-3 위험성평가'!$A$4:$A$423)+1>E350,VLOOKUP(E350,'3-3 위험성평가'!$A$5:$Q$423,17,0),\"\")","v":""},"선택",{"$f":"표지!$D$33","v":0},{"$f":"표지!$E$34","v":0},"선택안함",0]
["T20",2,"S40",4,343,{"$f":"IF(MAX('3-3 위험성평가'!$A$4:$A$423)+1>E351,VLOOKUP(E351,'3-3 위험성평가'!$A$5:$P$423,2,0),\"\")","v":""},{"$f":"IF(F351=\"\",\"\",VLOOKUP(VALUE(F351),'1-1 사업장 공정 정보'!$D$15:$P$41,5,0))","v":""},{"$f":"IF(MAX('3-3 위험성평가'!$A$4:$A$423)+1>E351,VLOOKUP(E351,'3-3 위험성평가'!$A$5:$P$423,3,0),\"\")","v":""},{"$f":"IF(MAX('3-3 위험성평가'!$A$4:$A$423)+1>E351,VLOOKUP(E351,'3-3 위험성평가'!$A$5:$P$423,4,0),\"\")","v":""},{"$f":"IF(MAX('3-3 위험성평가'!$A$4:$A$423)+1>E351,VLOOKUP(E351,'3-3 위험성평가'!$A$5:$P$423,5,0),\"\")","v":""},{"$f":"IF(MAX('3-3 위험성평가'!$A$4:$A$423)+1>E351,VLOOKUP(E351,'3-3 위험성평가'!$A$5:$P$423,6,0),\"\")","v":""},{"$f":"IF(MAX('3-3 위험성평가'!$A$4:$A$423)+1>E351,VLOOKUP(E351,'3-3 위험성평가'!$A$5:$P$423,9,0),\"\")","v":""},{"$f":"IF(MAX('3-3 위험성평가'!$A$4:$A$423)+1>E351,VLOOKUP(E351,'3-3 위험성평가'!$A$5:$P$423,12,0),\"\")&IF(L351>\"\",\".\"&E351,\"\")","v":""},{"$f":"IF(MAX('3-3 위험성평가'!$A$4:$A$423)+1>E351,VLOOKUP(E351,'3-3 위험성평가'!$A$5:$P$423,13,0),\"\")","v":""},null,"하",null,null,null,null,null,null,null,"선택안함",0,{"$f":"IF(MAX('3-3 위험성평가'!$A$4:$A$423)+1>E351,VLOOKUP(E351,'3-3 위험성평가'!$A$5:$Q$423,17,0),\"\")","v":""},"선택",{"$f":"표지!$D$33","v":0},{"$f":"표지!$E$34","v":0},"선택안함",0]
["T20",2,"S40",4,344,{"$f":"IF(MAX('3-3 위험성평가'!$A$4:$A$423)+1>E352,VLOOKUP(E352,'3-3 위험성평가'!$A$5:$P$423,2,0),\"\")","v":""},{"$f":"IF(F352=\"\",\"\",VLOOKUP(VALUE(F352),'1-1 사업장 공정 정보'!$D$15:$P$41,5,0))","v":""},{"$f":"IF(MAX('3-3 위험성평가'!$A$4:$A$423)+1>E352,VLOOKUP(E352,'3-3 위험성평가'!$A$5:$P$423,3,0),\"\")","v":""},{"$f":"IF(MAX('3-3 위험성평가'!$A$4:$A$423)+1>E352,VLOOKUP(E352,'3-3 위험성평가'!$A$5:$P$423,4,0),\"\")","v":""},{"$f":"IF(MAX('3-3 위험성평가'!$A$4:$A$423)+1>E352,VLOOKUP(E352,'3-3 위험성평가'!$A$5:$P$423,5,0),\"\")","v":""},{"$f":"IF(MAX('3-3 위험성평가'!$A$4:$A$423)+1>E352,VLOOKUP(E352,'3-3 위험성평가'!$A$5:$P$423,6,0),\"\")","v":""},{"$f":"IF(MAX('3-3 위험성평가'!$A$4:$A$423)+1>E352,VLOOKUP(E352,'3-3 위험성평가'!$A$5:$P$423,9,0),\"\")","v":""},{"$f":"IF(MAX('3-3 위험성평가'!$A$4:$A$423)+1>E352,VLOOKUP(E352,'3-3 위험성평가'!$A$5:$P$423,12,0),\"\")&IF(L352>\"\",\".\"&E352,\"\")","v":""},{"$f":"IF(MAX('3-3 위험성평가'!$A$4:$A$423)+1>E352,VLOOKUP(E352,'3-3 위험성평가'!$A$5:$P$423,13,0),\"\")","v":""},null,"하",null,null,null,null,null,null,null,"선택안함",0,{"$f":"IF(MAX('3-3 위험성평가'!$A$4:$A$423)+1>E352,VLOOKUP(E352,'3-3 위험성평가'!$A$5:$Q$423,17,0),\"\")","v":""},"선택",{"$f":"표지!$D$33","v":0},{"$f":"표지!$E$34","v":0},"선택안함",0]
["T20",2,"S40",4,345,{"$f":"IF(MAX('3-3 위험성평가'!$A$4:$A$423)+1>E353,VLOOKUP(E353,'3-3 위험성평가'!$A$5:$P$423,2,0),\"\")","v":""},{"$f":"IF(F353=\"\",\"\",VLOOKUP(VALUE(F353),'1-1 사업장 공정 정보'!$D$15:$P$41,5,0))","v":""},{"$f":"IF(MAX('3-3 위험성평가'!$A$4:$A$423)+1>E353,VLOOKUP(E353,'3-3 위험성평가'!$A$5:$P$423,3,0),\"\")","v":""},{"$f":"IF(MAX('3-3 위험성평가'!$A$4:$A$423)+1>E353,VLOOKUP(E353,'3-3 위험성평가'!$A$5:$P$423,4,0),\"\")","v":""},{"$f":"IF(MAX('3-3 위험성평가'!$A$4:$A$423)+1>E353,VLOOKUP(E353,'3-3 위험성평가'!$A$5:$P$423,5,0),\"\")","v":""},{"$f":"IF(MAX('3-3 위험성평가'!$A$4:$A$423)+1>E353,VLOOKUP(E353,'3-3 위험성평가'!$A$5:$P$423,6,0),\"\")","v":""},{"$f":"IF(MAX('3-3 위험성평가'!$A$4:$A$423)+1>E353,VLOOKUP(E353,'3-3 위험성평가'!$A$5:$P$423,9,0),\"\")","v":""},{"$f":"IF(MAX('3-3 위험성평가'!$A$4:$A$423)+1>E353,VLOOKUP(E353,'3-3 위험성평가'!$A$5:$P$423,12,0),\"\")&IF(L353>\"\",\".\"&E353,\"\")","v":""},{"$f":"IF(MAX('3-3 위험성평가'!$A$4:$A$423)+1>E353,VLOOKUP(E353,'3-3 위험성평가'!$A$5:$P$423,13,0),\"\")","v":""},null,"하",null,null,null,null,null,null,null,"선택안함",0,{"$f":"IF(MAX('3-3 위험성평가'!$A$4:$A$423)+1>E353,VLOOKUP(E353,'3-3 위험성평가'!$A$5:$Q$423,17,0),\"\")","v":""},"선택",{"$f":"표지!$D$33","v":0},{"$f":"표지!$E$34","v":0},"선택안함",0]
["T20",2,"S40",4,346,{"$f":"IF(MAX('3-3 위험성평가'!$A$4:$A$423)+1>E354,VLOOKUP(E354,'3-3 위험성평가'!$A$5:$P$423,2,0),\"\")","v":""},{"$f":"IF(F354=\"\",\"\",VLOOKUP(VALUE(F354),'1-1 사업장 공정 정보'!$D$15:$P$41,5,0))","v":""},{"$f":"IF(MAX('3-3 위험성평가'!$A$4:$A$423)+1>E354,VLOOKUP(E354,'3-3 위험성평가'!$A$5:$P$423,3,0),\"\")","v":""},{"$f":"IF(MAX('3-3 위험성평가'!$A$4:$A$423)+1>E354,VLOOKUP(E354,'3-3 위험성평가'!$A$5:$P$423,4,0),\"\")","v":""},{"$f":"IF(MAX('3-3 위험성평가'!$A$4:$A$423)+1>E354,VLOOKUP(E354,'3-3 위험성평가'!$A$5:$P$423,5,0),\"\")","v":""},{"$f":"IF(MAX('3-3 위험성평가'!$A$4:$A$423)+1>E354,VLOOKUP(E354,'3-3 위험성평가'!$A$5:$P$423,6,0),\"\")","v":""},{"$f":"IF(MAX('3-3 위험성평가'!$A$4:$A$423)+1>E354,VLOOKUP(E354,'3-3 위험성평가'!$A$5:$P$423,9,0),\"\")","v":""},{"$f":"IF(MAX('3-3 위험성평가'!$A$4:$A$423)+1>E354,VLOOKUP(E354,'3-3 위험성평가'!$A$5:$P$423,12,0),\"\")&IF(L354>\"\",\".\"&E354,\"\")","v":""},{"$f":"IF(MAX('3-3 위험성평가'!$A$4:$A$423)+1>E354,VLOOKUP(E354,'3-3 위험성평가'!$A$5:$P$423,13,0),\"\")","v":""},null,"하",null,null,null,null,null,null,null,"선택안함",0,{"$f":"IF(MAX('3-3 위험성평가'!$A$4:$A$423)+1>E354,VLOOKUP(E354,'3-3 위험성평가'!$A$5:$Q$423,17,0),\"\")","v":""},"선택",{"$f":"표지!$D$33","v":0},{"$f":"표지!$E$34","v":0},"선택안함",0]
["T20",2,"S40",4,347,{"$f":"IF(MAX('3-3 위험성평가'!$A$4:$A$423)+1>E355,VLOOKUP(E355,'3-3 위험성평가'!$A$5:$P$423,2,0),\"\")","v":""},{"$f":"IF(F355=\"\",\"\",VLOOKUP(VALUE(F355),'1-1 사업장 공정 정보'!$D$15:$P$41,5,0))","v":""},{"$f":"IF(MAX('3-3 위험성평가'!$A$4:$A$423)+1>E355,VLOOKUP(E355,'3-3 위험성평가'!$A$5:$P$423,3,0),\"\")","v":""},{"$f":"IF(MAX('3-3 위험성평가'!$A$4:$A$423)+1>E355,VLOOKUP(E355,'3-3 위험성평가'!$A$5:$P$423,4,0),\"\")","v":""},{"$f":"IF(MAX('3-3 위험성평가'!$A$4:$A$423)+1>E355,VLOOKUP(E355,'3-3 위험성평가'!$A$5:$P$423,5,0),\"\")","v":""},{"$f":"IF(MAX('3-3 위험성평가'!$A$4:$A$423)+1>E355,VLOOKUP(E355,'3-3 위험성평가'!$A$5:$P$423,6,0),\"\")","v":""},{"$f":"IF(MAX('3-3 위험성평가'!$A$4:$A$423)+1>E355,VLOOKUP(E355,'3-3 위험성평가'!$A$5:$P$423,9,0),\"\")","v":""},{"$f":"IF(MAX('3-3 위험성평가'!$A$4:$A$423)+1>E355,VLOOKUP(E355,'3-3 위험성평가'!$A$5:$P$423,12,0),\"\")&IF(L355>\"\",\".\"&E355,\"\")","v":""},{"$f":"IF(MAX('3-3 위험성평가'!$A$4:$A$423)+1>E355,VLOOKUP(E355,'3-3 위험성평가'!$A$5:$P$423,13,0),\"\")","v":""},null,"하",null,null,null,null,null,null,null,"선택안함",0,{"$f":"IF(MAX('3-3 위험성평가'!$A$4:$A$423)+1>E355,VLOOKUP(E355,'3-3 위험성평가'!$A$5:$Q$423,17,0),\"\")","v":""},"선택",{"$f":"표지!$D$33","v":0},{"$f":"표지!$E$34","v":0},"선택안함",0]
["T20",2,"S40",4,348,{"$f":"IF(MAX('3-3 위험성평가'!$A$4:$A$423)+1>E356,VLOOKUP(E356,'3-3 위험성평가'!$A$5:$P$423,2,0),\"\")","v":""},{"$f":"IF(F356=\"\",\"\",VLOOKUP(VALUE(F356),'1-1 사업장 공정 정보'!$D$15:$P$41,5,0))","v":""},{"$f":"IF(MAX('3-3 위험성평가'!$A$4:$A$423)+1>E356,VLOOKUP(E356,'3-3 위험성평가'!$A$5:$P$423,3,0),\"\")","v":""},{"$f":"IF(MAX('3-3 위험성평가'!$A$4:$A$423)+1>E356,VLOOKUP(E356,'3-3 위험성평가'!$A$5:$P$423,4,0),\"\")","v":""},{"$f":"IF(MAX('3-3 위험성평가'!$A$4:$A$423)+1>E356,VLOOKUP(E356,'3-3 위험성평가'!$A$5:$P$423,5,0),\"\")","v":""},{"$f":"IF(MAX('3-3 위험성평가'!$A$4:$A$423)+1>E356,VLOOKUP(E356,'3-3 위험성평가'!$A$5:$P$423,6,0),\"\")","v":""},{"$f":"IF(MAX('3-3 위험성평가'!$A$4:$A$423)+1>E356,VLOOKUP(E356,'3-3 위험성평가'!$A$5:$P$423,9,0),\"\")","v":""},{"$f":"IF(MAX('3-3 위험성평가'!$A$4:$A$423)+1>E356,VLOOKUP(E356,'3-3 위험성평가'!$A$5:$P$423,12,0),\"\")&IF(L356>\"\",\".\"&E356,\"\")","v":""},{"$f":"IF(MAX('3-3 위험성평가'!$A$4:$A$423)+1>E356,VLOOKUP(E356,'3-3 위험성평가'!$A$5:$P$423,13,0),\"\")","v":""},null,"하",null,null,null,null,null,null,null,"선택안함",0,{"$f":"IF(MAX('3-3 위험성평가'!$A$4:$A$423)+1>E356,VLOOKUP(E356,'3-3 위험성평가'!$A$5:$Q$423,17,0),\"\")","v":""},"선택",{"$f":"표지!$D$33","v":0},{"$f":"표지!$E$34","v":0},"선택안함",0]
["T20",2,"S40",4,349,{"$f":"IF(MAX('3-3 위험성평가'!$A$4:$A$423)+1>E357,VLOOKUP(E357,'3-3 위험성평가'!$A$5:$P$423,2,0),\"\")","v":""},{"$f":"IF(F357=\"\",\"\",VLOOKUP(VALUE(F357),'1-1 사업장 공정 정보'!$D$15:$P$41,5,0))","v":""},{"$f":"IF(MAX('3-3 위험성평가'!$A$4:$A$423)+1>E357,VLOOKUP(E357,'3-3 위험성평가'!$A$5:$P$423,3,0),\"\")","v":""},{"$f":"IF(MAX('3-3 위험성평가'!$A$4:$A$423)+1>E357,VLOOKUP(E357,'3-3 위험성평가'!$A$5:$P$423,4,0),\"\")","v":""},{"$f":"IF(MAX('3-3 위험성평가'!$A$4:$A$423)+1>E357,VLOOKUP(E357,'3-3 위험성평가'!$A$5:$P$423,5,0),\"\")","v":""},{"$f":"IF(MAX('3-3 위험성평가'!$A$4:$A$423)+1>E357,VLOOKUP(E357,'3-3 위험성평가'!$A$5:$P$423,6,0),\"\")","v":""},{"$f":"IF(MAX('3-3 위험성평가'!$A$4:$A$423)+1>E357,VLOOKUP(E357,'3-3 위험성평가'!$A$5:$P$423,9,0),\"\")","v":""},{"$f":"IF(MAX('3-3 위험성평가'!$A$4:$A$423)+1>E357,VLOOKUP(E357,'3-3 위험성평가'!$A$5:$P$423,12,0),\"\")&IF(L357>\"\",\".\"&E357,\"\")","v":""},{"$f":"IF(MAX('3-3 위험성평가'!$A$4:$A$423)+1>E357,VLOOKUP(E357,'3-3 위험성평가'!$A$5:$P$423,13,0),\"\")","v":""},null,"하",null,null,null,null,null,null,null,"선택안함",0,{"$f":"IF(MAX('3-3 위험성평가'!$A$4:$A$423)+1>E357,VLOOKUP(E357,'3-3 위험성평가'!$A$5:$Q$423,17,0),\"\")","v":""},"선택",{"$f":"표지!$D$33","v":0},{"$f":"표지!$E$34","v":0},"선택안함",0]
["T20",2,"S40",4,350,{"$f":"IF(MAX('3-3 위험성평가'!$A$4:$A$423)+1>E358,VLOOKUP(E358,'3-3 위험성평가'!$A$5:$P$423,2,0),\"\")","v":""},{"$f":"IF(F358=\"\",\"\",VLOOKUP(VALUE(F358),'1-1 사업장 공정 정보'!$D$15:$P$41,5,0))","v":""},{"$f":"IF(MAX('3-3 위험성평가'!$A$4:$A$423)+1>E358,VLOOKUP(E358,'3-3 위험성평가'!$A$5:$P$423,3,0),\"\")","v":""},{"$f":"IF(MAX('3-3 위험성평가'!$A$4:$A$423)+1>E358,VLOOKUP(E358,'3-3 위험성평가'!$A$5:$P$423,4,0),\"\")","v":""},{"$f":"IF(MAX('3-3 위험성평가'!$A$4:$A$423)+1>E358,VLOOKUP(E358,'3-3 위험성평가'!$A$5:$P$423,5,0),\"\")","v":""},{"$f":"IF(MAX('3-3 위험성평가'!$A$4:$A$423)+1>E358,VLOOKUP(E358,'3-3 위험성평가'!$A$5:$P$423,6,0),\"\")","v":""},{"$f":"IF(MAX('3-3 위험성평가'!$A$4:$A$423)+1>E358,VLOOKUP(E358,'3-3 위험성평가'!$A$5:$P$423,9,0),\"\")","v":""},{"$f":"IF(MAX('3-3 위험성평가'!$A$4:$A$423)+1>E358,VLOOKUP(E358,'3-3 위험성평가'!$A$5:$P$423,12,0),\"\")&IF(L358>\"\",\".\"&E358,\"\")","v":""},{"$f":"IF(MAX('3-3 위험성평가'!$A$4:$A$423)+1>E358,VLOOKUP(E358,'3-3 위험성평가'!$A$5:$P$423,13,0),\"\")","v":""},null,"하",null,null,null,null,null,null,null,"선택안함",0,{"$f":"IF(MAX('3-3 위험성평가'!$A$4:$A$423)+1>E358,VLOOKUP(E358,'3-3 위험성평가'!$A$5:$Q$423,17,0),\"\")","v":""},"선택",{"$f":"표지!$D$33","v":0},{"$f":"표지!$E$34","v":0},"선택안함",0]
["T20",2,"S40",4,351,{"$f":"IF(MAX('3-3 위험성평가'!$A$4:$A$423)+1>E359,VLOOKUP(E359,'3-3 위험성평가'!$A$5:$P$423,2,0),\"\")","v":""},{"$f":"IF(F359=\"\",\"\",VLOOKUP(VALUE(F359),'1-1 사업장 공정 정보'!$D$15:$P$41,5,0))","v":""},{"$f":"IF(MAX('3-3 위험성평가'!$A$4:$A$423)+1>E359,VLOOKUP(E359,'3-3 위험성평가'!$A$5:$P$423,3,0),\"\")","v":""},{"$f":"IF(MAX('3-3 위험성평가'!$A$4:$A$423)+1>E359,VLOOKUP(E359,'3-3 위험성평가'!$A$5:$P$423,4,0),\"\")","v":""},{"$f":"IF(MAX('3-3 위험성평가'!$A$4:$A$423)+1>E359,VLOOKUP(E359,'3-3 위험성평가'!$A$5:$P$423,5,0),\"\")","v":""},{"$f":"IF(MAX('3-3 위험성평가'!$A$4:$A$423)+1>E359,VLOOKUP(E359,'3-3 위험성평가'!$A$5:$P$423,6,0),\"\")","v":""},{"$f":"IF(MAX('3-3 위험성평가'!$A$4:$A$423)+1>E359,VLOOKUP(E359,'3-3 위험성평가'!$A$5:$P$423,9,0),\"\")","v":""},{"$f":"IF(MAX('3-3 위험성평가'!$A$4:$A$423)+1>E359,VLOOKUP(E359,'3-3 위험성평가'!$A$5:$P$423,12,0),\"\")&IF(L359>\"\",\".\"&E359,\"\")","v":""},{"$f":"IF(MAX('3-3 위험성평가'!$A$4:$A$423)+1>E359,VLOOKUP(E359,'3-3 위험성평가'!$A$5:$P$423,13,0),\"\")","v":""},null,"하",null,null,null,null,null,null,null,"선택안함",0,{"$f":"IF(MAX('3-3 위험성평가'!$A$4:$A$423)+1>E359,VLOOKUP(E359,'3-3 위험성평가'!$A$5:$Q$423,17,0),\"\")","v":""},"선택",{"$f":"표지!$D$33","v":0},{"$f":"표지!$E$34","v":0},"선택안함",0]
["T20",2,"S40",4,352,{"$f":"IF(MAX('3-3 위험성평가'!$A$4:$A$423)+1>E360,VLOOKUP(E360,'3-3 위험성평가'!$A$5:$P$423,2,0),\"\")","v":""},{"$f":"IF(F360=\"\",\"\",VLOOKUP(VALUE(F360),'1-1 사업장 공정 정보'!$D$15:$P$41,5,0))","v":""},{"$f":"IF(MAX('3-3 위험성평가'!$A$4:$A$423)+1>E360,VLOOKUP(E360,'3-3 위험성평가'!$A$5:$P$423,3,0),\"\")","v":""},{"$f":"IF(MAX('3-3 위험성평가'!$A$4:$A$423)+1>E360,VLOOKUP(E360,'3-3 위험성평가'!$A$5:$P$423,4,0),\"\")","v":""},{"$f":"IF(MAX('3-3 위험성평가'!$A$4:$A$423)+1>E360,VLOOKUP(E360,'3-3 위험성평가'!$A$5:$P$423,5,0),\"\")","v":""},{"$f":"IF(MAX('3-3 위험성평가'!$A$4:$A$423)+1>E360,VLOOKUP(E360,'3-3 위험성평가'!$A$5:$P$423,6,0),\"\")","v":""},{"$f":"IF(MAX('3-3 위험성평가'!$A$4:$A$423)+1>E360,VLOOKUP(E360,'3-3 위험성평가'!$A$5:$P$423,9,0),\"\")","v":""},{"$f":"IF(MAX('3-3 위험성평가'!$A$4:$A$423)+1>E360,VLOOKUP(E360,'3-3 위험성평가'!$A$5:$P$423,12,0),\"\")&IF(L360>\"\",\".\"&E360,\"\")","v":""},{"$f":"IF(MAX('3-3 위험성평가'!$A$4:$A$423)+1>E360,VLOOKUP(E360,'3-3 위험성평가'!$A$5:$P$423,13,0),\"\")","v":""},null,"하",null,null,null,null,null,null,null,"선택안함",0,{"$f":"IF(MAX('3-3 위험성평가'!$A$4:$A$423)+1>E360,VLOOKUP(E360,'3-3 위험성평가'!$A$5:$Q$423,17,0),\"\")","v":""},"선택",{"$f":"표지!$D$33","v":0},{"$f":"표지!$E$34","v":0},"선택안함",0]
["T20",2,"S40",4,353,{"$f":"IF(MAX('3-3 위험성평가'!$A$4:$A$423)+1>E361,VLOOKUP(E361,'3-3 위험성평가'!$A$5:$P$423,2,0),\"\")","v":""},{"$f":"IF(F361=\"\",\"\",VLOOKUP(VALUE(F361),'1-1 사업장 공정 정보'!$D$15:$P$41,5,0))","v":""},{"$f":"IF(MAX('3-3 위험성평가'!$A$4:$A$423)+1>E361,VLOOKUP(E361,'3-3 위험성평가'!$A$5:$P$423,3,0),\"\")","v":""},{"$f":"IF(MAX('3-3 위험성평가'!$A$4:$A$423)+1>E361,VLOOKUP(E361,'3-3 위험성평가'!$A$5:$P$423,4,0),\"\")","v":""},{"$f":"IF(MAX('3-3 위험성평가'!$A$4:$A$423)+1>E361,VLOOKUP(E361,'3-3 위험성평가'!$A$5:$P$423,5,0),\"\")","v":""},{"$f":"IF(MAX('3-3 위험성평가'!$A$4:$A$423)+1>E361,VLOOKUP(E361,'3-3 위험성평가'!$A$5:$P$423,6,0),\"\")","v":""},{"$f":"IF(MAX('3-3 위험성평가'!$A$4:$A$423)+1>E361,VLOOKUP(E361,'3-3 위험성평가'!$A$5:$P$423,9,0),\"\")","v":""},{"$f":"IF(MAX('3-3 위험성평가'!$A$4:$A$423)+1>E361,VLOOKUP(E361,'3-3 위험성평가'!$A$5:$P$423,12,0),\"\")&IF(L361>\"\",\".\"&E361,\"\")","v":""},{"$f":"IF(MAX('3-3 위험성평가'!$A$4:$A$423)+1>E361,VLOOKUP(E361,'3-3 위험성평가'!$A$5:$P$423,13,0),\"\")","v":""},null,"하",null,null,null,null,null,null,null,"선택안함",0,{"$f":"IF(MAX('3-3 위험성평가'!$A$4:$A$423)+1>E361,VLOOKUP(E361,'3-3 위험성평가'!$A$5:$Q$423,17,0),\"\")","v":""},"선택",{"$f":"표지!$D$33","v":0},{"$f":"표지!$E$34","v":0},"선택안함",0]
["T20",2,"S40",4,354,{"$f":"IF(MAX('3-3 위험성평가'!$A$4:$A$423)+1>E362,VLOOKUP(E362,'3-3 위험성평가'!$A$5:$P$423,2,0),\"\")","v":""},{"$f":"IF(F362=\"\",\"\",VLOOKUP(VALUE(F362),'1-1 사업장 공정 정보'!$D$15:$P$41,5,0))","v":""},{"$f":"IF(MAX('3-3 위험성평가'!$A$4:$A$423)+1>E362,VLOOKUP(E362,'3-3 위험성평가'!$A$5:$P$423,3,0),\"\")","v":""},{"$f":"IF(MAX('3-3 위험성평가'!$A$4:$A$423)+1>E362,VLOOKUP(E362,'3-3 위험성평가'!$A$5:$P$423,4,0),\"\")","v":""},{"$f":"IF(MAX('3-3 위험성평가'!$A$4:$A$423)+1>E362,VLOOKUP(E362,'3-3 위험성평가'!$A$5:$P$423,5,0),\"\")","v":""},{"$f":"IF(MAX('3-3 위험성평가'!$A$4:$A$423)+1>E362,VLOOKUP(E362,'3-3 위험성평가'!$A$5:$P$423,6,0),\"\")","v":""},{"$f":"IF(MAX('3-3 위험성평가'!$A$4:$A$423)+1>E362,VLOOKUP(E362,'3-3 위험성평가'!$A$5:$P$423,9,0),\"\")","v":""},{"$f":"IF(MAX('3-3 위험성평가'!$A$4:$A$423)+1>E362,VLOOKUP(E362,'3-3 위험성평가'!$A$5:$P$423,12,0),\"\")&IF(L362>\"\",\".\"&E362,\"\")","v":""},{"$f":"IF(MAX('3-3 위험성평가'!$A$4:$A$423)+1>E362,VLOOKUP(E362,'3-3 위험성평가'!$A$5:$P$423,13,0),\"\")","v":""},null,"하",null,null,null,null,null,null,null,"선택안함",0,{"$f":"IF(MAX('3-3 위험성평가'!$A$4:$A$423)+1>E362,VLOOKUP(E362,'3-3 위험성평가'!$A$5:$Q$423,17,0),\"\")","v":""},"선택",{"$f":"표지!$D$33","v":0},{"$f":"표지!$E$34","v":0},"선택안함",0]
["T20",2,"S40",4,355,{"$f":"IF(MAX('3-3 위험성평가'!$A$4:$A$423)+1>E363,VLOOKUP(E363,'3-3 위험성평가'!$A$5:$P$423,2,0),\"\")","v":""},{"$f":"IF(F363=\"\",\"\",VLOOKUP(VALUE(F363),'1-1 사업장 공정 정보'!$D$15:$P$41,5,0))","v":""},{"$f":"IF(MAX('3-3 위험성평가'!$A$4:$A$423)+1>E363,VLOOKUP(E363,'3-3 위험성평가'!$A$5:$P$423,3,0),\"\")","v":""},{"$f":"IF(MAX('3-3 위험성평가'!$A$4:$A$423)+1>E363,VLOOKUP(E363,'3-3 위험성평가'!$A$5:$P$423,4,0),\"\")","v":""},{"$f":"IF(MAX('3-3 위험성평가'!$A$4:$A$423)+1>E363,VLOOKUP(E363,'3-3 위험성평가'!$A$5:$P$423,5,0),\"\")","v":""},{"$f":"IF(MAX('3-3 위험성평가'!$A$4:$A$423)+1>E363,VLOOKUP(E363,'3-3 위험성평가'!$A$5:$P$423,6,0),\"\")","v":""},{"$f":"IF(MAX('3-3 위험성평가'!$A$4:$A$423)+1>E363,VLOOKUP(E363,'3-3 위험성평가'!$A$5:$P$423,9,0),\"\")","v":""},{"$f":"IF(MAX('3-3 위험성평가'!$A$4:$A$423)+1>E363,VLOOKUP(E363,'3-3 위험성평가'!$A$5:$P$423,12,0),\"\")&IF(L363>\"\",\".\"&E363,\"\")","v":""},{"$f":"IF(MAX('3-3 위험성평가'!$A$4:$A$423)+1>E363,VLOOKUP(E363,'3-3 위험성평가'!$A$5:$P$423,13,0),\"\")","v":""},null,"하",null,null,null,null,null,null,null,"선택안함",0,{"$f":"IF(MAX('3-3 위험성평가'!$A$4:$A$423)+1>E363,VLOOKUP(E363,'3-3 위험성평가'!$A$5:$Q$423,17,0),\"\")","v":""},"선택",{"$f":"표지!$D$33","v":0},{"$f":"표지!$E$34","v":0},"선택안함",0]
["T20",2,"S40",4,356,{"$f":"IF(MAX('3-3 위험성평가'!$A$4:$A$423)+1>E364,VLOOKUP(E364,'3-3 위험성평가'!$A$5:$P$423,2,0),\"\")","v":""},{"$f":"IF(F364=\"\",\"\",VLOOKUP(VALUE(F364),'1-1 사업장 공정 정보'!$D$15:$P$41,5,0))","v":""},{"$f":"IF(MAX('3-3 위험성평가'!$A$4:$A$423)+1>E364,VLOOKUP(E364,'3-3 위험성평가'!$A$5:$P$423,3,0),\"\")","v":""},{"$f":"IF(MAX('3-3 위험성평가'!$A$4:$A$423)+1>E364,VLOOKUP(E364,'3-3 위험성평가'!$A$5:$P$423,4,0),\"\")","v":""},{"$f":"IF(MAX('3-3 위험성평가'!$A$4:$A$423)+1>E364,VLOOKUP(E364,'3-3 위험성평가'!$A$5:$P$423,5,0),\"\")","v":""},{"$f":"IF(MAX('3-3 위험성평가'!$A$4:$A$423)+1>E364,VLOOKUP(E364,'3-3 위험성평가'!$A$5:$P$423,6,0),\"\")","v":""},{"$f":"IF(MAX('3-3 위험성평가'!$A$4:$A$423)+1>E364,VLOOKUP(E364,'3-3 위험성평가'!$A$5:$P$423,9,0),\"\")","v":""},{"$f":"IF(MAX('3-3 위험성평가'!$A$4:$A$423)+1>E364,VLOOKUP(E364,'3-3 위험성평가'!$A$5:$P$423,12,0),\"\")&IF(L364>\"\",\".\"&E364,\"\")","v":""},{"$f":"IF(MAX('3-3 위험성평가'!$A$4:$A$423)+1>E364,VLOOKUP(E364,'3-3 위험성평가'!$A$5:$P$423,13,0),\"\")","v":""},null,"하",null,null,null,null,null,null,null,"선택안함",0,{"$f":"IF(MAX('3-3 위험성평가'!$A$4:$A$423)+1>E364,VLOOKUP(E364,'3-3 위험성평가'!$A$5:$Q$423,17,0),\"\")","v":""},"선택",{"$f":"표지!$D$33","v":0},{"$f":"표지!$E$34","v":0},"선택안함",0]
["T20",2,"S40",4,357,{"$f":"IF(MAX('3-3 위험성평가'!$A$4:$A$423)+1>E365,VLOOKUP(E365,'3-3 위험성평가'!$A$5:$P$423,2,0),\"\")","v":""},{"$f":"IF(F365=\"\",\"\",VLOOKUP(VALUE(F365),'1-1 사업장 공정 정보'!$D$15:$P$41,5,0))","v":""},{"$f":"IF(MAX('3-3 위험성평가'!$A$4:$A$423)+1>E365,VLOOKUP(E365,'3-3 위험성평가'!$A$5:$P$423,3,0),\"\")","v":""},{"$f":"IF(MAX('3-3 위험성평가'!$A$4:$A$423)+1>E365,VLOOKUP(E365,'3-3 위험성평가'!$A$5:$P$423,4,0),\"\")","v":""},{"$f":"IF(MAX('3-3 위험성평가'!$A$4:$A$423)+1>E365,VLOOKUP(E365,'3-3 위험성평가'!$A$5:$P$423,5,0),\"\")","v":""},{"$f":"IF(MAX('3-3 위험성평가'!$A$4:$A$423)+1>E365,VLOOKUP(E365,'3-3 위험성평가'!$A$5:$P$423,6,0),\"\")","v":""},{"$f":"IF(MAX('3-3 위험성평가'!$A$4:$A$423)+1>E365,VLOOKUP(E365,'3-3 위험성평가'!$A$5:$P$423,9,0),\"\")","v":""},{"$f":"IF(MAX('3-3 위험성평가'!$A$4:$A$423)+1>E365,VLOOKUP(E365,'3-3 위험성평가'!$A$5:$P$423,12,0),\"\")&IF(L365>\"\",\".\"&E365,\"\")","v":""},{"$f":"IF(MAX('3-3 위험성평가'!$A$4:$A$423)+1>E365,VLOOKUP(E365,'3-3 위험성평가'!$A$5:$P$423,13,0),\"\")","v":""},null,"하",null,null,null,null,null,null,null,"선택안함",0,{"$f":"IF(MAX('3-3 위험성평가'!$A$4:$A$423)+1>E365,VLOOKUP(E365,'3-3 위험성평가'!$A$5:$Q$423,17,0),\"\")","v":""},"선택",{"$f":"표지!$D$33","v":0},{"$f":"표지!$E$34","v":0},"선택안함",0]
["T20",2,"S40",4,358,{"$f":"IF(MAX('3-3 위험성평가'!$A$4:$A$423)+1>E366,VLOOKUP(E366,'3-3 위험성평가'!$A$5:$P$423,2,0),\"\")","v":""},{"$f":"IF(F366=\"\",\"\",VLOOKUP(VALUE(F366),'1-1 사업장 공정 정보'!$D$15:$P$41,5,0))","v":""},{"$f":"IF(MAX('3-3 위험성평가'!$A$4:$A$423)+1>E366,VLOOKUP(E366,'3-3 위험성평가'!$A$5:$P$423,3,0),\"\")","v":""},{"$f":"IF(MAX('3-3 위험성평가'!$A$4:$A$423)+1>E366,VLOOKUP(E366,'3-3 위험성평가'!$A$5:$P$423,4,0),\"\")","v":""},{"$f":"IF(MAX('3-3 위험성평가'!$A$4:$A$423)+1>E366,VLOOKUP(E366,'3-3 위험성평가'!$A$5:$P$423,5,0),\"\")","v":""},{"$f":"IF(MAX('3-3 위험성평가'!$A$4:$A$423)+1>E366,VLOOKUP(E366,'3-3 위험성평가'!$A$5:$P$423,6,0),\"\")","v":""},{"$f":"IF(MAX('3-3 위험성평가'!$A$4:$A$423)+1>E366,VLOOKUP(E366,'3-3 위험성평가'!$A$5:$P$423,9,0),\"\")","v":""},{"$f":"IF(MAX('3-3 위험성평가'!$A$4:$A$423)+1>E366,VLOOKUP(E366,'3-3 위험성평가'!$A$5:$P$423,12,0),\"\")&IF(L366>\"\",\".\"&E366,\"\")","v":""},{"$f":"IF(MAX('3-3 위험성평가'!$A$4:$A$423)+1>E366,VLOOKUP(E366,'3-3 위험성평가'!$A$5:$P$423,13,0),\"\")","v":""},null,"하",null,null,null,null,null,null,null,"선택안함",0,{"$f":"IF(MAX('3-3 위험성평가'!$A$4:$A$423)+1>E366,VLOOKUP(E366,'3-3 위험성평가'!$A$5:$Q$423,17,0),\"\")","v":""},"선택",{"$f":"표지!$D$33","v":0},{"$f":"표지!$E$34","v":0},"선택안함",0]
["T20",2,"S40",4,359,{"$f":"IF(MAX('3-3 위험성평가'!$A$4:$A$423)+1>E367,VLOOKUP(E367,'3-3 위험성평가'!$A$5:$P$423,2,0),\"\")","v":""},{"$f":"IF(F367=\"\",\"\",VLOOKUP(VALUE(F367),'1-1 사업장 공정 정보'!$D$15:$P$41,5,0))","v":""},{"$f":"IF(MAX('3-3 위험성평가'!$A$4:$A$423)+1>E367,VLOOKUP(E367,'3-3 위험성평가'!$A$5:$P$423,3,0),\"\")","v":""},{"$f":"IF(MAX('3-3 위험성평가'!$A$4:$A$423)+1>E367,VLOOKUP(E367,'3-3 위험성평가'!$A$5:$P$423,4,0),\"\")","v":""},{"$f":"IF(MAX('3-3 위험성평가'!$A$4:$A$423)+1>E367,VLOOKUP(E367,'3-3 위험성평가'!$A$5:$P$423,5,0),\"\")","v":""},{"$f":"IF(MAX('3-3 위험성평가'!$A$4:$A$423)+1>E367,VLOOKUP(E367,'3-3 위험성평가'!$A$5:$P$423,6,0),\"\")","v":""},{"$f":"IF(MAX('3-3 위험성평가'!$A$4:$A$423)+1>E367,VLOOKUP(E367,'3-3 위험성평가'!$A$5:$P$423,9,0),\"\")","v":""},{"$f":"IF(MAX('3-3 위험성평가'!$A$4:$A$423)+1>E367,VLOOKUP(E367,'3-3 위험성평가'!$A$5:$P$423,12,0),\"\")&IF(L367>\"\",\".\"&E367,\"\")","v":""},{"$f":"IF(MAX('3-3 위험성평가'!$A$4:$A$423)+1>E367,VLOOKUP(E367,'3-3 위험성평가'!$A$5:$P$423,13,0),\"\")","v":""},null,"하",null,null,null,null,null,null,null,"선택안함",0,{"$f":"IF(MAX('3-3 위험성평가'!$A$4:$A$423)+1>E367,VLOOKUP(E367,'3-3 위험성평가'!$A$5:$Q$423,17,0),\"\")","v":""},"선택",{"$f":"표지!$D$33","v":0},{"$f":"표지!$E$34","v":0},"선택안함",0]
["T20",2,"S40",4,360,{"$f":"IF(MAX('3-3 위험성평가'!$A$4:$A$423)+1>E368,VLOOKUP(E368,'3-3 위험성평가'!$A$5:$P$423,2,0),\"\")","v":""},{"$f":"IF(F368=\"\",\"\",VLOOKUP(VALUE(F368),'1-1 사업장 공정 정보'!$D$15:$P$41,5,0))","v":""},{"$f":"IF(MAX('3-3 위험성평가'!$A$4:$A$423)+1>E368,VLOOKUP(E368,'3-3 위험성평가'!$A$5:$P$423,3,0),\"\")","v":""},{"$f":"IF(MAX('3-3 위험성평가'!$A$4:$A$423)+1>E368,VLOOKUP(E368,'3-3 위험성평가'!$A$5:$P$423,4,0),\"\")","v":""},{"$f":"IF(MAX('3-3 위험성평가'!$A$4:$A$423)+1>E368,VLOOKUP(E368,'3-3 위험성평가'!$A$5:$P$423,5,0),\"\")","v":""},{"$f":"IF(MAX('3-3 위험성평가'!$A$4:$A$423)+1>E368,VLOOKUP(E368,'3-3 위험성평가'!$A$5:$P$423,6,0),\"\")","v":""},{"$f":"IF(MAX('3-3 위험성평가'!$A$4:$A$423)+1>E368,VLOOKUP(E368,'3-3 위험성평가'!$A$5:$P$423,9,0),\"\")","v":""},{"$f":"IF(MAX('3-3 위험성평가'!$A$4:$A$423)+1>E368,VLOOKUP(E368,'3-3 위험성평가'!$A$5:$P$423,12,0),\"\")&IF(L368>\"\",\".\"&E368,\"\")","v":""},{"$f":"IF(MAX('3-3 위험성평가'!$A$4:$A$423)+1>E368,VLOOKUP(E368,'3-3 위험성평가'!$A$5:$P$423,13,0),\"\")","v":""},null,"하",null,null,null,null,null,null,null,"선택안함",0,{"$f":"IF(MAX('3-3 위험성평가'!$A$4:$A$423)+1>E368,VLOOKUP(E368,'3-3 위험성평가'!$A$5:$Q$423,17,0),\"\")","v":""},"선택",{"$f":"표지!$D$33","v":0},{"$f":"표지!$E$34","v":0},"선택안함",0]
["T20",2,"S40",4,361,{"$f":"IF(MAX('3-3 위험성평가'!$A$4:$A$423)+1>E369,VLOOKUP(E369,'3-3 위험성평가'!$A$5:$P$423,2,0),\"\")","v":""},{"$f":"IF(F369=\"\",\"\",VLOOKUP(VALUE(F369),'1-1 사업장 공정 정보'!$D$15:$P$41,5,0))","v":""},{"$f":"IF(MAX('3-3 위험성평가'!$A$4:$A$423)+1>E369,VLOOKUP(E369,'3-3 위험성평가'!$A$5:$P$423,3,0),\"\")","v":""},{"$f":"IF(MAX('3-3 위험성평가'!$A$4:$A$423)+1>E369,VLOOKUP(E369,'3-3 위험성평가'!$A$5:$P$423,4,0),\"\")","v":""},{"$f":"IF(MAX('3-3 위험성평가'!$A$4:$A$423)+1>E369,VLOOKUP(E369,'3-3 위험성평가'!$A$5:$P$423,5,0),\"\")","v":""},{"$f":"IF(MAX('3-3 위험성평가'!$A$4:$A$423)+1>E369,VLOOKUP(E369,'3-3 위험성평가'!$A$5:$P$423,6,0),\"\")","v":""},{"$f":"IF(MAX('3-3 위험성평가'!$A$4:$A$423)+1>E369,VLOOKUP(E369,'3-3 위험성평가'!$A$5:$P$423,9,0),\"\")","v":""},{"$f":"IF(MAX('3-3 위험성평가'!$A$4:$A$423)+1>E369,VLOOKUP(E369,'3-3 위험성평가'!$A$5:$P$423,12,0),\"\")&IF(L369>\"\",\".\"&E369,\"\")","v":""},{"$f":"IF(MAX('3-3 위험성평가'!$A$4:$A$423)+1>E369,VLOOKUP(E369,'3-3 위험성평가'!$A$5:$P$423,13,0),\"\")","v":""},null,"하",null,null,null,null,null,null,null,"선택안함",0,{"$f":"IF(MAX('3-3 위험성평가'!$A$4:$A$423)+1>E369,VLOOKUP(E369,'3-3 위험성평가'!$A$5:$Q$423,17,0),\"\")","v":""},"선택",{"$f":"표지!$D$33","v":0},{"$f":"표지!$E$34","v":0},"선택안함",0]
["T20",2,"S40",4,362,{"$f":"IF(MAX('3-3 위험성평가'!$A$4:$A$423)+1>E370,VLOOKUP(E370,'3-3 위험성평가'!$A$5:$P$423,2,0),\"\")","v":""},{"$f":"IF(F370=\"\",\"\",VLOOKUP(VALUE(F370),'1-1 사업장 공정 정보'!$D$15:$P$41,5,0))","v":""},{"$f":"IF(MAX('3-3 위험성평가'!$A$4:$A$423)+1>E370,VLOOKUP(E370,'3-3 위험성평가'!$A$5:$P$423,3,0),\"\")","v":""},{"$f":"IF(MAX('3-3 위험성평가'!$A$4:$A$423)+1>E370,VLOOKUP(E370,'3-3 위험성평가'!$A$5:$P$423,4,0),\"\")","v":""},{"$f":"IF(MAX('3-3 위험성평가'!$A$4:$A$423)+1>E370,VLOOKUP(E370,'3-3 위험성평가'!$A$5:$P$423,5,0),\"\")","v":""},{"$f":"IF(MAX('3-3 위험성평가'!$A$4:$A$423)+1>E370,VLOOKUP(E370,'3-3 위험성평가'!$A$5:$P$423,6,0),\"\")","v":""},{"$f":"IF(MAX('3-3 위험성평가'!$A$4:$A$423)+1>E370,VLOOKUP(E370,'3-3 위험성평가'!$A$5:$P$423,9,0),\"\")","v":""},{"$f":"IF(MAX('3-3 위험성평가'!$A$4:$A$423)+1>E370,VLOOKUP(E370,'3-3 위험성평가'!$A$5:$P$423,12,0),\"\")&IF(L370>\"\",\".\"&E370,\"\")","v":""},{"$f":"IF(MAX('3-3 위험성평가'!$A$4:$A$423)+1>E370,VLOOKUP(E370,'3-3 위험성평가'!$A$5:$P$423,13,0),\"\")","v":""},null,"하",null,null,null,null,null,null,null,"선택안함",0,{"$f":"IF(MAX('3-3 위험성평가'!$A$4:$A$423)+1>E370,VLOOKUP(E370,'3-3 위험성평가'!$A$5:$Q$423,17,0),\"\")","v":""},"선택",{"$f":"표지!$D$33","v":0},{"$f":"표지!$E$34","v":0},"선택안함",0]
["T20",2,"S40",4,363,{"$f":"IF(MAX('3-3 위험성평가'!$A$4:$A$423)+1>E371,VLOOKUP(E371,'3-3 위험성평가'!$A$5:$P$423,2,0),\"\")","v":""},{"$f":"IF(F371=\"\",\"\",VLOOKUP(VALUE(F371),'1-1 사업장 공정 정보'!$D$15:$P$41,5,0))","v":""},{"$f":"IF(MAX('3-3 위험성평가'!$A$4:$A$423)+1>E371,VLOOKUP(E371,'3-3 위험성평가'!$A$5:$P$423,3,0),\"\")","v":""},{"$f":"IF(MAX('3-3 위험성평가'!$A$4:$A$423)+1>E371,VLOOKUP(E371,'3-3 위험성평가'!$A$5:$P$423,4,0),\"\")","v":""},{"$f":"IF(MAX('3-3 위험성평가'!$A$4:$A$423)+1>E371,VLOOKUP(E371,'3-3 위험성평가'!$A$5:$P$423,5,0),\"\")","v":""},{"$f":"IF(MAX('3-3 위험성평가'!$A$4:$A$423)+1>E371,VLOOKUP(E371,'3-3 위험성평가'!$A$5:$P$423,6,0),\"\")","v":""},{"$f":"IF(MAX('3-3 위험성평가'!$A$4:$A$423)+1>E371,VLOOKUP(E371,'3-3 위험성평가'!$A$5:$P$423,9,0),\"\")","v":""},{"$f":"IF(MAX('3-3 위험성평가'!$A$4:$A$423)+1>E371,VLOOKUP(E371,'3-3 위험성평가'!$A$5:$P$423,12,0),\"\")&IF(L371>\"\",\".\"&E371,\"\")","v":""},{"$f":"IF(MAX('3-3 위험성평가'!$A$4:$A$423)+1>E371,VLOOKUP(E371,'3-3 위험성평가'!$A$5:$P$423,13,0),\"\")","v":""},null,"하",null,null,null,null,null,null,null,"선택안함",0,{"$f":"IF(MAX('3-3 위험성평가'!$A$4:$A$423)+1>E371,VLOOKUP(E371,'3-3 위험성평가'!$A$5:$Q$423,17,0),\"\")","v":""},"선택",{"$f":"표지!$D$33","v":0},{"$f":"표지!$E$34","v":0},"선택안함",0]
["T20",2,"S40",4,364,{"$f":"IF(MAX('3-3 위험성평가'!$A$4:$A$423)+1>E372,VLOOKUP(E372,'3-3 위험성평가'!$A$5:$P$423,2,0),\"\")","v":""},{"$f":"IF(F372=\"\",\"\",VLOOKUP(VALUE(F372),'1-1 사업장 공정 정보'!$D$15:$P$41,5,0))","v":""},{"$f":"IF(MAX('3-3 위험성평가'!$A$4:$A$423)+1>E372,VLOOKUP(E372,'3-3 위험성평가'!$A$5:$P$423,3,0),\"\")","v":""},{"$f":"IF(MAX('3-3 위험성평가'!$A$4:$A$423)+1>E372,VLOOKUP(E372,'3-3 위험성평가'!$A$5:$P$423,4,0),\"\")","v":""},{"$f":"IF(MAX('3-3 위험성평가'!$A$4:$A$423)+1>E372,VLOOKUP(E372,'3-3 위험성평가'!$A$5:$P$423,5,0),\"\")","v":""},{"$f":"IF(MAX('3-3 위험성평가'!$A$4:$A$423)+1>E372,VLOOKUP(E372,'3-3 위험성평가'!$A$5:$P$423,6,0),\"\")","v":""},{"$f":"IF(MAX('3-3 위험성평가'!$A$4:$A$423)+1>E372,VLOOKUP(E372,'3-3 위험성평가'!$A$5:$P$423,9,0),\"\")","v":""},{"$f":"IF(MAX('3-3 위험성평가'!$A$4:$A$423)+1>E372,VLOOKUP(E372,'3-3 위험성평가'!$A$5:$P$423,12,0),\"\")&IF(L372>\"\",\".\"&E372,\"\")","v":""},{"$f":"IF(MAX('3-3 위험성평가'!$A$4:$A$423)+1>E372,VLOOKUP(E372,'3-3 위험성평가'!$A$5:$P$423,13,0),\"\")","v":""},null,"하",null,null,null,null,null,null,null,"선택안함",0,{"$f":"IF(MAX('3-3 위험성평가'!$A$4:$A$423)+1>E372,VLOOKUP(E372,'3-3 위험성평가'!$A$5:$Q$423,17,0),\"\")","v":""},"선택",{"$f":"표지!$D$33","v":0},{"$f":"표지!$E$34","v":0},"선택안함",0]
["T20",2,"S40",4,365,{"$f":"IF(MAX('3-3 위험성평가'!$A$4:$A$423)+1>E373,VLOOKUP(E373,'3-3 위험성평가'!$A$5:$P$423,2,0),\"\")","v":""},{"$f":"IF(F373=\"\",\"\",VLOOKUP(VALUE(F373),'1-1 사업장 공정 정보'!$D$15:$P$41,5,0))","v":""},{"$f":"IF(MAX('3-3 위험성평가'!$A$4:$A$423)+1>E373,VLOOKUP(E373,'3-3 위험성평가'!$A$5:$P$423,3,0),\"\")","v":""},{"$f":"IF(MAX('3-3 위험성평가'!$A$4:$A$423)+1>E373,VLOOKUP(E373,'3-3 위험성평가'!$A$5:$P$423,4,0),\"\")","v":""},{"$f":"IF(MAX('3-3 위험성평가'!$A$4:$A$423)+1>E373,VLOOKUP(E373,'3-3 위험성평가'!$A$5:$P$423,5,0),\"\")","v":""},{"$f":"IF(MAX('3-3 위험성평가'!$A$4:$A$423)+1>E373,VLOOKUP(E373,'3-3 위험성평가'!$A$5:$P$423,6,0),\"\")","v":""},{"$f":"IF(MAX('3-3 위험성평가'!$A$4:$A$423)+1>E373,VLOOKUP(E373,'3-3 위험성평가'!$A$5:$P$423,9,0),\"\")","v":""},{"$f":"IF(MAX('3-3 위험성평가'!$A$4:$A$423)+1>E373,VLOOKUP(E373,'3-3 위험성평가'!$A$5:$P$423,12,0),\"\")&IF(L373>\"\",\".\"&E373,\"\")","v":""},{"$f":"IF(MAX('3-3 위험성평가'!$A$4:$A$423)+1>E373,VLOOKUP(E373,'3-3 위험성평가'!$A$5:$P$423,13,0),\"\")","v":""},null,"하",null,null,null,null,null,null,null,"선택안함",0,{"$f":"IF(MAX('3-3 위험성평가'!$A$4:$A$423)+1>E373,VLOOKUP(E373,'3-3 위험성평가'!$A$5:$Q$423,17,0),\"\")","v":""},"선택",{"$f":"표지!$D$33","v":0},{"$f":"표지!$E$34","v":0},"선택안함",0]
["T20",2,"S40",4,366,{"$f":"IF(MAX('3-3 위험성평가'!$A$4:$A$423)+1>E374,VLOOKUP(E374,'3-3 위험성평가'!$A$5:$P$423,2,0),\"\")","v":""},{"$f":"IF(F374=\"\",\"\",VLOOKUP(VALUE(F374),'1-1 사업장 공정 정보'!$D$15:$P$41,5,0))","v":""},{"$f":"IF(MAX('3-3 위험성평가'!$A$4:$A$423)+1>E374,VLOOKUP(E374,'3-3 위험성평가'!$A$5:$P$423,3,0),\"\")","v":""},{"$f":"IF(MAX('3-3 위험성평가'!$A$4:$A$423)+1>E374,VLOOKUP(E374,'3-3 위험성평가'!$A$5:$P$423,4,0),\"\")","v":""},{"$f":"IF(MAX('3-3 위험성평가'!$A$4:$A$423)+1>E374,VLOOKUP(E374,'3-3 위험성평가'!$A$5:$P$423,5,0),\"\")","v":""},{"$f":"IF(MAX('3-3 위험성평가'!$A$4:$A$423)+1>E374,VLOOKUP(E374,'3-3 위험성평가'!$A$5:$P$423,6,0),\"\")","v":""},{"$f":"IF(MAX('3-3 위험성평가'!$A$4:$A$423)+1>E374,VLOOKUP(E374,'3-3 위험성평가'!$A$5:$P$423,9,0),\"\")","v":""},{"$f":"IF(MAX('3-3 위험성평가'!$A$4:$A$423)+1>E374,VLOOKUP(E374,'3-3 위험성평가'!$A$5:$P$423,12,0),\"\")&IF(L374>\"\",\".\"&E374,\"\")","v":""},{"$f":"IF(MAX('3-3 위험성평가'!$A$4:$A$423)+1>E374,VLOOKUP(E374,'3-3 위험성평가'!$A$5:$P$423,13,0),\"\")","v":""},null,"하",null,null,null,null,null,null,null,"선택안함",0,{"$f":"IF(MAX('3-3 위험성평가'!$A$4:$A$423)+1>E374,VLOOKUP(E374,'3-3 위험성평가'!$A$5:$Q$423,17,0),\"\")","v":""},"선택",{"$f":"표지!$D$33","v":0},{"$f":"표지!$E$34","v":0},"선택안함",0]
["T20",2,"S40",4,367,{"$f":"IF(MAX('3-3 위험성평가'!$A$4:$A$423)+1>E375,VLOOKUP(E375,'3-3 위험성평가'!$A$5:$P$423,2,0),\"\")","v":""},{"$f":"IF(F375=\"\",\"\",VLOOKUP(VALUE(F375),'1-1 사업장 공정 정보'!$D$15:$P$41,5,0))","v":""},{"$f":"IF(MAX('3-3 위험성평가'!$A$4:$A$423)+1>E375,VLOOKUP(E375,'3-3 위험성평가'!$A$5:$P$423,3,0),\"\")","v":""},{"$f":"IF(MAX('3-3 위험성평가'!$A$4:$A$423)+1>E375,VLOOKUP(E375,'3-3 위험성평가'!$A$5:$P$423,4,0),\"\")","v":""},{"$f":"IF(MAX('3-3 위험성평가'!$A$4:$A$423)+1>E375,VLOOKUP(E375,'3-3 위험성평가'!$A$5:$P$423,5,0),\"\")","v":""},{"$f":"IF(MAX('3-3 위험성평가'!$A$4:$A$423)+1>E375,VLOOKUP(E375,'3-3 위험성평가'!$A$5:$P$423,6,0),\"\")","v":""},{"$f":"IF(MAX('3-3 위험성평가'!$A$4:$A$423)+1>E375,VLOOKUP(E375,'3-3 위험성평가'!$A$5:$P$423,9,0),\"\")","v":""},{"$f":"IF(MAX('3-3 위험성평가'!$A$4:$A$423)+1>E375,VLOOKUP(E375,'3-3 위험성평가'!$A$5:$P$423,12,0),\"\")&IF(L375>\"\",\".\"&E375,\"\")","v":""},{"$f":"IF(MAX('3-3 위험성평가'!$A$4:$A$423)+1>E375,VLOOKUP(E375,'3-3 위험성평가'!$A$5:$P$423,13,0),\"\")","v":""},null,"하",null,null,null,null,null,null,null,"선택안함",0,{"$f":"IF(MAX('3-3 위험성평가'!$A$4:$A$423)+1>E375,VLOOKUP(E375,'3-3 위험성평가'!$A$5:$Q$423,17,0),\"\")","v":""},"선택",{"$f":"표지!$D$33","v":0},{"$f":"표지!$E$34","v":0},"선택안함",0]
["T20",2,"S40",4,368,{"$f":"IF(MAX('3-3 위험성평가'!$A$4:$A$423)+1>E376,VLOOKUP(E376,'3-3 위험성평가'!$A$5:$P$423,2,0),\"\")","v":""},{"$f":"IF(F376=\"\",\"\",VLOOKUP(VALUE(F376),'1-1 사업장 공정 정보'!$D$15:$P$41,5,0))","v":""},{"$f":"IF(MAX('3-3 위험성평가'!$A$4:$A$423)+1>E376,VLOOKUP(E376,'3-3 위험성평가'!$A$5:$P$423,3,0),\"\")","v":""},{"$f":"IF(MAX('3-3 위험성평가'!$A$4:$A$423)+1>E376,VLOOKUP(E376,'3-3 위험성평가'!$A$5:$P$423,4,0),\"\")","v":""},{"$f":"IF(MAX('3-3 위험성평가'!$A$4:$A$423)+1>E376,VLOOKUP(E376,'3-3 위험성평가'!$A$5:$P$423,5,0),\"\")","v":""},{"$f":"IF(MAX('3-3 위험성평가'!$A$4:$A$423)+1>E376,VLOOKUP(E376,'3-3 위험성평가'!$A$5:$P$423,6,0),\"\")","v":""},{"$f":"IF(MAX('3-3 위험성평가'!$A$4:$A$423)+1>E376,VLOOKUP(E376,'3-3 위험성평가'!$A$5:$P$423,9,0),\"\")","v":""},{"$f":"IF(MAX('3-3 위험성평가'!$A$4:$A$423)+1>E376,VLOOKUP(E376,'3-3 위험성평가'!$A$5:$P$423,12,0),\"\")&IF(L376>\"\",\".\"&E376,\"\")","v":""},{"$f":"IF(MAX('3-3 위험성평가'!$A$4:$A$423)+1>E376,VLOOKUP(E376,'3-3 위험성평가'!$A$5:$P$423,13,0),\"\")","v":""},null,"하",null,null,null,null,null,null,null,"선택안함",0,{"$f":"IF(MAX('3-3 위험성평가'!$A$4:$A$423)+1>E376,VLOOKUP(E376,'3-3 위험성평가'!$A$5:$Q$423,17,0),\"\")","v":""},"선택",{"$f":"표지!$D$33","v":0},{"$f":"표지!$E$34","v":0},"선택안함",0]
["T20",2,"S40",4,369,{"$f":"IF(MAX('3-3 위험성평가'!$A$4:$A$423)+1>E377,VLOOKUP(E377,'3-3 위험성평가'!$A$5:$P$423,2,0),\"\")","v":""},{"$f":"IF(F377=\"\",\"\",VLOOKUP(VALUE(F377),'1-1 사업장 공정 정보'!$D$15:$P$41,5,0))","v":""},{"$f":"IF(MAX('3-3 위험성평가'!$A$4:$A$423)+1>E377,VLOOKUP(E377,'3-3 위험성평가'!$A$5:$P$423,3,0),\"\")","v":""},{"$f":"IF(MAX('3-3 위험성평가'!$A$4:$A$423)+1>E377,VLOOKUP(E377,'3-3 위험성평가'!$A$5:$P$423,4,0),\"\")","v":""},{"$f":"IF(MAX('3-3 위험성평가'!$A$4:$A$423)+1>E377,VLOOKUP(E377,'3-3 위험성평가'!$A$5:$P$423,5,0),\"\")","v":""},{"$f":"IF(MAX('3-3 위험성평가'!$A$4:$A$423)+1>E377,VLOOKUP(E377,'3-3 위험성평가'!$A$5:$P$423,6,0),\"\")","v":""},{"$f":"IF(MAX('3-3 위험성평가'!$A$4:$A$423)+1>E377,VLOOKUP(E377,'3-3 위험성평가'!$A$5:$P$423,9,0),\"\")","v":""},{"$f":"IF(MAX('3-3 위험성평가'!$A$4:$A$423)+1>E377,VLOOKUP(E377,'3-3 위험성평가'!$A$5:$P$423,12,0),\"\")&IF(L377>\"\",\".\"&E377,\"\")","v":""},{"$f":"IF(MAX('3-3 위험성평가'!$A$4:$A$423)+1>E377,VLOOKUP(E377,'3-3 위험성평가'!$A$5:$P$423,13,0),\"\")","v":""},null,"하",null,null,null,null,null,null,null,"선택안함",0,{"$f":"IF(MAX('3-3 위험성평가'!$A$4:$A$423)+1>E377,VLOOKUP(E377,'3-3 위험성평가'!$A$5:$Q$423,17,0),\"\")","v":""},"선택",{"$f":"표지!$D$33","v":0},{"$f":"표지!$E$34","v":0},"선택안함",0]
["T20",2,"S40",4,370,{"$f":"IF(MAX('3-3 위험성평가'!$A$4:$A$423)+1>E378,VLOOKUP(E378,'3-3 위험성평가'!$A$5:$P$423,2,0),\"\")","v":""},{"$f":"IF(F378=\"\",\"\",VLOOKUP(VALUE(F378),'1-1 사업장 공정 정보'!$D$15:$P$41,5,0))","v":""},{"$f":"IF(MAX('3-3 위험성평가'!$A$4:$A$423)+1>E378,VLOOKUP(E378,'3-3 위험성평가'!$A$5:$P$423,3,0),\"\")","v":""},{"$f":"IF(MAX('3-3 위험성평가'!$A$4:$A$423)+1>E378,VLOOKUP(E378,'3-3 위험성평가'!$A$5:$P$423,4,0),\"\")","v":""},{"$f":"IF(MAX('3-3 위험성평가'!$A$4:$A$423)+1>E378,VLOOKUP(E378,'3-3 위험성평가'!$A$5:$P$423,5,0),\"\")","v":""},{"$f":"IF(MAX('3-3 위험성평가'!$A$4:$A$423)+1>E378,VLOOKUP(E378,'3-3 위험성평가'!$A$5:$P$423,6,0),\"\")","v":""},{"$f":"IF(MAX('3-3 위험성평가'!$A$4:$A$423)+1>E378,VLOOKUP(E378,'3-3 위험성평가'!$A$5:$P$423,9,0),\"\")","v":""},{"$f":"IF(MAX('3-3 위험성평가'!$A$4:$A$423)+1>E378,VLOOKUP(E378,'3-3 위험성평가'!$A$5:$P$423,12,0),\"\")&IF(L378>\"\",\".\"&E378,\"\")","v":""},{"$f":"IF(MAX('3-3 위험성평가'!$A$4:$A$423)+1>E378,VLOOKUP(E378,'3-3 위험성평가'!$A$5:$P$423,13,0),\"\")","v":""},null,"하",null,null,null,null,null,null,null,"선택안함",0,{"$f":"IF(MAX('3-3 위험성평가'!$A$4:$A$423)+1>E378,VLOOKUP(E378,'3-3 위험성평가'!$A$5:$Q$423,17,0),\"\")","v":""},"선택",{"$f":"표지!$D$33","v":0},{"$f":"표지!$E$34","v":0},"선택안함",0]
["T20",2,"S40",4,371,{"$f":"IF(MAX('3-3 위험성평가'!$A$4:$A$423)+1>E379,VLOOKUP(E379,'3-3 위험성평가'!$A$5:$P$423,2,0),\"\")","v":""},{"$f":"IF(F379=\"\",\"\",VLOOKUP(VALUE(F379),'1-1 사업장 공정 정보'!$D$15:$P$41,5,0))","v":""},{"$f":"IF(MAX('3-3 위험성평가'!$A$4:$A$423)+1>E379,VLOOKUP(E379,'3-3 위험성평가'!$A$5:$P$423,3,0),\"\")","v":""},{"$f":"IF(MAX('3-3 위험성평가'!$A$4:$A$423)+1>E379,VLOOKUP(E379,'3-3 위험성평가'!$A$5:$P$423,4,0),\"\")","v":""},{"$f":"IF(MAX('3-3 위험성평가'!$A$4:$A$423)+1>E379,VLOOKUP(E379,'3-3 위험성평가'!$A$5:$P$423,5,0),\"\")","v":""},{"$f":"IF(MAX('3-3 위험성평가'!$A$4:$A$423)+1>E379,VLOOKUP(E379,'3-3 위험성평가'!$A$5:$P$423,6,0),\"\")","v":""},{"$f":"IF(MAX('3-3 위험성평가'!$A$4:$A$423)+1>E379,VLOOKUP(E379,'3-3 위험성평가'!$A$5:$P$423,9,0),\"\")","v":""},{"$f":"IF(MAX('3-3 위험성평가'!$A$4:$A$423)+1>E379,VLOOKUP(E379,'3-3 위험성평가'!$A$5:$P$423,12,0),\"\")&IF(L379>\"\",\".\"&E379,\"\")","v":""},{"$f":"IF(MAX('3-3 위험성평가'!$A$4:$A$423)+1>E379,VLOOKUP(E379,'3-3 위험성평가'!$A$5:$P$423,13,0),\"\")","v":""},null,"하",null,null,null,null,null,null,null,"선택안함",0,{"$f":"IF(MAX('3-3 위험성평가'!$A$4:$A$423)+1>E379,VLOOKUP(E379,'3-3 위험성평가'!$A$5:$Q$423,17,0),\"\")","v":""},"선택",{"$f":"표지!$D$33","v":0},{"$f":"표지!$E$34","v":0},"선택안함",0]
["T20",2,"S40",4,372,{"$f":"IF(MAX('3-3 위험성평가'!$A$4:$A$423)+1>E380,VLOOKUP(E380,'3-3 위험성평가'!$A$5:$P$423,2,0),\"\")","v":""},{"$f":"IF(F380=\"\",\"\",VLOOKUP(VALUE(F380),'1-1 사업장 공정 정보'!$D$15:$P$41,5,0))","v":""},{"$f":"IF(MAX('3-3 위험성평가'!$A$4:$A$423)+1>E380,VLOOKUP(E380,'3-3 위험성평가'!$A$5:$P$423,3,0),\"\")","v":""},{"$f":"IF(MAX('3-3 위험성평가'!$A$4:$A$423)+1>E380,VLOOKUP(E380,'3-3 위험성평가'!$A$5:$P$423,4,0),\"\")","v":""},{"$f":"IF(MAX('3-3 위험성평가'!$A$4:$A$423)+1>E380,VLOOKUP(E380,'3-3 위험성평가'!$A$5:$P$423,5,0),\"\")","v":""},{"$f":"IF(MAX('3-3 위험성평가'!$A$4:$A$423)+1>E380,VLOOKUP(E380,'3-3 위험성평가'!$A$5:$P$423,6,0),\"\")","v":""},{"$f":"IF(MAX('3-3 위험성평가'!$A$4:$A$423)+1>E380,VLOOKUP(E380,'3-3 위험성평가'!$A$5:$P$423,9,0),\"\")","v":""},{"$f":"IF(MAX('3-3 위험성평가'!$A$4:$A$423)+1>E380,VLOOKUP(E380,'3-3 위험성평가'!$A$5:$P$423,12,0),\"\")&IF(L380>\"\",\".\"&E380,\"\")","v":""},{"$f":"IF(MAX('3-3 위험성평가'!$A$4:$A$423)+1>E380,VLOOKUP(E380,'3-3 위험성평가'!$A$5:$P$423,13,0),\"\")","v":""},null,"하",null,null,null,null,null,null,null,"선택안함",0,{"$f":"IF(MAX('3-3 위험성평가'!$A$4:$A$423)+1>E380,VLOOKUP(E380,'3-3 위험성평가'!$A$5:$Q$423,17,0),\"\")","v":""},"선택",{"$f":"표지!$D$33","v":0},{"$f":"표지!$E$34","v":0},"선택안함",0]
["T20",2,"S40",4,373,{"$f":"IF(MAX('3-3 위험성평가'!$A$4:$A$423)+1>E381,VLOOKUP(E381,'3-3 위험성평가'!$A$5:$P$423,2,0),\"\")","v":""},{"$f":"IF(F381=\"\",\"\",VLOOKUP(VALUE(F381),'1-1 사업장 공정 정보'!$D$15:$P$41,5,0))","v":""},{"$f":"IF(MAX('3-3 위험성평가'!$A$4:$A$423)+1>E381,VLOOKUP(E381,'3-3 위험성평가'!$A$5:$P$423,3,0),\"\")","v":""},{"$f":"IF(MAX('3-3 위험성평가'!$A$4:$A$423)+1>E381,VLOOKUP(E381,'3-3 위험성평가'!$A$5:$P$423,4,0),\"\")","v":""},{"$f":"IF(MAX('3-3 위험성평가'!$A$4:$A$423)+1>E381,VLOOKUP(E381,'3-3 위험성평가'!$A$5:$P$423,5,0),\"\")","v":""},{"$f":"IF(MAX('3-3 위험성평가'!$A$4:$A$423)+1>E381,VLOOKUP(E381,'3-3 위험성평가'!$A$5:$P$423,6,0),\"\")","v":""},{"$f":"IF(MAX('3-3 위험성평가'!$A$4:$A$423)+1>E381,VLOOKUP(E381,'3-3 위험성평가'!$A$5:$P$423,9,0),\"\")","v":""},{"$f":"IF(MAX('3-3 위험성평가'!$A$4:$A$423)+1>E381,VLOOKUP(E381,'3-3 위험성평가'!$A$5:$P$423,12,0),\"\")&IF(L381>\"\",\".\"&E381,\"\")","v":""},{"$f":"IF(MAX('3-3 위험성평가'!$A$4:$A$423)+1>E381,VLOOKUP(E381,'3-3 위험성평가'!$A$5:$P$423,13,0),\"\")","v":""},null,"하",null,null,null,null,null,null,null,"선택안함",0,{"$f":"IF(MAX('3-3 위험성평가'!$A$4:$A$423)+1>E381,VLOOKUP(E381,'3-3 위험성평가'!$A$5:$Q$423,17,0),\"\")","v":""},"선택",{"$f":"표지!$D$33","v":0},{"$f":"표지!$E$34","v":0},"선택안함",0]
["T20",2,"S40",4,374,{"$f":"IF(MAX('3-3 위험성평가'!$A$4:$A$423)+1>E382,VLOOKUP(E382,'3-3 위험성평가'!$A$5:$P$423,2,0),\"\")","v":""},{"$f":"IF(F382=\"\",\"\",VLOOKUP(VALUE(F382),'1-1 사업장 공정 정보'!$D$15:$P$41,5,0))","v":""},{"$f":"IF(MAX('3-3 위험성평가'!$A$4:$A$423)+1>E382,VLOOKUP(E382,'3-3 위험성평가'!$A$5:$P$423,3,0),\"\")","v":""},{"$f":"IF(MAX('3-3 위험성평가'!$A$4:$A$423)+1>E382,VLOOKUP(E382,'3-3 위험성평가'!$A$5:$P$423,4,0),\"\")","v":""},{"$f":"IF(MAX('3-3 위험성평가'!$A$4:$A$423)+1>E382,VLOOKUP(E382,'3-3 위험성평가'!$A$5:$P$423,5,0),\"\")","v":""},{"$f":"IF(MAX('3-3 위험성평가'!$A$4:$A$423)+1>E382,VLOOKUP(E382,'3-3 위험성평가'!$A$5:$P$423,6,0),\"\")","v":""},{"$f":"IF(MAX('3-3 위험성평가'!$A$4:$A$423)+1>E382,VLOOKUP(E382,'3-3 위험성평가'!$A$5:$P$423,9,0),\"\")","v":""},{"$f":"IF(MAX('3-3 위험성평가'!$A$4:$A$423)+1>E382,VLOOKUP(E382,'3-3 위험성평가'!$A$5:$P$423,12,0),\"\")&IF(L382>\"\",\".\"&E382,\"\")","v":""},{"$f":"IF(MAX('3-3 위험성평가'!$A$4:$A$423)+1>E382,VLOOKUP(E382,'3-3 위험성평가'!$A$5:$P$423,13,0),\"\")","v":""},null,"하",null,null,null,null,null,null,null,"선택안함",0,{"$f":"IF(MAX('3-3 위험성평가'!$A$4:$A$423)+1>E382,VLOOKUP(E382,'3-3 위험성평가'!$A$5:$Q$423,17,0),\"\")","v":""},"선택",{"$f":"표지!$D$33","v":0},{"$f":"표지!$E$34","v":0},"선택안함",0]
["T20",2,"S40",4,375,{"$f":"IF(MAX('3-3 위험성평가'!$A$4:$A$423)+1>E383,VLOOKUP(E383,'3-3 위험성평가'!$A$5:$P$423,2,0),\"\")","v":""},{"$f":"IF(F383=\"\",\"\",VLOOKUP(VALUE(F383),'1-1 사업장 공정 정보'!$D$15:$P$41,5,0))","v":""},{"$f":"IF(MAX('3-3 위험성평가'!$A$4:$A$423)+1>E383,VLOOKUP(E383,'3-3 위험성평가'!$A$5:$P$423,3,0),\"\")","v":""},{"$f":"IF(MAX('3-3 위험성평가'!$A$4:$A$423)+1>E383,VLOOKUP(E383,'3-3 위험성평가'!$A$5:$P$423,4,0),\"\")","v":""},{"$f":"IF(MAX('3-3 위험성평가'!$A$4:$A$423)+1>E383,VLOOKUP(E383,'3-3 위험성평가'!$A$5:$P$423,5,0),\"\")","v":""},{"$f":"IF(MAX('3-3 위험성평가'!$A$4:$A$423)+1>E383,VLOOKUP(E383,'3-3 위험성평가'!$A$5:$P$423,6,0),\"\")","v":""},{"$f":"IF(MAX('3-3 위험성평가'!$A$4:$A$423)+1>E383,VLOOKUP(E383,'3-3 위험성평가'!$A$5:$P$423,9,0),\"\")","v":""},{"$f":"IF(MAX('3-3 위험성평가'!$A$4:$A$423)+1>E383,VLOOKUP(E383,'3-3 위험성평가'!$A$5:$P$423,12,0),\"\")&IF(L383>\"\",\".\"&E383,\"\")","v":""},{"$f":"IF(MAX('3-3 위험성평가'!$A$4:$A$423)+1>E383,VLOOKUP(E383,'3-3 위험성평가'!$A$5:$P$423,13,0),\"\")","v":""},null,"하",null,null,null,null,null,null,null,"선택안함",0,{"$f":"IF(MAX('3-3 위험성평가'!$A$4:$A$423)+1>E383,VLOOKUP(E383,'3-3 위험성평가'!$A$5:$Q$423,17,0),\"\")","v":""},"선택",{"$f":"표지!$D$33","v":0},{"$f":"표지!$E$34","v":0},"선택안함",0]
["T20",2,"S40",4,376,{"$f":"IF(MAX('3-3 위험성평가'!$A$4:$A$423)+1>E384,VLOOKUP(E384,'3-3 위험성평가'!$A$5:$P$423,2,0),\"\")","v":""},{"$f":"IF(F384=\"\",\"\",VLOOKUP(VALUE(F384),'1-1 사업장 공정 정보'!$D$15:$P$41,5,0))","v":""},{"$f":"IF(MAX('3-3 위험성평가'!$A$4:$A$423)+1>E384,VLOOKUP(E384,'3-3 위험성평가'!$A$5:$P$423,3,0),\"\")","v":""},{"$f":"IF(MAX('3-3 위험성평가'!$A$4:$A$423)+1>E384,VLOOKUP(E384,'3-3 위험성평가'!$A$5:$P$423,4,0),\"\")","v":""},{"$f":"IF(MAX('3-3 위험성평가'!$A$4:$A$423)+1>E384,VLOOKUP(E384,'3-3 위험성평가'!$A$5:$P$423,5,0),\"\")","v":""},{"$f":"IF(MAX('3-3 위험성평가'!$A$4:$A$423)+1>E384,VLOOKUP(E384,'3-3 위험성평가'!$A$5:$P$423,6,0),\"\")","v":""},{"$f":"IF(MAX('3-3 위험성평가'!$A$4:$A$423)+1>E384,VLOOKUP(E384,'3-3 위험성평가'!$A$5:$P$423,9,0),\"\")","v":""},{"$f":"IF(MAX('3-3 위험성평가'!$A$4:$A$423)+1>E384,VLOOKUP(E384,'3-3 위험성평가'!$A$5:$P$423,12,0),\"\")&IF(L384>\"\",\".\"&E384,\"\")","v":""},{"$f":"IF(MAX('3-3 위험성평가'!$A$4:$A$423)+1>E384,VLOOKUP(E384,'3-3 위험성평가'!$A$5:$P$423,13,0),\"\")","v":""},null,"하",null,null,null,null,null,null,null,"선택안함",0,{"$f":"IF(MAX('3-3 위험성평가'!$A$4:$A$423)+1>E384,VLOOKUP(E384,'3-3 위험성평가'!$A$5:$Q$423,17,0),\"\")","v":""},"선택",{"$f":"표지!$D$33","v":0},{"$f":"표지!$E$34","v":0},"선택안함",0]
["T20",2,"S40",4,377,{"$f":"IF(MAX('3-3 위험성평가'!$A$4:$A$423)+1>E385,VLOOKUP(E385,'3-3 위험성평가'!$A$5:$P$423,2,0),\"\")","v":""},{"$f":"IF(F385=\"\",\"\",VLOOKUP(VALUE(F385),'1-1 사업장 공정 정보'!$D$15:$P$41,5,0))","v":""},{"$f":"IF(MAX('3-3 위험성평가'!$A$4:$A$423)+1>E385,VLOOKUP(E385,'3-3 위험성평가'!$A$5:$P$423,3,0),\"\")","v":""},{"$f":"IF(MAX('3-3 위험성평가'!$A$4:$A$423)+1>E385,VLOOKUP(E385,'3-3 위험성평가'!$A$5:$P$423,4,0),\"\")","v":""},{"$f":"IF(MAX('3-3 위험성평가'!$A$4:$A$423)+1>E385,VLOOKUP(E385,'3-3 위험성평가'!$A$5:$P$423,5,0),\"\")","v":""},{"$f":"IF(MAX('3-3 위험성평가'!$A$4:$A$423)+1>E385,VLOOKUP(E385,'3-3 위험성평가'!$A$5:$P$423,6,0),\"\")","v":""},{"$f":"IF(MAX('3-3 위험성평가'!$A$4:$A$423)+1>E385,VLOOKUP(E385,'3-3 위험성평가'!$A$5:$P$423,9,0),\"\")","v":""},{"$f":"IF(MAX('3-3 위험성평가'!$A$4:$A$423)+1>E385,VLOOKUP(E385,'3-3 위험성평가'!$A$5:$P$423,12,0),\"\")&IF(L385>\"\",\".\"&E385,\"\")","v":""},{"$f":"IF(MAX('3-3 위험성평가'!$A$4:$A$423)+1>E385,VLOOKUP(E385,'3-3 위험성평가'!$A$5:$P$423,13,0),\"\")","v":""},null,"하",null,null,null,null,null,null,null,"선택안함",0,{"$f":"IF(MAX('3-3 위험성평가'!$A$4:$A$423)+1>E385,VLOOKUP(E385,'3-3 위험성평가'!$A$5:$Q$423,17,0),\"\")","v":""},"선택",{"$f":"표지!$D$33","v":0},{"$f":"표지!$E$34","v":0},"선택안함",0]
["T20",2,"S40",4,378,{"$f":"IF(MAX('3-3 위험성평가'!$A$4:$A$423)+1>E386,VLOOKUP(E386,'3-3 위험성평가'!$A$5:$P$423,2,0),\"\")","v":""},{"$f":"IF(F386=\"\",\"\",VLOOKUP(VALUE(F386),'1-1 사업장 공정 정보'!$D$15:$P$41,5,0))","v":""},{"$f":"IF(MAX('3-3 위험성평가'!$A$4:$A$423)+1>E386,VLOOKUP(E386,'3-3 위험성평가'!$A$5:$P$423,3,0),\"\")","v":""},{"$f":"IF(MAX('3-3 위험성평가'!$A$4:$A$423)+1>E386,VLOOKUP(E386,'3-3 위험성평가'!$A$5:$P$423,4,0),\"\")","v":""},{"$f":"IF(MAX('3-3 위험성평가'!$A$4:$A$423)+1>E386,VLOOKUP(E386,'3-3 위험성평가'!$A$5:$P$423,5,0),\"\")","v":""},{"$f":"IF(MAX('3-3 위험성평가'!$A$4:$A$423)+1>E386,VLOOKUP(E386,'3-3 위험성평가'!$A$5:$P$423,6,0),\"\")","v":""},{"$f":"IF(MAX('3-3 위험성평가'!$A$4:$A$423)+1>E386,VLOOKUP(E386,'3-3 위험성평가'!$A$5:$P$423,9,0),\"\")","v":""},{"$f":"IF(MAX('3-3 위험성평가'!$A$4:$A$423)+1>E386,VLOOKUP(E386,'3-3 위험성평가'!$A$5:$P$423,12,0),\"\")&IF(L386>\"\",\".\"&E386,\"\")","v":""},{"$f":"IF(MAX('3-3 위험성평가'!$A$4:$A$423)+1>E386,VLOOKUP(E386,'3-3 위험성평가'!$A$5:$P$423,13,0),\"\")","v":""},null,"하",null,null,null,null,null,null,null,"선택안함",0,{"$f":"IF(MAX('3-3 위험성평가'!$A$4:$A$423)+1>E386,VLOOKUP(E386,'3-3 위험성평가'!$A$5:$Q$423,17,0),\"\")","v":""},"선택",{"$f":"표지!$D$33","v":0},{"$f":"표지!$E$34","v":0},"선택안함",0]
["T20",2,"S40",4,379,{"$f":"IF(MAX('3-3 위험성평가'!$A$4:$A$423)+1>E387,VLOOKUP(E387,'3-3 위험성평가'!$A$5:$P$423,2,0),\"\")","v":""},{"$f":"IF(F387=\"\",\"\",VLOOKUP(VALUE(F387),'1-1 사업장 공정 정보'!$D$15:$P$41,5,0))","v":""},{"$f":"IF(MAX('3-3 위험성평가'!$A$4:$A$423)+1>E387,VLOOKUP(E387,'3-3 위험성평가'!$A$5:$P$423,3,0),\"\")","v":""},{"$f":"IF(MAX('3-3 위험성평가'!$A$4:$A$423)+1>E387,VLOOKUP(E387,'3-3 위험성평가'!$A$5:$P$423,4,0),\"\")","v":""},{"$f":"IF(MAX('3-3 위험성평가'!$A$4:$A$423)+1>E387,VLOOKUP(E387,'3-3 위험성평가'!$A$5:$P$423,5,0),\"\")","v":""},{"$f":"IF(MAX('3-3 위험성평가'!$A$4:$A$423)+1>E387,VLOOKUP(E387,'3-3 위험성평가'!$A$5:$P$423,6,0),\"\")","v":""},{"$f":"IF(MAX('3-3 위험성평가'!$A$4:$A$423)+1>E387,VLOOKUP(E387,'3-3 위험성평가'!$A$5:$P$423,9,0),\"\")","v":""},{"$f":"IF(MAX('3-3 위험성평가'!$A$4:$A$423)+1>E387,VLOOKUP(E387,'3-3 위험성평가'!$A$5:$P$423,12,0),\"\")&IF(L387>\"\",\".\"&E387,\"\")","v":""},{"$f":"IF(MAX('3-3 위험성평가'!$A$4:$A$423)+1>E387,VLOOKUP(E387,'3-3 위험성평가'!$A$5:$P$423,13,0),\"\")","v":""},null,"하",null,null,null,null,null,null,null,"선택안함",0,{"$f":"IF(MAX('3-3 위험성평가'!$A$4:$A$423)+1>E387,VLOOKUP(E387,'3-3 위험성평가'!$A$5:$Q$423,17,0),\"\")","v":""},"선택",{"$f":"표지!$D$33","v":0},{"$f":"표지!$E$34","v":0},"선택안함",0]
["T20",2,"S40",4,380,{"$f":"IF(MAX('3-3 위험성평가'!$A$4:$A$423)+1>E388,VLOOKUP(E388,'3-3 위험성평가'!$A$5:$P$423,2,0),\"\")","v":""},{"$f":"IF(F388=\"\",\"\",VLOOKUP(VALUE(F388),'1-1 사업장 공정 정보'!$D$15:$P$41,5,0))","v":""},{"$f":"IF(MAX('3-3 위험성평가'!$A$4:$A$423)+1>E388,VLOOKUP(E388,'3-3 위험성평가'!$A$5:$P$423,3,0),\"\")","v":""},{"$f":"IF(MAX('3-3 위험성평가'!$A$4:$A$423)+1>E388,VLOOKUP(E388,'3-3 위험성평가'!$A$5:$P$423,4,0),\"\")","v":""},{"$f":"IF(MAX('3-3 위험성평가'!$A$4:$A$423)+1>E388,VLOOKUP(E388,'3-3 위험성평가'!$A$5:$P$423,5,0),\"\")","v":""},{"$f":"IF(MAX('3-3 위험성평가'!$A$4:$A$423)+1>E388,VLOOKUP(E388,'3-3 위험성평가'!$A$5:$P$423,6,0),\"\")","v":""},{"$f":"IF(MAX('3-3 위험성평가'!$A$4:$A$423)+1>E388,VLOOKUP(E388,'3-3 위험성평가'!$A$5:$P$423,9,0),\"\")","v":""},{"$f":"IF(MAX('3-3 위험성평가'!$A$4:$A$423)+1>E388,VLOOKUP(E388,'3-3 위험성평가'!$A$5:$P$423,12,0),\"\")&IF(L388>\"\",\".\"&E388,\"\")","v":""},{"$f":"IF(MAX('3-3 위험성평가'!$A$4:$A$423)+1>E388,VLOOKUP(E388,'3-3 위험성평가'!$A$5:$P$423,13,0),\"\")","v":""},null,"하",null,null,null,null,null,null,null,"선택안함",0,{"$f":"IF(MAX('3-3 위험성평가'!$A$4:$A$423)+1>E388,VLOOKUP(E388,'3-3 위험성평가'!$A$5:$Q$423,17,0),\"\")","v":""},"선택",{"$f":"표지!$D$33","v":0},{"$f":"표지!$E$34","v":0},"선택안함",0]
["T20",2,"S40",4,381,{"$f":"IF(MAX('3-3 위험성평가'!$A$4:$A$423)+1>E389,VLOOKUP(E389,'3-3 위험성평가'!$A$5:$P$423,2,0),\"\")","v":""},{"$f":"IF(F389=\"\",\"\",VLOOKUP(VALUE(F389),'1-1 사업장 공정 정보'!$D$15:$P$41,5,0))","v":""},{"$f":"IF(MAX('3-3 위험성평가'!$A$4:$A$423)+1>E389,VLOOKUP(E389,'3-3 위험성평가'!$A$5:$P$423,3,0),\"\")","v":""},{"$f":"IF(MAX('3-3 위험성평가'!$A$4:$A$423)+1>E389,VLOOKUP(E389,'3-3 위험성평가'!$A$5:$P$423,4,0),\"\")","v":""},{"$f":"IF(MAX('3-3 위험성평가'!$A$4:$A$423)+1>E389,VLOOKUP(E389,'3-3 위험성평가'!$A$5:$P$423,5,0),\"\")","v":""},{"$f":"IF(MAX('3-3 위험성평가'!$A$4:$A$423)+1>E389,VLOOKUP(E389,'3-3 위험성평가'!$A$5:$P$423,6,0),\"\")","v":""},{"$f":"IF(MAX('3-3 위험성평가'!$A$4:$A$423)+1>E389,VLOOKUP(E389,'3-3 위험성평가'!$A$5:$P$423,9,0),\"\")","v":""},{"$f":"IF(MAX('3-3 위험성평가'!$A$4:$A$423)+1>E389,VLOOKUP(E389,'3-3 위험성평가'!$A$5:$P$423,12,0),\"\")&IF(L389>\"\",\".\"&E389,\"\")","v":""},{"$f":"IF(MAX('3-3 위험성평가'!$A$4:$A$423)+1>E389,VLOOKUP(E389,'3-3 위험성평가'!$A$5:$P$423,13,0),\"\")","v":""},null,"하",null,null,null,null,null,null,null,"선택안함",0,{"$f":"IF(MAX('3-3 위험성평가'!$A$4:$A$423)+1>E389,VLOOKUP(E389,'3-3 위험성평가'!$A$5:$Q$423,17,0),\"\")","v":""},"선택",{"$f":"표지!$D$33","v":0},{"$f":"표지!$E$34","v":0},"선택안함",0]
["T20",2,"S40",4,382,{"$f":"IF(MAX('3-3 위험성평가'!$A$4:$A$423)+1>E390,VLOOKUP(E390,'3-3 위험성평가'!$A$5:$P$423,2,0),\"\")","v":""},{"$f":"IF(F390=\"\",\"\",VLOOKUP(VALUE(F390),'1-1 사업장 공정 정보'!$D$15:$P$41,5,0))","v":""},{"$f":"IF(MAX('3-3 위험성평가'!$A$4:$A$423)+1>E390,VLOOKUP(E390,'3-3 위험성평가'!$A$5:$P$423,3,0),\"\")","v":""},{"$f":"IF(MAX('3-3 위험성평가'!$A$4:$A$423)+1>E390,VLOOKUP(E390,'3-3 위험성평가'!$A$5:$P$423,4,0),\"\")","v":""},{"$f":"IF(MAX('3-3 위험성평가'!$A$4:$A$423)+1>E390,VLOOKUP(E390,'3-3 위험성평가'!$A$5:$P$423,5,0),\"\")","v":""},{"$f":"IF(MAX('3-3 위험성평가'!$A$4:$A$423)+1>E390,VLOOKUP(E390,'3-3 위험성평가'!$A$5:$P$423,6,0),\"\")","v":""},{"$f":"IF(MAX('3-3 위험성평가'!$A$4:$A$423)+1>E390,VLOOKUP(E390,'3-3 위험성평가'!$A$5:$P$423,9,0),\"\")","v":""},{"$f":"IF(MAX('3-3 위험성평가'!$A$4:$A$423)+1>E390,VLOOKUP(E390,'3-3 위험성평가'!$A$5:$P$423,12,0),\"\")&IF(L390>\"\",\".\"&E390,\"\")","v":""},{"$f":"IF(MAX('3-3 위험성평가'!$A$4:$A$423)+1>E390,VLOOKUP(E390,'3-3 위험성평가'!$A$5:$P$423,13,0),\"\")","v":""},null,"하",null,null,null,null,null,null,null,"선택안함",0,{"$f":"IF(MAX('3-3 위험성평가'!$A$4:$A$423)+1>E390,VLOOKUP(E390,'3-3 위험성평가'!$A$5:$Q$423,17,0),\"\")","v":""},"선택",{"$f":"표지!$D$33","v":0},{"$f":"표지!$E$34","v":0},"선택안함",0]
["T20",2,"S40",4,383,{"$f":"IF(MAX('3-3 위험성평가'!$A$4:$A$423)+1>E391,VLOOKUP(E391,'3-3 위험성평가'!$A$5:$P$423,2,0),\"\")","v":""},{"$f":"IF(F391=\"\",\"\",VLOOKUP(VALUE(F391),'1-1 사업장 공정 정보'!$D$15:$P$41,5,0))","v":""},{"$f":"IF(MAX('3-3 위험성평가'!$A$4:$A$423)+1>E391,VLOOKUP(E391,'3-3 위험성평가'!$A$5:$P$423,3,0),\"\")","v":""},{"$f":"IF(MAX('3-3 위험성평가'!$A$4:$A$423)+1>E391,VLOOKUP(E391,'3-3 위험성평가'!$A$5:$P$423,4,0),\"\")","v":""},{"$f":"IF(MAX('3-3 위험성평가'!$A$4:$A$423)+1>E391,VLOOKUP(E391,'3-3 위험성평가'!$A$5:$P$423,5,0),\"\")","v":""},{"$f":"IF(MAX('3-3 위험성평가'!$A$4:$A$423)+1>E391,VLOOKUP(E391,'3-3 위험성평가'!$A$5:$P$423,6,0),\"\")","v":""},{"$f":"IF(MAX('3-3 위험성평가'!$A$4:$A$423)+1>E391,VLOOKUP(E391,'3-3 위험성평가'!$A$5:$P$423,9,0),\"\")","v":""},{"$f":"IF(MAX('3-3 위험성평가'!$A$4:$A$423)+1>E391,VLOOKUP(E391,'3-3 위험성평가'!$A$5:$P$423,12,0),\"\")&IF(L391>\"\",\".\"&E391,\"\")","v":""},{"$f":"IF(MAX('3-3 위험성평가'!$A$4:$A$423)+1>E391,VLOOKUP(E391,'3-3 위험성평가'!$A$5:$P$423,13,0),\"\")","v":""},null,"하",null,null,null,null,null,null,null,"선택안함",0,{"$f":"IF(MAX('3-3 위험성평가'!$A$4:$A$423)+1>E391,VLOOKUP(E391,'3-3 위험성평가'!$A$5:$Q$423,17,0),\"\")","v":""},"선택",{"$f":"표지!$D$33","v":0},{"$f":"표지!$E$34","v":0},"선택안함",0]
["T20",2,"S40",4,384,{"$f":"IF(MAX('3-3 위험성평가'!$A$4:$A$423)+1>E392,VLOOKUP(E392,'3-3 위험성평가'!$A$5:$P$423,2,0),\"\")","v":""},{"$f":"IF(F392=\"\",\"\",VLOOKUP(VALUE(F392),'1-1 사업장 공정 정보'!$D$15:$P$41,5,0))","v":""},{"$f":"IF(MAX('3-3 위험성평가'!$A$4:$A$423)+1>E392,VLOOKUP(E392,'3-3 위험성평가'!$A$5:$P$423,3,0),\"\")","v":""},{"$f":"IF(MAX('3-3 위험성평가'!$A$4:$A$423)+1>E392,VLOOKUP(E392,'3-3 위험성평가'!$A$5:$P$423,4,0),\"\")","v":""},{"$f":"IF(MAX('3-3 위험성평가'!$A$4:$A$423)+1>E392,VLOOKUP(E392,'3-3 위험성평가'!$A$5:$P$423,5,0),\"\")","v":""},{"$f":"IF(MAX('3-3 위험성평가'!$A$4:$A$423)+1>E392,VLOOKUP(E392,'3-3 위험성평가'!$A$5:$P$423,6,0),\"\")","v":""},{"$f":"IF(MAX('3-3 위험성평가'!$A$4:$A$423)+1>E392,VLOOKUP(E392,'3-3 위험성평가'!$A$5:$P$423,9,0),\"\")","v":""},{"$f":"IF(MAX('3-3 위험성평가'!$A$4:$A$423)+1>E392,VLOOKUP(E392,'3-3 위험성평가'!$A$5:$P$423,12,0),\"\")&IF(L392>\"\",\".\"&E392,\"\")","v":""},{"$f":"IF(MAX('3-3 위험성평가'!$A$4:$A$423)+1>E392,VLOOKUP(E392,'3-3 위험성평가'!$A$5:$P$423,13,0),\"\")","v":""},null,"하",null,null,null,null,null,null,null,"선택안함",0,{"$f":"IF(MAX('3-3 위험성평가'!$A$4:$A$423)+1>E392,VLOOKUP(E392,'3-3 위험성평가'!$A$5:$Q$423,17,0),\"\")","v":""},"선택",{"$f":"표지!$D$33","v":0},{"$f":"표지!$E$34","v":0},"선택안함",0]
[{"$f":"\"T\"&B393&IF(OR(X393=\"선택\",X393=1),1,0)","v":"T20"},2,"S40",4,385,{"$f":"IF(MAX('3-3 위험성평가'!$A$4:$A$423)+1>E393,VLOOKUP(E393,'3-3 위험성평가'!$A$5:$P$423,2,0),\"\")","v":""},{"$f":"IF(F393=\"\",\"\",VLOOKUP(VALUE(F393),'1-1 사업장 공정 정보'!$D$15:$P$41,5,0))","v":""},{"$f":"IF(MAX('3-3 위험성평가'!$A$4:$A$423)+1>E393,VLOOKUP(E393,'3-3 위험성평가'!$A$5:$P$423,3,0),\"\")","v":""},{"$f":"IF(MAX('3-3 위험성평가'!$A$4:$A$423)+1>E393,VLOOKUP(E393,'3-3 위험성평가'!$A$5:$P$423,4,0),\"\")","v":""},{"$f":"IF(MAX('3-3 위험성평가'!$A$4:$A$423)+1>E393,VLOOKUP(E393,'3-3 위험성평가'!$A$5:$P$423,5,0),\"\")","v":""},{"$f":"IF(MAX('3-3 위험성평가'!$A$4:$A$423)+1>E393,VLOOKUP(E393,'3-3 위험성평가'!$A$5:$P$423,6,0),\"\")","v":""},{"$f":"IF(MAX('3-3 위험성평가'!$A$4:$A$423)+1>E393,VLOOKUP(E393,'3-3 위험성평가'!$A$5:$P$423,9,0),\"\")","v":""},{"$f":"IF(MAX('3-3 위험성평가'!$A$4:$A$423)+1>E393,VLOOKUP(E393,'3-3 위험성평가'!$A$5:$P$423,12,0),\"\")&IF(L393>\"\",\".\"&E393,\"\")","v":""},{"$f":"IF(MAX('3-3 위험성평가'!$A$4:$A$423)+1>E393,VLOOKUP(E393,'3-3 위험성평가'!$A$5:$P$423,13,0),\"\")","v":""},null,"하",null,null,null,null,null,null,null,"선택안함",0,{"$f":"IF(MAX('3-3 위험성평가'!$A$4:$A$423)+1>E393,VLOOKUP(E393,'3-3 위험성평가'!$A$5:$Q$423,17,0),\"\")","v":""},"선택",{"$f":"표지!$D$33","v":0},{"$f":"표지!$E$34","v":0},"선택안함",0]
["T20",2,{"$f":"\"S\"&D394&IF(OR(AD394=\"선택\",AD394=1),1,0)","v":"S40"},4,386,{"$f":"IF(MAX('3-3 위험성평가'!$A$4:$A$423)+1>E394,VLOOKUP(E394,'3-3 위험성평가'!$A$5:$P$423,2,0),\"\")","v":""},{"$f":"IF(F394=\"\",\"\",VLOOKUP(VALUE(F394),'1-1 사업장 공정 정보'!$D$15:$P$41,5,0))","v":""},{"$f":"IF(MAX('3-3 위험성평가'!$A$4:$A$423)+1>E394,VLOOKUP(E394,'3-3 위험성평가'!$A$5:$P$423,3,0),\"\")","v":""},{"$f":"IF(MAX('3-3 위험성평가'!$A$4:$A$423)+1>E394,VLOOKUP(E394,'3-3 위험성평가'!$A$5:$P$423,4,0),\"\")","v":""},{"$f":"IF(MAX('3-3 위험성평가'!$A$4:$A$423)+1>E394,VLOOKUP(E394,'3-3 위험성평가'!$A$5:$P$423,5,0),\"\")","v":""},{"$f":"IF(MAX('3-3 위험성평가'!$A$4:$A$423)+1>E394,VLOOKUP(E394,'3-3 위험성평가'!$A$5:$P$423,6,0),\"\")","v":""},{"$f":"IF(MAX('3-3 위험성평가'!$A$4:$A$423)+1>E394,VLOOKUP(E394,'3-3 위험성평가'!$A$5:$P$423,9,0),\"\")","v":""},{"$f":"IF(MAX('3-3 위험성평가'!$A$4:$A$423)+1>E394,VLOOKUP(E394,'3-3 위험성평가'!$A$5:$P$423,12,0),\"\")&IF(L394>\"\",\".\"&E394,\"\")","v":""},{"$f":"IF(MAX('3-3 위험성평가'!$A$4:$A$423)+1>E394,VLOOKUP(E394,'3-3 위험성평가'!$A$5:$P$423,13,0),\"\")","v":""},null,"하",null,null,null,null,null,null,null,"선택안함",{"$f":"IF(OR(X394=\"선택\",X394=1),1,0)","v":0},{"$f":"IF(MAX('3-3 위험성평가'!$A$4:$A$423)+1>E394,VLOOKUP(E394,'3-3 위험성평가'!$A$5:$Q$423,17,0),\"\")","v":""},"선택",{"$f":"표지!$D$33","v":0},{"$f":"표지!$E$34","v":0},"선택안함",{"$f":"IF(OR(AD394=\"선택\",AD394=1),1,0)","v":0}]
["T20",2,"S40",4,387,{"$f":"IF(MAX('3-3 위험성평가'!$A$4:$A$423)+1>E395,VLOOKUP(E395,'3-3 위험성평가'!$A$5:$P$423,2,0),\"\")","v":""},{"$f":"IF(F395=\"\",\"\",VLOOKUP(VALUE(F395),'1-1 사업장 공정 정보'!$D$15:$P$41,5,0))","v":""},{"$f":"IF(MAX('3-3 위험성평가'!$A$4:$A$423)+1>E395,VLOOKUP(E395,'3-3 위험성평가'!$A$5:$P$423,3,0),\"\")","v":""},{"$f":"IF(MAX('3-3 위험성평가'!$A$4:$A$423)+1>E395,VLOOKUP(E395,'3-3 위험성평가'!$A$5:$P$423,4,0),\"\")","v":""},{"$f":"IF(MAX('3-3 위험성평가'!$A$4:$A$423)+1>E395,VLOOKUP(E395,'3-3 위험성평가'!$A$5:$P$423,5,0),\"\")","v":""},{"$f":"IF(MAX('3-3 위험성평가'!$A$4:$A$423)+1>E395,VLOOKUP(E395,'3-3 위험성평가'!$A$5:$P$423,6,0),\"\")","v":""},{"$f":"IF(MAX('3-3 위험성평가'!$A$4:$A$423)+1>E395,VLOOKUP(E395,'3-3 위험성평가'!$A$5:$P$423,9,0),\"\")","v":""},{"$f":"IF(MAX('3-3 위험성평가'!$A$4:$A$423)+1>E395,VLOOKUP(E395,'3-3 위험성평가'!$A$5:$P$423,12,0),\"\")&IF(L395>\"\",\".\"&E395,\"\")","v":""},{"$f":"IF(MAX('3-3 위험성평가'!$A$4:$A$423)+1>E395,VLOOKUP(E395,'3-3 위험성평가'!$A$5:$P$423,13,0),\"\")","v":""},null,"하",null,null,null,null,null,null,null,"선택안함",0,{"$f":"IF(MAX('3-3 위험성평가'!$A$4:$A$423)+1>E395,VLOOKUP(E395,'3-3 위험성평가'!$A$5:$Q$423,17,0),\"\")","v":""},"선택",{"$f":"표지!$D$33","v":0},{"$f":"표지!$E$34","v":0},"선택안함",0]
["T20",2,"S40",{"$f":"D395+AE396","v":4},388,{"$f":"IF(MAX('3-3 위험성평가'!$A$4:$A$423)+1>E396,VLOOKUP(E396,'3-3 위험성평가'!$A$5:$P$423,2,0),\"\")","v":""},{"$f":"IF(F396=\"\",\"\",VLOOKUP(VALUE(F396),'1-1 사업장 공정 정보'!$D$15:$P$41,5,0))","v":""},{"$f":"IF(MAX('3-3 위험성평가'!$A$4:$A$423)+1>E396,VLOOKUP(E396,'3-3 위험성평가'!$A$5:$P$423,3,0),\"\")","v":""},{"$f":"IF(MAX('3-3 위험성평가'!$A$4:$A$423)+1>E396,VLOOKUP(E396,'3-3 위험성평가'!$A$5:$P$423,4,0),\"\")","v":""},{"$f":"IF(MAX('3-3 위험성평가'!$A$4:$A$423)+1>E396,VLOOKUP(E396,'3-3 위험성평가'!$A$5:$P$423,5,0),\"\")","v":""},{"$f":"IF(MAX('3-3 위험성평가'!$A$4:$A$423)+1>E396,VLOOKUP(E396,'3-3 위험성평가'!$A$5:$P$423,6,0),\"\")","v":""},{"$f":"IF(MAX('3-3 위험성평가'!$A$4:$A$423)+1>E396,VLOOKUP(E396,'3-3 위험성평가'!$A$5:$P$423,9,0),\"\")","v":""},{"$f":"IF(MAX('3-3 위험성평가'!$A$4:$A$423)+1>E396,VLOOKUP(E396,'3-3 위험성평가'!$A$5:$P$423,12,0),\"\")&IF(L396>\"\",\".\"&E396,\"\")","v":""},{"$f":"IF(MAX('3-3 위험성평가'!$A$4:$A$423)+1>E396,VLOOKUP(E396,'3-3 위험성평가'!$A$5:$P$423,13,0),\"\")","v":""},null,"하",null,null,null,null,null,null,null,"선택안함",0,{"$f":"IF(MAX('3-3 위험성평가'!$A$4:$A$423)+1>E396,VLOOKUP(E396,'3-3 위험성평가'!$A$5:$Q$423,17,0),\"\")","v":""},"선택",{"$f":"표지!$D$33","v":0},{"$f":"표지!$E$34","v":0},"선택안함",0]
["T20",2,"S40",4,389,{"$f":"IF(MAX('3-3 위험성평가'!$A$4:$A$423)+1>E397,VLOOKUP(E397,'3-3 위험성평가'!$A$5:$P$423,2,0),\"\")","v":""},{"$f":"IF(F397=\"\",\"\",VLOOKUP(VALUE(F397),'1-1 사업장 공정 정보'!$D$15:$P$41,5,0))","v":""},{"$f":"IF(MAX('3-3 위험성평가'!$A$4:$A$423)+1>E397,VLOOKUP(E397,'3-3 위험성평가'!$A$5:$P$423,3,0),\"\")","v":""},{"$f":"IF(MAX('3-3 위험성평가'!$A$4:$A$423)+1>E397,VLOOKUP(E397,'3-3 위험성평가'!$A$5:$P$423,4,0),\"\")","v":""},{"$f":"IF(MAX('3-3 위험성평가'!$A$4:$A$423)+1>E397,VLOOKUP(E397,'3-3 위험성평가'!$A$5:$P$423,5,0),\"\")","v":""},{"$f":"IF(MAX('3-3 위험성평가'!$A$4:$A$423)+1>E397,VLOOKUP(E397,'3-3 위험성평가'!$A$5:$P$423,6,0),\"\")","v":""},{"$f":"IF(MAX('3-3 위험성평가'!$A$4:$A$423)+1>E397,VLOOKUP(E397,'3-3 위험성평가'!$A$5:$P$423,9,0),\"\")","v":""},{"$f":"IF(MAX('3-3 위험성평가'!$A$4:$A$423)+1>E397,VLOOKUP(E397,'3-3 위험성평가'!$A$5:$P$423,12,0),\"\")&IF(L397>\"\",\".\"&E397,\"\")","v":""},{"$f":"IF(MAX('3-3 위험성평가'!$A$4:$A$423)+1>E397,VLOOKUP(E397,'3-3 위험성평가'!$A$5:$P$423,13,0),\"\")","v":""},null,"하",null,null,null,null,null,null,null,"선택안함",0,{"$f":"IF(MAX('3-3 위험성평가'!$A$4:$A$423)+1>E397,VLOOKUP(E397,'3-3 위험성평가'!$A$5:$Q$423,17,0),\"\")","v":""},"선택",{"$f":"표지!$D$33","v":0},{"$f":"표지!$E$34","v":0},"선택안함",0]
["T20",2,"S40",4,390,{"$f":"IF(MAX('3-3 위험성평가'!$A$4:$A$423)+1>E398,VLOOKUP(E398,'3-3 위험성평가'!$A$5:$P$423,2,0),\"\")","v":""},{"$f":"IF(F398=\"\",\"\",VLOOKUP(VALUE(F398),'1-1 사업장 공정 정보'!$D$15:$P$41,5,0))","v":""},{"$f":"IF(MAX('3-3 위험성평가'!$A$4:$A$423)+1>E398,VLOOKUP(E398,'3-3 위험성평가'!$A$5:$P$423,3,0),\"\")","v":""},{"$f":"IF(MAX('3-3 위험성평가'!$A$4:$A$423)+1>E398,VLOOKUP(E398,'3-3 위험성평가'!$A$5:$P$423,4,0),\"\")","v":""},{"$f":"IF(MAX('3-3 위험성평가'!$A$4:$A$423)+1>E398,VLOOKUP(E398,'3-3 위험성평가'!$A$5:$P$423,5,0),\"\")","v":""},{"$f":"IF(MAX('3-3 위험성평가'!$A$4:$A$423)+1>E398,VLOOKUP(E398,'3-3 위험성평가'!$A$5:$P$423,6,0),\"\")","v":""},{"$f":"IF(MAX('3-3 위험성평가'!$A$4:$A$423)+1>E398,VLOOKUP(E398,'3-3 위험성평가'!$A$5:$P$423,9,0),\"\")","v":""},{"$f":"IF(MAX('3-3 위험성평가'!$A$4:$A$423)+1>E398,VLOOKUP(E398,'3-3 위험성평가'!$A$5:$P$423,12,0),\"\")&IF(L398>\"\",\".\"&E398,\"\")","v":""},{"$f":"IF(MAX('3-3 위험성평가'!$A$4:$A$423)+1>E398,VLOOKUP(E398,'3-3 위험성평가'!$A$5:$P$423,13,0),\"\")","v":""},null,"하",null,null,null,null,null,null,null,"선택안함",0,{"$f":"IF(MAX('3-3 위험성평가'!$A$4:$A$423)+1>E398,VLOOKUP(E398,'3-3 위험성평가'!$A$5:$Q$423,17,0),\"\")","v":""},"선택",{"$f":"표지!$D$33","v":0},{"$f":"표지!$E$34","v":0},"선택안함",0]
["T20",2,"S40",4,391,{"$f":"IF(MAX('3-3 위험성평가'!$A$4:$A$423)+1>E399,VLOOKUP(E399,'3-3 위험성평가'!$A$5:$P$423,2,0),\"\")","v":""},{"$f":"IF(F399=\"\",\"\",VLOOKUP(VALUE(F399),'1-1 사업장 공정 정보'!$D$15:$P$41,5,0))","v":""},{"$f":"IF(MAX('3-3 위험성평가'!$A$4:$A$423)+1>E399,VLOOKUP(E399,'3-3 위험성평가'!$A$5:$P$423,3,0),\"\")","v":""},{"$f":"IF(MAX('3-3 위험성평가'!$A$4:$A$423)+1>E399,VLOOKUP(E399,'3-3 위험성평가'!$A$5:$P$423,4,0),\"\")","v":""},{"$f":"IF(MAX('3-3 위험성평가'!$A$4:$A$423)+1>E399,VLOOKUP(E399,'3-3 위험성평가'!$A$5:$P$423,5,0),\"\")","v":""},{"$f":"IF(MAX('3-3 위험성평가'!$A$4:$A$423)+1>E399,VLOOKUP(E399,'3-3 위험성평가'!$A$5:$P$423,6,0),\"\")","v":""},{"$f":"IF(MAX('3-3 위험성평가'!$A$4:$A$423)+1>E399,VLOOKUP(E399,'3-3 위험성평가'!$A$5:$P$423,9,0),\"\")","v":""},{"$f":"IF(MAX('3-3 위험성평가'!$A$4:$A$423)+1>E399,VLOOKUP(E399,'3-3 위험성평가'!$A$5:$P$423,12,0),\"\")&IF(L399>\"\",\".\"&E399,\"\")","v":""},{"$f":"IF(MAX('3-3 위험성평가'!$A$4:$A$423)+1>E399,VLOOKUP(E399,'3-3 위험성평가'!$A$5:$P$423,13,0),\"\")","v":""},null,"하",null,null,null,null,null,null,null,"선택안함",0,{"$f":"IF(MAX('3-3 위험성평가'!$A$4:$A$423)+1>E399,VLOOKUP(E399,'3-3 위험성평가'!$A$5:$Q$423,17,0),\"\")","v":""},"선택",{"$f":"표지!$D$33","v":0},{"$f":"표지!$E$34","v":0},"선택안함",0]
["T20",2,"S40",4,392,{"$f":"IF(MAX('3-3 위험성평가'!$A$4:$A$423)+1>E400,VLOOKUP(E400,'3-3 위험성평가'!$A$5:$P$423,2,0),\"\")","v":""},{"$f":"IF(F400=\"\",\"\",VLOOKUP(VALUE(F400),'1-1 사업장 공정 정보'!$D$15:$P$41,5,0))","v":""},{"$f":"IF(MAX('3-3 위험성평가'!$A$4:$A$423)+1>E400,VLOOKUP(E400,'3-3 위험성평가'!$A$5:$P$423,3,0),\"\")","v":""},{"$f":"IF(MAX('3-3 위험성평가'!$A$4:$A$423)+1>E400,VLOOKUP(E400,'3-3 위험성평가'!$A$5:$P$423,4,0),\"\")","v":""},{"$f":"IF(MAX('3-3 위험성평가'!$A$4:$A$423)+1>E400,VLOOKUP(E400,'3-3 위험성평가'!$A$5:$P$423,5,0),\"\")","v":""},{"$f":"IF(MAX('3-3 위험성평가'!$A$4:$A$423)+1>E400,VLOOKUP(E400,'3-3 위험성평가'!$A$5:$P$423,6,0),\"\")","v":""},{"$f":"IF(MAX('3-3 위험성평가'!$A$4:$A$423)+1>E400,VLOOKUP(E400,'3-3 위험성평가'!$A$5:$P$423,9,0),\"\")","v":""},{"$f":"IF(MAX('3-3 위험성평가'!$A$4:$A$423)+1>E400,VLOOKUP(E400,'3-3 위험성평가'!$A$5:$P$423,12,0),\"\")&IF(L400>\"\",\".\"&E400,\"\")","v":""},{"$f":"IF(MAX('3-3 위험성평가'!$A$4:$A$423)+1>E400,VLOOKUP(E400,'3-3 위험성평가'!$A$5:$P$423,13,0),\"\")","v":""},null,"하",null,null,null,null,null,null,null,"선택안함",0,{"$f":"IF(MAX('3-3 위험성평가'!$A$4:$A$423)+1>E400,VLOOKUP(E400,'3-3 위험성평가'!$A$5:$Q$423,17,0),\"\")","v":""},"선택",{"$f":"표지!$D$33","v":0},{"$f":"표지!$E$34","v":0},"선택안함",0]
["T20",2,"S40",4,393,{"$f":"IF(MAX('3-3 위험성평가'!$A$4:$A$423)+1>E401,VLOOKUP(E401,'3-3 위험성평가'!$A$5:$P$423,2,0),\"\")","v":""},{"$f":"IF(F401=\"\",\"\",VLOOKUP(VALUE(F401),'1-1 사업장 공정 정보'!$D$15:$P$41,5,0))","v":""},{"$f":"IF(MAX('3-3 위험성평가'!$A$4:$A$423)+1>E401,VLOOKUP(E401,'3-3 위험성평가'!$A$5:$P$423,3,0),\"\")","v":""},{"$f":"IF(MAX('3-3 위험성평가'!$A$4:$A$423)+1>E401,VLOOKUP(E401,'3-3 위험성평가'!$A$5:$P$423,4,0),\"\")","v":""},{"$f":"IF(MAX('3-3 위험성평가'!$A$4:$A$423)+1>E401,VLOOKUP(E401,'3-3 위험성평가'!$A$5:$P$423,5,0),\"\")","v":""},{"$f":"IF(MAX('3-3 위험성평가'!$A$4:$A$423)+1>E401,VLOOKUP(E401,'3-3 위험성평가'!$A$5:$P$423,6,0),\"\")","v":""},{"$f":"IF(MAX('3-3 위험성평가'!$A$4:$A$423)+1>E401,VLOOKUP(E401,'3-3 위험성평가'!$A$5:$P$423,9,0),\"\")","v":""},{"$f":"IF(MAX('3-3 위험성평가'!$A$4:$A$423)+1>E401,VLOOKUP(E401,'3-3 위험성평가'!$A$5:$P$423,12,0),\"\")&IF(L401>\"\",\".\"&E401,\"\")","v":""},{"$f":"IF(MAX('3-3 위험성평가'!$A$4:$A$423)+1>E401,VLOOKUP(E401,'3-3 위험성평가'!$A$5:$P$423,13,0),\"\")","v":""},null,"하",null,null,null,null,null,null,null,"선택안함",0,{"$f":"IF(MAX('3-3 위험성평가'!$A$4:$A$423)+1>E401,VLOOKUP(E401,'3-3 위험성평가'!$A$5:$Q$423,17,0),\"\")","v":""},"선택",{"$f":"표지!$D$33","v":0},{"$f":"표지!$E$34","v":0},"선택안함",0]
["T20",2,"S40",4,394,{"$f":"IF(MAX('3-3 위험성평가'!$A$4:$A$423)+1>E402,VLOOKUP(E402,'3-3 위험성평가'!$A$5:$P$423,2,0),\"\")","v":""},{"$f":"IF(F402=\"\",\"\",VLOOKUP(VALUE(F402),'1-1 사업장 공정 정보'!$D$15:$P$41,5,0))","v":""},{"$f":"IF(MAX('3-3 위험성평가'!$A$4:$A$423)+1>E402,VLOOKUP(E402,'3-3 위험성평가'!$A$5:$P$423,3,0),\"\")","v":""},{"$f":"IF(MAX('3-3 위험성평가'!$A$4:$A$423)+1>E402,VLOOKUP(E402,'3-3 위험성평가'!$A$5:$P$423,4,0),\"\")","v":""},{"$f":"IF(MAX('3-3 위험성평가'!$A$4:$A$423)+1>E402,VLOOKUP(E402,'3-3 위험성평가'!$A$5:$P$423,5,0),\"\")","v":""},{"$f":"IF(MAX('3-3 위험성평가'!$A$4:$A$423)+1>E402,VLOOKUP(E402,'3-3 위험성평가'!$A$5:$P$423,6,0),\"\")","v":""},{"$f":"IF(MAX('3-3 위험성평가'!$A$4:$A$423)+1>E402,VLOOKUP(E402,'3-3 위험성평가'!$A$5:$P$423,9,0),\"\")","v":""},{"$f":"IF(MAX('3-3 위험성평가'!$A$4:$A$423)+1>E402,VLOOKUP(E402,'3-3 위험성평가'!$A$5:$P$423,12,0),\"\")&IF(L402>\"\",\".\"&E402,\"\")","v":""},{"$f":"IF(MAX('3-3 위험성평가'!$A$4:$A$423)+1>E402,VLOOKUP(E402,'3-3 위험성평가'!$A$5:$P$423,13,0),\"\")","v":""},null,"하",null,null,null,null,null,null,null,"선택안함",0,{"$f":"IF(MAX('3-3 위험성평가'!$A$4:$A$423)+1>E402,VLOOKUP(E402,'3-3 위험성평가'!$A$5:$Q$423,17,0),\"\")","v":""},"선택",{"$f":"표지!$D$33","v":0},{"$f":"표지!$E$34","v":0},"선택안함",0]
["T20",2,"S40",4,395,{"$f":"IF(MAX('3-3 위험성평가'!$A$4:$A$423)+1>E403,VLOOKUP(E403,'3-3 위험성평가'!$A$5:$P$423,2,0),\"\")","v":""},{"$f":"IF(F403=\"\",\"\",VLOOKUP(VALUE(F403),'1-1 사업장 공정 정보'!$D$15:$P$41,5,0))","v":""},{"$f":"IF(MAX('3-3 위험성평가'!$A$4:$A$423)+1>E403,VLOOKUP(E403,'3-3 위험성평가'!$A$5:$P$423,3,0),\"\")","v":""},{"$f":"IF(MAX('3-3 위험성평가'!$A$4:$A$423)+1>E403,VLOOKUP(E403,'3-3 위험성평가'!$A$5:$P$423,4,0),\"\")","v":""},{"$f":"IF(MAX('3-3 위험성평가'!$A$4:$A$423)+1>E403,VLOOKUP(E403,'3-3 위험성평가'!$A$5:$P$423,5,0),\"\")","v":""},{"$f":"IF(MAX('3-3 위험성평가'!$A$4:$A$423)+1>E403,VLOOKUP(E403,'3-3 위험성평가'!$A$5:$P$423,6,0),\"\")","v":""},{"$f":"IF(MAX('3-3 위험성평가'!$A$4:$A$423)+1>E403,VLOOKUP(E403,'3-3 위험성평가'!$A$5:$P$423,9,0),\"\")","v":""},{"$f":"IF(MAX('3-3 위험성평가'!$A$4:$A$423)+1>E403,VLOOKUP(E403,'3-3 위험성평가'!$A$5:$P$423,12,0),\"\")&IF(L403>\"\",\".\"&E403,\"\")","v":""},{"$f":"IF(MAX('3-3 위험성평가'!$A$4:$A$423)+1>E403,VLOOKUP(E403,'3-3 위험성평가'!$A$5:$P$423,13,0),\"\")","v":""},null,"하",null,null,null,null,null,null,null,"선택안함",0,{"$f":"IF(MAX('3-3 위험성평가'!$A$4:$A$423)+1>E403,VLOOKUP(E403,'3-3 위험성평가'!$A$5:$Q$423,17,0),\"\")","v":""},"선택",{"$f":"표지!$D$33","v":0},{"$f":"표지!$E$34","v":0},"선택안함",0]
["T20",2,"S40",4,396,{"$f":"IF(MAX('3-3 위험성평가'!$A$4:$A$423)+1>E404,VLOOKUP(E404,'3-3 위험성평가'!$A$5:$P$423,2,0),\"\")","v":""},{"$f":"IF(F404=\"\",\"\",VLOOKUP(VALUE(F404),'1-1 사업장 공정 정보'!$D$15:$P$41,5,0))","v":""},{"$f":"IF(MAX('3-3 위험성평가'!$A$4:$A$423)+1>E404,VLOOKUP(E404,'3-3 위험성평가'!$A$5:$P$423,3,0),\"\")","v":""},{"$f":"IF(MAX('3-3 위험성평가'!$A$4:$A$423)+1>E404,VLOOKUP(E404,'3-3 위험성평가'!$A$5:$P$423,4,0),\"\")","v":""},{"$f":"IF(MAX('3-3 위험성평가'!$A$4:$A$423)+1>E404,VLOOKUP(E404,'3-3 위험성평가'!$A$5:$P$423,5,0),\"\")","v":""},{"$f":"IF(MAX('3-3 위험성평가'!$A$4:$A$423)+1>E404,VLOOKUP(E404,'3-3 위험성평가'!$A$5:$P$423,6,0),\"\")","v":""},{"$f":"IF(MAX('3-3 위험성평가'!$A$4:$A$423)+1>E404,VLOOKUP(E404,'3-3 위험성평가'!$A$5:$P$423,9,0),\"\")","v":""},{"$f":"IF(MAX('3-3 위험성평가'!$A$4:$A$423)+1>E404,VLOOKUP(E404,'3-3 위험성평가'!$A$5:$P$423,12,0),\"\")&IF(L404>\"\",\".\"&E404,\"\")","v":""},{"$f":"IF(MAX('3-3 위험성평가'!$A$4:$A$423)+1>E404,VLOOKUP(E404,'3-3 위험성평가'!$A$5:$P$423,13,0),\"\")","v":""},null,"하",null,null,null,null,null,null,null,"선택안함",0,{"$f":"IF(MAX('3-3 위험성평가'!$A$4:$A$423)+1>E404,VLOOKUP(E404,'3-3 위험성평가'!$A$5:$Q$423,17,0),\"\")","v":""},"선택",{"$f":"표지!$D$33","v":0},{"$f":"표지!$E$34","v":0},"선택안함",0]
["T20",2,"S40",4,397,{"$f":"IF(MAX('3-3 위험성평가'!$A$4:$A$423)+1>E405,VLOOKUP(E405,'3-3 위험성평가'!$A$5:$P$423,2,0),\"\")","v":""},{"$f":"IF(F405=\"\",\"\",VLOOKUP(VALUE(F405),'1-1 사업장 공정 정보'!$D$15:$P$41,5,0))","v":""},{"$f":"IF(MAX('3-3 위험성평가'!$A$4:$A$423)+1>E405,VLOOKUP(E405,'3-3 위험성평가'!$A$5:$P$423,3,0),\"\")","v":""},{"$f":"IF(MAX('3-3 위험성평가'!$A$4:$A$423)+1>E405,VLOOKUP(E405,'3-3 위험성평가'!$A$5:$P$423,4,0),\"\")","v":""},{"$f":"IF(MAX('3-3 위험성평가'!$A$4:$A$423)+1>E405,VLOOKUP(E405,'3-3 위험성평가'!$A$5:$P$423,5,0),\"\")","v":""},{"$f":"IF(MAX('3-3 위험성평가'!$A$4:$A$423)+1>E405,VLOOKUP(E405,'3-3 위험성평가'!$A$5:$P$423,6,0),\"\")","v":""},{"$f":"IF(MAX('3-3 위험성평가'!$A$4:$A$423)+1>E405,VLOOKUP(E405,'3-3 위험성평가'!$A$5:$P$423,9,0),\"\")","v":""},{"$f":"IF(MAX('3-3 위험성평가'!$A$4:$A$423)+1>E405,VLOOKUP(E405,'3-3 위험성평가'!$A$5:$P$423,12,0),\"\")&IF(L405>\"\",\".\"&E405,\"\")","v":""},{"$f":"IF(MAX('3-3 위험성평가'!$A$4:$A$423)+1>E405,VLOOKUP(E405,'3-3 위험성평가'!$A$5:$P$423,13,0),\"\")","v":""},null,"하",null,null,null,null,null,null,null,"선택안함",0,{"$f":"IF(MAX('3-3 위험성평가'!$A$4:$A$423)+1>E405,VLOOKUP(E405,'3-3 위험성평가'!$A$5:$Q$423,17,0),\"\")","v":""},"선택",{"$f":"표지!$D$33","v":0},{"$f":"표지!$E$34","v":0},"선택안함",0]
["T20",2,"S40",4,398,{"$f":"IF(MAX('3-3 위험성평가'!$A$4:$A$423)+1>E406,VLOOKUP(E406,'3-3 위험성평가'!$A$5:$P$423,2,0),\"\")","v":""},{"$f":"IF(F406=\"\",\"\",VLOOKUP(VALUE(F406),'1-1 사업장 공정 정보'!$D$15:$P$41,5,0))","v":""},{"$f":"IF(MAX('3-3 위험성평가'!$A$4:$A$423)+1>E406,VLOOKUP(E406,'3-3 위험성평가'!$A$5:$P$423,3,0),\"\")","v":""},{"$f":"IF(MAX('3-3 위험성평가'!$A$4:$A$423)+1>E406,VLOOKUP(E406,'3-3 위험성평가'!$A$5:$P$423,4,0),\"\")","v":""},{"$f":"IF(MAX('3-3 위험성평가'!$A$4:$A$423)+1>E406,VLOOKUP(E406,'3-3 위험성평가'!$A$5:$P$423,5,0),\"\")","v":""},{"$f":"IF(MAX('3-3 위험성평가'!$A$4:$A$423)+1>E406,VLOOKUP(E406,'3-3 위험성평가'!$A$5:$P$423,6,0),\"\")","v":""},{"$f":"IF(MAX('3-3 위험성평가'!$A$4:$A$423)+1>E406,VLOOKUP(E406,'3-3 위험성평가'!$A$5:$P$423,9,0),\"\")","v":""},{"$f":"IF(MAX('3-3 위험성평가'!$A$4:$A$423)+1>E406,VLOOKUP(E406,'3-3 위험성평가'!$A$5:$P$423,12,0),\"\")&IF(L406>\"\",\".\"&E406,\"\")","v":""},{"$f":"IF(MAX('3-3 위험성평가'!$A$4:$A$423)+1>E406,VLOOKUP(E406,'3-3 위험성평가'!$A$5:$P$423,13,0),\"\")","v":""},null,"하",null,null,null,null,null,null,null,"선택안함",0,{"$f":"IF(MAX('3-3 위험성평가'!$A$4:$A$423)+1>E406,VLOOKUP(E406,'3-3 위험성평가'!$A$5:$Q$423,17,0),\"\")","v":""},"선택",{"$f":"표지!$D$33","v":0},{"$f":"표지!$E$34","v":0},"선택안함",0]
["T20",2,"S40",4,399,{"$f":"IF(MAX('3-3 위험성평가'!$A$4:$A$423)+1>E407,VLOOKUP(E407,'3-3 위험성평가'!$A$5:$P$423,2,0),\"\")","v":""},{"$f":"IF(F407=\"\",\"\",VLOOKUP(VALUE(F407),'1-1 사업장 공정 정보'!$D$15:$P$41,5,0))","v":""},{"$f":"IF(MAX('3-3 위험성평가'!$A$4:$A$423)+1>E407,VLOOKUP(E407,'3-3 위험성평가'!$A$5:$P$423,3,0),\"\")","v":""},{"$f":"IF(MAX('3-3 위험성평가'!$A$4:$A$423)+1>E407,VLOOKUP(E407,'3-3 위험성평가'!$A$5:$P$423,4,0),\"\")","v":""},{"$f":"IF(MAX('3-3 위험성평가'!$A$4:$A$423)+1>E407,VLOOKUP(E407,'3-3 위험성평가'!$A$5:$P$423,5,0),\"\")","v":""},{"$f":"IF(MAX('3-3 위험성평가'!$A$4:$A$423)+1>E407,VLOOKUP(E407,'3-3 위험성평가'!$A$5:$P$423,6,0),\"\")","v":""},{"$f":"IF(MAX('3-3 위험성평가'!$A$4:$A$423)+1>E407,VLOOKUP(E407,'3-3 위험성평가'!$A$5:$P$423,9,0),\"\")","v":""},{"$f":"IF(MAX('3-3 위험성평가'!$A$4:$A$423)+1>E407,VLOOKUP(E407,'3-3 위험성평가'!$A$5:$P$423,12,0),\"\")&IF(L407>\"\",\".\"&E407,\"\")","v":""},{"$f":"IF(MAX('3-3 위험성평가'!$A$4:$A$423)+1>E407,VLOOKUP(E407,'3-3 위험성평가'!$A$5:$P$423,13,0),\"\")","v":""},null,"하",null,null,null,null,null,null,null,"선택안함",0,{"$f":"IF(MAX('3-3 위험성평가'!$A$4:$A$423)+1>E407,VLOOKUP(E407,'3-3 위험성평가'!$A$5:$Q$423,17,0),\"\")","v":""},"선택",{"$f":"표지!$D$33","v":0},{"$f":"표지!$E$34","v":0},"선택안함",0]
["T20",2,"S40",4,400,{"$f":"IF(MAX('3-3 위험성평가'!$A$4:$A$423)+1>E408,VLOOKUP(E408,'3-3 위험성평가'!$A$5:$P$423,2,0),\"\")","v":""},{"$f":"IF(F408=\"\",\"\",VLOOKUP(VALUE(F408),'1-1 사업장 공정 정보'!$D$15:$P$41,5,0))","v":""},{"$f":"IF(MAX('3-3 위험성평가'!$A$4:$A$423)+1>E408,VLOOKUP(E408,'3-3 위험성평가'!$A$5:$P$423,3,0),\"\")","v":""},{"$f":"IF(MAX('3-3 위험성평가'!$A$4:$A$423)+1>E408,VLOOKUP(E408,'3-3 위험성평가'!$A$5:$P$423,4,0),\"\")","v":""},{"$f":"IF(MAX('3-3 위험성평가'!$A$4:$A$423)+1>E408,VLOOKUP(E408,'3-3 위험성평가'!$A$5:$P$423,5,0),\"\")","v":""},{"$f":"IF(MAX('3-3 위험성평가'!$A$4:$A$423)+1>E408,VLOOKUP(E408,'3-3 위험성평가'!$A$5:$P$423,6,0),\"\")","v":""},{"$f":"IF(MAX('3-3 위험성평가'!$A$4:$A$423)+1>E408,VLOOKUP(E408,'3-3 위험성평가'!$A$5:$P$423,9,0),\"\")","v":""},{"$f":"IF(MAX('3-3 위험성평가'!$A$4:$A$423)+1>E408,VLOOKUP(E408,'3-3 위험성평가'!$A$5:$P$423,12,0),\"\")&IF(L408>\"\",\".\"&E408,\"\")","v":""},{"$f":"IF(MAX('3-3 위험성평가'!$A$4:$A$423)+1>E408,VLOOKUP(E408,'3-3 위험성평가'!$A$5:$P$423,13,0),\"\")","v":""},null,"하",null,null,null,null,null,null,null,"선택안함",0,{"$f":"IF(MAX('3-3 위험성평가'!$A$4:$A$423)+1>E408,VLOOKUP(E408,'3-3 위험성평가'!$A$5:$Q$423,17,0),\"\")","v":""},"선택",{"$f":"표지!$D$33","v":0},{"$f":"표지!$E$34","v":0},"선택안함",0]
["T20",2,"S40",4,401,{"$f":"IF(MAX('3-3 위험성평가'!$A$4:$A$423)+1>E409,VLOOKUP(E409,'3-3 위험성평가'!$A$5:$P$423,2,0),\"\")","v":""},{"$f":"IF(F409=\"\",\"\",VLOOKUP(VALUE(F409),'1-1 사업장 공정 정보'!$D$15:$P$41,5,0))","v":""},{"$f":"IF(MAX('3-3 위험성평가'!$A$4:$A$423)+1>E409,VLOOKUP(E409,'3-3 위험성평가'!$A$5:$P$423,3,0),\"\")","v":""},{"$f":"IF(MAX('3-3 위험성평가'!$A$4:$A$423)+1>E409,VLOOKUP(E409,'3-3 위험성평가'!$A$5:$P$423,4,0),\"\")","v":""},{"$f":"IF(MAX('3-3 위험성평가'!$A$4:$A$423)+1>E409,VLOOKUP(E409,'3-3 위험성평가'!$A$5:$P$423,5,0),\"\")","v":""},{"$f":"IF(MAX('3-3 위험성평가'!$A$4:$A$423)+1>E409,VLOOKUP(E409,'3-3 위험성평가'!$A$5:$P$423,6,0),\"\")","v":""},{"$f":"IF(MAX('3-3 위험성평가'!$A$4:$A$423)+1>E409,VLOOKUP(E409,'3-3 위험성평가'!$A$5:$P$423,9,0),\"\")","v":""},{"$f":"IF(MAX('3-3 위험성평가'!$A$4:$A$423)+1>E409,VLOOKUP(E409,'3-3 위험성평가'!$A$5:$P$423,12,0),\"\")&IF(L409>\"\",\".\"&E409,\"\")","v":""},{"$f":"IF(MAX('3-3 위험성평가'!$A$4:$A$423)+1>E409,VLOOKUP(E409,'3-3 위험성평가'!$A$5:$P$423,13,0),\"\")","v":""},null,"하",null,null,null,null,null,null,null,"선택안함",0,{"$f":"IF(MAX('3-3 위험성평가'!$A$4:$A$423)+1>E409,VLOOKUP(E409,'3-3 위험성평가'!$A$5:$Q$423,17,0),\"\")","v":""},"선택",{"$f":"표지!$D$33","v":0},{"$f":"표지!$E$34","v":0},"선택안함",0]
["T20",{"$f":"B409+Y410","v":2},"S40",4,402,{"$f":"IF(MAX('3-3 위험성평가'!$A$4:$A$423)+1>E410,VLOOKUP(E410,'3-3 위험성평가'!$A$5:$P$423,2,0),\"\")","v":""},{"$f":"IF(F410=\"\",\"\",VLOOKUP(VALUE(F410),'1-1 사업장 공정 정보'!$D$15:$P$41,5,0))","v":""},{"$f":"IF(MAX('3-3 위험성평가'!$A$4:$A$423)+1>E410,VLOOKUP(E410,'3-3 위험성평가'!$A$5:$P$423,3,0),\"\")","v":""},{"$f":"IF(MAX('3-3 위험성평가'!$A$4:$A$423)+1>E410,VLOOKUP(E410,'3-3 위험성평가'!$A$5:$P$423,4,0),\"\")","v":""},{"$f":"IF(MAX('3-3 위험성평가'!$A$4:$A$423)+1>E410,VLOOKUP(E410,'3-3 위험성평가'!$A$5:$P$423,5,0),\"\")","v":""},{"$f":"IF(MAX('3-3 위험성평가'!$A$4:$A$423)+1>E410,VLOOKUP(E410,'3-3 위험성평가'!$A$5:$P$423,6,0),\"\")","v":""},{"$f":"IF(MAX('3-3 위험성평가'!$A$4:$A$423)+1>E410,VLOOKUP(E410,'3-3 위험성평가'!$A$5:$P$423,9,0),\"\")","v":""},{"$f":"IF(MAX('3-3 위험성평가'!$A$4:$A$423)+1>E410,VLOOKUP(E410,'3-3 위험성평가'!$A$5:$P$423,12,0),\"\")&IF(L410>\"\",\".\"&E410,\"\")","v":""},{"$f":"IF(MAX('3-3 위험성평가'!$A$4:$A$423)+1>E410,VLOOKUP(E410,'3-3 위험성평가'!$A$5:$P$423,13,0),\"\")","v":""},null,"하",null,null,null,null,null,null,null,"선택안함",0,{"$f":"IF(MAX('3-3 위험성평가'!$A$4:$A$423)+1>E410,VLOOKUP(E410,'3-3 위험성평가'!$A$5:$Q$423,17,0),\"\")","v":""},"선택",{"$f":"표지!$D$33","v":0},{"$f":"표지!$E$34","v":0},"선택안함",0]
["T20",2,"S40",4,403,{"$f":"IF(MAX('3-3 위험성평가'!$A$4:$A$423)+1>E411,VLOOKUP(E411,'3-3 위험성평가'!$A$5:$P$423,2,0),\"\")","v":""},{"$f":"IF(F411=\"\",\"\",VLOOKUP(VALUE(F411),'1-1 사업장 공정 정보'!$D$15:$P$41,5,0))","v":""},{"$f":"IF(MAX('3-3 위험성평가'!$A$4:$A$423)+1>E411,VLOOKUP(E411,'3-3 위험성평가'!$A$5:$P$423,3,0),\"\")","v":""},{"$f":"IF(MAX('3-3 위험성평가'!$A$4:$A$423)+1>E411,VLOOKUP(E411,'3-3 위험성평가'!$A$5:$P$423,4,0),\"\")","v":""},{"$f":"IF(MAX('3-3 위험성평가'!$A$4:$A$423)+1>E411,VLOOKUP(E411,'3-3 위험성평가'!$A$5:$P$423,5,0),\"\")","v":""},{"$f":"IF(MAX('3-3 위험성평가'!$A$4:$A$423)+1>E411,VLOOKUP(E411,'3-3 위험성평가'!$A$5:$P$423,6,0),\"\")","v":""},{"$f":"IF(MAX('3-3 위험성평가'!$A$4:$A$423)+1>E411,VLOOKUP(E411,'3-3 위험성평가'!$A$5:$P$423,9,0),\"\")","v":""},{"$f":"IF(MAX('3-3 위험성평가'!$A$4:$A$423)+1>E411,VLOOKUP(E411,'3-3 위험성평가'!$A$5:$P$423,12,0),\"\")&IF(L411>\"\",\".\"&E411,\"\")","v":""},{"$f":"IF(MAX('3-3 위험성평가'!$A$4:$A$423)+1>E411,VLOOKUP(E411,'3-3 위험성평가'!$A$5:$P$423,13,0),\"\")","v":""},null,"하",null,null,null,null,null,null,null,"선택안함",0,{"$f":"IF(MAX('3-3 위험성평가'!$A$4:$A$423)+1>E411,VLOOKUP(E411,'3-3 위험성평가'!$A$5:$Q$423,17,0),\"\")","v":""},"선택",{"$f":"표지!$D$33","v":0},{"$f":"표지!$E$34","v":0},"선택안함",0]
["T20",2,"S40",4,404,{"$f":"IF(MAX('3-3 위험성평가'!$A$4:$A$423)+1>E412,VLOOKUP(E412,'3-3 위험성평가'!$A$5:$P$423,2,0),\"\")","v":""},{"$f":"IF(F412=\"\",\"\",VLOOKUP(VALUE(F412),'1-1 사업장 공정 정보'!$D$15:$P$41,5,0))","v":""},{"$f":"IF(MAX('3-3 위험성평가'!$A$4:$A$423)+1>E412,VLOOKUP(E412,'3-3 위험성평가'!$A$5:$P$423,3,0),\"\")","v":""},{"$f":"IF(MAX('3-3 위험성평가'!$A$4:$A$423)+1>E412,VLOOKUP(E412,'3-3 위험성평가'!$A$5:$P$423,4,0),\"\")","v":""},{"$f":"IF(MAX('3-3 위험성평가'!$A$4:$A$423)+1>E412,VLOOKUP(E412,'3-3 위험성평가'!$A$5:$P$423,5,0),\"\")","v":""},{"$f":"IF(MAX('3-3 위험성평가'!$A$4:$A$423)+1>E412,VLOOKUP(E412,'3-3 위험성평가'!$A$5:$P$423,6,0),\"\")","v":""},{"$f":"IF(MAX('3-3 위험성평가'!$A$4:$A$423)+1>E412,VLOOKUP(E412,'3-3 위험성평가'!$A$5:$P$423,9,0),\"\")","v":""},{"$f":"IF(MAX('3-3 위험성평가'!$A$4:$A$423)+1>E412,VLOOKUP(E412,'3-3 위험성평가'!$A$5:$P$423,12,0),\"\")&IF(L412>\"\",\".\"&E412,\"\")","v":""},{"$f":"IF(MAX('3-3 위험성평가'!$A$4:$A$423)+1>E412,VLOOKUP(E412,'3-3 위험성평가'!$A$5:$P$423,13,0),\"\")","v":""},null,"하",null,null,null,null,null,null,null,"선택안함",0,{"$f":"IF(MAX('3-3 위험성평가'!$A$4:$A$423)+1>E412,VLOOKUP(E412,'3-3 위험성평가'!$A$5:$Q$423,17,0),\"\")","v":""},"선택",{"$f":"표지!$D$33","v":0},{"$f":"표지!$E$34","v":0},"선택안함",0]
["T20",2,"S40",4,405,{"$f":"IF(MAX('3-3 위험성평가'!$A$4:$A$423)+1>E413,VLOOKUP(E413,'3-3 위험성평가'!$A$5:$P$423,2,0),\"\")","v":""},{"$f":"IF(F413=\"\",\"\",VLOOKUP(VALUE(F413),'1-1 사업장 공정 정보'!$D$15:$P$41,5,0))","v":""},{"$f":"IF(MAX('3-3 위험성평가'!$A$4:$A$423)+1>E413,VLOOKUP(E413,'3-3 위험성평가'!$A$5:$P$423,3,0),\"\")","v":""},{"$f":"IF(MAX('3-3 위험성평가'!$A$4:$A$423)+1>E413,VLOOKUP(E413,'3-3 위험성평가'!$A$5:$P$423,4,0),\"\")","v":""},{"$f":"IF(MAX('3-3 위험성평가'!$A$4:$A$423)+1>E413,VLOOKUP(E413,'3-3 위험성평가'!$A$5:$P$423,5,0),\"\")","v":""},{"$f":"IF(MAX('3-3 위험성평가'!$A$4:$A$423)+1>E413,VLOOKUP(E413,'3-3 위험성평가'!$A$5:$P$423,6,0),\"\")","v":""},{"$f":"IF(MAX('3-3 위험성평가'!$A$4:$A$423)+1>E413,VLOOKUP(E413,'3-3 위험성평가'!$A$5:$P$423,9,0),\"\")","v":""},{"$f":"IF(MAX('3-3 위험성평가'!$A$4:$A$423)+1>E413,VLOOKUP(E413,'3-3 위험성평가'!$A$5:$P$423,12,0),\"\")&IF(L413>\"\",\".\"&E413,\"\")","v":""},{"$f":"IF(MAX('3-3 위험성평가'!$A$4:$A$423)+1>E413,VLOOKUP(E413,'3-3 위험성평가'!$A$5:$P$423,13,0),\"\")","v":""},null,"하",null,null,null,null,null,null,null,"선택안함",0,{"$f":"IF(MAX('3-3 위험성평가'!$A$4:$A$423)+1>E413,VLOOKUP(E413,'3-3 위험성평가'!$A$5:$Q$423,17,0),\"\")","v":""},"선택",{"$f":"표지!$D$33","v":0},{"$f":"표지!$E$34","v":0},"선택안함",0]
["T20",2,"S40",4,406,{"$f":"IF(MAX('3-3 위험성평가'!$A$4:$A$423)+1>E414,VLOOKUP(E414,'3-3 위험성평가'!$A$5:$P$423,2,0),\"\")","v":""},{"$f":"IF(F414=\"\",\"\",VLOOKUP(VALUE(F414),'1-1 사업장 공정 정보'!$D$15:$P$41,5,0))","v":""},{"$f":"IF(MAX('3-3 위험성평가'!$A$4:$A$423)+1>E414,VLOOKUP(E414,'3-3 위험성평가'!$A$5:$P$423,3,0),\"\")","v":""},{"$f":"IF(MAX('3-3 위험성평가'!$A$4:$A$423)+1>E414,VLOOKUP(E414,'3-3 위험성평가'!$A$5:$P$423,4,0),\"\")","v":""},{"$f":"IF(MAX('3-3 위험성평가'!$A$4:$A$423)+1>E414,VLOOKUP(E414,'3-3 위험성평가'!$A$5:$P$423,5,0),\"\")","v":""},{"$f":"IF(MAX('3-3 위험성평가'!$A$4:$A$423)+1>E414,VLOOKUP(E414,'3-3 위험성평가'!$A$5:$P$423,6,0),\"\")","v":""},{"$f":"IF(MAX('3-3 위험성평가'!$A$4:$A$423)+1>E414,VLOOKUP(E414,'3-3 위험성평가'!$A$5:$P$423,9,0),\"\")","v":""},{"$f":"IF(MAX('3-3 위험성평가'!$A$4:$A$423)+1>E414,VLOOKUP(E414,'3-3 위험성평가'!$A$5:$P$423,12,0),\"\")&IF(L414>\"\",\".\"&E414,\"\")","v":""},{"$f":"IF(MAX('3-3 위험성평가'!$A$4:$A$423)+1>E414,VLOOKUP(E414,'3-3 위험성평가'!$A$5:$P$423,13,0),\"\")","v":""},null,"하",null,null,null,null,null,null,null,"선택안함",0,{"$f":"IF(MAX('3-3 위험성평가'!$A$4:$A$423)+1>E414,VLOOKUP(E414,'3-3 위험성평가'!$A$5:$Q$423,17,0),\"\")","v":""},"선택",{"$f":"표지!$D$33","v":0},{"$f":"표지!$E$34","v":0},"선택안함",0]
["T20",2,"S40",4,407,{"$f":"IF(MAX('3-3 위험성평가'!$A$4:$A$423)+1>E415,VLOOKUP(E415,'3-3 위험성평가'!$A$5:$P$423,2,0),\"\")","v":""},{"$f":"IF(F415=\"\",\"\",VLOOKUP(VALUE(F415),'1-1 사업장 공정 정보'!$D$15:$P$41,5,0))","v":""},{"$f":"IF(MAX('3-3 위험성평가'!$A$4:$A$423)+1>E415,VLOOKUP(E415,'3-3 위험성평가'!$A$5:$P$423,3,0),\"\")","v":""},{"$f":"IF(MAX('3-3 위험성평가'!$A$4:$A$423)+1>E415,VLOOKUP(E415,'3-3 위험성평가'!$A$5:$P$423,4,0),\"\")","v":""},{"$f":"IF(MAX('3-3 위험성평가'!$A$4:$A$423)+1>E415,VLOOKUP(E415,'3-3 위험성평가'!$A$5:$P$423,5,0),\"\")","v":""},{"$f":"IF(MAX('3-3 위험성평가'!$A$4:$A$423)+1>E415,VLOOKUP(E415,'3-3 위험성평가'!$A$5:$P$423,6,0),\"\")","v":""},{"$f":"IF(MAX('3-3 위험성평가'!$A$4:$A$423)+1>E415,VLOOKUP(E415,'3-3 위험성평가'!$A$5:$P$423,9,0),\"\")","v":""},{"$f":"IF(MAX('3-3 위험성평가'!$A$4:$A$423)+1>E415,VLOOKUP(E415,'3-3 위험성평가'!$A$5:$P$423,12,0),\"\")&IF(L415>\"\",\".\"&E415,\"\")","v":""},{"$f":"IF(MAX('3-3 위험성평가'!$A$4:$A$423)+1>E415,VLOOKUP(E415,'3-3 위험성평가'!$A$5:$P$423,13,0),\"\")","v":""},null,"하",null,null,null,null,null,null,null,"선택안함",0,{"$f":"IF(MAX('3-3 위험성평가'!$A$4:$A$423)+1>E415,VLOOKUP(E415,'3-3 위험성평가'!$A$5:$Q$423,17,0),\"\")","v":""},"선택",{"$f":"표지!$D$33","v":0},{"$f":"표지!$E$34","v":0},"선택안함",0]
["T20",2,"S40",4,408,{"$f":"IF(MAX('3-3 위험성평가'!$A$4:$A$423)+1>E416,VLOOKUP(E416,'3-3 위험성평가'!$A$5:$P$423,2,0),\"\")","v":""},{"$f":"IF(F416=\"\",\"\",VLOOKUP(VALUE(F416),'1-1 사업장 공정 정보'!$D$15:$P$41,5,0))","v":""},{"$f":"IF(MAX('3-3 위험성평가'!$A$4:$A$423)+1>E416,VLOOKUP(E416,'3-3 위험성평가'!$A$5:$P$423,3,0),\"\")","v":""},{"$f":"IF(MAX('3-3 위험성평가'!$A$4:$A$423)+1>E416,VLOOKUP(E416,'3-3 위험성평가'!$A$5:$P$423,4,0),\"\")","v":""},{"$f":"IF(MAX('3-3 위험성평가'!$A$4:$A$423)+1>E416,VLOOKUP(E416,'3-3 위험성평가'!$A$5:$P$423,5,0),\"\")","v":""},{"$f":"IF(MAX('3-3 위험성평가'!$A$4:$A$423)+1>E416,VLOOKUP(E416,'3-3 위험성평가'!$A$5:$P$423,6,0),\"\")","v":""},{"$f":"IF(MAX('3-3 위험성평가'!$A$4:$A$423)+1>E416,VLOOKUP(E416,'3-3 위험성평가'!$A$5:$P$423,9,0),\"\")","v":""},{"$f":"IF(MAX('3-3 위험성평가'!$A$4:$A$423)+1>E416,VLOOKUP(E416,'3-3 위험성평가'!$A$5:$P$423,12,0),\"\")&IF(L416>\"\",\".\"&E416,\"\")","v":""},{"$f":"IF(MAX('3-3 위험성평가'!$A$4:$A$423)+1>E416,VLOOKUP(E416,'3-3 위험성평가'!$A$5:$P$423,13,0),\"\")","v":""},null,"하",null,null,null,null,null,null,null,"선택안함",0,{"$f":"IF(MAX('3-3 위험성평가'!$A$4:$A$423)+1>E416,VLOOKUP(E416,'3-3 위험성평가'!$A$5:$Q$423,17,0),\"\")","v":""},"선택",{"$f":"표지!$D$33","v":0},{"$f":"표지!$E$34","v":0},"선택안함",0]
["T20",2,"S40",4,409,{"$f":"IF(MAX('3-3 위험성평가'!$A$4:$A$423)+1>E417,VLOOKUP(E417,'3-3 위험성평가'!$A$5:$P$423,2,0),\"\")","v":""},{"$f":"IF(F417=\"\",\"\",VLOOKUP(VALUE(F417),'1-1 사업장 공정 정보'!$D$15:$P$41,5,0))","v":""},{"$f":"IF(MAX('3-3 위험성평가'!$A$4:$A$423)+1>E417,VLOOKUP(E417,'3-3 위험성평가'!$A$5:$P$423,3,0),\"\")","v":""},{"$f":"IF(MAX('3-3 위험성평가'!$A$4:$A$423)+1>E417,VLOOKUP(E417,'3-3 위험성평가'!$A$5:$P$423,4,0),\"\")","v":""},{"$f":"IF(MAX('3-3 위험성평가'!$A$4:$A$423)+1>E417,VLOOKUP(E417,'3-3 위험성평가'!$A$5:$P$423,5,0),\"\")","v":""},{"$f":"IF(MAX('3-3 위험성평가'!$A$4:$A$423)+1>E417,VLOOKUP(E417,'3-3 위험성평가'!$A$5:$P$423,6,0),\"\")","v":""},{"$f":"IF(MAX('3-3 위험성평가'!$A$4:$A$423)+1>E417,VLOOKUP(E417,'3-3 위험성평가'!$A$5:$P$423,9,0),\"\")","v":""},{"$f":"IF(MAX('3-3 위험성평가'!$A$4:$A$423)+1>E417,VLOOKUP(E417,'3-3 위험성평가'!$A$5:$P$423,12,0),\"\")&IF(L417>\"\",\".\"&E417,\"\")","v":""},{"$f":"IF(MAX('3-3 위험성평가'!$A$4:$A$423)+1>E417,VLOOKUP(E417,'3-3 위험성평가'!$A$5:$P$423,13,0),\"\")","v":""},null,"하",null,null,null,null,null,null,null,"선택안함",0,{"$f":"IF(MAX('3-3 위험성평가'!$A$4:$A$423)+1>E417,VLOOKUP(E417,'3-3 위험성평가'!$A$5:$Q$423,17,0),\"\")","v":""},"선택",{"$f":"표지!$D$33","v":0},{"$f":"표지!$E$34","v":0},"선택안함",0]
["T20",2,"S40",4,410,{"$f":"IF(MAX('3-3 위험성평가'!$A$4:$A$423)+1>E418,VLOOKUP(E418,'3-3 위험성평가'!$A$5:$P$423,2,0),\"\")","v":""},{"$f":"IF(F418=\"\",\"\",VLOOKUP(VALUE(F418),'1-1 사업장 공정 정보'!$D$15:$P$41,5,0))","v":""},{"$f":"IF(MAX('3-3 위험성평가'!$A$4:$A$423)+1>E418,VLOOKUP(E418,'3-3 위험성평가'!$A$5:$P$423,3,0),\"\")","v":""},{"$f":"IF(MAX('3-3 위험성평가'!$A$4:$A$423)+1>E418,VLOOKUP(E418,'3-3 위험성평가'!$A$5:$P$423,4,0),\"\")","v":""},{"$f":"IF(MAX('3-3 위험성평가'!$A$4:$A$423)+1>E418,VLOOKUP(E418,'3-3 위험성평가'!$A$5:$P$423,5,0),\"\")","v":""},{"$f":"IF(MAX('3-3 위험성평가'!$A$4:$A$423)+1>E418,VLOOKUP(E418,'3-3 위험성평가'!$A$5:$P$423,6,0),\"\")","v":""},{"$f":"IF(MAX('3-3 위험성평가'!$A$4:$A$423)+1>E418,VLOOKUP(E418,'3-3 위험성평가'!$A$5:$P$423,9,0),\"\")","v":""},{"$f":"IF(MAX('3-3 위험성평가'!$A$4:$A$423)+1>E418,VLOOKUP(E418,'3-3 위험성평가'!$A$5:$P$423,12,0),\"\")&IF(L418>\"\",\".\"&E418,\"\")","v":""},{"$f":"IF(MAX('3-3 위험성평가'!$A$4:$A$423)+1>E418,VLOOKUP(E418,'3-3 위험성평가'!$A$5:$P$423,13,0),\"\")","v":""},null,"하",null,null,null,null,null,null,null,"선택안함",0,{"$f":"IF(MAX('3-3 위험성평가'!$A$4:$A$423)+1>E418,VLOOKUP(E418,'3-3 위험성평가'!$A$5:$Q$423,17,0),\"\")","v":""},"선택",{"$f":"표지!$D$33","v":0},{"$f":"표지!$E$34","v":0},"선택안함",0]
["T20",2,"S40",4,411,{"$f":"IF(MAX('3-3 위험성평가'!$A$4:$A$423)+1>E419,VLOOKUP(E419,'3-3 위험성평가'!$A$5:$P$423,2,0),\"\")","v":""},{"$f":"IF(F419=\"\",\"\",VLOOKUP(VALUE(F419),'1-1 사업장 공정 정보'!$D$15:$P$41,5,0))","v":""},{"$f":"IF(MAX('3-3 위험성평가'!$A$4:$A$423)+1>E419,VLOOKUP(E419,'3-3 위험성평가'!$A$5:$P$423,3,0),\"\")","v":""},{"$f":"IF(MAX('3-3 위험성평가'!$A$4:$A$423)+1>E419,VLOOKUP(E419,'3-3 위험성평가'!$A$5:$P$423,4,0),\"\")","v":""},{"$f":"IF(MAX('3-3 위험성평가'!$A$4:$A$423)+1>E419,VLOOKUP(E419,'3-3 위험성평가'!$A$5:$P$423,5,0),\"\")","v":""},{"$f":"IF(MAX('3-3 위험성평가'!$A$4:$A$423)+1>E419,VLOOKUP(E419,'3-3 위험성평가'!$A$5:$P$423,6,0),\"\")","v":""},{"$f":"IF(MAX('3-3 위험성평가'!$A$4:$A$423)+1>E419,VLOOKUP(E419,'3-3 위험성평가'!$A$5:$P$423,9,0),\"\")","v":""},{"$f":"IF(MAX('3-3 위험성평가'!$A$4:$A$423)+1>E419,VLOOKUP(E419,'3-3 위험성평가'!$A$5:$P$423,12,0),\"\")&IF(L419>\"\",\".\"&E419,\"\")","v":""},{"$f":"IF(MAX('3-3 위험성평가'!$A$4:$A$423)+1>E419,VLOOKUP(E419,'3-3 위험성평가'!$A$5:$P$423,13,0),\"\")","v":""},null,"하",null,null,null,null,null,null,null,"선택안함",0,{"$f":"IF(MAX('3-3 위험성평가'!$A$4:$A$423)+1>E419,VLOOKUP(E419,'3-3 위험성평가'!$A$5:$Q$423,17,0),\"\")","v":""},"선택",{"$f":"표지!$D$33","v":0},{"$f":"표지!$E$34","v":0},"선택안함",0]
["T20",2,"S40",4,412,{"$f":"IF(MAX('3-3 위험성평가'!$A$4:$A$423)+1>E420,VLOOKUP(E420,'3-3 위험성평가'!$A$5:$P$423,2,0),\"\")","v":""},{"$f":"IF(F420=\"\",\"\",VLOOKUP(VALUE(F420),'1-1 사업장 공정 정보'!$D$15:$P$41,5,0))","v":""},{"$f":"IF(MAX('3-3 위험성평가'!$A$4:$A$423)+1>E420,VLOOKUP(E420,'3-3 위험성평가'!$A$5:$P$423,3,0),\"\")","v":""},{"$f":"IF(MAX('3-3 위험성평가'!$A$4:$A$423)+1>E420,VLOOKUP(E420,'3-3 위험성평가'!$A$5:$P$423,4,0),\"\")","v":""},{"$f":"IF(MAX('3-3 위험성평가'!$A$4:$A$423)+1>E420,VLOOKUP(E420,'3-3 위험성평가'!$A$5:$P$423,5,0),\"\")","v":""},{"$f":"IF(MAX('3-3 위험성평가'!$A$4:$A$423)+1>E420,VLOOKUP(E420,'3-3 위험성평가'!$A$5:$P$423,6,0),\"\")","v":""},{"$f":"IF(MAX('3-3 위험성평가'!$A$4:$A$423)+1>E420,VLOOKUP(E420,'3-3 위험성평가'!$A$5:$P$423,9,0),\"\")","v":""},{"$f":"IF(MAX('3-3 위험성평가'!$A$4:$A$423)+1>E420,VLOOKUP(E420,'3-3 위험성평가'!$A$5:$P$423,12,0),\"\")&IF(L420>\"\",\".\"&E420,\"\")","v":""},{"$f":"IF(MAX('3-3 위험성평가'!$A$4:$A$423)+1>E420,VLOOKUP(E420,'3-3 위험성평가'!$A$5:$P$423,13,0),\"\")","v":""},null,"하",null,null,null,null,null,null,null,"선택안함",0,{"$f":"IF(MAX('3-3 위험성평가'!$A$4:$A$423)+1>E420,VLOOKUP(E420,'3-3 위험성평가'!$A$5:$Q$423,17,0),\"\")","v":""},"선택",{"$f":"표지!$D$33","v":0},{"$f":"표지!$E$34","v":0},"선택안함",0]
["T20",2,"S40",4,413,{"$f":"IF(MAX('3-3 위험성평가'!$A$4:$A$423)+1>E421,VLOOKUP(E421,'3-3 위험성평가'!$A$5:$P$423,2,0),\"\")","v":""},{"$f":"IF(F421=\"\",\"\",VLOOKUP(VALUE(F421),'1-1 사업장 공정 정보'!$D$15:$P$41,5,0))","v":""},{"$f":"IF(MAX('3-3 위험성평가'!$A$4:$A$423)+1>E421,VLOOKUP(E421,'3-3 위험성평가'!$A$5:$P$423,3,0),\"\")","v":""},{"$f":"IF(MAX('3-3 위험성평가'!$A$4:$A$423)+1>E421,VLOOKUP(E421,'3-3 위험성평가'!$A$5:$P$423,4,0),\"\")","v":""},{"$f":"IF(MAX('3-3 위험성평가'!$A$4:$A$423)+1>E421,VLOOKUP(E421,'3-3 위험성평가'!$A$5:$P$423,5,0),\"\")","v":""},{"$f":"IF(MAX('3-3 위험성평가'!$A$4:$A$423)+1>E421,VLOOKUP(E421,'3-3 위험성평가'!$A$5:$P$423,6,0),\"\")","v":""},{"$f":"IF(MAX('3-3 위험성평가'!$A$4:$A$423)+1>E421,VLOOKUP(E421,'3-3 위험성평가'!$A$5:$P$423,9,0),\"\")","v":""},{"$f":"IF(MAX('3-3 위험성평가'!$A$4:$A$423)+1>E421,VLOOKUP(E421,'3-3 위험성평가'!$A$5:$P$423,12,0),\"\")&IF(L421>\"\",\".\"&E421,\"\")","v":""},{"$f":"IF(MAX('3-3 위험성평가'!$A$4:$A$423)+1>E421,VLOOKUP(E421,'3-3 위험성평가'!$A$5:$P$423,13,0),\"\")","v":""},null,"하",null,null,null,null,null,null,null,"선택안함",0,{"$f":"IF(MAX('3-3 위험성평가'!$A$4:$A$423)+1>E421,VLOOKUP(E421,'3-3 위험성평가'!$A$5:$Q$423,17,0),\"\")","v":""},"선택",{"$f":"표지!$D$33","v":0},{"$f":"표지!$E$34","v":0},"선택안함",0]
["T20",2,"S40",4,414,{"$f":"IF(MAX('3-3 위험성평가'!$A$4:$A$423)+1>E422,VLOOKUP(E422,'3-3 위험성평가'!$A$5:$P$423,2,0),\"\")","v":""},{"$f":"IF(F422=\"\",\"\",VLOOKUP(VALUE(F422),'1-1 사업장 공정 정보'!$D$15:$P$41,5,0))","v":""},{"$f":"IF(MAX('3-3 위험성평가'!$A$4:$A$423)+1>E422,VLOOKUP(E422,'3-3 위험성평가'!$A$5:$P$423,3,0),\"\")","v":""},{"$f":"IF(MAX('3-3 위험성평가'!$A$4:$A$423)+1>E422,VLOOKUP(E422,'3-3 위험성평가'!$A$5:$P$423,4,0),\"\")","v":""},{"$f":"IF(MAX('3-3 위험성평가'!$A$4:$A$423)+1>E422,VLOOKUP(E422,'3-3 위험성평가'!$A$5:$P$423,5,0),\"\")","v":""},{"$f":"IF(MAX('3-3 위험성평가'!$A$4:$A$423)+1>E422,VLOOKUP(E422,'3-3 위험성평가'!$A$5:$P$423,6,0),\"\")","v":""},{"$f":"IF(MAX('3-3 위험성평가'!$A$4:$A$423)+1>E422,VLOOKUP(E422,'3-3 위험성평가'!$A$5:$P$423,9,0),\"\")","v":""},{"$f":"IF(MAX('3-3 위험성평가'!$A$4:$A$423)+1>E422,VLOOKUP(E422,'3-3 위험성평가'!$A$5:$P$423,12,0),\"\")&IF(L422>\"\",\".\"&E422,\"\")","v":""},{"$f":"IF(MAX('3-3 위험성평가'!$A$4:$A$423)+1>E422,VLOOKUP(E422,'3-3 위험성평가'!$A$5:$P$423,13,0),\"\")","v":""},null,"하",null,null,null,null,null,null,null,"선택안함",0,{"$f":"IF(MAX('3-3 위험성평가'!$A$4:$A$423)+1>E422,VLOOKUP(E422,'3-3 위험성평가'!$A$5:$Q$423,17,0),\"\")","v":""},"선택",{"$f":"표지!$D$33","v":0},{"$f":"표지!$E$34","v":0},"선택안함",0]
["T20",2,"S40",4,415,{"$f":"IF(MAX('3-3 위험성평가'!$A$4:$A$423)+1>E423,VLOOKUP(E423,'3-3 위험성평가'!$A$5:$P$423,2,0),\"\")","v":""},{"$f":"IF(F423=\"\",\"\",VLOOKUP(VALUE(F423),'1-1 사업장 공정 정보'!$D$15:$P$41,5,0))","v":""},{"$f":"IF(MAX('3-3 위험성평가'!$A$4:$A$423)+1>E423,VLOOKUP(E423,'3-3 위험성평가'!$A$5:$P$423,3,0),\"\")","v":""},{"$f":"IF(MAX('3-3 위험성평가'!$A$4:$A$423)+1>E423,VLOOKUP(E423,'3-3 위험성평가'!$A$5:$P$423,4,0),\"\")","v":""},{"$f":"IF(MAX('3-3 위험성평가'!$A$4:$A$423)+1>E423,VLOOKUP(E423,'3-3 위험성평가'!$A$5:$P$423,5,0),\"\")","v":""},{"$f":"IF(MAX('3-3 위험성평가'!$A$4:$A$423)+1>E423,VLOOKUP(E423,'3-3 위험성평가'!$A$5:$P$423,6,0),\"\")","v":""},{"$f":"IF(MAX('3-3 위험성평가'!$A$4:$A$423)+1>E423,VLOOKUP(E423,'3-3 위험성평가'!$A$5:$P$423,9,0),\"\")","v":""},{"$f":"IF(MAX('3-3 위험성평가'!$A$4:$A$423)+1>E423,VLOOKUP(E423,'3-3 위험성평가'!$A$5:$P$423,12,0),\"\")&IF(L423>\"\",\".\"&E423,\"\")","v":""},{"$f":"IF(MAX('3-3 위험성평가'!$A$4:$A$423)+1>E423,VLOOKUP(E423,'3-3 위험성평가'!$A$5:$P$423,13,0),\"\")","v":""},null,"하",null,null,null,null,null,null,null,"선택안함",0,{"$f":"IF(MAX('3-3 위험성평가'!$A$4:$A$423)+1>E423,VLOOKUP(E423,'3-3 위험성평가'!$A$5:$Q$423,17,0),\"\")","v":""},"선택",{"$f":"표지!$D$33","v":0},{"$f":"표지!$E$34","v":0},"선택안함",0]
["T20",2,"S40",4,416,{"$f":"IF(MAX('3-3 위험성평가'!$A$4:$A$423)+1>E424,VLOOKUP(E424,'3-3 위험성평가'!$A$5:$P$423,2,0),\"\")","v":""},{"$f":"IF(F424=\"\",\"\",VLOOKUP(VALUE(F424),'1-1 사업장 공정 정보'!$D$15:$P$41,5,0))","v":""},{"$f":"IF(MAX('3-3 위험성평가'!$A$4:$A$423)+1>E424,VLOOKUP(E424,'3-3 위험성평가'!$A$5:$P$423,3,0),\"\")","v":""},{"$f":"IF(MAX('3-3 위험성평가'!$A$4:$A$423)+1>E424,VLOOKUP(E424,'3-3 위험성평가'!$A$5:$P$423,4,0),\"\")","v":""},{"$f":"IF(MAX('3-3 위험성평가'!$A$4:$A$423)+1>E424,VLOOKUP(E424,'3-3 위험성평가'!$A$5:$P$423,5,0),\"\")","v":""},{"$f":"IF(MAX('3-3 위험성평가'!$A$4:$A$423)+1>E424,VLOOKUP(E424,'3-3 위험성평가'!$A$5:$P$423,6,0),\"\")","v":""},{"$f":"IF(MAX('3-3 위험성평가'!$A$4:$A$423)+1>E424,VLOOKUP(E424,'3-3 위험성평가'!$A$5:$P$423,9,0),\"\")","v":""},{"$f":"IF(MAX('3-3 위험성평가'!$A$4:$A$423)+1>E424,VLOOKUP(E424,'3-3 위험성평가'!$A$5:$P$423,12,0),\"\")&IF(L424>\"\",\".\"&E424,\"\")","v":""},{"$f":"IF(MAX('3-3 위험성평가'!$A$4:$A$423)+1>E424,VLOOKUP(E424,'3-3 위험성평가'!$A$5:$P$423,13,0),\"\")","v":""},null,"하",null,null,null,null,null,null,null,"선택안함",0,{"$f":"IF(MAX('3-3 위험성평가'!$A$4:$A$423)+1>E424,VLOOKUP(E424,'3-3 위험성평가'!$A$5:$Q$423,17,0),\"\")","v":""},"선택",{"$f":"표지!$D$33","v":0},{"$f":"표지!$E$34","v":0},"선택안함",0]
["T20",2,"S40",4,417,{"$f":"IF(MAX('3-3 위험성평가'!$A$4:$A$423)+1>E425,VLOOKUP(E425,'3-3 위험성평가'!$A$5:$P$423,2,0),\"\")","v":""},{"$f":"IF(F425=\"\",\"\",VLOOKUP(VALUE(F425),'1-1 사업장 공정 정보'!$D$15:$P$41,5,0))","v":""},{"$f":"IF(MAX('3-3 위험성평가'!$A$4:$A$423)+1>E425,VLOOKUP(E425,'3-3 위험성평가'!$A$5:$P$423,3,0),\"\")","v":""},{"$f":"IF(MAX('3-3 위험성평가'!$A$4:$A$423)+1>E425,VLOOKUP(E425,'3-3 위험성평가'!$A$5:$P$423,4,0),\"\")","v":""},{"$f":"IF(MAX('3-3 위험성평가'!$A$4:$A$423)+1>E425,VLOOKUP(E425,'3-3 위험성평가'!$A$5:$P$423,5,0),\"\")","v":""},{"$f":"IF(MAX('3-3 위험성평가'!$A$4:$A$423)+1>E425,VLOOKUP(E425,'3-3 위험성평가'!$A$5:$P$423,6,0),\"\")","v":""},{"$f":"IF(MAX('3-3 위험성평가'!$A$4:$A$423)+1>E425,VLOOKUP(E425,'3-3 위험성평가'!$A$5:$P$423,9,0),\"\")","v":""},{"$f":"IF(MAX('3-3 위험성평가'!$A$4:$A$423)+1>E425,VLOOKUP(E425,'3-3 위험성평가'!$A$5:$P$423,12,0),\"\")&IF(L425>\"\",\".\"&E425,\"\")","v":""},{"$f":"IF(MAX('3-3 위험성평가'!$A$4:$A$423)+1>E425,VLOOKUP(E425,'3-3 위험성평가'!$A$5:$P$423,13,0),\"\")","v":""},null,"하",null,null,null,null,null,null,null,"선택안함",0,{"$f":"IF(MAX('3-3 위험성평가'!$A$4:$A$423)+1>E425,VLOOKUP(E425,'3-3 위험성평가'!$A$5:$Q$423,17,0),\"\")","v":""},"선택",{"$f":"표지!$D$33","v":0},{"$f":"표지!$E$34","v":0},"선택안함",0]
["T20",2,"S40",4,418,{"$f":"IF(MAX('3-3 위험성평가'!$A$4:$A$423)+1>E426,VLOOKUP(E426,'3-3 위험성평가'!$A$5:$P$423,2,0),\"\")","v":""},{"$f":"IF(F426=\"\",\"\",VLOOKUP(VALUE(F426),'1-1 사업장 공정 정보'!$D$15:$P$41,5,0))","v":""},{"$f":"IF(MAX('3-3 위험성평가'!$A$4:$A$423)+1>E426,VLOOKUP(E426,'3-3 위험성평가'!$A$5:$P$423,3,0),\"\")","v":""},{"$f":"IF(MAX('3-3 위험성평가'!$A$4:$A$423)+1>E426,VLOOKUP(E426,'3-3 위험성평가'!$A$5:$P$423,4,0),\"\")","v":""},{"$f":"IF(MAX('3-3 위험성평가'!$A$4:$A$423)+1>E426,VLOOKUP(E426,'3-3 위험성평가'!$A$5:$P$423,5,0),\"\")","v":""},{"$f":"IF(MAX('3-3 위험성평가'!$A$4:$A$423)+1>E426,VLOOKUP(E426,'3-3 위험성평가'!$A$5:$P$423,6,0),\"\")","v":""},{"$f":"IF(MAX('3-3 위험성평가'!$A$4:$A$423)+1>E426,VLOOKUP(E426,'3-3 위험성평가'!$A$5:$P$423,9,0),\"\")","v":""},{"$f":"IF(MAX('3-3 위험성평가'!$A$4:$A$423)+1>E426,VLOOKUP(E426,'3-3 위험성평가'!$A$5:$P$423,12,0),\"\")&IF(L426>\"\",\".\"&E426,\"\")","v":""},{"$f":"IF(MAX('3-3 위험성평가'!$A$4:$A$423)+1>E426,VLOOKUP(E426,'3-3 위험성평가'!$A$5:$P$423,13,0),\"\")","v":""},null,"하",null,null,null,null,null,null,null,"선택안함",0,{"$f":"IF(MAX('3-3 위험성평가'!$A$4:$A$423)+1>E426,VLOOKUP(E426,'3-3 위험성평가'!$A$5:$Q$423,17,0),\"\")","v":""},"선택",{"$f":"표지!$D$33","v":0},{"$f":"표지!$E$34","v":0},"선택안함",0]
["T20",2,"S40",4,419,{"$f":"IF(MAX('3-3 위험성평가'!$A$4:$A$423)+1>E427,VLOOKUP(E427,'3-3 위험성평가'!$A$5:$P$423,2,0),\"\")","v":""},{"$f":"IF(F427=\"\",\"\",VLOOKUP(VALUE(F427),'1-1 사업장 공정 정보'!$D$15:$P$41,5,0))","v":""},{"$f":"IF(MAX('3-3 위험성평가'!$A$4:$A$423)+1>E427,VLOOKUP(E427,'3-3 위험성평가'!$A$5:$P$423,3,0),\"\")","v":""},{"$f":"IF(MAX('3-3 위험성평가'!$A$4:$A$423)+1>E427,VLOOKUP(E427,'3-3 위험성평가'!$A$5:$P$423,4,0),\"\")","v":""},{"$f":"IF(MAX('3-3 위험성평가'!$A$4:$A$423)+1>E427,VLOOKUP(E427,'3-3 위험성평가'!$A$5:$P$423,5,0),\"\")","v":""},{"$f":"IF(MAX('3-3 위험성평가'!$A$4:$A$423)+1>E427,VLOOKUP(E427,'3-3 위험성평가'!$A$5:$P$423,6,0),\"\")","v":""},{"$f":"IF(MAX('3-3 위험성평가'!$A$4:$A$423)+1>E427,VLOOKUP(E427,'3-3 위험성평가'!$A$5:$P$423,9,0),\"\")","v":""},{"$f":"IF(MAX('3-3 위험성평가'!$A$4:$A$423)+1>E427,VLOOKUP(E427,'3-3 위험성평가'!$A$5:$P$423,12,0),\"\")&IF(L427>\"\",\".\"&E427,\"\")","v":""},{"$f":"IF(MAX('3-3 위험성평가'!$A$4:$A$423)+1>E427,VLOOKUP(E427,'3-3 위험성평가'!$A$5:$P$423,13,0),\"\")","v":""},null,"하",null,null,null,null,null,null,null,"선택안함",0,{"$f":"IF(MAX('3-3 위험성평가'!$A$4:$A$423)+1>E427,VLOOKUP(E427,'3-3 위험성평가'!$A$5:$Q$423,17,0),\"\")","v":""},"선택",{"$f":"표지!$D$33","v":0},{"$f":"표지!$E$34","v":0},"선택안함",0]
["T20",2,"S40",4,420,{"$f":"IF(MAX('3-3 위험성평가'!$A$4:$A$423)+1>E428,VLOOKUP(E428,'3-3 위험성평가'!$A$5:$P$423,2,0),\"\")","v":""},{"$f":"IF(F428=\"\",\"\",VLOOKUP(VALUE(F428),'1-1 사업장 공정 정보'!$D$15:$P$41,5,0))","v":""},{"$f":"IF(MAX('3-3 위험성평가'!$A$4:$A$423)+1>E428,VLOOKUP(E428,'3-3 위험성평가'!$A$5:$P$423,3,0),\"\")","v":""},{"$f":"IF(MAX('3-3 위험성평가'!$A$4:$A$423)+1>E428,VLOOKUP(E428,'3-3 위험성평가'!$A$5:$P$423,4,0),\"\")","v":""},{"$f":"IF(MAX('3-3 위험성평가'!$A$4:$A$423)+1>E428,VLOOKUP(E428,'3-3 위험성평가'!$A$5:$P$423,5,0),\"\")","v":""},{"$f":"IF(MAX('3-3 위험성평가'!$A$4:$A$423)+1>E428,VLOOKUP(E428,'3-3 위험성평가'!$A$5:$P$423,6,0),\"\")","v":""},{"$f":"IF(MAX('3-3 위험성평가'!$A$4:$A$423)+1>E428,VLOOKUP(E428,'3-3 위험성평가'!$A$5:$P$423,9,0),\"\")","v":""},{"$f":"IF(MAX('3-3 위험성평가'!$A$4:$A$423)+1>E428,VLOOKUP(E428,'3-3 위험성평가'!$A$5:$P$423,12,0),\"\")&IF(L428>\"\",\".\"&E428,\"\")","v":""},{"$f":"IF(MAX('3-3 위험성평가'!$A$4:$A$423)+1>E428,VLOOKUP(E428,'3-3 위험성평가'!$A$5:$P$423,13,0),\"\")","v":""},null,"하",null,null,null,null,null,null,null,"선택안함",0,{"$f":"IF(MAX('3-3 위험성평가'!$A$4:$A$423)+1>E428,VLOOKUP(E428,'3-3 위험성평가'!$A$5:$Q$423,17,0),\"\")","v":""},"선택",{"$f":"표지!$D$33","v":0},{"$f":"표지!$E$34","v":0},"선택안함",0]
["T20",2,"S40",4,421,{"$f":"IF(MAX('3-3 위험성평가'!$A$4:$A$423)+1>E429,VLOOKUP(E429,'3-3 위험성평가'!$A$5:$P$423,2,0),\"\")","v":""},{"$f":"IF(F429=\"\",\"\",VLOOKUP(VALUE(F429),'1-1 사업장 공정 정보'!$D$15:$P$41,5,0))","v":""},{"$f":"IF(MAX('3-3 위험성평가'!$A$4:$A$423)+1>E429,VLOOKUP(E429,'3-3 위험성평가'!$A$5:$P$423,3,0),\"\")","v":""},{"$f":"IF(MAX('3-3 위험성평가'!$A$4:$A$423)+1>E429,VLOOKUP(E429,'3-3 위험성평가'!$A$5:$P$423,4,0),\"\")","v":""},{"$f":"IF(MAX('3-3 위험성평가'!$A$4:$A$423)+1>E429,VLOOKUP(E429,'3-3 위험성평가'!$A$5:$P$423,5,0),\"\")","v":""},{"$f":"IF(MAX('3-3 위험성평가'!$A$4:$A$423)+1>E429,VLOOKUP(E429,'3-3 위험성평가'!$A$5:$P$423,6,0),\"\")","v":""},{"$f":"IF(MAX('3-3 위험성평가'!$A$4:$A$423)+1>E429,VLOOKUP(E429,'3-3 위험성평가'!$A$5:$P$423,9,0),\"\")","v":""},{"$f":"IF(MAX('3-3 위험성평가'!$A$4:$A$423)+1>E429,VLOOKUP(E429,'3-3 위험성평가'!$A$5:$P$423,12,0),\"\")&IF(L429>\"\",\".\"&E429,\"\")","v":""},{"$f":"IF(MAX('3-3 위험성평가'!$A$4:$A$423)+1>E429,VLOOKUP(E429,'3-3 위험성평가'!$A$5:$P$423,13,0),\"\")","v":""},null,"하",null,null,null,null,null,null,null,"선택안함",0,{"$f":"IF(MAX('3-3 위험성평가'!$A$4:$A$423)+1>E429,VLOOKUP(E429,'3-3 위험성평가'!$A$5:$Q$423,17,0),\"\")","v":""},"선택",{"$f":"표지!$D$33","v":0},{"$f":"표지!$E$34","v":0},"선택안함",0]
["T20",2,"S40",4,422,{"$f":"IF(MAX('3-3 위험성평가'!$A$4:$A$423)+1>E430,VLOOKUP(E430,'3-3 위험성평가'!$A$5:$P$423,2,0),\"\")","v":""},{"$f":"IF(F430=\"\",\"\",VLOOKUP(VALUE(F430),'1-1 사업장 공정 정보'!$D$15:$P$41,5,0))","v":""},{"$f":"IF(MAX('3-3 위험성평가'!$A$4:$A$423)+1>E430,VLOOKUP(E430,'3-3 위험성평가'!$A$5:$P$423,3,0),\"\")","v":""},{"$f":"IF(MAX('3-3 위험성평가'!$A$4:$A$423)+1>E430,VLOOKUP(E430,'3-3 위험성평가'!$A$5:$P$423,4,0),\"\")","v":""},{"$f":"IF(MAX('3-3 위험성평가'!$A$4:$A$423)+1>E430,VLOOKUP(E430,'3-3 위험성평가'!$A$5:$P$423,5,0),\"\")","v":""},{"$f":"IF(MAX('3-3 위험성평가'!$A$4:$A$423)+1>E430,VLOOKUP(E430,'3-3 위험성평가'!$A$5:$P$423,6,0),\"\")","v":""},{"$f":"IF(MAX('3-3 위험성평가'!$A$4:$A$423)+1>E430,VLOOKUP(E430,'3-3 위험성평가'!$A$5:$P$423,9,0),\"\")","v":""},{"$f":"IF(MAX('3-3 위험성평가'!$A$4:$A$423)+1>E430,VLOOKUP(E430,'3-3 위험성평가'!$A$5:$P$423,12,0),\"\")&IF(L430>\"\",\".\"&E430,\"\")","v":""},{"$f":"IF(MAX('3-3 위험성평가'!$A$4:$A$423)+1>E430,VLOOKUP(E430,'3-3 위험성평가'!$A$5:$P$423,13,0),\"\")","v":""},null,"하",null,null,null,null,null,null,null,"선택안함",0,{"$f":"IF(MAX('3-3 위험성평가'!$A$4:$A$423)+1>E430,VLOOKUP(E430,'3-3 위험성평가'!$A$5:$Q$423,17,0),\"\")","v":""},"선택",{"$f":"표지!$D$33","v":0},{"$f":"표지!$E$34","v":0},"선택안함",0]
["T20",2,"S40",4,423,{"$f":"IF(MAX('3-3 위험성평가'!$A$4:$A$423)+1>E431,VLOOKUP(E431,'3-3 위험성평가'!$A$5:$P$423,2,0),\"\")","v":""},{"$f":"IF(F431=\"\",\"\",VLOOKUP(VALUE(F431),'1-1 사업장 공정 정보'!$D$15:$P$41,5,0))","v":""},{"$f":"IF(MAX('3-3 위험성평가'!$A$4:$A$423)+1>E431,VLOOKUP(E431,'3-3 위험성평가'!$A$5:$P$423,3,0),\"\")","v":""},{"$f":"IF(MAX('3-3 위험성평가'!$A$4:$A$423)+1>E431,VLOOKUP(E431,'3-3 위험성평가'!$A$5:$P$423,4,0),\"\")","v":""},{"$f":"IF(MAX('3-3 위험성평가'!$A$4:$A$423)+1>E431,VLOOKUP(E431,'3-3 위험성평가'!$A$5:$P$423,5,0),\"\")","v":""},{"$f":"IF(MAX('3-3 위험성평가'!$A$4:$A$423)+1>E431,VLOOKUP(E431,'3-3 위험성평가'!$A$5:$P$423,6,0),\"\")","v":""},{"$f":"IF(MAX('3-3 위험성평가'!$A$4:$A$423)+1>E431,VLOOKUP(E431,'3-3 위험성평가'!$A$5:$P$423,9,0),\"\")","v":""},{"$f":"IF(MAX('3-3 위험성평가'!$A$4:$A$423)+1>E431,VLOOKUP(E431,'3-3 위험성평가'!$A$5:$P$423,12,0),\"\")&IF(L431>\"\",\".\"&E431,\"\")","v":""},{"$f":"IF(MAX('3-3 위험성평가'!$A$4:$A$423)+1>E431,VLOOKUP(E431,'3-3 위험성평가'!$A$5:$P$423,13,0),\"\")","v":""},null,"하",null,null,null,null,null,null,null,"선택안함",0,{"$f":"IF(MAX('3-3 위험성평가'!$A$4:$A$423)+1>E431,VLOOKUP(E431,'3-3 위험성평가'!$A$5:$Q$423,17,0),\"\")","v":""},"선택",{"$f":"표지!$D$33","v":0},{"$f":"표지!$E$34","v":0},"선택안함",0]
["T20",2,"S40",4,424,{"$f":"IF(MAX('3-3 위험성평가'!$A$4:$A$423)+1>E432,VLOOKUP(E432,'3-3 위험성평가'!$A$5:$P$423,2,0),\"\")","v":""},{"$f":"IF(F432=\"\",\"\",VLOOKUP(VALUE(F432),'1-1 사업장 공정 정보'!$D$15:$P$41,5,0))","v":""},{"$f":"IF(MAX('3-3 위험성평가'!$A$4:$A$423)+1>E432,VLOOKUP(E432,'3-3 위험성평가'!$A$5:$P$423,3,0),\"\")","v":""},{"$f":"IF(MAX('3-3 위험성평가'!$A$4:$A$423)+1>E432,VLOOKUP(E432,'3-3 위험성평가'!$A$5:$P$423,4,0),\"\")","v":""},{"$f":"IF(MAX('3-3 위험성평가'!$A$4:$A$423)+1>E432,VLOOKUP(E432,'3-3 위험성평가'!$A$5:$P$423,5,0),\"\")","v":""},{"$f":"IF(MAX('3-3 위험성평가'!$A$4:$A$423)+1>E432,VLOOKUP(E432,'3-3 위험성평가'!$A$5:$P$423,6,0),\"\")","v":""},{"$f":"IF(MAX('3-3 위험성평가'!$A$4:$A$423)+1>E432,VLOOKUP(E432,'3-3 위험성평가'!$A$5:$P$423,9,0),\"\")","v":""},{"$f":"IF(MAX('3-3 위험성평가'!$A$4:$A$423)+1>E432,VLOOKUP(E432,'3-3 위험성평가'!$A$5:$P$423,12,0),\"\")&IF(L432>\"\",\".\"&E432,\"\")","v":""},{"$f":"IF(MAX('3-3 위험성평가'!$A$4:$A$423)+1>E432,VLOOKUP(E432,'3-3 위험성평가'!$A$5:$P$423,13,0),\"\")","v":""},null,"하",null,null,null,null,null,null,null,"선택안함",0,{"$f":"IF(MAX('3-3 위험성평가'!$A$4:$A$423)+1>E432,VLOOKUP(E432,'3-3 위험성평가'!$A$5:$Q$423,17,0),\"\")","v":""},"선택",{"$f":"표지!$D$33","v":0},{"$f":"표지!$E$34","v":0},"선택안함",0]
["T20",2,"S40",4,425,{"$f":"IF(MAX('3-3 위험성평가'!$A$4:$A$423)+1>E433,VLOOKUP(E433,'3-3 위험성평가'!$A$5:$P$423,2,0),\"\")","v":""},{"$f":"IF(F433=\"\",\"\",VLOOKUP(VALUE(F433),'1-1 사업장 공정 정보'!$D$15:$P$41,5,0))","v":""},{"$f":"IF(MAX('3-3 위험성평가'!$A$4:$A$423)+1>E433,VLOOKUP(E433,'3-3 위험성평가'!$A$5:$P$423,3,0),\"\")","v":""},{"$f":"IF(MAX('3-3 위험성평가'!$A$4:$A$423)+1>E433,VLOOKUP(E433,'3-3 위험성평가'!$A$5:$P$423,4,0),\"\")","v":""},{"$f":"IF(MAX('3-3 위험성평가'!$A$4:$A$423)+1>E433,VLOOKUP(E433,'3-3 위험성평가'!$A$5:$P$423,5,0),\"\")","v":""},{"$f":"IF(MAX('3-3 위험성평가'!$A$4:$A$423)+1>E433,VLOOKUP(E433,'3-3 위험성평가'!$A$5:$P$423,6,0),\"\")","v":""},{"$f":"IF(MAX('3-3 위험성평가'!$A$4:$A$423)+1>E433,VLOOKUP(E433,'3-3 위험성평가'!$A$5:$P$423,9,0),\"\")","v":""},{"$f":"IF(MAX('3-3 위험성평가'!$A$4:$A$423)+1>E433,VLOOKUP(E433,'3-3 위험성평가'!$A$5:$P$423,12,0),\"\")&IF(L433>\"\",\".\"&E433,\"\")","v":""},{"$f":"IF(MAX('3-3 위험성평가'!$A$4:$A$423)+1>E433,VLOOKUP(E433,'3-3 위험성평가'!$A$5:$P$423,13,0),\"\")","v":""},null,"하",null,null,null,null,null,null,null,"선택안함",0,{"$f":"IF(MAX('3-3 위험성평가'!$A$4:$A$423)+1>E433,VLOOKUP(E433,'3-3 위험성평가'!$A$5:$Q$423,17,0),\"\")","v":""},"선택",{"$f":"표지!$D$33","v":0},{"$f":"표지!$E$34","v":0},"선택안함",0]
["T20",2,"S40",4,426,{"$f":"IF(MAX('3-3 위험성평가'!$A$4:$A$423)+1>E434,VLOOKUP(E434,'3-3 위험성평가'!$A$5:$P$423,2,0),\"\")","v":""},{"$f":"IF(F434=\"\",\"\",VLOOKUP(VALUE(F434),'1-1 사업장 공정 정보'!$D$15:$P$41,5,0))","v":""},{"$f":"IF(MAX('3-3 위험성평가'!$A$4:$A$423)+1>E434,VLOOKUP(E434,'3-3 위험성평가'!$A$5:$P$423,3,0),\"\")","v":""},{"$f":"IF(MAX('3-3 위험성평가'!$A$4:$A$423)+1>E434,VLOOKUP(E434,'3-3 위험성평가'!$A$5:$P$423,4,0),\"\")","v":""},{"$f":"IF(MAX('3-3 위험성평가'!$A$4:$A$423)+1>E434,VLOOKUP(E434,'3-3 위험성평가'!$A$5:$P$423,5,0),\"\")","v":""},{"$f":"IF(MAX('3-3 위험성평가'!$A$4:$A$423)+1>E434,VLOOKUP(E434,'3-3 위험성평가'!$A$5:$P$423,6,0),\"\")","v":""},{"$f":"IF(MAX('3-3 위험성평가'!$A$4:$A$423)+1>E434,VLOOKUP(E434,'3-3 위험성평가'!$A$5:$P$423,9,0),\"\")","v":""},{"$f":"IF(MAX('3-3 위험성평가'!$A$4:$A$423)+1>E434,VLOOKUP(E434,'3-3 위험성평가'!$A$5:$P$423,12,0),\"\")&IF(L434>\"\",\".\"&E434,\"\")","v":""},{"$f":"IF(MAX('3-3 위험성평가'!$A$4:$A$423)+1>E434,VLOOKUP(E434,'3-3 위험성평가'!$A$5:$P$423,13,0),\"\")","v":""},null,"하",null,null,null,null,null,null,null,"선택안함",0,{"$f":"IF(MAX('3-3 위험성평가'!$A$4:$A$423)+1>E434,VLOOKUP(E434,'3-3 위험성평가'!$A$5:$Q$423,17,0),\"\")","v":""},"선택",{"$f":"표지!$D$33","v":0},{"$f":"표지!$E$34","v":0},"선택안함",0]
["T20",2,"S40",4,427,{"$f":"IF(MAX('3-3 위험성평가'!$A$4:$A$423)+1>E435,VLOOKUP(E435,'3-3 위험성평가'!$A$5:$P$423,2,0),\"\")","v":""},{"$f":"IF(F435=\"\",\"\",VLOOKUP(VALUE(F435),'1-1 사업장 공정 정보'!$D$15:$P$41,5,0))","v":""},{"$f":"IF(MAX('3-3 위험성평가'!$A$4:$A$423)+1>E435,VLOOKUP(E435,'3-3 위험성평가'!$A$5:$P$423,3,0),\"\")","v":""},{"$f":"IF(MAX('3-3 위험성평가'!$A$4:$A$423)+1>E435,VLOOKUP(E435,'3-3 위험성평가'!$A$5:$P$423,4,0),\"\")","v":""},{"$f":"IF(MAX('3-3 위험성평가'!$A$4:$A$423)+1>E435,VLOOKUP(E435,'3-3 위험성평가'!$A$5:$P$423,5,0),\"\")","v":""},{"$f":"IF(MAX('3-3 위험성평가'!$A$4:$A$423)+1>E435,VLOOKUP(E435,'3-3 위험성평가'!$A$5:$P$423,6,0),\"\")","v":""},{"$f":"IF(MAX('3-3 위험성평가'!$A$4:$A$423)+1>E435,VLOOKUP(E435,'3-3 위험성평가'!$A$5:$P$423,9,0),\"\")","v":""},{"$f":"IF(MAX('3-3 위험성평가'!$A$4:$A$423)+1>E435,VLOOKUP(E435,'3-3 위험성평가'!$A$5:$P$423,12,0),\"\")&IF(L435>\"\",\".\"&E435,\"\")","v":""},{"$f":"IF(MAX('3-3 위험성평가'!$A$4:$A$423)+1>E435,VLOOKUP(E435,'3-3 위험성평가'!$A$5:$P$423,13,0),\"\")","v":""},null,"하",null,null,null,null,null,null,null,"선택안함",0,{"$f":"IF(MAX('3-3 위험성평가'!$A$4:$A$423)+1>E435,VLOOKUP(E435,'3-3 위험성평가'!$A$5:$Q$423,17,0),\"\")","v":""},"선택",{"$f":"표지!$D$33","v":0},{"$f":"표지!$E$34","v":0},"선택안함",0]
["T20",2,"S40",4,428,{"$f":"IF(MAX('3-3 위험성평가'!$A$4:$A$423)+1>E436,VLOOKUP(E436,'3-3 위험성평가'!$A$5:$P$423,2,0),\"\")","v":""},{"$f":"IF(F436=\"\",\"\",VLOOKUP(VALUE(F436),'1-1 사업장 공정 정보'!$D$15:$P$41,5,0))","v":""},{"$f":"IF(MAX('3-3 위험성평가'!$A$4:$A$423)+1>E436,VLOOKUP(E436,'3-3 위험성평가'!$A$5:$P$423,3,0),\"\")","v":""},{"$f":"IF(MAX('3-3 위험성평가'!$A$4:$A$423)+1>E436,VLOOKUP(E436,'3-3 위험성평가'!$A$5:$P$423,4,0),\"\")","v":""},{"$f":"IF(MAX('3-3 위험성평가'!$A$4:$A$423)+1>E436,VLOOKUP(E436,'3-3 위험성평가'!$A$5:$P$423,5,0),\"\")","v":""},{"$f":"IF(MAX('3-3 위험성평가'!$A$4:$A$423)+1>E436,VLOOKUP(E436,'3-3 위험성평가'!$A$5:$P$423,6,0),\"\")","v":""},{"$f":"IF(MAX('3-3 위험성평가'!$A$4:$A$423)+1>E436,VLOOKUP(E436,'3-3 위험성평가'!$A$5:$P$423,9,0),\"\")","v":""},{"$f":"IF(MAX('3-3 위험성평가'!$A$4:$A$423)+1>E436,VLOOKUP(E436,'3-3 위험성평가'!$A$5:$P$423,12,0),\"\")&IF(L436>\"\",\".\"&E436,\"\")","v":""},{"$f":"IF(MAX('3-3 위험성평가'!$A$4:$A$423)+1>E436,VLOOKUP(E436,'3-3 위험성평가'!$A$5:$P$423,13,0),\"\")","v":""},null,"하",null,null,null,null,null,null,null,"선택안함",0,{"$f":"IF(MAX('3-3 위험성평가'!$A$4:$A$423)+1>E436,VLOOKUP(E436,'3-3 위험성평가'!$A$5:$Q$423,17,0),\"\")","v":""},"선택",{"$f":"표지!$D$33","v":0},{"$f":"표지!$E$34","v":0},"선택안함",0]
["T20",2,"S40",4,429,{"$f":"IF(MAX('3-3 위험성평가'!$A$4:$A$423)+1>E437,VLOOKUP(E437,'3-3 위험성평가'!$A$5:$P$423,2,0),\"\")","v":""},{"$f":"IF(F437=\"\",\"\",VLOOKUP(VALUE(F437),'1-1 사업장 공정 정보'!$D$15:$P$41,5,0))","v":""},{"$f":"IF(MAX('3-3 위험성평가'!$A$4:$A$423)+1>E437,VLOOKUP(E437,'3-3 위험성평가'!$A$5:$P$423,3,0),\"\")","v":""},{"$f":"IF(MAX('3-3 위험성평가'!$A$4:$A$423)+1>E437,VLOOKUP(E437,'3-3 위험성평가'!$A$5:$P$423,4,0),\"\")","v":""},{"$f":"IF(MAX('3-3 위험성평가'!$A$4:$A$423)+1>E437,VLOOKUP(E437,'3-3 위험성평가'!$A$5:$P$423,5,0),\"\")","v":""},{"$f":"IF(MAX('3-3 위험성평가'!$A$4:$A$423)+1>E437,VLOOKUP(E437,'3-3 위험성평가'!$A$5:$P$423,6,0),\"\")","v":""},{"$f":"IF(MAX('3-3 위험성평가'!$A$4:$A$423)+1>E437,VLOOKUP(E437,'3-3 위험성평가'!$A$5:$P$423,9,0),\"\")","v":""},{"$f":"IF(MAX('3-3 위험성평가'!$A$4:$A$423)+1>E437,VLOOKUP(E437,'3-3 위험성평가'!$A$5:$P$423,12,0),\"\")&IF(L437>\"\",\".\"&E437,\"\")","v":""},{"$f":"IF(MAX('3-3 위험성평가'!$A$4:$A$423)+1>E437,VLOOKUP(E437,'3-3 위험성평가'!$A$5:$P$423,13,0),\"\")","v":""},null,"하",null,null,null,null,null,null,null,"선택안함",0,{"$f":"IF(MAX('3-3 위험성평가'!$A$4:$A$423)+1>E437,VLOOKUP(E437,'3-3 위험성평가'!$A$5:$Q$423,17,0),\"\")","v":""},"선택",{"$f":"표지!$D$33","v":0},{"$f":"표지!$E$34","v":0},"선택안함",0]
["T20",2,"S40",4,430,{"$f":"IF(MAX('3-3 위험성평가'!$A$4:$A$423)+1>E438,VLOOKUP(E438,'3-3 위험성평가'!$A$5:$P$423,2,0),\"\")","v":""},{"$f":"IF(F438=\"\",\"\",VLOOKUP(VALUE(F438),'1-1 사업장 공정 정보'!$D$15:$P$41,5,0))","v":""},{"$f":"IF(MAX('3-3 위험성평가'!$A$4:$A$423)+1>E438,VLOOKUP(E438,'3-3 위험성평가'!$A$5:$P$423,3,0),\"\")","v":""},{"$f":"IF(MAX('3-3 위험성평가'!$A$4:$A$423)+1>E438,VLOOKUP(E438,'3-3 위험성평가'!$A$5:$P$423,4,0),\"\")","v":""},{"$f":"IF(MAX('3-3 위험성평가'!$A$4:$A$423)+1>E438,VLOOKUP(E438,'3-3 위험성평가'!$A$5:$P$423,5,0),\"\")","v":""},{"$f":"IF(MAX('3-3 위험성평가'!$A$4:$A$423)+1>E438,VLOOKUP(E438,'3-3 위험성평가'!$A$5:$P$423,6,0),\"\")","v":""},{"$f":"IF(MAX('3-3 위험성평가'!$A$4:$A$423)+1>E438,VLOOKUP(E438,'3-3 위험성평가'!$A$5:$P$423,9,0),\"\")","v":""},{"$f":"IF(MAX('3-3 위험성평가'!$A$4:$A$423)+1>E438,VLOOKUP(E438,'3-3 위험성평가'!$A$5:$P$423,12,0),\"\")&IF(L438>\"\",\".\"&E438,\"\")","v":""},{"$f":"IF(MAX('3-3 위험성평가'!$A$4:$A$423)+1>E438,VLOOKUP(E438,'3-3 위험성평가'!$A$5:$P$423,13,0),\"\")","v":""},null,"하",null,null,null,null,null,null,null,"선택안함",0,{"$f":"IF(MAX('3-3 위험성평가'!$A$4:$A$423)+1>E438,VLOOKUP(E438,'3-3 위험성평가'!$A$5:$Q$423,17,0),\"\")","v":""},"선택",{"$f":"표지!$D$33","v":0},{"$f":"표지!$E$34","v":0},"선택안함",0]
["T20",2,"S40",4,431,{"$f":"IF(MAX('3-3 위험성평가'!$A$4:$A$423)+1>E439,VLOOKUP(E439,'3-3 위험성평가'!$A$5:$P$423,2,0),\"\")","v":""},{"$f":"IF(F439=\"\",\"\",VLOOKUP(VALUE(F439),'1-1 사업장 공정 정보'!$D$15:$P$41,5,0))","v":""},{"$f":"IF(MAX('3-3 위험성평가'!$A$4:$A$423)+1>E439,VLOOKUP(E439,'3-3 위험성평가'!$A$5:$P$423,3,0),\"\")","v":""},{"$f":"IF(MAX('3-3 위험성평가'!$A$4:$A$423)+1>E439,VLOOKUP(E439,'3-3 위험성평가'!$A$5:$P$423,4,0),\"\")","v":""},{"$f":"IF(MAX('3-3 위험성평가'!$A$4:$A$423)+1>E439,VLOOKUP(E439,'3-3 위험성평가'!$A$5:$P$423,5,0),\"\")","v":""},{"$f":"IF(MAX('3-3 위험성평가'!$A$4:$A$423)+1>E439,VLOOKUP(E439,'3-3 위험성평가'!$A$5:$P$423,6,0),\"\")","v":""},{"$f":"IF(MAX('3-3 위험성평가'!$A$4:$A$423)+1>E439,VLOOKUP(E439,'3-3 위험성평가'!$A$5:$P$423,9,0),\"\")","v":""},{"$f":"IF(MAX('3-3 위험성평가'!$A$4:$A$423)+1>E439,VLOOKUP(E439,'3-3 위험성평가'!$A$5:$P$423,12,0),\"\")&IF(L439>\"\",\".\"&E439,\"\")","v":""},{"$f":"IF(MAX('3-3 위험성평가'!$A$4:$A$423)+1>E439,VLOOKUP(E439,'3-3 위험성평가'!$A$5:$P$423,13,0),\"\")","v":""},null,"하",null,null,null,null,null,null,null,"선택안함",0,{"$f":"IF(MAX('3-3 위험성평가'!$A$4:$A$423)+1>E439,VLOOKUP(E439,'3-3 위험성평가'!$A$5:$Q$423,17,0),\"\")","v":""},"선택",{"$f":"표지!$D$33","v":0},{"$f":"표지!$E$34","v":0},"선택안함",0]
["T20",2,"S40",4,432,{"$f":"IF(MAX('3-3 위험성평가'!$A$4:$A$423)+1>E440,VLOOKUP(E440,'3-3 위험성평가'!$A$5:$P$423,2,0),\"\")","v":""},{"$f":"IF(F440=\"\",\"\",VLOOKUP(VALUE(F440),'1-1 사업장 공정 정보'!$D$15:$P$41,5,0))","v":""},{"$f":"IF(MAX('3-3 위험성평가'!$A$4:$A$423)+1>E440,VLOOKUP(E440,'3-3 위험성평가'!$A$5:$P$423,3,0),\"\")","v":""},{"$f":"IF(MAX('3-3 위험성평가'!$A$4:$A$423)+1>E440,VLOOKUP(E440,'3-3 위험성평가'!$A$5:$P$423,4,0),\"\")","v":""},{"$f":"IF(MAX('3-3 위험성평가'!$A$4:$A$423)+1>E440,VLOOKUP(E440,'3-3 위험성평가'!$A$5:$P$423,5,0),\"\")","v":""},{"$f":"IF(MAX('3-3 위험성평가'!$A$4:$A$423)+1>E440,VLOOKUP(E440,'3-3 위험성평가'!$A$5:$P$423,6,0),\"\")","v":""},{"$f":"IF(MAX('3-3 위험성평가'!$A$4:$A$423)+1>E440,VLOOKUP(E440,'3-3 위험성평가'!$A$5:$P$423,9,0),\"\")","v":""},{"$f":"IF(MAX('3-3 위험성평가'!$A$4:$A$423)+1>E440,VLOOKUP(E440,'3-3 위험성평가'!$A$5:$P$423,12,0),\"\")&IF(L440>\"\",\".\"&E440,\"\")","v":""},{"$f":"IF(MAX('3-3 위험성평가'!$A$4:$A$423)+1>E440,VLOOKUP(E440,'3-3 위험성평가'!$A$5:$P$423,13,0),\"\")","v":""},null,"하",null,null,null,null,null,null,null,"선택안함",0,{"$f":"IF(MAX('3-3 위험성평가'!$A$4:$A$423)+1>E440,VLOOKUP(E440,'3-3 위험성평가'!$A$5:$Q$423,17,0),\"\")","v":""},"선택",{"$f":"표지!$D$33","v":0},{"$f":"표지!$E$34","v":0},"선택안함",0]
["T20",2,"S40",4,433,{"$f":"IF(MAX('3-3 위험성평가'!$A$4:$A$423)+1>E441,VLOOKUP(E441,'3-3 위험성평가'!$A$5:$P$423,2,0),\"\")","v":""},{"$f":"IF(F441=\"\",\"\",VLOOKUP(VALUE(F441),'1-1 사업장 공정 정보'!$D$15:$P$41,5,0))","v":""},{"$f":"IF(MAX('3-3 위험성평가'!$A$4:$A$423)+1>E441,VLOOKUP(E441,'3-3 위험성평가'!$A$5:$P$423,3,0),\"\")","v":""},{"$f":"IF(MAX('3-3 위험성평가'!$A$4:$A$423)+1>E441,VLOOKUP(E441,'3-3 위험성평가'!$A$5:$P$423,4,0),\"\")","v":""},{"$f":"IF(MAX('3-3 위험성평가'!$A$4:$A$423)+1>E441,VLOOKUP(E441,'3-3 위험성평가'!$A$5:$P$423,5,0),\"\")","v":""},{"$f":"IF(MAX('3-3 위험성평가'!$A$4:$A$423)+1>E441,VLOOKUP(E441,'3-3 위험성평가'!$A$5:$P$423,6,0),\"\")","v":""},{"$f":"IF(MAX('3-3 위험성평가'!$A$4:$A$423)+1>E441,VLOOKUP(E441,'3-3 위험성평가'!$A$5:$P$423,9,0),\"\")","v":""},{"$f":"IF(MAX('3-3 위험성평가'!$A$4:$A$423)+1>E441,VLOOKUP(E441,'3-3 위험성평가'!$A$5:$P$423,12,0),\"\")&IF(L441>\"\",\".\"&E441,\"\")","v":""},{"$f":"IF(MAX('3-3 위험성평가'!$A$4:$A$423)+1>E441,VLOOKUP(E441,'3-3 위험성평가'!$A$5:$P$423,13,0),\"\")","v":""},null,"하",null,null,null,null,null,null,null,"선택안함",0,{"$f":"IF(MAX('3-3 위험성평가'!$A$4:$A$423)+1>E441,VLOOKUP(E441,'3-3 위험성평가'!$A$5:$Q$423,17,0),\"\")","v":""},"선택",{"$f":"표지!$D$33","v":0},{"$f":"표지!$E$34","v":0},"선택안함",0]
["T20",2,"S40",4,434,{"$f":"IF(MAX('3-3 위험성평가'!$A$4:$A$423)+1>E442,VLOOKUP(E442,'3-3 위험성평가'!$A$5:$P$423,2,0),\"\")","v":""},{"$f":"IF(F442=\"\",\"\",VLOOKUP(VALUE(F442),'1-1 사업장 공정 정보'!$D$15:$P$41,5,0))","v":""},{"$f":"IF(MAX('3-3 위험성평가'!$A$4:$A$423)+1>E442,VLOOKUP(E442,'3-3 위험성평가'!$A$5:$P$423,3,0),\"\")","v":""},{"$f":"IF(MAX('3-3 위험성평가'!$A$4:$A$423)+1>E442,VLOOKUP(E442,'3-3 위험성평가'!$A$5:$P$423,4,0),\"\")","v":""},{"$f":"IF(MAX('3-3 위험성평가'!$A$4:$A$423)+1>E442,VLOOKUP(E442,'3-3 위험성평가'!$A$5:$P$423,5,0),\"\")","v":""},{"$f":"IF(MAX('3-3 위험성평가'!$A$4:$A$423)+1>E442,VLOOKUP(E442,'3-3 위험성평가'!$A$5:$P$423,6,0),\"\")","v":""},{"$f":"IF(MAX('3-3 위험성평가'!$A$4:$A$423)+1>E442,VLOOKUP(E442,'3-3 위험성평가'!$A$5:$P$423,9,0),\"\")","v":""},{"$f":"IF(MAX('3-3 위험성평가'!$A$4:$A$423)+1>E442,VLOOKUP(E442,'3-3 위험성평가'!$A$5:$P$423,12,0),\"\")&IF(L442>\"\",\".\"&E442,\"\")","v":""},{"$f":"IF(MAX('3-3 위험성평가'!$A$4:$A$423)+1>E442,VLOOKUP(E442,'3-3 위험성평가'!$A$5:$P$423,13,0),\"\")","v":""},null,"하",null,null,null,null,null,null,null,"선택안함",0,{"$f":"IF(MAX('3-3 위험성평가'!$A$4:$A$423)+1>E442,VLOOKUP(E442,'3-3 위험성평가'!$A$5:$Q$423,17,0),\"\")","v":""},"선택",{"$f":"표지!$D$33","v":0},{"$f":"표지!$E$34","v":0},"선택안함",0]
["T20",2,"S40",4,435,{"$f":"IF(MAX('3-3 위험성평가'!$A$4:$A$423)+1>E443,VLOOKUP(E443,'3-3 위험성평가'!$A$5:$P$423,2,0),\"\")","v":""},{"$f":"IF(F443=\"\",\"\",VLOOKUP(VALUE(F443),'1-1 사업장 공정 정보'!$D$15:$P$41,5,0))","v":""},{"$f":"IF(MAX('3-3 위험성평가'!$A$4:$A$423)+1>E443,VLOOKUP(E443,'3-3 위험성평가'!$A$5:$P$423,3,0),\"\")","v":""},{"$f":"IF(MAX('3-3 위험성평가'!$A$4:$A$423)+1>E443,VLOOKUP(E443,'3-3 위험성평가'!$A$5:$P$423,4,0),\"\")","v":""},{"$f":"IF(MAX('3-3 위험성평가'!$A$4:$A$423)+1>E443,VLOOKUP(E443,'3-3 위험성평가'!$A$5:$P$423,5,0),\"\")","v":""},{"$f":"IF(MAX('3-3 위험성평가'!$A$4:$A$423)+1>E443,VLOOKUP(E443,'3-3 위험성평가'!$A$5:$P$423,6,0),\"\")","v":""},{"$f":"IF(MAX('3-3 위험성평가'!$A$4:$A$423)+1>E443,VLOOKUP(E443,'3-3 위험성평가'!$A$5:$P$423,9,0),\"\")","v":""},{"$f":"IF(MAX('3-3 위험성평가'!$A$4:$A$423)+1>E443,VLOOKUP(E443,'3-3 위험성평가'!$A$5:$P$423,12,0),\"\")&IF(L443>\"\",\".\"&E443,\"\")","v":""},{"$f":"IF(MAX('3-3 위험성평가'!$A$4:$A$423)+1>E443,VLOOKUP(E443,'3-3 위험성평가'!$A$5:$P$423,13,0),\"\")","v":""},null,"하",null,null,null,null,null,null,null,"선택안함",0,{"$f":"IF(MAX('3-3 위험성평가'!$A$4:$A$423)+1>E443,VLOOKUP(E443,'3-3 위험성평가'!$A$5:$Q$423,17,0),\"\")","v":""},"선택",{"$f":"표지!$D$33","v":0},{"$f":"표지!$E$34","v":0},"선택안함",0]
["T20",2,"S40",4,436,{"$f":"IF(MAX('3-3 위험성평가'!$A$4:$A$423)+1>E444,VLOOKUP(E444,'3-3 위험성평가'!$A$5:$P$423,2,0),\"\")","v":""},{"$f":"IF(F444=\"\",\"\",VLOOKUP(VALUE(F444),'1-1 사업장 공정 정보'!$D$15:$P$41,5,0))","v":""},{"$f":"IF(MAX('3-3 위험성평가'!$A$4:$A$423)+1>E444,VLOOKUP(E444,'3-3 위험성평가'!$A$5:$P$423,3,0),\"\")","v":""},{"$f":"IF(MAX('3-3 위험성평가'!$A$4:$A$423)+1>E444,VLOOKUP(E444,'3-3 위험성평가'!$A$5:$P$423,4,0),\"\")","v":""},{"$f":"IF(MAX('3-3 위험성평가'!$A$4:$A$423)+1>E444,VLOOKUP(E444,'3-3 위험성평가'!$A$5:$P$423,5,0),\"\")","v":""},{"$f":"IF(MAX('3-3 위험성평가'!$A$4:$A$423)+1>E444,VLOOKUP(E444,'3-3 위험성평가'!$A$5:$P$423,6,0),\"\")","v":""},{"$f":"IF(MAX('3-3 위험성평가'!$A$4:$A$423)+1>E444,VLOOKUP(E444,'3-3 위험성평가'!$A$5:$P$423,9,0),\"\")","v":""},{"$f":"IF(MAX('3-3 위험성평가'!$A$4:$A$423)+1>E444,VLOOKUP(E444,'3-3 위험성평가'!$A$5:$P$423,12,0),\"\")&IF(L444>\"\",\".\"&E444,\"\")","v":""},{"$f":"IF(MAX('3-3 위험성평가'!$A$4:$A$423)+1>E444,VLOOKUP(E444,'3-3 위험성평가'!$A$5:$P$423,13,0),\"\")","v":""},null,"하",null,null,null,null,null,null,null,"선택안함",0,{"$f":"IF(MAX('3-3 위험성평가'!$A$4:$A$423)+1>E444,VLOOKUP(E444,'3-3 위험성평가'!$A$5:$Q$423,17,0),\"\")","v":""},"선택",{"$f":"표지!$D$33","v":0},{"$f":"표지!$E$34","v":0},"선택안함",0]
["T20",2,"S40",4,437,{"$f":"IF(MAX('3-3 위험성평가'!$A$4:$A$423)+1>E445,VLOOKUP(E445,'3-3 위험성평가'!$A$5:$P$423,2,0),\"\")","v":""},{"$f":"IF(F445=\"\",\"\",VLOOKUP(VALUE(F445),'1-1 사업장 공정 정보'!$D$15:$P$41,5,0))","v":""},{"$f":"IF(MAX('3-3 위험성평가'!$A$4:$A$423)+1>E445,VLOOKUP(E445,'3-3 위험성평가'!$A$5:$P$423,3,0),\"\")","v":""},{"$f":"IF(MAX('3-3 위험성평가'!$A$4:$A$423)+1>E445,VLOOKUP(E445,'3-3 위험성평가'!$A$5:$P$423,4,0),\"\")","v":""},{"$f":"IF(MAX('3-3 위험성평가'!$A$4:$A$423)+1>E445,VLOOKUP(E445,'3-3 위험성평가'!$A$5:$P$423,5,0),\"\")","v":""},{"$f":"IF(MAX('3-3 위험성평가'!$A$4:$A$423)+1>E445,VLOOKUP(E445,'3-3 위험성평가'!$A$5:$P$423,6,0),\"\")","v":""},{"$f":"IF(MAX('3-3 위험성평가'!$A$4:$A$423)+1>E445,VLOOKUP(E445,'3-3 위험성평가'!$A$5:$P$423,9,0),\"\")","v":""},{"$f":"IF(MAX('3-3 위험성평가'!$A$4:$A$423)+1>E445,VLOOKUP(E445,'3-3 위험성평가'!$A$5:$P$423,12,0),\"\")&IF(L445>\"\",\".\"&E445,\"\")","v":""},{"$f":"IF(MAX('3-3 위험성평가'!$A$4:$A$423)+1>E445,VLOOKUP(E445,'3-3 위험성평가'!$A$5:$P$423,13,0),\"\")","v":""},null,"하",null,null,null,null,null,null,null,"선택안함",0,{"$f":"IF(MAX('3-3 위험성평가'!$A$4:$A$423)+1>E445,VLOOKUP(E445,'3-3 위험성평가'!$A$5:$Q$423,17,0),\"\")","v":""},"선택",{"$f":"표지!$D$33","v":0},{"$f":"표지!$E$34","v":0},"선택안함",0]
["T20",2,"S40",4,438,{"$f":"IF(MAX('3-3 위험성평가'!$A$4:$A$423)+1>E446,VLOOKUP(E446,'3-3 위험성평가'!$A$5:$P$423,2,0),\"\")","v":""},{"$f":"IF(F446=\"\",\"\",VLOOKUP(VALUE(F446),'1-1 사업장 공정 정보'!$D$15:$P$41,5,0))","v":""},{"$f":"IF(MAX('3-3 위험성평가'!$A$4:$A$423)+1>E446,VLOOKUP(E446,'3-3 위험성평가'!$A$5:$P$423,3,0),\"\")","v":""},{"$f":"IF(MAX('3-3 위험성평가'!$A$4:$A$423)+1>E446,VLOOKUP(E446,'3-3 위험성평가'!$A$5:$P$423,4,0),\"\")","v":""},{"$f":"IF(MAX('3-3 위험성평가'!$A$4:$A$423)+1>E446,VLOOKUP(E446,'3-3 위험성평가'!$A$5:$P$423,5,0),\"\")","v":""},{"$f":"IF(MAX('3-3 위험성평가'!$A$4:$A$423)+1>E446,VLOOKUP(E446,'3-3 위험성평가'!$A$5:$P$423,6,0),\"\")","v":""},{"$f":"IF(MAX('3-3 위험성평가'!$A$4:$A$423)+1>E446,VLOOKUP(E446,'3-3 위험성평가'!$A$5:$P$423,9,0),\"\")","v":""},{"$f":"IF(MAX('3-3 위험성평가'!$A$4:$A$423)+1>E446,VLOOKUP(E446,'3-3 위험성평가'!$A$5:$P$423,12,0),\"\")&IF(L446>\"\",\".\"&E446,\"\")","v":""},{"$f":"IF(MAX('3-3 위험성평가'!$A$4:$A$423)+1>E446,VLOOKUP(E446,'3-3 위험성평가'!$A$5:$P$423,13,0),\"\")","v":""},null,"하",null,null,null,null,null,null,null,"선택안함",0,{"$f":"IF(MAX('3-3 위험성평가'!$A$4:$A$423)+1>E446,VLOOKUP(E446,'3-3 위험성평가'!$A$5:$Q$423,17,0),\"\")","v":""},"선택",{"$f":"표지!$D$33","v":0},{"$f":"표지!$E$34","v":0},"선택안함",0]
["T20",2,"S40",4,439,{"$f":"IF(MAX('3-3 위험성평가'!$A$4:$A$423)+1>E447,VLOOKUP(E447,'3-3 위험성평가'!$A$5:$P$423,2,0),\"\")","v":""},{"$f":"IF(F447=\"\",\"\",VLOOKUP(VALUE(F447),'1-1 사업장 공정 정보'!$D$15:$P$41,5,0))","v":""},{"$f":"IF(MAX('3-3 위험성평가'!$A$4:$A$423)+1>E447,VLOOKUP(E447,'3-3 위험성평가'!$A$5:$P$423,3,0),\"\")","v":""},{"$f":"IF(MAX('3-3 위험성평가'!$A$4:$A$423)+1>E447,VLOOKUP(E447,'3-3 위험성평가'!$A$5:$P$423,4,0),\"\")","v":""},{"$f":"IF(MAX('3-3 위험성평가'!$A$4:$A$423)+1>E447,VLOOKUP(E447,'3-3 위험성평가'!$A$5:$P$423,5,0),\"\")","v":""},{"$f":"IF(MAX('3-3 위험성평가'!$A$4:$A$423)+1>E447,VLOOKUP(E447,'3-3 위험성평가'!$A$5:$P$423,6,0),\"\")","v":""},{"$f":"IF(MAX('3-3 위험성평가'!$A$4:$A$423)+1>E447,VLOOKUP(E447,'3-3 위험성평가'!$A$5:$P$423,9,0),\"\")","v":""},{"$f":"IF(MAX('3-3 위험성평가'!$A$4:$A$423)+1>E447,VLOOKUP(E447,'3-3 위험성평가'!$A$5:$P$423,12,0),\"\")&IF(L447>\"\",\".\"&E447,\"\")","v":""},{"$f":"IF(MAX('3-3 위험성평가'!$A$4:$A$423)+1>E447,VLOOKUP(E447,'3-3 위험성평가'!$A$5:$P$423,13,0),\"\")","v":""},null,"하",null,null,null,null,null,null,null,"선택안함",0,{"$f":"IF(MAX('3-3 위험성평가'!$A$4:$A$423)+1>E447,VLOOKUP(E447,'3-3 위험성평가'!$A$5:$Q$423,17,0),\"\")","v":""},"선택",{"$f":"표지!$D$33","v":0},{"$f":"표지!$E$34","v":0},"선택안함",0]
["T20",2,"S40",4,440,{"$f":"IF(MAX('3-3 위험성평가'!$A$4:$A$423)+1>E448,VLOOKUP(E448,'3-3 위험성평가'!$A$5:$P$423,2,0),\"\")","v":""},{"$f":"IF(F448=\"\",\"\",VLOOKUP(VALUE(F448),'1-1 사업장 공정 정보'!$D$15:$P$41,5,0))","v":""},{"$f":"IF(MAX('3-3 위험성평가'!$A$4:$A$423)+1>E448,VLOOKUP(E448,'3-3 위험성평가'!$A$5:$P$423,3,0),\"\")","v":""},{"$f":"IF(MAX('3-3 위험성평가'!$A$4:$A$423)+1>E448,VLOOKUP(E448,'3-3 위험성평가'!$A$5:$P$423,4,0),\"\")","v":""},{"$f":"IF(MAX('3-3 위험성평가'!$A$4:$A$423)+1>E448,VLOOKUP(E448,'3-3 위험성평가'!$A$5:$P$423,5,0),\"\")","v":""},{"$f":"IF(MAX('3-3 위험성평가'!$A$4:$A$423)+1>E448,VLOOKUP(E448,'3-3 위험성평가'!$A$5:$P$423,6,0),\"\")","v":""},{"$f":"IF(MAX('3-3 위험성평가'!$A$4:$A$423)+1>E448,VLOOKUP(E448,'3-3 위험성평가'!$A$5:$P$423,9,0),\"\")","v":""},{"$f":"IF(MAX('3-3 위험성평가'!$A$4:$A$423)+1>E448,VLOOKUP(E448,'3-3 위험성평가'!$A$5:$P$423,12,0),\"\")&IF(L448>\"\",\".\"&E448,\"\")","v":""},{"$f":"IF(MAX('3-3 위험성평가'!$A$4:$A$423)+1>E448,VLOOKUP(E448,'3-3 위험성평가'!$A$5:$P$423,13,0),\"\")","v":""},null,"하",null,null,null,null,null,null,null,"선택안함",0,{"$f":"IF(MAX('3-3 위험성평가'!$A$4:$A$423)+1>E448,VLOOKUP(E448,'3-3 위험성평가'!$A$5:$Q$423,17,0),\"\")","v":""},"선택",{"$f":"표지!$D$33","v":0},{"$f":"표지!$E$34","v":0},"선택안함",0]
["T20",2,"S40",4,441,{"$f":"IF(MAX('3-3 위험성평가'!$A$4:$A$423)+1>E449,VLOOKUP(E449,'3-3 위험성평가'!$A$5:$P$423,2,0),\"\")","v":""},{"$f":"IF(F449=\"\",\"\",VLOOKUP(VALUE(F449),'1-1 사업장 공정 정보'!$D$15:$P$41,5,0))","v":""},{"$f":"IF(MAX('3-3 위험성평가'!$A$4:$A$423)+1>E449,VLOOKUP(E449,'3-3 위험성평가'!$A$5:$P$423,3,0),\"\")","v":""},{"$f":"IF(MAX('3-3 위험성평가'!$A$4:$A$423)+1>E449,VLOOKUP(E449,'3-3 위험성평가'!$A$5:$P$423,4,0),\"\")","v":""},{"$f":"IF(MAX('3-3 위험성평가'!$A$4:$A$423)+1>E449,VLOOKUP(E449,'3-3 위험성평가'!$A$5:$P$423,5,0),\"\")","v":""},{"$f":"IF(MAX('3-3 위험성평가'!$A$4:$A$423)+1>E449,VLOOKUP(E449,'3-3 위험성평가'!$A$5:$P$423,6,0),\"\")","v":""},{"$f":"IF(MAX('3-3 위험성평가'!$A$4:$A$423)+1>E449,VLOOKUP(E449,'3-3 위험성평가'!$A$5:$P$423,9,0),\"\")","v":""},{"$f":"IF(MAX('3-3 위험성평가'!$A$4:$A$423)+1>E449,VLOOKUP(E449,'3-3 위험성평가'!$A$5:$P$423,12,0),\"\")&IF(L449>\"\",\".\"&E449,\"\")","v":""},{"$f":"IF(MAX('3-3 위험성평가'!$A$4:$A$423)+1>E449,VLOOKUP(E449,'3-3 위험성평가'!$A$5:$P$423,13,0),\"\")","v":""},null,"하",null,null,null,null,null,null,null,"선택안함",0,{"$f":"IF(MAX('3-3 위험성평가'!$A$4:$A$423)+1>E449,VLOOKUP(E449,'3-3 위험성평가'!$A$5:$Q$423,17,0),\"\")","v":""},"선택",{"$f":"표지!$D$33","v":0},{"$f":"표지!$E$34","v":0},"선택안함",0]
["T20",2,"S40",4,442,{"$f":"IF(MAX('3-3 위험성평가'!$A$4:$A$423)+1>E450,VLOOKUP(E450,'3-3 위험성평가'!$A$5:$P$423,2,0),\"\")","v":""},{"$f":"IF(F450=\"\",\"\",VLOOKUP(VALUE(F450),'1-1 사업장 공정 정보'!$D$15:$P$41,5,0))","v":""},{"$f":"IF(MAX('3-3 위험성평가'!$A$4:$A$423)+1>E450,VLOOKUP(E450,'3-3 위험성평가'!$A$5:$P$423,3,0),\"\")","v":""},{"$f":"IF(MAX('3-3 위험성평가'!$A$4:$A$423)+1>E450,VLOOKUP(E450,'3-3 위험성평가'!$A$5:$P$423,4,0),\"\")","v":""},{"$f":"IF(MAX('3-3 위험성평가'!$A$4:$A$423)+1>E450,VLOOKUP(E450,'3-3 위험성평가'!$A$5:$P$423,5,0),\"\")","v":""},{"$f":"IF(MAX('3-3 위험성평가'!$A$4:$A$423)+1>E450,VLOOKUP(E450,'3-3 위험성평가'!$A$5:$P$423,6,0),\"\")","v":""},{"$f":"IF(MAX('3-3 위험성평가'!$A$4:$A$423)+1>E450,VLOOKUP(E450,'3-3 위험성평가'!$A$5:$P$423,9,0),\"\")","v":""},{"$f":"IF(MAX('3-3 위험성평가'!$A$4:$A$423)+1>E450,VLOOKUP(E450,'3-3 위험성평가'!$A$5:$P$423,12,0),\"\")&IF(L450>\"\",\".\"&E450,\"\")","v":""},{"$f":"IF(MAX('3-3 위험성평가'!$A$4:$A$423)+1>E450,VLOOKUP(E450,'3-3 위험성평가'!$A$5:$P$423,13,0),\"\")","v":""},null,"하",null,null,null,null,null,null,null,"선택안함",0,{"$f":"IF(MAX('3-3 위험성평가'!$A$4:$A$423)+1>E450,VLOOKUP(E450,'3-3 위험성평가'!$A$5:$Q$423,17,0),\"\")","v":""},"선택",{"$f":"표지!$D$33","v":0},{"$f":"표지!$E$34","v":0},"선택안함",0]
["T20",2,"S40",4,443,{"$f":"IF(MAX('3-3 위험성평가'!$A$4:$A$423)+1>E451,VLOOKUP(E451,'3-3 위험성평가'!$A$5:$P$423,2,0),\"\")","v":""},{"$f":"IF(F451=\"\",\"\",VLOOKUP(VALUE(F451),'1-1 사업장 공정 정보'!$D$15:$P$41,5,0))","v":""},{"$f":"IF(MAX('3-3 위험성평가'!$A$4:$A$423)+1>E451,VLOOKUP(E451,'3-3 위험성평가'!$A$5:$P$423,3,0),\"\")","v":""},{"$f":"IF(MAX('3-3 위험성평가'!$A$4:$A$423)+1>E451,VLOOKUP(E451,'3-3 위험성평가'!$A$5:$P$423,4,0),\"\")","v":""},{"$f":"IF(MAX('3-3 위험성평가'!$A$4:$A$423)+1>E451,VLOOKUP(E451,'3-3 위험성평가'!$A$5:$P$423,5,0),\"\")","v":""},{"$f":"IF(MAX('3-3 위험성평가'!$A$4:$A$423)+1>E451,VLOOKUP(E451,'3-3 위험성평가'!$A$5:$P$423,6,0),\"\")","v":""},{"$f":"IF(MAX('3-3 위험성평가'!$A$4:$A$423)+1>E451,VLOOKUP(E451,'3-3 위험성평가'!$A$5:$P$423,9,0),\"\")","v":""},{"$f":"IF(MAX('3-3 위험성평가'!$A$4:$A$423)+1>E451,VLOOKUP(E451,'3-3 위험성평가'!$A$5:$P$423,12,0),\"\")&IF(L451>\"\",\".\"&E451,\"\")","v":""},{"$f":"IF(MAX('3-3 위험성평가'!$A$4:$A$423)+1>E451,VLOOKUP(E451,'3-3 위험성평가'!$A$5:$P$423,13,0),\"\")","v":""},null,"하",null,null,null,null,null,null,null,"선택안함",0,{"$f":"IF(MAX('3-3 위험성평가'!$A$4:$A$423)+1>E451,VLOOKUP(E451,'3-3 위험성평가'!$A$5:$Q$423,17,0),\"\")","v":""},"선택",{"$f":"표지!$D$33","v":0},{"$f":"표지!$E$34","v":0},"선택안함",0]
["T20",2,"S40",4,444,{"$f":"IF(MAX('3-3 위험성평가'!$A$4:$A$423)+1>E452,VLOOKUP(E452,'3-3 위험성평가'!$A$5:$P$423,2,0),\"\")","v":""},{"$f":"IF(F452=\"\",\"\",VLOOKUP(VALUE(F452),'1-1 사업장 공정 정보'!$D$15:$P$41,5,0))","v":""},{"$f":"IF(MAX('3-3 위험성평가'!$A$4:$A$423)+1>E452,VLOOKUP(E452,'3-3 위험성평가'!$A$5:$P$423,3,0),\"\")","v":""},{"$f":"IF(MAX('3-3 위험성평가'!$A$4:$A$423)+1>E452,VLOOKUP(E452,'3-3 위험성평가'!$A$5:$P$423,4,0),\"\")","v":""},{"$f":"IF(MAX('3-3 위험성평가'!$A$4:$A$423)+1>E452,VLOOKUP(E452,'3-3 위험성평가'!$A$5:$P$423,5,0),\"\")","v":""},{"$f":"IF(MAX('3-3 위험성평가'!$A$4:$A$423)+1>E452,VLOOKUP(E452,'3-3 위험성평가'!$A$5:$P$423,6,0),\"\")","v":""},{"$f":"IF(MAX('3-3 위험성평가'!$A$4:$A$423)+1>E452,VLOOKUP(E452,'3-3 위험성평가'!$A$5:$P$423,9,0),\"\")","v":""},{"$f":"IF(MAX('3-3 위험성평가'!$A$4:$A$423)+1>E452,VLOOKUP(E452,'3-3 위험성평가'!$A$5:$P$423,12,0),\"\")&IF(L452>\"\",\".\"&E452,\"\")","v":""},{"$f":"IF(MAX('3-3 위험성평가'!$A$4:$A$423)+1>E452,VLOOKUP(E452,'3-3 위험성평가'!$A$5:$P$423,13,0),\"\")","v":""},null,"하",null,null,null,null,null,null,null,"선택안함",0,{"$f":"IF(MAX('3-3 위험성평가'!$A$4:$A$423)+1>E452,VLOOKUP(E452,'3-3 위험성평가'!$A$5:$Q$423,17,0),\"\")","v":""},"선택",{"$f":"표지!$D$33","v":0},{"$f":"표지!$E$34","v":0},"선택안함",0]
["T20",2,"S40",4,445,{"$f":"IF(MAX('3-3 위험성평가'!$A$4:$A$423)+1>E453,VLOOKUP(E453,'3-3 위험성평가'!$A$5:$P$423,2,0),\"\")","v":""},{"$f":"IF(F453=\"\",\"\",VLOOKUP(VALUE(F453),'1-1 사업장 공정 정보'!$D$15:$P$41,5,0))","v":""},{"$f":"IF(MAX('3-3 위험성평가'!$A$4:$A$423)+1>E453,VLOOKUP(E453,'3-3 위험성평가'!$A$5:$P$423,3,0),\"\")","v":""},{"$f":"IF(MAX('3-3 위험성평가'!$A$4:$A$423)+1>E453,VLOOKUP(E453,'3-3 위험성평가'!$A$5:$P$423,4,0),\"\")","v":""},{"$f":"IF(MAX('3-3 위험성평가'!$A$4:$A$423)+1>E453,VLOOKUP(E453,'3-3 위험성평가'!$A$5:$P$423,5,0),\"\")","v":""},{"$f":"IF(MAX('3-3 위험성평가'!$A$4:$A$423)+1>E453,VLOOKUP(E453,'3-3 위험성평가'!$A$5:$P$423,6,0),\"\")","v":""},{"$f":"IF(MAX('3-3 위험성평가'!$A$4:$A$423)+1>E453,VLOOKUP(E453,'3-3 위험성평가'!$A$5:$P$423,9,0),\"\")","v":""},{"$f":"IF(MAX('3-3 위험성평가'!$A$4:$A$423)+1>E453,VLOOKUP(E453,'3-3 위험성평가'!$A$5:$P$423,12,0),\"\")&IF(L453>\"\",\".\"&E453,\"\")","v":""},{"$f":"IF(MAX('3-3 위험성평가'!$A$4:$A$423)+1>E453,VLOOKUP(E453,'3-3 위험성평가'!$A$5:$P$423,13,0),\"\")","v":""},null,"하",null,null,null,null,null,null,null,"선택안함",0,{"$f":"IF(MAX('3-3 위험성평가'!$A$4:$A$423)+1>E453,VLOOKUP(E453,'3-3 위험성평가'!$A$5:$Q$423,17,0),\"\")","v":""},"선택",{"$f":"표지!$D$33","v":0},{"$f":"표지!$E$34","v":0},"선택안함",0]
["T20",2,"S40",4,446,{"$f":"IF(MAX('3-3 위험성평가'!$A$4:$A$423)+1>E454,VLOOKUP(E454,'3-3 위험성평가'!$A$5:$P$423,2,0),\"\")","v":""},{"$f":"IF(F454=\"\",\"\",VLOOKUP(VALUE(F454),'1-1 사업장 공정 정보'!$D$15:$P$41,5,0))","v":""},{"$f":"IF(MAX('3-3 위험성평가'!$A$4:$A$423)+1>E454,VLOOKUP(E454,'3-3 위험성평가'!$A$5:$P$423,3,0),\"\")","v":""},{"$f":"IF(MAX('3-3 위험성평가'!$A$4:$A$423)+1>E454,VLOOKUP(E454,'3-3 위험성평가'!$A$5:$P$423,4,0),\"\")","v":""},{"$f":"IF(MAX('3-3 위험성평가'!$A$4:$A$423)+1>E454,VLOOKUP(E454,'3-3 위험성평가'!$A$5:$P$423,5,0),\"\")","v":""},{"$f":"IF(MAX('3-3 위험성평가'!$A$4:$A$423)+1>E454,VLOOKUP(E454,'3-3 위험성평가'!$A$5:$P$423,6,0),\"\")","v":""},{"$f":"IF(MAX('3-3 위험성평가'!$A$4:$A$423)+1>E454,VLOOKUP(E454,'3-3 위험성평가'!$A$5:$P$423,9,0),\"\")","v":""},{"$f":"IF(MAX('3-3 위험성평가'!$A$4:$A$423)+1>E454,VLOOKUP(E454,'3-3 위험성평가'!$A$5:$P$423,12,0),\"\")&IF(L454>\"\",\".\"&E454,\"\")","v":""},{"$f":"IF(MAX('3-3 위험성평가'!$A$4:$A$423)+1>E454,VLOOKUP(E454,'3-3 위험성평가'!$A$5:$P$423,13,0),\"\")","v":""},null,"하",null,null,null,null,null,null,null,"선택안함",0,{"$f":"IF(MAX('3-3 위험성평가'!$A$4:$A$423)+1>E454,VLOOKUP(E454,'3-3 위험성평가'!$A$5:$Q$423,17,0),\"\")","v":""},"선택",{"$f":"표지!$D$33","v":0},{"$f":"표지!$E$34","v":0},"선택안함",0]
["T20",2,"S40",4,447,{"$f":"IF(MAX('3-3 위험성평가'!$A$4:$A$423)+1>E455,VLOOKUP(E455,'3-3 위험성평가'!$A$5:$P$423,2,0),\"\")","v":""},{"$f":"IF(F455=\"\",\"\",VLOOKUP(VALUE(F455),'1-1 사업장 공정 정보'!$D$15:$P$41,5,0))","v":""},{"$f":"IF(MAX('3-3 위험성평가'!$A$4:$A$423)+1>E455,VLOOKUP(E455,'3-3 위험성평가'!$A$5:$P$423,3,0),\"\")","v":""},{"$f":"IF(MAX('3-3 위험성평가'!$A$4:$A$423)+1>E455,VLOOKUP(E455,'3-3 위험성평가'!$A$5:$P$423,4,0),\"\")","v":""},{"$f":"IF(MAX('3-3 위험성평가'!$A$4:$A$423)+1>E455,VLOOKUP(E455,'3-3 위험성평가'!$A$5:$P$423,5,0),\"\")","v":""},{"$f":"IF(MAX('3-3 위험성평가'!$A$4:$A$423)+1>E455,VLOOKUP(E455,'3-3 위험성평가'!$A$5:$P$423,6,0),\"\")","v":""},{"$f":"IF(MAX('3-3 위험성평가'!$A$4:$A$423)+1>E455,VLOOKUP(E455,'3-3 위험성평가'!$A$5:$P$423,9,0),\"\")","v":""},{"$f":"IF(MAX('3-3 위험성평가'!$A$4:$A$423)+1>E455,VLOOKUP(E455,'3-3 위험성평가'!$A$5:$P$423,12,0),\"\")&IF(L455>\"\",\".\"&E455,\"\")","v":""},{"$f":"IF(MAX('3-3 위험성평가'!$A$4:$A$423)+1>E455,VLOOKUP(E455,'3-3 위험성평가'!$A$5:$P$423,13,0),\"\")","v":""},null,"하",null,null,null,null,null,null,null,"선택안함",0,{"$f":"IF(MAX('3-3 위험성평가'!$A$4:$A$423)+1>E455,VLOOKUP(E455,'3-3 위험성평가'!$A$5:$Q$423,17,0),\"\")","v":""},"선택",{"$f":"표지!$D$33","v":0},{"$f":"표지!$E$34","v":0},"선택안함",0]
["T20",2,"S40",4,448,{"$f":"IF(MAX('3-3 위험성평가'!$A$4:$A$423)+1>E456,VLOOKUP(E456,'3-3 위험성평가'!$A$5:$P$423,2,0),\"\")","v":""},{"$f":"IF(F456=\"\",\"\",VLOOKUP(VALUE(F456),'1-1 사업장 공정 정보'!$D$15:$P$41,5,0))","v":""},{"$f":"IF(MAX('3-3 위험성평가'!$A$4:$A$423)+1>E456,VLOOKUP(E456,'3-3 위험성평가'!$A$5:$P$423,3,0),\"\")","v":""},{"$f":"IF(MAX('3-3 위험성평가'!$A$4:$A$423)+1>E456,VLOOKUP(E456,'3-3 위험성평가'!$A$5:$P$423,4,0),\"\")","v":""},{"$f":"IF(MAX('3-3 위험성평가'!$A$4:$A$423)+1>E456,VLOOKUP(E456,'3-3 위험성평가'!$A$5:$P$423,5,0),\"\")","v":""},{"$f":"IF(MAX('3-3 위험성평가'!$A$4:$A$423)+1>E456,VLOOKUP(E456,'3-3 위험성평가'!$A$5:$P$423,6,0),\"\")","v":""},{"$f":"IF(MAX('3-3 위험성평가'!$A$4:$A$423)+1>E456,VLOOKUP(E456,'3-3 위험성평가'!$A$5:$P$423,9,0),\"\")","v":""},{"$f":"IF(MAX('3-3 위험성평가'!$A$4:$A$423)+1>E456,VLOOKUP(E456,'3-3 위험성평가'!$A$5:$P$423,12,0),\"\")&IF(L456>\"\",\".\"&E456,\"\")","v":""},{"$f":"IF(MAX('3-3 위험성평가'!$A$4:$A$423)+1>E456,VLOOKUP(E456,'3-3 위험성평가'!$A$5:$P$423,13,0),\"\")","v":""},null,"하",null,null,null,null,null,null,null,"선택안함",0,{"$f":"IF(MAX('3-3 위험성평가'!$A$4:$A$423)+1>E456,VLOOKUP(E456,'3-3 위험성평가'!$A$5:$Q$423,17,0),\"\")","v":""},"선택",{"$f":"표지!$D$33","v":0},{"$f":"표지!$E$34","v":0},"선택안함",0]
[{"$f":"\"T\"&B457&IF(OR(X457=\"선택\",X457=1),1,0)","v":"T20"},2,"S40",4,449,{"$f":"IF(MAX('3-3 위험성평가'!$A$4:$A$423)+1>E457,VLOOKUP(E457,'3-3 위험성평가'!$A$5:$P$423,2,0),\"\")","v":""},{"$f":"IF(F457=\"\",\"\",VLOOKUP(VALUE(F457),'1-1 사업장 공정 정보'!$D$15:$P$41,5,0))","v":""},{"$f":"IF(MAX('3-3 위험성평가'!$A$4:$A$423)+1>E457,VLOOKUP(E457,'3-3 위험성평가'!$A$5:$P$423,3,0),\"\")","v":""},{"$f":"IF(MAX('3-3 위험성평가'!$A$4:$A$423)+1>E457,VLOOKUP(E457,'3-3 위험성평가'!$A$5:$P$423,4,0),\"\")","v":""},{"$f":"IF(MAX('3-3 위험성평가'!$A$4:$A$423)+1>E457,VLOOKUP(E457,'3-3 위험성평가'!$A$5:$P$423,5,0),\"\")","v":""},{"$f":"IF(MAX('3-3 위험성평가'!$A$4:$A$423)+1>E457,VLOOKUP(E457,'3-3 위험성평가'!$A$5:$P$423,6,0),\"\")","v":""},{"$f":"IF(MAX('3-3 위험성평가'!$A$4:$A$423)+1>E457,VLOOKUP(E457,'3-3 위험성평가'!$A$5:$P$423,9,0),\"\")","v":""},{"$f":"IF(MAX('3-3 위험성평가'!$A$4:$A$423)+1>E457,VLOOKUP(E457,'3-3 위험성평가'!$A$5:$P$423,12,0),\"\")&IF(L457>\"\",\".\"&E457,\"\")","v":""},{"$f":"IF(MAX('3-3 위험성평가'!$A$4:$A$423)+1>E457,VLOOKUP(E457,'3-3 위험성평가'!$A$5:$P$423,13,0),\"\")","v":""},null,"하",null,null,null,null,null,null,null,"선택안함",0,{"$f":"IF(MAX('3-3 위험성평가'!$A$4:$A$423)+1>E457,VLOOKUP(E457,'3-3 위험성평가'!$A$5:$Q$423,17,0),\"\")","v":""},"선택",{"$f":"표지!$D$33","v":0},{"$f":"표지!$E$34","v":0},"선택안함",0]
["T20",2,{"$f":"\"S\"&D458&IF(OR(AD458=\"선택\",AD458=1),1,0)","v":"S40"},4,450,{"$f":"IF(MAX('3-3 위험성평가'!$A$4:$A$423)+1>E458,VLOOKUP(E458,'3-3 위험성평가'!$A$5:$P$423,2,0),\"\")","v":""},{"$f":"IF(F458=\"\",\"\",VLOOKUP(VALUE(F458),'1-1 사업장 공정 정보'!$D$15:$P$41,5,0))","v":""},{"$f":"IF(MAX('3-3 위험성평가'!$A$4:$A$423)+1>E458,VLOOKUP(E458,'3-3 위험성평가'!$A$5:$P$423,3,0),\"\")","v":""},{"$f":"IF(MAX('3-3 위험성평가'!$A$4:$A$423)+1>E458,VLOOKUP(E458,'3-3 위험성평가'!$A$5:$P$423,4,0),\"\")","v":""},{"$f":"IF(MAX('3-3 위험성평가'!$A$4:$A$423)+1>E458,VLOOKUP(E458,'3-3 위험성평가'!$A$5:$P$423,5,0),\"\")","v":""},{"$f":"IF(MAX('3-3 위험성평가'!$A$4:$A$423)+1>E458,VLOOKUP(E458,'3-3 위험성평가'!$A$5:$P$423,6,0),\"\")","v":""},{"$f":"IF(MAX('3-3 위험성평가'!$A$4:$A$423)+1>E458,VLOOKUP(E458,'3-3 위험성평가'!$A$5:$P$423,9,0),\"\")","v":""},{"$f":"IF(MAX('3-3 위험성평가'!$A$4:$A$423)+1>E458,VLOOKUP(E458,'3-3 위험성평가'!$A$5:$P$423,12,0),\"\")&IF(L458>\"\",\".\"&E458,\"\")","v":""},{"$f":"IF(MAX('3-3 위험성평가'!$A$4:$A$423)+1>E458,VLOOKUP(E458,'3-3 위험성평가'!$A$5:$P$423,13,0),\"\")","v":""},null,"하",null,null,null,null,null,null,null,"선택안함",{"$f":"IF(OR(X458=\"선택\",X458=1),1,0)","v":0},{"$f":"IF(MAX('3-3 위험성평가'!$A$4:$A$423)+1>E458,VLOOKUP(E458,'3-3 위험성평가'!$A$5:$Q$423,17,0),\"\")","v":""},"선택",{"$f":"표지!$D$33","v":0},{"$f":"표지!$E$34","v":0},"선택안함",{"$f":"IF(OR(AD458=\"선택\",AD458=1),1,0)","v":0}]
["T20",2,"S40",4,451,{"$f":"IF(MAX('3-3 위험성평가'!$A$4:$A$423)+1>E459,VLOOKUP(E459,'3-3 위험성평가'!$A$5:$P$423,2,0),\"\")","v":""},{"$f":"IF(F459=\"\",\"\",VLOOKUP(VALUE(F459),'1-1 사업장 공정 정보'!$D$15:$P$41,5,0))","v":""},{"$f":"IF(MAX('3-3 위험성평가'!$A$4:$A$423)+1>E459,VLOOKUP(E459,'3-3 위험성평가'!$A$5:$P$423,3,0),\"\")","v":""},{"$f":"IF(MAX('3-3 위험성평가'!$A$4:$A$423)+1>E459,VLOOKUP(E459,'3-3 위험성평가'!$A$5:$P$423,4,0),\"\")","v":""},{"$f":"IF(MAX('3-3 위험성평가'!$A$4:$A$423)+1>E459,VLOOKUP(E459,'3-3 위험성평가'!$A$5:$P$423,5,0),\"\")","v":""},{"$f":"IF(MAX('3-3 위험성평가'!$A$4:$A$423)+1>E459,VLOOKUP(E459,'3-3 위험성평가'!$A$5:$P$423,6,0),\"\")","v":""},{"$f":"IF(MAX('3-3 위험성평가'!$A$4:$A$423)+1>E459,VLOOKUP(E459,'3-3 위험성평가'!$A$5:$P$423,9,0),\"\")","v":""},{"$f":"IF(MAX('3-3 위험성평가'!$A$4:$A$423)+1>E459,VLOOKUP(E459,'3-3 위험성평가'!$A$5:$P$423,12,0),\"\")&IF(L459>\"\",\".\"&E459,\"\")","v":""},{"$f":"IF(MAX('3-3 위험성평가'!$A$4:$A$423)+1>E459,VLOOKUP(E459,'3-3 위험성평가'!$A$5:$P$423,13,0),\"\")","v":""},null,"하",null,null,null,null,null,null,null,"선택안함",0,{"$f":"IF(MAX('3-3 위험성평가'!$A$4:$A$423)+1>E459,VLOOKUP(E459,'3-3 위험성평가'!$A$5:$Q$423,17,0),\"\")","v":""},"선택",{"$f":"표지!$D$33","v":0},{"$f":"표지!$E$34","v":0},"선택안함",0]
["T20",2,"S40",{"$f":"D459+AE460","v":4},452,{"$f":"IF(MAX('3-3 위험성평가'!$A$4:$A$423)+1>E460,VLOOKUP(E460,'3-3 위험성평가'!$A$5:$P$423,2,0),\"\")","v":""},{"$f":"IF(F460=\"\",\"\",VLOOKUP(VALUE(F460),'1-1 사업장 공정 정보'!$D$15:$P$41,5,0))","v":""},{"$f":"IF(MAX('3-3 위험성평가'!$A$4:$A$423)+1>E460,VLOOKUP(E460,'3-3 위험성평가'!$A$5:$P$423,3,0),\"\")","v":""},{"$f":"IF(MAX('3-3 위험성평가'!$A$4:$A$423)+1>E460,VLOOKUP(E460,'3-3 위험성평가'!$A$5:$P$423,4,0),\"\")","v":""},{"$f":"IF(MAX('3-3 위험성평가'!$A$4:$A$423)+1>E460,VLOOKUP(E460,'3-3 위험성평가'!$A$5:$P$423,5,0),\"\")","v":""},{"$f":"IF(MAX('3-3 위험성평가'!$A$4:$A$423)+1>E460,VLOOKUP(E460,'3-3 위험성평가'!$A$5:$P$423,6,0),\"\")","v":""},{"$f":"IF(MAX('3-3 위험성평가'!$A$4:$A$423)+1>E460,VLOOKUP(E460,'3-3 위험성평가'!$A$5:$P$423,9,0),\"\")","v":""},{"$f":"IF(MAX('3-3 위험성평가'!$A$4:$A$423)+1>E460,VLOOKUP(E460,'3-3 위험성평가'!$A$5:$P$423,12,0),\"\")&IF(L460>\"\",\".\"&E460,\"\")","v":""},{"$f":"IF(MAX('3-3 위험성평가'!$A$4:$A$423)+1>E460,VLOOKUP(E460,'3-3 위험성평가'!$A$5:$P$423,13,0),\"\")","v":""},null,"하",null,null,null,null,null,null,null,"선택안함",0,{"$f":"IF(MAX('3-3 위험성평가'!$A$4:$A$423)+1>E460,VLOOKUP(E460,'3-3 위험성평가'!$A$5:$Q$423,17,0),\"\")","v":""},"선택",{"$f":"표지!$D$33","v":0},{"$f":"표지!$E$34","v":0},"선택안함",0]
["T20",2,"S40",4,453,{"$f":"IF(MAX('3-3 위험성평가'!$A$4:$A$423)+1>E461,VLOOKUP(E461,'3-3 위험성평가'!$A$5:$P$423,2,0),\"\")","v":""},{"$f":"IF(F461=\"\",\"\",VLOOKUP(VALUE(F461),'1-1 사업장 공정 정보'!$D$15:$P$41,5,0))","v":""},{"$f":"IF(MAX('3-3 위험성평가'!$A$4:$A$423)+1>E461,VLOOKUP(E461,'3-3 위험성평가'!$A$5:$P$423,3,0),\"\")","v":""},{"$f":"IF(MAX('3-3 위험성평가'!$A$4:$A$423)+1>E461,VLOOKUP(E461,'3-3 위험성평가'!$A$5:$P$423,4,0),\"\")","v":""},{"$f":"IF(MAX('3-3 위험성평가'!$A$4:$A$423)+1>E461,VLOOKUP(E461,'3-3 위험성평가'!$A$5:$P$423,5,0),\"\")","v":""},{"$f":"IF(MAX('3-3 위험성평가'!$A$4:$A$423)+1>E461,VLOOKUP(E461,'3-3 위험성평가'!$A$5:$P$423,6,0),\"\")","v":""},{"$f":"IF(MAX('3-3 위험성평가'!$A$4:$A$423)+1>E461,VLOOKUP(E461,'3-3 위험성평가'!$A$5:$P$423,9,0),\"\")","v":""},{"$f":"IF(MAX('3-3 위험성평가'!$A$4:$A$423)+1>E461,VLOOKUP(E461,'3-3 위험성평가'!$A$5:$P$423,12,0),\"\")&IF(L461>\"\",\".\"&E461,\"\")","v":""},{"$f":"IF(MAX('3-3 위험성평가'!$A$4:$A$423)+1>E461,VLOOKUP(E461,'3-3 위험성평가'!$A$5:$P$423,13,0),\"\")","v":""},null,"하",null,null,null,null,null,null,null,"선택안함",0,{"$f":"IF(MAX('3-3 위험성평가'!$A$4:$A$423)+1>E461,VLOOKUP(E461,'3-3 위험성평가'!$A$5:$Q$423,17,0),\"\")","v":""},"선택",{"$f":"표지!$D$33","v":0},{"$f":"표지!$E$34","v":0},"선택안함",0]
["T20",2,"S40",4,454,{"$f":"IF(MAX('3-3 위험성평가'!$A$4:$A$423)+1>E462,VLOOKUP(E462,'3-3 위험성평가'!$A$5:$P$423,2,0),\"\")","v":""},{"$f":"IF(F462=\"\",\"\",VLOOKUP(VALUE(F462),'1-1 사업장 공정 정보'!$D$15:$P$41,5,0))","v":""},{"$f":"IF(MAX('3-3 위험성평가'!$A$4:$A$423)+1>E462,VLOOKUP(E462,'3-3 위험성평가'!$A$5:$P$423,3,0),\"\")","v":""},{"$f":"IF(MAX('3-3 위험성평가'!$A$4:$A$423)+1>E462,VLOOKUP(E462,'3-3 위험성평가'!$A$5:$P$423,4,0),\"\")","v":""},{"$f":"IF(MAX('3-3 위험성평가'!$A$4:$A$423)+1>E462,VLOOKUP(E462,'3-3 위험성평가'!$A$5:$P$423,5,0),\"\")","v":""},{"$f":"IF(MAX('3-3 위험성평가'!$A$4:$A$423)+1>E462,VLOOKUP(E462,'3-3 위험성평가'!$A$5:$P$423,6,0),\"\")","v":""},{"$f":"IF(MAX('3-3 위험성평가'!$A$4:$A$423)+1>E462,VLOOKUP(E462,'3-3 위험성평가'!$A$5:$P$423,9,0),\"\")","v":""},{"$f":"IF(MAX('3-3 위험성평가'!$A$4:$A$423)+1>E462,VLOOKUP(E462,'3-3 위험성평가'!$A$5:$P$423,12,0),\"\")&IF(L462>\"\",\".\"&E462,\"\")","v":""},{"$f":"IF(MAX('3-3 위험성평가'!$A$4:$A$423)+1>E462,VLOOKUP(E462,'3-3 위험성평가'!$A$5:$P$423,13,0),\"\")","v":""},null,"하",null,null,null,null,null,null,null,"선택안함",0,{"$f":"IF(MAX('3-3 위험성평가'!$A$4:$A$423)+1>E462,VLOOKUP(E462,'3-3 위험성평가'!$A$5:$Q$423,17,0),\"\")","v":""},"선택",{"$f":"표지!$D$33","v":0},{"$f":"표지!$E$34","v":0},"선택안함",0]
["T20",2,"S40",4,455,{"$f":"IF(MAX('3-3 위험성평가'!$A$4:$A$423)+1>E463,VLOOKUP(E463,'3-3 위험성평가'!$A$5:$P$423,2,0),\"\")","v":""},{"$f":"IF(F463=\"\",\"\",VLOOKUP(VALUE(F463),'1-1 사업장 공정 정보'!$D$15:$P$41,5,0))","v":""},{"$f":"IF(MAX('3-3 위험성평가'!$A$4:$A$423)+1>E463,VLOOKUP(E463,'3-3 위험성평가'!$A$5:$P$423,3,0),\"\")","v":""},{"$f":"IF(MAX('3-3 위험성평가'!$A$4:$A$423)+1>E463,VLOOKUP(E463,'3-3 위험성평가'!$A$5:$P$423,4,0),\"\")","v":""},{"$f":"IF(MAX('3-3 위험성평가'!$A$4:$A$423)+1>E463,VLOOKUP(E463,'3-3 위험성평가'!$A$5:$P$423,5,0),\"\")","v":""},{"$f":"IF(MAX('3-3 위험성평가'!$A$4:$A$423)+1>E463,VLOOKUP(E463,'3-3 위험성평가'!$A$5:$P$423,6,0),\"\")","v":""},{"$f":"IF(MAX('3-3 위험성평가'!$A$4:$A$423)+1>E463,VLOOKUP(E463,'3-3 위험성평가'!$A$5:$P$423,9,0),\"\")","v":""},{"$f":"IF(MAX('3-3 위험성평가'!$A$4:$A$423)+1>E463,VLOOKUP(E463,'3-3 위험성평가'!$A$5:$P$423,12,0),\"\")&IF(L463>\"\",\".\"&E463,\"\")","v":""},{"$f":"IF(MAX('3-3 위험성평가'!$A$4:$A$423)+1>E463,VLOOKUP(E463,'3-3 위험성평가'!$A$5:$P$423,13,0),\"\")","v":""},null,"하",null,null,null,null,null,null,null,"선택안함",0,{"$f":"IF(MAX('3-3 위험성평가'!$A$4:$A$423)+1>E463,VLOOKUP(E463,'3-3 위험성평가'!$A$5:$Q$423,17,0),\"\")","v":""},"선택",{"$f":"표지!$D$33","v":0},{"$f":"표지!$E$34","v":0},"선택안함",0]
["T20",2,"S40",4,456,{"$f":"IF(MAX('3-3 위험성평가'!$A$4:$A$423)+1>E464,VLOOKUP(E464,'3-3 위험성평가'!$A$5:$P$423,2,0),\"\")","v":""},{"$f":"IF(F464=\"\",\"\",VLOOKUP(VALUE(F464),'1-1 사업장 공정 정보'!$D$15:$P$41,5,0))","v":""},{"$f":"IF(MAX('3-3 위험성평가'!$A$4:$A$423)+1>E464,VLOOKUP(E464,'3-3 위험성평가'!$A$5:$P$423,3,0),\"\")","v":""},{"$f":"IF(MAX('3-3 위험성평가'!$A$4:$A$423)+1>E464,VLOOKUP(E464,'3-3 위험성평가'!$A$5:$P$423,4,0),\"\")","v":""},{"$f":"IF(MAX('3-3 위험성평가'!$A$4:$A$423)+1>E464,VLOOKUP(E464,'3-3 위험성평가'!$A$5:$P$423,5,0),\"\")","v":""},{"$f":"IF(MAX('3-3 위험성평가'!$A$4:$A$423)+1>E464,VLOOKUP(E464,'3-3 위험성평가'!$A$5:$P$423,6,0),\"\")","v":""},{"$f":"IF(MAX('3-3 위험성평가'!$A$4:$A$423)+1>E464,VLOOKUP(E464,'3-3 위험성평가'!$A$5:$P$423,9,0),\"\")","v":""},{"$f":"IF(MAX('3-3 위험성평가'!$A$4:$A$423)+1>E464,VLOOKUP(E464,'3-3 위험성평가'!$A$5:$P$423,12,0),\"\")&IF(L464>\"\",\".\"&E464,\"\")","v":""},{"$f":"IF(MAX('3-3 위험성평가'!$A$4:$A$423)+1>E464,VLOOKUP(E464,'3-3 위험성평가'!$A$5:$P$423,13,0),\"\")","v":""},null,"하",null,null,null,null,null,null,null,"선택안함",0,{"$f":"IF(MAX('3-3 위험성평가'!$A$4:$A$423)+1>E464,VLOOKUP(E464,'3-3 위험성평가'!$A$5:$Q$423,17,0),\"\")","v":""},"선택",{"$f":"표지!$D$33","v":0},{"$f":"표지!$E$34","v":0},"선택안함",0]
["T20",2,"S40",4,457,{"$f":"IF(MAX('3-3 위험성평가'!$A$4:$A$423)+1>E465,VLOOKUP(E465,'3-3 위험성평가'!$A$5:$P$423,2,0),\"\")","v":""},{"$f":"IF(F465=\"\",\"\",VLOOKUP(VALUE(F465),'1-1 사업장 공정 정보'!$D$15:$P$41,5,0))","v":""},{"$f":"IF(MAX('3-3 위험성평가'!$A$4:$A$423)+1>E465,VLOOKUP(E465,'3-3 위험성평가'!$A$5:$P$423,3,0),\"\")","v":""},{"$f":"IF(MAX('3-3 위험성평가'!$A$4:$A$423)+1>E465,VLOOKUP(E465,'3-3 위험성평가'!$A$5:$P$423,4,0),\"\")","v":""},{"$f":"IF(MAX('3-3 위험성평가'!$A$4:$A$423)+1>E465,VLOOKUP(E465,'3-3 위험성평가'!$A$5:$P$423,5,0),\"\")","v":""},{"$f":"IF(MAX('3-3 위험성평가'!$A$4:$A$423)+1>E465,VLOOKUP(E465,'3-3 위험성평가'!$A$5:$P$423,6,0),\"\")","v":""},{"$f":"IF(MAX('3-3 위험성평가'!$A$4:$A$423)+1>E465,VLOOKUP(E465,'3-3 위험성평가'!$A$5:$P$423,9,0),\"\")","v":""},{"$f":"IF(MAX('3-3 위험성평가'!$A$4:$A$423)+1>E465,VLOOKUP(E465,'3-3 위험성평가'!$A$5:$P$423,12,0),\"\")&IF(L465>\"\",\".\"&E465,\"\")","v":""},{"$f":"IF(MAX('3-3 위험성평가'!$A$4:$A$423)+1>E465,VLOOKUP(E465,'3-3 위험성평가'!$A$5:$P$423,13,0),\"\")","v":""},null,"하",null,null,null,null,null,null,null,"선택안함",0,{"$f":"IF(MAX('3-3 위험성평가'!$A$4:$A$423)+1>E465,VLOOKUP(E465,'3-3 위험성평가'!$A$5:$Q$423,17,0),\"\")","v":""},"선택",{"$f":"표지!$D$33","v":0},{"$f":"표지!$E$34","v":0},"선택안함",0]
["T20",2,"S40",4,458,{"$f":"IF(MAX('3-3 위험성평가'!$A$4:$A$423)+1>E466,VLOOKUP(E466,'3-3 위험성평가'!$A$5:$P$423,2,0),\"\")","v":""},{"$f":"IF(F466=\"\",\"\",VLOOKUP(VALUE(F466),'1-1 사업장 공정 정보'!$D$15:$P$41,5,0))","v":""},{"$f":"IF(MAX('3-3 위험성평가'!$A$4:$A$423)+1>E466,VLOOKUP(E466,'3-3 위험성평가'!$A$5:$P$423,3,0),\"\")","v":""},{"$f":"IF(MAX('3-3 위험성평가'!$A$4:$A$423)+1>E466,VLOOKUP(E466,'3-3 위험성평가'!$A$5:$P$423,4,0),\"\")","v":""},{"$f":"IF(MAX('3-3 위험성평가'!$A$4:$A$423)+1>E466,VLOOKUP(E466,'3-3 위험성평가'!$A$5:$P$423,5,0),\"\")","v":""},{"$f":"IF(MAX('3-3 위험성평가'!$A$4:$A$423)+1>E466,VLOOKUP(E466,'3-3 위험성평가'!$A$5:$P$423,6,0),\"\")","v":""},{"$f":"IF(MAX('3-3 위험성평가'!$A$4:$A$423)+1>E466,VLOOKUP(E466,'3-3 위험성평가'!$A$5:$P$423,9,0),\"\")","v":""},{"$f":"IF(MAX('3-3 위험성평가'!$A$4:$A$423)+1>E466,VLOOKUP(E466,'3-3 위험성평가'!$A$5:$P$423,12,0),\"\")&IF(L466>\"\",\".\"&E466,\"\")","v":""},{"$f":"IF(MAX('3-3 위험성평가'!$A$4:$A$423)+1>E466,VLOOKUP(E466,'3-3 위험성평가'!$A$5:$P$423,13,0),\"\")","v":""},null,"하",null,null,null,null,null,null,null,"선택안함",0,{"$f":"IF(MAX('3-3 위험성평가'!$A$4:$A$423)+1>E466,VLOOKUP(E466,'3-3 위험성평가'!$A$5:$Q$423,17,0),\"\")","v":""},"선택",{"$f":"표지!$D$33","v":0},{"$f":"표지!$E$34","v":0},"선택안함",0]
["T20",2,"S40",4,459,{"$f":"IF(MAX('3-3 위험성평가'!$A$4:$A$423)+1>E467,VLOOKUP(E467,'3-3 위험성평가'!$A$5:$P$423,2,0),\"\")","v":""},{"$f":"IF(F467=\"\",\"\",VLOOKUP(VALUE(F467),'1-1 사업장 공정 정보'!$D$15:$P$41,5,0))","v":""},{"$f":"IF(MAX('3-3 위험성평가'!$A$4:$A$423)+1>E467,VLOOKUP(E467,'3-3 위험성평가'!$A$5:$P$423,3,0),\"\")","v":""},{"$f":"IF(MAX('3-3 위험성평가'!$A$4:$A$423)+1>E467,VLOOKUP(E467,'3-3 위험성평가'!$A$5:$P$423,4,0),\"\")","v":""},{"$f":"IF(MAX('3-3 위험성평가'!$A$4:$A$423)+1>E467,VLOOKUP(E467,'3-3 위험성평가'!$A$5:$P$423,5,0),\"\")","v":""},{"$f":"IF(MAX('3-3 위험성평가'!$A$4:$A$423)+1>E467,VLOOKUP(E467,'3-3 위험성평가'!$A$5:$P$423,6,0),\"\")","v":""},{"$f":"IF(MAX('3-3 위험성평가'!$A$4:$A$423)+1>E467,VLOOKUP(E467,'3-3 위험성평가'!$A$5:$P$423,9,0),\"\")","v":""},{"$f":"IF(MAX('3-3 위험성평가'!$A$4:$A$423)+1>E467,VLOOKUP(E467,'3-3 위험성평가'!$A$5:$P$423,12,0),\"\")&IF(L467>\"\",\".\"&E467,\"\")","v":""},{"$f":"IF(MAX('3-3 위험성평가'!$A$4:$A$423)+1>E467,VLOOKUP(E467,'3-3 위험성평가'!$A$5:$P$423,13,0),\"\")","v":""},null,"하",null,null,null,null,null,null,null,"선택안함",0,{"$f":"IF(MAX('3-3 위험성평가'!$A$4:$A$423)+1>E467,VLOOKUP(E467,'3-3 위험성평가'!$A$5:$Q$423,17,0),\"\")","v":""},"선택",{"$f":"표지!$D$33","v":0},{"$f":"표지!$E$34","v":0},"선택안함",0]
["T20",2,"S40",4,460,{"$f":"IF(MAX('3-3 위험성평가'!$A$4:$A$423)+1>E468,VLOOKUP(E468,'3-3 위험성평가'!$A$5:$P$423,2,0),\"\")","v":""},{"$f":"IF(F468=\"\",\"\",VLOOKUP(VALUE(F468),'1-1 사업장 공정 정보'!$D$15:$P$41,5,0))","v":""},{"$f":"IF(MAX('3-3 위험성평가'!$A$4:$A$423)+1>E468,VLOOKUP(E468,'3-3 위험성평가'!$A$5:$P$423,3,0),\"\")","v":""},{"$f":"IF(MAX('3-3 위험성평가'!$A$4:$A$423)+1>E468,VLOOKUP(E468,'3-3 위험성평가'!$A$5:$P$423,4,0),\"\")","v":""},{"$f":"IF(MAX('3-3 위험성평가'!$A$4:$A$423)+1>E468,VLOOKUP(E468,'3-3 위험성평가'!$A$5:$P$423,5,0),\"\")","v":""},{"$f":"IF(MAX('3-3 위험성평가'!$A$4:$A$423)+1>E468,VLOOKUP(E468,'3-3 위험성평가'!$A$5:$P$423,6,0),\"\")","v":""},{"$f":"IF(MAX('3-3 위험성평가'!$A$4:$A$423)+1>E468,VLOOKUP(E468,'3-3 위험성평가'!$A$5:$P$423,9,0),\"\")","v":""},{"$f":"IF(MAX('3-3 위험성평가'!$A$4:$A$423)+1>E468,VLOOKUP(E468,'3-3 위험성평가'!$A$5:$P$423,12,0),\"\")&IF(L468>\"\",\".\"&E468,\"\")","v":""},{"$f":"IF(MAX('3-3 위험성평가'!$A$4:$A$423)+1>E468,VLOOKUP(E468,'3-3 위험성평가'!$A$5:$P$423,13,0),\"\")","v":""},null,"하",null,null,null,null,null,null,null,"선택안함",0,{"$f":"IF(MAX('3-3 위험성평가'!$A$4:$A$423)+1>E468,VLOOKUP(E468,'3-3 위험성평가'!$A$5:$Q$423,17,0),\"\")","v":""},"선택",{"$f":"표지!$D$33","v":0},{"$f":"표지!$E$34","v":0},"선택안함",0]
["T20",2,"S40",4,461,{"$f":"IF(MAX('3-3 위험성평가'!$A$4:$A$423)+1>E469,VLOOKUP(E469,'3-3 위험성평가'!$A$5:$P$423,2,0),\"\")","v":""},{"$f":"IF(F469=\"\",\"\",VLOOKUP(VALUE(F469),'1-1 사업장 공정 정보'!$D$15:$P$41,5,0))","v":""},{"$f":"IF(MAX('3-3 위험성평가'!$A$4:$A$423)+1>E469,VLOOKUP(E469,'3-3 위험성평가'!$A$5:$P$423,3,0),\"\")","v":""},{"$f":"IF(MAX('3-3 위험성평가'!$A$4:$A$423)+1>E469,VLOOKUP(E469,'3-3 위험성평가'!$A$5:$P$423,4,0),\"\")","v":""},{"$f":"IF(MAX('3-3 위험성평가'!$A$4:$A$423)+1>E469,VLOOKUP(E469,'3-3 위험성평가'!$A$5:$P$423,5,0),\"\")","v":""},{"$f":"IF(MAX('3-3 위험성평가'!$A$4:$A$423)+1>E469,VLOOKUP(E469,'3-3 위험성평가'!$A$5:$P$423,6,0),\"\")","v":""},{"$f":"IF(MAX('3-3 위험성평가'!$A$4:$A$423)+1>E469,VLOOKUP(E469,'3-3 위험성평가'!$A$5:$P$423,9,0),\"\")","v":""},{"$f":"IF(MAX('3-3 위험성평가'!$A$4:$A$423)+1>E469,VLOOKUP(E469,'3-3 위험성평가'!$A$5:$P$423,12,0),\"\")&IF(L469>\"\",\".\"&E469,\"\")","v":""},{"$f":"IF(MAX('3-3 위험성평가'!$A$4:$A$423)+1>E469,VLOOKUP(E469,'3-3 위험성평가'!$A$5:$P$423,13,0),\"\")","v":""},null,"하",null,null,null,null,null,null,null,"선택안함",0,{"$f":"IF(MAX('3-3 위험성평가'!$A$4:$A$423)+1>E469,VLOOKUP(E469,'3-3 위험성평가'!$A$5:$Q$423,17,0),\"\")","v":""},"선택",{"$f":"표지!$D$33","v":0},{"$f":"표지!$E$34","v":0},"선택안함",0]
["T20",2,"S40",4,462,{"$f":"IF(MAX('3-3 위험성평가'!$A$4:$A$423)+1>E470,VLOOKUP(E470,'3-3 위험성평가'!$A$5:$P$423,2,0),\"\")","v":""},{"$f":"IF(F470=\"\",\"\",VLOOKUP(VALUE(F470),'1-1 사업장 공정 정보'!$D$15:$P$41,5,0))","v":""},{"$f":"IF(MAX('3-3 위험성평가'!$A$4:$A$423)+1>E470,VLOOKUP(E470,'3-3 위험성평가'!$A$5:$P$423,3,0),\"\")","v":""},{"$f":"IF(MAX('3-3 위험성평가'!$A$4:$A$423)+1>E470,VLOOKUP(E470,'3-3 위험성평가'!$A$5:$P$423,4,0),\"\")","v":""},{"$f":"IF(MAX('3-3 위험성평가'!$A$4:$A$423)+1>E470,VLOOKUP(E470,'3-3 위험성평가'!$A$5:$P$423,5,0),\"\")","v":""},{"$f":"IF(MAX('3-3 위험성평가'!$A$4:$A$423)+1>E470,VLOOKUP(E470,'3-3 위험성평가'!$A$5:$P$423,6,0),\"\")","v":""},{"$f":"IF(MAX('3-3 위험성평가'!$A$4:$A$423)+1>E470,VLOOKUP(E470,'3-3 위험성평가'!$A$5:$P$423,9,0),\"\")","v":""},{"$f":"IF(MAX('3-3 위험성평가'!$A$4:$A$423)+1>E470,VLOOKUP(E470,'3-3 위험성평가'!$A$5:$P$423,12,0),\"\")&IF(L470>\"\",\".\"&E470,\"\")","v":""},{"$f":"IF(MAX('3-3 위험성평가'!$A$4:$A$423)+1>E470,VLOOKUP(E470,'3-3 위험성평가'!$A$5:$P$423,13,0),\"\")","v":""},null,"하",null,null,null,null,null,null,null,"선택안함",0,{"$f":"IF(MAX('3-3 위험성평가'!$A$4:$A$423)+1>E470,VLOOKUP(E470,'3-3 위험성평가'!$A$5:$Q$423,17,0),\"\")","v":""},"선택",{"$f":"표지!$D$33","v":0},{"$f":"표지!$E$34","v":0},"선택안함",0]
["T20",2,"S40",4,463,{"$f":"IF(MAX('3-3 위험성평가'!$A$4:$A$423)+1>E471,VLOOKUP(E471,'3-3 위험성평가'!$A$5:$P$423,2,0),\"\")","v":""},{"$f":"IF(F471=\"\",\"\",VLOOKUP(VALUE(F471),'1-1 사업장 공정 정보'!$D$15:$P$41,5,0))","v":""},{"$f":"IF(MAX('3-3 위험성평가'!$A$4:$A$423)+1>E471,VLOOKUP(E471,'3-3 위험성평가'!$A$5:$P$423,3,0),\"\")","v":""},{"$f":"IF(MAX('3-3 위험성평가'!$A$4:$A$423)+1>E471,VLOOKUP(E471,'3-3 위험성평가'!$A$5:$P$423,4,0),\"\")","v":""},{"$f":"IF(MAX('3-3 위험성평가'!$A$4:$A$423)+1>E471,VLOOKUP(E471,'3-3 위험성평가'!$A$5:$P$423,5,0),\"\")","v":""},{"$f":"IF(MAX('3-3 위험성평가'!$A$4:$A$423)+1>E471,VLOOKUP(E471,'3-3 위험성평가'!$A$5:$P$423,6,0),\"\")","v":""},{"$f":"IF(MAX('3-3 위험성평가'!$A$4:$A$423)+1>E471,VLOOKUP(E471,'3-3 위험성평가'!$A$5:$P$423,9,0),\"\")","v":""},{"$f":"IF(MAX('3-3 위험성평가'!$A$4:$A$423)+1>E471,VLOOKUP(E471,'3-3 위험성평가'!$A$5:$P$423,12,0),\"\")&IF(L471>\"\",\".\"&E471,\"\")","v":""},{"$f":"IF(MAX('3-3 위험성평가'!$A$4:$A$423)+1>E471,VLOOKUP(E471,'3-3 위험성평가'!$A$5:$P$423,13,0),\"\")","v":""},null,"하",null,null,null,null,null,null,null,"선택안함",0,{"$f":"IF(MAX('3-3 위험성평가'!$A$4:$A$423)+1>E471,VLOOKUP(E471,'3-3 위험성평가'!$A$5:$Q$423,17,0),\"\")","v":""},"선택",{"$f":"표지!$D$33","v":0},{"$f":"표지!$E$34","v":0},"선택안함",0]
["T20",2,"S40",4,464,{"$f":"IF(MAX('3-3 위험성평가'!$A$4:$A$423)+1>E472,VLOOKUP(E472,'3-3 위험성평가'!$A$5:$P$423,2,0),\"\")","v":""},{"$f":"IF(F472=\"\",\"\",VLOOKUP(VALUE(F472),'1-1 사업장 공정 정보'!$D$15:$P$41,5,0))","v":""},{"$f":"IF(MAX('3-3 위험성평가'!$A$4:$A$423)+1>E472,VLOOKUP(E472,'3-3 위험성평가'!$A$5:$P$423,3,0),\"\")","v":""},{"$f":"IF(MAX('3-3 위험성평가'!$A$4:$A$423)+1>E472,VLOOKUP(E472,'3-3 위험성평가'!$A$5:$P$423,4,0),\"\")","v":""},{"$f":"IF(MAX('3-3 위험성평가'!$A$4:$A$423)+1>E472,VLOOKUP(E472,'3-3 위험성평가'!$A$5:$P$423,5,0),\"\")","v":""},{"$f":"IF(MAX('3-3 위험성평가'!$A$4:$A$423)+1>E472,VLOOKUP(E472,'3-3 위험성평가'!$A$5:$P$423,6,0),\"\")","v":""},{"$f":"IF(MAX('3-3 위험성평가'!$A$4:$A$423)+1>E472,VLOOKUP(E472,'3-3 위험성평가'!$A$5:$P$423,9,0),\"\")","v":""},{"$f":"IF(MAX('3-3 위험성평가'!$A$4:$A$423)+1>E472,VLOOKUP(E472,'3-3 위험성평가'!$A$5:$P$423,12,0),\"\")&IF(L472>\"\",\".\"&E472,\"\")","v":""},{"$f":"IF(MAX('3-3 위험성평가'!$A$4:$A$423)+1>E472,VLOOKUP(E472,'3-3 위험성평가'!$A$5:$P$423,13,0),\"\")","v":""},null,"하",null,null,null,null,null,null,null,"선택안함",0,{"$f":"IF(MAX('3-3 위험성평가'!$A$4:$A$423)+1>E472,VLOOKUP(E472,'3-3 위험성평가'!$A$5:$Q$423,17,0),\"\")","v":""},"선택",{"$f":"표지!$D$33","v":0},{"$f":"표지!$E$34","v":0},"선택안함",0]
["T20",2,"S40",4,465,{"$f":"IF(MAX('3-3 위험성평가'!$A$4:$A$423)+1>E473,VLOOKUP(E473,'3-3 위험성평가'!$A$5:$P$423,2,0),\"\")","v":""},{"$f":"IF(F473=\"\",\"\",VLOOKUP(VALUE(F473),'1-1 사업장 공정 정보'!$D$15:$P$41,5,0))","v":""},{"$f":"IF(MAX('3-3 위험성평가'!$A$4:$A$423)+1>E473,VLOOKUP(E473,'3-3 위험성평가'!$A$5:$P$423,3,0),\"\")","v":""},{"$f":"IF(MAX('3-3 위험성평가'!$A$4:$A$423)+1>E473,VLOOKUP(E473,'3-3 위험성평가'!$A$5:$P$423,4,0),\"\")","v":""},{"$f":"IF(MAX('3-3 위험성평가'!$A$4:$A$423)+1>E473,VLOOKUP(E473,'3-3 위험성평가'!$A$5:$P$423,5,0),\"\")","v":""},{"$f":"IF(MAX('3-3 위험성평가'!$A$4:$A$423)+1>E473,VLOOKUP(E473,'3-3 위험성평가'!$A$5:$P$423,6,0),\"\")","v":""},{"$f":"IF(MAX('3-3 위험성평가'!$A$4:$A$423)+1>E473,VLOOKUP(E473,'3-3 위험성평가'!$A$5:$P$423,9,0),\"\")","v":""},{"$f":"IF(MAX('3-3 위험성평가'!$A$4:$A$423)+1>E473,VLOOKUP(E473,'3-3 위험성평가'!$A$5:$P$423,12,0),\"\")&IF(L473>\"\",\".\"&E473,\"\")","v":""},{"$f":"IF(MAX('3-3 위험성평가'!$A$4:$A$423)+1>E473,VLOOKUP(E473,'3-3 위험성평가'!$A$5:$P$423,13,0),\"\")","v":""},null,"하",null,null,null,null,null,null,null,"선택안함",0,{"$f":"IF(MAX('3-3 위험성평가'!$A$4:$A$423)+1>E473,VLOOKUP(E473,'3-3 위험성평가'!$A$5:$Q$423,17,0),\"\")","v":""},"선택",{"$f":"표지!$D$33","v":0},{"$f":"표지!$E$34","v":0},"선택안함",0]
["T20",{"$f":"B473+Y474","v":2},"S40",4,466,{"$f":"IF(MAX('3-3 위험성평가'!$A$4:$A$423)+1>E474,VLOOKUP(E474,'3-3 위험성평가'!$A$5:$P$423,2,0),\"\")","v":""},{"$f":"IF(F474=\"\",\"\",VLOOKUP(VALUE(F474),'1-1 사업장 공정 정보'!$D$15:$P$41,5,0))","v":""},{"$f":"IF(MAX('3-3 위험성평가'!$A$4:$A$423)+1>E474,VLOOKUP(E474,'3-3 위험성평가'!$A$5:$P$423,3,0),\"\")","v":""},{"$f":"IF(MAX('3-3 위험성평가'!$A$4:$A$423)+1>E474,VLOOKUP(E474,'3-3 위험성평가'!$A$5:$P$423,4,0),\"\")","v":""},{"$f":"IF(MAX('3-3 위험성평가'!$A$4:$A$423)+1>E474,VLOOKUP(E474,'3-3 위험성평가'!$A$5:$P$423,5,0),\"\")","v":""},{"$f":"IF(MAX('3-3 위험성평가'!$A$4:$A$423)+1>E474,VLOOKUP(E474,'3-3 위험성평가'!$A$5:$P$423,6,0),\"\")","v":""},{"$f":"IF(MAX('3-3 위험성평가'!$A$4:$A$423)+1>E474,VLOOKUP(E474,'3-3 위험성평가'!$A$5:$P$423,9,0),\"\")","v":""},{"$f":"IF(MAX('3-3 위험성평가'!$A$4:$A$423)+1>E474,VLOOKUP(E474,'3-3 위험성평가'!$A$5:$P$423,12,0),\"\")&IF(L474>\"\",\".\"&E474,\"\")","v":""},{"$f":"IF(MAX('3-3 위험성평가'!$A$4:$A$423)+1>E474,VLOOKUP(E474,'3-3 위험성평가'!$A$5:$P$423,13,0),\"\")","v":""},null,"하",null,null,null,null,null,null,null,"선택안함",0,{"$f":"IF(MAX('3-3 위험성평가'!$A$4:$A$423)+1>E474,VLOOKUP(E474,'3-3 위험성평가'!$A$5:$Q$423,17,0),\"\")","v":""},"선택",{"$f":"표지!$D$33","v":0},{"$f":"표지!$E$34","v":0},"선택안함",0]
["T20",2,"S40",4,467,{"$f":"IF(MAX('3-3 위험성평가'!$A$4:$A$423)+1>E475,VLOOKUP(E475,'3-3 위험성평가'!$A$5:$P$423,2,0),\"\")","v":""},{"$f":"IF(F475=\"\",\"\",VLOOKUP(VALUE(F475),'1-1 사업장 공정 정보'!$D$15:$P$41,5,0))","v":""},{"$f":"IF(MAX('3-3 위험성평가'!$A$4:$A$423)+1>E475,VLOOKUP(E475,'3-3 위험성평가'!$A$5:$P$423,3,0),\"\")","v":""},{"$f":"IF(MAX('3-3 위험성평가'!$A$4:$A$423)+1>E475,VLOOKUP(E475,'3-3 위험성평가'!$A$5:$P$423,4,0),\"\")","v":""},{"$f":"IF(MAX('3-3 위험성평가'!$A$4:$A$423)+1>E475,VLOOKUP(E475,'3-3 위험성평가'!$A$5:$P$423,5,0),\"\")","v":""},{"$f":"IF(MAX('3-3 위험성평가'!$A$4:$A$423)+1>E475,VLOOKUP(E475,'3-3 위험성평가'!$A$5:$P$423,6,0),\"\")","v":""},{"$f":"IF(MAX('3-3 위험성평가'!$A$4:$A$423)+1>E475,VLOOKUP(E475,'3-3 위험성평가'!$A$5:$P$423,9,0),\"\")","v":""},{"$f":"IF(MAX('3-3 위험성평가'!$A$4:$A$423)+1>E475,VLOOKUP(E475,'3-3 위험성평가'!$A$5:$P$423,12,0),\"\")&IF(L475>\"\",\".\"&E475,\"\")","v":""},{"$f":"IF(MAX('3-3 위험성평가'!$A$4:$A$423)+1>E475,VLOOKUP(E475,'3-3 위험성평가'!$A$5:$P$423,13,0),\"\")","v":""},null,"하",null,null,null,null,null,null,null,"선택안함",0,{"$f":"IF(MAX('3-3 위험성평가'!$A$4:$A$423)+1>E475,VLOOKUP(E475,'3-3 위험성평가'!$A$5:$Q$423,17,0),\"\")","v":""},"선택",{"$f":"표지!$D$33","v":0},{"$f":"표지!$E$34","v":0},"선택안함",0]
["T20",2,"S40",4,468,{"$f":"IF(MAX('3-3 위험성평가'!$A$4:$A$423)+1>E476,VLOOKUP(E476,'3-3 위험성평가'!$A$5:$P$423,2,0),\"\")","v":""},{"$f":"IF(F476=\"\",\"\",VLOOKUP(VALUE(F476),'1-1 사업장 공정 정보'!$D$15:$P$41,5,0))","v":""},{"$f":"IF(MAX('3-3 위험성평가'!$A$4:$A$423)+1>E476,VLOOKUP(E476,'3-3 위험성평가'!$A$5:$P$423,3,0),\"\")","v":""},{"$f":"IF(MAX('3-3 위험성평가'!$A$4:$A$423)+1>E476,VLOOKUP(E476,'3-3 위험성평가'!$A$5:$P$423,4,0),\"\")","v":""},{"$f":"IF(MAX('3-3 위험성평가'!$A$4:$A$423)+1>E476,VLOOKUP(E476,'3-3 위험성평가'!$A$5:$P$423,5,0),\"\")","v":""},{"$f":"IF(MAX('3-3 위험성평가'!$A$4:$A$423)+1>E476,VLOOKUP(E476,'3-3 위험성평가'!$A$5:$P$423,6,0),\"\")","v":""},{"$f":"IF(MAX('3-3 위험성평가'!$A$4:$A$423)+1>E476,VLOOKUP(E476,'3-3 위험성평가'!$A$5:$P$423,9,0),\"\")","v":""},{"$f":"IF(MAX('3-3 위험성평가'!$A$4:$A$423)+1>E476,VLOOKUP(E476,'3-3 위험성평가'!$A$5:$P$423,12,0),\"\")&IF(L476>\"\",\".\"&E476,\"\")","v":""},{"$f":"IF(MAX('3-3 위험성평가'!$A$4:$A$423)+1>E476,VLOOKUP(E476,'3-3 위험성평가'!$A$5:$P$423,13,0),\"\")","v":""},null,"하",null,null,null,null,null,null,null,"선택안함",0,{"$f":"IF(MAX('3-3 위험성평가'!$A$4:$A$423)+1>E476,VLOOKUP(E476,'3-3 위험성평가'!$A$5:$Q$423,17,0),\"\")","v":""},"선택",{"$f":"표지!$D$33","v":0},{"$f":"표지!$E$34","v":0},"선택안함",0]
["T20",2,"S40",4,469,{"$f":"IF(MAX('3-3 위험성평가'!$A$4:$A$423)+1>E477,VLOOKUP(E477,'3-3 위험성평가'!$A$5:$P$423,2,0),\"\")","v":""},{"$f":"IF(F477=\"\",\"\",VLOOKUP(VALUE(F477),'1-1 사업장 공정 정보'!$D$15:$P$41,5,0))","v":""},{"$f":"IF(MAX('3-3 위험성평가'!$A$4:$A$423)+1>E477,VLOOKUP(E477,'3-3 위험성평가'!$A$5:$P$423,3,0),\"\")","v":""},{"$f":"IF(MAX('3-3 위험성평가'!$A$4:$A$423)+1>E477,VLOOKUP(E477,'3-3 위험성평가'!$A$5:$P$423,4,0),\"\")","v":""},{"$f":"IF(MAX('3-3 위험성평가'!$A$4:$A$423)+1>E477,VLOOKUP(E477,'3-3 위험성평가'!$A$5:$P$423,5,0),\"\")","v":""},{"$f":"IF(MAX('3-3 위험성평가'!$A$4:$A$423)+1>E477,VLOOKUP(E477,'3-3 위험성평가'!$A$5:$P$423,6,0),\"\")","v":""},{"$f":"IF(MAX('3-3 위험성평가'!$A$4:$A$423)+1>E477,VLOOKUP(E477,'3-3 위험성평가'!$A$5:$P$423,9,0),\"\")","v":""},{"$f":"IF(MAX('3-3 위험성평가'!$A$4:$A$423)+1>E477,VLOOKUP(E477,'3-3 위험성평가'!$A$5:$P$423,12,0),\"\")&IF(L477>\"\",\".\"&E477,\"\")","v":""},{"$f":"IF(MAX('3-3 위험성평가'!$A$4:$A$423)+1>E477,VLOOKUP(E477,'3-3 위험성평가'!$A$5:$P$423,13,0),\"\")","v":""},null,"하",null,null,null,null,null,null,null,"선택안함",0,{"$f":"IF(MAX('3-3 위험성평가'!$A$4:$A$423)+1>E477,VLOOKUP(E477,'3-3 위험성평가'!$A$5:$Q$423,17,0),\"\")","v":""},"선택",{"$f":"표지!$D$33","v":0},{"$f":"표지!$E$34","v":0},"선택안함",0]
["T20",2,"S40",4,470,{"$f":"IF(MAX('3-3 위험성평가'!$A$4:$A$423)+1>E478,VLOOKUP(E478,'3-3 위험성평가'!$A$5:$P$423,2,0),\"\")","v":""},{"$f":"IF(F478=\"\",\"\",VLOOKUP(VALUE(F478),'1-1 사업장 공정 정보'!$D$15:$P$41,5,0))","v":""},{"$f":"IF(MAX('3-3 위험성평가'!$A$4:$A$423)+1>E478,VLOOKUP(E478,'3-3 위험성평가'!$A$5:$P$423,3,0),\"\")","v":""},{"$f":"IF(MAX('3-3 위험성평가'!$A$4:$A$423)+1>E478,VLOOKUP(E478,'3-3 위험성평가'!$A$5:$P$423,4,0),\"\")","v":""},{"$f":"IF(MAX('3-3 위험성평가'!$A$4:$A$423)+1>E478,VLOOKUP(E478,'3-3 위험성평가'!$A$5:$P$423,5,0),\"\")","v":""},{"$f":"IF(MAX('3-3 위험성평가'!$A$4:$A$423)+1>E478,VLOOKUP(E478,'3-3 위험성평가'!$A$5:$P$423,6,0),\"\")","v":""},{"$f":"IF(MAX('3-3 위험성평가'!$A$4:$A$423)+1>E478,VLOOKUP(E478,'3-3 위험성평가'!$A$5:$P$423,9,0),\"\")","v":""},{"$f":"IF(MAX('3-3 위험성평가'!$A$4:$A$423)+1>E478,VLOOKUP(E478,'3-3 위험성평가'!$A$5:$P$423,12,0),\"\")&IF(L478>\"\",\".\"&E478,\"\")","v":""},{"$f":"IF(MAX('3-3 위험성평가'!$A$4:$A$423)+1>E478,VLOOKUP(E478,'3-3 위험성평가'!$A$5:$P$423,13,0),\"\")","v":""},null,"하",null,null,null,null,null,null,null,"선택안함",0,{"$f":"IF(MAX('3-3 위험성평가'!$A$4:$A$423)+1>E478,VLOOKUP(E478,'3-3 위험성평가'!$A$5:$Q$423,17,0),\"\")","v":""},"선택",{"$f":"표지!$D$33","v":0},{"$f":"표지!$E$34","v":0},"선택안함",0]
["T20",2,"S40",4,471,{"$f":"IF(MAX('3-3 위험성평가'!$A$4:$A$423)+1>E479,VLOOKUP(E479,'3-3 위험성평가'!$A$5:$P$423,2,0),\"\")","v":""},{"$f":"IF(F479=\"\",\"\",VLOOKUP(VALUE(F479),'1-1 사업장 공정 정보'!$D$15:$P$41,5,0))","v":""},{"$f":"IF(MAX('3-3 위험성평가'!$A$4:$A$423)+1>E479,VLOOKUP(E479,'3-3 위험성평가'!$A$5:$P$423,3,0),\"\")","v":""},{"$f":"IF(MAX('3-3 위험성평가'!$A$4:$A$423)+1>E479,VLOOKUP(E479,'3-3 위험성평가'!$A$5:$P$423,4,0),\"\")","v":""},{"$f":"IF(MAX('3-3 위험성평가'!$A$4:$A$423)+1>E479,VLOOKUP(E479,'3-3 위험성평가'!$A$5:$P$423,5,0),\"\")","v":""},{"$f":"IF(MAX('3-3 위험성평가'!$A$4:$A$423)+1>E479,VLOOKUP(E479,'3-3 위험성평가'!$A$5:$P$423,6,0),\"\")","v":""},{"$f":"IF(MAX('3-3 위험성평가'!$A$4:$A$423)+1>E479,VLOOKUP(E479,'3-3 위험성평가'!$A$5:$P$423,9,0),\"\")","v":""},{"$f":"IF(MAX('3-3 위험성평가'!$A$4:$A$423)+1>E479,VLOOKUP(E479,'3-3 위험성평가'!$A$5:$P$423,12,0),\"\")&IF(L479>\"\",\".\"&E479,\"\")","v":""},{"$f":"IF(MAX('3-3 위험성평가'!$A$4:$A$423)+1>E479,VLOOKUP(E479,'3-3 위험성평가'!$A$5:$P$423,13,0),\"\")","v":""},null,"하",null,null,null,null,null,null,null,"선택안함",0,{"$f":"IF(MAX('3-3 위험성평가'!$A$4:$A$423)+1>E479,VLOOKUP(E479,'3-3 위험성평가'!$A$5:$Q$423,17,0),\"\")","v":""},"선택",{"$f":"표지!$D$33","v":0},{"$f":"표지!$E$34","v":0},"선택안함",0]
["T20",2,"S40",4,472,{"$f":"IF(MAX('3-3 위험성평가'!$A$4:$A$423)+1>E480,VLOOKUP(E480,'3-3 위험성평가'!$A$5:$P$423,2,0),\"\")","v":""},{"$f":"IF(F480=\"\",\"\",VLOOKUP(VALUE(F480),'1-1 사업장 공정 정보'!$D$15:$P$41,5,0))","v":""},{"$f":"IF(MAX('3-3 위험성평가'!$A$4:$A$423)+1>E480,VLOOKUP(E480,'3-3 위험성평가'!$A$5:$P$423,3,0),\"\")","v":""},{"$f":"IF(MAX('3-3 위험성평가'!$A$4:$A$423)+1>E480,VLOOKUP(E480,'3-3 위험성평가'!$A$5:$P$423,4,0),\"\")","v":""},{"$f":"IF(MAX('3-3 위험성평가'!$A$4:$A$423)+1>E480,VLOOKUP(E480,'3-3 위험성평가'!$A$5:$P$423,5,0),\"\")","v":""},{"$f":"IF(MAX('3-3 위험성평가'!$A$4:$A$423)+1>E480,VLOOKUP(E480,'3-3 위험성평가'!$A$5:$P$423,6,0),\"\")","v":""},{"$f":"IF(MAX('3-3 위험성평가'!$A$4:$A$423)+1>E480,VLOOKUP(E480,'3-3 위험성평가'!$A$5:$P$423,9,0),\"\")","v":""},{"$f":"IF(MAX('3-3 위험성평가'!$A$4:$A$423)+1>E480,VLOOKUP(E480,'3-3 위험성평가'!$A$5:$P$423,12,0),\"\")&IF(L480>\"\",\".\"&E480,\"\")","v":""},{"$f":"IF(MAX('3-3 위험성평가'!$A$4:$A$423)+1>E480,VLOOKUP(E480,'3-3 위험성평가'!$A$5:$P$423,13,0),\"\")","v":""},null,"하",null,null,null,null,null,null,null,"선택안함",0,{"$f":"IF(MAX('3-3 위험성평가'!$A$4:$A$423)+1>E480,VLOOKUP(E480,'3-3 위험성평가'!$A$5:$Q$423,17,0),\"\")","v":""},"선택",{"$f":"표지!$D$33","v":0},{"$f":"표지!$E$34","v":0},"선택안함",0]
["T20",2,"S40",4,473,{"$f":"IF(MAX('3-3 위험성평가'!$A$4:$A$423)+1>E481,VLOOKUP(E481,'3-3 위험성평가'!$A$5:$P$423,2,0),\"\")","v":""},{"$f":"IF(F481=\"\",\"\",VLOOKUP(VALUE(F481),'1-1 사업장 공정 정보'!$D$15:$P$41,5,0))","v":""},{"$f":"IF(MAX('3-3 위험성평가'!$A$4:$A$423)+1>E481,VLOOKUP(E481,'3-3 위험성평가'!$A$5:$P$423,3,0),\"\")","v":""},{"$f":"IF(MAX('3-3 위험성평가'!$A$4:$A$423)+1>E481,VLOOKUP(E481,'3-3 위험성평가'!$A$5:$P$423,4,0),\"\")","v":""},{"$f":"IF(MAX('3-3 위험성평가'!$A$4:$A$423)+1>E481,VLOOKUP(E481,'3-3 위험성평가'!$A$5:$P$423,5,0),\"\")","v":""},{"$f":"IF(MAX('3-3 위험성평가'!$A$4:$A$423)+1>E481,VLOOKUP(E481,'3-3 위험성평가'!$A$5:$P$423,6,0),\"\")","v":""},{"$f":"IF(MAX('3-3 위험성평가'!$A$4:$A$423)+1>E481,VLOOKUP(E481,'3-3 위험성평가'!$A$5:$P$423,9,0),\"\")","v":""},{"$f":"IF(MAX('3-3 위험성평가'!$A$4:$A$423)+1>E481,VLOOKUP(E481,'3-3 위험성평가'!$A$5:$P$423,12,0),\"\")&IF(L481>\"\",\".\"&E481,\"\")","v":""},{"$f":"IF(MAX('3-3 위험성평가'!$A$4:$A$423)+1>E481,VLOOKUP(E481,'3-3 위험성평가'!$A$5:$P$423,13,0),\"\")","v":""},null,"하",null,null,null,null,null,null,null,"선택안함",0,{"$f":"IF(MAX('3-3 위험성평가'!$A$4:$A$423)+1>E481,VLOOKUP(E481,'3-3 위험성평가'!$A$5:$Q$423,17,0),\"\")","v":""},"선택",{"$f":"표지!$D$33","v":0},{"$f":"표지!$E$34","v":0},"선택안함",0]
["T20",2,"S40",4,474,{"$f":"IF(MAX('3-3 위험성평가'!$A$4:$A$423)+1>E482,VLOOKUP(E482,'3-3 위험성평가'!$A$5:$P$423,2,0),\"\")","v":""},{"$f":"IF(F482=\"\",\"\",VLOOKUP(VALUE(F482),'1-1 사업장 공정 정보'!$D$15:$P$41,5,0))","v":""},{"$f":"IF(MAX('3-3 위험성평가'!$A$4:$A$423)+1>E482,VLOOKUP(E482,'3-3 위험성평가'!$A$5:$P$423,3,0),\"\")","v":""},{"$f":"IF(MAX('3-3 위험성평가'!$A$4:$A$423)+1>E482,VLOOKUP(E482,'3-3 위험성평가'!$A$5:$P$423,4,0),\"\")","v":""},{"$f":"IF(MAX('3-3 위험성평가'!$A$4:$A$423)+1>E482,VLOOKUP(E482,'3-3 위험성평가'!$A$5:$P$423,5,0),\"\")","v":""},{"$f":"IF(MAX('3-3 위험성평가'!$A$4:$A$423)+1>E482,VLOOKUP(E482,'3-3 위험성평가'!$A$5:$P$423,6,0),\"\")","v":""},{"$f":"IF(MAX('3-3 위험성평가'!$A$4:$A$423)+1>E482,VLOOKUP(E482,'3-3 위험성평가'!$A$5:$P$423,9,0),\"\")","v":""},{"$f":"IF(MAX('3-3 위험성평가'!$A$4:$A$423)+1>E482,VLOOKUP(E482,'3-3 위험성평가'!$A$5:$P$423,12,0),\"\")&IF(L482>\"\",\".\"&E482,\"\")","v":""},{"$f":"IF(MAX('3-3 위험성평가'!$A$4:$A$423)+1>E482,VLOOKUP(E482,'3-3 위험성평가'!$A$5:$P$423,13,0),\"\")","v":""},null,"하",null,null,null,null,null,null,null,"선택안함",0,{"$f":"IF(MAX('3-3 위험성평가'!$A$4:$A$423)+1>E482,VLOOKUP(E482,'3-3 위험성평가'!$A$5:$Q$423,17,0),\"\")","v":""},"선택",{"$f":"표지!$D$33","v":0},{"$f":"표지!$E$34","v":0},"선택안함",0]
["T20",2,"S40",4,475,{"$f":"IF(MAX('3-3 위험성평가'!$A$4:$A$423)+1>E483,VLOOKUP(E483,'3-3 위험성평가'!$A$5:$P$423,2,0),\"\")","v":""},{"$f":"IF(F483=\"\",\"\",VLOOKUP(VALUE(F483),'1-1 사업장 공정 정보'!$D$15:$P$41,5,0))","v":""},{"$f":"IF(MAX('3-3 위험성평가'!$A$4:$A$423)+1>E483,VLOOKUP(E483,'3-3 위험성평가'!$A$5:$P$423,3,0),\"\")","v":""},{"$f":"IF(MAX('3-3 위험성평가'!$A$4:$A$423)+1>E483,VLOOKUP(E483,'3-3 위험성평가'!$A$5:$P$423,4,0),\"\")","v":""},{"$f":"IF(MAX('3-3 위험성평가'!$A$4:$A$423)+1>E483,VLOOKUP(E483,'3-3 위험성평가'!$A$5:$P$423,5,0),\"\")","v":""},{"$f":"IF(MAX('3-3 위험성평가'!$A$4:$A$423)+1>E483,VLOOKUP(E483,'3-3 위험성평가'!$A$5:$P$423,6,0),\"\")","v":""},{"$f":"IF(MAX('3-3 위험성평가'!$A$4:$A$423)+1>E483,VLOOKUP(E483,'3-3 위험성평가'!$A$5:$P$423,9,0),\"\")","v":""},{"$f":"IF(MAX('3-3 위험성평가'!$A$4:$A$423)+1>E483,VLOOKUP(E483,'3-3 위험성평가'!$A$5:$P$423,12,0),\"\")&IF(L483>\"\",\".\"&E483,\"\")","v":""},{"$f":"IF(MAX('3-3 위험성평가'!$A$4:$A$423)+1>E483,VLOOKUP(E483,'3-3 위험성평가'!$A$5:$P$423,13,0),\"\")","v":""},null,"하",null,null,null,null,null,null,null,"선택안함",0,{"$f":"IF(MAX('3-3 위험성평가'!$A$4:$A$423)+1>E483,VLOOKUP(E483,'3-3 위험성평가'!$A$5:$Q$423,17,0),\"\")","v":""},"선택",{"$f":"표지!$D$33","v":0},{"$f":"표지!$E$34","v":0},"선택안함",0]
["T20",2,"S40",4,476,{"$f":"IF(MAX('3-3 위험성평가'!$A$4:$A$423)+1>E484,VLOOKUP(E484,'3-3 위험성평가'!$A$5:$P$423,2,0),\"\")","v":""},{"$f":"IF(F484=\"\",\"\",VLOOKUP(VALUE(F484),'1-1 사업장 공정 정보'!$D$15:$P$41,5,0))","v":""},{"$f":"IF(MAX('3-3 위험성평가'!$A$4:$A$423)+1>E484,VLOOKUP(E484,'3-3 위험성평가'!$A$5:$P$423,3,0),\"\")","v":""},{"$f":"IF(MAX('3-3 위험성평가'!$A$4:$A$423)+1>E484,VLOOKUP(E484,'3-3 위험성평가'!$A$5:$P$423,4,0),\"\")","v":""},{"$f":"IF(MAX('3-3 위험성평가'!$A$4:$A$423)+1>E484,VLOOKUP(E484,'3-3 위험성평가'!$A$5:$P$423,5,0),\"\")","v":""},{"$f":"IF(MAX('3-3 위험성평가'!$A$4:$A$423)+1>E484,VLOOKUP(E484,'3-3 위험성평가'!$A$5:$P$423,6,0),\"\")","v":""},{"$f":"IF(MAX('3-3 위험성평가'!$A$4:$A$423)+1>E484,VLOOKUP(E484,'3-3 위험성평가'!$A$5:$P$423,9,0),\"\")","v":""},{"$f":"IF(MAX('3-3 위험성평가'!$A$4:$A$423)+1>E484,VLOOKUP(E484,'3-3 위험성평가'!$A$5:$P$423,12,0),\"\")&IF(L484>\"\",\".\"&E484,\"\")","v":""},{"$f":"IF(MAX('3-3 위험성평가'!$A$4:$A$423)+1>E484,VLOOKUP(E484,'3-3 위험성평가'!$A$5:$P$423,13,0),\"\")","v":""},null,"하",null,null,null,null,null,null,null,"선택안함",0,{"$f":"IF(MAX('3-3 위험성평가'!$A$4:$A$423)+1>E484,VLOOKUP(E484,'3-3 위험성평가'!$A$5:$Q$423,17,0),\"\")","v":""},"선택",{"$f":"표지!$D$33","v":0},{"$f":"표지!$E$34","v":0},"선택안함",0]
["T20",2,"S40",4,477,{"$f":"IF(MAX('3-3 위험성평가'!$A$4:$A$423)+1>E485,VLOOKUP(E485,'3-3 위험성평가'!$A$5:$P$423,2,0),\"\")","v":""},{"$f":"IF(F485=\"\",\"\",VLOOKUP(VALUE(F485),'1-1 사업장 공정 정보'!$D$15:$P$41,5,0))","v":""},{"$f":"IF(MAX('3-3 위험성평가'!$A$4:$A$423)+1>E485,VLOOKUP(E485,'3-3 위험성평가'!$A$5:$P$423,3,0),\"\")","v":""},{"$f":"IF(MAX('3-3 위험성평가'!$A$4:$A$423)+1>E485,VLOOKUP(E485,'3-3 위험성평가'!$A$5:$P$423,4,0),\"\")","v":""},{"$f":"IF(MAX('3-3 위험성평가'!$A$4:$A$423)+1>E485,VLOOKUP(E485,'3-3 위험성평가'!$A$5:$P$423,5,0),\"\")","v":""},{"$f":"IF(MAX('3-3 위험성평가'!$A$4:$A$423)+1>E485,VLOOKUP(E485,'3-3 위험성평가'!$A$5:$P$423,6,0),\"\")","v":""},{"$f":"IF(MAX('3-3 위험성평가'!$A$4:$A$423)+1>E485,VLOOKUP(E485,'3-3 위험성평가'!$A$5:$P$423,9,0),\"\")","v":""},{"$f":"IF(MAX('3-3 위험성평가'!$A$4:$A$423)+1>E485,VLOOKUP(E485,'3-3 위험성평가'!$A$5:$P$423,12,0),\"\")&IF(L485>\"\",\".\"&E485,\"\")","v":""},{"$f":"IF(MAX('3-3 위험성평가'!$A$4:$A$423)+1>E485,VLOOKUP(E485,'3-3 위험성평가'!$A$5:$P$423,13,0),\"\")","v":""},null,"하",null,null,null,null,null,null,null,"선택안함",0,{"$f":"IF(MAX('3-3 위험성평가'!$A$4:$A$423)+1>E485,VLOOKUP(E485,'3-3 위험성평가'!$A$5:$Q$423,17,0),\"\")","v":""},"선택",{"$f":"표지!$D$33","v":0},{"$f":"표지!$E$34","v":0},"선택안함",0]
["T20",2,"S40",4,478,{"$f":"IF(MAX('3-3 위험성평가'!$A$4:$A$423)+1>E486,VLOOKUP(E486,'3-3 위험성평가'!$A$5:$P$423,2,0),\"\")","v":""},{"$f":"IF(F486=\"\",\"\",VLOOKUP(VALUE(F486),'1-1 사업장 공정 정보'!$D$15:$P$41,5,0))","v":""},{"$f":"IF(MAX('3-3 위험성평가'!$A$4:$A$423)+1>E486,VLOOKUP(E486,'3-3 위험성평가'!$A$5:$P$423,3,0),\"\")","v":""},{"$f":"IF(MAX('3-3 위험성평가'!$A$4:$A$423)+1>E486,VLOOKUP(E486,'3-3 위험성평가'!$A$5:$P$423,4,0),\"\")","v":""},{"$f":"IF(MAX('3-3 위험성평가'!$A$4:$A$423)+1>E486,VLOOKUP(E486,'3-3 위험성평가'!$A$5:$P$423,5,0),\"\")","v":""},{"$f":"IF(MAX('3-3 위험성평가'!$A$4:$A$423)+1>E486,VLOOKUP(E486,'3-3 위험성평가'!$A$5:$P$423,6,0),\"\")","v":""},{"$f":"IF(MAX('3-3 위험성평가'!$A$4:$A$423)+1>E486,VLOOKUP(E486,'3-3 위험성평가'!$A$5:$P$423,9,0),\"\")","v":""},{"$f":"IF(MAX('3-3 위험성평가'!$A$4:$A$423)+1>E486,VLOOKUP(E486,'3-3 위험성평가'!$A$5:$P$423,12,0),\"\")&IF(L486>\"\",\".\"&E486,\"\")","v":""},{"$f":"IF(MAX('3-3 위험성평가'!$A$4:$A$423)+1>E486,VLOOKUP(E486,'3-3 위험성평가'!$A$5:$P$423,13,0),\"\")","v":""},null,"하",null,null,null,null,null,null,null,"선택안함",0,{"$f":"IF(MAX('3-3 위험성평가'!$A$4:$A$423)+1>E486,VLOOKUP(E486,'3-3 위험성평가'!$A$5:$Q$423,17,0),\"\")","v":""},"선택",{"$f":"표지!$D$33","v":0},{"$f":"표지!$E$34","v":0},"선택안함",0]
["T20",2,"S40",4,479,{"$f":"IF(MAX('3-3 위험성평가'!$A$4:$A$423)+1>E487,VLOOKUP(E487,'3-3 위험성평가'!$A$5:$P$423,2,0),\"\")","v":""},{"$f":"IF(F487=\"\",\"\",VLOOKUP(VALUE(F487),'1-1 사업장 공정 정보'!$D$15:$P$41,5,0))","v":""},{"$f":"IF(MAX('3-3 위험성평가'!$A$4:$A$423)+1>E487,VLOOKUP(E487,'3-3 위험성평가'!$A$5:$P$423,3,0),\"\")","v":""},{"$f":"IF(MAX('3-3 위험성평가'!$A$4:$A$423)+1>E487,VLOOKUP(E487,'3-3 위험성평가'!$A$5:$P$423,4,0),\"\")","v":""},{"$f":"IF(MAX('3-3 위험성평가'!$A$4:$A$423)+1>E487,VLOOKUP(E487,'3-3 위험성평가'!$A$5:$P$423,5,0),\"\")","v":""},{"$f":"IF(MAX('3-3 위험성평가'!$A$4:$A$423)+1>E487,VLOOKUP(E487,'3-3 위험성평가'!$A$5:$P$423,6,0),\"\")","v":""},{"$f":"IF(MAX('3-3 위험성평가'!$A$4:$A$423)+1>E487,VLOOKUP(E487,'3-3 위험성평가'!$A$5:$P$423,9,0),\"\")","v":""},{"$f":"IF(MAX('3-3 위험성평가'!$A$4:$A$423)+1>E487,VLOOKUP(E487,'3-3 위험성평가'!$A$5:$P$423,12,0),\"\")&IF(L487>\"\",\".\"&E487,\"\")","v":""},{"$f":"IF(MAX('3-3 위험성평가'!$A$4:$A$423)+1>E487,VLOOKUP(E487,'3-3 위험성평가'!$A$5:$P$423,13,0),\"\")","v":""},null,"하",null,null,null,null,null,null,null,"선택안함",0,{"$f":"IF(MAX('3-3 위험성평가'!$A$4:$A$423)+1>E487,VLOOKUP(E487,'3-3 위험성평가'!$A$5:$Q$423,17,0),\"\")","v":""},"선택",{"$f":"표지!$D$33","v":0},{"$f":"표지!$E$34","v":0},"선택안함",0]
["T20",2,"S40",4,480,{"$f":"IF(MAX('3-3 위험성평가'!$A$4:$A$423)+1>E488,VLOOKUP(E488,'3-3 위험성평가'!$A$5:$P$423,2,0),\"\")","v":""},{"$f":"IF(F488=\"\",\"\",VLOOKUP(VALUE(F488),'1-1 사업장 공정 정보'!$D$15:$P$41,5,0))","v":""},{"$f":"IF(MAX('3-3 위험성평가'!$A$4:$A$423)+1>E488,VLOOKUP(E488,'3-3 위험성평가'!$A$5:$P$423,3,0),\"\")","v":""},{"$f":"IF(MAX('3-3 위험성평가'!$A$4:$A$423)+1>E488,VLOOKUP(E488,'3-3 위험성평가'!$A$5:$P$423,4,0),\"\")","v":""},{"$f":"IF(MAX('3-3 위험성평가'!$A$4:$A$423)+1>E488,VLOOKUP(E488,'3-3 위험성평가'!$A$5:$P$423,5,0),\"\")","v":""},{"$f":"IF(MAX('3-3 위험성평가'!$A$4:$A$423)+1>E488,VLOOKUP(E488,'3-3 위험성평가'!$A$5:$P$423,6,0),\"\")","v":""},{"$f":"IF(MAX('3-3 위험성평가'!$A$4:$A$423)+1>E488,VLOOKUP(E488,'3-3 위험성평가'!$A$5:$P$423,9,0),\"\")","v":""},{"$f":"IF(MAX('3-3 위험성평가'!$A$4:$A$423)+1>E488,VLOOKUP(E488,'3-3 위험성평가'!$A$5:$P$423,12,0),\"\")&IF(L488>\"\",\".\"&E488,\"\")","v":""},{"$f":"IF(MAX('3-3 위험성평가'!$A$4:$A$423)+1>E488,VLOOKUP(E488,'3-3 위험성평가'!$A$5:$P$423,13,0),\"\")","v":""},null,"하",null,null,null,null,null,null,null,"선택안함",0,{"$f":"IF(MAX('3-3 위험성평가'!$A$4:$A$423)+1>E488,VLOOKUP(E488,'3-3 위험성평가'!$A$5:$Q$423,17,0),\"\")","v":""},"선택",{"$f":"표지!$D$33","v":0},{"$f":"표지!$E$34","v":0},"선택안함",0]
["T20",2,"S40",4,481,{"$f":"IF(MAX('3-3 위험성평가'!$A$4:$A$423)+1>E489,VLOOKUP(E489,'3-3 위험성평가'!$A$5:$P$423,2,0),\"\")","v":""},{"$f":"IF(F489=\"\",\"\",VLOOKUP(VALUE(F489),'1-1 사업장 공정 정보'!$D$15:$P$41,5,0))","v":""},{"$f":"IF(MAX('3-3 위험성평가'!$A$4:$A$423)+1>E489,VLOOKUP(E489,'3-3 위험성평가'!$A$5:$P$423,3,0),\"\")","v":""},{"$f":"IF(MAX('3-3 위험성평가'!$A$4:$A$423)+1>E489,VLOOKUP(E489,'3-3 위험성평가'!$A$5:$P$423,4,0),\"\")","v":""},{"$f":"IF(MAX('3-3 위험성평가'!$A$4:$A$423)+1>E489,VLOOKUP(E489,'3-3 위험성평가'!$A$5:$P$423,5,0),\"\")","v":""},{"$f":"IF(MAX('3-3 위험성평가'!$A$4:$A$423)+1>E489,VLOOKUP(E489,'3-3 위험성평가'!$A$5:$P$423,6,0),\"\")","v":""},{"$f":"IF(MAX('3-3 위험성평가'!$A$4:$A$423)+1>E489,VLOOKUP(E489,'3-3 위험성평가'!$A$5:$P$423,9,0),\"\")","v":""},{"$f":"IF(MAX('3-3 위험성평가'!$A$4:$A$423)+1>E489,VLOOKUP(E489,'3-3 위험성평가'!$A$5:$P$423,12,0),\"\")&IF(L489>\"\",\".\"&E489,\"\")","v":""},{"$f":"IF(MAX('3-3 위험성평가'!$A$4:$A$423)+1>E489,VLOOKUP(E489,'3-3 위험성평가'!$A$5:$P$423,13,0),\"\")","v":""},null,"하",null,null,null,null,null,null,null,"선택안함",0,{"$f":"IF(MAX('3-3 위험성평가'!$A$4:$A$423)+1>E489,VLOOKUP(E489,'3-3 위험성평가'!$A$5:$Q$423,17,0),\"\")","v":""},"선택",{"$f":"표지!$D$33","v":0},{"$f":"표지!$E$34","v":0},"선택안함",0]
["T20",2,"S40",4,482,{"$f":"IF(MAX('3-3 위험성평가'!$A$4:$A$423)+1>E490,VLOOKUP(E490,'3-3 위험성평가'!$A$5:$P$423,2,0),\"\")","v":""},{"$f":"IF(F490=\"\",\"\",VLOOKUP(VALUE(F490),'1-1 사업장 공정 정보'!$D$15:$P$41,5,0))","v":""},{"$f":"IF(MAX('3-3 위험성평가'!$A$4:$A$423)+1>E490,VLOOKUP(E490,'3-3 위험성평가'!$A$5:$P$423,3,0),\"\")","v":""},{"$f":"IF(MAX('3-3 위험성평가'!$A$4:$A$423)+1>E490,VLOOKUP(E490,'3-3 위험성평가'!$A$5:$P$423,4,0),\"\")","v":""},{"$f":"IF(MAX('3-3 위험성평가'!$A$4:$A$423)+1>E490,VLOOKUP(E490,'3-3 위험성평가'!$A$5:$P$423,5,0),\"\")","v":""},{"$f":"IF(MAX('3-3 위험성평가'!$A$4:$A$423)+1>E490,VLOOKUP(E490,'3-3 위험성평가'!$A$5:$P$423,6,0),\"\")","v":""},{"$f":"IF(MAX('3-3 위험성평가'!$A$4:$A$423)+1>E490,VLOOKUP(E490,'3-3 위험성평가'!$A$5:$P$423,9,0),\"\")","v":""},{"$f":"IF(MAX('3-3 위험성평가'!$A$4:$A$423)+1>E490,VLOOKUP(E490,'3-3 위험성평가'!$A$5:$P$423,12,0),\"\")&IF(L490>\"\",\".\"&E490,\"\")","v":""},{"$f":"IF(MAX('3-3 위험성평가'!$A$4:$A$423)+1>E490,VLOOKUP(E490,'3-3 위험성평가'!$A$5:$P$423,13,0),\"\")","v":""},null,"하",null,null,null,null,null,null,null,"선택안함",0,{"$f":"IF(MAX('3-3 위험성평가'!$A$4:$A$423)+1>E490,VLOOKUP(E490,'3-3 위험성평가'!$A$5:$Q$423,17,0),\"\")","v":""},"선택",{"$f":"표지!$D$33","v":0},{"$f":"표지!$E$34","v":0},"선택안함",0]
["T20",2,"S40",4,483,{"$f":"IF(MAX('3-3 위험성평가'!$A$4:$A$423)+1>E491,VLOOKUP(E491,'3-3 위험성평가'!$A$5:$P$423,2,0),\"\")","v":""},{"$f":"IF(F491=\"\",\"\",VLOOKUP(VALUE(F491),'1-1 사업장 공정 정보'!$D$15:$P$41,5,0))","v":""},{"$f":"IF(MAX('3-3 위험성평가'!$A$4:$A$423)+1>E491,VLOOKUP(E491,'3-3 위험성평가'!$A$5:$P$423,3,0),\"\")","v":""},{"$f":"IF(MAX('3-3 위험성평가'!$A$4:$A$423)+1>E491,VLOOKUP(E491,'3-3 위험성평가'!$A$5:$P$423,4,0),\"\")","v":""},{"$f":"IF(MAX('3-3 위험성평가'!$A$4:$A$423)+1>E491,VLOOKUP(E491,'3-3 위험성평가'!$A$5:$P$423,5,0),\"\")","v":""},{"$f":"IF(MAX('3-3 위험성평가'!$A$4:$A$423)+1>E491,VLOOKUP(E491,'3-3 위험성평가'!$A$5:$P$423,6,0),\"\")","v":""},{"$f":"IF(MAX('3-3 위험성평가'!$A$4:$A$423)+1>E491,VLOOKUP(E491,'3-3 위험성평가'!$A$5:$P$423,9,0),\"\")","v":""},{"$f":"IF(MAX('3-3 위험성평가'!$A$4:$A$423)+1>E491,VLOOKUP(E491,'3-3 위험성평가'!$A$5:$P$423,12,0),\"\")&IF(L491>\"\",\".\"&E491,\"\")","v":""},{"$f":"IF(MAX('3-3 위험성평가'!$A$4:$A$423)+1>E491,VLOOKUP(E491,'3-3 위험성평가'!$A$5:$P$423,13,0),\"\")","v":""},null,"하",null,null,null,null,null,null,null,"선택안함",0,{"$f":"IF(MAX('3-3 위험성평가'!$A$4:$A$423)+1>E491,VLOOKUP(E491,'3-3 위험성평가'!$A$5:$Q$423,17,0),\"\")","v":""},"선택",{"$f":"표지!$D$33","v":0},{"$f":"표지!$E$34","v":0},"선택안함",0]
["T20",2,"S40",4,484,{"$f":"IF(MAX('3-3 위험성평가'!$A$4:$A$423)+1>E492,VLOOKUP(E492,'3-3 위험성평가'!$A$5:$P$423,2,0),\"\")","v":""},{"$f":"IF(F492=\"\",\"\",VLOOKUP(VALUE(F492),'1-1 사업장 공정 정보'!$D$15:$P$41,5,0))","v":""},{"$f":"IF(MAX('3-3 위험성평가'!$A$4:$A$423)+1>E492,VLOOKUP(E492,'3-3 위험성평가'!$A$5:$P$423,3,0),\"\")","v":""},{"$f":"IF(MAX('3-3 위험성평가'!$A$4:$A$423)+1>E492,VLOOKUP(E492,'3-3 위험성평가'!$A$5:$P$423,4,0),\"\")","v":""},{"$f":"IF(MAX('3-3 위험성평가'!$A$4:$A$423)+1>E492,VLOOKUP(E492,'3-3 위험성평가'!$A$5:$P$423,5,0),\"\")","v":""},{"$f":"IF(MAX('3-3 위험성평가'!$A$4:$A$423)+1>E492,VLOOKUP(E492,'3-3 위험성평가'!$A$5:$P$423,6,0),\"\")","v":""},{"$f":"IF(MAX('3-3 위험성평가'!$A$4:$A$423)+1>E492,VLOOKUP(E492,'3-3 위험성평가'!$A$5:$P$423,9,0),\"\")","v":""},{"$f":"IF(MAX('3-3 위험성평가'!$A$4:$A$423)+1>E492,VLOOKUP(E492,'3-3 위험성평가'!$A$5:$P$423,12,0),\"\")&IF(L492>\"\",\".\"&E492,\"\")","v":""},{"$f":"IF(MAX('3-3 위험성평가'!$A$4:$A$423)+1>E492,VLOOKUP(E492,'3-3 위험성평가'!$A$5:$P$423,13,0),\"\")","v":""},null,"하",null,null,null,null,null,null,null,"선택안함",0,{"$f":"IF(MAX('3-3 위험성평가'!$A$4:$A$423)+1>E492,VLOOKUP(E492,'3-3 위험성평가'!$A$5:$Q$423,17,0),\"\")","v":""},"선택",{"$f":"표지!$D$33","v":0},{"$f":"표지!$E$34","v":0},"선택안함",0]
["T20",2,"S40",4,485,{"$f":"IF(MAX('3-3 위험성평가'!$A$4:$A$423)+1>E493,VLOOKUP(E493,'3-3 위험성평가'!$A$5:$P$423,2,0),\"\")","v":""},{"$f":"IF(F493=\"\",\"\",VLOOKUP(VALUE(F493),'1-1 사업장 공정 정보'!$D$15:$P$41,5,0))","v":""},{"$f":"IF(MAX('3-3 위험성평가'!$A$4:$A$423)+1>E493,VLOOKUP(E493,'3-3 위험성평가'!$A$5:$P$423,3,0),\"\")","v":""},{"$f":"IF(MAX('3-3 위험성평가'!$A$4:$A$423)+1>E493,VLOOKUP(E493,'3-3 위험성평가'!$A$5:$P$423,4,0),\"\")","v":""},{"$f":"IF(MAX('3-3 위험성평가'!$A$4:$A$423)+1>E493,VLOOKUP(E493,'3-3 위험성평가'!$A$5:$P$423,5,0),\"\")","v":""},{"$f":"IF(MAX('3-3 위험성평가'!$A$4:$A$423)+1>E493,VLOOKUP(E493,'3-3 위험성평가'!$A$5:$P$423,6,0),\"\")","v":""},{"$f":"IF(MAX('3-3 위험성평가'!$A$4:$A$423)+1>E493,VLOOKUP(E493,'3-3 위험성평가'!$A$5:$P$423,9,0),\"\")","v":""},{"$f":"IF(MAX('3-3 위험성평가'!$A$4:$A$423)+1>E493,VLOOKUP(E493,'3-3 위험성평가'!$A$5:$P$423,12,0),\"\")&IF(L493>\"\",\".\"&E493,\"\")","v":""},{"$f":"IF(MAX('3-3 위험성평가'!$A$4:$A$423)+1>E493,VLOOKUP(E493,'3-3 위험성평가'!$A$5:$P$423,13,0),\"\")","v":""},null,"하",null,null,null,null,null,null,null,"선택안함",0,{"$f":"IF(MAX('3-3 위험성평가'!$A$4:$A$423)+1>E493,VLOOKUP(E493,'3-3 위험성평가'!$A$5:$Q$423,17,0),\"\")","v":""},"선택",{"$f":"표지!$D$33","v":0},{"$f":"표지!$E$34","v":0},"선택안함",0]
["T20",2,"S40",4,486,{"$f":"IF(MAX('3-3 위험성평가'!$A$4:$A$423)+1>E494,VLOOKUP(E494,'3-3 위험성평가'!$A$5:$P$423,2,0),\"\")","v":""},{"$f":"IF(F494=\"\",\"\",VLOOKUP(VALUE(F494),'1-1 사업장 공정 정보'!$D$15:$P$41,5,0))","v":""},{"$f":"IF(MAX('3-3 위험성평가'!$A$4:$A$423)+1>E494,VLOOKUP(E494,'3-3 위험성평가'!$A$5:$P$423,3,0),\"\")","v":""},{"$f":"IF(MAX('3-3 위험성평가'!$A$4:$A$423)+1>E494,VLOOKUP(E494,'3-3 위험성평가'!$A$5:$P$423,4,0),\"\")","v":""},{"$f":"IF(MAX('3-3 위험성평가'!$A$4:$A$423)+1>E494,VLOOKUP(E494,'3-3 위험성평가'!$A$5:$P$423,5,0),\"\")","v":""},{"$f":"IF(MAX('3-3 위험성평가'!$A$4:$A$423)+1>E494,VLOOKUP(E494,'3-3 위험성평가'!$A$5:$P$423,6,0),\"\")","v":""},{"$f":"IF(MAX('3-3 위험성평가'!$A$4:$A$423)+1>E494,VLOOKUP(E494,'3-3 위험성평가'!$A$5:$P$423,9,0),\"\")","v":""},{"$f":"IF(MAX('3-3 위험성평가'!$A$4:$A$423)+1>E494,VLOOKUP(E494,'3-3 위험성평가'!$A$5:$P$423,12,0),\"\")&IF(L494>\"\",\".\"&E494,\"\")","v":""},{"$f":"IF(MAX('3-3 위험성평가'!$A$4:$A$423)+1>E494,VLOOKUP(E494,'3-3 위험성평가'!$A$5:$P$423,13,0),\"\")","v":""},null,"하",null,null,null,null,null,null,null,"선택안함",0,{"$f":"IF(MAX('3-3 위험성평가'!$A$4:$A$423)+1>E494,VLOOKUP(E494,'3-3 위험성평가'!$A$5:$Q$423,17,0),\"\")","v":""},"선택",{"$f":"표지!$D$33","v":0},{"$f":"표지!$E$34","v":0},"선택안함",0]
["T20",2,"S40",4,487,{"$f":"IF(MAX('3-3 위험성평가'!$A$4:$A$423)+1>E495,VLOOKUP(E495,'3-3 위험성평가'!$A$5:$P$423,2,0),\"\")","v":""},{"$f":"IF(F495=\"\",\"\",VLOOKUP(VALUE(F495),'1-1 사업장 공정 정보'!$D$15:$P$41,5,0))","v":""},{"$f":"IF(MAX('3-3 위험성평가'!$A$4:$A$423)+1>E495,VLOOKUP(E495,'3-3 위험성평가'!$A$5:$P$423,3,0),\"\")","v":""},{"$f":"IF(MAX('3-3 위험성평가'!$A$4:$A$423)+1>E495,VLOOKUP(E495,'3-3 위험성평가'!$A$5:$P$423,4,0),\"\")","v":""},{"$f":"IF(MAX('3-3 위험성평가'!$A$4:$A$423)+1>E495,VLOOKUP(E495,'3-3 위험성평가'!$A$5:$P$423,5,0),\"\")","v":""},{"$f":"IF(MAX('3-3 위험성평가'!$A$4:$A$423)+1>E495,VLOOKUP(E495,'3-3 위험성평가'!$A$5:$P$423,6,0),\"\")","v":""},{"$f":"IF(MAX('3-3 위험성평가'!$A$4:$A$423)+1>E495,VLOOKUP(E495,'3-3 위험성평가'!$A$5:$P$423,9,0),\"\")","v":""},{"$f":"IF(MAX('3-3 위험성평가'!$A$4:$A$423)+1>E495,VLOOKUP(E495,'3-3 위험성평가'!$A$5:$P$423,12,0),\"\")&IF(L495>\"\",\".\"&E495,\"\")","v":""},{"$f":"IF(MAX('3-3 위험성평가'!$A$4:$A$423)+1>E495,VLOOKUP(E495,'3-3 위험성평가'!$A$5:$P$423,13,0),\"\")","v":""},null,"하",null,null,null,null,null,null,null,"선택안함",0,{"$f":"IF(MAX('3-3 위험성평가'!$A$4:$A$423)+1>E495,VLOOKUP(E495,'3-3 위험성평가'!$A$5:$Q$423,17,0),\"\")","v":""},"선택",{"$f":"표지!$D$33","v":0},{"$f":"표지!$E$34","v":0},"선택안함",0]
["T20",2,"S40",4,488,{"$f":"IF(MAX('3-3 위험성평가'!$A$4:$A$423)+1>E496,VLOOKUP(E496,'3-3 위험성평가'!$A$5:$P$423,2,0),\"\")","v":""},{"$f":"IF(F496=\"\",\"\",VLOOKUP(VALUE(F496),'1-1 사업장 공정 정보'!$D$15:$P$41,5,0))","v":""},{"$f":"IF(MAX('3-3 위험성평가'!$A$4:$A$423)+1>E496,VLOOKUP(E496,'3-3 위험성평가'!$A$5:$P$423,3,0),\"\")","v":""},{"$f":"IF(MAX('3-3 위험성평가'!$A$4:$A$423)+1>E496,VLOOKUP(E496,'3-3 위험성평가'!$A$5:$P$423,4,0),\"\")","v":""},{"$f":"IF(MAX('3-3 위험성평가'!$A$4:$A$423)+1>E496,VLOOKUP(E496,'3-3 위험성평가'!$A$5:$P$423,5,0),\"\")","v":""},{"$f":"IF(MAX('3-3 위험성평가'!$A$4:$A$423)+1>E496,VLOOKUP(E496,'3-3 위험성평가'!$A$5:$P$423,6,0),\"\")","v":""},{"$f":"IF(MAX('3-3 위험성평가'!$A$4:$A$423)+1>E496,VLOOKUP(E496,'3-3 위험성평가'!$A$5:$P$423,9,0),\"\")","v":""},{"$f":"IF(MAX('3-3 위험성평가'!$A$4:$A$423)+1>E496,VLOOKUP(E496,'3-3 위험성평가'!$A$5:$P$423,12,0),\"\")&IF(L496>\"\",\".\"&E496,\"\")","v":""},{"$f":"IF(MAX('3-3 위험성평가'!$A$4:$A$423)+1>E496,VLOOKUP(E496,'3-3 위험성평가'!$A$5:$P$423,13,0),\"\")","v":""},null,"하",null,null,null,null,null,null,null,"선택안함",0,{"$f":"IF(MAX('3-3 위험성평가'!$A$4:$A$423)+1>E496,VLOOKUP(E496,'3-3 위험성평가'!$A$5:$Q$423,17,0),\"\")","v":""},"선택",{"$f":"표지!$D$33","v":0},{"$f":"표지!$E$34","v":0},"선택안함",0]
["T20",2,"S40",4,489,{"$f":"IF(MAX('3-3 위험성평가'!$A$4:$A$423)+1>E497,VLOOKUP(E497,'3-3 위험성평가'!$A$5:$P$423,2,0),\"\")","v":""},{"$f":"IF(F497=\"\",\"\",VLOOKUP(VALUE(F497),'1-1 사업장 공정 정보'!$D$15:$P$41,5,0))","v":""},{"$f":"IF(MAX('3-3 위험성평가'!$A$4:$A$423)+1>E497,VLOOKUP(E497,'3-3 위험성평가'!$A$5:$P$423,3,0),\"\")","v":""},{"$f":"IF(MAX('3-3 위험성평가'!$A$4:$A$423)+1>E497,VLOOKUP(E497,'3-3 위험성평가'!$A$5:$P$423,4,0),\"\")","v":""},{"$f":"IF(MAX('3-3 위험성평가'!$A$4:$A$423)+1>E497,VLOOKUP(E497,'3-3 위험성평가'!$A$5:$P$423,5,0),\"\")","v":""},{"$f":"IF(MAX('3-3 위험성평가'!$A$4:$A$423)+1>E497,VLOOKUP(E497,'3-3 위험성평가'!$A$5:$P$423,6,0),\"\")","v":""},{"$f":"IF(MAX('3-3 위험성평가'!$A$4:$A$423)+1>E497,VLOOKUP(E497,'3-3 위험성평가'!$A$5:$P$423,9,0),\"\")","v":""},{"$f":"IF(MAX('3-3 위험성평가'!$A$4:$A$423)+1>E497,VLOOKUP(E497,'3-3 위험성평가'!$A$5:$P$423,12,0),\"\")&IF(L497>\"\",\".\"&E497,\"\")","v":""},{"$f":"IF(MAX('3-3 위험성평가'!$A$4:$A$423)+1>E497,VLOOKUP(E497,'3-3 위험성평가'!$A$5:$P$423,13,0),\"\")","v":""},null,"하",null,null,null,null,null,null,null,"선택안함",0,{"$f":"IF(MAX('3-3 위험성평가'!$A$4:$A$423)+1>E497,VLOOKUP(E497,'3-3 위험성평가'!$A$5:$Q$423,17,0),\"\")","v":""},"선택",{"$f":"표지!$D$33","v":0},{"$f":"표지!$E$34","v":0},"선택안함",0]
["T20",2,"S40",4,490,{"$f":"IF(MAX('3-3 위험성평가'!$A$4:$A$423)+1>E498,VLOOKUP(E498,'3-3 위험성평가'!$A$5:$P$423,2,0),\"\")","v":""},{"$f":"IF(F498=\"\",\"\",VLOOKUP(VALUE(F498),'1-1 사업장 공정 정보'!$D$15:$P$41,5,0))","v":""},{"$f":"IF(MAX('3-3 위험성평가'!$A$4:$A$423)+1>E498,VLOOKUP(E498,'3-3 위험성평가'!$A$5:$P$423,3,0),\"\")","v":""},{"$f":"IF(MAX('3-3 위험성평가'!$A$4:$A$423)+1>E498,VLOOKUP(E498,'3-3 위험성평가'!$A$5:$P$423,4,0),\"\")","v":""},{"$f":"IF(MAX('3-3 위험성평가'!$A$4:$A$423)+1>E498,VLOOKUP(E498,'3-3 위험성평가'!$A$5:$P$423,5,0),\"\")","v":""},{"$f":"IF(MAX('3-3 위험성평가'!$A$4:$A$423)+1>E498,VLOOKUP(E498,'3-3 위험성평가'!$A$5:$P$423,6,0),\"\")","v":""},{"$f":"IF(MAX('3-3 위험성평가'!$A$4:$A$423)+1>E498,VLOOKUP(E498,'3-3 위험성평가'!$A$5:$P$423,9,0),\"\")","v":""},{"$f":"IF(MAX('3-3 위험성평가'!$A$4:$A$423)+1>E498,VLOOKUP(E498,'3-3 위험성평가'!$A$5:$P$423,12,0),\"\")&IF(L498>\"\",\".\"&E498,\"\")","v":""},{"$f":"IF(MAX('3-3 위험성평가'!$A$4:$A$423)+1>E498,VLOOKUP(E498,'3-3 위험성평가'!$A$5:$P$423,13,0),\"\")","v":""},null,"하",null,null,null,null,null,null,null,"선택안함",0,{"$f":"IF(MAX('3-3 위험성평가'!$A$4:$A$423)+1>E498,VLOOKUP(E498,'3-3 위험성평가'!$A$5:$Q$423,17,0),\"\")","v":""},"선택",{"$f":"표지!$D$33","v":0},{"$f":"표지!$E$34","v":0},"선택안함",0]
["T20",2,"S40",4,491,{"$f":"IF(MAX('3-3 위험성평가'!$A$4:$A$423)+1>E499,VLOOKUP(E499,'3-3 위험성평가'!$A$5:$P$423,2,0),\"\")","v":""},{"$f":"IF(F499=\"\",\"\",VLOOKUP(VALUE(F499),'1-1 사업장 공정 정보'!$D$15:$P$41,5,0))","v":""},{"$f":"IF(MAX('3-3 위험성평가'!$A$4:$A$423)+1>E499,VLOOKUP(E499,'3-3 위험성평가'!$A$5:$P$423,3,0),\"\")","v":""},{"$f":"IF(MAX('3-3 위험성평가'!$A$4:$A$423)+1>E499,VLOOKUP(E499,'3-3 위험성평가'!$A$5:$P$423,4,0),\"\")","v":""},{"$f":"IF(MAX('3-3 위험성평가'!$A$4:$A$423)+1>E499,VLOOKUP(E499,'3-3 위험성평가'!$A$5:$P$423,5,0),\"\")","v":""},{"$f":"IF(MAX('3-3 위험성평가'!$A$4:$A$423)+1>E499,VLOOKUP(E499,'3-3 위험성평가'!$A$5:$P$423,6,0),\"\")","v":""},{"$f":"IF(MAX('3-3 위험성평가'!$A$4:$A$423)+1>E499,VLOOKUP(E499,'3-3 위험성평가'!$A$5:$P$423,9,0),\"\")","v":""},{"$f":"IF(MAX('3-3 위험성평가'!$A$4:$A$423)+1>E499,VLOOKUP(E499,'3-3 위험성평가'!$A$5:$P$423,12,0),\"\")&IF(L499>\"\",\".\"&E499,\"\")","v":""},{"$f":"IF(MAX('3-3 위험성평가'!$A$4:$A$423)+1>E499,VLOOKUP(E499,'3-3 위험성평가'!$A$5:$P$423,13,0),\"\")","v":""},null,"하",null,null,null,null,null,null,null,"선택안함",0,{"$f":"IF(MAX('3-3 위험성평가'!$A$4:$A$423)+1>E499,VLOOKUP(E499,'3-3 위험성평가'!$A$5:$Q$423,17,0),\"\")","v":""},"선택",{"$f":"표지!$D$33","v":0},{"$f":"표지!$E$34","v":0},"선택안함",0]
["T20",2,"S40",4,492,{"$f":"IF(MAX('3-3 위험성평가'!$A$4:$A$423)+1>E500,VLOOKUP(E500,'3-3 위험성평가'!$A$5:$P$423,2,0),\"\")","v":""},{"$f":"IF(F500=\"\",\"\",VLOOKUP(VALUE(F500),'1-1 사업장 공정 정보'!$D$15:$P$41,5,0))","v":""},{"$f":"IF(MAX('3-3 위험성평가'!$A$4:$A$423)+1>E500,VLOOKUP(E500,'3-3 위험성평가'!$A$5:$P$423,3,0),\"\")","v":""},{"$f":"IF(MAX('3-3 위험성평가'!$A$4:$A$423)+1>E500,VLOOKUP(E500,'3-3 위험성평가'!$A$5:$P$423,4,0),\"\")","v":""},{"$f":"IF(MAX('3-3 위험성평가'!$A$4:$A$423)+1>E500,VLOOKUP(E500,'3-3 위험성평가'!$A$5:$P$423,5,0),\"\")","v":""},{"$f":"IF(MAX('3-3 위험성평가'!$A$4:$A$423)+1>E500,VLOOKUP(E500,'3-3 위험성평가'!$A$5:$P$423,6,0),\"\")","v":""},{"$f":"IF(MAX('3-3 위험성평가'!$A$4:$A$423)+1>E500,VLOOKUP(E500,'3-3 위험성평가'!$A$5:$P$423,9,0),\"\")","v":""},{"$f":"IF(MAX('3-3 위험성평가'!$A$4:$A$423)+1>E500,VLOOKUP(E500,'3-3 위험성평가'!$A$5:$P$423,12,0),\"\")&IF(L500>\"\",\".\"&E500,\"\")","v":""},{"$f":"IF(MAX('3-3 위험성평가'!$A$4:$A$423)+1>E500,VLOOKUP(E500,'3-3 위험성평가'!$A$5:$P$423,13,0),\"\")","v":""},null,"하",null,null,null,null,null,null,null,"선택안함",0,{"$f":"IF(MAX('3-3 위험성평가'!$A$4:$A$423)+1>E500,VLOOKUP(E500,'3-3 위험성평가'!$A$5:$Q$423,17,0),\"\")","v":""},"선택",{"$f":"표지!$D$33","v":0},{"$f":"표지!$E$34","v":0},"선택안함",0]
["T20",2,"S40",4,493,{"$f":"IF(MAX('3-3 위험성평가'!$A$4:$A$423)+1>E501,VLOOKUP(E501,'3-3 위험성평가'!$A$5:$P$423,2,0),\"\")","v":""},{"$f":"IF(F501=\"\",\"\",VLOOKUP(VALUE(F501),'1-1 사업장 공정 정보'!$D$15:$P$41,5,0))","v":""},{"$f":"IF(MAX('3-3 위험성평가'!$A$4:$A$423)+1>E501,VLOOKUP(E501,'3-3 위험성평가'!$A$5:$P$423,3,0),\"\")","v":""},{"$f":"IF(MAX('3-3 위험성평가'!$A$4:$A$423)+1>E501,VLOOKUP(E501,'3-3 위험성평가'!$A$5:$P$423,4,0),\"\")","v":""},{"$f":"IF(MAX('3-3 위험성평가'!$A$4:$A$423)+1>E501,VLOOKUP(E501,'3-3 위험성평가'!$A$5:$P$423,5,0),\"\")","v":""},{"$f":"IF(MAX('3-3 위험성평가'!$A$4:$A$423)+1>E501,VLOOKUP(E501,'3-3 위험성평가'!$A$5:$P$423,6,0),\"\")","v":""},{"$f":"IF(MAX('3-3 위험성평가'!$A$4:$A$423)+1>E501,VLOOKUP(E501,'3-3 위험성평가'!$A$5:$P$423,9,0),\"\")","v":""},{"$f":"IF(MAX('3-3 위험성평가'!$A$4:$A$423)+1>E501,VLOOKUP(E501,'3-3 위험성평가'!$A$5:$P$423,12,0),\"\")&IF(L501>\"\",\".\"&E501,\"\")","v":""},{"$f":"IF(MAX('3-3 위험성평가'!$A$4:$A$423)+1>E501,VLOOKUP(E501,'3-3 위험성평가'!$A$5:$P$423,13,0),\"\")","v":""},null,"하",null,null,null,null,null,null,null,"선택안함",0,{"$f":"IF(MAX('3-3 위험성평가'!$A$4:$A$423)+1>E501,VLOOKUP(E501,'3-3 위험성평가'!$A$5:$Q$423,17,0),\"\")","v":""},"선택",{"$f":"표지!$D$33","v":0},{"$f":"표지!$E$34","v":0},"선택안함",0]
["T20",2,"S40",4,494,{"$f":"IF(MAX('3-3 위험성평가'!$A$4:$A$423)+1>E502,VLOOKUP(E502,'3-3 위험성평가'!$A$5:$P$423,2,0),\"\")","v":""},{"$f":"IF(F502=\"\",\"\",VLOOKUP(VALUE(F502),'1-1 사업장 공정 정보'!$D$15:$P$41,5,0))","v":""},{"$f":"IF(MAX('3-3 위험성평가'!$A$4:$A$423)+1>E502,VLOOKUP(E502,'3-3 위험성평가'!$A$5:$P$423,3,0),\"\")","v":""},{"$f":"IF(MAX('3-3 위험성평가'!$A$4:$A$423)+1>E502,VLOOKUP(E502,'3-3 위험성평가'!$A$5:$P$423,4,0),\"\")","v":""},{"$f":"IF(MAX('3-3 위험성평가'!$A$4:$A$423)+1>E502,VLOOKUP(E502,'3-3 위험성평가'!$A$5:$P$423,5,0),\"\")","v":""},{"$f":"IF(MAX('3-3 위험성평가'!$A$4:$A$423)+1>E502,VLOOKUP(E502,'3-3 위험성평가'!$A$5:$P$423,6,0),\"\")","v":""},{"$f":"IF(MAX('3-3 위험성평가'!$A$4:$A$423)+1>E502,VLOOKUP(E502,'3-3 위험성평가'!$A$5:$P$423,9,0),\"\")","v":""},{"$f":"IF(MAX('3-3 위험성평가'!$A$4:$A$423)+1>E502,VLOOKUP(E502,'3-3 위험성평가'!$A$5:$P$423,12,0),\"\")&IF(L502>\"\",\".\"&E502,\"\")","v":""},{"$f":"IF(MAX('3-3 위험성평가'!$A$4:$A$423)+1>E502,VLOOKUP(E502,'3-3 위험성평가'!$A$5:$P$423,13,0),\"\")","v":""},null,"하",null,null,null,null,null,null,null,"선택안함",0,{"$f":"IF(MAX('3-3 위험성평가'!$A$4:$A$423)+1>E502,VLOOKUP(E502,'3-3 위험성평가'!$A$5:$Q$423,17,0),\"\")","v":""},"선택",{"$f":"표지!$D$33","v":0},{"$f":"표지!$E$34","v":0},"선택안함",0]
["T20",2,"S40",4,495,{"$f":"IF(MAX('3-3 위험성평가'!$A$4:$A$423)+1>E503,VLOOKUP(E503,'3-3 위험성평가'!$A$5:$P$423,2,0),\"\")","v":""},{"$f":"IF(F503=\"\",\"\",VLOOKUP(VALUE(F503),'1-1 사업장 공정 정보'!$D$15:$P$41,5,0))","v":""},{"$f":"IF(MAX('3-3 위험성평가'!$A$4:$A$423)+1>E503,VLOOKUP(E503,'3-3 위험성평가'!$A$5:$P$423,3,0),\"\")","v":""},{"$f":"IF(MAX('3-3 위험성평가'!$A$4:$A$423)+1>E503,VLOOKUP(E503,'3-3 위험성평가'!$A$5:$P$423,4,0),\"\")","v":""},{"$f":"IF(MAX('3-3 위험성평가'!$A$4:$A$423)+1>E503,VLOOKUP(E503,'3-3 위험성평가'!$A$5:$P$423,5,0),\"\")","v":""},{"$f":"IF(MAX('3-3 위험성평가'!$A$4:$A$423)+1>E503,VLOOKUP(E503,'3-3 위험성평가'!$A$5:$P$423,6,0),\"\")","v":""},{"$f":"IF(MAX('3-3 위험성평가'!$A$4:$A$423)+1>E503,VLOOKUP(E503,'3-3 위험성평가'!$A$5:$P$423,9,0),\"\")","v":""},{"$f":"IF(MAX('3-3 위험성평가'!$A$4:$A$423)+1>E503,VLOOKUP(E503,'3-3 위험성평가'!$A$5:$P$423,12,0),\"\")&IF(L503>\"\",\".\"&E503,\"\")","v":""},{"$f":"IF(MAX('3-3 위험성평가'!$A$4:$A$423)+1>E503,VLOOKUP(E503,'3-3 위험성평가'!$A$5:$P$423,13,0),\"\")","v":""},null,"하",null,null,null,null,null,null,null,"선택안함",0,{"$f":"IF(MAX('3-3 위험성평가'!$A$4:$A$423)+1>E503,VLOOKUP(E503,'3-3 위험성평가'!$A$5:$Q$423,17,0),\"\")","v":""},"선택",{"$f":"표지!$D$33","v":0},{"$f":"표지!$E$34","v":0},"선택안함",0]
["T20",2,"S40",4,496,{"$f":"IF(MAX('3-3 위험성평가'!$A$4:$A$423)+1>E504,VLOOKUP(E504,'3-3 위험성평가'!$A$5:$P$423,2,0),\"\")","v":""},{"$f":"IF(F504=\"\",\"\",VLOOKUP(VALUE(F504),'1-1 사업장 공정 정보'!$D$15:$P$41,5,0))","v":""},{"$f":"IF(MAX('3-3 위험성평가'!$A$4:$A$423)+1>E504,VLOOKUP(E504,'3-3 위험성평가'!$A$5:$P$423,3,0),\"\")","v":""},{"$f":"IF(MAX('3-3 위험성평가'!$A$4:$A$423)+1>E504,VLOOKUP(E504,'3-3 위험성평가'!$A$5:$P$423,4,0),\"\")","v":""},{"$f":"IF(MAX('3-3 위험성평가'!$A$4:$A$423)+1>E504,VLOOKUP(E504,'3-3 위험성평가'!$A$5:$P$423,5,0),\"\")","v":""},{"$f":"IF(MAX('3-3 위험성평가'!$A$4:$A$423)+1>E504,VLOOKUP(E504,'3-3 위험성평가'!$A$5:$P$423,6,0),\"\")","v":""},{"$f":"IF(MAX('3-3 위험성평가'!$A$4:$A$423)+1>E504,VLOOKUP(E504,'3-3 위험성평가'!$A$5:$P$423,9,0),\"\")","v":""},{"$f":"IF(MAX('3-3 위험성평가'!$A$4:$A$423)+1>E504,VLOOKUP(E504,'3-3 위험성평가'!$A$5:$P$423,12,0),\"\")&IF(L504>\"\",\".\"&E504,\"\")","v":""},{"$f":"IF(MAX('3-3 위험성평가'!$A$4:$A$423)+1>E504,VLOOKUP(E504,'3-3 위험성평가'!$A$5:$P$423,13,0),\"\")","v":""},null,"하",null,null,null,null,null,null,null,"선택안함",0,{"$f":"IF(MAX('3-3 위험성평가'!$A$4:$A$423)+1>E504,VLOOKUP(E504,'3-3 위험성평가'!$A$5:$Q$423,17,0),\"\")","v":""},"선택",{"$f":"표지!$D$33","v":0},{"$f":"표지!$E$34","v":0},"선택안함",0]
["T20",2,"S40",4,497,{"$f":"IF(MAX('3-3 위험성평가'!$A$4:$A$423)+1>E505,VLOOKUP(E505,'3-3 위험성평가'!$A$5:$P$423,2,0),\"\")","v":""},{"$f":"IF(F505=\"\",\"\",VLOOKUP(VALUE(F505),'1-1 사업장 공정 정보'!$D$15:$P$41,5,0))","v":""},{"$f":"IF(MAX('3-3 위험성평가'!$A$4:$A$423)+1>E505,VLOOKUP(E505,'3-3 위험성평가'!$A$5:$P$423,3,0),\"\")","v":""},{"$f":"IF(MAX('3-3 위험성평가'!$A$4:$A$423)+1>E505,VLOOKUP(E505,'3-3 위험성평가'!$A$5:$P$423,4,0),\"\")","v":""},{"$f":"IF(MAX('3-3 위험성평가'!$A$4:$A$423)+1>E505,VLOOKUP(E505,'3-3 위험성평가'!$A$5:$P$423,5,0),\"\")","v":""},{"$f":"IF(MAX('3-3 위험성평가'!$A$4:$A$423)+1>E505,VLOOKUP(E505,'3-3 위험성평가'!$A$5:$P$423,6,0),\"\")","v":""},{"$f":"IF(MAX('3-3 위험성평가'!$A$4:$A$423)+1>E505,VLOOKUP(E505,'3-3 위험성평가'!$A$5:$P$423,9,0),\"\")","v":""},{"$f":"IF(MAX('3-3 위험성평가'!$A$4:$A$423)+1>E505,VLOOKUP(E505,'3-3 위험성평가'!$A$5:$P$423,12,0),\"\")&IF(L505>\"\",\".\"&E505,\"\")","v":""},{"$f":"IF(MAX('3-3 위험성평가'!$A$4:$A$423)+1>E505,VLOOKUP(E505,'3-3 위험성평가'!$A$5:$P$423,13,0),\"\")","v":""},null,"하",null,null,null,null,null,null,null,"선택안함",0,{"$f":"IF(MAX('3-3 위험성평가'!$A$4:$A$423)+1>E505,VLOOKUP(E505,'3-3 위험성평가'!$A$5:$Q$423,17,0),\"\")","v":""},"선택",{"$f":"표지!$D$33","v":0},{"$f":"표지!$E$34","v":0},"선택안함",0]

{"sheet":"3-5 위험요소 감소조치 실행결과","index":11,"n_rows":47,"n_cols":9,"rows_kept":47,"cut":false,"hidden":false,"merged":[[47,1,47,10],[48,1,48,10],[38,1,38,10],[40,0,40,10],[41,2,41,3],[41,6,41,7],[41,8,41,9],[43,0,48,0],[43,1,43,10],[44,1,44,10],[45,1,45,10],[46,1,46,10],[30,0,30,10],[31,2,31,3],[31,6,31,7],[31,8,31,9],[33,0,38,0],[33,1,33,10],[34,1,34,10],[35,1,35,10],[36,1,36,10],[37,1,37,10],[21,2,21,3],[21,6,21,7],[21,8,21,9],[23,0,28,0],[23,1,23,10],[24,1,24,10],[25,1,25,10],[26,1,26,10],[27,1,27,10],[28,1,28,10],[20,0,20,10],[18,1,18,10],[17,1,17,10],[16,1,16,10],[7,1,7,10],[15,1,15,10],[14,1,14,10],[13,0,18,0],[13,1,13,10],[11,2,11,3],[11,6,11,7],[11,8,11,9],[8,1,8,10],[1,2,1,3],[10,0,10,10],[0,0,0,10],[5,1,5,10],[6,1,6,10],[3,0,8,0],[3,1,3,10],[4,1,4,10],[1,6,1,7],[1,8,1,9]]}
["위험성평가 실시결과(상시) 조치결과"]
["현장명 : ",{"$f":"표지!$D$32","v":"화양동9-82"},"수정코드 :",null,{"$f":"'3-4 감소대책 수립'!M9","v":"1-1.1.1"},"개선일자 :",null,null,"조치담당 :"]
[]
["ㅡㅡㅡ","개선 전"]
[]
[]
[null,"개선 후"]
[]
[null,"안전대의 안전고리를 걸 수 있도록 안전로프를 설치함으로서 추락사고의 위험에서 신체를 보호할 수 있었다."]
[]
["위험성평가 실시결과(상시) 조치결과"]
["현장명 : ",{"$f":"표지!$D$32","v":"화양동9-82"},"수정코드 :",null,{"$f":"'3-4 감소대책 수립'!M19","v":"3-2.1.11"},"개선일자 :",null,null,"조치담당 :"]
[]
["ㅡㅡㅡ","개선 전"]
[]
[]
[null,"개선 후"]
[]
[]
[]
["위험성평가 실시결과(상시) 조치결과"]
["현장명 : ",{"$f":"표지!$D$32","v":"화양동9-82"},"수정코드 :",null,{"$f":"'3-4 감소대책 수립'!M29","v":""},"개선일자 :",null,null,"조치담당 :"]
[]
["공종명\n(지붕판넬 철거)","개선 전"]
[]
[]
[null,"개선 후"]
[]
[]
[]
["위험성평가 실시결과(상시) 조치결과"]
["현장명 : ",{"$f":"표지!$D$32","v":"화양동9-82"},"수정코드 :",null,{"$f":"'3-4 감소대책 수립'!M39","v":""},"개선일자 :",null,null,"조치담당 :"]
[]
["공종명\n(지붕판넬 철거)","개선 전"]
[]
[]
[null,"개선 후"]
[]
[]
[]
[]
["현장명 : ",{"$f":"표지!$D$32","v":"화양동9-82"},"수정코드 :",null,{"$f":"'3-4 감소대책 수립'!M49","v":""},"개선일자 :",null,null,"조치담당 :"]
[]
["공종명\n(지붕판넬 철거)","개선 전"]
[]
[]
[null,"개선 후"]

{"sheet":"3-6.TBM일지(자동)","index":12,"n_rows":38,"n_cols":23,"rows_kept":38,"cut":false,"hidden":false,"merged":[[0,0,0,15],[1,2,1,3],[3,0,3,1],[3,2,3,7],[3,10,3,15],[1,11,1,15],[3,8,3,9],[1,0,2,1],[2,6,2,7],[2,10,2,15],[2,3,2,5],[10,0,10,6],[10,7,10,15],[11,0,12,6],[11,7,13,15],[13,0,14,6],[14,11,14,15],[14,8,14,9],[8,0,9,6],[8,7,9,8],[8,12,8,15],[9,10,9,15],[4,0,4,1],[4,2,4,15],[6,0,6,15],[7,0,7,6],[7,7,7,15],[20,8,20,9],[19,11,19,15],[16,0,19,6],[20,0,23,6],[15,0,15,6],[15,11,15,15],[16,11,16,15],[17,11,17,15],[18,11,18,15],[34,8,34,9],[15,8,15,9],[16,8,16,9],[17,8,17,9],[26,11,26,15],[27,11,27,15],[25,11,25,15],[23,11,23,15],[24,11,24,15],[22,8,22,9],[33,11,33,15],[34,11,34,15],[24,8,24,9],[26,8,26,9],[20,11,20,15],[18,8,18,9],[36,8,36,9],[37,8,37,9],[21,8,21,9],[36,11,36,15],[35,8,35,9],[29,11,29,15],[27,8,27,9],[28,11,28,15],[37,11,37,15],[30,11,30,15],[35,11,35,15],[28,8,28,9],[29,8,29,9],[30,8,30,9],[32,8,32,9],[33,8,33,9],[24,0,27,6],[32,0,32,6],[28,0,31,6],[21,11,21,15],[22,11,22,15],[31,7,31,15],[32,11,32,15],[23,8,23,9]]}
[{"$f":"\"Tool Box Meeting일지 / \"&A16","v":"Tool Box Meeting일지 / 건물 해체 및 철거"}]
["TBM 일시",null,2024,null,"년",1,"월",5,"일",null,"날씨 :","맑음"]
[null,null,null,"실시 시간  :",null,null,"07:20:00",null,"~","07:30:00","까지"]
["작업장명",null,"오금동123-4 현장",null,null,null,null,null,"TBM장소 :",null,"2층 현장사무실"]
["작업내용",null,"석재 및 타일 붙임작업 "]
[]
["■작업 내용 및 TBM시 전달내용\n※주요 작업내용 및 중대재해로 이어질 수 있는 위험요인과 안전조치 여부 재확인\n  근로자의 작업안전 준수사항 및 주의사항, 재해/위험상황 발생 시 보고 철차 등",null,null,null,null,null,null,null,null,null,null,null,null,null,null,null,null,null,"파일 "]
["공통 안전 조치 사항",null,null,null,null,null,null,"TBM참가자 확인",null,null,null,null,null,null,null,null,null,null,null,null,null,null,"`"]
["■작업 중 안전시설 유지(부득이 철거시 안전조치 후 작업, 작업 후 반드시 안전시설 복구)",null,null,null,null,null,null,"TBM\n리더 ",null,"소  속 :",{"$f":"표지!D33","v":0},"성명 :",{"$f":"표지!E34","v":0}]
[null,null,null,null,null,null,null,null,null,"연락처 :",{"$f":"표지!E35","v":0}]
["■작업 중 / 작업 후 정리정돈 필수 확인\n   (안전은 정리정돈에서 시작!)",null,null,null,null,null,null,"※상기TBM 리더는 금일 현장에서 위급사항 발생시 현장소장을 보조하여 지시한 업무를 수행 함"]
["■공정에 맞는 개인안전보호구 착용 필수\n   (안전모, 안전화, 안전대 착용 등)\n",null,null,null,null,null,null,"※참가자 전원은 공동안전조치사항 및 해당 작업에 대한 안전조치 사항을 반드시 읽고 숙지하며, 미비된 안전조치를 확인하고 작업을 시작하시기 바랍니다."]
[]
["■건설기계 사용시 신호수 등 안전전담요원 \n   배치 필수, 기계 전도방지 필수"]
[null,null,null,null,null,null,null,"번호","구분",null,"성명(자필)","전화번호"]
[{"$f":"표지!B6","v":"건물 해체 및 철거"},null,null,null,null,null,null,1,null,null,null,"010-"]
[{"$f":"IF(COUNTIF('3-4 감소대책 수립'!A9:N505,\"T11\"),VLOOKUP(\"T11\",'3-4 감소대책 수립'!A9:N505,14,0),\"\")","v":"- 가설재 설치 시 2인 1조 작업\n- 손 끼임 방지 장갑 착용\n등 실시 내용 현장에서 직접 확인한다"},null,null,null,null,null,null,2,null,null,null,"010-"]
[null,null,null,null,null,null,null,3,null,null,null,"010-"]
[null,null,null,null,null,null,null,4,null,null,null,"010-"]
[null,null,null,null,null,null,null,5,null,null,null,"010-"]
[{"$f":"IF(COUNTIF('3-4 감소대책 수립'!A9:N505,\"T21\"),VLOOKUP(\"T21\",'3-4 감소대책 수립'!A9:N505,14,0),\"\")","v":"- 작업 구역 내 안전망 설치\n- 헬멧 착용 확인"},null,null,null,null,null,null,6,null,null,null,"010-"]
[null,null,null,null,null,null,null,7,null,null,null,"010-"]
[null,null,null,null,null,null,null,8,null,null,null,"010-"]
[null,null,null,null,null,null,null,9,null,null,null,"010-"]
[{"$f":"IF(COUNTIF('3-4 감소대책 수립'!A9:N505,\"T31\"),VLOOKUP(\"T31\",'3-4 감소대책 수립'!A9:N505,14,0),\"\")","v":""},null,null,null,null,null,null,10,null,null,null,"010-"]
[null,null,null,null,null,null,null,11,null,null,null,"010-"]
[null,null,null,null,null,null,null,12,null,null,null,"010-"]
[null,null,null,null,null,null,null,13,null,null,null,"010-"]
[{"$f":"IF(COUNTIF('3-4 감소대책 수립'!A9:N505,\"T41\"),VLOOKUP(\"T41\",'3-4 감소대책 수립'!A9:N505,14,0),\"\")","v":""},null,null,null,null,null,null,14,null,null,null,"010-"]
[null,null,null,null,null,null,null,15,null,null,null,"010-"]
[null,null,null,null,null,null,null,16,null,null,null,"010-"]
[null,null,null,null,null,null,null,"조                 공"]
["추가 안전 및 전달사항",null,null,null,null,null,null,1,null,null,null,"010-"]
[null,null,null,null,null,null,null,2,null,null,null,"010-"]
[null,null,null,null,null,null,null,3,null,null,null,"010-"]
[null,null,null,null,null,null,null,4,null,null,null,"010-"]
[null,null,null,null,null,null,null,5,null,null,null,"010-"]
[null,null,null,null,null,null,null,6,null,null,null,"010-"]

{"sheet":"3-8.TBM일지(수동)","index":13,"n_rows":38,"n_cols":23,"rows_kept":38,"cut":false,"hidden":false,"merged":[[36,11,36,15],[37,8,37,9],[37,11,37,15],[32,0,37,6],[32,8,32,9],[32,11,32,15],[33,8,33,9],[33,11,33,15],[34,8,34,9],[34,11,34,15],[35,8,35,9],[35,11,35,15],[36,8,36,9],[31,0,31,6],[31,7,31,15],[24,8,24,9],[24,11,24,15],[25,11,25,15],[26,0,30,6],[26,8,26,9],[26,11,26,15],[27,8,27,9],[27,11,27,15],[28,8,28,9],[28,11,28,15],[29,8,29,9],[29,11,29,15],[30,8,30,9],[30,11,30,15],[21,0,25,6],[21,8,21,9],[21,11,21,15],[22,8,22,9],[22,11,22,15],[23,8,23,9],[23,11,23,15],[15,0,15,6],[15,8,15,9],[15,11,15,15],[16,0,20,6],[16,8,16,9],[16,11,16,15],[17,8,17,9],[17,11,17,15],[18,8,18,9],[18,11,18,15],[19,11,19,15],[20,8,20,9],[20,11,20,15],[10,0,10,6],[10,7,10,15],[11,0,12,6],[11,7,13,15],[13,0,14,6],[14,8,14,9],[14,11,14,15],[6,0,6,15],[7,0,7,6],[7,7,7,15],[8,0,9,6],[8,7,9,8],[8,12,8,15],[9,10,9,15],[3,0,3,1],[3,2,3,7],[3,8,3,9],[3,10,3,15],[4,0,4,1],[4,2,4,15],[0,0,0,15],[1,0,2,1],[1,2,1,3],[1,11,1,15],[2,6,2,7],[2,10,2,15],[2,3,2,5]]}
[{"$f":"\"Tool Box Meeting일지 / \"&A16","v":"Tool Box Meeting일지 / 건물 해체 및 철거"}]
["TBM 일시",null,2024,null,"년",1,"월",5,"일",null,"날씨 :","맑음"]
[null,null,null,"실시 시간  :",null,null,"07:20:00",null,"~","07:30:00","까지"]
["작업장명",null,"오금동123-4 현장",null,null,null,null,null,"TBM장소 :",null,"2층 현장사무실"]
["작업내용",null,"철근 콘크리트 인양 및 철근 가공"]
[]
["■작업 내용 및 TBM시 전달내용\n※주요 작업내용 및 중대재해로 이어질 수 있는 위험요인과 안전조치 여부 재확인\n  근로자의 작업안전 준수사항 및 주의사항, 재해/위험상황 발생 시 보고 철차 등"]
["공통 안전 조치 사항",null,null,null,null,null,null,"TBM참가자 확인",null,null,null,null,null,null,null,null,null,null,null,null,null,null,"`"]
["■작업 중 안전시설 유지(부득이 철거시 안전조치 후 작업, 작업 후 반드시 안전시설 복구)",null,null,null,null,null,null,"TBM\n리더 ",null,"소  속 :",{"$f":"표지!D33","v":0},"성명 :",{"$f":"표지!E34","v":0}]
[null,null,null,null,null,null,null,null,null,"연락처 :",{"$f":"표지!E35","v":0}]
["■작업 중 / 작업 후 정리정돈 필수 확인\n   (안전은 정리정돈에서 시작!)",null,null,null,null,null,null,"※상기TBM 리더는 금일 현장에서 위급사항 발생시 현장소장을 보조하여 지시한 업무를 수행 함"]
["■공정에 맞는 개인안전보호구 착용 필수\n   (안전모, 안전화, 안전대 착용 등)\n",null,null,null,null,null,null,"※참가자 전원은 공동안전조치사항 및 해당 작업에 대한 안전조치 사항을 반드시 읽고 숙지하며, 미비된 안전조치를 확인하고 작업을 시작하시기 바랍니다."]
[]
["■건설기계 사용시 신호수 등 안전전담요원 \n   배치 필수, 기계 전도방지 필수"]
[null,null,null,null,null,null,null,"번호","구분",null,"성명(자필)","전화번호"]
[{"$f":"표지!B6","v":"건물 해체 및 철거"},null,null,null,null,null,null,1,null,null,null,"010-"]
[null,null,null,null,null,null,null,2,null,null,null,"010-"]
[null,null,null,null,null,null,null,3,null,null,null,"010-"]
[null,null,null,null,null,null,null,4,null,null,null,"010-"]
[null,null,null,null,null,null,null,5,null,null,null,"010-"]
[null,null,null,null,null,null,null,6,null,null,null,"010-"]
[null,null,null,null,null,null,null,7,null,null,null,"010-"]
[null,null,null,null,null,null,null,8,null,null,null,"010-"]
[null,null,null,null,null,null,null,9,null,null,null,"010-"]
[null,null,null,null,null,null,null,10,null,null,null,"010-"]
[null,null,null,null,null,null,null,11,null,null,null,"010-"]
[null,null,null,null,null,null,null,12,null,null,null,"010-"]
[null,null,null,null,null,null,null,13,null,null,null,"010-"]
[null,null,null,null,null,null,null,14,null,null,null,"010-"]
[null,null,null,null,null,null,null,15,null,null,null,"010-"]
[null,null,null,null,null,null,null,16,null,null,null,"010-"]
["추가 안전 및 전달사항",null,null,null,null,null,null,"조                 공"]
[null,null,null,null,null,null,null,1,null,null,null,"010-"]
[null,null,null,null,null,null,null,2,null,null,null,"010-"]
[null,null,null,null,null,null,null,3,null,null,null,"010-"]
[null,null,null,null,null,null,null,4,null,null,null,"010-"]
[null,null,null,null,null,null,null,5,null,null,null,"010-"]
[null,null,null,null,null,null,null,6,null,null,null,"010-"]

{"sheet":"DB자료실","index":14,"n_rows":9,"n_cols":5,"rows_kept":9,"cut":false,"hidden":false,"merged":[]}
["조치예정(상)","상"]
["조치예정(중)","중"]
["조치완료(중)","하"]
["조치완료"]
["현장확인필요",null,null,null,{"$f":"\"감소대책 수립 및 실행\"&\"[\"&표지!B6&\"]\"","v":"감소대책 수립 및 실행[건물 해체 및 철거]"}]
["해당없음"]
[]
[]
[null,"조치완료(중)"]