{"text_format":"1","workbook":"xlsx","n_sheets":13,"sheets":["갑지","원가계산서","내역서","일위대가 목록","일위대가","단가산출 목록","단가산출","건설기계 목록","건설기계","건설기계 적용기준","견적및기타","노임단가","자재단가"],"not_rendered":{"charts":0,"images":2,"macros":1,"external_links":0,"defined_names":25,"comments":3,"pivot_tables":0},"unopened":[],"bounds":{"document_bytes":16777216,"sheet_cells":100000,"rows_first":2000,"rows_last":500,"rows_between":2000,"halvings":0,"cell_chars":16384,"cell_head_chars":4096},"cells_cut":0,"cells_raw":0,"read":"whole","date_system":"1900"}

{"sheet":"갑지","index":0,"n_rows":18,"n_cols":18,"rows_kept":18,"cut":false,"hidden":false,"merged":[[20,17,20,18],[12,10,12,15],[8,2,10,2],[8,4,8,9],[8,10,8,15],[9,4,9,9],[9,10,9,15],[10,4,10,9],[11,2,11,3],[11,4,11,9],[11,10,11,15],[12,2,12,3],[12,4,12,9],[10,10,10,15],[3,2,3,16],[5,2,5,12],[6,2,6,3],[6,4,6,15],[7,2,7,3],[7,4,7,9],[7,10,7,15],[0,8,1,9],[0,10,1,10],[0,11,1,12],[0,13,0,14],[0,15,0,16],[1,13,1,14],[1,15,1,16],[0,0,1,0],[0,1,1,2],[0,3,1,3],[0,4,1,6],[0,7,1,7]]}
["과  장",null,null,"팀  장",null,null,null,"심사자",null,null,"설계자",null,null,"설  계",null,"2021년  1월   일",null,"결 재"]
[null,null,null,null,null,null,null,null,null,null,null,null,null,"심  사",null,"2021년  1월   일",null,"월   일"]
[]
[null,null,"설    계    서"]
[]
[null,null,"□ 공사명 : "]
[null,null,"구 분",null,"금         액",null,null,null,null,null,null,null,null,null,null,null,"비고"]
[null,null,"총공사비",null,{"$f":"E11+E12+E13","v":661114343.18420506},null,null,null,null,null,{"$f":"\"금\"&TEXT(E8,\"［dbnum4］g/표준\")&\"원\"","v":"금육억육천일백일십일만사천삼백사십삼.일팔사이영오원"}]
[null,null,"도급비","공급가액",{"$f":"원가계산서!D31","v":464649402.89473194},null,null,null,null,null,{"$f":"\"금\"&TEXT(E9,\"［dbnum4］g/표준\")&\"원\"","v":"금사억육천사백육십사만구천사백이.팔구사칠삼이원"}]
[null,null,null,"부가가치세",{"$f":"원가계산서!D32","v":46464940.289473198},null,null,null,null,null,"금사천육백사십육만사천구백사십.이팔구사칠삼이원"]
[null,null,null,"계",{"$f":"원가계산서!D33","v":511114343.18420511},null,null,null,null,null,{"$f":"\"금\"&TEXT(E11,\"［dbnum4］g/표준\")&\"원\"","v":"금오억일천일백일십일만사천삼백사십삼.일팔사이영오원"}]
[null,null,"관급자재비",null,{"$f":"원가계산서!D34","v":150000000},null,null,null,null,null,"금일억오천만원"]
[null,null,"이  전  비",null,{"$f":"원가계산서!D35","v":0},null,null,null,null,null,"금영원"]
[]
[null,null,"○ 공 사 개 요 "]
[null,null,"  o  흄관부설 D300㎜,  L = ",null,null,null,"m",null,null,"o  조립식간이흙막이(H 1.7×B 1.7)   L = ",null,null,null,null,null,"m"]
[null,null,"  o  흄관부설 D600㎜,  L = ",null,null,null,"m",null,null,"o  조립식간이흙막이(H 1.8×B 1.8)   L = ",null,null,null,null,null,"m"]
[null,null,"  o  흄관부설 D700㎜,  L = ",null,null,null,"m",null,null,"o  아스팔트절삭후덧씌우기         A = ",null,null,null,null,null,"a"]

{"sheet":"원가계산서","index":1,"n_rows":113,"n_cols":32,"rows_kept":113,"cut":false,"hidden":false,"merged":[[37,30,38,31],[39,23,39,24],[39,27,39,29],[39,30,39,31],[37,0,39,0],[37,1,39,1],[37,2,37,4],[37,6,37,7],[37,11,38,12],[37,13,37,15],[38,2,38,4],[38,5,39,5],[38,6,39,7],[38,8,39,8],[37,17,37,18],[37,20,37,22],[37,27,38,29],[38,9,39,9],[38,10,39,10],[38,13,39,13],[38,14,39,16],[38,17,39,18],[39,11,39,12],[53,0,55,0],[54,11,55,11],[54,12,55,12],[37,23,38,24],[37,25,39,26],[40,0,44,0],[40,13,44,13],[40,5,57,5],[40,8,57,8],[40,9,57,9],[40,10,47,10],[49,10,50,10],[51,10,57,10],[40,27,43,27],[44,27,47,27],[45,13,52,13],[46,11,50,11],[51,11,53,11],[51,12,53,12],[53,13,57,13],[46,12,50,12]]}
["[원가계산서]"]
["비 목","산출근거","요율","금액",null,"공사기간"]
["직접재료비","","",{"$f":"내역서!H5","v":50325018},null,"연간단가"]
["작업부산물","","",0,null,"공사분야"]
["재료비 소계","","",{"$f":"D3+D4","v":50325018},null,"토목"]
["직접노무비","",null,{"$f":"내역서!J5","v":209281554},null,"산업안전보건관리비 적용시 건설업 분류"]
["간접노무비","[직접노무비]의",{"$f":"IF(($D$3+$D$6+$D$9)<5000000000,IF(F5=C40,VLOOKUP($F$3,$B$41:$C$45,2,FALSE),IF(F5=D40,VLOOKUP($F$3,$B$41:$D$45,3,FALSE),0)),IF(30000000000>($D$3+$D$6+$D$9)>=5000000000,IF(F5=C40,VLOOKUP($F$3,B46:C49,2,FALSE),IF(F5=D40,VLOOKUP($F$3,B46:D49,3,FALSE),0))))","v":12.7},{"$f":"D6*C7%","v":26578757.357999999},null,"일반건설 갑"]
["노무비 소계","",null,{"$f":"D6+D7","v":235860311.35800001},null,"환경보전비"]
["산출경비","",null,{"$f":"내역서!L5","v":29342702},null,"기타토목(하천등)"]
["산재보험료","[노무비] 의",{"$f":"F41","v":3.7},{"$f":"D8*C10%","v":8726831.520246001},null,"건설기계대여대금"]
["고용보험료","[노무비] 의",{"$f":"H47","v":0.87},{"$f":"D8*C11%","v":2051984.7088146},null,"준설,포장공사,\n토공사,비계구조물해제"]
["건강보험료","[직접노무비]의",{"$f":"I41","v":3.43},{"$f":"D6*C12%","v":7178357.3022000007},null,"일반관리비"]
["노인장기요양보험료","[건강보험료]의",{"$f":"K41","v":11.52},{"$f":"D12*C13%","v":826946.7612134401},null,"전문공사"]
["연금보험료","[직접노무비]의",{"$f":"J41","v":4.5},{"$f":"D6*C14%","v":9417669.9299999997},null,"예상추정가격(원)"]
["퇴직공제부금비","[직접노무비]의",{"$f":"IF((F15*1.1+D34)>=300000000,K52,0)","v":2.2999999999999998},{"$f":"D6*C15%","v":4813475.7419999996},null,149700000]
["산업안전보건관리비","※관급포함시: ⓑ와 ⓒ 비교후 적은금액 적용",null,{"$f":"IF(D34=\"\",D17,MIN(D18,D19))","v":9127767.0715200007}]
["a. 관급없는 경우","[재료비+직접노무비] 의",null,{"$f":"IF(AND(D34=\"\",(D5+D6)<500000000),SUM(D5+D6)*VLOOKUP(F7,O41:P45,2,0)%,IF(AND(D34=\"\",500000000<=(D5+D6),(D5+D6)<5000000000),SUM(SUM(D5+D6)*VLOOKUP(F7,O46:P50,2,0)%+VLOOKUP(F7,O46:Q50,3,0)),IF(AND(D34=\"\",(D5+D6)>=5000000000),SUM(D5+D6)*VLOOKUP(F7,O54:P58,2,0)%)))","v":false}]
["b. a의 1.2배","",null,{"$f":"IF(AND(D34<>\"\",(D5+D6+D34)<500000000),SUM(D5+D6)*VLOOKUP(F7,O41:P45,2,0)%*1.2,IF(AND(D34<>\"\",500000000<=(D5+D6+D34),(D5+D6+D34)<5000000000),SUM((SUM(D5+D6)*VLOOKUP(F7,O46:P50,2,0)%)+VLOOKUP(F7,O46:Q50,3,0))*1.2,IF(AND(D34<>\"\",(D5+D6+D34)>=5000000000),SUM(D5+D6)*VLOOKUP(F7,O54:P58,2,0)%*1.2)))","v":9127767.0715200007}]
["c. 관급포함인 경우","[재료비+직접노무비+관급자재]의",null,{"$f":"IF(AND(D34<>\"\",(D5+D6+D34)<500000000),SUM(D5+D6+D34)*VLOOKUP(F7,O41:P45,2,0)%,IF(AND(D34<>\"\",500000000<=(D5+D6+D34),(D5+D6+D34)<5000000000),SUM(SUM(D5+D6+D34)*VLOOKUP(F7,O46:P50,2,0)%+VLOOKUP(F7,O46:Q50,3,0)),IF(AND(D34<>\"\",(D5+D6+D34)>=5000000000),SUM(D5+D6+D34)*VLOOKUP(F7,O54:P58,2,0)%)))","v":12001472.559600001}]
["기타경비","[재료비+노무비] 의",{"$f":"IF(($D$3+$D$6+$D$9)<5000000000,IF(F5=U39,VLOOKUP($F$3,T41:U45,2,FALSE),IF(F5=V39,VLOOKUP($F$3,T41:V45,3,FALSE),0)),IF(30000000000>($D$3+$D$6+$D$9)>=5000000000,IF(F5=U39,VLOOKUP($F$3,T46:U49,2,FALSE),IF(F5=V39,VLOOKUP($F$3,T46:V49,3,FALSE),0))))","v":8.8000000000000007},{"$f":"(D5+D8)*C20%","v":25184308.983504005}]
["공사이행보증수수료","[재료비+직접노무비+산출경비]의",null,0]
["건설하도급발급수수료","[재료비+직접노무비+산출경비]의",{"$f":"Y41","v":8.1000000000000003E-2},{"$f":"(D5+D6+D9)*C22%","v":234048.91194000002}]
["환경보전비","[재료비+직접노무비+산출경비]의",{"$f":"VLOOKUP($F$9,R41:S54,2,FALSE)","v":0.8},{"$f":"(D5+D6+D9)*C23%","v":2311594.1920000003}]
["건설기계대여대금","[재료비+직접노무비+산출경비]의",{"$f":"VLOOKUP($F$11,L42:M57,2,FALSE)","v":0.68},{"$f":"(D5+D6+D9)*C24%","v":1964855.0632000002}]
["경비 소계","",null,{"$f":"SUM(D9:D16,D20:D24)","v":101180542.18663801}]
["순공사원가","",null,{"$f":"D5+D8+D25","v":387365871.54463804}]
["일반관리비","[재료비+노무비+경비] 의",{"$f":"IF(F3=\"연간단가\",AD41,VLOOKUP(F15,IF(F13=AB45,AC45:AD48,AC41:AD44),2))","v":6},{"$f":"(D5+D8+D25)*C27%","v":23241952.292678282}]
["이윤","[노무비+경비+일반관리비]",{"$f":"IF(F15<5000000000,AF41,IF(AND(5000000000<=F15,F15<30000000000),AF42,0))","v":15},{"$f":"(D8+D25+D27)*C28%-926/1.1","v":54041579.057415627}]
["고용개선지원비","(주휴수당+국민연금,건강보험료 지원+고용개선장려금+단말기 비용)"]
["제요율적용제외공종",""]
["총공사원가","",null,{"$f":"SUM(D26:D29)","v":464649402.89473194}]
["부가가치세","",10,{"$f":"D31*C32%","v":46464940.289473198}]
["도급금액","",null,{"$f":"SUM(D31:D32)","v":511114343.18420511}]
["관급자재대","","",150000000]
["이전비","",""]
[null,"2021년 토목 · 조경 · 산업환경설비공사 원가계산 제비율 적용기준"]
["※ 적용시기 : 2021.1. 6 기초금액발표분부터"]
["공사규모","공사기간","간접노무비",null,null,"산재보험료","고용보험료",null,"건강보험료","연금보험료","노인장기요양보험료","건설기계대여대금\n지급보증서 발급금액",null,"산업안전보건관리비",null,null,"원","환경보전비",null,null,"기타경비(재+직노+간노)×율",null,null,"건설하도급대금지급보증서 발급수수료",null,"공사이행보증수수료",null,"일반관리비",null,null,"이윤"]
[null,null,"(직노)×율",null,null,"(노)×율","(직노+간노)×율",null,"(직노)×율","(직노)×율","(건강보험료)×율",null,null,"공사규모","(재+직노+관급자재)×율",null,null,"(재+직노+산경)×율",null,null,"토목","조경","산업설비"]
[null,null,"토목","조경","산업설비\n(토목)",null,null,null,null,null,null,"(재+직노+산경)×율",null,null,null,null,null,null,null,null,"a","b","c","(재+직노+산경)×율",null,null,null,"(재+노+총경)×율",null,null,"(직노+간노+총경+일관)×율"]
["50억미만","6개월이하 (183일)",12.7,11.5,12.7,3.7,"1등급",1.39,3.43,4.5,11.52,null,null," 5억 미만","일반건설 갑",2.93,null," 도로 (교량, 터널, 활주로)",0.9,"6개월이하 (183일)",8.8000000000000007,7.8,8.8000000000000007,"50억 미만",8.1000000000000003E-2,null,null,"토목,조경,\n산업설비",0,6,"50억 미만",15]
[null,"7-12개월 (365일)",13,11.8,13,null,"2등급",1.17,null,null,null,"토목(토건)",0.4,null,"일반건설 을",3.09,null," 플랜트(발전소,쓰레기소각로)",0.4,"7-12개월 (365일)",9.1,8.1,9.1,"50억~100억",0.08,null,null,null,5000000000,5.5,"50~300억 미만",12]
[null,"13-36개월 (1095일)",13,11.8,13,null,"3등급",0.97,null,null,null,"산업,설비공사",0.16,null,"특수 및 기타",1.85,null," 지하철",0.5,"13-36개월 (1095일)",10,9,10,"100억~300억",7.4999999999999997E-2,null,null,null,30000000000,5,"300~1000억 미만",10]
[null,"36개월 초과 (1096일)",12.9,11.7,12.9,null,"4등급",0.92,null,null,null,"조경공사",0.18,null,"철도궤도",2.4500000000000002,null," 철도",1.5,"36개월 초과 (1096일)",10,9.5,10.5,"300억 이상 토목및산업설비",7.0999999999999994E-2,null,null,null,100000000000,4.5,"1000억이상",9]
[null,"연간단가",12.7,11.5,12.7,null,"5등급",0.89,null,null,null,null,null,null,"중건설",3.43,null," 상하수도(폐수,하수처리장,정수장)",0.5,"연간단가",8.8000000000000007,7.8,8.8000000000000007,"300억 이상 건축",6.8000000000000005E-2,null,null,"전문공사",0,6]
["50억-300억","6개월이하 (183일)",12.7,11.5,12.7,null,"6등급",0.88,null,null,null,"준설,포장공사,\n토공사,비계구조물해제",0.68,"5억~50억 미만","일반건설 갑",1.86,5349000," 항만(오탁,준설토,방지막설치필요시, 간척, 준설,",1.8,"6개월이하 (183일)",10.199999999999999,9.1999999999999993,10.199999999999999,"턴키(대안)공사",8.4000000000000005E-2,null,null,null,500000000,5.5]
["미만","7-12개월 (365일)",12.9,11.8,12.9,null,"7등급이하",0.87,null,null,null,"상하수도설비,\n수중공사, \n보링그라우팅공사",0.51,null,"일반건설 을",1.99,5499000," 항만(방지막 불필요시,간척,준설)",0.8,"7-12개월 (365일)",10.5,9.5,10.5,null,null,null,null,null,3000000000,5]
[null,"13-36개월 (1095일)",13,11.8,13,null,null,null,null,null,null,null,null,null,"특수 및 기타",1.2,3250000," 댐",1.1000000000000001,"13-36개월 (1095일)",11.4,10.4,11.4,null,null,null,null,null,10000000000,4.5]
[null,"36개월 초과 (1096일)",12.9,11.7,12.9,null,null,null,null,null,"퇴직공제부금비",null,null,null,"철도궤도",1.57,4411000," 택지개발",0.6,"36개월 초과 (1096일)",11.9,10.9,11.9]
["300억-1000억","6개월이하 (183일)",12.5,11.3,12.5,null,null,null,null,null,"(직노)×율",null,null,null,"중건설",2.35,5400000," 주택(재개발, 재건축)",0.7,"6개월이하 (183일)",9.1,8.1,9.1]
["미만","7-12개월 (365일)",12.7,11.6,12.7,null,null,null,null,null,null,null,null,null,null,null,null," 주택(신축)",0.3,"7-12개월 (365일)",9.4,8.4,9.4]
[null,"13-36개월 (1095일)",12.8,11.6,12.8,null,null,null,null,null,2.2999999999999998,"석공사,시설물유지관리, 철근콘크리트",0.32,null,null,null,null," 주택(재개발, 재건축 ,주택(신축)) 외 건축",0.5,"13-36개월 (1095일)",10.3,9.3000000000000007,10.3]
[null,"36개월 초과 (1096일)",12.7,11.5,12.7,null,null,null,null,null,null,null,null,null,null,null,null," 조경",0.3,"36개월 초과 (1096일)",10.8,9.8000000000000007,10.8]
["1000억 이상","6개월이하 (183일)",11.8,10.7,11.8,null,null,null,null,null,null,null,null,"50억 이상","일반건설 갑",1.97,null,"기타토목(하천등)",0.8,"6개월이하 (183일)",8.1,7.1,8.1]
[null,"7-12개월 (365일)",12.1,10.9,12.1,null,null,null,null,null,null,"조경시설물,조경식재,도장,철도궤도,철강재설치",0.16,null,"일반건설 을",2.1,null,null,null,"7-12개월 (365일)",8.4,7.4,8.4]
[null,"13-36개월 (1095일)",12.1,11,12.1,null,null,null,null,null,null,null,null,null,"특수 및 기타",1.27,null,null,null,"13-36개월 (1095일)",9.3000000000000007,8.3000000000000007,9.3000000000000007]
[null,"36개월 초과 (1096일)",12,10.9,12,null,null,null,null,null,null,"그외",0.1,null,"철도궤도",1.66,null,null,null,"36개월 초과 (1096일)",9.8000000000000007,8.8000000000000007,9.8000000000000007]
[null,null,null,null,null,null,null,null,null,null,null,null,null,null,"중건설",2.44]
[]
[]
["□ 공사이행보증수수료   70억원(직접공사비) 미만 : [직접공사비×0.0355%]×공기(년)"]
["                         70억원(직접공사비) 이상 ~ 120억원(직접공사비) 미만 : [2백만원+(직접공사비-50억원)×0.0235%]×공기(년)"]
["                         120억원(직접공사비) 이상 ~ 250억원(직접공사비) 미만 : [4백만원+(직접공사비-140억원)×0.0193%]×공기(년)"]
["                         250억원(직접공사비) 이상 ~ 500억원(직접공사비) 미만 : [6백만원+(직접공사비-250억원)×0.0159%]×공기(년)"]
["                         500억원(직접공사비) 이상 : [10백만원+(직접공사비-500억원)×0.0126%]×공기(년)"]
["□ 건설하도급대금지급보증서발급수수료 : 50억(추정가격)미만 : 0.081%,                  50억～100억(추정가격)미만 : 0.080%,              100억～300억(추정가격)미만 : 0.075%"]
["    (직접공사비)×율               300억(추정가격)이상 (최저가낙찰대상공사 포함) 토목 및 산업설비 : 0.071%, 건축 : 0.068%,         턴키,대안공사 : 0.084%"]
["                                          ※ 하도급대금지급보증서발급금액적용기준고시(국토부고시 제2016-921호, 2016.12.19) "]
["□ 건설근로자퇴직공제부금비 : 국토부 고시 제2015-610호 고시 요율 적용"]
["□ 건설기계대여대금 지급보증서 발급금액 : 국토부 고시 제2019-286호(2019.6.19) 적용"]
["□ 산업안전보건관리비 적용 시 건설업의 분류 : 고용노동부고시 제2020-63호(2020.1.23.) 참조"]
[" ○ 일반건설(갑) : 건축건설, 교량건설, 도로신설, 철도,궤도의 보수복구공사, 기설로면에 레일만 부설하는 공사, 지하10m 이내 복개식 지하도, 지하철도, 지하상가, 통신선로 등 인입통신구 신설공사, 기타건설공사(다른 것에 분류하지 아니한 건설공사)"]
[" ○ 일반건설(을) : 기계장치공사, 삭도건설공사, 공해방지시설 및 폐수처리시설 공사  ○ 철도 또는 궤도신설 : 철도,궤도신설(기설노반 또는 구조물에 한함) 및 그에 따른 역사, 과선교,송전선로"]
[" ○ 중건설 : 높이20m이상의 고제방(댐), 방파제, 안벽, 수력발전시설 신설공사, 터널, 지하10m이상 복개식 지하철도, 지하도, 인입통신구(지하상가 및 통신선로 등) 신설공사"]
[" ○ 특수 및 기타건설 : 준설, 조경(전문포함), 택지조성(경지정리포함), 포장의 단독발주공사에 한함[타공사와 병행하는 경우: 일반건설(갑) 적용] "]
["□ 비목별 공사규모 및  적용대상"]
[" ○ 간접노무비 및 기타경비 : <재료비+직접노무비+산출경비>의 합계액"]
[" ○ 산업안전보건관리비 : <재료비(관급포함) + 직접노무비>의 합계액, 공사금액(도급금액+관급금액) 4천만원이상 건설공사"]
[" ○ 일반관리비, 이윤 : 추정가격 기준 "]
["  - 산재,고용보험료 : 모든 건설공사에 적용(주택건설사업자,건설업자,전기공사업자,정보통신공사업자,소방시설업자,문화재수리업자)"]
["                     다만, 총금사금액[(도급금액+관급재료)에서 부가세 제외] 2천만원 미만의 건설공사를 건설업자가 아닌 자가 시공 시 적용 제외"]
["                         (고용노동부 고시 제 2018-90호, 국토교통부 고시 제2018-462호)"]
["  - 건강,연금보험료 : 공사기간 1개월(30일) 이상 모든 공사에 반영(사회보험의 보험료적용기준 국토부고시 제2018-462호) 정산조건은 ‘18.08.01.입찰공고부터"]
["  - 노인장기요양보험료 : 공사기간 1개월(30일) 이상 모든 공사에 반영(사회보험의 보험료적용기준 국토부고시 제2018-462호) ‘18.08.01.입찰공고부터 적용"]
["  - 퇴직공제부금비 : 추정금액 3억원이상 건설공사(국토부 고시 제2015-610호)"]
["  - 공사이행보증수수료 : 추정가격 300억원 이상 공사(국가계약법시행령 제52조제1항), 시행령 제6장 및 제8장에 따른 공사계약인 경우"]
["  - 환경보전비 : 건설공사현장에 설치하는 환경오염방지시설의 설치 및 운영에 소요되는 비용(환경보전비)은 건설기술진흥법 시행규칙 [별표8] 환경관리비 세부 산출기준 제1호 가목에 해당하는 요율 이상을 적용하여 계상하되, 표준품셈 등 원가계산에 따라 산출한 환경보전비를 포함한다."]
["□ 토목공사 유자격자 등급별 금액(추정금액기준)"]
["    1등급 : 1700억이상,       2등급 : 1700억～950억이상"]
["    3등급 : 950억～550억이상, 4등급 :  550억～400억이상"]
["    5등급 : 400억∼220억이상, 6등급 :  220억∼140억이상"]
["    7등급 : 140억∼78억(고시금액)이상   "]
["    ※ 추정금액=추정가격+관급액+부가세"]
[]
[" □ 기타경비 항목 : 수도광열비, 복리후생비, 소모품비 및"]
["     사무용품비, 여비, 교통통신비, 세금과공과, 도서인쇄비, "]
["     "]
[" □ 산업설비(토목) 해당공종 : 수처리시설(오폐수,하수처리, 분뇨처리, 정수장) 등"]
[]
[" □ 2000.7.31이후 수의계약시 1차 낙찰율 ( )7.31이전"]
["  &#8228;추정가격10억미만으로 87.75%(85%)미만인 경우:87.75%(85%)"]
["  &#8228;추정가격10억～50억미만으로 86.75%(83%)미만인 경우:86.75%(83%)"]
["  &#8228;추정가격50억～100억미만으로 85.5%(80%)미만인 경우:85.5%(80%)"]
[]
[]
[" □ 고용보험료 적용기준(국토부고시 제2013-738호)"]
["   &#8228;일반(등급)공사 : 해당등급 요율적용"]
["   &#8228;PQ,실적대상 : 공사금액에 따라 해당등급(토목,건축구분)"]
["   &#8228;수의계약대상 : 해당업체 시평액의 등급 요율적용"]
["   &#8228;기 타 공 사 : 공사금액에 따라 해당등급 요율적용  "]
[]
[" □ 전기&#8228;통신&#8228;소방&#8228;전문 및 기타공사의 경우 일반관리비 "]
["    요율을 제외한 각종 제비율은 주 공종을 따라 적용"]

{"sheet":"내역서","index":2,"n_rows":463,"n_cols":119,"rows_kept":463,"cut":false,"hidden":false,"merged":[[2,10,2,11],[0,0,0,13],[2,0,3,0],[2,1,3,1],[2,2,3,2],[2,3,3,3],[2,12,3,12],[2,13,3,13],[2,4,2,5],[2,6,2,7],[2,8,2,9]]}
["예  산  내  역  서",null,null,null,null,null,null,null,null,null,null,null,null,null,null,null,null,null,null,null,null,null,null,null,null,null,null,null,null,null,null,null,null,null,null,null,null,null,null,null,null,null,null,null,null,null,null,null,null,null,null,null,null,null,null,null,null,null,null,null,null,null,null,null,null,null,null,null,null,null,null,null,null,null,null,null,null,null,null,null,null,null,null,null,null,null,null,null,null,null,null,null,null,null,null,null,null,null,null,null,null,null,null,null,null,null,null,null,null,null,null,null,null,null,null,null,null,null,""]
[null,null,null,null,null,null,null,null,null,null,null,null,null,null,null,null,null,null,null,null,null,null,null,null,null,null,null,null,null,null,null,null,null,null,null,null,null,null,null,null,null,null,null,null,null,null,null,null,null,null,null,null,null,null,null,null,null,null,null,null,null,null,null,null,null,null,null,null,null,null,null,null,null,null,null,null,null,null,null,null,null,null,null,null,null,null,null,null,null,null,null,null,null,null,null,null,null,null,null,null,null,null,null,null,null,null,null,null,null,null,null,null,null,null,null,null,null,null,""]
["공    종","규  격","수량","단위","합    계",null,"재 료 비",null,"노 무 비",null,"경    비",null,"비고","호표번호",null,null,null,null,null,null,null,null,null,null,null,null,null,null,null,null,null,null,null,null,null,null,null,null,null,null,null,null,null,null,null,null,null,null,null,null,null,null,null,null,null,null,null,null,null,null,null,null,null,null,null,null,null,null,null,null,null,null,null,null,null,null,null,null,null,null,null,null,null,null,null,null,null,null,null,null,null,null,null,null,null,null,null,null,null,null,null,null,null,null,null,null,null,null,null,null,null,null,null,null,null,null,null,null,""]
[null,null,null,null,"단  가","금  액","단  가","금  액","단  가","금  액","단  가","금  액",null,null,null,null,null,null,null,null,null,null,null,null,null,null,null,null,null,null,null,null,null,null,null,null,null,null,null,null,null,null,null,null,null,null,null,null,null,null,null,null,null,null,null,null,null,null,null,null,null,null,null,null,null,null,null,null,null,null,null,null,null,null,null,null,null,null,null,null,null,null,null,null,null,null,null,null,null,null,null,null,null,null,null,null,null,null,null,null,null,null,null,null,null,null,null,null,null,null,null,null,null,null,null,null,null,null,""]
["순 공 사 비",null,1,"식",null,{"$f":"SUM(F8:F463)","v":288949274},null,{"$f":"SUM(H8:H463)","v":50325018},null,{"$f":"SUM(J8:J463)","v":209281554},null,{"$f":"SUM(L8:L463)","v":29342702}]
[null,null,null,null,null,null,null,null,null,null,null,null,"","",null,null,null,null,null,null,null,null,null,null,null,null,null,null,null,null,null,null,null,null,null,null,null,null,null,null,null,null,null,null,null,null,null,null,null,null,null,null,null,null,null,null,null,null,null,null,null,null,null,null,null,null,null,null,null,null,null,null,null,null,null,null,null,null,null,null,null,null,null,null,null,null,null,null,null,null,null,null,null,null,null,null,null,null,null,null,null,null,null,null,null,null,null,null,null,null,null,null,null,null,null,null,"",""]
["1. 토공",null,1,"식"]
["포장절단","1차로",1,"m",{"$f":"G8+I8+K8","v":1590},{"$f":"H8+J8+L8","v":1590},{"$f":"일위대가!H2206","v":649},{"$f":"TRUNC(C8*G8,0)","v":649},{"$f":"일위대가!J2206","v":891},{"$f":"TRUNC(C8*I8,0)","v":891},{"$f":"일위대가!L2206","v":50},{"$f":"TRUNC(C8*K8,0)","v":50},1001,"제02360호표",1,null,null,null,null,null,null,null,null,null,null,null,null,null,null,null,null,null,null,null,null,null,null,null,null,null,null,null,null,null,null,null,null,null,null,null,null,null,null,null,null,null,null,null,null,null,null,null,null,null,null,null,null,null,null,null,null,null,null,null,null,null,null,null,null,null,null,null,null,null,null,null,null,null,null,null,null,null,null,null,null,null,null,null,null,null,null,null,null,null,null,null,null,null,null,null,null,null,null,null,null,null,"BKF6300",""]
["포장깨기[아스팔트]","인력",1,"㎥",286007,286007,{"$f":"일위대가!H2165","v":13619},13619,{"$f":"일위대가!J2165","v":272388},272388,{"$f":"일위대가!L2165","v":0},0,1002,"제02300호표",1,null,null,null,null,null,null,null,null,null,null,null,null,null,null,null,null,null,null,null,null,null,null,null,null,null,null,null,null,null,null,null,null,null,null,null,null,null,null,null,null,null,null,null,null,null,null,null,null,null,null,null,null,null,null,null,null,null,null,null,null,null,null,null,null,null,null,null,null,null,null,null,null,null,null,null,null,null,null,null,null,null,null,null,null,null,null,null,null,null,null,null,null,null,null,null,null,null,null,null,null,null,"BDB2210",""]
["포장깨기[아스팔트]","소형브레이카+공기압축기",1,"㎥",93207,93207,{"$f":"일위대가!H2173","v":3695},3695,{"$f":"일위대가!J2173","v":88319},88319,{"$f":"일위대가!L2173","v":1193},1193,1003,"제02310호표",1,null,null,null,null,null,null,null,null,null,null,null,null,null,null,null,null,null,null,null,null,null,null,null,null,null,null,null,null,null,null,null,null,null,null,null,null,null,null,null,null,null,null,null,null,null,null,null,null,null,null,null,null,null,null,null,null,null,null,null,null,null,null,null,null,null,null,null,null,null,null,null,null,null,null,null,null,null,null,null,null,null,null,null,null,null,null,null,null,null,null,null,null,null,null,null,null,null,null,null,null,null,"BDB2220",""]
["포장깨기[콘크리트]","인력",1,"㎥",338693,338693,{"$f":"일위대가!H2178","v":16128},16128,{"$f":"일위대가!J2178","v":322565},322565,{"$f":"일위대가!L2178","v":0},0,1004,"제02320호표",1,null,null,null,null,null,null,null,null,null,null,null,null,null,null,null,null,null,null,null,null,null,null,null,null,null,null,null,null,null,null,null,null,null,null,null,null,null,null,null,null,null,null,null,null,null,null,null,null,null,null,null,null,null,null,null,null,null,null,null,null,null,null,null,null,null,null,null,null,null,null,null,null,null,null,null,null,null,null,null,null,null,null,null,null,null,null,null,null,null,null,null,null,null,null,null,null,null,null,null,null,null,"BDB2110",""]
["포장깨기[콘크리트]","소형브레이카+공기압축기",1,"㎥",121784,121784,{"$f":"일위대가!H2186","v":5644},5644,{"$f":"일위대가!J2186","v":114376},114376,{"$f":"일위대가!L2186","v":1764},1764,1005,"제02330호표",1,null,null,null,null,null,null,null,null,null,null,null,null,null,null,null,null,null,null,null,null,null,null,null,null,null,null,null,null,null,null,null,null,null,null,null,null,null,null,null,null,null,null,null,null,null,null,null,null,null,null,null,null,null,null,null,null,null,null,null,null,null,null,null,null,null,null,null,null,null,null,null,null,null,null,null,null,null,null,null,null,null,null,null,null,null,null,null,null,null,null,null,null,null,null,null,null,null,null,null,null,null,"BDB2120",""]
["포장깨기[아스팔트]","굴삭기0.2㎥+브레이카",1,"㎥",20931,20931,{"$f":"단가산출!CY3709","v":"2,126"},2126,{"$f":"단가산출!CZ3709","v":"15,106"},15106,{"$f":"단가산출!DA3709","v":"3,699"},3699,1006,"산근00831호표",1,null,null,null,null,null,null,null,null,null,null,null,null,null,null,null,null,null,null,null,null,null,null,null,null,null,null,null,null,null,null,null,null,null,null,null,null,null,null,null,null,null,null,null,null,null,null,null,null,null,null,null,null,null,null,null,null,null,null,null,null,null,null,null,null,null,null,null,null,null,null,null,null,null,null,null,null,null,null,null,null,null,null,null,null,null,null,null,null,null,null,null,null,null,null,null,null,null,null,null,null,null,"SDB2232-1",""]
["포장깨기[아스팔트]","굴삭기0.4㎥+브레이카",1,"㎥",{"$f":"G14+I14+K14","v":14343},{"$f":"H14+J14+L14","v":14343},{"$f":"단가산출!CY3746","v":"2,426"},{"$f":"TRUNC(C14*G14,0)","v":2426},{"$f":"단가산출!CZ3746","v":"8,976"},{"$f":"TRUNC(C14*I14,0)","v":8976},{"$f":"단가산출!DA3746","v":"2,941"},{"$f":"TRUNC(C14*K14,0)","v":2941},1007,"산근00832호표",1,null,null,null,null,null,null,null,null,null,null,null,null,null,null,null,null,null,null,null,null,null,null,null,null,null,null,null,null,null,null,null,null,null,null,null,null,null,null,null,null,null,null,null,null,null,null,null,null,null,null,null,null,null,null,null,null,null,null,null,null,null,null,null,null,null,null,null,null,null,null,null,null,null,null,null,null,null,null,null,null,null,null,null,null,null,null,null,null,null,null,null,null,null,null,null,null,null,null,null,null,null,"SDB2232-1",""]
["포장깨기[아스팔트]","굴삭기0.6㎥+브레이카",1,"㎥",6831,6831,{"$f":"단가산출!CY3672","v":"1,151"},1151,{"$f":"단가산출!CZ3672","v":"3,870"},3870,{"$f":"단가산출!DA3672","v":"1,810"},1810,1008,"산근00830호표",1,null,null,null,null,null,null,null,null,null,null,null,null,null,null,null,null,null,null,null,null,null,null,null,null,null,null,null,null,null,null,null,null,null,null,null,null,null,null,null,null,null,null,null,null,null,null,null,null,null,null,null,null,null,null,null,null,null,null,null,null,null,null,null,null,null,null,null,null,null,null,null,null,null,null,null,null,null,null,null,null,null,null,null,null,null,null,null,null,null,null,null,null,null,null,null,null,null,null,null,null,null,"SDB2232-1",""]
["포장깨기[아스팔트]","굴삭기0.7㎥+브레이카",1,"㎥",7138,7138,{"$f":"단가산출!CY3783","v":"1,278"},1278,{"$f":"단가산출!CZ3783","v":"3,870"},3870,{"$f":"단가산출!DA3783","v":"1,990"},1990,1009,"산근00840호표",1,null,null,null,null,null,null,null,null,null,null,null,null,null,null,null,null,null,null,null,null,null,null,null,null,null,null,null,null,null,null,null,null,null,null,null,null,null,null,null,null,null,null,null,null,null,null,null,null,null,null,null,null,null,null,null,null,null,null,null,null,null,null,null,null,null,null,null,null,null,null,null,null,null,null,null,null,null,null,null,null,null,null,null,null,null,null,null,null,null,null,null,null,null,null,null,null,null,null,null,null,null,"SDB2233",""]
["포장깨기[아스팔트]","굴삭기0.8㎥+브레이카",1,"㎥",7805,7805,{"$f":"단가산출!CY3820","v":"1,645"},1645,{"$f":"단가산출!CZ3820","v":"3,870"},3870,{"$f":"단가산출!DA3820","v":"2,290"},2290,1010,"산근00850호표",1,null,null,null,null,null,null,null,null,null,null,null,null,null,null,null,null,null,null,null,null,null,null,null,null,null,null,null,null,null,null,null,null,null,null,null,null,null,null,null,null,null,null,null,null,null,null,null,null,null,null,null,null,null,null,null,null,null,null,null,null,null,null,null,null,null,null,null,null,null,null,null,null,null,null,null,null,null,null,null,null,null,null,null,null,null,null,null,null,null,null,null,null,null,null,null,null,null,null,null,null,null,"SDB2234",""]
["포장파쇄[아스팔트]","소형",1,"M",4262,4262,{"$f":"단가산출!CY3859","v":"424"},424,{"$f":"단가산출!CZ3859","v":"2,548"},2548,{"$f":"단가산출!DA3859","v":"1,290"},1290,1011,"산근00860호표",1,null,null,null,null,null,null,null,null,null,null,null,null,null,null,null,null,null,null,null,null,null,null,null,null,null,null,null,null,null,null,null,null,null,null,null,null,null,null,null,null,null,null,null,null,null,null,null,null,null,null,null,null,null,null,null,null,null,null,null,null,null,null,null,null,null,null,null,null,null,null,null,null,null,null,null,null,null,null,null,null,null,null,null,null,null,null,null,null,null,null,null,null,null,null,null,null,null,null,null,null,null,"S000-0140",""]
["포장깨기[콘크리트]","굴삭기0.2㎥+브레이카",1,"㎥",48943,48943,{"$f":"단가산출!CY3896","v":"4,886"},4886,{"$f":"단가산출!CZ3896","v":"35,391"},35391,{"$f":"단가산출!DA3896","v":"8,666"},8666,1012,"산근00870호표",1,null,null,null,null,null,null,null,null,null,null,null,null,null,null,null,null,null,null,null,null,null,null,null,null,null,null,null,null,null,null,null,null,null,null,null,null,null,null,null,null,null,null,null,null,null,null,null,null,null,null,null,null,null,null,null,null,null,null,null,null,null,null,null,null,null,null,null,null,null,null,null,null,null,null,null,null,null,null,null,null,null,null,null,null,null,null,null,null,null,null,null,null,null,null,null,null,null,null,null,null,null,"SDB2131",""]
["포장깨기[콘크리트]","굴삭기0.4㎥+브레이카",1,"㎥",29930,29930,{"$f":"단가산출!CY3933","v":"5,013"},5013,{"$f":"단가산출!CZ3933","v":"18,768"},18768,{"$f":"단가산출!DA3933","v":"6,149"},6149,1013,"산근00880호표",1,null,null,null,null,null,null,null,null,null,null,null,null,null,null,null,null,null,null,null,null,null,null,null,null,null,null,null,null,null,null,null,null,null,null,null,null,null,null,null,null,null,null,null,null,null,null,null,null,null,null,null,null,null,null,null,null,null,null,null,null,null,null,null,null,null,null,null,null,null,null,null,null,null,null,null,null,null,null,null,null,null,null,null,null,null,null,null,null,null,null,null,null,null,null,null,null,null,null,null,null,null,"SDB2132",""]
["포장깨기[콘크리트]","굴삭기0.6㎥+브레이카",1,"㎥",27332,27332,{"$f":"단가산출!CY3970","v":"4,605"},4605,{"$f":"단가산출!CZ3970","v":"15,483"},15483,{"$f":"단가산출!DA3970","v":"7,244"},7244,1014,"산근00890호표",1,null,null,null,null,null,null,null,null,null,null,null,null,null,null,null,null,null,null,null,null,null,null,null,null,null,null,null,null,null,null,null,null,null,null,null,null,null,null,null,null,null,null,null,null,null,null,null,null,null,null,null,null,null,null,null,null,null,null,null,null,null,null,null,null,null,null,null,null,null,null,null,null,null,null,null,null,null,null,null,null,null,null,null,null,null,null,null,null,null,null,null,null,null,null,null,null,null,null,null,null,null,"SDB2132-1",""]
["포장깨기[콘크리트]","굴삭기0.7㎥+브레이카",1,"㎥",24833,24833,{"$f":"단가산출!CY4007","v":"4,445"},4445,{"$f":"단가산출!CZ4007","v":"13,464"},13464,{"$f":"단가산출!DA4007","v":"6,924"},6924,1015,"산근00900호표",1,null,null,null,null,null,null,null,null,null,null,null,null,null,null,null,null,null,null,null,null,null,null,null,null,null,null,null,null,null,null,null,null,null,null,null,null,null,null,null,null,null,null,null,null,null,null,null,null,null,null,null,null,null,null,null,null,null,null,null,null,null,null,null,null,null,null,null,null,null,null,null,null,null,null,null,null,null,null,null,null,null,null,null,null,null,null,null,null,null,null,null,null,null,null,null,null,null,null,null,null,null,"SDB2133",""]
["포장깨기[콘크리트]","굴삭기0.8㎥+브레이카",1,"㎥",24021,24021,{"$f":"단가산출!CY4044","v":"5,064"},5064,{"$f":"단가산출!CZ4044","v":"11,910"},11910,{"$f":"단가산출!DA4044","v":"7,047"},7047,1016,"산근00910호표",1,null,null,null,null,null,null,null,null,null,null,null,null,null,null,null,null,null,null,null,null,null,null,null,null,null,null,null,null,null,null,null,null,null,null,null,null,null,null,null,null,null,null,null,null,null,null,null,null,null,null,null,null,null,null,null,null,null,null,null,null,null,null,null,null,null,null,null,null,null,null,null,null,null,null,null,null,null,null,null,null,null,null,null,null,null,null,null,null,null,null,null,null,null,null,null,null,null,null,null,null,null,"SDB2134",""]
["파쇄물처리상차[인력]","상차",1,"㎥",18812,18812,{"$f":"단가산출!CY4195","v":"0"},0,{"$f":"단가산출!CZ4195","v":"18,812"},18812,{"$f":"단가산출!DA4195","v":"0"},0,1017,"산근00960호표",1,null,null,null,null,null,null,null,null,null,null,null,null,null,null,null,null,null,null,null,null,null,null,null,null,null,null,null,null,null,null,null,null,null,null,null,null,null,null,null,null,null,null,null,null,null,null,null,null,null,null,null,null,null,null,null,null,null,null,null,null,null,null,null,null,null,null,null,null,null,null,null,null,null,null,null,null,null,null,null,null,null,null,null,null,null,null,null,null,null,null,null,null,null,null,null,null,null,null,null,null,null,"S0045",""]
["파쇄물처리상차[기계]","굴삭기0.2㎥",1,"㎥",9201,9201,{"$f":"단가산출!CY4143","v":"1,121"},1121,{"$f":"단가산출!CZ4143","v":"6,301"},6301,{"$f":"단가산출!DA4143","v":"1,779"},1779,1018,"산근00940호표",1,null,null,null,null,null,null,null,null,null,null,null,null,null,null,null,null,null,null,null,null,null,null,null,null,null,null,null,null,null,null,null,null,null,null,null,null,null,null,null,null,null,null,null,null,null,null,null,null,null,null,null,null,null,null,null,null,null,null,null,null,null,null,null,null,null,null,null,null,null,null,null,null,null,null,null,null,null,null,null,null,null,null,null,null,null,null,null,null,null,null,null,null,null,null,null,null,null,null,null,null,null,"S0043",""]
["파쇄물처리상차[기계]","굴삭기0.4㎥",1,"㎥",5366,5366,{"$f":"단가산출!CY4110","v":"1,119"},1119,{"$f":"단가산출!CZ4110","v":"3,150"},3150,{"$f":"단가산출!DA4110","v":"1,097"},1097,1019,"산근00930호표",1,null,null,null,null,null,null,null,null,null,null,null,null,null,null,null,null,null,null,null,null,null,null,null,null,null,null,null,null,null,null,null,null,null,null,null,null,null,null,null,null,null,null,null,null,null,null,null,null,null,null,null,null,null,null,null,null,null,null,null,null,null,null,null,null,null,null,null,null,null,null,null,null,null,null,null,null,null,null,null,null,null,null,null,null,null,null,null,null,null,null,null,null,null,null,null,null,null,null,null,null,null,"S0041",""]
["파쇄물처리상차[기계]","굴삭기0.7㎥",1,"㎥",3816,3816,{"$f":"단가산출!CY4077","v":"833"},833,{"$f":"단가산출!CZ4077","v":"2,000"},2000,{"$f":"단가산출!DA4077","v":"983"},983,1020,"산근00920호표",1,null,null,null,null,null,null,null,null,null,null,null,null,null,null,null,null,null,null,null,null,null,null,null,null,null,null,null,null,null,null,null,null,null,null,null,null,null,null,null,null,null,null,null,null,null,null,null,null,null,null,null,null,null,null,null,null,null,null,null,null,null,null,null,null,null,null,null,null,null,null,null,null,null,null,null,null,null,null,null,null,null,null,null,null,null,null,null,null,null,null,null,null,null,null,null,null,null,null,null,null,null,"S0039",""]
["폐기물상차비","적치장상차[굴삭기0.7㎥]",1,"TON",1492,1492,{"$f":"단가산출!CY4178","v":"782"},782,{"$f":"단가산출!CZ4178","v":"326"},326,{"$f":"단가산출!DA4178","v":"384"},384,1021,"산근00950호표",1,null,null,null,null,null,null,null,null,null,null,null,null,null,null,null,null,null,null,null,null,null,null,null,null,null,null,null,null,null,null,null,null,null,null,null,null,null,null,null,null,null,null,null,null,null,null,null,null,null,null,null,null,null,null,null,null,null,null,null,null,null,null,null,null,null,null,null,null,null,null,null,null,null,null,null,null,null,null,null,null,null,null,null,null,null,null,null,null,null,null,null,null,null,null,null,null,null,null,null,null,null,"S0128",""]
["파쇄물 절취및집적[보도용블록]","굴삭기 0.2㎥",1,"㎥",7672,7672,{"$f":"단가산출!CY4950","v":"935"},935,{"$f":"단가산출!CZ4950","v":"5,254"},5254,{"$f":"단가산출!DA4950","v":"1,483"},1483,1022,"산근01130호표",1,null,null,null,null,null,null,null,null,null,null,null,null,null,null,null,null,null,null,null,null,null,null,null,null,null,null,null,null,null,null,null,null,null,null,null,null,null,null,null,null,null,null,null,null,null,null,null,null,null,null,null,null,null,null,null,null,null,null,null,null,null,null,null,null,null,null,null,null,null,null,null,null,null,null,null,null,null,null,null,null,null,null,null,null,null,null,null,null,null,null,null,null,null,null,null,null,null,null,null,null,null,"S000-0170-1",""]
["파쇄물 절취및집적[보도용블록]","굴삭기 0.4㎥",1,"㎥",4472,4472,{"$f":"단가산출!CY4977","v":"933"},933,{"$f":"단가산출!CZ4977","v":"2,625"},2625,{"$f":"단가산출!DA4977","v":"914"},914,1023,"산근01140호표",1,null,null,null,null,null,null,null,null,null,null,null,null,null,null,null,null,null,null,null,null,null,null,null,null,null,null,null,null,null,null,null,null,null,null,null,null,null,null,null,null,null,null,null,null,null,null,null,null,null,null,null,null,null,null,null,null,null,null,null,null,null,null,null,null,null,null,null,null,null,null,null,null,null,null,null,null,null,null,null,null,null,null,null,null,null,null,null,null,null,null,null,null,null,null,null,null,null,null,null,null,null,"S000-0171-1",""]
["인력 흙다지기","토사[15cm]",1,"㎥",19753,19753,{"$f":"일위대가!H1474","v":0},0,{"$f":"일위대가!J1474","v":19753},19753,{"$f":"일위대가!L1474","v":0},0,1025,"제01480호표",1,null,null,null,null,null,null,null,null,null,null,null,null,null,null,null,null,null,null,null,null,null,null,null,null,null,null,null,null,null,null,null,null,null,null,null,null,null,null,null,null,null,null,null,null,null,null,null,null,null,null,null,null,null,null,null,null,null,null,null,null,null,null,null,null,null,null,null,null,null,null,null,null,null,null,null,null,null,null,null,null,null,null,null,null,null,null,null,null,null,null,null,null,null,null,null,null,null,null,null,null,null,"B0048",""]
["굴착[인력,보통토사]","굴착깊이 0∼1M",1,"㎥",28219,28219,{"$f":"일위대가!H1970","v":0},0,{"$f":"일위대가!J1970","v":28219},28219,{"$f":"일위대가!L1970","v":0},0,1026,"제02090호표",1,null,null,null,null,null,null,null,null,null,null,null,null,null,null,null,null,null,null,null,null,null,null,null,null,null,null,null,null,null,null,null,null,null,null,null,null,null,null,null,null,null,null,null,null,null,null,null,null,null,null,null,null,null,null,null,null,null,null,null,null,null,null,null,null,null,null,null,null,null,null,null,null,null,null,null,null,null,null,null,null,null,null,null,null,null,null,null,null,null,null,null,null,null,null,null,null,null,null,null,null,null,"BDD1101",""]
["굴착[인력,경질토사]","굴착깊이 0∼1M",1,"㎥",36684,36684,{"$f":"일위대가!H1966","v":0},0,{"$f":"일위대가!J1966","v":36684},36684,{"$f":"일위대가!L1966","v":0},0,1027,"제02080호표",1,null,null,null,null,null,null,null,null,null,null,null,null,null,null,null,null,null,null,null,null,null,null,null,null,null,null,null,null,null,null,null,null,null,null,null,null,null,null,null,null,null,null,null,null,null,null,null,null,null,null,null,null,null,null,null,null,null,null,null,null,null,null,null,null,null,null,null,null,null,null,null,null,null,null,null,null,null,null,null,null,null,null,null,null,null,null,null,null,null,null,null,null,null,null,null,null,null,null,null,null,null,"BDD1201",""]
["굴착[인력,보통토사]","굴착깊이 0∼1M협소",1,"㎥",42328,42328,{"$f":"일위대가!H1974","v":0},0,{"$f":"일위대가!J1974","v":42328},42328,{"$f":"일위대가!L1974","v":0},0,1028,"제02100호표",1,null,null,null,null,null,null,null,null,null,null,null,null,null,null,null,null,null,null,null,null,null,null,null,null,null,null,null,null,null,null,null,null,null,null,null,null,null,null,null,null,null,null,null,null,null,null,null,null,null,null,null,null,null,null,null,null,null,null,null,null,null,null,null,null,null,null,null,null,null,null,null,null,null,null,null,null,null,null,null,null,null,null,null,null,null,null,null,null,null,null,null,null,null,null,null,null,null,null,null,null,null,"BDD1111",""]
["터파기[구조물,토사]","굴삭기0.4㎥+인력",1,"㎥",4634,4634,{"$f":"일위대가!H1979","v":378},378,{"$f":"일위대가!J1979","v":3886},3886,{"$f":"일위대가!L1979","v":370},370,1029,"제02110호표",1,null,null,null,null,null,null,null,null,null,null,null,null,null,null,null,null,null,null,null,null,null,null,null,null,null,null,null,null,null,null,null,null,null,null,null,null,null,null,null,null,null,null,null,null,null,null,null,null,null,null,null,null,null,null,null,null,null,null,null,null,null,null,null,null,null,null,null,null,null,null,null,null,null,null,null,null,null,null,null,null,null,null,null,null,null,null,null,null,null,null,null,null,null,null,null,null,null,null,null,null,null,"BDD4122",""]
["터파기[구조물,토사]","굴삭기0.7㎥+인력",1,"㎥",4109,4109,{"$f":"일위대가!H1984","v":280},280,{"$f":"일위대가!J1984","v":3497},3497,{"$f":"일위대가!L1984","v":332},332,1030,"제02120호표",1,null,null,null,null,null,null,null,null,null,null,null,null,null,null,null,null,null,null,null,null,null,null,null,null,null,null,null,null,null,null,null,null,null,null,null,null,null,null,null,null,null,null,null,null,null,null,null,null,null,null,null,null,null,null,null,null,null,null,null,null,null,null,null,null,null,null,null,null,null,null,null,null,null,null,null,null,null,null,null,null,null,null,null,null,null,null,null,null,null,null,null,null,null,null,null,null,null,null,null,null,null,"BDD4131",""]
["기계터파기[토사]","굴삭기0.2㎥",1,"㎥",4491,4491,{"$f":"단가산출!CY44","v":"547"},547,{"$f":"단가산출!CZ44","v":"3,076"},3076,{"$f":"단가산출!DA44","v":"868"},868,1031,"산근00010호표",1,null,null,null,null,null,null,null,null,null,null,null,null,null,null,null,null,null,null,null,null,null,null,null,null,null,null,null,null,null,null,null,null,null,null,null,null,null,null,null,null,null,null,null,null,null,null,null,null,null,null,null,null,null,null,null,null,null,null,null,null,null,null,null,null,null,null,null,null,null,null,null,null,null,null,null,null,null,null,null,null,null,null,null,null,null,null,null,null,null,null,null,null,null,null,null,null,null,null,null,null,null,"SDD2110",""]
["기계터파기[토사]","굴삭기0.4㎥",1,"㎥",2015,2015,{"$f":"단가산출!CY83","v":"420"},420,{"$f":"단가산출!CZ83","v":"1,183"},1183,{"$f":"단가산출!DA83","v":"412"},412,1032,"산근00020호표",1,null,null,null,null,null,null,null,null,null,null,null,null,null,null,null,null,null,null,null,null,null,null,null,null,null,null,null,null,null,null,null,null,null,null,null,null,null,null,null,null,null,null,null,null,null,null,null,null,null,null,null,null,null,null,null,null,null,null,null,null,null,null,null,null,null,null,null,null,null,null,null,null,null,null,null,null,null,null,null,null,null,null,null,null,null,null,null,null,null,null,null,null,null,null,null,null,null,null,null,null,null,"SDD2120",""]
["기계터파기[토사]","굴삭기0.7㎥",1,"㎥",1432,1432,{"$f":"단가산출!CY122","v":"312"},312,{"$f":"단가산출!CZ122","v":"751"},751,{"$f":"단가산출!DA122","v":"369"},369,1033,"산근00030호표",1,null,null,null,null,null,null,null,null,null,null,null,null,null,null,null,null,null,null,null,null,null,null,null,null,null,null,null,null,null,null,null,null,null,null,null,null,null,null,null,null,null,null,null,null,null,null,null,null,null,null,null,null,null,null,null,null,null,null,null,null,null,null,null,null,null,null,null,null,null,null,null,null,null,null,null,null,null,null,null,null,null,null,null,null,null,null,null,null,null,null,null,null,null,null,null,null,null,null,null,null,null,"SDD2130",""]
["기계터파기[토사]","굴삭기1.0㎥",1,"㎥",1266,1266,{"$f":"단가산출!CY161","v":"386"},386,{"$f":"단가산출!CZ161","v":"552"},552,{"$f":"단가산출!DA161","v":"328"},328,1034,"산근00040호표",1,null,null,null,null,null,null,null,null,null,null,null,null,null,null,null,null,null,null,null,null,null,null,null,null,null,null,null,null,null,null,null,null,null,null,null,null,null,null,null,null,null,null,null,null,null,null,null,null,null,null,null,null,null,null,null,null,null,null,null,null,null,null,null,null,null,null,null,null,null,null,null,null,null,null,null,null,null,null,null,null,null,null,null,null,null,null,null,null,null,null,null,null,null,null,null,null,null,null,null,null,null,"SDD2140",""]
["기계터파기[토사]-관로부설","굴삭기0.2㎥",1,"㎥",7486,7486,{"$f":"단가산출!CY202","v":"912"},912,{"$f":"단가산출!CZ202","v":"5,127"},5127,{"$f":"단가산출!DA202","v":"1,447"},1447,1035,"산근00050호표",1,null,null,null,null,null,null,null,null,null,null,null,null,null,null,null,null,null,null,null,null,null,null,null,null,null,null,null,null,null,null,null,null,null,null,null,null,null,null,null,null,null,null,null,null,null,null,null,null,null,null,null,null,null,null,null,null,null,null,null,null,null,null,null,null,null,null,null,null,null,null,null,null,null,null,null,null,null,null,null,null,null,null,null,null,null,null,null,null,null,null,null,null,null,null,null,null,null,null,null,null,null,"SDD2110-1",""]
["기계터파기[토사]-관로부설","굴삭기0.4㎥",1,"㎥",4361,4361,{"$f":"단가산출!CY241","v":"910"},910,{"$f":"단가산출!CZ241","v":"2,560"},2560,{"$f":"단가산출!DA241","v":"891"},891,1036,"산근00060호표",1,null,null,null,null,null,null,null,null,null,null,null,null,null,null,null,null,null,null,null,null,null,null,null,null,null,null,null,null,null,null,null,null,null,null,null,null,null,null,null,null,null,null,null,null,null,null,null,null,null,null,null,null,null,null,null,null,null,null,null,null,null,null,null,null,null,null,null,null,null,null,null,null,null,null,null,null,null,null,null,null,null,null,null,null,null,null,null,null,null,null,null,null,null,null,null,null,null,null,null,null,null,"SDD2120-1",""]
["기계터파기[토사]-관로부설","굴삭기0.7㎥",1,"㎥",3104,3104,{"$f":"단가산출!CY280","v":"677"},677,{"$f":"단가산출!CZ280","v":"1,627"},1627,{"$f":"단가산출!DA280","v":"800"},800,1037,"산근00070호표",1,null,null,null,null,null,null,null,null,null,null,null,null,null,null,null,null,null,null,null,null,null,null,null,null,null,null,null,null,null,null,null,null,null,null,null,null,null,null,null,null,null,null,null,null,null,null,null,null,null,null,null,null,null,null,null,null,null,null,null,null,null,null,null,null,null,null,null,null,null,null,null,null,null,null,null,null,null,null,null,null,null,null,null,null,null,null,null,null,null,null,null,null,null,null,null,null,null,null,null,null,null,"SDD2130-1",""]
["기계터파기[토사]-관로부설","굴삭기1.0㎥",1,"㎥",2745,2745,{"$f":"단가산출!CY319","v":"837"},837,{"$f":"단가산출!CZ319","v":"1,196"},1196,{"$f":"단가산출!DA319","v":"712"},712,1038,"산근00080호표",1,null,null,null,null,null,null,null,null,null,null,null,null,null,null,null,null,null,null,null,null,null,null,null,null,null,null,null,null,null,null,null,null,null,null,null,null,null,null,null,null,null,null,null,null,null,null,null,null,null,null,null,null,null,null,null,null,null,null,null,null,null,null,null,null,null,null,null,null,null,null,null,null,null,null,null,null,null,null,null,null,null,null,null,null,null,null,null,null,null,null,null,null,null,null,null,null,null,null,null,null,null,"SDD2140-1",""]
["되메우기","굴삭기0.2㎥",1,"㎥",2851,2851,{"$f":"단가산출!CY544","v":"347"},347,{"$f":"단가산출!CZ544","v":"1,953"},1953,{"$f":"단가산출!DA544","v":"551"},551,1039,"산근00150호표",1,null,null,null,null,null,null,null,null,null,null,null,null,null,null,null,null,null,null,null,null,null,null,null,null,null,null,null,null,null,null,null,null,null,null,null,null,null,null,null,null,null,null,null,null,null,null,null,null,null,null,null,null,null,null,null,null,null,null,null,null,null,null,null,null,null,null,null,null,null,null,null,null,null,null,null,null,null,null,null,null,null,null,null,null,null,null,null,null,null,null,null,null,null,null,null,null,null,null,null,null,null,"SDE2221",""]
["되메우기","굴삭기0.4㎥",1,"㎥",1663,1663,{"$f":"단가산출!CY585","v":"347"},347,{"$f":"단가산출!CZ585","v":"976"},976,{"$f":"단가산출!DA585","v":"340"},340,1040,"산근00160호표",1,null,null,null,null,null,null,null,null,null,null,null,null,null,null,null,null,null,null,null,null,null,null,null,null,null,null,null,null,null,null,null,null,null,null,null,null,null,null,null,null,null,null,null,null,null,null,null,null,null,null,null,null,null,null,null,null,null,null,null,null,null,null,null,null,null,null,null,null,null,null,null,null,null,null,null,null,null,null,null,null,null,null,null,null,null,null,null,null,null,null,null,null,null,null,null,null,null,null,null,null,null,"SDE2222",""]
["되메우기","굴삭기0.7㎥",1,"㎥",1276,1276,{"$f":"단가산출!CY626","v":"278"},278,{"$f":"단가산출!CZ626","v":"669"},669,{"$f":"단가산출!DA626","v":"329"},329,1041,"산근00170호표",1,null,null,null,null,null,null,null,null,null,null,null,null,null,null,null,null,null,null,null,null,null,null,null,null,null,null,null,null,null,null,null,null,null,null,null,null,null,null,null,null,null,null,null,null,null,null,null,null,null,null,null,null,null,null,null,null,null,null,null,null,null,null,null,null,null,null,null,null,null,null,null,null,null,null,null,null,null,null,null,null,null,null,null,null,null,null,null,null,null,null,null,null,null,null,null,null,null,null,null,null,null,"SDE2223",""]
["되메우기[다짐]","인력",1,"㎥",19753,19753,{"$f":"일위대가!H535","v":0},0,{"$f":"일위대가!J535","v":19753},19753,{"$f":"일위대가!L535","v":0},0,1042,"제00670호표",1,null,null,null,null,null,null,null,null,null,null,null,null,null,null,null,null,null,null,null,null,null,null,null,null,null,null,null,null,null,null,null,null,null,null,null,null,null,null,null,null,null,null,null,null,null,null,null,null,null,null,null,null,null,null,null,null,null,null,null,null,null,null,null,null,null,null,null,null,null,null,null,null,null,null,null,null,null,null,null,null,null,null,null,null,null,null,null,null,null,null,null,null,null,null,null,null,null,null,null,null,null,"BDE2210",""]
["되메우기[다짐]","인력+기계",1,"㎥",10741,10741,{"$f":"일위대가!H540","v":549},549,{"$f":"일위대가!J540","v":9603},9603,{"$f":"일위대가!L540","v":589},589,1043,"제00680호표",1,null,null,null,null,null,null,null,null,null,null,null,null,null,null,null,null,null,null,null,null,null,null,null,null,null,null,null,null,null,null,null,null,null,null,null,null,null,null,null,null,null,null,null,null,null,null,null,null,null,null,null,null,null,null,null,null,null,null,null,null,null,null,null,null,null,null,null,null,null,null,null,null,null,null,null,null,null,null,null,null,null,null,null,null,null,null,null,null,null,null,null,null,null,null,null,null,null,null,null,null,null,"BDE2230",""]
["되메우기[다짐]","굴삭기0.2㎥",1,"㎥",9742,9742,{"$f":"단가산출!CY703","v":"611"},611,{"$f":"단가산출!CZ703","v":"8,476"},8476,{"$f":"단가산출!DA703","v":"655"},655,1044,"산근00180호표",1,null,null,null,null,null,null,null,null,null,null,null,null,null,null,null,null,null,null,null,null,null,null,null,null,null,null,null,null,null,null,null,null,null,null,null,null,null,null,null,null,null,null,null,null,null,null,null,null,null,null,null,null,null,null,null,null,null,null,null,null,null,null,null,null,null,null,null,null,null,null,null,null,null,null,null,null,null,null,null,null,null,null,null,null,null,null,null,null,null,null,null,null,null,null,null,null,null,null,null,null,null,"SDE2220",""]
["되메우기[다짐]","굴삭기0.4㎥",1,"㎥",8553,8553,{"$f":"단가산출!CY778","v":"610"},610,{"$f":"단가산출!CZ778","v":"7,499"},7499,{"$f":"단가산출!DA778","v":"444"},444,1045,"산근00190호표",1,null,null,null,null,null,null,null,null,null,null,null,null,null,null,null,null,null,null,null,null,null,null,null,null,null,null,null,null,null,null,null,null,null,null,null,null,null,null,null,null,null,null,null,null,null,null,null,null,null,null,null,null,null,null,null,null,null,null,null,null,null,null,null,null,null,null,null,null,null,null,null,null,null,null,null,null,null,null,null,null,null,null,null,null,null,null,null,null,null,null,null,null,null,null,null,null,null,null,null,null,null,"SDE2220-1",""]
["되메우기[다짐]","굴삭기0.7㎥",1,"㎥",8167,8167,{"$f":"단가산출!CY853","v":"542"},542,{"$f":"단가산출!CZ853","v":"7,192"},7192,{"$f":"단가산출!DA853","v":"433"},433,1046,"산근00200호표",1,null,null,null,null,null,null,null,null,null,null,null,null,null,null,null,null,null,null,null,null,null,null,null,null,null,null,null,null,null,null,null,null,null,null,null,null,null,null,null,null,null,null,null,null,null,null,null,null,null,null,null,null,null,null,null,null,null,null,null,null,null,null,null,null,null,null,null,null,null,null,null,null,null,null,null,null,null,null,null,null,null,null,null,null,null,null,null,null,null,null,null,null,null,null,null,null,null,null,null,null,null,"SDE2220-2",""]
["인력 현장내잔토처리","소운반,깔기,고르기",1,"㎥",28219,28219,{"$f":"일위대가!H1470","v":0},0,{"$f":"일위대가!J1470","v":28219},28219,{"$f":"일위대가!L1470","v":0},0,1047,"제01470호표",1,null,null,null,null,null,null,null,null,null,null,null,null,null,null,null,null,null,null,null,null,null,null,null,null,null,null,null,null,null,null,null,null,null,null,null,null,null,null,null,null,null,null,null,null,null,null,null,null,null,null,null,null,null,null,null,null,null,null,null,null,null,null,null,null,null,null,null,null,null,null,null,null,null,null,null,null,null,null,null,null,null,null,null,null,null,null,null,null,null,null,null,null,null,null,null,null,null,null,null,null,null,"B0049",""]
["바닥면고르기[절토면고르기]","굴삭기0.6㎥",1,"㎡",3360,3360,{"$f":"일위대가!H750","v":389},389,{"$f":"일위대가!J750","v":2474},2474,{"$f":"일위대가!L750","v":497},497,1048,"제00940호표",1,null,null,null,null,null,null,null,null,null,null,null,null,null,null,null,null,null,null,null,null,null,null,null,null,null,null,null,null,null,null,null,null,null,null,null,null,null,null,null,null,null,null,null,null,null,null,null,null,null,null,null,null,null,null,null,null,null,null,null,null,null,null,null,null,null,null,null,null,null,null,null,null,null,null,null,null,null,null,null,null,null,null,null,null,null,null,null,null,null,null,null,null,null,null,null,null,null,null,null,null,null,"B0343",""]
["잔토처리상차","인력",1,"㎥",15677,15677,{"$f":"단가산출!CY1548","v":"0"},0,{"$f":"단가산출!CZ1548","v":"15,677"},15677,{"$f":"단가산출!DA1548","v":"0"},0,1049,"산근00400호표",1,null,null,null,null,null,null,null,null,null,null,null,null,null,null,null,null,null,null,null,null,null,null,null,null,null,null,null,null,null,null,null,null,null,null,null,null,null,null,null,null,null,null,null,null,null,null,null,null,null,null,null,null,null,null,null,null,null,null,null,null,null,null,null,null,null,null,null,null,null,null,null,null,null,null,null,null,null,null,null,null,null,null,null,null,null,null,null,null,null,null,null,null,null,null,null,null,null,null,null,null,null,"S0037-110",""]
["잔토처리상차[기계]","굴삭기0.2㎥",1,"㎥",2994,2994,{"$f":"단가산출!CY1581","v":"365"},365,{"$f":"단가산출!CZ1581","v":"2,050"},2050,{"$f":"단가산출!DA1581","v":"579"},579,1050,"산근00410호표",1,null,null,null,null,null,null,null,null,null,null,null,null,null,null,null,null,null,null,null,null,null,null,null,null,null,null,null,null,null,null,null,null,null,null,null,null,null,null,null,null,null,null,null,null,null,null,null,null,null,null,null,null,null,null,null,null,null,null,null,null,null,null,null,null,null,null,null,null,null,null,null,null,null,null,null,null,null,null,null,null,null,null,null,null,null,null,null,null,null,null,null,null,null,null,null,null,null,null,null,null,null,"S0037",""]
["잔토처리상차[기계]","굴삭기0.4㎥",1,"㎥",1746,1746,{"$f":"단가산출!CY1614","v":"364"},364,{"$f":"단가산출!CZ1614","v":"1,025"},1025,{"$f":"단가산출!DA1614","v":"357"},357,1051,"산근00420호표",1,null,null,null,null,null,null,null,null,null,null,null,null,null,null,null,null,null,null,null,null,null,null,null,null,null,null,null,null,null,null,null,null,null,null,null,null,null,null,null,null,null,null,null,null,null,null,null,null,null,null,null,null,null,null,null,null,null,null,null,null,null,null,null,null,null,null,null,null,null,null,null,null,null,null,null,null,null,null,null,null,null,null,null,null,null,null,null,null,null,null,null,null,null,null,null,null,null,null,null,null,null,"S0035",""]
["잔토처리상차[기계]","굴삭기0.7㎥",1,"㎥",1242,1242,{"$f":"단가산출!CY1647","v":"271"},271,{"$f":"단가산출!CZ1647","v":"651"},651,{"$f":"단가산출!DA1647","v":"320"},320,1052,"산근00430호표",1,null,null,null,null,null,null,null,null,null,null,null,null,null,null,null,null,null,null,null,null,null,null,null,null,null,null,null,null,null,null,null,null,null,null,null,null,null,null,null,null,null,null,null,null,null,null,null,null,null,null,null,null,null,null,null,null,null,null,null,null,null,null,null,null,null,null,null,null,null,null,null,null,null,null,null,null,null,null,null,null,null,null,null,null,null,null,null,null,null,null,null,null,null,null,null,null,null,null,null,null,null,"S0033",""]
["파쇄물처리운반[L=3Km]","인력+DT 2.5TON",1,"㎥",30243,30243,{"$f":"단가산출!CY4236","v":"0"},0,{"$f":"단가산출!CZ4236","v":"0"},0,{"$f":"단가산출!DA4236","v":"30,243"},30243,1053,"산근00970호표",1,null,null,null,null,null,null,null,null,null,null,null,null,null,null,null,null,null,null,null,null,null,null,null,null,null,null,null,null,null,null,null,null,null,null,null,null,null,null,null,null,null,null,null,null,null,null,null,null,null,null,null,null,null,null,null,null,null,null,null,null,null,null,null,null,null,null,null,null,null,null,null,null,null,null,null,null,null,null,null,null,null,null,null,null,null,null,null,null,null,null,null,null,null,null,null,null,null,null,null,null,null,"SDC4311-1",""]
["파쇄물처리운반[L=3Km]","BH0.2+DT 4.5TON",1,"㎥",15971,15971,{"$f":"단가산출!CY4283","v":"0"},0,{"$f":"단가산출!CZ4283","v":"0"},0,{"$f":"단가산출!DA4283","v":"15,971"},15971,1054,"산근00980호표",1,null,null,null,null,null,null,null,null,null,null,null,null,null,null,null,null,null,null,null,null,null,null,null,null,null,null,null,null,null,null,null,null,null,null,null,null,null,null,null,null,null,null,null,null,null,null,null,null,null,null,null,null,null,null,null,null,null,null,null,null,null,null,null,null,null,null,null,null,null,null,null,null,null,null,null,null,null,null,null,null,null,null,null,null,null,null,null,null,null,null,null,null,null,null,null,null,null,null,null,null,null,"SDC4312-1",""]
["파쇄물처리운반[L=3Km]","BH0.4+DT 8.0TON",1,"㎥",9844,9844,{"$f":"단가산출!CY4330","v":"0"},0,{"$f":"단가산출!CZ4330","v":"0"},0,{"$f":"단가산출!DA4330","v":"9,844"},9844,1055,"산근00990호표",1,null,null,null,null,null,null,null,null,null,null,null,null,null,null,null,null,null,null,null,null,null,null,null,null,null,null,null,null,null,null,null,null,null,null,null,null,null,null,null,null,null,null,null,null,null,null,null,null,null,null,null,null,null,null,null,null,null,null,null,null,null,null,null,null,null,null,null,null,null,null,null,null,null,null,null,null,null,null,null,null,null,null,null,null,null,null,null,null,null,null,null,null,null,null,null,null,null,null,null,null,null,"SDC4313-1",""]
["파쇄물처리운반[L=3Km]","BH0.6+DT 15TON",1,"㎥",8085,8085,{"$f":"단가산출!CY4377","v":"0"},0,{"$f":"단가산출!CZ4377","v":"0"},0,{"$f":"단가산출!DA4377","v":"8,085"},8085,1056,"산근01000호표",1,null,null,null,null,null,null,null,null,null,null,null,null,null,null,null,null,null,null,null,null,null,null,null,null,null,null,null,null,null,null,null,null,null,null,null,null,null,null,null,null,null,null,null,null,null,null,null,null,null,null,null,null,null,null,null,null,null,null,null,null,null,null,null,null,null,null,null,null,null,null,null,null,null,null,null,null,null,null,null,null,null,null,null,null,null,null,null,null,null,null,null,null,null,null,null,null,null,null,null,null,null,"SDC43132-1",""]
["파쇄물처리운반[L=5Km]","인력+DT 2.5TON",1,"㎥",39158,39158,{"$f":"단가산출!CY4418","v":"0"},0,{"$f":"단가산출!CZ4418","v":"0"},0,{"$f":"단가산출!DA4418","v":"39,158"},39158,1057,"산근01010호표",1,null,null,null,null,null,null,null,null,null,null,null,null,null,null,null,null,null,null,null,null,null,null,null,null,null,null,null,null,null,null,null,null,null,null,null,null,null,null,null,null,null,null,null,null,null,null,null,null,null,null,null,null,null,null,null,null,null,null,null,null,null,null,null,null,null,null,null,null,null,null,null,null,null,null,null,null,null,null,null,null,null,null,null,null,null,null,null,null,null,null,null,null,null,null,null,null,null,null,null,null,null,"SDC4311-011",""]
["파쇄물처리운반[L=5Km]","BH0.2+DT 4.5TON",1,"㎥",21348,21348,{"$f":"단가산출!CY4465","v":"0"},0,{"$f":"단가산출!CZ4465","v":"0"},0,{"$f":"단가산출!DA4465","v":"21,348"},21348,1058,"산근01020호표",1,null,null,null,null,null,null,null,null,null,null,null,null,null,null,null,null,null,null,null,null,null,null,null,null,null,null,null,null,null,null,null,null,null,null,null,null,null,null,null,null,null,null,null,null,null,null,null,null,null,null,null,null,null,null,null,null,null,null,null,null,null,null,null,null,null,null,null,null,null,null,null,null,null,null,null,null,null,null,null,null,null,null,null,null,null,null,null,null,null,null,null,null,null,null,null,null,null,null,null,null,null,"SDC4312-011",""]
["파쇄물처리운반[L=5Km]","BH0.4+DT 8.0TON",1,"㎥",13472,13472,{"$f":"단가산출!CY4512","v":"0"},0,{"$f":"단가산출!CZ4512","v":"0"},0,{"$f":"단가산출!DA4512","v":"13,472"},13472,1059,"산근01030호표",1,null,null,null,null,null,null,null,null,null,null,null,null,null,null,null,null,null,null,null,null,null,null,null,null,null,null,null,null,null,null,null,null,null,null,null,null,null,null,null,null,null,null,null,null,null,null,null,null,null,null,null,null,null,null,null,null,null,null,null,null,null,null,null,null,null,null,null,null,null,null,null,null,null,null,null,null,null,null,null,null,null,null,null,null,null,null,null,null,null,null,null,null,null,null,null,null,null,null,null,null,null,"SDC4313-011",""]
["파쇄물처리운반[L=5Km]","BH0.6+DT 15TON",1,"㎥",10932,10932,{"$f":"단가산출!CY4559","v":"0"},0,{"$f":"단가산출!CZ4559","v":"0"},0,{"$f":"단가산출!DA4559","v":"10,932"},10932,1060,"산근01040호표",1,null,null,null,null,null,null,null,null,null,null,null,null,null,null,null,null,null,null,null,null,null,null,null,null,null,null,null,null,null,null,null,null,null,null,null,null,null,null,null,null,null,null,null,null,null,null,null,null,null,null,null,null,null,null,null,null,null,null,null,null,null,null,null,null,null,null,null,null,null,null,null,null,null,null,null,null,null,null,null,null,null,null,null,null,null,null,null,null,null,null,null,null,null,null,null,null,null,null,null,null,null,"SDC43132-011",""]
["파쇄물처리운반[L=7Km]","인력+DT 2.5TON",1,"㎥",47841,47841,{"$f":"단가산출!CY4600","v":"0"},0,{"$f":"단가산출!CZ4600","v":"0"},0,{"$f":"단가산출!DA4600","v":"47,841"},47841,1061,"산근01050호표",1,null,null,null,null,null,null,null,null,null,null,null,null,null,null,null,null,null,null,null,null,null,null,null,null,null,null,null,null,null,null,null,null,null,null,null,null,null,null,null,null,null,null,null,null,null,null,null,null,null,null,null,null,null,null,null,null,null,null,null,null,null,null,null,null,null,null,null,null,null,null,null,null,null,null,null,null,null,null,null,null,null,null,null,null,null,null,null,null,null,null,null,null,null,null,null,null,null,null,null,null,null,"SDC4311-012",""]
["파쇄물처리운반[L=7Km]","BH0.2+DT 4.5TON",1,"㎥",26650,26650,{"$f":"단가산출!CY4647","v":"0"},0,{"$f":"단가산출!CZ4647","v":"0"},0,{"$f":"단가산출!DA4647","v":"26,650"},26650,1062,"산근01060호표",1,null,null,null,null,null,null,null,null,null,null,null,null,null,null,null,null,null,null,null,null,null,null,null,null,null,null,null,null,null,null,null,null,null,null,null,null,null,null,null,null,null,null,null,null,null,null,null,null,null,null,null,null,null,null,null,null,null,null,null,null,null,null,null,null,null,null,null,null,null,null,null,null,null,null,null,null,null,null,null,null,null,null,null,null,null,null,null,null,null,null,null,null,null,null,null,null,null,null,null,null,null,"SDC4312-012",""]
["파쇄물처리운반[L=7Km]","BH0.4+DT 8.0TON",1,"㎥",17098,17098,{"$f":"단가산출!CY4694","v":"0"},0,{"$f":"단가산출!CZ4694","v":"0"},0,{"$f":"단가산출!DA4694","v":"17,098"},17098,1063,"산근01070호표",1,null,null,null,null,null,null,null,null,null,null,null,null,null,null,null,null,null,null,null,null,null,null,null,null,null,null,null,null,null,null,null,null,null,null,null,null,null,null,null,null,null,null,null,null,null,null,null,null,null,null,null,null,null,null,null,null,null,null,null,null,null,null,null,null,null,null,null,null,null,null,null,null,null,null,null,null,null,null,null,null,null,null,null,null,null,null,null,null,null,null,null,null,null,null,null,null,null,null,null,null,null,"SDC4313-012",""]
["파쇄물처리운반[L=7Km]","BH0.6+DT 15TON",1,"㎥",13730,13730,{"$f":"단가산출!CY4741","v":"0"},0,{"$f":"단가산출!CZ4741","v":"0"},0,{"$f":"단가산출!DA4741","v":"13,730"},13730,1064,"산근01080호표",1,null,null,null,null,null,null,null,null,null,null,null,null,null,null,null,null,null,null,null,null,null,null,null,null,null,null,null,null,null,null,null,null,null,null,null,null,null,null,null,null,null,null,null,null,null,null,null,null,null,null,null,null,null,null,null,null,null,null,null,null,null,null,null,null,null,null,null,null,null,null,null,null,null,null,null,null,null,null,null,null,null,null,null,null,null,null,null,null,null,null,null,null,null,null,null,null,null,null,null,null,null,"SDC43132-012",""]
["파쇄물처리운반[L=9Km]","인력+DT 2.5TON",1,"㎥",56432,56432,{"$f":"단가산출!CY4782","v":"0"},0,{"$f":"단가산출!CZ4782","v":"0"},0,{"$f":"단가산출!DA4782","v":"56,432"},56432,1065,"산근01090호표",1,null,null,null,null,null,null,null,null,null,null,null,null,null,null,null,null,null,null,null,null,null,null,null,null,null,null,null,null,null,null,null,null,null,null,null,null,null,null,null,null,null,null,null,null,null,null,null,null,null,null,null,null,null,null,null,null,null,null,null,null,null,null,null,null,null,null,null,null,null,null,null,null,null,null,null,null,null,null,null,null,null,null,null,null,null,null,null,null,null,null,null,null,null,null,null,null,null,null,null,null,null,"SDC4311-013",""]
["파쇄물처리운반[L=9Km]","BH0.2+DT 4.5TON",1,"㎥",32098,32098,{"$f":"단가산출!CY4829","v":"0"},0,{"$f":"단가산출!CZ4829","v":"0"},0,{"$f":"단가산출!DA4829","v":"32,098"},32098,1066,"산근01100호표",1,null,null,null,null,null,null,null,null,null,null,null,null,null,null,null,null,null,null,null,null,null,null,null,null,null,null,null,null,null,null,null,null,null,null,null,null,null,null,null,null,null,null,null,null,null,null,null,null,null,null,null,null,null,null,null,null,null,null,null,null,null,null,null,null,null,null,null,null,null,null,null,null,null,null,null,null,null,null,null,null,null,null,null,null,null,null,null,null,null,null,null,null,null,null,null,null,null,null,null,null,null,"SDC4312-013",""]
["파쇄물처리운반[L=9Km]","BH0.4+DT 8.0TON",1,"㎥",{"$f":"G73+I73+K73","v":20729},{"$f":"H73+J73+L73","v":20729},{"$f":"단가산출!CY4876","v":"0"},{"$f":"TRUNC(C73*G73,0)","v":0},{"$f":"단가산출!CZ4876","v":"0"},{"$f":"TRUNC(C73*I73,0)","v":0},{"$f":"단가산출!DA4876","v":"20,729"},{"$f":"TRUNC(C73*K73,0)","v":20729},1067,"산근01110호표",1,null,null,null,null,null,null,null,null,null,null,null,null,null,null,null,null,null,null,null,null,null,null,null,null,null,null,null,null,null,null,null,null,null,null,null,null,null,null,null,null,null,null,null,null,null,null,null,null,null,null,null,null,null,null,null,null,null,null,null,null,null,null,null,null,null,null,null,null,null,null,null,null,null,null,null,null,null,null,null,null,null,null,null,null,null,null,null,null,null,null,null,null,null,null,null,null,null,null,null,null,null,"SDC4313-013",""]
["파쇄물처리운반[L=9Km]","BH0.6+DT 15TON",1,"㎥",16569,16569,{"$f":"단가산출!CY4923","v":"0"},0,{"$f":"단가산출!CZ4923","v":"0"},0,{"$f":"단가산출!DA4923","v":"16,569"},16569,1068,"산근01120호표",1,null,null,null,null,null,null,null,null,null,null,null,null,null,null,null,null,null,null,null,null,null,null,null,null,null,null,null,null,null,null,null,null,null,null,null,null,null,null,null,null,null,null,null,null,null,null,null,null,null,null,null,null,null,null,null,null,null,null,null,null,null,null,null,null,null,null,null,null,null,null,null,null,null,null,null,null,null,null,null,null,null,null,null,null,null,null,null,null,null,null,null,null,null,null,null,null,null,null,null,null,null,"SDC43132-013",""]
["폐기물운반비","DT 15TON,L=34.4km",1,"TON",16168,16168,{"$f":"단가산출!CY5054","v":"0"},0,{"$f":"단가산출!CZ5054","v":"0"},0,{"$f":"단가산출!DA5054","v":"16,168"},16168,1069,"산근01150호표",1,null,null,null,null,null,null,null,null,null,null,null,null,null,null,null,null,null,null,null,null,null,null,null,null,null,null,null,null,null,null,null,null,null,null,null,null,null,null,null,null,null,null,null,null,null,null,null,null,null,null,null,null,null,null,null,null,null,null,null,null,null,null,null,null,null,null,null,null,null,null,null,null,null,null,null,null,null,null,null,null,null,null,null,null,null,null,null,null,null,null,null,null,null,null,null,null,null,null,null,null,null,"S0127",""]
["폐기물운반비","DT 24TON,L=34.4km",1,"TON",12299,12299,{"$f":"단가산출!CY5131","v":"0"},0,{"$f":"단가산출!CZ5131","v":"0"},0,{"$f":"단가산출!DA5131","v":"12,299"},12299,1070,"산근01160호표",1,null,null,null,null,null,null,null,null,null,null,null,null,null,null,null,null,null,null,null,null,null,null,null,null,null,null,null,null,null,null,null,null,null,null,null,null,null,null,null,null,null,null,null,null,null,null,null,null,null,null,null,null,null,null,null,null,null,null,null,null,null,null,null,null,null,null,null,null,null,null,null,null,null,null,null,null,null,null,null,null,null,null,null,null,null,null,null,null,null,null,null,null,null,null,null,null,null,null,null,null,null,"S000-500",""]
["잔토처리운반[L=3Km]","인력+DT 2.5TON",1,"㎥",21767,21767,{"$f":"단가산출!CY1690","v":"0"},0,{"$f":"단가산출!CZ1690","v":"0"},0,{"$f":"단가산출!DA1690","v":"21,767"},21767,1071,"산근00440호표",1,null,null,null,null,null,null,null,null,null,null,null,null,null,null,null,null,null,null,null,null,null,null,null,null,null,null,null,null,null,null,null,null,null,null,null,null,null,null,null,null,null,null,null,null,null,null,null,null,null,null,null,null,null,null,null,null,null,null,null,null,null,null,null,null,null,null,null,null,null,null,null,null,null,null,null,null,null,null,null,null,null,null,null,null,null,null,null,null,null,null,null,null,null,null,null,null,null,null,null,null,null,"SDC41112",""]
["잔토처리운반[L=3Km]","BH0.2+DT 4.5TON",1,"㎥",10134,10134,{"$f":"단가산출!CY1737","v":"0"},0,{"$f":"단가산출!CZ1737","v":"0"},0,{"$f":"단가산출!DA1737","v":"10,134"},10134,1072,"산근00450호표",1,null,null,null,null,null,null,null,null,null,null,null,null,null,null,null,null,null,null,null,null,null,null,null,null,null,null,null,null,null,null,null,null,null,null,null,null,null,null,null,null,null,null,null,null,null,null,null,null,null,null,null,null,null,null,null,null,null,null,null,null,null,null,null,null,null,null,null,null,null,null,null,null,null,null,null,null,null,null,null,null,null,null,null,null,null,null,null,null,null,null,null,null,null,null,null,null,null,null,null,null,null,"SSA00-001",""]
["잔토처리운반[L=3Km]","BH0.4+DT 8.0TON",1,"㎥",6638,6638,{"$f":"단가산출!CY1784","v":"0"},0,{"$f":"단가산출!CZ1784","v":"0"},0,{"$f":"단가산출!DA1784","v":"6,638"},6638,1073,"산근00460호표",1,null,null,null,null,null,null,null,null,null,null,null,null,null,null,null,null,null,null,null,null,null,null,null,null,null,null,null,null,null,null,null,null,null,null,null,null,null,null,null,null,null,null,null,null,null,null,null,null,null,null,null,null,null,null,null,null,null,null,null,null,null,null,null,null,null,null,null,null,null,null,null,null,null,null,null,null,null,null,null,null,null,null,null,null,null,null,null,null,null,null,null,null,null,null,null,null,null,null,null,null,null,"SSA00-005",""]
["잔토처리운반[L=3Km]","BH0.6+DT 15TON",1,"㎥",5506,5506,{"$f":"단가산출!CY1831","v":"0"},0,{"$f":"단가산출!CZ1831","v":"0"},0,{"$f":"단가산출!DA1831","v":"5,506"},5506,1074,"산근00470호표",1,null,null,null,null,null,null,null,null,null,null,null,null,null,null,null,null,null,null,null,null,null,null,null,null,null,null,null,null,null,null,null,null,null,null,null,null,null,null,null,null,null,null,null,null,null,null,null,null,null,null,null,null,null,null,null,null,null,null,null,null,null,null,null,null,null,null,null,null,null,null,null,null,null,null,null,null,null,null,null,null,null,null,null,null,null,null,null,null,null,null,null,null,null,null,null,null,null,null,null,null,null,"SSA00-009",""]
["잔토처리운반[L=5Km]","인력+DT 2.5TON",1,"㎥",27765,27765,{"$f":"단가산출!CY1872","v":"0"},0,{"$f":"단가산출!CZ1872","v":"0"},0,{"$f":"단가산출!DA1872","v":"27,765"},27765,1075,"산근00480호표",1,null,null,null,null,null,null,null,null,null,null,null,null,null,null,null,null,null,null,null,null,null,null,null,null,null,null,null,null,null,null,null,null,null,null,null,null,null,null,null,null,null,null,null,null,null,null,null,null,null,null,null,null,null,null,null,null,null,null,null,null,null,null,null,null,null,null,null,null,null,null,null,null,null,null,null,null,null,null,null,null,null,null,null,null,null,null,null,null,null,null,null,null,null,null,null,null,null,null,null,null,null,"SDC41112-011",""]
["잔토처리운반[L=5Km]","BH0.2+DT 4.5TON",1,"㎥",13817,13817,{"$f":"단가산출!CY1919","v":"0"},0,{"$f":"단가산출!CZ1919","v":"0"},0,{"$f":"단가산출!DA1919","v":"13,817"},13817,1076,"산근00490호표",1,null,null,null,null,null,null,null,null,null,null,null,null,null,null,null,null,null,null,null,null,null,null,null,null,null,null,null,null,null,null,null,null,null,null,null,null,null,null,null,null,null,null,null,null,null,null,null,null,null,null,null,null,null,null,null,null,null,null,null,null,null,null,null,null,null,null,null,null,null,null,null,null,null,null,null,null,null,null,null,null,null,null,null,null,null,null,null,null,null,null,null,null,null,null,null,null,null,null,null,null,null,"SSA00-002",""]
["잔토처리운반[L=5Km]","BH0.4+DT 8.0TON",1,"㎥",9133,9133,{"$f":"단가산출!CY1966","v":"0"},0,{"$f":"단가산출!CZ1966","v":"0"},0,{"$f":"단가산출!DA1966","v":"9,133"},9133,1077,"산근00500호표",1,null,null,null,null,null,null,null,null,null,null,null,null,null,null,null,null,null,null,null,null,null,null,null,null,null,null,null,null,null,null,null,null,null,null,null,null,null,null,null,null,null,null,null,null,null,null,null,null,null,null,null,null,null,null,null,null,null,null,null,null,null,null,null,null,null,null,null,null,null,null,null,null,null,null,null,null,null,null,null,null,null,null,null,null,null,null,null,null,null,null,null,null,null,null,null,null,null,null,null,null,null,"SSA00-006",""]
["잔토처리운반[L=5Km]","BH0.6+DT 15TON",1,"㎥",7460,7460,{"$f":"단가산출!CY2013","v":"0"},0,{"$f":"단가산출!CZ2013","v":"0"},0,{"$f":"단가산출!DA2013","v":"7,460"},7460,1078,"산근00510호표",1,null,null,null,null,null,null,null,null,null,null,null,null,null,null,null,null,null,null,null,null,null,null,null,null,null,null,null,null,null,null,null,null,null,null,null,null,null,null,null,null,null,null,null,null,null,null,null,null,null,null,null,null,null,null,null,null,null,null,null,null,null,null,null,null,null,null,null,null,null,null,null,null,null,null,null,null,null,null,null,null,null,null,null,null,null,null,null,null,null,null,null,null,null,null,null,null,null,null,null,null,null,"SSA00-0010",""]
["잔토처리운반[L=7Km]","인력+DT 2.5TON",1,"㎥",33878,33878,{"$f":"단가산출!CY2054","v":"0"},0,{"$f":"단가산출!CZ2054","v":"0"},0,{"$f":"단가산출!DA2054","v":"33,878"},33878,1079,"산근00520호표",1,null,null,null,null,null,null,null,null,null,null,null,null,null,null,null,null,null,null,null,null,null,null,null,null,null,null,null,null,null,null,null,null,null,null,null,null,null,null,null,null,null,null,null,null,null,null,null,null,null,null,null,null,null,null,null,null,null,null,null,null,null,null,null,null,null,null,null,null,null,null,null,null,null,null,null,null,null,null,null,null,null,null,null,null,null,null,null,null,null,null,null,null,null,null,null,null,null,null,null,null,null,"SDC41112-012",""]
["잔토처리운반[L=7Km]","BH0.2+DT 4.5TON",1,"㎥",17539,17539,{"$f":"단가산출!CY2101","v":"0"},0,{"$f":"단가산출!CZ2101","v":"0"},0,{"$f":"단가산출!DA2101","v":"17,539"},17539,1080,"산근00530호표",1,null,null,null,null,null,null,null,null,null,null,null,null,null,null,null,null,null,null,null,null,null,null,null,null,null,null,null,null,null,null,null,null,null,null,null,null,null,null,null,null,null,null,null,null,null,null,null,null,null,null,null,null,null,null,null,null,null,null,null,null,null,null,null,null,null,null,null,null,null,null,null,null,null,null,null,null,null,null,null,null,null,null,null,null,null,null,null,null,null,null,null,null,null,null,null,null,null,null,null,null,null,"SSA00-003",""]
["잔토처리운반[L=7Km]","BH0.4+DT 8.0TON",1,"㎥",11633,11633,{"$f":"단가산출!CY2148","v":"0"},0,{"$f":"단가산출!CZ2148","v":"0"},0,{"$f":"단가산출!DA2148","v":"11,633"},11633,1081,"산근00540호표",1,null,null,null,null,null,null,null,null,null,null,null,null,null,null,null,null,null,null,null,null,null,null,null,null,null,null,null,null,null,null,null,null,null,null,null,null,null,null,null,null,null,null,null,null,null,null,null,null,null,null,null,null,null,null,null,null,null,null,null,null,null,null,null,null,null,null,null,null,null,null,null,null,null,null,null,null,null,null,null,null,null,null,null,null,null,null,null,null,null,null,null,null,null,null,null,null,null,null,null,null,null,"SSA00-007",""]
["잔토처리운반[L=7Km]","BH0.6+DT 15TON",1,"㎥",9413,9413,{"$f":"단가산출!CY2195","v":"0"},0,{"$f":"단가산출!CZ2195","v":"0"},0,{"$f":"단가산출!DA2195","v":"9,413"},9413,1082,"산근00550호표",1,null,null,null,null,null,null,null,null,null,null,null,null,null,null,null,null,null,null,null,null,null,null,null,null,null,null,null,null,null,null,null,null,null,null,null,null,null,null,null,null,null,null,null,null,null,null,null,null,null,null,null,null,null,null,null,null,null,null,null,null,null,null,null,null,null,null,null,null,null,null,null,null,null,null,null,null,null,null,null,null,null,null,null,null,null,null,null,null,null,null,null,null,null,null,null,null,null,null,null,null,null,"SSA00-0011",""]
["잔토처리운반[L=9Km]","인력+DT 2.5TON",1,"㎥",40051,40051,{"$f":"단가산출!CY2236","v":"0"},0,{"$f":"단가산출!CZ2236","v":"0"},0,{"$f":"단가산출!DA2236","v":"40,051"},40051,1083,"산근00560호표",1,null,null,null,null,null,null,null,null,null,null,null,null,null,null,null,null,null,null,null,null,null,null,null,null,null,null,null,null,null,null,null,null,null,null,null,null,null,null,null,null,null,null,null,null,null,null,null,null,null,null,null,null,null,null,null,null,null,null,null,null,null,null,null,null,null,null,null,null,null,null,null,null,null,null,null,null,null,null,null,null,null,null,null,null,null,null,null,null,null,null,null,null,null,null,null,null,null,null,null,null,null,"SDC41112-013",""]
["잔토처리운반[L=9Km]","BH0.2+DT 4.5TON",1,"㎥",20836,20836,{"$f":"단가산출!CY2283","v":"0"},0,{"$f":"단가산출!CZ2283","v":"0"},0,{"$f":"단가산출!DA2283","v":"20,836"},20836,1084,"산근00570호표",1,null,null,null,null,null,null,null,null,null,null,null,null,null,null,null,null,null,null,null,null,null,null,null,null,null,null,null,null,null,null,null,null,null,null,null,null,null,null,null,null,null,null,null,null,null,null,null,null,null,null,null,null,null,null,null,null,null,null,null,null,null,null,null,null,null,null,null,null,null,null,null,null,null,null,null,null,null,null,null,null,null,null,null,null,null,null,null,null,null,null,null,null,null,null,null,null,null,null,null,null,null,"SSA00-004",""]
["잔토처리운반[L=9Km]","BH0.4+DT 8.0TON",1,"㎥",14133,14133,{"$f":"단가산출!CY2330","v":"0"},0,{"$f":"단가산출!CZ2330","v":"0"},0,{"$f":"단가산출!DA2330","v":"14,133"},14133,1085,"산근00580호표",1,null,null,null,null,null,null,null,null,null,null,null,null,null,null,null,null,null,null,null,null,null,null,null,null,null,null,null,null,null,null,null,null,null,null,null,null,null,null,null,null,null,null,null,null,null,null,null,null,null,null,null,null,null,null,null,null,null,null,null,null,null,null,null,null,null,null,null,null,null,null,null,null,null,null,null,null,null,null,null,null,null,null,null,null,null,null,null,null,null,null,null,null,null,null,null,null,null,null,null,null,null,"SSA00-008",""]
["잔토처리운반[L=9Km]","BH0.6+DT 15TON",1,"㎥",11375,11375,{"$f":"단가산출!CY2377","v":"0"},0,{"$f":"단가산출!CZ2377","v":"0"},0,{"$f":"단가산출!DA2377","v":"11,375"},11375,1086,"산근00590호표",1,null,null,null,null,null,null,null,null,null,null,null,null,null,null,null,null,null,null,null,null,null,null,null,null,null,null,null,null,null,null,null,null,null,null,null,null,null,null,null,null,null,null,null,null,null,null,null,null,null,null,null,null,null,null,null,null,null,null,null,null,null,null,null,null,null,null,null,null,null,null,null,null,null,null,null,null,null,null,null,null,null,null,null,null,null,null,null,null,null,null,null,null,null,null,null,null,null,null,null,null,null,"SSA00-0012",""]
["잔토상차비","적치장상차[굴삭기 0.7㎥]",1,"㎥",{"$f":"G93+I93+K93","v":761},{"$f":"H93+J93+L93","v":761},{"$f":"단가산출!CY5908","v":"166"},{"$f":"TRUNC(C93*G93,0)","v":166},{"$f":"단가산출!CZ5908","v":"399"},{"$f":"TRUNC(C93*I93,0)","v":399},{"$f":"단가산출!DA5908","v":"196"},{"$f":"TRUNC(C93*K93,0)","v":196},1087,"산근01380호표",1,null,null,null,null,null,null,null,null,null,null,null,null,null,null,null,null,null,null,null,null,null,null,null,null,null,null,null,null,null,null,null,null,null,null,null,null,null,null,null,null,null,null,null,null,null,null,null,null,null,null,null,null,null,null,null,null,null,null,null,null,null,null,null,null,null,null,null,null,null,null,null,null,null,null,null,null,null,null,null,null,null,null,null,null,null,null,null,null,null,null,null,null,null,null,null,null,null,null,null,null,null,"SSA00-0012",""]
["잔토처리운반[집하장-김포]L=52.6km","DT 15TON",1,"㎥",34084,34084,{"$f":"단가산출!CY2432","v":"0"},0,{"$f":"단가산출!CZ2432","v":"0"},0,{"$f":"단가산출!DA2432","v":"34,084"},34084,1088,"산근00600호표",1,null,null,null,null,null,null,null,null,null,null,null,null,null,null,null,null,null,null,null,null,null,null,null,null,null,null,null,null,null,null,null,null,null,null,null,null,null,null,null,null,null,null,null,null,null,null,null,null,null,null,null,null,null,null,null,null,null,null,null,null,null,null,null,null,null,null,null,null,null,null,null,null,null,null,null,null,null,null,null,null,null,null,null,null,null,null,null,null,null,null,null,null,null,null,null,null,null,null,null,null,null,"SDC4112",""]
["잔토처리운반[집하장-김포]L=52.6km","DT 24TON",1,"㎥",26984,26984,{"$f":"단가산출!CY2487","v":"0"},0,{"$f":"단가산출!CZ2487","v":"0"},0,{"$f":"단가산출!DA2487","v":"26,984"},26984,1089,"산근00610호표",1,null,null,null,null,null,null,null,null,null,null,null,null,null,null,null,null,null,null,null,null,null,null,null,null,null,null,null,null,null,null,null,null,null,null,null,null,null,null,null,null,null,null,null,null,null,null,null,null,null,null,null,null,null,null,null,null,null,null,null,null,null,null,null,null,null,null,null,null,null,null,null,null,null,null,null,null,null,null,null,null,null,null,null,null,null,null,null,null,null,null,null,null,null,null,null,null,null,null,null,null,null,"SDC4113",""]
["토사깍기","도쟈19TON",1,"㎥",1489,1489,{"$f":"단가산출!CY3215","v":"504"},504,{"$f":"단가산출!CZ3215","v":"591"},591,{"$f":"단가산출!DA3215","v":"394"},394,1090,"산근00760호표",1,null,null,null,null,null,null,null,null,null,null,null,null,null,null,null,null,null,null,null,null,null,null,null,null,null,null,null,null,null,null,null,null,null,null,null,null,null,null,null,null,null,null,null,null,null,null,null,null,null,null,null,null,null,null,null,null,null,null,null,null,null,null,null,null,null,null,null,null,null,null,null,null,null,null,null,null,null,null,null,null,null,null,null,null,null,null,null,null,null,null,null,null,null,null,null,null,null,null,null,null,null,"SDC2110",""]
["토사깍기","도쟈32TON",1,"㎥",1184,1184,{"$f":"단가산출!CY3290","v":"504"},504,{"$f":"단가산출!CZ3290","v":"355"},355,{"$f":"단가산출!DA3290","v":"325"},325,1091,"산근00770호표",1,null,null,null,null,null,null,null,null,null,null,null,null,null,null,null,null,null,null,null,null,null,null,null,null,null,null,null,null,null,null,null,null,null,null,null,null,null,null,null,null,null,null,null,null,null,null,null,null,null,null,null,null,null,null,null,null,null,null,null,null,null,null,null,null,null,null,null,null,null,null,null,null,null,null,null,null,null,null,null,null,null,null,null,null,null,null,null,null,null,null,null,null,null,null,null,null,null,null,null,null,null,"SDC2120",""]
["층따기","도쟈19TON",1,"㎥",1489,1489,{"$f":"단가산출!CY2726","v":"504"},504,{"$f":"단가산출!CZ2726","v":"591"},591,{"$f":"단가산출!DA2726","v":"394"},394,1092,"산근00660호표",1,null,null,null,null,null,null,null,null,null,null,null,null,null,null,null,null,null,null,null,null,null,null,null,null,null,null,null,null,null,null,null,null,null,null,null,null,null,null,null,null,null,null,null,null,null,null,null,null,null,null,null,null,null,null,null,null,null,null,null,null,null,null,null,null,null,null,null,null,null,null,null,null,null,null,null,null,null,null,null,null,null,null,null,null,null,null,null,null,null,null,null,null,null,null,null,null,null,null,null,null,null,"SDE4000",""]
[]
["2. 부설공",null,1,"식"]
["기초지정및다짐","모래, 기계",1,"㎥",43697,43697,{"$f":"일위대가!H328","v":36553},36553,{"$f":"일위대가!J328","v":6368},6368,{"$f":"일위대가!L328","v":776},776,2001,"제00450호표",2,null,null,null,null,null,null,null,null,null,null,null,null,null,null,null,null,null,null,null,null,null,null,null,null,null,null,null,null,null,null,null,null,null,null,null,null,null,null,null,null,null,null,null,null,null,null,null,null,null,null,null,null,null,null,null,null,null,null,null,null,null,null,null,null,null,null,null,null,null,null,null,null,null,null,null,null,null,null,null,null,null,null,null,null,null,null,null,null,null,null,null,null,null,null,null,null,null,null,null,null,null,"BHI2231",""]
["기초지정및다짐","자갈, 기계",1,"㎥",43021,43021,{"$f":"일위대가!H336","v":33736},33736,{"$f":"일위대가!J336","v":8326},8326,{"$f":"일위대가!L336","v":959},959,2002,"제00460호표",2,null,null,null,null,null,null,null,null,null,null,null,null,null,null,null,null,null,null,null,null,null,null,null,null,null,null,null,null,null,null,null,null,null,null,null,null,null,null,null,null,null,null,null,null,null,null,null,null,null,null,null,null,null,null,null,null,null,null,null,null,null,null,null,null,null,null,null,null,null,null,null,null,null,null,null,null,null,null,null,null,null,null,null,null,null,null,null,null,null,null,null,null,null,null,null,null,null,null,null,null,null,"BHI2233",""]
["흄관기초[모래0°기초]","ø300M/M",1,"M",3931,3931,{"$f":"일위대가!H2400","v":3289},3289,{"$f":"일위대가!J2400","v":573},573,{"$f":"일위대가!L2400","v":69},69,2003,"제02620호표",2,null,null,null,null,null,null,null,null,null,null,null,null,null,null,null,null,null,null,null,null,null,null,null,null,null,null,null,null,null,null,null,null,null,null,null,null,null,null,null,null,null,null,null,null,null,null,null,null,null,null,null,null,null,null,null,null,null,null,null,null,null,null,null,null,null,null,null,null,null,null,null,null,null,null,null,null,null,null,null,null,null,null,null,null,null,null,null,null,null,null,null,null,null,null,null,null,null,null,null,null,null,"BHJ2210",""]
["흄관기초[모래90°기초]","ø300M/M",1,"M",5592,5592,{"$f":"일위대가!H2404","v":4678},4678,{"$f":"일위대가!J2404","v":815},815,{"$f":"일위대가!L2404","v":99},99,2004,"제02630호표",2,null,null,null,null,null,null,null,null,null,null,null,null,null,null,null,null,null,null,null,null,null,null,null,null,null,null,null,null,null,null,null,null,null,null,null,null,null,null,null,null,null,null,null,null,null,null,null,null,null,null,null,null,null,null,null,null,null,null,null,null,null,null,null,null,null,null,null,null,null,null,null,null,null,null,null,null,null,null,null,null,null,null,null,null,null,null,null,null,null,null,null,null,null,null,null,null,null,null,null,null,null,"BHJ2220",""]
["흄관기초[모래120°기초]","ø300M/M",1,"M",6597,6597,{"$f":"일위대가!H2408","v":5519},5519,{"$f":"일위대가!J2408","v":961},961,{"$f":"일위대가!L2408","v":117},117,2005,"제02640호표",2,null,null,null,null,null,null,null,null,null,null,null,null,null,null,null,null,null,null,null,null,null,null,null,null,null,null,null,null,null,null,null,null,null,null,null,null,null,null,null,null,null,null,null,null,null,null,null,null,null,null,null,null,null,null,null,null,null,null,null,null,null,null,null,null,null,null,null,null,null,null,null,null,null,null,null,null,null,null,null,null,null,null,null,null,null,null,null,null,null,null,null,null,null,null,null,null,null,null,null,null,null,"BHJ2230",""]
["흄관기초[모래360°기초]","ø300M/M",1,"M",19793,19793,{"$f":"일위대가!H2412","v":16558},16558,{"$f":"일위대가!J2412","v":2884},2884,{"$f":"일위대가!L2412","v":351},351,2006,"제02650호표",2,null,null,null,null,null,null,null,null,null,null,null,null,null,null,null,null,null,null,null,null,null,null,null,null,null,null,null,null,null,null,null,null,null,null,null,null,null,null,null,null,null,null,null,null,null,null,null,null,null,null,null,null,null,null,null,null,null,null,null,null,null,null,null,null,null,null,null,null,null,null,null,null,null,null,null,null,null,null,null,null,null,null,null,null,null,null,null,null,null,null,null,null,null,null,null,null,null,null,null,null,null,"BHJ2240",""]
["흄관기초[자갈0°기초]","ø300M/M",1,"M",3871,3871,{"$f":"일위대가!H2416","v":3036},3036,{"$f":"일위대가!J2416","v":749},749,{"$f":"일위대가!L2416","v":86},86,2007,"제02660호표",2,null,null,null,null,null,null,null,null,null,null,null,null,null,null,null,null,null,null,null,null,null,null,null,null,null,null,null,null,null,null,null,null,null,null,null,null,null,null,null,null,null,null,null,null,null,null,null,null,null,null,null,null,null,null,null,null,null,null,null,null,null,null,null,null,null,null,null,null,null,null,null,null,null,null,null,null,null,null,null,null,null,null,null,null,null,null,null,null,null,null,null,null,null,null,null,null,null,null,null,null,null,"BHJ2250",""]
["흄관기초[자갈90°기초]","ø300M/M",1,"M",5505,5505,{"$f":"일위대가!H2420","v":4318},4318,{"$f":"일위대가!J2420","v":1065},1065,{"$f":"일위대가!L2420","v":122},122,2008,"제02670호표",2,null,null,null,null,null,null,null,null,null,null,null,null,null,null,null,null,null,null,null,null,null,null,null,null,null,null,null,null,null,null,null,null,null,null,null,null,null,null,null,null,null,null,null,null,null,null,null,null,null,null,null,null,null,null,null,null,null,null,null,null,null,null,null,null,null,null,null,null,null,null,null,null,null,null,null,null,null,null,null,null,null,null,null,null,null,null,null,null,null,null,null,null,null,null,null,null,null,null,null,null,null,"BHJ2260",""]
["흄관기초[자갈120°기초]","ø300M/M",1,"M",6495,6495,{"$f":"일위대가!H2424","v":5094},5094,{"$f":"일위대가!J2424","v":1257},1257,{"$f":"일위대가!L2424","v":144},144,2009,"제02680호표",2,null,null,null,null,null,null,null,null,null,null,null,null,null,null,null,null,null,null,null,null,null,null,null,null,null,null,null,null,null,null,null,null,null,null,null,null,null,null,null,null,null,null,null,null,null,null,null,null,null,null,null,null,null,null,null,null,null,null,null,null,null,null,null,null,null,null,null,null,null,null,null,null,null,null,null,null,null,null,null,null,null,null,null,null,null,null,null,null,null,null,null,null,null,null,null,null,null,null,null,null,null,"BHJ2270",""]
["흄관기초[자갈360°기초]","ø300M/M",1,"M",19487,19487,{"$f":"일위대가!H2428","v":15282},15282,{"$f":"일위대가!J2428","v":3771},3771,{"$f":"일위대가!L2428","v":434},434,2010,"제02690호표",2,null,null,null,null,null,null,null,null,null,null,null,null,null,null,null,null,null,null,null,null,null,null,null,null,null,null,null,null,null,null,null,null,null,null,null,null,null,null,null,null,null,null,null,null,null,null,null,null,null,null,null,null,null,null,null,null,null,null,null,null,null,null,null,null,null,null,null,null,null,null,null,null,null,null,null,null,null,null,null,null,null,null,null,null,null,null,null,null,null,null,null,null,null,null,null,null,null,null,null,null,null,"BHJ2280",""]
["흄관접합및부설[P.P수밀밴드접합]","ø400M/M 기계",1,"m",36426,36426,{"$f":"일위대가!H2438","v":10543},10543,{"$f":"일위대가!J2438","v":22827},22827,{"$f":"일위대가!L2438","v":3056},3056,2011,"제02700호표",2,null,null,null,null,null,null,null,null,null,null,null,null,null,null,null,null,null,null,null,null,null,null,null,null,null,null,null,null,null,null,null,null,null,null,null,null,null,null,null,null,null,null,null,null,null,null,null,null,null,null,null,null,null,null,null,null,null,null,null,null,null,null,null,null,null,null,null,null,null,null,null,null,null,null,null,null,null,null,null,null,null,null,null,null,null,null,null,null,null,null,null,null,null,null,null,null,null,null,null,null,null,"BHA4110",""]
["흄관접합및부설[P.P수밀밴드접합]","ø600M/M 기계",1,"m",61728,61728,{"$f":"일위대가!H2448","v":14318},14318,{"$f":"일위대가!J2448","v":42515},42515,{"$f":"일위대가!L2448","v":4895},4895,2012,"제02710호표",2,null,null,null,null,null,null,null,null,null,null,null,null,null,null,null,null,null,null,null,null,null,null,null,null,null,null,null,null,null,null,null,null,null,null,null,null,null,null,null,null,null,null,null,null,null,null,null,null,null,null,null,null,null,null,null,null,null,null,null,null,null,null,null,null,null,null,null,null,null,null,null,null,null,null,null,null,null,null,null,null,null,null,null,null,null,null,null,null,null,null,null,null,null,null,null,null,null,null,null,null,null,"BHA4120",""]
["흄관접합및부설[P.P수밀밴드접합]","ø800M/M 기계",1,"m",99701,99701,{"$f":"일위대가!H2458","v":18317},18317,{"$f":"일위대가!J2458","v":73965},73965,{"$f":"일위대가!L2458","v":7419},7419,2013,"제02720호표",2,null,null,null,null,null,null,null,null,null,null,null,null,null,null,null,null,null,null,null,null,null,null,null,null,null,null,null,null,null,null,null,null,null,null,null,null,null,null,null,null,null,null,null,null,null,null,null,null,null,null,null,null,null,null,null,null,null,null,null,null,null,null,null,null,null,null,null,null,null,null,null,null,null,null,null,null,null,null,null,null,null,null,null,null,null,null,null,null,null,null,null,null,null,null,null,null,null,null,null,null,null,"BHA4130",""]
["흄관접합및부설[P.P수밀밴드접합]","ø1000M/M 기계",1,"m",162910,162910,{"$f":"일위대가!H2468","v":28442},28442,{"$f":"일위대가!J2468","v":122881},122881,{"$f":"일위대가!L2468","v":11587},11587,2014,"제02730호표",2,null,null,null,null,null,null,null,null,null,null,null,null,null,null,null,null,null,null,null,null,null,null,null,null,null,null,null,null,null,null,null,null,null,null,null,null,null,null,null,null,null,null,null,null,null,null,null,null,null,null,null,null,null,null,null,null,null,null,null,null,null,null,null,null,null,null,null,null,null,null,null,null,null,null,null,null,null,null,null,null,null,null,null,null,null,null,null,null,null,null,null,null,null,null,null,null,null,null,null,null,null,"BHA4140",""]
["흄관접합및부설[P.P수밀밴드접합]","ø1200M/M 기계",1,"m",214092,214092,{"$f":"일위대가!H2478","v":35619},35619,{"$f":"일위대가!J2478","v":163692},163692,{"$f":"일위대가!L2478","v":14781},14781,2015,"제02740호표",2,null,null,null,null,null,null,null,null,null,null,null,null,null,null,null,null,null,null,null,null,null,null,null,null,null,null,null,null,null,null,null,null,null,null,null,null,null,null,null,null,null,null,null,null,null,null,null,null,null,null,null,null,null,null,null,null,null,null,null,null,null,null,null,null,null,null,null,null,null,null,null,null,null,null,null,null,null,null,null,null,null,null,null,null,null,null,null,null,null,null,null,null,null,null,null,null,null,null,null,null,null,"BHA4150",""]
["흄관접합및부설[고무링접합]","ø300M/M 기계",1,"m",26035,26035,{"$f":"일위대가!H2487","v":1854},1854,{"$f":"일위대가!J2487","v":21683},21683,{"$f":"일위대가!L2487","v":2498},2498,2016,"제02750호표",2,null,null,null,null,null,null,null,null,null,null,null,null,null,null,null,null,null,null,null,null,null,null,null,null,null,null,null,null,null,null,null,null,null,null,null,null,null,null,null,null,null,null,null,null,null,null,null,null,null,null,null,null,null,null,null,null,null,null,null,null,null,null,null,null,null,null,null,null,null,null,null,null,null,null,null,null,null,null,null,null,null,null,null,null,null,null,null,null,null,null,null,null,null,null,null,null,null,null,null,null,null,"BHA3110",""]
["흄관접합및부설[고무링접합]","ø450M/M 기계",1,"m",37957,37957,{"$f":"일위대가!H2496","v":2646},2646,{"$f":"일위대가!J2496","v":31543},31543,{"$f":"일위대가!L2496","v":3768},3768,2017,"제02760호표",2,null,null,null,null,null,null,null,null,null,null,null,null,null,null,null,null,null,null,null,null,null,null,null,null,null,null,null,null,null,null,null,null,null,null,null,null,null,null,null,null,null,null,null,null,null,null,null,null,null,null,null,null,null,null,null,null,null,null,null,null,null,null,null,null,null,null,null,null,null,null,null,null,null,null,null,null,null,null,null,null,null,null,null,null,null,null,null,null,null,null,null,null,null,null,null,null,null,null,null,null,null,"BHA3130",""]
["흄관접합및부설[고무링접합]","ø600M/M 기계",1,"m",54230,54230,{"$f":"일위대가!H2505","v":3417},3417,{"$f":"일위대가!J2505","v":45672},45672,{"$f":"일위대가!L2505","v":5141},5141,2018,"제02770호표",2,null,null,null,null,null,null,null,null,null,null,null,null,null,null,null,null,null,null,null,null,null,null,null,null,null,null,null,null,null,null,null,null,null,null,null,null,null,null,null,null,null,null,null,null,null,null,null,null,null,null,null,null,null,null,null,null,null,null,null,null,null,null,null,null,null,null,null,null,null,null,null,null,null,null,null,null,null,null,null,null,null,null,null,null,null,null,null,null,null,null,null,null,null,null,null,null,null,null,null,null,null,"BHA3140",""]
["흄관접합및부설[고무링접합]","ø800M/M 기계",1,"m",88486,88486,{"$f":"일위대가!H2514","v":4547},4547,{"$f":"일위대가!J2514","v":76766},76766,{"$f":"일위대가!L2514","v":7173},7173,2019,"제02780호표",2,null,null,null,null,null,null,null,null,null,null,null,null,null,null,null,null,null,null,null,null,null,null,null,null,null,null,null,null,null,null,null,null,null,null,null,null,null,null,null,null,null,null,null,null,null,null,null,null,null,null,null,null,null,null,null,null,null,null,null,null,null,null,null,null,null,null,null,null,null,null,null,null,null,null,null,null,null,null,null,null,null,null,null,null,null,null,null,null,null,null,null,null,null,null,null,null,null,null,null,null,null,"BHA3150",""]
["흄관접합및부설[고무링접합]","ø1000M/M 기계",1,"m",146706,146706,{"$f":"일위대가!H2523","v":6275},6275,{"$f":"일위대가!J2523","v":128951},128951,{"$f":"일위대가!L2523","v":11480},11480,2020,"제02790호표",2,null,null,null,null,null,null,null,null,null,null,null,null,null,null,null,null,null,null,null,null,null,null,null,null,null,null,null,null,null,null,null,null,null,null,null,null,null,null,null,null,null,null,null,null,null,null,null,null,null,null,null,null,null,null,null,null,null,null,null,null,null,null,null,null,null,null,null,null,null,null,null,null,null,null,null,null,null,null,null,null,null,null,null,null,null,null,null,null,null,null,null,null,null,null,null,null,null,null,null,null,null,"BHA3160",""]
["흄관접합및부설[고무링접합]","ø1200M/M 기계",1,"m",189844,189844,{"$f":"일위대가!H2532","v":7542},7542,{"$f":"일위대가!J2532","v":168054},168054,{"$f":"일위대가!L2532","v":14248},14248,2021,"제02800호표",2,null,null,null,null,null,null,null,null,null,null,null,null,null,null,null,null,null,null,null,null,null,null,null,null,null,null,null,null,null,null,null,null,null,null,null,null,null,null,null,null,null,null,null,null,null,null,null,null,null,null,null,null,null,null,null,null,null,null,null,null,null,null,null,null,null,null,null,null,null,null,null,null,null,null,null,null,null,null,null,null,null,null,null,null,null,null,null,null,null,null,null,null,null,null,null,null,null,null,null,null,null,"BHA3170",""]
["흄관접합및부설[칼라식,인력]","ø300M/M",1,"m",87152,87152,{"$f":"일위대가!H2540","v":222},222,{"$f":"일위대가!J2540","v":86522},86522,{"$f":"일위대가!L2540","v":408},408,2022,"제02810호표",2,null,null,null,null,null,null,null,null,null,null,null,null,null,null,null,null,null,null,null,null,null,null,null,null,null,null,null,null,null,null,null,null,null,null,null,null,null,null,null,null,null,null,null,null,null,null,null,null,null,null,null,null,null,null,null,null,null,null,null,null,null,null,null,null,null,null,null,null,null,null,null,null,null,null,null,null,null,null,null,null,null,null,null,null,null,null,null,null,null,null,null,null,null,null,null,null,null,null,null,null,null,"BHA1222",""]
["흄관절단","D=300㎜",1,"개소",3671,3671,{"$f":"일위대가!H2372","v":207},207,{"$f":"일위대가!J2372","v":3464},3464,{"$f":"일위대가!L2372","v":0},0,2023,"제02570호표",2,null,null,null,null,null,null,null,null,null,null,null,null,null,null,null,null,null,null,null,null,null,null,null,null,null,null,null,null,null,null,null,null,null,null,null,null,null,null,null,null,null,null,null,null,null,null,null,null,null,null,null,null,null,null,null,null,null,null,null,null,null,null,null,null,null,null,null,null,null,null,null,null,null,null,null,null,null,null,null,null,null,null,null,null,null,null,null,null,null,null,null,null,null,null,null,null,null,null,null,null,null,"BHH0-300",""]
["흄관절단","D=450㎜",1,"개소",14690,14690,{"$f":"일위대가!H2378","v":831},831,{"$f":"일위대가!J2378","v":13859},13859,{"$f":"일위대가!L2378","v":0},0,2024,"제02580호표",2,null,null,null,null,null,null,null,null,null,null,null,null,null,null,null,null,null,null,null,null,null,null,null,null,null,null,null,null,null,null,null,null,null,null,null,null,null,null,null,null,null,null,null,null,null,null,null,null,null,null,null,null,null,null,null,null,null,null,null,null,null,null,null,null,null,null,null,null,null,null,null,null,null,null,null,null,null,null,null,null,null,null,null,null,null,null,null,null,null,null,null,null,null,null,null,null,null,null,null,null,null,"BHH0-350",""]
["흄관절단","D=600㎜",1,"개소",29381,29381,{"$f":"일위대가!H2384","v":1663},1663,{"$f":"일위대가!J2384","v":27718},27718,{"$f":"일위대가!L2384","v":0},0,2025,"제02590호표",2,null,null,null,null,null,null,null,null,null,null,null,null,null,null,null,null,null,null,null,null,null,null,null,null,null,null,null,null,null,null,null,null,null,null,null,null,null,null,null,null,null,null,null,null,null,null,null,null,null,null,null,null,null,null,null,null,null,null,null,null,null,null,null,null,null,null,null,null,null,null,null,null,null,null,null,null,null,null,null,null,null,null,null,null,null,null,null,null,null,null,null,null,null,null,null,null,null,null,null,null,null,"BHH0-400",""]
["흄관절단","D=900㎜",1,"개소",55089,55089,{"$f":"일위대가!H2390","v":3118},3118,{"$f":"일위대가!J2390","v":51971},51971,{"$f":"일위대가!L2390","v":0},0,2026,"제02600호표",2,null,null,null,null,null,null,null,null,null,null,null,null,null,null,null,null,null,null,null,null,null,null,null,null,null,null,null,null,null,null,null,null,null,null,null,null,null,null,null,null,null,null,null,null,null,null,null,null,null,null,null,null,null,null,null,null,null,null,null,null,null,null,null,null,null,null,null,null,null,null,null,null,null,null,null,null,null,null,null,null,null,null,null,null,null,null,null,null,null,null,null,null,null,null,null,null,null,null,null,null,null,"BHH0-450",""]
["흄관절단","D=1000㎜",1,"개소",69779,69779,{"$f":"일위대가!H2396","v":3949},3949,{"$f":"일위대가!J2396","v":65830},65830,{"$f":"일위대가!L2396","v":0},0,2027,"제02610호표",2,null,null,null,null,null,null,null,null,null,null,null,null,null,null,null,null,null,null,null,null,null,null,null,null,null,null,null,null,null,null,null,null,null,null,null,null,null,null,null,null,null,null,null,null,null,null,null,null,null,null,null,null,null,null,null,null,null,null,null,null,null,null,null,null,null,null,null,null,null,null,null,null,null,null,null,null,null,null,null,null,null,null,null,null,null,null,null,null,null,null,null,null,null,null,null,null,null,null,null,null,null,"BHH0-500",""]
["흄관하차","Φ 300",1,"M",368,368,{"$f":"단가산출!CY5346","v":"0"},0,{"$f":"단가산출!CZ5346","v":"0"},0,{"$f":"단가산출!DA5346","v":"368"},368,2028,"산근01230호표",2,null,null,null,null,null,null,null,null,null,null,null,null,null,null,null,null,null,null,null,null,null,null,null,null,null,null,null,null,null,null,null,null,null,null,null,null,null,null,null,null,null,null,null,null,null,null,null,null,null,null,null,null,null,null,null,null,null,null,null,null,null,null,null,null,null,null,null,null,null,null,null,null,null,null,null,null,null,null,null,null,null,null,null,null,null,null,null,null,null,null,null,null,null,null,null,null,null,null,null,null,null,"SQE1130",""]
["흄관하차","Φ 400",1,"M",598,598,{"$f":"단가산출!CY5365","v":"0"},0,{"$f":"단가산출!CZ5365","v":"0"},0,{"$f":"단가산출!DA5365","v":"598"},598,2029,"산근01240호표",2,null,null,null,null,null,null,null,null,null,null,null,null,null,null,null,null,null,null,null,null,null,null,null,null,null,null,null,null,null,null,null,null,null,null,null,null,null,null,null,null,null,null,null,null,null,null,null,null,null,null,null,null,null,null,null,null,null,null,null,null,null,null,null,null,null,null,null,null,null,null,null,null,null,null,null,null,null,null,null,null,null,null,null,null,null,null,null,null,null,null,null,null,null,null,null,null,null,null,null,null,null,"SQE1131",""]
["흄관하차","Φ 450",1,"M",736,736,{"$f":"단가산출!CY5384","v":"0"},0,{"$f":"단가산출!CZ5384","v":"0"},0,{"$f":"단가산출!DA5384","v":"736"},736,2030,"산근01250호표",2,null,null,null,null,null,null,null,null,null,null,null,null,null,null,null,null,null,null,null,null,null,null,null,null,null,null,null,null,null,null,null,null,null,null,null,null,null,null,null,null,null,null,null,null,null,null,null,null,null,null,null,null,null,null,null,null,null,null,null,null,null,null,null,null,null,null,null,null,null,null,null,null,null,null,null,null,null,null,null,null,null,null,null,null,null,null,null,null,null,null,null,null,null,null,null,null,null,null,null,null,null,"SQE1132",""]
["흄관하차","Φ 600",1,"M",1289,1289,{"$f":"단가산출!CY5403","v":"0"},0,{"$f":"단가산출!CZ5403","v":"0"},0,{"$f":"단가산출!DA5403","v":"1,289"},1289,2031,"산근01260호표",2,null,null,null,null,null,null,null,null,null,null,null,null,null,null,null,null,null,null,null,null,null,null,null,null,null,null,null,null,null,null,null,null,null,null,null,null,null,null,null,null,null,null,null,null,null,null,null,null,null,null,null,null,null,null,null,null,null,null,null,null,null,null,null,null,null,null,null,null,null,null,null,null,null,null,null,null,null,null,null,null,null,null,null,null,null,null,null,null,null,null,null,null,null,null,null,null,null,null,null,null,null,"SQE1133",""]
["흄관하차","Φ 800",1,"M",2256,2256,{"$f":"단가산출!CY5422","v":"0"},0,{"$f":"단가산출!CZ5422","v":"0"},0,{"$f":"단가산출!DA5422","v":"2,256"},2256,2032,"산근01270호표",2,null,null,null,null,null,null,null,null,null,null,null,null,null,null,null,null,null,null,null,null,null,null,null,null,null,null,null,null,null,null,null,null,null,null,null,null,null,null,null,null,null,null,null,null,null,null,null,null,null,null,null,null,null,null,null,null,null,null,null,null,null,null,null,null,null,null,null,null,null,null,null,null,null,null,null,null,null,null,null,null,null,null,null,null,null,null,null,null,null,null,null,null,null,null,null,null,null,null,null,null,null,"SQE1134",""]
["흄관하차","Φ 1,000",1,"M",3591,3591,{"$f":"단가산출!CY5441","v":"0"},0,{"$f":"단가산출!CZ5441","v":"0"},0,{"$f":"단가산출!DA5441","v":"3,591"},3591,2033,"산근01280호표",2,null,null,null,null,null,null,null,null,null,null,null,null,null,null,null,null,null,null,null,null,null,null,null,null,null,null,null,null,null,null,null,null,null,null,null,null,null,null,null,null,null,null,null,null,null,null,null,null,null,null,null,null,null,null,null,null,null,null,null,null,null,null,null,null,null,null,null,null,null,null,null,null,null,null,null,null,null,null,null,null,null,null,null,null,null,null,null,null,null,null,null,null,null,null,null,null,null,null,null,null,null,"SQE1135",""]
["흄관하차","Φ 1200",1,"M",4973,4973,{"$f":"단가산출!CY5460","v":"0"},0,{"$f":"단가산출!CZ5460","v":"0"},0,{"$f":"단가산출!DA5460","v":"4,973"},4973,2034,"산근01290호표",2,null,null,null,null,null,null,null,null,null,null,null,null,null,null,null,null,null,null,null,null,null,null,null,null,null,null,null,null,null,null,null,null,null,null,null,null,null,null,null,null,null,null,null,null,null,null,null,null,null,null,null,null,null,null,null,null,null,null,null,null,null,null,null,null,null,null,null,null,null,null,null,null,null,null,null,null,null,null,null,null,null,null,null,null,null,null,null,null,null,null,null,null,null,null,null,null,null,null,null,null,null,"SQE1136",""]
["하수관천공및접합","D450mm,연결관200mm",1,"개소",18189,18189,{"$f":"일위대가!H2327","v":866},866,{"$f":"일위대가!J2327","v":17323},17323,{"$f":"일위대가!L2327","v":0},0,2035,"제02500호표",2,null,null,null,null,null,null,null,null,null,null,null,null,null,null,null,null,null,null,null,null,null,null,null,null,null,null,null,null,null,null,null,null,null,null,null,null,null,null,null,null,null,null,null,null,null,null,null,null,null,null,null,null,null,null,null,null,null,null,null,null,null,null,null,null,null,null,null,null,null,null,null,null,null,null,null,null,null,null,null,null,null,null,null,null,null,null,null,null,null,null,null,null,null,null,null,null,null,null,null,null,null,"BHI4100",""]
["하수관천공및접합","D600mm,연결관300mm",1,"개소",36379,36379,{"$f":"일위대가!H2333","v":1732},1732,{"$f":"일위대가!J2333","v":34647},34647,{"$f":"일위대가!L2333","v":0},0,2036,"제02510호표",2,null,null,null,null,null,null,null,null,null,null,null,null,null,null,null,null,null,null,null,null,null,null,null,null,null,null,null,null,null,null,null,null,null,null,null,null,null,null,null,null,null,null,null,null,null,null,null,null,null,null,null,null,null,null,null,null,null,null,null,null,null,null,null,null,null,null,null,null,null,null,null,null,null,null,null,null,null,null,null,null,null,null,null,null,null,null,null,null,null,null,null,null,null,null,null,null,null,null,null,null,null,"BHI4220",""]
["하수관천공및접합","D800mm,연결관300mm",1,"개소",36379,36379,{"$f":"일위대가!H2339","v":1732},1732,{"$f":"일위대가!J2339","v":34647},34647,{"$f":"일위대가!L2339","v":0},0,2037,"제02520호표",2,null,null,null,null,null,null,null,null,null,null,null,null,null,null,null,null,null,null,null,null,null,null,null,null,null,null,null,null,null,null,null,null,null,null,null,null,null,null,null,null,null,null,null,null,null,null,null,null,null,null,null,null,null,null,null,null,null,null,null,null,null,null,null,null,null,null,null,null,null,null,null,null,null,null,null,null,null,null,null,null,null,null,null,null,null,null,null,null,null,null,null,null,null,null,null,null,null,null,null,null,null,"BHI4320",""]
["하수관천공및접합","D1000mm,연결관300mm",1,"개소",40017,40017,{"$f":"일위대가!H2345","v":1905},1905,{"$f":"일위대가!J2345","v":38112},38112,{"$f":"일위대가!L2345","v":0},0,2038,"제02530호표",2,null,null,null,null,null,null,null,null,null,null,null,null,null,null,null,null,null,null,null,null,null,null,null,null,null,null,null,null,null,null,null,null,null,null,null,null,null,null,null,null,null,null,null,null,null,null,null,null,null,null,null,null,null,null,null,null,null,null,null,null,null,null,null,null,null,null,null,null,null,null,null,null,null,null,null,null,null,null,null,null,null,null,null,null,null,null,null,null,null,null,null,null,null,null,null,null,null,null,null,null,null,"BHI4520",""]
["하수관천공및접합","D1200mm,연결관300mm",1,"개소",40017,40017,{"$f":"일위대가!H2351","v":1905},1905,{"$f":"일위대가!J2351","v":38112},38112,{"$f":"일위대가!L2351","v":0},0,2039,"제02540호표",2,null,null,null,null,null,null,null,null,null,null,null,null,null,null,null,null,null,null,null,null,null,null,null,null,null,null,null,null,null,null,null,null,null,null,null,null,null,null,null,null,null,null,null,null,null,null,null,null,null,null,null,null,null,null,null,null,null,null,null,null,null,null,null,null,null,null,null,null,null,null,null,null,null,null,null,null,null,null,null,null,null,null,null,null,null,null,null,null,null,null,null,null,null,null,null,null,null,null,null,null,null,"BHI4620",""]
["횡단하수거","H=50 400*2000",1,"개소",{"$f":"G140+I140+K140","v":639255},{"$f":"H140+J140+L140","v":639255},{"$f":"일위대가!H2366","v":121765},{"$f":"TRUNC(C140*G140,0)","v":121765},{"$f":"일위대가!J2366","v":513458},{"$f":"TRUNC(C140*I140,0)","v":513458},{"$f":"일위대가!L2366","v":4032},{"$f":"TRUNC(C140*K140,0)","v":4032},2040,"제02560호표",2,null,null,null,null,null,null,null,null,null,null,null,null,null,null,null,null,null,null,null,null,null,null,null,null,null,null,null,null,null,null,null,null,null,null,null,null,null,null,null,null,null,null,null,null,null,null,null,null,null,null,null,null,null,null,null,null,null,null,null,null,null,null,null,null,null,null,null,null,null,null,null,null,null,null,null,null,null,null,null,null,null,null,null,null,null,null,null,null,null,null,null,null,null,null,null,null,null,null,null,null,null,"B0255",""]
["하수관수밀시험","D=300mm 이하[60m기준]",1,"개소",468140,468140,{"$f":"일위대가!H2268","v":178450},178450,{"$f":"일위대가!J2268","v":267554},267554,{"$f":"일위대가!L2268","v":22136},22136,2041,"제02460호표",2,null,null,null,null,null,null,null,null,null,null,null,null,null,null,null,null,null,null,null,null,null,null,null,null,null,null,null,null,null,null,null,null,null,null,null,null,null,null,null,null,null,null,null,null,null,null,null,null,null,null,null,null,null,null,null,null,null,null,null,null,null,null,null,null,null,null,null,null,null,null,null,null,null,null,null,null,null,null,null,null,null,null,null,null,null,null,null,null,null,null,null,null,null,null,null,null,null,null,null,null,null,"BHI2100",""]
["하수관수밀시험","D=600mm 이하[60m기준]",1,"개소",703809,703809,{"$f":"일위대가!H2301","v":319902},319902,{"$f":"일위대가!J2301","v":354467},354467,{"$f":"일위대가!L2301","v":29440},29440,2043,"제02480호표",2,null,null,null,null,null,null,null,null,null,null,null,null,null,null,null,null,null,null,null,null,null,null,null,null,null,null,null,null,null,null,null,null,null,null,null,null,null,null,null,null,null,null,null,null,null,null,null,null,null,null,null,null,null,null,null,null,null,null,null,null,null,null,null,null,null,null,null,null,null,null,null,null,null,null,null,null,null,null,null,null,null,null,null,null,null,null,null,null,null,null,null,null,null,null,null,null,null,null,null,null,null,"BHI2500",""]
["하수관수밀시험","D=800mm 이하[60m기준]",1,"개소",930141,930141,{"$f":"일위대가!H2317","v":453451},453451,{"$f":"일위대가!J2317","v":432418},432418,{"$f":"일위대가!L2317","v":44272},44272,2044,"제02490호표",2,null,null,null,null,null,null,null,null,null,null,null,null,null,null,null,null,null,null,null,null,null,null,null,null,null,null,null,null,null,null,null,null,null,null,null,null,null,null,null,null,null,null,null,null,null,null,null,null,null,null,null,null,null,null,null,null,null,null,null,null,null,null,null,null,null,null,null,null,null,null,null,null,null,null,null,null,null,null,null,null,null,null,null,null,null,null,null,null,null,null,null,null,null,null,null,null,null,null,null,null,null,"BHI2700",""]
["수밀코킹","코킹공의0.03",1,"M",{"$f":"G144+I144+K144","v":4696},{"$f":"H144+J144+L144","v":4696},{"$f":"일위대가!H2544","v":0},{"$f":"TRUNC(C144*G144,0)","v":0},{"$f":"일위대가!J2544","v":4696},{"$f":"TRUNC(C144*I144,0)","v":4696},{"$f":"일위대가!L2544","v":0},{"$f":"TRUNC(C144*K144,0)","v":0},2045,"제02820호표",2,null,null,null,null,null,null,null,null,null,null,null,null,null,null,null,null,null,null,null,null,null,null,null,null,null,null,null,null,null,null,null,null,null,null,null,null,null,null,null,null,null,null,null,null,null,null,null,null,null,null,null,null,null,null,null,null,null,null,null,null,null,null,null,null,null,null,null,null,null,null,null,null,null,null,null,null,null,null,null,null,null,null,null,null,null,null,null,null,null,null,null,null,null,null,null,null,null,null,null,null,null,"BHI2700",""]
["하수관내C．C．TV조사","",1,"일",1014526,1014526,{"$f":"일위대가!H2225","v":22520},22520,{"$f":"일위대가!J2225","v":728070},728070,{"$f":"일위대가!L2225","v":263936},263936,2046,"제02390호표",2,null,null,null,null,null,null,null,null,null,null,null,null,null,null,null,null,null,null,null,null,null,null,null,null,null,null,null,null,null,null,null,null,null,null,null,null,null,null,null,null,null,null,null,null,null,null,null,null,null,null,null,null,null,null,null,null,null,null,null,null,null,null,null,null,null,null,null,null,null,null,null,null,null,null,null,null,null,null,null,null,null,null,null,null,null,null,null,null,null,null,null,null,null,null,null,null,null,null,null,null,null,"BHI3300",""]
["하수관내C.C.TV조사","신설관[L=520m/일]",1,"m",1946,1946,{"$f":"일위대가!H2229","v":43},43,{"$f":"일위대가!J2229","v":1397},1397,{"$f":"일위대가!L2229","v":506},506,2047,"제02400호표",2,null,null,null,null,null,null,null,null,null,null,null,null,null,null,null,null,null,null,null,null,null,null,null,null,null,null,null,null,null,null,null,null,null,null,null,null,null,null,null,null,null,null,null,null,null,null,null,null,null,null,null,null,null,null,null,null,null,null,null,null,null,null,null,null,null,null,null,null,null,null,null,null,null,null,null,null,null,null,null,null,null,null,null,null,null,null,null,null,null,null,null,null,null,null,null,null,null,null,null,null,null,"BHI3100",""]
["하수관내C.C.TV조사","기존관[L=320m/일]",1,"m",3174,3174,{"$f":"일위대가!H2233","v":70},70,{"$f":"일위대가!J2233","v":2278},2278,{"$f":"일위대가!L2233","v":826},826,2048,"제02410호표",2,null,null,null,null,null,null,null,null,null,null,null,null,null,null,null,null,null,null,null,null,null,null,null,null,null,null,null,null,null,null,null,null,null,null,null,null,null,null,null,null,null,null,null,null,null,null,null,null,null,null,null,null,null,null,null,null,null,null,null,null,null,null,null,null,null,null,null,null,null,null,null,null,null,null,null,null,null,null,null,null,null,null,null,null,null,null,null,null,null,null,null,null,null,null,null,null,null,null,null,null,null,"BHI3200",""]
["하수관복구공[가정관]","Φ=150mm",1,"개소",73460,73460,{"$f":"일위대가!H2239","v":42326},42326,{"$f":"일위대가!J2239","v":31113},31113,{"$f":"일위대가!L2239","v":21},21,2049,"제02420호표",2,null,null,null,null,null,null,null,null,null,null,null,null,null,null,null,null,null,null,null,null,null,null,null,null,null,null,null,null,null,null,null,null,null,null,null,null,null,null,null,null,null,null,null,null,null,null,null,null,null,null,null,null,null,null,null,null,null,null,null,null,null,null,null,null,null,null,null,null,null,null,null,null,null,null,null,null,null,null,null,null,null,null,null,null,null,null,null,null,null,null,null,null,null,null,null,null,null,null,null,null,null,"BHJ5200",""]
["하수관연결[가정관]","Φ=150mm, L=1M",1,"개소",29607,29607,{"$f":"일위대가!H2245","v":11418},11418,{"$f":"일위대가!J2245","v":17323},17323,{"$f":"일위대가!L2245","v":866},866,2050,"제02430호표",2,null,null,null,null,null,null,null,null,null,null,null,null,null,null,null,null,null,null,null,null,null,null,null,null,null,null,null,null,null,null,null,null,null,null,null,null,null,null,null,null,null,null,null,null,null,null,null,null,null,null,null,null,null,null,null,null,null,null,null,null,null,null,null,null,null,null,null,null,null,null,null,null,null,null,null,null,null,null,null,null,null,null,null,null,null,null,null,null,null,null,null,null,null,null,null,null,null,null,null,null,null,"BHJ5110",""]
["하수관연결[가정관]","Φ=150mm, L=2M",1,"개소",40160,40160,{"$f":"일위대가!H2251","v":21971},21971,{"$f":"일위대가!J2251","v":17323},17323,{"$f":"일위대가!L2251","v":866},866,2051,"제02440호표",2,null,null,null,null,null,null,null,null,null,null,null,null,null,null,null,null,null,null,null,null,null,null,null,null,null,null,null,null,null,null,null,null,null,null,null,null,null,null,null,null,null,null,null,null,null,null,null,null,null,null,null,null,null,null,null,null,null,null,null,null,null,null,null,null,null,null,null,null,null,null,null,null,null,null,null,null,null,null,null,null,null,null,null,null,null,null,null,null,null,null,null,null,null,null,null,null,null,null,null,null,null,"BHJ5120",""]
["하수관연결[가정관]","Φ=150mm, L=4M",1,"개소",61265,61265,{"$f":"일위대가!H2257","v":43076},43076,{"$f":"일위대가!J2257","v":17323},17323,{"$f":"일위대가!L2257","v":866},866,2052,"제02450호표",2,null,null,null,null,null,null,null,null,null,null,null,null,null,null,null,null,null,null,null,null,null,null,null,null,null,null,null,null,null,null,null,null,null,null,null,null,null,null,null,null,null,null,null,null,null,null,null,null,null,null,null,null,null,null,null,null,null,null,null,null,null,null,null,null,null,null,null,null,null,null,null,null,null,null,null,null,null,null,null,null,null,null,null,null,null,null,null,null,null,null,null,null,null,null,null,null,null,null,null,null,null,"BHJ5140",""]
["단지관접합","D=100㎜",1,"개소",51597,51597,{"$f":"일위대가!H575","v":39700},39700,{"$f":"일위대가!J575","v":11897},11897,{"$f":"일위대가!L575","v":0},0,2053,"제00730호표",2,null,null,null,null,null,null,null,null,null,null,null,null,null,null,null,null,null,null,null,null,null,null,null,null,null,null,null,null,null,null,null,null,null,null,null,null,null,null,null,null,null,null,null,null,null,null,null,null,null,null,null,null,null,null,null,null,null,null,null,null,null,null,null,null,null,null,null,null,null,null,null,null,null,null,null,null,null,null,null,null,null,null,null,null,null,null,null,null,null,null,null,null,null,null,null,null,null,null,null,null,null,"BHLL-300",""]
["단지관접합","D=150㎜",1,"개소",64908,64908,{"$f":"일위대가!H568","v":46900},46900,{"$f":"일위대가!J568","v":18008},18008,{"$f":"일위대가!L568","v":0},0,2054,"제00720호표",2,null,null,null,null,null,null,null,null,null,null,null,null,null,null,null,null,null,null,null,null,null,null,null,null,null,null,null,null,null,null,null,null,null,null,null,null,null,null,null,null,null,null,null,null,null,null,null,null,null,null,null,null,null,null,null,null,null,null,null,null,null,null,null,null,null,null,null,null,null,null,null,null,null,null,null,null,null,null,null,null,null,null,null,null,null,null,null,null,null,null,null,null,null,null,null,null,null,null,null,null,null,"BHLL-290",""]
["단지관접합","D=200㎜",1,"개소",111602,111602,{"$f":"일위대가!H561","v":86600},86600,{"$f":"일위대가!J561","v":25002},25002,{"$f":"일위대가!L561","v":0},0,2055,"제00710호표",2,null,null,null,null,null,null,null,null,null,null,null,null,null,null,null,null,null,null,null,null,null,null,null,null,null,null,null,null,null,null,null,null,null,null,null,null,null,null,null,null,null,null,null,null,null,null,null,null,null,null,null,null,null,null,null,null,null,null,null,null,null,null,null,null,null,null,null,null,null,null,null,null,null,null,null,null,null,null,null,null,null,null,null,null,null,null,null,null,null,null,null,null,null,null,null,null,null,null,null,null,null,"BHLL-280",""]
["단지관접합","D=250㎜",1,"개소",163312,163312,{"$f":"일위대가!H554","v":129000},129000,{"$f":"일위대가!J554","v":34312},34312,{"$f":"일위대가!L554","v":0},0,2056,"제00700호표",2,null,null,null,null,null,null,null,null,null,null,null,null,null,null,null,null,null,null,null,null,null,null,null,null,null,null,null,null,null,null,null,null,null,null,null,null,null,null,null,null,null,null,null,null,null,null,null,null,null,null,null,null,null,null,null,null,null,null,null,null,null,null,null,null,null,null,null,null,null,null,null,null,null,null,null,null,null,null,null,null,null,null,null,null,null,null,null,null,null,null,null,null,null,null,null,null,null,null,null,null,null,"BHLL-270",""]
["단지관접합","D=300㎜",1,"개소",187687,187687,{"$f":"일위대가!H547","v":139000},139000,{"$f":"일위대가!J547","v":48687},48687,{"$f":"일위대가!L547","v":0},0,2057,"제00690호표",2,null,null,null,null,null,null,null,null,null,null,null,null,null,null,null,null,null,null,null,null,null,null,null,null,null,null,null,null,null,null,null,null,null,null,null,null,null,null,null,null,null,null,null,null,null,null,null,null,null,null,null,null,null,null,null,null,null,null,null,null,null,null,null,null,null,null,null,null,null,null,null,null,null,null,null,null,null,null,null,null,null,null,null,null,null,null,null,null,null,null,null,null,null,null,null,null,null,null,null,null,null,"BHLL-260",""]
[]
["3. 포장공",null,1,"식"]
["그루빙","아스팔트[종]9*4*51",1,"㎡",13586,13586,{"$f":"일위대가!H257","v":5193},5193,{"$f":"일위대가!J257","v":5288},5288,{"$f":"일위대가!L257","v":3105},3105,3001,"제00380호표",3,null,null,null,null,null,null,null,null,null,null,null,null,null,null,null,null,null,null,null,null,null,null,null,null,null,null,null,null,null,null,null,null,null,null,null,null,null,null,null,null,null,null,null,null,null,null,null,null,null,null,null,null,null,null,null,null,null,null,null,null,null,null,null,null,null,null,null,null,null,null,null,null,null,null,null,null,null,null,null,null,null,null,null,null,null,null,null,null,null,null,null,null,null,null,null,null,null,null,null,null,null,"B000-0220",""]
["그루빙","콘크리트[종]9*4*51",1,"㎡",24596,24596,{"$f":"일위대가!H268","v":11830},11830,{"$f":"일위대가!J268","v":7923},7923,{"$f":"일위대가!L268","v":4843},4843,3002,"제00390호표",3,null,null,null,null,null,null,null,null,null,null,null,null,null,null,null,null,null,null,null,null,null,null,null,null,null,null,null,null,null,null,null,null,null,null,null,null,null,null,null,null,null,null,null,null,null,null,null,null,null,null,null,null,null,null,null,null,null,null,null,null,null,null,null,null,null,null,null,null,null,null,null,null,null,null,null,null,null,null,null,null,null,null,null,null,null,null,null,null,null,null,null,null,null,null,null,null,null,null,null,null,null,"B000-0230",""]
["그루빙","아스팔트[횡]9*4*51",1,"㎡",23041,23041,{"$f":"일위대가!H279","v":6368},6368,{"$f":"일위대가!J279","v":10640},10640,{"$f":"일위대가!L279","v":6033},6033,3003,"제00400호표",3,null,null,null,null,null,null,null,null,null,null,null,null,null,null,null,null,null,null,null,null,null,null,null,null,null,null,null,null,null,null,null,null,null,null,null,null,null,null,null,null,null,null,null,null,null,null,null,null,null,null,null,null,null,null,null,null,null,null,null,null,null,null,null,null,null,null,null,null,null,null,null,null,null,null,null,null,null,null,null,null,null,null,null,null,null,null,null,null,null,null,null,null,null,null,null,null,null,null,null,null,null,"B000-0240",""]
["그루빙","콘크리트[횡]9*4*51",1,"㎡",31539,31539,{"$f":"일위대가!H290","v":12688},12688,{"$f":"일위대가!J290","v":11869},11869,{"$f":"일위대가!L290","v":6982},6982,3004,"제00410호표",3,null,null,null,null,null,null,null,null,null,null,null,null,null,null,null,null,null,null,null,null,null,null,null,null,null,null,null,null,null,null,null,null,null,null,null,null,null,null,null,null,null,null,null,null,null,null,null,null,null,null,null,null,null,null,null,null,null,null,null,null,null,null,null,null,null,null,null,null,null,null,null,null,null,null,null,null,null,null,null,null,null,null,null,null,null,null,null,null,null,null,null,null,null,null,null,null,null,null,null,null,null,"B000-0250",""]
["기층공[보조]","인력,시간당 18.75㎥",1,"HR",239444,239444,{"$f":"일위대가!H344","v":27343},27343,{"$f":"일위대가!J344","v":185217},185217,{"$f":"일위대가!L344","v":26884},26884,3005,"제00470호표",3,null,null,null,null,null,null,null,null,null,null,null,null,null,null,null,null,null,null,null,null,null,null,null,null,null,null,null,null,null,null,null,null,null,null,null,null,null,null,null,null,null,null,null,null,null,null,null,null,null,null,null,null,null,null,null,null,null,null,null,null,null,null,null,null,null,null,null,null,null,null,null,null,null,null,null,null,null,null,null,null,null,null,null,null,null,null,null,null,null,null,null,null,null,null,null,null,null,null,null,null,null,"BB00-0280",""]
["기층공[보조]","인력,T=20cm",1,"a",769165,769165,{"$f":"일위대가!H350","v":542854},542854,{"$f":"일위대가!J350","v":197626},197626,{"$f":"일위대가!L350","v":28685},28685,3006,"제00480호표",3,null,null,null,null,null,null,null,null,null,null,null,null,null,null,null,null,null,null,null,null,null,null,null,null,null,null,null,null,null,null,null,null,null,null,null,null,null,null,null,null,null,null,null,null,null,null,null,null,null,null,null,null,null,null,null,null,null,null,null,null,null,null,null,null,null,null,null,null,null,null,null,null,null,null,null,null,null,null,null,null,null,null,null,null,null,null,null,null,null,null,null,null,null,null,null,null,null,null,null,null,null,"B0151",""]
["기층공[보조]","기계,시간당 68.75㎥",1,"HR",292951,292951,{"$f":"일위대가!H357","v":67064},67064,{"$f":"일위대가!J357","v":149943},149943,{"$f":"일위대가!L357","v":75944},75944,3007,"제00490호표",3,null,null,null,null,null,null,null,null,null,null,null,null,null,null,null,null,null,null,null,null,null,null,null,null,null,null,null,null,null,null,null,null,null,null,null,null,null,null,null,null,null,null,null,null,null,null,null,null,null,null,null,null,null,null,null,null,null,null,null,null,null,null,null,null,null,null,null,null,null,null,null,null,null,null,null,null,null,null,null,null,null,null,null,null,null,null,null,null,null,null,null,null,null,null,null,null,null,null,null,null,null,"BB00-0290",""]
["기층공[보조]","기계,T=20cm",1,"a",598927,598927,{"$f":"일위대가!H363","v":533195},533195,{"$f":"일위대가!J363","v":43633},43633,{"$f":"일위대가!L363","v":22099},22099,3008,"제00500호표",3,null,null,null,null,null,null,null,null,null,null,null,null,null,null,null,null,null,null,null,null,null,null,null,null,null,null,null,null,null,null,null,null,null,null,null,null,null,null,null,null,null,null,null,null,null,null,null,null,null,null,null,null,null,null,null,null,null,null,null,null,null,null,null,null,null,null,null,null,null,null,null,null,null,null,null,null,null,null,null,null,null,null,null,null,null,null,null,null,null,null,null,null,null,null,null,null,null,null,null,null,null,"BKA2100",""]
["기층공[보조]","기계,T=30cm",1,"a",898245,898245,{"$f":"일위대가!H369","v":799759},799759,{"$f":"일위대가!J369","v":65375},65375,{"$f":"일위대가!L369","v":33111},33111,3009,"제00510호표",3,null,null,null,null,null,null,null,null,null,null,null,null,null,null,null,null,null,null,null,null,null,null,null,null,null,null,null,null,null,null,null,null,null,null,null,null,null,null,null,null,null,null,null,null,null,null,null,null,null,null,null,null,null,null,null,null,null,null,null,null,null,null,null,null,null,null,null,null,null,null,null,null,null,null,null,null,null,null,null,null,null,null,null,null,null,null,null,null,null,null,null,null,null,null,null,null,null,null,null,null,null,"B0154",""]
["기층공[입도조정]","기계,시간당 62.5㎥",1,"HR",292951,292951,{"$f":"일위대가!H376","v":67064},67064,{"$f":"일위대가!J376","v":149943},149943,{"$f":"일위대가!L376","v":75944},75944,3010,"제00520호표",3,null,null,null,null,null,null,null,null,null,null,null,null,null,null,null,null,null,null,null,null,null,null,null,null,null,null,null,null,null,null,null,null,null,null,null,null,null,null,null,null,null,null,null,null,null,null,null,null,null,null,null,null,null,null,null,null,null,null,null,null,null,null,null,null,null,null,null,null,null,null,null,null,null,null,null,null,null,null,null,null,null,null,null,null,null,null,null,null,null,null,null,null,null,null,null,null,null,null,null,null,null,"BB00-0330",""]
["기층공[입도조정]","인력,시간당 16.875㎥",1,"HR",239444,239444,{"$f":"일위대가!H384","v":27343},27343,{"$f":"일위대가!J384","v":185217},185217,{"$f":"일위대가!L384","v":26884},26884,3011,"제00530호표",3,null,null,null,null,null,null,null,null,null,null,null,null,null,null,null,null,null,null,null,null,null,null,null,null,null,null,null,null,null,null,null,null,null,null,null,null,null,null,null,null,null,null,null,null,null,null,null,null,null,null,null,null,null,null,null,null,null,null,null,null,null,null,null,null,null,null,null,null,null,null,null,null,null,null,null,null,null,null,null,null,null,null,null,null,null,null,null,null,null,null,null,null,null,null,null,null,null,null,null,null,null,"BB00-0320",""]
["기층공[혼합]","인력,T=10cm",1,"a",399179,399179,{"$f":"일위대가!H390","v":273510},273510,{"$f":"일위대가!J390","v":109741},109741,{"$f":"일위대가!L390","v":15928},15928,3012,"제00540호표",3,null,null,null,null,null,null,null,null,null,null,null,null,null,null,null,null,null,null,null,null,null,null,null,null,null,null,null,null,null,null,null,null,null,null,null,null,null,null,null,null,null,null,null,null,null,null,null,null,null,null,null,null,null,null,null,null,null,null,null,null,null,null,null,null,null,null,null,null,null,null,null,null,null,null,null,null,null,null,null,null,null,null,null,null,null,null,null,null,null,null,null,null,null,null,null,null,null,null,null,null,null,"BKB4300",""]
["기층공[혼합]","인력,T=20cm",1,"a",798360,798360,{"$f":"일위대가!H396","v":547021},547021,{"$f":"일위대가!J396","v":219482},219482,{"$f":"일위대가!L396","v":31857},31857,3013,"제00550호표",3,null,null,null,null,null,null,null,null,null,null,null,null,null,null,null,null,null,null,null,null,null,null,null,null,null,null,null,null,null,null,null,null,null,null,null,null,null,null,null,null,null,null,null,null,null,null,null,null,null,null,null,null,null,null,null,null,null,null,null,null,null,null,null,null,null,null,null,null,null,null,null,null,null,null,null,null,null,null,null,null,null,null,null,null,null,null,null,null,null,null,null,null,null,null,null,null,null,null,null,null,null,"BKB4200",""]
["기층공[혼합]","기계,T=20cm",1,"a",607423,607423,{"$f":"일위대가!H402","v":535140},535140,{"$f":"일위대가!J402","v":47981},47981,{"$f":"일위대가!L402","v":24302},24302,3014,"제00560호표",3,null,null,null,null,null,null,null,null,null,null,null,null,null,null,null,null,null,null,null,null,null,null,null,null,null,null,null,null,null,null,null,null,null,null,null,null,null,null,null,null,null,null,null,null,null,null,null,null,null,null,null,null,null,null,null,null,null,null,null,null,null,null,null,null,null,null,null,null,null,null,null,null,null,null,null,null,null,null,null,null,null,null,null,null,null,null,null,null,null,null,null,null,null,null,null,null,null,null,null,null,null,"BKB4100",""]
["투수용 기층공[혼합,인력]","인력,T=15cm",1,"a",1078481,1078481,{"$f":"일위대가!H408","v":889967},889967,{"$f":"일위대가!J408","v":164620},164620,{"$f":"일위대가!L408","v":23894},23894,3015,"제00570호표",3,null,null,null,null,null,null,null,null,null,null,null,null,null,null,null,null,null,null,null,null,null,null,null,null,null,null,null,null,null,null,null,null,null,null,null,null,null,null,null,null,null,null,null,null,null,null,null,null,null,null,null,null,null,null,null,null,null,null,null,null,null,null,null,null,null,null,null,null,null,null,null,null,null,null,null,null,null,null,null,null,null,null,null,null,null,null,null,null,null,null,null,null,null,null,null,null,null,null,null,null,null,"B000-0180-1",""]
["아스콘중층공[인력,신설포장]","T=7.5Cm",1,"a",689328,689328,{"$f":"일위대가!H1395","v":105107},105107,{"$f":"일위대가!J1395","v":547865},547865,{"$f":"일위대가!L1395","v":36356},36356,3016,"제01390호표",3,null,null,null,null,null,null,null,null,null,null,null,null,null,null,null,null,null,null,null,null,null,null,null,null,null,null,null,null,null,null,null,null,null,null,null,null,null,null,null,null,null,null,null,null,null,null,null,null,null,null,null,null,null,null,null,null,null,null,null,null,null,null,null,null,null,null,null,null,null,null,null,null,null,null,null,null,null,null,null,null,null,null,null,null,null,null,null,null,null,null,null,null,null,null,null,null,null,null,null,null,null,"BKB5300",""]
["아스콘중층공[기계,신설포장]","T=7.5Cm[3m≤시공폭]",1,"a",151259,151259,{"$f":"일위대가!H1404","v":64319},64319,{"$f":"일위대가!J1404","v":69913},69913,{"$f":"일위대가!L1404","v":17027},17027,3017,"제01400호표",3,null,null,null,null,null,null,null,null,null,null,null,null,null,null,null,null,null,null,null,null,null,null,null,null,null,null,null,null,null,null,null,null,null,null,null,null,null,null,null,null,null,null,null,null,null,null,null,null,null,null,null,null,null,null,null,null,null,null,null,null,null,null,null,null,null,null,null,null,null,null,null,null,null,null,null,null,null,null,null,null,null,null,null,null,null,null,null,null,null,null,null,null,null,null,null,null,null,null,null,null,null,"BKB5200",""]
["아스콘중층공[기계,소규모,신설포장]","T=7.5Cm[시공폭<2m]",1,"a",{"$f":"G176+I176+K176","v":289940},{"$f":"H176+J176+L176","v":289940},{"$f":"일위대가!H1413","v":80357},{"$f":"TRUNC(C176*G176,0)","v":80357},{"$f":"일위대가!J1413","v":162951},{"$f":"TRUNC(C176*I176,0)","v":162951},{"$f":"일위대가!L1413","v":46632},{"$f":"TRUNC(C176*K176,0)","v":46632},3018,"제01401호표",3,null,null,null,null,null,null,null,null,null,null,null,null,null,null,null,null,null,null,null,null,null,null,null,null,null,null,null,null,null,null,null,null,null,null,null,null,null,null,null,null,null,null,null,null,null,null,null,null,null,null,null,null,null,null,null,null,null,null,null,null,null,null,null,null,null,null,null,null,null,null,null,null,null,null,null,null,null,null,null,null,null,null,null,null,null,null,null,null,null,null,null,null,null,null,null,null,null,null,null,null,null,"BKB5200",""]
["아스콘중층공[기계,신설포장]","T=7.5Cm[2m≤시공폭<3m]",1,"a",218426,218426,{"$f":"일위대가!H1422","v":73328},73328,{"$f":"일위대가!J1422","v":114938},114938,{"$f":"일위대가!L1422","v":30160},30160,3019,"제01410호표",3,null,null,null,null,null,null,null,null,null,null,null,null,null,null,null,null,null,null,null,null,null,null,null,null,null,null,null,null,null,null,null,null,null,null,null,null,null,null,null,null,null,null,null,null,null,null,null,null,null,null,null,null,null,null,null,null,null,null,null,null,null,null,null,null,null,null,null,null,null,null,null,null,null,null,null,null,null,null,null,null,null,null,null,null,null,null,null,null,null,null,null,null,null,null,null,null,null,null,null,null,null,"BKB5200-01",""]
["아스팔트포장[인력,신설포장]","시간당 37.5㎡",1,"HR",229908,229908,{"$f":"일위대가!H1312","v":19489},19489,{"$f":"일위대가!J1312","v":197150},197150,{"$f":"일위대가!L1312","v":13269},13269,3020,"제01340호표",3,null,null,null,null,null,null,null,null,null,null,null,null,null,null,null,null,null,null,null,null,null,null,null,null,null,null,null,null,null,null,null,null,null,null,null,null,null,null,null,null,null,null,null,null,null,null,null,null,null,null,null,null,null,null,null,null,null,null,null,null,null,null,null,null,null,null,null,null,null,null,null,null,null,null,null,null,null,null,null,null,null,null,null,null,null,null,null,null,null,null,null,null,null,null,null,null,null,null,null,null,null,"BB00-0380",""]
["아스팔트포장[기계,신설포장]","표층,중간층",1,"HR",476352,476352,{"$f":"일위대가!H1322","v":63890},63890,{"$f":"일위대가!J1322","v":319325},319325,{"$f":"일위대가!L1322","v":93137},93137,3021,"제01350호표",3,null,null,null,null,null,null,null,null,null,null,null,null,null,null,null,null,null,null,null,null,null,null,null,null,null,null,null,null,null,null,null,null,null,null,null,null,null,null,null,null,null,null,null,null,null,null,null,null,null,null,null,null,null,null,null,null,null,null,null,null,null,null,null,null,null,null,null,null,null,null,null,null,null,null,null,null,null,null,null,null,null,null,null,null,null,null,null,null,null,null,null,null,null,null,null,null,null,null,null,null,null,"BB00-0360",""]
["아스콘표층공[인력,신설포장]","T=5Cm",1,"a",657288,657288,{"$f":"일위대가!H1341","v":73607},73607,{"$f":"일위대가!J1341","v":547865},547865,{"$f":"일위대가!L1341","v":35816},35816,3022,"제01360호표",3,null,null,null,null,null,null,null,null,null,null,null,null,null,null,null,null,null,null,null,null,null,null,null,null,null,null,null,null,null,null,null,null,null,null,null,null,null,null,null,null,null,null,null,null,null,null,null,null,null,null,null,null,null,null,null,null,null,null,null,null,null,null,null,null,null,null,null,null,null,null,null,null,null,null,null,null,null,null,null,null,null,null,null,null,null,null,null,null,null,null,null,null,null,null,null,null,null,null,null,null,null,"BKB5100",""]
["아스콘표층공[기계,신설포장]","T=5Cm[3m≤시공폭]",1,"a",119219,119219,{"$f":"일위대가!H1350","v":32819},32819,{"$f":"일위대가!J1350","v":69913},69913,{"$f":"일위대가!L1350","v":16487},16487,3023,"제01370호표",3,null,null,null,null,null,null,null,null,null,null,null,null,null,null,null,null,null,null,null,null,null,null,null,null,null,null,null,null,null,null,null,null,null,null,null,null,null,null,null,null,null,null,null,null,null,null,null,null,null,null,null,null,null,null,null,null,null,null,null,null,null,null,null,null,null,null,null,null,null,null,null,null,null,null,null,null,null,null,null,null,null,null,null,null,null,null,null,null,null,null,null,null,null,null,null,null,null,null,null,null,null,"BKB5000",""]
["아스콘표층공[기계,소규모,신설포장]","T=5Cm[시공폭<2m]",1,"a",{"$f":"G182+I182+K182","v":257900},{"$f":"H182+J182+L182","v":257900},{"$f":"일위대가!H1359","v":48857},{"$f":"TRUNC(C182*G182,0)","v":48857},{"$f":"일위대가!J1359","v":162951},{"$f":"TRUNC(C182*I182,0)","v":162951},{"$f":"일위대가!L1359","v":46092},{"$f":"TRUNC(C182*K182,0)","v":46092},3024,"제01371호표",3,null,null,null,null,null,null,null,null,null,null,null,null,null,null,null,null,null,null,null,null,null,null,null,null,null,null,null,null,null,null,null,null,null,null,null,null,null,null,null,null,null,null,null,null,null,null,null,null,null,null,null,null,null,null,null,null,null,null,null,null,null,null,null,null,null,null,null,null,null,null,null,null,null,null,null,null,null,null,null,null,null,null,null,null,null,null,null,null,null,null,null,null,null,null,null,null,null,null,null,null,null,"BKB5000",""]
["아스콘표층공[기계,신설포장]","T=5Cm[2m≤시공폭<3m]",1,"a",186386,186386,{"$f":"일위대가!H1368","v":41828},41828,{"$f":"일위대가!J1368","v":114938},114938,{"$f":"일위대가!L1368","v":29620},29620,3025,"제01380호표",3,null,null,null,null,null,null,null,null,null,null,null,null,null,null,null,null,null,null,null,null,null,null,null,null,null,null,null,null,null,null,null,null,null,null,null,null,null,null,null,null,null,null,null,null,null,null,null,null,null,null,null,null,null,null,null,null,null,null,null,null,null,null,null,null,null,null,null,null,null,null,null,null,null,null,null,null,null,null,null,null,null,null,null,null,null,null,null,null,null,null,null,null,null,null,null,null,null,null,null,null,null,"BKB5000-01",""]
["소파보수[포장복구]","B타입 시간당 시공량 5.625㎡",1,"HR",{"$f":"G184+I184+K184","v":416433},{"$f":"H184+J184+L184","v":416433},{"$f":"일위대가!H1156","v":31351},{"$f":"TRUNC(C184*G184,0)","v":31351},{"$f":"일위대가!J1156","v":347066},{"$f":"TRUNC(C184*I184,0)","v":347066},{"$f":"일위대가!L1156","v":38016},{"$f":"TRUNC(C184*K184,0)","v":38016},3026,"제01280호표",3]
["소파보수[포장복구]","B타입 개소별 평균 시공면적 5㎡ 이하, 시공량 할증계수 0.85",1,"a",8786536,8786536,{"$f":"일위대가!H1164","v":729362},729362,{"$f":"일위대가!J1164","v":7260620},7260620,{"$f":"일위대가!L1164","v":796554},796554,3027,"제01281호표",3,null,null,null,null,null,null,null,null,null,null,null,null,null,null,null,null,null,null,null,null,null,null,null,null,null,null,null,null,null,null,null,null,null,null,null,null,null,null,null,null,null,null,null,null,null,null,null,null,null,null,null,null,null,null,null,null,null,null,null,null,null,null,null,null,null,null,null,null,null,null,null,null,null,null,null,null,null,null,null,null,null,null,null,null,null,null,null,null,null,null,null,null,null,null,null,null,null,null,null,null,null,"B000-0110",""]
["소파보수[포장복구]","B타입 개소별 평균 시공면적 10㎡ 이하, 시공량 할증계수 0.92",1,"a",{"$f":"G186+I186+K186","v":8120245},{"$f":"H186+J186+L186","v":8120245},{"$f":"일위대가!H1172","v":679201},{"$f":"TRUNC(C186*G186,0)","v":679201},{"$f":"일위대가!J1172","v":6705315},{"$f":"TRUNC(C186*I186,0)","v":6705315},{"$f":"일위대가!L1172","v":735729},{"$f":"TRUNC(C186*K186,0)","v":735729},3028,"제01282호표",3,null,null,null,null,null,null,null,null,null,null,null,null,null,null,null,null,null,null,null,null,null,null,null,null,null,null,null,null,null,null,null,null,null,null,null,null,null,null,null,null,null,null,null,null,null,null,null,null,null,null,null,null,null,null,null,null,null,null,null,null,null,null,null,null,null,null,null,null,null,null,null,null,null,null,null,null,null,null,null,null,null,null,null,null,null,null,null,null,null,null,null,null,null,null,null,null,null,null,null,null,null,"B000-0110",""]
["소파보수[포장복구]","B타입 개소별 평균 시공면적 20㎡ 이하, 시공량 할증계수 1.0",1,"a",{"$f":"G187+I187+K187","v":7478937},{"$f":"H187+J187+L187","v":7478937},{"$f":"일위대가!H1180","v":630920},{"$f":"TRUNC(C187*G187,0)","v":630920},{"$f":"일위대가!J1180","v":6170833},{"$f":"TRUNC(C187*I187,0)","v":6170833},{"$f":"일위대가!L1180","v":677184},{"$f":"TRUNC(C187*K187,0)","v":677184},3029,"제01283호표",3,null,null,null,null,null,null,null,null,null,null,null,null,null,null,null,null,null,null,null,null,null,null,null,null,null,null,null,null,null,null,null,null,null,null,null,null,null,null,null,null,null,null,null,null,null,null,null,null,null,null,null,null,null,null,null,null,null,null,null,null,null,null,null,null,null,null,null,null,null,null,null,null,null,null,null,null,null,null,null,null,null,null,null,null,null,null,null,null,null,null,null,null,null,null,null,null,null,null,null,null,null,"B000-0110",""]
["소파보수[포장복구]","B타입 개소별 평균 시공면적 30㎡ 이하, 시공량 할증계수 1.09",1,"a",{"$f":"G188+I188+K188","v":6866780},{"$f":"H188+J188+L188","v":6866780},{"$f":"일위대가!H1188","v":584834},{"$f":"TRUNC(C188*G188,0)","v":584834},{"$f":"일위대가!J1188","v":5660646},{"$f":"TRUNC(C188*I188,0)","v":5660646},{"$f":"일위대가!L1188","v":621300},{"$f":"TRUNC(C188*K188,0)","v":621300},3030,"제01284호표",3,null,null,null,null,null,null,null,null,null,null,null,null,null,null,null,null,null,null,null,null,null,null,null,null,null,null,null,null,null,null,null,null,null,null,null,null,null,null,null,null,null,null,null,null,null,null,null,null,null,null,null,null,null,null,null,null,null,null,null,null,null,null,null,null,null,null,null,null,null,null,null,null,null,null,null,null,null,null,null,null,null,null,null,null,null,null,null,null,null,null,null,null,null,null,null,null,null,null,null,null,null,"B000-0110",""]
["소파보수[포장복구]","B타입 개소별 평균 시공면적 30㎡ 초과, 시공량 할증계수 1.18",1,"a",{"$f":"G189+I189+K189","v":6346239},{"$f":"H189+J189+L189","v":6346239},{"$f":"일위대가!H1196","v":545646},{"$f":"TRUNC(C189*G189,0)","v":545646},{"$f":"일위대가!J1196","v":5226813},{"$f":"TRUNC(C189*I189,0)","v":5226813},{"$f":"일위대가!L1196","v":573780},{"$f":"TRUNC(C189*K189,0)","v":573780},3031,"제01285호표",3,null,null,null,null,null,null,null,null,null,null,null,null,null,null,null,null,null,null,null,null,null,null,null,null,null,null,null,null,null,null,null,null,null,null,null,null,null,null,null,null,null,null,null,null,null,null,null,null,null,null,null,null,null,null,null,null,null,null,null,null,null,null,null,null,null,null,null,null,null,null,null,null,null,null,null,null,null,null,null,null,null,null,null,null,null,null,null,null,null,null,null,null,null,null,null,null,null,null,null,null,null,"B000-0110",""]
["소파보수[표층]","C타입 시간당 시공량 6.25㎡",1,"HR",422881,422881,{"$f":"일위대가!H1206","v":33938},33938,{"$f":"일위대가!J1206","v":347066},347066,{"$f":"일위대가!L1206","v":41877},41877,3032,"제01290호표",3,null,null,null,null,null,null,null,null,null,null,null,null,null,null,null,null,null,null,null,null,null,null,null,null,null,null,null,null,null,null,null,null,null,null,null,null,null,null,null,null,null,null,null,null,null,null,null,null,null,null,null,null,null,null,null,null,null,null,null,null,null,null,null,null,null,null,null,null,null,null,null,null,null,null,null,null,null,null,null,null,null,null,null,null,null,null,null,null,null,null,null,null,null,null,null,null,null,null,null,null,null,"B000-0140",""]
["소파보수[표층]","C타입 개소별 평균 시공면적 5㎡ 이하, 시공량 할증계수 0.79",1,"a",8581370,8581370,{"$f":"일위대가!H1213","v":707905},707905,{"$f":"일위대가!J1213","v":7024615},7024615,{"$f":"일위대가!L1213","v":848850},848850,3033,"제01291호표",3,null,null,null,null,null,null,null,null,null,null,null,null,null,null,null,null,null,null,null,null,null,null,null,null,null,null,null,null,null,null,null,null,null,null,null,null,null,null,null,null,null,null,null,null,null,null,null,null,null,null,null,null,null,null,null,null,null,null,null,null,null,null,null,null,null,null,null,null,null,null,null,null,null,null,null,null,null,null,null,null,null,null,null,null,null,null,null,null,null,null,null,null,null,null,null,null,null,null,null,null,null,"B000-0140",""]
["소파보수[표층]","C타입 개소별 평균 시공면적 10㎡ 이하, 시공량 할증계수 0.89",1,"a",{"$f":"G192+I192+K192","v":7629888},{"$f":"H192+J192+L192","v":7629888},{"$f":"일위대가!H1220","v":631544},{"$f":"TRUNC(C192*G192,0)","v":631544},{"$f":"일위대가!J1220","v":6243717},{"$f":"TRUNC(C192*I192,0)","v":6243717},{"$f":"일위대가!L1220","v":754627},{"$f":"TRUNC(C192*K192,0)","v":754627},3034,"제01292호표",3,null,null,null,null,null,null,null,null,null,null,null,null,null,null,null,null,null,null,null,null,null,null,null,null,null,null,null,null,null,null,null,null,null,null,null,null,null,null,null,null,null,null,null,null,null,null,null,null,null,null,null,null,null,null,null,null,null,null,null,null,null,null,null,null,null,null,null,null,null,null,null,null,null,null,null,null,null,null,null,null,null,null,null,null,null,null,null,null,null,null,null,null,null,null,null,null,null,null,null,null,null,"B000-0140",""]
["소파보수[표층]","C타입 개소별 평균 시공면적 20㎡ 이하, 시공량 할증계수 1.0",1,"a",{"$f":"G193+I193+K193","v":6788356},{"$f":"H193+J193+L193","v":6788356},{"$f":"일위대가!H1227","v":564008},{"$f":"TRUNC(C193*G193,0)","v":564008},{"$f":"일위대가!J1227","v":5553056},{"$f":"TRUNC(C193*I193,0)","v":5553056},{"$f":"일위대가!L1227","v":671292},{"$f":"TRUNC(C193*K193,0)","v":671292},3035,"제01293호표",3,null,null,null,null,null,null,null,null,null,null,null,null,null,null,null,null,null,null,null,null,null,null,null,null,null,null,null,null,null,null,null,null,null,null,null,null,null,null,null,null,null,null,null,null,null,null,null,null,null,null,null,null,null,null,null,null,null,null,null,null,null,null,null,null,null,null,null,null,null,null,null,null,null,null,null,null,null,null,null,null,null,null,null,null,null,null,null,null,null,null,null,null,null,null,null,null,null,null,null,null,null,"B000-0140",""]
["소파보수[표층]","C타입 개소별 평균 시공면적 30㎡ 이하, 시공량 할증계수 1.12",1,"a",{"$f":"G194+I194+K194","v":6065229},{"$f":"H194+J194+L194","v":6065229},{"$f":"일위대가!H1234","v":505974},{"$f":"TRUNC(C194*G194,0)","v":505974},{"$f":"일위대가!J1234","v":4959573},{"$f":"TRUNC(C194*I194,0)","v":4959573},{"$f":"일위대가!L1234","v":599682},{"$f":"TRUNC(C194*K194,0)","v":599682},3036,"제01294호표",3,null,null,null,null,null,null,null,null,null,null,null,null,null,null,null,null,null,null,null,null,null,null,null,null,null,null,null,null,null,null,null,null,null,null,null,null,null,null,null,null,null,null,null,null,null,null,null,null,null,null,null,null,null,null,null,null,null,null,null,null,null,null,null,null,null,null,null,null,null,null,null,null,null,null,null,null,null,null,null,null,null,null,null,null,null,null,null,null,null,null,null,null,null,null,null,null,null,null,null,null,null,"B000-0140",""]
["소파보수[표층]","C타입 개소별 평균 시공면적 30㎡ 초과, 시공량 할증계수 1.26",1,"a",5388619,5388619,{"$f":"일위대가!H1241","v":451673},451673,{"$f":"일위대가!J1241","v":4404267},4404267,{"$f":"일위대가!L1241","v":532679},532679,3037,"제01295호표",3,null,null,null,null,null,null,null,null,null,null,null,null,null,null,null,null,null,null,null,null,null,null,null,null,null,null,null,null,null,null,null,null,null,null,null,null,null,null,null,null,null,null,null,null,null,null,null,null,null,null,null,null,null,null,null,null,null,null,null,null,null,null,null,null,null,null,null,null,null,null,null,null,null,null,null,null,null,null,null,null,null,null,null,null,null,null,null,null,null,null,null,null,null,null,null,null,null,null,null,null,null,"B000-0140",""]
["소파보수[도로복구, T=65cm]","B타입 시간당 시공량 4.375㎡",1,"HR",503744,503744,{"$f":"일위대가!H1252","v":41426},41426,{"$f":"일위대가!J1252","v":419869},419869,{"$f":"일위대가!L1252","v":42449},42449,3038,"제01300호표",3,null,null,null,null,null,null,null,null,null,null,null,null,null,null,null,null,null,null,null,null,null,null,null,null,null,null,null,null,null,null,null,null,null,null,null,null,null,null,null,null,null,null,null,null,null,null,null,null,null,null,null,null,null,null,null,null,null,null,null,null,null,null,null,null,null,null,null,null,null,null,null,null,null,null,null,null,null,null,null,null,null,null,null,null,null,null,null,null,null,null,null,null,null,null,null,null,null,null,null,null,null,"B000-0166",""]
["소파보수[도로복구]","B타입 개소별 평균 시공면적 4㎡ 이하, 시공량 할증계수 0.89",1,"a",{"$f":"G197+I197+K197","v":14305216},{"$f":"H197+J197+L197","v":14305216},{"$f":"일위대가!H1262","v":2417762},{"$f":"TRUNC(C197*G197,0)","v":2417762},{"$f":"일위대가!J1262","v":10794831},{"$f":"TRUNC(C197*I197,0)","v":10794831},{"$f":"일위대가!L1262","v":1092623},{"$f":"TRUNC(C197*K197,0)","v":1092623},3039,"제01301호표",3,null,null,null,null,null,null,null,null,null,null,null,null,null,null,null,null,null,null,null,null,null,null,null,null,null,null,null,null,null,null,null,null,null,null,null,null,null,null,null,null,null,null,null,null,null,null,null,null,null,null,null,null,null,null,null,null,null,null,null,null,null,null,null,null,null,null,null,null,null,null,null,null,null,null,null,null,null,null,null,null,null,null,null,null,null,null,null,null,null,null,null,null,null,null,null,null,null,null,null,null,null,"B000-0166",""]
["소파보수[도로복구]","B타입 개소별 평균 시공면적 8㎡ 이하, 시공량 할증계수 0.94",1,"a",{"$f":"G198+I198+K198","v":13610050},{"$f":"H198+J198+L198","v":13610050},{"$f":"일위대가!H1272","v":2360594},{"$f":"TRUNC(C198*G198,0)","v":2360594},{"$f":"일위대가!J1272","v":10215412},{"$f":"TRUNC(C198*I198,0)","v":10215412},{"$f":"일위대가!L1272","v":1034044},{"$f":"TRUNC(C198*K198,0)","v":1034044},3040,"제01302호표",3,null,null,null,null,null,null,null,null,null,null,null,null,null,null,null,null,null,null,null,null,null,null,null,null,null,null,null,null,null,null,null,null,null,null,null,null,null,null,null,null,null,null,null,null,null,null,null,null,null,null,null,null,null,null,null,null,null,null,null,null,null,null,null,null,null,null,null,null,null,null,null,null,null,null,null,null,null,null,null,null,null,null,null,null,null,null,null,null,null,null,null,null,null,null,null,null,null,null,null,null,null,"B000-0166",""]
["소파보수[도로복구]","B타입 개소별 평균 시공면적 16㎡ 이하, 시공량 할증계수 1.0",1,"a",{"$f":"G199+I199+K199","v":12864509},{"$f":"H199+J199+L199","v":12864509},{"$f":"일위대가!H1282","v":2299284},{"$f":"TRUNC(C199*G199,0)","v":2299284},{"$f":"일위대가!J1282","v":9594006},{"$f":"TRUNC(C199*I199,0)","v":9594006},{"$f":"일위대가!L1282","v":971219},{"$f":"TRUNC(C199*K199,0)","v":971219},3041,"제01303호표",3,null,null,null,null,null,null,null,null,null,null,null,null,null,null,null,null,null,null,null,null,null,null,null,null,null,null,null,null,null,null,null,null,null,null,null,null,null,null,null,null,null,null,null,null,null,null,null,null,null,null,null,null,null,null,null,null,null,null,null,null,null,null,null,null,null,null,null,null,null,null,null,null,null,null,null,null,null,null,null,null,null,null,null,null,null,null,null,null,null,null,null,null,null,null,null,null,null,null,null,null,null,"B000-0166",""]
["소파보수[도로복구]","B타입 개소별 평균 시공면적 24㎡ 이하, 시공량 할증계수 1.06",1,"a",12209641,12209641,{"$f":"일위대가!H1292","v":2245430},2245430,{"$f":"일위대가!J1292","v":9048176},9048176,{"$f":"일위대가!L1292","v":916035},916035,3042,"제01304호표",3,null,null,null,null,null,null,null,null,null,null,null,null,null,null,null,null,null,null,null,null,null,null,null,null,null,null,null,null,null,null,null,null,null,null,null,null,null,null,null,null,null,null,null,null,null,null,null,null,null,null,null,null,null,null,null,null,null,null,null,null,null,null,null,null,null,null,null,null,null,null,null,null,null,null,null,null,null,null,null,null,null,null,null,null,null,null,null,null,null,null,null,null,null,null,null,null,null,null,null,null,null,"B000-0166",""]
["소파보수[도로복구]","B타입 개소별 평균 시공면적 24㎡ 초과, 시공량 할증계수 1.13",1,"a",{"$f":"G201+I201+K201","v":11549737},{"$f":"H201+J201+L201","v":11549737},{"$f":"일위대가!H1302","v":2191162},{"$f":"TRUNC(C201*G201,0)","v":2191162},{"$f":"일위대가!J1302","v":8498148},{"$f":"TRUNC(C201*I201,0)","v":8498148},{"$f":"일위대가!L1302","v":860427},{"$f":"TRUNC(C201*K201,0)","v":860427},3043,"제01305호표",3,null,null,null,null,null,null,null,null,null,null,null,null,null,null,null,null,null,null,null,null,null,null,null,null,null,null,null,null,null,null,null,null,null,null,null,null,null,null,null,null,null,null,null,null,null,null,null,null,null,null,null,null,null,null,null,null,null,null,null,null,null,null,null,null,null,null,null,null,null,null,null,null,null,null,null,null,null,null,null,null,null,null,null,null,null,null,null,null,null,null,null,null,null,null,null,null,null,null,null,null,null,"B000-0166",""]
["절삭 후 아스팔트 덧씌우기","t=5cm[이면도로 13a/일 기준]",1,"a",642528,642528,{"$f":"일위대가!H1386","v":151455},151455,{"$f":"일위대가!J1386","v":313869},313869,{"$f":"일위대가!L1386","v":177204},177204,3044,"제01381호표",3,null,null,null,null,null,null,null,null,null,null,null,null,null,null,null,null,null,null,null,null,null,null,null,null,null,null,null,null,null,null,null,null,null,null,null,null,null,null,null,null,null,null,null,null,null,null,null,null,null,null,null,null,null,null,null,null,null,null,null,null,null,null,null,null,null,null,null,null,null,null,null,null,null,null,null,null,null,null,null,null,null,null,null,null,null,null,null,null,null,null,null,null,null,null,null,null,null,null,null,null,null,"BB00-0510",""]
["절삭 후 아스팔트 덧씌우기","C타입, 시간당 225㎡",1,"HR",1012981,1012981,{"$f":"일위대가!H1436","v":190489},190489,{"$f":"일위대가!J1436","v":532270},532270,{"$f":"일위대가!L1436","v":290222},290222,3045,"제01420호표",3,null,null,null,null,null,null,null,null,null,null,null,null,null,null,null,null,null,null,null,null,null,null,null,null,null,null,null,null,null,null,null,null,null,null,null,null,null,null,null,null,null,null,null,null,null,null,null,null,null,null,null,null,null,null,null,null,null,null,null,null,null,null,null,null,null,null,null,null,null,null,null,null,null,null,null,null,null,null,null,null,null,null,null,null,null,null,null,null,null,null,null,null,null,null,null,null,null,null,null,null,null,"BB00-0510",""]
["절삭 후 아스팔트 덧씌우기","T=5cm",1,"a",487770,487770,{"$f":"일위대가!H1444","v":125515},125515,{"$f":"일위대가!J1444","v":234198},234198,{"$f":"일위대가!L1444","v":128057},128057,3046,"제01430호표",3,null,null,null,null,null,null,null,null,null,null,null,null,null,null,null,null,null,null,null,null,null,null,null,null,null,null,null,null,null,null,null,null,null,null,null,null,null,null,null,null,null,null,null,null,null,null,null,null,null,null,null,null,null,null,null,null,null,null,null,null,null,null,null,null,null,null,null,null,null,null,null,null,null,null,null,null,null,null,null,null,null,null,null,null,null,null,null,null,null,null,null,null,null,null,null,null,null,null,null,null,null,"BB00-0520",""]
["아스팔트포장도로[균열보수]","아스팔트가열장비이용",1,"m",43217,43217,{"$f":"일위대가!H1456","v":24604},24604,{"$f":"일위대가!J1456","v":14916},14916,{"$f":"일위대가!L1456","v":3697},3697,3047,"제01440호표",3,null,null,null,null,null,null,null,null,null,null,null,null,null,null,null,null,null,null,null,null,null,null,null,null,null,null,null,null,null,null,null,null,null,null,null,null,null,null,null,null,null,null,null,null,null,null,null,null,null,null,null,null,null,null,null,null,null,null,null,null,null,null,null,null,null,null,null,null,null,null,null,null,null,null,null,null,null,null,null,null,null,null,null,null,null,null,null,null,null,null,null,null,null,null,null,null,null,null,null,null,null,"B000-0231",""]
["아스팔트포장도로","측구앞복구",1,"a",6910143,6910143,{"$f":"일위대가!H1461","v":1135393},1135393,{"$f":"일위대가!J1461","v":5623572},5623572,{"$f":"일위대가!L1461","v":151178},151178,3048,"제01450호표",3,null,null,null,null,null,null,null,null,null,null,null,null,null,null,null,null,null,null,null,null,null,null,null,null,null,null,null,null,null,null,null,null,null,null,null,null,null,null,null,null,null,null,null,null,null,null,null,null,null,null,null,null,null,null,null,null,null,null,null,null,null,null,null,null,null,null,null,null,null,null,null,null,null,null,null,null,null,null,null,null,null,null,null,null,null,null,null,null,null,null,null,null,null,null,null,null,null,null,null,null,null,"B0357",""]
["자전거도로포장[인력,신설포장]","T=10Cm",1,"a",1602288,1602288,{"$f":"일위대가!H1562","v":1018607},1018607,{"$f":"일위대가!J1562","v":547865},547865,{"$f":"일위대가!L1562","v":35816},35816,3049,"제01600호표",3,null,null,null,null,null,null,null,null,null,null,null,null,null,null,null,null,null,null,null,null,null,null,null,null,null,null,null,null,null,null,null,null,null,null,null,null,null,null,null,null,null,null,null,null,null,null,null,null,null,null,null,null,null,null,null,null,null,null,null,null,null,null,null,null,null,null,null,null,null,null,null,null,null,null,null,null,null,null,null,null,null,null,null,null,null,null,null,null,null,null,null,null,null,null,null,null,null,null,null,null,null,"B000-0420",""]
["텍코팅","RSC-3[30ℓ/a], 인력식",1,"a",8215,8215,{"$f":"일위대가!H2063","v":190},190,{"$f":"일위대가!J2063","v":7957},7957,{"$f":"일위대가!L2063","v":68},68,3050,"제02190호표",3,null,null,null,null,null,null,null,null,null,null,null,null,null,null,null,null,null,null,null,null,null,null,null,null,null,null,null,null,null,null,null,null,null,null,null,null,null,null,null,null,null,null,null,null,null,null,null,null,null,null,null,null,null,null,null,null,null,null,null,null,null,null,null,null,null,null,null,null,null,null,null,null,null,null,null,null,null,null,null,null,null,null,null,null,null,null,null,null,null,null,null,null,null,null,null,null,null,null,null,null,null,"B000-0133",""]
["텍코팅","RSC-3[30ℓ/a], 기계식",1,"a",{"$f":"G209+I209+K209","v":3761},{"$f":"H209+J209+L209","v":3761},{"$f":"일위대가!H2068","v":710},{"$f":"TRUNC(C209*G209,0)","v":710},{"$f":"일위대가!J2068","v":2477},{"$f":"TRUNC(C209*I209,0)","v":2477},{"$f":"일위대가!L2068","v":574},{"$f":"TRUNC(C209*K209,0)","v":574},3051,"제02191호표",3,null,null,null,null,null,null,null,null,null,null,null,null,null,null,null,null,null,null,null,null,null,null,null,null,null,null,null,null,null,null,null,null,null,null,null,null,null,null,null,null,null,null,null,null,null,null,null,null,null,null,null,null,null,null,null,null,null,null,null,null,null,null,null,null,null,null,null,null,null,null,null,null,null,null,null,null,null,null,null,null,null,null,null,null,null,null,null,null,null,null,null,null,null,null,null,null,null,null,null,null,null,"B000-0133",""]
["프라임코팅","RSC-4, 인력식",1,"a",8215,8215,{"$f":"일위대가!H2073","v":190},190,{"$f":"일위대가!J2073","v":7957},7957,{"$f":"일위대가!L2073","v":68},68,3052,"제02200호표",3,null,null,null,null,null,null,null,null,null,null,null,null,null,null,null,null,null,null,null,null,null,null,null,null,null,null,null,null,null,null,null,null,null,null,null,null,null,null,null,null,null,null,null,null,null,null,null,null,null,null,null,null,null,null,null,null,null,null,null,null,null,null,null,null,null,null,null,null,null,null,null,null,null,null,null,null,null,null,null,null,null,null,null,null,null,null,null,null,null,null,null,null,null,null,null,null,null,null,null,null,null,"B000-0134",""]
["프라임코팅","RSC-4, 기계식",1,"a",{"$f":"G211+I211+K211","v":3761},{"$f":"H211+J211+L211","v":3761},{"$f":"일위대가!H2078","v":710},{"$f":"TRUNC(C211*G211,0)","v":710},{"$f":"일위대가!J2078","v":2477},{"$f":"TRUNC(C211*I211,0)","v":2477},{"$f":"일위대가!L2078","v":574},{"$f":"TRUNC(C211*K211,0)","v":574},3053,"제02201호표",3,null,null,null,null,null,null,null,null,null,null,null,null,null,null,null,null,null,null,null,null,null,null,null,null,null,null,null,null,null,null,null,null,null,null,null,null,null,null,null,null,null,null,null,null,null,null,null,null,null,null,null,null,null,null,null,null,null,null,null,null,null,null,null,null,null,null,null,null,null,null,null,null,null,null,null,null,null,null,null,null,null,null,null,null,null,null,null,null,null,null,null,null,null,null,null,null,null,null,null,null,null,"B000-0134",""]
["노면파쇄기","0.6M",1,"a",705891,705891,{"$f":"단가산출!CY381","v":"67,384"},67384,{"$f":"단가산출!CZ381","v":"340,761"},340761,{"$f":"단가산출!DA381","v":"297,746"},297746,3054,"산근00100호표",3,null,null,null,null,null,null,null,null,null,null,null,null,null,null,null,null,null,null,null,null,null,null,null,null,null,null,null,null,null,null,null,null,null,null,null,null,null,null,null,null,null,null,null,null,null,null,null,null,null,null,null,null,null,null,null,null,null,null,null,null,null,null,null,null,null,null,null,null,null,null,null,null,null,null,null,null,null,null,null,null,null,null,null,null,null,null,null,null,null,null,null,null,null,null,null,null,null,null,null,null,null,"SD133-0150",""]
["노면파쇄기","1M",1,"a",530425,530425,{"$f":"단가산출!CY410","v":"63,696"},63696,{"$f":"단가산출!CZ410","v":"134,239"},134239,{"$f":"단가산출!DA410","v":"332,490"},332490,3055,"산근00110호표",3,null,null,null,null,null,null,null,null,null,null,null,null,null,null,null,null,null,null,null,null,null,null,null,null,null,null,null,null,null,null,null,null,null,null,null,null,null,null,null,null,null,null,null,null,null,null,null,null,null,null,null,null,null,null,null,null,null,null,null,null,null,null,null,null,null,null,null,null,null,null,null,null,null,null,null,null,null,null,null,null,null,null,null,null,null,null,null,null,null,null,null,null,null,null,null,null,null,null,null,null,null,"S0134",""]
["노면파쇄기","2M",1,"a",124268,124268,{"$f":"단가산출!CY439","v":"36,225"},36225,{"$f":"단가산출!CZ439","v":"20,135"},20135,{"$f":"단가산출!DA439","v":"67,908"},67908,3056,"산근00120호표",3,null,null,null,null,null,null,null,null,null,null,null,null,null,null,null,null,null,null,null,null,null,null,null,null,null,null,null,null,null,null,null,null,null,null,null,null,null,null,null,null,null,null,null,null,null,null,null,null,null,null,null,null,null,null,null,null,null,null,null,null,null,null,null,null,null,null,null,null,null,null,null,null,null,null,null,null,null,null,null,null,null,null,null,null,null,null,null,null,null,null,null,null,null,null,null,null,null,null,null,null,null,"S0136",""]
["보조기층살수","T=30Cm[물탱크5500ℓ]",1,"a",14606,14606,{"$f":"단가산출!CY915","v":"2,208"},2208,{"$f":"단가산출!CZ915","v":"9,951"},9951,{"$f":"단가산출!DA915","v":"2,447"},2447,3057,"산근00220호표",3,null,null,null,null,null,null,null,null,null,null,null,null,null,null,null,null,null,null,null,null,null,null,null,null,null,null,null,null,null,null,null,null,null,null,null,null,null,null,null,null,null,null,null,null,null,null,null,null,null,null,null,null,null,null,null,null,null,null,null,null,null,null,null,null,null,null,null,null,null,null,null,null,null,null,null,null,null,null,null,null,null,null,null,null,null,null,null,null,null,null,null,null,null,null,null,null,null,null,null,null,null,"SKZ1300",""]
["보조기층전압","T=20Cm[롤러8-15T]",1,"a",44961,44961,{"$f":"단가산출!CY956","v":"9,985"},9985,{"$f":"단가산출!CZ956","v":"23,962"},23962,{"$f":"단가산출!DA956","v":"11,014"},11014,3058,"산근00230호표",3,null,null,null,null,null,null,null,null,null,null,null,null,null,null,null,null,null,null,null,null,null,null,null,null,null,null,null,null,null,null,null,null,null,null,null,null,null,null,null,null,null,null,null,null,null,null,null,null,null,null,null,null,null,null,null,null,null,null,null,null,null,null,null,null,null,null,null,null,null,null,null,null,null,null,null,null,null,null,null,null,null,null,null,null,null,null,null,null,null,null,null,null,null,null,null,null,null,null,null,null,null,"SKZ1100",""]
["보조기층전압","T=30Cm[롤러2.5-8T]",1,"a",67493,67493,{"$f":"단가산출!CY997","v":"14,991"},14991,{"$f":"단가산출!CZ997","v":"35,967"},35967,{"$f":"단가산출!DA997","v":"16,535"},16535,3059,"산근00240호표",3,null,null,null,null,null,null,null,null,null,null,null,null,null,null,null,null,null,null,null,null,null,null,null,null,null,null,null,null,null,null,null,null,null,null,null,null,null,null,null,null,null,null,null,null,null,null,null,null,null,null,null,null,null,null,null,null,null,null,null,null,null,null,null,null,null,null,null,null,null,null,null,null,null,null,null,null,null,null,null,null,null,null,null,null,null,null,null,null,null,null,null,null,null,null,null,null,null,null,null,null,null,"SKZ1200",""]
["혼합기층살수","T=20Cm,물탱크5500ℓ",1,"a",16752,16752,{"$f":"단가산출!CY5218","v":"2,781"},2781,{"$f":"단가산출!CZ5218","v":"11,214"},11214,{"$f":"단가산출!DA5218","v":"2,757"},2757,3060,"산근01190호표",3,null,null,null,null,null,null,null,null,null,null,null,null,null,null,null,null,null,null,null,null,null,null,null,null,null,null,null,null,null,null,null,null,null,null,null,null,null,null,null,null,null,null,null,null,null,null,null,null,null,null,null,null,null,null,null,null,null,null,null,null,null,null,null,null,null,null,null,null,null,null,null,null,null,null,null,null,null,null,null,null,null,null,null,null,null,null,null,null,null,null,null,null,null,null,null,null,null,null,null,null,null,"SKZ1600",""]
["혼합골재전압","T=10Cm,롤러0.7TON",1,"a",104788,104788,{"$f":"단가산출!CY5183","v":"6,893"},6893,{"$f":"단가산출!CZ5183","v":"94,253"},94253,{"$f":"단가산출!DA5183","v":"3,642"},3642,3061,"산근01180호표",3,null,null,null,null,null,null,null,null,null,null,null,null,null,null,null,null,null,null,null,null,null,null,null,null,null,null,null,null,null,null,null,null,null,null,null,null,null,null,null,null,null,null,null,null,null,null,null,null,null,null,null,null,null,null,null,null,null,null,null,null,null,null,null,null,null,null,null,null,null,null,null,null,null,null,null,null,null,null,null,null,null,null,null,null,null,null,null,null,null,null,null,null,null,null,null,null,null,null,null,null,null,"SKZ1800",""]
["혼합기층전압","T=20Cm,롤러8-15T",1,"a",44961,44961,{"$f":"단가산출!CY5257","v":"9,985"},9985,{"$f":"단가산출!CZ5257","v":"23,962"},23962,{"$f":"단가산출!DA5257","v":"11,014"},11014,3062,"산근01200호표",3,null,null,null,null,null,null,null,null,null,null,null,null,null,null,null,null,null,null,null,null,null,null,null,null,null,null,null,null,null,null,null,null,null,null,null,null,null,null,null,null,null,null,null,null,null,null,null,null,null,null,null,null,null,null,null,null,null,null,null,null,null,null,null,null,null,null,null,null,null,null,null,null,null,null,null,null,null,null,null,null,null,null,null,null,null,null,null,null,null,null,null,null,null,null,null,null,null,null,null,null,null,"SKZ1500",""]
["혼합기층전압","T=20Cm,롤러2.5-8T",1,"a",171910,171910,{"$f":"단가산출!CY5296","v":"12,486"},12486,{"$f":"단가산출!CZ5296","v":"142,389"},142389,{"$f":"단가산출!DA5296","v":"17,035"},17035,3063,"산근01210호표",3,null,null,null,null,null,null,null,null,null,null,null,null,null,null,null,null,null,null,null,null,null,null,null,null,null,null,null,null,null,null,null,null,null,null,null,null,null,null,null,null,null,null,null,null,null,null,null,null,null,null,null,null,null,null,null,null,null,null,null,null,null,null,null,null,null,null,null,null,null,null,null,null,null,null,null,null,null,null,null,null,null,null,null,null,null,null,null,null,null,null,null,null,null,null,null,null,null,null,null,null,null,"SKZ1700",""]
["혼합기층포설","T=20Cm,그레이더",1,"a",39677,39677,{"$f":"단가산출!CY5327","v":"10,122"},10122,{"$f":"단가산출!CZ5327","v":"15,275"},15275,{"$f":"단가산출!DA5327","v":"14,280"},14280,3064,"산근01220호표",3,null,null,null,null,null,null,null,null,null,null,null,null,null,null,null,null,null,null,null,null,null,null,null,null,null,null,null,null,null,null,null,null,null,null,null,null,null,null,null,null,null,null,null,null,null,null,null,null,null,null,null,null,null,null,null,null,null,null,null,null,null,null,null,null,null,null,null,null,null,null,null,null,null,null,null,null,null,null,null,null,null,null,null,null,null,null,null,null,null,null,null,null,null,null,null,null,null,null,null,null,null,"SKZ1400",""]
["아스콘전압[#467]","t=7.5Cm",1,"a",{"$f":"G223+I223+K223","v":62721},{"$f":"H223+J223+L223","v":62721},{"$f":"단가산출!CY1213","v":"11,401"},{"$f":"TRUNC(C223*G223,0)","v":11401},{"$f":"단가산출!CZ1213","v":"40,719"},{"$f":"TRUNC(C223*I223,0)","v":40719},{"$f":"단가산출!DA1213","v":"10,601"},{"$f":"TRUNC(C223*K223,0)","v":10601},3065,"산근00290호표",3,null,null,null,null,null,null,null,null,null,null,null,null,null,null,null,null,null,null,null,null,null,null,null,null,null,null,null,null,null,null,null,null,null,null,null,null,null,null,null,null,null,null,null,null,null,null,null,null,null,null,null,null,null,null,null,null,null,null,null,null,null,null,null,null,null,null,null,null,null,null,null,null,null,null,null,null,null,null,null,null,null,null,null,null,null,null,null,null,null,null,null,null,null,null,null,null,null,null,null,null,null,"SKZ2300",""]
["아스콘전압[#467]","콤팩터1.5T[t=7.5Cm]",1,"a",22894,22894,{"$f":"단가산출!CY1238","v":"1,332"},1332,{"$f":"단가산출!CZ1238","v":"21,163"},21163,{"$f":"단가산출!DA1238","v":"399"},399,3066,"산근00300호표",3,null,null,null,null,null,null,null,null,null,null,null,null,null,null,null,null,null,null,null,null,null,null,null,null,null,null,null,null,null,null,null,null,null,null,null,null,null,null,null,null,null,null,null,null,null,null,null,null,null,null,null,null,null,null,null,null,null,null,null,null,null,null,null,null,null,null,null,null,null,null,null,null,null,null,null,null,null,null,null,null,null,null,null,null,null,null,null,null,null,null,null,null,null,null,null,null,null,null,null,null,null,"SKZ2600",""]
["아스콘전압[#78]","롤러8-15T[t=5Cm]",1,"a",49025,49025,{"$f":"단가산출!CY1303","v":"8,921"},8921,{"$f":"단가산출!CZ1303","v":"31,322"},31322,{"$f":"단가산출!DA1303","v":"8,782"},8782,3067,"산근00310호표",3,null,null,null,null,null,null,null,null,null,null,null,null,null,null,null,null,null,null,null,null,null,null,null,null,null,null,null,null,null,null,null,null,null,null,null,null,null,null,null,null,null,null,null,null,null,null,null,null,null,null,null,null,null,null,null,null,null,null,null,null,null,null,null,null,null,null,null,null,null,null,null,null,null,null,null,null,null,null,null,null,null,null,null,null,null,null,null,null,null,null,null,null,null,null,null,null,null,null,null,null,null,"SKZ2000",""]
["아스콘전압[#78]","콤팩터1.5T[t=5Cm]",1,"a",17170,17170,{"$f":"단가산출!CY1328","v":"999"},999,{"$f":"단가산출!CZ1328","v":"15,872"},15872,{"$f":"단가산출!DA1328","v":"299"},299,3068,"산근00320호표",3,null,null,null,null,null,null,null,null,null,null,null,null,null,null,null,null,null,null,null,null,null,null,null,null,null,null,null,null,null,null,null,null,null,null,null,null,null,null,null,null,null,null,null,null,null,null,null,null,null,null,null,null,null,null,null,null,null,null,null,null,null,null,null,null,null,null,null,null,null,null,null,null,null,null,null,null,null,null,null,null,null,null,null,null,null,null,null,null,null,null,null,null,null,null,null,null,null,null,null,null,null,"SKZ2500",""]
["아스콘포설[#467]","피니셔[t=7.5Cm]",1,"a",25794,25794,{"$f":"단가산출!CY1357","v":"4,197"},4197,{"$f":"단가산출!CZ1357","v":"10,254"},10254,{"$f":"단가산출!DA1357","v":"11,343"},11343,3069,"산근00330호표",3,null,null,null,null,null,null,null,null,null,null,null,null,null,null,null,null,null,null,null,null,null,null,null,null,null,null,null,null,null,null,null,null,null,null,null,null,null,null,null,null,null,null,null,null,null,null,null,null,null,null,null,null,null,null,null,null,null,null,null,null,null,null,null,null,null,null,null,null,null,null,null,null,null,null,null,null,null,null,null,null,null,null,null,null,null,null,null,null,null,null,null,null,null,null,null,null,null,null,null,null,null,"SKZ2200",""]
["아스콘포설[#78]","피니셔[t=5Cm]",1,"a",25794,25794,{"$f":"단가산출!CY1386","v":"4,197"},4197,{"$f":"단가산출!CZ1386","v":"10,254"},10254,{"$f":"단가산출!DA1386","v":"11,343"},11343,3070,"산근00340호표",3,null,null,null,null,null,null,null,null,null,null,null,null,null,null,null,null,null,null,null,null,null,null,null,null,null,null,null,null,null,null,null,null,null,null,null,null,null,null,null,null,null,null,null,null,null,null,null,null,null,null,null,null,null,null,null,null,null,null,null,null,null,null,null,null,null,null,null,null,null,null,null,null,null,null,null,null,null,null,null,null,null,null,null,null,null,null,null,null,null,null,null,null,null,null,null,null,null,null,null,null,null,"SKZ1900",""]
["아스팔트 가열","적외선",1,"M",5154,5154,{"$f":"단가산출!CY1427","v":"2,874"},2874,{"$f":"단가산출!CZ1427","v":"1,523"},1523,{"$f":"단가산출!DA1427","v":"757"},757,3071,"산근00350호표",3,null,null,null,null,null,null,null,null,null,null,null,null,null,null,null,null,null,null,null,null,null,null,null,null,null,null,null,null,null,null,null,null,null,null,null,null,null,null,null,null,null,null,null,null,null,null,null,null,null,null,null,null,null,null,null,null,null,null,null,null,null,null,null,null,null,null,null,null,null,null,null,null,null,null,null,null,null,null,null,null,null,null,null,null,null,null,null,null,null,null,null,null,null,null,null,null,null,null,null,null,null,"S000-0180",""]
["아스팔트 다짐","진동로라",1,"M",1054,1054,{"$f":"단가산출!CY1454","v":"69"},69,{"$f":"단가산출!CZ1454","v":"949"},949,{"$f":"단가산출!DA1454","v":"36"},36,3072,"산근00360호표",3,null,null,null,null,null,null,null,null,null,null,null,null,null,null,null,null,null,null,null,null,null,null,null,null,null,null,null,null,null,null,null,null,null,null,null,null,null,null,null,null,null,null,null,null,null,null,null,null,null,null,null,null,null,null,null,null,null,null,null,null,null,null,null,null,null,null,null,null,null,null,null,null,null,null,null,null,null,null,null,null,null,null,null,null,null,null,null,null,null,null,null,null,null,null,null,null,null,null,null,null,null,"S000-0190",""]
["아스팔트[유제] 운반","서빙고역",1,"L",12,12,{"$f":"단가산출!CY1483","v":"0"},0,{"$f":"단가산출!CZ1483","v":"0"},0,{"$f":"단가산출!DA1483","v":"12"},12,3073,"산근00370호표",3,null,null,null,null,null,null,null,null,null,null,null,null,null,null,null,null,null,null,null,null,null,null,null,null,null,null,null,null,null,null,null,null,null,null,null,null,null,null,null,null,null,null,null,null,null,null,null,null,null,null,null,null,null,null,null,null,null,null,null,null,null,null,null,null,null,null,null,null,null,null,null,null,null,null,null,null,null,null,null,null,null,null,null,null,null,null,null,null,null,null,null,null,null,null,null,null,null,null,null,null,null,"SQC1000",""]
["아스팔트코팅","수동식",1,"M",85,85,{"$f":"단가산출!CY1514","v":"56"},56,{"$f":"단가산출!CZ1514","v":"29"},29,{"$f":"단가산출!DA1514","v":"0"},0,3074,"산근00380호표",3,null,null,null,null,null,null,null,null,null,null,null,null,null,null,null,null,null,null,null,null,null,null,null,null,null,null,null,null,null,null,null,null,null,null,null,null,null,null,null,null,null,null,null,null,null,null,null,null,null,null,null,null,null,null,null,null,null,null,null,null,null,null,null,null,null,null,null,null,null,null,null,null,null,null,null,null,null,null,null,null,null,null,null,null,null,null,null,null,null,null,null,null,null,null,null,null,null,null,null,null,null,"S000-0160",""]
["아스팔트포설","인력",1,"M",1842,1842,{"$f":"단가산출!CY1533","v":"0"},0,{"$f":"단가산출!CZ1533","v":"1,842"},1842,{"$f":"단가산출!DA1533","v":"0"},0,3075,"산근00390호표",3,null,null,null,null,null,null,null,null,null,null,null,null,null,null,null,null,null,null,null,null,null,null,null,null,null,null,null,null,null,null,null,null,null,null,null,null,null,null,null,null,null,null,null,null,null,null,null,null,null,null,null,null,null,null,null,null,null,null,null,null,null,null,null,null,null,null,null,null,null,null,null,null,null,null,null,null,null,null,null,null,null,null,null,null,null,null,null,null,null,null,null,null,null,null,null,null,null,null,null,null,null,"S000-0170",""]
["중기운반","포장장비",1,"식",235668,235668,{"$f":"단가산출!CY2524","v":"0"},0,{"$f":"단가산출!CZ2524","v":"0"},0,{"$f":"단가산출!DA2524","v":"235,668"},235668,3076,"산근00620호표",3,null,null,null,null,null,null,null,null,null,null,null,null,null,null,null,null,null,null,null,null,null,null,null,null,null,null,null,null,null,null,null,null,null,null,null,null,null,null,null,null,null,null,null,null,null,null,null,null,null,null,null,null,null,null,null,null,null,null,null,null,null,null,null,null,null,null,null,null,null,null,null,null,null,null,null,null,null,null,null,null,null,null,null,null,null,null,null,null,null,null,null,null,null,null,null,null,null,null,null,null,null,"S000-0230",""]
["포장장비운반","이면도로 L=10km",1,"식",{"$f":"G235+I235+K235","v":1129708},{"$f":"H235+J235+L235","v":1129708},{"$f":"단가산출!CY5732","v":"0"},{"$f":"TRUNC(C235*G235,0)","v":0},{"$f":"단가산출!CZ5732","v":"0"},{"$f":"TRUNC(C235*I235,0)","v":0},{"$f":"단가산출!DA5732","v":"1,129,708"},{"$f":"TRUNC(C235*K235,0)","v":1129708},3077,"산근01350호표",3,null,null,null,null,null,null,null,null,null,null,null,null,null,null,null,null,null,null,null,null,null,null,null,null,null,null,null,null,null,null,null,null,null,null,null,null,null,null,null,null,null,null,null,null,null,null,null,null,null,null,null,null,null,null,null,null,null,null,null,null,null,null,null,null,null,null,null,null,null,null,null,null,null,null,null,null,null,null,null,null,null,null,null,null,null,null,null,null,null,null,null,null,null,null,null,null,null,null,null,null,null,"S000-0230",""]
["포장장비운반","이면도로 구간이동 L=500m",1,"식",226402,226402,{"$f":"단가산출!CY5803","v":"0"},0,{"$f":"단가산출!CZ5803","v":"0"},0,{"$f":"단가산출!DA5803","v":"226,402"},226402,3078,"산근01360호표",3,null,null,null,null,null,null,null,null,null,null,null,null,null,null,null,null,null,null,null,null,null,null,null,null,null,null,null,null,null,null,null,null,null,null,null,null,null,null,null,null,null,null,null,null,null,null,null,null,null,null,null,null,null,null,null,null,null,null,null,null,null,null,null,null,null,null,null,null,null,null,null,null,null,null,null,null,null,null,null,null,null,null,null,null,null,null,null,null,null,null,null,null,null,null,null,null,null,null,null,null,null,"S000-0230",""]
["포장장비운반","이면도로 구간이동 L=1000m",1,"식",245157,245157,{"$f":"단가산출!CY5874","v":"1,811"},1811,{"$f":"단가산출!CZ5874","v":"12,363"},12363,{"$f":"단가산출!DA5874","v":"230,983"},230983,3079,"산근01370호표",3,null,null,null,null,null,null,null,null,null,null,null,null,null,null,null,null,null,null,null,null,null,null,null,null,null,null,null,null,null,null,null,null,null,null,null,null,null,null,null,null,null,null,null,null,null,null,null,null,null,null,null,null,null,null,null,null,null,null,null,null,null,null,null,null,null,null,null,null,null,null,null,null,null,null,null,null,null,null,null,null,null,null,null,null,null,null,null,null,null,null,null,null,null,null,null,null,null,null,null,null,null,"S000-0230",""]
["보도용 블록 철거","인력",1,"a",359437,359437,{"$f":"일위대가!H850","v":13877},13877,{"$f":"일위대가!J850","v":329901},329901,{"$f":"일위대가!L850","v":15659},15659,3080,"제01040호표",3,null,null,null,null,null,null,null,null,null,null,null,null,null,null,null,null,null,null,null,null,null,null,null,null,null,null,null,null,null,null,null,null,null,null,null,null,null,null,null,null,null,null,null,null,null,null,null,null,null,null,null,null,null,null,null,null,null,null,null,null,null,null,null,null,null,null,null,null,null,null,null,null,null,null,null,null,null,null,null,null,null,null,null,null,null,null,null,null,null,null,null,null,null,null,null,null,null,null,null,null,null,"BDB2321",""]
["보도용 블록 철거","장비사용",1,"a",{"$f":"G239+I239+K239","v":276480},{"$f":"H239+J239+L239","v":276480},{"$f":"일위대가!H857","v":34304},34304,{"$f":"일위대가!J857","v":199608},199608,{"$f":"일위대가!L857","v":42568},42568,3081,"제01041호표",3]
["보도블록 걷기[재사용]","30*30*6cm",1,"a",128313,128313,{"$f":"일위대가!H886","v":3737},3737,{"$f":"일위대가!J886","v":124576},124576,{"$f":"일위대가!L886","v":0},0,3082,"제01070호표",3,null,null,null,null,null,null,null,null,null,null,null,null,null,null,null,null,null,null,null,null,null,null,null,null,null,null,null,null,null,null,null,null,null,null,null,null,null,null,null,null,null,null,null,null,null,null,null,null,null,null,null,null,null,null,null,null,null,null,null,null,null,null,null,null,null,null,null,null,null,null,null,null,null,null,null,null,null,null,null,null,null,null,null,null,null,null,null,null,null,null,null,null,null,null,null,null,null,null,null,null,null,"B000-0410",""]
["포장모래깔기","인력",1,"㎥",87566,87566,{"$f":"일위대가!H2192","v":30000},30000,{"$f":"일위대가!J2192","v":56438},56438,{"$f":"일위대가!L2192","v":1128},1128,3083,"제02340호표",3,null,null,null,null,null,null,null,null,null,null,null,null,null,null,null,null,null,null,null,null,null,null,null,null,null,null,null,null,null,null,null,null,null,null,null,null,null,null,null,null,null,null,null,null,null,null,null,null,null,null,null,null,null,null,null,null,null,null,null,null,null,null,null,null,null,null,null,null,null,null,null,null,null,null,null,null,null,null,null,null,null,null,null,null,null,null,null,null,null,null,null,null,null,null,null,null,null,null,null,null,null,"B0139",""]
["소형고압브럭 운반","t=60㎜",1,"㎡",1105,1105,{"$f":"단가산출!CY1060","v":"0"},0,{"$f":"단가산출!CZ1060","v":"0"},0,{"$f":"단가산출!DA1060","v":"1,105"},1105,3084,"산근00260호표",3,null,null,null,null,null,null,null,null,null,null,null,null,null,null,null,null,null,null,null,null,null,null,null,null,null,null,null,null,null,null,null,null,null,null,null,null,null,null,null,null,null,null,null,null,null,null,null,null,null,null,null,null,null,null,null,null,null,null,null,null,null,null,null,null,null,null,null,null,null,null,null,null,null,null,null,null,null,null,null,null,null,null,null,null,null,null,null,null,null,null,null,null,null,null,null,null,null,null,null,null,null,"S005",""]
["소형고압브럭 전압비","1.5톤",1,"회",11446,11446,{"$f":"단가산출!CY1087","v":"666"},666,{"$f":"단가산출!CZ1087","v":"10,581"},10581,{"$f":"단가산출!DA1087","v":"199"},199,3085,"산근00270호표",3,null,null,null,null,null,null,null,null,null,null,null,null,null,null,null,null,null,null,null,null,null,null,null,null,null,null,null,null,null,null,null,null,null,null,null,null,null,null,null,null,null,null,null,null,null,null,null,null,null,null,null,null,null,null,null,null,null,null,null,null,null,null,null,null,null,null,null,null,null,null,null,null,null,null,null,null,null,null,null,null,null,null,null,null,null,null,null,null,null,null,null,null,null,null,null,null,null,null,null,null,null,"S0116",""]
["보도블럭포장[보도용]","공통",1,"HR",280687,280687,{"$f":"일위대가!H865","v":18022},18022,{"$f":"일위대가!J865","v":241408},241408,{"$f":"일위대가!L865","v":21257},21257,3086,"제01050호표",3,null,null,null,null,null,null,null,null,null,null,null,null,null,null,null,null,null,null,null,null,null,null,null,null,null,null,null,null,null,null,null,null,null,null,null,null,null,null,null,null,null,null,null,null,null,null,null,null,null,null,null,null,null,null,null,null,null,null,null,null,null,null,null,null,null,null,null,null,null,null,null,null,null,null,null,null,null,null,null,null,null,null,null,null,null,null,null,null,null,null,null,null,null,null,null,null,null,null,null,null,null,"BB00-0270",""]
["기층블록포장","공통, 지장물5%미만",1,"a",540210,540210,{"$f":"일위대가!H880","v":27156},27156,{"$f":"일위대가!J880","v":469983},469983,{"$f":"일위대가!L880","v":43071},43071,3087,"제01060호표",3,null,null,null,null,null,null,null,null,null,null,null,null,null,null,null,null,null,null,null,null,null,null,null,null,null,null,null,null,null,null,null,null,null,null,null,null,null,null,null,null,null,null,null,null,null,null,null,null,null,null,null,null,null,null,null,null,null,null,null,null,null,null,null,null,null,null,null,null,null,null,null,null,null,null,null,null,null,null,null,null,null,null,null,null,null,null,null,null,null,null,null,null,null,null,null,null,null,null,null,null,null,"B000-0190-1",""]
["보도블록포장[자재재활용]","30*30*6Cm,지장물 5%미만",1,"a",965997,965997,{"$f":"일위대가!H893","v":102295},102295,{"$f":"일위대가!J893","v":772505},772505,{"$f":"일위대가!L893","v":91197},91197,3088,"제01080호표",3,null,null,null,null,null,null,null,null,null,null,null,null,null,null,null,null,null,null,null,null,null,null,null,null,null,null,null,null,null,null,null,null,null,null,null,null,null,null,null,null,null,null,null,null,null,null,null,null,null,null,null,null,null,null,null,null,null,null,null,null,null,null,null,null,null,null,null,null,null,null,null,null,null,null,null,null,null,null,null,null,null,null,null,null,null,null,null,null,null,null,null,null,null,null,null,null,null,null,null,null,null,"BKE2000",""]
["보도블록포장[자재재활용]","30*30*6Cm,지장물 5%이상",1,"a",{"$f":"G247+I247+K247","v":965997},{"$f":"H247+J247+L247","v":965997},{"$f":"일위대가!H900","v":102295},{"$f":"TRUNC(C247*G247,0)","v":102295},{"$f":"일위대가!J900","v":772505},{"$f":"TRUNC(C247*I247,0)","v":772505},{"$f":"일위대가!L900","v":91197},{"$f":"TRUNC(C247*K247,0)","v":91197},3089,"제01090호표",3,null,null,null,null,null,null,null,null,null,null,null,null,null,null,null,null,null,null,null,null,null,null,null,null,null,null,null,null,null,null,null,null,null,null,null,null,null,null,null,null,null,null,null,null,null,null,null,null,null,null,null,null,null,null,null,null,null,null,null,null,null,null,null,null,null,null,null,null,null,null,null,null,null,null,null,null,null,null,null,null,null,null,null,null,null,null,null,null,null,null,null,null,null,null,null,null,null,null,null,null,null,"BKE2000",""]
["보도블록포장[자재재활용]","30*30*6Cm,띠복구,소규모",1,"a",1352250,1352250,{"$f":"일위대가!H908","v":102295},102295,{"$f":"일위대가!J908","v":1158758},1158758,{"$f":"일위대가!L908","v":91197},91197,3090,"제01100호표",3,null,null,null,null,null,null,null,null,null,null,null,null,null,null,null,null,null,null,null,null,null,null,null,null,null,null,null,null,null,null,null,null,null,null,null,null,null,null,null,null,null,null,null,null,null,null,null,null,null,null,null,null,null,null,null,null,null,null,null,null,null,null,null,null,null,null,null,null,null,null,null,null,null,null,null,null,null,null,null,null,null,null,null,null,null,null,null,null,null,null,null,null,null,null,null,null,null,null,null,null,null,"BKE2000-1-1",""]
["보도블록포장[소형고압,콘크리트블록]","T=6~8Cm",1,"a",1091997,1091997,{"$f":"일위대가!H932","v":228295},228295,{"$f":"일위대가!J932","v":772505},772505,{"$f":"일위대가!L932","v":91197},91197,3091,"제01110호표",3,null,null,null,null,null,null,null,null,null,null,null,null,null,null,null,null,null,null,null,null,null,null,null,null,null,null,null,null,null,null,null,null,null,null,null,null,null,null,null,null,null,null,null,null,null,null,null,null,null,null,null,null,null,null,null,null,null,null,null,null,null,null,null,null,null,null,null,null,null,null,null,null,null,null,null,null,null,null,null,null,null,null,null,null,null,null,null,null,null,null,null,null,null,null,null,null,null,null,null,null,null,"BKE3000",""]
["보도블록포장 재설치[소형고압,콘크리트블록]","T=6~8Cm",1,"a",{"$f":"G250+I250+K250","v":1299580},{"$f":"H250+J250+L250","v":1299580},{"$f":"일위대가!H940","v":233304},233304,{"$f":"일위대가!J940","v":968234},968234,{"$f":"일위대가!L940","v":98042},98042,3092,"제01111호표",3]
["보도블록포장[투수콘크리트블록]","20*20*6~8Cm",1,"a",1255216,1255216,{"$f":"일위대가!H949","v":363295},363295,{"$f":"일위대가!J949","v":800724},800724,{"$f":"일위대가!L949","v":91197},91197,3093,"제01120호표",3,null,null,null,null,null,null,null,null,null,null,null,null,null,null,null,null,null,null,null,null,null,null,null,null,null,null,null,null,null,null,null,null,null,null,null,null,null,null,null,null,null,null,null,null,null,null,null,null,null,null,null,null,null,null,null,null,null,null,null,null,null,null,null,null,null,null,null,null,null,null,null,null,null,null,null,null,null,null,null,null,null,null,null,null,null,null,null,null,null,null,null,null,null,null,null,null,null,null,null,null,null,"B000-0430",""]
["보도블록포장 재설치[투수콘크리트블록]","20*20*6~8Cm",1,"a",{"$f":"G252+I252+K252","v":1462799},{"$f":"H252+J252+L252","v":1462799},{"$f":"일위대가!H958","v":368304},368304,{"$f":"일위대가!J958","v":996453},996453,{"$f":"일위대가!L958","v":98042},98042,3094,"제01121호표",3]
["보도블록포장[소형고압]","T=6~8Cm,띠복구,소규모",1,"a",1478250,1478250,{"$f":"일위대가!H967","v":228295},228295,{"$f":"일위대가!J967","v":1158758},1158758,{"$f":"일위대가!L967","v":91197},91197,3095,"제01130호표",3,null,null,null,null,null,null,null,null,null,null,null,null,null,null,null,null,null,null,null,null,null,null,null,null,null,null,null,null,null,null,null,null,null,null,null,null,null,null,null,null,null,null,null,null,null,null,null,null,null,null,null,null,null,null,null,null,null,null,null,null,null,null,null,null,null,null,null,null,null,null,null,null,null,null,null,null,null,null,null,null,null,null,null,null,null,null,null,null,null,null,null,null,null,null,null,null,null,null,null,null,null,"BKE3000-1",""]
["보도블럭포장[화강]","와이어매쉬,몰탈포함",1,"a",9507416,9507416,{"$f":"일위대가!H976","v":576276},576276,{"$f":"일위대가!J976","v":8871470},8871470,{"$f":"일위대가!L976","v":59670},59670,3096,"제01140호표",3,null,null,null,null,null,null,null,null,null,null,null,null,null,null,null,null,null,null,null,null,null,null,null,null,null,null,null,null,null,null,null,null,null,null,null,null,null,null,null,null,null,null,null,null,null,null,null,null,null,null,null,null,null,null,null,null,null,null,null,null,null,null,null,null,null,null,null,null,null,null,null,null,null,null,null,null,null,null,null,null,null,null,null,null,null,null,null,null,null,null,null,null,null,null,null,null,null,null,null,null,null,"B0149",""]
["보도소파보수[화강판석]","개소당 2㎡ 이하",1,"a",{"$f":"G255+I255+K255","v":18180105},{"$f":"H255+J255+L255","v":18180105},{"$f":"일위대가!H990","v":1210596},{"$f":"TRUNC(C255*G255,0)","v":1210596},{"$f":"일위대가!J990","v":15967919},{"$f":"TRUNC(C255*I255,0)","v":15967919},{"$f":"일위대가!L990","v":1001590},{"$f":"TRUNC(C255*K255,0)","v":1001590},3097,"제01142호표",3,null,null,null,null,null,null,null,null,null,null,null,null,null,null,null,null,null,null,null,null,null,null,null,null,null,null,null,null,null,null,null,null,null,null,null,null,null,null,null,null,null,null,null,null,null,null,null,null,null,null,null,null,null,null,null,null,null,null,null,null,null,null,null,null,null,null,null,null,null,null,null,null,null,null,null,null,null,null,null,null,null,null,null,null,null,null,null,null,null,null,null,null,null,null,null,null,null,null,null,null,null,"B0149",""]
["보도소파보수[소형고압,콘크리트블록]","공통",1,"HR",{"$f":"G256+I256+K256","v":227628},{"$f":"H256+J256+L256","v":227628},{"$f":"일위대가!H999","v":22062},{"$f":"TRUNC(C256*G256,0)","v":22062},{"$f":"일위대가!J999","v":184050},{"$f":"TRUNC(C256*I256,0)","v":184050},{"$f":"일위대가!L999","v":21516},{"$f":"TRUNC(C256*K256,0)","v":21516},3098,"제01143호표",3,null,null,null,null,null,null,null,null,null,null,null,null,null,null,null,null,null,null,null,null,null,null,null,null,null,null,null,null,null,null,null,null,null,null,null,null,null,null,null,null,null,null,null,null,null,null,null,null,null,null,null,null,null,null,null,null,null,null,null,null,null,null,null,null,null,null,null,null,null,null,null,null,null,null,null,null,null,null,null,null,null,null,null,null,null,null,null,null,null,null,null,null,null,null,null,null,null,null,null,null,null,"B0149",""]
["보도소파보수[소형고압,콘크리트블록]","(개소별 평균 시공면적 10㎡ 이하)",1,"a",{"$f":"G257+I257+K257","v":2759187},{"$f":"H257+J257+L257","v":2759187},{"$f":"일위대가!H1007","v":378653},378653,{"$f":"일위대가!J1007","v":2057679},2057679,{"$f":"일위대가!L1007","v":322855},322855,3099,"제01144호표",3]
["보도소파보수[소형고압,콘크리트블록]","(개소별 평균 시공면적 30㎡ 이하)",1,"a",2141163,2141163,{"$f":"일위대가!H1015","v":320630},320630,{"$f":"일위대가!J1015","v":1573627},1573627,{"$f":"일위대가!L1015","v":246906},246906,3100,"제01145호표",3]
["보도소파보수[소형고압,콘크리트블록]","(개소별 평균 시공면적 60㎡ 이하)",1,"a",1929672,1929672,{"$f":"일위대가!H1023","v":300774},300774,{"$f":"일위대가!J1023","v":1407982},1407982,{"$f":"일위대가!L1023","v":220916},220916,3101,"제01146호표",3]
["보도소파보수[소형고압,콘크리트블록]","(개소별 평균 시공면적 110㎡ 이하)",1,"a",1840375,1840375,{"$f":"일위대가!H1031","v":292390},292390,{"$f":"일위대가!J1031","v":1338043},1338043,{"$f":"일위대가!L1031","v":209942},209942,3102,"제01147호표",3]
["보도소파보수[소형고압,콘크리트블록]","(개소별 평균 시공면적 110㎡ 초과)",1,"a",1758130,1758130,{"$f":"일위대가!H1039","v":284669},284669,{"$f":"일위대가!J1039","v":1273626},1273626,{"$f":"일위대가!L1039","v":199835},199835,3103,"제01148호표",3]
["보도블럭포장[점자및유도]","T=6cm",1,"a",4091997,4091997,{"$f":"일위대가!H1047","v":3228295},3228295,{"$f":"일위대가!J1047","v":772505},772505,{"$f":"일위대가!L1047","v":91197},91197,3104,"제01150호표",3,null,null,null,null,null,null,null,null,null,null,null,null,null,null,null,null,null,null,null,null,null,null,null,null,null,null,null,null,null,null,null,null,null,null,null,null,null,null,null,null,null,null,null,null,null,null,null,null,null,null,null,null,null,null,null,null,null,null,null,null,null,null,null,null,null,null,null,null,null,null,null,null,null,null,null,null,null,null,null,null,null,null,null,null,null,null,null,null,null,null,null,null,null,null,null,null,null,null,null,null,null,"B0356",""]
["보도블럭포장 재설치[점자및유도]","T=6cm",1,"a",{"$f":"G263+I263+K263","v":4448080},{"$f":"H263+J263+L263","v":4448080},{"$f":"일위대가!H1055","v":3261669},3261669,{"$f":"일위대가!J1055","v":1075816},1075816,{"$f":"일위대가!L1055","v":110595},110595,3105,"제01151호표",3]
["보도용 블록 재설치","공통",1,"HR",{"$f":"G264+I264+K264","v":313570},{"$f":"H264+J264+L264","v":313570},{"$f":"일위대가!H874","v":22761},{"$f":"TRUNC(C264*G264,0)","v":22761},{"$f":"일위대가!J874","v":268954},{"$f":"TRUNC(C264*I264,0)","v":268954},{"$f":"일위대가!L874","v":21855},{"$f":"TRUNC(C264*K264,0)","v":21855},3108,"제01053호표",3]
["보도블록 줄눈 모래채움 및 포장다짐","",1,"a",325560,325560,{"$f":"일위대가!H1061","v":224900},224900,{"$f":"일위대가!J1061","v":100460},100460,{"$f":"일위대가!L1061","v":200},200,3109,"제01160호표",3,null,null,null,null,null,null,null,null,null,null,null,null,null,null,null,null,null,null,null,null,null,null,null,null,null,null,null,null,null,null,null,null,null,null,null,null,null,null,null,null,null,null,null,null,null,null,null,null,null,null,null,null,null,null,null,null,null,null,null,null,null,null,null,null,null,null,null,null,null,null,null,null,null,null,null,null,null,null,null,null,null,null,null,null,null,null,null,null,null,null,null,null,null,null,null,null,null,null,null,null,null,"B000-0150-11",""]
["상부 부직포 시공[매트부설]","매트부설",1,"a",163219,163219,{"$f":"일위대가!H1066","v":135000},135000,{"$f":"일위대가!J1066","v":28219},28219,{"$f":"일위대가!L1066","v":0},0,3110,"제01170호표",3,null,null,null,null,null,null,null,null,null,null,null,null,null,null,null,null,null,null,null,null,null,null,null,null,null,null,null,null,null,null,null,null,null,null,null,null,null,null,null,null,null,null,null,null,null,null,null,null,null,null,null,null,null,null,null,null,null,null,null,null,null,null,null,null,null,null,null,null,null,null,null,null,null,null,null,null,null,null,null,null,null,null,null,null,null,null,null,null,null,null,null,null,null,null,null,null,null,null,null,null,null,"B000-0210-1",""]
["wovon geotextile[하부, 매트부설]","하부",1,"a",330619,330619,{"$f":"일위대가!H1071","v":302400},302400,{"$f":"일위대가!J1071","v":28219},28219,{"$f":"일위대가!L1071","v":0},0,3111,"제01180호표",3,null,null,null,null,null,null,null,null,null,null,null,null,null,null,null,null,null,null,null,null,null,null,null,null,null,null,null,null,null,null,null,null,null,null,null,null,null,null,null,null,null,null,null,null,null,null,null,null,null,null,null,null,null,null,null,null,null,null,null,null,null,null,null,null,null,null,null,null,null,null,null,null,null,null,null,null,null,null,null,null,null,null,null,null,null,null,null,null,null,null,null,null,null,null,null,null,null,null,null,null,null,"B000-0220-1",""]
["기층블록 시공 차량진출입시설 포장[198*162*80]","간선[T=6~8cm,지장물5%미만]",1,"a",2115042,2115042,{"$f":"일위대가!H1083","v":659061},659061,{"$f":"일위대가!J1083","v":1341040},1341040,{"$f":"일위대가!L1083","v":114941},114941,3112,"제01190호표",3,null,null,null,null,null,null,null,null,null,null,null,null,null,null,null,null,null,null,null,null,null,null,null,null,null,null,null,null,null,null,null,null,null,null,null,null,null,null,null,null,null,null,null,null,null,null,null,null,null,null,null,null,null,null,null,null,null,null,null,null,null,null,null,null,null,null,null,null,null,null,null,null,null,null,null,null,null,null,null,null,null,null,null,null,null,null,null,null,null,null,null,null,null,null,null,null,null,null,null,null,null,"B000-0230-1",""]
["콘크리트포장[레미콘]","T=10cm",1,"a",289386,289386,{"$f":"일위대가!H1928","v":140478},140478,{"$f":"일위대가!J1928","v":148908},148908,{"$f":"일위대가!L1928","v":0},0,3113,"제02020호표",3,null,null,null,null,null,null,null,null,null,null,null,null,null,null,null,null,null,null,null,null,null,null,null,null,null,null,null,null,null,null,null,null,null,null,null,null,null,null,null,null,null,null,null,null,null,null,null,null,null,null,null,null,null,null,null,null,null,null,null,null,null,null,null,null,null,null,null,null,null,null,null,null,null,null,null,null,null,null,null,null,null,null,null,null,null,null,null,null,null,null,null,null,null,null,null,null,null,null,null,null,null,"BKC1200",""]
["콘크리트포장[레미콘]","T=15cm",1,"a",343526,343526,{"$f":"일위대가!H1937","v":141539},141539,{"$f":"일위대가!J1937","v":201987},201987,{"$f":"일위대가!L1937","v":0},0,3114,"제02030호표",3,null,null,null,null,null,null,null,null,null,null,null,null,null,null,null,null,null,null,null,null,null,null,null,null,null,null,null,null,null,null,null,null,null,null,null,null,null,null,null,null,null,null,null,null,null,null,null,null,null,null,null,null,null,null,null,null,null,null,null,null,null,null,null,null,null,null,null,null,null,null,null,null,null,null,null,null,null,null,null,null,null,null,null,null,null,null,null,null,null,null,null,null,null,null,null,null,null,null,null,null,null,"BKC1110",""]
["콘크리트포장[레미콘]","T=20cm",1,"a",397666,397666,{"$f":"일위대가!H1946","v":142601},142601,{"$f":"일위대가!J1946","v":255065},255065,{"$f":"일위대가!L1946","v":0},0,3115,"제02040호표",3,null,null,null,null,null,null,null,null,null,null,null,null,null,null,null,null,null,null,null,null,null,null,null,null,null,null,null,null,null,null,null,null,null,null,null,null,null,null,null,null,null,null,null,null,null,null,null,null,null,null,null,null,null,null,null,null,null,null,null,null,null,null,null,null,null,null,null,null,null,null,null,null,null,null,null,null,null,null,null,null,null,null,null,null,null,null,null,null,null,null,null,null,null,null,null,null,null,null,null,null,null,"BKC1000",""]
["콘크리트포장[인력]","공통",1,"HR",132696,132696,{"$f":"일위대가!H1951","v":0},0,{"$f":"일위대가!J1951","v":132696},132696,{"$f":"일위대가!L1951","v":0},0,3116,"제02050호표",3,null,null,null,null,null,null,null,null,null,null,null,null,null,null,null,null,null,null,null,null,null,null,null,null,null,null,null,null,null,null,null,null,null,null,null,null,null,null,null,null,null,null,null,null,null,null,null,null,null,null,null,null,null,null,null,null,null,null,null,null,null,null,null,null,null,null,null,null,null,null,null,null,null,null,null,null,null,null,null,null,null,null,null,null,null,null,null,null,null,null,null,null,null,null,null,null,null,null,null,null,null,"BB00-0420",""]
["콘크리트포장[인력]","소규모, T=20cm",1,"a",7536552,7536552,{"$f":"일위대가!H1958","v":1386660},1386660,{"$f":"일위대가!J1958","v":6014172},6014172,{"$f":"일위대가!L1958","v":135720},135720,3117,"제02060호표",3,null,null,null,null,null,null,null,null,null,null,null,null,null,null,null,null,null,null,null,null,null,null,null,null,null,null,null,null,null,null,null,null,null,null,null,null,null,null,null,null,null,null,null,null,null,null,null,null,null,null,null,null,null,null,null,null,null,null,null,null,null,null,null,null,null,null,null,null,null,null,null,null,null,null,null,null,null,null,null,null,null,null,null,null,null,null,null,null,null,null,null,null,null,null,null,null,null,null,null,null,null,"BKC1100",""]
["콘크리트표면마무리","쇠흙손",1,"㎡",776,776,{"$f":"일위대가!H1962","v":0},0,{"$f":"일위대가!J1962","v":776},776,{"$f":"일위대가!L1962","v":0},0,3118,"제02070호표",3,null,null,null,null,null,null,null,null,null,null,null,null,null,null,null,null,null,null,null,null,null,null,null,null,null,null,null,null,null,null,null,null,null,null,null,null,null,null,null,null,null,null,null,null,null,null,null,null,null,null,null,null,null,null,null,null,null,null,null,null,null,null,null,null,null,null,null,null,null,null,null,null,null,null,null,null,null,null,null,null,null,null,null,null,null,null,null,null,null,null,null,null,null,null,null,null,null,null,null,null,null,"BFJ2100",""]
["투수아스팔트포장공사","T=7cm",1,"HR",509494,509494,{"$f":"일위대가!H1993","v":76299},76299,{"$f":"일위대가!J1993","v":337437},337437,{"$f":"일위대가!L1993","v":95758},95758,3119,"제02130호표",3,null,null,null,null,null,null,null,null,null,null,null,null,null,null,null,null,null,null,null,null,null,null,null,null,null,null,null,null,null,null,null,null,null,null,null,null,null,null,null,null,null,null,null,null,null,null,null,null,null,null,null,null,null,null,null,null,null,null,null,null,null,null,null,null,null,null,null,null,null,null,null,null,null,null,null,null,null,null,null,null,null,null,null,null,null,null,null,null,null,null,null,null,null,null,null,null,null,null,null,null,null,"BB00-0430",""]
["투수아스팔트포장공사","T=7cm,3m≤시공폭",1,"a",2209974,2209974,{"$f":"일위대가!H1999","v":2108713},2108713,{"$f":"일위대가!J1999","v":81946},81946,{"$f":"일위대가!L1999","v":19315},19315,3120,"제02140호표",3,null,null,null,null,null,null,null,null,null,null,null,null,null,null,null,null,null,null,null,null,null,null,null,null,null,null,null,null,null,null,null,null,null,null,null,null,null,null,null,null,null,null,null,null,null,null,null,null,null,null,null,null,null,null,null,null,null,null,null,null,null,null,null,null,null,null,null,null,null,null,null,null,null,null,null,null,null,null,null,null,null,null,null,null,null,null,null,null,null,null,null,null,null,null,null,null,null,null,null,null,null,"B0300",""]
["모래포설 및 다짐[T=5cm]","투수콘포장용",1,"a",437830,437830,{"$f":"일위대가!H626","v":150000},150000,{"$f":"일위대가!J626","v":282190},282190,{"$f":"일위대가!L626","v":5640},5640,3121,"제00800호표",3,null,null,null,null,null,null,null,null,null,null,null,null,null,null,null,null,null,null,null,null,null,null,null,null,null,null,null,null,null,null,null,null,null,null,null,null,null,null,null,null,null,null,null,null,null,null,null,null,null,null,null,null,null,null,null,null,null,null,null,null,null,null,null,null,null,null,null,null,null,null,null,null,null,null,null,null,null,null,null,null,null,null,null,null,null,null,null,null,null,null,null,null,null,null,null,null,null,null,null,null,null,"B0180",""]
["투수콘크리트양생","",1,"a",318888,318888,{"$f":"일위대가!H2032","v":93135},93135,{"$f":"일위대가!J2032","v":225753},225753,{"$f":"일위대가!L2032","v":0},0,3122,"제02150호표",3,null,null,null,null,null,null,null,null,null,null,null,null,null,null,null,null,null,null,null,null,null,null,null,null,null,null,null,null,null,null,null,null,null,null,null,null,null,null,null,null,null,null,null,null,null,null,null,null,null,null,null,null,null,null,null,null,null,null,null,null,null,null,null,null,null,null,null,null,null,null,null,null,null,null,null,null,null,null,null,null,null,null,null,null,null,null,null,null,null,null,null,null,null,null,null,null,null,null,null,null,null,"B0179",""]
["투수콘크리트포장","시공량 ㎡/hr",1,"HR",236711,236711,{"$f":"일위대가!H2040","v":21262},21262,{"$f":"일위대가!J2040","v":192480},192480,{"$f":"일위대가!L2040","v":22969},22969,3123,"제02160호표",3,null,null,null,null,null,null,null,null,null,null,null,null,null,null,null,null,null,null,null,null,null,null,null,null,null,null,null,null,null,null,null,null,null,null,null,null,null,null,null,null,null,null,null,null,null,null,null,null,null,null,null,null,null,null,null,null,null,null,null,null,null,null,null,null,null,null,null,null,null,null,null,null,null,null,null,null,null,null,null,null,null,null,null,null,null,null,null,null,null,null,null,null,null,null,null,null,null,null,null,null,null,"BB00-0440",""]
["투수콘크리트포장","T=7cm,인력",1,"a",1570282,1570282,{"$f":"일위대가!H2049","v":814671},814671,{"$f":"일위대가!J2049","v":703869},703869,{"$f":"일위대가!L2049","v":51742},51742,3124,"제02170호표",3,null,null,null,null,null,null,null,null,null,null,null,null,null,null,null,null,null,null,null,null,null,null,null,null,null,null,null,null,null,null,null,null,null,null,null,null,null,null,null,null,null,null,null,null,null,null,null,null,null,null,null,null,null,null,null,null,null,null,null,null,null,null,null,null,null,null,null,null,null,null,null,null,null,null,null,null,null,null,null,null,null,null,null,null,null,null,null,null,null,null,null,null,null,null,null,null,null,null,null,null,null,"B0175",""]
["투수콘크리트포장","T=10cm,인력",1,"a",1779666,1779666,{"$f":"일위대가!H2058","v":840924},840924,{"$f":"일위대가!J2058","v":867477},867477,{"$f":"일위대가!L2058","v":71265},71265,3125,"제02180호표",3,null,null,null,null,null,null,null,null,null,null,null,null,null,null,null,null,null,null,null,null,null,null,null,null,null,null,null,null,null,null,null,null,null,null,null,null,null,null,null,null,null,null,null,null,null,null,null,null,null,null,null,null,null,null,null,null,null,null,null,null,null,null,null,null,null,null,null,null,null,null,null,null,null,null,null,null,null,null,null,null,null,null,null,null,null,null,null,null,null,null,null,null,null,null,null,null,null,null,null,null,null,"B0176",""]
["세립도투수콘크리트포장","T=기층5cm+표층2cm[기계70%+인력30%]",1,"a",1015086,1015086,{"$f":"일위대가!H1129","v":98626},98626,{"$f":"일위대가!J1129","v":912461},912461,{"$f":"일위대가!L1129","v":3999},3999,3126,"제01240호표",3,null,null,null,null,null,null,null,null,null,null,null,null,null,null,null,null,null,null,null,null,null,null,null,null,null,null,null,null,null,null,null,null,null,null,null,null,null,null,null,null,null,null,null,null,null,null,null,null,null,null,null,null,null,null,null,null,null,null,null,null,null,null,null,null,null,null,null,null,null,null,null,null,null,null,null,null,null,null,null,null,null,null,null,null,null,null,null,null,null,null,null,null,null,null,null,null,null,null,null,null,null,"B0310",""]
["투수콘운반","DT 15TON",1,"㎥",20062,20062,{"$f":"단가산출!CY3329","v":"0"},0,{"$f":"단가산출!CZ3329","v":"0"},0,{"$f":"단가산출!DA3329","v":"20,062"},20062,3127,"산근00780호표",3,null,null,null,null,null,null,null,null,null,null,null,null,null,null,null,null,null,null,null,null,null,null,null,null,null,null,null,null,null,null,null,null,null,null,null,null,null,null,null,null,null,null,null,null,null,null,null,null,null,null,null,null,null,null,null,null,null,null,null,null,null,null,null,null,null,null,null,null,null,null,null,null,null,null,null,null,null,null,null,null,null,null,null,null,null,null,null,null,null,null,null,null,null,null,null,null,null,null,null,null,null,"S0009",""]
["투수콘크리트포설및다짐[표층용]","T=2cm",1,"a",137915,137915,{"$f":"단가산출!CY3406","v":"7,458"},7458,{"$f":"단가산출!CZ3406","v":"124,453"},124453,{"$f":"단가산출!DA3406","v":"6,004"},6004,3128,"산근00790호표",3,null,null,null,null,null,null,null,null,null,null,null,null,null,null,null,null,null,null,null,null,null,null,null,null,null,null,null,null,null,null,null,null,null,null,null,null,null,null,null,null,null,null,null,null,null,null,null,null,null,null,null,null,null,null,null,null,null,null,null,null,null,null,null,null,null,null,null,null,null,null,null,null,null,null,null,null,null,null,null,null,null,null,null,null,null,null,null,null,null,null,null,null,null,null,null,null,null,null,null,null,null,"S0230",""]
["투수콘크리트포설및다짐[기층용]","T=5cm",1,"a",84565,84565,{"$f":"단가산출!CY3481","v":"6,562"},6562,{"$f":"단가산출!CZ3481","v":"71,517"},71517,{"$f":"단가산출!DA3481","v":"6,486"},6486,3129,"산근00800호표",3,null,null,null,null,null,null,null,null,null,null,null,null,null,null,null,null,null,null,null,null,null,null,null,null,null,null,null,null,null,null,null,null,null,null,null,null,null,null,null,null,null,null,null,null,null,null,null,null,null,null,null,null,null,null,null,null,null,null,null,null,null,null,null,null,null,null,null,null,null,null,null,null,null,null,null,null,null,null,null,null,null,null,null,null,null,null,null,null,null,null,null,null,null,null,null,null,null,null,null,null,null,"S0220",""]
["투수콘크리트 포설및다짐","T=7cm,인력",1,"a",205238,205238,{"$f":"단가산출!CY3558","v":"7,534"},7534,{"$f":"단가산출!CZ3558","v":"192,252"},192252,{"$f":"단가산출!DA3558","v":"5,452"},5452,3130,"산근00810호표",3,null,null,null,null,null,null,null,null,null,null,null,null,null,null,null,null,null,null,null,null,null,null,null,null,null,null,null,null,null,null,null,null,null,null,null,null,null,null,null,null,null,null,null,null,null,null,null,null,null,null,null,null,null,null,null,null,null,null,null,null,null,null,null,null,null,null,null,null,null,null,null,null,null,null,null,null,null,null,null,null,null,null,null,null,null,null,null,null,null,null,null,null,null,null,null,null,null,null,null,null,null,"S0146",""]
["투수콘크리트 포설및다짐","T=10cm,인력",1,"a",210216,210216,{"$f":"단가산출!CY3635","v":"8,572"},8572,{"$f":"단가산출!CZ3635","v":"195,174"},195174,{"$f":"단가산출!DA3635","v":"6,470"},6470,3131,"산근00820호표",3,null,null,null,null,null,null,null,null,null,null,null,null,null,null,null,null,null,null,null,null,null,null,null,null,null,null,null,null,null,null,null,null,null,null,null,null,null,null,null,null,null,null,null,null,null,null,null,null,null,null,null,null,null,null,null,null,null,null,null,null,null,null,null,null,null,null,null,null,null,null,null,null,null,null,null,null,null,null,null,null,null,null,null,null,null,null,null,null,null,null,null,null,null,null,null,null,null,null,null,null,null,"S0147",""]
["표면보호공[투수콘]","300L,수동식",1,"a",15037,15037,{"$f":"단가산출!CY5158","v":"414"},414,{"$f":"단가산출!CZ5158","v":"14,459"},14459,{"$f":"단가산출!DA5158","v":"164"},164,3132,"산근01170호표",3,null,null,null,null,null,null,null,null,null,null,null,null,null,null,null,null,null,null,null,null,null,null,null,null,null,null,null,null,null,null,null,null,null,null,null,null,null,null,null,null,null,null,null,null,null,null,null,null,null,null,null,null,null,null,null,null,null,null,null,null,null,null,null,null,null,null,null,null,null,null,null,null,null,null,null,null,null,null,null,null,null,null,null,null,null,null,null,null,null,null,null,null,null,null,null,null,null,null,null,null,null,"S0148",""]
["도로경계블럭설치","공통",1,"HR",138509,138509,{"$f":"일위대가!H414","v":7978},7978,{"$f":"일위대가!J414","v":121062},121062,{"$f":"일위대가!L414","v":9469},9469,3133,"제00580호표",3,null,null,null,null,null,null,null,null,null,null,null,null,null,null,null,null,null,null,null,null,null,null,null,null,null,null,null,null,null,null,null,null,null,null,null,null,null,null,null,null,null,null,null,null,null,null,null,null,null,null,null,null,null,null,null,null,null,null,null,null,null,null,null,null,null,null,null,null,null,null,null,null,null,null,null,null,null,null,null,null,null,null,null,null,null,null,null,null,null,null,null,null,null,null,null,null,null,null,null,null,null,"BB00-0240",""]
["도로경계블록설치","150*150*1000[시공량135m],직선구간",1,"m",34417,34417,{"$f":"일위대가!H422","v":9052},9052,{"$f":"일위대가!J422","v":24543},24543,{"$f":"일위대가!L422","v":822},822,3134,"제00590호표",3,null,null,null,null,null,null,null,null,null,null,null,null,null,null,null,null,null,null,null,null,null,null,null,null,null,null,null,null,null,null,null,null,null,null,null,null,null,null,null,null,null,null,null,null,null,null,null,null,null,null,null,null,null,null,null,null,null,null,null,null,null,null,null,null,null,null,null,null,null,null,null,null,null,null,null,null,null,null,null,null,null,null,null,null,null,null,null,null,null,null,null,null,null,null,null,null,null,null,null,null,null,"BKF1000",""]
["도로경계블록설치","150*150*1000[시공량115m],곡선구간",1,"m",{"$f":"G291+I291+K291","v":36357},{"$f":"H291+J291+L291","v":36357},{"$f":"일위대가!H430","v":9164},{"$f":"TRUNC(C291*G291,0)","v":9164},{"$f":"일위대가!J430","v":26238},{"$f":"TRUNC(C291*I291,0)","v":26238},{"$f":"일위대가!L430","v":955},{"$f":"TRUNC(C291*K291,0)","v":955},3135,"제00591호표",3,null,null,null,null,null,null,null,null,null,null,null,null,null,null,null,null,null,null,null,null,null,null,null,null,null,null,null,null,null,null,null,null,null,null,null,null,null,null,null,null,null,null,null,null,null,null,null,null,null,null,null,null,null,null,null,null,null,null,null,null,null,null,null,null,null,null,null,null,null,null,null,null,null,null,null,null,null,null,null,null,null,null,null,null,null,null,null,null,null,null,null,null,null,null,null,null,null,null,null,null,null,"BKF1000",""]
["도로경계블록설치","150*150*1000([시공량20%감],직선구간",1,"m",36772,36772,{"$f":"일위대가!H438","v":9188},9188,{"$f":"일위대가!J438","v":26601},26601,{"$f":"일위대가!L438","v":983},983,3136,"제00600호표",3,null,null,null,null,null,null,null,null,null,null,null,null,null,null,null,null,null,null,null,null,null,null,null,null,null,null,null,null,null,null,null,null,null,null,null,null,null,null,null,null,null,null,null,null,null,null,null,null,null,null,null,null,null,null,null,null,null,null,null,null,null,null,null,null,null,null,null,null,null,null,null,null,null,null,null,null,null,null,null,null,null,null,null,null,null,null,null,null,null,null,null,null,null,null,null,null,null,null,null,null,null,"BKF1001",""]
["도로경계블록설치","150*150*1000([시공량20%감],곡선구간",1,"m",{"$f":"G293+I293+K293","v":39126},{"$f":"H293+J293+L293","v":39126},{"$f":"일위대가!H446","v":9323},{"$f":"TRUNC(C293*G293,0)","v":9323},{"$f":"일위대가!J446","v":28659},{"$f":"TRUNC(C293*I293,0)","v":28659},{"$f":"일위대가!L446","v":1144},{"$f":"TRUNC(C293*K293,0)","v":1144},3137,"제00601호표",3,null,null,null,null,null,null,null,null,null,null,null,null,null,null,null,null,null,null,null,null,null,null,null,null,null,null,null,null,null,null,null,null,null,null,null,null,null,null,null,null,null,null,null,null,null,null,null,null,null,null,null,null,null,null,null,null,null,null,null,null,null,null,null,null,null,null,null,null,null,null,null,null,null,null,null,null,null,null,null,null,null,null,null,null,null,null,null,null,null,null,null,null,null,null,null,null,null,null,null,null,null,"BKF1001",""]
["도로경계석설치","공통",1,"HR",138509,138509,{"$f":"일위대가!H452","v":7978},7978,{"$f":"일위대가!J452","v":121062},121062,{"$f":"일위대가!L452","v":9469},9469,3138,"제00610호표",3,null,null,null,null,null,null,null,null,null,null,null,null,null,null,null,null,null,null,null,null,null,null,null,null,null,null,null,null,null,null,null,null,null,null,null,null,null,null,null,null,null,null,null,null,null,null,null,null,null,null,null,null,null,null,null,null,null,null,null,null,null,null,null,null,null,null,null,null,null,null,null,null,null,null,null,null,null,null,null,null,null,null,null,null,null,null,null,null,null,null,null,null,null,null,null,null,null,null,null,null,null,"BB00-0250",""]
["도로경계석설치","100*100*1000[시공량170m],직선구간",1,"m",25326,25326,{"$f":"일위대가!H460","v":4444},4444,{"$f":"일위대가!J460","v":20179},20179,{"$f":"일위대가!L460","v":703},703,3139,"제00620호표",3,null,null,null,null,null,null,null,null,null,null,null,null,null,null,null,null,null,null,null,null,null,null,null,null,null,null,null,null,null,null,null,null,null,null,null,null,null,null,null,null,null,null,null,null,null,null,null,null,null,null,null,null,null,null,null,null,null,null,null,null,null,null,null,null,null,null,null,null,null,null,null,null,null,null,null,null,null,null,null,null,null,null,null,null,null,null,null,null,null,null,null,null,null,null,null,null,null,null,null,null,null,"B000-019",""]
["도로경계석설치","100*100*1000[시공량150m],곡선구간",1,"m",{"$f":"G296+I296+K296","v":25881},{"$f":"H296+J296+L296","v":25881},{"$f":"일위대가!H468","v":4476},{"$f":"TRUNC(C296*G296,0)","v":4476},{"$f":"일위대가!J468","v":20664},{"$f":"TRUNC(C296*I296,0)","v":20664},{"$f":"일위대가!L468","v":741},{"$f":"TRUNC(C296*K296,0)","v":741},3140,"제00621호표",3,null,null,null,null,null,null,null,null,null,null,null,null,null,null,null,null,null,null,null,null,null,null,null,null,null,null,null,null,null,null,null,null,null,null,null,null,null,null,null,null,null,null,null,null,null,null,null,null,null,null,null,null,null,null,null,null,null,null,null,null,null,null,null,null,null,null,null,null,null,null,null,null,null,null,null,null,null,null,null,null,null,null,null,null,null,null,null,null,null,null,null,null,null,null,null,null,null,null,null,null,null,"B000-019",""]
["도로경계석설치","150*150*1000[시공량150m],직선구간",1,"m",30911,30911,{"$f":"일위대가!H476","v":5552},5552,{"$f":"일위대가!J476","v":24537},24537,{"$f":"일위대가!L476","v":822},822,3141,"제00630호표",3,null,null,null,null,null,null,null,null,null,null,null,null,null,null,null,null,null,null,null,null,null,null,null,null,null,null,null,null,null,null,null,null,null,null,null,null,null,null,null,null,null,null,null,null,null,null,null,null,null,null,null,null,null,null,null,null,null,null,null,null,null,null,null,null,null,null,null,null,null,null,null,null,null,null,null,null,null,null,null,null,null,null,null,null,null,null,null,null,null,null,null,null,null,null,null,null,null,null,null,null,null,"BKF2000",""]
["도로경계석설치","150*150*1000[시공량130m],곡선구간",1,"m",{"$f":"G298+I298+K298","v":32851},{"$f":"H298+J298+L298","v":32851},{"$f":"일위대가!H484","v":5664},{"$f":"TRUNC(C298*G298,0)","v":5664},{"$f":"일위대가!J484","v":26232},{"$f":"TRUNC(C298*I298,0)","v":26232},{"$f":"일위대가!L484","v":955},{"$f":"TRUNC(C298*K298,0)","v":955},3142,"제00631호표",3,null,null,null,null,null,null,null,null,null,null,null,null,null,null,null,null,null,null,null,null,null,null,null,null,null,null,null,null,null,null,null,null,null,null,null,null,null,null,null,null,null,null,null,null,null,null,null,null,null,null,null,null,null,null,null,null,null,null,null,null,null,null,null,null,null,null,null,null,null,null,null,null,null,null,null,null,null,null,null,null,null,null,null,null,null,null,null,null,null,null,null,null,null,null,null,null,null,null,null,null,null,"BKF2000",""]
["도로경계석설치","150*150*1000[시공량 20%감],직선구간",1,"m",33272,33272,{"$f":"일위대가!H492","v":5688},5688,{"$f":"일위대가!J492","v":26601},26601,{"$f":"일위대가!L492","v":983},983,3143,"제00640호표",3,null,null,null,null,null,null,null,null,null,null,null,null,null,null,null,null,null,null,null,null,null,null,null,null,null,null,null,null,null,null,null,null,null,null,null,null,null,null,null,null,null,null,null,null,null,null,null,null,null,null,null,null,null,null,null,null,null,null,null,null,null,null,null,null,null,null,null,null,null,null,null,null,null,null,null,null,null,null,null,null,null,null,null,null,null,null,null,null,null,null,null,null,null,null,null,null,null,null,null,null,null,"BKF2001",""]
["도로경계석설치","150*150*1000[시공량 20%감],곡선구간",1,"m",{"$f":"G300+I300+K300","v":35626},{"$f":"H300+J300+L300","v":35626},{"$f":"일위대가!H500","v":5823},{"$f":"TRUNC(C300*G300,0)","v":5823},{"$f":"일위대가!J500","v":28659},{"$f":"TRUNC(C300*I300,0)","v":28659},{"$f":"일위대가!L500","v":1144},{"$f":"TRUNC(C300*K300,0)","v":1144},3144,"제00641호표",3,null,null,null,null,null,null,null,null,null,null,null,null,null,null,null,null,null,null,null,null,null,null,null,null,null,null,null,null,null,null,null,null,null,null,null,null,null,null,null,null,null,null,null,null,null,null,null,null,null,null,null,null,null,null,null,null,null,null,null,null,null,null,null,null,null,null,null,null,null,null,null,null,null,null,null,null,null,null,null,null,null,null,null,null,null,null,null,null,null,null,null,null,null,null,null,null,null,null,null,null,null,"BKF2001",""]
["도로경계석철거","150x150x1000",1,"m",4066,4066,{"$f":"일위대가!H507","v":461},461,{"$f":"일위대가!J507","v":3137},3137,{"$f":"일위대가!L507","v":468},468,3145,"제00650호표",3,null,null,null,null,null,null,null,null,null,null,null,null,null,null,null,null,null,null,null,null,null,null,null,null,null,null,null,null,null,null,null,null,null,null,null,null,null,null,null,null,null,null,null,null,null,null,null,null,null,null,null,null,null,null,null,null,null,null,null,null,null,null,null,null,null,null,null,null,null,null,null,null,null,null,null,null,null,null,null,null,null,null,null,null,null,null,null,null,null,null,null,null,null,null,null,null,null,null,null,null,null,"BDB2422",""]
["도로경계석 재설치","150x150x1000, 직선구간",1,"m",{"$f":"G302+I302+K302","v":32857},{"$f":"H302+J302+L302","v":32857},{"$f":"일위대가!H515","v":5664},5664,{"$f":"일위대가!J515","v":26238},26238,{"$f":"일위대가!L515","v":955},955,3146,"제00651호표",3]
["도로경계석 재설치","150x150x1000, 곡선구간",1,"m",34104,34104,{"$f":"일위대가!H523","v":5736},5736,{"$f":"일위대가!J523","v":27328},27328,{"$f":"일위대가!L523","v":1040},1040,3147,"제00652호표",3]
["보차도경계석철거","200x250x1000",1,"m",6321,6321,{"$f":"일위대가!H769","v":712},712,{"$f":"일위대가!J769","v":4885},4885,{"$f":"일위대가!L769","v":724},724,3148,"제00970호표",3,null,null,null,null,null,null,null,null,null,null,null,null,null,null,null,null,null,null,null,null,null,null,null,null,null,null,null,null,null,null,null,null,null,null,null,null,null,null,null,null,null,null,null,null,null,null,null,null,null,null,null,null,null,null,null,null,null,null,null,null,null,null,null,null,null,null,null,null,null,null,null,null,null,null,null,null,null,null,null,null,null,null,null,null,null,null,null,null,null,null,null,null,null,null,null,null,null,null,null,null,null,"BDB2411",""]
["보차도경계블록설치","205x250x1000",1,"m",43634,43634,{"$f":"일위대가!H777","v":11998},11998,{"$f":"일위대가!J777","v":30451},30451,{"$f":"일위대가!L777","v":1185},1185,3149,"제00980호표",3,null,null,null,null,null,null,null,null,null,null,null,null,null,null,null,null,null,null,null,null,null,null,null,null,null,null,null,null,null,null,null,null,null,null,null,null,null,null,null,null,null,null,null,null,null,null,null,null,null,null,null,null,null,null,null,null,null,null,null,null,null,null,null,null,null,null,null,null,null,null,null,null,null,null,null,null,null,null,null,null,null,null,null,null,null,null,null,null,null,null,null,null,null,null,null,null,null,null,null,null,null,"BKF3000",""]
["보차도경계석설치","200x250x1000",1,"m",37834,37834,{"$f":"일위대가!H785","v":6198},6198,{"$f":"일위대가!J785","v":30451},30451,{"$f":"일위대가!L785","v":1185},1185,3150,"제00990호표",3,null,null,null,null,null,null,null,null,null,null,null,null,null,null,null,null,null,null,null,null,null,null,null,null,null,null,null,null,null,null,null,null,null,null,null,null,null,null,null,null,null,null,null,null,null,null,null,null,null,null,null,null,null,null,null,null,null,null,null,null,null,null,null,null,null,null,null,null,null,null,null,null,null,null,null,null,null,null,null,null,null,null,null,null,null,null,null,null,null,null,null,null,null,null,null,null,null,null,null,null,null,"BKF4000",""]
["보차도경계석재설치","200x250x1000",1,"m",{"$f":"G307+I307+K307","v":41020},{"$f":"H307+J307+L307","v":41020},{"$f":"일위대가!H793","v":6382},6382,{"$f":"일위대가!J793","v":33235},33235,{"$f":"일위대가!L793","v":1403},1403,3151,"제00991호표",3]
["보차도경계석설치","200x300x1000",1,"m",37834,37834,{"$f":"일위대가!H801","v":6198},6198,{"$f":"일위대가!J801","v":30451},30451,{"$f":"일위대가!L801","v":1185},1185,3152,"제01000호표",3,null,null,null,null,null,null,null,null,null,null,null,null,null,null,null,null,null,null,null,null,null,null,null,null,null,null,null,null,null,null,null,null,null,null,null,null,null,null,null,null,null,null,null,null,null,null,null,null,null,null,null,null,null,null,null,null,null,null,null,null,null,null,null,null,null,null,null,null,null,null,null,null,null,null,null,null,null,null,null,null,null,null,null,null,null,null,null,null,null,null,null,null,null,null,null,null,null,null,null,null,null,"BKF5000",""]
["보차도경계석재설치","200x300x1000",1,"m",{"$f":"G309+I309+K309","v":41020},{"$f":"H309+J309+L309","v":41020},{"$f":"일위대가!H809","v":6382},6382,{"$f":"일위대가!J809","v":33235},33235,{"$f":"일위대가!L809","v":1403},1403,3153,"제01001호표",3]
["도로경계브럭 운반","15x15x100",1,"개",677,677,{"$f":"단가산출!CY471","v":"0"},0,{"$f":"단가산출!CZ471","v":"0"},0,{"$f":"단가산출!DA471","v":"677"},677,3154,"산근00130호표",3,null,null,null,null,null,null,null,null,null,null,null,null,null,null,null,null,null,null,null,null,null,null,null,null,null,null,null,null,null,null,null,null,null,null,null,null,null,null,null,null,null,null,null,null,null,null,null,null,null,null,null,null,null,null,null,null,null,null,null,null,null,null,null,null,null,null,null,null,null,null,null,null,null,null,null,null,null,null,null,null,null,null,null,null,null,null,null,null,null,null,null,null,null,null,null,null,null,null,null,null,null,"S006",""]
["도로경계브럭 운반","20x25x100",1,"개",{"$f":"G311+I311+K311","v":1473},{"$f":"H311+J311+L311","v":1473},{"$f":"단가산출!CY503","v":"0"},{"$f":"TRUNC(C311*G311,0)","v":0},{"$f":"단가산출!CZ503","v":"0"},{"$f":"TRUNC(C311*I311,0)","v":0},{"$f":"단가산출!DA503","v":"1,473"},{"$f":"TRUNC(C311*K311,0)","v":1473},3155,"산근00140호표",3,null,null,null,null,null,null,null,null,null,null,null,null,null,null,null,null,null,null,null,null,null,null,null,null,null,null,null,null,null,null,null,null,null,null,null,null,null,null,null,null,null,null,null,null,null,null,null,null,null,null,null,null,null,null,null,null,null,null,null,null,null,null,null,null,null,null,null,null,null,null,null,null,null,null,null,null,null,null,null,null,null,null,null,null,null,null,null,null,null,null,null,null,null,null,null,null,null,null,null,null,null,"S006-001",""]
["미끄럼방지공","",1,"㎡",106249,106249,{"$f":"일위대가!H694","v":38144},38144,{"$f":"일위대가!J694","v":62666},62666,{"$f":"일위대가!L694","v":5439},5439,3156,"제00890호표",3,null,null,null,null,null,null,null,null,null,null,null,null,null,null,null,null,null,null,null,null,null,null,null,null,null,null,null,null,null,null,null,null,null,null,null,null,null,null,null,null,null,null,null,null,null,null,null,null,null,null,null,null,null,null,null,null,null,null,null,null,null,null,null,null,null,null,null,null,null,null,null,null,null,null,null,null,null,null,null,null,null,null,null,null,null,null,null,null,null,null,null,null,null,null,null,null,null,null,null,null,null,"BKB7000",""]
["미끄럼방지시설설치","상온도포 공법",1,"㎡",296283,296283,{"$f":"일위대가!H705","v":270346},270346,{"$f":"일위대가!J705","v":25297},25297,{"$f":"일위대가!L705","v":640},640,3157,"제00900호표",3,null,null,null,null,null,null,null,null,null,null,null,null,null,null,null,null,null,null,null,null,null,null,null,null,null,null,null,null,null,null,null,null,null,null,null,null,null,null,null,null,null,null,null,null,null,null,null,null,null,null,null,null,null,null,null,null,null,null,null,null,null,null,null,null,null,null,null,null,null,null,null,null,null,null,null,null,null,null,null,null,null,null,null,null,null,null,null,null,null,null,null,null,null,null,null,null,null,null,null,null,null,"B011001",""]
["미끄럼방지포장[시인성증대도로용]","유리알",1,"㎡",111778,111778,{"$f":"일위대가!H719","v":48865},48865,{"$f":"일위대가!J719","v":59414},59414,{"$f":"일위대가!L719","v":3499},3499,3158,"제00910호표",3,null,null,null,null,null,null,null,null,null,null,null,null,null,null,null,null,null,null,null,null,null,null,null,null,null,null,null,null,null,null,null,null,null,null,null,null,null,null,null,null,null,null,null,null,null,null,null,null,null,null,null,null,null,null,null,null,null,null,null,null,null,null,null,null,null,null,null,null,null,null,null,null,null,null,null,null,null,null,null,null,null,null,null,null,null,null,null,null,null,null,null,null,null,null,null,null,null,null,null,null,null,"B010101",""]
["미끄럼방지포장[일반도로용]","유리알",1,"㎡",111778,111778,{"$f":"일위대가!H733","v":48865},48865,{"$f":"일위대가!J733","v":59414},59414,{"$f":"일위대가!L733","v":3499},3499,3159,"제00920호표",3,null,null,null,null,null,null,null,null,null,null,null,null,null,null,null,null,null,null,null,null,null,null,null,null,null,null,null,null,null,null,null,null,null,null,null,null,null,null,null,null,null,null,null,null,null,null,null,null,null,null,null,null,null,null,null,null,null,null,null,null,null,null,null,null,null,null,null,null,null,null,null,null,null,null,null,null,null,null,null,null,null,null,null,null,null,null,null,null,null,null,null,null,null,null,null,null,null,null,null,null,null,"B010100",""]
["미끄럼방지포장","칼라포장재",1,"㎡",99811,99811,{"$f":"일위대가!H745","v":48585},48585,{"$f":"일위대가!J745","v":49069},49069,{"$f":"일위대가!L745","v":2157},2157,3160,"제00930호표",3,null,null,null,null,null,null,null,null,null,null,null,null,null,null,null,null,null,null,null,null,null,null,null,null,null,null,null,null,null,null,null,null,null,null,null,null,null,null,null,null,null,null,null,null,null,null,null,null,null,null,null,null,null,null,null,null,null,null,null,null,null,null,null,null,null,null,null,null,null,null,null,null,null,null,null,null,null,null,null,null,null,null,null,null,null,null,null,null,null,null,null,null,null,null,null,null,null,null,null,null,null,"B000-0100",""]
["볼라드설치[탄성]","ø150*1100(주름형",1,") 개",62887,62887,{"$f":"일위대가!H820","v":5352},5352,{"$f":"일위대가!J820","v":56008},56008,{"$f":"일위대가!L820","v":1527},1527,3161,"제01010호표",3,null,null,null,null,null,null,null,null,null,null,null,null,null,null,null,null,null,null,null,null,null,null,null,null,null,null,null,null,null,null,null,null,null,null,null,null,null,null,null,null,null,null,null,null,null,null,null,null,null,null,null,null,null,null,null,null,null,null,null,null,null,null,null,null,null,null,null,null,null,null,null,null,null,null,null,null,null,null,null,null,null,null,null,null,null,null,null,null,null,null,null,null,null,null,null,null,null,null,null,null,null,"B000-0190",""]
["볼라드설치[디자인,소형고압]","ø70*h900",1,"개",63931,63931,{"$f":"일위대가!H833","v":6316},6316,{"$f":"일위대가!J833","v":56068},56068,{"$f":"일위대가!L833","v":1547},1547,3162,"제01020호표",3,null,null,null,null,null,null,null,null,null,null,null,null,null,null,null,null,null,null,null,null,null,null,null,null,null,null,null,null,null,null,null,null,null,null,null,null,null,null,null,null,null,null,null,null,null,null,null,null,null,null,null,null,null,null,null,null,null,null,null,null,null,null,null,null,null,null,null,null,null,null,null,null,null,null,null,null,null,null,null,null,null,null,null,null,null,null,null,null,null,null,null,null,null,null,null,null,null,null,null,null,null,"B000-0180",""]
["볼라드설치[디자인,화강판석]","ø70*h900",1,"개",40649,40649,{"$f":"일위대가!H844","v":2011},2011,{"$f":"일위대가!J844","v":38559},38559,{"$f":"일위대가!L844","v":79},79,3163,"제01030호표",3,null,null,null,null,null,null,null,null,null,null,null,null,null,null,null,null,null,null,null,null,null,null,null,null,null,null,null,null,null,null,null,null,null,null,null,null,null,null,null,null,null,null,null,null,null,null,null,null,null,null,null,null,null,null,null,null,null,null,null,null,null,null,null,null,null,null,null,null,null,null,null,null,null,null,null,null,null,null,null,null,null,null,null,null,null,null,null,null,null,null,null,null,null,null,null,null,null,null,null,null,null,"B000-0185",""]
["차선규제봉 설치","200*80*750㎜",1,"개",18625,18625,{"$f":"일위대가!H1656","v":8583},8583,{"$f":"일위대가!J1656","v":9280},9280,{"$f":"일위대가!L1656","v":762},762,3164,"제01710호표",3,null,null,null,null,null,null,null,null,null,null,null,null,null,null,null,null,null,null,null,null,null,null,null,null,null,null,null,null,null,null,null,null,null,null,null,null,null,null,null,null,null,null,null,null,null,null,null,null,null,null,null,null,null,null,null,null,null,null,null,null,null,null,null,null,null,null,null,null,null,null,null,null,null,null,null,null,null,null,null,null,null,null,null,null,null,null,null,null,null,null,null,null,null,null,null,null,null,null,null,null,null,"B000-0222",""]
["차선도색[융착식,실선]","시간당 62.5㎡",1,"HR",187501,187501,{"$f":"일위대가!H1664","v":14212},14212,{"$f":"일위대가!J1664","v":152522},152522,{"$f":"일위대가!L1664","v":20767},20767,3165,"제01720호표",3,null,null,null,null,null,null,null,null,null,null,null,null,null,null,null,null,null,null,null,null,null,null,null,null,null,null,null,null,null,null,null,null,null,null,null,null,null,null,null,null,null,null,null,null,null,null,null,null,null,null,null,null,null,null,null,null,null,null,null,null,null,null,null,null,null,null,null,null,null,null,null,null,null,null,null,null,null,null,null,null,null,null,null,null,null,null,null,null,null,null,null,null,null,null,null,null,null,null,null,null,null,"BB00-0400",""]
["차선도색[융착식,문자]","시간당 11.25㎡",1,"HR",187501,187501,{"$f":"일위대가!H1672","v":14212},14212,{"$f":"일위대가!J1672","v":152522},152522,{"$f":"일위대가!L1672","v":20767},20767,3166,"제01730호표",3,null,null,null,null,null,null,null,null,null,null,null,null,null,null,null,null,null,null,null,null,null,null,null,null,null,null,null,null,null,null,null,null,null,null,null,null,null,null,null,null,null,null,null,null,null,null,null,null,null,null,null,null,null,null,null,null,null,null,null,null,null,null,null,null,null,null,null,null,null,null,null,null,null,null,null,null,null,null,null,null,null,null,null,null,null,null,null,null,null,null,null,null,null,null,null,null,null,null,null,null,null,"BB00-0490",""]
["차선도색[융착식,횡단보도]","시간당 23.75㎡",1,"HR",187501,187501,{"$f":"일위대가!H1680","v":14212},14212,{"$f":"일위대가!J1680","v":152522},152522,{"$f":"일위대가!L1680","v":20767},20767,3167,"제01740호표",3,null,null,null,null,null,null,null,null,null,null,null,null,null,null,null,null,null,null,null,null,null,null,null,null,null,null,null,null,null,null,null,null,null,null,null,null,null,null,null,null,null,null,null,null,null,null,null,null,null,null,null,null,null,null,null,null,null,null,null,null,null,null,null,null,null,null,null,null,null,null,null,null,null,null,null,null,null,null,null,null,null,null,null,null,null,null,null,null,null,null,null,null,null,null,null,null,null,null,null,null,null,"B000-0160",""]
["차선도색[문자,기호]","B=15Cm[고성능융착식 수동]",1,"㎡",55070,55070,{"$f":"일위대가!H1692","v":30642},30642,{"$f":"일위대가!J1692","v":22149},22149,{"$f":"일위대가!L1692","v":2279},2279,3168,"제01750호표",3,null,null,null,null,null,null,null,null,null,null,null,null,null,null,null,null,null,null,null,null,null,null,null,null,null,null,null,null,null,null,null,null,null,null,null,null,null,null,null,null,null,null,null,null,null,null,null,null,null,null,null,null,null,null,null,null,null,null,null,null,null,null,null,null,null,null,null,null,null,null,null,null,null,null,null,null,null,null,null,null,null,null,null,null,null,null,null,null,null,null,null,null,null,null,null,null,null,null,null,null,null,"B000-0130",""]
["차선도색[실선,백색]","B=15Cm[고성능융착식 수동]",1,"㎡",33655,33655,{"$f":"일위대가!H1704","v":29279},29279,{"$f":"일위대가!J1704","v":3968},3968,{"$f":"일위대가!L1704","v":408},408,3169,"제01760호표",3,null,null,null,null,null,null,null,null,null,null,null,null,null,null,null,null,null,null,null,null,null,null,null,null,null,null,null,null,null,null,null,null,null,null,null,null,null,null,null,null,null,null,null,null,null,null,null,null,null,null,null,null,null,null,null,null,null,null,null,null,null,null,null,null,null,null,null,null,null,null,null,null,null,null,null,null,null,null,null,null,null,null,null,null,null,null,null,null,null,null,null,null,null,null,null,null,null,null,null,null,null,"B000-0150",""]
["차선도색[실선,황색]","B=15Cm[고성능융착식 수동]",1,"㎡",37754,37754,{"$f":"일위대가!H1716","v":33378},33378,{"$f":"일위대가!J1716","v":3968},3968,{"$f":"일위대가!L1716","v":408},408,3170,"제01770호표",3,null,null,null,null,null,null,null,null,null,null,null,null,null,null,null,null,null,null,null,null,null,null,null,null,null,null,null,null,null,null,null,null,null,null,null,null,null,null,null,null,null,null,null,null,null,null,null,null,null,null,null,null,null,null,null,null,null,null,null,null,null,null,null,null,null,null,null,null,null,null,null,null,null,null,null,null,null,null,null,null,null,null,null,null,null,null,null,null,null,null,null,null,null,null,null,null,null,null,null,null,null,"B000-0170",""]
["차선도색[횡단보도,주차장]","B=15Cm[고성능융착식 수동]",1,"㎡",41323,41323,{"$f":"일위대가!H1728","v":29768},29768,{"$f":"일위대가!J1728","v":10475},10475,{"$f":"일위대가!L1728","v":1080},1080,3171,"제01780호표",3,null,null,null,null,null,null,null,null,null,null,null,null,null,null,null,null,null,null,null,null,null,null,null,null,null,null,null,null,null,null,null,null,null,null,null,null,null,null,null,null,null,null,null,null,null,null,null,null,null,null,null,null,null,null,null,null,null,null,null,null,null,null,null,null,null,null,null,null,null,null,null,null,null,null,null,null,null,null,null,null,null,null,null,null,null,null,null,null,null,null,null,null,null,null,null,null,null,null,null,null,null,"B000-0210",""]
["차선도색[문자,기호]","B=15Cm[융착식 수동]",1,"㎡",42076,42076,{"$f":"일위대가!H1740","v":17648},17648,{"$f":"일위대가!J1740","v":22149},22149,{"$f":"일위대가!L1740","v":2279},2279,3172,"제01790호표",3,null,null,null,null,null,null,null,null,null,null,null,null,null,null,null,null,null,null,null,null,null,null,null,null,null,null,null,null,null,null,null,null,null,null,null,null,null,null,null,null,null,null,null,null,null,null,null,null,null,null,null,null,null,null,null,null,null,null,null,null,null,null,null,null,null,null,null,null,null,null,null,null,null,null,null,null,null,null,null,null,null,null,null,null,null,null,null,null,null,null,null,null,null,null,null,null,null,null,null,null,null,"BKI1300",""]
["차선도색[실선,백색]","B=15Cm[융착식 수동]",1,"㎡",20661,20661,{"$f":"일위대가!H1752","v":16285},16285,{"$f":"일위대가!J1752","v":3968},3968,{"$f":"일위대가!L1752","v":408},408,3173,"제01800호표",3,null,null,null,null,null,null,null,null,null,null,null,null,null,null,null,null,null,null,null,null,null,null,null,null,null,null,null,null,null,null,null,null,null,null,null,null,null,null,null,null,null,null,null,null,null,null,null,null,null,null,null,null,null,null,null,null,null,null,null,null,null,null,null,null,null,null,null,null,null,null,null,null,null,null,null,null,null,null,null,null,null,null,null,null,null,null,null,null,null,null,null,null,null,null,null,null,null,null,null,null,null,"BKI1000",""]
["차선도색[실선,청색]","B=15Cm[융착식 수동]",1,"㎡",26426,26426,{"$f":"일위대가!H1764","v":22050},22050,{"$f":"일위대가!J1764","v":3968},3968,{"$f":"일위대가!L1764","v":408},408,3174,"제01810호표",3,null,null,null,null,null,null,null,null,null,null,null,null,null,null,null,null,null,null,null,null,null,null,null,null,null,null,null,null,null,null,null,null,null,null,null,null,null,null,null,null,null,null,null,null,null,null,null,null,null,null,null,null,null,null,null,null,null,null,null,null,null,null,null,null,null,null,null,null,null,null,null,null,null,null,null,null,null,null,null,null,null,null,null,null,null,null,null,null,null,null,null,null,null,null,null,null,null,null,null,null,null,"B000-0120",""]
["차선도색[실선,황색]","B=15Cm[융착식 수동]",1,"㎡",25053,25053,{"$f":"일위대가!H1776","v":20677},20677,{"$f":"일위대가!J1776","v":3968},3968,{"$f":"일위대가!L1776","v":408},408,3175,"제01820호표",3,null,null,null,null,null,null,null,null,null,null,null,null,null,null,null,null,null,null,null,null,null,null,null,null,null,null,null,null,null,null,null,null,null,null,null,null,null,null,null,null,null,null,null,null,null,null,null,null,null,null,null,null,null,null,null,null,null,null,null,null,null,null,null,null,null,null,null,null,null,null,null,null,null,null,null,null,null,null,null,null,null,null,null,null,null,null,null,null,null,null,null,null,null,null,null,null,null,null,null,null,null,"B000-01101",""]
["차선도색[횡단보도,주차장]","B=15Cm[융착식 수동]",1,"㎡",28330,28330,{"$f":"일위대가!H1788","v":16775},16775,{"$f":"일위대가!J1788","v":10475},10475,{"$f":"일위대가!L1788","v":1080},1080,3176,"제01830호표",3,null,null,null,null,null,null,null,null,null,null,null,null,null,null,null,null,null,null,null,null,null,null,null,null,null,null,null,null,null,null,null,null,null,null,null,null,null,null,null,null,null,null,null,null,null,null,null,null,null,null,null,null,null,null,null,null,null,null,null,null,null,null,null,null,null,null,null,null,null,null,null,null,null,null,null,null,null,null,null,null,null,null,null,null,null,null,null,null,null,null,null,null,null,null,null,null,null,null,null,null,null,"BKI1200",""]
["차선도색제거","시간당 4.375㎡",1,"HR",146853,146853,{"$f":"일위대가!H1795","v":15166},15166,{"$f":"일위대가!J1795","v":122469},122469,{"$f":"일위대가!L1795","v":9218},9218,3177,"제01840호표",3,null,null,null,null,null,null,null,null,null,null,null,null,null,null,null,null,null,null,null,null,null,null,null,null,null,null,null,null,null,null,null,null,null,null,null,null,null,null,null,null,null,null,null,null,null,null,null,null,null,null,null,null,null,null,null,null,null,null,null,null,null,null,null,null,null,null,null,null,null,null,null,null,null,null,null,null,null,null,null,null,null,null,null,null,null,null,null,null,null,null,null,null,null,null,null,null,null,null,null,null,null,"BB00-0410",""]
["차선도색제거","폭15cm기준",1,"㎡",33570,33570,{"$f":"일위대가!H1800","v":3467},3467,{"$f":"일위대가!J1800","v":27996},27996,{"$f":"일위대가!L1800","v":2107},2107,3178,"제01850호표",3,null,null,null,null,null,null,null,null,null,null,null,null,null,null,null,null,null,null,null,null,null,null,null,null,null,null,null,null,null,null,null,null,null,null,null,null,null,null,null,null,null,null,null,null,null,null,null,null,null,null,null,null,null,null,null,null,null,null,null,null,null,null,null,null,null,null,null,null,null,null,null,null,null,null,null,null,null,null,null,null,null,null,null,null,null,null,null,null,null,null,null,null,null,null,null,null,null,null,null,null,null,"BKI1400",""]
["표면보호공","스프레이어[300]",1,"a",187577,187577,{"$f":"일위대가!H2212","v":172954},172954,{"$f":"일위대가!J2212","v":14459},14459,{"$f":"일위대가!L2212","v":164},164,3179,"제02370호표",3,null,null,null,null,null,null,null,null,null,null,null,null,null,null,null,null,null,null,null,null,null,null,null,null,null,null,null,null,null,null,null,null,null,null,null,null,null,null,null,null,null,null,null,null,null,null,null,null,null,null,null,null,null,null,null,null,null,null,null,null,null,null,null,null,null,null,null,null,null,null,null,null,null,null,null,null,null,null,null,null,null,null,null,null,null,null,null,null,null,null,null,null,null,null,null,null,null,null,null,null,null,"B0177",""]
["청소비","아스팔트",1,"a",14549,14549,{"$f":"일위대가!H1829","v":440},440,{"$f":"일위대가!J1829","v":14109},14109,{"$f":"일위대가!L1829","v":0},0,3180,"제01890호표",3,null,null,null,null,null,null,null,null,null,null,null,null,null,null,null,null,null,null,null,null,null,null,null,null,null,null,null,null,null,null,null,null,null,null,null,null,null,null,null,null,null,null,null,null,null,null,null,null,null,null,null,null,null,null,null,null,null,null,null,null,null,null,null,null,null,null,null,null,null,null,null,null,null,null,null,null,null,null,null,null,null,null,null,null,null,null,null,null,null,null,null,null,null,null,null,null,null,null,null,null,null,"B0337",""]
["도로시설물 세척","",1,"㎡",4316,4316,{"$f":"일위대가!H531","v":78},78,{"$f":"일위대가!J531","v":3880},3880,{"$f":"일위대가!L531","v":358},358,3181,"제00660호표",3,null,null,null,null,null,null,null,null,null,null,null,null,null,null,null,null,null,null,null,null,null,null,null,null,null,null,null,null,null,null,null,null,null,null,null,null,null,null,null,null,null,null,null,null,null,null,null,null,null,null,null,null,null,null,null,null,null,null,null,null,null,null,null,null,null,null,null,null,null,null,null,null,null,null,null,null,null,null,null,null,null,null,null,null,null,null,null,null,null,null,null,null,null,null,null,null,null,null,null,null,null,"B000-0290",""]
[]
["4. 구조물공",null,1,"식"]
["L형측구설치","B=45Cm[레미콘]",1,"m",14477,14477,{"$f":"일위대가!H58","v":2596},2596,{"$f":"일위대가!J58","v":11686},11686,{"$f":"일위대가!L58","v":195},195,4001,"제00040호표",4,null,null,null,null,null,null,null,null,null,null,null,null,null,null,null,null,null,null,null,null,null,null,null,null,null,null,null,null,null,null,null,null,null,null,null,null,null,null,null,null,null,null,null,null,null,null,null,null,null,null,null,null,null,null,null,null,null,null,null,null,null,null,null,null,null,null,null,null,null,null,null,null,null,null,null,null,null,null,null,null,null,null,null,null,null,null,null,null,null,null,null,null,null,null,null,null,null,null,null,null,null,"BHE2110",""]
["L형측구설치","B=50Cm[레미콘]",1,"m",14691,14691,{"$f":"일위대가!H65","v":2611},2611,{"$f":"일위대가!J65","v":11864},11864,{"$f":"일위대가!L65","v":216},216,4002,"제00050호표",4,null,null,null,null,null,null,null,null,null,null,null,null,null,null,null,null,null,null,null,null,null,null,null,null,null,null,null,null,null,null,null,null,null,null,null,null,null,null,null,null,null,null,null,null,null,null,null,null,null,null,null,null,null,null,null,null,null,null,null,null,null,null,null,null,null,null,null,null,null,null,null,null,null,null,null,null,null,null,null,null,null,null,null,null,null,null,null,null,null,null,null,null,null,null,null,null,null,null,null,null,null,"BHE2120",""]
["L형측구설치","B=45Cm[인력]",1,"m",44488,44488,{"$f":"일위대가!H71","v":8130},8130,{"$f":"일위대가!J71","v":35668},35668,{"$f":"일위대가!L71","v":690},690,4003,"제00060호표",4,null,null,null,null,null,null,null,null,null,null,null,null,null,null,null,null,null,null,null,null,null,null,null,null,null,null,null,null,null,null,null,null,null,null,null,null,null,null,null,null,null,null,null,null,null,null,null,null,null,null,null,null,null,null,null,null,null,null,null,null,null,null,null,null,null,null,null,null,null,null,null,null,null,null,null,null,null,null,null,null,null,null,null,null,null,null,null,null,null,null,null,null,null,null,null,null,null,null,null,null,null,"BHE2130",""]
["L형측구설치","B=50Cm[인력]",1,"m",47842,47842,{"$f":"일위대가!H77","v":8724},8724,{"$f":"일위대가!J77","v":38355},38355,{"$f":"일위대가!L77","v":763},763,4004,"제00070호표",4,null,null,null,null,null,null,null,null,null,null,null,null,null,null,null,null,null,null,null,null,null,null,null,null,null,null,null,null,null,null,null,null,null,null,null,null,null,null,null,null,null,null,null,null,null,null,null,null,null,null,null,null,null,null,null,null,null,null,null,null,null,null,null,null,null,null,null,null,null,null,null,null,null,null,null,null,null,null,null,null,null,null,null,null,null,null,null,null,null,null,null,null,null,null,null,null,null,null,null,null,null,"BHE2140",""]
["거푸집[합판1회]","기준,수직고 0∼7m",1,"㎡",95701,95701,{"$f":"일위대가!H161","v":23904},23904,{"$f":"일위대가!J161","v":71797},71797,{"$f":"일위대가!L161","v":0},0,4005,"제00170호표",4,null,null,null,null,null,null,null,null,null,null,null,null,null,null,null,null,null,null,null,null,null,null,null,null,null,null,null,null,null,null,null,null,null,null,null,null,null,null,null,null,null,null,null,null,null,null,null,null,null,null,null,null,null,null,null,null,null,null,null,null,null,null,null,null,null,null,null,null,null,null,null,null,null,null,null,null,null,null,null,null,null,null,null,null,null,null,null,null,null,null,null,null,null,null,null,null,null,null,null,null,null,"BFC2100",""]
["거푸집[합판2회]","매우복잡/소규모",1,"㎡",62541,62541,{"$f":"일위대가!H168","v":14756},14756,{"$f":"일위대가!J168","v":47785},47785,{"$f":"일위대가!L168","v":0},0,4006,"제00180호표",4,null,null,null,null,null,null,null,null,null,null,null,null,null,null,null,null,null,null,null,null,null,null,null,null,null,null,null,null,null,null,null,null,null,null,null,null,null,null,null,null,null,null,null,null,null,null,null,null,null,null,null,null,null,null,null,null,null,null,null,null,null,null,null,null,null,null,null,null,null,null,null,null,null,null,null,null,null,null,null,null,null,null,null,null,null,null,null,null,null,null,null,null,null,null,null,null,null,null,null,null,null,"BFC2610",""]
["거푸집[합판3회]","복잡",1,"㎡",54276,54276,{"$f":"일위대가!H175","v":12428},12428,{"$f":"일위대가!J175","v":41848},41848,{"$f":"일위대가!L175","v":0},0,4007,"제00190호표",4,null,null,null,null,null,null,null,null,null,null,null,null,null,null,null,null,null,null,null,null,null,null,null,null,null,null,null,null,null,null,null,null,null,null,null,null,null,null,null,null,null,null,null,null,null,null,null,null,null,null,null,null,null,null,null,null,null,null,null,null,null,null,null,null,null,null,null,null,null,null,null,null,null,null,null,null,null,null,null,null,null,null,null,null,null,null,null,null,null,null,null,null,null,null,null,null,null,null,null,null,null,"BFC2300",""]
["거푸집[합판4회]","보통",1,"㎡",40275,40275,{"$f":"일위대가!H182","v":11152},11152,{"$f":"일위대가!J182","v":29123},29123,{"$f":"일위대가!L182","v":0},0,4008,"제00210호표",4,null,null,null,null,null,null,null,null,null,null,null,null,null,null,null,null,null,null,null,null,null,null,null,null,null,null,null,null,null,null,null,null,null,null,null,null,null,null,null,null,null,null,null,null,null,null,null,null,null,null,null,null,null,null,null,null,null,null,null,null,null,null,null,null,null,null,null,null,null,null,null,null,null,null,null,null,null,null,null,null,null,null,null,null,null,null,null,null,null,null,null,null,null,null,null,null,null,null,null,null,null,"BFC2400",""]
["거푸집[합판6회]","간단",1,"㎡",35793,35793,{"$f":"일위대가!H189","v":10344},10344,{"$f":"일위대가!J189","v":25449},25449,{"$f":"일위대가!L189","v":0},0,4009,"제00230호표",4,null,null,null,null,null,null,null,null,null,null,null,null,null,null,null,null,null,null,null,null,null,null,null,null,null,null,null,null,null,null,null,null,null,null,null,null,null,null,null,null,null,null,null,null,null,null,null,null,null,null,null,null,null,null,null,null,null,null,null,null,null,null,null,null,null,null,null,null,null,null,null,null,null,null,null,null,null,null,null,null,null,null,null,null,null,null,null,null,null,null,null,null,null,null,null,null,null,null,null,null,null,"BFC2600",""]
["거푸집","문양,합성수지",1,"㎡",32860,32860,{"$f":"일위대가!H198","v":915},915,{"$f":"일위대가!J198","v":31945},31945,{"$f":"일위대가!L198","v":0},0,4010,"제00320호표",4,null,null,null,null,null,null,null,null,null,null,null,null,null,null,null,null,null,null,null,null,null,null,null,null,null,null,null,null,null,null,null,null,null,null,null,null,null,null,null,null,null,null,null,null,null,null,null,null,null,null,null,null,null,null,null,null,null,null,null,null,null,null,null,null,null,null,null,null,null,null,null,null,null,null,null,null,null,null,null,null,null,null,null,null,null,null,null,null,null,null,null,null,null,null,null,null,null,null,null,null,null,"BFC5000",""]
["기계비빔타설[fck=210kgf/cm2]","무근구조물",1,"㎥",178217,178217,{"$f":"일위대가!H300","v":67422},67422,{"$f":"일위대가!J300","v":102461},102461,{"$f":"일위대가!L300","v":8334},8334,4011,"제00420호표",4,null,null,null,null,null,null,null,null,null,null,null,null,null,null,null,null,null,null,null,null,null,null,null,null,null,null,null,null,null,null,null,null,null,null,null,null,null,null,null,null,null,null,null,null,null,null,null,null,null,null,null,null,null,null,null,null,null,null,null,null,null,null,null,null,null,null,null,null,null,null,null,null,null,null,null,null,null,null,null,null,null,null,null,null,null,null,null,null,null,null,null,null,null,null,null,null,null,null,null,null,null,"BFB2120",""]
["기계비빔타설[fck=210kgf/cm2]","철근구조물",1,"㎥",213561,213561,{"$f":"일위대가!H310","v":67422},67422,{"$f":"일위대가!J310","v":137805},137805,{"$f":"일위대가!L310","v":8334},8334,4012,"제00430호표",4,null,null,null,null,null,null,null,null,null,null,null,null,null,null,null,null,null,null,null,null,null,null,null,null,null,null,null,null,null,null,null,null,null,null,null,null,null,null,null,null,null,null,null,null,null,null,null,null,null,null,null,null,null,null,null,null,null,null,null,null,null,null,null,null,null,null,null,null,null,null,null,null,null,null,null,null,null,null,null,null,null,null,null,null,null,null,null,null,null,null,null,null,null,null,null,null,null,null,null,null,null,"BFB2220",""]
["기계비빔타설[fck=210kgf/cm2]","소형구조물 10㎥미만",1,"㎥",265306,265306,{"$f":"일위대가!H320","v":67422},67422,{"$f":"일위대가!J320","v":189550},189550,{"$f":"일위대가!L320","v":8334},8334,4013,"제00440호표",4,null,null,null,null,null,null,null,null,null,null,null,null,null,null,null,null,null,null,null,null,null,null,null,null,null,null,null,null,null,null,null,null,null,null,null,null,null,null,null,null,null,null,null,null,null,null,null,null,null,null,null,null,null,null,null,null,null,null,null,null,null,null,null,null,null,null,null,null,null,null,null,null,null,null,null,null,null,null,null,null,null,null,null,null,null,null,null,null,null,null,null,null,null,null,null,null,null,null,null,null,null,"BFB2320",""]
["레미콘타설","장비사용,철근구조물",1,"㎥",26690,26690,{"$f":"일위대가!H606","v":1844},1844,{"$f":"일위대가!J606","v":22311},22311,{"$f":"일위대가!L606","v":2535},2535,4014,"제00770호표",4,null,null,null,null,null,null,null,null,null,null,null,null,null,null,null,null,null,null,null,null,null,null,null,null,null,null,null,null,null,null,null,null,null,null,null,null,null,null,null,null,null,null,null,null,null,null,null,null,null,null,null,null,null,null,null,null,null,null,null,null,null,null,null,null,null,null,null,null,null,null,null,null,null,null,null,null,null,null,null,null,null,null,null,null,null,null,null,null,null,null,null,null,null,null,null,null,null,null,null,null,null,"BFB0-0260",""]
["레미콘타설","장비사용,무근구조물",1,"㎥",23651,23651,{"$f":"일위대가!H614","v":1660},1660,{"$f":"일위대가!J614","v":19717},19717,{"$f":"일위대가!L614","v":2274},2274,4015,"제00780호표",4,null,null,null,null,null,null,null,null,null,null,null,null,null,null,null,null,null,null,null,null,null,null,null,null,null,null,null,null,null,null,null,null,null,null,null,null,null,null,null,null,null,null,null,null,null,null,null,null,null,null,null,null,null,null,null,null,null,null,null,null,null,null,null,null,null,null,null,null,null,null,null,null,null,null,null,null,null,null,null,null,null,null,null,null,null,null,null,null,null,null,null,null,null,null,null,null,null,null,null,null,null,"BFB1100",""]
["레미콘타설","장비사용,소형구조물 6㎥미만",1,"㎥",48831,48831,{"$f":"일위대가!H622","v":5719},5719,{"$f":"일위대가!J622","v":35917},35917,{"$f":"일위대가!L622","v":7195},7195,4016,"제00790호표",4,null,null,null,null,null,null,null,null,null,null,null,null,null,null,null,null,null,null,null,null,null,null,null,null,null,null,null,null,null,null,null,null,null,null,null,null,null,null,null,null,null,null,null,null,null,null,null,null,null,null,null,null,null,null,null,null,null,null,null,null,null,null,null,null,null,null,null,null,null,null,null,null,null,null,null,null,null,null,null,null,null,null,null,null,null,null,null,null,null,null,null,null,null,null,null,null,null,null,null,null,null,"BFB1300",""]
["인력비빔타설[fck=180kgf/cm2]","무근구조물",1,"㎥",367815,367815,{"$f":"일위대가!H1482","v":62458},62458,{"$f":"일위대가!J1482","v":298571},298571,{"$f":"일위대가!L1482","v":6786},6786,4017,"제01490호표",4,null,null,null,null,null,null,null,null,null,null,null,null,null,null,null,null,null,null,null,null,null,null,null,null,null,null,null,null,null,null,null,null,null,null,null,null,null,null,null,null,null,null,null,null,null,null,null,null,null,null,null,null,null,null,null,null,null,null,null,null,null,null,null,null,null,null,null,null,null,null,null,null,null,null,null,null,null,null,null,null,null,null,null,null,null,null,null,null,null,null,null,null,null,null,null,null,null,null,null,null,null,"BFB3130",""]
["인력비빔타설[fck=180kgf/cm2]","철근구조물",1,"㎥",396105,396105,{"$f":"일위대가!H1490","v":62458},62458,{"$f":"일위대가!J1490","v":326861},326861,{"$f":"일위대가!L1490","v":6786},6786,4018,"제01500호표",4,null,null,null,null,null,null,null,null,null,null,null,null,null,null,null,null,null,null,null,null,null,null,null,null,null,null,null,null,null,null,null,null,null,null,null,null,null,null,null,null,null,null,null,null,null,null,null,null,null,null,null,null,null,null,null,null,null,null,null,null,null,null,null,null,null,null,null,null,null,null,null,null,null,null,null,null,null,null,null,null,null,null,null,null,null,null,null,null,null,null,null,null,null,null,null,null,null,null,null,null,null,"BFB3230",""]
["인력비빔타설[fck=180kgf/cm2]","소형구조물 3㎥미만",1,"㎥",539016,539016,{"$f":"일위대가!H1498","v":62788},62788,{"$f":"일위대가!J1498","v":469427},469427,{"$f":"일위대가!L1498","v":6801},6801,4019,"제01510호표",4,null,null,null,null,null,null,null,null,null,null,null,null,null,null,null,null,null,null,null,null,null,null,null,null,null,null,null,null,null,null,null,null,null,null,null,null,null,null,null,null,null,null,null,null,null,null,null,null,null,null,null,null,null,null,null,null,null,null,null,null,null,null,null,null,null,null,null,null,null,null,null,null,null,null,null,null,null,null,null,null,null,null,null,null,null,null,null,null,null,null,null,null,null,null,null,null,null,null,null,null,null,"BFB3330",""]
["인력비빔타설[fck=210kgf/cm2]","무근구조물",1,"㎥",372619,372619,{"$f":"일위대가!H1506","v":66014},66014,{"$f":"일위대가!J1506","v":298571},298571,{"$f":"일위대가!L1506","v":8034},8034,4020,"제01520호표",4,null,null,null,null,null,null,null,null,null,null,null,null,null,null,null,null,null,null,null,null,null,null,null,null,null,null,null,null,null,null,null,null,null,null,null,null,null,null,null,null,null,null,null,null,null,null,null,null,null,null,null,null,null,null,null,null,null,null,null,null,null,null,null,null,null,null,null,null,null,null,null,null,null,null,null,null,null,null,null,null,null,null,null,null,null,null,null,null,null,null,null,null,null,null,null,null,null,null,null,null,null,"BFB3120",""]
["인력비빔타설[fck=210kgf/cm2]","철근구조물",1,"㎥",400909,400909,{"$f":"일위대가!H1514","v":66014},66014,{"$f":"일위대가!J1514","v":326861},326861,{"$f":"일위대가!L1514","v":8034},8034,4021,"제01530호표",4,null,null,null,null,null,null,null,null,null,null,null,null,null,null,null,null,null,null,null,null,null,null,null,null,null,null,null,null,null,null,null,null,null,null,null,null,null,null,null,null,null,null,null,null,null,null,null,null,null,null,null,null,null,null,null,null,null,null,null,null,null,null,null,null,null,null,null,null,null,null,null,null,null,null,null,null,null,null,null,null,null,null,null,null,null,null,null,null,null,null,null,null,null,null,null,null,null,null,null,null,null,"BFB3220",""]
["인력비빔타설[fck=210kgf/cm2]","소형구조물 3㎥미만",1,"㎥",543931,543931,{"$f":"일위대가!H1522","v":66463},66463,{"$f":"일위대가!J1522","v":469427},469427,{"$f":"일위대가!L1522","v":8041},8041,4022,"제01540호표",4,null,null,null,null,null,null,null,null,null,null,null,null,null,null,null,null,null,null,null,null,null,null,null,null,null,null,null,null,null,null,null,null,null,null,null,null,null,null,null,null,null,null,null,null,null,null,null,null,null,null,null,null,null,null,null,null,null,null,null,null,null,null,null,null,null,null,null,null,null,null,null,null,null,null,null,null,null,null,null,null,null,null,null,null,null,null,null,null,null,null,null,null,null,null,null,null,null,null,null,null,null,"BFB3320",""]
["인력비빔타설[fck=240kgf/cm2]","무근구조물",1,"㎥",375946,375946,{"$f":"일위대가!H1530","v":68587},68587,{"$f":"일위대가!J1530","v":298571},298571,{"$f":"일위대가!L1530","v":8788},8788,4023,"제01550호표",4,null,null,null,null,null,null,null,null,null,null,null,null,null,null,null,null,null,null,null,null,null,null,null,null,null,null,null,null,null,null,null,null,null,null,null,null,null,null,null,null,null,null,null,null,null,null,null,null,null,null,null,null,null,null,null,null,null,null,null,null,null,null,null,null,null,null,null,null,null,null,null,null,null,null,null,null,null,null,null,null,null,null,null,null,null,null,null,null,null,null,null,null,null,null,null,null,null,null,null,null,null,"BFB3110",""]
["인력비빔타설[fck=240kgf/cm2]","철근구조물",1,"㎥",404236,404236,{"$f":"일위대가!H1538","v":68587},68587,{"$f":"일위대가!J1538","v":326861},326861,{"$f":"일위대가!L1538","v":8788},8788,4024,"제01560호표",4,null,null,null,null,null,null,null,null,null,null,null,null,null,null,null,null,null,null,null,null,null,null,null,null,null,null,null,null,null,null,null,null,null,null,null,null,null,null,null,null,null,null,null,null,null,null,null,null,null,null,null,null,null,null,null,null,null,null,null,null,null,null,null,null,null,null,null,null,null,null,null,null,null,null,null,null,null,null,null,null,null,null,null,null,null,null,null,null,null,null,null,null,null,null,null,null,null,null,null,null,null,"BFB3210",""]
["인력비빔타설[fck=240kgf/cm2]","소형구조물 3㎥미만",1,"㎥",547104,547104,{"$f":"일위대가!H1546","v":68876},68876,{"$f":"일위대가!J1546","v":469427},469427,{"$f":"일위대가!L1546","v":8801},8801,4025,"제01570호표",4,null,null,null,null,null,null,null,null,null,null,null,null,null,null,null,null,null,null,null,null,null,null,null,null,null,null,null,null,null,null,null,null,null,null,null,null,null,null,null,null,null,null,null,null,null,null,null,null,null,null,null,null,null,null,null,null,null,null,null,null,null,null,null,null,null,null,null,null,null,null,null,null,null,null,null,null,null,null,null,null,null,null,null,null,null,null,null,null,null,null,null,null,null,null,null,null,null,null,null,null,null,"BFB3310",""]
["  와이어메쉬바닥깔기","",1,"㎡",3079,3079,{"$f":"일위대가!H1552","v":2004},2004,{"$f":"일위대가!J1552","v":1075},1075,{"$f":"일위대가!L1552","v":0},0,4026,"제01580호표",4,null,null,null,null,null,null,null,null,null,null,null,null,null,null,null,null,null,null,null,null,null,null,null,null,null,null,null,null,null,null,null,null,null,null,null,null,null,null,null,null,null,null,null,null,null,null,null,null,null,null,null,null,null,null,null,null,null,null,null,null,null,null,null,null,null,null,null,null,null,null,null,null,null,null,null,null,null,null,null,null,null,null,null,null,null,null,null,null,null,null,null,null,null,null,null,null,null,null,null,null,null,"B000-0200",""]
["콘크리트보양","비닐",1,"a",106313,106313,{"$f":"일위대가!H1906","v":49875},49875,{"$f":"일위대가!J1906","v":56438},56438,{"$f":"일위대가!L1906","v":0},0,4027,"제01990호표",4,null,null,null,null,null,null,null,null,null,null,null,null,null,null,null,null,null,null,null,null,null,null,null,null,null,null,null,null,null,null,null,null,null,null,null,null,null,null,null,null,null,null,null,null,null,null,null,null,null,null,null,null,null,null,null,null,null,null,null,null,null,null,null,null,null,null,null,null,null,null,null,null,null,null,null,null,null,null,null,null,null,null,null,null,null,null,null,null,null,null,null,null,null,null,null,null,null,null,null,null,null,"B0142",""]
["콘크리트양생","피믹양생재",1,"㎡",{"$f":"G367+I367+K367","v":785},{"$f":"H367+J367+L367","v":785},{"$f":"일위대가!H1912","v":350},{"$f":"TRUNC(C367*G367,0)","v":350},{"$f":"일위대가!J1912","v":423},{"$f":"TRUNC(C367*I367,0)","v":423},{"$f":"일위대가!L1912","v":12},{"$f":"TRUNC(C367*K367,0)","v":12},4028,"제02000호표",4,null,null,null,null,null,null,null,null,null,null,null,null,null,null,null,null,null,null,null,null,null,null,null,null,null,null,null,null,null,null,null,null,null,null,null,null,null,null,null,null,null,null,null,null,null,null,null,null,null,null,null,null,null,null,null,null,null,null,null,null,null,null,null,null,null,null,null,null,null,null,null,null,null,null,null,null,null,null,null,null,null,null,null,null,null,null,null,null,null,null,null,null,null,null,null,null,null,null,null,null,null,"BFJ1100",""]
["콘크리트양생","마대",1,"㎡",2696,2696,{"$f":"일위대가!H1919","v":1003},1003,{"$f":"일위대가!J1919","v":1693},1693,{"$f":"일위대가!L1919","v":0},0,4029,"제02010호표",4,null,null,null,null,null,null,null,null,null,null,null,null,null,null,null,null,null,null,null,null,null,null,null,null,null,null,null,null,null,null,null,null,null,null,null,null,null,null,null,null,null,null,null,null,null,null,null,null,null,null,null,null,null,null,null,null,null,null,null,null,null,null,null,null,null,null,null,null,null,null,null,null,null,null,null,null,null,null,null,null,null,null,null,null,null,null,null,null,null,null,null,null,null,null,null,null,null,null,null,null,null,"BFJ1200",""]
["콘크리트깨기[무근,두께30cm미만]","굴삭기0.2㎥+브레이카",1,"㎥",48943,48943,{"$f":"단가산출!CY2765","v":"4,886"},4886,{"$f":"단가산출!CZ2765","v":"35,391"},35391,{"$f":"단가산출!DA2765","v":"8,666"},8666,4030,"산근00670호표",4,null,null,null,null,null,null,null,null,null,null,null,null,null,null,null,null,null,null,null,null,null,null,null,null,null,null,null,null,null,null,null,null,null,null,null,null,null,null,null,null,null,null,null,null,null,null,null,null,null,null,null,null,null,null,null,null,null,null,null,null,null,null,null,null,null,null,null,null,null,null,null,null,null,null,null,null,null,null,null,null,null,null,null,null,null,null,null,null,null,null,null,null,null,null,null,null,null,null,null,null,null,"SDB1231",""]
["콘크리트깨기[무근,두께30cm미만]","굴삭기0.4㎥+브레이카",1,"㎥",29930,29930,{"$f":"단가산출!CY2804","v":"5,013"},5013,{"$f":"단가산출!CZ2804","v":"18,768"},18768,{"$f":"단가산출!DA2804","v":"6,149"},6149,4031,"산근00680호표",4,null,null,null,null,null,null,null,null,null,null,null,null,null,null,null,null,null,null,null,null,null,null,null,null,null,null,null,null,null,null,null,null,null,null,null,null,null,null,null,null,null,null,null,null,null,null,null,null,null,null,null,null,null,null,null,null,null,null,null,null,null,null,null,null,null,null,null,null,null,null,null,null,null,null,null,null,null,null,null,null,null,null,null,null,null,null,null,null,null,null,null,null,null,null,null,null,null,null,null,null,null,"SDB1232",""]
["콘크리트깨기[무근,두께30cm미만]","굴삭기0.6㎥+브레이카",1,"㎥",27332,27332,{"$f":"단가산출!CY2843","v":"4,605"},4605,{"$f":"단가산출!CZ2843","v":"15,483"},15483,{"$f":"단가산출!DA2843","v":"7,244"},7244,4032,"산근00690호표",4,null,null,null,null,null,null,null,null,null,null,null,null,null,null,null,null,null,null,null,null,null,null,null,null,null,null,null,null,null,null,null,null,null,null,null,null,null,null,null,null,null,null,null,null,null,null,null,null,null,null,null,null,null,null,null,null,null,null,null,null,null,null,null,null,null,null,null,null,null,null,null,null,null,null,null,null,null,null,null,null,null,null,null,null,null,null,null,null,null,null,null,null,null,null,null,null,null,null,null,null,null,"SDB1232-1",""]
["콘크리트깨기[무근,두께30cm미만]","굴삭기0.7㎥+브레이카",1,"㎥",24833,24833,{"$f":"단가산출!CY2882","v":"4,445"},4445,{"$f":"단가산출!CZ2882","v":"13,464"},13464,{"$f":"단가산출!DA2882","v":"6,924"},6924,4033,"산근00700호표",4,null,null,null,null,null,null,null,null,null,null,null,null,null,null,null,null,null,null,null,null,null,null,null,null,null,null,null,null,null,null,null,null,null,null,null,null,null,null,null,null,null,null,null,null,null,null,null,null,null,null,null,null,null,null,null,null,null,null,null,null,null,null,null,null,null,null,null,null,null,null,null,null,null,null,null,null,null,null,null,null,null,null,null,null,null,null,null,null,null,null,null,null,null,null,null,null,null,null,null,null,null,"SDB1233",""]
["콘크리트깨기[무근,두께30cm미만]","굴삭기0.8㎥+브레이카",1,"㎥",24021,24021,{"$f":"단가산출!CY2921","v":"5,064"},5064,{"$f":"단가산출!CZ2921","v":"11,910"},11910,{"$f":"단가산출!DA2921","v":"7,047"},7047,4034,"산근00710호표",4,null,null,null,null,null,null,null,null,null,null,null,null,null,null,null,null,null,null,null,null,null,null,null,null,null,null,null,null,null,null,null,null,null,null,null,null,null,null,null,null,null,null,null,null,null,null,null,null,null,null,null,null,null,null,null,null,null,null,null,null,null,null,null,null,null,null,null,null,null,null,null,null,null,null,null,null,null,null,null,null,null,null,null,null,null,null,null,null,null,null,null,null,null,null,null,null,null,null,null,null,null,"SDB1234",""]
["콘크리트깨기[철근,두께30cm미만]","굴삭기0.4㎥+브레이카",1,"㎥",61733,61733,{"$f":"단가산출!CY2960","v":"10,340"},10340,{"$f":"단가산출!CZ2960","v":"38,709"},38709,{"$f":"단가산출!DA2960","v":"12,684"},12684,4035,"산근00720호표",4,null,null,null,null,null,null,null,null,null,null,null,null,null,null,null,null,null,null,null,null,null,null,null,null,null,null,null,null,null,null,null,null,null,null,null,null,null,null,null,null,null,null,null,null,null,null,null,null,null,null,null,null,null,null,null,null,null,null,null,null,null,null,null,null,null,null,null,null,null,null,null,null,null,null,null,null,null,null,null,null,null,null,null,null,null,null,null,null,null,null,null,null,null,null,null,null,null,null,null,null,null,"SDB1132",""]
["콘크리트깨기[철근,두께30cm미만]","굴삭기0.6㎥+브레이카",1,"㎥",54667,54667,{"$f":"단가산출!CY2999","v":"9,211"},9211,{"$f":"단가산출!CZ2999","v":"30,968"},30968,{"$f":"단가산출!DA2999","v":"14,488"},14488,4036,"산근00730호표",4,null,null,null,null,null,null,null,null,null,null,null,null,null,null,null,null,null,null,null,null,null,null,null,null,null,null,null,null,null,null,null,null,null,null,null,null,null,null,null,null,null,null,null,null,null,null,null,null,null,null,null,null,null,null,null,null,null,null,null,null,null,null,null,null,null,null,null,null,null,null,null,null,null,null,null,null,null,null,null,null,null,null,null,null,null,null,null,null,null,null,null,null,null,null,null,null,null,null,null,null,null,"SDB1132-1",""]
["콘크리트깨기[철근,두께30cm미만]","굴삭기0.7㎥+브레이카",1,"㎥",46626,46626,{"$f":"단가산출!CY3038","v":"8,346"},8346,{"$f":"단가산출!CZ3038","v":"25,279"},25279,{"$f":"단가산출!DA3038","v":"13,001"},13001,4037,"산근00740호표",4,null,null,null,null,null,null,null,null,null,null,null,null,null,null,null,null,null,null,null,null,null,null,null,null,null,null,null,null,null,null,null,null,null,null,null,null,null,null,null,null,null,null,null,null,null,null,null,null,null,null,null,null,null,null,null,null,null,null,null,null,null,null,null,null,null,null,null,null,null,null,null,null,null,null,null,null,null,null,null,null,null,null,null,null,null,null,null,null,null,null,null,null,null,null,null,null,null,null,null,null,null,"SDB1133",""]
["콘크리트깨기[철근,두께30cm미만]","굴삭기0.8㎥+브레이카",1,"㎥",43074,43074,{"$f":"단가산출!CY3077","v":"9,080"},9080,{"$f":"단가산출!CZ3077","v":"21,357"},21357,{"$f":"단가산출!DA3077","v":"12,637"},12637,4038,"산근00750호표",4,null,null,null,null,null,null,null,null,null,null,null,null,null,null,null,null,null,null,null,null,null,null,null,null,null,null,null,null,null,null,null,null,null,null,null,null,null,null,null,null,null,null,null,null,null,null,null,null,null,null,null,null,null,null,null,null,null,null,null,null,null,null,null,null,null,null,null,null,null,null,null,null,null,null,null,null,null,null,null,null,null,null,null,null,null,null,null,null,null,null,null,null,null,null,null,null,null,null,null,null,null,"SDB1134",""]
["호안블럭붙임","400*400*120",1,"㎡",41168,41168,{"$f":"일위대가!H2359","v":15266},15266,{"$f":"일위대가!J2359","v":25405},25405,{"$f":"일위대가!L2359","v":497},497,4039,"제02550호표",4,null,null,null,null,null,null,null,null,null,null,null,null,null,null,null,null,null,null,null,null,null,null,null,null,null,null,null,null,null,null,null,null,null,null,null,null,null,null,null,null,null,null,null,null,null,null,null,null,null,null,null,null,null,null,null,null,null,null,null,null,null,null,null,null,null,null,null,null,null,null,null,null,null,null,null,null,null,null,null,null,null,null,null,null,null,null,null,null,null,null,null,null,null,null,null,null,null,null,null,null,null,"B0208",""]
["정원석쌓기","20톤이상",1,"TON",252108,252108,{"$f":"일위대가!H1569","v":12619},12619,{"$f":"일위대가!J1569","v":218933},218933,{"$f":"일위대가!L1569","v":20556},20556,4040,"제01610호표",4,null,null,null,null,null,null,null,null,null,null,null,null,null,null,null,null,null,null,null,null,null,null,null,null,null,null,null,null,null,null,null,null,null,null,null,null,null,null,null,null,null,null,null,null,null,null,null,null,null,null,null,null,null,null,null,null,null,null,null,null,null,null,null,null,null,null,null,null,null,null,null,null,null,null,null,null,null,null,null,null,null,null,null,null,null,null,null,null,null,null,null,null,null,null,null,null,null,null,null,null,null,"B0339",""]
["정원석쌓기","20톤미만",1,"TON",281958,281958,{"$f":"일위대가!H1576","v":12120},12120,{"$f":"일위대가!J1576","v":248934},248934,{"$f":"일위대가!L1576","v":20904},20904,4041,"제01620호표",4,null,null,null,null,null,null,null,null,null,null,null,null,null,null,null,null,null,null,null,null,null,null,null,null,null,null,null,null,null,null,null,null,null,null,null,null,null,null,null,null,null,null,null,null,null,null,null,null,null,null,null,null,null,null,null,null,null,null,null,null,null,null,null,null,null,null,null,null,null,null,null,null,null,null,null,null,null,null,null,null,null,null,null,null,null,null,null,null,null,null,null,null,null,null,null,null,null,null,null,null,null,"B0340",""]
["자연석쌓기","기계+인력",1,"TON",116374,116374,{"$f":"일위대가!H1583","v":9539},9539,{"$f":"일위대가!J1583","v":94653},94653,{"$f":"일위대가!L1583","v":12182},12182,4042,"제01630호표",4,null,null,null,null,null,null,null,null,null,null,null,null,null,null,null,null,null,null,null,null,null,null,null,null,null,null,null,null,null,null,null,null,null,null,null,null,null,null,null,null,null,null,null,null,null,null,null,null,null,null,null,null,null,null,null,null,null,null,null,null,null,null,null,null,null,null,null,null,null,null,null,null,null,null,null,null,null,null,null,null,null,null,null,null,null,null,null,null,null,null,null,null,null,null,null,null,null,null,null,null,null,"B0341",""]
["모르터","배합비 11",1,"㎥",220777,220777,{"$f":"일위대가!H632","v":131688},131688,{"$f":"일위대가!J632","v":60671},60671,{"$f":"일위대가!L632","v":28418},28418,4043,"제00810호표",4,null,null,null,null,null,null,null,null,null,null,null,null,null,null,null,null,null,null,null,null,null,null,null,null,null,null,null,null,null,null,null,null,null,null,null,null,null,null,null,null,null,null,null,null,null,null,null,null,null,null,null,null,null,null,null,null,null,null,null,null,null,null,null,null,null,null,null,null,null,null,null,null,null,null,null,null,null,null,null,null,null,null,null,null,null,null,null,null,null,null,null,null,null,null,null,null,null,null,null,null,null,"BFJ8100",""]
["모르터","배합비 12",1,"㎥",175122,175122,{"$f":"일위대가!H638","v":96771},96771,{"$f":"일위대가!J638","v":60671},60671,{"$f":"일위대가!L638","v":17680},17680,4044,"제00820호표",4,null,null,null,null,null,null,null,null,null,null,null,null,null,null,null,null,null,null,null,null,null,null,null,null,null,null,null,null,null,null,null,null,null,null,null,null,null,null,null,null,null,null,null,null,null,null,null,null,null,null,null,null,null,null,null,null,null,null,null,null,null,null,null,null,null,null,null,null,null,null,null,null,null,null,null,null,null,null,null,null,null,null,null,null,null,null,null,null,null,null,null,null,null,null,null,null,null,null,null,null,null,"BFJ8200",""]
["모르터","배합비 13",1,"㎥",157459,157459,{"$f":"일위대가!H644","v":83528},83528,{"$f":"일위대가!J644","v":60671},60671,{"$f":"일위대가!L644","v":13260},13260,4045,"제00830호표",4,null,null,null,null,null,null,null,null,null,null,null,null,null,null,null,null,null,null,null,null,null,null,null,null,null,null,null,null,null,null,null,null,null,null,null,null,null,null,null,null,null,null,null,null,null,null,null,null,null,null,null,null,null,null,null,null,null,null,null,null,null,null,null,null,null,null,null,null,null,null,null,null,null,null,null,null,null,null,null,null,null,null,null,null,null,null,null,null,null,null,null,null,null,null,null,null,null,null,null,null,null,"BFJ8300",""]
["무근콘크리트깨기","인력",1,"㎥",396958,396958,{"$f":"일위대가!H649","v":18902},18902,{"$f":"일위대가!J649","v":378056},378056,{"$f":"일위대가!L649","v":0},0,4046,"제00840호표",4,null,null,null,null,null,null,null,null,null,null,null,null,null,null,null,null,null,null,null,null,null,null,null,null,null,null,null,null,null,null,null,null,null,null,null,null,null,null,null,null,null,null,null,null,null,null,null,null,null,null,null,null,null,null,null,null,null,null,null,null,null,null,null,null,null,null,null,null,null,null,null,null,null,null,null,null,null,null,null,null,null,null,null,null,null,null,null,null,null,null,null,null,null,null,null,null,null,null,null,null,null,"BDB1210",""]
["무근콘크리트깨기","소형브레이카+공기압축기",1,"㎥",172736,172736,{"$f":"일위대가!H657","v":6197},6197,{"$f":"일위대가!J657","v":165243},165243,{"$f":"일위대가!L657","v":1296},1296,4047,"제00850호표",4,null,null,null,null,null,null,null,null,null,null,null,null,null,null,null,null,null,null,null,null,null,null,null,null,null,null,null,null,null,null,null,null,null,null,null,null,null,null,null,null,null,null,null,null,null,null,null,null,null,null,null,null,null,null,null,null,null,null,null,null,null,null,null,null,null,null,null,null,null,null,null,null,null,null,null,null,null,null,null,null,null,null,null,null,null,null,null,null,null,null,null,null,null,null,null,null,null,null,null,null,null,"BDB1220",""]
["무수축몰탈","fck=600kg/㎠",1,"㎥",498121,498121,{"$f":"일위대가!H671","v":123285},123285,{"$f":"일위대가!J671","v":348836},348836,{"$f":"일위대가!L671","v":26000},26000,4048,"제00870호표",4,null,null,null,null,null,null,null,null,null,null,null,null,null,null,null,null,null,null,null,null,null,null,null,null,null,null,null,null,null,null,null,null,null,null,null,null,null,null,null,null,null,null,null,null,null,null,null,null,null,null,null,null,null,null,null,null,null,null,null,null,null,null,null,null,null,null,null,null,null,null,null,null,null,null,null,null,null,null,null,null,null,null,null,null,null,null,null,null,null,null,null,null,null,null,null,null,null,null,null,null,null,"BFJ7100",""]
["무수축콘크리트","",1,"㎥",576832,576832,{"$f":"일위대가!H680","v":91805},91805,{"$f":"일위대가!J680","v":469427},469427,{"$f":"일위대가!L680","v":15600},15600,4049,"제00880호표",4,null,null,null,null,null,null,null,null,null,null,null,null,null,null,null,null,null,null,null,null,null,null,null,null,null,null,null,null,null,null,null,null,null,null,null,null,null,null,null,null,null,null,null,null,null,null,null,null,null,null,null,null,null,null,null,null,null,null,null,null,null,null,null,null,null,null,null,null,null,null,null,null,null,null,null,null,null,null,null,null,null,null,null,null,null,null,null,null,null,null,null,null,null,null,null,null,null,null,null,null,null,"BFJ7200",""]
["벽돌부수기","인력",1,"㎡",171005,171005,{"$f":"일위대가!H756","v":8143},8143,{"$f":"일위대가!J756","v":162862},162862,{"$f":"일위대가!L756","v":0},0,4050,"제00950호표",4,null,null,null,null,null,null,null,null,null,null,null,null,null,null,null,null,null,null,null,null,null,null,null,null,null,null,null,null,null,null,null,null,null,null,null,null,null,null,null,null,null,null,null,null,null,null,null,null,null,null,null,null,null,null,null,null,null,null,null,null,null,null,null,null,null,null,null,null,null,null,null,null,null,null,null,null,null,null,null,null,null,null,null,null,null,null,null,null,null,null,null,null,null,null,null,null,null,null,null,null,null,"B0050",""]
["벽돌헐기","인력",1,"㎡",167997,167997,{"$f":"일위대가!H762","v":7999},7999,{"$f":"일위대가!J762","v":159998},159998,{"$f":"일위대가!L762","v":0},0,4051,"제00960호표",4,null,null,null,null,null,null,null,null,null,null,null,null,null,null,null,null,null,null,null,null,null,null,null,null,null,null,null,null,null,null,null,null,null,null,null,null,null,null,null,null,null,null,null,null,null,null,null,null,null,null,null,null,null,null,null,null,null,null,null,null,null,null,null,null,null,null,null,null,null,null,null,null,null,null,null,null,null,null,null,null,null,null,null,null,null,null,null,null,null,null,null,null,null,null,null,null,null,null,null,null,null,"BDB3400",""]
["빗물받이설치[1호]","[300x400] 차도측",1,"개소",467027,467027,{"$f":"일위대가!H1093","v":85586},85586,{"$f":"일위대가!J1093","v":378932},378932,{"$f":"일위대가!L1093","v":2509},2509,4052,"제01200호표",4,null,null,null,null,null,null,null,null,null,null,null,null,null,null,null,null,null,null,null,null,null,null,null,null,null,null,null,null,null,null,null,null,null,null,null,null,null,null,null,null,null,null,null,null,null,null,null,null,null,null,null,null,null,null,null,null,null,null,null,null,null,null,null,null,null,null,null,null,null,null,null,null,null,null,null,null,null,null,null,null,null,null,null,null,null,null,null,null,null,null,null,null,null,null,null,null,null,null,null,null,null,"BHF1110",""]
["빗물받이설치[2호]","[300x900] 차도측",1,"개소",693891,693891,{"$f":"일위대가!H1103","v":127201},127201,{"$f":"일위대가!J1103","v":562923},562923,{"$f":"일위대가!L1103","v":3767},3767,4053,"제01210호표",4,null,null,null,null,null,null,null,null,null,null,null,null,null,null,null,null,null,null,null,null,null,null,null,null,null,null,null,null,null,null,null,null,null,null,null,null,null,null,null,null,null,null,null,null,null,null,null,null,null,null,null,null,null,null,null,null,null,null,null,null,null,null,null,null,null,null,null,null,null,null,null,null,null,null,null,null,null,null,null,null,null,null,null,null,null,null,null,null,null,null,null,null,null,null,null,null,null,null,null,null,null,"BHF1120",""]
["석축헐기[메쌓기]","인력[뒷길이45∼60cm]",1,"㎡",29629,29629,{"$f":"일위대가!H1108","v":1410},1410,{"$f":"일위대가!J1108","v":28219},28219,{"$f":"일위대가!L1108","v":0},0,4054,"제01220호표",4,null,null,null,null,null,null,null,null,null,null,null,null,null,null,null,null,null,null,null,null,null,null,null,null,null,null,null,null,null,null,null,null,null,null,null,null,null,null,null,null,null,null,null,null,null,null,null,null,null,null,null,null,null,null,null,null,null,null,null,null,null,null,null,null,null,null,null,null,null,null,null,null,null,null,null,null,null,null,null,null,null,null,null,null,null,null,null,null,null,null,null,null,null,null,null,null,null,null,null,null,null,"BDB3210",""]
["석축헐기[메쌓기]","인력[뒷길이60∼90cm]",1,"㎡",44444,44444,{"$f":"일위대가!H1113","v":2116},2116,{"$f":"일위대가!J1113","v":42328},42328,{"$f":"일위대가!L1113","v":0},0,4055,"제01230호표",4,null,null,null,null,null,null,null,null,null,null,null,null,null,null,null,null,null,null,null,null,null,null,null,null,null,null,null,null,null,null,null,null,null,null,null,null,null,null,null,null,null,null,null,null,null,null,null,null,null,null,null,null,null,null,null,null,null,null,null,null,null,null,null,null,null,null,null,null,null,null,null,null,null,null,null,null,null,null,null,null,null,null,null,null,null,null,null,null,null,null,null,null,null,null,null,null,null,null,null,null,null,"BDB3220",""]
["수축줄눈","20x25MM",1,"m",3307,3307,{"$f":"일위대가!H1134","v":3150},3150,{"$f":"일위대가!J1134","v":157},157,{"$f":"일위대가!L1134","v":0},0,4056,"제01250호표",4,null,null,null,null,null,null,null,null,null,null,null,null,null,null,null,null,null,null,null,null,null,null,null,null,null,null,null,null,null,null,null,null,null,null,null,null,null,null,null,null,null,null,null,null,null,null,null,null,null,null,null,null,null,null,null,null,null,null,null,null,null,null,null,null,null,null,null,null,null,null,null,null,null,null,null,null,null,null,null,null,null,null,null,null,null,null,null,null,null,null,null,null,null,null,null,null,null,null,null,null,null,"BFG1120",""]
["수팽창지수재","",1,"m",2094,2094,{"$f":"일위대가!H1139","v":1995},1995,{"$f":"일위대가!J1139","v":99},99,{"$f":"일위대가!L1139","v":0},0,4057,"제01260호표",4,null,null,null,null,null,null,null,null,null,null,null,null,null,null,null,null,null,null,null,null,null,null,null,null,null,null,null,null,null,null,null,null,null,null,null,null,null,null,null,null,null,null,null,null,null,null,null,null,null,null,null,null,null,null,null,null,null,null,null,null,null,null,null,null,null,null,null,null,null,null,null,null,null,null,null,null,null,null,null,null,null,null,null,null,null,null,null,null,null,null,null,null,null,null,null,null,null,null,null,null,null,"BFG2210",""]
["신구콘크리트접합","EPOXY바르기",1,"㎡",48108,48108,{"$f":"일위대가!H1146","v":21955},21955,{"$f":"일위대가!J1146","v":25641},25641,{"$f":"일위대가!L1146","v":512},512,4058,"제01270호표",4,null,null,null,null,null,null,null,null,null,null,null,null,null,null,null,null,null,null,null,null,null,null,null,null,null,null,null,null,null,null,null,null,null,null,null,null,null,null,null,null,null,null,null,null,null,null,null,null,null,null,null,null,null,null,null,null,null,null,null,null,null,null,null,null,null,null,null,null,null,null,null,null,null,null,null,null,null,null,null,null,null,null,null,null,null,null,null,null,null,null,null,null,null,null,null,null,null,null,null,null,null,"BFJ6000",""]
["과속방지턱도색","상온식",1,"㎡",12828,12828,{"$f":"일위대가!H210","v":1076},1076,{"$f":"일위대가!J210","v":11752},11752,{"$f":"일위대가!L210","v":0},0,4059,"제00340호표",4,null,null,null,null,null,null,null,null,null,null,null,null,null,null,null,null,null,null,null,null,null,null,null,null,null,null,null,null,null,null,null,null,null,null,null,null,null,null,null,null,null,null,null,null,null,null,null,null,null,null,null,null,null,null,null,null,null,null,null,null,null,null,null,null,null,null,null,null,null,null,null,null,null,null,null,null,null,null,null,null,null,null,null,null,null,null,null,null,null,null,null,null,null,null,null,null,null,null,null,null,null,"BKZ3300",""]
["과속방지턱도색","융착식",1,"㎡",{"$f":"G399+I399+K399","v":29767},{"$f":"H399+J399+L399","v":29767},{"$f":"일위대가!H223","v":18766},{"$f":"TRUNC(C399*G399,0)","v":18766},{"$f":"일위대가!J223","v":9207},{"$f":"TRUNC(C399*I399,0)","v":9207},{"$f":"일위대가!L223","v":1794},{"$f":"TRUNC(C399*K399,0)","v":1794},4060,"제00341호표",4,null,null,null,null,null,null,null,null,null,null,null,null,null,null,null,null,null,null,null,null,null,null,null,null,null,null,null,null,null,null,null,null,null,null,null,null,null,null,null,null,null,null,null,null,null,null,null,null,null,null,null,null,null,null,null,null,null,null,null,null,null,null,null,null,null,null,null,null,null,null,null,null,null,null,null,null,null,null,null,null,null,null,null,null,null,null,null,null,null,null,null,null,null,null,null,null,null,null,null,null,null,"BKZ3300",""]
["무늬스치로폴","",1,"㎡",13368,13368,{"$f":"일위대가!H663","v":3644},3644,{"$f":"일위대가!J663","v":9724},9724,{"$f":"일위대가!L663","v":0},0,4061,"제00860호표",4,null,null,null,null,null,null,null,null,null,null,null,null,null,null,null,null,null,null,null,null,null,null,null,null,null,null,null,null,null,null,null,null,null,null,null,null,null,null,null,null,null,null,null,null,null,null,null,null,null,null,null,null,null,null,null,null,null,null,null,null,null,null,null,null,null,null,null,null,null,null,null,null,null,null,null,null,null,null,null,null,null,null,null,null,null,null,null,null,null,null,null,null,null,null,null,null,null,null,null,null,null,"BFC8000",""]
["과속방지턱설치","B=3.6M",1,"m",87012,87012,{"$f":"일위대가!H236","v":10901},10901,{"$f":"일위대가!J236","v":74481},74481,{"$f":"일위대가!L236","v":1630},1630,4062,"제00350호표",4,null,null,null,null,null,null,null,null,null,null,null,null,null,null,null,null,null,null,null,null,null,null,null,null,null,null,null,null,null,null,null,null,null,null,null,null,null,null,null,null,null,null,null,null,null,null,null,null,null,null,null,null,null,null,null,null,null,null,null,null,null,null,null,null,null,null,null,null,null,null,null,null,null,null,null,null,null,null,null,null,null,null,null,null,null,null,null,null,null,null,null,null,null,null,null,null,null,null,null,null,null,"BKN1100",""]
["PVC지수판","200x5t",1,"m",47720,47720,{"$f":"일위대가!H101","v":2992},2992,{"$f":"일위대가!J101","v":43426},43426,{"$f":"일위대가!L101","v":1302},1302,4063,"제00110호표",4,null,null,null,null,null,null,null,null,null,null,null,null,null,null,null,null,null,null,null,null,null,null,null,null,null,null,null,null,null,null,null,null,null,null,null,null,null,null,null,null,null,null,null,null,null,null,null,null,null,null,null,null,null,null,null,null,null,null,null,null,null,null,null,null,null,null,null,null,null,null,null,null,null,null,null,null,null,null,null,null,null,null,null,null,null,null,null,null,null,null,null,null,null,null,null,null,null,null,null,null,null,"BFG2110",""]
["가드레일철거","인력",1,"m",7482,7482,{"$f":"일위대가!H106","v":0},0,{"$f":"일위대가!J106","v":7482},7482,{"$f":"일위대가!L106","v":0},0,4064,"제00120호표",4,null,null,null,null,null,null,null,null,null,null,null,null,null,null,null,null,null,null,null,null,null,null,null,null,null,null,null,null,null,null,null,null,null,null,null,null,null,null,null,null,null,null,null,null,null,null,null,null,null,null,null,null,null,null,null,null,null,null,null,null,null,null,null,null,null,null,null,null,null,null,null,null,null,null,null,null,null,null,null,null,null,null,null,null,null,null,null,null,null,null,null,null,null,null,null,null,null,null,null,null,null,"BKJ1200",""]
["가드휀스설치[라운드]","H900*W3000",1,"경간",1046932,1046932,{"$f":"일위대가!H118","v":177200},177200,{"$f":"일위대가!J118","v":869509},869509,{"$f":"일위대가!L118","v":223},223,4065,"제00130호표",4,null,null,null,null,null,null,null,null,null,null,null,null,null,null,null,null,null,null,null,null,null,null,null,null,null,null,null,null,null,null,null,null,null,null,null,null,null,null,null,null,null,null,null,null,null,null,null,null,null,null,null,null,null,null,null,null,null,null,null,null,null,null,null,null,null,null,null,null,null,null,null,null,null,null,null,null,null,null,null,null,null,null,null,null,null,null,null,null,null,null,null,null,null,null,null,null,null,null,null,null,null,"B-003",""]
["가드휀스제작[라운드]","H900*W3000",1,"경간",763873,763873,{"$f":"일위대가!H137","v":171155},171155,{"$f":"일위대가!J137","v":592718},592718,{"$f":"일위대가!L137","v":0},0,4066,"제00140호표",4,null,null,null,null,null,null,null,null,null,null,null,null,null,null,null,null,null,null,null,null,null,null,null,null,null,null,null,null,null,null,null,null,null,null,null,null,null,null,null,null,null,null,null,null,null,null,null,null,null,null,null,null,null,null,null,null,null,null,null,null,null,null,null,null,null,null,null,null,null,null,null,null,null,null,null,null,null,null,null,null,null,null,null,null,null,null,null,null,null,null,null,null,null,null,null,null,null,null,null,null,null,"B-002",""]
["가로수분설치","",1,"개소",37787,37787,{"$f":"일위대가!H143","v":0},0,{"$f":"일위대가!J143","v":37787},37787,{"$f":"일위대가!L143","v":0},0,4067,"제00150호표",4,null,null,null,null,null,null,null,null,null,null,null,null,null,null,null,null,null,null,null,null,null,null,null,null,null,null,null,null,null,null,null,null,null,null,null,null,null,null,null,null,null,null,null,null,null,null,null,null,null,null,null,null,null,null,null,null,null,null,null,null,null,null,null,null,null,null,null,null,null,null,null,null,null,null,null,null,null,null,null,null,null,null,null,null,null,null,null,null,null,null,null,null,null,null,null,null,null,null,null,null,null,"B0209",""]
["잡철물제작설치","간단",1,"TON",6636935,6636935,{"$f":"일위대가!H1599","v":97272},97272,{"$f":"일위대가!J1599","v":6347530},6347530,{"$f":"일위대가!L1599","v":192133},192133,4068,"제01640호표",4,null,null,null,null,null,null,null,null,null,null,null,null,null,null,null,null,null,null,null,null,null,null,null,null,null,null,null,null,null,null,null,null,null,null,null,null,null,null,null,null,null,null,null,null,null,null,null,null,null,null,null,null,null,null,null,null,null,null,null,null,null,null,null,null,null,null,null,null,null,null,null,null,null,null,null,null,null,null,null,null,null,null,null,null,null,null,null,null,null,null,null,null,null,null,null,null,null,null,null,null,null,"BID1100",""]
["잡철물제작설치","보통",1,"TON",7964321,7964321,{"$f":"일위대가!H1603","v":116726},116726,{"$f":"일위대가!J1603","v":7617036},7617036,{"$f":"일위대가!L1603","v":230559},230559,4069,"제01650호표",4,null,null,null,null,null,null,null,null,null,null,null,null,null,null,null,null,null,null,null,null,null,null,null,null,null,null,null,null,null,null,null,null,null,null,null,null,null,null,null,null,null,null,null,null,null,null,null,null,null,null,null,null,null,null,null,null,null,null,null,null,null,null,null,null,null,null,null,null,null,null,null,null,null,null,null,null,null,null,null,null,null,null,null,null,null,null,null,null,null,null,null,null,null,null,null,null,null,null,null,null,null,"BID1200",""]
["철근가공및조립","간단",1,"TON",791178,791178,{"$f":"일위대가!H1810","v":6800},6800,{"$f":"일위대가!J1810","v":778492},778492,{"$f":"일위대가!L1810","v":5886},5886,4070,"제01860호표",4,null,null,null,null,null,null,null,null,null,null,null,null,null,null,null,null,null,null,null,null,null,null,null,null,null,null,null,null,null,null,null,null,null,null,null,null,null,null,null,null,null,null,null,null,null,null,null,null,null,null,null,null,null,null,null,null,null,null,null,null,null,null,null,null,null,null,null,null,null,null,null,null,null,null,null,null,null,null,null,null,null,null,null,null,null,null,null,null,null,null,null,null,null,null,null,null,null,null,null,null,null,"BFF1100",""]
["철근가공및조립","보통",1,"TON",890100,890100,{"$f":"일위대가!H1820","v":8840},8840,{"$f":"일위대가!J1820","v":874314},874314,{"$f":"일위대가!L1820","v":6946},6946,4071,"제01870호표",4,null,null,null,null,null,null,null,null,null,null,null,null,null,null,null,null,null,null,null,null,null,null,null,null,null,null,null,null,null,null,null,null,null,null,null,null,null,null,null,null,null,null,null,null,null,null,null,null,null,null,null,null,null,null,null,null,null,null,null,null,null,null,null,null,null,null,null,null,null,null,null,null,null,null,null,null,null,null,null,null,null,null,null,null,null,null,null,null,null,null,null,null,null,null,null,null,null,null,null,null,null,"BFF1200",""]
[]
["5. 부대공",null,1,"식"]
["페인트칠[조합,붓칠]","목재면[1회]",1,"㎡",4724,4724,{"$f":"일위대가!H2086","v":349},349,{"$f":"일위대가!J2086","v":4273},4273,{"$f":"일위대가!L2086","v":102},102,5001,"제02210호표",5,null,null,null,null,null,null,null,null,null,null,null,null,null,null,null,null,null,null,null,null,null,null,null,null,null,null,null,null,null,null,null,null,null,null,null,null,null,null,null,null,null,null,null,null,null,null,null,null,null,null,null,null,null,null,null,null,null,null,null,null,null,null,null,null,null,null,null,null,null,null,null,null,null,null,null,null,null,null,null,null,null,null,null,null,null,null,null,null,null,null,null,null,null,null,null,null,null,null,null,null,null,"BPC1113",""]
["페인트칠[조합,붓칠]","목재면[2회]",1,"㎡",9734,9734,{"$f":"일위대가!H2096","v":936},936,{"$f":"일위대가!J2096","v":8760},8760,{"$f":"일위대가!L2096","v":38},38,5002,"제02220호표",5,null,null,null,null,null,null,null,null,null,null,null,null,null,null,null,null,null,null,null,null,null,null,null,null,null,null,null,null,null,null,null,null,null,null,null,null,null,null,null,null,null,null,null,null,null,null,null,null,null,null,null,null,null,null,null,null,null,null,null,null,null,null,null,null,null,null,null,null,null,null,null,null,null,null,null,null,null,null,null,null,null,null,null,null,null,null,null,null,null,null,null,null,null,null,null,null,null,null,null,null,null,"BPC1112",""]
["페인트칠[조합,붓칠]","목재면[3회]",1,"㎡",14389,14389,{"$f":"일위대가!H2106","v":1303},1303,{"$f":"일위대가!J2106","v":13034},13034,{"$f":"일위대가!L2106","v":52},52,5003,"제02230호표",5,null,null,null,null,null,null,null,null,null,null,null,null,null,null,null,null,null,null,null,null,null,null,null,null,null,null,null,null,null,null,null,null,null,null,null,null,null,null,null,null,null,null,null,null,null,null,null,null,null,null,null,null,null,null,null,null,null,null,null,null,null,null,null,null,null,null,null,null,null,null,null,null,null,null,null,null,null,null,null,null,null,null,null,null,null,null,null,null,null,null,null,null,null,null,null,null,null,null,null,null,null,"BPC1111",""]
["페인트칠[조합,붓칠]","철재면[2회]",1,"㎡",10633,10633,{"$f":"일위대가!H2117","v":891},891,{"$f":"일위대가!J2117","v":9675},9675,{"$f":"일위대가!L2117","v":67},67,5004,"제02240호표",5,null,null,null,null,null,null,null,null,null,null,null,null,null,null,null,null,null,null,null,null,null,null,null,null,null,null,null,null,null,null,null,null,null,null,null,null,null,null,null,null,null,null,null,null,null,null,null,null,null,null,null,null,null,null,null,null,null,null,null,null,null,null,null,null,null,null,null,null,null,null,null,null,null,null,null,null,null,null,null,null,null,null,null,null,null,null,null,null,null,null,null,null,null,null,null,null,null,null,null,null,null,"BPC1212",""]
["페인트칠[조합,붓칠]","모르터면2회",1,"㎡",12482,12482,{"$f":"일위대가!H2128","v":1046},1046,{"$f":"일위대가!J2128","v":11385},11385,{"$f":"일위대가!L2128","v":51},51,5005,"제02250호표",5,null,null,null,null,null,null,null,null,null,null,null,null,null,null,null,null,null,null,null,null,null,null,null,null,null,null,null,null,null,null,null,null,null,null,null,null,null,null,null,null,null,null,null,null,null,null,null,null,null,null,null,null,null,null,null,null,null,null,null,null,null,null,null,null,null,null,null,null,null,null,null,null,null,null,null,null,null,null,null,null,null,null,null,null,null,null,null,null,null,null,null,null,null,null,null,null,null,null,null,null,null,"BPC1312",""]
["페인트칠[조합,붓칠]","모르터면 3회",1,"㎡",18509,18509,{"$f":"일위대가!H2139","v":1366},1366,{"$f":"일위대가!J2139","v":17077},17077,{"$f":"일위대가!L2139","v":66},66,5006,"제02260호표",5,null,null,null,null,null,null,null,null,null,null,null,null,null,null,null,null,null,null,null,null,null,null,null,null,null,null,null,null,null,null,null,null,null,null,null,null,null,null,null,null,null,null,null,null,null,null,null,null,null,null,null,null,null,null,null,null,null,null,null,null,null,null,null,null,null,null,null,null,null,null,null,null,null,null,null,null,null,null,null,null,null,null,null,null,null,null,null,null,null,null,null,null,null,null,null,null,null,null,null,null,null,"BPC1311",""]
["페인트칠[조합,붓칠]","아연도금면2회",1,"㎡",7236,7236,{"$f":"일위대가!H2147","v":793},793,{"$f":"일위대가!J2147","v":6410},6410,{"$f":"일위대가!L2147","v":33},33,5007,"제02270호표",5,null,null,null,null,null,null,null,null,null,null,null,null,null,null,null,null,null,null,null,null,null,null,null,null,null,null,null,null,null,null,null,null,null,null,null,null,null,null,null,null,null,null,null,null,null,null,null,null,null,null,null,null,null,null,null,null,null,null,null,null,null,null,null,null,null,null,null,null,null,null,null,null,null,null,null,null,null,null,null,null,null,null,null,null,null,null,null,null,null,null,null,null,null,null,null,null,null,null,null,null,null,"BPC1412",""]
["페인트칠[녹막이]","녹막이1회",1,"㎡",4164,4164,{"$f":"일위대가!H2156","v":536},536,{"$f":"일위대가!J2156","v":3628},3628,{"$f":"일위대가!L2156","v":0},0,5008,"제02280호표",5,null,null,null,null,null,null,null,null,null,null,null,null,null,null,null,null,null,null,null,null,null,null,null,null,null,null,null,null,null,null,null,null,null,null,null,null,null,null,null,null,null,null,null,null,null,null,null,null,null,null,null,null,null,null,null,null,null,null,null,null,null,null,null,null,null,null,null,null,null,null,null,null,null,null,null,null,null,null,null,null,null,null,null,null,null,null,null,null,null,null,null,null,null,null,null,null,null,null,null,null,null,"BPC2110",""]
["페인트긁어내기","",1,"㎡",17920,17920,{"$f":"일위대가!H2160","v":0},0,{"$f":"일위대가!J2160","v":17920},17920,{"$f":"일위대가!L2160","v":0},0,5009,"제02290호표",5,null,null,null,null,null,null,null,null,null,null,null,null,null,null,null,null,null,null,null,null,null,null,null,null,null,null,null,null,null,null,null,null,null,null,null,null,null,null,null,null,null,null,null,null,null,null,null,null,null,null,null,null,null,null,null,null,null,null,null,null,null,null,null,null,null,null,null,null,null,null,null,null,null,null,null,null,null,null,null,null,null,null,null,null,null,null,null,null,null,null,null,null,null,null,null,null,null,null,null,null,null,"B0210",""]
["줄눈설치","시간당 87.5m",1,"HR",97711,97711,{"$f":"일위대가!H1641","v":0},0,{"$f":"일위대가!J1641","v":97711},97711,{"$f":"일위대가!L1641","v":0},0,5010,"제01690호표",5,null,null,null,null,null,null,null,null,null,null,null,null,null,null,null,null,null,null,null,null,null,null,null,null,null,null,null,null,null,null,null,null,null,null,null,null,null,null,null,null,null,null,null,null,null,null,null,null,null,null,null,null,null,null,null,null,null,null,null,null,null,null,null,null,null,null,null,null,null,null,null,null,null,null,null,null,null,null,null,null,null,null,null,null,null,null,null,null,null,null,null,null,null,null,null,null,null,null,null,null,null,"BB00-0340",""]
["줄눈설치","",1,"m",21813,21813,{"$f":"일위대가!H1647","v":20700},20700,{"$f":"일위대가!J1647","v":1113},1113,{"$f":"일위대가!L1647","v":0},0,5011,"제01700호표",5,null,null,null,null,null,null,null,null,null,null,null,null,null,null,null,null,null,null,null,null,null,null,null,null,null,null,null,null,null,null,null,null,null,null,null,null,null,null,null,null,null,null,null,null,null,null,null,null,null,null,null,null,null,null,null,null,null,null,null,null,null,null,null,null,null,null,null,null,null,null,null,null,null,null,null,null,null,null,null,null,null,null,null,null,null,null,null,null,null,null,null,null,null,null,null,null,null,null,null,null,null,"B0178",""]
["청소 및 건조","",1,"m",9229,9229,{"$f":"일위대가!H1824","v":1428},1428,{"$f":"일위대가!J1824","v":7280},7280,{"$f":"일위대가!L1824","v":521},521,5012,"제01880호표",5,null,null,null,null,null,null,null,null,null,null,null,null,null,null,null,null,null,null,null,null,null,null,null,null,null,null,null,null,null,null,null,null,null,null,null,null,null,null,null,null,null,null,null,null,null,null,null,null,null,null,null,null,null,null,null,null,null,null,null,null,null,null,null,null,null,null,null,null,null,null,null,null,null,null,null,null,null,null,null,null,null,null,null,null,null,null,null,null,null,null,null,null,null,null,null,null,null,null,null,null,null,"B000-0233",""]
["청소 및 건조","",1,"M",30765,30765,{"$f":"단가산출!CY2624","v":"4,760"},4760,{"$f":"단가산출!CZ2624","v":"24,268"},24268,{"$f":"단가산출!DA2624","v":"1,737"},1737,5013,"산근00640호표",5,null,null,null,null,null,null,null,null,null,null,null,null,null,null,null,null,null,null,null,null,null,null,null,null,null,null,null,null,null,null,null,null,null,null,null,null,null,null,null,null,null,null,null,null,null,null,null,null,null,null,null,null,null,null,null,null,null,null,null,null,null,null,null,null,null,null,null,null,null,null,null,null,null,null,null,null,null,null,null,null,null,null,null,null,null,null,null,null,null,null,null,null,null,null,null,null,null,null,null,null,null,"S000-0150",""]
["공사용수운반[컷터용]","물탱크5500ℓ",1,"㎥",7366,7366,{"$f":"단가산출!CY352","v":"0"},0,{"$f":"단가산출!CZ352","v":"0"},0,{"$f":"단가산출!DA352","v":"7,366"},7366,5014,"산근00090호표",5,null,null,null,null,null,null,null,null,null,null,null,null,null,null,null,null,null,null,null,null,null,null,null,null,null,null,null,null,null,null,null,null,null,null,null,null,null,null,null,null,null,null,null,null,null,null,null,null,null,null,null,null,null,null,null,null,null,null,null,null,null,null,null,null,null,null,null,null,null,null,null,null,null,null,null,null,null,null,null,null,null,null,null,null,null,null,null,null,null,null,null,null,null,null,null,null,null,null,null,null,null,"SQI1000",""]
["물운반비","2.5톤 트럭",1,"TON",14341,14341,{"$f":"단가산출!CY880","v":"0"},0,{"$f":"단가산출!CZ880","v":"0"},0,{"$f":"단가산출!DA880","v":"14,341"},14341,5015,"산근00210호표",5,null,null,null,null,null,null,null,null,null,null,null,null,null,null,null,null,null,null,null,null,null,null,null,null,null,null,null,null,null,null,null,null,null,null,null,null,null,null,null,null,null,null,null,null,null,null,null,null,null,null,null,null,null,null,null,null,null,null,null,null,null,null,null,null,null,null,null,null,null,null,null,null,null,null,null,null,null,null,null,null,null,null,null,null,null,null,null,null,null,null,null,null,null,null,null,null,null,null,null,null,null,"S000-0240",""]
["비산먼지방지비","",1,"㎡",4,4,{"$f":"단가산출!CY1028","v":"1"},1,{"$f":"단가산출!CZ1028","v":"2"},2,{"$f":"단가산출!DA1028","v":"1"},1,5016,"산근00250호표",5,null,null,null,null,null,null,null,null,null,null,null,null,null,null,null,null,null,null,null,null,null,null,null,null,null,null,null,null,null,null,null,null,null,null,null,null,null,null,null,null,null,null,null,null,null,null,null,null,null,null,null,null,null,null,null,null,null,null,null,null,null,null,null,null,null,null,null,null,null,null,null,null,null,null,null,null,null,null,null,null,null,null,null,null,null,null,null,null,null,null,null,null,null,null,null,null,null,null,null,null,null,"SAC2620",""]
["시멘트운반","40KG",1,"포대",1334,1334,{"$f":"단가산출!CY1148","v":"0"},0,{"$f":"단가산출!CZ1148","v":"0"},0,{"$f":"단가산출!DA1148","v":"1,334"},1334,5017,"산근00280호표",5,null,null,null,null,null,null,null,null,null,null,null,null,null,null,null,null,null,null,null,null,null,null,null,null,null,null,null,null,null,null,null,null,null,null,null,null,null,null,null,null,null,null,null,null,null,null,null,null,null,null,null,null,null,null,null,null,null,null,null,null,null,null,null,null,null,null,null,null,null,null,null,null,null,null,null,null,null,null,null,null,null,null,null,null,null,null,null,null,null,null,null,null,null,null,null,null,null,null,null,null,null,"SQD1000",""]
["철근운반","",1,"TON",16854,16854,{"$f":"단가산출!CY2561","v":"0"},0,{"$f":"단가산출!CZ2561","v":"0"},0,{"$f":"단가산출!DA2561","v":"16,854"},16854,5018,"산근00630호표",5,null,null,null,null,null,null,null,null,null,null,null,null,null,null,null,null,null,null,null,null,null,null,null,null,null,null,null,null,null,null,null,null,null,null,null,null,null,null,null,null,null,null,null,null,null,null,null,null,null,null,null,null,null,null,null,null,null,null,null,null,null,null,null,null,null,null,null,null,null,null,null,null,null,null,null,null,null,null,null,null,null,null,null,null,null,null,null,null,null,null,null,null,null,null,null,null,null,null,null,null,null,"SQB1000",""]
["초조강시멘트운반","자재비포함",1,"㎏",335,335,{"$f":"단가산출!CY2651","v":"0"},0,{"$f":"단가산출!CZ2651","v":"0"},0,{"$f":"단가산출!DA2651","v":"335"},335,5019,"산근00650호표",5,null,null,null,null,null,null,null,null,null,null,null,null,null,null,null,null,null,null,null,null,null,null,null,null,null,null,null,null,null,null,null,null,null,null,null,null,null,null,null,null,null,null,null,null,null,null,null,null,null,null,null,null,null,null,null,null,null,null,null,null,null,null,null,null,null,null,null,null,null,null,null,null,null,null,null,null,null,null,null,null,null,null,null,null,null,null,null,null,null,null,null,null,null,null,null,null,null,null,null,null,null,"S0002",""]
["PE 안전휀스 [3개월]","1510*410*910㎜",1,"개",6603,6603,{"$f":"일위대가!H82","v":0},0,{"$f":"일위대가!J82","v":0},0,{"$f":"일위대가!L82","v":6603},6603,5020,"제00080호표",5,null,null,null,null,null,null,null,null,null,null,null,null,null,null,null,null,null,null,null,null,null,null,null,null,null,null,null,null,null,null,null,null,null,null,null,null,null,null,null,null,null,null,null,null,null,null,null,null,null,null,null,null,null,null,null,null,null,null,null,null,null,null,null,null,null,null,null,null,null,null,null,null,null,null,null,null,null,null,null,null,null,null,null,null,null,null,null,null,null,null,null,null,null,null,null,null,null,null,null,null,null,"B000-022010",""]
["PE 안전휀스 [6개월]","1510*410*910㎜",1,"개",7723,7723,{"$f":"일위대가!H87","v":0},0,{"$f":"일위대가!J87","v":0},0,{"$f":"일위대가!L87","v":7723},7723,5021,"제00090호표",5,null,null,null,null,null,null,null,null,null,null,null,null,null,null,null,null,null,null,null,null,null,null,null,null,null,null,null,null,null,null,null,null,null,null,null,null,null,null,null,null,null,null,null,null,null,null,null,null,null,null,null,null,null,null,null,null,null,null,null,null,null,null,null,null,null,null,null,null,null,null,null,null,null,null,null,null,null,null,null,null,null,null,null,null,null,null,null,null,null,null,null,null,null,null,null,null,null,null,null,null,null,"B000-0270",""]
["PE 안전휀스 [12개월]","1510*410*910㎜",1,"개",{"$f":"G434+I434+K434","v":9643},{"$f":"H434+J434+L434","v":9643},{"$f":"일위대가!H92","v":0},{"$f":"TRUNC(C434*G434,0)","v":0},{"$f":"일위대가!J92","v":0},{"$f":"TRUNC(C434*I434,0)","v":0},{"$f":"일위대가!L92","v":9643},{"$f":"TRUNC(C434*K434,0)","v":9643},5022,"제00100호표",5,null,null,null,null,null,null,null,null,null,null,null,null,null,null,null,null,null,null,null,null,null,null,null,null,null,null,null,null,null,null,null,null,null,null,null,null,null,null,null,null,null,null,null,null,null,null,null,null,null,null,null,null,null,null,null,null,null,null,null,null,null,null,null,null,null,null,null,null,null,null,null,null,null,null,null,null,null,null,null,null,null,null,null,null,null,null,null,null,null,null,null,null,null,null,null,null,null,null,null,null,null,"B000-0280",""]
["가설휀스[1.8x1.45]","3개월",1,"개",11142,11142,{"$f":"일위대가!H153","v":316},316,{"$f":"일위대가!J153","v":2953},2953,{"$f":"일위대가!L153","v":7873},7873,5023,"제00160호표",5,null,null,null,null,null,null,null,null,null,null,null,null,null,null,null,null,null,null,null,null,null,null,null,null,null,null,null,null,null,null,null,null,null,null,null,null,null,null,null,null,null,null,null,null,null,null,null,null,null,null,null,null,null,null,null,null,null,null,null,null,null,null,null,null,null,null,null,null,null,null,null,null,null,null,null,null,null,null,null,null,null,null,null,null,null,null,null,null,null,null,null,null,null,null,null,null,null,null,null,null,null,"BAA3221",""]
["조립식가설울타리설치및해체","3개월",1,"m",73103,73103,{"$f":"일위대가!H1614","v":8761},8761,{"$f":"일위대가!J1614","v":43198},43198,{"$f":"일위대가!L1614","v":21144},21144,5024,"제01660호표",5,null,null,null,null,null,null,null,null,null,null,null,null,null,null,null,null,null,null,null,null,null,null,null,null,null,null,null,null,null,null,null,null,null,null,null,null,null,null,null,null,null,null,null,null,null,null,null,null,null,null,null,null,null,null,null,null,null,null,null,null,null,null,null,null,null,null,null,null,null,null,null,null,null,null,null,null,null,null,null,null,null,null,null,null,null,null,null,null,null,null,null,null,null,null,null,null,null,null,null,null,null,"BAA3211",""]
["조립식가설울타리설치및해체","6개월",1,"m",76525,76525,{"$f":"일위대가!H1625","v":11205},11205,{"$f":"일위대가!J1625","v":43198},43198,{"$f":"일위대가!L1625","v":22122},22122,5025,"제01670호표",5,null,null,null,null,null,null,null,null,null,null,null,null,null,null,null,null,null,null,null,null,null,null,null,null,null,null,null,null,null,null,null,null,null,null,null,null,null,null,null,null,null,null,null,null,null,null,null,null,null,null,null,null,null,null,null,null,null,null,null,null,null,null,null,null,null,null,null,null,null,null,null,null,null,null,null,null,null,null,null,null,null,null,null,null,null,null,null,null,null,null,null,null,null,null,null,null,null,null,null,null,null,"BAA3212",""]
["조립식가설울타리설치및해체","12개월",1,"m",82000,82000,{"$f":"일위대가!H1636","v":15116},15116,{"$f":"일위대가!J1636","v":43198},43198,{"$f":"일위대가!L1636","v":23686},23686,5026,"제01680호표",5,null,null,null,null,null,null,null,null,null,null,null,null,null,null,null,null,null,null,null,null,null,null,null,null,null,null,null,null,null,null,null,null,null,null,null,null,null,null,null,null,null,null,null,null,null,null,null,null,null,null,null,null,null,null,null,null,null,null,null,null,null,null,null,null,null,null,null,null,null,null,null,null,null,null,null,null,null,null,null,null,null,null,null,null,null,null,null,null,null,null,null,null,null,null,null,null,null,null,null,null,null,"BAA3213",""]
["E.G.I 가설휀스설치및해체","강관지주높이3.5m이하,3개월",1,"m",21605,21605,{"$f":"일위대가!H19","v":6292},6292,{"$f":"일위대가!J19","v":14701},14701,{"$f":"일위대가!L19","v":612},612,5027,"제00010호표",5,null,null,null,null,null,null,null,null,null,null,null,null,null,null,null,null,null,null,null,null,null,null,null,null,null,null,null,null,null,null,null,null,null,null,null,null,null,null,null,null,null,null,null,null,null,null,null,null,null,null,null,null,null,null,null,null,null,null,null,null,null,null,null,null,null,null,null,null,null,null,null,null,null,null,null,null,null,null,null,null,null,null,null,null,null,null,null,null,null,null,null,null,null,null,null,null,null,null,null,null,null,"BAA3225",""]
["E.G.I 가설휀스설치및해체","강관지주높이3.5m이하,6개월",1,"m",24951,24951,{"$f":"일위대가!H35","v":9638},9638,{"$f":"일위대가!J35","v":14701},14701,{"$f":"일위대가!L35","v":612},612,5028,"제00020호표",5,null,null,null,null,null,null,null,null,null,null,null,null,null,null,null,null,null,null,null,null,null,null,null,null,null,null,null,null,null,null,null,null,null,null,null,null,null,null,null,null,null,null,null,null,null,null,null,null,null,null,null,null,null,null,null,null,null,null,null,null,null,null,null,null,null,null,null,null,null,null,null,null,null,null,null,null,null,null,null,null,null,null,null,null,null,null,null,null,null,null,null,null,null,null,null,null,null,null,null,null,null,"BAA3226",""]
["E.G.I 가설휀스설치및해체","강관지주높이3.5m이하,12개월",1,"m",31438,31438,{"$f":"일위대가!H51","v":16125},16125,{"$f":"일위대가!J51","v":14701},14701,{"$f":"일위대가!L51","v":612},612,5029,"제00030호표",5,null,null,null,null,null,null,null,null,null,null,null,null,null,null,null,null,null,null,null,null,null,null,null,null,null,null,null,null,null,null,null,null,null,null,null,null,null,null,null,null,null,null,null,null,null,null,null,null,null,null,null,null,null,null,null,null,null,null,null,null,null,null,null,null,null,null,null,null,null,null,null,null,null,null,null,null,null,null,null,null,null,null,null,null,null,null,null,null,null,null,null,null,null,null,null,null,null,null,null,null,null,"BAA3227",""]
["공사실명표지판","10*15Cm[S/T]",1,"개",17318,17318,{"$f":"일위대가!H2218","v":0},0,{"$f":"일위대가!J2218","v":0},0,{"$f":"일위대가!L2218","v":17318},17318,5030,"제02380호표",5,null,null,null,null,null,null,null,null,null,null,null,null,null,null,null,null,null,null,null,null,null,null,null,null,null,null,null,null,null,null,null,null,null,null,null,null,null,null,null,null,null,null,null,null,null,null,null,null,null,null,null,null,null,null,null,null,null,null,null,null,null,null,null,null,null,null,null,null,null,null,null,null,null,null,null,null,null,null,null,null,null,null,null,null,null,null,null,null,null,null,null,null,null,null,null,null,null,null,null,null,null,"B191",""]
["컨테이너형가설건축물[사무실]","9*3.0m[3개월]",1,"개",575795,575795,{"$f":"일위대가!H1837","v":0},0,{"$f":"일위대가!J1837","v":0},0,{"$f":"일위대가!L1837","v":575795},575795,5031,"제01900호표",5,null,null,null,null,null,null,null,null,null,null,null,null,null,null,null,null,null,null,null,null,null,null,null,null,null,null,null,null,null,null,null,null,null,null,null,null,null,null,null,null,null,null,null,null,null,null,null,null,null,null,null,null,null,null,null,null,null,null,null,null,null,null,null,null,null,null,null,null,null,null,null,null,null,null,null,null,null,null,null,null,null,null,null,null,null,null,null,null,null,null,null,null,null,null,null,null,null,null,null,null,null,"BAD6835",""]
["컨테이너형가설건축물[사무실]","9*3.0m[6개월]",1,"개",697075,697075,{"$f":"일위대가!H1845","v":0},0,{"$f":"일위대가!J1845","v":0},0,{"$f":"일위대가!L1845","v":697075},697075,5032,"제01910호표",5,null,null,null,null,null,null,null,null,null,null,null,null,null,null,null,null,null,null,null,null,null,null,null,null,null,null,null,null,null,null,null,null,null,null,null,null,null,null,null,null,null,null,null,null,null,null,null,null,null,null,null,null,null,null,null,null,null,null,null,null,null,null,null,null,null,null,null,null,null,null,null,null,null,null,null,null,null,null,null,null,null,null,null,null,null,null,null,null,null,null,null,null,null,null,null,null,null,null,null,null,null,"BAD6836",""]
["컨테이너형가설건축물[사무실]","9*3.0m[12개월]",1,"개",969955,969955,{"$f":"일위대가!H1853","v":0},0,{"$f":"일위대가!J1853","v":0},0,{"$f":"일위대가!L1853","v":969955},969955,5033,"제01920호표",5,null,null,null,null,null,null,null,null,null,null,null,null,null,null,null,null,null,null,null,null,null,null,null,null,null,null,null,null,null,null,null,null,null,null,null,null,null,null,null,null,null,null,null,null,null,null,null,null,null,null,null,null,null,null,null,null,null,null,null,null,null,null,null,null,null,null,null,null,null,null,null,null,null,null,null,null,null,null,null,null,null,null,null,null,null,null,null,null,null,null,null,null,null,null,null,null,null,null,null,null,null,"BAD6837",""]
["컨테이너형가설건축물[창고]","6*3.0m[3개월]",1,"개",402581,402581,{"$f":"일위대가!H1861","v":0},0,{"$f":"일위대가!J1861","v":0},0,{"$f":"일위대가!L1861","v":402581},402581,5034,"제01930호표",5,null,null,null,null,null,null,null,null,null,null,null,null,null,null,null,null,null,null,null,null,null,null,null,null,null,null,null,null,null,null,null,null,null,null,null,null,null,null,null,null,null,null,null,null,null,null,null,null,null,null,null,null,null,null,null,null,null,null,null,null,null,null,null,null,null,null,null,null,null,null,null,null,null,null,null,null,null,null,null,null,null,null,null,null,null,null,null,null,null,null,null,null,null,null,null,null,null,null,null,null,null,"BAD6925",""]
["컨테이너형가설건축물[창고]","6*3.0m[6개월]",1,"개",476181,476181,{"$f":"일위대가!H1869","v":0},0,{"$f":"일위대가!J1869","v":0},0,{"$f":"일위대가!L1869","v":476181},476181,5035,"제01940호표",5,null,null,null,null,null,null,null,null,null,null,null,null,null,null,null,null,null,null,null,null,null,null,null,null,null,null,null,null,null,null,null,null,null,null,null,null,null,null,null,null,null,null,null,null,null,null,null,null,null,null,null,null,null,null,null,null,null,null,null,null,null,null,null,null,null,null,null,null,null,null,null,null,null,null,null,null,null,null,null,null,null,null,null,null,null,null,null,null,null,null,null,null,null,null,null,null,null,null,null,null,null,"BAD6926",""]
["컨테이너형가설건축물[창고]","6*3.0m[12개월]",1,"개",641781,641781,{"$f":"일위대가!H1877","v":0},0,{"$f":"일위대가!J1877","v":0},0,{"$f":"일위대가!L1877","v":641781},641781,5036,"제01950호표",5,null,null,null,null,null,null,null,null,null,null,null,null,null,null,null,null,null,null,null,null,null,null,null,null,null,null,null,null,null,null,null,null,null,null,null,null,null,null,null,null,null,null,null,null,null,null,null,null,null,null,null,null,null,null,null,null,null,null,null,null,null,null,null,null,null,null,null,null,null,null,null,null,null,null,null,null,null,null,null,null,null,null,null,null,null,null,null,null,null,null,null,null,null,null,null,null,null,null,null,null,null,"BAD6927",""]
["컨테이너형가설건축물[창고]","12*3.0m[3개월]",1,"개",609443,609443,{"$f":"일위대가!H1885","v":0},0,{"$f":"일위대가!J1885","v":0},0,{"$f":"일위대가!L1885","v":609443},609443,5037,"제01960호표",5,null,null,null,null,null,null,null,null,null,null,null,null,null,null,null,null,null,null,null,null,null,null,null,null,null,null,null,null,null,null,null,null,null,null,null,null,null,null,null,null,null,null,null,null,null,null,null,null,null,null,null,null,null,null,null,null,null,null,null,null,null,null,null,null,null,null,null,null,null,null,null,null,null,null,null,null,null,null,null,null,null,null,null,null,null,null,null,null,null,null,null,null,null,null,null,null,null,null,null,null,null,"BAD6945",""]
["컨테이너형가설건축물[창고]","12*3.0m[6개월]",1,"개",743363,743363,{"$f":"일위대가!H1893","v":0},0,{"$f":"일위대가!J1893","v":0},0,{"$f":"일위대가!L1893","v":743363},743363,5038,"제01970호표",5,null,null,null,null,null,null,null,null,null,null,null,null,null,null,null,null,null,null,null,null,null,null,null,null,null,null,null,null,null,null,null,null,null,null,null,null,null,null,null,null,null,null,null,null,null,null,null,null,null,null,null,null,null,null,null,null,null,null,null,null,null,null,null,null,null,null,null,null,null,null,null,null,null,null,null,null,null,null,null,null,null,null,null,null,null,null,null,null,null,null,null,null,null,null,null,null,null,null,null,null,null,"BAD6946",""]
["컨테이너형가설건축물[창고]","12*3.0m[12개월]",1,"개",1044683,1044683,{"$f":"일위대가!H1901","v":0},0,{"$f":"일위대가!J1901","v":0},0,{"$f":"일위대가!L1901","v":1044683},1044683,5039,"제01980호표",5,null,null,null,null,null,null,null,null,null,null,null,null,null,null,null,null,null,null,null,null,null,null,null,null,null,null,null,null,null,null,null,null,null,null,null,null,null,null,null,null,null,null,null,null,null,null,null,null,null,null,null,null,null,null,null,null,null,null,null,null,null,null,null,null,null,null,null,null,null,null,null,null,null,null,null,null,null,null,null,null,null,null,null,null,null,null,null,null,null,null,null,null,null,null,null,null,null,null,null,null,null,"BAD6947",""]
["작업차량비[1ton 더블캡]","보도블록포장공사",1,"일",{"$f":"G452+I452+K452","v":96725},{"$f":"H452+J452+L452","v":96725},{"$f":"단가산출!CY5658","v":"0"},{"$f":"TRUNC(C452*G452,0)","v":0},{"$f":"단가산출!CZ5658","v":"42,642"},{"$f":"TRUNC(C452*I452,0)","v":42642},{"$f":"단가산출!DA5658","v":"54,083"},{"$f":"TRUNC(C452*K452,0)","v":54083},5040,"산근01340호표",5,null,null,null,null,null,null,null,null,null,null,null,null,null,null,null,null,null,null,null,null,null,null,null,null,null,null,null,null,null,null,null,null,null,null,null,null,null,null,null,null,null,null,null,null,null,null,null,null,null,null,null,null,null,null,null,null,null,null,null,null,null,null,null,null,null,null,null,null,null,null,null,null,null,null,null,null,null,null,null,null,null,null,null,null,null,null,null,null,null,null,null,null,null,null,null,null,null,null,null,null,null,"BAA3700",""]
["모래상차","적치장상차[굴삭기 0.7㎥]",1,"㎥",{"$f":"G453+I453+K453","v":761},{"$f":"H453+J453+L453","v":761},{"$f":"단가산출!CY5493","v":"166"},{"$f":"TRUNC(C453*G453,0)","v":166},{"$f":"단가산출!CZ5493","v":"399"},{"$f":"TRUNC(C453*I453,0)","v":399},{"$f":"단가산출!DA5493","v":"196"},{"$f":"TRUNC(C453*K453,0)","v":196},5041,"산근01300호표",5,null,null,null,null,null,null,null,null,null,null,null,null,null,null,null,null,null,null,null,null,null,null,null,null,null,null,null,null,null,null,null,null,null,null,null,null,null,null,null,null,null,null,null,null,null,null,null,null,null,null,null,null,null,null,null,null,null,null,null,null,null,null,null,null,null,null,null,null,null,null,null,null,null,null,null,null,null,null,null,null,null,null,null,null,null,null,null,null,null,null,null,null,null,null,null,null,null,null,null,null,null,"BAA3700",""]
["보조기층재상차","적치장상차[굴삭기 0.7㎥]",1,"㎥",{"$f":"G454+I454+K454","v":761},{"$f":"H454+J454+L454","v":761},{"$f":"단가산출!CY5526","v":"166"},{"$f":"TRUNC(C454*G454,0)","v":166},{"$f":"단가산출!CZ5526","v":"399"},{"$f":"TRUNC(C454*I454,0)","v":399},{"$f":"단가산출!DA5526","v":"196"},{"$f":"TRUNC(C454*K454,0)","v":196},5042,"산근01310호표",5,null,null,null,null,null,null,null,null,null,null,null,null,null,null,null,null,null,null,null,null,null,null,null,null,null,null,null,null,null,null,null,null,null,null,null,null,null,null,null,null,null,null,null,null,null,null,null,null,null,null,null,null,null,null,null,null,null,null,null,null,null,null,null,null,null,null,null,null,null,null,null,null,null,null,null,null,null,null,null,null,null,null,null,null,null,null,null,null,null,null,null,null,null,null,null,null,null,null,null,null,null,"BAA3700",""]
["모래소운반[적치장-->현장, L=3Km]","BH0.7+DT 4.5TON",1,"㎥",{"$f":"G455+I455+K455","v":7965},{"$f":"H455+J455+L455","v":7965},{"$f":"단가산출!CY5573","v":"0"},{"$f":"TRUNC(C455*G455,0)","v":0},{"$f":"단가산출!CZ5573","v":"0"},{"$f":"TRUNC(C455*I455,0)","v":0},{"$f":"단가산출!DA5573","v":"7,965"},{"$f":"TRUNC(C455*K455,0)","v":7965},5043,"산근01320호표",5,null,null,null,null,null,null,null,null,null,null,null,null,null,null,null,null,null,null,null,null,null,null,null,null,null,null,null,null,null,null,null,null,null,null,null,null,null,null,null,null,null,null,null,null,null,null,null,null,null,null,null,null,null,null,null,null,null,null,null,null,null,null,null,null,null,null,null,null,null,null,null,null,null,null,null,null,null,null,null,null,null,null,null,null,null,null,null,null,null,null,null,null,null,null,null,null,null,null,null,null,null,"BAA3700",""]
["보조기층재소운반[적치장-->현장, L=3Km]","BH0.7+DT 4.5TON",1,"㎥",{"$f":"G456+I456+K456","v":7965},{"$f":"H456+J456+L456","v":7965},{"$f":"단가산출!CY5620","v":"0"},{"$f":"TRUNC(C456*G456,0)","v":0},{"$f":"단가산출!CZ5620","v":"0"},{"$f":"TRUNC(C456*I456,0)","v":0},{"$f":"단가산출!DA5620","v":"7,965"},{"$f":"TRUNC(C456*K456,0)","v":7965},5044,"산근01330호표",5,null,null,null,null,null,null,null,null,null,null,null,null,null,null,null,null,null,null,null,null,null,null,null,null,null,null,null,null,null,null,null,null,null,null,null,null,null,null,null,null,null,null,null,null,null,null,null,null,null,null,null,null,null,null,null,null,null,null,null,null,null,null,null,null,null,null,null,null,null,null,null,null,null,null,null,null,null,null,null,null,null,null,null,null,null,null,null,null,null,null,null,null,null,null,null,null,null,null,null,null,null,"BAA3700",""]
["공사안내간판","0.9*1.8M",1,"개",120000,120000,{"$f":"일위대가!H202","v":0},0,{"$f":"일위대가!J202","v":0},0,{"$f":"일위대가!L202","v":120000},120000,5045,"제00330호표",5,null,null,null,null,null,null,null,null,null,null,null,null,null,null,null,null,null,null,null,null,null,null,null,null,null,null,null,null,null,null,null,null,null,null,null,null,null,null,null,null,null,null,null,null,null,null,null,null,null,null,null,null,null,null,null,null,null,null,null,null,null,null,null,null,null,null,null,null,null,null,null,null,null,null,null,null,null,null,null,null,null,null,null,null,null,null,null,null,null,null,null,null,null,null,null,null,null,null,null,null,null,"BAA3700",""]
["교통안전유도로봇","3개월",1,null,327525,327525,{"$f":"일위대가!H242","v":0},0,{"$f":"일위대가!J242","v":0},0,{"$f":"일위대가!L242","v":327525},327525,5046,"제00360호표",5,null,null,null,null,null,null,null,null,null,null,null,null,null,null,null,null,null,null,null,null,null,null,null,null,null,null,null,null,null,null,null,null,null,null,null,null,null,null,null,null,null,null,null,null,null,null,null,null,null,null,null,null,null,null,null,null,null,null,null,null,null,null,null,null,null,null,null,null,null,null,null,null,null,null,null,null,null,null,null,null,null,null,null,null,null,null,null,null,null,null,null,null,null,null,null,null,null,null,null,null,null,"B000-0400",""]
["교통통제 및 안전처리","공구 연장 500m이하",1,"일",282192,282192,{"$f":"일위대가!H246","v":0},0,{"$f":"일위대가!J246","v":0},0,{"$f":"일위대가!L246","v":282192},282192,5047,"제00370호표",5,null,null,null,null,null,null,null,null,null,null,null,null,null,null,null,null,null,null,null,null,null,null,null,null,null,null,null,null,null,null,null,null,null,null,null,null,null,null,null,null,null,null,null,null,null,null,null,null,null,null,null,null,null,null,null,null,null,null,null,null,null,null,null,null,null,null,null,null,null,null,null,null,null,null,null,null,null,null,null,null,null,null,null,null,null,null,null,null,null,null,null,null,null,null,null,null,null,null,null,null,null,"BB00-0500",""]
["라바콘","중 60cm",1,"개",9510,9510,{"$f":"일위대가!H580","v":0},0,{"$f":"일위대가!J580","v":0},0,{"$f":"일위대가!L580","v":9510},9510,5048,"제00740호표",5,null,null,null,null,null,null,null,null,null,null,null,null,null,null,null,null,null,null,null,null,null,null,null,null,null,null,null,null,null,null,null,null,null,null,null,null,null,null,null,null,null,null,null,null,null,null,null,null,null,null,null,null,null,null,null,null,null,null,null,null,null,null,null,null,null,null,null,null,null,null,null,null,null,null,null,null,null,null,null,null,null,null,null,null,null,null,null,null,null,null,null,null,null,null,null,null,null,null,null,null,null,"B0355",""]
["레고식 조립 복구블록 포장[중로]","20t",1,"㎡",32275,32275,{"$f":"일위대가!H589","v":0},0,{"$f":"일위대가!J589","v":9865},9865,{"$f":"일위대가!L589","v":22410},22410,5049,"제00750호표",5,null,null,null,null,null,null,null,null,null,null,null,null,null,null,null,null,null,null,null,null,null,null,null,null,null,null,null,null,null,null,null,null,null,null,null,null,null,null,null,null,null,null,null,null,null,null,null,null,null,null,null,null,null,null,null,null,null,null,null,null,null,null,null,null,null,null,null,null,null,null,null,null,null,null,null,null,null,null,null,null,null,null,null,null,null,null,null,null,null,null,null,null,null,null,null,null,null,null,null,null,null,"B000-0310",""]
["레고식 조립 복구블록 포장[소로형]","15t",1,"㎡",23512,23512,{"$f":"일위대가!H598","v":0},0,{"$f":"일위대가!J598","v":6726},6726,{"$f":"일위대가!L598","v":16786},16786,5050,"제00760호표",5,null,null,null,null,null,null,null,null,null,null,null,null,null,null,null,null,null,null,null,null,null,null,null,null,null,null,null,null,null,null,null,null,null,null,null,null,null,null,null,null,null,null,null,null,null,null,null,null,null,null,null,null,null,null,null,null,null,null,null,null,null,null,null,null,null,null,null,null,null,null,null,null,null,null,null,null,null,null,null,null,null,null,null,null,null,null,null,null,null,null,null,null,null,null,null,null,null,null,null,null,null,"B000-0300",""]
["윙카설치","",1,"m",1928,1928,{"$f":"일위대가!H1466","v":0},0,{"$f":"일위대가!J1466","v":0},0,{"$f":"일위대가!L1466","v":1928},1928,5051,"제01460호표",5,null,null,null,null,null,null,null,null,null,null,null,null,null,null,null,null,null,null,null,null,null,null,null,null,null,null,null,null,null,null,null,null,null,null,null,null,null,null,null,null,null,null,null,null,null,null,null,null,null,null,null,null,null,null,null,null,null,null,null,null,null,null,null,null,null,null,null,null,null,null,null,null,null,null,null,null,null,null,null,null,null,null,null,null,null,null,null,null,null,null,null,null,null,null,null,null,null,null,null,null,null,"B0021",""]

{"sheet":"일위대가 목록","index":3,"n_rows":318,"n_cols":119,"rows_kept":318,"cut":false,"hidden":false,"merged":[[0,0,0,8],[2,0,3,0],[2,1,3,1],[2,2,3,2],[2,3,3,3],[2,4,3,4],[2,5,3,5],[2,6,3,6],[2,7,3,7],[2,8,3,8]]}
["일 위 대 가  목 록 표",null,null,null,null,null,null,null,null,null,null,null,null,null,null,null,null,null,null,null,null,null,null,null,null,null,null,null,null,null,null,null,null,null,null,null,null,null,null,null,null,null,null,null,null,null,null,null,null,null,null,null,null,null,null,null,null,null,null,null,null,null,null,null,null,null,null,null,null,null,null,null,null,null,null,null,null,null,null,null,null,null,null,null,null,null,null,null,null,null,null,null,null,null,null,null,null,null,null,null,null,null,null,null,null,null,null,null,null,null,null,null,null,null,null,null,null,null,5]
[null,null,null,null,null,null,null,null,null,null,null,null,null,null,null,null,null,null,null,null,null,null,null,null,null,null,null,null,null,null,null,null,null,null,null,null,null,null,null,null,null,null,null,null,null,null,null,null,null,null,null,null,null,null,null,null,null,null,null,null,null,null,null,null,null,null,null,null,null,null,null,null,null,null,null,null,null,null,null,null,null,null,null,null,null,null,null,null,null,null,null,null,null,null,null,null,null,null,null,null,null,null,null,null,null,null,null,null,null,null,null,null,null,null,null,null,null,null,"A"]
["공    종","규  격","수 량","단위","합    계","재 료 비","노 무 비","경    비","비  고",null,null,null,null,null,null,null,null,null,null,null,null,null,null,null,null,null,null,null,null,null,null,null,null,null,null,null,null,null,null,null,null,null,null,null,null,null,null,null,null,null,null,null,null,null,null,null,null,null,null,null,null,null,null,null,null,null,null,null,null,null,null,null,null,null,null,null,null,null,null,null,null,null,null,null,null,null,null,null,null,null,null,null,null,null,null,null,null,null,null,null,null,null,null,null,null,null,null,null,null,null,null,null,null,null,null,null,null,null,286]
[null,null,null,null,null,null,null,null,null,null,null,null,null,null,null,null,null,null,null,null,null,null,null,null,null,null,null,null,null,null,null,null,null,null,null,null,null,null,null,null,null,null,null,null,null,null,null,null,null,null,null,null,null,null,null,null,null,null,null,null,null,null,null,null,null,null,null,null,null,null,null,null,null,null,null,null,null,null,null,null,null,null,null,null,null,null,null,null,null,null,null,null,null,null,null,null,null,null,null,null,null,null,null,null,null,null,null,null,null,null,null,null,null,null,null,null,null,null,"I"]
["E.G.I 가설휀스설치및해체","3개월",1,"m",{"$f":"F5+G5+H5","v":21605},{"$f":"일위대가!H19","v":6292},{"$f":"일위대가!J19","v":14701},{"$f":"일위대가!L19","v":612},"제   1호표",null,null,null,null,null,null,null,null,null,null,null,null,null,null,null,null,null,null,null,null,null,null,null,null,null,null,null,null,null,null,null,null,null,null,null,null,null,null,null,null,null,null,null,null,null,null,null,null,null,null,null,null,null,null,null,null,null,null,null,null,null,null,null,null,null,null,null,null,null,null,null,null,null,null,null,null,null,null,null,null,null,null,null,null,null,null,null,null,null,null,null,null,null,null,null,null,null,null,null,null,null,null,null,null,null,null,null,"BAA3225"]
["E.G.I 가설휀스설치및해체","6개월",1,"m",24951,{"$f":"일위대가!H35","v":9638},{"$f":"일위대가!J35","v":14701},{"$f":"일위대가!L35","v":612},"제   2호표",null,null,null,null,null,null,null,null,null,null,null,null,null,null,null,null,null,null,null,null,null,null,null,null,null,null,null,null,null,null,null,null,null,null,null,null,null,null,null,null,null,null,null,null,null,null,null,null,null,null,null,null,null,null,null,null,null,null,null,null,null,null,null,null,null,null,null,null,null,null,null,null,null,null,null,null,null,null,null,null,null,null,null,null,null,null,null,null,null,null,null,null,null,null,null,null,null,null,null,null,null,null,null,null,null,null,null,"BAA3226"]
["E.G.I 가설휀스설치및해체","12개월",1,"m",31438,{"$f":"일위대가!H51","v":16125},{"$f":"일위대가!J51","v":14701},{"$f":"일위대가!L51","v":612},"제   3호표",null,null,null,null,null,null,null,null,null,null,null,null,null,null,null,null,null,null,null,null,null,null,null,null,null,null,null,null,null,null,null,null,null,null,null,null,null,null,null,null,null,null,null,null,null,null,null,null,null,null,null,null,null,null,null,null,null,null,null,null,null,null,null,null,null,null,null,null,null,null,null,null,null,null,null,null,null,null,null,null,null,null,null,null,null,null,null,null,null,null,null,null,null,null,null,null,null,null,null,null,null,null,null,null,null,null,null,"BAA3227"]
["L형측구설치","B=45Cm(레미콘)",1,"m",14477,{"$f":"일위대가!H58","v":2596},{"$f":"일위대가!J58","v":11686},{"$f":"일위대가!L58","v":195},"제   4호표",null,null,null,null,null,null,null,null,null,null,null,null,null,null,null,null,null,null,null,null,null,null,null,null,null,null,null,null,null,null,null,null,null,null,null,null,null,null,null,null,null,null,null,null,null,null,null,null,null,null,null,null,null,null,null,null,null,null,null,null,null,null,null,null,null,null,null,null,null,null,null,null,null,null,null,null,null,null,null,null,null,null,null,null,null,null,null,null,null,null,null,null,null,null,null,null,null,null,null,null,null,null,null,null,null,null,null,"BHE2110"]
["L형측구설치","B=50Cm(레미콘)",1,"m",14691,{"$f":"일위대가!H65","v":2611},{"$f":"일위대가!J65","v":11864},{"$f":"일위대가!L65","v":216},"제   5호표",null,null,null,null,null,null,null,null,null,null,null,null,null,null,null,null,null,null,null,null,null,null,null,null,null,null,null,null,null,null,null,null,null,null,null,null,null,null,null,null,null,null,null,null,null,null,null,null,null,null,null,null,null,null,null,null,null,null,null,null,null,null,null,null,null,null,null,null,null,null,null,null,null,null,null,null,null,null,null,null,null,null,null,null,null,null,null,null,null,null,null,null,null,null,null,null,null,null,null,null,null,null,null,null,null,null,null,"BHE2120"]
["L형측구설치","B=45Cm(인력)",1,"m",44488,{"$f":"일위대가!H71","v":8130},{"$f":"일위대가!J71","v":35668},{"$f":"일위대가!L71","v":690},"제   6호표",null,null,null,null,null,null,null,null,null,null,null,null,null,null,null,null,null,null,null,null,null,null,null,null,null,null,null,null,null,null,null,null,null,null,null,null,null,null,null,null,null,null,null,null,null,null,null,null,null,null,null,null,null,null,null,null,null,null,null,null,null,null,null,null,null,null,null,null,null,null,null,null,null,null,null,null,null,null,null,null,null,null,null,null,null,null,null,null,null,null,null,null,null,null,null,null,null,null,null,null,null,null,null,null,null,null,null,"BHE2130"]
["L형측구설치","B=50Cm(인력)",1,"m",47842,{"$f":"일위대가!H77","v":8724},{"$f":"일위대가!J77","v":38355},{"$f":"일위대가!L77","v":763},"제   7호표",null,null,null,null,null,null,null,null,null,null,null,null,null,null,null,null,null,null,null,null,null,null,null,null,null,null,null,null,null,null,null,null,null,null,null,null,null,null,null,null,null,null,null,null,null,null,null,null,null,null,null,null,null,null,null,null,null,null,null,null,null,null,null,null,null,null,null,null,null,null,null,null,null,null,null,null,null,null,null,null,null,null,null,null,null,null,null,null,null,null,null,null,null,null,null,null,null,null,null,null,null,null,null,null,null,null,null,"BHE2140"]
["PE 안전휀스 (3개월)","1510*410*910㎜",1,"개",6603,{"$f":"일위대가!H82","v":0},{"$f":"일위대가!J82","v":0},{"$f":"일위대가!L82","v":6603},"제   8호표",null,null,null,null,null,null,null,null,null,null,null,null,null,null,null,null,null,null,null,null,null,null,null,null,null,null,null,null,null,null,null,null,null,null,null,null,null,null,null,null,null,null,null,null,null,null,null,null,null,null,null,null,null,null,null,null,null,null,null,null,null,null,null,null,null,null,null,null,null,null,null,null,null,null,null,null,null,null,null,null,null,null,null,null,null,null,null,null,null,null,null,null,null,null,null,null,null,null,null,null,null,null,null,null,null,null,null,"B000-022010"]
["PE 안전휀스 (6개월)","1510*410*910㎜",1,"개",7723,{"$f":"일위대가!H87","v":0},{"$f":"일위대가!J87","v":0},{"$f":"일위대가!L87","v":7723},"제   9호표",null,null,null,null,null,null,null,null,null,null,null,null,null,null,null,null,null,null,null,null,null,null,null,null,null,null,null,null,null,null,null,null,null,null,null,null,null,null,null,null,null,null,null,null,null,null,null,null,null,null,null,null,null,null,null,null,null,null,null,null,null,null,null,null,null,null,null,null,null,null,null,null,null,null,null,null,null,null,null,null,null,null,null,null,null,null,null,null,null,null,null,null,null,null,null,null,null,null,null,null,null,null,null,null,null,null,null,"B000-0270"]
["PE 안전휀스 (12개월)","1510*410*910㎜",1,"개",9643,{"$f":"일위대가!H92","v":0},{"$f":"일위대가!J92","v":0},{"$f":"일위대가!L92","v":9643},"제  10호표",null,null,null,null,null,null,null,null,null,null,null,null,null,null,null,null,null,null,null,null,null,null,null,null,null,null,null,null,null,null,null,null,null,null,null,null,null,null,null,null,null,null,null,null,null,null,null,null,null,null,null,null,null,null,null,null,null,null,null,null,null,null,null,null,null,null,null,null,null,null,null,null,null,null,null,null,null,null,null,null,null,null,null,null,null,null,null,null,null,null,null,null,null,null,null,null,null,null,null,null,null,null,null,null,null,null,null,"B000-0280"]
["PVC지수판","200x5t",1,"m",47720,{"$f":"일위대가!H101","v":2992},{"$f":"일위대가!J101","v":43426},{"$f":"일위대가!L101","v":1302},"제  11호표",null,null,null,null,null,null,null,null,null,null,null,null,null,null,null,null,null,null,null,null,null,null,null,null,null,null,null,null,null,null,null,null,null,null,null,null,null,null,null,null,null,null,null,null,null,null,null,null,null,null,null,null,null,null,null,null,null,null,null,null,null,null,null,null,null,null,null,null,null,null,null,null,null,null,null,null,null,null,null,null,null,null,null,null,null,null,null,null,null,null,null,null,null,null,null,null,null,null,null,null,null,null,null,null,null,null,null,"BFG2110"]
["가드레일철거","인력",1,"m",7482,{"$f":"일위대가!H106","v":0},{"$f":"일위대가!J106","v":7482},{"$f":"일위대가!L106","v":0},"제  12호표",null,null,null,null,null,null,null,null,null,null,null,null,null,null,null,null,null,null,null,null,null,null,null,null,null,null,null,null,null,null,null,null,null,null,null,null,null,null,null,null,null,null,null,null,null,null,null,null,null,null,null,null,null,null,null,null,null,null,null,null,null,null,null,null,null,null,null,null,null,null,null,null,null,null,null,null,null,null,null,null,null,null,null,null,null,null,null,null,null,null,null,null,null,null,null,null,null,null,null,null,null,null,null,null,null,null,null,"BKJ1200"]
["가드휀스설치(라운드)","H900*W3000",1,"경간",1046932,{"$f":"일위대가!H118","v":177200},{"$f":"일위대가!J118","v":869509},{"$f":"일위대가!L118","v":223},"제  13호표",null,null,null,null,null,null,null,null,null,null,null,null,null,null,null,null,null,null,null,null,null,null,null,null,null,null,null,null,null,null,null,null,null,null,null,null,null,null,null,null,null,null,null,null,null,null,null,null,null,null,null,null,null,null,null,null,null,null,null,null,null,null,null,null,null,null,null,null,null,null,null,null,null,null,null,null,null,null,null,null,null,null,null,null,null,null,null,null,null,null,null,null,null,null,null,null,null,null,null,null,null,null,null,null,null,null,null,"B-003"]
["가드휀스제작(라운드)","H900*W3000",1,"경간",763873,{"$f":"일위대가!H137","v":171155},{"$f":"일위대가!J137","v":592718},{"$f":"일위대가!L137","v":0},"제  14호표",null,null,null,null,null,null,null,null,null,null,null,null,null,null,null,null,null,null,null,null,null,null,null,null,null,null,null,null,null,null,null,null,null,null,null,null,null,null,null,null,null,null,null,null,null,null,null,null,null,null,null,null,null,null,null,null,null,null,null,null,null,null,null,null,null,null,null,null,null,null,null,null,null,null,null,null,null,null,null,null,null,null,null,null,null,null,null,null,null,null,null,null,null,null,null,null,null,null,null,null,null,null,null,null,null,null,null,"B-002"]
["가로수분설치","",1,"개소",37787,{"$f":"일위대가!H143","v":0},{"$f":"일위대가!J143","v":37787},{"$f":"일위대가!L143","v":0},"제  15호표",null,null,null,null,null,null,null,null,null,null,null,null,null,null,null,null,null,null,null,null,null,null,null,null,null,null,null,null,null,null,null,null,null,null,null,null,null,null,null,null,null,null,null,null,null,null,null,null,null,null,null,null,null,null,null,null,null,null,null,null,null,null,null,null,null,null,null,null,null,null,null,null,null,null,null,null,null,null,null,null,null,null,null,null,null,null,null,null,null,null,null,null,null,null,null,null,null,null,null,null,null,null,null,null,null,null,null,"B0209"]
["가설휀스(1.8x1.45)","3개월",1,"개",11142,{"$f":"일위대가!H153","v":316},{"$f":"일위대가!J153","v":2953},{"$f":"일위대가!L153","v":7873},"제  16호표",null,null,null,null,null,null,null,null,null,null,null,null,null,null,null,null,null,null,null,null,null,null,null,null,null,null,null,null,null,null,null,null,null,null,null,null,null,null,null,null,null,null,null,null,null,null,null,null,null,null,null,null,null,null,null,null,null,null,null,null,null,null,null,null,null,null,null,null,null,null,null,null,null,null,null,null,null,null,null,null,null,null,null,null,null,null,null,null,null,null,null,null,null,null,null,null,null,null,null,null,null,null,null,null,null,null,null,"BAA3221"]
["거푸집(합판1회)","수직고 0∼7m",1,"㎡",95701,{"$f":"일위대가!H161","v":23904},{"$f":"일위대가!J161","v":71797},{"$f":"일위대가!L161","v":0},"제  17호표",null,null,null,null,null,null,null,null,null,null,null,null,null,null,null,null,null,null,null,null,null,null,null,null,null,null,null,null,null,null,null,null,null,null,null,null,null,null,null,null,null,null,null,null,null,null,null,null,null,null,null,null,null,null,null,null,null,null,null,null,null,null,null,null,null,null,null,null,null,null,null,null,null,null,null,null,null,null,null,null,null,null,null,null,null,null,null,null,null,null,null,null,null,null,null,null,null,null,null,null,null,null,null,null,null,null,null,"BFC2100"]
["거푸집(합판2회)","매우복잡/소규모",1,"㎡",62541,{"$f":"일위대가!H168","v":14756},{"$f":"일위대가!J168","v":47785},{"$f":"일위대가!L168","v":0},"제  18호표",null,null,null,null,null,null,null,null,null,null,null,null,null,null,null,null,null,null,null,null,null,null,null,null,null,null,null,null,null,null,null,null,null,null,null,null,null,null,null,null,null,null,null,null,null,null,null,null,null,null,null,null,null,null,null,null,null,null,null,null,null,null,null,null,null,null,null,null,null,null,null,null,null,null,null,null,null,null,null,null,null,null,null,null,null,null,null,null,null,null,null,null,null,null,null,null,null,null,null,null,null,null,null,null,null,null,null,"BFC2610"]
["거푸집(합판3회)","복잡",1,"㎡",54276,{"$f":"일위대가!H175","v":12428},{"$f":"일위대가!J175","v":41848},{"$f":"일위대가!L175","v":0},"제  19호표",null,null,null,null,null,null,null,null,null,null,null,null,null,null,null,null,null,null,null,null,null,null,null,null,null,null,null,null,null,null,null,null,null,null,null,null,null,null,null,null,null,null,null,null,null,null,null,null,null,null,null,null,null,null,null,null,null,null,null,null,null,null,null,null,null,null,null,null,null,null,null,null,null,null,null,null,null,null,null,null,null,null,null,null,null,null,null,null,null,null,null,null,null,null,null,null,null,null,null,null,null,null,null,null,null,null,null,"BFC2300"]
["거푸집(합판4회)","보통",1,"㎡",40275,{"$f":"일위대가!H182","v":11152},{"$f":"일위대가!J182","v":29123},{"$f":"일위대가!L182","v":0},"제  21호표",null,null,null,null,null,null,null,null,null,null,null,null,null,null,null,null,null,null,null,null,null,null,null,null,null,null,null,null,null,null,null,null,null,null,null,null,null,null,null,null,null,null,null,null,null,null,null,null,null,null,null,null,null,null,null,null,null,null,null,null,null,null,null,null,null,null,null,null,null,null,null,null,null,null,null,null,null,null,null,null,null,null,null,null,null,null,null,null,null,null,null,null,null,null,null,null,null,null,null,null,null,null,null,null,null,null,null,"BFC2630"]
["거푸집(합판6회)","간단",1,"㎡",35793,{"$f":"일위대가!H189","v":10344},{"$f":"일위대가!J189","v":25449},{"$f":"일위대가!L189","v":0},"제  23호표",null,null,null,null,null,null,null,null,null,null,null,null,null,null,null,null,null,null,null,null,null,null,null,null,null,null,null,null,null,null,null,null,null,null,null,null,null,null,null,null,null,null,null,null,null,null,null,null,null,null,null,null,null,null,null,null,null,null,null,null,null,null,null,null,null,null,null,null,null,null,null,null,null,null,null,null,null,null,null,null,null,null,null,null,null,null,null,null,null,null,null,null,null,null,null,null,null,null,null,null,null,null,null,null,null,null,null,"BFC2400"]
["거푸집(문양,합성수지)","",1,"㎡",32860,{"$f":"일위대가!H198","v":915},{"$f":"일위대가!J198","v":31945},{"$f":"일위대가!L198","v":0},"제  32호표",null,null,null,null,null,null,null,null,null,null,null,null,null,null,null,null,null,null,null,null,null,null,null,null,null,null,null,null,null,null,null,null,null,null,null,null,null,null,null,null,null,null,null,null,null,null,null,null,null,null,null,null,null,null,null,null,null,null,null,null,null,null,null,null,null,null,null,null,null,null,null,null,null,null,null,null,null,null,null,null,null,null,null,null,null,null,null,null,null,null,null,null,null,null,null,null,null,null,null,null,null,null,null,null,null,null,null,"BFC5000"]
["공사안내간판","0.9*1.8M",1,"개",120000,{"$f":"일위대가!H202","v":0},{"$f":"일위대가!J202","v":0},{"$f":"일위대가!L202","v":120000},"제  33호표",null,null,null,null,null,null,null,null,null,null,null,null,null,null,null,null,null,null,null,null,null,null,null,null,null,null,null,null,null,null,null,null,null,null,null,null,null,null,null,null,null,null,null,null,null,null,null,null,null,null,null,null,null,null,null,null,null,null,null,null,null,null,null,null,null,null,null,null,null,null,null,null,null,null,null,null,null,null,null,null,null,null,null,null,null,null,null,null,null,null,null,null,null,null,null,null,null,null,null,null,null,null,null,null,null,null,null,"BAA3700"]
["과속방지턱도색","상온식",1,"㎡",12828,{"$f":"일위대가!H210","v":1076},{"$f":"일위대가!J210","v":11752},{"$f":"일위대가!L210","v":0},"제  34호표",null,null,null,null,null,null,null,null,null,null,null,null,null,null,null,null,null,null,null,null,null,null,null,null,null,null,null,null,null,null,null,null,null,null,null,null,null,null,null,null,null,null,null,null,null,null,null,null,null,null,null,null,null,null,null,null,null,null,null,null,null,null,null,null,null,null,null,null,null,null,null,null,null,null,null,null,null,null,null,null,null,null,null,null,null,null,null,null,null,null,null,null,null,null,null,null,null,null,null,null,null,null,null,null,null,null,null,"BKZ3300"]
["과속방지턱도색","융착식",1,"㎡",{"$f":"F29+G29+H29","v":29767},{"$f":"일위대가!H223","v":18766},{"$f":"일위대가!J223","v":9207},{"$f":"일위대가!L223","v":1794},"제  34-1호표",null,null,null,null,null,null,null,null,null,null,null,null,null,null,null,null,null,null,null,null,null,null,null,null,null,null,null,null,null,null,null,null,null,null,null,null,null,null,null,null,null,null,null,null,null,null,null,null,null,null,null,null,null,null,null,null,null,null,null,null,null,null,null,null,null,null,null,null,null,null,null,null,null,null,null,null,null,null,null,null,null,null,null,null,null,null,null,null,null,null,null,null,null,null,null,null,null,null,null,null,null,null,null,null,null,null,null,"BKZ3300"]
["과속방지턱설치","B=3.6M",1,"m",87012,{"$f":"일위대가!H236","v":10901},{"$f":"일위대가!J236","v":74481},{"$f":"일위대가!L236","v":1630},"제  35호표",null,null,null,null,null,null,null,null,null,null,null,null,null,null,null,null,null,null,null,null,null,null,null,null,null,null,null,null,null,null,null,null,null,null,null,null,null,null,null,null,null,null,null,null,null,null,null,null,null,null,null,null,null,null,null,null,null,null,null,null,null,null,null,null,null,null,null,null,null,null,null,null,null,null,null,null,null,null,null,null,null,null,null,null,null,null,null,null,null,null,null,null,null,null,null,null,null,null,null,null,null,null,null,null,null,null,null,"BKN1100"]
["교통안전유도로봇(3개월)","",1,"",327525,{"$f":"일위대가!H242","v":0},{"$f":"일위대가!J242","v":0},{"$f":"일위대가!L242","v":327525},"제  36호표",null,null,null,null,null,null,null,null,null,null,null,null,null,null,null,null,null,null,null,null,null,null,null,null,null,null,null,null,null,null,null,null,null,null,null,null,null,null,null,null,null,null,null,null,null,null,null,null,null,null,null,null,null,null,null,null,null,null,null,null,null,null,null,null,null,null,null,null,null,null,null,null,null,null,null,null,null,null,null,null,null,null,null,null,null,null,null,null,null,null,null,null,null,null,null,null,null,null,null,null,null,null,null,null,null,null,null,"B000-0400"]
["교통통제 및 안전처리","공구 연장 500m이하",1,"일",282192,{"$f":"일위대가!H246","v":0},{"$f":"일위대가!J246","v":0},{"$f":"일위대가!L246","v":282192},"제  37호표",null,null,null,null,null,null,null,null,null,null,null,null,null,null,null,null,null,null,null,null,null,null,null,null,null,null,null,null,null,null,null,null,null,null,null,null,null,null,null,null,null,null,null,null,null,null,null,null,null,null,null,null,null,null,null,null,null,null,null,null,null,null,null,null,null,null,null,null,null,null,null,null,null,null,null,null,null,null,null,null,null,null,null,null,null,null,null,null,null,null,null,null,null,null,null,null,null,null,null,null,null,null,null,null,null,null,null,"BB00-0500"]
["그루빙","아스팔트(종)9*4*51",1,"㎡",13586,{"$f":"일위대가!H257","v":5193},{"$f":"일위대가!J257","v":5288},{"$f":"일위대가!L257","v":3105},"제  38호표",null,null,null,null,null,null,null,null,null,null,null,null,null,null,null,null,null,null,null,null,null,null,null,null,null,null,null,null,null,null,null,null,null,null,null,null,null,null,null,null,null,null,null,null,null,null,null,null,null,null,null,null,null,null,null,null,null,null,null,null,null,null,null,null,null,null,null,null,null,null,null,null,null,null,null,null,null,null,null,null,null,null,null,null,null,null,null,null,null,null,null,null,null,null,null,null,null,null,null,null,null,null,null,null,null,null,null,"B000-0220"]
["그루빙","콘크리트(종)9*4*51",1,"㎡",24596,{"$f":"일위대가!H268","v":11830},{"$f":"일위대가!J268","v":7923},{"$f":"일위대가!L268","v":4843},"제  39호표",null,null,null,null,null,null,null,null,null,null,null,null,null,null,null,null,null,null,null,null,null,null,null,null,null,null,null,null,null,null,null,null,null,null,null,null,null,null,null,null,null,null,null,null,null,null,null,null,null,null,null,null,null,null,null,null,null,null,null,null,null,null,null,null,null,null,null,null,null,null,null,null,null,null,null,null,null,null,null,null,null,null,null,null,null,null,null,null,null,null,null,null,null,null,null,null,null,null,null,null,null,null,null,null,null,null,null,"B000-0230"]
["그루빙","아스팔트(횡)9*4*51",1,"㎡",23041,{"$f":"일위대가!H279","v":6368},{"$f":"일위대가!J279","v":10640},{"$f":"일위대가!L279","v":6033},"제  40호표",null,null,null,null,null,null,null,null,null,null,null,null,null,null,null,null,null,null,null,null,null,null,null,null,null,null,null,null,null,null,null,null,null,null,null,null,null,null,null,null,null,null,null,null,null,null,null,null,null,null,null,null,null,null,null,null,null,null,null,null,null,null,null,null,null,null,null,null,null,null,null,null,null,null,null,null,null,null,null,null,null,null,null,null,null,null,null,null,null,null,null,null,null,null,null,null,null,null,null,null,null,null,null,null,null,null,null,"B000-0240"]
["그루빙","콘크리트(횡)9*4*51",1,"㎡",31539,{"$f":"일위대가!H290","v":12688},{"$f":"일위대가!J290","v":11869},{"$f":"일위대가!L290","v":6982},"제  41호표",null,null,null,null,null,null,null,null,null,null,null,null,null,null,null,null,null,null,null,null,null,null,null,null,null,null,null,null,null,null,null,null,null,null,null,null,null,null,null,null,null,null,null,null,null,null,null,null,null,null,null,null,null,null,null,null,null,null,null,null,null,null,null,null,null,null,null,null,null,null,null,null,null,null,null,null,null,null,null,null,null,null,null,null,null,null,null,null,null,null,null,null,null,null,null,null,null,null,null,null,null,null,null,null,null,null,null,"B000-0250"]
["기계비빔타설(fck=210kgf/cm2)","무근구조물",1,"㎥",178217,{"$f":"일위대가!H300","v":67422},{"$f":"일위대가!J300","v":102461},{"$f":"일위대가!L300","v":8334},"제  42호표",null,null,null,null,null,null,null,null,null,null,null,null,null,null,null,null,null,null,null,null,null,null,null,null,null,null,null,null,null,null,null,null,null,null,null,null,null,null,null,null,null,null,null,null,null,null,null,null,null,null,null,null,null,null,null,null,null,null,null,null,null,null,null,null,null,null,null,null,null,null,null,null,null,null,null,null,null,null,null,null,null,null,null,null,null,null,null,null,null,null,null,null,null,null,null,null,null,null,null,null,null,null,null,null,null,null,null,"BFB2120"]
["기계비빔타설(fck=210kgf/cm2)","철근구조물",1,"㎥",213561,{"$f":"일위대가!H310","v":67422},{"$f":"일위대가!J310","v":137805},{"$f":"일위대가!L310","v":8334},"제  43호표",null,null,null,null,null,null,null,null,null,null,null,null,null,null,null,null,null,null,null,null,null,null,null,null,null,null,null,null,null,null,null,null,null,null,null,null,null,null,null,null,null,null,null,null,null,null,null,null,null,null,null,null,null,null,null,null,null,null,null,null,null,null,null,null,null,null,null,null,null,null,null,null,null,null,null,null,null,null,null,null,null,null,null,null,null,null,null,null,null,null,null,null,null,null,null,null,null,null,null,null,null,null,null,null,null,null,null,"BFB2220"]
["기계비빔타설(fck=210kgf/cm2)","소형구조물 10㎥미만",1,"㎥",265306,{"$f":"일위대가!H320","v":67422},{"$f":"일위대가!J320","v":189550},{"$f":"일위대가!L320","v":8334},"제  44호표",null,null,null,null,null,null,null,null,null,null,null,null,null,null,null,null,null,null,null,null,null,null,null,null,null,null,null,null,null,null,null,null,null,null,null,null,null,null,null,null,null,null,null,null,null,null,null,null,null,null,null,null,null,null,null,null,null,null,null,null,null,null,null,null,null,null,null,null,null,null,null,null,null,null,null,null,null,null,null,null,null,null,null,null,null,null,null,null,null,null,null,null,null,null,null,null,null,null,null,null,null,null,null,null,null,null,null,"BFB2320"]
["기초지정및다짐","(모래)",1,"㎥",43697,{"$f":"일위대가!H328","v":36553},{"$f":"일위대가!J328","v":6368},{"$f":"일위대가!L328","v":776},"제  45호표",null,null,null,null,null,null,null,null,null,null,null,null,null,null,null,null,null,null,null,null,null,null,null,null,null,null,null,null,null,null,null,null,null,null,null,null,null,null,null,null,null,null,null,null,null,null,null,null,null,null,null,null,null,null,null,null,null,null,null,null,null,null,null,null,null,null,null,null,null,null,null,null,null,null,null,null,null,null,null,null,null,null,null,null,null,null,null,null,null,null,null,null,null,null,null,null,null,null,null,null,null,null,null,null,null,null,null,"BHI2231"]
["기초지정및다짐","(자갈)",1,"㎥",43021,{"$f":"일위대가!H336","v":33736},{"$f":"일위대가!J336","v":8326},{"$f":"일위대가!L336","v":959},"제  46호표",null,null,null,null,null,null,null,null,null,null,null,null,null,null,null,null,null,null,null,null,null,null,null,null,null,null,null,null,null,null,null,null,null,null,null,null,null,null,null,null,null,null,null,null,null,null,null,null,null,null,null,null,null,null,null,null,null,null,null,null,null,null,null,null,null,null,null,null,null,null,null,null,null,null,null,null,null,null,null,null,null,null,null,null,null,null,null,null,null,null,null,null,null,null,null,null,null,null,null,null,null,null,null,null,null,null,null,"BHI2233"]
["기층공(보조)","인력,시간당 18.75㎥",1,"HR",239444,{"$f":"일위대가!H344","v":27343},{"$f":"일위대가!J344","v":185217},{"$f":"일위대가!L344","v":26884},"제  47호표",null,null,null,null,null,null,null,null,null,null,null,null,null,null,null,null,null,null,null,null,null,null,null,null,null,null,null,null,null,null,null,null,null,null,null,null,null,null,null,null,null,null,null,null,null,null,null,null,null,null,null,null,null,null,null,null,null,null,null,null,null,null,null,null,null,null,null,null,null,null,null,null,null,null,null,null,null,null,null,null,null,null,null,null,null,null,null,null,null,null,null,null,null,null,null,null,null,null,null,null,null,null,null,null,null,null,null,"BB00-0280"]
["기층공(보조)","인력,T=20cm",1,"a",769165,{"$f":"일위대가!H350","v":542854},{"$f":"일위대가!J350","v":197626},{"$f":"일위대가!L350","v":28685},"제  48호표",null,null,null,null,null,null,null,null,null,null,null,null,null,null,null,null,null,null,null,null,null,null,null,null,null,null,null,null,null,null,null,null,null,null,null,null,null,null,null,null,null,null,null,null,null,null,null,null,null,null,null,null,null,null,null,null,null,null,null,null,null,null,null,null,null,null,null,null,null,null,null,null,null,null,null,null,null,null,null,null,null,null,null,null,null,null,null,null,null,null,null,null,null,null,null,null,null,null,null,null,null,null,null,null,null,null,null,"B0151"]
["기층공(보조)","기계,시간당 68.75㎥",1,"HR",292951,{"$f":"일위대가!H357","v":67064},{"$f":"일위대가!J357","v":149943},{"$f":"일위대가!L357","v":75944},"제  49호표",null,null,null,null,null,null,null,null,null,null,null,null,null,null,null,null,null,null,null,null,null,null,null,null,null,null,null,null,null,null,null,null,null,null,null,null,null,null,null,null,null,null,null,null,null,null,null,null,null,null,null,null,null,null,null,null,null,null,null,null,null,null,null,null,null,null,null,null,null,null,null,null,null,null,null,null,null,null,null,null,null,null,null,null,null,null,null,null,null,null,null,null,null,null,null,null,null,null,null,null,null,null,null,null,null,null,null,"BB00-0290"]
["기층공(보조)","기계,T=20cm",1,"a",598927,{"$f":"일위대가!H363","v":533195},{"$f":"일위대가!J363","v":43633},{"$f":"일위대가!L363","v":22099},"제  50호표",null,null,null,null,null,null,null,null,null,null,null,null,null,null,null,null,null,null,null,null,null,null,null,null,null,null,null,null,null,null,null,null,null,null,null,null,null,null,null,null,null,null,null,null,null,null,null,null,null,null,null,null,null,null,null,null,null,null,null,null,null,null,null,null,null,null,null,null,null,null,null,null,null,null,null,null,null,null,null,null,null,null,null,null,null,null,null,null,null,null,null,null,null,null,null,null,null,null,null,null,null,null,null,null,null,null,null,"BKA2100"]
["기층공(보조)","기계,T=30cm",1,"a",898245,{"$f":"일위대가!H369","v":799759},{"$f":"일위대가!J369","v":65375},{"$f":"일위대가!L369","v":33111},"제  51호표",null,null,null,null,null,null,null,null,null,null,null,null,null,null,null,null,null,null,null,null,null,null,null,null,null,null,null,null,null,null,null,null,null,null,null,null,null,null,null,null,null,null,null,null,null,null,null,null,null,null,null,null,null,null,null,null,null,null,null,null,null,null,null,null,null,null,null,null,null,null,null,null,null,null,null,null,null,null,null,null,null,null,null,null,null,null,null,null,null,null,null,null,null,null,null,null,null,null,null,null,null,null,null,null,null,null,null,"B0154"]
["기층공(입도조정)","기계,시간당 62.5㎥",1,"HR",292951,{"$f":"일위대가!H376","v":67064},{"$f":"일위대가!J376","v":149943},{"$f":"일위대가!L376","v":75944},"제  52호표",null,null,null,null,null,null,null,null,null,null,null,null,null,null,null,null,null,null,null,null,null,null,null,null,null,null,null,null,null,null,null,null,null,null,null,null,null,null,null,null,null,null,null,null,null,null,null,null,null,null,null,null,null,null,null,null,null,null,null,null,null,null,null,null,null,null,null,null,null,null,null,null,null,null,null,null,null,null,null,null,null,null,null,null,null,null,null,null,null,null,null,null,null,null,null,null,null,null,null,null,null,null,null,null,null,null,null,"BB00-0330"]
["기층공(입도조정)","인력,시간당 16.875㎥",1,"HR",239444,{"$f":"일위대가!H384","v":27343},{"$f":"일위대가!J384","v":185217},{"$f":"일위대가!L384","v":26884},"제  53호표",null,null,null,null,null,null,null,null,null,null,null,null,null,null,null,null,null,null,null,null,null,null,null,null,null,null,null,null,null,null,null,null,null,null,null,null,null,null,null,null,null,null,null,null,null,null,null,null,null,null,null,null,null,null,null,null,null,null,null,null,null,null,null,null,null,null,null,null,null,null,null,null,null,null,null,null,null,null,null,null,null,null,null,null,null,null,null,null,null,null,null,null,null,null,null,null,null,null,null,null,null,null,null,null,null,null,null,"BB00-0320"]
["기층공(혼합)","인력,T=10cm",1,"a",399179,{"$f":"일위대가!H390","v":273510},{"$f":"일위대가!J390","v":109741},{"$f":"일위대가!L390","v":15928},"제  54호표",null,null,null,null,null,null,null,null,null,null,null,null,null,null,null,null,null,null,null,null,null,null,null,null,null,null,null,null,null,null,null,null,null,null,null,null,null,null,null,null,null,null,null,null,null,null,null,null,null,null,null,null,null,null,null,null,null,null,null,null,null,null,null,null,null,null,null,null,null,null,null,null,null,null,null,null,null,null,null,null,null,null,null,null,null,null,null,null,null,null,null,null,null,null,null,null,null,null,null,null,null,null,null,null,null,null,null,"BKB4300"]
["기층공(혼합)","인력,T=20cm",1,"a",798360,{"$f":"일위대가!H396","v":547021},{"$f":"일위대가!J396","v":219482},{"$f":"일위대가!L396","v":31857},"제  55호표",null,null,null,null,null,null,null,null,null,null,null,null,null,null,null,null,null,null,null,null,null,null,null,null,null,null,null,null,null,null,null,null,null,null,null,null,null,null,null,null,null,null,null,null,null,null,null,null,null,null,null,null,null,null,null,null,null,null,null,null,null,null,null,null,null,null,null,null,null,null,null,null,null,null,null,null,null,null,null,null,null,null,null,null,null,null,null,null,null,null,null,null,null,null,null,null,null,null,null,null,null,null,null,null,null,null,null,"BKB4200"]
["기층공(혼합)","기계,T=20cm",1,"a",607423,{"$f":"일위대가!H402","v":535140},{"$f":"일위대가!J402","v":47981},{"$f":"일위대가!L402","v":24302},"제  56호표",null,null,null,null,null,null,null,null,null,null,null,null,null,null,null,null,null,null,null,null,null,null,null,null,null,null,null,null,null,null,null,null,null,null,null,null,null,null,null,null,null,null,null,null,null,null,null,null,null,null,null,null,null,null,null,null,null,null,null,null,null,null,null,null,null,null,null,null,null,null,null,null,null,null,null,null,null,null,null,null,null,null,null,null,null,null,null,null,null,null,null,null,null,null,null,null,null,null,null,null,null,null,null,null,null,null,null,"BKB4100"]
["투수용 기층공(혼합,인력)","(인력,T=15cm) a당",1,"a",1078481,{"$f":"일위대가!H408","v":889967},{"$f":"일위대가!J408","v":164620},{"$f":"일위대가!L408","v":23894},"제  57호표",null,null,null,null,null,null,null,null,null,null,null,null,null,null,null,null,null,null,null,null,null,null,null,null,null,null,null,null,null,null,null,null,null,null,null,null,null,null,null,null,null,null,null,null,null,null,null,null,null,null,null,null,null,null,null,null,null,null,null,null,null,null,null,null,null,null,null,null,null,null,null,null,null,null,null,null,null,null,null,null,null,null,null,null,null,null,null,null,null,null,null,null,null,null,null,null,null,null,null,null,null,null,null,null,null,null,null,"B000-0180-1"]
["도로경계블럭설치","공통",1,"HR",138509,{"$f":"일위대가!H414","v":7978},{"$f":"일위대가!J414","v":121062},{"$f":"일위대가!L414","v":9469},"제  58호표",null,null,null,null,null,null,null,null,null,null,null,null,null,null,null,null,null,null,null,null,null,null,null,null,null,null,null,null,null,null,null,null,null,null,null,null,null,null,null,null,null,null,null,null,null,null,null,null,null,null,null,null,null,null,null,null,null,null,null,null,null,null,null,null,null,null,null,null,null,null,null,null,null,null,null,null,null,null,null,null,null,null,null,null,null,null,null,null,null,null,null,null,null,null,null,null,null,null,null,null,null,null,null,null,null,null,null,"BB00-0240"]
["도로경계블록설치","150*150*1000(시공량135m)",1,"m",34417,{"$f":"일위대가!H422","v":9052},{"$f":"일위대가!J422","v":24543},{"$f":"일위대가!L422","v":822},"제  59호표",null,null,null,null,null,null,null,null,null,null,null,null,null,null,null,null,null,null,null,null,null,null,null,null,null,null,null,null,null,null,null,null,null,null,null,null,null,null,null,null,null,null,null,null,null,null,null,null,null,null,null,null,null,null,null,null,null,null,null,null,null,null,null,null,null,null,null,null,null,null,null,null,null,null,null,null,null,null,null,null,null,null,null,null,null,null,null,null,null,null,null,null,null,null,null,null,null,null,null,null,null,null,null,null,null,null,null,"BKF1000"]
["도로경계블록설치","150*150*1000[시공량115m],곡선",1,"m",{"$f":"F55+G55+H55","v":36357},{"$f":"일위대가!H430","v":9164},{"$f":"일위대가!J430","v":26238},{"$f":"일위대가!L430","v":955},"제  59-1호표",null,null,null,null,null,null,null,null,null,null,null,null,null,null,null,null,null,null,null,null,null,null,null,null,null,null,null,null,null,null,null,null,null,null,null,null,null,null,null,null,null,null,null,null,null,null,null,null,null,null,null,null,null,null,null,null,null,null,null,null,null,null,null,null,null,null,null,null,null,null,null,null,null,null,null,null,null,null,null,null,null,null,null,null,null,null,null,null,null,null,null,null,null,null,null,null,null,null,null,null,null,null,null,null,null,null,null,"BKF1000"]
["도로경계블록설치","150*150*1000(시공량20%감)",1,"m",36772,{"$f":"일위대가!H438","v":9188},{"$f":"일위대가!J438","v":26601},{"$f":"일위대가!L438","v":983},"제  60호표",null,null,null,null,null,null,null,null,null,null,null,null,null,null,null,null,null,null,null,null,null,null,null,null,null,null,null,null,null,null,null,null,null,null,null,null,null,null,null,null,null,null,null,null,null,null,null,null,null,null,null,null,null,null,null,null,null,null,null,null,null,null,null,null,null,null,null,null,null,null,null,null,null,null,null,null,null,null,null,null,null,null,null,null,null,null,null,null,null,null,null,null,null,null,null,null,null,null,null,null,null,null,null,null,null,null,null,"BKF1001"]
["도로경계블록설치","150*150*1000(시공량20%감),곡선",1,"m",{"$f":"F57+G57+H57","v":39126},{"$f":"일위대가!H446","v":9323},{"$f":"일위대가!J446","v":28659},{"$f":"일위대가!L446","v":1144},"제  60-1호표",null,null,null,null,null,null,null,null,null,null,null,null,null,null,null,null,null,null,null,null,null,null,null,null,null,null,null,null,null,null,null,null,null,null,null,null,null,null,null,null,null,null,null,null,null,null,null,null,null,null,null,null,null,null,null,null,null,null,null,null,null,null,null,null,null,null,null,null,null,null,null,null,null,null,null,null,null,null,null,null,null,null,null,null,null,null,null,null,null,null,null,null,null,null,null,null,null,null,null,null,null,null,null,null,null,null,null,"BKF1001"]
["도로경계석설치","공통",1,"HR",138509,{"$f":"일위대가!H452","v":7978},{"$f":"일위대가!J452","v":121062},{"$f":"일위대가!L452","v":9469},"제  61호표",null,null,null,null,null,null,null,null,null,null,null,null,null,null,null,null,null,null,null,null,null,null,null,null,null,null,null,null,null,null,null,null,null,null,null,null,null,null,null,null,null,null,null,null,null,null,null,null,null,null,null,null,null,null,null,null,null,null,null,null,null,null,null,null,null,null,null,null,null,null,null,null,null,null,null,null,null,null,null,null,null,null,null,null,null,null,null,null,null,null,null,null,null,null,null,null,null,null,null,null,null,null,null,null,null,null,null,"BB00-0250"]
["도로경계석설치","100*100*1000(시공량170m)",1,"m",25326,{"$f":"일위대가!H460","v":4444},{"$f":"일위대가!J460","v":20179},{"$f":"일위대가!L460","v":703},"제  62호표",null,null,null,null,null,null,null,null,null,null,null,null,null,null,null,null,null,null,null,null,null,null,null,null,null,null,null,null,null,null,null,null,null,null,null,null,null,null,null,null,null,null,null,null,null,null,null,null,null,null,null,null,null,null,null,null,null,null,null,null,null,null,null,null,null,null,null,null,null,null,null,null,null,null,null,null,null,null,null,null,null,null,null,null,null,null,null,null,null,null,null,null,null,null,null,null,null,null,null,null,null,null,null,null,null,null,null,"B000-019"]
["도로경계석설치","100*100*1000(시공량150m),곡선",1,"m",{"$f":"F60+G60+H60","v":25881},{"$f":"일위대가!H468","v":4476},{"$f":"일위대가!J468","v":20664},{"$f":"일위대가!L468","v":741},"제  62-1호표",null,null,null,null,null,null,null,null,null,null,null,null,null,null,null,null,null,null,null,null,null,null,null,null,null,null,null,null,null,null,null,null,null,null,null,null,null,null,null,null,null,null,null,null,null,null,null,null,null,null,null,null,null,null,null,null,null,null,null,null,null,null,null,null,null,null,null,null,null,null,null,null,null,null,null,null,null,null,null,null,null,null,null,null,null,null,null,null,null,null,null,null,null,null,null,null,null,null,null,null,null,null,null,null,null,null,null,"B000-019"]
["도로경계석설치","150*150*1000(시공량150m)",1,"m",30911,{"$f":"일위대가!H476","v":5552},{"$f":"일위대가!J476","v":24537},{"$f":"일위대가!L476","v":822},"제  63호표",null,null,null,null,null,null,null,null,null,null,null,null,null,null,null,null,null,null,null,null,null,null,null,null,null,null,null,null,null,null,null,null,null,null,null,null,null,null,null,null,null,null,null,null,null,null,null,null,null,null,null,null,null,null,null,null,null,null,null,null,null,null,null,null,null,null,null,null,null,null,null,null,null,null,null,null,null,null,null,null,null,null,null,null,null,null,null,null,null,null,null,null,null,null,null,null,null,null,null,null,null,null,null,null,null,null,null,"BKF2000"]
["도로경계석설치","150*150*1000(시공량130m),곡선",1,"m",{"$f":"F62+G62+H62","v":32851},{"$f":"일위대가!H484","v":5664},{"$f":"일위대가!J484","v":26232},{"$f":"일위대가!L484","v":955},"제  63-1호표",null,null,null,null,null,null,null,null,null,null,null,null,null,null,null,null,null,null,null,null,null,null,null,null,null,null,null,null,null,null,null,null,null,null,null,null,null,null,null,null,null,null,null,null,null,null,null,null,null,null,null,null,null,null,null,null,null,null,null,null,null,null,null,null,null,null,null,null,null,null,null,null,null,null,null,null,null,null,null,null,null,null,null,null,null,null,null,null,null,null,null,null,null,null,null,null,null,null,null,null,null,null,null,null,null,null,null,"BKF2000"]
["도로경계석설치","150*150*1000(시공량 20%감))",1,"m",33272,{"$f":"일위대가!H492","v":5688},{"$f":"일위대가!J492","v":26601},{"$f":"일위대가!L492","v":983},"제  64호표",null,null,null,null,null,null,null,null,null,null,null,null,null,null,null,null,null,null,null,null,null,null,null,null,null,null,null,null,null,null,null,null,null,null,null,null,null,null,null,null,null,null,null,null,null,null,null,null,null,null,null,null,null,null,null,null,null,null,null,null,null,null,null,null,null,null,null,null,null,null,null,null,null,null,null,null,null,null,null,null,null,null,null,null,null,null,null,null,null,null,null,null,null,null,null,null,null,null,null,null,null,null,null,null,null,null,null,"BKF2001"]
["도로경계석설치","150*150*1000(시공량 20%감),곡선",1,"m",{"$f":"F64+G64+H64","v":35626},{"$f":"일위대가!H500","v":5823},{"$f":"일위대가!J500","v":28659},{"$f":"일위대가!L500","v":1144},"제  64-1호표",null,null,null,null,null,null,null,null,null,null,null,null,null,null,null,null,null,null,null,null,null,null,null,null,null,null,null,null,null,null,null,null,null,null,null,null,null,null,null,null,null,null,null,null,null,null,null,null,null,null,null,null,null,null,null,null,null,null,null,null,null,null,null,null,null,null,null,null,null,null,null,null,null,null,null,null,null,null,null,null,null,null,null,null,null,null,null,null,null,null,null,null,null,null,null,null,null,null,null,null,null,null,null,null,null,null,null,"BKF2001"]
["도로경계석철거","150x150x1000",1,"m",{"$f":"F65+G65+H65","v":4066},{"$f":"일위대가!H507","v":461},{"$f":"일위대가!J507","v":3137},{"$f":"일위대가!L507","v":468},"제  65호표",null,null,null,null,null,null,null,null,null,null,null,null,null,null,null,null,null,null,null,null,null,null,null,null,null,null,null,null,null,null,null,null,null,null,null,null,null,null,null,null,null,null,null,null,null,null,null,null,null,null,null,null,null,null,null,null,null,null,null,null,null,null,null,null,null,null,null,null,null,null,null,null,null,null,null,null,null,null,null,null,null,null,null,null,null,null,null,null,null,null,null,null,null,null,null,null,null,null,null,null,null,null,null,null,null,null,null,"BDB2422"]
["도로경계석 재설치","150x150x1000, 직선",1,"m",32857,{"$f":"일위대가!H515","v":5664},{"$f":"일위대가!J515","v":26238},{"$f":"일위대가!L515","v":955},"제  65-1호표"]
["도로경계석 재설치","150x150x1000, 곡선",1,"m",34104,{"$f":"일위대가!H523","v":5736},{"$f":"일위대가!J523","v":27328},{"$f":"일위대가!L523","v":1040},"제  65-2호표"]
["도로시설물 세척","",1,"㎡",4316,{"$f":"일위대가!H531","v":78},{"$f":"일위대가!J531","v":3880},{"$f":"일위대가!L531","v":358},"제  66호표",null,null,null,null,null,null,null,null,null,null,null,null,null,null,null,null,null,null,null,null,null,null,null,null,null,null,null,null,null,null,null,null,null,null,null,null,null,null,null,null,null,null,null,null,null,null,null,null,null,null,null,null,null,null,null,null,null,null,null,null,null,null,null,null,null,null,null,null,null,null,null,null,null,null,null,null,null,null,null,null,null,null,null,null,null,null,null,null,null,null,null,null,null,null,null,null,null,null,null,null,null,null,null,null,null,null,null,"B000-0290"]
["되메우기(다짐)","인력",1,"㎥",19753,{"$f":"일위대가!H535","v":0},{"$f":"일위대가!J535","v":19753},{"$f":"일위대가!L535","v":0},"제  67호표",null,null,null,null,null,null,null,null,null,null,null,null,null,null,null,null,null,null,null,null,null,null,null,null,null,null,null,null,null,null,null,null,null,null,null,null,null,null,null,null,null,null,null,null,null,null,null,null,null,null,null,null,null,null,null,null,null,null,null,null,null,null,null,null,null,null,null,null,null,null,null,null,null,null,null,null,null,null,null,null,null,null,null,null,null,null,null,null,null,null,null,null,null,null,null,null,null,null,null,null,null,null,null,null,null,null,null,"BDE2210"]
["되메우기(다짐)","인력+기계",1,"㎥",10741,{"$f":"일위대가!H540","v":549},{"$f":"일위대가!J540","v":9603},{"$f":"일위대가!L540","v":589},"제  68호표",null,null,null,null,null,null,null,null,null,null,null,null,null,null,null,null,null,null,null,null,null,null,null,null,null,null,null,null,null,null,null,null,null,null,null,null,null,null,null,null,null,null,null,null,null,null,null,null,null,null,null,null,null,null,null,null,null,null,null,null,null,null,null,null,null,null,null,null,null,null,null,null,null,null,null,null,null,null,null,null,null,null,null,null,null,null,null,null,null,null,null,null,null,null,null,null,null,null,null,null,null,null,null,null,null,null,null,"BDE2230"]
["단지관접합","D=300㎜",1,"개소",187687,{"$f":"일위대가!H547","v":139000},{"$f":"일위대가!J547","v":48687},{"$f":"일위대가!L547","v":0},"제  69호표",null,null,null,null,null,null,null,null,null,null,null,null,null,null,null,null,null,null,null,null,null,null,null,null,null,null,null,null,null,null,null,null,null,null,null,null,null,null,null,null,null,null,null,null,null,null,null,null,null,null,null,null,null,null,null,null,null,null,null,null,null,null,null,null,null,null,null,null,null,null,null,null,null,null,null,null,null,null,null,null,null,null,null,null,null,null,null,null,null,null,null,null,null,null,null,null,null,null,null,null,null,null,null,null,null,null,null,"BHLL-260"]
["단지관접합","D=250㎜",1,"개소",163312,{"$f":"일위대가!H554","v":129000},{"$f":"일위대가!J554","v":34312},{"$f":"일위대가!L554","v":0},"제  70호표",null,null,null,null,null,null,null,null,null,null,null,null,null,null,null,null,null,null,null,null,null,null,null,null,null,null,null,null,null,null,null,null,null,null,null,null,null,null,null,null,null,null,null,null,null,null,null,null,null,null,null,null,null,null,null,null,null,null,null,null,null,null,null,null,null,null,null,null,null,null,null,null,null,null,null,null,null,null,null,null,null,null,null,null,null,null,null,null,null,null,null,null,null,null,null,null,null,null,null,null,null,null,null,null,null,null,null,"BHLL-270"]
["단지관접합","D=200㎜",1,"개소",111602,{"$f":"일위대가!H561","v":86600},{"$f":"일위대가!J561","v":25002},{"$f":"일위대가!L561","v":0},"제  71호표",null,null,null,null,null,null,null,null,null,null,null,null,null,null,null,null,null,null,null,null,null,null,null,null,null,null,null,null,null,null,null,null,null,null,null,null,null,null,null,null,null,null,null,null,null,null,null,null,null,null,null,null,null,null,null,null,null,null,null,null,null,null,null,null,null,null,null,null,null,null,null,null,null,null,null,null,null,null,null,null,null,null,null,null,null,null,null,null,null,null,null,null,null,null,null,null,null,null,null,null,null,null,null,null,null,null,null,"BHLL-280"]
["단지관접합","D=150㎜",1,"개소",64908,{"$f":"일위대가!H568","v":46900},{"$f":"일위대가!J568","v":18008},{"$f":"일위대가!L568","v":0},"제  72호표",null,null,null,null,null,null,null,null,null,null,null,null,null,null,null,null,null,null,null,null,null,null,null,null,null,null,null,null,null,null,null,null,null,null,null,null,null,null,null,null,null,null,null,null,null,null,null,null,null,null,null,null,null,null,null,null,null,null,null,null,null,null,null,null,null,null,null,null,null,null,null,null,null,null,null,null,null,null,null,null,null,null,null,null,null,null,null,null,null,null,null,null,null,null,null,null,null,null,null,null,null,null,null,null,null,null,null,"BHLL-290"]
["단지관접합","D=100㎜",1,"개소",51597,{"$f":"일위대가!H575","v":39700},{"$f":"일위대가!J575","v":11897},{"$f":"일위대가!L575","v":0},"제  73호표",null,null,null,null,null,null,null,null,null,null,null,null,null,null,null,null,null,null,null,null,null,null,null,null,null,null,null,null,null,null,null,null,null,null,null,null,null,null,null,null,null,null,null,null,null,null,null,null,null,null,null,null,null,null,null,null,null,null,null,null,null,null,null,null,null,null,null,null,null,null,null,null,null,null,null,null,null,null,null,null,null,null,null,null,null,null,null,null,null,null,null,null,null,null,null,null,null,null,null,null,null,null,null,null,null,null,null,"BHLL-300"]
["라바콘","중 60cm",1,"개",9510,{"$f":"일위대가!H580","v":0},{"$f":"일위대가!J580","v":0},{"$f":"일위대가!L580","v":9510},"제  74호표",null,null,null,null,null,null,null,null,null,null,null,null,null,null,null,null,null,null,null,null,null,null,null,null,null,null,null,null,null,null,null,null,null,null,null,null,null,null,null,null,null,null,null,null,null,null,null,null,null,null,null,null,null,null,null,null,null,null,null,null,null,null,null,null,null,null,null,null,null,null,null,null,null,null,null,null,null,null,null,null,null,null,null,null,null,null,null,null,null,null,null,null,null,null,null,null,null,null,null,null,null,null,null,null,null,null,null,"B0355"]
["레고식 조립 복구블록 포장(중로)","20t",1,"㎡",32275,{"$f":"일위대가!H589","v":0},{"$f":"일위대가!J589","v":9865},{"$f":"일위대가!L589","v":22410},"제  75호표",null,null,null,null,null,null,null,null,null,null,null,null,null,null,null,null,null,null,null,null,null,null,null,null,null,null,null,null,null,null,null,null,null,null,null,null,null,null,null,null,null,null,null,null,null,null,null,null,null,null,null,null,null,null,null,null,null,null,null,null,null,null,null,null,null,null,null,null,null,null,null,null,null,null,null,null,null,null,null,null,null,null,null,null,null,null,null,null,null,null,null,null,null,null,null,null,null,null,null,null,null,null,null,null,null,null,null,"B000-0310"]
["레고식 조립 복구블록 포장(소로형)","15t",1,"㎡",23512,{"$f":"일위대가!H598","v":0},{"$f":"일위대가!J598","v":6726},{"$f":"일위대가!L598","v":16786},"제  76호표",null,null,null,null,null,null,null,null,null,null,null,null,null,null,null,null,null,null,null,null,null,null,null,null,null,null,null,null,null,null,null,null,null,null,null,null,null,null,null,null,null,null,null,null,null,null,null,null,null,null,null,null,null,null,null,null,null,null,null,null,null,null,null,null,null,null,null,null,null,null,null,null,null,null,null,null,null,null,null,null,null,null,null,null,null,null,null,null,null,null,null,null,null,null,null,null,null,null,null,null,null,null,null,null,null,null,null,"B000-0300"]
["레미콘타설","철근구조물",1,"㎥",26690,{"$f":"일위대가!H606","v":1844},{"$f":"일위대가!J606","v":22311},{"$f":"일위대가!L606","v":2535},"제  77호표",null,null,null,null,null,null,null,null,null,null,null,null,null,null,null,null,null,null,null,null,null,null,null,null,null,null,null,null,null,null,null,null,null,null,null,null,null,null,null,null,null,null,null,null,null,null,null,null,null,null,null,null,null,null,null,null,null,null,null,null,null,null,null,null,null,null,null,null,null,null,null,null,null,null,null,null,null,null,null,null,null,null,null,null,null,null,null,null,null,null,null,null,null,null,null,null,null,null,null,null,null,null,null,null,null,null,null,"BFB0-0260"]
["레미콘타설","무근구조물",1,"㎥",23651,{"$f":"일위대가!H614","v":1660},{"$f":"일위대가!J614","v":19717},{"$f":"일위대가!L614","v":2274},"제  78호표",null,null,null,null,null,null,null,null,null,null,null,null,null,null,null,null,null,null,null,null,null,null,null,null,null,null,null,null,null,null,null,null,null,null,null,null,null,null,null,null,null,null,null,null,null,null,null,null,null,null,null,null,null,null,null,null,null,null,null,null,null,null,null,null,null,null,null,null,null,null,null,null,null,null,null,null,null,null,null,null,null,null,null,null,null,null,null,null,null,null,null,null,null,null,null,null,null,null,null,null,null,null,null,null,null,null,null,"BFB1100"]
["레미콘타설","소형구조물 10㎥미만",1,"㎥",48831,{"$f":"일위대가!H622","v":5719},{"$f":"일위대가!J622","v":35917},{"$f":"일위대가!L622","v":7195},"제  79호표",null,null,null,null,null,null,null,null,null,null,null,null,null,null,null,null,null,null,null,null,null,null,null,null,null,null,null,null,null,null,null,null,null,null,null,null,null,null,null,null,null,null,null,null,null,null,null,null,null,null,null,null,null,null,null,null,null,null,null,null,null,null,null,null,null,null,null,null,null,null,null,null,null,null,null,null,null,null,null,null,null,null,null,null,null,null,null,null,null,null,null,null,null,null,null,null,null,null,null,null,null,null,null,null,null,null,null,"BFB1300"]
["모래포설 및 다짐(T=5cm)","투수콘포장용",1,"a",437830,{"$f":"일위대가!H626","v":150000},{"$f":"일위대가!J626","v":282190},{"$f":"일위대가!L626","v":5640},"제  80호표",null,null,null,null,null,null,null,null,null,null,null,null,null,null,null,null,null,null,null,null,null,null,null,null,null,null,null,null,null,null,null,null,null,null,null,null,null,null,null,null,null,null,null,null,null,null,null,null,null,null,null,null,null,null,null,null,null,null,null,null,null,null,null,null,null,null,null,null,null,null,null,null,null,null,null,null,null,null,null,null,null,null,null,null,null,null,null,null,null,null,null,null,null,null,null,null,null,null,null,null,null,null,null,null,null,null,null,"B0180"]
["모르터","배합비 1:1",1,"㎥",220777,{"$f":"일위대가!H632","v":131688},{"$f":"일위대가!J632","v":60671},{"$f":"일위대가!L632","v":28418},"제  81호표",null,null,null,null,null,null,null,null,null,null,null,null,null,null,null,null,null,null,null,null,null,null,null,null,null,null,null,null,null,null,null,null,null,null,null,null,null,null,null,null,null,null,null,null,null,null,null,null,null,null,null,null,null,null,null,null,null,null,null,null,null,null,null,null,null,null,null,null,null,null,null,null,null,null,null,null,null,null,null,null,null,null,null,null,null,null,null,null,null,null,null,null,null,null,null,null,null,null,null,null,null,null,null,null,null,null,null,"BFJ8100"]
["모르터","배합비 1:2",1,"㎥",175122,{"$f":"일위대가!H638","v":96771},{"$f":"일위대가!J638","v":60671},{"$f":"일위대가!L638","v":17680},"제  82호표",null,null,null,null,null,null,null,null,null,null,null,null,null,null,null,null,null,null,null,null,null,null,null,null,null,null,null,null,null,null,null,null,null,null,null,null,null,null,null,null,null,null,null,null,null,null,null,null,null,null,null,null,null,null,null,null,null,null,null,null,null,null,null,null,null,null,null,null,null,null,null,null,null,null,null,null,null,null,null,null,null,null,null,null,null,null,null,null,null,null,null,null,null,null,null,null,null,null,null,null,null,null,null,null,null,null,null,"BFJ8200"]
["모르터","배합비 1:3",1,"㎥",157459,{"$f":"일위대가!H644","v":83528},{"$f":"일위대가!J644","v":60671},{"$f":"일위대가!L644","v":13260},"제  83호표",null,null,null,null,null,null,null,null,null,null,null,null,null,null,null,null,null,null,null,null,null,null,null,null,null,null,null,null,null,null,null,null,null,null,null,null,null,null,null,null,null,null,null,null,null,null,null,null,null,null,null,null,null,null,null,null,null,null,null,null,null,null,null,null,null,null,null,null,null,null,null,null,null,null,null,null,null,null,null,null,null,null,null,null,null,null,null,null,null,null,null,null,null,null,null,null,null,null,null,null,null,null,null,null,null,null,null,"BFJ8300"]
["무근콘크리트깨기","(인력)",1,"㎥",396958,{"$f":"일위대가!H649","v":18902},{"$f":"일위대가!J649","v":378056},{"$f":"일위대가!L649","v":0},"제  84호표",null,null,null,null,null,null,null,null,null,null,null,null,null,null,null,null,null,null,null,null,null,null,null,null,null,null,null,null,null,null,null,null,null,null,null,null,null,null,null,null,null,null,null,null,null,null,null,null,null,null,null,null,null,null,null,null,null,null,null,null,null,null,null,null,null,null,null,null,null,null,null,null,null,null,null,null,null,null,null,null,null,null,null,null,null,null,null,null,null,null,null,null,null,null,null,null,null,null,null,null,null,null,null,null,null,null,null,"BDB1210"]
["무근콘크리트깨기","(소형브레이카+공기압축기)",1,"㎥",172736,{"$f":"일위대가!H657","v":6197},{"$f":"일위대가!J657","v":165243},{"$f":"일위대가!L657","v":1296},"제  85호표",null,null,null,null,null,null,null,null,null,null,null,null,null,null,null,null,null,null,null,null,null,null,null,null,null,null,null,null,null,null,null,null,null,null,null,null,null,null,null,null,null,null,null,null,null,null,null,null,null,null,null,null,null,null,null,null,null,null,null,null,null,null,null,null,null,null,null,null,null,null,null,null,null,null,null,null,null,null,null,null,null,null,null,null,null,null,null,null,null,null,null,null,null,null,null,null,null,null,null,null,null,null,null,null,null,null,null,"BDB1220"]
["무늬스치로폴","",1,"㎡",13368,{"$f":"일위대가!H663","v":3644},{"$f":"일위대가!J663","v":9724},{"$f":"일위대가!L663","v":0},"제  86호표",null,null,null,null,null,null,null,null,null,null,null,null,null,null,null,null,null,null,null,null,null,null,null,null,null,null,null,null,null,null,null,null,null,null,null,null,null,null,null,null,null,null,null,null,null,null,null,null,null,null,null,null,null,null,null,null,null,null,null,null,null,null,null,null,null,null,null,null,null,null,null,null,null,null,null,null,null,null,null,null,null,null,null,null,null,null,null,null,null,null,null,null,null,null,null,null,null,null,null,null,null,null,null,null,null,null,null,"BFC8000"]
["무수축몰탈","fck=600kg/㎠",1,"㎥",498121,{"$f":"일위대가!H671","v":123285},{"$f":"일위대가!J671","v":348836},{"$f":"일위대가!L671","v":26000},"제  87호표",null,null,null,null,null,null,null,null,null,null,null,null,null,null,null,null,null,null,null,null,null,null,null,null,null,null,null,null,null,null,null,null,null,null,null,null,null,null,null,null,null,null,null,null,null,null,null,null,null,null,null,null,null,null,null,null,null,null,null,null,null,null,null,null,null,null,null,null,null,null,null,null,null,null,null,null,null,null,null,null,null,null,null,null,null,null,null,null,null,null,null,null,null,null,null,null,null,null,null,null,null,null,null,null,null,null,null,"BFJ7100"]
["무수축콘크리트","",1,"㎥",576832,{"$f":"일위대가!H680","v":91805},{"$f":"일위대가!J680","v":469427},{"$f":"일위대가!L680","v":15600},"제  88호표",null,null,null,null,null,null,null,null,null,null,null,null,null,null,null,null,null,null,null,null,null,null,null,null,null,null,null,null,null,null,null,null,null,null,null,null,null,null,null,null,null,null,null,null,null,null,null,null,null,null,null,null,null,null,null,null,null,null,null,null,null,null,null,null,null,null,null,null,null,null,null,null,null,null,null,null,null,null,null,null,null,null,null,null,null,null,null,null,null,null,null,null,null,null,null,null,null,null,null,null,null,null,null,null,null,null,null,"BFJ7200"]
["미끄럼방지공","",1,"㎡",106249,{"$f":"일위대가!H694","v":38144},{"$f":"일위대가!J694","v":62666},{"$f":"일위대가!L694","v":5439},"제  89호표",null,null,null,null,null,null,null,null,null,null,null,null,null,null,null,null,null,null,null,null,null,null,null,null,null,null,null,null,null,null,null,null,null,null,null,null,null,null,null,null,null,null,null,null,null,null,null,null,null,null,null,null,null,null,null,null,null,null,null,null,null,null,null,null,null,null,null,null,null,null,null,null,null,null,null,null,null,null,null,null,null,null,null,null,null,null,null,null,null,null,null,null,null,null,null,null,null,null,null,null,null,null,null,null,null,null,null,"BKB7000"]
["미끄럼방지시설설치","상온도포 공법",1,"㎡",296283,{"$f":"일위대가!H705","v":270346},{"$f":"일위대가!J705","v":25297},{"$f":"일위대가!L705","v":640},"제  90호표",null,null,null,null,null,null,null,null,null,null,null,null,null,null,null,null,null,null,null,null,null,null,null,null,null,null,null,null,null,null,null,null,null,null,null,null,null,null,null,null,null,null,null,null,null,null,null,null,null,null,null,null,null,null,null,null,null,null,null,null,null,null,null,null,null,null,null,null,null,null,null,null,null,null,null,null,null,null,null,null,null,null,null,null,null,null,null,null,null,null,null,null,null,null,null,null,null,null,null,null,null,null,null,null,null,null,null,"B011001"]
["미끄럼방지포장(시인성증대도로용)","유리알",1,"㎡",111778,{"$f":"일위대가!H719","v":48865},{"$f":"일위대가!J719","v":59414},{"$f":"일위대가!L719","v":3499},"제  91호표",null,null,null,null,null,null,null,null,null,null,null,null,null,null,null,null,null,null,null,null,null,null,null,null,null,null,null,null,null,null,null,null,null,null,null,null,null,null,null,null,null,null,null,null,null,null,null,null,null,null,null,null,null,null,null,null,null,null,null,null,null,null,null,null,null,null,null,null,null,null,null,null,null,null,null,null,null,null,null,null,null,null,null,null,null,null,null,null,null,null,null,null,null,null,null,null,null,null,null,null,null,null,null,null,null,null,null,"B010101"]
["미끄럼방지포장(일반도로용)","유리알",1,"㎡",111778,{"$f":"일위대가!H733","v":48865},{"$f":"일위대가!J733","v":59414},{"$f":"일위대가!L733","v":3499},"제  92호표",null,null,null,null,null,null,null,null,null,null,null,null,null,null,null,null,null,null,null,null,null,null,null,null,null,null,null,null,null,null,null,null,null,null,null,null,null,null,null,null,null,null,null,null,null,null,null,null,null,null,null,null,null,null,null,null,null,null,null,null,null,null,null,null,null,null,null,null,null,null,null,null,null,null,null,null,null,null,null,null,null,null,null,null,null,null,null,null,null,null,null,null,null,null,null,null,null,null,null,null,null,null,null,null,null,null,null,"B010100"]
["미끄럼방지포장(칼라포장재)","",1,"㎡",99811,{"$f":"일위대가!H745","v":48585},{"$f":"일위대가!J745","v":49069},{"$f":"일위대가!L745","v":2157},"제  93호표",null,null,null,null,null,null,null,null,null,null,null,null,null,null,null,null,null,null,null,null,null,null,null,null,null,null,null,null,null,null,null,null,null,null,null,null,null,null,null,null,null,null,null,null,null,null,null,null,null,null,null,null,null,null,null,null,null,null,null,null,null,null,null,null,null,null,null,null,null,null,null,null,null,null,null,null,null,null,null,null,null,null,null,null,null,null,null,null,null,null,null,null,null,null,null,null,null,null,null,null,null,null,null,null,null,null,null,"B000-0100"]
["바닥면고르기(절토면고르기)","굴삭기0.7㎥",1,"㎡",3360,{"$f":"일위대가!H750","v":389},{"$f":"일위대가!J750","v":2474},{"$f":"일위대가!L750","v":497},"제  94호표",null,null,null,null,null,null,null,null,null,null,null,null,null,null,null,null,null,null,null,null,null,null,null,null,null,null,null,null,null,null,null,null,null,null,null,null,null,null,null,null,null,null,null,null,null,null,null,null,null,null,null,null,null,null,null,null,null,null,null,null,null,null,null,null,null,null,null,null,null,null,null,null,null,null,null,null,null,null,null,null,null,null,null,null,null,null,null,null,null,null,null,null,null,null,null,null,null,null,null,null,null,null,null,null,null,null,null,"B0343"]
["벽돌부수기","인력",1,"㎥",171005,{"$f":"일위대가!H756","v":8143},{"$f":"일위대가!J756","v":162862},{"$f":"일위대가!L756","v":0},"제  95호표",null,null,null,null,null,null,null,null,null,null,null,null,null,null,null,null,null,null,null,null,null,null,null,null,null,null,null,null,null,null,null,null,null,null,null,null,null,null,null,null,null,null,null,null,null,null,null,null,null,null,null,null,null,null,null,null,null,null,null,null,null,null,null,null,null,null,null,null,null,null,null,null,null,null,null,null,null,null,null,null,null,null,null,null,null,null,null,null,null,null,null,null,null,null,null,null,null,null,null,null,null,null,null,null,null,null,null,"B0050"]
["벽돌헐기","인력",1,"㎥",167997,{"$f":"일위대가!H762","v":7999},{"$f":"일위대가!J762","v":159998},{"$f":"일위대가!L762","v":0},"제  96호표",null,null,null,null,null,null,null,null,null,null,null,null,null,null,null,null,null,null,null,null,null,null,null,null,null,null,null,null,null,null,null,null,null,null,null,null,null,null,null,null,null,null,null,null,null,null,null,null,null,null,null,null,null,null,null,null,null,null,null,null,null,null,null,null,null,null,null,null,null,null,null,null,null,null,null,null,null,null,null,null,null,null,null,null,null,null,null,null,null,null,null,null,null,null,null,null,null,null,null,null,null,null,null,null,null,null,null,"BDB3400"]
["보차도경계석철거","200x250x1000",1,"m",6321,{"$f":"일위대가!H769","v":712},{"$f":"일위대가!J769","v":4885},{"$f":"일위대가!L769","v":724},"제  97호표",null,null,null,null,null,null,null,null,null,null,null,null,null,null,null,null,null,null,null,null,null,null,null,null,null,null,null,null,null,null,null,null,null,null,null,null,null,null,null,null,null,null,null,null,null,null,null,null,null,null,null,null,null,null,null,null,null,null,null,null,null,null,null,null,null,null,null,null,null,null,null,null,null,null,null,null,null,null,null,null,null,null,null,null,null,null,null,null,null,null,null,null,null,null,null,null,null,null,null,null,null,null,null,null,null,null,null,"BDB2411"]
["보차도경계블록설치","205x250x1000",1,"m",43634,{"$f":"일위대가!H777","v":11998},{"$f":"일위대가!J777","v":30451},{"$f":"일위대가!L777","v":1185},"제  98호표",null,null,null,null,null,null,null,null,null,null,null,null,null,null,null,null,null,null,null,null,null,null,null,null,null,null,null,null,null,null,null,null,null,null,null,null,null,null,null,null,null,null,null,null,null,null,null,null,null,null,null,null,null,null,null,null,null,null,null,null,null,null,null,null,null,null,null,null,null,null,null,null,null,null,null,null,null,null,null,null,null,null,null,null,null,null,null,null,null,null,null,null,null,null,null,null,null,null,null,null,null,null,null,null,null,null,null,"BKF3000"]
["보차도경계석설치","200x250x1000",1,"m",37834,{"$f":"일위대가!H785","v":6198},{"$f":"일위대가!J785","v":30451},{"$f":"일위대가!L785","v":1185},"제  99호표",null,null,null,null,null,null,null,null,null,null,null,null,null,null,null,null,null,null,null,null,null,null,null,null,null,null,null,null,null,null,null,null,null,null,null,null,null,null,null,null,null,null,null,null,null,null,null,null,null,null,null,null,null,null,null,null,null,null,null,null,null,null,null,null,null,null,null,null,null,null,null,null,null,null,null,null,null,null,null,null,null,null,null,null,null,null,null,null,null,null,null,null,null,null,null,null,null,null,null,null,null,null,null,null,null,null,null,"BKF4000"]
["보차도경계석 재설치","200x250x1000",1,"m",41020,{"$f":"일위대가!H793","v":6382},{"$f":"일위대가!J793","v":33235},{"$f":"일위대가!L793","v":1403},"제  99-1호표"]
["보차도경계석설치","200x300x1000",1,"m",37834,{"$f":"일위대가!H801","v":6198},{"$f":"일위대가!J801","v":30451},{"$f":"일위대가!L801","v":1185},"제 100호표",null,null,null,null,null,null,null,null,null,null,null,null,null,null,null,null,null,null,null,null,null,null,null,null,null,null,null,null,null,null,null,null,null,null,null,null,null,null,null,null,null,null,null,null,null,null,null,null,null,null,null,null,null,null,null,null,null,null,null,null,null,null,null,null,null,null,null,null,null,null,null,null,null,null,null,null,null,null,null,null,null,null,null,null,null,null,null,null,null,null,null,null,null,null,null,null,null,null,null,null,null,null,null,null,null,null,null,"BKF5000"]
["보차도경계석 재설치","200x300x1000",1,"m",{"$f":"F104+G104+H104","v":41020},{"$f":"일위대가!H809","v":6382},{"$f":"일위대가!J809","v":33235},{"$f":"일위대가!L809","v":1403},"제 100-1호표"]
["볼라드설치(탄성)","ø150*1100(주름형)",1,"개",62887,{"$f":"일위대가!H820","v":5352},{"$f":"일위대가!J820","v":56008},{"$f":"일위대가!L820","v":1527},"제 101호표",null,null,null,null,null,null,null,null,null,null,null,null,null,null,null,null,null,null,null,null,null,null,null,null,null,null,null,null,null,null,null,null,null,null,null,null,null,null,null,null,null,null,null,null,null,null,null,null,null,null,null,null,null,null,null,null,null,null,null,null,null,null,null,null,null,null,null,null,null,null,null,null,null,null,null,null,null,null,null,null,null,null,null,null,null,null,null,null,null,null,null,null,null,null,null,null,null,null,null,null,null,null,null,null,null,null,null,"B000-0190"]
["볼라드설치(디자인,소형고압)","ø70*h900",1,"개",63931,{"$f":"일위대가!H833","v":6316},{"$f":"일위대가!J833","v":56068},{"$f":"일위대가!L833","v":1547},"제 102호표",null,null,null,null,null,null,null,null,null,null,null,null,null,null,null,null,null,null,null,null,null,null,null,null,null,null,null,null,null,null,null,null,null,null,null,null,null,null,null,null,null,null,null,null,null,null,null,null,null,null,null,null,null,null,null,null,null,null,null,null,null,null,null,null,null,null,null,null,null,null,null,null,null,null,null,null,null,null,null,null,null,null,null,null,null,null,null,null,null,null,null,null,null,null,null,null,null,null,null,null,null,null,null,null,null,null,null,"B000-0180"]
["볼라드설치(디자인,화강판석)","ø70*h900",1,"개",40649,{"$f":"일위대가!H844","v":2011},{"$f":"일위대가!J844","v":38559},{"$f":"일위대가!L844","v":79},"제 103호표",null,null,null,null,null,null,null,null,null,null,null,null,null,null,null,null,null,null,null,null,null,null,null,null,null,null,null,null,null,null,null,null,null,null,null,null,null,null,null,null,null,null,null,null,null,null,null,null,null,null,null,null,null,null,null,null,null,null,null,null,null,null,null,null,null,null,null,null,null,null,null,null,null,null,null,null,null,null,null,null,null,null,null,null,null,null,null,null,null,null,null,null,null,null,null,null,null,null,null,null,null,null,null,null,null,null,null,"B000-0185"]
["보도용 블록 철거","인력",1,"a",359437,{"$f":"일위대가!H850","v":13877},{"$f":"일위대가!J850","v":329901},{"$f":"일위대가!L850","v":15659},"제 104호표",null,null,null,null,null,null,null,null,null,null,null,null,null,null,null,null,null,null,null,null,null,null,null,null,null,null,null,null,null,null,null,null,null,null,null,null,null,null,null,null,null,null,null,null,null,null,null,null,null,null,null,null,null,null,null,null,null,null,null,null,null,null,null,null,null,null,null,null,null,null,null,null,null,null,null,null,null,null,null,null,null,null,null,null,null,null,null,null,null,null,null,null,null,null,null,null,null,null,null,null,null,null,null,null,null,null,null,"BDB2321"]
["보도용 블록 철거","장비사용",1,"a",276480,{"$f":"일위대가!H857","v":34304},{"$f":"일위대가!J857","v":199608},{"$f":"일위대가!L857","v":42568},"제 104-1호표"]
["보도블럭포장(보도용)","공통",1,"HR",280687,{"$f":"일위대가!H865","v":18022},{"$f":"일위대가!J865","v":241408},{"$f":"일위대가!L865","v":21257},"제 105호표",null,null,null,null,null,null,null,null,null,null,null,null,null,null,null,null,null,null,null,null,null,null,null,null,null,null,null,null,null,null,null,null,null,null,null,null,null,null,null,null,null,null,null,null,null,null,null,null,null,null,null,null,null,null,null,null,null,null,null,null,null,null,null,null,null,null,null,null,null,null,null,null,null,null,null,null,null,null,null,null,null,null,null,null,null,null,null,null,null,null,null,null,null,null,null,null,null,null,null,null,null,null,null,null,null,null,null,"BB00-0270"]
["보도용 블록 재설치","공통",1,"HR",{"$f":"F111+G111+H111","v":313570},{"$f":"일위대가!H874","v":22761},{"$f":"일위대가!J874","v":268954},{"$f":"일위대가!L874","v":21855},"제 105-3호표"]
["기층블록포장(공통, 지장물5%미만) ","a당",1,"a",540210,{"$f":"일위대가!H880","v":27156},{"$f":"일위대가!J880","v":469983},{"$f":"일위대가!L880","v":43071},"제 106호표",null,null,null,null,null,null,null,null,null,null,null,null,null,null,null,null,null,null,null,null,null,null,null,null,null,null,null,null,null,null,null,null,null,null,null,null,null,null,null,null,null,null,null,null,null,null,null,null,null,null,null,null,null,null,null,null,null,null,null,null,null,null,null,null,null,null,null,null,null,null,null,null,null,null,null,null,null,null,null,null,null,null,null,null,null,null,null,null,null,null,null,null,null,null,null,null,null,null,null,null,null,null,null,null,null,null,null,"B000-0190-1"]
["보도블록 걷기(재사용)(30*30*6cm)a당","30*30*6cm",1,"a",128313,{"$f":"일위대가!H886","v":3737},{"$f":"일위대가!J886","v":124576},{"$f":"일위대가!L886","v":0},"제 107호표",null,null,null,null,null,null,null,null,null,null,null,null,null,null,null,null,null,null,null,null,null,null,null,null,null,null,null,null,null,null,null,null,null,null,null,null,null,null,null,null,null,null,null,null,null,null,null,null,null,null,null,null,null,null,null,null,null,null,null,null,null,null,null,null,null,null,null,null,null,null,null,null,null,null,null,null,null,null,null,null,null,null,null,null,null,null,null,null,null,null,null,null,null,null,null,null,null,null,null,null,null,null,null,null,null,null,null,"B000-0410"]
["보도블록포장(자재재활용)","30*30*6Cm,지장물 5%미만",1,"a",965997,{"$f":"일위대가!H893","v":102295},{"$f":"일위대가!J893","v":772505},{"$f":"일위대가!L893","v":91197},"제 108호표",null,null,null,null,null,null,null,null,null,null,null,null,null,null,null,null,null,null,null,null,null,null,null,null,null,null,null,null,null,null,null,null,null,null,null,null,null,null,null,null,null,null,null,null,null,null,null,null,null,null,null,null,null,null,null,null,null,null,null,null,null,null,null,null,null,null,null,null,null,null,null,null,null,null,null,null,null,null,null,null,null,null,null,null,null,null,null,null,null,null,null,null,null,null,null,null,null,null,null,null,null,null,null,null,null,null,null,"BKE2000"]
["보도블록포장(자재재활용)","30*30*6Cm,지장물 5%이상",1,"a",965997,{"$f":"일위대가!H900","v":102295},{"$f":"일위대가!J900","v":772505},{"$f":"일위대가!L900","v":91197},"제 109호표",null,null,null,null,null,null,null,null,null,null,null,null,null,null,null,null,null,null,null,null,null,null,null,null,null,null,null,null,null,null,null,null,null,null,null,null,null,null,null,null,null,null,null,null,null,null,null,null,null,null,null,null,null,null,null,null,null,null,null,null,null,null,null,null,null,null,null,null,null,null,null,null,null,null,null,null,null,null,null,null,null,null,null,null,null,null,null,null,null,null,null,null,null,null,null,null,null,null,null,null,null,null,null,null,null,null,null,"BKE2000-1"]
["보도블록포장(자재재활용)","30*30*6Cm,띠복구,소규모",1,"a",1352250,{"$f":"일위대가!H908","v":102295},{"$f":"일위대가!J908","v":1158758},{"$f":"일위대가!L908","v":91197},"제 110호표",null,null,null,null,null,null,null,null,null,null,null,null,null,null,null,null,null,null,null,null,null,null,null,null,null,null,null,null,null,null,null,null,null,null,null,null,null,null,null,null,null,null,null,null,null,null,null,null,null,null,null,null,null,null,null,null,null,null,null,null,null,null,null,null,null,null,null,null,null,null,null,null,null,null,null,null,null,null,null,null,null,null,null,null,null,null,null,null,null,null,null,null,null,null,null,null,null,null,null,null,null,null,null,null,null,null,null,"BKE2000-1-1"]
["보도블록포장(소형고압,콘크리트블록)","T=6~8Cm",1,"a",932098,{"$f":"일위대가!H916","v":212256},{"$f":"일위대가!J916","v":643835},{"$f":"일위대가!L916","v":76007},"제 111호표",null,null,null,null,null,null,null,null,null,null,null,null,null,null,null,null,null,null,null,null,null,null,null,null,null,null,null,null,null,null,null,null,null,null,null,null,null,null,null,null,null,null,null,null,null,null,null,null,null,null,null,null,null,null,null,null,null,null,null,null,null,null,null,null,null,null,null,null,null,null,null,null,null,null,null,null,null,null,null,null,null,null,null,null,null,null,null,null,null,null,null,null,null,null,null,null,null,null,null,null,null,null,null,null,null,null,null,"BKE3000"]
["보도블록포장 재설치(소형고압,콘크리트블록)","T=6~8Cm",1,"a",{"$f":"F118+G118+H118","v":1299580},{"$f":"일위대가!H940","v":233304},{"$f":"일위대가!J940","v":968234},{"$f":"일위대가!L940","v":98042},"제 111-1호표"]
["보도블록포장(투수콘크리트블록)","200*200*6~8Cm",1,"a",1463997,{"$f":"일위대가!H924","v":265610},{"$f":"일위대가!J924","v":1071851},{"$f":"일위대가!L924","v":126536},"제 112호표",null,null,null,null,null,null,null,null,null,null,null,null,null,null,null,null,null,null,null,null,null,null,null,null,null,null,null,null,null,null,null,null,null,null,null,null,null,null,null,null,null,null,null,null,null,null,null,null,null,null,null,null,null,null,null,null,null,null,null,null,null,null,null,null,null,null,null,null,null,null,null,null,null,null,null,null,null,null,null,null,null,null,null,null,null,null,null,null,null,null,null,null,null,null,null,null,null,null,null,null,null,null,null,null,null,null,null,"B000-0430"]
["보도블록포장 재설치(투수콘크리트블록)","200*200*6~8Cm",1,"a",{"$f":"F120+G120+H120","v":1462799},{"$f":"일위대가!H958","v":368304},{"$f":"일위대가!J958","v":996453},{"$f":"일위대가!L958","v":98042},"제 112-1호표"]
["보도블록포장(소형고압)","T=6~8Cm,띠복구,소규모",1,"a",1478250,{"$f":"일위대가!H967","v":228295},{"$f":"일위대가!J967","v":1158758},{"$f":"일위대가!L967","v":91197},"제 113호표",null,null,null,null,null,null,null,null,null,null,null,null,null,null,null,null,null,null,null,null,null,null,null,null,null,null,null,null,null,null,null,null,null,null,null,null,null,null,null,null,null,null,null,null,null,null,null,null,null,null,null,null,null,null,null,null,null,null,null,null,null,null,null,null,null,null,null,null,null,null,null,null,null,null,null,null,null,null,null,null,null,null,null,null,null,null,null,null,null,null,null,null,null,null,null,null,null,null,null,null,null,null,null,null,null,null,null,"BKE3000-1"]
["보도블럭포장(화강)","레미콘,와이어매쉬,몰탈포함(2011기심적용단가)",1,"a",9507416,{"$f":"일위대가!H976","v":576276},{"$f":"일위대가!J976","v":8871470},{"$f":"일위대가!L976","v":59670},"제 114호표",null,null,null,null,null,null,null,null,null,null,null,null,null,null,null,null,null,null,null,null,null,null,null,null,null,null,null,null,null,null,null,null,null,null,null,null,null,null,null,null,null,null,null,null,null,null,null,null,null,null,null,null,null,null,null,null,null,null,null,null,null,null,null,null,null,null,null,null,null,null,null,null,null,null,null,null,null,null,null,null,null,null,null,null,null,null,null,null,null,null,null,null,null,null,null,null,null,null,null,null,null,null,null,null,null,null,null,"B0149"]
["판석붙임(화강석)",null,1,"a",{"$f":"F123+G123+H123","v":85668},{"$f":"일위대가!H981","v":0},{"$f":"일위대가!J981","v":85668},{"$f":"일위대가!L981","v":0},"제 114-1호표",null,null,null,null,null,null,null,null,null,null,null,null,null,null,null,null,null,null,null,null,null,null,null,null,null,null,null,null,null,null,null,null,null,null,null,null,null,null,null,null,null,null,null,null,null,null,null,null,null,null,null,null,null,null,null,null,null,null,null,null,null,null,null,null,null,null,null,null,null,null,null,null,null,null,null,null,null,null,null,null,null,null,null,null,null,null,null,null,null,null,null,null,null,null,null,null,null,null,null,null,null,null,null,null,null,null,null,"B0149"]
["보도소파보수(화강판석)","개소당 2㎡ 이하",1,"a",{"$f":"F124+G124+H124","v":18180105},{"$f":"일위대가!H990","v":1210596},{"$f":"일위대가!J990","v":15967919},{"$f":"일위대가!L990","v":1001590},"제 114-2호표"]
["보도소파보수(소형고압,콘크리트블록)","공통, 시간당 시공량 13.75㎡",1,"HR",227628,{"$f":"일위대가!H999","v":22062},{"$f":"일위대가!J999","v":184050},{"$f":"일위대가!L999","v":21516},"제 114-3호표"]
["보도소파보수[소형고압,콘크리트블록]","(개소별 평균 시공면적 10㎡ 이하)",1,"a",2759187,{"$f":"일위대가!H1007","v":378653},{"$f":"일위대가!J1007","v":2057679},{"$f":"일위대가!L1007","v":322855},"제 114-4호표"]
["보도소파보수[소형고압,콘크리트블록]","(개소별 평균 시공면적 30㎡ 이하)",1,"a",2141163,{"$f":"일위대가!H1015","v":320630},{"$f":"일위대가!J1015","v":1573627},{"$f":"일위대가!L1015","v":246906},"제 114-5호표"]
["보도소파보수[소형고압,콘크리트블록]","(개소별 평균 시공면적 60㎡ 이하)",1,"a",1929672,{"$f":"일위대가!H1023","v":300774},{"$f":"일위대가!J1023","v":1407982},{"$f":"일위대가!L1023","v":220916},"제 114-6호표"]
["보도소파보수[소형고압,콘크리트블록]","(개소별 평균 시공면적 110㎡ 이하)",1,"a",1840375,{"$f":"일위대가!H1031","v":292390},{"$f":"일위대가!J1031","v":1338043},{"$f":"일위대가!L1031","v":209942},"제 114-7호표"]
["보도소파보수[소형고압,콘크리트블록]","(개소별 평균 시공면적 110㎡ 초과)",1,"a",1758130,{"$f":"일위대가!H1039","v":284669},{"$f":"일위대가!J1039","v":1273626},{"$f":"일위대가!L1039","v":199835},"제 114-8호표"]
["보도블럭포장(점자및유도)","T=6cm",1,"a",4091997,{"$f":"일위대가!H1047","v":3228295},{"$f":"일위대가!J1047","v":772505},{"$f":"일위대가!L1047","v":91197},"제 115호표",null,null,null,null,null,null,null,null,null,null,null,null,null,null,null,null,null,null,null,null,null,null,null,null,null,null,null,null,null,null,null,null,null,null,null,null,null,null,null,null,null,null,null,null,null,null,null,null,null,null,null,null,null,null,null,null,null,null,null,null,null,null,null,null,null,null,null,null,null,null,null,null,null,null,null,null,null,null,null,null,null,null,null,null,null,null,null,null,null,null,null,null,null,null,null,null,null,null,null,null,null,null,null,null,null,null,null,"B0356"]
["보도블럭포장 재설치(점자및유도)","T=6cm",1,"a",4448080,{"$f":"일위대가!H1055","v":3261669},{"$f":"일위대가!J1055","v":1075816},{"$f":"일위대가!L1055","v":110595},"제 115-1호표"]
["보도블록 줄눈 모래채움 및 포장다짐 a당","",1,"a",325560,{"$f":"일위대가!H1061","v":224900},{"$f":"일위대가!J1061","v":100460},{"$f":"일위대가!L1061","v":200},"제 116호표",null,null,null,null,null,null,null,null,null,null,null,null,null,null,null,null,null,null,null,null,null,null,null,null,null,null,null,null,null,null,null,null,null,null,null,null,null,null,null,null,null,null,null,null,null,null,null,null,null,null,null,null,null,null,null,null,null,null,null,null,null,null,null,null,null,null,null,null,null,null,null,null,null,null,null,null,null,null,null,null,null,null,null,null,null,null,null,null,null,null,null,null,null,null,null,null,null,null,null,null,null,null,null,null,null,null,null,"B000-0150-11"]
["상부 부직포 시공(매트부설)","매트부설",1,"a",163219,{"$f":"일위대가!H1066","v":135000},{"$f":"일위대가!J1066","v":28219},{"$f":"일위대가!L1066","v":0},"제 117호표",null,null,null,null,null,null,null,null,null,null,null,null,null,null,null,null,null,null,null,null,null,null,null,null,null,null,null,null,null,null,null,null,null,null,null,null,null,null,null,null,null,null,null,null,null,null,null,null,null,null,null,null,null,null,null,null,null,null,null,null,null,null,null,null,null,null,null,null,null,null,null,null,null,null,null,null,null,null,null,null,null,null,null,null,null,null,null,null,null,null,null,null,null,null,null,null,null,null,null,null,null,null,null,null,null,null,null,"B000-0210-1"]
["wovon geotextile(하부, 매트부설)","하부 ",1,"a",330619,{"$f":"일위대가!H1071","v":302400},{"$f":"일위대가!J1071","v":28219},{"$f":"일위대가!L1071","v":0},"제 118호표",null,null,null,null,null,null,null,null,null,null,null,null,null,null,null,null,null,null,null,null,null,null,null,null,null,null,null,null,null,null,null,null,null,null,null,null,null,null,null,null,null,null,null,null,null,null,null,null,null,null,null,null,null,null,null,null,null,null,null,null,null,null,null,null,null,null,null,null,null,null,null,null,null,null,null,null,null,null,null,null,null,null,null,null,null,null,null,null,null,null,null,null,null,null,null,null,null,null,null,null,null,null,null,null,null,null,null,"B000-0220-1"]
["기층블록 시공 차량진출입시설  포장(198*162*80)","간선(T=6~8cm,지장물5%미만)",1,"a",2115042,{"$f":"일위대가!H1083","v":659061},{"$f":"일위대가!J1083","v":1341040},{"$f":"일위대가!L1083","v":114941},"제 119호표",null,null,null,null,null,null,null,null,null,null,null,null,null,null,null,null,null,null,null,null,null,null,null,null,null,null,null,null,null,null,null,null,null,null,null,null,null,null,null,null,null,null,null,null,null,null,null,null,null,null,null,null,null,null,null,null,null,null,null,null,null,null,null,null,null,null,null,null,null,null,null,null,null,null,null,null,null,null,null,null,null,null,null,null,null,null,null,null,null,null,null,null,null,null,null,null,null,null,null,null,null,null,null,null,null,null,null,"B000-0230-1"]
["빗물받이설치(1호)","(300x400) 차도측",1,"개소",467027,{"$f":"일위대가!H1093","v":85586},{"$f":"일위대가!J1093","v":378932},{"$f":"일위대가!L1093","v":2509},"제 120호표",null,null,null,null,null,null,null,null,null,null,null,null,null,null,null,null,null,null,null,null,null,null,null,null,null,null,null,null,null,null,null,null,null,null,null,null,null,null,null,null,null,null,null,null,null,null,null,null,null,null,null,null,null,null,null,null,null,null,null,null,null,null,null,null,null,null,null,null,null,null,null,null,null,null,null,null,null,null,null,null,null,null,null,null,null,null,null,null,null,null,null,null,null,null,null,null,null,null,null,null,null,null,null,null,null,null,null,"BHF1110"]
["빗물받이설치(2호)","(300x900) 차도측",1,"개소",693891,{"$f":"일위대가!H1103","v":127201},{"$f":"일위대가!J1103","v":562923},{"$f":"일위대가!L1103","v":3767},"제 121호표",null,null,null,null,null,null,null,null,null,null,null,null,null,null,null,null,null,null,null,null,null,null,null,null,null,null,null,null,null,null,null,null,null,null,null,null,null,null,null,null,null,null,null,null,null,null,null,null,null,null,null,null,null,null,null,null,null,null,null,null,null,null,null,null,null,null,null,null,null,null,null,null,null,null,null,null,null,null,null,null,null,null,null,null,null,null,null,null,null,null,null,null,null,null,null,null,null,null,null,null,null,null,null,null,null,null,null,"BHF1120"]
["석축헐기(메쌓기)","인력(뒷길이45∼60cm)",1,"㎡",29629,{"$f":"일위대가!H1108","v":1410},{"$f":"일위대가!J1108","v":28219},{"$f":"일위대가!L1108","v":0},"제 122호표",null,null,null,null,null,null,null,null,null,null,null,null,null,null,null,null,null,null,null,null,null,null,null,null,null,null,null,null,null,null,null,null,null,null,null,null,null,null,null,null,null,null,null,null,null,null,null,null,null,null,null,null,null,null,null,null,null,null,null,null,null,null,null,null,null,null,null,null,null,null,null,null,null,null,null,null,null,null,null,null,null,null,null,null,null,null,null,null,null,null,null,null,null,null,null,null,null,null,null,null,null,null,null,null,null,null,null,"BDB3210"]
["석축헐기(메쌓기)","인력(뒷길이60∼90cm)",1,"㎡",44444,{"$f":"일위대가!H1113","v":2116},{"$f":"일위대가!J1113","v":42328},{"$f":"일위대가!L1113","v":0},"제 123호표",null,null,null,null,null,null,null,null,null,null,null,null,null,null,null,null,null,null,null,null,null,null,null,null,null,null,null,null,null,null,null,null,null,null,null,null,null,null,null,null,null,null,null,null,null,null,null,null,null,null,null,null,null,null,null,null,null,null,null,null,null,null,null,null,null,null,null,null,null,null,null,null,null,null,null,null,null,null,null,null,null,null,null,null,null,null,null,null,null,null,null,null,null,null,null,null,null,null,null,null,null,null,null,null,null,null,null,"BDB3220"]
["세립도투수콘크리트포장","T=기층5cm+표층2cm(기계70%+인력30%)",1,"a",1015086,{"$f":"일위대가!H1129","v":98626},{"$f":"일위대가!J1129","v":912461},{"$f":"일위대가!L1129","v":3999},"제 124호표",null,null,null,null,null,null,null,null,null,null,null,null,null,null,null,null,null,null,null,null,null,null,null,null,null,null,null,null,null,null,null,null,null,null,null,null,null,null,null,null,null,null,null,null,null,null,null,null,null,null,null,null,null,null,null,null,null,null,null,null,null,null,null,null,null,null,null,null,null,null,null,null,null,null,null,null,null,null,null,null,null,null,null,null,null,null,null,null,null,null,null,null,null,null,null,null,null,null,null,null,null,null,null,null,null,null,null,"B0310"]
["수축줄눈","20x25MM",1,"m",3307,{"$f":"일위대가!H1134","v":3150},{"$f":"일위대가!J1134","v":157},{"$f":"일위대가!L1134","v":0},"제 125호표",null,null,null,null,null,null,null,null,null,null,null,null,null,null,null,null,null,null,null,null,null,null,null,null,null,null,null,null,null,null,null,null,null,null,null,null,null,null,null,null,null,null,null,null,null,null,null,null,null,null,null,null,null,null,null,null,null,null,null,null,null,null,null,null,null,null,null,null,null,null,null,null,null,null,null,null,null,null,null,null,null,null,null,null,null,null,null,null,null,null,null,null,null,null,null,null,null,null,null,null,null,null,null,null,null,null,null,"BFG1120"]
["수팽창지수재","",1,"m",2094,{"$f":"일위대가!H1139","v":1995},{"$f":"일위대가!J1139","v":99},{"$f":"일위대가!L1139","v":0},"제 126호표",null,null,null,null,null,null,null,null,null,null,null,null,null,null,null,null,null,null,null,null,null,null,null,null,null,null,null,null,null,null,null,null,null,null,null,null,null,null,null,null,null,null,null,null,null,null,null,null,null,null,null,null,null,null,null,null,null,null,null,null,null,null,null,null,null,null,null,null,null,null,null,null,null,null,null,null,null,null,null,null,null,null,null,null,null,null,null,null,null,null,null,null,null,null,null,null,null,null,null,null,null,null,null,null,null,null,null,"BFG2210"]
["신구콘크리트접합","EPOXY바르기",1,"㎡",48108,{"$f":"일위대가!H1146","v":21955},{"$f":"일위대가!J1146","v":25641},{"$f":"일위대가!L1146","v":512},"제 127호표",null,null,null,null,null,null,null,null,null,null,null,null,null,null,null,null,null,null,null,null,null,null,null,null,null,null,null,null,null,null,null,null,null,null,null,null,null,null,null,null,null,null,null,null,null,null,null,null,null,null,null,null,null,null,null,null,null,null,null,null,null,null,null,null,null,null,null,null,null,null,null,null,null,null,null,null,null,null,null,null,null,null,null,null,null,null,null,null,null,null,null,null,null,null,null,null,null,null,null,null,null,null,null,null,null,null,null,"BFJ6000"]
["소파보수(포장복구)","B타입, 시간당5.625㎡",1,"HR",416433,{"$f":"일위대가!H1156","v":31351},{"$f":"일위대가!J1156","v":347066},{"$f":"일위대가!L1156","v":38016},"제 128호표",null,null,null,null,null,null,null,null,null,null,null,null,null,null,null,null,null,null,null,null,null,null,null,null,null,null,null,null,null,null,null,null,null,null,null,null,null,null,null,null,null,null,null,null,null,null,null,null,null,null,null,null,null,null,null,null,null,null,null,null,null,null,null,null,null,null,null,null,null,null,null,null,null,null,null,null,null,null,null,null,null,null,null,null,null,null,null,null,null,null,null,null,null,null,null,null,null,null,null,null,null,null,null,null,null,null,null,"B000-0110"]
["소파보수(포장복구,개소별 평균 시공면적 5㎡ 이하)","B타입, 일시공량 38.25㎡, 시간당 4.78㎡",1,"a",{"$f":"F146+G146+H146","v":8786536},{"$f":"일위대가!H1164","v":729362},{"$f":"일위대가!J1164","v":7260620},{"$f":"일위대가!L1164","v":796554},"제 128-1호표",null,null,null,null,null,null,null,null,null,null,null,null,null,null,null,null,null,null,null,null,null,null,null,null,null,null,null,null,null,null,null,null,null,null,null,null,null,null,null,null,null,null,null,null,null,null,null,null,null,null,null,null,null,null,null,null,null,null,null,null,null,null,null,null,null,null,null,null,null,null,null,null,null,null,null,null,null,null,null,null,null,null,null,null,null,null,null,null,null,null,null,null,null,null,null,null,null,null,null,null,null,null,null,null,null,null,null,"B000-0110"]
["소파보수(포장복구,개소별 평균 시공면적 10㎡ 이하)","B타입, 일시공량 41.4㎡, 시간당 5.175㎡",1,"a",8120245,{"$f":"일위대가!H1172","v":679201},{"$f":"일위대가!J1172","v":6705315},{"$f":"일위대가!L1172","v":735729},"제 128-2호표",null,null,null,null,null,null,null,null,null,null,null,null,null,null,null,null,null,null,null,null,null,null,null,null,null,null,null,null,null,null,null,null,null,null,null,null,null,null,null,null,null,null,null,null,null,null,null,null,null,null,null,null,null,null,null,null,null,null,null,null,null,null,null,null,null,null,null,null,null,null,null,null,null,null,null,null,null,null,null,null,null,null,null,null,null,null,null,null,null,null,null,null,null,null,null,null,null,null,null,null,null,null,null,null,null,null,null,"B000-0110"]
["소파보수(포장복구,개소별 평균 시공면적 20㎡ 이하)","B타입, 일시공량 45㎡, 시간당 5.625㎡",1,"a",{"$f":"F148+G148+H148","v":7478937},{"$f":"일위대가!H1180","v":630920},{"$f":"일위대가!J1180","v":6170833},{"$f":"일위대가!L1180","v":677184},"제 128-3호표",null,null,null,null,null,null,null,null,null,null,null,null,null,null,null,null,null,null,null,null,null,null,null,null,null,null,null,null,null,null,null,null,null,null,null,null,null,null,null,null,null,null,null,null,null,null,null,null,null,null,null,null,null,null,null,null,null,null,null,null,null,null,null,null,null,null,null,null,null,null,null,null,null,null,null,null,null,null,null,null,null,null,null,null,null,null,null,null,null,null,null,null,null,null,null,null,null,null,null,null,null,null,null,null,null,null,null,"B000-0110"]
["소파보수(포장복구,개소별 평균 시공면적 30㎡ 이하)","B타입, 일시공량 49.05㎡, 시간당 6.13㎡",1,"a",6866780,{"$f":"일위대가!H1188","v":584834},{"$f":"일위대가!J1188","v":5660646},{"$f":"일위대가!L1188","v":621300},"제 128-4호표",null,null,null,null,null,null,null,null,null,null,null,null,null,null,null,null,null,null,null,null,null,null,null,null,null,null,null,null,null,null,null,null,null,null,null,null,null,null,null,null,null,null,null,null,null,null,null,null,null,null,null,null,null,null,null,null,null,null,null,null,null,null,null,null,null,null,null,null,null,null,null,null,null,null,null,null,null,null,null,null,null,null,null,null,null,null,null,null,null,null,null,null,null,null,null,null,null,null,null,null,null,null,null,null,null,null,null,"B000-0110"]
["소파보수(포장복구,개소별 평균 시공면적 30㎡ 초과)","B타입, 일시공량 53.1㎡, 시간당 6.6375㎡",1,"a",{"$f":"F150+G150+H150","v":6346239},{"$f":"일위대가!H1196","v":545646},{"$f":"일위대가!J1196","v":5226813},{"$f":"일위대가!L1196","v":573780},"제 128-5호표",null,null,null,null,null,null,null,null,null,null,null,null,null,null,null,null,null,null,null,null,null,null,null,null,null,null,null,null,null,null,null,null,null,null,null,null,null,null,null,null,null,null,null,null,null,null,null,null,null,null,null,null,null,null,null,null,null,null,null,null,null,null,null,null,null,null,null,null,null,null,null,null,null,null,null,null,null,null,null,null,null,null,null,null,null,null,null,null,null,null,null,null,null,null,null,null,null,null,null,null,null,null,null,null,null,null,null,"B000-0110"]
["소파보수(표층)","C타입, 시간당6.25㎡",1,"HR",{"$f":"F151+G151+H151","v":422881},{"$f":"일위대가!H1206","v":33938},{"$f":"일위대가!J1206","v":347066},{"$f":"일위대가!L1206","v":41877},"제 129호표",null,null,null,null,null,null,null,null,null,null,null,null,null,null,null,null,null,null,null,null,null,null,null,null,null,null,null,null,null,null,null,null,null,null,null,null,null,null,null,null,null,null,null,null,null,null,null,null,null,null,null,null,null,null,null,null,null,null,null,null,null,null,null,null,null,null,null,null,null,null,null,null,null,null,null,null,null,null,null,null,null,null,null,null,null,null,null,null,null,null,null,null,null,null,null,null,null,null,null,null,null,null,null,null,null,null,null,"B000-0140"]
["소파보수(표층,개소별 평균 시공면적 5㎡ 이하)","C타입, 일시공량 39.5㎡, 시간당 4.94㎡",1,"a",{"$f":"F152+G152+H152","v":8581370},{"$f":"일위대가!H1213","v":707905},{"$f":"일위대가!J1213","v":7024615},{"$f":"일위대가!L1213","v":848850},"제 129-1호표",null,null,null,null,null,null,null,null,null,null,null,null,null,null,null,null,null,null,null,null,null,null,null,null,null,null,null,null,null,null,null,null,null,null,null,null,null,null,null,null,null,null,null,null,null,null,null,null,null,null,null,null,null,null,null,null,null,null,null,null,null,null,null,null,null,null,null,null,null,null,null,null,null,null,null,null,null,null,null,null,null,null,null,null,null,null,null,null,null,null,null,null,null,null,null,null,null,null,null,null,null,null,null,null,null,null,null,"B000-0140"]
["소파보수(표층,개소별 평균 시공면적 10㎡ 이하)","C타입, 일시공량 41.4㎡, 시간당 5.175㎡",1,"a",{"$f":"F153+G153+H153","v":8120245},{"$f":"일위대가!H1172","v":679201},{"$f":"일위대가!J1172","v":6705315},{"$f":"일위대가!L1172","v":735729},"제 129-2호표",null,null,null,null,null,null,null,null,null,null,null,null,null,null,null,null,null,null,null,null,null,null,null,null,null,null,null,null,null,null,null,null,null,null,null,null,null,null,null,null,null,null,null,null,null,null,null,null,null,null,null,null,null,null,null,null,null,null,null,null,null,null,null,null,null,null,null,null,null,null,null,null,null,null,null,null,null,null,null,null,null,null,null,null,null,null,null,null,null,null,null,null,null,null,null,null,null,null,null,null,null,null,null,null,null,null,null,"B000-0140"]
["소파보수(표층,개소별 평균 시공면적 20㎡ 이하)","C타입,일시공량 50㎡, 시간당 6.25㎡",1,"a",{"$f":"F154+G154+H154","v":6788356},{"$f":"일위대가!H1227","v":564008},{"$f":"일위대가!J1227","v":5553056},{"$f":"일위대가!L1227","v":671292},"제 129-3호표",null,null,null,null,null,null,null,null,null,null,null,null,null,null,null,null,null,null,null,null,null,null,null,null,null,null,null,null,null,null,null,null,null,null,null,null,null,null,null,null,null,null,null,null,null,null,null,null,null,null,null,null,null,null,null,null,null,null,null,null,null,null,null,null,null,null,null,null,null,null,null,null,null,null,null,null,null,null,null,null,null,null,null,null,null,null,null,null,null,null,null,null,null,null,null,null,null,null,null,null,null,null,null,null,null,null,null,"B000-0140"]
["소파보수(표층,개소별 평균 시공면적 30㎡ 이하)","C타입,일시공량 56㎡, 시간당 7㎡",1,"a",{"$f":"F155+G155+H155","v":6065229},{"$f":"일위대가!H1234","v":505974},{"$f":"일위대가!J1234","v":4959573},{"$f":"일위대가!L1234","v":599682},"제 129-4호표",null,null,null,null,null,null,null,null,null,null,null,null,null,null,null,null,null,null,null,null,null,null,null,null,null,null,null,null,null,null,null,null,null,null,null,null,null,null,null,null,null,null,null,null,null,null,null,null,null,null,null,null,null,null,null,null,null,null,null,null,null,null,null,null,null,null,null,null,null,null,null,null,null,null,null,null,null,null,null,null,null,null,null,null,null,null,null,null,null,null,null,null,null,null,null,null,null,null,null,null,null,null,null,null,null,null,null,"B000-0140"]
["소파보수(표층,개소별 평균 시공면적 30㎡ 초과)","C타입,,일시공량 63㎡, 시간당 7.88㎡",1,"a",{"$f":"F156+G156+H156","v":5388619},{"$f":"일위대가!H1241","v":451673},{"$f":"일위대가!J1241","v":4404267},{"$f":"일위대가!L1241","v":532679},"제 129-5호표",null,null,null,null,null,null,null,null,null,null,null,null,null,null,null,null,null,null,null,null,null,null,null,null,null,null,null,null,null,null,null,null,null,null,null,null,null,null,null,null,null,null,null,null,null,null,null,null,null,null,null,null,null,null,null,null,null,null,null,null,null,null,null,null,null,null,null,null,null,null,null,null,null,null,null,null,null,null,null,null,null,null,null,null,null,null,null,null,null,null,null,null,null,null,null,null,null,null,null,null,null,null,null,null,null,null,null,"B000-0140"]
["소파보수(도로복구)","B타입, 시간당4.375㎡",1,"HR",503744,{"$f":"일위대가!H1252","v":41426},{"$f":"일위대가!J1252","v":419869},{"$f":"일위대가!L1252","v":42449},"제 130호표",null,null,null,null,null,null,null,null,null,null,null,null,null,null,null,null,null,null,null,null,null,null,null,null,null,null,null,null,null,null,null,null,null,null,null,null,null,null,null,null,null,null,null,null,null,null,null,null,null,null,null,null,null,null,null,null,null,null,null,null,null,null,null,null,null,null,null,null,null,null,null,null,null,null,null,null,null,null,null,null,null,null,null,null,null,null,null,null,null,null,null,null,null,null,null,null,null,null,null,null,null,null,null,null,null,null,null,"B000-0166"]
["소파보수(도로복구,개소별 평균 시공면적 4㎡ 이하)","B타입, 일시공량 31.15㎡, 시간당 3.89㎡",1,"a",14305216,{"$f":"일위대가!H1262","v":2417762},{"$f":"일위대가!J1262","v":10794831},{"$f":"일위대가!L1262","v":1092623},"제 130-1호표",null,null,null,null,null,null,null,null,null,null,null,null,null,null,null,null,null,null,null,null,null,null,null,null,null,null,null,null,null,null,null,null,null,null,null,null,null,null,null,null,null,null,null,null,null,null,null,null,null,null,null,null,null,null,null,null,null,null,null,null,null,null,null,null,null,null,null,null,null,null,null,null,null,null,null,null,null,null,null,null,null,null,null,null,null,null,null,null,null,null,null,null,null,null,null,null,null,null,null,null,null,null,null,null,null,null,null,"B000-0140"]
["소파보수(도로복구,개소별 평균 시공면적 8㎡ 이하)","B타입, 일시공량 32.9㎡, 시간당 4.11㎡",1,"a",13610050,{"$f":"일위대가!H1272","v":2360594},{"$f":"일위대가!J1272","v":10215412},{"$f":"일위대가!L1272","v":1034044},"제 130-2호표",null,null,null,null,null,null,null,null,null,null,null,null,null,null,null,null,null,null,null,null,null,null,null,null,null,null,null,null,null,null,null,null,null,null,null,null,null,null,null,null,null,null,null,null,null,null,null,null,null,null,null,null,null,null,null,null,null,null,null,null,null,null,null,null,null,null,null,null,null,null,null,null,null,null,null,null,null,null,null,null,null,null,null,null,null,null,null,null,null,null,null,null,null,null,null,null,null,null,null,null,null,null,null,null,null,null,null,"B000-0140"]
["소파보수(도로복구,개소별 평균 시공면적 16㎡ 이하)","B타입,일시공량 35㎡, 시간당 4.375㎡",1,"a",12864509,{"$f":"일위대가!H1282","v":2299284},{"$f":"일위대가!J1282","v":9594006},{"$f":"일위대가!L1282","v":971219},"제 130-3호표",null,null,null,null,null,null,null,null,null,null,null,null,null,null,null,null,null,null,null,null,null,null,null,null,null,null,null,null,null,null,null,null,null,null,null,null,null,null,null,null,null,null,null,null,null,null,null,null,null,null,null,null,null,null,null,null,null,null,null,null,null,null,null,null,null,null,null,null,null,null,null,null,null,null,null,null,null,null,null,null,null,null,null,null,null,null,null,null,null,null,null,null,null,null,null,null,null,null,null,null,null,null,null,null,null,null,null,"B000-0140"]
["소파보수(도로복구,개소별 평균 시공면적 24㎡ 이하)","B타입,일시공량 37.1㎡, 시간당 4.64㎡",1,"a",12209641,{"$f":"일위대가!H1292","v":2245430},{"$f":"일위대가!J1292","v":9048176},{"$f":"일위대가!L1292","v":916035},"제 130-4호표",null,null,null,null,null,null,null,null,null,null,null,null,null,null,null,null,null,null,null,null,null,null,null,null,null,null,null,null,null,null,null,null,null,null,null,null,null,null,null,null,null,null,null,null,null,null,null,null,null,null,null,null,null,null,null,null,null,null,null,null,null,null,null,null,null,null,null,null,null,null,null,null,null,null,null,null,null,null,null,null,null,null,null,null,null,null,null,null,null,null,null,null,null,null,null,null,null,null,null,null,null,null,null,null,null,null,null,"B000-0140"]
["소파보수(도로복구,개소별 평균 시공면적 24㎡ 초과)","B타입,일시공량 39.55㎡, 시간당 4.94㎡",1,"a",11549737,{"$f":"일위대가!H1302","v":2191162},{"$f":"일위대가!J1302","v":8498148},{"$f":"일위대가!L1302","v":860427},"제 130-5호표",null,null,null,null,null,null,null,null,null,null,null,null,null,null,null,null,null,null,null,null,null,null,null,null,null,null,null,null,null,null,null,null,null,null,null,null,null,null,null,null,null,null,null,null,null,null,null,null,null,null,null,null,null,null,null,null,null,null,null,null,null,null,null,null,null,null,null,null,null,null,null,null,null,null,null,null,null,null,null,null,null,null,null,null,null,null,null,null,null,null,null,null,null,null,null,null,null,null,null,null,null,null,null,null,null,null,null,"B000-0140"]
["아스팔트포장(인력,신설포장)","시간당 37.5㎡",1,"HR",229908,{"$f":"일위대가!H1312","v":19489},{"$f":"일위대가!J1312","v":197150},{"$f":"일위대가!L1312","v":13269},"제 134호표",null,null,null,null,null,null,null,null,null,null,null,null,null,null,null,null,null,null,null,null,null,null,null,null,null,null,null,null,null,null,null,null,null,null,null,null,null,null,null,null,null,null,null,null,null,null,null,null,null,null,null,null,null,null,null,null,null,null,null,null,null,null,null,null,null,null,null,null,null,null,null,null,null,null,null,null,null,null,null,null,null,null,null,null,null,null,null,null,null,null,null,null,null,null,null,null,null,null,null,null,null,null,null,null,null,null,null,"BB00-0380"]
["아스팔트포장(기계,신설포장)","표층,중간층",1,"HR",476352,{"$f":"일위대가!H1322","v":63890},{"$f":"일위대가!J1322","v":319325},{"$f":"일위대가!L1322","v":93137},"제 135호표",null,null,null,null,null,null,null,null,null,null,null,null,null,null,null,null,null,null,null,null,null,null,null,null,null,null,null,null,null,null,null,null,null,null,null,null,null,null,null,null,null,null,null,null,null,null,null,null,null,null,null,null,null,null,null,null,null,null,null,null,null,null,null,null,null,null,null,null,null,null,null,null,null,null,null,null,null,null,null,null,null,null,null,null,null,null,null,null,null,null,null,null,null,null,null,null,null,null,null,null,null,null,null,null,null,null,null,"BB00-0360"]
["아스팔트포장(기계,소규모,신설포장)","표층중간층,(시공폭≤2m)",1,"HR",{"$f":"F165+G165+H165","v":436461},{"$f":"일위대가!H1332","v":53415},{"$f":"일위대가!J1332","v":292730},{"$f":"일위대가!L1332","v":90316},"제 135-1호표",null,null,null,null,null,null,null,null,null,null,null,null,null,null,null,null,null,null,null,null,null,null,null,null,null,null,null,null,null,null,null,null,null,null,null,null,null,null,null,null,null,null,null,null,null,null,null,null,null,null,null,null,null,null,null,null,null,null,null,null,null,null,null,null,null,null,null,null,null,null,null,null,null,null,null,null,null,null,null,null,null,null,null,null,null,null,null,null,null,null,null,null,null,null,null,null,null,null,null,null,null,null,null,null,null,null,null,"BB00-0360"]
["아스콘표층공(인력,신설포장)","T=5Cm",1,"a",657288,{"$f":"일위대가!H1341","v":73607},{"$f":"일위대가!J1341","v":547865},{"$f":"일위대가!L1341","v":35816},"제 136호표",null,null,null,null,null,null,null,null,null,null,null,null,null,null,null,null,null,null,null,null,null,null,null,null,null,null,null,null,null,null,null,null,null,null,null,null,null,null,null,null,null,null,null,null,null,null,null,null,null,null,null,null,null,null,null,null,null,null,null,null,null,null,null,null,null,null,null,null,null,null,null,null,null,null,null,null,null,null,null,null,null,null,null,null,null,null,null,null,null,null,null,null,null,null,null,null,null,null,null,null,null,null,null,null,null,null,null,"BKB5100"]
["아스콘표층공(기계,신설포장)","T=5Cm(3m≤시공폭)",1,"a",119219,{"$f":"일위대가!H1350","v":32819},{"$f":"일위대가!J1350","v":69913},{"$f":"일위대가!L1350","v":16487},"제 137호표",null,null,null,null,null,null,null,null,null,null,null,null,null,null,null,null,null,null,null,null,null,null,null,null,null,null,null,null,null,null,null,null,null,null,null,null,null,null,null,null,null,null,null,null,null,null,null,null,null,null,null,null,null,null,null,null,null,null,null,null,null,null,null,null,null,null,null,null,null,null,null,null,null,null,null,null,null,null,null,null,null,null,null,null,null,null,null,null,null,null,null,null,null,null,null,null,null,null,null,null,null,null,null,null,null,null,null,"BKB5000"]
["아스콘표층공(기계,소규모,신설포장)","T=5Cm(시공폭≤2m)",1,"a",{"$f":"F168+G168+H168","v":257900},{"$f":"일위대가!H1359","v":48857},{"$f":"일위대가!J1359","v":162951},{"$f":"일위대가!L1359","v":46092},"제 137-1호표",null,null,null,null,null,null,null,null,null,null,null,null,null,null,null,null,null,null,null,null,null,null,null,null,null,null,null,null,null,null,null,null,null,null,null,null,null,null,null,null,null,null,null,null,null,null,null,null,null,null,null,null,null,null,null,null,null,null,null,null,null,null,null,null,null,null,null,null,null,null,null,null,null,null,null,null,null,null,null,null,null,null,null,null,null,null,null,null,null,null,null,null,null,null,null,null,null,null,null,null,null,null,null,null,null,null,null,"BKB5000"]
["아스콘표층공(기계,신설포장)","T=5Cm(1.4m≤시공폭<3m)",1,"a",186386,{"$f":"일위대가!H1368","v":41828},{"$f":"일위대가!J1368","v":114938},{"$f":"일위대가!L1368","v":29620},"제 138호표",null,null,null,null,null,null,null,null,null,null,null,null,null,null,null,null,null,null,null,null,null,null,null,null,null,null,null,null,null,null,null,null,null,null,null,null,null,null,null,null,null,null,null,null,null,null,null,null,null,null,null,null,null,null,null,null,null,null,null,null,null,null,null,null,null,null,null,null,null,null,null,null,null,null,null,null,null,null,null,null,null,null,null,null,null,null,null,null,null,null,null,null,null,null,null,null,null,null,null,null,null,null,null,null,null,null,null,"BKB5000-01"]
["절삭 후 아스팔트 덧씌우기","T=5cm(이면도로 13a/일)",1,"HR",{"$f":"F170+G170+H170","v":642528},{"$f":"일위대가!H1386","v":151455},{"$f":"일위대가!J1386","v":313869},{"$f":"일위대가!L1386","v":177204},"제 138-1호표",null,null,null,null,null,null,null,null,null,null,null,null,null,null,null,null,null,null,null,null,null,null,null,null,null,null,null,null,null,null,null,null,null,null,null,null,null,null,null,null,null,null,null,null,null,null,null,null,null,null,null,null,null,null,null,null,null,null,null,null,null,null,null,null,null,null,null,null,null,null,null,null,null,null,null,null,null,null,null,null,null,null,null,null,null,null,null,null,null,null,null,null,null,null,null,null,null,null,null,null,null,null,null,null,null,null,null,"BB00-0510"]
["아스콘중층공(인력,신설포장)","T=7.5Cm",1,"a",689328,{"$f":"일위대가!H1395","v":105107},{"$f":"일위대가!J1395","v":547865},{"$f":"일위대가!L1395","v":36356},"제 139호표",null,null,null,null,null,null,null,null,null,null,null,null,null,null,null,null,null,null,null,null,null,null,null,null,null,null,null,null,null,null,null,null,null,null,null,null,null,null,null,null,null,null,null,null,null,null,null,null,null,null,null,null,null,null,null,null,null,null,null,null,null,null,null,null,null,null,null,null,null,null,null,null,null,null,null,null,null,null,null,null,null,null,null,null,null,null,null,null,null,null,null,null,null,null,null,null,null,null,null,null,null,null,null,null,null,null,null,"BKB5300"]
["아스콘중층공(기계,신설포장)","T=7.5Cm(3m≤시공폭)",1,"a",151259,{"$f":"일위대가!H1404","v":64319},{"$f":"일위대가!J1404","v":69913},{"$f":"일위대가!L1404","v":17027},"제 140호표",null,null,null,null,null,null,null,null,null,null,null,null,null,null,null,null,null,null,null,null,null,null,null,null,null,null,null,null,null,null,null,null,null,null,null,null,null,null,null,null,null,null,null,null,null,null,null,null,null,null,null,null,null,null,null,null,null,null,null,null,null,null,null,null,null,null,null,null,null,null,null,null,null,null,null,null,null,null,null,null,null,null,null,null,null,null,null,null,null,null,null,null,null,null,null,null,null,null,null,null,null,null,null,null,null,null,null,"BKB5200"]
["아스콘중층공(기계,소규모,신설포장)","T=7.5Cm,(시공폭≤2m)",1,"a",{"$f":"F173+G173+H173","v":289940},{"$f":"일위대가!H1413","v":80357},{"$f":"일위대가!J1413","v":162951},{"$f":"일위대가!L1413","v":46632},"제 140-1호표",null,null,null,null,null,null,null,null,null,null,null,null,null,null,null,null,null,null,null,null,null,null,null,null,null,null,null,null,null,null,null,null,null,null,null,null,null,null,null,null,null,null,null,null,null,null,null,null,null,null,null,null,null,null,null,null,null,null,null,null,null,null,null,null,null,null,null,null,null,null,null,null,null,null,null,null,null,null,null,null,null,null,null,null,null,null,null,null,null,null,null,null,null,null,null,null,null,null,null,null,null,null,null,null,null,null,null,"BKB5200"]
["아스콘중층공(기계,신설포장)","T=7.5Cm(1.4m≤시공폭<3m)",1,"a",218426,{"$f":"일위대가!H1422","v":73328},{"$f":"일위대가!J1422","v":114938},{"$f":"일위대가!L1422","v":30160},"제 141호표",null,null,null,null,null,null,null,null,null,null,null,null,null,null,null,null,null,null,null,null,null,null,null,null,null,null,null,null,null,null,null,null,null,null,null,null,null,null,null,null,null,null,null,null,null,null,null,null,null,null,null,null,null,null,null,null,null,null,null,null,null,null,null,null,null,null,null,null,null,null,null,null,null,null,null,null,null,null,null,null,null,null,null,null,null,null,null,null,null,null,null,null,null,null,null,null,null,null,null,null,null,null,null,null,null,null,null,"BKB5200-01"]
["절삭 후 아스팔트 덧씌우기","시간당250㎡(비연속구간)",1,"HR",1012981,{"$f":"일위대가!H1436","v":190489},{"$f":"일위대가!J1436","v":532270},{"$f":"일위대가!L1436","v":290222},"제 142호표",null,null,null,null,null,null,null,null,null,null,null,null,null,null,null,null,null,null,null,null,null,null,null,null,null,null,null,null,null,null,null,null,null,null,null,null,null,null,null,null,null,null,null,null,null,null,null,null,null,null,null,null,null,null,null,null,null,null,null,null,null,null,null,null,null,null,null,null,null,null,null,null,null,null,null,null,null,null,null,null,null,null,null,null,null,null,null,null,null,null,null,null,null,null,null,null,null,null,null,null,null,null,null,null,null,null,null,"BB00-0510"]
["절삭 후 아스팔트 덧씌우기","T=5cm(비연속구간)",1,"a",487770,{"$f":"일위대가!H1444","v":125515},{"$f":"일위대가!J1444","v":234198},{"$f":"일위대가!L1444","v":128057},"제 143호표",null,null,null,null,null,null,null,null,null,null,null,null,null,null,null,null,null,null,null,null,null,null,null,null,null,null,null,null,null,null,null,null,null,null,null,null,null,null,null,null,null,null,null,null,null,null,null,null,null,null,null,null,null,null,null,null,null,null,null,null,null,null,null,null,null,null,null,null,null,null,null,null,null,null,null,null,null,null,null,null,null,null,null,null,null,null,null,null,null,null,null,null,null,null,null,null,null,null,null,null,null,null,null,null,null,null,null,"BB00-0520"]
["아스팔트포장도로(균열보수)","(아스팔트가열장비이용)",1,"m",43217,{"$f":"일위대가!H1456","v":24604},{"$f":"일위대가!J1456","v":14916},{"$f":"일위대가!L1456","v":3697},"제 144호표",null,null,null,null,null,null,null,null,null,null,null,null,null,null,null,null,null,null,null,null,null,null,null,null,null,null,null,null,null,null,null,null,null,null,null,null,null,null,null,null,null,null,null,null,null,null,null,null,null,null,null,null,null,null,null,null,null,null,null,null,null,null,null,null,null,null,null,null,null,null,null,null,null,null,null,null,null,null,null,null,null,null,null,null,null,null,null,null,null,null,null,null,null,null,null,null,null,null,null,null,null,null,null,null,null,null,null,"B000-0231"]
["아스팔트포장도로(측구앞복구)","",1,"a",6910143,{"$f":"일위대가!H1461","v":1135393},{"$f":"일위대가!J1461","v":5623572},{"$f":"일위대가!L1461","v":151178},"제 145호표",null,null,null,null,null,null,null,null,null,null,null,null,null,null,null,null,null,null,null,null,null,null,null,null,null,null,null,null,null,null,null,null,null,null,null,null,null,null,null,null,null,null,null,null,null,null,null,null,null,null,null,null,null,null,null,null,null,null,null,null,null,null,null,null,null,null,null,null,null,null,null,null,null,null,null,null,null,null,null,null,null,null,null,null,null,null,null,null,null,null,null,null,null,null,null,null,null,null,null,null,null,null,null,null,null,null,null,"B0357"]
["윙카설치","",1,"m",1928,{"$f":"일위대가!H1466","v":0},{"$f":"일위대가!J1466","v":0},{"$f":"일위대가!L1466","v":1928},"제 146호표",null,null,null,null,null,null,null,null,null,null,null,null,null,null,null,null,null,null,null,null,null,null,null,null,null,null,null,null,null,null,null,null,null,null,null,null,null,null,null,null,null,null,null,null,null,null,null,null,null,null,null,null,null,null,null,null,null,null,null,null,null,null,null,null,null,null,null,null,null,null,null,null,null,null,null,null,null,null,null,null,null,null,null,null,null,null,null,null,null,null,null,null,null,null,null,null,null,null,null,null,null,null,null,null,null,null,null,"B0021"]
["인력 현장내잔토처리","소운반,깔기,고르기",1,"㎥",28219,{"$f":"일위대가!H1470","v":0},{"$f":"일위대가!J1470","v":28219},{"$f":"일위대가!L1470","v":0},"제 147호표",null,null,null,null,null,null,null,null,null,null,null,null,null,null,null,null,null,null,null,null,null,null,null,null,null,null,null,null,null,null,null,null,null,null,null,null,null,null,null,null,null,null,null,null,null,null,null,null,null,null,null,null,null,null,null,null,null,null,null,null,null,null,null,null,null,null,null,null,null,null,null,null,null,null,null,null,null,null,null,null,null,null,null,null,null,null,null,null,null,null,null,null,null,null,null,null,null,null,null,null,null,null,null,null,null,null,null,"B0049"]
["인력 흙다지기","토사(15cm)",1,"㎥",19753,{"$f":"일위대가!H1474","v":0},{"$f":"일위대가!J1474","v":19753},{"$f":"일위대가!L1474","v":0},"제 148호표",null,null,null,null,null,null,null,null,null,null,null,null,null,null,null,null,null,null,null,null,null,null,null,null,null,null,null,null,null,null,null,null,null,null,null,null,null,null,null,null,null,null,null,null,null,null,null,null,null,null,null,null,null,null,null,null,null,null,null,null,null,null,null,null,null,null,null,null,null,null,null,null,null,null,null,null,null,null,null,null,null,null,null,null,null,null,null,null,null,null,null,null,null,null,null,null,null,null,null,null,null,null,null,null,null,null,null,"B0048"]
["인력비빔타설(fck=180kgf/cm2)","무근구조물",1,"㎥",367815,{"$f":"일위대가!H1482","v":62458},{"$f":"일위대가!J1482","v":298571},{"$f":"일위대가!L1482","v":6786},"제 149호표",null,null,null,null,null,null,null,null,null,null,null,null,null,null,null,null,null,null,null,null,null,null,null,null,null,null,null,null,null,null,null,null,null,null,null,null,null,null,null,null,null,null,null,null,null,null,null,null,null,null,null,null,null,null,null,null,null,null,null,null,null,null,null,null,null,null,null,null,null,null,null,null,null,null,null,null,null,null,null,null,null,null,null,null,null,null,null,null,null,null,null,null,null,null,null,null,null,null,null,null,null,null,null,null,null,null,null,"BFB3130"]
["인력비빔타설(fck=180kgf/cm2)","철근구조물",1,"㎥",396105,{"$f":"일위대가!H1490","v":62458},{"$f":"일위대가!J1490","v":326861},{"$f":"일위대가!L1490","v":6786},"제 150호표",null,null,null,null,null,null,null,null,null,null,null,null,null,null,null,null,null,null,null,null,null,null,null,null,null,null,null,null,null,null,null,null,null,null,null,null,null,null,null,null,null,null,null,null,null,null,null,null,null,null,null,null,null,null,null,null,null,null,null,null,null,null,null,null,null,null,null,null,null,null,null,null,null,null,null,null,null,null,null,null,null,null,null,null,null,null,null,null,null,null,null,null,null,null,null,null,null,null,null,null,null,null,null,null,null,null,null,"BFB3230"]
["인력비빔타설(fck=180kgf/cm2)","소형구조물 3㎥미만",1,"㎥",539016,{"$f":"일위대가!H1498","v":62788},{"$f":"일위대가!J1498","v":469427},{"$f":"일위대가!L1498","v":6801},"제 151호표",null,null,null,null,null,null,null,null,null,null,null,null,null,null,null,null,null,null,null,null,null,null,null,null,null,null,null,null,null,null,null,null,null,null,null,null,null,null,null,null,null,null,null,null,null,null,null,null,null,null,null,null,null,null,null,null,null,null,null,null,null,null,null,null,null,null,null,null,null,null,null,null,null,null,null,null,null,null,null,null,null,null,null,null,null,null,null,null,null,null,null,null,null,null,null,null,null,null,null,null,null,null,null,null,null,null,null,"BFB3330"]
["인력비빔타설(fck=210kgf/cm2)","무근구조물",1,"㎥",372619,{"$f":"일위대가!H1506","v":66014},{"$f":"일위대가!J1506","v":298571},{"$f":"일위대가!L1506","v":8034},"제 152호표",null,null,null,null,null,null,null,null,null,null,null,null,null,null,null,null,null,null,null,null,null,null,null,null,null,null,null,null,null,null,null,null,null,null,null,null,null,null,null,null,null,null,null,null,null,null,null,null,null,null,null,null,null,null,null,null,null,null,null,null,null,null,null,null,null,null,null,null,null,null,null,null,null,null,null,null,null,null,null,null,null,null,null,null,null,null,null,null,null,null,null,null,null,null,null,null,null,null,null,null,null,null,null,null,null,null,null,"BFB3120"]
["인력비빔타설(fck=210kgf/cm2)","철근구조물",1,"㎥",400909,{"$f":"일위대가!H1514","v":66014},{"$f":"일위대가!J1514","v":326861},{"$f":"일위대가!L1514","v":8034},"제 153호표",null,null,null,null,null,null,null,null,null,null,null,null,null,null,null,null,null,null,null,null,null,null,null,null,null,null,null,null,null,null,null,null,null,null,null,null,null,null,null,null,null,null,null,null,null,null,null,null,null,null,null,null,null,null,null,null,null,null,null,null,null,null,null,null,null,null,null,null,null,null,null,null,null,null,null,null,null,null,null,null,null,null,null,null,null,null,null,null,null,null,null,null,null,null,null,null,null,null,null,null,null,null,null,null,null,null,null,"BFB3220"]
["인력비빔타설(fck=210kgf/cm2)","소형구조물 3㎥미만",1,"㎥",543931,{"$f":"일위대가!H1522","v":66463},{"$f":"일위대가!J1522","v":469427},{"$f":"일위대가!L1522","v":8041},"제 154호표",null,null,null,null,null,null,null,null,null,null,null,null,null,null,null,null,null,null,null,null,null,null,null,null,null,null,null,null,null,null,null,null,null,null,null,null,null,null,null,null,null,null,null,null,null,null,null,null,null,null,null,null,null,null,null,null,null,null,null,null,null,null,null,null,null,null,null,null,null,null,null,null,null,null,null,null,null,null,null,null,null,null,null,null,null,null,null,null,null,null,null,null,null,null,null,null,null,null,null,null,null,null,null,null,null,null,null,"BFB3320"]
["인력비빔타설(fck=240kgf/cm2)","무근구조물",1,"㎥",375946,{"$f":"일위대가!H1530","v":68587},{"$f":"일위대가!J1530","v":298571},{"$f":"일위대가!L1530","v":8788},"제 155호표",null,null,null,null,null,null,null,null,null,null,null,null,null,null,null,null,null,null,null,null,null,null,null,null,null,null,null,null,null,null,null,null,null,null,null,null,null,null,null,null,null,null,null,null,null,null,null,null,null,null,null,null,null,null,null,null,null,null,null,null,null,null,null,null,null,null,null,null,null,null,null,null,null,null,null,null,null,null,null,null,null,null,null,null,null,null,null,null,null,null,null,null,null,null,null,null,null,null,null,null,null,null,null,null,null,null,null,"BFB3110"]
["인력비빔타설(fck=240kgf/cm2)","철근구조물",1,"㎥",404236,{"$f":"일위대가!H1538","v":68587},{"$f":"일위대가!J1538","v":326861},{"$f":"일위대가!L1538","v":8788},"제 156호표",null,null,null,null,null,null,null,null,null,null,null,null,null,null,null,null,null,null,null,null,null,null,null,null,null,null,null,null,null,null,null,null,null,null,null,null,null,null,null,null,null,null,null,null,null,null,null,null,null,null,null,null,null,null,null,null,null,null,null,null,null,null,null,null,null,null,null,null,null,null,null,null,null,null,null,null,null,null,null,null,null,null,null,null,null,null,null,null,null,null,null,null,null,null,null,null,null,null,null,null,null,null,null,null,null,null,null,"BFB3210"]
["인력비빔타설(fck=240kgf/cm2)","소형구조물 3㎥미만",1,"㎥",547104,{"$f":"일위대가!H1546","v":68876},{"$f":"일위대가!J1546","v":469427},{"$f":"일위대가!L1546","v":8801},"제 157호표",null,null,null,null,null,null,null,null,null,null,null,null,null,null,null,null,null,null,null,null,null,null,null,null,null,null,null,null,null,null,null,null,null,null,null,null,null,null,null,null,null,null,null,null,null,null,null,null,null,null,null,null,null,null,null,null,null,null,null,null,null,null,null,null,null,null,null,null,null,null,null,null,null,null,null,null,null,null,null,null,null,null,null,null,null,null,null,null,null,null,null,null,null,null,null,null,null,null,null,null,null,null,null,null,null,null,null,"BFB3310"]
["와이어메쉬바닥깔기","",1,"㎡",3079,{"$f":"일위대가!H1552","v":2004},{"$f":"일위대가!J1552","v":1075},{"$f":"일위대가!L1552","v":0},"제 158호표",null,null,null,null,null,null,null,null,null,null,null,null,null,null,null,null,null,null,null,null,null,null,null,null,null,null,null,null,null,null,null,null,null,null,null,null,null,null,null,null,null,null,null,null,null,null,null,null,null,null,null,null,null,null,null,null,null,null,null,null,null,null,null,null,null,null,null,null,null,null,null,null,null,null,null,null,null,null,null,null,null,null,null,null,null,null,null,null,null,null,null,null,null,null,null,null,null,null,null,null,null,null,null,null,null,null,null,"B000-0200"]
["자전거도로포장(인력,신설포장)","T=10Cm",1,"a",1602288,{"$f":"일위대가!H1562","v":1018607},{"$f":"일위대가!J1562","v":547865},{"$f":"일위대가!L1562","v":35816},"제 160호표",null,null,null,null,null,null,null,null,null,null,null,null,null,null,null,null,null,null,null,null,null,null,null,null,null,null,null,null,null,null,null,null,null,null,null,null,null,null,null,null,null,null,null,null,null,null,null,null,null,null,null,null,null,null,null,null,null,null,null,null,null,null,null,null,null,null,null,null,null,null,null,null,null,null,null,null,null,null,null,null,null,null,null,null,null,null,null,null,null,null,null,null,null,null,null,null,null,null,null,null,null,null,null,null,null,null,null,"B000-0420"]
["정원석쌓기","20톤이상",1,"TON",252108,{"$f":"일위대가!H1569","v":12619},{"$f":"일위대가!J1569","v":218933},{"$f":"일위대가!L1569","v":20556},"제 161호표",null,null,null,null,null,null,null,null,null,null,null,null,null,null,null,null,null,null,null,null,null,null,null,null,null,null,null,null,null,null,null,null,null,null,null,null,null,null,null,null,null,null,null,null,null,null,null,null,null,null,null,null,null,null,null,null,null,null,null,null,null,null,null,null,null,null,null,null,null,null,null,null,null,null,null,null,null,null,null,null,null,null,null,null,null,null,null,null,null,null,null,null,null,null,null,null,null,null,null,null,null,null,null,null,null,null,null,"B0339"]
["정원석쌓기","20톤미만",1,"TON",281958,{"$f":"일위대가!H1576","v":12120},{"$f":"일위대가!J1576","v":248934},{"$f":"일위대가!L1576","v":20904},"제 162호표",null,null,null,null,null,null,null,null,null,null,null,null,null,null,null,null,null,null,null,null,null,null,null,null,null,null,null,null,null,null,null,null,null,null,null,null,null,null,null,null,null,null,null,null,null,null,null,null,null,null,null,null,null,null,null,null,null,null,null,null,null,null,null,null,null,null,null,null,null,null,null,null,null,null,null,null,null,null,null,null,null,null,null,null,null,null,null,null,null,null,null,null,null,null,null,null,null,null,null,null,null,null,null,null,null,null,null,"B0340"]
["자연석쌓기","기계+인력",1,"TON",116374,{"$f":"일위대가!H1583","v":9539},{"$f":"일위대가!J1583","v":94653},{"$f":"일위대가!L1583","v":12182},"제 163호표",null,null,null,null,null,null,null,null,null,null,null,null,null,null,null,null,null,null,null,null,null,null,null,null,null,null,null,null,null,null,null,null,null,null,null,null,null,null,null,null,null,null,null,null,null,null,null,null,null,null,null,null,null,null,null,null,null,null,null,null,null,null,null,null,null,null,null,null,null,null,null,null,null,null,null,null,null,null,null,null,null,null,null,null,null,null,null,null,null,null,null,null,null,null,null,null,null,null,null,null,null,null,null,null,null,null,null,"B0341"]
["잡철물제작설치","(간단)",1,"TON",6636935,{"$f":"일위대가!H1599","v":97272},{"$f":"일위대가!J1599","v":6347530},{"$f":"일위대가!L1599","v":192133},"제 164호표",null,null,null,null,null,null,null,null,null,null,null,null,null,null,null,null,null,null,null,null,null,null,null,null,null,null,null,null,null,null,null,null,null,null,null,null,null,null,null,null,null,null,null,null,null,null,null,null,null,null,null,null,null,null,null,null,null,null,null,null,null,null,null,null,null,null,null,null,null,null,null,null,null,null,null,null,null,null,null,null,null,null,null,null,null,null,null,null,null,null,null,null,null,null,null,null,null,null,null,null,null,null,null,null,null,null,null,"BID1100"]
["잡철물제작설치","보통",1,"TON",7964321,{"$f":"일위대가!H1603","v":116726},{"$f":"일위대가!J1603","v":7617036},{"$f":"일위대가!L1603","v":230559},"제 165호표",null,null,null,null,null,null,null,null,null,null,null,null,null,null,null,null,null,null,null,null,null,null,null,null,null,null,null,null,null,null,null,null,null,null,null,null,null,null,null,null,null,null,null,null,null,null,null,null,null,null,null,null,null,null,null,null,null,null,null,null,null,null,null,null,null,null,null,null,null,null,null,null,null,null,null,null,null,null,null,null,null,null,null,null,null,null,null,null,null,null,null,null,null,null,null,null,null,null,null,null,null,null,null,null,null,null,null,"BID1200"]
["조립식가설울타리설치및해체","3개월",1,"m",73103,{"$f":"일위대가!H1614","v":8761},{"$f":"일위대가!J1614","v":43198},{"$f":"일위대가!L1614","v":21144},"제 166호표",null,null,null,null,null,null,null,null,null,null,null,null,null,null,null,null,null,null,null,null,null,null,null,null,null,null,null,null,null,null,null,null,null,null,null,null,null,null,null,null,null,null,null,null,null,null,null,null,null,null,null,null,null,null,null,null,null,null,null,null,null,null,null,null,null,null,null,null,null,null,null,null,null,null,null,null,null,null,null,null,null,null,null,null,null,null,null,null,null,null,null,null,null,null,null,null,null,null,null,null,null,null,null,null,null,null,null,"BAA3211"]
["조립식가설울타리설치및해체","6개월",1,"m",76525,{"$f":"일위대가!H1625","v":11205},{"$f":"일위대가!J1625","v":43198},{"$f":"일위대가!L1625","v":22122},"제 167호표",null,null,null,null,null,null,null,null,null,null,null,null,null,null,null,null,null,null,null,null,null,null,null,null,null,null,null,null,null,null,null,null,null,null,null,null,null,null,null,null,null,null,null,null,null,null,null,null,null,null,null,null,null,null,null,null,null,null,null,null,null,null,null,null,null,null,null,null,null,null,null,null,null,null,null,null,null,null,null,null,null,null,null,null,null,null,null,null,null,null,null,null,null,null,null,null,null,null,null,null,null,null,null,null,null,null,null,"BAA3212"]
["조립식가설울타리설치및해체","12개월",1,"m",82000,{"$f":"일위대가!H1636","v":15116},{"$f":"일위대가!J1636","v":43198},{"$f":"일위대가!L1636","v":23686},"제 168호표",null,null,null,null,null,null,null,null,null,null,null,null,null,null,null,null,null,null,null,null,null,null,null,null,null,null,null,null,null,null,null,null,null,null,null,null,null,null,null,null,null,null,null,null,null,null,null,null,null,null,null,null,null,null,null,null,null,null,null,null,null,null,null,null,null,null,null,null,null,null,null,null,null,null,null,null,null,null,null,null,null,null,null,null,null,null,null,null,null,null,null,null,null,null,null,null,null,null,null,null,null,null,null,null,null,null,null,"BAA3213"]
["줄눈설치","시간당 87.5m",1,"HR",97711,{"$f":"일위대가!H1641","v":0},{"$f":"일위대가!J1641","v":97711},{"$f":"일위대가!L1641","v":0},"제 169호표",null,null,null,null,null,null,null,null,null,null,null,null,null,null,null,null,null,null,null,null,null,null,null,null,null,null,null,null,null,null,null,null,null,null,null,null,null,null,null,null,null,null,null,null,null,null,null,null,null,null,null,null,null,null,null,null,null,null,null,null,null,null,null,null,null,null,null,null,null,null,null,null,null,null,null,null,null,null,null,null,null,null,null,null,null,null,null,null,null,null,null,null,null,null,null,null,null,null,null,null,null,null,null,null,null,null,null,"BB00-0340"]
["줄눈설치","",1,"m",21813,{"$f":"일위대가!H1647","v":20700},{"$f":"일위대가!J1647","v":1113},{"$f":"일위대가!L1647","v":0},"제 170호표",null,null,null,null,null,null,null,null,null,null,null,null,null,null,null,null,null,null,null,null,null,null,null,null,null,null,null,null,null,null,null,null,null,null,null,null,null,null,null,null,null,null,null,null,null,null,null,null,null,null,null,null,null,null,null,null,null,null,null,null,null,null,null,null,null,null,null,null,null,null,null,null,null,null,null,null,null,null,null,null,null,null,null,null,null,null,null,null,null,null,null,null,null,null,null,null,null,null,null,null,null,null,null,null,null,null,null,"B0178"]
["차선규제봉 설치","200*80*750㎜",1,"개",18625,{"$f":"일위대가!H1656","v":8583},{"$f":"일위대가!J1656","v":9280},{"$f":"일위대가!L1656","v":762},"제 171호표",null,null,null,null,null,null,null,null,null,null,null,null,null,null,null,null,null,null,null,null,null,null,null,null,null,null,null,null,null,null,null,null,null,null,null,null,null,null,null,null,null,null,null,null,null,null,null,null,null,null,null,null,null,null,null,null,null,null,null,null,null,null,null,null,null,null,null,null,null,null,null,null,null,null,null,null,null,null,null,null,null,null,null,null,null,null,null,null,null,null,null,null,null,null,null,null,null,null,null,null,null,null,null,null,null,null,null,"B000-0222"]
["차선도색(융착식,실선)","시간당 46.87㎡",1,"HR",187501,{"$f":"일위대가!H1664","v":14212},{"$f":"일위대가!J1664","v":152522},{"$f":"일위대가!L1664","v":20767},"제 172호표",null,null,null,null,null,null,null,null,null,null,null,null,null,null,null,null,null,null,null,null,null,null,null,null,null,null,null,null,null,null,null,null,null,null,null,null,null,null,null,null,null,null,null,null,null,null,null,null,null,null,null,null,null,null,null,null,null,null,null,null,null,null,null,null,null,null,null,null,null,null,null,null,null,null,null,null,null,null,null,null,null,null,null,null,null,null,null,null,null,null,null,null,null,null,null,null,null,null,null,null,null,null,null,null,null,null,null,"BB00-0400"]
["차선도색(융착식,문자)","시간당 16.5㎡",1,"HR",187501,{"$f":"일위대가!H1672","v":14212},{"$f":"일위대가!J1672","v":152522},{"$f":"일위대가!L1672","v":20767},"제 173호표",null,null,null,null,null,null,null,null,null,null,null,null,null,null,null,null,null,null,null,null,null,null,null,null,null,null,null,null,null,null,null,null,null,null,null,null,null,null,null,null,null,null,null,null,null,null,null,null,null,null,null,null,null,null,null,null,null,null,null,null,null,null,null,null,null,null,null,null,null,null,null,null,null,null,null,null,null,null,null,null,null,null,null,null,null,null,null,null,null,null,null,null,null,null,null,null,null,null,null,null,null,null,null,null,null,null,null,"BB00-0490"]
["차선도색(융착식,횡단보도)","시간당 35.25㎡",1,"HR",187501,{"$f":"일위대가!H1680","v":14212},{"$f":"일위대가!J1680","v":152522},{"$f":"일위대가!L1680","v":20767},"제 174호표",null,null,null,null,null,null,null,null,null,null,null,null,null,null,null,null,null,null,null,null,null,null,null,null,null,null,null,null,null,null,null,null,null,null,null,null,null,null,null,null,null,null,null,null,null,null,null,null,null,null,null,null,null,null,null,null,null,null,null,null,null,null,null,null,null,null,null,null,null,null,null,null,null,null,null,null,null,null,null,null,null,null,null,null,null,null,null,null,null,null,null,null,null,null,null,null,null,null,null,null,null,null,null,null,null,null,null,"B000-0160"]
["차선도색(문자,기호)","B=15Cm(고성능융착식 수동)",1,"㎡",55070,{"$f":"일위대가!H1692","v":30642},{"$f":"일위대가!J1692","v":22149},{"$f":"일위대가!L1692","v":2279},"제 175호표",null,null,null,null,null,null,null,null,null,null,null,null,null,null,null,null,null,null,null,null,null,null,null,null,null,null,null,null,null,null,null,null,null,null,null,null,null,null,null,null,null,null,null,null,null,null,null,null,null,null,null,null,null,null,null,null,null,null,null,null,null,null,null,null,null,null,null,null,null,null,null,null,null,null,null,null,null,null,null,null,null,null,null,null,null,null,null,null,null,null,null,null,null,null,null,null,null,null,null,null,null,null,null,null,null,null,null,"B000-0130"]
["차선도색(실선,백색)","B=15Cm(고성능융착식 수동)",1,"㎡",33655,{"$f":"일위대가!H1704","v":29279},{"$f":"일위대가!J1704","v":3968},{"$f":"일위대가!L1704","v":408},"제 176호표",null,null,null,null,null,null,null,null,null,null,null,null,null,null,null,null,null,null,null,null,null,null,null,null,null,null,null,null,null,null,null,null,null,null,null,null,null,null,null,null,null,null,null,null,null,null,null,null,null,null,null,null,null,null,null,null,null,null,null,null,null,null,null,null,null,null,null,null,null,null,null,null,null,null,null,null,null,null,null,null,null,null,null,null,null,null,null,null,null,null,null,null,null,null,null,null,null,null,null,null,null,null,null,null,null,null,null,"B000-0150"]
["차선도색(실선,황색)","B=15Cm(고성능융착식 수동)",1,"㎡",37754,{"$f":"일위대가!H1716","v":33378},{"$f":"일위대가!J1716","v":3968},{"$f":"일위대가!L1716","v":408},"제 177호표",null,null,null,null,null,null,null,null,null,null,null,null,null,null,null,null,null,null,null,null,null,null,null,null,null,null,null,null,null,null,null,null,null,null,null,null,null,null,null,null,null,null,null,null,null,null,null,null,null,null,null,null,null,null,null,null,null,null,null,null,null,null,null,null,null,null,null,null,null,null,null,null,null,null,null,null,null,null,null,null,null,null,null,null,null,null,null,null,null,null,null,null,null,null,null,null,null,null,null,null,null,null,null,null,null,null,null,"B000-0170"]
["차선도색(횡단보도,주차장)","B=15Cm(고성능융착식 수동)",1,"㎡",41323,{"$f":"일위대가!H1728","v":29768},{"$f":"일위대가!J1728","v":10475},{"$f":"일위대가!L1728","v":1080},"제 178호표",null,null,null,null,null,null,null,null,null,null,null,null,null,null,null,null,null,null,null,null,null,null,null,null,null,null,null,null,null,null,null,null,null,null,null,null,null,null,null,null,null,null,null,null,null,null,null,null,null,null,null,null,null,null,null,null,null,null,null,null,null,null,null,null,null,null,null,null,null,null,null,null,null,null,null,null,null,null,null,null,null,null,null,null,null,null,null,null,null,null,null,null,null,null,null,null,null,null,null,null,null,null,null,null,null,null,null,"B000-0210"]
["차선도색(문자,기호)","B=15Cm(융착식 수동)",1,"㎡",42076,{"$f":"일위대가!H1740","v":17648},{"$f":"일위대가!J1740","v":22149},{"$f":"일위대가!L1740","v":2279},"제 179호표",null,null,null,null,null,null,null,null,null,null,null,null,null,null,null,null,null,null,null,null,null,null,null,null,null,null,null,null,null,null,null,null,null,null,null,null,null,null,null,null,null,null,null,null,null,null,null,null,null,null,null,null,null,null,null,null,null,null,null,null,null,null,null,null,null,null,null,null,null,null,null,null,null,null,null,null,null,null,null,null,null,null,null,null,null,null,null,null,null,null,null,null,null,null,null,null,null,null,null,null,null,null,null,null,null,null,null,"BKI1300"]
["차선도색(실선,백색)","B=15Cm(융착식 수동)",1,"㎡",20661,{"$f":"일위대가!H1752","v":16285},{"$f":"일위대가!J1752","v":3968},{"$f":"일위대가!L1752","v":408},"제 180호표",null,null,null,null,null,null,null,null,null,null,null,null,null,null,null,null,null,null,null,null,null,null,null,null,null,null,null,null,null,null,null,null,null,null,null,null,null,null,null,null,null,null,null,null,null,null,null,null,null,null,null,null,null,null,null,null,null,null,null,null,null,null,null,null,null,null,null,null,null,null,null,null,null,null,null,null,null,null,null,null,null,null,null,null,null,null,null,null,null,null,null,null,null,null,null,null,null,null,null,null,null,null,null,null,null,null,null,"BKI1000"]
["차선도색(실선,청색)","B=15Cm(융착식 수동)",1,"㎡",26426,{"$f":"일위대가!H1764","v":22050},{"$f":"일위대가!J1764","v":3968},{"$f":"일위대가!L1764","v":408},"제 181호표",null,null,null,null,null,null,null,null,null,null,null,null,null,null,null,null,null,null,null,null,null,null,null,null,null,null,null,null,null,null,null,null,null,null,null,null,null,null,null,null,null,null,null,null,null,null,null,null,null,null,null,null,null,null,null,null,null,null,null,null,null,null,null,null,null,null,null,null,null,null,null,null,null,null,null,null,null,null,null,null,null,null,null,null,null,null,null,null,null,null,null,null,null,null,null,null,null,null,null,null,null,null,null,null,null,null,null,"B000-0120"]
["차선도색(실선,황색)","B=15Cm(융착식 수동)",1,"㎡",25053,{"$f":"일위대가!H1776","v":20677},{"$f":"일위대가!J1776","v":3968},{"$f":"일위대가!L1776","v":408},"제 182호표",null,null,null,null,null,null,null,null,null,null,null,null,null,null,null,null,null,null,null,null,null,null,null,null,null,null,null,null,null,null,null,null,null,null,null,null,null,null,null,null,null,null,null,null,null,null,null,null,null,null,null,null,null,null,null,null,null,null,null,null,null,null,null,null,null,null,null,null,null,null,null,null,null,null,null,null,null,null,null,null,null,null,null,null,null,null,null,null,null,null,null,null,null,null,null,null,null,null,null,null,null,null,null,null,null,null,null,"B000-01101"]
["차선도색(횡단보도,주차장)","B=15Cm(융착식 수동)",1,"㎡",28330,{"$f":"일위대가!H1788","v":16775},{"$f":"일위대가!J1788","v":10475},{"$f":"일위대가!L1788","v":1080},"제 183호표",null,null,null,null,null,null,null,null,null,null,null,null,null,null,null,null,null,null,null,null,null,null,null,null,null,null,null,null,null,null,null,null,null,null,null,null,null,null,null,null,null,null,null,null,null,null,null,null,null,null,null,null,null,null,null,null,null,null,null,null,null,null,null,null,null,null,null,null,null,null,null,null,null,null,null,null,null,null,null,null,null,null,null,null,null,null,null,null,null,null,null,null,null,null,null,null,null,null,null,null,null,null,null,null,null,null,null,"BKI1200"]
["차선도색제거","시간당 2.875㎡",1,"HR",146853,{"$f":"일위대가!H1795","v":15166},{"$f":"일위대가!J1795","v":122469},{"$f":"일위대가!L1795","v":9218},"제 184호표",null,null,null,null,null,null,null,null,null,null,null,null,null,null,null,null,null,null,null,null,null,null,null,null,null,null,null,null,null,null,null,null,null,null,null,null,null,null,null,null,null,null,null,null,null,null,null,null,null,null,null,null,null,null,null,null,null,null,null,null,null,null,null,null,null,null,null,null,null,null,null,null,null,null,null,null,null,null,null,null,null,null,null,null,null,null,null,null,null,null,null,null,null,null,null,null,null,null,null,null,null,null,null,null,null,null,null,"BB00-0410"]
["차선도색제거","폭15cm기준",1,"㎡",33570,{"$f":"일위대가!H1800","v":3467},{"$f":"일위대가!J1800","v":27996},{"$f":"일위대가!L1800","v":2107},"제 185호표",null,null,null,null,null,null,null,null,null,null,null,null,null,null,null,null,null,null,null,null,null,null,null,null,null,null,null,null,null,null,null,null,null,null,null,null,null,null,null,null,null,null,null,null,null,null,null,null,null,null,null,null,null,null,null,null,null,null,null,null,null,null,null,null,null,null,null,null,null,null,null,null,null,null,null,null,null,null,null,null,null,null,null,null,null,null,null,null,null,null,null,null,null,null,null,null,null,null,null,null,null,null,null,null,null,null,null,"BKI1400"]
["철근가공및조립","간단",1,"TON",791178,{"$f":"일위대가!H1810","v":6800},{"$f":"일위대가!J1810","v":778492},{"$f":"일위대가!L1810","v":5886},"제 186호표",null,null,null,null,null,null,null,null,null,null,null,null,null,null,null,null,null,null,null,null,null,null,null,null,null,null,null,null,null,null,null,null,null,null,null,null,null,null,null,null,null,null,null,null,null,null,null,null,null,null,null,null,null,null,null,null,null,null,null,null,null,null,null,null,null,null,null,null,null,null,null,null,null,null,null,null,null,null,null,null,null,null,null,null,null,null,null,null,null,null,null,null,null,null,null,null,null,null,null,null,null,null,null,null,null,null,null,"BFF1100"]
["철근가공및조립","보통",1,"TON",890100,{"$f":"일위대가!H1820","v":8840},{"$f":"일위대가!J1820","v":874314},{"$f":"일위대가!L1820","v":6946},"제 187호표",null,null,null,null,null,null,null,null,null,null,null,null,null,null,null,null,null,null,null,null,null,null,null,null,null,null,null,null,null,null,null,null,null,null,null,null,null,null,null,null,null,null,null,null,null,null,null,null,null,null,null,null,null,null,null,null,null,null,null,null,null,null,null,null,null,null,null,null,null,null,null,null,null,null,null,null,null,null,null,null,null,null,null,null,null,null,null,null,null,null,null,null,null,null,null,null,null,null,null,null,null,null,null,null,null,null,null,"BFF1200"]
["청소 및 건조","",1,"m",9229,{"$f":"일위대가!H1824","v":1428},{"$f":"일위대가!J1824","v":7280},{"$f":"일위대가!L1824","v":521},"제 188호표",null,null,null,null,null,null,null,null,null,null,null,null,null,null,null,null,null,null,null,null,null,null,null,null,null,null,null,null,null,null,null,null,null,null,null,null,null,null,null,null,null,null,null,null,null,null,null,null,null,null,null,null,null,null,null,null,null,null,null,null,null,null,null,null,null,null,null,null,null,null,null,null,null,null,null,null,null,null,null,null,null,null,null,null,null,null,null,null,null,null,null,null,null,null,null,null,null,null,null,null,null,null,null,null,null,null,null,"B000-0233"]
["청소비(아스팔트)","",1,"a",14549,{"$f":"일위대가!H1829","v":440},{"$f":"일위대가!J1829","v":14109},{"$f":"일위대가!L1829","v":0},"제 189호표",null,null,null,null,null,null,null,null,null,null,null,null,null,null,null,null,null,null,null,null,null,null,null,null,null,null,null,null,null,null,null,null,null,null,null,null,null,null,null,null,null,null,null,null,null,null,null,null,null,null,null,null,null,null,null,null,null,null,null,null,null,null,null,null,null,null,null,null,null,null,null,null,null,null,null,null,null,null,null,null,null,null,null,null,null,null,null,null,null,null,null,null,null,null,null,null,null,null,null,null,null,null,null,null,null,null,null,"B0337"]
["컨테이너형가설건축물(사무실)","9*3.0m(3개월)",1,"개",575795,{"$f":"일위대가!H1837","v":0},{"$f":"일위대가!J1837","v":0},{"$f":"일위대가!L1837","v":575795},"제 190호표",null,null,null,null,null,null,null,null,null,null,null,null,null,null,null,null,null,null,null,null,null,null,null,null,null,null,null,null,null,null,null,null,null,null,null,null,null,null,null,null,null,null,null,null,null,null,null,null,null,null,null,null,null,null,null,null,null,null,null,null,null,null,null,null,null,null,null,null,null,null,null,null,null,null,null,null,null,null,null,null,null,null,null,null,null,null,null,null,null,null,null,null,null,null,null,null,null,null,null,null,null,null,null,null,null,null,null,"BAD6835"]
["컨테이너형가설건축물(사무실)","9*3.0m(6개월)",1,"개",697075,{"$f":"일위대가!H1845","v":0},{"$f":"일위대가!J1845","v":0},{"$f":"일위대가!L1845","v":697075},"제 191호표",null,null,null,null,null,null,null,null,null,null,null,null,null,null,null,null,null,null,null,null,null,null,null,null,null,null,null,null,null,null,null,null,null,null,null,null,null,null,null,null,null,null,null,null,null,null,null,null,null,null,null,null,null,null,null,null,null,null,null,null,null,null,null,null,null,null,null,null,null,null,null,null,null,null,null,null,null,null,null,null,null,null,null,null,null,null,null,null,null,null,null,null,null,null,null,null,null,null,null,null,null,null,null,null,null,null,null,"BAD6836"]
["컨테이너형가설건축물(사무실)","9*3.0m(12개월)",1,"개",969955,{"$f":"일위대가!H1853","v":0},{"$f":"일위대가!J1853","v":0},{"$f":"일위대가!L1853","v":969955},"제 192호표",null,null,null,null,null,null,null,null,null,null,null,null,null,null,null,null,null,null,null,null,null,null,null,null,null,null,null,null,null,null,null,null,null,null,null,null,null,null,null,null,null,null,null,null,null,null,null,null,null,null,null,null,null,null,null,null,null,null,null,null,null,null,null,null,null,null,null,null,null,null,null,null,null,null,null,null,null,null,null,null,null,null,null,null,null,null,null,null,null,null,null,null,null,null,null,null,null,null,null,null,null,null,null,null,null,null,null,"BAD6837"]
["컨테이너형가설건축물(창고)","6*3.0m(3개월)",1,"개",{"$f":"F225+G225+H225","v":402581},{"$f":"일위대가!H1861","v":0},{"$f":"일위대가!J1861","v":0},{"$f":"일위대가!L1861","v":402581},"제 193호표",null,null,null,null,null,null,null,null,null,null,null,null,null,null,null,null,null,null,null,null,null,null,null,null,null,null,null,null,null,null,null,null,null,null,null,null,null,null,null,null,null,null,null,null,null,null,null,null,null,null,null,null,null,null,null,null,null,null,null,null,null,null,null,null,null,null,null,null,null,null,null,null,null,null,null,null,null,null,null,null,null,null,null,null,null,null,null,null,null,null,null,null,null,null,null,null,null,null,null,null,null,null,null,null,null,null,null,"BAD6925"]
["컨테이너형가설건축물(창고)","6*3.0m(6개월)",1,"개",476181,{"$f":"일위대가!H1869","v":0},{"$f":"일위대가!J1869","v":0},{"$f":"일위대가!L1869","v":476181},"제 194호표",null,null,null,null,null,null,null,null,null,null,null,null,null,null,null,null,null,null,null,null,null,null,null,null,null,null,null,null,null,null,null,null,null,null,null,null,null,null,null,null,null,null,null,null,null,null,null,null,null,null,null,null,null,null,null,null,null,null,null,null,null,null,null,null,null,null,null,null,null,null,null,null,null,null,null,null,null,null,null,null,null,null,null,null,null,null,null,null,null,null,null,null,null,null,null,null,null,null,null,null,null,null,null,null,null,null,null,"BAD6926"]
["컨테이너형가설건축물(창고)","6*3.0m(12개월)",1,"개",641781,{"$f":"일위대가!H1877","v":0},{"$f":"일위대가!J1877","v":0},{"$f":"일위대가!L1877","v":641781},"제 195호표",null,null,null,null,null,null,null,null,null,null,null,null,null,null,null,null,null,null,null,null,null,null,null,null,null,null,null,null,null,null,null,null,null,null,null,null,null,null,null,null,null,null,null,null,null,null,null,null,null,null,null,null,null,null,null,null,null,null,null,null,null,null,null,null,null,null,null,null,null,null,null,null,null,null,null,null,null,null,null,null,null,null,null,null,null,null,null,null,null,null,null,null,null,null,null,null,null,null,null,null,null,null,null,null,null,null,null,"BAD6927"]
["컨테이너형가설건축물(창고)","12*3.0m(3개월)",1,"개",609443,{"$f":"일위대가!H1885","v":0},{"$f":"일위대가!J1885","v":0},{"$f":"일위대가!L1885","v":609443},"제 196호표",null,null,null,null,null,null,null,null,null,null,null,null,null,null,null,null,null,null,null,null,null,null,null,null,null,null,null,null,null,null,null,null,null,null,null,null,null,null,null,null,null,null,null,null,null,null,null,null,null,null,null,null,null,null,null,null,null,null,null,null,null,null,null,null,null,null,null,null,null,null,null,null,null,null,null,null,null,null,null,null,null,null,null,null,null,null,null,null,null,null,null,null,null,null,null,null,null,null,null,null,null,null,null,null,null,null,null,"BAD6945"]
["컨테이너형가설건축물(창고)","12*3.0m(6개월)",1,"개",743363,{"$f":"일위대가!H1893","v":0},{"$f":"일위대가!J1893","v":0},{"$f":"일위대가!L1893","v":743363},"제 197호표",null,null,null,null,null,null,null,null,null,null,null,null,null,null,null,null,null,null,null,null,null,null,null,null,null,null,null,null,null,null,null,null,null,null,null,null,null,null,null,null,null,null,null,null,null,null,null,null,null,null,null,null,null,null,null,null,null,null,null,null,null,null,null,null,null,null,null,null,null,null,null,null,null,null,null,null,null,null,null,null,null,null,null,null,null,null,null,null,null,null,null,null,null,null,null,null,null,null,null,null,null,null,null,null,null,null,null,"BAD6946"]
["컨테이너형가설건축물(창고)","12*3.0m(12개월)",1,"개",1044683,{"$f":"일위대가!H1901","v":0},{"$f":"일위대가!J1901","v":0},{"$f":"일위대가!L1901","v":1044683},"제 198호표",null,null,null,null,null,null,null,null,null,null,null,null,null,null,null,null,null,null,null,null,null,null,null,null,null,null,null,null,null,null,null,null,null,null,null,null,null,null,null,null,null,null,null,null,null,null,null,null,null,null,null,null,null,null,null,null,null,null,null,null,null,null,null,null,null,null,null,null,null,null,null,null,null,null,null,null,null,null,null,null,null,null,null,null,null,null,null,null,null,null,null,null,null,null,null,null,null,null,null,null,null,null,null,null,null,null,null,"BAD6947"]
["콘크리트보양","비닐",1,"a",106313,{"$f":"일위대가!H1906","v":49875},{"$f":"일위대가!J1906","v":56438},{"$f":"일위대가!L1906","v":0},"제 199호표",null,null,null,null,null,null,null,null,null,null,null,null,null,null,null,null,null,null,null,null,null,null,null,null,null,null,null,null,null,null,null,null,null,null,null,null,null,null,null,null,null,null,null,null,null,null,null,null,null,null,null,null,null,null,null,null,null,null,null,null,null,null,null,null,null,null,null,null,null,null,null,null,null,null,null,null,null,null,null,null,null,null,null,null,null,null,null,null,null,null,null,null,null,null,null,null,null,null,null,null,null,null,null,null,null,null,null,"B0142"]
["콘크리트양생","피믹양생재",1,"㎡",785,{"$f":"일위대가!H1912","v":350},{"$f":"일위대가!J1912","v":423},{"$f":"일위대가!L1912","v":12},"제 200호표",null,null,null,null,null,null,null,null,null,null,null,null,null,null,null,null,null,null,null,null,null,null,null,null,null,null,null,null,null,null,null,null,null,null,null,null,null,null,null,null,null,null,null,null,null,null,null,null,null,null,null,null,null,null,null,null,null,null,null,null,null,null,null,null,null,null,null,null,null,null,null,null,null,null,null,null,null,null,null,null,null,null,null,null,null,null,null,null,null,null,null,null,null,null,null,null,null,null,null,null,null,null,null,null,null,null,null,"BFJ1100"]
["콘크리트양생","마대",1,"㎡",2696,{"$f":"일위대가!H1919","v":1003},{"$f":"일위대가!J1919","v":1693},{"$f":"일위대가!L1919","v":0},"제 201호표",null,null,null,null,null,null,null,null,null,null,null,null,null,null,null,null,null,null,null,null,null,null,null,null,null,null,null,null,null,null,null,null,null,null,null,null,null,null,null,null,null,null,null,null,null,null,null,null,null,null,null,null,null,null,null,null,null,null,null,null,null,null,null,null,null,null,null,null,null,null,null,null,null,null,null,null,null,null,null,null,null,null,null,null,null,null,null,null,null,null,null,null,null,null,null,null,null,null,null,null,null,null,null,null,null,null,null,"BFJ1200"]
["콘크리트포장(레미콘)","T=10cm",1,"a",289386,{"$f":"일위대가!H1928","v":140478},{"$f":"일위대가!J1928","v":148908},{"$f":"일위대가!L1928","v":0},"제 202호표",null,null,null,null,null,null,null,null,null,null,null,null,null,null,null,null,null,null,null,null,null,null,null,null,null,null,null,null,null,null,null,null,null,null,null,null,null,null,null,null,null,null,null,null,null,null,null,null,null,null,null,null,null,null,null,null,null,null,null,null,null,null,null,null,null,null,null,null,null,null,null,null,null,null,null,null,null,null,null,null,null,null,null,null,null,null,null,null,null,null,null,null,null,null,null,null,null,null,null,null,null,null,null,null,null,null,null,"BKC1200"]
["콘크리트포장(레미콘)","T=15cm",1,"a",343526,{"$f":"일위대가!H1937","v":141539},{"$f":"일위대가!J1937","v":201987},{"$f":"일위대가!L1937","v":0},"제 203호표",null,null,null,null,null,null,null,null,null,null,null,null,null,null,null,null,null,null,null,null,null,null,null,null,null,null,null,null,null,null,null,null,null,null,null,null,null,null,null,null,null,null,null,null,null,null,null,null,null,null,null,null,null,null,null,null,null,null,null,null,null,null,null,null,null,null,null,null,null,null,null,null,null,null,null,null,null,null,null,null,null,null,null,null,null,null,null,null,null,null,null,null,null,null,null,null,null,null,null,null,null,null,null,null,null,null,null,"BKC1110"]
["콘크리트포장(레미콘)","T=20cm",1,"a",397666,{"$f":"일위대가!H1946","v":142601},{"$f":"일위대가!J1946","v":255065},{"$f":"일위대가!L1946","v":0},"제 204호표",null,null,null,null,null,null,null,null,null,null,null,null,null,null,null,null,null,null,null,null,null,null,null,null,null,null,null,null,null,null,null,null,null,null,null,null,null,null,null,null,null,null,null,null,null,null,null,null,null,null,null,null,null,null,null,null,null,null,null,null,null,null,null,null,null,null,null,null,null,null,null,null,null,null,null,null,null,null,null,null,null,null,null,null,null,null,null,null,null,null,null,null,null,null,null,null,null,null,null,null,null,null,null,null,null,null,null,"BKC1000"]
["콘크리트포장(인력)","공통",1,"HR",132696,{"$f":"일위대가!H1951","v":0},{"$f":"일위대가!J1951","v":132696},{"$f":"일위대가!L1951","v":0},"제 205호표",null,null,null,null,null,null,null,null,null,null,null,null,null,null,null,null,null,null,null,null,null,null,null,null,null,null,null,null,null,null,null,null,null,null,null,null,null,null,null,null,null,null,null,null,null,null,null,null,null,null,null,null,null,null,null,null,null,null,null,null,null,null,null,null,null,null,null,null,null,null,null,null,null,null,null,null,null,null,null,null,null,null,null,null,null,null,null,null,null,null,null,null,null,null,null,null,null,null,null,null,null,null,null,null,null,null,null,"BB00-0420"]
["콘크리트포장(인력)","소규모, T=20cm",1,"a",7536552,{"$f":"일위대가!H1958","v":1386660},{"$f":"일위대가!J1958","v":6014172},{"$f":"일위대가!L1958","v":135720},"제 206호표",null,null,null,null,null,null,null,null,null,null,null,null,null,null,null,null,null,null,null,null,null,null,null,null,null,null,null,null,null,null,null,null,null,null,null,null,null,null,null,null,null,null,null,null,null,null,null,null,null,null,null,null,null,null,null,null,null,null,null,null,null,null,null,null,null,null,null,null,null,null,null,null,null,null,null,null,null,null,null,null,null,null,null,null,null,null,null,null,null,null,null,null,null,null,null,null,null,null,null,null,null,null,null,null,null,null,null,"BKC1100"]
["콘크리트표면마무리","쇠흙손",1,"㎡",776,{"$f":"일위대가!H1962","v":0},{"$f":"일위대가!J1962","v":776},{"$f":"일위대가!L1962","v":0},"제 207호표",null,null,null,null,null,null,null,null,null,null,null,null,null,null,null,null,null,null,null,null,null,null,null,null,null,null,null,null,null,null,null,null,null,null,null,null,null,null,null,null,null,null,null,null,null,null,null,null,null,null,null,null,null,null,null,null,null,null,null,null,null,null,null,null,null,null,null,null,null,null,null,null,null,null,null,null,null,null,null,null,null,null,null,null,null,null,null,null,null,null,null,null,null,null,null,null,null,null,null,null,null,null,null,null,null,null,null,"BFJ2100"]
["굴착(인력,경질토사)","굴착깊이 0∼1M",1,"㎥",36684,{"$f":"일위대가!H1966","v":0},{"$f":"일위대가!J1966","v":36684},{"$f":"일위대가!L1966","v":0},"제 208호표",null,null,null,null,null,null,null,null,null,null,null,null,null,null,null,null,null,null,null,null,null,null,null,null,null,null,null,null,null,null,null,null,null,null,null,null,null,null,null,null,null,null,null,null,null,null,null,null,null,null,null,null,null,null,null,null,null,null,null,null,null,null,null,null,null,null,null,null,null,null,null,null,null,null,null,null,null,null,null,null,null,null,null,null,null,null,null,null,null,null,null,null,null,null,null,null,null,null,null,null,null,null,null,null,null,null,null,"BDD1201"]
["굴착(인력,보통토사)","굴착깊이 0∼1M",1,"㎥",28219,{"$f":"일위대가!H1970","v":0},{"$f":"일위대가!J1970","v":28219},{"$f":"일위대가!L1970","v":0},"제 209호표",null,null,null,null,null,null,null,null,null,null,null,null,null,null,null,null,null,null,null,null,null,null,null,null,null,null,null,null,null,null,null,null,null,null,null,null,null,null,null,null,null,null,null,null,null,null,null,null,null,null,null,null,null,null,null,null,null,null,null,null,null,null,null,null,null,null,null,null,null,null,null,null,null,null,null,null,null,null,null,null,null,null,null,null,null,null,null,null,null,null,null,null,null,null,null,null,null,null,null,null,null,null,null,null,null,null,null,"BDD1101"]
["굴착(인력,보통토사)","굴착깊이 0∼1M협소",1,"㎥",42328,{"$f":"일위대가!H1974","v":0},{"$f":"일위대가!J1974","v":42328},{"$f":"일위대가!L1974","v":0},"제 210호표",null,null,null,null,null,null,null,null,null,null,null,null,null,null,null,null,null,null,null,null,null,null,null,null,null,null,null,null,null,null,null,null,null,null,null,null,null,null,null,null,null,null,null,null,null,null,null,null,null,null,null,null,null,null,null,null,null,null,null,null,null,null,null,null,null,null,null,null,null,null,null,null,null,null,null,null,null,null,null,null,null,null,null,null,null,null,null,null,null,null,null,null,null,null,null,null,null,null,null,null,null,null,null,null,null,null,null,"BDD1111"]
["터파기(구조물,토사)","굴삭기0.4㎥+인력",1,"㎥",4634,{"$f":"일위대가!H1979","v":378},{"$f":"일위대가!J1979","v":3886},{"$f":"일위대가!L1979","v":370},"제 211호표",null,null,null,null,null,null,null,null,null,null,null,null,null,null,null,null,null,null,null,null,null,null,null,null,null,null,null,null,null,null,null,null,null,null,null,null,null,null,null,null,null,null,null,null,null,null,null,null,null,null,null,null,null,null,null,null,null,null,null,null,null,null,null,null,null,null,null,null,null,null,null,null,null,null,null,null,null,null,null,null,null,null,null,null,null,null,null,null,null,null,null,null,null,null,null,null,null,null,null,null,null,null,null,null,null,null,null,"BDD4122"]
["터파기(구조물,토사)","굴삭기0.7㎥+인력",1,"㎥",4109,{"$f":"일위대가!H1984","v":280},{"$f":"일위대가!J1984","v":3497},{"$f":"일위대가!L1984","v":332},"제 212호표",null,null,null,null,null,null,null,null,null,null,null,null,null,null,null,null,null,null,null,null,null,null,null,null,null,null,null,null,null,null,null,null,null,null,null,null,null,null,null,null,null,null,null,null,null,null,null,null,null,null,null,null,null,null,null,null,null,null,null,null,null,null,null,null,null,null,null,null,null,null,null,null,null,null,null,null,null,null,null,null,null,null,null,null,null,null,null,null,null,null,null,null,null,null,null,null,null,null,null,null,null,null,null,null,null,null,null,"BDD4131"]
["투수아스팔트포장공사","T=7cm",1,"HR",509494,{"$f":"일위대가!H1993","v":76299},{"$f":"일위대가!J1993","v":337437},{"$f":"일위대가!L1993","v":95758},"제 213호표",null,null,null,null,null,null,null,null,null,null,null,null,null,null,null,null,null,null,null,null,null,null,null,null,null,null,null,null,null,null,null,null,null,null,null,null,null,null,null,null,null,null,null,null,null,null,null,null,null,null,null,null,null,null,null,null,null,null,null,null,null,null,null,null,null,null,null,null,null,null,null,null,null,null,null,null,null,null,null,null,null,null,null,null,null,null,null,null,null,null,null,null,null,null,null,null,null,null,null,null,null,null,null,null,null,null,null,"BB00-0430"]
["투수아스팔트포장공사","T=7cm",1,"a",2209974,{"$f":"일위대가!H1999","v":2108713},{"$f":"일위대가!J1999","v":81946},{"$f":"일위대가!L1999","v":19315},"제 214호표",null,null,null,null,null,null,null,null,null,null,null,null,null,null,null,null,null,null,null,null,null,null,null,null,null,null,null,null,null,null,null,null,null,null,null,null,null,null,null,null,null,null,null,null,null,null,null,null,null,null,null,null,null,null,null,null,null,null,null,null,null,null,null,null,null,null,null,null,null,null,null,null,null,null,null,null,null,null,null,null,null,null,null,null,null,null,null,null,null,null,null,null,null,null,null,null,null,null,null,null,null,null,null,null,null,null,null,"B0300"]
["투수아스팔트 소규모 포장공사","T=7cm",1,"HR",247171,{"$f":"일위대가!H2008","v":27794},{"$f":"일위대가!J2008","v":206108},{"$f":"일위대가!L2008","v":13269},"제 214-1호표"]
["투수아스팔트 소규모 포장공사","T=7cm",1,"a",2899022,{"$f":"일위대가!H2014","v":2182394},{"$f":"일위대가!J2014","v":674004},{"$f":"일위대가!L2014","v":42624},"제 214-2호표"]
["투수아스팔트포장공사(소형장비)","T=7cm",1,"a",2399778,{"$f":"일위대가!H2026","v":2130611},{"$f":"일위대가!J2026","v":208263},{"$f":"일위대가!L2026","v":60904},"제 214-3호표"]
["투수콘크리트양생","",1,"a",318888,{"$f":"일위대가!H2032","v":93135},{"$f":"일위대가!J2032","v":225753},{"$f":"일위대가!L2032","v":0},"제 215호표",null,null,null,null,null,null,null,null,null,null,null,null,null,null,null,null,null,null,null,null,null,null,null,null,null,null,null,null,null,null,null,null,null,null,null,null,null,null,null,null,null,null,null,null,null,null,null,null,null,null,null,null,null,null,null,null,null,null,null,null,null,null,null,null,null,null,null,null,null,null,null,null,null,null,null,null,null,null,null,null,null,null,null,null,null,null,null,null,null,null,null,null,null,null,null,null,null,null,null,null,null,null,null,null,null,null,null,"B0179"]
["투수콘크리트포장","(시공량 ㎡/hr)  HR당",1,"HR",236711,{"$f":"일위대가!H2040","v":21262},{"$f":"일위대가!J2040","v":192480},{"$f":"일위대가!L2040","v":22969},"제 216호표",null,null,null,null,null,null,null,null,null,null,null,null,null,null,null,null,null,null,null,null,null,null,null,null,null,null,null,null,null,null,null,null,null,null,null,null,null,null,null,null,null,null,null,null,null,null,null,null,null,null,null,null,null,null,null,null,null,null,null,null,null,null,null,null,null,null,null,null,null,null,null,null,null,null,null,null,null,null,null,null,null,null,null,null,null,null,null,null,null,null,null,null,null,null,null,null,null,null,null,null,null,null,null,null,null,null,null,"BB00-0440"]
["투수콘크리트포장","T=7cm,인력",1,"a",1570282,{"$f":"일위대가!H2049","v":814671},{"$f":"일위대가!J2049","v":703869},{"$f":"일위대가!L2049","v":51742},"제 217호표",null,null,null,null,null,null,null,null,null,null,null,null,null,null,null,null,null,null,null,null,null,null,null,null,null,null,null,null,null,null,null,null,null,null,null,null,null,null,null,null,null,null,null,null,null,null,null,null,null,null,null,null,null,null,null,null,null,null,null,null,null,null,null,null,null,null,null,null,null,null,null,null,null,null,null,null,null,null,null,null,null,null,null,null,null,null,null,null,null,null,null,null,null,null,null,null,null,null,null,null,null,null,null,null,null,null,null,"B0175"]
["투수콘크리트포장","T=10cm,인력",1,"a",1779666,{"$f":"일위대가!H2058","v":840924},{"$f":"일위대가!J2058","v":867477},{"$f":"일위대가!L2058","v":71265},"제 218호표",null,null,null,null,null,null,null,null,null,null,null,null,null,null,null,null,null,null,null,null,null,null,null,null,null,null,null,null,null,null,null,null,null,null,null,null,null,null,null,null,null,null,null,null,null,null,null,null,null,null,null,null,null,null,null,null,null,null,null,null,null,null,null,null,null,null,null,null,null,null,null,null,null,null,null,null,null,null,null,null,null,null,null,null,null,null,null,null,null,null,null,null,null,null,null,null,null,null,null,null,null,null,null,null,null,null,null,"B0176"]
["텍코팅(인력)","RSC-4(30ℓ/a)",1,"a",8215,{"$f":"일위대가!H2063","v":190},{"$f":"일위대가!J2063","v":7957},{"$f":"일위대가!L2063","v":68},"제 219호표",null,null,null,null,null,null,null,null,null,null,null,null,null,null,null,null,null,null,null,null,null,null,null,null,null,null,null,null,null,null,null,null,null,null,null,null,null,null,null,null,null,null,null,null,null,null,null,null,null,null,null,null,null,null,null,null,null,null,null,null,null,null,null,null,null,null,null,null,null,null,null,null,null,null,null,null,null,null,null,null,null,null,null,null,null,null,null,null,null,null,null,null,null,null,null,null,null,null,null,null,null,null,null,null,null,null,null,"B000-0133"]
["텍코팅(기계)","RSC-4(30ℓ/a)",1,"a",{"$f":"F255+G255+H255","v":3761},{"$f":"일위대가!H2068","v":710},{"$f":"일위대가!J2068","v":2477},{"$f":"일위대가!L2068","v":574},"제 219-1호표",null,null,null,null,null,null,null,null,null,null,null,null,null,null,null,null,null,null,null,null,null,null,null,null,null,null,null,null,null,null,null,null,null,null,null,null,null,null,null,null,null,null,null,null,null,null,null,null,null,null,null,null,null,null,null,null,null,null,null,null,null,null,null,null,null,null,null,null,null,null,null,null,null,null,null,null,null,null,null,null,null,null,null,null,null,null,null,null,null,null,null,null,null,null,null,null,null,null,null,null,null,null,null,null,null,null,null,"B000-0133"]
["프라임코팅(인력)","RSC-3",1,"a",8215,{"$f":"일위대가!H2073","v":190},{"$f":"일위대가!J2073","v":7957},{"$f":"일위대가!L2073","v":68},"제 220호표",null,null,null,null,null,null,null,null,null,null,null,null,null,null,null,null,null,null,null,null,null,null,null,null,null,null,null,null,null,null,null,null,null,null,null,null,null,null,null,null,null,null,null,null,null,null,null,null,null,null,null,null,null,null,null,null,null,null,null,null,null,null,null,null,null,null,null,null,null,null,null,null,null,null,null,null,null,null,null,null,null,null,null,null,null,null,null,null,null,null,null,null,null,null,null,null,null,null,null,null,null,null,null,null,null,null,null,"B000-0134"]
["프라임코팅(기계)","RSC-3",1,"a",{"$f":"F257+G257+H257","v":3761},{"$f":"일위대가!H2078","v":710},{"$f":"일위대가!J2078","v":2477},{"$f":"일위대가!L2078","v":574},"제 220-1호표",null,null,null,null,null,null,null,null,null,null,null,null,null,null,null,null,null,null,null,null,null,null,null,null,null,null,null,null,null,null,null,null,null,null,null,null,null,null,null,null,null,null,null,null,null,null,null,null,null,null,null,null,null,null,null,null,null,null,null,null,null,null,null,null,null,null,null,null,null,null,null,null,null,null,null,null,null,null,null,null,null,null,null,null,null,null,null,null,null,null,null,null,null,null,null,null,null,null,null,null,null,null,null,null,null,null,null,"B000-0134"]
["페인트칠(조합,붓칠)","목재면(1회)",1,"㎡",4724,{"$f":"일위대가!H2086","v":349},{"$f":"일위대가!J2086","v":4273},{"$f":"일위대가!L2086","v":102},"제 221호표",null,null,null,null,null,null,null,null,null,null,null,null,null,null,null,null,null,null,null,null,null,null,null,null,null,null,null,null,null,null,null,null,null,null,null,null,null,null,null,null,null,null,null,null,null,null,null,null,null,null,null,null,null,null,null,null,null,null,null,null,null,null,null,null,null,null,null,null,null,null,null,null,null,null,null,null,null,null,null,null,null,null,null,null,null,null,null,null,null,null,null,null,null,null,null,null,null,null,null,null,null,null,null,null,null,null,null,"BPC1113"]
["페인트칠(조합,붓칠)","목재면(2회)",1,"㎡",9734,{"$f":"일위대가!H2096","v":936},{"$f":"일위대가!J2096","v":8760},{"$f":"일위대가!L2096","v":38},"제 222호표",null,null,null,null,null,null,null,null,null,null,null,null,null,null,null,null,null,null,null,null,null,null,null,null,null,null,null,null,null,null,null,null,null,null,null,null,null,null,null,null,null,null,null,null,null,null,null,null,null,null,null,null,null,null,null,null,null,null,null,null,null,null,null,null,null,null,null,null,null,null,null,null,null,null,null,null,null,null,null,null,null,null,null,null,null,null,null,null,null,null,null,null,null,null,null,null,null,null,null,null,null,null,null,null,null,null,null,"BPC1112"]
["페인트칠(조합,붓칠)","목재면(3회)",1,"㎡",14389,{"$f":"일위대가!H2106","v":1303},{"$f":"일위대가!J2106","v":13034},{"$f":"일위대가!L2106","v":52},"제 223호표",null,null,null,null,null,null,null,null,null,null,null,null,null,null,null,null,null,null,null,null,null,null,null,null,null,null,null,null,null,null,null,null,null,null,null,null,null,null,null,null,null,null,null,null,null,null,null,null,null,null,null,null,null,null,null,null,null,null,null,null,null,null,null,null,null,null,null,null,null,null,null,null,null,null,null,null,null,null,null,null,null,null,null,null,null,null,null,null,null,null,null,null,null,null,null,null,null,null,null,null,null,null,null,null,null,null,null,"BPC1111"]
["페인트칠(조합,붓칠)","철재면(2회)",1,"㎡",10633,{"$f":"일위대가!H2117","v":891},{"$f":"일위대가!J2117","v":9675},{"$f":"일위대가!L2117","v":67},"제 224호표",null,null,null,null,null,null,null,null,null,null,null,null,null,null,null,null,null,null,null,null,null,null,null,null,null,null,null,null,null,null,null,null,null,null,null,null,null,null,null,null,null,null,null,null,null,null,null,null,null,null,null,null,null,null,null,null,null,null,null,null,null,null,null,null,null,null,null,null,null,null,null,null,null,null,null,null,null,null,null,null,null,null,null,null,null,null,null,null,null,null,null,null,null,null,null,null,null,null,null,null,null,null,null,null,null,null,null,"BPC1212"]
["페인트칠(조합,붓칠)","모르터면2회",1,"㎡",12482,{"$f":"일위대가!H2128","v":1046},{"$f":"일위대가!J2128","v":11385},{"$f":"일위대가!L2128","v":51},"제 225호표",null,null,null,null,null,null,null,null,null,null,null,null,null,null,null,null,null,null,null,null,null,null,null,null,null,null,null,null,null,null,null,null,null,null,null,null,null,null,null,null,null,null,null,null,null,null,null,null,null,null,null,null,null,null,null,null,null,null,null,null,null,null,null,null,null,null,null,null,null,null,null,null,null,null,null,null,null,null,null,null,null,null,null,null,null,null,null,null,null,null,null,null,null,null,null,null,null,null,null,null,null,null,null,null,null,null,null,"BPC1312"]
["페인트칠(조합,붓칠)","모르터면 3회",1,"㎡",18509,{"$f":"일위대가!H2139","v":1366},{"$f":"일위대가!J2139","v":17077},{"$f":"일위대가!L2139","v":66},"제 226호표",null,null,null,null,null,null,null,null,null,null,null,null,null,null,null,null,null,null,null,null,null,null,null,null,null,null,null,null,null,null,null,null,null,null,null,null,null,null,null,null,null,null,null,null,null,null,null,null,null,null,null,null,null,null,null,null,null,null,null,null,null,null,null,null,null,null,null,null,null,null,null,null,null,null,null,null,null,null,null,null,null,null,null,null,null,null,null,null,null,null,null,null,null,null,null,null,null,null,null,null,null,null,null,null,null,null,null,"BPC1311"]
["페인트칠(조합,붓칠)","아연도금면2회",1,"㎡",7236,{"$f":"일위대가!H2147","v":793},{"$f":"일위대가!J2147","v":6410},{"$f":"일위대가!L2147","v":33},"제 227호표",null,null,null,null,null,null,null,null,null,null,null,null,null,null,null,null,null,null,null,null,null,null,null,null,null,null,null,null,null,null,null,null,null,null,null,null,null,null,null,null,null,null,null,null,null,null,null,null,null,null,null,null,null,null,null,null,null,null,null,null,null,null,null,null,null,null,null,null,null,null,null,null,null,null,null,null,null,null,null,null,null,null,null,null,null,null,null,null,null,null,null,null,null,null,null,null,null,null,null,null,null,null,null,null,null,null,null,"BPC1412"]
["페인트칠(녹막이)","(녹막이1회)",1,"㎡",4164,{"$f":"일위대가!H2156","v":536},{"$f":"일위대가!J2156","v":3628},{"$f":"일위대가!L2156","v":0},"제 228호표",null,null,null,null,null,null,null,null,null,null,null,null,null,null,null,null,null,null,null,null,null,null,null,null,null,null,null,null,null,null,null,null,null,null,null,null,null,null,null,null,null,null,null,null,null,null,null,null,null,null,null,null,null,null,null,null,null,null,null,null,null,null,null,null,null,null,null,null,null,null,null,null,null,null,null,null,null,null,null,null,null,null,null,null,null,null,null,null,null,null,null,null,null,null,null,null,null,null,null,null,null,null,null,null,null,null,null,"BPC2110"]
["페인트긁어내기","",1,"㎡",17920,{"$f":"일위대가!H2160","v":0},{"$f":"일위대가!J2160","v":17920},{"$f":"일위대가!L2160","v":0},"제 229호표",null,null,null,null,null,null,null,null,null,null,null,null,null,null,null,null,null,null,null,null,null,null,null,null,null,null,null,null,null,null,null,null,null,null,null,null,null,null,null,null,null,null,null,null,null,null,null,null,null,null,null,null,null,null,null,null,null,null,null,null,null,null,null,null,null,null,null,null,null,null,null,null,null,null,null,null,null,null,null,null,null,null,null,null,null,null,null,null,null,null,null,null,null,null,null,null,null,null,null,null,null,null,null,null,null,null,null,"B0210"]
["포장깨기(아스팔트)","(인력)",1,"㎥",286007,{"$f":"일위대가!H2165","v":13619},{"$f":"일위대가!J2165","v":272388},{"$f":"일위대가!L2165","v":0},"제 230호표",null,null,null,null,null,null,null,null,null,null,null,null,null,null,null,null,null,null,null,null,null,null,null,null,null,null,null,null,null,null,null,null,null,null,null,null,null,null,null,null,null,null,null,null,null,null,null,null,null,null,null,null,null,null,null,null,null,null,null,null,null,null,null,null,null,null,null,null,null,null,null,null,null,null,null,null,null,null,null,null,null,null,null,null,null,null,null,null,null,null,null,null,null,null,null,null,null,null,null,null,null,null,null,null,null,null,null,"BDB2210"]
["포장깨기(아스팔트)","(소형브레이카+공기압축기)",1,"㎥",93207,{"$f":"일위대가!H2173","v":3695},{"$f":"일위대가!J2173","v":88319},{"$f":"일위대가!L2173","v":1193},"제 231호표",null,null,null,null,null,null,null,null,null,null,null,null,null,null,null,null,null,null,null,null,null,null,null,null,null,null,null,null,null,null,null,null,null,null,null,null,null,null,null,null,null,null,null,null,null,null,null,null,null,null,null,null,null,null,null,null,null,null,null,null,null,null,null,null,null,null,null,null,null,null,null,null,null,null,null,null,null,null,null,null,null,null,null,null,null,null,null,null,null,null,null,null,null,null,null,null,null,null,null,null,null,null,null,null,null,null,null,"BDB2220"]
["포장깨기(콘크리트)","(인력)",1,"㎥",338693,{"$f":"일위대가!H2178","v":16128},{"$f":"일위대가!J2178","v":322565},{"$f":"일위대가!L2178","v":0},"제 232호표",null,null,null,null,null,null,null,null,null,null,null,null,null,null,null,null,null,null,null,null,null,null,null,null,null,null,null,null,null,null,null,null,null,null,null,null,null,null,null,null,null,null,null,null,null,null,null,null,null,null,null,null,null,null,null,null,null,null,null,null,null,null,null,null,null,null,null,null,null,null,null,null,null,null,null,null,null,null,null,null,null,null,null,null,null,null,null,null,null,null,null,null,null,null,null,null,null,null,null,null,null,null,null,null,null,null,null,"BDB2110"]
["포장깨기(콘크리트)","(소형브레이카+공기압축기)",1,"㎥",121784,{"$f":"일위대가!H2186","v":5644},{"$f":"일위대가!J2186","v":114376},{"$f":"일위대가!L2186","v":1764},"제 233호표",null,null,null,null,null,null,null,null,null,null,null,null,null,null,null,null,null,null,null,null,null,null,null,null,null,null,null,null,null,null,null,null,null,null,null,null,null,null,null,null,null,null,null,null,null,null,null,null,null,null,null,null,null,null,null,null,null,null,null,null,null,null,null,null,null,null,null,null,null,null,null,null,null,null,null,null,null,null,null,null,null,null,null,null,null,null,null,null,null,null,null,null,null,null,null,null,null,null,null,null,null,null,null,null,null,null,null,"BDB2120"]
["포장모래깔기","인력",1,"㎥",87566,{"$f":"일위대가!H2192","v":30000},{"$f":"일위대가!J2192","v":56438},{"$f":"일위대가!L2192","v":1128},"제 234호표",null,null,null,null,null,null,null,null,null,null,null,null,null,null,null,null,null,null,null,null,null,null,null,null,null,null,null,null,null,null,null,null,null,null,null,null,null,null,null,null,null,null,null,null,null,null,null,null,null,null,null,null,null,null,null,null,null,null,null,null,null,null,null,null,null,null,null,null,null,null,null,null,null,null,null,null,null,null,null,null,null,null,null,null,null,null,null,null,null,null,null,null,null,null,null,null,null,null,null,null,null,null,null,null,null,null,null,"B0139"]
["포장절단","1차로, 시간당 43.75M",1,"HR",89322,{"$f":"일위대가!H2200","v":16821},{"$f":"일위대가!J2200","v":68608},{"$f":"일위대가!L2200","v":3893},"제 235호표",null,null,null,null,null,null,null,null,null,null,null,null,null,null,null,null,null,null,null,null,null,null,null,null,null,null,null,null,null,null,null,null,null,null,null,null,null,null,null,null,null,null,null,null,null,null,null,null,null,null,null,null,null,null,null,null,null,null,null,null,null,null,null,null,null,null,null,null,null,null,null,null,null,null,null,null,null,null,null,null,null,null,null,null,null,null,null,null,null,null,null,null,null,null,null,null,null,null,null,null,null,null,null,null,null,null,null,"BB00-0390"]
["포장절단","1차로",1,"m",1590,{"$f":"일위대가!H2206","v":649},{"$f":"일위대가!J2206","v":891},{"$f":"일위대가!L2206","v":50},"제 236호표",null,null,null,null,null,null,null,null,null,null,null,null,null,null,null,null,null,null,null,null,null,null,null,null,null,null,null,null,null,null,null,null,null,null,null,null,null,null,null,null,null,null,null,null,null,null,null,null,null,null,null,null,null,null,null,null,null,null,null,null,null,null,null,null,null,null,null,null,null,null,null,null,null,null,null,null,null,null,null,null,null,null,null,null,null,null,null,null,null,null,null,null,null,null,null,null,null,null,null,null,null,null,null,null,null,null,null,"BKF6300"]
["표면보호공","스프레이어(300)",1,"a",187577,{"$f":"일위대가!H2212","v":172954},{"$f":"일위대가!J2212","v":14459},{"$f":"일위대가!L2212","v":164},"제 237호표",null,null,null,null,null,null,null,null,null,null,null,null,null,null,null,null,null,null,null,null,null,null,null,null,null,null,null,null,null,null,null,null,null,null,null,null,null,null,null,null,null,null,null,null,null,null,null,null,null,null,null,null,null,null,null,null,null,null,null,null,null,null,null,null,null,null,null,null,null,null,null,null,null,null,null,null,null,null,null,null,null,null,null,null,null,null,null,null,null,null,null,null,null,null,null,null,null,null,null,null,null,null,null,null,null,null,null,"B0177"]
["공사실명표지판","10*15Cm(S/T)",1,"개",17318,{"$f":"일위대가!H2218","v":0},{"$f":"일위대가!J2218","v":0},{"$f":"일위대가!L2218","v":17318},"제 238호표",null,null,null,null,null,null,null,null,null,null,null,null,null,null,null,null,null,null,null,null,null,null,null,null,null,null,null,null,null,null,null,null,null,null,null,null,null,null,null,null,null,null,null,null,null,null,null,null,null,null,null,null,null,null,null,null,null,null,null,null,null,null,null,null,null,null,null,null,null,null,null,null,null,null,null,null,null,null,null,null,null,null,null,null,null,null,null,null,null,null,null,null,null,null,null,null,null,null,null,null,null,null,null,null,null,null,null,"B191"]
["하수관내C.C.TV조사","",1,"일",1014526,{"$f":"일위대가!H2225","v":22520},{"$f":"일위대가!J2225","v":728070},{"$f":"일위대가!L2225","v":263936},"제 239호표",null,null,null,null,null,null,null,null,null,null,null,null,null,null,null,null,null,null,null,null,null,null,null,null,null,null,null,null,null,null,null,null,null,null,null,null,null,null,null,null,null,null,null,null,null,null,null,null,null,null,null,null,null,null,null,null,null,null,null,null,null,null,null,null,null,null,null,null,null,null,null,null,null,null,null,null,null,null,null,null,null,null,null,null,null,null,null,null,null,null,null,null,null,null,null,null,null,null,null,null,null,null,null,null,null,null,null,"BHI3300"]
["하수관내C.C.TV조사","신설관(L=420m/일)",1,"m",1946,{"$f":"일위대가!H2229","v":43},{"$f":"일위대가!J2229","v":1397},{"$f":"일위대가!L2229","v":506},"제 240호표",null,null,null,null,null,null,null,null,null,null,null,null,null,null,null,null,null,null,null,null,null,null,null,null,null,null,null,null,null,null,null,null,null,null,null,null,null,null,null,null,null,null,null,null,null,null,null,null,null,null,null,null,null,null,null,null,null,null,null,null,null,null,null,null,null,null,null,null,null,null,null,null,null,null,null,null,null,null,null,null,null,null,null,null,null,null,null,null,null,null,null,null,null,null,null,null,null,null,null,null,null,null,null,null,null,null,null,"BHI3100"]
["하수관내C.C.TV조사","기존관(L=280m/일)",1,"m",3174,{"$f":"일위대가!H2233","v":70},{"$f":"일위대가!J2233","v":2278},{"$f":"일위대가!L2233","v":826},"제 241호표",null,null,null,null,null,null,null,null,null,null,null,null,null,null,null,null,null,null,null,null,null,null,null,null,null,null,null,null,null,null,null,null,null,null,null,null,null,null,null,null,null,null,null,null,null,null,null,null,null,null,null,null,null,null,null,null,null,null,null,null,null,null,null,null,null,null,null,null,null,null,null,null,null,null,null,null,null,null,null,null,null,null,null,null,null,null,null,null,null,null,null,null,null,null,null,null,null,null,null,null,null,null,null,null,null,null,null,"BHI3200"]
["하수관복구공(가정관)","Φ=150mm",1,"개소",73460,{"$f":"일위대가!H2239","v":42326},{"$f":"일위대가!J2239","v":31113},{"$f":"일위대가!L2239","v":21},"제 242호표",null,null,null,null,null,null,null,null,null,null,null,null,null,null,null,null,null,null,null,null,null,null,null,null,null,null,null,null,null,null,null,null,null,null,null,null,null,null,null,null,null,null,null,null,null,null,null,null,null,null,null,null,null,null,null,null,null,null,null,null,null,null,null,null,null,null,null,null,null,null,null,null,null,null,null,null,null,null,null,null,null,null,null,null,null,null,null,null,null,null,null,null,null,null,null,null,null,null,null,null,null,null,null,null,null,null,null,"BHJ5200"]
["하수관연결(가정관)","Φ=150mm, L=1M",1,"개소",29607,{"$f":"일위대가!H2245","v":11418},{"$f":"일위대가!J2245","v":17323},{"$f":"일위대가!L2245","v":866},"제 243호표",null,null,null,null,null,null,null,null,null,null,null,null,null,null,null,null,null,null,null,null,null,null,null,null,null,null,null,null,null,null,null,null,null,null,null,null,null,null,null,null,null,null,null,null,null,null,null,null,null,null,null,null,null,null,null,null,null,null,null,null,null,null,null,null,null,null,null,null,null,null,null,null,null,null,null,null,null,null,null,null,null,null,null,null,null,null,null,null,null,null,null,null,null,null,null,null,null,null,null,null,null,null,null,null,null,null,null,"BHJ5110"]
["하수관연결(가정관)","Φ=150mm, L=2M",1,"개소",40160,{"$f":"일위대가!H2251","v":21971},{"$f":"일위대가!J2251","v":17323},{"$f":"일위대가!L2251","v":866},"제 244호표",null,null,null,null,null,null,null,null,null,null,null,null,null,null,null,null,null,null,null,null,null,null,null,null,null,null,null,null,null,null,null,null,null,null,null,null,null,null,null,null,null,null,null,null,null,null,null,null,null,null,null,null,null,null,null,null,null,null,null,null,null,null,null,null,null,null,null,null,null,null,null,null,null,null,null,null,null,null,null,null,null,null,null,null,null,null,null,null,null,null,null,null,null,null,null,null,null,null,null,null,null,null,null,null,null,null,null,"BHJ5120"]
["하수관연결(가정관)","Φ=150mm, L=4M",1,"개소",61265,{"$f":"일위대가!H2257","v":43076},{"$f":"일위대가!J2257","v":17323},{"$f":"일위대가!L2257","v":866},"제 245호표",null,null,null,null,null,null,null,null,null,null,null,null,null,null,null,null,null,null,null,null,null,null,null,null,null,null,null,null,null,null,null,null,null,null,null,null,null,null,null,null,null,null,null,null,null,null,null,null,null,null,null,null,null,null,null,null,null,null,null,null,null,null,null,null,null,null,null,null,null,null,null,null,null,null,null,null,null,null,null,null,null,null,null,null,null,null,null,null,null,null,null,null,null,null,null,null,null,null,null,null,null,null,null,null,null,null,null,"BHJ5140"]
["하수관수밀시험","D=300mm이하(60m기준)",1,"개소",468140,{"$f":"일위대가!H2268","v":178450},{"$f":"일위대가!J2268","v":267554},{"$f":"일위대가!L2268","v":22136},"제 246호표",null,null,null,null,null,null,null,null,null,null,null,null,null,null,null,null,null,null,null,null,null,null,null,null,null,null,null,null,null,null,null,null,null,null,null,null,null,null,null,null,null,null,null,null,null,null,null,null,null,null,null,null,null,null,null,null,null,null,null,null,null,null,null,null,null,null,null,null,null,null,null,null,null,null,null,null,null,null,null,null,null,null,null,null,null,null,null,null,null,null,null,null,null,null,null,null,null,null,null,null,null,null,null,null,null,null,null,"BHI2100"]
["하수관수밀시험","D=600mm이하(60m기준)",1,"개소",703809,{"$f":"일위대가!H2301","v":319902},{"$f":"일위대가!J2301","v":354467},{"$f":"일위대가!L2301","v":29440},"제 248호표",null,null,null,null,null,null,null,null,null,null,null,null,null,null,null,null,null,null,null,null,null,null,null,null,null,null,null,null,null,null,null,null,null,null,null,null,null,null,null,null,null,null,null,null,null,null,null,null,null,null,null,null,null,null,null,null,null,null,null,null,null,null,null,null,null,null,null,null,null,null,null,null,null,null,null,null,null,null,null,null,null,null,null,null,null,null,null,null,null,null,null,null,null,null,null,null,null,null,null,null,null,null,null,null,null,null,null,"BHI2500"]
["하수관수밀시험","D=800mm이하(60m기준)",1,"개소",930141,{"$f":"일위대가!H2317","v":453451},{"$f":"일위대가!J2317","v":432418},{"$f":"일위대가!L2317","v":44272},"제 249호표",null,null,null,null,null,null,null,null,null,null,null,null,null,null,null,null,null,null,null,null,null,null,null,null,null,null,null,null,null,null,null,null,null,null,null,null,null,null,null,null,null,null,null,null,null,null,null,null,null,null,null,null,null,null,null,null,null,null,null,null,null,null,null,null,null,null,null,null,null,null,null,null,null,null,null,null,null,null,null,null,null,null,null,null,null,null,null,null,null,null,null,null,null,null,null,null,null,null,null,null,null,null,null,null,null,null,null,"BHI2700"]
["하수관천공및접합","(D450mm연결관200mm)",1,"개소",18189,{"$f":"일위대가!H2327","v":866},{"$f":"일위대가!J2327","v":17323},{"$f":"일위대가!L2327","v":0},"제 250호표",null,null,null,null,null,null,null,null,null,null,null,null,null,null,null,null,null,null,null,null,null,null,null,null,null,null,null,null,null,null,null,null,null,null,null,null,null,null,null,null,null,null,null,null,null,null,null,null,null,null,null,null,null,null,null,null,null,null,null,null,null,null,null,null,null,null,null,null,null,null,null,null,null,null,null,null,null,null,null,null,null,null,null,null,null,null,null,null,null,null,null,null,null,null,null,null,null,null,null,null,null,null,null,null,null,null,null,"BHI4100"]
["하수관천공및접합","(D600mm연결관300mm)",1,"개소",36379,{"$f":"일위대가!H2333","v":1732},{"$f":"일위대가!J2333","v":34647},{"$f":"일위대가!L2333","v":0},"제 251호표",null,null,null,null,null,null,null,null,null,null,null,null,null,null,null,null,null,null,null,null,null,null,null,null,null,null,null,null,null,null,null,null,null,null,null,null,null,null,null,null,null,null,null,null,null,null,null,null,null,null,null,null,null,null,null,null,null,null,null,null,null,null,null,null,null,null,null,null,null,null,null,null,null,null,null,null,null,null,null,null,null,null,null,null,null,null,null,null,null,null,null,null,null,null,null,null,null,null,null,null,null,null,null,null,null,null,null,"BHI4220"]
["하수관천공및접합","(D800mm연결관300mm)",1,"개소",36379,{"$f":"일위대가!H2339","v":1732},{"$f":"일위대가!J2339","v":34647},{"$f":"일위대가!L2339","v":0},"제 252호표",null,null,null,null,null,null,null,null,null,null,null,null,null,null,null,null,null,null,null,null,null,null,null,null,null,null,null,null,null,null,null,null,null,null,null,null,null,null,null,null,null,null,null,null,null,null,null,null,null,null,null,null,null,null,null,null,null,null,null,null,null,null,null,null,null,null,null,null,null,null,null,null,null,null,null,null,null,null,null,null,null,null,null,null,null,null,null,null,null,null,null,null,null,null,null,null,null,null,null,null,null,null,null,null,null,null,null,"BHI4320"]
["하수관천공및접합","(D1000mm연결관300mm)",1,"개소",40017,{"$f":"일위대가!H2345","v":1905},{"$f":"일위대가!J2345","v":38112},{"$f":"일위대가!L2345","v":0},"제 253호표",null,null,null,null,null,null,null,null,null,null,null,null,null,null,null,null,null,null,null,null,null,null,null,null,null,null,null,null,null,null,null,null,null,null,null,null,null,null,null,null,null,null,null,null,null,null,null,null,null,null,null,null,null,null,null,null,null,null,null,null,null,null,null,null,null,null,null,null,null,null,null,null,null,null,null,null,null,null,null,null,null,null,null,null,null,null,null,null,null,null,null,null,null,null,null,null,null,null,null,null,null,null,null,null,null,null,null,"BHI4520"]
["하수관천공및접합","(D1200mm연결관300mm)",1,"개소",40017,{"$f":"일위대가!H2351","v":1905},{"$f":"일위대가!J2351","v":38112},{"$f":"일위대가!L2351","v":0},"제 254호표",null,null,null,null,null,null,null,null,null,null,null,null,null,null,null,null,null,null,null,null,null,null,null,null,null,null,null,null,null,null,null,null,null,null,null,null,null,null,null,null,null,null,null,null,null,null,null,null,null,null,null,null,null,null,null,null,null,null,null,null,null,null,null,null,null,null,null,null,null,null,null,null,null,null,null,null,null,null,null,null,null,null,null,null,null,null,null,null,null,null,null,null,null,null,null,null,null,null,null,null,null,null,null,null,null,null,null,"BHI4620"]
["호안블럭붙임","400*400*120",1,"㎡",41168,{"$f":"일위대가!H2359","v":15266},{"$f":"일위대가!J2359","v":25405},{"$f":"일위대가!L2359","v":497},"제 255호표",null,null,null,null,null,null,null,null,null,null,null,null,null,null,null,null,null,null,null,null,null,null,null,null,null,null,null,null,null,null,null,null,null,null,null,null,null,null,null,null,null,null,null,null,null,null,null,null,null,null,null,null,null,null,null,null,null,null,null,null,null,null,null,null,null,null,null,null,null,null,null,null,null,null,null,null,null,null,null,null,null,null,null,null,null,null,null,null,null,null,null,null,null,null,null,null,null,null,null,null,null,null,null,null,null,null,null,"B0208"]
["횡단하수거","H=50  400*2000",1,"개소",639255,{"$f":"일위대가!H2366","v":121765},{"$f":"일위대가!J2366","v":513458},{"$f":"일위대가!L2366","v":4032},"제 256호표",null,null,null,null,null,null,null,null,null,null,null,null,null,null,null,null,null,null,null,null,null,null,null,null,null,null,null,null,null,null,null,null,null,null,null,null,null,null,null,null,null,null,null,null,null,null,null,null,null,null,null,null,null,null,null,null,null,null,null,null,null,null,null,null,null,null,null,null,null,null,null,null,null,null,null,null,null,null,null,null,null,null,null,null,null,null,null,null,null,null,null,null,null,null,null,null,null,null,null,null,null,null,null,null,null,null,null,"B0255"]
["흄관절단","D=300㎜",1,"개소",{"$f":"F293+G293+H293","v":3671},{"$f":"일위대가!H2372","v":207},{"$f":"일위대가!J2372","v":3464},{"$f":"일위대가!L2372","v":0},"제 257호표",null,null,null,null,null,null,null,null,null,null,null,null,null,null,null,null,null,null,null,null,null,null,null,null,null,null,null,null,null,null,null,null,null,null,null,null,null,null,null,null,null,null,null,null,null,null,null,null,null,null,null,null,null,null,null,null,null,null,null,null,null,null,null,null,null,null,null,null,null,null,null,null,null,null,null,null,null,null,null,null,null,null,null,null,null,null,null,null,null,null,null,null,null,null,null,null,null,null,null,null,null,null,null,null,null,null,null,"BHH0-300"]
["흄관절단","D=450㎜",1,"개소",14690,{"$f":"일위대가!H2378","v":831},{"$f":"일위대가!J2378","v":13859},{"$f":"일위대가!L2378","v":0},"제 258호표",null,null,null,null,null,null,null,null,null,null,null,null,null,null,null,null,null,null,null,null,null,null,null,null,null,null,null,null,null,null,null,null,null,null,null,null,null,null,null,null,null,null,null,null,null,null,null,null,null,null,null,null,null,null,null,null,null,null,null,null,null,null,null,null,null,null,null,null,null,null,null,null,null,null,null,null,null,null,null,null,null,null,null,null,null,null,null,null,null,null,null,null,null,null,null,null,null,null,null,null,null,null,null,null,null,null,null,"BHH0-350"]
["흄관절단","D=600㎜",1,"개소",29381,{"$f":"일위대가!H2384","v":1663},{"$f":"일위대가!J2384","v":27718},{"$f":"일위대가!L2384","v":0},"제 259호표",null,null,null,null,null,null,null,null,null,null,null,null,null,null,null,null,null,null,null,null,null,null,null,null,null,null,null,null,null,null,null,null,null,null,null,null,null,null,null,null,null,null,null,null,null,null,null,null,null,null,null,null,null,null,null,null,null,null,null,null,null,null,null,null,null,null,null,null,null,null,null,null,null,null,null,null,null,null,null,null,null,null,null,null,null,null,null,null,null,null,null,null,null,null,null,null,null,null,null,null,null,null,null,null,null,null,null,"BHH0-400"]
["흄관절단","D=900㎜",1,"개소",55089,{"$f":"일위대가!H2390","v":3118},{"$f":"일위대가!J2390","v":51971},{"$f":"일위대가!L2390","v":0},"제 260호표",null,null,null,null,null,null,null,null,null,null,null,null,null,null,null,null,null,null,null,null,null,null,null,null,null,null,null,null,null,null,null,null,null,null,null,null,null,null,null,null,null,null,null,null,null,null,null,null,null,null,null,null,null,null,null,null,null,null,null,null,null,null,null,null,null,null,null,null,null,null,null,null,null,null,null,null,null,null,null,null,null,null,null,null,null,null,null,null,null,null,null,null,null,null,null,null,null,null,null,null,null,null,null,null,null,null,null,"BHH0-450"]
["흄관절단","D=1000㎜",1,"개소",69779,{"$f":"일위대가!H2396","v":3949},{"$f":"일위대가!J2396","v":65830},{"$f":"일위대가!L2396","v":0},"제 261호표",null,null,null,null,null,null,null,null,null,null,null,null,null,null,null,null,null,null,null,null,null,null,null,null,null,null,null,null,null,null,null,null,null,null,null,null,null,null,null,null,null,null,null,null,null,null,null,null,null,null,null,null,null,null,null,null,null,null,null,null,null,null,null,null,null,null,null,null,null,null,null,null,null,null,null,null,null,null,null,null,null,null,null,null,null,null,null,null,null,null,null,null,null,null,null,null,null,null,null,null,null,null,null,null,null,null,null,"BHH0-500"]
["흄관기초(모래0°기초)","ø300M/M",1,"M",3931,{"$f":"일위대가!H2400","v":3289},{"$f":"일위대가!J2400","v":573},{"$f":"일위대가!L2400","v":69},"제 262호표",null,null,null,null,null,null,null,null,null,null,null,null,null,null,null,null,null,null,null,null,null,null,null,null,null,null,null,null,null,null,null,null,null,null,null,null,null,null,null,null,null,null,null,null,null,null,null,null,null,null,null,null,null,null,null,null,null,null,null,null,null,null,null,null,null,null,null,null,null,null,null,null,null,null,null,null,null,null,null,null,null,null,null,null,null,null,null,null,null,null,null,null,null,null,null,null,null,null,null,null,null,null,null,null,null,null,null,"BHJ2210"]
["흄관기초(모래90°기초)","ø300M/M",1,"M",5592,{"$f":"일위대가!H2404","v":4678},{"$f":"일위대가!J2404","v":815},{"$f":"일위대가!L2404","v":99},"제 263호표",null,null,null,null,null,null,null,null,null,null,null,null,null,null,null,null,null,null,null,null,null,null,null,null,null,null,null,null,null,null,null,null,null,null,null,null,null,null,null,null,null,null,null,null,null,null,null,null,null,null,null,null,null,null,null,null,null,null,null,null,null,null,null,null,null,null,null,null,null,null,null,null,null,null,null,null,null,null,null,null,null,null,null,null,null,null,null,null,null,null,null,null,null,null,null,null,null,null,null,null,null,null,null,null,null,null,null,"BHJ2220"]
["흄관기초(모래120°기초)","ø300M/M",1,"M",6597,{"$f":"일위대가!H2408","v":5519},{"$f":"일위대가!J2408","v":961},{"$f":"일위대가!L2408","v":117},"제 264호표",null,null,null,null,null,null,null,null,null,null,null,null,null,null,null,null,null,null,null,null,null,null,null,null,null,null,null,null,null,null,null,null,null,null,null,null,null,null,null,null,null,null,null,null,null,null,null,null,null,null,null,null,null,null,null,null,null,null,null,null,null,null,null,null,null,null,null,null,null,null,null,null,null,null,null,null,null,null,null,null,null,null,null,null,null,null,null,null,null,null,null,null,null,null,null,null,null,null,null,null,null,null,null,null,null,null,null,"BHJ2230"]
["흄관기초(모래360°기초)","ø300M/M",1,"M",19793,{"$f":"일위대가!H2412","v":16558},{"$f":"일위대가!J2412","v":2884},{"$f":"일위대가!L2412","v":351},"제 265호표",null,null,null,null,null,null,null,null,null,null,null,null,null,null,null,null,null,null,null,null,null,null,null,null,null,null,null,null,null,null,null,null,null,null,null,null,null,null,null,null,null,null,null,null,null,null,null,null,null,null,null,null,null,null,null,null,null,null,null,null,null,null,null,null,null,null,null,null,null,null,null,null,null,null,null,null,null,null,null,null,null,null,null,null,null,null,null,null,null,null,null,null,null,null,null,null,null,null,null,null,null,null,null,null,null,null,null,"BHJ2240"]
["흄관기초(자갈0°기초)","ø300M/M",1,"M",3871,{"$f":"일위대가!H2416","v":3036},{"$f":"일위대가!J2416","v":749},{"$f":"일위대가!L2416","v":86},"제 266호표",null,null,null,null,null,null,null,null,null,null,null,null,null,null,null,null,null,null,null,null,null,null,null,null,null,null,null,null,null,null,null,null,null,null,null,null,null,null,null,null,null,null,null,null,null,null,null,null,null,null,null,null,null,null,null,null,null,null,null,null,null,null,null,null,null,null,null,null,null,null,null,null,null,null,null,null,null,null,null,null,null,null,null,null,null,null,null,null,null,null,null,null,null,null,null,null,null,null,null,null,null,null,null,null,null,null,null,"BHJ2250"]
["흄관기초(자갈90°기초)","ø300M/M",1,"M",5505,{"$f":"일위대가!H2420","v":4318},{"$f":"일위대가!J2420","v":1065},{"$f":"일위대가!L2420","v":122},"제 267호표",null,null,null,null,null,null,null,null,null,null,null,null,null,null,null,null,null,null,null,null,null,null,null,null,null,null,null,null,null,null,null,null,null,null,null,null,null,null,null,null,null,null,null,null,null,null,null,null,null,null,null,null,null,null,null,null,null,null,null,null,null,null,null,null,null,null,null,null,null,null,null,null,null,null,null,null,null,null,null,null,null,null,null,null,null,null,null,null,null,null,null,null,null,null,null,null,null,null,null,null,null,null,null,null,null,null,null,"BHJ2260"]
["흄관기초(자갈120°기초)","ø300M/M",1,"M",6495,{"$f":"일위대가!H2424","v":5094},{"$f":"일위대가!J2424","v":1257},{"$f":"일위대가!L2424","v":144},"제 268호표",null,null,null,null,null,null,null,null,null,null,null,null,null,null,null,null,null,null,null,null,null,null,null,null,null,null,null,null,null,null,null,null,null,null,null,null,null,null,null,null,null,null,null,null,null,null,null,null,null,null,null,null,null,null,null,null,null,null,null,null,null,null,null,null,null,null,null,null,null,null,null,null,null,null,null,null,null,null,null,null,null,null,null,null,null,null,null,null,null,null,null,null,null,null,null,null,null,null,null,null,null,null,null,null,null,null,null,"BHJ2270"]
["흄관기초(자갈360°기초)","ø300M/M",1,"M",19487,{"$f":"일위대가!H2428","v":15282},{"$f":"일위대가!J2428","v":3771},{"$f":"일위대가!L2428","v":434},"제 269호표",null,null,null,null,null,null,null,null,null,null,null,null,null,null,null,null,null,null,null,null,null,null,null,null,null,null,null,null,null,null,null,null,null,null,null,null,null,null,null,null,null,null,null,null,null,null,null,null,null,null,null,null,null,null,null,null,null,null,null,null,null,null,null,null,null,null,null,null,null,null,null,null,null,null,null,null,null,null,null,null,null,null,null,null,null,null,null,null,null,null,null,null,null,null,null,null,null,null,null,null,null,null,null,null,null,null,null,"BHJ2280"]
["흄관접합및부설(P.P수밀밴드접합)","ø400M/M 기계",1,"m",36426,{"$f":"일위대가!H2438","v":10543},{"$f":"일위대가!J2438","v":22827},{"$f":"일위대가!L2438","v":3056},"제 270호표",null,null,null,null,null,null,null,null,null,null,null,null,null,null,null,null,null,null,null,null,null,null,null,null,null,null,null,null,null,null,null,null,null,null,null,null,null,null,null,null,null,null,null,null,null,null,null,null,null,null,null,null,null,null,null,null,null,null,null,null,null,null,null,null,null,null,null,null,null,null,null,null,null,null,null,null,null,null,null,null,null,null,null,null,null,null,null,null,null,null,null,null,null,null,null,null,null,null,null,null,null,null,null,null,null,null,null,"BHA4110"]
["흄관접합및부설(P.P수밀밴드접합)","ø600M/M 기계",1,"m",61728,{"$f":"일위대가!H2448","v":14318},{"$f":"일위대가!J2448","v":42515},{"$f":"일위대가!L2448","v":4895},"제 271호표",null,null,null,null,null,null,null,null,null,null,null,null,null,null,null,null,null,null,null,null,null,null,null,null,null,null,null,null,null,null,null,null,null,null,null,null,null,null,null,null,null,null,null,null,null,null,null,null,null,null,null,null,null,null,null,null,null,null,null,null,null,null,null,null,null,null,null,null,null,null,null,null,null,null,null,null,null,null,null,null,null,null,null,null,null,null,null,null,null,null,null,null,null,null,null,null,null,null,null,null,null,null,null,null,null,null,null,"BHA4120"]
["흄관접합및부설(P.P수밀밴드접합)","ø800M/M 기계",1,"m",99701,{"$f":"일위대가!H2458","v":18317},{"$f":"일위대가!J2458","v":73965},{"$f":"일위대가!L2458","v":7419},"제 272호표",null,null,null,null,null,null,null,null,null,null,null,null,null,null,null,null,null,null,null,null,null,null,null,null,null,null,null,null,null,null,null,null,null,null,null,null,null,null,null,null,null,null,null,null,null,null,null,null,null,null,null,null,null,null,null,null,null,null,null,null,null,null,null,null,null,null,null,null,null,null,null,null,null,null,null,null,null,null,null,null,null,null,null,null,null,null,null,null,null,null,null,null,null,null,null,null,null,null,null,null,null,null,null,null,null,null,null,"BHA4130"]
["흄관접합및부설(P.P수밀밴드접합)","ø1000M/M 기계",1,"m",162910,{"$f":"일위대가!H2468","v":28442},{"$f":"일위대가!J2468","v":122881},{"$f":"일위대가!L2468","v":11587},"제 273호표",null,null,null,null,null,null,null,null,null,null,null,null,null,null,null,null,null,null,null,null,null,null,null,null,null,null,null,null,null,null,null,null,null,null,null,null,null,null,null,null,null,null,null,null,null,null,null,null,null,null,null,null,null,null,null,null,null,null,null,null,null,null,null,null,null,null,null,null,null,null,null,null,null,null,null,null,null,null,null,null,null,null,null,null,null,null,null,null,null,null,null,null,null,null,null,null,null,null,null,null,null,null,null,null,null,null,null,"BHA4140"]
["흄관접합및부설(P.P수밀밴드접합)","ø1200M/M 기계",1,"m",214092,{"$f":"일위대가!H2478","v":35619},{"$f":"일위대가!J2478","v":163692},{"$f":"일위대가!L2478","v":14781},"제 274호표",null,null,null,null,null,null,null,null,null,null,null,null,null,null,null,null,null,null,null,null,null,null,null,null,null,null,null,null,null,null,null,null,null,null,null,null,null,null,null,null,null,null,null,null,null,null,null,null,null,null,null,null,null,null,null,null,null,null,null,null,null,null,null,null,null,null,null,null,null,null,null,null,null,null,null,null,null,null,null,null,null,null,null,null,null,null,null,null,null,null,null,null,null,null,null,null,null,null,null,null,null,null,null,null,null,null,null,"BHA4150"]
["흄관접합및부설(고무링접합)","ø300M/M 기계",1,"m",26035,{"$f":"일위대가!H2487","v":1854},{"$f":"일위대가!J2487","v":21683},{"$f":"일위대가!L2487","v":2498},"제 275호표",null,null,null,null,null,null,null,null,null,null,null,null,null,null,null,null,null,null,null,null,null,null,null,null,null,null,null,null,null,null,null,null,null,null,null,null,null,null,null,null,null,null,null,null,null,null,null,null,null,null,null,null,null,null,null,null,null,null,null,null,null,null,null,null,null,null,null,null,null,null,null,null,null,null,null,null,null,null,null,null,null,null,null,null,null,null,null,null,null,null,null,null,null,null,null,null,null,null,null,null,null,null,null,null,null,null,null,"BHA3110"]
["흄관접합및부설(고무링접합)","ø450M/M 기계",1,"m",37957,{"$f":"일위대가!H2496","v":2646},{"$f":"일위대가!J2496","v":31543},{"$f":"일위대가!L2496","v":3768},"제 276호표",null,null,null,null,null,null,null,null,null,null,null,null,null,null,null,null,null,null,null,null,null,null,null,null,null,null,null,null,null,null,null,null,null,null,null,null,null,null,null,null,null,null,null,null,null,null,null,null,null,null,null,null,null,null,null,null,null,null,null,null,null,null,null,null,null,null,null,null,null,null,null,null,null,null,null,null,null,null,null,null,null,null,null,null,null,null,null,null,null,null,null,null,null,null,null,null,null,null,null,null,null,null,null,null,null,null,null,"BHA3130"]
["흄관접합및부설(고무링접합)","ø600M/M 기계",1,"m",54230,{"$f":"일위대가!H2505","v":3417},{"$f":"일위대가!J2505","v":45672},{"$f":"일위대가!L2505","v":5141},"제 277호표",null,null,null,null,null,null,null,null,null,null,null,null,null,null,null,null,null,null,null,null,null,null,null,null,null,null,null,null,null,null,null,null,null,null,null,null,null,null,null,null,null,null,null,null,null,null,null,null,null,null,null,null,null,null,null,null,null,null,null,null,null,null,null,null,null,null,null,null,null,null,null,null,null,null,null,null,null,null,null,null,null,null,null,null,null,null,null,null,null,null,null,null,null,null,null,null,null,null,null,null,null,null,null,null,null,null,null,"BHA3140"]
["흄관접합및부설(고무링접합)","ø800M/M 기계",1,"m",88486,{"$f":"일위대가!H2514","v":4547},{"$f":"일위대가!J2514","v":76766},{"$f":"일위대가!L2514","v":7173},"제 278호표",null,null,null,null,null,null,null,null,null,null,null,null,null,null,null,null,null,null,null,null,null,null,null,null,null,null,null,null,null,null,null,null,null,null,null,null,null,null,null,null,null,null,null,null,null,null,null,null,null,null,null,null,null,null,null,null,null,null,null,null,null,null,null,null,null,null,null,null,null,null,null,null,null,null,null,null,null,null,null,null,null,null,null,null,null,null,null,null,null,null,null,null,null,null,null,null,null,null,null,null,null,null,null,null,null,null,null,"BHA3150"]
["흄관접합및부설(고무링접합)","ø1000M/M 기계",1,"m",146706,{"$f":"일위대가!H2523","v":6275},{"$f":"일위대가!J2523","v":128951},{"$f":"일위대가!L2523","v":11480},"제 279호표",null,null,null,null,null,null,null,null,null,null,null,null,null,null,null,null,null,null,null,null,null,null,null,null,null,null,null,null,null,null,null,null,null,null,null,null,null,null,null,null,null,null,null,null,null,null,null,null,null,null,null,null,null,null,null,null,null,null,null,null,null,null,null,null,null,null,null,null,null,null,null,null,null,null,null,null,null,null,null,null,null,null,null,null,null,null,null,null,null,null,null,null,null,null,null,null,null,null,null,null,null,null,null,null,null,null,null,"BHA3160"]
["흄관접합및부설(고무링접합)","ø1200M/M 기계",1,"m",189844,{"$f":"일위대가!H2532","v":7542},{"$f":"일위대가!J2532","v":168054},{"$f":"일위대가!L2532","v":14248},"제 280호표",null,null,null,null,null,null,null,null,null,null,null,null,null,null,null,null,null,null,null,null,null,null,null,null,null,null,null,null,null,null,null,null,null,null,null,null,null,null,null,null,null,null,null,null,null,null,null,null,null,null,null,null,null,null,null,null,null,null,null,null,null,null,null,null,null,null,null,null,null,null,null,null,null,null,null,null,null,null,null,null,null,null,null,null,null,null,null,null,null,null,null,null,null,null,null,null,null,null,null,null,null,null,null,null,null,null,null,"BHA3170"]
["흄관접합및부설(칼라식,인력)","ø300M/M",1,"m",87152,{"$f":"일위대가!H2540","v":222},{"$f":"일위대가!J2540","v":86522},{"$f":"일위대가!L2540","v":408},"제 281호표",null,null,null,null,null,null,null,null,null,null,null,null,null,null,null,null,null,null,null,null,null,null,null,null,null,null,null,null,null,null,null,null,null,null,null,null,null,null,null,null,null,null,null,null,null,null,null,null,null,null,null,null,null,null,null,null,null,null,null,null,null,null,null,null,null,null,null,null,null,null,null,null,null,null,null,null,null,null,null,null,null,null,null,null,null,null,null,null,null,null,null,null,null,null,null,null,null,null,null,null,null,null,null,null,null,null,null,"BHA1222"]
["수밀코킹","코킹공의0.03",1,"M",4696,{"$f":"일위대가!H2544","v":0},{"$f":"일위대가!J2544","v":4696},{"$f":"일위대가!L2544","v":0},"제 282호표",null,null,null,null,null,null,null,null,null,null,null,null,null,null,null,null,null,null,null,null,null,null,null,null,null,null,null,null,null,null,null,null,null,null,null,null,null,null,null,null,null,null,null,null,null,null,null,null,null,null,null,null,null,null,null,null,null,null,null,null,null,null,null,null,null,null,null,null,null,null,null,null,null,null,null,null,null,null,null,null,null,null,null,null,null,null,null,null,null,null,null,null,null,null,null,null,null,null,null,null,null,null,null,null,null,null,null,"B000-0320"]

{"sheet":"일위대가","index":4,"n_rows":2544,"n_cols":119,"rows_kept":1125,"cut":true,"hidden":false,"merged":[[0,0,0,12],[2,0,3,0],[2,1,3,1],[2,2,3,2],[2,3,3,3],[2,12,3,12],[2,4,2,5],[2,6,2,7],[2,8,2,9],[2,10,2,11]],"bounds":{"rows_first":500,"rows_last":125,"rows_between":500,"halvings":2}}
["일  위  대  가  표",null,null,null,null,null,null,null,null,null,null,null,null,null,null,null,null,null,null,null,null,null,null,null,null,null,null,null,null,null,null,null,null,null,null,null,null,null,null,null,null,null,null,null,null,null,null,null,null,null,null,null,null,null,null,null,null,null,null,null,null,null,null,null,null,null,null,null,null,null,null,null,null,null,null,null,null,null,null,null,null,null,null,null,null,null,null,null,null,null,null,null,null,null,null,null,null,null,null,null,null,null,null,null,null,null,null,null,null,null,null,null,null,null,null,null,null,null,5]
[null,null,null,null,null,null,null,null,null,null,null,null,null,null,null,null,null,null,null,null,null,null,null,null,null,null,null,null,null,null,null,null,null,null,null,null,null,null,null,null,null,null,null,null,null,null,null,null,null,null,null,null,null,null,null,null,null,null,null,null,null,null,null,null,null,null,null,null,null,null,null,null,null,null,null,null,null,null,null,null,null,null,null,null,null,null,null,null,null,null,null,null,null,null,null,null,null,null,null,null,null,null,null,null,null,null,null,null,null,null,null,null,null,null,null,null,null,null,"A"]
["공    종","규  격","수 량","단위","합    계",null,"재 료 비",null,"노 무 비",null,"경    비",null,"비  고",null,null,null,null,null,null,null,null,null,null,null,null,null,null,null,null,null,null,null,null,null,null,null,null,null,null,null,null,null,null,null,null,null,null,null,null,null,null,null,null,null,null,null,null,null,null,null,null,null,null,null,null,null,null,null,null,null,null,null,null,null,null,null,null,null,null,null,null,null,null,null,null,null,null,null,null,null,null,null,null,null,null,null,null,null,null,null,null,null,null,null,null,null,null,null,null,null,null,null,null,null,null,null,null,null,2171]
[null,null,null,null,"단  가","금  액","단  가","금  액","단  가","금  액","단  가","금  액",null,null,null,null,null,null,null,null,null,null,null,null,null,null,null,null,null,null,null,null,null,null,null,null,null,null,null,null,null,null,null,null,null,null,null,null,null,null,null,null,null,null,null,null,null,null,null,null,null,null,null,null,null,null,null,null,null,null,null,null,null,null,null,null,null,null,null,null,null,null,null,null,null,null,null,null,null,null,null,null,null,null,null,null,null,null,null,null,null,null,null,null,null,null,null,null,null,null,null,null,null,null,null,null,null,null,"M"]
["제00010호표 ：E.G.I 가설휀스설치및해체 (강관지주높이3.5m이하,3개월) m 당",null,null,null,null,null,null,null,null,null,null,null,null,null,null,null,null,null,null,null,null,null,null,null,null,null,null,null,null,null,null,null,null,null,null,null,null,null,null,null,null,null,null,null,null,null,null,null,null,null,null,null,null,null,null,null,null,null,null,null,null,null,null,null,null,null,null,null,null,null,null,null,null,null,null,null,null,null,null,null,null,null,null,null,null,null,null,null,null,null,null,null,null,null,null,null,null,null,null,null,null,null,null,null,null,null,null,null,null,null,null,null,null,null,null,null,":BAA3225"]
["전기아연도강판","1.20x914x1829M/M",0.32,"매",{"$f":"G6+I6+K6","v":7190.26},{"$f":"H6+J6+L6","v":2300.8000000000002},{"$f":"자재단가!$R$60","v":7190.26},{"$f":"TRUNC(C6*G6,1)","v":2300.8000000000002},0,{"$f":"TRUNC(C6*I6,1)","v":0},0,{"$f":"TRUNC(C6*K6,1)","v":0},"",null,null,null,null,null,null,null,null,null,null,null,null,null,null,null,null,null,null,null,null,null,null,null,null,null,null,null,null,null,null,null,null,null,null,null,null,null,null,null,null,null,null,null,null,null,null,null,null,null,null,null,null,null,null,null,null,null,null,null,null,null,null,null,null,null,null,null,null,null,null,null,null,null,null,null,null,null,null,null,null,null,null,null,null,null,null,null,null,null,null,null,null,null,null,null,null,null,null,null,null,null,null,null,"M0084039",""]
["강관파이프(단관비계)","Ø48.6*2.3t",0.39600000000000002,"M",2700,1069.2,{"$f":"자재단가!$R$75","v":2700},1069.2,0,0,0,0,"",null,null,null,null,null,null,null,null,null,null,null,null,null,null,null,null,null,null,null,null,null,null,null,null,null,null,null,null,null,null,null,null,null,null,null,null,null,null,null,null,null,null,null,null,null,null,null,null,null,null,null,null,null,null,null,null,null,null,null,null,null,null,null,null,null,null,null,null,null,null,null,null,null,null,null,null,null,null,null,null,null,null,null,null,null,null,null,null,null,null,null,null,null,null,null,null,null,null,null,null,null,null,null,"M1002009",""]
[" 클램프","자동",1.6799999999999999E-2,"EA",1455,24.4,{"$f":"자재단가!$R$102","v":1455},24.4,0,0,0,0,"",null,null,null,null,null,null,null,null,null,null,null,null,null,null,null,null,null,null,null,null,null,null,null,null,null,null,null,null,null,null,null,null,null,null,null,null,null,null,null,null,null,null,null,null,null,null,null,null,null,null,null,null,null,null,null,null,null,null,null,null,null,null,null,null,null,null,null,null,null,null,null,null,null,null,null,null,null,null,null,null,null,null,null,null,null,null,null,null,null,null,null,null,null,null,null,null,null,null,null,null,null,null,null,"MYG0040",""]
[" 클램프","고정",0.1356,"EA",1455,197.2,{"$f":"자재단가!$R$103","v":1455},197.2,0,0,0,0,"",null,null,null,null,null,null,null,null,null,null,null,null,null,null,null,null,null,null,null,null,null,null,null,null,null,null,null,null,null,null,null,null,null,null,null,null,null,null,null,null,null,null,null,null,null,null,null,null,null,null,null,null,null,null,null,null,null,null,null,null,null,null,null,null,null,null,null,null,null,null,null,null,null,null,null,null,null,null,null,null,null,null,null,null,null,null,null,null,null,null,null,null,null,null,null,null,null,null,null,null,null,null,null,"MYG0041",""]
["연결핀","Ø48.6",3.3599999999999998E-2,"EA",873,29.3,{"$f":"자재단가!$R$76","v":873},29.3,0,0,0,0,"",null,null,null,null,null,null,null,null,null,null,null,null,null,null,null,null,null,null,null,null,null,null,null,null,null,null,null,null,null,null,null,null,null,null,null,null,null,null,null,null,null,null,null,null,null,null,null,null,null,null,null,null,null,null,null,null,null,null,null,null,null,null,null,null,null,null,null,null,null,null,null,null,null,null,null,null,null,null,null,null,null,null,null,null,null,null,null,null,null,null,null,null,null,null,null,null,null,null,null,null,null,null,null,"M1005021",""]
["U형 볼트.너트","용융아연도금",0.79979999999999996,"EA",2198,1757.9,{"$f":"자재단가!$R$83","v":2198},1757.9,0,0,0,0,"",null,null,null,null,null,null,null,null,null,null,null,null,null,null,null,null,null,null,null,null,null,null,null,null,null,null,null,null,null,null,null,null,null,null,null,null,null,null,null,null,null,null,null,null,null,null,null,null,null,null,null,null,null,null,null,null,null,null,null,null,null,null,null,null,null,null,null,null,null,null,null,null,null,null,null,null,null,null,null,null,null,null,null,null,null,null,null,null,null,null,null,null,null,null,null,null,null,null,null,null,null,null,null,"M2838931",""]
["비 계 공","",0.03,"인",247977,7439.3,0,0,{"$f":"노임단가!$K$13","v":247977},7439.3,0,0,"",null,null,null,null,null,null,null,null,null,null,null,null,null,null,null,null,null,null,null,null,null,null,null,null,null,null,null,null,null,null,null,null,null,null,null,null,null,null,null,null,null,null,null,null,null,null,null,null,null,null,null,null,null,null,null,null,null,null,null,null,null,null,null,null,null,null,null,null,null,null,null,null,null,null,null,null,null,null,null,null,null,null,null,null,null,null,null,null,null,null,null,null,null,null,null,null,null,null,null,null,null,null,null,"W1006",""]
["보통인부","",1.0999999999999999E-2,"인",141096,1552,0,0,{"$f":"노임단가!$K$8","v":141096},1552,0,0,"",null,null,null,null,null,null,null,null,null,null,null,null,null,null,null,null,null,null,null,null,null,null,null,null,null,null,null,null,null,null,null,null,null,null,null,null,null,null,null,null,null,null,null,null,null,null,null,null,null,null,null,null,null,null,null,null,null,null,null,null,null,null,null,null,null,null,null,null,null,null,null,null,null,null,null,null,null,null,null,null,null,null,null,null,null,null,null,null,null,null,null,null,null,null,null,null,null,null,null,null,null,null,null,"W1002",""]
["굴삭기(무한궤도)"," 0.2 ㎥",3.5000000000000003E-2,"시간",64696,2264.2000000000003,{"$f":"건설기계!$I$56","v":7887},276,{"$f":"건설기계!$K$56","v":44299},1550.4,{"$f":"건설기계!$M$56","v":12510},437.8,"",null,null,null,null,null,null,null,null,null,null,null,null,null,null,null,null,null,null,null,null,null,null,null,null,null,null,null,null,null,null,null,null,null,null,null,null,null,null,null,null,null,null,null,null,null,null,null,null,null,null,null,null,null,null,null,null,null,null,null,null,null,null,null,null,null,null,null,null,null,null,null,null,null,null,null,null,null,null,null,null,null,null,null,null,null,null,null,null,null,null,null,null,null,null,null,null,null,null,null,null,null,null,null,"D0201-0020",""]
["잡재료비","노무비의5%",5,"%",10541.699999999999,527,{"$f":"SUM($J$12:$J$14)","v":10541.699999999999},{"$f":"TRUNC(C15/100*G15,1)","v":527},0,{"$f":"TRUNC(C15/100*I15,1)","v":0},0,{"$f":"TRUNC(C15/100*K15,1)","v":0},"",null,null,null,null,null,null,null,null,null,null,null,null,null,null,null,null,null,null,null,null,null,null,null,null,null,null,null,null,null,null,null,null,null,null,null,null,null,null,null,null,null,null,null,null,null,null,null,null,null,null,null,null,null,null,null,null,null,null,null,null,null,null,null,null,null,null,null,null,null,null,null,null,null,null,null,null,null,null,null,null,null,null,null,null,null,null,null,null,null,null,null,null,null,null,null,null,null,null,null,null,null,null,null,"%RAN*LM","7..9"]
["비 계 공","철거",1.2E-2,"인",247977,2975.7,0,{"$f":"TRUNC(C16/100*G16,1)","v":0},{"$f":"노임단가!$K$13","v":247977},{"$f":"TRUNC(C16*I16,1)","v":2975.7},0,{"$f":"TRUNC(C16/100*K16,1)","v":0},"",null,null,null,null,null,null,null,null,null,null,null,null,null,null,null,null,null,null,null,null,null,null,null,null,null,null,null,null,null,null,null,null,null,null,null,null,null,null,null,null,null,null,null,null,null,null,null,null,null,null,null,null,null,null,null,null,null,null,null,null,null,null,null,null,null,null,null,null,null,null,null,null,null,null,null,null,null,null,null,null,null,null,null,null,null,null,null,null,null,null,null,null,null,null,null,null,null,null,null,null,null,null,null,"%RAN*TE",""]
["보통인부","철거",4.0000000000000001E-3,"인",{"$f":"G17+I17+K17","v":141096},{"$f":"H17+J17+L17","v":564.29999999999995},0,{"$f":"TRUNC(C17/100*G17,1)","v":0},{"$f":"노임단가!$K$8","v":141096},{"$f":"TRUNC(C17*I17,1)","v":564.29999999999995},0,{"$f":"TRUNC(C17/100*K17,1)","v":0},"",null,null,null,null,null,null,null,null,null,null,null,null,null,null,null,null,null,null,null,null,null,null,null,null,null,null,null,null,null,null,null,null,null,null,null,null,null,null,null,null,null,null,null,null,null,null,null,null,null,null,null,null,null,null,null,null,null,null,null,null,null,null,null,null,null,null,null,null,null,null,null,null,null,null,null,null,null,null,null,null,null,null,null,null,null,null,null,null,null,null,null,null,null,null,null,null,null,null,null,null,null,null,null,"%RAN*TE",""]
["굴삭기(무한궤도)","철거",1.4E-2,"시간",64696,905.6,{"$f":"건설기계!$I$56","v":7887},{"$f":"TRUNC(C18*G18,1)","v":110.4},{"$f":"건설기계!$K$56","v":44299},{"$f":"TRUNC(C18*I18,1)","v":620.1},{"$f":"건설기계!$M$56","v":12510},{"$f":"TRUNC(C18*K18,1)","v":175.1},"",null,null,null,null,null,null,null,null,null,null,null,null,null,null,null,null,null,null,null,null,null,null,null,null,null,null,null,null,null,null,null,null,null,null,null,null,null,null,null,null,null,null,null,null,null,null,null,null,null,null,null,null,null,null,null,null,null,null,null,null,null,null,null,null,null,null,null,null,null,null,null,null,null,null,null,null,null,null,null,null,null,null,null,null,null,null,null,null,null,null,null,null,null,null,null,null,null,null,null,null,null,null,null,"%RAN*TE",""]
["             계             ",null,null,null,null,{"$f":"H19+J19+L19","v":21605},null,{"$f":"ROUNDDOWN(SUM(H6:H18),0)","v":6292},null,{"$f":"ROUNDDOWN(SUM(J6:J18),0)","v":14701},null,{"$f":"ROUNDDOWN(SUM(L6:L18),0)","v":612}]
[]
["제00020호표 ：E.G.I 가설휀스설치및해체 (강관지주높이3.5m이하,6개월) m 당",null,null,null,null,null,null,null,null,null,null,null,null,null,null,null,null,null,null,null,null,null,null,null,null,null,null,null,null,null,null,null,null,null,null,null,null,null,null,null,null,null,null,null,null,null,null,null,null,null,null,null,null,null,null,null,null,null,null,null,null,null,null,null,null,null,null,null,null,null,null,null,null,null,null,null,null,null,null,null,null,null,null,null,null,null,null,null,null,null,null,null,null,null,null,null,null,null,null,null,null,null,null,null,null,null,null,null,null,null,null,null,null,null,null,null,":BAA3226"]
["전기아연도강판","1.20x914x1829M/M",0.5,"매",{"$f":"G22+I22+K22","v":7190.26},{"$f":"H22+J22+L22","v":3595.1},{"$f":"자재단가!$R$60","v":7190.26},{"$f":"TRUNC(C22*G22,1)","v":3595.1},0,{"$f":"TRUNC(C22*I22,1)","v":0},0,{"$f":"TRUNC(C22*K22,1)","v":0},"",null,null,null,null,null,null,null,null,null,null,null,null,null,null,null,null,null,null,null,null,null,null,null,null,null,null,null,null,null,null,null,null,null,null,null,null,null,null,null,null,null,null,null,null,null,null,null,null,null,null,null,null,null,null,null,null,null,null,null,null,null,null,null,null,null,null,null,null,null,null,null,null,null,null,null,null,null,null,null,null,null,null,null,null,null,null,null,null,null,null,null,null,null,null,null,null,null,null,null,null,null,null,null,"M0084039",""]
["강관파이프(단관비계)","Ø48.6*2.3t",0.66,"M",2700,1782,{"$f":"자재단가!$R$75","v":2700},1782,0,0,0,0,"",null,null,null,null,null,null,null,null,null,null,null,null,null,null,null,null,null,null,null,null,null,null,null,null,null,null,null,null,null,null,null,null,null,null,null,null,null,null,null,null,null,null,null,null,null,null,null,null,null,null,null,null,null,null,null,null,null,null,null,null,null,null,null,null,null,null,null,null,null,null,null,null,null,null,null,null,null,null,null,null,null,null,null,null,null,null,null,null,null,null,null,null,null,null,null,null,null,null,null,null,null,null,null,"M1002009",""]
[" 클램프","자동",2.8000000000000001E-2,"EA",1455,40.700000000000003,{"$f":"자재단가!$R$102","v":1455},40.700000000000003,0,0,0,0,"",null,null,null,null,null,null,null,null,null,null,null,null,null,null,null,null,null,null,null,null,null,null,null,null,null,null,null,null,null,null,null,null,null,null,null,null,null,null,null,null,null,null,null,null,null,null,null,null,null,null,null,null,null,null,null,null,null,null,null,null,null,null,null,null,null,null,null,null,null,null,null,null,null,null,null,null,null,null,null,null,null,null,null,null,null,null,null,null,null,null,null,null,null,null,null,null,null,null,null,null,null,null,null,"MYG0040",""]
[" 클램프","고정",0.22600000000000001,"EA",1455,328.8,{"$f":"자재단가!$R$103","v":1455},328.8,0,0,0,0,"",null,null,null,null,null,null,null,null,null,null,null,null,null,null,null,null,null,null,null,null,null,null,null,null,null,null,null,null,null,null,null,null,null,null,null,null,null,null,null,null,null,null,null,null,null,null,null,null,null,null,null,null,null,null,null,null,null,null,null,null,null,null,null,null,null,null,null,null,null,null,null,null,null,null,null,null,null,null,null,null,null,null,null,null,null,null,null,null,null,null,null,null,null,null,null,null,null,null,null,null,null,null,null,"MYG0041",""]
["연결핀","Ø48.6",5.6000000000000001E-2,"EA",873,48.8,{"$f":"자재단가!$R$76","v":873},48.8,0,0,0,0,"",null,null,null,null,null,null,null,null,null,null,null,null,null,null,null,null,null,null,null,null,null,null,null,null,null,null,null,null,null,null,null,null,null,null,null,null,null,null,null,null,null,null,null,null,null,null,null,null,null,null,null,null,null,null,null,null,null,null,null,null,null,null,null,null,null,null,null,null,null,null,null,null,null,null,null,null,null,null,null,null,null,null,null,null,null,null,null,null,null,null,null,null,null,null,null,null,null,null,null,null,null,null,null,"M1005021",""]
["U형 볼트.너트","용융아연도금",1.333,"EA",2198,2929.9,{"$f":"자재단가!$R$83","v":2198},2929.9,0,0,0,0,"",null,null,null,null,null,null,null,null,null,null,null,null,null,null,null,null,null,null,null,null,null,null,null,null,null,null,null,null,null,null,null,null,null,null,null,null,null,null,null,null,null,null,null,null,null,null,null,null,null,null,null,null,null,null,null,null,null,null,null,null,null,null,null,null,null,null,null,null,null,null,null,null,null,null,null,null,null,null,null,null,null,null,null,null,null,null,null,null,null,null,null,null,null,null,null,null,null,null,null,null,null,null,null,"M2838931",""]
["비 계 공","",0.03,"인",247977,7439.3,0,0,{"$f":"노임단가!$K$13","v":247977},7439.3,0,0,"",null,null,null,null,null,null,null,null,null,null,null,null,null,null,null,null,null,null,null,null,null,null,null,null,null,null,null,null,null,null,null,null,null,null,null,null,null,null,null,null,null,null,null,null,null,null,null,null,null,null,null,null,null,null,null,null,null,null,null,null,null,null,null,null,null,null,null,null,null,null,null,null,null,null,null,null,null,null,null,null,null,null,null,null,null,null,null,null,null,null,null,null,null,null,null,null,null,null,null,null,null,null,null,"W1006",""]
["보통인부","",1.0999999999999999E-2,"인",141096,1552,0,0,{"$f":"노임단가!$K$8","v":141096},1552,0,0,"",null,null,null,null,null,null,null,null,null,null,null,null,null,null,null,null,null,null,null,null,null,null,null,null,null,null,null,null,null,null,null,null,null,null,null,null,null,null,null,null,null,null,null,null,null,null,null,null,null,null,null,null,null,null,null,null,null,null,null,null,null,null,null,null,null,null,null,null,null,null,null,null,null,null,null,null,null,null,null,null,null,null,null,null,null,null,null,null,null,null,null,null,null,null,null,null,null,null,null,null,null,null,null,"W1002",""]
["굴삭기(무한궤도)"," 0.2 ㎥",3.5000000000000003E-2,"시간",64696,2264.2000000000003,{"$f":"건설기계!$I$56","v":7887},276,{"$f":"건설기계!$K$56","v":44299},1550.4,{"$f":"건설기계!$M$56","v":12510},437.8,"",null,null,null,null,null,null,null,null,null,null,null,null,null,null,null,null,null,null,null,null,null,null,null,null,null,null,null,null,null,null,null,null,null,null,null,null,null,null,null,null,null,null,null,null,null,null,null,null,null,null,null,null,null,null,null,null,null,null,null,null,null,null,null,null,null,null,null,null,null,null,null,null,null,null,null,null,null,null,null,null,null,null,null,null,null,null,null,null,null,null,null,null,null,null,null,null,null,null,null,null,null,null,null,"D0201-0020",""]
["잡재료비","노무비의5%",5,"%",10541.699999999999,527,{"$f":"SUM($J$28:$J$30)","v":10541.699999999999},{"$f":"TRUNC(C31/100*G31,1)","v":527},0,{"$f":"TRUNC(C31/100*I31,1)","v":0},0,{"$f":"TRUNC(C31/100*K31,1)","v":0},"",null,null,null,null,null,null,null,null,null,null,null,null,null,null,null,null,null,null,null,null,null,null,null,null,null,null,null,null,null,null,null,null,null,null,null,null,null,null,null,null,null,null,null,null,null,null,null,null,null,null,null,null,null,null,null,null,null,null,null,null,null,null,null,null,null,null,null,null,null,null,null,null,null,null,null,null,null,null,null,null,null,null,null,null,null,null,null,null,null,null,null,null,null,null,null,null,null,null,null,null,null,null,null,"%RAN*LM","7..9"]
["비 계 공","철거",1.2E-2,"인",247977,2975.7,0,{"$f":"TRUNC(C32/100*G32,1)","v":0},{"$f":"노임단가!$K$13","v":247977},{"$f":"TRUNC(C32*I32,1)","v":2975.7},0,{"$f":"TRUNC(C32/100*K32,1)","v":0},"",null,null,null,null,null,null,null,null,null,null,null,null,null,null,null,null,null,null,null,null,null,null,null,null,null,null,null,null,null,null,null,null,null,null,null,null,null,null,null,null,null,null,null,null,null,null,null,null,null,null,null,null,null,null,null,null,null,null,null,null,null,null,null,null,null,null,null,null,null,null,null,null,null,null,null,null,null,null,null,null,null,null,null,null,null,null,null,null,null,null,null,null,null,null,null,null,null,null,null,null,null,null,null,"%RAN*TE",""]
["보통인부","철거",4.0000000000000001E-3,"인",141096,564.29999999999995,0,{"$f":"TRUNC(C33/100*G33,1)","v":0},{"$f":"노임단가!$K$8","v":141096},{"$f":"TRUNC(C33*I33,1)","v":564.29999999999995},0,{"$f":"TRUNC(C33/100*K33,1)","v":0},"",null,null,null,null,null,null,null,null,null,null,null,null,null,null,null,null,null,null,null,null,null,null,null,null,null,null,null,null,null,null,null,null,null,null,null,null,null,null,null,null,null,null,null,null,null,null,null,null,null,null,null,null,null,null,null,null,null,null,null,null,null,null,null,null,null,null,null,null,null,null,null,null,null,null,null,null,null,null,null,null,null,null,null,null,null,null,null,null,null,null,null,null,null,null,null,null,null,null,null,null,null,null,null,"%RAN*TE",""]
["굴삭기(무한궤도)","철거",1.4E-2,"시간",64696,905.6,{"$f":"건설기계!$I$56","v":7887},{"$f":"TRUNC(C34*G34,1)","v":110.4},{"$f":"건설기계!$K$56","v":44299},{"$f":"TRUNC(C34*I34,1)","v":620.1},{"$f":"건설기계!$M$56","v":12510},{"$f":"TRUNC(C34*K34,1)","v":175.1},"",null,null,null,null,null,null,null,null,null,null,null,null,null,null,null,null,null,null,null,null,null,null,null,null,null,null,null,null,null,null,null,null,null,null,null,null,null,null,null,null,null,null,null,null,null,null,null,null,null,null,null,null,null,null,null,null,null,null,null,null,null,null,null,null,null,null,null,null,null,null,null,null,null,null,null,null,null,null,null,null,null,null,null,null,null,null,null,null,null,null,null,null,null,null,null,null,null,null,null,null,null,null,null,"%RAN*TE",""]
["             계             ",null,null,null,null,{"$f":"H35+J35+L35","v":24951},null,{"$f":"ROUNDDOWN(SUM(H22:H34),0)","v":9638},null,{"$f":"ROUNDDOWN(SUM(J22:J34),0)","v":14701},null,{"$f":"ROUNDDOWN(SUM(L22:L34),0)","v":612}]
[]
["제00030호표 ：E.G.I 가설휀스설치및해체 (강관지주높이3.5m이하,12개월) m 당",null,null,null,null,null,null,null,null,null,null,null,null,null,null,null,null,null,null,null,null,null,null,null,null,null,null,null,null,null,null,null,null,null,null,null,null,null,null,null,null,null,null,null,null,null,null,null,null,null,null,null,null,null,null,null,null,null,null,null,null,null,null,null,null,null,null,null,null,null,null,null,null,null,null,null,null,null,null,null,null,null,null,null,null,null,null,null,null,null,null,null,null,null,null,null,null,null,null,null,null,null,null,null,null,null,null,null,null,null,null,null,null,null,null,null,":BAA3227"]
["전기아연도강판","1.20x914x1829M/M",0.76,"매",{"$f":"G38+I38+K38","v":7190.26},{"$f":"H38+J38+L38","v":5464.5},{"$f":"자재단가!$R$60","v":7190.26},{"$f":"TRUNC(C38*G38,1)","v":5464.5},0,{"$f":"TRUNC(C38*I38,1)","v":0},0,{"$f":"TRUNC(C38*K38,1)","v":0},"",null,null,null,null,null,null,null,null,null,null,null,null,null,null,null,null,null,null,null,null,null,null,null,null,null,null,null,null,null,null,null,null,null,null,null,null,null,null,null,null,null,null,null,null,null,null,null,null,null,null,null,null,null,null,null,null,null,null,null,null,null,null,null,null,null,null,null,null,null,null,null,null,null,null,null,null,null,null,null,null,null,null,null,null,null,null,null,null,null,null,null,null,null,null,null,null,null,null,null,null,null,null,null,"M0084039",""]
["강관파이프(단관비계)","Ø48.6*2.3t",1.254,"M",2700,3385.8,{"$f":"자재단가!$R$75","v":2700},3385.8,0,0,0,0,"",null,null,null,null,null,null,null,null,null,null,null,null,null,null,null,null,null,null,null,null,null,null,null,null,null,null,null,null,null,null,null,null,null,null,null,null,null,null,null,null,null,null,null,null,null,null,null,null,null,null,null,null,null,null,null,null,null,null,null,null,null,null,null,null,null,null,null,null,null,null,null,null,null,null,null,null,null,null,null,null,null,null,null,null,null,null,null,null,null,null,null,null,null,null,null,null,null,null,null,null,null,null,null,"M1002009",""]
[" 클램프","자동",5.3199999999999997E-2,"EA",1455,77.400000000000006,{"$f":"자재단가!$R$102","v":1455},77.400000000000006,0,0,0,0,"",null,null,null,null,null,null,null,null,null,null,null,null,null,null,null,null,null,null,null,null,null,null,null,null,null,null,null,null,null,null,null,null,null,null,null,null,null,null,null,null,null,null,null,null,null,null,null,null,null,null,null,null,null,null,null,null,null,null,null,null,null,null,null,null,null,null,null,null,null,null,null,null,null,null,null,null,null,null,null,null,null,null,null,null,null,null,null,null,null,null,null,null,null,null,null,null,null,null,null,null,null,null,null,"MYG0040",""]
[" 클램프","고정",0.4294,"EA",1455,624.70000000000005,{"$f":"자재단가!$R$103","v":1455},624.70000000000005,0,0,0,0,"",null,null,null,null,null,null,null,null,null,null,null,null,null,null,null,null,null,null,null,null,null,null,null,null,null,null,null,null,null,null,null,null,null,null,null,null,null,null,null,null,null,null,null,null,null,null,null,null,null,null,null,null,null,null,null,null,null,null,null,null,null,null,null,null,null,null,null,null,null,null,null,null,null,null,null,null,null,null,null,null,null,null,null,null,null,null,null,null,null,null,null,null,null,null,null,null,null,null,null,null,null,null,null,"MYG0041",""]
["연결핀","Ø48.6",0.10639999999999999,"EA",873,92.8,{"$f":"자재단가!$R$76","v":873},92.8,0,0,0,0,"",null,null,null,null,null,null,null,null,null,null,null,null,null,null,null,null,null,null,null,null,null,null,null,null,null,null,null,null,null,null,null,null,null,null,null,null,null,null,null,null,null,null,null,null,null,null,null,null,null,null,null,null,null,null,null,null,null,null,null,null,null,null,null,null,null,null,null,null,null,null,null,null,null,null,null,null,null,null,null,null,null,null,null,null,null,null,null,null,null,null,null,null,null,null,null,null,null,null,null,null,null,null,null,"M1005021",""]
["U형 볼트.너트","용융아연도금",2.5327000000000002,"EA",2198,5566.8,{"$f":"자재단가!$R$83","v":2198},5566.8,0,0,0,0,"",null,null,null,null,null,null,null,null,null,null,null,null,null,null,null,null,null,null,null,null,null,null,null,null,null,null,null,null,null,null,null,null,null,null,null,null,null,null,null,null,null,null,null,null,null,null,null,null,null,null,null,null,null,null,null,null,null,null,null,null,null,null,null,null,null,null,null,null,null,null,null,null,null,null,null,null,null,null,null,null,null,null,null,null,null,null,null,null,null,null,null,null,null,null,null,null,null,null,null,null,null,null,null,"M2838931",""]
["비 계 공","",0.03,"인",247977,7439.3,0,0,{"$f":"노임단가!$K$13","v":247977},7439.3,0,0,"",null,null,null,null,null,null,null,null,null,null,null,null,null,null,null,null,null,null,null,null,null,null,null,null,null,null,null,null,null,null,null,null,null,null,null,null,null,null,null,null,null,null,null,null,null,null,null,null,null,null,null,null,null,null,null,null,null,null,null,null,null,null,null,null,null,null,null,null,null,null,null,null,null,null,null,null,null,null,null,null,null,null,null,null,null,null,null,null,null,null,null,null,null,null,null,null,null,null,null,null,null,null,null,"W1006",""]
["보통인부","",1.0999999999999999E-2,"인",141096,1552,0,0,{"$f":"노임단가!$K$8","v":141096},1552,0,0,"",null,null,null,null,null,null,null,null,null,null,null,null,null,null,null,null,null,null,null,null,null,null,null,null,null,null,null,null,null,null,null,null,null,null,null,null,null,null,null,null,null,null,null,null,null,null,null,null,null,null,null,null,null,null,null,null,null,null,null,null,null,null,null,null,null,null,null,null,null,null,null,null,null,null,null,null,null,null,null,null,null,null,null,null,null,null,null,null,null,null,null,null,null,null,null,null,null,null,null,null,null,null,null,"W1002",""]
["굴삭기(무한궤도)"," 0.2 ㎥",3.5000000000000003E-2,"시간",64696,2264.2000000000003,{"$f":"건설기계!$I$56","v":7887},276,{"$f":"건설기계!$K$56","v":44299},1550.4,{"$f":"건설기계!$M$56","v":12510},437.8,"",null,null,null,null,null,null,null,null,null,null,null,null,null,null,null,null,null,null,null,null,null,null,null,null,null,null,null,null,null,null,null,null,null,null,null,null,null,null,null,null,null,null,null,null,null,null,null,null,null,null,null,null,null,null,null,null,null,null,null,null,null,null,null,null,null,null,null,null,null,null,null,null,null,null,null,null,null,null,null,null,null,null,null,null,null,null,null,null,null,null,null,null,null,null,null,null,null,null,null,null,null,null,null,"D0201-0020",""]
["잡재료비","노무비의5%",5,"%",10541.699999999999,527,{"$f":"SUM($J$44:$J$46)","v":10541.699999999999},{"$f":"TRUNC(C47/100*G47,1)","v":527},0,{"$f":"TRUNC(C47/100*I47,1)","v":0},0,{"$f":"TRUNC(C47/100*K47,1)","v":0},"",null,null,null,null,null,null,null,null,null,null,null,null,null,null,null,null,null,null,null,null,null,null,null,null,null,null,null,null,null,null,null,null,null,null,null,null,null,null,null,null,null,null,null,null,null,null,null,null,null,null,null,null,null,null,null,null,null,null,null,null,null,null,null,null,null,null,null,null,null,null,null,null,null,null,null,null,null,null,null,null,null,null,null,null,null,null,null,null,null,null,null,null,null,null,null,null,null,null,null,null,null,null,null,"%RAN*LM","7..9"]
["비 계 공","철거",1.2E-2,"인",247977,2975.7,0,{"$f":"TRUNC(C48/100*G48,1)","v":0},{"$f":"노임단가!$K$13","v":247977},{"$f":"TRUNC(C48*I48,1)","v":2975.7},0,{"$f":"TRUNC(C48/100*K48,1)","v":0},"",null,null,null,null,null,null,null,null,null,null,null,null,null,null,null,null,null,null,null,null,null,null,null,null,null,null,null,null,null,null,null,null,null,null,null,null,null,null,null,null,null,null,null,null,null,null,null,null,null,null,null,null,null,null,null,null,null,null,null,null,null,null,null,null,null,null,null,null,null,null,null,null,null,null,null,null,null,null,null,null,null,null,null,null,null,null,null,null,null,null,null,null,null,null,null,null,null,null,null,null,null,null,null,"%RAN*TE",""]
["보통인부","철거",4.0000000000000001E-3,"인",141096,564.29999999999995,0,{"$f":"TRUNC(C49/100*G49,1)","v":0},{"$f":"노임단가!$K$8","v":141096},{"$f":"TRUNC(C49*I49,1)","v":564.29999999999995},0,{"$f":"TRUNC(C49/100*K49,1)","v":0},"",null,null,null,null,null,null,null,null,null,null,null,null,null,null,null,null,null,null,null,null,null,null,null,null,null,null,null,null,null,null,null,null,null,null,null,null,null,null,null,null,null,null,null,null,null,null,null,null,null,null,null,null,null,null,null,null,null,null,null,null,null,null,null,null,null,null,null,null,null,null,null,null,null,null,null,null,null,null,null,null,null,null,null,null,null,null,null,null,null,null,null,null,null,null,null,null,null,null,null,null,null,null,null,"%RAN*TE",""]
["굴삭기(무한궤도)","철거",1.4E-2,"시간",64696,905.6,{"$f":"건설기계!$I$56","v":7887},{"$f":"TRUNC(C50*G50,1)","v":110.4},{"$f":"건설기계!$K$56","v":44299},{"$f":"TRUNC(C50*I50,1)","v":620.1},{"$f":"건설기계!$M$56","v":12510},{"$f":"TRUNC(C50*K50,1)","v":175.1},"",null,null,null,null,null,null,null,null,null,null,null,null,null,null,null,null,null,null,null,null,null,null,null,null,null,null,null,null,null,null,null,null,null,null,null,null,null,null,null,null,null,null,null,null,null,null,null,null,null,null,null,null,null,null,null,null,null,null,null,null,null,null,null,null,null,null,null,null,null,null,null,null,null,null,null,null,null,null,null,null,null,null,null,null,null,null,null,null,null,null,null,null,null,null,null,null,null,null,null,null,null,null,null,"%RAN*TE",""]
["             계             ",null,null,null,null,{"$f":"H51+J51+L51","v":31438},null,{"$f":"ROUNDDOWN(SUM(H38:H50),0)","v":16125},null,{"$f":"ROUNDDOWN(SUM(J38:J50),0)","v":14701},null,{"$f":"ROUNDDOWN(SUM(L38:L50),0)","v":612}]
[]
["제00040호표 ：L형측구설치 (B=45Cm[레미콘]) m 당",null,null,null,null,null,null,null,null,null,null,null,null,null,null,null,null,null,null,null,null,null,null,null,null,null,null,null,null,null,null,null,null,null,null,null,null,null,null,null,null,null,null,null,null,null,null,null,null,null,null,null,null,null,null,null,null,null,null,null,null,null,null,null,null,null,null,null,null,null,null,null,null,null,null,null,null,null,null,null,null,null,null,null,null,null,null,null,null,null,null,null,null,null,null,null,null,null,null,null,null,null,null,null,null,null,null,null,null,null,null,null,null,null,null,null,":BHE2110"]
["레미콘","#57  25-240-12",8.5999999999999993E-2,"㎥",{"$f":"G54+I54+K54","v":67540},5808.4,{"$f":"자재단가!$R$11","v":67540},{"$f":"TRUNC(C54*G54,1)","v":5808.4},0,{"$f":"TRUNC(C54*I54,1)","v":0},0,{"$f":"TRUNC(C54*K54,1)","v":0},"   관  급  ",null,null,null,null,null,null,null,null,null,null,null,null,null,null,null,null,null,null,null,null,null,null,null,null,null,null,null,null,null,null,null,null,null,null,null,null,null,null,null,null,null,null,null,null,null,null,null,null,null,null,null,null,null,null,null,null,null,null,null,null,null,null,null,null,null,null,null,null,null,null,null,null,null,null,null,null,null,null,null,null,null,null,null,null,null,null,null,null,null,null,null,null,null,null,null,null,null,null,null,null,null,null,null,"M0765035",""]
["레미콘타설","무근구조물",8.5999999999999993E-2,"㎥",23651,2033.8,{"$f":"$H$614","v":1660},{"$f":"TRUNC(C55*G55,1)","v":142.69999999999999},{"$f":"$J$614","v":19717},{"$f":"TRUNC(C55*I55,1)","v":1695.6},{"$f":"$L$614","v":2274},{"$f":"TRUNC(C55*K55,1)","v":195.5},"제  78호표",null,null,null,null,null,null,null,null,null,null,null,null,null,null,null,null,null,null,null,null,null,null,null,null,null,null,null,null,null,null,null,null,null,null,null,null,null,null,null,null,null,null,null,null,null,null,null,null,null,null,null,null,null,null,null,null,null,null,null,null,null,null,null,null,null,null,null,null,null,null,null,null,null,null,null,null,null,null,null,null,null,null,null,null,null,null,null,null,null,null,null,null,null,null,null,null,null,null,null,null,null,null,null,"BFB1100",""]
["거푸집(합판4회)","수직고 0∼7m",0.22,"㎡",40275,8860.4,{"$f":"$H$182","v":11152},{"$f":"TRUNC(C56*G56,1)","v":2453.4},{"$f":"$J$182","v":29123},{"$f":"TRUNC(C56*I56,1)","v":6407},{"$f":"$L$182","v":0},{"$f":"TRUNC(C56*K56,1)","v":0},"제  21호표",null,null,null,null,null,null,null,null,null,null,null,null,null,null,null,null,null,null,null,null,null,null,null,null,null,null,null,null,null,null,null,null,null,null,null,null,null,null,null,null,null,null,null,null,null,null,null,null,null,null,null,null,null,null,null,null,null,null,null,null,null,null,null,null,null,null,null,null,null,null,null,null,null,null,null,null,null,null,null,null,null,null,null,null,null,null,null,null,null,null,null,null,null,null,null,null,null,null,null,null,null,null,null,"BFC2400",""]
["특별인부","부설공",0.02,"인",179203,3584,0,{"$f":"TRUNC(C57*G57,1)","v":0},{"$f":"노임단가!$K$7","v":179203},{"$f":"TRUNC(C57*I57,1)","v":3584},0,{"$f":"TRUNC(C57*K57,1)","v":0},"",null,null,null,null,null,null,null,null,null,null,null,null,null,null,null,null,null,null,null,null,null,null,null,null,null,null,null,null,null,null,null,null,null,null,null,null,null,null,null,null,null,null,null,null,null,null,null,null,null,null,null,null,null,null,null,null,null,null,null,null,null,null,null,null,null,null,null,null,null,null,null,null,null,null,null,null,null,null,null,null,null,null,null,null,null,null,null,null,null,null,null,null,null,null,null,null,null,null,null,null,null,null,null,"W1003",""]
["             계             ",null,null,null,null,{"$f":"H58+J58+L58","v":14477},null,{"$f":"ROUNDDOWN(SUM(H54:H57)-(H54),0)","v":2596},null,{"$f":"ROUNDDOWN(SUM(J54:J57)-(J54),0)","v":11686},null,{"$f":"ROUNDDOWN(SUM(L54:L57)-(L54),0)","v":195}]
[]
["제00050호표 ：L형측구설치 (B=50Cm[레미콘]) m 당",null,null,null,null,null,null,null,null,null,null,null,null,null,null,null,null,null,null,null,null,null,null,null,null,null,null,null,null,null,null,null,null,null,null,null,null,null,null,null,null,null,null,null,null,null,null,null,null,null,null,null,null,null,null,null,null,null,null,null,null,null,null,null,null,null,null,null,null,null,null,null,null,null,null,null,null,null,null,null,null,null,null,null,null,null,null,null,null,null,null,null,null,null,null,null,null,null,null,null,null,null,null,null,null,null,null,null,null,null,null,null,null,null,null,null,":BHE2120"]
["레미콘","#57  25-240-12",9.5000000000000001E-2,"㎥",{"$f":"G61+I61+K61","v":67540},6416.3,{"$f":"자재단가!$R$11","v":67540},{"$f":"TRUNC(C61*G61,1)","v":6416.3},0,{"$f":"TRUNC(C61*I61,1)","v":0},0,{"$f":"TRUNC(C61*K61,1)","v":0},"   관  급  ",null,null,null,null,null,null,null,null,null,null,null,null,null,null,null,null,null,null,null,null,null,null,null,null,null,null,null,null,null,null,null,null,null,null,null,null,null,null,null,null,null,null,null,null,null,null,null,null,null,null,null,null,null,null,null,null,null,null,null,null,null,null,null,null,null,null,null,null,null,null,null,null,null,null,null,null,null,null,null,null,null,null,null,null,null,null,null,null,null,null,null,null,null,null,null,null,null,null,null,null,null,null,null,"M0765035",""]
["레미콘타설","무근구조물",9.5000000000000001E-2,"㎥",23651,2246.8000000000002,{"$f":"$H$614","v":1660},{"$f":"TRUNC(C62*G62,1)","v":157.69999999999999},{"$f":"$J$614","v":19717},{"$f":"TRUNC(C62*I62,1)","v":1873.1},{"$f":"$L$614","v":2274},{"$f":"TRUNC(C62*K62,1)","v":216},"제  78호표",null,null,null,null,null,null,null,null,null,null,null,null,null,null,null,null,null,null,null,null,null,null,null,null,null,null,null,null,null,null,null,null,null,null,null,null,null,null,null,null,null,null,null,null,null,null,null,null,null,null,null,null,null,null,null,null,null,null,null,null,null,null,null,null,null,null,null,null,null,null,null,null,null,null,null,null,null,null,null,null,null,null,null,null,null,null,null,null,null,null,null,null,null,null,null,null,null,null,null,null,null,null,null,"BFB1100",""]
["거푸집(합판4회)","수직고 0∼7m",0.22,"㎡",40275,8860.4,{"$f":"$H$182","v":11152},{"$f":"TRUNC(C63*G63,1)","v":2453.4},{"$f":"$J$182","v":29123},{"$f":"TRUNC(C63*I63,1)","v":6407},{"$f":"$L$182","v":0},{"$f":"TRUNC(C63*K63,1)","v":0},"제  21호표",null,null,null,null,null,null,null,null,null,null,null,null,null,null,null,null,null,null,null,null,null,null,null,null,null,null,null,null,null,null,null,null,null,null,null,null,null,null,null,null,null,null,null,null,null,null,null,null,null,null,null,null,null,null,null,null,null,null,null,null,null,null,null,null,null,null,null,null,null,null,null,null,null,null,null,null,null,null,null,null,null,null,null,null,null,null,null,null,null,null,null,null,null,null,null,null,null,null,null,null,null,null,null,"BFC2400",""]
["특별인부","부설공",0.02,"인",179203,3584,0,{"$f":"TRUNC(C64*G64,1)","v":0},{"$f":"노임단가!$K$7","v":179203},{"$f":"TRUNC(C64*I64,1)","v":3584},0,{"$f":"TRUNC(C64*K64,1)","v":0},"",null,null,null,null,null,null,null,null,null,null,null,null,null,null,null,null,null,null,null,null,null,null,null,null,null,null,null,null,null,null,null,null,null,null,null,null,null,null,null,null,null,null,null,null,null,null,null,null,null,null,null,null,null,null,null,null,null,null,null,null,null,null,null,null,null,null,null,null,null,null,null,null,null,null,null,null,null,null,null,null,null,null,null,null,null,null,null,null,null,null,null,null,null,null,null,null,null,null,null,null,null,null,null,"W1003",""]
["             계             ",null,null,null,null,{"$f":"H65+J65+L65","v":14691},null,{"$f":"ROUNDDOWN(SUM(H61:H64)-(H61),0)","v":2611},null,{"$f":"ROUNDDOWN(SUM(J61:J64)-(J61),0)","v":11864},null,{"$f":"ROUNDDOWN(SUM(L61:L64)-(L61),0)","v":216}]
[]
["제00060호표 ：L형측구설치 (B=45Cm[인력]) m 당",null,null,null,null,null,null,null,null,null,null,null,null,null,null,null,null,null,null,null,null,null,null,null,null,null,null,null,null,null,null,null,null,null,null,null,null,null,null,null,null,null,null,null,null,null,null,null,null,null,null,null,null,null,null,null,null,null,null,null,null,null,null,null,null,null,null,null,null,null,null,null,null,null,null,null,null,null,null,null,null,null,null,null,null,null,null,null,null,null,null,null,null,null,null,null,null,null,null,null,null,null,null,null,null,null,null,null,null,null,null,null,null,null,null,null,":BHE2130"]
["인력비빔타설(fck=210kgf/cm2)","무근구조물",8.5999999999999993E-2,"㎥",{"$f":"G68+I68+K68","v":372619},32045.200000000001,{"$f":"$H$1506","v":66014},{"$f":"TRUNC(C68*G68,1)","v":5677.2},{"$f":"$J$1506","v":298571},{"$f":"TRUNC(C68*I68,1)","v":25677.1},{"$f":"$L$1506","v":8034},{"$f":"TRUNC(C68*K68,1)","v":690.9},"제 152호표",null,null,null,null,null,null,null,null,null,null,null,null,null,null,null,null,null,null,null,null,null,null,null,null,null,null,null,null,null,null,null,null,null,null,null,null,null,null,null,null,null,null,null,null,null,null,null,null,null,null,null,null,null,null,null,null,null,null,null,null,null,null,null,null,null,null,null,null,null,null,null,null,null,null,null,null,null,null,null,null,null,null,null,null,null,null,null,null,null,null,null,null,null,null,null,null,null,null,null,null,null,null,null,"BFB3120",""]
["거푸집(합판4회)","수직고 0∼7m",0.22,"㎡",40275,8860.4,{"$f":"$H$182","v":11152},{"$f":"TRUNC(C69*G69,1)","v":2453.4},{"$f":"$J$182","v":29123},{"$f":"TRUNC(C69*I69,1)","v":6407},{"$f":"$L$182","v":0},{"$f":"TRUNC(C69*K69,1)","v":0},"제  21호표",null,null,null,null,null,null,null,null,null,null,null,null,null,null,null,null,null,null,null,null,null,null,null,null,null,null,null,null,null,null,null,null,null,null,null,null,null,null,null,null,null,null,null,null,null,null,null,null,null,null,null,null,null,null,null,null,null,null,null,null,null,null,null,null,null,null,null,null,null,null,null,null,null,null,null,null,null,null,null,null,null,null,null,null,null,null,null,null,null,null,null,null,null,null,null,null,null,null,null,null,null,null,null,"BFC2400",""]
["특별인부","부설공",0.02,"인",179203,3584,0,{"$f":"TRUNC(C70*G70,1)","v":0},{"$f":"노임단가!$K$7","v":179203},{"$f":"TRUNC(C70*I70,1)","v":3584},0,{"$f":"TRUNC(C70*K70,1)","v":0},"",null,null,null,null,null,null,null,null,null,null,null,null,null,null,null,null,null,null,null,null,null,null,null,null,null,null,null,null,null,null,null,null,null,null,null,null,null,null,null,null,null,null,null,null,null,null,null,null,null,null,null,null,null,null,null,null,null,null,null,null,null,null,null,null,null,null,null,null,null,null,null,null,null,null,null,null,null,null,null,null,null,null,null,null,null,null,null,null,null,null,null,null,null,null,null,null,null,null,null,null,null,null,null,"W1003",""]
["             계             ",null,null,null,null,{"$f":"H71+J71+L71","v":44488},null,{"$f":"ROUNDDOWN(SUM(H68:H70),0)","v":8130},null,{"$f":"ROUNDDOWN(SUM(J68:J70),0)","v":35668},null,{"$f":"ROUNDDOWN(SUM(L68:L70),0)","v":690}]
[]
["제00070호표 ：L형측구설치 (B=50Cm[인력]) m 당",null,null,null,null,null,null,null,null,null,null,null,null,null,null,null,null,null,null,null,null,null,null,null,null,null,null,null,null,null,null,null,null,null,null,null,null,null,null,null,null,null,null,null,null,null,null,null,null,null,null,null,null,null,null,null,null,null,null,null,null,null,null,null,null,null,null,null,null,null,null,null,null,null,null,null,null,null,null,null,null,null,null,null,null,null,null,null,null,null,null,null,null,null,null,null,null,null,null,null,null,null,null,null,null,null,null,null,null,null,null,null,null,null,null,null,":BHE2140"]
["인력비빔타설(fck=210kgf/cm2)","무근구조물",9.5000000000000001E-2,"㎥",{"$f":"G74+I74+K74","v":372619},35398.699999999997,{"$f":"$H$1506","v":66014},{"$f":"TRUNC(C74*G74,1)","v":6271.3},{"$f":"$J$1506","v":298571},{"$f":"TRUNC(C74*I74,1)","v":28364.2},{"$f":"$L$1506","v":8034},{"$f":"TRUNC(C74*K74,1)","v":763.2},"제 152호표",null,null,null,null,null,null,null,null,null,null,null,null,null,null,null,null,null,null,null,null,null,null,null,null,null,null,null,null,null,null,null,null,null,null,null,null,null,null,null,null,null,null,null,null,null,null,null,null,null,null,null,null,null,null,null,null,null,null,null,null,null,null,null,null,null,null,null,null,null,null,null,null,null,null,null,null,null,null,null,null,null,null,null,null,null,null,null,null,null,null,null,null,null,null,null,null,null,null,null,null,null,null,null,"BFB3120",""]
["거푸집(합판4회)","수직고 0∼7m",0.22,"㎡",40275,8860.4,{"$f":"$H$182","v":11152},{"$f":"TRUNC(C75*G75,1)","v":2453.4},{"$f":"$J$182","v":29123},{"$f":"TRUNC(C75*I75,1)","v":6407},{"$f":"$L$182","v":0},{"$f":"TRUNC(C75*K75,1)","v":0},"제  21호표",null,null,null,null,null,null,null,null,null,null,null,null,null,null,null,null,null,null,null,null,null,null,null,null,null,null,null,null,null,null,null,null,null,null,null,null,null,null,null,null,null,null,null,null,null,null,null,null,null,null,null,null,null,null,null,null,null,null,null,null,null,null,null,null,null,null,null,null,null,null,null,null,null,null,null,null,null,null,null,null,null,null,null,null,null,null,null,null,null,null,null,null,null,null,null,null,null,null,null,null,null,null,null,"BFC2400",""]
["특별인부","부설공",0.02,"인",179203,3584,0,{"$f":"TRUNC(C76*G76,1)","v":0},{"$f":"노임단가!$K$7","v":179203},{"$f":"TRUNC(C76*I76,1)","v":3584},0,{"$f":"TRUNC(C76*K76,1)","v":0},"",null,null,null,null,null,null,null,null,null,null,null,null,null,null,null,null,null,null,null,null,null,null,null,null,null,null,null,null,null,null,null,null,null,null,null,null,null,null,null,null,null,null,null,null,null,null,null,null,null,null,null,null,null,null,null,null,null,null,null,null,null,null,null,null,null,null,null,null,null,null,null,null,null,null,null,null,null,null,null,null,null,null,null,null,null,null,null,null,null,null,null,null,null,null,null,null,null,null,null,null,null,null,null,"W1003",""]
["             계             ",null,null,null,null,{"$f":"H77+J77+L77","v":47842},null,{"$f":"ROUNDDOWN(SUM(H74:H76),0)","v":8724},null,{"$f":"ROUNDDOWN(SUM(J74:J76),0)","v":38355},null,{"$f":"ROUNDDOWN(SUM(L74:L76),0)","v":763}]
[]
["제00080호표 ：PE 안전휀스 [3개월] (1510*410*910㎜) 개 당",null,null,null,null,null,null,null,null,null,null,null,null,null,null,null,null,null,null,null,null,null,null,null,null,null,null,null,null,null,null,null,null,null,null,null,null,null,null,null,null,null,null,null,null,null,null,null,null,null,null,null,null,null,null,null,null,null,null,null,null,null,null,null,null,null,null,null,null,null,null,null,null,null,null,null,null,null,null,null,null,null,null,null,null,null,null,null,null,null,null,null,null,null,null,null,null,null,null,null,null,null,null,null,null,null,null,null,null,null,null,null,null,null,null,null,":B000-022010"]
["PE 안전휀스","1510ⅹ410ⅹ910㎜",0.06,"개",{"$f":"G80+I80+K80","v":16000},{"$f":"H80+J80+L80","v":960},0,{"$f":"TRUNC(C80*G80,1)","v":0},0,{"$f":"TRUNC(C80*I80,1)","v":0},{"$f":"자재단가!$R$125","v":16000},{"$f":"TRUNC(C80*K80,1)","v":960},"",null,null,null,null,null,null,null,null,null,null,null,null,null,null,null,null,null,null,null,null,null,null,null,null,null,null,null,null,null,null,null,null,null,null,null,null,null,null,null,null,null,null,null,null,null,null,null,null,null,null,null,null,null,null,null,null,null,null,null,null,null,null,null,null,null,null,null,null,null,null,null,null,null,null,null,null,null,null,null,null,null,null,null,null,null,null,null,null,null,null,null,null,null,null,null,null,null,null,null,null,null,null,null,"M000-0160","%TE"]
["보통인부","설치및철거관리",0.04,"인",{"$f":"G81+I81+K81","v":141096},{"$f":"H81+J81+L81","v":5643.8},0,{"$f":"TRUNC(C81*G81,1)","v":0},0,{"$f":"TRUNC(C81*I81,1)","v":0},{"$f":"노임단가!$K$8","v":141096},{"$f":"TRUNC(C81*K81,1)","v":5643.8},"",null,null,null,null,null,null,null,null,null,null,null,null,null,null,null,null,null,null,null,null,null,null,null,null,null,null,null,null,null,null,null,null,null,null,null,null,null,null,null,null,null,null,null,null,null,null,null,null,null,null,null,null,null,null,null,null,null,null,null,null,null,null,null,null,null,null,null,null,null,null,null,null,null,null,null,null,null,null,null,null,null,null,null,null,null,null,null,null,null,null,null,null,null,null,null,null,null,null,null,null,null,null,null,"W1002","%TE"]
["             계             ",null,null,null,null,{"$f":"H82+J82+L82","v":6603},null,{"$f":"ROUNDDOWN(SUM(H80:H81),0)","v":0},null,{"$f":"ROUNDDOWN(SUM(J80:J81),0)","v":0},null,{"$f":"ROUNDDOWN(SUM(L80:L81),0)","v":6603}]
[]
["제00090호표 ：PE 안전휀스 [6개월] (1510*410*910㎜) 개 당",null,null,null,null,null,null,null,null,null,null,null,null,null,null,null,null,null,null,null,null,null,null,null,null,null,null,null,null,null,null,null,null,null,null,null,null,null,null,null,null,null,null,null,null,null,null,null,null,null,null,null,null,null,null,null,null,null,null,null,null,null,null,null,null,null,null,null,null,null,null,null,null,null,null,null,null,null,null,null,null,null,null,null,null,null,null,null,null,null,null,null,null,null,null,null,null,null,null,null,null,null,null,null,null,null,null,null,null,null,null,null,null,null,null,null,":B000-0270"]
["PE 안전휀스","1510ⅹ410ⅹ910㎜",0.13,"개",{"$f":"G85+I85+K85","v":16000},{"$f":"H85+J85+L85","v":2080},0,{"$f":"TRUNC(C85*G85,1)","v":0},0,{"$f":"TRUNC(C85*I85,1)","v":0},{"$f":"자재단가!$R$125","v":16000},{"$f":"TRUNC(C85*K85,1)","v":2080},"",null,null,null,null,null,null,null,null,null,null,null,null,null,null,null,null,null,null,null,null,null,null,null,null,null,null,null,null,null,null,null,null,null,null,null,null,null,null,null,null,null,null,null,null,null,null,null,null,null,null,null,null,null,null,null,null,null,null,null,null,null,null,null,null,null,null,null,null,null,null,null,null,null,null,null,null,null,null,null,null,null,null,null,null,null,null,null,null,null,null,null,null,null,null,null,null,null,null,null,null,null,null,null,"M000-0160","%TE"]
["보통인부","설치및철거관리",0.04,"인",{"$f":"G86+I86+K86","v":141096},{"$f":"H86+J86+L86","v":5643.8},0,{"$f":"TRUNC(C86*G86,1)","v":0},0,{"$f":"TRUNC(C86*I86,1)","v":0},{"$f":"노임단가!$K$8","v":141096},{"$f":"TRUNC(C86*K86,1)","v":5643.8},"",null,null,null,null,null,null,null,null,null,null,null,null,null,null,null,null,null,null,null,null,null,null,null,null,null,null,null,null,null,null,null,null,null,null,null,null,null,null,null,null,null,null,null,null,null,null,null,null,null,null,null,null,null,null,null,null,null,null,null,null,null,null,null,null,null,null,null,null,null,null,null,null,null,null,null,null,null,null,null,null,null,null,null,null,null,null,null,null,null,null,null,null,null,null,null,null,null,null,null,null,null,null,null,"W1002","%TE"]
["             계             ",null,null,null,null,{"$f":"H87+J87+L87","v":7723},null,{"$f":"ROUNDDOWN(SUM(H85:H86),0)","v":0},null,{"$f":"ROUNDDOWN(SUM(J85:J86),0)","v":0},null,{"$f":"ROUNDDOWN(SUM(L85:L86),0)","v":7723}]
[]
["제00100호표 ：PE 안전휀스 [12개월] (1510*410*910㎜) 개 당",null,null,null,null,null,null,null,null,null,null,null,null,null,null,null,null,null,null,null,null,null,null,null,null,null,null,null,null,null,null,null,null,null,null,null,null,null,null,null,null,null,null,null,null,null,null,null,null,null,null,null,null,null,null,null,null,null,null,null,null,null,null,null,null,null,null,null,null,null,null,null,null,null,null,null,null,null,null,null,null,null,null,null,null,null,null,null,null,null,null,null,null,null,null,null,null,null,null,null,null,null,null,null,null,null,null,null,null,null,null,null,null,null,null,null,":B000-0280"]
["PE 안전휀스","1510ⅹ410ⅹ910㎜",0.25,"개",{"$f":"G90+I90+K90","v":16000},{"$f":"H90+J90+L90","v":4000},0,{"$f":"TRUNC(C90*G90,1)","v":0},0,{"$f":"TRUNC(C90*I90,1)","v":0},{"$f":"자재단가!$R$125","v":16000},{"$f":"TRUNC(C90*K90,1)","v":4000},"",null,null,null,null,null,null,null,null,null,null,null,null,null,null,null,null,null,null,null,null,null,null,null,null,null,null,null,null,null,null,null,null,null,null,null,null,null,null,null,null,null,null,null,null,null,null,null,null,null,null,null,null,null,null,null,null,null,null,null,null,null,null,null,null,null,null,null,null,null,null,null,null,null,null,null,null,null,null,null,null,null,null,null,null,null,null,null,null,null,null,null,null,null,null,null,null,null,null,null,null,null,null,null,"M000-0160","%TE"]
["보통인부","설치및철거관리",0.04,"인",{"$f":"G91+I91+K91","v":141096},{"$f":"H91+J91+L91","v":5643.8},0,{"$f":"TRUNC(C91*G91,1)","v":0},0,{"$f":"TRUNC(C91*I91,1)","v":0},{"$f":"노임단가!$K$8","v":141096},{"$f":"TRUNC(C91*K91,1)","v":5643.8},"",null,null,null,null,null,null,null,null,null,null,null,null,null,null,null,null,null,null,null,null,null,null,null,null,null,null,null,null,null,null,null,null,null,null,null,null,null,null,null,null,null,null,null,null,null,null,null,null,null,null,null,null,null,null,null,null,null,null,null,null,null,null,null,null,null,null,null,null,null,null,null,null,null,null,null,null,null,null,null,null,null,null,null,null,null,null,null,null,null,null,null,null,null,null,null,null,null,null,null,null,null,null,null,"W1002","%TE"]
["             계             ",null,null,null,null,{"$f":"H92+J92+L92","v":9643},null,{"$f":"ROUNDDOWN(SUM(H90:H91),0)","v":0},null,{"$f":"ROUNDDOWN(SUM(J90:J91),0)","v":0},null,{"$f":"ROUNDDOWN(SUM(L90:L91),0)","v":9643}]
[]
["제00110호표 ：PVC지수판 (200x5t) m 당",null,null,null,null,null,null,null,null,null,null,null,null,null,null,null,null,null,null,null,null,null,null,null,null,null,null,null,null,null,null,null,null,null,null,null,null,null,null,null,null,null,null,null,null,null,null,null,null,null,null,null,null,null,null,null,null,null,null,null,null,null,null,null,null,null,null,null,null,null,null,null,null,null,null,null,null,null,null,null,null,null,null,null,null,null,null,null,null,null,null,null,null,null,null,null,null,null,null,null,null,null,null,null,null,null,null,null,null,null,null,null,null,null,null,null,":BFG2110"]
["PVC지수판","200x5T KS PVC",1.04,"M",{"$f":"G95+I95+K95","v":2500},2600,{"$f":"자재단가!$R$144","v":2500},{"$f":"TRUNC(C95*G95,1)","v":2600},0,{"$f":"TRUNC(C95*I95,1)","v":0},0,{"$f":"TRUNC(C95*K95,1)","v":0},"",null,null,null,null,null,null,null,null,null,null,null,null,null,null,null,null,null,null,null,null,null,null,null,null,null,null,null,null,null,null,null,null,null,null,null,null,null,null,null,null,null,null,null,null,null,null,null,null,null,null,null,null,null,null,null,null,null,null,null,null,null,null,null,null,null,null,null,null,null,null,null,null,null,null,null,null,null,null,null,null,null,null,null,null,null,null,null,null,null,null,null,null,null,null,null,null,null,null,null,null,null,null,null,"M2064063",""]
["PVC용접봉","ф3.2mm",4.2000000000000003E-2,"㎏",4000,168,4000,{"$f":"TRUNC(C96*G96,1)","v":168},0,{"$f":"TRUNC(C96*I96,1)","v":0},0,{"$f":"TRUNC(C96*K96,1)","v":0},"",null,null,null,null,null,null,null,null,null,null,null,null,null,null,null,null,null,null,null,null,null,null,null,null,null,null,null,null,null,null,null,null,null,null,null,null,null,null,null,null,null,null,null,null,null,null,null,null,null,null,null,null,null,null,null,null,null,null,null,null,null,null,null,null,null,null,null,null,null,null,null,null,null,null,null,null,null,null,null,null,null,null,null,null,null,null,null,null,null,null,null,null,null,null,null,null,null,null,null,null,null,null,null,"",""]
["보통철선","#8,4.0MM,10.1M/KG",0.21,"㎏",1070,224.7,{"$f":"자재단가!$R$63","v":1070},{"$f":"TRUNC(C97*G97,1)","v":224.7},0,{"$f":"TRUNC(C97*I97,1)","v":0},0,{"$f":"TRUNC(C97*K97,1)","v":0},"",null,null,null,null,null,null,null,null,null,null,null,null,null,null,null,null,null,null,null,null,null,null,null,null,null,null,null,null,null,null,null,null,null,null,null,null,null,null,null,null,null,null,null,null,null,null,null,null,null,null,null,null,null,null,null,null,null,null,null,null,null,null,null,null,null,null,null,null,null,null,null,null,null,null,null,null,null,null,null,null,null,null,null,null,null,null,null,null,null,null,null,null,null,null,null,null,null,null,null,null,null,null,null,"M0144009",""]
["특별인부","",0.151,"인",179203,27059.599999999999,0,{"$f":"TRUNC(C98*G98,1)","v":0},{"$f":"노임단가!$K$7","v":179203},{"$f":"TRUNC(C98*I98,1)","v":27059.599999999999},0,{"$f":"TRUNC(C98*K98,1)","v":0},"",null,null,null,null,null,null,null,null,null,null,null,null,null,null,null,null,null,null,null,null,null,null,null,null,null,null,null,null,null,null,null,null,null,null,null,null,null,null,null,null,null,null,null,null,null,null,null,null,null,null,null,null,null,null,null,null,null,null,null,null,null,null,null,null,null,null,null,null,null,null,null,null,null,null,null,null,null,null,null,null,null,null,null,null,null,null,null,null,null,null,null,null,null,null,null,null,null,null,null,null,null,null,null,"W1003",""]
["보통인부","",0.11600000000000001,"인",141096,16367.1,0,{"$f":"TRUNC(C99*G99,1)","v":0},{"$f":"노임단가!$K$8","v":141096},{"$f":"TRUNC(C99*I99,1)","v":16367.1},0,{"$f":"TRUNC(C99*K99,1)","v":0},"",null,null,null,null,null,null,null,null,null,null,null,null,null,null,null,null,null,null,null,null,null,null,null,null,null,null,null,null,null,null,null,null,null,null,null,null,null,null,null,null,null,null,null,null,null,null,null,null,null,null,null,null,null,null,null,null,null,null,null,null,null,null,null,null,null,null,null,null,null,null,null,null,null,null,null,null,null,null,null,null,null,null,null,null,null,null,null,null,null,null,null,null,null,null,null,null,null,null,null,null,null,null,null,"W1002",""]
["공구손료","품의 3%",3,"%",43426.7,1302.8,0,{"$f":"TRUNC(C100/100*G100,1)","v":0},0,{"$f":"TRUNC(C100/100*I100,1)","v":0},{"$f":"SUM($J$98:$J$99)","v":43426.7},{"$f":"TRUNC(C100/100*K100,1)","v":1302.8},"",null,null,null,null,null,null,null,null,null,null,null,null,null,null,null,null,null,null,null,null,null,null,null,null,null,null,null,null,null,null,null,null,null,null,null,null,null,null,null,null,null,null,null,null,null,null,null,null,null,null,null,null,null,null,null,null,null,null,null,null,null,null,null,null,null,null,null,null,null,null,null,null,null,null,null,null,null,null,null,null,null,null,null,null,null,null,null,null,null,null,null,null,null,null,null,null,null,null,null,null,null,null,null,"%RAN*LE","4..5"]
["             계             ",null,null,null,null,{"$f":"H101+J101+L101","v":47720},null,{"$f":"ROUNDDOWN(SUM(H95:H100),0)","v":2992},null,{"$f":"ROUNDDOWN(SUM(J95:J100),0)","v":43426},null,{"$f":"ROUNDDOWN(SUM(L95:L100),0)","v":1302}]
[]
["제00120호표 ：가드레일철거 (인력) m 당",null,null,null,null,null,null,null,null,null,null,null,null,null,null,null,null,null,null,null,null,null,null,null,null,null,null,null,null,null,null,null,null,null,null,null,null,null,null,null,null,null,null,null,null,null,null,null,null,null,null,null,null,null,null,null,null,null,null,null,null,null,null,null,null,null,null,null,null,null,null,null,null,null,null,null,null,null,null,null,null,null,null,null,null,null,null,null,null,null,null,null,null,null,null,null,null,null,null,null,null,null,null,null,null,null,null,null,null,null,null,null,null,null,null,null,":BKJ1200"]
["보통인부","",0.04,"인",{"$f":"G104+I104+K104","v":141096},{"$f":"H104+J104+L104","v":5643.8},0,{"$f":"TRUNC(C104*G104,1)","v":0},{"$f":"노임단가!$K$8","v":141096},{"$f":"TRUNC(C104*I104,1)","v":5643.8},0,{"$f":"TRUNC(C104*K104,1)","v":0},"",null,null,null,null,null,null,null,null,null,null,null,null,null,null,null,null,null,null,null,null,null,null,null,null,null,null,null,null,null,null,null,null,null,null,null,null,null,null,null,null,null,null,null,null,null,null,null,null,null,null,null,null,null,null,null,null,null,null,null,null,null,null,null,null,null,null,null,null,null,null,null,null,null,null,null,null,null,null,null,null,null,null,null,null,null,null,null,null,null,null,null,null,null,null,null,null,null,null,null,null,null,null,null,"W1002",""]
["용접원(제조부문)","",0.02,"인",{"$f":"G105+I105+K105","v":91928},{"$f":"H105+J105+L105","v":1838.5},0,{"$f":"TRUNC(C105*G105,1)","v":0},{"$f":"노임단가!$K$32","v":91928},{"$f":"TRUNC(C105*I105,1)","v":1838.5},0,{"$f":"TRUNC(C105*K105,1)","v":0},"",null,null,null,null,null,null,null,null,null,null,null,null,null,null,null,null,null,null,null,null,null,null,null,null,null,null,null,null,null,null,null,null,null,null,null,null,null,null,null,null,null,null,null,null,null,null,null,null,null,null,null,null,null,null,null,null,null,null,null,null,null,null,null,null,null,null,null,null,null,null,null,null,null,null,null,null,null,null,null,null,null,null,null,null,null,null,null,null,null,null,null,null,null,null,null,null,null,null,null,null,null,null,null,"W1-1071",""]
["             계             ",null,null,null,null,{"$f":"H106+J106+L106","v":7482},null,{"$f":"ROUNDDOWN(SUM(H104:H105),0)","v":0},null,{"$f":"ROUNDDOWN(SUM(J104:J105),0)","v":7482},null,{"$f":"ROUNDDOWN(SUM(L104:L105),0)","v":0}]
[]
["제00130호표 ：가드휀스설치[라운드] (H900*W3000) 경간 당",null,null,null,null,null,null,null,null,null,null,null,null,null,null,null,null,null,null,null,null,null,null,null,null,null,null,null,null,null,null,null,null,null,null,null,null,null,null,null,null,null,null,null,null,null,null,null,null,null,null,null,null,null,null,null,null,null,null,null,null,null,null,null,null,null,null,null,null,null,null,null,null,null,null,null,null,null,null,null,null,null,null,null,null,null,null,null,null,null,null,null,null,null,null,null,null,null,null,null,null,null,null,null,null,null,null,null,null,null,null,null,null,null,null,null,":B-003"]
["가드휀스제작(라운드)","H900*W3000",1,"경간",{"$f":"G109+I109+K109","v":763873},{"$f":"H109+J109+L109","v":763873},{"$f":"$H$137","v":171155},{"$f":"TRUNC(C109*G109,1)","v":171155},{"$f":"$J$137","v":592718},{"$f":"TRUNC(C109*I109,1)","v":592718},{"$f":"$L$137","v":0},{"$f":"TRUNC(C109*K109,1)","v":0},"제  14호표",null,null,null,null,null,null,null,null,null,null,null,null,null,null,null,null,null,null,null,null,null,null,null,null,null,null,null,null,null,null,null,null,null,null,null,null,null,null,null,null,null,null,null,null,null,null,null,null,null,null,null,null,null,null,null,null,null,null,null,null,null,null,null,null,null,null,null,null,null,null,null,null,null,null,null,null,null,null,null,null,null,null,null,null,null,null,null,null,null,null,null,null,null,null,null,null,null,null,null,null,null,null,null,"B-002",""]
["거푸집(합판2회)","매우복잡/소규모",0.27,"㎡",62541,16886,{"$f":"$H$168","v":14756},3984.1,{"$f":"$J$168","v":47785},12901.9,{"$f":"$L$168","v":0},0,"제  24호표",null,null,null,null,null,null,null,null,null,null,null,null,null,null,null,null,null,null,null,null,null,null,null,null,null,null,null,null,null,null,null,null,null,null,null,null,null,null,null,null,null,null,null,null,null,null,null,null,null,null,null,null,null,null,null,null,null,null,null,null,null,null,null,null,null,null,null,null,null,null,null,null,null,null,null,null,null,null,null,null,null,null,null,null,null,null,null,null,null,null,null,null,null,null,null,null,null,null,null,null,null,null,null,"BFC2650",""]
["터파기(인력,보통토사)","굴착깊이 0∼1M",4.4999999999999998E-2,"㎥",28219,1269.8,{"$f":"$H$1970","v":0},0,{"$f":"$J$1970","v":28219},1269.8,{"$f":"$L$1970","v":0},0,"제 209호표",null,null,null,null,null,null,null,null,null,null,null,null,null,null,null,null,null,null,null,null,null,null,null,null,null,null,null,null,null,null,null,null,null,null,null,null,null,null,null,null,null,null,null,null,null,null,null,null,null,null,null,null,null,null,null,null,null,null,null,null,null,null,null,null,null,null,null,null,null,null,null,null,null,null,null,null,null,null,null,null,null,null,null,null,null,null,null,null,null,null,null,null,null,null,null,null,null,null,null,null,null,null,null,"BDD1101",""]
["되메우기(다짐)","인력",1.2E-2,"㎥",19753,237,{"$f":"$H$535","v":0},0,{"$f":"$J$535","v":19753},237,{"$f":"$L$535","v":0},0,"제  67호표",null,null,null,null,null,null,null,null,null,null,null,null,null,null,null,null,null,null,null,null,null,null,null,null,null,null,null,null,null,null,null,null,null,null,null,null,null,null,null,null,null,null,null,null,null,null,null,null,null,null,null,null,null,null,null,null,null,null,null,null,null,null,null,null,null,null,null,null,null,null,null,null,null,null,null,null,null,null,null,null,null,null,null,null,null,null,null,null,null,null,null,null,null,null,null,null,null,null,null,null,null,null,null,"BDE2210",""]
["인력 흙다지기","토사(15cm)",1.2E-2,"㎥",19753,237,{"$f":"$H$1474","v":0},0,{"$f":"$J$1474","v":19753},237,{"$f":"$L$1474","v":0},0,"제 148호표",null,null,null,null,null,null,null,null,null,null,null,null,null,null,null,null,null,null,null,null,null,null,null,null,null,null,null,null,null,null,null,null,null,null,null,null,null,null,null,null,null,null,null,null,null,null,null,null,null,null,null,null,null,null,null,null,null,null,null,null,null,null,null,null,null,null,null,null,null,null,null,null,null,null,null,null,null,null,null,null,null,null,null,null,null,null,null,null,null,null,null,null,null,null,null,null,null,null,null,null,null,null,null,"B0048",""]
["인력비빔타설(fck=180kgf/cm2)","무근구조물",3.3000000000000002E-2,"㎥",367815,12137.8,{"$f":"$H$1482","v":62458},2061.1,{"$f":"$J$1482","v":298571},9852.7999999999993,{"$f":"$L$1482","v":6786},223.9,"제 149호표",null,null,null,null,null,null,null,null,null,null,null,null,null,null,null,null,null,null,null,null,null,null,null,null,null,null,null,null,null,null,null,null,null,null,null,null,null,null,null,null,null,null,null,null,null,null,null,null,null,null,null,null,null,null,null,null,null,null,null,null,null,null,null,null,null,null,null,null,null,null,null,null,null,null,null,null,null,null,null,null,null,null,null,null,null,null,null,null,null,null,null,null,null,null,null,null,null,null,null,null,null,null,null,"BFB3130",""]
["보통인부","",0.55000000000000004,"인",141096,77602.8,0,0,{"$f":"노임단가!$K$8","v":141096},77602.8,0,0,"",null,null,null,null,null,null,null,null,null,null,null,null,null,null,null,null,null,null,null,null,null,null,null,null,null,null,null,null,null,null,null,null,null,null,null,null,null,null,null,null,null,null,null,null,null,null,null,null,null,null,null,null,null,null,null,null,null,null,null,null,null,null,null,null,null,null,null,null,null,null,null,null,null,null,null,null,null,null,null,null,null,null,null,null,null,null,null,null,null,null,null,null,null,null,null,null,null,null,null,null,null,null,null,"W1002",""]
["특별인부","",0.42,"인",179203,75265.2,0,0,{"$f":"노임단가!$K$7","v":179203},75265.2,0,0,"",null,null,null,null,null,null,null,null,null,null,null,null,null,null,null,null,null,null,null,null,null,null,null,null,null,null,null,null,null,null,null,null,null,null,null,null,null,null,null,null,null,null,null,null,null,null,null,null,null,null,null,null,null,null,null,null,null,null,null,null,null,null,null,null,null,null,null,null,null,null,null,null,null,null,null,null,null,null,null,null,null,null,null,null,null,null,null,null,null,null,null,null,null,null,null,null,null,null,null,null,null,null,null,"W1003",""]
["용 접 공","",0.44,"인",225966,99425,0,0,{"$f":"노임단가!$K$17","v":225966},99425,0,0,"",null,null,null,null,null,null,null,null,null,null,null,null,null,null,null,null,null,null,null,null,null,null,null,null,null,null,null,null,null,null,null,null,null,null,null,null,null,null,null,null,null,null,null,null,null,null,null,null,null,null,null,null,null,null,null,null,null,null,null,null,null,null,null,null,null,null,null,null,null,null,null,null,null,null,null,null,null,null,null,null,null,null,null,null,null,null,null,null,null,null,null,null,null,null,null,null,null,null,null,null,null,null,null,"W1012",""]
["             계             ",null,null,null,null,{"$f":"H118+J118+L118","v":1046932},null,{"$f":"ROUNDDOWN(SUM(H109:H117),0)","v":177200},null,{"$f":"ROUNDDOWN(SUM(J109:J117),0)","v":869509},null,{"$f":"ROUNDDOWN(SUM(L109:L117),0)","v":223}]
[]
["제00140호표 ：가드휀스제작[라운드] (H900*W3000) 경간 당",null,null,null,null,null,null,null,null,null,null,null,null,null,null,null,null,null,null,null,null,null,null,null,null,null,null,null,null,null,null,null,null,null,null,null,null,null,null,null,null,null,null,null,null,null,null,null,null,null,null,null,null,null,null,null,null,null,null,null,null,null,null,null,null,null,null,null,null,null,null,null,null,null,null,null,null,null,null,null,null,null,null,null,null,null,null,null,null,null,null,null,null,null,null,null,null,null,null,null,null,null,null,null,null,null,null,null,null,null,null,null,null,null,null,null,":B-002"]
["포스트형강","100*100*1200",2,"개",{"$f":"G121+I121+K121","v":23760},{"$f":"H121+J121+L121","v":47520},{"$f":"자재단가!$R$104","v":23760},{"$f":"TRUNC(C121*G121,1)","v":47520},0,{"$f":"TRUNC(C121*I121,1)","v":0},0,{"$f":"TRUNC(C121*K121,1)","v":0},"",null,null,null,null,null,null,null,null,null,null,null,null,null,null,null,null,null,null,null,null,null,null,null,null,null,null,null,null,null,null,null,null,null,null,null,null,null,null,null,null,null,null,null,null,null,null,null,null,null,null,null,null,null,null,null,null,null,null,null,null,null,null,null,null,null,null,null,null,null,null,null,null,null,null,null,null,null,null,null,null,null,null,null,null,null,null,null,null,null,null,null,null,null,null,null,null,null,null,null,null,null,null,null,"M0000001",""]
["스테인레스원형관","63.5*1.5*2.32",9,"M",8270,74430,{"$f":"자재단가!$R$105","v":8270},74430,0,0,0,0,"",null,null,null,null,null,null,null,null,null,null,null,null,null,null,null,null,null,null,null,null,null,null,null,null,null,null,null,null,null,null,null,null,null,null,null,null,null,null,null,null,null,null,null,null,null,null,null,null,null,null,null,null,null,null,null,null,null,null,null,null,null,null,null,null,null,null,null,null,null,null,null,null,null,null,null,null,null,null,null,null,null,null,null,null,null,null,null,null,null,null,null,null,null,null,null,null,null,null,null,null,null,null,null,"M0000002",""]
["캡","Ø63.5",6,"개",7500,45000,{"$f":"자재단가!$R$106","v":7500},45000,0,0,0,0,"",null,null,null,null,null,null,null,null,null,null,null,null,null,null,null,null,null,null,null,null,null,null,null,null,null,null,null,null,null,null,null,null,null,null,null,null,null,null,null,null,null,null,null,null,null,null,null,null,null,null,null,null,null,null,null,null,null,null,null,null,null,null,null,null,null,null,null,null,null,null,null,null,null,null,null,null,null,null,null,null,null,null,null,null,null,null,null,null,null,null,null,null,null,null,null,null,null,null,null,null,null,null,null,"M0000003",""]
["스텐레스봉","4.0*1000",0.55000000000000004,"㎏",4620,2541,{"$f":"자재단가!$R$107","v":4620},2541,0,0,0,0,"",null,null,null,null,null,null,null,null,null,null,null,null,null,null,null,null,null,null,null,null,null,null,null,null,null,null,null,null,null,null,null,null,null,null,null,null,null,null,null,null,null,null,null,null,null,null,null,null,null,null,null,null,null,null,null,null,null,null,null,null,null,null,null,null,null,null,null,null,null,null,null,null,null,null,null,null,null,null,null,null,null,null,null,null,null,null,null,null,null,null,null,null,null,null,null,null,null,null,null,null,null,null,null,"M0000004",""]
["알곤","99.9% 47ℓ",9.4999999999999998E-3,"ℓ",638.29999999999995,6,{"$f":"자재단가!$R$108","v":638.29999999999995},6,0,0,0,0,"",null,null,null,null,null,null,null,null,null,null,null,null,null,null,null,null,null,null,null,null,null,null,null,null,null,null,null,null,null,null,null,null,null,null,null,null,null,null,null,null,null,null,null,null,null,null,null,null,null,null,null,null,null,null,null,null,null,null,null,null,null,null,null,null,null,null,null,null,null,null,null,null,null,null,null,null,null,null,null,null,null,null,null,null,null,null,null,null,null,null,null,null,null,null,null,null,null,null,null,null,null,null,null,"M0000005",""]
["레이저광선원","",1,"인",87935,87935,0,0,{"$f":"노임단가!$K$27","v":87935},87935,0,0,"",null,null,null,null,null,null,null,null,null,null,null,null,null,null,null,null,null,null,null,null,null,null,null,null,null,null,null,null,null,null,null,null,null,null,null,null,null,null,null,null,null,null,null,null,null,null,null,null,null,null,null,null,null,null,null,null,null,null,null,null,null,null,null,null,null,null,null,null,null,null,null,null,null,null,null,null,null,null,null,null,null,null,null,null,null,null,null,null,null,null,null,null,null,null,null,null,null,null,null,null,null,null,null,"W1-1059",""]
["연삭기및연마기조작원","",0.9,"인",80761,72684.899999999994,0,0,{"$f":"노임단가!$K$28","v":80761},72684.899999999994,0,0,"",null,null,null,null,null,null,null,null,null,null,null,null,null,null,null,null,null,null,null,null,null,null,null,null,null,null,null,null,null,null,null,null,null,null,null,null,null,null,null,null,null,null,null,null,null,null,null,null,null,null,null,null,null,null,null,null,null,null,null,null,null,null,null,null,null,null,null,null,null,null,null,null,null,null,null,null,null,null,null,null,null,null,null,null,null,null,null,null,null,null,null,null,null,null,null,null,null,null,null,null,null,null,null,"W1-1075",""]
["프레스기조작원","",0.3,"인",85740,25722,0,0,{"$f":"노임단가!$K$29","v":85740},25722,0,0,"",null,null,null,null,null,null,null,null,null,null,null,null,null,null,null,null,null,null,null,null,null,null,null,null,null,null,null,null,null,null,null,null,null,null,null,null,null,null,null,null,null,null,null,null,null,null,null,null,null,null,null,null,null,null,null,null,null,null,null,null,null,null,null,null,null,null,null,null,null,null,null,null,null,null,null,null,null,null,null,null,null,null,null,null,null,null,null,null,null,null,null,null,null,null,null,null,null,null,null,null,null,null,null,"W1-1051",""]
["철물재단원","",0.7,"인",85740,60018,0,0,{"$f":"노임단가!$K$30","v":85740},60018,0,0,"",null,null,null,null,null,null,null,null,null,null,null,null,null,null,null,null,null,null,null,null,null,null,null,null,null,null,null,null,null,null,null,null,null,null,null,null,null,null,null,null,null,null,null,null,null,null,null,null,null,null,null,null,null,null,null,null,null,null,null,null,null,null,null,null,null,null,null,null,null,null,null,null,null,null,null,null,null,null,null,null,null,null,null,null,null,null,null,null,null,null,null,null,null,null,null,null,null,null,null,null,null,null,null,"W1-1032",""]
["벤딩머쉰조작원","",1.6,"인",104737,167579.20000000001,0,0,{"$f":"노임단가!$K$31","v":104737},167579.20000000001,0,0,"",null,null,null,null,null,null,null,null,null,null,null,null,null,null,null,null,null,null,null,null,null,null,null,null,null,null,null,null,null,null,null,null,null,null,null,null,null,null,null,null,null,null,null,null,null,null,null,null,null,null,null,null,null,null,null,null,null,null,null,null,null,null,null,null,null,null,null,null,null,null,null,null,null,null,null,null,null,null,null,null,null,null,null,null,null,null,null,null,null,null,null,null,null,null,null,null,null,null,null,null,null,null,null,"W1-1045",""]
["용접원","",0.4,"인",91928,36771.199999999997,0,0,{"$f":"노임단가!$K$32","v":91928},36771.199999999997,0,0,"",null,null,null,null,null,null,null,null,null,null,null,null,null,null,null,null,null,null,null,null,null,null,null,null,null,null,null,null,null,null,null,null,null,null,null,null,null,null,null,null,null,null,null,null,null,null,null,null,null,null,null,null,null,null,null,null,null,null,null,null,null,null,null,null,null,null,null,null,null,null,null,null,null,null,null,null,null,null,null,null,null,null,null,null,null,null,null,null,null,null,null,null,null,null,null,null,null,null,null,null,null,null,null,"W1-1071",""]
["연삭기및연마기조작원","",0.3,"인",80761,24228.3,0,0,{"$f":"노임단가!$K$28","v":80761},24228.3,0,0,"",null,null,null,null,null,null,null,null,null,null,null,null,null,null,null,null,null,null,null,null,null,null,null,null,null,null,null,null,null,null,null,null,null,null,null,null,null,null,null,null,null,null,null,null,null,null,null,null,null,null,null,null,null,null,null,null,null,null,null,null,null,null,null,null,null,null,null,null,null,null,null,null,null,null,null,null,null,null,null,null,null,null,null,null,null,null,null,null,null,null,null,null,null,null,null,null,null,null,null,null,null,null,null,"W1-1072",""]
["세척원","",0.5,"인",78123,39061.5,0,0,{"$f":"노임단가!$K$33","v":78123},39061.5,0,0,"",null,null,null,null,null,null,null,null,null,null,null,null,null,null,null,null,null,null,null,null,null,null,null,null,null,null,null,null,null,null,null,null,null,null,null,null,null,null,null,null,null,null,null,null,null,null,null,null,null,null,null,null,null,null,null,null,null,null,null,null,null,null,null,null,null,null,null,null,null,null,null,null,null,null,null,null,null,null,null,null,null,null,null,null,null,null,null,null,null,null,null,null,null,null,null,null,null,null,null,null,null,null,null,"W1-1077",""]
["단순노무종사원","",0.5,"인",79552,39776,0,0,{"$f":"노임단가!$K$34","v":79552},39776,0,0,"",null,null,null,null,null,null,null,null,null,null,null,null,null,null,null,null,null,null,null,null,null,null,null,null,null,null,null,null,null,null,null,null,null,null,null,null,null,null,null,null,null,null,null,null,null,null,null,null,null,null,null,null,null,null,null,null,null,null,null,null,null,null,null,null,null,null,null,null,null,null,null,null,null,null,null,null,null,null,null,null,null,null,null,null,null,null,null,null,null,null,null,null,null,null,null,null,null,null,null,null,null,null,null,"W1-1176",""]
["포스트금형제작비","",1,"식",4600,4600,{"$f":"견적및기타!$K$12","v":1658},1658,{"$f":"견적및기타!$L$12","v":2942},2942,{"$f":"견적및기타!$M$12","v":0},0,"",null,null,null,null,null,null,null,null,null,null,null,null,null,null,null,null,null,null,null,null,null,null,null,null,null,null,null,null,null,null,null,null,null,null,null,null,null,null,null,null,null,null,null,null,null,null,null,null,null,null,null,null,null,null,null,null,null,null,null,null,null,null,null,null,null,null,null,null,null,null,null,null,null,null,null,null,null,null,null,null,null,null,null,null,null,null,null,null,null,null,null,null,null,null,null,null,null,null,null,null,null,null,null,"E1000",""]
["포스트도장","본체칼라도장",1,"식",36000,36000,{"$f":"견적및기타!$K$13","v":0},0,{"$f":"견적및기타!$L$13","v":36000},36000,{"$f":"견적및기타!$M$13","v":0},0,"",null,null,null,null,null,null,null,null,null,null,null,null,null,null,null,null,null,null,null,null,null,null,null,null,null,null,null,null,null,null,null,null,null,null,null,null,null,null,null,null,null,null,null,null,null,null,null,null,null,null,null,null,null,null,null,null,null,null,null,null,null,null,null,null,null,null,null,null,null,null,null,null,null,null,null,null,null,null,null,null,null,null,null,null,null,null,null,null,null,null,null,null,null,null,null,null,null,null,null,null,null,null,null,"E1001",""]
["             계             ",null,null,null,null,{"$f":"H137+J137+L137","v":763873},null,{"$f":"ROUNDDOWN(SUM(H121:H136),0)","v":171155},null,{"$f":"ROUNDDOWN(SUM(J121:J136),0)","v":592718},null,{"$f":"ROUNDDOWN(SUM(L121:L136),0)","v":0}]
[]
["제00150호표 ：가로수분설치 개소 당",null,null,null,null,null,null,null,null,null,null,null,null,null,null,null,null,null,null,null,null,null,null,null,null,null,null,null,null,null,null,null,null,null,null,null,null,null,null,null,null,null,null,null,null,null,null,null,null,null,null,null,null,null,null,null,null,null,null,null,null,null,null,null,null,null,null,null,null,null,null,null,null,null,null,null,null,null,null,null,null,null,null,null,null,null,null,null,null,null,null,null,null,null,null,null,null,null,null,null,null,null,null,null,null,null,null,null,null,null,null,null,null,null,null,null,":B0209"]
["수목보호판","1200*1000,주철 ",1,"조",{"$f":"G140+I140+K140","v":176700},176700,{"$f":"자재단가!$R$31","v":176700},{"$f":"TRUNC(C140*G140,1)","v":176700},0,{"$f":"TRUNC(C140*I140,1)","v":0},0,{"$f":"TRUNC(C140*K140,1)","v":0},"   관  급  ",null,null,null,null,null,null,null,null,null,null,null,null,null,null,null,null,null,null,null,null,null,null,null,null,null,null,null,null,null,null,null,null,null,null,null,null,null,null,null,null,null,null,null,null,null,null,null,null,null,null,null,null,null,null,null,null,null,null,null,null,null,null,null,null,null,null,null,null,null,null,null,null,null,null,null,null,null,null,null,null,null,null,null,null,null,null,null,null,null,null,null,null,null,null,null,null,null,null,null,null,null,null,null,"M0133",""]
["특별인부","보호판+받침",0.14000000000000001,"인",179203,25088.400000000001,0,{"$f":"TRUNC(C141*G141,1)","v":0},{"$f":"노임단가!$K$7","v":179203},{"$f":"TRUNC(C141*I141,1)","v":25088.400000000001},0,{"$f":"TRUNC(C141*K141,1)","v":0},"",null,null,null,null,null,null,null,null,null,null,null,null,null,null,null,null,null,null,null,null,null,null,null,null,null,null,null,null,null,null,null,null,null,null,null,null,null,null,null,null,null,null,null,null,null,null,null,null,null,null,null,null,null,null,null,null,null,null,null,null,null,null,null,null,null,null,null,null,null,null,null,null,null,null,null,null,null,null,null,null,null,null,null,null,null,null,null,null,null,null,null,null,null,null,null,null,null,null,null,null,null,null,null,"W1003",""]
["보통인부","보호판+받침",0.09,"인",141096,12698.6,0,{"$f":"TRUNC(C142*G142,1)","v":0},{"$f":"노임단가!$K$8","v":141096},{"$f":"TRUNC(C142*I142,1)","v":12698.6},0,{"$f":"TRUNC(C142*K142,1)","v":0},"",null,null,null,null,null,null,null,null,null,null,null,null,null,null,null,null,null,null,null,null,null,null,null,null,null,null,null,null,null,null,null,null,null,null,null,null,null,null,null,null,null,null,null,null,null,null,null,null,null,null,null,null,null,null,null,null,null,null,null,null,null,null,null,null,null,null,null,null,null,null,null,null,null,null,null,null,null,null,null,null,null,null,null,null,null,null,null,null,null,null,null,null,null,null,null,null,null,null,null,null,null,null,null,"W1002",""]
["             계             ",null,null,null,null,{"$f":"H143+J143+L143","v":37787},null,{"$f":"ROUNDDOWN(SUM(H140:H142)-(H140),0)","v":0},null,{"$f":"ROUNDDOWN(SUM(J140:J142)-(J140),0)","v":37787},null,{"$f":"ROUNDDOWN(SUM(L140:L142)-(L140),0)","v":0}]
[]
["제00160호표 ：가설휀스[1.8x1.45] (3개월) 개 당",null,null,null,null,null,null,null,null,null,null,null,null,null,null,null,null,null,null,null,null,null,null,null,null,null,null,null,null,null,null,null,null,null,null,null,null,null,null,null,null,null,null,null,null,null,null,null,null,null,null,null,null,null,null,null,null,null,null,null,null,null,null,null,null,null,null,null,null,null,null,null,null,null,null,null,null,null,null,null,null,null,null,null,null,null,null,null,null,null,null,null,null,null,null,null,null,null,null,null,null,null,null,null,null,null,null,null,null,null,null,null,null,null,null,null,":BAA3221"]
["일반구조용원형강관(HR)","38.1*1.4㎜*1.267",0.79800000000000004,"M",{"$f":"G146+I146+K146","v":863.63599999999997},689.1,0,{"$f":"TRUNC(C146*G146,1)","v":0},0,{"$f":"TRUNC(C146*I146,1)","v":0},{"$f":"자재단가!$R$61","v":863.63599999999997},{"$f":"TRUNC(C146*K146,1)","v":689.1},"",null,null,null,null,null,null,null,null,null,null,null,null,null,null,null,null,null,null,null,null,null,null,null,null,null,null,null,null,null,null,null,null,null,null,null,null,null,null,null,null,null,null,null,null,null,null,null,null,null,null,null,null,null,null,null,null,null,null,null,null,null,null,null,null,null,null,null,null,null,null,null,null,null,null,null,null,null,null,null,null,null,null,null,null,null,null,null,null,null,null,null,null,null,null,null,null,null,null,null,null,null,null,null,"M0129021","%TE"]
["냉연강판(CR)","0.9 x1219x2438",0.45779999999999998,"㎏",850,389.1,0,{"$f":"TRUNC(C147*G147,1)","v":0},0,{"$f":"TRUNC(C147*I147,1)","v":0},{"$f":"자재단가!$R$59","v":850},{"$f":"TRUNC(C147*K147,1)","v":389.1},"",null,null,null,null,null,null,null,null,null,null,null,null,null,null,null,null,null,null,null,null,null,null,null,null,null,null,null,null,null,null,null,null,null,null,null,null,null,null,null,null,null,null,null,null,null,null,null,null,null,null,null,null,null,null,null,null,null,null,null,null,null,null,null,null,null,null,null,null,null,null,null,null,null,null,null,null,null,null,null,null,null,null,null,null,null,null,null,null,null,null,null,null,null,null,null,null,null,null,null,null,null,null,null,"M0069024","%TE"]
["비닐피복능형철망(PVC코팅능형망)","#10,φ3.2x58x58mm",4.8599999999999997E-2,"㎡",8200,398.5,0,{"$f":"TRUNC(C148*G148,1)","v":0},0,{"$f":"TRUNC(C148*I148,1)","v":0},{"$f":"자재단가!$R$67","v":8200},{"$f":"TRUNC(C148*K148,1)","v":398.5},"",null,null,null,null,null,null,null,null,null,null,null,null,null,null,null,null,null,null,null,null,null,null,null,null,null,null,null,null,null,null,null,null,null,null,null,null,null,null,null,null,null,null,null,null,null,null,null,null,null,null,null,null,null,null,null,null,null,null,null,null,null,null,null,null,null,null,null,null,null,null,null,null,null,null,null,null,null,null,null,null,null,null,null,null,null,null,null,null,null,null,null,null,null,null,null,null,null,null,null,null,null,null,null,"M0675012","%TE"]
["제작비","재료비의 %",50,"%",1476.7,738.3,0,{"$f":"TRUNC(C149/100*G149,1)","v":0},0,{"$f":"TRUNC(C149/100*I149,1)","v":0},{"$f":"SUM($H$146:$H$148)+SUM($J$146:$J$148)+SUM($L$146:$L$148)","v":1476.7},{"$f":"TRUNC(C149/100*K149,1)","v":738.3},"",null,null,null,null,null,null,null,null,null,null,null,null,null,null,null,null,null,null,null,null,null,null,null,null,null,null,null,null,null,null,null,null,null,null,null,null,null,null,null,null,null,null,null,null,null,null,null,null,null,null,null,null,null,null,null,null,null,null,null,null,null,null,null,null,null,null,null,null,null,null,null,null,null,null,null,null,null,null,null,null,null,null,null,null,null,null,null,null,null,null,null,null,null,null,null,null,null,null,null,null,null,null,null,"%RAN*TE","1..3"]
["페인트칠(녹막이)","(녹막이1회)",0.222,"㎡",4164,924.3,{"$f":"$H$2156","v":536},{"$f":"TRUNC(C150*G150,1)","v":118.9},{"$f":"$J$2156","v":3628},{"$f":"TRUNC(C150*I150,1)","v":805.4},0,{"$f":"TRUNC(C150*K150,1)","v":0},"제 228호표",null,null,null,null,null,null,null,null,null,null,null,null,null,null,null,null,null,null,null,null,null,null,null,null,null,null,null,null,null,null,null,null,null,null,null,null,null,null,null,null,null,null,null,null,null,null,null,null,null,null,null,null,null,null,null,null,null,null,null,null,null,null,null,null,null,null,null,null,null,null,null,null,null,null,null,null,null,null,null,null,null,null,null,null,null,null,null,null,null,null,null,null,null,null,null,null,null,null,null,null,null,null,null,"BPC2110",""]
["페인트칠(조합,붓칠)","철재면(2회)",0.222,"㎡",10633,2360.4000000000005,{"$f":"$H$2117","v":891},{"$f":"TRUNC(C151*G151,1)","v":197.8},{"$f":"$J$2117","v":9675},{"$f":"TRUNC(C151*I151,1)","v":2147.8000000000002},{"$f":"$L$2117","v":67},{"$f":"TRUNC(C151*K151,1)","v":14.8},"제 224호표",null,null,null,null,null,null,null,null,null,null,null,null,null,null,null,null,null,null,null,null,null,null,null,null,null,null,null,null,null,null,null,null,null,null,null,null,null,null,null,null,null,null,null,null,null,null,null,null,null,null,null,null,null,null,null,null,null,null,null,null,null,null,null,null,null,null,null,null,null,null,null,null,null,null,null,null,null,null,null,null,null,null,null,null,null,null,null,null,null,null,null,null,null,null,null,null,null,null,null,null,null,null,null,"BPC1212",""]
["보통인부","설치및철거관리",0.04,"인",141096,5643.8,0,{"$f":"TRUNC(C152*G152,1)","v":0},0,{"$f":"TRUNC(C152*I152,1)","v":0},{"$f":"노임단가!$K$8","v":141096},{"$f":"TRUNC(C152*K152,1)","v":5643.8},"",null,null,null,null,null,null,null,null,null,null,null,null,null,null,null,null,null,null,null,null,null,null,null,null,null,null,null,null,null,null,null,null,null,null,null,null,null,null,null,null,null,null,null,null,null,null,null,null,null,null,null,null,null,null,null,null,null,null,null,null,null,null,null,null,null,null,null,null,null,null,null,null,null,null,null,null,null,null,null,null,null,null,null,null,null,null,null,null,null,null,null,null,null,null,null,null,null,null,null,null,null,null,null,"W1002","%TE"]
["             계             ",null,null,null,null,{"$f":"H153+J153+L153","v":11142},null,{"$f":"ROUNDDOWN(SUM(H146:H152),0)","v":316},null,{"$f":"ROUNDDOWN(SUM(J146:J152),0)","v":2953},null,{"$f":"ROUNDDOWN(SUM(L146:L152),0)","v":7873}]
[]
["제00170호표 ：거푸집[합판1회] (기준,수직고 0∼7m) ㎡ 당",null,null,null,null,null,null,null,null,null,null,null,null,null,null,null,null,null,null,null,null,null,null,null,null,null,null,null,null,null,null,null,null,null,null,null,null,null,null,null,null,null,null,null,null,null,null,null,null,null,null,null,null,null,null,null,null,null,null,null,null,null,null,null,null,null,null,null,null,null,null,null,null,null,null,null,null,null,null,null,null,null,null,null,null,null,null,null,null,null,null,null,null,null,null,null,null,null,null,null,null,null,null,null,null,null,null,null,null,null,null,null,null,null,null,null,":BFC2100"]
["내수합판","12tx1220x2440㎜",1.03,"㎡",{"$f":"G156+I156+K156","v":8419},8671.5,{"$f":"자재단가!$R$87","v":8419},{"$f":"TRUNC(C156*G156,1)","v":8671.5},0,{"$f":"TRUNC(C156*I156,1)","v":0},0,{"$f":"TRUNC(C156*K156,1)","v":0},"",null,null,null,null,null,null,null,null,null,null,null,null,null,null,null,null,null,null,null,null,null,null,null,null,null,null,null,null,null,null,null,null,null,null,null,null,null,null,null,null,null,null,null,null,null,null,null,null,null,null,null,null,null,null,null,null,null,null,null,null,null,null,null,null,null,null,null,null,null,null,null,null,null,null,null,null,null,null,null,null,null,null,null,null,null,null,null,null,null,null,null,null,null,null,null,null,null,null,null,null,null,null,null,"M4332041",""]
["외송각재","3.6mx4.5cmx4.5cm",3.7999999999999999E-2,"㎥",376675,14313.6,{"$f":"자재단가!$R$73","v":376675},14313.6,0,0,0,0,"",null,null,null,null,null,null,null,null,null,null,null,null,null,null,null,null,null,null,null,null,null,null,null,null,null,null,null,null,null,null,null,null,null,null,null,null,null,null,null,null,null,null,null,null,null,null,null,null,null,null,null,null,null,null,null,null,null,null,null,null,null,null,null,null,null,null,null,null,null,null,null,null,null,null,null,null,null,null,null,null,null,null,null,null,null,null,null,null,null,null,null,null,null,null,null,null,null,null,null,null,null,null,null,"M0882029",""]
["소모자재(박리재 등)","주재료비의 %",4,"%",22985.1,919.4,{"$f":"SUM($H$156:$H$157)","v":22985.1},{"$f":"TRUNC(C158%*G158,1)","v":919.4},0,0,0,0,"",null,null,null,null,null,null,null,null,null,null,null,null,null,null,null,null,null,null,null,null,null,null,null,null,null,null,null,null,null,null,null,null,null,null,null,null,null,null,null,null,null,null,null,null,null,null,null,null,null,null,null,null,null,null,null,null,null,null,null,null,null,null,null,null,null,null,null,null,null,null,null,null,null,null,null,null,null,null,null,null,null,null,null,null,null,null,null,null,null,null,null,null,null,null,null,null,null,null,null,null,null,null,null,"M0147006",""]
["형틀목공","",0.23,"인",226280,52044.4,0,0,{"$f":"노임단가!$K$14","v":226280},52044.4,0,0,"",null,null,null,null,null,null,null,null,null,null,null,null,null,null,null,null,null,null,null,null,null,null,null,null,null,null,null,null,null,null,null,null,null,null,null,null,null,null,null,null,null,null,null,null,null,null,null,null,null,null,null,null,null,null,null,null,null,null,null,null,null,null,null,null,null,null,null,null,null,null,null,null,null,null,null,null,null,null,null,null,null,null,null,null,null,null,null,null,null,null,null,null,null,null,null,null,null,null,null,null,null,null,null,"W1007",""]
["보통인부","",0.14000000000000001,"인",141096,19753.400000000001,0,0,{"$f":"노임단가!$K$8","v":141096},19753.400000000001,0,0,"",null,null,null,null,null,null,null,null,null,null,null,null,null,null,null,null,null,null,null,null,null,null,null,null,null,null,null,null,null,null,null,null,null,null,null,null,null,null,null,null,null,null,null,null,null,null,null,null,null,null,null,null,null,null,null,null,null,null,null,null,null,null,null,null,null,null,null,null,null,null,null,null,null,null,null,null,null,null,null,null,null,null,null,null,null,null,null,null,null,null,null,null,null,null,null,null,null,null,null,null,null,null,null,"W1002",""]
["             계             ",null,null,null,null,{"$f":"H161+J161+L161","v":95701},null,{"$f":"ROUNDDOWN(SUM(H156:H160),0)","v":23904},null,{"$f":"ROUNDDOWN(SUM(J156:J160),0)","v":71797},null,{"$f":"ROUNDDOWN(SUM(L156:L160),0)","v":0}]
[]
["제00180호표 ：거푸집[합판2회] (매우복잡/소규모) ㎡ 당",null,null,null,null,null,null,null,null,null,null,null,null,null,null,null,null,null,null,null,null,null,null,null,null,null,null,null,null,null,null,null,null,null,null,null,null,null,null,null,null,null,null,null,null,null,null,null,null,null,null,null,null,null,null,null,null,null,null,null,null,null,null,null,null,null,null,null,null,null,null,null,null,null,null,null,null,null,null,null,null,null,null,null,null,null,null,null,null,null,null,null,null,null,null,null,null,null,null,null,null,null,null,null,null,null,null,null,null,null,null,null,null,null,null,null,":BFC2610"]
["합판거푸집(1회)","재 료 비",55,"%",{"$f":"G164+I164+K164","v":23904},13147.2,{"$f":"$H$161","v":23904},{"$f":"TRUNC(C164/100*G164,1)","v":13147.2},0,{"$f":"TRUNC(C164*I164,1)","v":0},0,{"$f":"TRUNC(C164*K164,1)","v":0},"",null,null,null,null,null,null,null,null,null,null,null,null,null,null,null,null,null,null,null,null,null,null,null,null,null,null,null,null,null,null,null,null,null,null,null,null,null,null,null,null,null,null,null,null,null,null,null,null,null,null,null,null,null,null,null,null,null,null,null,null,null,null,null,null,null,null,null,null,null,null,null,null,null,null,null,null,null,null,null,null,null,null,null,null,null,null,null,null,null,null,null,null,null,null,null,null,null,null,null,null,null,null,null,"M4332041",""]
["소모자재(박리재 등)","주재료비의 %",7,"%",22985.1,1608.9,{"$f":"SUM($H$156:$H$157)","v":22985.1},{"$f":"TRUNC(C165%*G165,1)","v":1608.9},0,0,0,0,"",null,null,null,null,null,null,null,null,null,null,null,null,null,null,null,null,null,null,null,null,null,null,null,null,null,null,null,null,null,null,null,null,null,null,null,null,null,null,null,null,null,null,null,null,null,null,null,null,null,null,null,null,null,null,null,null,null,null,null,null,null,null,null,null,null,null,null,null,null,null,null,null,null,null,null,null,null,null,null,null,null,null,null,null,null,null,null,null,null,null,null,null,null,null,null,null,null,null,null,null,null,null,null,"M0147006",""]
["형틀목공","",0.18,"인",226280,40730.400000000001,0,{"$f":"TRUNC(C166*G166,1)","v":0},{"$f":"노임단가!$K$14","v":226280},40730.400000000001,0,0,"",null,null,null,null,null,null,null,null,null,null,null,null,null,null,null,null,null,null,null,null,null,null,null,null,null,null,null,null,null,null,null,null,null,null,null,null,null,null,null,null,null,null,null,null,null,null,null,null,null,null,null,null,null,null,null,null,null,null,null,null,null,null,null,null,null,null,null,null,null,null,null,null,null,null,null,null,null,null,null,null,null,null,null,null,null,null,null,null,null,null,null,null,null,null,null,null,null,null,null,null,null,null,null,"W1007",""]
["보통인부","",0.05,"인",141096,7054.8,0,0,{"$f":"노임단가!$K$8","v":141096},7054.8,0,0,"",null,null,null,null,null,null,null,null,null,null,null,null,null,null,null,null,null,null,null,null,null,null,null,null,null,null,null,null,null,null,null,null,null,null,null,null,null,null,null,null,null,null,null,null,null,null,null,null,null,null,null,null,null,null,null,null,null,null,null,null,null,null,null,null,null,null,null,null,null,null,null,null,null,null,null,null,null,null,null,null,null,null,null,null,null,null,null,null,null,null,null,null,null,null,null,null,null,null,null,null,null,null,null,"W1002",""]
["             계             ",null,null,null,null,{"$f":"H168+J168+L168","v":62541},null,{"$f":"ROUNDDOWN(SUM(H164:H167),0)","v":14756},null,{"$f":"ROUNDDOWN(SUM(J164:J167),0)","v":47785},null,{"$f":"ROUNDDOWN(SUM(L164:L167),0)","v":0}]
[]
["제00190호표 ：거푸집[합판3회] (복잡) ㎡ 당",null,null,null,null,null,null,null,null,null,null,null,null,null,null,null,null,null,null,null,null,null,null,null,null,null,null,null,null,null,null,null,null,null,null,null,null,null,null,null,null,null,null,null,null,null,null,null,null,null,null,null,null,null,null,null,null,null,null,null,null,null,null,null,null,null,null,null,null,null,null,null,null,null,null,null,null,null,null,null,null,null,null,null,null,null,null,null,null,null,null,null,null,null,null,null,null,null,null,null,null,null,null,null,null,null,null,null,null,null,null,null,null,null,null,null,":BFC2300"]
["합판거푸집(1회)","재 료 비",44.3,"%",{"$f":"G171+I171+K171","v":23904},{"$f":"H171+J171+L171","v":10589.4},{"$f":"$H$161","v":23904},{"$f":"TRUNC(C171/100*G171,1)","v":10589.4},0,{"$f":"TRUNC(C171*I171,1)","v":0},0,{"$f":"TRUNC(C171*K171,1)","v":0},"",null,null,null,null,null,null,null,null,null,null,null,null,null,null,null,null,null,null,null,null,null,null,null,null,null,null,null,null,null,null,null,null,null,null,null,null,null,null,null,null,null,null,null,null,null,null,null,null,null,null,null,null,null,null,null,null,null,null,null,null,null,null,null,null,null,null,null,null,null,null,null,null,null,null,null,null,null,null,null,null,null,null,null,null,null,null,null,null,null,null,null,null,null,null,null,null,null,null,null,null,null,null,null,"M4332041",""]
["소모자재(박리재 등)","주재료비의 %",8,"%",22985.1,1838.8,{"$f":"SUM($H$156:$H$157)","v":22985.1},{"$f":"TRUNC(C172%*G172,1)","v":1838.8},0,0,0,0,"",null,null,null,null,null,null,null,null,null,null,null,null,null,null,null,null,null,null,null,null,null,null,null,null,null,null,null,null,null,null,null,null,null,null,null,null,null,null,null,null,null,null,null,null,null,null,null,null,null,null,null,null,null,null,null,null,null,null,null,null,null,null,null,null,null,null,null,null,null,null,null,null,null,null,null,null,null,null,null,null,null,null,null,null,null,null,null,null,null,null,null,null,null,null,null,null,null,null,null,null,null,null,null,"M0147006",""]
["형틀목공","",0.16,"인",226280,36204.800000000003,0,{"$f":"TRUNC(C173*G173,1)","v":0},{"$f":"노임단가!$K$14","v":226280},36204.800000000003,0,0,"",null,null,null,null,null,null,null,null,null,null,null,null,null,null,null,null,null,null,null,null,null,null,null,null,null,null,null,null,null,null,null,null,null,null,null,null,null,null,null,null,null,null,null,null,null,null,null,null,null,null,null,null,null,null,null,null,null,null,null,null,null,null,null,null,null,null,null,null,null,null,null,null,null,null,null,null,null,null,null,null,null,null,null,null,null,null,null,null,null,null,null,null,null,null,null,null,null,null,null,null,null,null,null,"W1007",""]
["보통인부","",0.04,"인",141096,5643.8,0,0,{"$f":"노임단가!$K$8","v":141096},5643.8,0,0,"",null,null,null,null,null,null,null,null,null,null,null,null,null,null,null,null,null,null,null,null,null,null,null,null,null,null,null,null,null,null,null,null,null,null,null,null,null,null,null,null,null,null,null,null,null,null,null,null,null,null,null,null,null,null,null,null,null,null,null,null,null,null,null,null,null,null,null,null,null,null,null,null,null,null,null,null,null,null,null,null,null,null,null,null,null,null,null,null,null,null,null,null,null,null,null,null,null,null,null,null,null,null,null,"W1002",""]
["             계             ",null,null,null,null,{"$f":"H175+J175+L175","v":54276},null,{"$f":"ROUNDDOWN(SUM(H171:H174),0)","v":12428},null,{"$f":"ROUNDDOWN(SUM(J171:J174),0)","v":41848},null,{"$f":"ROUNDDOWN(SUM(L171:L174),0)","v":0}]
[]
["제00210호표 ：거푸집[합판4회] (보통) ㎡ 당",null,null,null,null,null,null,null,null,null,null,null,null,null,null,null,null,null,null,null,null,null,null,null,null,null,null,null,null,null,null,null,null,null,null,null,null,null,null,null,null,null,null,null,null,null,null,null,null,null,null,null,null,null,null,null,null,null,null,null,null,null,null,null,null,null,null,null,null,null,null,null,null,null,null,null,null,null,null,null,null,null,null,null,null,null,null,null,null,null,null,null,null,null,null,null,null,null,null,null,null,null,null,null,null,null,null,null,null,null,null,null,null,null,null,null,":BFC2400"]
["합판거푸집(1회)","재 료 비",38,"%",{"$f":"G178+I178+K178","v":23904},{"$f":"H178+J178+L178","v":9083.5},{"$f":"$H$161","v":23904},{"$f":"TRUNC(C178/100*G178,1)","v":9083.5},0,{"$f":"TRUNC(C178*I178,1)","v":0},0,{"$f":"TRUNC(C178*K178,1)","v":0},"",null,null,null,null,null,null,null,null,null,null,null,null,null,null,null,null,null,null,null,null,null,null,null,null,null,null,null,null,null,null,null,null,null,null,null,null,null,null,null,null,null,null,null,null,null,null,null,null,null,null,null,null,null,null,null,null,null,null,null,null,null,null,null,null,null,null,null,null,null,null,null,null,null,null,null,null,null,null,null,null,null,null,null,null,null,null,null,null,null,null,null,null,null,null,null,null,null,null,null,null,null,null,null,"M4332041",""]
["소모자재(박리재 등)","주재료비의 %",9,"%",22985.1,2068.6,{"$f":"SUM($H$156:$H$157)","v":22985.1},{"$f":"TRUNC(C179%*G179,1)","v":2068.6},0,0,0,0,"",null,null,null,null,null,null,null,null,null,null,null,null,null,null,null,null,null,null,null,null,null,null,null,null,null,null,null,null,null,null,null,null,null,null,null,null,null,null,null,null,null,null,null,null,null,null,null,null,null,null,null,null,null,null,null,null,null,null,null,null,null,null,null,null,null,null,null,null,null,null,null,null,null,null,null,null,null,null,null,null,null,null,null,null,null,null,null,null,null,null,null,null,null,null,null,null,null,null,null,null,null,null,null,"M0147006",""]
["형틀목공","",0.11,"인",226280,24890.799999999999,0,{"$f":"TRUNC(C180*G180,1)","v":0},{"$f":"노임단가!$K$14","v":226280},24890.799999999999,0,0,"",null,null,null,null,null,null,null,null,null,null,null,null,null,null,null,null,null,null,null,null,null,null,null,null,null,null,null,null,null,null,null,null,null,null,null,null,null,null,null,null,null,null,null,null,null,null,null,null,null,null,null,null,null,null,null,null,null,null,null,null,null,null,null,null,null,null,null,null,null,null,null,null,null,null,null,null,null,null,null,null,null,null,null,null,null,null,null,null,null,null,null,null,null,null,null,null,null,null,null,null,null,null,null,"W1007",""]
["보통인부","",0.03,"인",141096,4232.8,0,0,{"$f":"노임단가!$K$8","v":141096},4232.8,0,0,"",null,null,null,null,null,null,null,null,null,null,null,null,null,null,null,null,null,null,null,null,null,null,null,null,null,null,null,null,null,null,null,null,null,null,null,null,null,null,null,null,null,null,null,null,null,null,null,null,null,null,null,null,null,null,null,null,null,null,null,null,null,null,null,null,null,null,null,null,null,null,null,null,null,null,null,null,null,null,null,null,null,null,null,null,null,null,null,null,null,null,null,null,null,null,null,null,null,null,null,null,null,null,null,"W1002",""]
["             계             ",null,null,null,null,{"$f":"H182+J182+L182","v":40275},null,{"$f":"ROUNDDOWN(SUM(H178:H181),0)","v":11152},null,{"$f":"ROUNDDOWN(SUM(J178:J181),0)","v":29123},null,{"$f":"ROUNDDOWN(SUM(L178:L181),0)","v":0}]
[]
["제00230호표 ：거푸집[합판6회] (간단) ㎡ 당",null,null,null,null,null,null,null,null,null,null,null,null,null,null,null,null,null,null,null,null,null,null,null,null,null,null,null,null,null,null,null,null,null,null,null,null,null,null,null,null,null,null,null,null,null,null,null,null,null,null,null,null,null,null,null,null,null,null,null,null,null,null,null,null,null,null,null,null,null,null,null,null,null,null,null,null,null,null,null,null,null,null,null,null,null,null,null,null,null,null,null,null,null,null,null,null,null,null,null,null,null,null,null,null,null,null,null,null,null,null,null,null,null,null,null,":BFC2600"]
["합판거푸집(1회)","재 료 비",32.700000000000003,"%",{"$f":"G185+I185+K185","v":23904},{"$f":"H185+J185+L185","v":7816.6},{"$f":"$H$161","v":23904},{"$f":"TRUNC(C185/100*G185,1)","v":7816.6},0,{"$f":"TRUNC(C185*I185,1)","v":0},0,{"$f":"TRUNC(C185*K185,1)","v":0},"",null,null,null,null,null,null,null,null,null,null,null,null,null,null,null,null,null,null,null,null,null,null,null,null,null,null,null,null,null,null,null,null,null,null,null,null,null,null,null,null,null,null,null,null,null,null,null,null,null,null,null,null,null,null,null,null,null,null,null,null,null,null,null,null,null,null,null,null,null,null,null,null,null,null,null,null,null,null,null,null,null,null,null,null,null,null,null,null,null,null,null,null,null,null,null,null,null,null,null,null,null,null,null,"M4332041",""]
["소모자재(박리재 등)","주재료비의 %",11,"%",22985.1,2528.3000000000002,{"$f":"SUM($H$156:$H$157)","v":22985.1},{"$f":"TRUNC(C186%*G186,1)","v":2528.3000000000002},0,0,0,0,"",null,null,null,null,null,null,null,null,null,null,null,null,null,null,null,null,null,null,null,null,null,null,null,null,null,null,null,null,null,null,null,null,null,null,null,null,null,null,null,null,null,null,null,null,null,null,null,null,null,null,null,null,null,null,null,null,null,null,null,null,null,null,null,null,null,null,null,null,null,null,null,null,null,null,null,null,null,null,null,null,null,null,null,null,null,null,null,null,null,null,null,null,null,null,null,null,null,null,null,null,null,null,null,"M0147006",""]
["형틀목공","",0.1,"인",226280,22628,0,{"$f":"TRUNC(C187*G187,1)","v":0},{"$f":"노임단가!$K$14","v":226280},22628,0,0,"",null,null,null,null,null,null,null,null,null,null,null,null,null,null,null,null,null,null,null,null,null,null,null,null,null,null,null,null,null,null,null,null,null,null,null,null,null,null,null,null,null,null,null,null,null,null,null,null,null,null,null,null,null,null,null,null,null,null,null,null,null,null,null,null,null,null,null,null,null,null,null,null,null,null,null,null,null,null,null,null,null,null,null,null,null,null,null,null,null,null,null,null,null,null,null,null,null,null,null,null,null,null,null,"W1007",""]
["보통인부","",0.02,"인",141096,2821.9,0,0,{"$f":"노임단가!$K$8","v":141096},2821.9,0,0,"",null,null,null,null,null,null,null,null,null,null,null,null,null,null,null,null,null,null,null,null,null,null,null,null,null,null,null,null,null,null,null,null,null,null,null,null,null,null,null,null,null,null,null,null,null,null,null,null,null,null,null,null,null,null,null,null,null,null,null,null,null,null,null,null,null,null,null,null,null,null,null,null,null,null,null,null,null,null,null,null,null,null,null,null,null,null,null,null,null,null,null,null,null,null,null,null,null,null,null,null,null,null,null,"W1002",""]
["             계             ",null,null,null,null,{"$f":"H189+J189+L189","v":35793},null,{"$f":"ROUNDDOWN(SUM(H185:H188),0)","v":10344},null,{"$f":"ROUNDDOWN(SUM(J185:J188),0)","v":25449},null,{"$f":"ROUNDDOWN(SUM(L185:L188),0)","v":0}]
[]
["제00320호표 ：거푸집(문양,합성수지) ㎡ 당",null,null,null,null,null,null,null,null,null,null,null,null,null,null,null,null,null,null,null,null,null,null,null,null,null,null,null,null,null,null,null,null,null,null,null,null,null,null,null,null,null,null,null,null,null,null,null,null,null,null,null,null,null,null,null,null,null,null,null,null,null,null,null,null,null,null,null,null,null,null,null,null,null,null,null,null,null,null,null,null,null,null,null,null,null,null,null,null,null,null,null,null,null,null,null,null,null,null,null,null,null,null,null,null,null,null,null,null,null,null,null,null,null,null,null,":BFC5000"]
["폼타이(form tie)","C-TYPE 5/16x210mm",2.14,"조",{"$f":"G192+I192+K192","v":225},481.5,{"$f":"자재단가!$R$79","v":225},{"$f":"TRUNC(C192*G192,1)","v":481.5},0,{"$f":"TRUNC(C192*I192,1)","v":0},0,{"$f":"TRUNC(C192*K192,1)","v":0},"",null,null,null,null,null,null,null,null,null,null,null,null,null,null,null,null,null,null,null,null,null,null,null,null,null,null,null,null,null,null,null,null,null,null,null,null,null,null,null,null,null,null,null,null,null,null,null,null,null,null,null,null,null,null,null,null,null,null,null,null,null,null,null,null,null,null,null,null,null,null,null,null,null,null,null,null,null,null,null,null,null,null,null,null,null,null,null,null,null,null,null,null,null,null,null,null,null,null,null,null,null,null,null,"M1074021",""]
["스페이서","토목,슬래드용",2.14,"본",80,171.2,{"$f":"자재단가!$R$80","v":80},{"$f":"TRUNC(C193*G193,1)","v":171.2},0,{"$f":"TRUNC(C193*I193,1)","v":0},0,{"$f":"TRUNC(C193*K193,1)","v":0},"",null,null,null,null,null,null,null,null,null,null,null,null,null,null,null,null,null,null,null,null,null,null,null,null,null,null,null,null,null,null,null,null,null,null,null,null,null,null,null,null,null,null,null,null,null,null,null,null,null,null,null,null,null,null,null,null,null,null,null,null,null,null,null,null,null,null,null,null,null,null,null,null,null,null,null,null,null,null,null,null,null,null,null,null,null,null,null,null,null,null,null,null,null,null,null,null,null,null,null,null,null,null,null,"M114301M",""]
["문양박리제(유성)","문양거푸집전용 20ℓ/CAN",0.19,"ℓ",1637,311,{"$f":"자재단가!$R$78","v":1637},{"$f":"TRUNC(C194*G194,1)","v":311},0,{"$f":"TRUNC(C194*I194,1)","v":0},0,{"$f":"TRUNC(C194*K194,1)","v":0},"",null,null,null,null,null,null,null,null,null,null,null,null,null,null,null,null,null,null,null,null,null,null,null,null,null,null,null,null,null,null,null,null,null,null,null,null,null,null,null,null,null,null,null,null,null,null,null,null,null,null,null,null,null,null,null,null,null,null,null,null,null,null,null,null,null,null,null,null,null,null,null,null,null,null,null,null,null,null,null,null,null,null,null,null,null,null,null,null,null,null,null,null,null,null,null,null,null,null,null,null,null,null,null,"M1059003",""]
["형틀목공","",0.11,"인",226280,24890.799999999999,0,{"$f":"TRUNC(C195*G195,1)","v":0},{"$f":"노임단가!$K$14","v":226280},{"$f":"TRUNC(C195*I195,1)","v":24890.799999999999},0,{"$f":"TRUNC(C195*K195,1)","v":0},"",null,null,null,null,null,null,null,null,null,null,null,null,null,null,null,null,null,null,null,null,null,null,null,null,null,null,null,null,null,null,null,null,null,null,null,null,null,null,null,null,null,null,null,null,null,null,null,null,null,null,null,null,null,null,null,null,null,null,null,null,null,null,null,null,null,null,null,null,null,null,null,null,null,null,null,null,null,null,null,null,null,null,null,null,null,null,null,null,null,null,null,null,null,null,null,null,null,null,null,null,null,null,null,"W1007",""]
["보통인부","",0.05,"인",141096,7054.8,0,{"$f":"TRUNC(C196*G196,1)","v":0},{"$f":"노임단가!$K$8","v":141096},{"$f":"TRUNC(C196*I196,1)","v":7054.8},0,{"$f":"TRUNC(C196*K196,1)","v":0},"",null,null,null,null,null,null,null,null,null,null,null,null,null,null,null,null,null,null,null,null,null,null,null,null,null,null,null,null,null,null,null,null,null,null,null,null,null,null,null,null,null,null,null,null,null,null,null,null,null,null,null,null,null,null,null,null,null,null,null,null,null,null,null,null,null,null,null,null,null,null,null,null,null,null,null,null,null,null,null,null,null,null,null,null,null,null,null,null,null,null,null,null,null,null,null,null,null,null,null,null,null,null,null,"W1002",""]
["사용고재","재료비의",-10,"%",482.2,-48.2,{"$f":"SUM($H$193:$H$194)","v":482.2},{"$f":"TRUNC(C197/100*G197,1)","v":-48.2},0,{"$f":"TRUNC(C197/100*I197,1)","v":0},0,{"$f":"TRUNC(C197/100*K197,1)","v":0},"",null,null,null,null,null,null,null,null,null,null,null,null,null,null,null,null,null,null,null,null,null,null,null,null,null,null,null,null,null,null,null,null,null,null,null,null,null,null,null,null,null,null,null,null,null,null,null,null,null,null,null,null,null,null,null,null,null,null,null,null,null,null,null,null,null,null,null,null,null,null,null,null,null,null,null,null,null,null,null,null,null,null,null,null,null,null,null,null,null,null,null,null,null,null,null,null,null,null,null,null,null,null,null,"%RAN*MM","2..3"]
["             계             ",null,null,null,null,{"$f":"H198+J198+L198","v":32860},null,{"$f":"ROUNDDOWN(SUM(H192:H197),0)","v":915},null,{"$f":"ROUNDDOWN(SUM(J192:J197),0)","v":31945},null,{"$f":"ROUNDDOWN(SUM(L192:L197),0)","v":0}]
[]
["제00330호표 ：공사안내간판 (0.9*1.8M) 개 당",null,null,null,null,null,null,null,null,null,null,null,null,null,null,null,null,null,null,null,null,null,null,null,null,null,null,null,null,null,null,null,null,null,null,null,null,null,null,null,null,null,null,null,null,null,null,null,null,null,null,null,null,null,null,null,null,null,null,null,null,null,null,null,null,null,null,null,null,null,null,null,null,null,null,null,null,null,null,null,null,null,null,null,null,null,null,null,null,null,null,null,null,null,null,null,null,null,null,null,null,null,null,null,null,null,null,null,null,null,null,null,null,null,null,null,":BAA3700"]
["공사안내간판","0.9*1.8m",1,"개",{"$f":"G201+I201+K201","v":120000},{"$f":"H201+J201+L201","v":120000},{"$f":"견적및기타!$K$22","v":0},{"$f":"TRUNC(C201*G201,1)","v":0},{"$f":"견적및기타!$L$22","v":0},{"$f":"TRUNC(C201*I201,1)","v":0},{"$f":"견적및기타!$M$22","v":120000},{"$f":"TRUNC(C201*K201,1)","v":120000},"",null,null,null,null,null,null,null,null,null,null,null,null,null,null,null,null,null,null,null,null,null,null,null,null,null,null,null,null,null,null,null,null,null,null,null,null,null,null,null,null,null,null,null,null,null,null,null,null,null,null,null,null,null,null,null,null,null,null,null,null,null,null,null,null,null,null,null,null,null,null,null,null,null,null,null,null,null,null,null,null,null,null,null,null,null,null,null,null,null,null,null,null,null,null,null,null,null,null,null,null,null,null,null,"E000-0110",""]
["             계             ",null,null,null,null,{"$f":"H202+J202+L202","v":120000},null,{"$f":"ROUNDDOWN(SUM(H201:H201),0)","v":0},null,{"$f":"ROUNDDOWN(SUM(J201:J201),0)","v":0},null,{"$f":"ROUNDDOWN(SUM(L201:L201),0)","v":120000}]
[]
["제00340호표 ：과속방지턱도색 (상온식) ㎡ 당",null,null,null,null,null,null,null,null,null,null,null,null,null,null,null,null,null,null,null,null,null,null,null,null,null,null,null,null,null,null,null,null,null,null,null,null,null,null,null,null,null,null,null,null,null,null,null,null,null,null,null,null,null,null,null,null,null,null,null,null,null,null,null,null,null,null,null,null,null,null,null,null,null,null,null,null,null,null,null,null,null,null,null,null,null,null,null,null,null,null,null,null,null,null,null,null,null,null,null,null,null,null,null,null,null,null,null,null,null,null,null,null,null,null,null,":BKZ3300"]
["도로용페인트(상온형)","KSM6080(백색)",9.9500000000000005E-2,"ℓ",{"$f":"G205+I205+K205","v":4275},425.3,{"$f":"자재단가!$R$49","v":4275},{"$f":"TRUNC(C205*G205,1)","v":425.3},0,{"$f":"TRUNC(C205*I205,1)","v":0},0,{"$f":"TRUNC(C205*K205,1)","v":0},"",null,null,null,null,null,null,null,null,null,null,null,null,null,null,null,null,null,null,null,null,null,null,null,null,null,null,null,null,null,null,null,null,null,null,null,null,null,null,null,null,null,null,null,null,null,null,null,null,null,null,null,null,null,null,null,null,null,null,null,null,null,null,null,null,null,null,null,null,null,null,null,null,null,null,null,null,null,null,null,null,null,null,null,null,null,null,null,null,null,null,null,null,null,null,null,null,null,null,null,null,null,null,null,"M1500003",""]
["도로용페인트(상온형)","KSM6080(황색1종)",9.9500000000000005E-2,"ℓ",5650,562.1,{"$f":"자재단가!$R$50","v":5650},{"$f":"TRUNC(C206*G206,1)","v":562.1},0,{"$f":"TRUNC(C206*I206,1)","v":0},0,{"$f":"TRUNC(C206*K206,1)","v":0},"",null,null,null,null,null,null,null,null,null,null,null,null,null,null,null,null,null,null,null,null,null,null,null,null,null,null,null,null,null,null,null,null,null,null,null,null,null,null,null,null,null,null,null,null,null,null,null,null,null,null,null,null,null,null,null,null,null,null,null,null,null,null,null,null,null,null,null,null,null,null,null,null,null,null,null,null,null,null,null,null,null,null,null,null,null,null,null,null,null,null,null,null,null,null,null,null,null,null,null,null,null,null,null,"M1500006",""]
["신너(조합페인트용)","KSM-6060(2종)",8.0000000000000002E-3,"ℓ",1777.78,14.2,{"$f":"자재단가!$R$47","v":1777.78},{"$f":"TRUNC(C207*G207,1)","v":14.2},0,{"$f":"TRUNC(C207*I207,1)","v":0},0,{"$f":"TRUNC(C207*K207,1)","v":0},"",null,null,null,null,null,null,null,null,null,null,null,null,null,null,null,null,null,null,null,null,null,null,null,null,null,null,null,null,null,null,null,null,null,null,null,null,null,null,null,null,null,null,null,null,null,null,null,null,null,null,null,null,null,null,null,null,null,null,null,null,null,null,null,null,null,null,null,null,null,null,null,null,null,null,null,null,null,null,null,null,null,null,null,null,null,null,null,null,null,null,null,null,null,null,null,null,null,null,null,null,null,null,null,"M4092005",""]
["휘 발 유","",0.05,"d",1499.33,74.900000000000006,{"$f":"자재단가!$R$6","v":1499.33},{"$f":"TRUNC(C208*G208,1)","v":74.900000000000006},0,{"$f":"TRUNC(C208*I208,1)","v":0},0,{"$f":"TRUNC(C208*K208,1)","v":0},"",null,null,null,null,null,null,null,null,null,null,null,null,null,null,null,null,null,null,null,null,null,null,null,null,null,null,null,null,null,null,null,null,null,null,null,null,null,null,null,null,null,null,null,null,null,null,null,null,null,null,null,null,null,null,null,null,null,null,null,null,null,null,null,null,null,null,null,null,null,null,null,null,null,null,null,null,null,null,null,null,null,null,null,null,null,null,null,null,null,null,null,null,null,null,null,null,null,null,null,null,null,null,null,"M0000-100",""]
["도 장 공","",5.5E-2,"인",213676,11752.1,0,{"$f":"TRUNC(C209*G209,1)","v":0},{"$f":"노임단가!$K$12","v":213676},{"$f":"TRUNC(C209*I209,1)","v":11752.1},0,{"$f":"TRUNC(C209*K209,1)","v":0},"",null,null,null,null,null,null,null,null,null,null,null,null,null,null,null,null,null,null,null,null,null,null,null,null,null,null,null,null,null,null,null,null,null,null,null,null,null,null,null,null,null,null,null,null,null,null,null,null,null,null,null,null,null,null,null,null,null,null,null,null,null,null,null,null,null,null,null,null,null,null,null,null,null,null,null,null,null,null,null,null,null,null,null,null,null,null,null,null,null,null,null,null,null,null,null,null,null,null,null,null,null,null,null,"W1029",""]
["             계             ",null,null,null,null,{"$f":"H210+J210+L210","v":12828},null,{"$f":"ROUNDDOWN(SUM(H205:H209),0)","v":1076},null,{"$f":"ROUNDDOWN(SUM(J205:J209),0)","v":11752},null,{"$f":"ROUNDDOWN(SUM(L205:L209),0)","v":0}]
[]
["제00341호표 ：과속방지턱도색 (융착식) ㎡ 당",null,null,null,null,null,null,null,null,null,null,null,null,null,null,null,null,null,null,null,null,null,null,null,null,null,null,null,null,null,null,null,null,null,null,null,null,null,null,null,null,null,null,null,null,null,null,null,null,null,null,null,null,null,null,null,null,null,null,null,null,null,null,null,null,null,null,null,null,null,null,null,null,null,null,null,null,null,null,null,null,null,null,null,null,null,null,null,null,null,null,null,null,null,null,null,null,null,null,null,null,null,null,null,null,null,null,null,null,null,null,null,null,null,null,null,":BKI1200"]
["도로표지용 도료","융착식(수용성) 백색",2.2650000000000001,"㎏",{"$f":"G213+I213+K213","v":3140},{"$f":"H213+J213+L213","v":7112.1},{"$f":"자재단가!$R$51","v":3140},{"$f":"TRUNC(C213*G213,1)","v":7112.1},0,{"$f":"TRUNC(C213*I213,1)","v":0},0,{"$f":"TRUNC(C213*K213,1)","v":0},"",null,null,null,null,null,null,null,null,null,null,null,null,null,null,null,null,null,null,null,null,null,null,null,null,null,null,null,null,null,null,null,null,null,null,null,null,null,null,null,null,null,null,null,null,null,null,null,null,null,null,null,null,null,null,null,null,null,null,null,null,null,null,null,null,null,null,null,null,null,null,null,null,null,null,null,null,null,null,null,null,null,null,null,null,null,null,null,null,null,null,null,null,null,null,null,null,null,null,null,null,null,null,null,"BB00-0490",""]
["도로표지용 도료","융착식(수용성) 황색 1종",2.2650000000000001,"㎏",4100,9286.5,{"$f":"자재단가!$R$52","v":4100},9286.5,0,0,0,0,"",null,null,null,null,null,null,null,null,null,null,null,null,null,null,null,null,null,null,null,null,null,null,null,null,null,null,null,null,null,null,null,null,null,null,null,null,null,null,null,null,null,null,null,null,null,null,null,null,null,null,null,null,null,null,null,null,null,null,null,null,null,null,null,null,null,null,null,null,null,null,null,null,null,null,null,null,null,null,null,null,null,null,null,null,null,null,null,null,null,null,null,null,null,null,null,null,null,null,null,null,null,null,null,"W1003",""]
["도로표지용유리알","KSL2521 1호",0.31,"kg",{"$f":"G215+I215+K215","v":1700},{"$f":"H215+J215+L215","v":527},{"$f":"자재단가!$R$57","v":1700},{"$f":"TRUNC(C215*G215,1)","v":527},0,{"$f":"TRUNC(C215*I215,1)","v":0},0,{"$f":"TRUNC(C215*K215,1)","v":0},"",null,null,null,null,null,null,null,null,null,null,null,null,null,null,null,null,null,null,null,null,null,null,null,null,null,null,null,null,null,null,null,null,null,null,null,null,null,null,null,null,null,null,null,null,null,null,null,null,null,null,null,null,null,null,null,null,null,null,null,null,null,null,null,null,null,null,null,null,null,null,null,null,null,null,null,null,null,null,null,null,null,null,null,null,null,null,null,null,null,null,null,null,null,null,null,null,null,null,null,null,null,null,null,"M1488003",""]
["프라이머","융착식 도료용 접착제",0.2,"ℓ",4500,900,{"$f":"자재단가!$R$56","v":4500},900,0,0,0,0,"",null,null,null,null,null,null,null,null,null,null,null,null,null,null,null,null,null,null,null,null,null,null,null,null,null,null,null,null,null,null,null,null,null,null,null,null,null,null,null,null,null,null,null,null,null,null,null,null,null,null,null,null,null,null,null,null,null,null,null,null,null,null,null,null,null,null,null,null,null,null,null,null,null,null,null,null,null,null,null,null,null,null,null,null,null,null,null,null,null,null,null,null,null,null,null,null,null,null,null,null,null,null,null,"M1500021",""]
["프로판가스","일반용",0.2,"㎏",894,178.8,{"$f":"자재단가!$R$94","v":894},178.8,0,0,0,0,"",null,null,null,null,null,null,null,null,null,null,null,null,null,null,null,null,null,null,null,null,null,null,null,null,null,null,null,null,null,null,null,null,null,null,null,null,null,null,null,null,null,null,null,null,null,null,null,null,null,null,null,null,null,null,null,null,null,null,null,null,null,null,null,null,null,null,null,null,null,null,null,null,null,null,null,null,null,null,null,null,null,null,null,null,null,null,null,null,null,null,null,null,null,null,null,null,null,null,null,null,null,null,null,"M9384003",""]
["차선도색(융착식,횡단보도)","시간당 23.75㎡",4.2099999999999999E-2,"HR",187501,7893.6,{"$f":"$H$1680","v":14212},598.29999999999995,{"$f":"$J$1680","v":152522},6421.1,{"$f":"$L$1680","v":20767},874.2,"제 174호표",null,null,null,null,null,null,null,null,null,null,null,null,null,null,null,null,null,null,null,null,null,null,null,null,null,null,null,null,null,null,null,null,null,null,null,null,null,null,null,null,null,null,null,null,null,null,null,null,null,null,null,null,null,null,null,null,null,null,null,null,null,null,null,null,null,null,null,null,null,null,null,null,null,null,null,null,null,null,null,null,null,null,null,null,null,null,null,null,null,null,null,null,null,null,null,null,null,null,null,null,null,null,null,"B000-0160",""]
["보통인부","차로 밑그림 작업",8.6999999999999994E-3,"인",141096,1227.5,0,0,{"$f":"노임단가!$K$8","v":141096},1227.5,0,0,"",null,null,null,null,null,null,null,null,null,null,null,null,null,null,null,null,null,null,null,null,null,null,null,null,null,null,null,null,null,null,null,null,null,null,null,null,null,null,null,null,null,null,null,null,null,null,null,null,null,null,null,null,null,null,null,null,null,null,null,null,null,null,null,null,null,null,null,null,null,null,null,null,null,null,null,null,null,null,null,null,null,null,null,null,null,null,null,null,null,null,null,null,null,null,null,null,null,null,null,null,null,null,null,"W1002",""]
["특별인부","차로 밑그림 작업",8.6999999999999994E-3,"인",179203,1559,0,0,{"$f":"노임단가!$K$7","v":179203},1559,0,0,"",null,null,null,null,null,null,null,null,null,null,null,null,null,null,null,null,null,null,null,null,null,null,null,null,null,null,null,null,null,null,null,null,null,null,null,null,null,null,null,null,null,null,null,null,null,null,null,null,null,null,null,null,null,null,null,null,null,null,null,null,null,null,null,null,null,null,null,null,null,null,null,null,null,null,null,null,null,null,null,null,null,null,null,null,null,null,null,null,null,null,null,null,null,null,null,null,null,null,null,null,null,null,null,"W1003",""]
["잡재료비","주재료비의",1,"%",16428.3,164.2,{"$f":"SUM($H$1779:$H$1783)","v":16428.3},{"$f":"TRUNC(C221/100*G221,1)","v":164.2},0,{"$f":"TRUNC(C221/100*I221,1)","v":0},0,{"$f":"TRUNC(C221/100*K221,1)","v":0},"",null,null,null,null,null,null,null,null,null,null,null,null,null,null,null,null,null,null,null,null,null,null,null,null,null,null,null,null,null,null,null,null,null,null,null,null,null,null,null,null,null,null,null,null,null,null,null,null,null,null,null,null,null,null,null,null,null,null,null,null,null,null,null,null,null,null,null,null,null,null,null,null,null,null,null,null,null,null,null,null,null,null,null,null,null,null,null,null,null,null,null,null,null,null,null,null,null,null,null,null,null,null,null,"%RAN*LM","5..7"]
["공구손료","인력품의",10,"%",9207.6,920.7,0,{"$f":"TRUNC(C222/100*G222,1)","v":0},0,{"$f":"TRUNC(C222/100*I222,1)","v":0},{"$f":"SUM($J$1783:$J$1785)","v":9207.6},{"$f":"TRUNC(C222/100*K222,1)","v":920.7},"",null,null,null,null,null,null,null,null,null,null,null,null,null,null,null,null,null,null,null,null,null,null,null,null,null,null,null,null,null,null,null,null,null,null,null,null,null,null,null,null,null,null,null,null,null,null,null,null,null,null,null,null,null,null,null,null,null,null,null,null,null,null,null,null,null,null,null,null,null,null,null,null,null,null,null,null,null,null,null,null,null,null,null,null,null,null,null,null,null,null,null,null,null,null,null,null,null,null,null,null,null,null,null,"%RAN*LE","5..7"]
["             계             ",null,null,null,null,{"$f":"H223+J223+L223","v":29767},null,{"$f":"ROUNDDOWN(SUM(H213:H222),0)","v":18766},null,{"$f":"ROUNDDOWN(SUM(J215:J222),0)","v":9207},null,{"$f":"ROUNDDOWN(SUM(L215:L222),0)","v":1794}]
[]
["제00350호표 ：과속방지턱설치 (B=3.6M) m 당",null,null,null,null,null,null,null,null,null,null,null,null,null,null,null,null,null,null,null,null,null,null,null,null,null,null,null,null,null,null,null,null,null,null,null,null,null,null,null,null,null,null,null,null,null,null,null,null,null,null,null,null,null,null,null,null,null,null,null,null,null,null,null,null,null,null,null,null,null,null,null,null,null,null,null,null,null,null,null,null,null,null,null,null,null,null,null,null,null,null,null,null,null,null,null,null,null,null,null,null,null,null,null,null,null,null,null,null,null,null,null,null,null,null,null,":BKN1100"]
["포장절단","1차로",6,"m",{"$f":"G226+I226+K226","v":1590},{"$f":"H226+J226+L226","v":9540},{"$f":"$H$2206","v":649},{"$f":"TRUNC(C226*G226,1)","v":3894},{"$f":"$J$2206","v":891},{"$f":"TRUNC(C226*I226,1)","v":5346},{"$f":"$L$2206","v":50},{"$f":"TRUNC(C226*K226,1)","v":300},"제 236호표",null,null,null,null,null,null,null,null,null,null,null,null,null,null,null,null,null,null,null,null,null,null,null,null,null,null,null,null,null,null,null,null,null,null,null,null,null,null,null,null,null,null,null,null,null,null,null,null,null,null,null,null,null,null,null,null,null,null,null,null,null,null,null,null,null,null,null,null,null,null,null,null,null,null,null,null,null,null,null,null,null,null,null,null,null,null,null,null,null,null,null,null,null,null,null,null,null,null,null,null,null,null,null,"BKF6300",""]
["포장깨기(아스팔트)","(인력)",0.18,"㎥",286007,51481.200000000004,{"$f":"$H$2165","v":13619},2451.4,{"$f":"$J$2165","v":272388},49029.8,{"$f":"$L$2165","v":0},0,"제 230호표",null,null,null,null,null,null,null,null,null,null,null,null,null,null,null,null,null,null,null,null,null,null,null,null,null,null,null,null,null,null,null,null,null,null,null,null,null,null,null,null,null,null,null,null,null,null,null,null,null,null,null,null,null,null,null,null,null,null,null,null,null,null,null,null,null,null,null,null,null,null,null,null,null,null,null,null,null,null,null,null,null,null,null,null,null,null,null,null,null,null,null,null,null,null,null,null,null,null,null,null,null,null,null,"BDB2210",""]
["아스팔트유제","RSC-3,4",1.89E-2,"D/M",140000,2646,{"$f":"자재단가!$R$81","v":140000},2646,0,0,0,0,"",null,null,null,null,null,null,null,null,null,null,null,null,null,null,null,null,null,null,null,null,null,null,null,null,null,null,null,null,null,null,null,null,null,null,null,null,null,null,null,null,null,null,null,null,null,null,null,null,null,null,null,null,null,null,null,null,null,null,null,null,null,null,null,null,null,null,null,null,null,null,null,null,null,null,null,null,null,null,null,null,null,null,null,null,null,null,null,null,null,null,null,null,null,null,null,null,null,null,null,null,null,null,null,"M1152009",""]
["아스팔트(유제) 운반","서빙고역",3.78,"L",12,45.3,{"$f":"단가산출!$CY$1483","v":"0"},0,{"$f":"단가산출!$CZ$1483","v":"0"},0,{"$f":"단가산출!$DA$1483","v":"12"},45.3,"산근  37호표",null,null,null,null,null,null,null,null,null,null,null,null,null,null,null,null,null,null,null,null,null,null,null,null,null,null,null,null,null,null,null,null,null,null,null,null,null,null,null,null,null,null,null,null,null,null,null,null,null,null,null,null,null,null,null,null,null,null,null,null,null,null,null,null,null,null,null,null,null,null,null,null,null,null,null,null,null,null,null,null,null,null,null,null,null,null,null,null,null,null,null,null,null,null,null,null,null,null,null,null,null,null,null,"SQC1000",""]
["프라임코팅","RSC-3",3.5999999999999997E-2,"a",8215,295.59999999999997,{"$f":"$H$2073","v":190},6.8,{"$f":"$J$2073","v":7957},286.39999999999998,{"$f":"$L$2073","v":68},2.4,"제 220호표",null,null,null,null,null,null,null,null,null,null,null,null,null,null,null,null,null,null,null,null,null,null,null,null,null,null,null,null,null,null,null,null,null,null,null,null,null,null,null,null,null,null,null,null,null,null,null,null,null,null,null,null,null,null,null,null,null,null,null,null,null,null,null,null,null,null,null,null,null,null,null,null,null,null,null,null,null,null,null,null,null,null,null,null,null,null,null,null,null,null,null,null,null,null,null,null,null,null,null,null,null,null,null,"B000-0134",""]
["텍코팅","RSC-4(30ℓ/a)",3.5999999999999997E-2,"a",8215,295.59999999999997,{"$f":"$H$2063","v":190},6.8,{"$f":"$J$2063","v":7957},286.39999999999998,{"$f":"$L$2063","v":68},2.4,"제 219호표",null,null,null,null,null,null,null,null,null,null,null,null,null,null,null,null,null,null,null,null,null,null,null,null,null,null,null,null,null,null,null,null,null,null,null,null,null,null,null,null,null,null,null,null,null,null,null,null,null,null,null,null,null,null,null,null,null,null,null,null,null,null,null,null,null,null,null,null,null,null,null,null,null,null,null,null,null,null,null,null,null,null,null,null,null,null,null,null,null,null,null,null,null,null,null,null,null,null,null,null,null,null,null,"B000-0133",""]
["아스팔트콘크리트","WC-2, t13mm, 3등급 표층용",0.629,"M/T",70000,44030,{"$f":"자재단가!$R$12","v":70000},44030,0,0,0,0,"   관  급  ",null,null,null,null,null,null,null,null,null,null,null,null,null,null,null,null,null,null,null,null,null,null,null,null,null,null,null,null,null,null,null,null,null,null,null,null,null,null,null,null,null,null,null,null,null,null,null,null,null,null,null,null,null,null,null,null,null,null,null,null,null,null,null,null,null,null,null,null,null,null,null,null,null,null,null,null,null,null,null,null,null,null,null,null,null,null,null,null,null,null,null,null,null,null,null,null,null,null,null,null,null,null,null,"M1155009",""]
["아스팔트콘크리트","BB-2, t30mm, 3등급 기층용",0.63800000000000001,"M/T",60000,38280,{"$f":"자재단가!$R$13","v":60000},38280,0,0,0,0,"   관  급  ",null,null,null,null,null,null,null,null,null,null,null,null,null,null,null,null,null,null,null,null,null,null,null,null,null,null,null,null,null,null,null,null,null,null,null,null,null,null,null,null,null,null,null,null,null,null,null,null,null,null,null,null,null,null,null,null,null,null,null,null,null,null,null,null,null,null,null,null,null,null,null,null,null,null,null,null,null,null,null,null,null,null,null,null,null,null,null,null,null,null,null,null,null,null,null,null,null,null,null,null,null,null,null,"M1158003",""]
["아스팔트포장(인력,신설포장)","시간당 37.5㎡",9.6500000000000002E-2,"HR",229908,22185.9,{"$f":"$H$1312","v":19489},1880.6,{"$f":"$J$1312","v":197150},19024.900000000001,{"$f":"$L$1312","v":13269},1280.4000000000001,"제 134호표",null,null,null,null,null,null,null,null,null,null,null,null,null,null,null,null,null,null,null,null,null,null,null,null,null,null,null,null,null,null,null,null,null,null,null,null,null,null,null,null,null,null,null,null,null,null,null,null,null,null,null,null,null,null,null,null,null,null,null,null,null,null,null,null,null,null,null,null,null,null,null,null,null,null,null,null,null,null,null,null,null,null,null,null,null,null,null,null,null,null,null,null,null,null,null,null,null,null,null,null,null,null,null,"BB00-0380",""]
["청소비(아스팔트)","",3.5999999999999997E-2,"a",14549,523.69999999999993,{"$f":"$H$1829","v":440},15.8,{"$f":"$J$1829","v":14109},507.9,{"$f":"$L$1829","v":0},0,"제 189호표",null,null,null,null,null,null,null,null,null,null,null,null,null,null,null,null,null,null,null,null,null,null,null,null,null,null,null,null,null,null,null,null,null,null,null,null,null,null,null,null,null,null,null,null,null,null,null,null,null,null,null,null,null,null,null,null,null,null,null,null,null,null,null,null,null,null,null,null,null,null,null,null,null,null,null,null,null,null,null,null,null,null,null,null,null,null,null,null,null,null,null,null,null,null,null,null,null,null,null,null,null,null,null,"B0337",""]
["             계             ",null,null,null,null,{"$f":"H236+J236+L236","v":87012},null,{"$f":"ROUNDDOWN(SUM(H226:H235)-(H232+H233),0)","v":10901},null,{"$f":"ROUNDDOWN(SUM(J226:J235)-(J232+J233),0)","v":74481},null,{"$f":"ROUNDDOWN(SUM(L226:L235)-(L232+L233),0)","v":1630}]
[]
["제00360호표 ：교통안전유도로봇(3개월) 당",null,null,null,null,null,null,null,null,null,null,null,null,null,null,null,null,null,null,null,null,null,null,null,null,null,null,null,null,null,null,null,null,null,null,null,null,null,null,null,null,null,null,null,null,null,null,null,null,null,null,null,null,null,null,null,null,null,null,null,null,null,null,null,null,null,null,null,null,null,null,null,null,null,null,null,null,null,null,null,null,null,null,null,null,null,null,null,null,null,null,null,null,null,null,null,null,null,null,null,null,null,null,null,null,null,null,null,null,null,null,null,null,null,null,null,":B000-0400"]
["교통안전유도로봇","20KG",0.15,"개",{"$f":"G239+I239+K239","v":1800000},270000,null,{"$f":"TRUNC(C239*G239,1)","v":0},0,{"$f":"TRUNC(C239*I239,1)","v":0},{"$f":"자재단가!$R$154","v":1800000},{"$f":"TRUNC(C239*K239,1)","v":270000},"",null,null,null,null,null,null,null,null,null,null,null,null,null,null,null,null,null,null,null,null,null,null,null,null,null,null,null,null,null,null,null,null,null,null,null,null,null,null,null,null,null,null,null,null,null,null,null,null,null,null,null,null,null,null,null,null,null,null,null,null,null,null,null,null,null,null,null,null,null,null,null,null,null,null,null,null,null,null,null,null,null,null,null,null,null,null,null,null,null,null,null,null,null,null,null,null,null,null,null,null,null,null,null,"M000-0350",""]
["배터리+충전기+충전기","1개(3개월25%)",1,"개",45000,45000,null,{"$f":"TRUNC(C240*G240,1)","v":0},0,{"$f":"TRUNC(C240*I240,1)","v":0},45000,{"$f":"TRUNC(C240*K240,1)","v":45000},"",null,null,null,null,null,null,null,null,null,null,null,null,null,null,null,null,null,null,null,null,null,null,null,null,null,null,null,null,null,null,null,null,null,null,null,null,null,null,null,null,null,null,null,null,null,null,null,null,null,null,null,null,null,null,null,null,null,null,null,null,null,null,null,null,null,null,null,null,null,null,null,null,null,null,null,null,null,null,null,null,null,null,null,null,null,null,null,null,null,null,null,null,null,null,null,null,null,null,null,null,null,null,null,"",""]
["설치 및 철거","",1,"식",12525,12525,0,{"$f":"TRUNC(C241*G241,1)","v":0},null,{"$f":"TRUNC(C241*I241,1)","v":0},12525,{"$f":"TRUNC(C241*K241,1)","v":12525},"",null,null,null,null,null,null,null,null,null,null,null,null,null,null,null,null,null,null,null,null,null,null,null,null,null,null,null,null,null,null,null,null,null,null,null,null,null,null,null,null,null,null,null,null,null,null,null,null,null,null,null,null,null,null,null,null,null,null,null,null,null,null,null,null,null,null,null,null,null,null,null,null,null,null,null,null,null,null,null,null,null,null,null,null,null,null,null,null,null,null,null,null,null,null,null,null,null,null,null,null,null,null,null,"",""]
["             계             ",null,null,null,null,{"$f":"H242+J242+L242","v":327525},null,{"$f":"ROUNDDOWN(SUM(H239:H241),0)","v":0},null,{"$f":"ROUNDDOWN(SUM(J239:J241),0)","v":0},null,{"$f":"ROUNDDOWN(SUM(L239:L241),0)","v":327525}]
[]
["제00370호표 ：교통통제 및 안전처리 (공구 연장 500m이하) 일 당",null,null,null,null,null,null,null,null,null,null,null,null,null,null,null,null,null,null,null,null,null,null,null,null,null,null,null,null,null,null,null,null,null,null,null,null,null,null,null,null,null,null,null,null,null,null,null,null,null,null,null,null,null,null,null,null,null,null,null,null,null,null,null,null,null,null,null,null,null,null,null,null,null,null,null,null,null,null,null,null,null,null,null,null,null,null,null,null,null,null,null,null,null,null,null,null,null,null,null,null,null,null,null,null,null,null,null,null,null,null,null,null,null,null,null,":BB00-0500"]
["보통인부","도로포장 및 유지공사",2,"인",{"$f":"G245+I245+K245","v":141096},{"$f":"H245+J245+L245","v":282192},0,{"$f":"TRUNC(C245*G245,1)","v":0},null,null,{"$f":"노임단가!$K$8","v":141096},{"$f":"TRUNC(C245*K245,1)","v":282192},"",null,null,null,null,null,null,null,null,null,null,null,null,null,null,null,null,null,null,null,null,null,null,null,null,null,null,null,null,null,null,null,null,null,null,null,null,null,null,null,null,null,null,null,null,null,null,null,null,null,null,null,null,null,null,null,null,null,null,null,null,null,null,null,null,null,null,null,null,null,null,null,null,null,null,null,null,null,null,null,null,null,null,null,null,null,null,null,null,null,null,null,null,null,null,null,null,null,null,null,null,null,null,null,"W1002",""]
["             계             ",null,null,null,null,{"$f":"H246+J246+L246","v":282192},null,{"$f":"ROUNDDOWN(SUM(H245:H245),0)","v":0},null,null,null,{"$f":"ROUNDDOWN(SUM(L245:L245),0)","v":282192}]
[]
["제00380호표 ：그루빙 (아스팔트[종]9*4*51) ㎡ 당",null,null,null,null,null,null,null,null,null,null,null,null,null,null,null,null,null,null,null,null,null,null,null,null,null,null,null,null,null,null,null,null,null,null,null,null,null,null,null,null,null,null,null,null,null,null,null,null,null,null,null,null,null,null,null,null,null,null,null,null,null,null,null,null,null,null,null,null,null,null,null,null,null,null,null,null,null,null,null,null,null,null,null,null,null,null,null,null,null,null,null,null,null,null,null,null,null,null,null,null,null,null,null,null,null,null,null,null,null,null,null,null,null,null,null,":B000-0220"]
["블레이드(건식그루버장착용)","12\"ⅹ4㎜",1.01E-2,"매",{"$f":"G249+I249+K249","v":400000},4040,{"$f":"자재단가!$R$122","v":400000},{"$f":"TRUNC(C249*G249,1)","v":4040},0,{"$f":"TRUNC(C249*I249,1)","v":0},0,{"$f":"TRUNC(C249*K249,1)","v":0},"",null,null,null,null,null,null,null,null,null,null,null,null,null,null,null,null,null,null,null,null,null,null,null,null,null,null,null,null,null,null,null,null,null,null,null,null,null,null,null,null,null,null,null,null,null,null,null,null,null,null,null,null,null,null,null,null,null,null,null,null,null,null,null,null,null,null,null,null,null,null,null,null,null,null,null,null,null,null,null,null,null,null,null,null,null,null,null,null,null,null,null,null,null,null,null,null,null,null,null,null,null,null,null,"M000-0140",""]
["작업반장","",4.4999999999999997E-3,"인",180013,810,0,0,{"$f":"노임단가!$K$18","v":180013},810,0,0,"",null,null,null,null,null,null,null,null,null,null,null,null,null,null,null,null,null,null,null,null,null,null,null,null,null,null,null,null,null,null,null,null,null,null,null,null,null,null,null,null,null,null,null,null,null,null,null,null,null,null,null,null,null,null,null,null,null,null,null,null,null,null,null,null,null,null,null,null,null,null,null,null,null,null,null,null,null,null,null,null,null,null,null,null,null,null,null,null,null,null,null,null,null,null,null,null,null,null,null,null,null,null,null,"W1001",""]
["특별인부","",8.9999999999999993E-3,"인",179203,1612.8,0,0,{"$f":"노임단가!$K$7","v":179203},1612.8,0,0,"",null,null,null,null,null,null,null,null,null,null,null,null,null,null,null,null,null,null,null,null,null,null,null,null,null,null,null,null,null,null,null,null,null,null,null,null,null,null,null,null,null,null,null,null,null,null,null,null,null,null,null,null,null,null,null,null,null,null,null,null,null,null,null,null,null,null,null,null,null,null,null,null,null,null,null,null,null,null,null,null,null,null,null,null,null,null,null,null,null,null,null,null,null,null,null,null,null,null,null,null,null,null,null,"W1003",""]
["보통인부","",1.7999999999999999E-2,"인",141096,2539.6999999999998,0,0,{"$f":"노임단가!$K$8","v":141096},2539.6999999999998,0,0,"",null,null,null,null,null,null,null,null,null,null,null,null,null,null,null,null,null,null,null,null,null,null,null,null,null,null,null,null,null,null,null,null,null,null,null,null,null,null,null,null,null,null,null,null,null,null,null,null,null,null,null,null,null,null,null,null,null,null,null,null,null,null,null,null,null,null,null,null,null,null,null,null,null,null,null,null,null,null,null,null,null,null,null,null,null,null,null,null,null,null,null,null,null,null,null,null,null,null,null,null,null,null,null,"W1002",""]
["건식 그루버","50HP",3.5999999999999997E-2,"HR",105880,3811.6,{"$f":"건설기계!$I$480","v":30046},1081.5999999999999,{"$f":"건설기계!$K$480","v":0},0,{"$f":"건설기계!$M$480","v":75834},2730,"",null,null,null,null,null,null,null,null,null,null,null,null,null,null,null,null,null,null,null,null,null,null,null,null,null,null,null,null,null,null,null,null,null,null,null,null,null,null,null,null,null,null,null,null,null,null,null,null,null,null,null,null,null,null,null,null,null,null,null,null,null,null,null,null,null,null,null,null,null,null,null,null,null,null,null,null,null,null,null,null,null,null,null,null,null,null,null,null,null,null,null,null,null,null,null,null,null,null,null,null,null,null,null,"D000-0110",""]
["트럭탑재형크레인","5 ton",8.9999999999999993E-3,"시간",53671,483,{"$f":"건설기계!$I$287","v":7978},71.8,{"$f":"건설기계!$K$287","v":36224},326,{"$f":"건설기계!$M$287","v":9469},85.2,"",null,null,null,null,null,null,null,null,null,null,null,null,null,null,null,null,null,null,null,null,null,null,null,null,null,null,null,null,null,null,null,null,null,null,null,null,null,null,null,null,null,null,null,null,null,null,null,null,null,null,null,null,null,null,null,null,null,null,null,null,null,null,null,null,null,null,null,null,null,null,null,null,null,null,null,null,null,null,null,null,null,null,null,null,null,null,null,null,null,null,null,null,null,null,null,null,null,null,null,null,null,null,null,"D2105-0005",""]
["기타경비","재료비의",5,"%",5193.3999999999996,259.60000000000002,0,{"$f":"TRUNC(C255/100*G255,1)","v":0},0,{"$f":"TRUNC(C255/100*I255,1)","v":0},{"$f":"SUM($H$249)+SUM($H$253:$H$254)","v":5193.3999999999996},{"$f":"TRUNC(C255/100*K255,1)","v":259.60000000000002},"",null,null,null,null,null,null,null,null,null,null,null,null,null,null,null,null,null,null,null,null,null,null,null,null,null,null,null,null,null,null,null,null,null,null,null,null,null,null,null,null,null,null,null,null,null,null,null,null,null,null,null,null,null,null,null,null,null,null,null,null,null,null,null,null,null,null,null,null,null,null,null,null,null,null,null,null,null,null,null,null,null,null,null,null,null,null,null,null,null,null,null,null,null,null,null,null,null,null,null,null,null,null,null,"%RAN*ME","1+5..6"]
["건설폐기물처리(폐아스팔트)","",1.41E-3,"Ton",22000,31,{"$f":"견적및기타!$K$17","v":0},{"$f":"TRUNC(C256*G256,1)","v":0},{"$f":"견적및기타!$L$17","v":0},{"$f":"TRUNC(C256*I256,1)","v":0},{"$f":"견적및기타!$M$17","v":22000},{"$f":"TRUNC(C256*K256,1)","v":31},"",null,null,null,null,null,null,null,null,null,null,null,null,null,null,null,null,null,null,null,null,null,null,null,null,null,null,null,null,null,null,null,null,null,null,null,null,null,null,null,null,null,null,null,null,null,null,null,null,null,null,null,null,null,null,null,null,null,null,null,null,null,null,null,null,null,null,null,null,null,null,null,null,null,null,null,null,null,null,null,null,null,null,null,null,null,null,null,null,null,null,null,null,null,null,null,null,null,null,null,null,null,null,null,"E0031",""]
["             계             ",null,null,null,null,{"$f":"H257+J257+L257","v":13586},null,{"$f":"ROUNDDOWN(SUM(H249:H256),0)","v":5193},null,{"$f":"ROUNDDOWN(SUM(J249:J256),0)","v":5288},null,{"$f":"ROUNDDOWN(SUM(L249:L256),0)","v":3105}]
[]
["제00390호표 ：그루빙 (콘크리트[종]9*4*51) ㎡ 당",null,null,null,null,null,null,null,null,null,null,null,null,null,null,null,null,null,null,null,null,null,null,null,null,null,null,null,null,null,null,null,null,null,null,null,null,null,null,null,null,null,null,null,null,null,null,null,null,null,null,null,null,null,null,null,null,null,null,null,null,null,null,null,null,null,null,null,null,null,null,null,null,null,null,null,null,null,null,null,null,null,null,null,null,null,null,null,null,null,null,null,null,null,null,null,null,null,null,null,null,null,null,null,null,null,null,null,null,null,null,null,null,null,null,null,":B000-0230"]
["블레이드(건식그루버장착용)","12\"ⅹ6㎜",2.0199999999999999E-2,"매",{"$f":"G260+I260+K260","v":500000},10100,{"$f":"자재단가!$R$123","v":500000},{"$f":"TRUNC(C260*G260,1)","v":10100},0,{"$f":"TRUNC(C260*I260,1)","v":0},0,{"$f":"TRUNC(C260*K260,1)","v":0},"",null,null,null,null,null,null,null,null,null,null,null,null,null,null,null,null,null,null,null,null,null,null,null,null,null,null,null,null,null,null,null,null,null,null,null,null,null,null,null,null,null,null,null,null,null,null,null,null,null,null,null,null,null,null,null,null,null,null,null,null,null,null,null,null,null,null,null,null,null,null,null,null,null,null,null,null,null,null,null,null,null,null,null,null,null,null,null,null,null,null,null,null,null,null,null,null,null,null,null,null,null,null,null,"M000-0145",""]
["작업반장","",6.7000000000000002E-3,"인",180013,1206,0,0,{"$f":"노임단가!$K$18","v":180013},1206,0,0,"",null,null,null,null,null,null,null,null,null,null,null,null,null,null,null,null,null,null,null,null,null,null,null,null,null,null,null,null,null,null,null,null,null,null,null,null,null,null,null,null,null,null,null,null,null,null,null,null,null,null,null,null,null,null,null,null,null,null,null,null,null,null,null,null,null,null,null,null,null,null,null,null,null,null,null,null,null,null,null,null,null,null,null,null,null,null,null,null,null,null,null,null,null,null,null,null,null,null,null,null,null,null,null,"W1001",""]
["특별인부","",1.35E-2,"인",179203,2419.1999999999998,0,0,{"$f":"노임단가!$K$7","v":179203},2419.1999999999998,0,0,"",null,null,null,null,null,null,null,null,null,null,null,null,null,null,null,null,null,null,null,null,null,null,null,null,null,null,null,null,null,null,null,null,null,null,null,null,null,null,null,null,null,null,null,null,null,null,null,null,null,null,null,null,null,null,null,null,null,null,null,null,null,null,null,null,null,null,null,null,null,null,null,null,null,null,null,null,null,null,null,null,null,null,null,null,null,null,null,null,null,null,null,null,null,null,null,null,null,null,null,null,null,null,null,"W1003",""]
["보통인부","",2.7E-2,"인",141096,3809.5,0,0,{"$f":"노임단가!$K$8","v":141096},3809.5,0,0,"",null,null,null,null,null,null,null,null,null,null,null,null,null,null,null,null,null,null,null,null,null,null,null,null,null,null,null,null,null,null,null,null,null,null,null,null,null,null,null,null,null,null,null,null,null,null,null,null,null,null,null,null,null,null,null,null,null,null,null,null,null,null,null,null,null,null,null,null,null,null,null,null,null,null,null,null,null,null,null,null,null,null,null,null,null,null,null,null,null,null,null,null,null,null,null,null,null,null,null,null,null,null,null,"W1002",""]
["건식 그루버","50HP",5.3999999999999999E-2,"HR",105880,5717.4,{"$f":"건설기계!$I$480","v":30046},1622.4,{"$f":"건설기계!$K$480","v":0},0,{"$f":"건설기계!$M$480","v":75834},4095,"",null,null,null,null,null,null,null,null,null,null,null,null,null,null,null,null,null,null,null,null,null,null,null,null,null,null,null,null,null,null,null,null,null,null,null,null,null,null,null,null,null,null,null,null,null,null,null,null,null,null,null,null,null,null,null,null,null,null,null,null,null,null,null,null,null,null,null,null,null,null,null,null,null,null,null,null,null,null,null,null,null,null,null,null,null,null,null,null,null,null,null,null,null,null,null,null,null,null,null,null,null,null,null,"D000-0110",""]
["트럭탑재형크레인","5 ton",1.35E-2,"시간",53671,724.5,{"$f":"건설기계!$I$287","v":7978},107.7,{"$f":"건설기계!$K$287","v":36224},489,{"$f":"건설기계!$M$287","v":9469},127.8,"",null,null,null,null,null,null,null,null,null,null,null,null,null,null,null,null,null,null,null,null,null,null,null,null,null,null,null,null,null,null,null,null,null,null,null,null,null,null,null,null,null,null,null,null,null,null,null,null,null,null,null,null,null,null,null,null,null,null,null,null,null,null,null,null,null,null,null,null,null,null,null,null,null,null,null,null,null,null,null,null,null,null,null,null,null,null,null,null,null,null,null,null,null,null,null,null,null,null,null,null,null,null,null,"D2105-0005",""]
["기타경비","재료비의",5,"%",11830.1,591.5,0,{"$f":"TRUNC(C266/100*G266,1)","v":0},0,{"$f":"TRUNC(C266/100*I266,1)","v":0},{"$f":"SUM($H$260)+SUM($H$264:$H$265)","v":11830.1},{"$f":"TRUNC(C266/100*K266,1)","v":591.5},"",null,null,null,null,null,null,null,null,null,null,null,null,null,null,null,null,null,null,null,null,null,null,null,null,null,null,null,null,null,null,null,null,null,null,null,null,null,null,null,null,null,null,null,null,null,null,null,null,null,null,null,null,null,null,null,null,null,null,null,null,null,null,null,null,null,null,null,null,null,null,null,null,null,null,null,null,null,null,null,null,null,null,null,null,null,null,null,null,null,null,null,null,null,null,null,null,null,null,null,null,null,null,null,"%RAN*ME","1+5..6"]
["건설폐기물처리(폐콘크리트)","",1.41E-3,"Ton",21000,29.6,{"$f":"견적및기타!$K$16","v":0},{"$f":"TRUNC(C267*G267,1)","v":0},{"$f":"견적및기타!$L$16","v":0},{"$f":"TRUNC(C267*I267,1)","v":0},{"$f":"견적및기타!$M$16","v":21000},{"$f":"TRUNC(C267*K267,1)","v":29.6},"",null,null,null,null,null,null,null,null,null,null,null,null,null,null,null,null,null,null,null,null,null,null,null,null,null,null,null,null,null,null,null,null,null,null,null,null,null,null,null,null,null,null,null,null,null,null,null,null,null,null,null,null,null,null,null,null,null,null,null,null,null,null,null,null,null,null,null,null,null,null,null,null,null,null,null,null,null,null,null,null,null,null,null,null,null,null,null,null,null,null,null,null,null,null,null,null,null,null,null,null,null,null,null,"E0030",""]
["             계             ",null,null,null,null,{"$f":"H268+J268+L268","v":24596},null,{"$f":"ROUNDDOWN(SUM(H260:H267),0)","v":11830},null,{"$f":"ROUNDDOWN(SUM(J260:J267),0)","v":7923},null,{"$f":"ROUNDDOWN(SUM(L260:L267),0)","v":4843}]
[]
["제00400호표 ：그루빙 (아스팔트[횡]9*4*51) ㎡ 당",null,null,null,null,null,null,null,null,null,null,null,null,null,null,null,null,null,null,null,null,null,null,null,null,null,null,null,null,null,null,null,null,null,null,null,null,null,null,null,null,null,null,null,null,null,null,null,null,null,null,null,null,null,null,null,null,null,null,null,null,null,null,null,null,null,null,null,null,null,null,null,null,null,null,null,null,null,null,null,null,null,null,null,null,null,null,null,null,null,null,null,null,null,null,null,null,null,null,null,null,null,null,null,null,null,null,null,null,null,null,null,null,null,null,null,":B000-0240"]
["블레이드(건식그루버장착용)","12\"ⅹ4㎜",1.01E-2,"매",{"$f":"G271+I271+K271","v":400000},4040,{"$f":"자재단가!$R$122","v":400000},{"$f":"TRUNC(C271*G271,1)","v":4040},0,{"$f":"TRUNC(C271*I271,1)","v":0},0,{"$f":"TRUNC(C271*K271,1)","v":0},"",null,null,null,null,null,null,null,null,null,null,null,null,null,null,null,null,null,null,null,null,null,null,null,null,null,null,null,null,null,null,null,null,null,null,null,null,null,null,null,null,null,null,null,null,null,null,null,null,null,null,null,null,null,null,null,null,null,null,null,null,null,null,null,null,null,null,null,null,null,null,null,null,null,null,null,null,null,null,null,null,null,null,null,null,null,null,null,null,null,null,null,null,null,null,null,null,null,null,null,null,null,null,null,"M000-0140",""]
["작업반장","",8.9999999999999993E-3,"인",180013,1620.1,0,0,{"$f":"노임단가!$K$18","v":180013},1620.1,0,0,"",null,null,null,null,null,null,null,null,null,null,null,null,null,null,null,null,null,null,null,null,null,null,null,null,null,null,null,null,null,null,null,null,null,null,null,null,null,null,null,null,null,null,null,null,null,null,null,null,null,null,null,null,null,null,null,null,null,null,null,null,null,null,null,null,null,null,null,null,null,null,null,null,null,null,null,null,null,null,null,null,null,null,null,null,null,null,null,null,null,null,null,null,null,null,null,null,null,null,null,null,null,null,null,"W1001",""]
["특별인부","",1.8100000000000002E-2,"인",179203,3243.5,0,0,{"$f":"노임단가!$K$7","v":179203},3243.5,0,0,"",null,null,null,null,null,null,null,null,null,null,null,null,null,null,null,null,null,null,null,null,null,null,null,null,null,null,null,null,null,null,null,null,null,null,null,null,null,null,null,null,null,null,null,null,null,null,null,null,null,null,null,null,null,null,null,null,null,null,null,null,null,null,null,null,null,null,null,null,null,null,null,null,null,null,null,null,null,null,null,null,null,null,null,null,null,null,null,null,null,null,null,null,null,null,null,null,null,null,null,null,null,null,null,"W1003",""]
["보통인부","",3.6299999999999999E-2,"인",141096,5121.7,0,0,{"$f":"노임단가!$K$8","v":141096},5121.7,0,0,"",null,null,null,null,null,null,null,null,null,null,null,null,null,null,null,null,null,null,null,null,null,null,null,null,null,null,null,null,null,null,null,null,null,null,null,null,null,null,null,null,null,null,null,null,null,null,null,null,null,null,null,null,null,null,null,null,null,null,null,null,null,null,null,null,null,null,null,null,null,null,null,null,null,null,null,null,null,null,null,null,null,null,null,null,null,null,null,null,null,null,null,null,null,null,null,null,null,null,null,null,null,null,null,"W1002",""]
["건식 그루버","50HP",7.2700000000000001E-2,"HR",105880,7697.4000000000005,{"$f":"건설기계!$I$480","v":30046},2184.3000000000002,{"$f":"건설기계!$K$480","v":0},0,{"$f":"건설기계!$M$480","v":75834},5513.1,"",null,null,null,null,null,null,null,null,null,null,null,null,null,null,null,null,null,null,null,null,null,null,null,null,null,null,null,null,null,null,null,null,null,null,null,null,null,null,null,null,null,null,null,null,null,null,null,null,null,null,null,null,null,null,null,null,null,null,null,null,null,null,null,null,null,null,null,null,null,null,null,null,null,null,null,null,null,null,null,null,null,null,null,null,null,null,null,null,null,null,null,null,null,null,null,null,null,null,null,null,null,null,null,"D000-0110",""]
["트럭탑재형크레인","5 ton",1.8100000000000002E-2,"시간",53671,971.3,{"$f":"건설기계!$I$287","v":7978},144.4,{"$f":"건설기계!$K$287","v":36224},655.6,{"$f":"건설기계!$M$287","v":9469},171.3,"",null,null,null,null,null,null,null,null,null,null,null,null,null,null,null,null,null,null,null,null,null,null,null,null,null,null,null,null,null,null,null,null,null,null,null,null,null,null,null,null,null,null,null,null,null,null,null,null,null,null,null,null,null,null,null,null,null,null,null,null,null,null,null,null,null,null,null,null,null,null,null,null,null,null,null,null,null,null,null,null,null,null,null,null,null,null,null,null,null,null,null,null,null,null,null,null,null,null,null,null,null,null,null,"D2105-0005",""]
["기타경비","재료비의",5,"%",6368.7000000000007,318.39999999999998,0,{"$f":"TRUNC(C277/100*G277,1)","v":0},0,{"$f":"TRUNC(C277/100*I277,1)","v":0},{"$f":"SUM($H$271)+SUM($H$275:$H$276)","v":6368.7000000000007},{"$f":"TRUNC(C277/100*K277,1)","v":318.39999999999998},"",null,null,null,null,null,null,null,null,null,null,null,null,null,null,null,null,null,null,null,null,null,null,null,null,null,null,null,null,null,null,null,null,null,null,null,null,null,null,null,null,null,null,null,null,null,null,null,null,null,null,null,null,null,null,null,null,null,null,null,null,null,null,null,null,null,null,null,null,null,null,null,null,null,null,null,null,null,null,null,null,null,null,null,null,null,null,null,null,null,null,null,null,null,null,null,null,null,null,null,null,null,null,null,"%RAN*ME","1+5..6"]
["건설폐기물처리(폐아스팔트)","",1.41E-3,"Ton",22000,31,{"$f":"견적및기타!$K$17","v":0},{"$f":"TRUNC(C278*G278,1)","v":0},{"$f":"견적및기타!$L$17","v":0},{"$f":"TRUNC(C278*I278,1)","v":0},{"$f":"견적및기타!$M$17","v":22000},{"$f":"TRUNC(C278*K278,1)","v":31},"",null,null,null,null,null,null,null,null,null,null,null,null,null,null,null,null,null,null,null,null,null,null,null,null,null,null,null,null,null,null,null,null,null,null,null,null,null,null,null,null,null,null,null,null,null,null,null,null,null,null,null,null,null,null,null,null,null,null,null,null,null,null,null,null,null,null,null,null,null,null,null,null,null,null,null,null,null,null,null,null,null,null,null,null,null,null,null,null,null,null,null,null,null,null,null,null,null,null,null,null,null,null,null,"E0031",""]
["             계             ",null,null,null,null,{"$f":"H279+J279+L279","v":23041},null,{"$f":"ROUNDDOWN(SUM(H271:H278),0)","v":6368},null,{"$f":"ROUNDDOWN(SUM(J271:J278),0)","v":10640},null,{"$f":"ROUNDDOWN(SUM(L271:L278),0)","v":6033}]
[]
["제00410호표 ：그루빙 (콘크리트[횡]9*4*51) ㎡ 당",null,null,null,null,null,null,null,null,null,null,null,null,null,null,null,null,null,null,null,null,null,null,null,null,null,null,null,null,null,null,null,null,null,null,null,null,null,null,null,null,null,null,null,null,null,null,null,null,null,null,null,null,null,null,null,null,null,null,null,null,null,null,null,null,null,null,null,null,null,null,null,null,null,null,null,null,null,null,null,null,null,null,null,null,null,null,null,null,null,null,null,null,null,null,null,null,null,null,null,null,null,null,null,null,null,null,null,null,null,null,null,null,null,null,null,":B000-0250"]
["블레이드(건식그루버장착용)","12\"ⅹ6㎜",2.0199999999999999E-2,"매",{"$f":"G282+I282+K282","v":500000},10100,{"$f":"자재단가!$R$123","v":500000},{"$f":"TRUNC(C282*G282,1)","v":10100},0,{"$f":"TRUNC(C282*I282,1)","v":0},0,{"$f":"TRUNC(C282*K282,1)","v":0},"",null,null,null,null,null,null,null,null,null,null,null,null,null,null,null,null,null,null,null,null,null,null,null,null,null,null,null,null,null,null,null,null,null,null,null,null,null,null,null,null,null,null,null,null,null,null,null,null,null,null,null,null,null,null,null,null,null,null,null,null,null,null,null,null,null,null,null,null,null,null,null,null,null,null,null,null,null,null,null,null,null,null,null,null,null,null,null,null,null,null,null,null,null,null,null,null,null,null,null,null,null,null,null,"M000-0145",""]
["작업반장","",1.01E-2,"인",180013,1818.1,0,0,{"$f":"노임단가!$K$18","v":180013},1818.1,0,0,"",null,null,null,null,null,null,null,null,null,null,null,null,null,null,null,null,null,null,null,null,null,null,null,null,null,null,null,null,null,null,null,null,null,null,null,null,null,null,null,null,null,null,null,null,null,null,null,null,null,null,null,null,null,null,null,null,null,null,null,null,null,null,null,null,null,null,null,null,null,null,null,null,null,null,null,null,null,null,null,null,null,null,null,null,null,null,null,null,null,null,null,null,null,null,null,null,null,null,null,null,null,null,null,"W1001",""]
["특별인부","",2.0199999999999999E-2,"인",179203,3619.9,0,0,{"$f":"노임단가!$K$7","v":179203},3619.9,0,0,"",null,null,null,null,null,null,null,null,null,null,null,null,null,null,null,null,null,null,null,null,null,null,null,null,null,null,null,null,null,null,null,null,null,null,null,null,null,null,null,null,null,null,null,null,null,null,null,null,null,null,null,null,null,null,null,null,null,null,null,null,null,null,null,null,null,null,null,null,null,null,null,null,null,null,null,null,null,null,null,null,null,null,null,null,null,null,null,null,null,null,null,null,null,null,null,null,null,null,null,null,null,null,null,"W1003",""]
["보통인부","",4.0399999999999998E-2,"인",141096,5700.2,0,0,{"$f":"노임단가!$K$8","v":141096},5700.2,0,0,"",null,null,null,null,null,null,null,null,null,null,null,null,null,null,null,null,null,null,null,null,null,null,null,null,null,null,null,null,null,null,null,null,null,null,null,null,null,null,null,null,null,null,null,null,null,null,null,null,null,null,null,null,null,null,null,null,null,null,null,null,null,null,null,null,null,null,null,null,null,null,null,null,null,null,null,null,null,null,null,null,null,null,null,null,null,null,null,null,null,null,null,null,null,null,null,null,null,null,null,null,null,null,null,"W1002",""]
["건식 그루버","50HP",8.0799999999999997E-2,"HR",105880,8555,{"$f":"건설기계!$I$480","v":30046},2427.6999999999998,{"$f":"건설기계!$K$480","v":0},0,{"$f":"건설기계!$M$480","v":75834},6127.3,"",null,null,null,null,null,null,null,null,null,null,null,null,null,null,null,null,null,null,null,null,null,null,null,null,null,null,null,null,null,null,null,null,null,null,null,null,null,null,null,null,null,null,null,null,null,null,null,null,null,null,null,null,null,null,null,null,null,null,null,null,null,null,null,null,null,null,null,null,null,null,null,null,null,null,null,null,null,null,null,null,null,null,null,null,null,null,null,null,null,null,null,null,null,null,null,null,null,null,null,null,null,null,null,"D000-0110",""]
["트럭탑재형크레인","5 ton",2.0199999999999999E-2,"시간",53671,1084,{"$f":"건설기계!$I$287","v":7978},161.1,{"$f":"건설기계!$K$287","v":36224},731.7,{"$f":"건설기계!$M$287","v":9469},191.2,"",null,null,null,null,null,null,null,null,null,null,null,null,null,null,null,null,null,null,null,null,null,null,null,null,null,null,null,null,null,null,null,null,null,null,null,null,null,null,null,null,null,null,null,null,null,null,null,null,null,null,null,null,null,null,null,null,null,null,null,null,null,null,null,null,null,null,null,null,null,null,null,null,null,null,null,null,null,null,null,null,null,null,null,null,null,null,null,null,null,null,null,null,null,null,null,null,null,null,null,null,null,null,null,"D2105-0005",""]
["기타경비","재료비의",5,"%",12688.8,634.4,0,{"$f":"TRUNC(C288/100*G288,1)","v":0},0,{"$f":"TRUNC(C288/100*I288,1)","v":0},{"$f":"SUM($H$282)+SUM($H$286:$H$287)","v":12688.8},{"$f":"TRUNC(C288/100*K288,1)","v":634.4},"",null,null,null,null,null,null,null,null,null,null,null,null,null,null,null,null,null,null,null,null,null,null,null,null,null,null,null,null,null,null,null,null,null,null,null,null,null,null,null,null,null,null,null,null,null,null,null,null,null,null,null,null,null,null,null,null,null,null,null,null,null,null,null,null,null,null,null,null,null,null,null,null,null,null,null,null,null,null,null,null,null,null,null,null,null,null,null,null,null,null,null,null,null,null,null,null,null,null,null,null,null,null,null,"%RAN*ME","1+5..6"]
["건설폐기물처리(폐콘크리트)","",1.41E-3,"Ton",21000,29.6,{"$f":"견적및기타!$K$16","v":0},{"$f":"TRUNC(C289*G289,1)","v":0},{"$f":"견적및기타!$L$16","v":0},{"$f":"TRUNC(C289*I289,1)","v":0},{"$f":"견적및기타!$M$16","v":21000},{"$f":"TRUNC(C289*K289,1)","v":29.6},"",null,null,null,null,null,null,null,null,null,null,null,null,null,null,null,null,null,null,null,null,null,null,null,null,null,null,null,null,null,null,null,null,null,null,null,null,null,null,null,null,null,null,null,null,null,null,null,null,null,null,null,null,null,null,null,null,null,null,null,null,null,null,null,null,null,null,null,null,null,null,null,null,null,null,null,null,null,null,null,null,null,null,null,null,null,null,null,null,null,null,null,null,null,null,null,null,null,null,null,null,null,null,null,"E0030",""]
["             계             ",null,null,null,null,{"$f":"H290+J290+L290","v":31539},null,{"$f":"ROUNDDOWN(SUM(H282:H289),0)","v":12688},null,{"$f":"ROUNDDOWN(SUM(J282:J289),0)","v":11869},null,{"$f":"ROUNDDOWN(SUM(L282:L289),0)","v":6982}]
[]
["제00420호표 ：기계비빔타설[fck=210kgf/cm2] (무근구조물) ㎥ 당",null,null,null,null,null,null,null,null,null,null,null,null,null,null,null,null,null,null,null,null,null,null,null,null,null,null,null,null,null,null,null,null,null,null,null,null,null,null,null,null,null,null,null,null,null,null,null,null,null,null,null,null,null,null,null,null,null,null,null,null,null,null,null,null,null,null,null,null,null,null,null,null,null,null,null,null,null,null,null,null,null,null,null,null,null,null,null,null,null,null,null,null,null,null,null,null,null,null,null,null,null,null,null,null,null,null,null,null,null,null,null,null,null,null,null,":BFB2120"]
["보통시멘트","40KG/대(포장품)",309,"KG",{"$f":"G293+I293+K293","v":125.075},38648.1,{"$f":"자재단가!$R$34","v":99.075000000000003},{"$f":"TRUNC(C293*G293,1)","v":30614.1},0,{"$f":"TRUNC(C293*I293,1)","v":0},26,{"$f":"TRUNC(C293*K293,1)","v":8034},"",null,null,null,null,null,null,null,null,null,null,null,null,null,null,null,null,null,null,null,null,null,null,null,null,null,null,null,null,null,null,null,null,null,null,null,null,null,null,null,null,null,null,null,null,null,null,null,null,null,null,null,null,null,null,null,null,null,null,null,null,null,null,null,null,null,null,null,null,null,null,null,null,null,null,null,null,null,null,null,null,null,null,null,null,null,null,null,null,null,null,null,null,null,null,null,null,null,null,null,null,null,null,null,"M0747003",""]
["강모래","자연사(시내도착도)",0.5,"㎥",30000,15000,{"$f":"자재단가!$R$36","v":30000},15000,0,0,0,0,"",null,null,null,null,null,null,null,null,null,null,null,null,null,null,null,null,null,null,null,null,null,null,null,null,null,null,null,null,null,null,null,null,null,null,null,null,null,null,null,null,null,null,null,null,null,null,null,null,null,null,null,null,null,null,null,null,null,null,null,null,null,null,null,null,null,null,null,null,null,null,null,null,null,null,null,null,null,null,null,null,null,null,null,null,null,null,null,null,null,null,null,null,null,null,null,null,null,null,null,null,null,null,null,"M0717051",""]
["자연자갈(서울)","#57(시내도착도)",0.68,"㎥",30000,20400,{"$f":"자재단가!$R$38","v":30000},20400,0,0,0,0,"",null,null,null,null,null,null,null,null,null,null,null,null,null,null,null,null,null,null,null,null,null,null,null,null,null,null,null,null,null,null,null,null,null,null,null,null,null,null,null,null,null,null,null,null,null,null,null,null,null,null,null,null,null,null,null,null,null,null,null,null,null,null,null,null,null,null,null,null,null,null,null,null,null,null,null,null,null,null,null,null,null,null,null,null,null,null,null,null,null,null,null,null,null,null,null,null,null,null,null,null,null,null,null,"M0720053",""]
["콘크리트공","",0.15,"인",215145,32271.7,0,0,{"$f":"노임단가!$K$11","v":215145},32271.7,0,0,"",null,null,null,null,null,null,null,null,null,null,null,null,null,null,null,null,null,null,null,null,null,null,null,null,null,null,null,null,null,null,null,null,null,null,null,null,null,null,null,null,null,null,null,null,null,null,null,null,null,null,null,null,null,null,null,null,null,null,null,null,null,null,null,null,null,null,null,null,null,null,null,null,null,null,null,null,null,null,null,null,null,null,null,null,null,null,null,null,null,null,null,null,null,null,null,null,null,null,null,null,null,null,null,"W1013",""]
["보통인부","",0.46,"인",141096,64904.1,0,0,{"$f":"노임단가!$K$8","v":141096},64904.1,0,0,"",null,null,null,null,null,null,null,null,null,null,null,null,null,null,null,null,null,null,null,null,null,null,null,null,null,null,null,null,null,null,null,null,null,null,null,null,null,null,null,null,null,null,null,null,null,null,null,null,null,null,null,null,null,null,null,null,null,null,null,null,null,null,null,null,null,null,null,null,null,null,null,null,null,null,null,null,null,null,null,null,null,null,null,null,null,null,null,null,null,null,null,null,null,null,null,null,null,null,null,null,null,null,null,"W1002",""]
["콘크리트 믹서","0.45 ㎥",0.185,"시간",36040,6667.3,{"$f":"건설기계!$I$371","v":5964},1103.3,{"$f":"건설기계!$K$371","v":28571},5285.6,{"$f":"건설기계!$M$371","v":1505},278.39999999999998,"",null,null,null,null,null,null,null,null,null,null,null,null,null,null,null,null,null,null,null,null,null,null,null,null,null,null,null,null,null,null,null,null,null,null,null,null,null,null,null,null,null,null,null,null,null,null,null,null,null,null,null,null,null,null,null,null,null,null,null,null,null,null,null,null,null,null,null,null,null,null,null,null,null,null,null,null,null,null,null,null,null,null,null,null,null,null,null,null,null,null,null,null,null,null,null,null,null,null,null,null,null,null,null,"D4205-0045",""]
["콘크리트 진동기(엔진식)","2.6 kW",0.185,"시간",1769,327.2,{"$f":"건설기계!$I$384","v":1649},305,{"$f":"건설기계!$K$384","v":0},0,{"$f":"건설기계!$M$384","v":120},22.2,"",null,null,null,null,null,null,null,null,null,null,null,null,null,null,null,null,null,null,null,null,null,null,null,null,null,null,null,null,null,null,null,null,null,null,null,null,null,null,null,null,null,null,null,null,null,null,null,null,null,null,null,null,null,null,null,null,null,null,null,null,null,null,null,null,null,null,null,null,null,null,null,null,null,null,null,null,null,null,null,null,null,null,null,null,null,null,null,null,null,null,null,null,null,null,null,null,null,null,null,null,null,null,null,"D4611-0350",""]
["             계             ",null,null,null,null,{"$f":"H300+J300+L300","v":178217},null,{"$f":"ROUNDDOWN(SUM(H293:H299),0)","v":67422},null,{"$f":"ROUNDDOWN(SUM(J293:J299),0)","v":102461},null,{"$f":"ROUNDDOWN(SUM(L293:L299),0)","v":8334}]
[]
["제00430호표 ：기계비빔타설[fck=210kgf/cm2] (철근구조물) ㎥ 당",null,null,null,null,null,null,null,null,null,null,null,null,null,null,null,null,null,null,null,null,null,null,null,null,null,null,null,null,null,null,null,null,null,null,null,null,null,null,null,null,null,null,null,null,null,null,null,null,null,null,null,null,null,null,null,null,null,null,null,null,null,null,null,null,null,null,null,null,null,null,null,null,null,null,null,null,null,null,null,null,null,null,null,null,null,null,null,null,null,null,null,null,null,null,null,null,null,null,null,null,null,null,null,null,null,null,null,null,null,null,null,null,null,null,null,":BFB2220"]
["보통시멘트","40KG/대(포장품)",309,"KG",{"$f":"G303+I303+K303","v":125.075},38648.1,{"$f":"자재단가!$R$34","v":99.075000000000003},{"$f":"TRUNC(C303*G303,1)","v":30614.1},0,{"$f":"TRUNC(C303*I303,1)","v":0},26,{"$f":"TRUNC(C303*K303,1)","v":8034},"",null,null,null,null,null,null,null,null,null,null,null,null,null,null,null,null,null,null,null,null,null,null,null,null,null,null,null,null,null,null,null,null,null,null,null,null,null,null,null,null,null,null,null,null,null,null,null,null,null,null,null,null,null,null,null,null,null,null,null,null,null,null,null,null,null,null,null,null,null,null,null,null,null,null,null,null,null,null,null,null,null,null,null,null,null,null,null,null,null,null,null,null,null,null,null,null,null,null,null,null,null,null,null,"M0747003",""]
["강모래","자연사(시내도착도)",0.5,"㎥",30000,15000,{"$f":"자재단가!$R$36","v":30000},15000,0,0,0,0,"",null,null,null,null,null,null,null,null,null,null,null,null,null,null,null,null,null,null,null,null,null,null,null,null,null,null,null,null,null,null,null,null,null,null,null,null,null,null,null,null,null,null,null,null,null,null,null,null,null,null,null,null,null,null,null,null,null,null,null,null,null,null,null,null,null,null,null,null,null,null,null,null,null,null,null,null,null,null,null,null,null,null,null,null,null,null,null,null,null,null,null,null,null,null,null,null,null,null,null,null,null,null,null,"M0717051",""]
["자연자갈(서울)","#57(시내도착도)",0.68,"㎥",30000,20400,{"$f":"자재단가!$R$38","v":30000},20400,0,0,0,0,"",null,null,null,null,null,null,null,null,null,null,null,null,null,null,null,null,null,null,null,null,null,null,null,null,null,null,null,null,null,null,null,null,null,null,null,null,null,null,null,null,null,null,null,null,null,null,null,null,null,null,null,null,null,null,null,null,null,null,null,null,null,null,null,null,null,null,null,null,null,null,null,null,null,null,null,null,null,null,null,null,null,null,null,null,null,null,null,null,null,null,null,null,null,null,null,null,null,null,null,null,null,null,null,"M0720053",""]
["콘크리트공","",0.17,"인",215145,36574.6,0,0,{"$f":"노임단가!$K$11","v":215145},36574.6,0,0,"",null,null,null,null,null,null,null,null,null,null,null,null,null,null,null,null,null,null,null,null,null,null,null,null,null,null,null,null,null,null,null,null,null,null,null,null,null,null,null,null,null,null,null,null,null,null,null,null,null,null,null,null,null,null,null,null,null,null,null,null,null,null,null,null,null,null,null,null,null,null,null,null,null,null,null,null,null,null,null,null,null,null,null,null,null,null,null,null,null,null,null,null,null,null,null,null,null,null,null,null,null,null,null,"W1013",""]
["보통인부","",0.68,"인",141096,95945.2,0,0,{"$f":"노임단가!$K$8","v":141096},95945.2,0,0,"",null,null,null,null,null,null,null,null,null,null,null,null,null,null,null,null,null,null,null,null,null,null,null,null,null,null,null,null,null,null,null,null,null,null,null,null,null,null,null,null,null,null,null,null,null,null,null,null,null,null,null,null,null,null,null,null,null,null,null,null,null,null,null,null,null,null,null,null,null,null,null,null,null,null,null,null,null,null,null,null,null,null,null,null,null,null,null,null,null,null,null,null,null,null,null,null,null,null,null,null,null,null,null,"W1002",""]
["콘크리트 믹서","0.45 ㎥",0.185,"시간",36040,6667.3,{"$f":"건설기계!$I$371","v":5964},1103.3,{"$f":"건설기계!$K$371","v":28571},5285.6,{"$f":"건설기계!$M$371","v":1505},278.39999999999998,"",null,null,null,null,null,null,null,null,null,null,null,null,null,null,null,null,null,null,null,null,null,null,null,null,null,null,null,null,null,null,null,null,null,null,null,null,null,null,null,null,null,null,null,null,null,null,null,null,null,null,null,null,null,null,null,null,null,null,null,null,null,null,null,null,null,null,null,null,null,null,null,null,null,null,null,null,null,null,null,null,null,null,null,null,null,null,null,null,null,null,null,null,null,null,null,null,null,null,null,null,null,null,null,"D4205-0045",""]
["콘크리트 진동기(엔진식)","2.6 kW",0.185,"시간",1769,327.2,{"$f":"건설기계!$I$384","v":1649},305,{"$f":"건설기계!$K$384","v":0},0,{"$f":"건설기계!$M$384","v":120},22.2,"",null,null,null,null,null,null,null,null,null,null,null,null,null,null,null,null,null,null,null,null,null,null,null,null,null,null,null,null,null,null,null,null,null,null,null,null,null,null,null,null,null,null,null,null,null,null,null,null,null,null,null,null,null,null,null,null,null,null,null,null,null,null,null,null,null,null,null,null,null,null,null,null,null,null,null,null,null,null,null,null,null,null,null,null,null,null,null,null,null,null,null,null,null,null,null,null,null,null,null,null,null,null,null,"D4611-0350",""]
["             계             ",null,null,null,null,{"$f":"H310+J310+L310","v":213561},null,{"$f":"ROUNDDOWN(SUM(H303:H309),0)","v":67422},null,{"$f":"ROUNDDOWN(SUM(J303:J309),0)","v":137805},null,{"$f":"ROUNDDOWN(SUM(L303:L309),0)","v":8334}]
[]
["제00440호표 ：기계비빔타설[fck=210kgf/cm2] (소형구조물 10㎥미만) ㎥ 당",null,null,null,null,null,null,null,null,null,null,null,null,null,null,null,null,null,null,null,null,null,null,null,null,null,null,null,null,null,null,null,null,null,null,null,null,null,null,null,null,null,null,null,null,null,null,null,null,null,null,null,null,null,null,null,null,null,null,null,null,null,null,null,null,null,null,null,null,null,null,null,null,null,null,null,null,null,null,null,null,null,null,null,null,null,null,null,null,null,null,null,null,null,null,null,null,null,null,null,null,null,null,null,null,null,null,null,null,null,null,null,null,null,null,null,":BFB2320"]
["보통시멘트","40KG/대(포장품)",309,"KG",{"$f":"G313+I313+K313","v":125.075},38648.1,{"$f":"자재단가!$R$34","v":99.075000000000003},{"$f":"TRUNC(C313*G313,1)","v":30614.1},0,{"$f":"TRUNC(C313*I313,1)","v":0},26,{"$f":"TRUNC(C313*K313,1)","v":8034},"",null,null,null,null,null,null,null,null,null,null,null,null,null,null,null,null,null,null,null,null,null,null,null,null,null,null,null,null,null,null,null,null,null,null,null,null,null,null,null,null,null,null,null,null,null,null,null,null,null,null,null,null,null,null,null,null,null,null,null,null,null,null,null,null,null,null,null,null,null,null,null,null,null,null,null,null,null,null,null,null,null,null,null,null,null,null,null,null,null,null,null,null,null,null,null,null,null,null,null,null,null,null,null,"M0747003",""]
["강모래","자연사(시내도착도)",0.5,"㎥",30000,15000,{"$f":"자재단가!$R$36","v":30000},15000,0,0,0,0,"",null,null,null,null,null,null,null,null,null,null,null,null,null,null,null,null,null,null,null,null,null,null,null,null,null,null,null,null,null,null,null,null,null,null,null,null,null,null,null,null,null,null,null,null,null,null,null,null,null,null,null,null,null,null,null,null,null,null,null,null,null,null,null,null,null,null,null,null,null,null,null,null,null,null,null,null,null,null,null,null,null,null,null,null,null,null,null,null,null,null,null,null,null,null,null,null,null,null,null,null,null,null,null,"M0717051",""]
["자연자갈(서울)","#57(시내도착도)",0.68,"㎥",30000,20400,{"$f":"자재단가!$R$38","v":30000},20400,0,0,0,0,"",null,null,null,null,null,null,null,null,null,null,null,null,null,null,null,null,null,null,null,null,null,null,null,null,null,null,null,null,null,null,null,null,null,null,null,null,null,null,null,null,null,null,null,null,null,null,null,null,null,null,null,null,null,null,null,null,null,null,null,null,null,null,null,null,null,null,null,null,null,null,null,null,null,null,null,null,null,null,null,null,null,null,null,null,null,null,null,null,null,null,null,null,null,null,null,null,null,null,null,null,null,null,null,"M0720053",""]
["콘크리트공","",0.24,"인",215145,51634.8,0,0,{"$f":"노임단가!$K$11","v":215145},51634.8,0,0,"",null,null,null,null,null,null,null,null,null,null,null,null,null,null,null,null,null,null,null,null,null,null,null,null,null,null,null,null,null,null,null,null,null,null,null,null,null,null,null,null,null,null,null,null,null,null,null,null,null,null,null,null,null,null,null,null,null,null,null,null,null,null,null,null,null,null,null,null,null,null,null,null,null,null,null,null,null,null,null,null,null,null,null,null,null,null,null,null,null,null,null,null,null,null,null,null,null,null,null,null,null,null,null,"W1013",""]
["보통인부","",0.94,"인",141096,132630.20000000001,0,0,{"$f":"노임단가!$K$8","v":141096},132630.20000000001,0,0,"",null,null,null,null,null,null,null,null,null,null,null,null,null,null,null,null,null,null,null,null,null,null,null,null,null,null,null,null,null,null,null,null,null,null,null,null,null,null,null,null,null,null,null,null,null,null,null,null,null,null,null,null,null,null,null,null,null,null,null,null,null,null,null,null,null,null,null,null,null,null,null,null,null,null,null,null,null,null,null,null,null,null,null,null,null,null,null,null,null,null,null,null,null,null,null,null,null,null,null,null,null,null,null,"W1002",""]
["콘크리트 믹서","0.45 ㎥",0.185,"시간",36040,6667.3,{"$f":"건설기계!$I$371","v":5964},1103.3,{"$f":"건설기계!$K$371","v":28571},5285.6,{"$f":"건설기계!$M$371","v":1505},278.39999999999998,"",null,null,null,null,null,null,null,null,null,null,null,null,null,null,null,null,null,null,null,null,null,null,null,null,null,null,null,null,null,null,null,null,null,null,null,null,null,null,null,null,null,null,null,null,null,null,null,null,null,null,null,null,null,null,null,null,null,null,null,null,null,null,null,null,null,null,null,null,null,null,null,null,null,null,null,null,null,null,null,null,null,null,null,null,null,null,null,null,null,null,null,null,null,null,null,null,null,null,null,null,null,null,null,"D4205-0045",""]
["콘크리트 진동기(엔진식)","2.6 kW",0.185,"시간",1769,327.2,{"$f":"건설기계!$I$384","v":1649},305,{"$f":"건설기계!$K$384","v":0},0,{"$f":"건설기계!$M$384","v":120},22.2,"",null,null,null,null,null,null,null,null,null,null,null,null,null,null,null,null,null,null,null,null,null,null,null,null,null,null,null,null,null,null,null,null,null,null,null,null,null,null,null,null,null,null,null,null,null,null,null,null,null,null,null,null,null,null,null,null,null,null,null,null,null,null,null,null,null,null,null,null,null,null,null,null,null,null,null,null,null,null,null,null,null,null,null,null,null,null,null,null,null,null,null,null,null,null,null,null,null,null,null,null,null,null,null,"D4611-0350",""]
["             계             ",null,null,null,null,{"$f":"H320+J320+L320","v":265306},null,{"$f":"ROUNDDOWN(SUM(H313:H319),0)","v":67422},null,{"$f":"ROUNDDOWN(SUM(J313:J319),0)","v":189550},null,{"$f":"ROUNDDOWN(SUM(L313:L319),0)","v":8334}]
[]
["제00450호표 ：기초지정및다짐 (모래, 기계) ㎥ 당",null,null,null,null,null,null,null,null,null,null,null,null,null,null,null,null,null,null,null,null,null,null,null,null,null,null,null,null,null,null,null,null,null,null,null,null,null,null,null,null,null,null,null,null,null,null,null,null,null,null,null,null,null,null,null,null,null,null,null,null,null,null,null,null,null,null,null,null,null,null,null,null,null,null,null,null,null,null,null,null,null,null,null,null,null,null,null,null,null,null,null,null,null,null,null,null,null,null,null,null,null,null,null,null,null,null,null,null,null,null,null,null,null,null,null,":BHI2231"]
["강모래","자연사(시내도착도)",1.2,"㎥",{"$f":"G323+I323+K323","v":30000},36000,{"$f":"자재단가!$R$36","v":30000},{"$f":"TRUNC(C323*G323,1)","v":36000},0,{"$f":"TRUNC(C323*I323,1)","v":0},0,{"$f":"TRUNC(C323*K323,1)","v":0},"",null,null,null,null,null,null,null,null,null,null,null,null,null,null,null,null,null,null,null,null,null,null,null,null,null,null,null,null,null,null,null,null,null,null,null,null,null,null,null,null,null,null,null,null,null,null,null,null,null,null,null,null,null,null,null,null,null,null,null,null,null,null,null,null,null,null,null,null,null,null,null,null,null,null,null,null,null,null,null,null,null,null,null,null,null,null,null,null,null,null,null,null,null,null,null,null,null,null,null,null,null,null,null,"M0717051",""]
["보통인부","",1.4999999999999999E-2,"인",141096,2116.4,0,{"$f":"TRUNC(C324*G324,1)","v":0},{"$f":"노임단가!$K$8","v":141096},{"$f":"TRUNC(C324*I324,1)","v":2116.4},0,{"$f":"TRUNC(C324*K324,1)","v":0},"",null,null,null,null,null,null,null,null,null,null,null,null,null,null,null,null,null,null,null,null,null,null,null,null,null,null,null,null,null,null,null,null,null,null,null,null,null,null,null,null,null,null,null,null,null,null,null,null,null,null,null,null,null,null,null,null,null,null,null,null,null,null,null,null,null,null,null,null,null,null,null,null,null,null,null,null,null,null,null,null,null,null,null,null,null,null,null,null,null,null,null,null,null,null,null,null,null,null,null,null,null,null,null,"W1002",""]
["굴삭기(무한궤도)"," 0.2 ㎥",5.6000000000000001E-2,"시간",{"$f":"G325+I325+K325","v":64696},{"$f":"H325+J325+L325","v":3622.7999999999997},{"$f":"건설기계!I56","v":7887},{"$f":"TRUNC(C325*G325,1)","v":441.6},{"$f":"건설기계!K56","v":44299},{"$f":"TRUNC(C325*I325,1)","v":2480.6999999999998},{"$f":"건설기계!M56","v":12510},{"$f":"TRUNC(C325*K325,1)","v":700.5},"",null,null,null,null,null,null,null,null,null,null,null,null,null,null,null,null,null,null,null,null,null,null,null,null,null,null,null,null,null,null,null,null,null,null,null,null,null,null,null,null,null,null,null,null,null,null,null,null,null,null,null,null,null,null,null,null,null,null,null,null,null,null,null,null,null,null,null,null,null,null,null,null,null,null,null,null,null,null,null,null,null,null,null,null,null,null,null,null,null,null,null,null,null,null,null,null,null,null,null,null,null,null,null,"W1002",""]
["플레이트콤팩트","1.5 ton",6.2E-2,"시간",{"$f":"G326+I326+K326","v":30909},{"$f":"H326+J326+L326","v":1916.3000000000002},{"$f":"건설기계!I273","v":1799},{"$f":"TRUNC(C326*G326,1)","v":111.5},{"$f":"건설기계!K273","v":28571},{"$f":"TRUNC(C326*I326,1)","v":1771.4},{"$f":"건설기계!M273","v":539},{"$f":"TRUNC(C326*K326,1)","v":33.4},"",null,null,null,null,null,null,null,null,null,null,null,null,null,null,null,null,null,null,null,null,null,null,null,null,null,null,null,null,null,null,null,null,null,null,null,null,null,null,null,null,null,null,null,null,null,null,null,null,null,null,null,null,null,null,null,null,null,null,null,null,null,null,null,null,null,null,null,null,null,null,null,null,null,null,null,null,null,null,null,null,null,null,null,null,null,null,null,null,null,null,null,null,null,null,null,null,null,null,null,null,null,null,null,"W1002",""]
["공구손료","노무비 %",2,"%",2116.4,42.3,0,{"$f":"TRUNC(C327/100*G327,1)","v":0},0,{"$f":"TRUNC(C327/100*I327,1)","v":0},{"$f":"SUM($J$323:$J$324)","v":2116.4},{"$f":"TRUNC(C327/100*K327,1)","v":42.3},"",null,null,null,null,null,null,null,null,null,null,null,null,null,null,null,null,null,null,null,null,null,null,null,null,null,null,null,null,null,null,null,null,null,null,null,null,null,null,null,null,null,null,null,null,null,null,null,null,null,null,null,null,null,null,null,null,null,null,null,null,null,null,null,null,null,null,null,null,null,null,null,null,null,null,null,null,null,null,null,null,null,null,null,null,null,null,null,null,null,null,null,null,null,null,null,null,null,null,null,null,null,null,null,"%RAN*LE",""]
["             계             ",null,null,null,null,{"$f":"H328+J328+L328","v":43697},null,{"$f":"ROUNDDOWN(SUM(H323:H327),0)","v":36553},null,{"$f":"ROUNDDOWN(SUM(J323:J327),0)","v":6368},null,{"$f":"ROUNDDOWN(SUM(L323:L327),0)","v":776}]
[]
["제00460호표 ：기초지정및다짐 (자갈, 기계) ㎥ 당",null,null,null,null,null,null,null,null,null,null,null,null,null,null,null,null,null,null,null,null,null,null,null,null,null,null,null,null,null,null,null,null,null,null,null,null,null,null,null,null,null,null,null,null,null,null,null,null,null,null,null,null,null,null,null,null,null,null,null,null,null,null,null,null,null,null,null,null,null,null,null,null,null,null,null,null,null,null,null,null,null,null,null,null,null,null,null,null,null,null,null,null,null,null,null,null,null,null,null,null,null,null,null,null,null,null,null,null,null,null,null,null,null,null,null,":BHI2233"]
["자연자갈(서울)","#467(시내도착도)",1.1000000000000001,"㎥",{"$f":"G331+I331+K331","v":30000},33000,{"$f":"자재단가!$R$37","v":30000},{"$f":"TRUNC(C331*G331,1)","v":33000},0,{"$f":"TRUNC(C331*I331,1)","v":0},0,{"$f":"TRUNC(C331*K331,1)","v":0},"",null,null,null,null,null,null,null,null,null,null,null,null,null,null,null,null,null,null,null,null,null,null,null,null,null,null,null,null,null,null,null,null,null,null,null,null,null,null,null,null,null,null,null,null,null,null,null,null,null,null,null,null,null,null,null,null,null,null,null,null,null,null,null,null,null,null,null,null,null,null,null,null,null,null,null,null,null,null,null,null,null,null,null,null,null,null,null,null,null,null,null,null,null,null,null,null,null,null,null,null,null,null,null,"M0720051",""]
["보통인부","",1.6E-2,"인",141096,2257.5,0,{"$f":"TRUNC(C332*G332,1)","v":0},{"$f":"노임단가!$K$8","v":141096},{"$f":"TRUNC(C332*I332,1)","v":2257.5},0,{"$f":"TRUNC(C332*K332,1)","v":0},"",null,null,null,null,null,null,null,null,null,null,null,null,null,null,null,null,null,null,null,null,null,null,null,null,null,null,null,null,null,null,null,null,null,null,null,null,null,null,null,null,null,null,null,null,null,null,null,null,null,null,null,null,null,null,null,null,null,null,null,null,null,null,null,null,null,null,null,null,null,null,null,null,null,null,null,null,null,null,null,null,null,null,null,null,null,null,null,null,null,null,null,null,null,null,null,null,null,null,null,null,null,null,null,"W1002",""]
["굴삭기(무한궤도)"," 0.2 ㎥",6.3E-2,"인",{"$f":"G333+I333+K333","v":64696},{"$f":"H333+J333+L333","v":4075.7000000000003},{"$f":"건설기계!I56","v":7887},{"$f":"TRUNC(C333*G333,1)","v":496.8},{"$f":"건설기계!K56","v":44299},{"$f":"TRUNC(C333*I333,1)","v":2790.8},{"$f":"건설기계!M56","v":12510},{"$f":"TRUNC(C333*K333,1)","v":788.1},"",null,null,null,null,null,null,null,null,null,null,null,null,null,null,null,null,null,null,null,null,null,null,null,null,null,null,null,null,null,null,null,null,null,null,null,null,null,null,null,null,null,null,null,null,null,null,null,null,null,null,null,null,null,null,null,null,null,null,null,null,null,null,null,null,null,null,null,null,null,null,null,null,null,null,null,null,null,null,null,null,null,null,null,null,null,null,null,null,null,null,null,null,null,null,null,null,null,null,null,null,null,null,null,"W1002",""]
["진동롤러(핸드가이드식)","0.7 ton",7.3999999999999996E-2,"인",{"$f":"G334+I334+K334","v":49251},{"$f":"H334+J334+L334","v":3644.3999999999996},{"$f":"건설기계!I224","v":3240},{"$f":"TRUNC(C334*G334,1)","v":239.7},{"$f":"건설기계!K224","v":44299},{"$f":"TRUNC(C334*I334,1)","v":3278.1},{"$f":"건설기계!M224","v":1712},{"$f":"TRUNC(C334*K334,1)","v":126.6},"",null,null,null,null,null,null,null,null,null,null,null,null,null,null,null,null,null,null,null,null,null,null,null,null,null,null,null,null,null,null,null,null,null,null,null,null,null,null,null,null,null,null,null,null,null,null,null,null,null,null,null,null,null,null,null,null,null,null,null,null,null,null,null,null,null,null,null,null,null,null,null,null,null,null,null,null,null,null,null,null,null,null,null,null,null,null,null,null,null,null,null,null,null,null,null,null,null,null,null,null,null,null,null,"W1002",""]
["공구손료","노무비 %",2,"%",2257.5,45.1,0,{"$f":"TRUNC(C335/100*G335,1)","v":0},0,{"$f":"TRUNC(C335/100*I335,1)","v":0},{"$f":"SUM($J$331:$J$332)","v":2257.5},{"$f":"TRUNC(C335/100*K335,1)","v":45.1},"",null,null,null,null,null,null,null,null,null,null,null,null,null,null,null,null,null,null,null,null,null,null,null,null,null,null,null,null,null,null,null,null,null,null,null,null,null,null,null,null,null,null,null,null,null,null,null,null,null,null,null,null,null,null,null,null,null,null,null,null,null,null,null,null,null,null,null,null,null,null,null,null,null,null,null,null,null,null,null,null,null,null,null,null,null,null,null,null,null,null,null,null,null,null,null,null,null,null,null,null,null,null,null,"%RAN*LE",""]
["             계             ",null,null,null,null,{"$f":"H336+J336+L336","v":43021},null,{"$f":"ROUNDDOWN(SUM(H331:H335),0)","v":33736},null,{"$f":"ROUNDDOWN(SUM(J331:J335),0)","v":8326},null,{"$f":"ROUNDDOWN(SUM(L331:L335),0)","v":959}]
[]
["제00470호표 ：기층공[보조] (인력,시간당 18.75㎥) HR 당",null,null,null,null,null,null,null,null,null,null,null,null,null,null,null,null,null,null,null,null,null,null,null,null,null,null,null,null,null,null,null,null,null,null,null,null,null,null,null,null,null,null,null,null,null,null,null,null,null,null,null,null,null,null,null,null,null,null,null,null,null,null,null,null,null,null,null,null,null,null,null,null,null,null,null,null,null,null,null,null,null,null,null,null,null,null,null,null,null,null,null,null,null,null,null,null,null,null,null,null,null,null,null,null,null,null,null,null,null,null,null,null,null,null,null,":BB00-0280"]
["굴삭기(무한궤도)"," 0.6 ㎥",1,"시간",{"$f":"G339+I339+K339","v":81240},81240,{"$f":"건설기계!$I$70","v":16223},{"$f":"TRUNC(C339*G339,1)","v":16223},{"$f":"건설기계!$K$70","v":44299},{"$f":"TRUNC(C339*I339,1)","v":44299},{"$f":"건설기계!$M$70","v":20718},{"$f":"TRUNC(C339*K339,1)","v":20718},"",null,null,null,null,null,null,null,null,null,null,null,null,null,null,null,null,null,null,null,null,null,null,null,null,null,null,null,null,null,null,null,null,null,null,null,null,null,null,null,null,null,null,null,null,null,null,null,null,null,null,null,null,null,null,null,null,null,null,null,null,null,null,null,null,null,null,null,null,null,null,null,null,null,null,null,null,null,null,null,null,null,null,null,null,null,null,null,null,null,null,null,null,null,null,null,null,null,null,null,null,null,null,null,"D0201-0060",""]
["진동롤러(핸드가이드식)","0.7 ton",1,"시간",49251,49251,{"$f":"건설기계!$I$224","v":3240},{"$f":"TRUNC(C340*G340,1)","v":3240},{"$f":"건설기계!$K$224","v":44299},{"$f":"TRUNC(C340*I340,1)","v":44299},{"$f":"건설기계!$M$224","v":1712},{"$f":"TRUNC(C340*K340,1)","v":1712},"",null,null,null,null,null,null,null,null,null,null,null,null,null,null,null,null,null,null,null,null,null,null,null,null,null,null,null,null,null,null,null,null,null,null,null,null,null,null,null,null,null,null,null,null,null,null,null,null,null,null,null,null,null,null,null,null,null,null,null,null,null,null,null,null,null,null,null,null,null,null,null,null,null,null,null,null,null,null,null,null,null,null,null,null,null,null,null,null,null,null,null,null,null,null,null,null,null,null,null,null,null,null,null,"D1305-0007",""]
["물탱크(살수차)"," 5500 ℓ",0.5,"시간",60893,30446.5,{"$f":"건설기계!$I$434","v":15761},{"$f":"TRUNC(C341*G341,1)","v":7880.5},{"$f":"건설기계!$K$434","v":36224},{"$f":"TRUNC(C341*I341,1)","v":18112},{"$f":"건설기계!$M$434","v":8908},{"$f":"TRUNC(C341*K341,1)","v":4454},"",null,null,null,null,null,null,null,null,null,null,null,null,null,null,null,null,null,null,null,null,null,null,null,null,null,null,null,null,null,null,null,null,null,null,null,null,null,null,null,null,null,null,null,null,null,null,null,null,null,null,null,null,null,null,null,null,null,null,null,null,null,null,null,null,null,null,null,null,null,null,null,null,null,null,null,null,null,null,null,null,null,null,null,null,null,null,null,null,null,null,null,null,null,null,null,null,null,null,null,null,null,null,null,"D7204-0055",""]
["포설공","",0.25,"인",{"$f":"G342+I342+K342","v":172935},{"$f":"H342+J342+L342","v":43233.7},0,{"$f":"TRUNC(C342*G342,1)","v":0},{"$f":"노임단가!$K$20","v":172935},{"$f":"TRUNC(C342*I342,1)","v":43233.7},0,{"$f":"TRUNC(C342*K342,1)","v":0},"",null,null,null,null,null,null,null,null,null,null,null,null,null,null,null,null,null,null,null,null,null,null,null,null,null,null,null,null,null,null,null,null,null,null,null,null,null,null,null,null,null,null,null,null,null,null,null,null,null,null,null,null,null,null,null,null,null,null,null,null,null,null,null,null,null,null,null,null,null,null,null,null,null,null,null,null,null,null,null,null,null,null,null,null,null,null,null,null,null,null,null,null,null,null,null,null,null,null,null,null,null,null,null,"W1002",""]
["보통인부","",0.25,"인",141096,35274,0,{"$f":"TRUNC(C343*G343,1)","v":0},{"$f":"노임단가!$K$8","v":141096},{"$f":"TRUNC(C343*I343,1)","v":35274},0,{"$f":"TRUNC(C343*K343,1)","v":0},"",null,null,null,null,null,null,null,null,null,null,null,null,null,null,null,null,null,null,null,null,null,null,null,null,null,null,null,null,null,null,null,null,null,null,null,null,null,null,null,null,null,null,null,null,null,null,null,null,null,null,null,null,null,null,null,null,null,null,null,null,null,null,null,null,null,null,null,null,null,null,null,null,null,null,null,null,null,null,null,null,null,null,null,null,null,null,null,null,null,null,null,null,null,null,null,null,null,null,null,null,null,null,null,"W1002",""]
["             계             ",null,null,null,null,{"$f":"H344+J344+L344","v":239444},null,{"$f":"ROUNDDOWN(SUM(H339:H343),0)","v":27343},null,{"$f":"ROUNDDOWN(SUM(J339:J343),0)","v":185217},null,{"$f":"ROUNDDOWN(SUM(L339:L343),0)","v":26884}]
[]
["제00480호표 ：기층공[보조] (인력,T=20cm) a 당",null,null,null,null,null,null,null,null,null,null,null,null,null,null,null,null,null,null,null,null,null,null,null,null,null,null,null,null,null,null,null,null,null,null,null,null,null,null,null,null,null,null,null,null,null,null,null,null,null,null,null,null,null,null,null,null,null,null,null,null,null,null,null,null,null,null,null,null,null,null,null,null,null,null,null,null,null,null,null,null,null,null,null,null,null,null,null,null,null,null,null,null,null,null,null,null,null,null,null,null,null,null,null,null,null,null,null,null,null,null,null,null,null,null,null,":B0151"]
["보조기층재(서울)","70mm 이하",25.584,"㎥",{"$f":"G347+I347+K347","v":20000},511680,{"$f":"자재단가!$R$40","v":20000},{"$f":"TRUNC(C347*G347,1)","v":511680},0,{"$f":"TRUNC(C347*I347,1)","v":0},0,{"$f":"TRUNC(C347*K347,1)","v":0},"",null,null,null,null,null,null,null,null,null,null,null,null,null,null,null,null,null,null,null,null,null,null,null,null,null,null,null,null,null,null,null,null,null,null,null,null,null,null,null,null,null,null,null,null,null,null,null,null,null,null,null,null,null,null,null,null,null,null,null,null,null,null,null,null,null,null,null,null,null,null,null,null,null,null,null,null,null,null,null,null,null,null,null,null,null,null,null,null,null,null,null,null,null,null,null,null,null,null,null,null,null,null,null,"M0717081",""]
["물","",2000,"ℓ",1,2000,{"$f":"자재단가!$R$97","v":1},{"$f":"TRUNC(C348*G348,1)","v":2000},0,{"$f":"TRUNC(C348*I348,1)","v":0},0,{"$f":"TRUNC(C348*K348,1)","v":0},"",null,null,null,null,null,null,null,null,null,null,null,null,null,null,null,null,null,null,null,null,null,null,null,null,null,null,null,null,null,null,null,null,null,null,null,null,null,null,null,null,null,null,null,null,null,null,null,null,null,null,null,null,null,null,null,null,null,null,null,null,null,null,null,null,null,null,null,null,null,null,null,null,null,null,null,null,null,null,null,null,null,null,null,null,null,null,null,null,null,null,null,null,null,null,null,null,null,null,null,null,null,null,null,"MA0004-1",""]
["기층공(보조)","인력,시간당 18.75㎥",1.0669999999999999,"HR",239444,255486.6,{"$f":"$H$344","v":27343},{"$f":"TRUNC(C349*G349,1)","v":29174.9},{"$f":"$J$344","v":185217},{"$f":"TRUNC(C349*I349,1)","v":197626.5},{"$f":"$L$344","v":26884},{"$f":"TRUNC(C349*K349,1)","v":28685.200000000001},"제  47호표",null,null,null,null,null,null,null,null,null,null,null,null,null,null,null,null,null,null,null,null,null,null,null,null,null,null,null,null,null,null,null,null,null,null,null,null,null,null,null,null,null,null,null,null,null,null,null,null,null,null,null,null,null,null,null,null,null,null,null,null,null,null,null,null,null,null,null,null,null,null,null,null,null,null,null,null,null,null,null,null,null,null,null,null,null,null,null,null,null,null,null,null,null,null,null,null,null,null,null,null,null,null,null,"BB00-0280",""]
["             계             ",null,null,null,null,{"$f":"H350+J350+L350","v":769165},null,{"$f":"ROUNDDOWN(SUM(H347:H349),0)","v":542854},null,{"$f":"ROUNDDOWN(SUM(J347:J349),0)","v":197626},null,{"$f":"ROUNDDOWN(SUM(L347:L349),0)","v":28685}]
[]
["제00490호표 ：기층공[보조] (기계,시간당 68.75㎥) HR 당",null,null,null,null,null,null,null,null,null,null,null,null,null,null,null,null,null,null,null,null,null,null,null,null,null,null,null,null,null,null,null,null,null,null,null,null,null,null,null,null,null,null,null,null,null,null,null,null,null,null,null,null,null,null,null,null,null,null,null,null,null,null,null,null,null,null,null,null,null,null,null,null,null,null,null,null,null,null,null,null,null,null,null,null,null,null,null,null,null,null,null,null,null,null,null,null,null,null,null,null,null,null,null,null,null,null,null,null,null,null,null,null,null,null,null,":BB00-0290"]
["모터그레이더","3.6 m(일반용)",1,"시간",{"$f":"G353+I353+K353","v":115067},115067,{"$f":"건설기계!$I$139","v":29356},{"$f":"TRUNC(C353*G353,1)","v":29356},{"$f":"건설기계!$K$139","v":44299},{"$f":"TRUNC(C353*I353,1)","v":44299},{"$f":"건설기계!$M$139","v":41412},{"$f":"TRUNC(C353*K353,1)","v":41412},"",null,null,null,null,null,null,null,null,null,null,null,null,null,null,null,null,null,null,null,null,null,null,null,null,null,null,null,null,null,null,null,null,null,null,null,null,null,null,null,null,null,null,null,null,null,null,null,null,null,null,null,null,null,null,null,null,null,null,null,null,null,null,null,null,null,null,null,null,null,null,null,null,null,null,null,null,null,null,null,null,null,null,null,null,null,null,null,null,null,null,null,null,null,null,null,null,null,null,null,null,null,null,null,"D0502-0036",""]
["진동롤러(자주식)","12.0 ton",1,"시간",97066,97066,{"$f":"건설기계!$I$245","v":26777},26777,{"$f":"건설기계!$K$245","v":44299},44299,{"$f":"건설기계!$M$245","v":25990},25990,"",null,null,null,null,null,null,null,null,null,null,null,null,null,null,null,null,null,null,null,null,null,null,null,null,null,null,null,null,null,null,null,null,null,null,null,null,null,null,null,null,null,null,null,null,null,null,null,null,null,null,null,null,null,null,null,null,null,null,null,null,null,null,null,null,null,null,null,null,null,null,null,null,null,null,null,null,null,null,null,null,null,null,null,null,null,null,null,null,null,null,null,null,null,null,null,null,null,null,null,null,null,null,null,"D1306-0100",""]
["물탱크(살수차)","16000 ℓ",0.5,"시간",75171,37585.5,{"$f":"건설기계!$I$441","v":21862},10931,{"$f":"건설기계!$K$441","v":36224},18112,{"$f":"건설기계!$M$441","v":17085},8542.5,"",null,null,null,null,null,null,null,null,null,null,null,null,null,null,null,null,null,null,null,null,null,null,null,null,null,null,null,null,null,null,null,null,null,null,null,null,null,null,null,null,null,null,null,null,null,null,null,null,null,null,null,null,null,null,null,null,null,null,null,null,null,null,null,null,null,null,null,null,null,null,null,null,null,null,null,null,null,null,null,null,null,null,null,null,null,null,null,null,null,null,null,null,null,null,null,null,null,null,null,null,null,null,null,"D7204-0160",""]
["포설공","",0.25,"인",172935,43233.7,0,0,{"$f":"노임단가!$K$20","v":172935},43233.7,0,0,"",null,null,null,null,null,null,null,null,null,null,null,null,null,null,null,null,null,null,null,null,null,null,null,null,null,null,null,null,null,null,null,null,null,null,null,null,null,null,null,null,null,null,null,null,null,null,null,null,null,null,null,null,null,null,null,null,null,null,null,null,null,null,null,null,null,null,null,null,null,null,null,null,null,null,null,null,null,null,null,null,null,null,null,null,null,null,null,null,null,null,null,null,null,null,null,null,null,null,null,null,null,null,null,"W1003",""]
["             계             ",null,null,null,null,{"$f":"H357+J357+L357","v":292951},null,{"$f":"ROUNDDOWN(SUM(H353:H356),0)","v":67064},null,{"$f":"ROUNDDOWN(SUM(J353:J356),0)","v":149943},null,{"$f":"ROUNDDOWN(SUM(L353:L356),0)","v":75944}]
[]
["제00500호표 ：기층공[보조] (기계,T=20cm) a 당",null,null,null,null,null,null,null,null,null,null,null,null,null,null,null,null,null,null,null,null,null,null,null,null,null,null,null,null,null,null,null,null,null,null,null,null,null,null,null,null,null,null,null,null,null,null,null,null,null,null,null,null,null,null,null,null,null,null,null,null,null,null,null,null,null,null,null,null,null,null,null,null,null,null,null,null,null,null,null,null,null,null,null,null,null,null,null,null,null,null,null,null,null,null,null,null,null,null,null,null,null,null,null,null,null,null,null,null,null,null,null,null,null,null,null,":BKA2100"]
["보조기층재(서울)","70mm 이하",25.584,"㎥",{"$f":"G360+I360+K360","v":20000},511680,{"$f":"자재단가!$R$40","v":20000},{"$f":"TRUNC(C360*G360,1)","v":511680},0,{"$f":"TRUNC(C360*I360,1)","v":0},0,{"$f":"TRUNC(C360*K360,1)","v":0},"",null,null,null,null,null,null,null,null,null,null,null,null,null,null,null,null,null,null,null,null,null,null,null,null,null,null,null,null,null,null,null,null,null,null,null,null,null,null,null,null,null,null,null,null,null,null,null,null,null,null,null,null,null,null,null,null,null,null,null,null,null,null,null,null,null,null,null,null,null,null,null,null,null,null,null,null,null,null,null,null,null,null,null,null,null,null,null,null,null,null,null,null,null,null,null,null,null,null,null,null,null,null,null,"M0717081",""]
["물","",2000,"ℓ",1,2000,{"$f":"자재단가!$R$97","v":1},{"$f":"TRUNC(C361*G361,1)","v":2000},0,{"$f":"TRUNC(C361*I361,1)","v":0},0,{"$f":"TRUNC(C361*K361,1)","v":0},"",null,null,null,null,null,null,null,null,null,null,null,null,null,null,null,null,null,null,null,null,null,null,null,null,null,null,null,null,null,null,null,null,null,null,null,null,null,null,null,null,null,null,null,null,null,null,null,null,null,null,null,null,null,null,null,null,null,null,null,null,null,null,null,null,null,null,null,null,null,null,null,null,null,null,null,null,null,null,null,null,null,null,null,null,null,null,null,null,null,null,null,null,null,null,null,null,null,null,null,null,null,null,null,"MA0004-1",""]
["기층공(보조)","기계,시간당 68.75㎥",0.29099999999999998,"HR",292951,85248.7,{"$f":"$H$357","v":67064},{"$f":"TRUNC(C362*G362,1)","v":19515.599999999999},{"$f":"$J$357","v":149943},{"$f":"TRUNC(C362*I362,1)","v":43633.4},{"$f":"$L$357","v":75944},{"$f":"TRUNC(C362*K362,1)","v":22099.7},"제  49호표",null,null,null,null,null,null,null,null,null,null,null,null,null,null,null,null,null,null,null,null,null,null,null,null,null,null,null,null,null,null,null,null,null,null,null,null,null,null,null,null,null,null,null,null,null,null,null,null,null,null,null,null,null,null,null,null,null,null,null,null,null,null,null,null,null,null,null,null,null,null,null,null,null,null,null,null,null,null,null,null,null,null,null,null,null,null,null,null,null,null,null,null,null,null,null,null,null,null,null,null,null,null,null,"BB00-0290",""]
["             계             ",null,null,null,null,{"$f":"H363+J363+L363","v":598927},null,{"$f":"ROUNDDOWN(SUM(H360:H362),0)","v":533195},null,{"$f":"ROUNDDOWN(SUM(J360:J362),0)","v":43633},null,{"$f":"ROUNDDOWN(SUM(L360:L362),0)","v":22099}]
[]
["제00510호표 ：기층공[보조] (기계,T=30cm) a 당",null,null,null,null,null,null,null,null,null,null,null,null,null,null,null,null,null,null,null,null,null,null,null,null,null,null,null,null,null,null,null,null,null,null,null,null,null,null,null,null,null,null,null,null,null,null,null,null,null,null,null,null,null,null,null,null,null,null,null,null,null,null,null,null,null,null,null,null,null,null,null,null,null,null,null,null,null,null,null,null,null,null,null,null,null,null,null,null,null,null,null,null,null,null,null,null,null,null,null,null,null,null,null,null,null,null,null,null,null,null,null,null,null,null,null,":B0154"]
["보조기층재(서울)","70mm 이하",38.375999999999998,"㎥",{"$f":"G366+I366+K366","v":20000},767520,{"$f":"자재단가!$R$40","v":20000},{"$f":"TRUNC(C366*G366,1)","v":767520},0,{"$f":"TRUNC(C366*I366,1)","v":0},0,{"$f":"TRUNC(C366*K366,1)","v":0},"",null,null,null,null,null,null,null,null,null,null,null,null,null,null,null,null,null,null,null,null,null,null,null,null,null,null,null,null,null,null,null,null,null,null,null,null,null,null,null,null,null,null,null,null,null,null,null,null,null,null,null,null,null,null,null,null,null,null,null,null,null,null,null,null,null,null,null,null,null,null,null,null,null,null,null,null,null,null,null,null,null,null,null,null,null,null,null,null,null,null,null,null,null,null,null,null,null,null,null,null,null,null,null,"M0717081",""]
["물","",3000,"ℓ",1,3000,{"$f":"자재단가!$R$97","v":1},{"$f":"TRUNC(C367*G367,1)","v":3000},0,{"$f":"TRUNC(C367*I367,1)","v":0},0,{"$f":"TRUNC(C367*K367,1)","v":0},"",null,null,null,null,null,null,null,null,null,null,null,null,null,null,null,null,null,null,null,null,null,null,null,null,null,null,null,null,null,null,null,null,null,null,null,null,null,null,null,null,null,null,null,null,null,null,null,null,null,null,null,null,null,null,null,null,null,null,null,null,null,null,null,null,null,null,null,null,null,null,null,null,null,null,null,null,null,null,null,null,null,null,null,null,null,null,null,null,null,null,null,null,null,null,null,null,null,null,null,null,null,null,null,"MA0004-1",""]
["기층공(보조)","기계,시간당 68.75㎥",0.436,"HR",292951,127726.5,{"$f":"$H$357","v":67064},{"$f":"TRUNC(C368*G368,1)","v":29239.9},{"$f":"$J$357","v":149943},{"$f":"TRUNC(C368*I368,1)","v":65375.1},{"$f":"$L$357","v":75944},{"$f":"TRUNC(C368*K368,1)","v":33111.5},"제  49호표",null,null,null,null,null,null,null,null,null,null,null,null,null,null,null,null,null,null,null,null,null,null,null,null,null,null,null,null,null,null,null,null,null,null,null,null,null,null,null,null,null,null,null,null,null,null,null,null,null,null,null,null,null,null,null,null,null,null,null,null,null,null,null,null,null,null,null,null,null,null,null,null,null,null,null,null,null,null,null,null,null,null,null,null,null,null,null,null,null,null,null,null,null,null,null,null,null,null,null,null,null,null,null,"BB00-0290",""]
["             계             ",null,null,null,null,{"$f":"H369+J369+L369","v":898245},null,{"$f":"ROUNDDOWN(SUM(H366:H368),0)","v":799759},null,{"$f":"ROUNDDOWN(SUM(J366:J368),0)","v":65375},null,{"$f":"ROUNDDOWN(SUM(L366:L368),0)","v":33111}]
[]
["제00520호표 ：기층공[입도조정] (기계,시간당 62.5㎥) HR 당",null,null,null,null,null,null,null,null,null,null,null,null,null,null,null,null,null,null,null,null,null,null,null,null,null,null,null,null,null,null,null,null,null,null,null,null,null,null,null,null,null,null,null,null,null,null,null,null,null,null,null,null,null,null,null,null,null,null,null,null,null,null,null,null,null,null,null,null,null,null,null,null,null,null,null,null,null,null,null,null,null,null,null,null,null,null,null,null,null,null,null,null,null,null,null,null,null,null,null,null,null,null,null,null,null,null,null,null,null,null,null,null,null,null,null,":BB00-0330"]
["모터그레이더","3.6 m(일반용)",1,"시간",{"$f":"G372+I372+K372","v":115067},115067,{"$f":"건설기계!$I$139","v":29356},{"$f":"TRUNC(C372*G372,1)","v":29356},{"$f":"건설기계!$K$139","v":44299},{"$f":"TRUNC(C372*I372,1)","v":44299},{"$f":"건설기계!$M$139","v":41412},{"$f":"TRUNC(C372*K372,1)","v":41412},"",null,null,null,null,null,null,null,null,null,null,null,null,null,null,null,null,null,null,null,null,null,null,null,null,null,null,null,null,null,null,null,null,null,null,null,null,null,null,null,null,null,null,null,null,null,null,null,null,null,null,null,null,null,null,null,null,null,null,null,null,null,null,null,null,null,null,null,null,null,null,null,null,null,null,null,null,null,null,null,null,null,null,null,null,null,null,null,null,null,null,null,null,null,null,null,null,null,null,null,null,null,null,null,"D0502-0036",""]
["진동롤러(자주식)","12.0 ton",1,"시간",97066,97066,{"$f":"건설기계!$I$245","v":26777},26777,{"$f":"건설기계!$K$245","v":44299},44299,{"$f":"건설기계!$M$245","v":25990},25990,"",null,null,null,null,null,null,null,null,null,null,null,null,null,null,null,null,null,null,null,null,null,null,null,null,null,null,null,null,null,null,null,null,null,null,null,null,null,null,null,null,null,null,null,null,null,null,null,null,null,null,null,null,null,null,null,null,null,null,null,null,null,null,null,null,null,null,null,null,null,null,null,null,null,null,null,null,null,null,null,null,null,null,null,null,null,null,null,null,null,null,null,null,null,null,null,null,null,null,null,null,null,null,null,"D1306-0100",""]
["물탱크(살수차)","16000 ℓ",0.5,"시간",75171,37585.5,{"$f":"건설기계!$I$441","v":21862},10931,{"$f":"건설기계!$K$441","v":36224},18112,{"$f":"건설기계!$M$441","v":17085},8542.5,"",null,null,null,null,null,null,null,null,null,null,null,null,null,null,null,null,null,null,null,null,null,null,null,null,null,null,null,null,null,null,null,null,null,null,null,null,null,null,null,null,null,null,null,null,null,null,null,null,null,null,null,null,null,null,null,null,null,null,null,null,null,null,null,null,null,null,null,null,null,null,null,null,null,null,null,null,null,null,null,null,null,null,null,null,null,null,null,null,null,null,null,null,null,null,null,null,null,null,null,null,null,null,null,"D7204-0160",""]
["포설공","",0.25,"인",172935,43233.7,0,0,{"$f":"노임단가!$K$20","v":172935},43233.7,0,0,"",null,null,null,null,null,null,null,null,null,null,null,null,null,null,null,null,null,null,null,null,null,null,null,null,null,null,null,null,null,null,null,null,null,null,null,null,null,null,null,null,null,null,null,null,null,null,null,null,null,null,null,null,null,null,null,null,null,null,null,null,null,null,null,null,null,null,null,null,null,null,null,null,null,null,null,null,null,null,null,null,null,null,null,null,null,null,null,null,null,null,null,null,null,null,null,null,null,null,null,null,null,null,null,"W1002",""]
["             계             ",null,null,null,null,{"$f":"H376+J376+L376","v":292951},null,{"$f":"ROUNDDOWN(SUM(H372:H375),0)","v":67064},null,{"$f":"ROUNDDOWN(SUM(J372:J375),0)","v":149943},null,{"$f":"ROUNDDOWN(SUM(L372:L375),0)","v":75944}]
[]
["제00530호표 ：기층공[입도조정] (인력,시간당 16.875㎥) HR 당",null,null,null,null,null,null,null,null,null,null,null,null,null,null,null,null,null,null,null,null,null,null,null,null,null,null,null,null,null,null,null,null,null,null,null,null,null,null,null,null,null,null,null,null,null,null,null,null,null,null,null,null,null,null,null,null,null,null,null,null,null,null,null,null,null,null,null,null,null,null,null,null,null,null,null,null,null,null,null,null,null,null,null,null,null,null,null,null,null,null,null,null,null,null,null,null,null,null,null,null,null,null,null,null,null,null,null,null,null,null,null,null,null,null,null,":BB00-0320"]
["굴삭기(무한궤도)"," 0.6 ㎥",1,"시간",{"$f":"G379+I379+K379","v":81240},81240,{"$f":"건설기계!$I$70","v":16223},{"$f":"TRUNC(C379*G379,1)","v":16223},{"$f":"건설기계!$K$70","v":44299},{"$f":"TRUNC(C379*I379,1)","v":44299},{"$f":"건설기계!$M$70","v":20718},{"$f":"TRUNC(C379*K379,1)","v":20718},"",null,null,null,null,null,null,null,null,null,null,null,null,null,null,null,null,null,null,null,null,null,null,null,null,null,null,null,null,null,null,null,null,null,null,null,null,null,null,null,null,null,null,null,null,null,null,null,null,null,null,null,null,null,null,null,null,null,null,null,null,null,null,null,null,null,null,null,null,null,null,null,null,null,null,null,null,null,null,null,null,null,null,null,null,null,null,null,null,null,null,null,null,null,null,null,null,null,null,null,null,null,null,null,"D0201-0060",""]
["진동롤러(핸드가이드식)","0.7 ton",1,"시간",49251,49251,{"$f":"건설기계!$I$224","v":3240},{"$f":"TRUNC(C380*G380,1)","v":3240},{"$f":"건설기계!$K$224","v":44299},{"$f":"TRUNC(C380*I380,1)","v":44299},{"$f":"건설기계!$M$224","v":1712},{"$f":"TRUNC(C380*K380,1)","v":1712},"",null,null,null,null,null,null,null,null,null,null,null,null,null,null,null,null,null,null,null,null,null,null,null,null,null,null,null,null,null,null,null,null,null,null,null,null,null,null,null,null,null,null,null,null,null,null,null,null,null,null,null,null,null,null,null,null,null,null,null,null,null,null,null,null,null,null,null,null,null,null,null,null,null,null,null,null,null,null,null,null,null,null,null,null,null,null,null,null,null,null,null,null,null,null,null,null,null,null,null,null,null,null,null,"D1305-0007",""]
["물탱크(살수차)"," 5500 ℓ",0.5,"시간",60893,30446.5,{"$f":"건설기계!$I$434","v":15761},{"$f":"TRUNC(C381*G381,1)","v":7880.5},{"$f":"건설기계!$K$434","v":36224},{"$f":"TRUNC(C381*I381,1)","v":18112},{"$f":"건설기계!$M$434","v":8908},{"$f":"TRUNC(C381*K381,1)","v":4454},"",null,null,null,null,null,null,null,null,null,null,null,null,null,null,null,null,null,null,null,null,null,null,null,null,null,null,null,null,null,null,null,null,null,null,null,null,null,null,null,null,null,null,null,null,null,null,null,null,null,null,null,null,null,null,null,null,null,null,null,null,null,null,null,null,null,null,null,null,null,null,null,null,null,null,null,null,null,null,null,null,null,null,null,null,null,null,null,null,null,null,null,null,null,null,null,null,null,null,null,null,null,null,null,"D7204-0055",""]
["포설공","",0.25,"인",{"$f":"G382+I382+K382","v":172935},{"$f":"H382+J382+L382","v":43233.7},0,{"$f":"TRUNC(C382*G382,1)","v":0},{"$f":"노임단가!$K$20","v":172935},{"$f":"TRUNC(C382*I382,1)","v":43233.7},0,{"$f":"TRUNC(C382*K382,1)","v":0},"",null,null,null,null,null,null,null,null,null,null,null,null,null,null,null,null,null,null,null,null,null,null,null,null,null,null,null,null,null,null,null,null,null,null,null,null,null,null,null,null,null,null,null,null,null,null,null,null,null,null,null,null,null,null,null,null,null,null,null,null,null,null,null,null,null,null,null,null,null,null,null,null,null,null,null,null,null,null,null,null,null,null,null,null,null,null,null,null,null,null,null,null,null,null,null,null,null,null,null,null,null,null,null,"W1002",""]
["보통인부","",0.25,"인",141096,35274,0,{"$f":"TRUNC(C383*G383,1)","v":0},{"$f":"노임단가!$K$8","v":141096},{"$f":"TRUNC(C383*I383,1)","v":35274},0,{"$f":"TRUNC(C383*K383,1)","v":0},"",null,null,null,null,null,null,null,null,null,null,null,null,null,null,null,null,null,null,null,null,null,null,null,null,null,null,null,null,null,null,null,null,null,null,null,null,null,null,null,null,null,null,null,null,null,null,null,null,null,null,null,null,null,null,null,null,null,null,null,null,null,null,null,null,null,null,null,null,null,null,null,null,null,null,null,null,null,null,null,null,null,null,null,null,null,null,null,null,null,null,null,null,null,null,null,null,null,null,null,null,null,null,null,"W1002",""]
["             계             ",null,null,null,null,{"$f":"H384+J384+L384","v":239444},null,{"$f":"ROUNDDOWN(SUM(H379:H383),0)","v":27343},null,{"$f":"ROUNDDOWN(SUM(J379:J383),0)","v":185217},null,{"$f":"ROUNDDOWN(SUM(L379:L383),0)","v":26884}]
[]
["제00540호표 ：기층공[혼합] (인력,T=10cm) a 당",null,null,null,null,null,null,null,null,null,null,null,null,null,null,null,null,null,null,null,null,null,null,null,null,null,null,null,null,null,null,null,null,null,null,null,null,null,null,null,null,null,null,null,null,null,null,null,null,null,null,null,null,null,null,null,null,null,null,null,null,null,null,null,null,null,null,null,null,null,null,null,null,null,null,null,null,null,null,null,null,null,null,null,null,null,null,null,null,null,null,null,null,null,null,null,null,null,null,null,null,null,null,null,null,null,null,null,null,null,null,null,null,null,null,null,":BKB4300"]
["혼합골재(서울)","40mm 이하",12.792,"㎥",{"$f":"G387+I387+K387","v":20000},255840,{"$f":"자재단가!$R$39","v":20000},{"$f":"TRUNC(C387*G387,1)","v":255840},0,{"$f":"TRUNC(C387*I387,1)","v":0},0,{"$f":"TRUNC(C387*K387,1)","v":0},"",null,null,null,null,null,null,null,null,null,null,null,null,null,null,null,null,null,null,null,null,null,null,null,null,null,null,null,null,null,null,null,null,null,null,null,null,null,null,null,null,null,null,null,null,null,null,null,null,null,null,null,null,null,null,null,null,null,null,null,null,null,null,null,null,null,null,null,null,null,null,null,null,null,null,null,null,null,null,null,null,null,null,null,null,null,null,null,null,null,null,null,null,null,null,null,null,null,null,null,null,null,null,null,"M0723053",""]
["물","",1,"Ton",1470,1470,{"$f":"자재단가!$R$96","v":1470},{"$f":"TRUNC(C388*G388,1)","v":1470},0,{"$f":"TRUNC(C388*I388,1)","v":0},0,{"$f":"TRUNC(C388*K388,1)","v":0},"",null,null,null,null,null,null,null,null,null,null,null,null,null,null,null,null,null,null,null,null,null,null,null,null,null,null,null,null,null,null,null,null,null,null,null,null,null,null,null,null,null,null,null,null,null,null,null,null,null,null,null,null,null,null,null,null,null,null,null,null,null,null,null,null,null,null,null,null,null,null,null,null,null,null,null,null,null,null,null,null,null,null,null,null,null,null,null,null,null,null,null,null,null,null,null,null,null,null,null,null,null,null,null,"MA0004",""]
["기층공(입도조정)","인력,시간당 16.875㎥",0.59250000000000003,"HR",239444,141870.39999999999,{"$f":"$H$384","v":27343},{"$f":"TRUNC(C389*G389,1)","v":16200.7},{"$f":"$J$384","v":185217},{"$f":"TRUNC(C389*I389,1)","v":109741},{"$f":"$L$384","v":26884},{"$f":"TRUNC(C389*K389,1)","v":15928.7},"제  53호표",null,null,null,null,null,null,null,null,null,null,null,null,null,null,null,null,null,null,null,null,null,null,null,null,null,null,null,null,null,null,null,null,null,null,null,null,null,null,null,null,null,null,null,null,null,null,null,null,null,null,null,null,null,null,null,null,null,null,null,null,null,null,null,null,null,null,null,null,null,null,null,null,null,null,null,null,null,null,null,null,null,null,null,null,null,null,null,null,null,null,null,null,null,null,null,null,null,null,null,null,null,null,null,"BB00-0320",""]
["             계             ",null,null,null,null,{"$f":"H390+J390+L390","v":399179},null,{"$f":"ROUNDDOWN(SUM(H387:H389),0)","v":273510},null,{"$f":"ROUNDDOWN(SUM(J387:J389),0)","v":109741},null,{"$f":"ROUNDDOWN(SUM(L387:L389),0)","v":15928}]
[]
["제00550호표 ：기층공[혼합] (인력,T=20cm) a 당",null,null,null,null,null,null,null,null,null,null,null,null,null,null,null,null,null,null,null,null,null,null,null,null,null,null,null,null,null,null,null,null,null,null,null,null,null,null,null,null,null,null,null,null,null,null,null,null,null,null,null,null,null,null,null,null,null,null,null,null,null,null,null,null,null,null,null,null,null,null,null,null,null,null,null,null,null,null,null,null,null,null,null,null,null,null,null,null,null,null,null,null,null,null,null,null,null,null,null,null,null,null,null,null,null,null,null,null,null,null,null,null,null,null,null,":BKB4200"]
["혼합골재(서울)","40mm 이하",25.584,"㎥",{"$f":"G393+I393+K393","v":20000},511680,{"$f":"자재단가!$R$39","v":20000},{"$f":"TRUNC(C393*G393,1)","v":511680},0,{"$f":"TRUNC(C393*I393,1)","v":0},0,{"$f":"TRUNC(C393*K393,1)","v":0},"",null,null,null,null,null,null,null,null,null,null,null,null,null,null,null,null,null,null,null,null,null,null,null,null,null,null,null,null,null,null,null,null,null,null,null,null,null,null,null,null,null,null,null,null,null,null,null,null,null,null,null,null,null,null,null,null,null,null,null,null,null,null,null,null,null,null,null,null,null,null,null,null,null,null,null,null,null,null,null,null,null,null,null,null,null,null,null,null,null,null,null,null,null,null,null,null,null,null,null,null,null,null,null,"M0723053",""]
["물","",2,"Ton",1470,2940,{"$f":"자재단가!$R$96","v":1470},{"$f":"TRUNC(C394*G394,1)","v":2940},0,{"$f":"TRUNC(C394*I394,1)","v":0},0,{"$f":"TRUNC(C394*K394,1)","v":0},"",null,null,null,null,null,null,null,null,null,null,null,null,null,null,null,null,null,null,null,null,null,null,null,null,null,null,null,null,null,null,null,null,null,null,null,null,null,null,null,null,null,null,null,null,null,null,null,null,null,null,null,null,null,null,null,null,null,null,null,null,null,null,null,null,null,null,null,null,null,null,null,null,null,null,null,null,null,null,null,null,null,null,null,null,null,null,null,null,null,null,null,null,null,null,null,null,null,null,null,null,null,null,null,"MA0004",""]
["기층공(입도조정)","인력,시간당 16.875㎥",1.1850000000000001,"HR",239444,283741,{"$f":"$H$384","v":27343},{"$f":"TRUNC(C395*G395,1)","v":32401.4},{"$f":"$J$384","v":185217},{"$f":"TRUNC(C395*I395,1)","v":219482.1},{"$f":"$L$384","v":26884},{"$f":"TRUNC(C395*K395,1)","v":31857.5},"제  53호표",null,null,null,null,null,null,null,null,null,null,null,null,null,null,null,null,null,null,null,null,null,null,null,null,null,null,null,null,null,null,null,null,null,null,null,null,null,null,null,null,null,null,null,null,null,null,null,null,null,null,null,null,null,null,null,null,null,null,null,null,null,null,null,null,null,null,null,null,null,null,null,null,null,null,null,null,null,null,null,null,null,null,null,null,null,null,null,null,null,null,null,null,null,null,null,null,null,null,null,null,null,null,null,"BB00-0320",""]
["             계             ",null,null,null,null,{"$f":"H396+J396+L396","v":798360},null,{"$f":"ROUNDDOWN(SUM(H393:H395),0)","v":547021},null,{"$f":"ROUNDDOWN(SUM(J393:J395),0)","v":219482},null,{"$f":"ROUNDDOWN(SUM(L393:L395),0)","v":31857}]
[]
["제00560호표 ：기층공[혼합] (기계,T=20cm) a 당",null,null,null,null,null,null,null,null,null,null,null,null,null,null,null,null,null,null,null,null,null,null,null,null,null,null,null,null,null,null,null,null,null,null,null,null,null,null,null,null,null,null,null,null,null,null,null,null,null,null,null,null,null,null,null,null,null,null,null,null,null,null,null,null,null,null,null,null,null,null,null,null,null,null,null,null,null,null,null,null,null,null,null,null,null,null,null,null,null,null,null,null,null,null,null,null,null,null,null,null,null,null,null,null,null,null,null,null,null,null,null,null,null,null,null,":BKB4100"]
["혼합골재(서울)","40mm 이하",25.584,"㎥",{"$f":"G399+I399+K399","v":20000},511680,{"$f":"자재단가!$R$39","v":20000},{"$f":"TRUNC(C399*G399,1)","v":511680},0,{"$f":"TRUNC(C399*I399,1)","v":0},0,{"$f":"TRUNC(C399*K399,1)","v":0},"",null,null,null,null,null,null,null,null,null,null,null,null,null,null,null,null,null,null,null,null,null,null,null,null,null,null,null,null,null,null,null,null,null,null,null,null,null,null,null,null,null,null,null,null,null,null,null,null,null,null,null,null,null,null,null,null,null,null,null,null,null,null,null,null,null,null,null,null,null,null,null,null,null,null,null,null,null,null,null,null,null,null,null,null,null,null,null,null,null,null,null,null,null,null,null,null,null,null,null,null,null,null,null,"M0723053",""]
["물","",2000,"ℓ",1,2000,{"$f":"자재단가!$R$97","v":1},{"$f":"TRUNC(C400*G400,1)","v":2000},0,{"$f":"TRUNC(C400*I400,1)","v":0},0,{"$f":"TRUNC(C400*K400,1)","v":0},"",null,null,null,null,null,null,null,null,null,null,null,null,null,null,null,null,null,null,null,null,null,null,null,null,null,null,null,null,null,null,null,null,null,null,null,null,null,null,null,null,null,null,null,null,null,null,null,null,null,null,null,null,null,null,null,null,null,null,null,null,null,null,null,null,null,null,null,null,null,null,null,null,null,null,null,null,null,null,null,null,null,null,null,null,null,null,null,null,null,null,null,null,null,null,null,null,null,null,null,null,null,null,null,"MA0004-1",""]
["기층공(입도조정)","기계,시간당 62.5㎥",0.32,"HR",292951,93744.1,{"$f":"$H$376","v":67064},{"$f":"TRUNC(C401*G401,1)","v":21460.400000000001},{"$f":"$J$376","v":149943},{"$f":"TRUNC(C401*I401,1)","v":47981.7},{"$f":"$L$376","v":75944},{"$f":"TRUNC(C401*K401,1)","v":24302},"제  52호표",null,null,null,null,null,null,null,null,null,null,null,null,null,null,null,null,null,null,null,null,null,null,null,null,null,null,null,null,null,null,null,null,null,null,null,null,null,null,null,null,null,null,null,null,null,null,null,null,null,null,null,null,null,null,null,null,null,null,null,null,null,null,null,null,null,null,null,null,null,null,null,null,null,null,null,null,null,null,null,null,null,null,null,null,null,null,null,null,null,null,null,null,null,null,null,null,null,null,null,null,null,null,null,"BB00-0330",""]
["             계             ",null,null,null,null,{"$f":"H402+J402+L402","v":607423},null,{"$f":"ROUNDDOWN(SUM(H399:H401),0)","v":535140},null,{"$f":"ROUNDDOWN(SUM(J399:J401),0)","v":47981},null,{"$f":"ROUNDDOWN(SUM(L399:L401),0)","v":24302}]
[]
["제00570호표 ：투수용 기층공[혼합,인력] (인력,T=15cm) a 당",null,null,null,null,null,null,null,null,null,null,null,null,null,null,null,null,null,null,null,null,null,null,null,null,null,null,null,null,null,null,null,null,null,null,null,null,null,null,null,null,null,null,null,null,null,null,null,null,null,null,null,null,null,null,null,null,null,null,null,null,null,null,null,null,null,null,null,null,null,null,null,null,null,null,null,null,null,null,null,null,null,null,null,null,null,null,null,null,null,null,null,null,null,null,null,null,null,null,null,null,null,null,null,null,null,null,null,null,null,null,null,null,null,null,null,":B000-0180-1"]
["투수용 기층공(서울)","40mm이하",19.187999999999999,"㎥",{"$f":"G405+I405+K405","v":45000},863460,{"$f":"자재단가!$R$161","v":45000},{"$f":"TRUNC(C405*G405,1)","v":863460},0,{"$f":"TRUNC(C405*I405,1)","v":0},0,{"$f":"TRUNC(C405*K405,1)","v":0},"",null,null,null,null,null,null,null,null,null,null,null,null,null,null,null,null,null,null,null,null,null,null,null,null,null,null,null,null,null,null,null,null,null,null,null,null,null,null,null,null,null,null,null,null,null,null,null,null,null,null,null,null,null,null,null,null,null,null,null,null,null,null,null,null,null,null,null,null,null,null,null,null,null,null,null,null,null,null,null,null,null,null,null,null,null,null,null,null,null,null,null,null,null,null,null,null,null,null,null,null,null,null,null,"M000-0150-1",""]
["물","",1.5,"Ton",1470,2205,{"$f":"자재단가!$R$96","v":1470},{"$f":"TRUNC(C406*G406,1)","v":2205},0,{"$f":"TRUNC(C406*I406,1)","v":0},0,{"$f":"TRUNC(C406*K406,1)","v":0},"",null,null,null,null,null,null,null,null,null,null,null,null,null,null,null,null,null,null,null,null,null,null,null,null,null,null,null,null,null,null,null,null,null,null,null,null,null,null,null,null,null,null,null,null,null,null,null,null,null,null,null,null,null,null,null,null,null,null,null,null,null,null,null,null,null,null,null,null,null,null,null,null,null,null,null,null,null,null,null,null,null,null,null,null,null,null,null,null,null,null,null,null,null,null,null,null,null,null,null,null,null,null,null,"MA0004",""]
["기층공(입도조정)","인력,시간당 16.875㎥",0.88880000000000003,"HR",239444,212817.59999999998,{"$f":"$H$384","v":27343},{"$f":"TRUNC(C407*G407,1)","v":24302.400000000001},{"$f":"$J$384","v":185217},{"$f":"TRUNC(C407*I407,1)","v":164620.79999999999},{"$f":"$L$384","v":26884},{"$f":"TRUNC(C407*K407,1)","v":23894.400000000001},"제  53호표",null,null,null,null,null,null,null,null,null,null,null,null,null,null,null,null,null,null,null,null,null,null,null,null,null,null,null,null,null,null,null,null,null,null,null,null,null,null,null,null,null,null,null,null,null,null,null,null,null,null,null,null,null,null,null,null,null,null,null,null,null,null,null,null,null,null,null,null,null,null,null,null,null,null,null,null,null,null,null,null,null,null,null,null,null,null,null,null,null,null,null,null,null,null,null,null,null,null,null,null,null,null,null,"BB00-0320",""]
["             계             ",null,null,null,null,{"$f":"H408+J408+L408","v":1078481},null,{"$f":"ROUNDDOWN(SUM(H405:H407),0)","v":889967},null,{"$f":"ROUNDDOWN(SUM(J405:J407),0)","v":164620},null,{"$f":"ROUNDDOWN(SUM(L405:L407),0)","v":23894}]
[]
["제00580호표 ：도로경계블럭설치 (공통) HR 당",null,null,null,null,null,null,null,null,null,null,null,null,null,null,null,null,null,null,null,null,null,null,null,null,null,null,null,null,null,null,null,null,null,null,null,null,null,null,null,null,null,null,null,null,null,null,null,null,null,null,null,null,null,null,null,null,null,null,null,null,null,null,null,null,null,null,null,null,null,null,null,null,null,null,null,null,null,null,null,null,null,null,null,null,null,null,null,null,null,null,null,null,null,null,null,null,null,null,null,null,null,null,null,null,null,null,null,null,null,null,null,null,null,null,null,":BB00-0240"]
["트럭탑재형크레인","5 ton",1,"시간",{"$f":"G411+I411+K411","v":53671},53671,{"$f":"건설기계!$I$287","v":7978},{"$f":"TRUNC(C411*G411,1)","v":7978},{"$f":"건설기계!$K$287","v":36224},{"$f":"TRUNC(C411*I411,1)","v":36224},{"$f":"건설기계!$M$287","v":9469},{"$f":"TRUNC(C411*K411,1)","v":9469},"",null,null,null,null,null,null,null,null,null,null,null,null,null,null,null,null,null,null,null,null,null,null,null,null,null,null,null,null,null,null,null,null,null,null,null,null,null,null,null,null,null,null,null,null,null,null,null,null,null,null,null,null,null,null,null,null,null,null,null,null,null,null,null,null,null,null,null,null,null,null,null,null,null,null,null,null,null,null,null,null,null,null,null,null,null,null,null,null,null,null,null,null,null,null,null,null,null,null,null,null,null,null,null,"D2105-0005",""]
["특별인부","",0.375,"인",179203,67201.100000000006,0,{"$f":"TRUNC(C412*G412,1)","v":0},{"$f":"노임단가!$K$7","v":179203},{"$f":"TRUNC(C412*I412,1)","v":67201.100000000006},0,{"$f":"TRUNC(C412*K412,1)","v":0},"",null,null,null,null,null,null,null,null,null,null,null,null,null,null,null,null,null,null,null,null,null,null,null,null,null,null,null,null,null,null,null,null,null,null,null,null,null,null,null,null,null,null,null,null,null,null,null,null,null,null,null,null,null,null,null,null,null,null,null,null,null,null,null,null,null,null,null,null,null,null,null,null,null,null,null,null,null,null,null,null,null,null,null,null,null,null,null,null,null,null,null,null,null,null,null,null,null,null,null,null,null,null,null,"W1003",""]
["보통인부","",0.125,"인",141096,17637,0,{"$f":"TRUNC(C413*G413,1)","v":0},{"$f":"노임단가!$K$8","v":141096},{"$f":"TRUNC(C413*I413,1)","v":17637},0,{"$f":"TRUNC(C413*K413,1)","v":0},"",null,null,null,null,null,null,null,null,null,null,null,null,null,null,null,null,null,null,null,null,null,null,null,null,null,null,null,null,null,null,null,null,null,null,null,null,null,null,null,null,null,null,null,null,null,null,null,null,null,null,null,null,null,null,null,null,null,null,null,null,null,null,null,null,null,null,null,null,null,null,null,null,null,null,null,null,null,null,null,null,null,null,null,null,null,null,null,null,null,null,null,null,null,null,null,null,null,null,null,null,null,null,null,"W1002",""]
["             계             ",null,null,null,null,{"$f":"H414+J414+L414","v":138509},null,{"$f":"ROUNDDOWN(SUM(H411:H413),0)","v":7978},null,{"$f":"ROUNDDOWN(SUM(J411:J413),0)","v":121062},null,{"$f":"ROUNDDOWN(SUM(L411:L413),0)","v":9469}]
[]
["제00590호표 ：도로경계블록설치 (150*150*1000[시공량120m],직선구간) m 당",null,null,null,null,null,null,null,null,null,null,null,null,null,null,null,null,null,null,null,null,null,null,null,null,null,null,null,null,null,null,null,null,null,null,null,null,null,null,null,null,null,null,null,null,null,null,null,null,null,null,null,null,null,null,null,null,null,null,null,null,null,null,null,null,null,null,null,null,null,null,null,null,null,null,null,null,null,null,null,null,null,null,null,null,null,null,null,null,null,null,null,null,null,null,null,null,null,null,null,null,null,null,null,null,null,null,null,null,null,null,null,null,null,null,null,":BKF1000"]
["도로경계블록","SC형 15x15x100㎝",1,"EA",{"$f":"G417+I417+K417","v":3500},3500,{"$f":"자재단가!$R$42","v":3500},{"$f":"TRUNC(C417*G417,1)","v":3500},0,{"$f":"TRUNC(C417*I417,1)","v":0},0,{"$f":"TRUNC(C417*K417,1)","v":0},"",null,null,null,null,null,null,null,null,null,null,null,null,null,null,null,null,null,null,null,null,null,null,null,null,null,null,null,null,null,null,null,null,null,null,null,null,null,null,null,null,null,null,null,null,null,null,null,null,null,null,null,null,null,null,null,null,null,null,null,null,null,null,null,null,null,null,null,null,null,null,null,null,null,null,null,null,null,null,null,null,null,null,null,null,null,null,null,null,null,null,null,null,null,null,null,null,null,null,null,null,null,null,null,"M1188009",""]
["인력비빔타설(fck=180kgf/cm2)","무근구조물",2.9000000000000001E-2,"㎥",367815,10666.400000000001,{"$f":"$H$1482","v":62458},{"$f":"TRUNC(C418*G418,1)","v":1811.2},{"$f":"$J$1482","v":298571},{"$f":"TRUNC(C418*I418,1)","v":8658.5},{"$f":"$L$1482","v":6786},{"$f":"TRUNC(C418*K418,1)","v":196.7},"제 149호표",null,null,null,null,null,null,null,null,null,null,null,null,null,null,null,null,null,null,null,null,null,null,null,null,null,null,null,null,null,null,null,null,null,null,null,null,null,null,null,null,null,null,null,null,null,null,null,null,null,null,null,null,null,null,null,null,null,null,null,null,null,null,null,null,null,null,null,null,null,null,null,null,null,null,null,null,null,null,null,null,null,null,null,null,null,null,null,null,null,null,null,null,null,null,null,null,null,null,null,null,null,null,null,"BFB3130",""]
["거푸집(합판6회)","간단",0.31,"㎡",35793,11095.7,{"$f":"$H$189","v":10344},{"$f":"TRUNC(C419*G419,1)","v":3206.6},{"$f":"$J$189","v":25449},{"$f":"TRUNC(C419*I419,1)","v":7889.1},{"$f":"$L$189","v":0},{"$f":"TRUNC(C419*K419,1)","v":0},"제  23호표",null,null,null,null,null,null,null,null,null,null,null,null,null,null,null,null,null,null,null,null,null,null,null,null,null,null,null,null,null,null,null,null,null,null,null,null,null,null,null,null,null,null,null,null,null,null,null,null,null,null,null,null,null,null,null,null,null,null,null,null,null,null,null,null,null,null,null,null,null,null,null,null,null,null,null,null,null,null,null,null,null,null,null,null,null,null,null,null,null,null,null,null,null,null,null,null,null,null,null,null,null,null,null,"BFC2600",""]
["모르터","배합비 1:3",1E-4,"㎥",157459,15.600000000000001,{"$f":"$H$644","v":83528},{"$f":"TRUNC(C420*G420,1)","v":8.3000000000000007},{"$f":"$J$644","v":60671},{"$f":"TRUNC(C420*I420,1)","v":6},{"$f":"$L$644","v":13260},{"$f":"TRUNC(C420*K420,1)","v":1.3},"제  83호표",null,null,null,null,null,null,null,null,null,null,null,null,null,null,null,null,null,null,null,null,null,null,null,null,null,null,null,null,null,null,null,null,null,null,null,null,null,null,null,null,null,null,null,null,null,null,null,null,null,null,null,null,null,null,null,null,null,null,null,null,null,null,null,null,null,null,null,null,null,null,null,null,null,null,null,null,null,null,null,null,null,null,null,null,null,null,null,null,null,null,null,null,null,null,null,null,null,null,null,null,null,null,null,"BFJ8300",""]
["도로경계블럭설치","공통",6.6000000000000003E-2,"HR",138509,9141.4,{"$f":"$H$414","v":7978},{"$f":"TRUNC(C421*G421,1)","v":526.5},{"$f":"$J$414","v":121062},{"$f":"TRUNC(C421*I421,1)","v":7990},{"$f":"$L$414","v":9469},{"$f":"TRUNC(C421*K421,1)","v":624.9},"제  58호표",null,null,null,null,null,null,null,null,null,null,null,null,null,null,null,null,null,null,null,null,null,null,null,null,null,null,null,null,null,null,null,null,null,null,null,null,null,null,null,null,null,null,null,null,null,null,null,null,null,null,null,null,null,null,null,null,null,null,null,null,null,null,null,null,null,null,null,null,null,null,null,null,null,null,null,null,null,null,null,null,null,null,null,null,null,null,null,null,null,null,null,null,null,null,null,null,null,null,null,null,null,null,null,"BB00-0240",""]
["             계             ",null,null,null,null,{"$f":"H422+J422+L422","v":34417},null,{"$f":"ROUNDDOWN(SUM(H417:H421),0)","v":9052},null,{"$f":"ROUNDDOWN(SUM(J417:J421),0)","v":24543},null,{"$f":"ROUNDDOWN(SUM(L417:L421),0)","v":822}]
[]
["제00591호표 ：도로경계블록설치 (150*150*1000[시공량100m],곡선구간) m 당",null,null,null,null,null,null,null,null,null,null,null,null,null,null,null,null,null,null,null,null,null,null,null,null,null,null,null,null,null,null,null,null,null,null,null,null,null,null,null,null,null,null,null,null,null,null,null,null,null,null,null,null,null,null,null,null,null,null,null,null,null,null,null,null,null,null,null,null,null,null,null,null,null,null,null,null,null,null,null,null,null,null,null,null,null,null,null,null,null,null,null,null,null,null,null,null,null,null,null,null,null,null,null,null,null,null,null,null,null,null,null,null,null,null,null,":BKF1000"]
["도로경계블록","SC형 15x15x100㎝",1,"EA",{"$f":"G425+I425+K425","v":3500},{"$f":"H425+J425+L425","v":3500},{"$f":"자재단가!$R$42","v":3500},{"$f":"TRUNC(C425*G425,1)","v":3500},0,{"$f":"TRUNC(C425*I425,1)","v":0},0,{"$f":"TRUNC(C425*K425,1)","v":0},"",null,null,null,null,null,null,null,null,null,null,null,null,null,null,null,null,null,null,null,null,null,null,null,null,null,null,null,null,null,null,null,null,null,null,null,null,null,null,null,null,null,null,null,null,null,null,null,null,null,null,null,null,null,null,null,null,null,null,null,null,null,null,null,null,null,null,null,null,null,null,null,null,null,null,null,null,null,null,null,null,null,null,null,null,null,null,null,null,null,null,null,null,null,null,null,null,null,null,null,null,null,null,null,"M1188009",""]
["인력비빔타설(fck=180kgf/cm2)","무근구조물",2.9000000000000001E-2,"㎥",367815,10666.400000000001,{"$f":"$H$1482","v":62458},{"$f":"TRUNC(C426*G426,1)","v":1811.2},{"$f":"$J$1482","v":298571},{"$f":"TRUNC(C426*I426,1)","v":8658.5},{"$f":"$L$1482","v":6786},{"$f":"TRUNC(C426*K426,1)","v":196.7},"제 149호표",null,null,null,null,null,null,null,null,null,null,null,null,null,null,null,null,null,null,null,null,null,null,null,null,null,null,null,null,null,null,null,null,null,null,null,null,null,null,null,null,null,null,null,null,null,null,null,null,null,null,null,null,null,null,null,null,null,null,null,null,null,null,null,null,null,null,null,null,null,null,null,null,null,null,null,null,null,null,null,null,null,null,null,null,null,null,null,null,null,null,null,null,null,null,null,null,null,null,null,null,null,null,null,"BFB3130",""]
["거푸집(합판6회)","간단",0.31,"㎡",35793,11095.7,{"$f":"$H$189","v":10344},{"$f":"TRUNC(C427*G427,1)","v":3206.6},{"$f":"$J$189","v":25449},{"$f":"TRUNC(C427*I427,1)","v":7889.1},{"$f":"$L$189","v":0},{"$f":"TRUNC(C427*K427,1)","v":0},"제  23호표",null,null,null,null,null,null,null,null,null,null,null,null,null,null,null,null,null,null,null,null,null,null,null,null,null,null,null,null,null,null,null,null,null,null,null,null,null,null,null,null,null,null,null,null,null,null,null,null,null,null,null,null,null,null,null,null,null,null,null,null,null,null,null,null,null,null,null,null,null,null,null,null,null,null,null,null,null,null,null,null,null,null,null,null,null,null,null,null,null,null,null,null,null,null,null,null,null,null,null,null,null,null,null,"BFC2600",""]
["모르터","배합비 1:3",1E-4,"㎥",157459,15.600000000000001,{"$f":"$H$644","v":83528},{"$f":"TRUNC(C428*G428,1)","v":8.3000000000000007},{"$f":"$J$644","v":60671},{"$f":"TRUNC(C428*I428,1)","v":6},{"$f":"$L$644","v":13260},{"$f":"TRUNC(C428*K428,1)","v":1.3},"제  83호표",null,null,null,null,null,null,null,null,null,null,null,null,null,null,null,null,null,null,null,null,null,null,null,null,null,null,null,null,null,null,null,null,null,null,null,null,null,null,null,null,null,null,null,null,null,null,null,null,null,null,null,null,null,null,null,null,null,null,null,null,null,null,null,null,null,null,null,null,null,null,null,null,null,null,null,null,null,null,null,null,null,null,null,null,null,null,null,null,null,null,null,null,null,null,null,null,null,null,null,null,null,null,null,"BFJ8300",""]
["도로경계블럭설치","공통",0.08,"HR",138509,11080.6,{"$f":"$H$414","v":7978},{"$f":"TRUNC(C429*G429,1)","v":638.20000000000005},{"$f":"$J$414","v":121062},{"$f":"TRUNC(C429*I429,1)","v":9684.9},{"$f":"$L$414","v":9469},{"$f":"TRUNC(C429*K429,1)","v":757.5},"제  58호표",null,null,null,null,null,null,null,null,null,null,null,null,null,null,null,null,null,null,null,null,null,null,null,null,null,null,null,null,null,null,null,null,null,null,null,null,null,null,null,null,null,null,null,null,null,null,null,null,null,null,null,null,null,null,null,null,null,null,null,null,null,null,null,null,null,null,null,null,null,null,null,null,null,null,null,null,null,null,null,null,null,null,null,null,null,null,null,null,null,null,null,null,null,null,null,null,null,null,null,null,null,null,null,"BB00-0240",""]
["             계             ",null,null,null,null,{"$f":"H430+J430+L430","v":36357},null,{"$f":"ROUNDDOWN(SUM(H425:H429),0)","v":9164},null,{"$f":"ROUNDDOWN(SUM(J425:J429),0)","v":26238},null,{"$f":"ROUNDDOWN(SUM(L425:L429),0)","v":955}]
[]
["제00600호표 ：도로경계블록설치 (150*150*1000([시공량20%감],직선구간) m 당",null,null,null,null,null,null,null,null,null,null,null,null,null,null,null,null,null,null,null,null,null,null,null,null,null,null,null,null,null,null,null,null,null,null,null,null,null,null,null,null,null,null,null,null,null,null,null,null,null,null,null,null,null,null,null,null,null,null,null,null,null,null,null,null,null,null,null,null,null,null,null,null,null,null,null,null,null,null,null,null,null,null,null,null,null,null,null,null,null,null,null,null,null,null,null,null,null,null,null,null,null,null,null,null,null,null,null,null,null,null,null,null,null,null,null,":BKF1001"]
["도로경계블록","SC형 15x15x100㎝",1,"EA",{"$f":"G433+I433+K433","v":3500},3500,{"$f":"자재단가!$R$42","v":3500},{"$f":"TRUNC(C433*G433,1)","v":3500},0,{"$f":"TRUNC(C433*I433,1)","v":0},0,{"$f":"TRUNC(C433*K433,1)","v":0},"",null,null,null,null,null,null,null,null,null,null,null,null,null,null,null,null,null,null,null,null,null,null,null,null,null,null,null,null,null,null,null,null,null,null,null,null,null,null,null,null,null,null,null,null,null,null,null,null,null,null,null,null,null,null,null,null,null,null,null,null,null,null,null,null,null,null,null,null,null,null,null,null,null,null,null,null,null,null,null,null,null,null,null,null,null,null,null,null,null,null,null,null,null,null,null,null,null,null,null,null,null,null,null,"M1188009",""]
["인력비빔타설(fck=180kgf/cm2)","무근구조물",2.9000000000000001E-2,"㎥",367815,10666.400000000001,{"$f":"$H$1482","v":62458},{"$f":"TRUNC(C434*G434,1)","v":1811.2},{"$f":"$J$1482","v":298571},{"$f":"TRUNC(C434*I434,1)","v":8658.5},{"$f":"$L$1482","v":6786},{"$f":"TRUNC(C434*K434,1)","v":196.7},"제 149호표",null,null,null,null,null,null,null,null,null,null,null,null,null,null,null,null,null,null,null,null,null,null,null,null,null,null,null,null,null,null,null,null,null,null,null,null,null,null,null,null,null,null,null,null,null,null,null,null,null,null,null,null,null,null,null,null,null,null,null,null,null,null,null,null,null,null,null,null,null,null,null,null,null,null,null,null,null,null,null,null,null,null,null,null,null,null,null,null,null,null,null,null,null,null,null,null,null,null,null,null,null,null,null,"BFB3130",""]
["거푸집(합판6회)","간단",0.31,"㎡",35793,11095.7,{"$f":"$H$189","v":10344},{"$f":"TRUNC(C435*G435,1)","v":3206.6},{"$f":"$J$189","v":25449},{"$f":"TRUNC(C435*I435,1)","v":7889.1},{"$f":"$L$189","v":0},{"$f":"TRUNC(C435*K435,1)","v":0},"제  23호표",null,null,null,null,null,null,null,null,null,null,null,null,null,null,null,null,null,null,null,null,null,null,null,null,null,null,null,null,null,null,null,null,null,null,null,null,null,null,null,null,null,null,null,null,null,null,null,null,null,null,null,null,null,null,null,null,null,null,null,null,null,null,null,null,null,null,null,null,null,null,null,null,null,null,null,null,null,null,null,null,null,null,null,null,null,null,null,null,null,null,null,null,null,null,null,null,null,null,null,null,null,null,null,"BFC2600",""]
["모르터","배합비 1:3",1E-4,"㎥",157459,15.600000000000001,{"$f":"$H$644","v":83528},{"$f":"TRUNC(C436*G436,1)","v":8.3000000000000007},{"$f":"$J$644","v":60671},{"$f":"TRUNC(C436*I436,1)","v":6},{"$f":"$L$644","v":13260},{"$f":"TRUNC(C436*K436,1)","v":1.3},"제  83호표",null,null,null,null,null,null,null,null,null,null,null,null,null,null,null,null,null,null,null,null,null,null,null,null,null,null,null,null,null,null,null,null,null,null,null,null,null,null,null,null,null,null,null,null,null,null,null,null,null,null,null,null,null,null,null,null,null,null,null,null,null,null,null,null,null,null,null,null,null,null,null,null,null,null,null,null,null,null,null,null,null,null,null,null,null,null,null,null,null,null,null,null,null,null,null,null,null,null,null,null,null,null,null,"BFJ8300",""]
["도로경계블럭설치","공통",8.3000000000000004E-2,"HR",138509,11496.1,{"$f":"$H$414","v":7978},{"$f":"TRUNC(C437*G437,1)","v":662.1},{"$f":"$J$414","v":121062},{"$f":"TRUNC(C437*I437,1)","v":10048.1},{"$f":"$L$414","v":9469},{"$f":"TRUNC(C437*K437,1)","v":785.9},"제  58호표",null,null,null,null,null,null,null,null,null,null,null,null,null,null,null,null,null,null,null,null,null,null,null,null,null,null,null,null,null,null,null,null,null,null,null,null,null,null,null,null,null,null,null,null,null,null,null,null,null,null,null,null,null,null,null,null,null,null,null,null,null,null,null,null,null,null,null,null,null,null,null,null,null,null,null,null,null,null,null,null,null,null,null,null,null,null,null,null,null,null,null,null,null,null,null,null,null,null,null,null,null,null,null,"BB00-0240",""]
["             계             ",null,null,null,null,{"$f":"H438+J438+L438","v":36772},null,{"$f":"ROUNDDOWN(SUM(H433:H437),0)","v":9188},null,{"$f":"ROUNDDOWN(SUM(J433:J437),0)","v":26601},null,{"$f":"ROUNDDOWN(SUM(L433:L437),0)","v":983}]
[]
["제00601호표 ：도로경계블록설치 (150*150*1000([시공량20%감],곡선구간) m 당",null,null,null,null,null,null,null,null,null,null,null,null,null,null,null,null,null,null,null,null,null,null,null,null,null,null,null,null,null,null,null,null,null,null,null,null,null,null,null,null,null,null,null,null,null,null,null,null,null,null,null,null,null,null,null,null,null,null,null,null,null,null,null,null,null,null,null,null,null,null,null,null,null,null,null,null,null,null,null,null,null,null,null,null,null,null,null,null,null,null,null,null,null,null,null,null,null,null,null,null,null,null,null,null,null,null,null,null,null,null,null,null,null,null,null,":BKF1001"]
["도로경계블록","SC형 15x15x100㎝",1,"EA",{"$f":"G441+I441+K441","v":3500},{"$f":"H441+J441+L441","v":3500},{"$f":"자재단가!$R$42","v":3500},{"$f":"TRUNC(C441*G441,1)","v":3500},0,{"$f":"TRUNC(C441*I441,1)","v":0},0,{"$f":"TRUNC(C441*K441,1)","v":0},"",null,null,null,null,null,null,null,null,null,null,null,null,null,null,null,null,null,null,null,null,null,null,null,null,null,null,null,null,null,null,null,null,null,null,null,null,null,null,null,null,null,null,null,null,null,null,null,null,null,null,null,null,null,null,null,null,null,null,null,null,null,null,null,null,null,null,null,null,null,null,null,null,null,null,null,null,null,null,null,null,null,null,null,null,null,null,null,null,null,null,null,null,null,null,null,null,null,null,null,null,null,null,null,"M1188009",""]
["인력비빔타설(fck=180kgf/cm2)","무근구조물",2.9000000000000001E-2,"㎥",367815,10666.400000000001,{"$f":"$H$1482","v":62458},{"$f":"TRUNC(C442*G442,1)","v":1811.2},{"$f":"$J$1482","v":298571},{"$f":"TRUNC(C442*I442,1)","v":8658.5},{"$f":"$L$1482","v":6786},{"$f":"TRUNC(C442*K442,1)","v":196.7},"제 149호표",null,null,null,null,null,null,null,null,null,null,null,null,null,null,null,null,null,null,null,null,null,null,null,null,null,null,null,null,null,null,null,null,null,null,null,null,null,null,null,null,null,null,null,null,null,null,null,null,null,null,null,null,null,null,null,null,null,null,null,null,null,null,null,null,null,null,null,null,null,null,null,null,null,null,null,null,null,null,null,null,null,null,null,null,null,null,null,null,null,null,null,null,null,null,null,null,null,null,null,null,null,null,null,"BFB3130",""]
["거푸집(합판6회)","간단",0.31,"㎡",35793,11095.7,{"$f":"$H$189","v":10344},{"$f":"TRUNC(C443*G443,1)","v":3206.6},{"$f":"$J$189","v":25449},{"$f":"TRUNC(C443*I443,1)","v":7889.1},{"$f":"$L$189","v":0},{"$f":"TRUNC(C443*K443,1)","v":0},"제  23호표",null,null,null,null,null,null,null,null,null,null,null,null,null,null,null,null,null,null,null,null,null,null,null,null,null,null,null,null,null,null,null,null,null,null,null,null,null,null,null,null,null,null,null,null,null,null,null,null,null,null,null,null,null,null,null,null,null,null,null,null,null,null,null,null,null,null,null,null,null,null,null,null,null,null,null,null,null,null,null,null,null,null,null,null,null,null,null,null,null,null,null,null,null,null,null,null,null,null,null,null,null,null,null,"BFC2600",""]
["모르터","배합비 1:3",1E-4,"㎥",157459,15.600000000000001,{"$f":"$H$644","v":83528},{"$f":"TRUNC(C444*G444,1)","v":8.3000000000000007},{"$f":"$J$644","v":60671},{"$f":"TRUNC(C444*I444,1)","v":6},{"$f":"$L$644","v":13260},{"$f":"TRUNC(C444*K444,1)","v":1.3},"제  83호표",null,null,null,null,null,null,null,null,null,null,null,null,null,null,null,null,null,null,null,null,null,null,null,null,null,null,null,null,null,null,null,null,null,null,null,null,null,null,null,null,null,null,null,null,null,null,null,null,null,null,null,null,null,null,null,null,null,null,null,null,null,null,null,null,null,null,null,null,null,null,null,null,null,null,null,null,null,null,null,null,null,null,null,null,null,null,null,null,null,null,null,null,null,null,null,null,null,null,null,null,null,null,null,"BFJ8300",""]
["도로경계블럭설치","공통",0.1,"HR",138509,13850.9,{"$f":"$H$414","v":7978},{"$f":"TRUNC(C445*G445,1)","v":797.8},{"$f":"$J$414","v":121062},{"$f":"TRUNC(C445*I445,1)","v":12106.2},{"$f":"$L$414","v":9469},{"$f":"TRUNC(C445*K445,1)","v":946.9},"제  58호표",null,null,null,null,null,null,null,null,null,null,null,null,null,null,null,null,null,null,null,null,null,null,null,null,null,null,null,null,null,null,null,null,null,null,null,null,null,null,null,null,null,null,null,null,null,null,null,null,null,null,null,null,null,null,null,null,null,null,null,null,null,null,null,null,null,null,null,null,null,null,null,null,null,null,null,null,null,null,null,null,null,null,null,null,null,null,null,null,null,null,null,null,null,null,null,null,null,null,null,null,null,null,null,"BB00-0240",""]
["             계             ",null,null,null,null,{"$f":"H446+J446+L446","v":39126},null,{"$f":"ROUNDDOWN(SUM(H441:H445),0)","v":9323},null,{"$f":"ROUNDDOWN(SUM(J441:J445),0)","v":28659},null,{"$f":"ROUNDDOWN(SUM(L441:L445),0)","v":1144}]
[]
["제00610호표 ：도로경계석설치 (공통) HR 당",null,null,null,null,null,null,null,null,null,null,null,null,null,null,null,null,null,null,null,null,null,null,null,null,null,null,null,null,null,null,null,null,null,null,null,null,null,null,null,null,null,null,null,null,null,null,null,null,null,null,null,null,null,null,null,null,null,null,null,null,null,null,null,null,null,null,null,null,null,null,null,null,null,null,null,null,null,null,null,null,null,null,null,null,null,null,null,null,null,null,null,null,null,null,null,null,null,null,null,null,null,null,null,null,null,null,null,null,null,null,null,null,null,null,null,":BB00-0250"]
["트럭탑재형크레인","5 ton",1,"시간",{"$f":"G449+I449+K449","v":53671},53671,{"$f":"건설기계!$I$287","v":7978},{"$f":"TRUNC(C449*G449,1)","v":7978},{"$f":"건설기계!$K$287","v":36224},{"$f":"TRUNC(C449*I449,1)","v":36224},{"$f":"건설기계!$M$287","v":9469},{"$f":"TRUNC(C449*K449,1)","v":9469},"",null,null,null,null,null,null,null,null,null,null,null,null,null,null,null,null,null,null,null,null,null,null,null,null,null,null,null,null,null,null,null,null,null,null,null,null,null,null,null,null,null,null,null,null,null,null,null,null,null,null,null,null,null,null,null,null,null,null,null,null,null,null,null,null,null,null,null,null,null,null,null,null,null,null,null,null,null,null,null,null,null,null,null,null,null,null,null,null,null,null,null,null,null,null,null,null,null,null,null,null,null,null,null,"D2105-0005",""]
["특별인부","",0.375,"인",179203,67201.100000000006,0,{"$f":"TRUNC(C450*G450,1)","v":0},{"$f":"노임단가!$K$7","v":179203},{"$f":"TRUNC(C450*I450,1)","v":67201.100000000006},0,{"$f":"TRUNC(C450*K450,1)","v":0},"",null,null,null,null,null,null,null,null,null,null,null,null,null,null,null,null,null,null,null,null,null,null,null,null,null,null,null,null,null,null,null,null,null,null,null,null,null,null,null,null,null,null,null,null,null,null,null,null,null,null,null,null,null,null,null,null,null,null,null,null,null,null,null,null,null,null,null,null,null,null,null,null,null,null,null,null,null,null,null,null,null,null,null,null,null,null,null,null,null,null,null,null,null,null,null,null,null,null,null,null,null,null,null,"W1003",""]
["보통인부","",0.125,"인",141096,17637,0,{"$f":"TRUNC(C451*G451,1)","v":0},{"$f":"노임단가!$K$8","v":141096},{"$f":"TRUNC(C451*I451,1)","v":17637},0,{"$f":"TRUNC(C451*K451,1)","v":0},"",null,null,null,null,null,null,null,null,null,null,null,null,null,null,null,null,null,null,null,null,null,null,null,null,null,null,null,null,null,null,null,null,null,null,null,null,null,null,null,null,null,null,null,null,null,null,null,null,null,null,null,null,null,null,null,null,null,null,null,null,null,null,null,null,null,null,null,null,null,null,null,null,null,null,null,null,null,null,null,null,null,null,null,null,null,null,null,null,null,null,null,null,null,null,null,null,null,null,null,null,null,null,null,"W1002",""]
["             계             ",null,null,null,null,{"$f":"H452+J452+L452","v":138509},null,{"$f":"ROUNDDOWN(SUM(H449:H451),0)","v":7978},null,{"$f":"ROUNDDOWN(SUM(J449:J451),0)","v":121062},null,{"$f":"ROUNDDOWN(SUM(L449:L451),0)","v":9469}]
[]
["제00620호표 ：도로경계석설치 (100*100*1000[시공량140m],직선구간) m 당",null,null,null,null,null,null,null,null,null,null,null,null,null,null,null,null,null,null,null,null,null,null,null,null,null,null,null,null,null,null,null,null,null,null,null,null,null,null,null,null,null,null,null,null,null,null,null,null,null,null,null,null,null,null,null,null,null,null,null,null,null,null,null,null,null,null,null,null,null,null,null,null,null,null,null,null,null,null,null,null,null,null,null,null,null,null,null,null,null,null,null,null,null,null,null,null,null,null,null,null,null,null,null,null,null,null,null,null,null,null,null,null,null,null,null,":B000-019"]
["자연석 경계석","도로용(직선)10*10*100",1,"EA",{"$f":"G455+I455+K455","v":6200},6200,{"$f":"자재단가!$R$15","v":6200},{"$f":"TRUNC(C455*G455,1)","v":6200},0,{"$f":"TRUNC(C455*I455,1)","v":0},0,{"$f":"TRUNC(C455*K455,1)","v":0},"   관  급  ",null,null,null,null,null,null,null,null,null,null,null,null,null,null,null,null,null,null,null,null,null,null,null,null,null,null,null,null,null,null,null,null,null,null,null,null,null,null,null,null,null,null,null,null,null,null,null,null,null,null,null,null,null,null,null,null,null,null,null,null,null,null,null,null,null,null,null,null,null,null,null,null,null,null,null,null,null,null,null,null,null,null,null,null,null,null,null,null,null,null,null,null,null,null,null,null,null,null,null,null,null,null,null,"M000-1122",""]
["인력비빔타설(fck=180kgf/cm2)","무근구조물",2.4E-2,"㎥",367815,8827.4,{"$f":"$H$1482","v":62458},1498.9,{"$f":"$J$1482","v":298571},7165.7,{"$f":"$L$1482","v":6786},162.80000000000001,"제 149호표",null,null,null,null,null,null,null,null,null,null,null,null,null,null,null,null,null,null,null,null,null,null,null,null,null,null,null,null,null,null,null,null,null,null,null,null,null,null,null,null,null,null,null,null,null,null,null,null,null,null,null,null,null,null,null,null,null,null,null,null,null,null,null,null,null,null,null,null,null,null,null,null,null,null,null,null,null,null,null,null,null,null,null,null,null,null,null,null,null,null,null,null,null,null,null,null,null,null,null,null,null,null,null,"BFB3130",""]
["거푸집(합판6회)","간단",0.24,"㎡",35793,8590.2000000000007,{"$f":"$H$189","v":10344},2482.5,{"$f":"$J$189","v":25449},6107.7,{"$f":"$L$189","v":0},0,"제  23호표",null,null,null,null,null,null,null,null,null,null,null,null,null,null,null,null,null,null,null,null,null,null,null,null,null,null,null,null,null,null,null,null,null,null,null,null,null,null,null,null,null,null,null,null,null,null,null,null,null,null,null,null,null,null,null,null,null,null,null,null,null,null,null,null,null,null,null,null,null,null,null,null,null,null,null,null,null,null,null,null,null,null,null,null,null,null,null,null,null,null,null,null,null,null,null,null,null,null,null,null,null,null,null,"BFC2600",""]
["모르터","배합비 1:3",1E-4,"㎥",157459,15.600000000000001,{"$f":"$H$644","v":83528},8.3000000000000007,{"$f":"$J$644","v":60671},6,{"$f":"$L$644","v":13260},1.3,"제  83호표",null,null,null,null,null,null,null,null,null,null,null,null,null,null,null,null,null,null,null,null,null,null,null,null,null,null,null,null,null,null,null,null,null,null,null,null,null,null,null,null,null,null,null,null,null,null,null,null,null,null,null,null,null,null,null,null,null,null,null,null,null,null,null,null,null,null,null,null,null,null,null,null,null,null,null,null,null,null,null,null,null,null,null,null,null,null,null,null,null,null,null,null,null,null,null,null,null,null,null,null,null,null,null,"BFJ8300",""]
["도로경계석설치","공통",5.7000000000000002E-2,"HR",138509,7894.9,{"$f":"$H$452","v":7978},454.7,{"$f":"$J$452","v":121062},6900.5,{"$f":"$L$452","v":9469},539.70000000000005,"",null,null,null,null,null,null,null,null,null,null,null,null,null,null,null,null,null,null,null,null,null,null,null,null,null,null,null,null,null,null,null,null,null,null,null,null,null,null,null,null,null,null,null,null,null,null,null,null,null,null,null,null,null,null,null,null,null,null,null,null,null,null,null,null,null,null,null,null,null,null,null,null,null,null,null,null,null,null,null,null,null,null,null,null,null,null,null,null,null,null,null,null,null,null,null,null,null,null,null,null,null,null,null,"W1002",""]
["             계             ",null,null,null,null,{"$f":"H460+J460+L460","v":25326},null,{"$f":"ROUNDDOWN(SUM(H455:H459)-(H455),0)","v":4444},null,{"$f":"ROUNDDOWN(SUM(J455:J459)-(J455),0)","v":20179},null,{"$f":"ROUNDDOWN(SUM(L455:L459)-(L455),0)","v":703}]
[]
["제00621호표 ：도로경계석설치 (100*100*1000[시공량130m],곡선구간) m 당",null,null,null,null,null,null,null,null,null,null,null,null,null,null,null,null,null,null,null,null,null,null,null,null,null,null,null,null,null,null,null,null,null,null,null,null,null,null,null,null,null,null,null,null,null,null,null,null,null,null,null,null,null,null,null,null,null,null,null,null,null,null,null,null,null,null,null,null,null,null,null,null,null,null,null,null,null,null,null,null,null,null,null,null,null,null,null,null,null,null,null,null,null,null,null,null,null,null,null,null,null,null,null,null,null,null,null,null,null,null,null,null,null,null,null,":B000-019"]
["자연석 경계석","도로용(직선)10*10*100",1,"EA",{"$f":"G463+I463+K463","v":6200},{"$f":"H463+J463+L463","v":6200},{"$f":"자재단가!$R$15","v":6200},{"$f":"TRUNC(C463*G463,1)","v":6200},0,{"$f":"TRUNC(C463*I463,1)","v":0},0,{"$f":"TRUNC(C463*K463,1)","v":0},"   관  급  ",null,null,null,null,null,null,null,null,null,null,null,null,null,null,null,null,null,null,null,null,null,null,null,null,null,null,null,null,null,null,null,null,null,null,null,null,null,null,null,null,null,null,null,null,null,null,null,null,null,null,null,null,null,null,null,null,null,null,null,null,null,null,null,null,null,null,null,null,null,null,null,null,null,null,null,null,null,null,null,null,null,null,null,null,null,null,null,null,null,null,null,null,null,null,null,null,null,null,null,null,null,null,null,"M000-1122",""]
["인력비빔타설(fck=180kgf/cm2)","무근구조물",2.4E-2,"㎥",367815,8827.4,{"$f":"$H$1482","v":62458},1498.9,{"$f":"$J$1482","v":298571},7165.7,{"$f":"$L$1482","v":6786},162.80000000000001,"제 149호표",null,null,null,null,null,null,null,null,null,null,null,null,null,null,null,null,null,null,null,null,null,null,null,null,null,null,null,null,null,null,null,null,null,null,null,null,null,null,null,null,null,null,null,null,null,null,null,null,null,null,null,null,null,null,null,null,null,null,null,null,null,null,null,null,null,null,null,null,null,null,null,null,null,null,null,null,null,null,null,null,null,null,null,null,null,null,null,null,null,null,null,null,null,null,null,null,null,null,null,null,null,null,null,"BFB3130",""]
["거푸집(합판6회)","간단",0.24,"㎡",35793,8590.2000000000007,{"$f":"$H$189","v":10344},2482.5,{"$f":"$J$189","v":25449},6107.7,{"$f":"$L$189","v":0},0,"제  23호표",null,null,null,null,null,null,null,null,null,null,null,null,null,null,null,null,null,null,null,null,null,null,null,null,null,null,null,null,null,null,null,null,null,null,null,null,null,null,null,null,null,null,null,null,null,null,null,null,null,null,null,null,null,null,null,null,null,null,null,null,null,null,null,null,null,null,null,null,null,null,null,null,null,null,null,null,null,null,null,null,null,null,null,null,null,null,null,null,null,null,null,null,null,null,null,null,null,null,null,null,null,null,null,"BFC2600",""]
["모르터","배합비 1:3",1E-4,"㎥",157459,15.600000000000001,{"$f":"$H$644","v":83528},8.3000000000000007,{"$f":"$J$644","v":60671},6,{"$f":"$L$644","v":13260},1.3,"제  83호표",null,null,null,null,null,null,null,null,null,null,null,null,null,null,null,null,null,null,null,null,null,null,null,null,null,null,null,null,null,null,null,null,null,null,null,null,null,null,null,null,null,null,null,null,null,null,null,null,null,null,null,null,null,null,null,null,null,null,null,null,null,null,null,null,null,null,null,null,null,null,null,null,null,null,null,null,null,null,null,null,null,null,null,null,null,null,null,null,null,null,null,null,null,null,null,null,null,null,null,null,null,null,null,"BFJ8300",""]
["도로경계석설치","공통",6.0999999999999999E-2,"HR",138509,8448.9,{"$f":"$H$452","v":7978},486.6,{"$f":"$J$452","v":121062},7384.7,{"$f":"$L$452","v":9469},577.6,"",null,null,null,null,null,null,null,null,null,null,null,null,null,null,null,null,null,null,null,null,null,null,null,null,null,null,null,null,null,null,null,null,null,null,null,null,null,null,null,null,null,null,null,null,null,null,null,null,null,null,null,null,null,null,null,null,null,null,null,null,null,null,null,null,null,null,null,null,null,null,null,null,null,null,null,null,null,null,null,null,null,null,null,null,null,null,null,null,null,null,null,null,null,null,null,null,null,null,null,null,null,null,null,"W1002",""]
["             계             ",null,null,null,null,{"$f":"H468+J468+L468","v":25881},null,{"$f":"ROUNDDOWN(SUM(H463:H467)-(H463),0)","v":4476},null,{"$f":"ROUNDDOWN(SUM(J463:J467)-(J463),0)","v":20664},null,{"$f":"ROUNDDOWN(SUM(L463:L467)-(L463),0)","v":741}]
[]
["제00630호표 ：도로경계석설치 (150*150*1000[시공량120m],직선구간) m 당",null,null,null,null,null,null,null,null,null,null,null,null,null,null,null,null,null,null,null,null,null,null,null,null,null,null,null,null,null,null,null,null,null,null,null,null,null,null,null,null,null,null,null,null,null,null,null,null,null,null,null,null,null,null,null,null,null,null,null,null,null,null,null,null,null,null,null,null,null,null,null,null,null,null,null,null,null,null,null,null,null,null,null,null,null,null,null,null,null,null,null,null,null,null,null,null,null,null,null,null,null,null,null,null,null,null,null,null,null,null,null,null,null,null,null,":BKF2000"]
["자연석 경계석","도로용(직선)15*15*100",1,"EA",{"$f":"G471+I471+K471","v":11000},11000,{"$f":"자재단가!$R$16","v":11000},{"$f":"TRUNC(C471*G471,1)","v":11000},0,{"$f":"TRUNC(C471*I471,1)","v":0},0,{"$f":"TRUNC(C471*K471,1)","v":0},"   관  급  ",null,null,null,null,null,null,null,null,null,null,null,null,null,null,null,null,null,null,null,null,null,null,null,null,null,null,null,null,null,null,null,null,null,null,null,null,null,null,null,null,null,null,null,null,null,null,null,null,null,null,null,null,null,null,null,null,null,null,null,null,null,null,null,null,null,null,null,null,null,null,null,null,null,null,null,null,null,null,null,null,null,null,null,null,null,null,null,null,null,null,null,null,null,null,null,null,null,null,null,null,null,null,null,"M1212009",""]
["인력비빔타설(fck=180kgf/cm2)","무근구조물",2.9000000000000001E-2,"㎥",367815,10666.400000000001,{"$f":"$H$1482","v":62458},{"$f":"TRUNC(C472*G472,1)","v":1811.2},{"$f":"$J$1482","v":298571},{"$f":"TRUNC(C472*I472,1)","v":8658.5},{"$f":"$L$1482","v":6786},{"$f":"TRUNC(C472*K472,1)","v":196.7},"제 149호표",null,null,null,null,null,null,null,null,null,null,null,null,null,null,null,null,null,null,null,null,null,null,null,null,null,null,null,null,null,null,null,null,null,null,null,null,null,null,null,null,null,null,null,null,null,null,null,null,null,null,null,null,null,null,null,null,null,null,null,null,null,null,null,null,null,null,null,null,null,null,null,null,null,null,null,null,null,null,null,null,null,null,null,null,null,null,null,null,null,null,null,null,null,null,null,null,null,null,null,null,null,null,null,"BFB3130",""]
["거푸집(합판6회)","간단",0.31,"㎡",35793,11095.7,{"$f":"$H$189","v":10344},{"$f":"TRUNC(C473*G473,1)","v":3206.6},{"$f":"$J$189","v":25449},{"$f":"TRUNC(C473*I473,1)","v":7889.1},{"$f":"$L$189","v":0},{"$f":"TRUNC(C473*K473,1)","v":0},"제  23호표",null,null,null,null,null,null,null,null,null,null,null,null,null,null,null,null,null,null,null,null,null,null,null,null,null,null,null,null,null,null,null,null,null,null,null,null,null,null,null,null,null,null,null,null,null,null,null,null,null,null,null,null,null,null,null,null,null,null,null,null,null,null,null,null,null,null,null,null,null,null,null,null,null,null,null,null,null,null,null,null,null,null,null,null,null,null,null,null,null,null,null,null,null,null,null,null,null,null,null,null,null,null,null,"BFC2600",""]
["모르터","배합비 1:3",1E-4,"㎥",157459,9.6000000000000014,{"$f":"$H$644","v":83528},{"$f":"TRUNC(C474*G474,1)","v":8.3000000000000007},{"$f":"$J$644","v":60671},null,{"$f":"$L$644","v":13260},{"$f":"TRUNC(C474*K474,1)","v":1.3},"제  83호표",null,null,null,null,null,null,null,null,null,null,null,null,null,null,null,null,null,null,null,null,null,null,null,null,null,null,null,null,null,null,null,null,null,null,null,null,null,null,null,null,null,null,null,null,null,null,null,null,null,null,null,null,null,null,null,null,null,null,null,null,null,null,null,null,null,null,null,null,null,null,null,null,null,null,null,null,null,null,null,null,null,null,null,null,null,null,null,null,null,null,null,null,null,null,null,null,null,null,null,null,null,null,null,"BFJ8300",""]
["도로경계석설치","공통",6.6000000000000003E-2,"HR",138509,9141.4,{"$f":"$H$452","v":7978},{"$f":"TRUNC(C475*G475,1)","v":526.5},{"$f":"$J$452","v":121062},{"$f":"TRUNC(C475*I475,1)","v":7990},{"$f":"$L$452","v":9469},{"$f":"TRUNC(C475*K475,1)","v":624.9},"제  61호표",null,null,null,null,null,null,null,null,null,null,null,null,null,null,null,null,null,null,null,null,null,null,null,null,null,null,null,null,null,null,null,null,null,null,null,null,null,null,null,null,null,null,null,null,null,null,null,null,null,null,null,null,null,null,null,null,null,null,null,null,null,null,null,null,null,null,null,null,null,null,null,null,null,null,null,null,null,null,null,null,null,null,null,null,null,null,null,null,null,null,null,null,null,null,null,null,null,null,null,null,null,null,null,"BB00-0250",""]
["             계             ",null,null,null,null,{"$f":"H476+J476+L476","v":30911},null,{"$f":"ROUNDDOWN(SUM(H471:H475)-(H471),0)","v":5552},null,{"$f":"ROUNDDOWN(SUM(J471:J475)-(J471),0)","v":24537},null,{"$f":"ROUNDDOWN(SUM(L471:L475)-(L471),0)","v":822}]
[]
["제00631호표 ：도로경계석설치 (150*150*1000[시공량100m],곡선구간) m 당",null,null,null,null,null,null,null,null,null,null,null,null,null,null,null,null,null,null,null,null,null,null,null,null,null,null,null,null,null,null,null,null,null,null,null,null,null,null,null,null,null,null,null,null,null,null,null,null,null,null,null,null,null,null,null,null,null,null,null,null,null,null,null,null,null,null,null,null,null,null,null,null,null,null,null,null,null,null,null,null,null,null,null,null,null,null,null,null,null,null,null,null,null,null,null,null,null,null,null,null,null,null,null,null,null,null,null,null,null,null,null,null,null,null,null,":BKF2000"]
["자연석 경계석","도로용(직선)15*15*100",1,"EA",{"$f":"G479+I479+K479","v":11000},{"$f":"H479+J479+L479","v":11000},{"$f":"자재단가!$R$16","v":11000},{"$f":"TRUNC(C479*G479,1)","v":11000},0,{"$f":"TRUNC(C479*I479,1)","v":0},0,{"$f":"TRUNC(C479*K479,1)","v":0},"   관  급  ",null,null,null,null,null,null,null,null,null,null,null,null,null,null,null,null,null,null,null,null,null,null,null,null,null,null,null,null,null,null,null,null,null,null,null,null,null,null,null,null,null,null,null,null,null,null,null,null,null,null,null,null,null,null,null,null,null,null,null,null,null,null,null,null,null,null,null,null,null,null,null,null,null,null,null,null,null,null,null,null,null,null,null,null,null,null,null,null,null,null,null,null,null,null,null,null,null,null,null,null,null,null,null,"M1212009",""]
["인력비빔타설(fck=180kgf/cm2)","무근구조물",2.9000000000000001E-2,"㎥",367815,10666.400000000001,{"$f":"$H$1482","v":62458},{"$f":"TRUNC(C480*G480,1)","v":1811.2},{"$f":"$J$1482","v":298571},{"$f":"TRUNC(C480*I480,1)","v":8658.5},{"$f":"$L$1482","v":6786},{"$f":"TRUNC(C480*K480,1)","v":196.7},"제 149호표",null,null,null,null,null,null,null,null,null,null,null,null,null,null,null,null,null,null,null,null,null,null,null,null,null,null,null,null,null,null,null,null,null,null,null,null,null,null,null,null,null,null,null,null,null,null,null,null,null,null,null,null,null,null,null,null,null,null,null,null,null,null,null,null,null,null,null,null,null,null,null,null,null,null,null,null,null,null,null,null,null,null,null,null,null,null,null,null,null,null,null,null,null,null,null,null,null,null,null,null,null,null,null,"BFB3130",""]
["거푸집(합판6회)","간단",0.31,"㎡",35793,11095.7,{"$f":"$H$189","v":10344},{"$f":"TRUNC(C481*G481,1)","v":3206.6},{"$f":"$J$189","v":25449},{"$f":"TRUNC(C481*I481,1)","v":7889.1},{"$f":"$L$189","v":0},{"$f":"TRUNC(C481*K481,1)","v":0},"제  23호표",null,null,null,null,null,null,null,null,null,null,null,null,null,null,null,null,null,null,null,null,null,null,null,null,null,null,null,null,null,null,null,null,null,null,null,null,null,null,null,null,null,null,null,null,null,null,null,null,null,null,null,null,null,null,null,null,null,null,null,null,null,null,null,null,null,null,null,null,null,null,null,null,null,null,null,null,null,null,null,null,null,null,null,null,null,null,null,null,null,null,null,null,null,null,null,null,null,null,null,null,null,null,null,"BFC2600",""]
["모르터","배합비 1:3",1E-4,"㎥",157459,9.6000000000000014,{"$f":"$H$644","v":83528},{"$f":"TRUNC(C482*G482,1)","v":8.3000000000000007},{"$f":"$J$644","v":60671},null,{"$f":"$L$644","v":13260},{"$f":"TRUNC(C482*K482,1)","v":1.3},"제  83호표",null,null,null,null,null,null,null,null,null,null,null,null,null,null,null,null,null,null,null,null,null,null,null,null,null,null,null,null,null,null,null,null,null,null,null,null,null,null,null,null,null,null,null,null,null,null,null,null,null,null,null,null,null,null,null,null,null,null,null,null,null,null,null,null,null,null,null,null,null,null,null,null,null,null,null,null,null,null,null,null,null,null,null,null,null,null,null,null,null,null,null,null,null,null,null,null,null,null,null,null,null,null,null,"BFJ8300",""]
["도로경계석설치","공통",0.08,"HR",138509,11080.6,{"$f":"$H$452","v":7978},{"$f":"TRUNC(C483*G483,1)","v":638.20000000000005},{"$f":"$J$452","v":121062},{"$f":"TRUNC(C483*I483,1)","v":9684.9},{"$f":"$L$452","v":9469},{"$f":"TRUNC(C483*K483,1)","v":757.5},"제  61호표",null,null,null,null,null,null,null,null,null,null,null,null,null,null,null,null,null,null,null,null,null,null,null,null,null,null,null,null,null,null,null,null,null,null,null,null,null,null,null,null,null,null,null,null,null,null,null,null,null,null,null,null,null,null,null,null,null,null,null,null,null,null,null,null,null,null,null,null,null,null,null,null,null,null,null,null,null,null,null,null,null,null,null,null,null,null,null,null,null,null,null,null,null,null,null,null,null,null,null,null,null,null,null,"BB00-0250",""]
["             계             ",null,null,null,null,{"$f":"H484+J484+L484","v":32851},null,{"$f":"ROUNDDOWN(SUM(H479:H483)-(H479),0)","v":5664},null,{"$f":"ROUNDDOWN(SUM(J479:J483)-(J479),0)","v":26232},null,{"$f":"ROUNDDOWN(SUM(L479:L483)-(L479),0)","v":955}]
[]
["제00640호표 ：도로경계석설치 (150*150*1000[시공량 20%감],직선구간) m 당",null,null,null,null,null,null,null,null,null,null,null,null,null,null,null,null,null,null,null,null,null,null,null,null,null,null,null,null,null,null,null,null,null,null,null,null,null,null,null,null,null,null,null,null,null,null,null,null,null,null,null,null,null,null,null,null,null,null,null,null,null,null,null,null,null,null,null,null,null,null,null,null,null,null,null,null,null,null,null,null,null,null,null,null,null,null,null,null,null,null,null,null,null,null,null,null,null,null,null,null,null,null,null,null,null,null,null,null,null,null,null,null,null,null,null,":BKF2001"]
["자연석 경계석","도로용(직선)15*15*100",1,"EA",{"$f":"G487+I487+K487","v":11000},11000,{"$f":"자재단가!$R$16","v":11000},{"$f":"TRUNC(C487*G487,1)","v":11000},0,{"$f":"TRUNC(C487*I487,1)","v":0},0,{"$f":"TRUNC(C487*K487,1)","v":0},"   관  급  ",null,null,null,null,null,null,null,null,null,null,null,null,null,null,null,null,null,null,null,null,null,null,null,null,null,null,null,null,null,null,null,null,null,null,null,null,null,null,null,null,null,null,null,null,null,null,null,null,null,null,null,null,null,null,null,null,null,null,null,null,null,null,null,null,null,null,null,null,null,null,null,null,null,null,null,null,null,null,null,null,null,null,null,null,null,null,null,null,null,null,null,null,null,null,null,null,null,null,null,null,null,null,null,"M1212009",""]
["인력비빔타설(fck=180kgf/cm2)","무근구조물",2.9000000000000001E-2,"㎥",367815,10666.400000000001,{"$f":"$H$1482","v":62458},{"$f":"TRUNC(C488*G488,1)","v":1811.2},{"$f":"$J$1482","v":298571},{"$f":"TRUNC(C488*I488,1)","v":8658.5},{"$f":"$L$1482","v":6786},{"$f":"TRUNC(C488*K488,1)","v":196.7},"제 149호표",null,null,null,null,null,null,null,null,null,null,null,null,null,null,null,null,null,null,null,null,null,null,null,null,null,null,null,null,null,null,null,null,null,null,null,null,null,null,null,null,null,null,null,null,null,null,null,null,null,null,null,null,null,null,null,null,null,null,null,null,null,null,null,null,null,null,null,null,null,null,null,null,null,null,null,null,null,null,null,null,null,null,null,null,null,null,null,null,null,null,null,null,null,null,null,null,null,null,null,null,null,null,null,"BFB3130",""]
["거푸집(합판6회)","간단",0.31,"㎡",35793,11095.7,{"$f":"$H$189","v":10344},{"$f":"TRUNC(C489*G489,1)","v":3206.6},{"$f":"$J$189","v":25449},{"$f":"TRUNC(C489*I489,1)","v":7889.1},{"$f":"$L$189","v":0},{"$f":"TRUNC(C489*K489,1)","v":0},"제  23호표",null,null,null,null,null,null,null,null,null,null,null,null,null,null,null,null,null,null,null,null,null,null,null,null,null,null,null,null,null,null,null,null,null,null,null,null,null,null,null,null,null,null,null,null,null,null,null,null,null,null,null,null,null,null,null,null,null,null,null,null,null,null,null,null,null,null,null,null,null,null,null,null,null,null,null,null,null,null,null,null,null,null,null,null,null,null,null,null,null,null,null,null,null,null,null,null,null,null,null,null,null,null,null,"BFC2600",""]
["모르터","배합비 1:3",1E-4,"㎥",157459,15.600000000000001,{"$f":"$H$644","v":83528},{"$f":"TRUNC(C490*G490,1)","v":8.3000000000000007},{"$f":"$J$644","v":60671},{"$f":"TRUNC(C490*I490,1)","v":6},{"$f":"$L$644","v":13260},{"$f":"TRUNC(C490*K490,1)","v":1.3},"제  83호표",null,null,null,null,null,null,null,null,null,null,null,null,null,null,null,null,null,null,null,null,null,null,null,null,null,null,null,null,null,null,null,null,null,null,null,null,null,null,null,null,null,null,null,null,null,null,null,null,null,null,null,null,null,null,null,null,null,null,null,null,null,null,null,null,null,null,null,null,null,null,null,null,null,null,null,null,null,null,null,null,null,null,null,null,null,null,null,null,null,null,null,null,null,null,null,null,null,null,null,null,null,null,null,"BFJ8300",""]
["도로경계석설치","공통",8.3000000000000004E-2,"HR",138509,11496.1,{"$f":"$H$452","v":7978},{"$f":"TRUNC(C491*G491,1)","v":662.1},{"$f":"$J$452","v":121062},{"$f":"TRUNC(C491*I491,1)","v":10048.1},{"$f":"$L$452","v":9469},{"$f":"TRUNC(C491*K491,1)","v":785.9},"제  61호표",null,null,null,null,null,null,null,null,null,null,null,null,null,null,null,null,null,null,null,null,null,null,null,null,null,null,null,null,null,null,null,null,null,null,null,null,null,null,null,null,null,null,null,null,null,null,null,null,null,null,null,null,null,null,null,null,null,null,null,null,null,null,null,null,null,null,null,null,null,null,null,null,null,null,null,null,null,null,null,null,null,null,null,null,null,null,null,null,null,null,null,null,null,null,null,null,null,null,null,null,null,null,null,"BB00-0250",""]
["             계             ",null,null,null,null,{"$f":"H492+J492+L492","v":33272},null,{"$f":"ROUNDDOWN(SUM(H487:H491)-(H487),0)","v":5688},null,{"$f":"ROUNDDOWN(SUM(J487:J491)-(J487),0)","v":26601},null,{"$f":"ROUNDDOWN(SUM(L487:L491)-(L487),0)","v":983}]
[]
["제00641호표 ：도로경계석설치 (150*150*1000[시공량 20%감],곡선구간) m 당",null,null,null,null,null,null,null,null,null,null,null,null,null,null,null,null,null,null,null,null,null,null,null,null,null,null,null,null,null,null,null,null,null,null,null,null,null,null,null,null,null,null,null,null,null,null,null,null,null,null,null,null,null,null,null,null,null,null,null,null,null,null,null,null,null,null,null,null,null,null,null,null,null,null,null,null,null,null,null,null,null,null,null,null,null,null,null,null,null,null,null,null,null,null,null,null,null,null,null,null,null,null,null,null,null,null,null,null,null,null,null,null,null,null,null,":BKF2001"]
["자연석 경계석","도로용(직선)15*15*100",1,"EA",{"$f":"G495+I495+K495","v":11000},{"$f":"H495+J495+L495","v":11000},{"$f":"자재단가!$R$16","v":11000},{"$f":"TRUNC(C495*G495,1)","v":11000},0,{"$f":"TRUNC(C495*I495,1)","v":0},0,{"$f":"TRUNC(C495*K495,1)","v":0},"   관  급  ",null,null,null,null,null,null,null,null,null,null,null,null,null,null,null,null,null,null,null,null,null,null,null,null,null,null,null,null,null,null,null,null,null,null,null,null,null,null,null,null,null,null,null,null,null,null,null,null,null,null,null,null,null,null,null,null,null,null,null,null,null,null,null,null,null,null,null,null,null,null,null,null,null,null,null,null,null,null,null,null,null,null,null,null,null,null,null,null,null,null,null,null,null,null,null,null,null,null,null,null,null,null,null,"M1212009",""]
["인력비빔타설(fck=180kgf/cm2)","무근구조물",2.9000000000000001E-2,"㎥",367815,10666.400000000001,{"$f":"$H$1482","v":62458},{"$f":"TRUNC(C496*G496,1)","v":1811.2},{"$f":"$J$1482","v":298571},{"$f":"TRUNC(C496*I496,1)","v":8658.5},{"$f":"$L$1482","v":6786},{"$f":"TRUNC(C496*K496,1)","v":196.7},"제 149호표",null,null,null,null,null,null,null,null,null,null,null,null,null,null,null,null,null,null,null,null,null,null,null,null,null,null,null,null,null,null,null,null,null,null,null,null,null,null,null,null,null,null,null,null,null,null,null,null,null,null,null,null,null,null,null,null,null,null,null,null,null,null,null,null,null,null,null,null,null,null,null,null,null,null,null,null,null,null,null,null,null,null,null,null,null,null,null,null,null,null,null,null,null,null,null,null,null,null,null,null,null,null,null,"BFB3130",""]
["거푸집(합판6회)","간단",0.31,"㎡",35793,11095.7,{"$f":"$H$189","v":10344},{"$f":"TRUNC(C497*G497,1)","v":3206.6},{"$f":"$J$189","v":25449},{"$f":"TRUNC(C497*I497,1)","v":7889.1},{"$f":"$L$189","v":0},{"$f":"TRUNC(C497*K497,1)","v":0},"제  23호표",null,null,null,null,null,null,null,null,null,null,null,null,null,null,null,null,null,null,null,null,null,null,null,null,null,null,null,null,null,null,null,null,null,null,null,null,null,null,null,null,null,null,null,null,null,null,null,null,null,null,null,null,null,null,null,null,null,null,null,null,null,null,null,null,null,null,null,null,null,null,null,null,null,null,null,null,null,null,null,null,null,null,null,null,null,null,null,null,null,null,null,null,null,null,null,null,null,null,null,null,null,null,null,"BFC2600",""]
["모르터","배합비 1:3",1E-4,"㎥",157459,15.600000000000001,{"$f":"$H$644","v":83528},{"$f":"TRUNC(C498*G498,1)","v":8.3000000000000007},{"$f":"$J$644","v":60671},{"$f":"TRUNC(C498*I498,1)","v":6},{"$f":"$L$644","v":13260},{"$f":"TRUNC(C498*K498,1)","v":1.3},"제  83호표",null,null,null,null,null,null,null,null,null,null,null,null,null,null,null,null,null,null,null,null,null,null,null,null,null,null,null,null,null,null,null,null,null,null,null,null,null,null,null,null,null,null,null,null,null,null,null,null,null,null,null,null,null,null,null,null,null,null,null,null,null,null,null,null,null,null,null,null,null,null,null,null,null,null,null,null,null,null,null,null,null,null,null,null,null,null,null,null,null,null,null,null,null,null,null,null,null,null,null,null,null,null,null,"BFJ8300",""]
["도로경계석설치","공통",0.1,"HR",138509,13850.9,{"$f":"$H$452","v":7978},{"$f":"TRUNC(C499*G499,1)","v":797.8},{"$f":"$J$452","v":121062},{"$f":"TRUNC(C499*I499,1)","v":12106.2},{"$f":"$L$452","v":9469},{"$f":"TRUNC(C499*K499,1)","v":946.9},"제  61호표",null,null,null,null,null,null,null,null,null,null,null,null,null,null,null,null,null,null,null,null,null,null,null,null,null,null,null,null,null,null,null,null,null,null,null,null,null,null,null,null,null,null,null,null,null,null,null,null,null,null,null,null,null,null,null,null,null,null,null,null,null,null,null,null,null,null,null,null,null,null,null,null,null,null,null,null,null,null,null,null,null,null,null,null,null,null,null,null,null,null,null,null,null,null,null,null,null,null,null,null,null,null,null,"BB00-0250",""]
["             계             ",null,null,null,null,{"$f":"H500+J500+L500","v":35626},null,{"$f":"ROUNDDOWN(SUM(H495:H499)-(H495),0)","v":5823},null,{"$f":"ROUNDDOWN(SUM(J495:J499)-(J495),0)","v":28659},null,{"$f":"ROUNDDOWN(SUM(L495:L499)-(L495),0)","v":1144}]
[]
["덤프트럭"," 2.5 ton",2.1999999999999999E-2,"시간",47328,1041.0999999999999,{"$f":"'건설기계 목록'!F27","v":5217},114.7,{"$f":"'건설기계 목록'!G27","v":36224},796.9,{"$f":"'건설기계 목록'!H27","v":5887},{"$f":"TRUNC(C506*K506,1)","v":129.5}]
["인력비빔타설(fck=180kgf/cm2)","무근구조물",2.9000000000000001E-2,"㎥",367815,10666.400000000001,{"$f":"$H$1482","v":62458},{"$f":"TRUNC(C511*G511,1)","v":1811.2},{"$f":"$J$1482","v":298571},{"$f":"TRUNC(C511*I511,1)","v":8658.5},{"$f":"$L$1482","v":6786},{"$f":"TRUNC(C511*K511,1)","v":196.7},"제 149호표",null,null,null,null,null,null,null,null,null,null,null,null,null,null,null,null,null,null,null,null,null,null,null,null,null,null,null,null,null,null,null,null,null,null,null,null,null,null,null,null,null,null,null,null,null,null,null,null,null,null,null,null,null,null,null,null,null,null,null,null,null,null,null,null,null,null,null,null,null,null,null,null,null,null,null,null,null,null,null,null,null,null,null,null,null,null,null,null,null,null,null,null,null,null,null,null,null,null,null,null,null,null,null,"W1002",""]
["거푸집(합판6회)","간단",0.31,"㎡",35793,11095.7,{"$f":"$H$189","v":10344},{"$f":"TRUNC(C512*G512,1)","v":3206.6},{"$f":"$J$189","v":25449},{"$f":"TRUNC(C512*I512,1)","v":7889.1},{"$f":"$L$189","v":0},{"$f":"TRUNC(C512*K512,1)","v":0},"제  23호표"]
["제00652호표 ：도로경계석재설치 (150x150x1000[시공량90m], 곡선구간) m 당",null,null,null,null,null,null,null,null,null,null,null,null,null,null,null,null,null,null,null,null,null,null,null,null,null,null,null,null,null,null,null,null,null,null,null,null,null,null,null,null,null,null,null,null,null,null,null,null,null,null,null,null,null,null,null,null,null,null,null,null,null,null,null,null,null,null,null,null,null,null,null,null,null,null,null,null,null,null,null,null,null,null,null,null,null,null,null,null,null,null,null,null,null,null,null,null,null,null,null,null,null,null,null,null,null,null,null,null,null,null,null,null,null,null,null,":BDB2422"]
["도로경계석설치","공통",8.8999999999999996E-2,"HR",138509,12327.2,{"$f":"$H$452","v":7978},{"$f":"TRUNC(C522*G522,1)","v":710},{"$f":"$J$452","v":121062},{"$f":"TRUNC(C522*I522,1)","v":10774.5},{"$f":"$L$452","v":9469},{"$f":"TRUNC(C522*K522,1)","v":842.7},"제  61호표"]
[]
["타월","",0.02,"개",{"$f":"G527+I527+K527","v":1545},30.9,{"$f":"자재단가!$R$126","v":1545},{"$f":"TRUNC(C527*G527,1)","v":30.9},0,{"$f":"TRUNC(C527*I527,1)","v":0},0,{"$f":"TRUNC(C527*K527,1)","v":0},"",null,null,null,null,null,null,null,null,null,null,null,null,null,null,null,null,null,null,null,null,null,null,null,null,null,null,null,null,null,null,null,null,null,null,null,null,null,null,null,null,null,null,null,null,null,null,null,null,null,null,null,null,null,null,null,null,null,null,null,null,null,null,null,null,null,null,null,null,null,null,null,null,null,null,null,null,null,null,null,null,null,null,null,null,null,null,null,null,null,null,null,null,null,null,null,null,null,null,null,null,null,null,null,"M000-0170",""]
[]
["제00680호표 ：되메우기[다짐] (인력+기계) ㎥ 당",null,null,null,null,null,null,null,null,null,null,null,null,null,null,null,null,null,null,null,null,null,null,null,null,null,null,null,null,null,null,null,null,null,null,null,null,null,null,null,null,null,null,null,null,null,null,null,null,null,null,null,null,null,null,null,null,null,null,null,null,null,null,null,null,null,null,null,null,null,null,null,null,null,null,null,null,null,null,null,null,null,null,null,null,null,null,null,null,null,null,null,null,null,null,null,null,null,null,null,null,null,null,null,null,null,null,null,null,null,null,null,null,null,null,null,":BDE2230"]
["제00690호표 ：단지관접합 (D=300㎜) 개소 당",null,null,null,null,null,null,null,null,null,null,null,null,null,null,null,null,null,null,null,null,null,null,null,null,null,null,null,null,null,null,null,null,null,null,null,null,null,null,null,null,null,null,null,null,null,null,null,null,null,null,null,null,null,null,null,null,null,null,null,null,null,null,null,null,null,null,null,null,null,null,null,null,null,null,null,null,null,null,null,null,null,null,null,null,null,null,null,null,null,null,null,null,null,null,null,null,null,null,null,null,null,null,null,null,null,null,null,null,null,null,null,null,null,null,null,":BHLL-260"]
["단지관","D=300㎜(흄관)",1,"조",{"$f":"G543+I543+K543","v":139000},139000,{"$f":"자재단가!$R$146","v":139000},{"$f":"TRUNC(C543*G543,1)","v":139000},0,{"$f":"TRUNC(C543*I543,1)","v":0},0,{"$f":"TRUNC(C543*K543,1)","v":0},"",null,null,null,null,null,null,null,null,null,null,null,null,null,null,null,null,null,null,null,null,null,null,null,null,null,null,null,null,null,null,null,null,null,null,null,null,null,null,null,null,null,null,null,null,null,null,null,null,null,null,null,null,null,null,null,null,null,null,null,null,null,null,null,null,null,null,null,null,null,null,null,null,null,null,null,null,null,null,null,null,null,null,null,null,null,null,null,null,null,null,null,null,null,null,null,null,null,null,null,null,null,null,null,"M000-0320",""]
["제00700호표 ：단지관접합 (D=250㎜) 개소 당",null,null,null,null,null,null,null,null,null,null,null,null,null,null,null,null,null,null,null,null,null,null,null,null,null,null,null,null,null,null,null,null,null,null,null,null,null,null,null,null,null,null,null,null,null,null,null,null,null,null,null,null,null,null,null,null,null,null,null,null,null,null,null,null,null,null,null,null,null,null,null,null,null,null,null,null,null,null,null,null,null,null,null,null,null,null,null,null,null,null,null,null,null,null,null,null,null,null,null,null,null,null,null,null,null,null,null,null,null,null,null,null,null,null,null,":BHLL-270"]
["배 관 공","",7.1999999999999995E-2,"인",201852,14533.3,0,{"$f":"TRUNC(C552*G552,1)","v":0},{"$f":"노임단가!$K$22","v":201852},{"$f":"TRUNC(C552*I552,1)","v":14533.3},0,{"$f":"TRUNC(C552*K552,1)","v":0},"",null,null,null,null,null,null,null,null,null,null,null,null,null,null,null,null,null,null,null,null,null,null,null,null,null,null,null,null,null,null,null,null,null,null,null,null,null,null,null,null,null,null,null,null,null,null,null,null,null,null,null,null,null,null,null,null,null,null,null,null,null,null,null,null,null,null,null,null,null,null,null,null,null,null,null,null,null,null,null,null,null,null,null,null,null,null,null,null,null,null,null,null,null,null,null,null,null,null,null,null,null,null,null,"W1039",""]
["단지관","D=200㎜(PVC)",1,"조",{"$f":"G557+I557+K557","v":86600},86600,{"$f":"자재단가!$R$148","v":86600},{"$f":"TRUNC(C557*G557,1)","v":86600},0,{"$f":"TRUNC(C557*I557,1)","v":0},0,{"$f":"TRUNC(C557*K557,1)","v":0},"",null,null,null,null,null,null,null,null,null,null,null,null,null,null,null,null,null,null,null,null,null,null,null,null,null,null,null,null,null,null,null,null,null,null,null,null,null,null,null,null,null,null,null,null,null,null,null,null,null,null,null,null,null,null,null,null,null,null,null,null,null,null,null,null,null,null,null,null,null,null,null,null,null,null,null,null,null,null,null,null,null,null,null,null,null,null,null,null,null,null,null,null,null,null,null,null,null,null,null,null,null,null,null,"M000-0310",""]
["보통인부","",4.3999999999999997E-2,"인",141096,6208.2,0,{"$f":"TRUNC(C558*G558,1)","v":0},{"$f":"노임단가!$K$8","v":141096},{"$f":"TRUNC(C558*I558,1)","v":6208.2},0,{"$f":"TRUNC(C558*K558,1)","v":0},"",null,null,null,null,null,null,null,null,null,null,null,null,null,null,null,null,null,null,null,null,null,null,null,null,null,null,null,null,null,null,null,null,null,null,null,null,null,null,null,null,null,null,null,null,null,null,null,null,null,null,null,null,null,null,null,null,null,null,null,null,null,null,null,null,null,null,null,null,null,null,null,null,null,null,null,null,null,null,null,null,null,null,null,null,null,null,null,null,null,null,null,null,null,null,null,null,null,null,null,null,null,null,null,"W1002",""]
["제00720호표 ：단지관접합 (D=150㎜) 개소 당",null,null,null,null,null,null,null,null,null,null,null,null,null,null,null,null,null,null,null,null,null,null,null,null,null,null,null,null,null,null,null,null,null,null,null,null,null,null,null,null,null,null,null,null,null,null,null,null,null,null,null,null,null,null,null,null,null,null,null,null,null,null,null,null,null,null,null,null,null,null,null,null,null,null,null,null,null,null,null,null,null,null,null,null,null,null,null,null,null,null,null,null,null,null,null,null,null,null,null,null,null,null,null,null,null,null,null,null,null,null,null,null,null,null,null,":BHLL-290"]
["             계             ",null,null,null,null,{"$f":"H568+J568+L568","v":64908},null,{"$f":"ROUNDDOWN(SUM(H564:H567),0)","v":46900},null,{"$f":"ROUNDDOWN(SUM(J564:J567),0)","v":18008},null,{"$f":"ROUNDDOWN(SUM(L564:L567),0)","v":0}]
["단지관","D=100㎜(PVC)",1,"조",{"$f":"G571+I571+K571","v":39700},39700,{"$f":"자재단가!$R$150","v":39700},{"$f":"TRUNC(C571*G571,1)","v":39700},0,{"$f":"TRUNC(C571*I571,1)","v":0},0,{"$f":"TRUNC(C571*K571,1)","v":0},"",null,null,null,null,null,null,null,null,null,null,null,null,null,null,null,null,null,null,null,null,null,null,null,null,null,null,null,null,null,null,null,null,null,null,null,null,null,null,null,null,null,null,null,null,null,null,null,null,null,null,null,null,null,null,null,null,null,null,null,null,null,null,null,null,null,null,null,null,null,null,null,null,null,null,null,null,null,null,null,null,null,null,null,null,null,null,null,null,null,null,null,null,null,null,null,null,null,null,null,null,null,null,null,"M000-0300",""]
["배 관 공","",2.5000000000000001E-2,"인",201852,5046.3,0,{"$f":"TRUNC(C573*G573,1)","v":0},{"$f":"노임단가!$K$22","v":201852},{"$f":"TRUNC(C573*I573,1)","v":5046.3},0,{"$f":"TRUNC(C573*K573,1)","v":0},"",null,null,null,null,null,null,null,null,null,null,null,null,null,null,null,null,null,null,null,null,null,null,null,null,null,null,null,null,null,null,null,null,null,null,null,null,null,null,null,null,null,null,null,null,null,null,null,null,null,null,null,null,null,null,null,null,null,null,null,null,null,null,null,null,null,null,null,null,null,null,null,null,null,null,null,null,null,null,null,null,null,null,null,null,null,null,null,null,null,null,null,null,null,null,null,null,null,null,null,null,null,null,null,"W1039",""]
["라바콘","중 60cm",1,"개",{"$f":"G578+I578+K578","v":8100},{"$f":"H578+J578+L578","v":8100},null,{"$f":"TRUNC(C578*G578,1)","v":0},0,{"$f":"TRUNC(C578*I578,1)","v":0},{"$f":"자재단가!$R$117","v":8100},{"$f":"TRUNC(C578*K578,1)","v":8100},"",null,null,null,null,null,null,null,null,null,null,null,null,null,null,null,null,null,null,null,null,null,null,null,null,null,null,null,null,null,null,null,null,null,null,null,null,null,null,null,null,null,null,null,null,null,null,null,null,null,null,null,null,null,null,null,null,null,null,null,null,null,null,null,null,null,null,null,null,null,null,null,null,null,null,null,null,null,null,null,null,null,null,null,null,null,null,null,null,null,null,null,null,null,null,null,null,null,null,null,null,null,null,null,"M0092",""]
["레고식조립블록","중로형",0,"㎡",{"$f":"G583+I583+K583","v":1036363},0,{"$f":"자재단가!$R$153","v":1036363},{"$f":"TRUNC(C583*G583,1)","v":0},0,{"$f":"TRUNC(C583*I583,1)","v":0},0,{"$f":"TRUNC(C583*K583,1)","v":0},"",null,null,null,null,null,null,null,null,null,null,null,null,null,null,null,null,null,null,null,null,null,null,null,null,null,null,null,null,null,null,null,null,null,null,null,null,null,null,null,null,null,null,null,null,null,null,null,null,null,null,null,null,null,null,null,null,null,null,null,null,null,null,null,null,null,null,null,null,null,null,null,null,null,null,null,null,null,null,null,null,null,null,null,null,null,null,null,null,null,null,null,null,null,null,null,null,null,null,null,null,null,null,null,"M000-0120",""]
["블록손료","공용일수5일",5,"",4423,22115,0,{"$f":"TRUNC(C588*G588,1)","v":0},0,{"$f":"TRUNC(C588*I588,1)","v":0},4423,{"$f":"TRUNC(C588*K588,1)","v":22115},"",null,null,null,null,null,null,null,null,null,null,null,null,null,null,null,null,null,null,null,null,null,null,null,null,null,null,null,null,null,null,null,null,null,null,null,null,null,null,null,null,null,null,null,null,null,null,null,null,null,null,null,null,null,null,null,null,null,null,null,null,null,null,null,null,null,null,null,null,null,null,null,null,null,null,null,null,null,null,null,null,null,null,null,null,null,null,null,null,null,null,null,null,null,null,null,null,null,null,null,null,null,null,null,"",""]
["             계             ",null,null,null,null,{"$f":"H589+J589+L589","v":32275},null,{"$f":"ROUNDDOWN(SUM(H583:H588),0)","v":0},null,{"$f":"ROUNDDOWN(SUM(J583:J588),0)","v":9865},null,{"$f":"ROUNDDOWN(SUM(L583:L588),0)","v":22410}]
["보통인부","",1.4999999999999999E-2,"인",141096,2116.4,0,{"$f":"TRUNC(C594*G594,1)","v":0},{"$f":"노임단가!$K$8","v":141096},{"$f":"TRUNC(C594*I594,1)","v":2116.4},0,{"$f":"TRUNC(C594*K594,1)","v":0},"",null,null,null,null,null,null,null,null,null,null,null,null,null,null,null,null,null,null,null,null,null,null,null,null,null,null,null,null,null,null,null,null,null,null,null,null,null,null,null,null,null,null,null,null,null,null,null,null,null,null,null,null,null,null,null,null,null,null,null,null,null,null,null,null,null,null,null,null,null,null,null,null,null,null,null,null,null,null,null,null,null,null,null,null,null,null,null,null,null,null,null,null,null,null,null,null,null,null,null,null,null,null,null,"W1002",""]
["             계             ",null,null,null,null,{"$f":"H598+J598+L598","v":23512},null,{"$f":"ROUNDDOWN(SUM(H592:H597),0)","v":0},null,{"$f":"ROUNDDOWN(SUM(J592:J597),0)","v":6726},null,{"$f":"ROUNDDOWN(SUM(L592:L597),0)","v":16786}]
["보통인부","",0.02,"인",141096,2821.9,0,{"$f":"TRUNC(C603*G603,1)","v":0},{"$f":"노임단가!$K$8","v":141096},{"$f":"TRUNC(C603*I603,1)","v":2821.9},0,{"$f":"TRUNC(C603*K603,1)","v":0},"",null,null,null,null,null,null,null,null,null,null,null,null,null,null,null,null,null,null,null,null,null,null,null,null,null,null,null,null,null,null,null,null,null,null,null,null,null,null,null,null,null,null,null,null,null,null,null,null,null,null,null,null,null,null,null,null,null,null,null,null,null,null,null,null,null,null,null,null,null,null,null,null,null,null,null,null,null,null,null,null,null,null,null,null,null,null,null,null,null,null,null,null,null,null,null,null,null,null,null,null,null,null,null,"W1002",""]
["굴삭기(무한궤도)"," 0.7 ㎥",0.1,"시간",{"$f":"G604+I604+K604","v":84528},{"$f":"H604+J604+L604","v":8452.7999999999993},{"$f":"건설기계!$I$77","v":18449},{"$f":"TRUNC(C604*G604,1)","v":1844.9},{"$f":"건설기계!$K$77","v":44299},{"$f":"TRUNC(C604*I604,1)","v":4429.8999999999996},{"$f":"건설기계!$M$77","v":21780},{"$f":"TRUNC(C604*K604,1)","v":2178},"",null,null,null,null,null,null,null,null,null,null,null,null,null,null,null,null,null,null,null,null,null,null,null,null,null,null,null,null,null,null,null,null,null,null,null,null,null,null,null,null,null,null,null,null,null,null,null,null,null,null,null,null,null,null,null,null,null,null,null,null,null,null,null,null,null,null,null,null,null,null,null,null,null,null,null,null,null,null,null,null,null,null,null,null,null,null,null,null,null,null,null,null,null,null,null,null,null,null,null,null,null,null,null,"W1002",""]
["레미콘","#57  25-180-12",1.02,"㎥",{"$f":"G609+I609+K609","v":62010},63250.2,{"$f":"자재단가!$R$9","v":62010},{"$f":"TRUNC(C609*G609,1)","v":63250.2},0,{"$f":"TRUNC(C609*I609,1)","v":0},0,{"$f":"TRUNC(C609*K609,1)","v":0},"   관  급  ",null,null,null,null,null,null,null,null,null,null,null,null,null,null,null,null,null,null,null,null,null,null,null,null,null,null,null,null,null,null,null,null,null,null,null,null,null,null,null,null,null,null,null,null,null,null,null,null,null,null,null,null,null,null,null,null,null,null,null,null,null,null,null,null,null,null,null,null,null,null,null,null,null,null,null,null,null,null,null,null,null,null,null,null,null,null,null,null,null,null,null,null,null,null,null,null,null,null,null,null,null,null,null,"M0765033",""]
["             계             ",null,null,null,null,{"$f":"H614+J614+L614","v":23651},null,{"$f":"ROUNDDOWN(SUM(H609:H612)-(H609),0)","v":1660},null,{"$f":"ROUNDDOWN(SUM(J609:J612)-(J609),0)","v":19717},null,{"$f":"ROUNDDOWN(SUM(L609:L613)-(L609),0)","v":2274}]
["제00790호표 ：레미콘타설 (장비사용,소형구조물 6㎥미만) ㎥ 당",null,null,null,null,null,null,null,null,null,null,null,null,null,null,null,null,null,null,null,null,null,null,null,null,null,null,null,null,null,null,null,null,null,null,null,null,null,null,null,null,null,null,null,null,null,null,null,null,null,null,null,null,null,null,null,null,null,null,null,null,null,null,null,null,null,null,null,null,null,null,null,null,null,null,null,null,null,null,null,null,null,null,null,null,null,null,null,null,null,null,null,null,null,null,null,null,null,null,null,null,null,null,null,null,null,null,null,null,null,null,null,null,null,null,null,":BFB1300"]
["보통인부","",0.02,"인",141096,2821.9,0,{"$f":"TRUNC(C619*G619,1)","v":0},{"$f":"노임단가!$K$8","v":141096},{"$f":"TRUNC(C619*I619,1)","v":2821.9},0,{"$f":"TRUNC(C619*K619,1)","v":0},"",null,null,null,null,null,null,null,null,null,null,null,null,null,null,null,null,null,null,null,null,null,null,null,null,null,null,null,null,null,null,null,null,null,null,null,null,null,null,null,null,null,null,null,null,null,null,null,null,null,null,null,null,null,null,null,null,null,null,null,null,null,null,null,null,null,null,null,null,null,null,null,null,null,null,null,null,null,null,null,null,null,null,null,null,null,null,null,null,null,null,null,null,null,null,null,null,null,null,null,null,null,null,null,"W1002",""]
["제00800호표 ：모래포설 및 다짐[T=5cm] (투수콘포장용) a 당",null,null,null,null,null,null,null,null,null,null,null,null,null,null,null,null,null,null,null,null,null,null,null,null,null,null,null,null,null,null,null,null,null,null,null,null,null,null,null,null,null,null,null,null,null,null,null,null,null,null,null,null,null,null,null,null,null,null,null,null,null,null,null,null,null,null,null,null,null,null,null,null,null,null,null,null,null,null,null,null,null,null,null,null,null,null,null,null,null,null,null,null,null,null,null,null,null,null,null,null,null,null,null,null,null,null,null,null,null,null,null,null,null,null,null,":B0180"]
["보통시멘트","40KG/대(포장품)",1093,"KG",{"$f":"G629+I629+K629","v":125.075},136706.9,{"$f":"자재단가!$R$34","v":99.075000000000003},{"$f":"TRUNC(C629*G629,1)","v":108288.9},0,{"$f":"TRUNC(C629*I629,1)","v":0},26,{"$f":"TRUNC(C629*K629,1)","v":28418},"",null,null,null,null,null,null,null,null,null,null,null,null,null,null,null,null,null,null,null,null,null,null,null,null,null,null,null,null,null,null,null,null,null,null,null,null,null,null,null,null,null,null,null,null,null,null,null,null,null,null,null,null,null,null,null,null,null,null,null,null,null,null,null,null,null,null,null,null,null,null,null,null,null,null,null,null,null,null,null,null,null,null,null,null,null,null,null,null,null,null,null,null,null,null,null,null,null,null,null,null,null,null,null,"M0747003",""]
["제00820호표 ：모르터 (배합비 1：2) ㎥ 당",null,null,null,null,null,null,null,null,null,null,null,null,null,null,null,null,null,null,null,null,null,null,null,null,null,null,null,null,null,null,null,null,null,null,null,null,null,null,null,null,null,null,null,null,null,null,null,null,null,null,null,null,null,null,null,null,null,null,null,null,null,null,null,null,null,null,null,null,null,null,null,null,null,null,null,null,null,null,null,null,null,null,null,null,null,null,null,null,null,null,null,null,null,null,null,null,null,null,null,null,null,null,null,null,null,null,null,null,null,null,null,null,null,null,null,":BFJ8200"]
["보통시멘트","40KG/대(포장품)",680,"KG",{"$f":"G635+I635+K635","v":125.075},85051,{"$f":"자재단가!$R$34","v":99.075000000000003},{"$f":"TRUNC(C635*G635,1)","v":67371},0,{"$f":"TRUNC(C635*I635,1)","v":0},26,{"$f":"TRUNC(C635*K635,1)","v":17680},"",null,null,null,null,null,null,null,null,null,null,null,null,null,null,null,null,null,null,null,null,null,null,null,null,null,null,null,null,null,null,null,null,null,null,null,null,null,null,null,null,null,null,null,null,null,null,null,null,null,null,null,null,null,null,null,null,null,null,null,null,null,null,null,null,null,null,null,null,null,null,null,null,null,null,null,null,null,null,null,null,null,null,null,null,null,null,null,null,null,null,null,null,null,null,null,null,null,null,null,null,null,null,null,"M0747003",""]
["제00830호표 ：모르터 (배합비 1：3) ㎥ 당",null,null,null,null,null,null,null,null,null,null,null,null,null,null,null,null,null,null,null,null,null,null,null,null,null,null,null,null,null,null,null,null,null,null,null,null,null,null,null,null,null,null,null,null,null,null,null,null,null,null,null,null,null,null,null,null,null,null,null,null,null,null,null,null,null,null,null,null,null,null,null,null,null,null,null,null,null,null,null,null,null,null,null,null,null,null,null,null,null,null,null,null,null,null,null,null,null,null,null,null,null,null,null,null,null,null,null,null,null,null,null,null,null,null,null,":BFJ8300"]
["보통인부","",0.43,"인",141096,60671.199999999997,0,{"$f":"TRUNC(C643*G643,1)","v":0},{"$f":"노임단가!$K$8","v":141096},{"$f":"TRUNC(C643*I643,1)","v":60671.199999999997},0,{"$f":"TRUNC(C643*K643,1)","v":0},"",null,null,null,null,null,null,null,null,null,null,null,null,null,null,null,null,null,null,null,null,null,null,null,null,null,null,null,null,null,null,null,null,null,null,null,null,null,null,null,null,null,null,null,null,null,null,null,null,null,null,null,null,null,null,null,null,null,null,null,null,null,null,null,null,null,null,null,null,null,null,null,null,null,null,null,null,null,null,null,null,null,null,null,null,null,null,null,null,null,null,null,null,null,null,null,null,null,null,null,null,null,null,null,"W1002",""]
["             계             ",null,null,null,null,{"$f":"H649+J649+L649","v":396958},null,{"$f":"ROUNDDOWN(SUM(H647:H648),0)","v":18902},null,{"$f":"ROUNDDOWN(SUM(J647:J648),0)","v":378056},null,{"$f":"ROUNDDOWN(SUM(L647:L648),0)","v":0}]
[]
["공기압축기(이동식)","3.5 ㎥/min",0.5,"시간",40107,20053.5,{"$f":"건설기계!$I$391","v":9376},{"$f":"TRUNC(C655*G655,1)","v":4688},{"$f":"건설기계!$K$391","v":28571},{"$f":"TRUNC(C655*I655,1)","v":14285.5},{"$f":"건설기계!$M$391","v":2160},{"$f":"TRUNC(C655*K655,1)","v":1080},"",null,null,null,null,null,null,null,null,null,null,null,null,null,null,null,null,null,null,null,null,null,null,null,null,null,null,null,null,null,null,null,null,null,null,null,null,null,null,null,null,null,null,null,null,null,null,null,null,null,null,null,null,null,null,null,null,null,null,null,null,null,null,null,null,null,null,null,null,null,null,null,null,null,null,null,null,null,null,null,null,null,null,null,null,null,null,null,null,null,null,null,null,null,null,null,null,null,null,null,null,null,null,null,"D5205-0035",""]
["무늬거푸집재(스치로폴)","910x910",1.2076,"매",{"$f":"G660+I660+K660","v":3018},3644.5,{"$f":"자재단가!$R$77","v":3018},{"$f":"TRUNC(C660*G660,1)","v":3644.5},0,{"$f":"TRUNC(C660*I660,1)","v":0},0,{"$f":"TRUNC(C660*K660,1)","v":0},"",null,null,null,null,null,null,null,null,null,null,null,null,null,null,null,null,null,null,null,null,null,null,null,null,null,null,null,null,null,null,null,null,null,null,null,null,null,null,null,null,null,null,null,null,null,null,null,null,null,null,null,null,null,null,null,null,null,null,null,null,null,null,null,null,null,null,null,null,null,null,null,null,null,null,null,null,null,null,null,null,null,null,null,null,null,null,null,null,null,null,null,null,null,null,null,null,null,null,null,null,null,null,null,"M1056003",""]
["제00870호표 ：무수축몰탈 (fck=600kg/㎠) ㎥ 당",null,null,null,null,null,null,null,null,null,null,null,null,null,null,null,null,null,null,null,null,null,null,null,null,null,null,null,null,null,null,null,null,null,null,null,null,null,null,null,null,null,null,null,null,null,null,null,null,null,null,null,null,null,null,null,null,null,null,null,null,null,null,null,null,null,null,null,null,null,null,null,null,null,null,null,null,null,null,null,null,null,null,null,null,null,null,null,null,null,null,null,null,null,null,null,null,null,null,null,null,null,null,null,null,null,null,null,null,null,null,null,null,null,null,null,":BFJ7100"]
["혼화제","무수축 콘크리트",15,"㎏",350,5250,{"$f":"자재단가!$R$70","v":350},{"$f":"TRUNC(C668*G668,1)","v":5250},0,{"$f":"TRUNC(C668*I668,1)","v":0},0,{"$f":"TRUNC(C668*K668,1)","v":0},"",null,null,null,null,null,null,null,null,null,null,null,null,null,null,null,null,null,null,null,null,null,null,null,null,null,null,null,null,null,null,null,null,null,null,null,null,null,null,null,null,null,null,null,null,null,null,null,null,null,null,null,null,null,null,null,null,null,null,null,null,null,null,null,null,null,null,null,null,null,null,null,null,null,null,null,null,null,null,null,null,null,null,null,null,null,null,null,null,null,null,null,null,null,null,null,null,null,null,null,null,null,null,null,"M0789006",""]
["콘크리트공","",0.9,"인",215145,193630.5,0,{"$f":"TRUNC(C670*G670,1)","v":0},{"$f":"노임단가!$K$11","v":215145},{"$f":"TRUNC(C670*I670,1)","v":193630.5},0,{"$f":"TRUNC(C670*K670,1)","v":0},"",null,null,null,null,null,null,null,null,null,null,null,null,null,null,null,null,null,null,null,null,null,null,null,null,null,null,null,null,null,null,null,null,null,null,null,null,null,null,null,null,null,null,null,null,null,null,null,null,null,null,null,null,null,null,null,null,null,null,null,null,null,null,null,null,null,null,null,null,null,null,null,null,null,null,null,null,null,null,null,null,null,null,null,null,null,null,null,null,null,null,null,null,null,null,null,null,null,null,null,null,null,null,null,"W1013",""]
["자연자갈(서울)","#57(시내도착도)",0.58299999999999996,"㎥",30000,17490,{"$f":"자재단가!$R$38","v":30000},17490,0,0,0,0,"",null,null,null,null,null,null,null,null,null,null,null,null,null,null,null,null,null,null,null,null,null,null,null,null,null,null,null,null,null,null,null,null,null,null,null,null,null,null,null,null,null,null,null,null,null,null,null,null,null,null,null,null,null,null,null,null,null,null,null,null,null,null,null,null,null,null,null,null,null,null,null,null,null,null,null,null,null,null,null,null,null,null,null,null,null,null,null,null,null,null,null,null,null,null,null,null,null,null,null,null,null,null,null,"M0720053",""]
["             계             ",null,null,null,null,{"$f":"H680+J680+L680","v":576832},null,{"$f":"ROUNDDOWN(SUM(H674:H679),0)","v":91805},null,{"$f":"ROUNDDOWN(SUM(J674:J679),0)","v":469427},null,{"$f":"ROUNDDOWN(SUM(L674:L679),0)","v":15600}]
[]
["포 장 공","",2.8000000000000001E-2,"인",212761,5957.3,0,0,{"$f":"노임단가!$K$10","v":212761},5957.3,0,0,"",null,null,null,null,null,null,null,null,null,null,null,null,null,null,null,null,null,null,null,null,null,null,null,null,null,null,null,null,null,null,null,null,null,null,null,null,null,null,null,null,null,null,null,null,null,null,null,null,null,null,null,null,null,null,null,null,null,null,null,null,null,null,null,null,null,null,null,null,null,null,null,null,null,null,null,null,null,null,null,null,null,null,null,null,null,null,null,null,null,null,null,null,null,null,null,null,null,null,null,null,null,null,null,"W1019",""]
["콘크리트 믹서","0.20 ㎥",0.2286,"시간",31530,7207.5999999999995,{"$f":"건설기계!$I$364","v":1988},454.4,{"$f":"건설기계!$K$364","v":28571},6531.3,{"$f":"건설기계!$M$364","v":971},221.9,"",null,null,null,null,null,null,null,null,null,null,null,null,null,null,null,null,null,null,null,null,null,null,null,null,null,null,null,null,null,null,null,null,null,null,null,null,null,null,null,null,null,null,null,null,null,null,null,null,null,null,null,null,null,null,null,null,null,null,null,null,null,null,null,null,null,null,null,null,null,null,null,null,null,null,null,null,null,null,null,null,null,null,null,null,null,null,null,null,null,null,null,null,null,null,null,null,null,null,null,null,null,null,null,"D4205-0020",""]
[]
["제00900호표 ：미끄럼방지시설설치 (상온도포 공법) ㎡ 당",null,null,null,null,null,null,null,null,null,null,null,null,null,null,null,null,null,null,null,null,null,null,null,null,null,null,null,null,null,null,null,null,null,null,null,null,null,null,null,null,null,null,null,null,null,null,null,null,null,null,null,null,null,null,null,null,null,null,null,null,null,null,null,null,null,null,null,null,null,null,null,null,null,null,null,null,null,null,null,null,null,null,null,null,null,null,null,null,null,null,null,null,null,null,null,null,null,null,null,null,null,null,null,null,null,null,null,null,null,null,null,null,null,null,null,":B011001"]
["발전기"," 25 ㎾",0.02,"시간",38567,771.3,{"$f":"건설기계!$I$455","v":6951},139,{"$f":"건설기계!$K$455","v":28571},571.4,{"$f":"건설기계!$M$455","v":3045},60.9,"",null,null,null,null,null,null,null,null,null,null,null,null,null,null,null,null,null,null,null,null,null,null,null,null,null,null,null,null,null,null,null,null,null,null,null,null,null,null,null,null,null,null,null,null,null,null,null,null,null,null,null,null,null,null,null,null,null,null,null,null,null,null,null,null,null,null,null,null,null,null,null,null,null,null,null,null,null,null,null,null,null,null,null,null,null,null,null,null,null,null,null,null,null,null,null,null,null,null,null,null,null,null,null,"D7505-0025",""]
[]
["포 장 공","",2.9000000000000001E-2,"인",212761,6170,0,0,{"$f":"노임단가!$K$10","v":212761},6170,0,0,"",null,null,null,null,null,null,null,null,null,null,null,null,null,null,null,null,null,null,null,null,null,null,null,null,null,null,null,null,null,null,null,null,null,null,null,null,null,null,null,null,null,null,null,null,null,null,null,null,null,null,null,null,null,null,null,null,null,null,null,null,null,null,null,null,null,null,null,null,null,null,null,null,null,null,null,null,null,null,null,null,null,null,null,null,null,null,null,null,null,null,null,null,null,null,null,null,null,null,null,null,null,null,null,"W1019",""]
["보통인부","",5.7000000000000002E-2,"인",141096,8042.4,0,0,{"$f":"노임단가!$K$8","v":141096},8042.4,0,0,"",null,null,null,null,null,null,null,null,null,null,null,null,null,null,null,null,null,null,null,null,null,null,null,null,null,null,null,null,null,null,null,null,null,null,null,null,null,null,null,null,null,null,null,null,null,null,null,null,null,null,null,null,null,null,null,null,null,null,null,null,null,null,null,null,null,null,null,null,null,null,null,null,null,null,null,null,null,null,null,null,null,null,null,null,null,null,null,null,null,null,null,null,null,null,null,null,null,null,null,null,null,null,null,"W1002",""]
["진동롤러(핸드가이드식)","0.7 ton",0.22800000000000001,"시간",49251,11229.1,{"$f":"건설기계!$I$224","v":3240},738.7,{"$f":"건설기계!$K$224","v":44299},10100.1,{"$f":"건설기계!$M$224","v":1712},390.3,"",null,null,null,null,null,null,null,null,null,null,null,null,null,null,null,null,null,null,null,null,null,null,null,null,null,null,null,null,null,null,null,null,null,null,null,null,null,null,null,null,null,null,null,null,null,null,null,null,null,null,null,null,null,null,null,null,null,null,null,null,null,null,null,null,null,null,null,null,null,null,null,null,null,null,null,null,null,null,null,null,null,null,null,null,null,null,null,null,null,null,null,null,null,null,null,null,null,null,null,null,null,null,null,"D1305-0007",""]
["제00920호표 ：미끄럼방지포장[일반도로용] (유리알) ㎡ 당",null,null,null,null,null,null,null,null,null,null,null,null,null,null,null,null,null,null,null,null,null,null,null,null,null,null,null,null,null,null,null,null,null,null,null,null,null,null,null,null,null,null,null,null,null,null,null,null,null,null,null,null,null,null,null,null,null,null,null,null,null,null,null,null,null,null,null,null,null,null,null,null,null,null,null,null,null,null,null,null,null,null,null,null,null,null,null,null,null,null,null,null,null,null,null,null,null,null,null,null,null,null,null,null,null,null,null,null,null,null,null,null,null,null,null,":B010100"]
["특별인부","",2.9000000000000001E-2,"인",179203,5196.8,0,0,{"$f":"노임단가!$K$7","v":179203},5196.8,0,0,"",null,null,null,null,null,null,null,null,null,null,null,null,null,null,null,null,null,null,null,null,null,null,null,null,null,null,null,null,null,null,null,null,null,null,null,null,null,null,null,null,null,null,null,null,null,null,null,null,null,null,null,null,null,null,null,null,null,null,null,null,null,null,null,null,null,null,null,null,null,null,null,null,null,null,null,null,null,null,null,null,null,null,null,null,null,null,null,null,null,null,null,null,null,null,null,null,null,null,null,null,null,null,null,"W1003",""]
["보통인부","",5.7000000000000002E-2,"인",141096,8042.4,0,0,{"$f":"노임단가!$K$8","v":141096},8042.4,0,0,"",null,null,null,null,null,null,null,null,null,null,null,null,null,null,null,null,null,null,null,null,null,null,null,null,null,null,null,null,null,null,null,null,null,null,null,null,null,null,null,null,null,null,null,null,null,null,null,null,null,null,null,null,null,null,null,null,null,null,null,null,null,null,null,null,null,null,null,null,null,null,null,null,null,null,null,null,null,null,null,null,null,null,null,null,null,null,null,null,null,null,null,null,null,null,null,null,null,null,null,null,null,null,null,"W1002",""]
["잡재료비","노무비의",5,"%",59413.999999999993,2970.7,{"$f":"SUM($J$724:$J$731)","v":59413.999999999993},{"$f":"TRUNC(C732/100*G732,1)","v":2970.7},0,{"$f":"TRUNC(C732/100*I732,1)","v":0},0,{"$f":"TRUNC(C732/100*K732,1)","v":0},"",null,null,null,null,null,null,null,null,null,null,null,null,null,null,null,null,null,null,null,null,null,null,null,null,null,null,null,null,null,null,null,null,null,null,null,null,null,null,null,null,null,null,null,null,null,null,null,null,null,null,null,null,null,null,null,null,null,null,null,null,null,null,null,null,null,null,null,null,null,null,null,null,null,null,null,null,null,null,null,null,null,null,null,null,null,null,null,null,null,null,null,null,null,null,null,null,null,null,null,null,null,null,null,"%RAN*LM","3..10"]
["제00930호표 ：미끄럼방지포장(칼라포장재) ㎡ 당",null,null,null,null,null,null,null,null,null,null,null,null,null,null,null,null,null,null,null,null,null,null,null,null,null,null,null,null,null,null,null,null,null,null,null,null,null,null,null,null,null,null,null,null,null,null,null,null,null,null,null,null,null,null,null,null,null,null,null,null,null,null,null,null,null,null,null,null,null,null,null,null,null,null,null,null,null,null,null,null,null,null,null,null,null,null,null,null,null,null,null,null,null,null,null,null,null,null,null,null,null,null,null,null,null,null,null,null,null,null,null,null,null,null,null,":B000-0100"]
["특별인부","",2.9000000000000001E-2,"인",179203,5196.8,0,0,{"$f":"노임단가!$K$7","v":179203},5196.8,0,0,"",null,null,null,null,null,null,null,null,null,null,null,null,null,null,null,null,null,null,null,null,null,null,null,null,null,null,null,null,null,null,null,null,null,null,null,null,null,null,null,null,null,null,null,null,null,null,null,null,null,null,null,null,null,null,null,null,null,null,null,null,null,null,null,null,null,null,null,null,null,null,null,null,null,null,null,null,null,null,null,null,null,null,null,null,null,null,null,null,null,null,null,null,null,null,null,null,null,null,null,null,null,null,null,"W1003",""]
["발전기"," 50 ㎾",0.22800000000000001,"시간",46818,10674.300000000001,{"$f":"건설기계!$I$462","v":14064},3206.5,{"$f":"건설기계!$K$462","v":28571},6514.1,{"$f":"건설기계!$M$462","v":4183},953.7,"",null,null,null,null,null,null,null,null,null,null,null,null,null,null,null,null,null,null,null,null,null,null,null,null,null,null,null,null,null,null,null,null,null,null,null,null,null,null,null,null,null,null,null,null,null,null,null,null,null,null,null,null,null,null,null,null,null,null,null,null,null,null,null,null,null,null,null,null,null,null,null,null,null,null,null,null,null,null,null,null,null,null,null,null,null,null,null,null,null,null,null,null,null,null,null,null,null,null,null,null,null,null,null,"D7505-0050",""]
["제00940호표 ：바닥면고르기[절토면고르기] (굴삭기0.6㎥) ㎡ 당",null,null,null,null,null,null,null,null,null,null,null,null,null,null,null,null,null,null,null,null,null,null,null,null,null,null,null,null,null,null,null,null,null,null,null,null,null,null,null,null,null,null,null,null,null,null,null,null,null,null,null,null,null,null,null,null,null,null,null,null,null,null,null,null,null,null,null,null,null,null,null,null,null,null,null,null,null,null,null,null,null,null,null,null,null,null,null,null,null,null,null,null,null,null,null,null,null,null,null,null,null,null,null,null,null,null,null,null,null,null,null,null,null,null,null,":B0343"]
["제00950호표 ：벽돌부수기 (인력) ㎡ 당",null,null,null,null,null,null,null,null,null,null,null,null,null,null,null,null,null,null,null,null,null,null,null,null,null,null,null,null,null,null,null,null,null,null,null,null,null,null,null,null,null,null,null,null,null,null,null,null,null,null,null,null,null,null,null,null,null,null,null,null,null,null,null,null,null,null,null,null,null,null,null,null,null,null,null,null,null,null,null,null,null,null,null,null,null,null,null,null,null,null,null,null,null,null,null,null,null,null,null,null,null,null,null,null,null,null,null,null,null,null,null,null,null,null,null,"W1021",""]
[null,null,null,null,null,null,null,null,null,null,null,null,null,null,null,null,null,null,null,null,null,null,null,null,null,null,null,null,null,null,null,null,null,null,null,null,null,null,null,null,null,null,null,null,null,null,null,null,null,null,null,null,null,null,null,null,null,null,null,null,null,null,null,null,null,null,null,null,null,null,null,null,null,null,null,null,null,null,null,null,null,null,null,null,null,null,null,null,null,null,null,null,null,null,null,null,null,null,null,null,null,null,null,null,null,null,null,null,null,null,null,null,null,null,null,null,":BDB3400"]
["보통인부","",1,"인",141096,141096,0,{"$f":"TRUNC(C760*G760,1)","v":0},{"$f":"노임단가!$K$8","v":141096},{"$f":"TRUNC(C760*I760,1)","v":141096},0,{"$f":"TRUNC(C760*K760,1)","v":0},"",null,null,null,null,null,null,null,null,null,null,null,null,null,null,null,null,null,null,null,null,null,null,null,null,null,null,null,null,null,null,null,null,null,null,null,null,null,null,null,null,null,null,null,null,null,null,null,null,null,null,null,null,null,null,null,null,null,null,null,null,null,null,null,null,null,null,null,null,null,null,null,null,null,null,null,null,null,null,null,null,null,null,null,null,null,null,null,null,null,null,null,null,null,null,null,null,null,null,null,null,null,null,null,"%RAN*LM",""]
["             계             ",null,null,null,null,{"$f":"H762+J762+L762","v":167997},null,{"$f":"ROUNDDOWN(SUM(H759:H761),0)","v":7999},null,{"$f":"ROUNDDOWN(SUM(J759:J761),0)","v":159998},null,{"$f":"ROUNDDOWN(SUM(L759:L761),0)","v":0}]
["굴삭기(무한궤도)"," 0.4 ㎥",3.4000000000000002E-2,"시간",{"$f":"G767+I767+K767","v":75473},{"$f":"H767+J767+L767","v":2565.8999999999996},{"$f":"'건설기계 목록'!F13","v":15745},{"$f":"TRUNC(C767*G767,1)","v":535.29999999999995},{"$f":"'건설기계 목록'!G13","v":44299},{"$f":"TRUNC(C767*I767,1)","v":1506.1},{"$f":"'건설기계 목록'!H13","v":15429},{"$f":"TRUNC(C767*K767,1)","v":524.5}]
["보차도경계블록","B형 18x20.5x25x100㎝",1,"EA",{"$f":"G772+I772+K772","v":5800},5800,{"$f":"자재단가!$R$41","v":5800},{"$f":"TRUNC(C772*G772,1)","v":5800},0,{"$f":"TRUNC(C772*I772,1)","v":0},0,{"$f":"TRUNC(C772*K772,1)","v":0},""]
["인력비빔타설(fck=180kgf/cm2)","무근구조물",3.5000000000000003E-2,"㎥",367815,12873.4,{"$f":"$H$1482","v":62458},{"$f":"TRUNC(C773*G773,1)","v":2186},{"$f":"$J$1482","v":298571},{"$f":"TRUNC(C773*I773,1)","v":10449.9},{"$f":"$L$1482","v":6786},{"$f":"TRUNC(C773*K773,1)","v":237.5},"제 149호표"]
[null,null,null,null,null,null,null,null,null,null,null,null,null,null,null,null,null,null,null,null,null,null,null,null,null,null,null,null,null,null,null,null,null,null,null,null,null,null,null,null,null,null,null,null,null,null,null,null,null,null,null,null,null,null,null,null,null,null,null,null,null,null,null,null,null,null,null,null,null,null,null,null,null,null,null,null,null,null,null,null,null,null,null,null,null,null,null,null,null,null,null,null,null,null,null,null,null,null,null,null,null,null,null,null,null,null,null,null,null,null,null,null,null,null,null,null,"BFJ8300",""]
["모르터","배합비 1:3",1E-4,"㎥",157459,15.600000000000001,{"$f":"$H$644","v":83528},{"$f":"TRUNC(C783*G783,1)","v":8.3000000000000007},{"$f":"$J$644","v":60671},{"$f":"TRUNC(C783*I783,1)","v":6},{"$f":"$L$644","v":13260},{"$f":"TRUNC(C783*K783,1)","v":1.3},"제  83호표",null,null,null,null,null,null,null,null,null,null,null,null,null,null,null,null,null,null,null,null,null,null,null,null,null,null,null,null,null,null,null,null,null,null,null,null,null,null,null,null,null,null,null,null,null,null,null,null,null,null,null,null,null,null,null,null,null,null,null,null,null,null,null,null,null,null,null,null,null,null,null,null,null,null,null,null,null,null,null,null,null,null,null,null,null,null,null,null,null,null,null,null,null,null,null,null,null,null,null,null,null,null,null,"M00-0290",""]
["제00991호표 ：보차도경계석재설치 (200x250x1000[시공량 65m]) m 당",null,null,null,null,null,null,null,null,null,null,null,null,null,null,null,null,null,null,null,null,null,null,null,null,null,null,null,null,null,null,null,null,null,null,null,null,null,null,null,null,null,null,null,null,null,null,null,null,null,null,null,null,null,null,null,null,null,null,null,null,null,null,null,null,null,null,null,null,null,null,null,null,null,null,null,null,null,null,null,null,null,null,null,null,null,null,null,null,null,null,null,null,null,null,null,null,null,null,null,null,null,null,null,null,null,null,null,null,null,null,null,null,null,null,null,"BB00-0250",""]
["자연석 경계석","보차도(직선)20*25*100,30R",1,"EA",{"$f":"G788+I788+K788","v":27490},{"$f":"H788+J788+L788","v":27490},{"$f":"자재단가!$R$17","v":27490},{"$f":"TRUNC(C788*G788,1)","v":27490},0,{"$f":"TRUNC(C788*I788,1)","v":0},0,{"$f":"TRUNC(C788*K788,1)","v":0},"   관  급  "]
["             계             ",null,null,null,null,{"$f":"H793+J793+L793","v":41020},null,{"$f":"ROUNDDOWN(SUM(H788:H792)-(H788),0)","v":6382},null,{"$f":"ROUNDDOWN(SUM(J788:J792)-(J788),0)","v":33235},null,{"$f":"ROUNDDOWN(SUM(L788:L792)-(L788),0)","v":1403},null,null,null,null,null,null,null,null,null,null,null,null,null,null,null,null,null,null,null,null,null,null,null,null,null,null,null,null,null,null,null,null,null,null,null,null,null,null,null,null,null,null,null,null,null,null,null,null,null,null,null,null,null,null,null,null,null,null,null,null,null,null,null,null,null,null,null,null,null,null,null,null,null,null,null,null,null,null,null,null,null,null,null,null,null,null,null,null,null,null,null,null,null,null,null,null,null,null,null,null,null,null,null,null,"BFC2600",""]
["거푸집(합판6회)","간단",0.31,"㎡",35793,11095.7,{"$f":"$H$189","v":10344},{"$f":"TRUNC(C798*G798,1)","v":3206.6},{"$f":"$J$189","v":25449},{"$f":"TRUNC(C798*I798,1)","v":7889.1},{"$f":"$L$189","v":0},{"$f":"TRUNC(C798*K798,1)","v":0},"제  23호표",null,null,null,null,null,null,null,null,null,null,null,null,null,null,null,null,null,null,null,null,null,null,null,null,null,null,null,null,null,null,null,null,null,null,null,null,null,null,null,null,null,null,null,null,null,null,null,null,null,null,null,null,null,null,null,null,null,null,null,null,null,null,null,null,null,null,null,null,null,null,null,null,null,null,null,null,null,null,null,null,null,null,null,null,null,null,null,null,null,null,null,null,null,null,null,null,null,null,null,null,null,null,null,":B000-0190"]
["제01001호표 ：보차도경계석재설치 (200x300x1000[시공량 65m]) m 당",null,null,null,null,null,null,null,null,null,null,null,null,null,null,null,null,null,null,null,null,null,null,null,null,null,null,null,null,null,null,null,null,null,null,null,null,null,null,null,null,null,null,null,null,null,null,null,null,null,null,null,null,null,null,null,null,null,null,null,null,null,null,null,null,null,null,null,null,null,null,null,null,null,null,null,null,null,null,null,null,null,null,null,null,null,null,null,null,null,null,null,null,null,null,null,null,null,null,null,null,null,null,null,null,null,null,null,null,null,null,null,null,null,null,null,"BB00-0250",""]
["자연석 경계석","보차도(직선)20*30*100,30R",1,"EA",{"$f":"G804+I804+K804","v":50500},{"$f":"H804+J804+L804","v":50500},{"$f":"자재단가!$R$18","v":50500},{"$f":"TRUNC(C804*G804,1)","v":50500},0,{"$f":"TRUNC(C804*I804,1)","v":0},0,{"$f":"TRUNC(C804*K804,1)","v":0},"   관  급  "]
["             계             ",null,null,null,null,{"$f":"H809+J809+L809","v":41020},null,{"$f":"ROUNDDOWN(SUM(H804:H808)-(H804),0)","v":6382},null,{"$f":"ROUNDDOWN(SUM(J804:J808)-(J804),0)","v":33235},null,{"$f":"ROUNDDOWN(SUM(L804:L808)-(L804),0)","v":1403},null,null,null,null,null,null,null,null,null,null,null,null,null,null,null,null,null,null,null,null,null,null,null,null,null,null,null,null,null,null,null,null,null,null,null,null,null,null,null,null,null,null,null,null,null,null,null,null,null,null,null,null,null,null,null,null,null,null,null,null,null,null,null,null,null,null,null,null,null,null,null,null,null,null,null,null,null,null,null,null,null,null,null,null,null,null,null,null,null,null,null,null,null,null,null,null,null,null,null,null,null,null,null,null,"BFC2600",""]
["터파기(인력,경질토사)","굴착깊이 0∼1M",0.05,"㎥",36684,1834.2,{"$f":"$H$1966","v":0},0,{"$f":"$J$1966","v":36684},1834.2,{"$f":"$L$1966","v":0},0,"제 208호표",null,null,null,null,null,null,null,null,null,null,null,null,null,null,null,null,null,null,null,null,null,null,null,null,null,null,null,null,null,null,null,null,null,null,null,null,null,null,null,null,null,null,null,null,null,null,null,null,null,null,null,null,null,null,null,null,null,null,null,null,null,null,null,null,null,null,null,null,null,null,null,null,null,null,null,null,null,null,null,null,null,null,null,null,null,null,null,null,null,null,null,null,null,null,null,null,null,null,null,null,null,null,null,"SDC41112",""]
["잔토처리운반(L=3Km)","DT(2.5TON)",0.05,"㎥",21767,1088.3,{"$f":"단가산출!$CY$1690","v":"0"},0,{"$f":"단가산출!$CZ$1690","v":"0"},0,{"$f":"단가산출!$DA$1690","v":"21,767"},1088.3,"산근  44호표",null,null,null,null,null,null,null,null,null,null,null,null,null,null,null,null,null,null,null,null,null,null,null,null,null,null,null,null,null,null,null,null,null,null,null,null,null,null,null,null,null,null,null,null,null,null,null,null,null,null,null,null,null,null,null,null,null,null,null,null,null,null,null,null,null,null,null,null,null,null,null,null,null,null,null,null,null,null,null,null,null,null,null,null,null,null,null,null,null,null,null,null,null,null,null,null,null,null,null,null,null,null,null,"M000-0150",""]
["잡재료비","노무비의",5,"%",38461.5,1923,{"$f":"SUM($J$815:$J$816)","v":38461.5},{"$f":"TRUNC(C819/100*G819,1)","v":1923},0,{"$f":"TRUNC(C819/100*I819,1)","v":0},0,{"$f":"TRUNC(C819/100*K819,1)","v":0},"",null,null,null,null,null,null,null,null,null,null,null,null,null,null,null,null,null,null,null,null,null,null,null,null,null,null,null,null,null,null,null,null,null,null,null,null,null,null,null,null,null,null,null,null,null,null,null,null,null,null,null,null,null,null,null,null,null,null,null,null,null,null,null,null,null,null,null,null,null,null,null,null,null,null,null,null,null,null,null,null,null,null,null,null,null,null,null,null,null,null,null,null,null,null,null,null,null,null,null,null,null,null,null,"BDD1201",""]
["터파기(인력,경질토사)","굴착깊이 0∼1M",0.05,"㎥",36684,1834.2,{"$f":"$H$1966","v":0},0,{"$f":"$J$1966","v":36684},1834.2,{"$f":"$L$1966","v":0},0,"제 208호표",null,null,null,null,null,null,null,null,null,null,null,null,null,null,null,null,null,null,null,null,null,null,null,null,null,null,null,null,null,null,null,null,null,null,null,null,null,null,null,null,null,null,null,null,null,null,null,null,null,null,null,null,null,null,null,null,null,null,null,null,null,null,null,null,null,null,null,null,null,null,null,null,null,null,null,null,null,null,null,null,null,null,null,null,null,null,null,null,null,null,null,null,null,null,null,null,null,null,null,null,null,null,null,"W1003",""]
["특별인부","",0.154,"인",179203,27597.200000000001,0,0,{"$f":"노임단가!$K$7","v":179203},27597.200000000001,0,0,""]
["잔토처리운반(L=3Km)","DT(2.5TON)",0.05,"㎥",21767,1088.3,{"$f":"단가산출!$CY$1690","v":"0"},0,{"$f":"단가산출!$CZ$1690","v":"0"},0,{"$f":"단가산출!$DA$1690","v":"21,767"},1088.3,"산근  44호표",null,null,null,null,null,null,null,null,null,null,null,null,null,null,null,null,null,null,null,null,null,null,null,null,null,null,null,null,null,null,null,null,null,null,null,null,null,null,null,null,null,null,null,null,null,null,null,null,null,null,null,null,null,null,null,null,null,null,null,null,null,null,null,null,null,null,null,null,null,null,null,null,null,null,null,null,null,null,null,null,null,null,null,null,null,null,null,null,null,null,null,null,null,null,null,null,null,null,null,null,null,null,null,"M000-0150",""]
[null,null,null,null,null,null,null,null,null,null,null,null,null,null,null,null,null,null,null,null,null,null,null,null,null,null,null,null,null,null,null,null,null,null,null,null,null,null,null,null,null,null,null,null,null,null,null,null,null,null,null,null,null,null,null,null,null,null,null,null,null,null,null,null,null,null,null,null,null,null,null,null,null,null,null,null,null,null,null,null,null,null,null,null,null,null,null,null,null,null,null,null,null,null,null,null,null,null,null,null,null,null,null,null,null,null,null,null,null,null,null,null,null,null,null,null,"W1002",""]
["보통인부","",7.6999999999999999E-2,"인",141096,10864.3,0,0,{"$f":"노임단가!$K$8","v":141096},10864.3,0,0,""]
["             계             ",null,null,null,null,{"$f":"H844+J844+L844","v":40649},null,{"$f":"ROUNDDOWN(SUM(H836:H843)-(H836),0)","v":2011},null,{"$f":"ROUNDDOWN(SUM(J836:J843)-(J836),0)","v":38559},null,{"$f":"ROUNDDOWN(SUM(L836:L843)-(L836),0)","v":79},null,null,null,null,null,null,null,null,null,null,null,null,null,null,null,null,null,null,null,null,null,null,null,null,null,null,null,null,null,null,null,null,null,null,null,null,null,null,null,null,null,null,null,null,null,null,null,null,null,null,null,null,null,null,null,null,null,null,null,null,null,null,null,null,null,null,null,null,null,null,null,null,null,null,null,null,null,null,null,null,null,null,null,null,null,null,null,null,null,null,null,null,null,null,null,null,null,null,null,null,null,null,null,null,"W1002",""]
["덤프트럭"," 2.5 ton",2.66,"시간",47328,125892.4,{"$f":"'건설기계 목록'!$F$27","v":5217},{"$f":"TRUNC(C849*G849,1)","v":13877.2},{"$f":"'건설기계 목록'!$G$27","v":36224},{"$f":"TRUNC(C849*I849,1)","v":96355.8},{"$f":"'건설기계 목록'!$H$27","v":5887},{"$f":"TRUNC(C849*K849,1)","v":15659.4}]
["             계             ",null,null,null,null,{"$f":"H850+J850+L850","v":359437},null,{"$f":"ROUNDDOWN(SUM(H847:H849),0)","v":13877},null,{"$f":"ROUNDDOWN(SUM(J847:J849),0)","v":329901},null,{"$f":"ROUNDDOWN(SUM(L847:L849),0)","v":15659},null,null,null,null,null,null,null,null,null,null,null,null,null,null,null,null,null,null,null,null,null,null,null,null,null,null,null,null,null,null,null,null,null,null,null,null,null,null,null,null,null,null,null,null,null,null,null,null,null,null,null,null,null,null,null,null,null,null,null,null,null,null,null,null,null,null,null,null,null,null,null,null,null,null,null,null,null,null,null,null,null,null,null,null,null,null,null,null,null,null,null,null,null,null,null,null,null,null,null,null,null,null,null,null,"W1003",""]
["보통인부",null,0.2,"인",141096,{"$f":"H854+J854+L854","v":28219.200000000001},0,{"$f":"TRUNC(C854*G854,1)","v":0},{"$f":"노임단가!$K$8","v":141096},{"$f":"TRUNC(C854*I854,1)","v":28219.200000000001},0,{"$f":"TRUNC(C854*K854,1)","v":0},"",null,null,null,null,null,null,null,null,null,null,null,null,null,null,null,null,null,null,null,null,null,null,null,null,null,null,null,null,null,null,null,null,null,null,null,null,null,null,null,null,null,null,null,null,null,null,null,null,null,null,null,null,null,null,null,null,null,null,null,null,null,null,null,null,null,null,null,null,null,null,null,null,null,null,null,null,null,null,null,null,null,null,null,null,null,null,null,null,null,null,null,null,null,null,null,null,null,null,null,null,null,null,null,":BB00-0270"]
["제01050호표 ：보도블럭포장[보도용] (공통) HR 당",null,null,null,null,null,null,null,null,null,null,null,null,null,null,null,null,null,null,null,null,null,null,null,null,null,null,null,null,null,null,null,null,null,null,null,null,null,null,null,null,null,null,null,null,null,null,null,null,null,null,null,null,null,null,null,null,null,null,null,null,null,null,null,null,null,null,null,null,null,null,null,null,null,null,null,null,null,null,null,null,null,null,null,null,null,null,null,null,null,null,null,null,null,null,null,null,null,null,null,null,null,null,null,null,null,null,null,null,null,null,null,null,null,null,null,"W1002",""]
["보통인부","",0.5,"인",141096,70548,0,0,{"$f":"노임단가!$K$8","v":141096},70548,0,0,"",null,null,null,null,null,null,null,null,null,null,null,null,null,null,null,null,null,null,null,null,null,null,null,null,null,null,null,null,null,null,null,null,null,null,null,null,null,null,null,null,null,null,null,null,null,null,null,null,null,null,null,null,null,null,null,null,null,null,null,null,null,null,null,null,null,null,null,null,null,null,null,null,null,null,null,null,null,null,null,null,null,null,null,null,null,null,null,null,null,null,null,null,null,null,null,null,null,null,null,null,null,null,null,"D0201-0060",""]
["             계             ",null,null,null,null,{"$f":"H865+J865+L865","v":280687},null,{"$f":"ROUNDDOWN(SUM(H860:H864),0)","v":18022},null,{"$f":"ROUNDDOWN(SUM(J860:J864),0)","v":241408},null,{"$f":"ROUNDDOWN(SUM(L860:L864),0)","v":21257},null,null,null,null,null,null,null,null,null,null,null,null,null,null,null,null,null,null,null,null,null,null,null,null,null,null,null,null,null,null,null,null,null,null,null,null,null,null,null,null,null,null,null,null,null,null,null,null,null,null,null,null,null,null,null,null,null,null,null,null,null,null,null,null,null,null,null,null,null,null,null,null,null,null,null,null,null,null,null,null,null,null,null,null,null,null,null,null,null,null,null,null,null,null,null,null,null,null,null,null,null,null,null,null,"W1003",""]
["보통인부",null,0.25,"인",141096,35274,0,0,{"$f":"노임단가!$K$8","v":141096},35274,0,0,"",null,null,null,null,null,null,null,null,null,null,null,null,null,null,null,null,null,null,null,null,null,null,null,null,null,null,null,null,null,null,null,null,null,null,null,null,null,null,null,null,null,null,null,null,null,null,null,null,null,null,null,null,null,null,null,null,null,null,null,null,null,null,null,null,null,null,null,null,null,null,null,null,null,null,null,null,null,null,null,null,null,null,null,null,null,null,null,null,null,null,null,null,null,null,null,null,null,null,null,null,null,null,null,":BB00-0270"]
[null,null,null,null,null,null,null,null,null,null,null,null,null,null,null,null,null,null,null,null,null,null,null,null,null,null,null,null,null,null,null,null,null,null,null,null,null,null,null,null,null,null,null,null,null,null,null,null,null,null,null,null,null,null,null,null,null,null,null,null,null,null,null,null,null,null,null,null,null,null,null,null,null,null,null,null,null,null,null,null,null,null,null,null,null,null,null,null,null,null,null,null,null,null,null,null,null,null,null,null,null,null,null,null,null,null,null,null,null,null,null,null,null,null,null,null,"W1003",""]
["특별인부","",0.7,"인",179203,125442.1,0,{"$f":"TRUNC(C879*G879,1)","v":0},{"$f":"노임단가!$K$7","v":179203},{"$f":"TRUNC(C879*I879,1)","v":125442.1},0,{"$f":"TRUNC(C879*K879,1)","v":0},"",null,null,null,null,null,null,null,null,null,null,null,null,null,null,null,null,null,null,null,null,null,null,null,null,null,null,null,null,null,null,null,null,null,null,null,null,null,null,null,null,null,null,null,null,null,null,null,null,null,null,null,null,null,null,null,null,null,null,null,null,null,null,null,null,null,null,null,null,null,null,null,null,null,null,null,null,null,null,null,null,null,null,null,null,null,null,null,null,null,null,null,null,null,null,null,null,null,null,null,null,null,null,null,"W1002",""]
["             계             ",null,null,null,null,{"$f":"H880+J880+L880","v":540210},null,{"$f":"ROUNDDOWN(SUM(H877:H879),0)","v":27156},null,{"$f":"ROUNDDOWN(SUM(J877:J879),0)","v":469983},null,{"$f":"ROUNDDOWN(SUM(L877:L879),0)","v":43071},null,null,null,null,null,null,null,null,null,null,null,null,null,null,null,null,null,null,null,null,null,null,null,null,null,null,null,null,null,null,null,null,null,null,null,null,null,null,null,null,null,null,null,null,null,null,null,null,null,null,null,null,null,null,null,null,null,null,null,null,null,null,null,null,null,null,null,null,null,null,null,null,null,null,null,null,null,null,null,null,null,null,null,null,null,null,null,null,null,null,null,null,null,null,null,null,null,null,null,null,null,null,null,null,"%RAN*LM","1..2"]
["공구손료","노무비의 %",3,"%",124576.6,3737.2,{"$f":"SUM($J$883:$J$884)","v":124576.6},{"$f":"TRUNC(C885/100*G885,1)","v":3737.2},0,{"$f":"TRUNC(C885/100*I885,1)","v":0},0,{"$f":"TRUNC(C885/100*K885,1)","v":0},"",null,null,null,null,null,null,null,null,null,null,null,null,null,null,null,null,null,null,null,null,null,null,null,null,null,null,null,null,null,null,null,null,null,null,null,null,null,null,null,null,null,null,null,null,null,null,null,null,null,null,null,null,null,null,null,null,null,null,null,null,null,null,null,null,null,null,null,null,null,null,null,null,null,null,null,null,null,null,null,null,null,null,null,null,null,null,null,null,null,null,null,null,null,null,null,null,null,null,null,null,null,null,null,"BB00-0270",""]
["보도블럭포장(보도용)","공통",3.2,"HR",280687,898198.4,{"$f":"$H$865","v":18022},{"$f":"TRUNC(C890*G890,1)","v":57670.400000000001},{"$f":"$J$865","v":241408},{"$f":"TRUNC(C890*I890,1)","v":772505.59999999998},{"$f":"$L$865","v":21257},{"$f":"TRUNC(C890*K890,1)","v":68022.399999999994},"제 105호표",null,null,null,null,null,null,null,null,null,null,null,null,null,null,null,null,null,null,null,null,null,null,null,null,null,null,null,null,null,null,null,null,null,null,null,null,null,null,null,null,null,null,null,null,null,null,null,null,null,null,null,null,null,null,null,null,null,null,null,null,null,null,null,null,null,null,null,null,null,null,null,null,null,null,null,null,null,null,null,null,null,null,null,null,null,null,null,null,null,null,null,null,null,null,null,null,null,null,null,null,null,null,null,":BKE2000"]
["제01090호표 ：보도블록포장[자재재활용] (30*30*6Cm,지장물 5%이상) a 당"]
["강모래","자연사(시내도착도)",0.2,"㎥",{"$f":"G896+I896+K896","v":30000},{"$f":"H896+J896+L896","v":6000},{"$f":"자재단가!$R$36","v":30000},{"$f":"TRUNC(C896*G896,1)","v":6000},0,{"$f":"TRUNC(C896*I896,1)","v":0},0,{"$f":"TRUNC(C896*K896,1)","v":0},""]
[null,null,null,null,null,null,null,null,null,null,null,null,null,null,null,null,null,null,null,null,null,null,null,null,null,null,null,null,null,null,null,null,null,null,null,null,null,null,null,null,null,null,null,null,null,null,null,null,null,null,null,null,null,null,null,null,null,null,null,null,null,null,null,null,null,null,null,null,null,null,null,null,null,null,null,null,null,null,null,null,null,null,null,null,null,null,null,null,null,null,null,null,null,null,null,null,null,null,null,null,null,null,null,null,null,null,null,null,null,null,null,null,null,null,null,null,"%RAN*LE","1..2"]
["잡재료비","노무비의 %",5,"%",772505.59999999998,38625.199999999997,{"$f":"SUM($J$903:$J$904)","v":772505.59999999998},{"$f":"TRUNC(C905/100*G905,1)","v":38625.199999999997},0,{"$f":"TRUNC(C905/100*I905,1)","v":0},0,{"$f":"TRUNC(C905/100*K905,1)","v":0},"",null,null,null,null,null,null,null,null,null,null,null,null,null,null,null,null,null,null,null,null,null,null,null,null,null,null,null,null,null,null,null,null,null,null,null,null,null,null,null,null,null,null,null,null,null,null,null,null,null,null,null,null,null,null,null,null,null,null,null,null,null,null,null,null,null,null,null,null,null,null,null,null,null,null,null,null,null,null,null,null,null,null,null,null,null,null,null,null,null,null,null,null,null,null,null,null,null,null,null,null,null,null,null,":BKE3000"]
["제01111호표 ：보도블록포장[소형고압] (T=6~8Cm,지장물 5%미만) a 당",null,null,null,null,null,null,null,null,null,null,null,null,null,null,null,null,null,null,null,null,null,null,null,null,null,null,null,null,null,null,null,null,null,null,null,null,null,null,null,null,null,null,null,null,null,null,null,null,null,null,null,null,null,null,null,null,null,null,null,null,null,null,null,null,null,null,null,null,null,null,null,null,null,null,null,null,null,null,null,null,null,null,null,null,null,null,null,null,null,null,null,null,null,null,null,null,null,null,null,null,null,null,null,null,null,null,null,null,null,null,null,null,null,null,null,"%RAN*LE","1..3"]
["인터록킹블록","T=60~80㎜ ",108,"㎡",{"$f":"G911+I911+K911","v":10000},1080000,{"$f":"자재단가!$R$19","v":10000},{"$f":"TRUNC(C911*G911,1)","v":1080000},0,{"$f":"TRUNC(C911*I911,1)","v":0},0,{"$f":"TRUNC(C911*K911,1)","v":0},"   관  급  "]
["             계             ",null,null,null,null,{"$f":"H916+J916+L916","v":932098},null,{"$f":"ROUNDDOWN(SUM(H911:H915)-(H911),0)","v":212256},null,{"$f":"ROUNDDOWN(SUM(J911:J915)-(J911),0)","v":643835},null,{"$f":"ROUNDDOWN(SUM(L911:L915)-(L911),0)","v":76007},null,null,null,null,null,null,null,null,null,null,null,null,null,null,null,null,null,null,null,null,null,null,null,null,null,null,null,null,null,null,null,null,null,null,null,null,null,null,null,null,null,null,null,null,null,null,null,null,null,null,null,null,null,null,null,null,null,null,null,null,null,null,null,null,null,null,null,null,null,null,null,null,null,null,null,null,null,null,null,null,null,null,null,null,null,null,null,null,null,null,null,null,null,null,null,null,null,null,null,null,null,null,null,null,"BB00-0270",""]
["보도블럭포장(보도용)","공통",4.4400000000000004,"HR",280687,1246250.1000000001,{"$f":"$H$865","v":18022},{"$f":"TRUNC(C921*G921,1)","v":80017.600000000006},{"$f":"$J$865","v":241408},{"$f":"TRUNC(C921*I921,1)","v":1071851.5},{"$f":"$L$865","v":21257},{"$f":"TRUNC(C921*K921,1)","v":94381},"제 105호표",null,null,null,null,null,null,null,null,null,null,null,null,null,null,null,null,null,null,null,null,null,null,null,null,null,null,null,null,null,null,null,null,null,null,null,null,null,null,null,null,null,null,null,null,null,null,null,null,null,null,null,null,null,null,null,null,null,null,null,null,null,null,null,null,null,null,null,null,null,null,null,null,null,null,null,null,null,null,null,null,null,null,null,null,null,null,null,null,null,null,null,null,null,null,null,null,null,null,null,null,null,null,null,":B000-0430"]
["제01110호표 ：보도블록포장[소형고압,콘크리트블록] (T=6~8Cm) a 당",null,null,null,null,null,null,null,null,null,null,null,null,null,null,null,null,null,null,null,null,null,null,null,null,null,null,null,null,null,null,null,null,null,null,null,null,null,null,null,null,null,null,null,null,null,null,null,null,null,null,null,null,null,null,null,null,null,null,null,null,null,null,null,null,null,null,null,null,null,null,null,null,null,null,null,null,null,null,null,null,null,null,null,null,null,null,null,null,null,null,null,null,null,null,null,null,null,null,null,null,null,null,null,null,null,null,null,null,null,null,null,null,null,null,null,"%RAN*LE","1..3"]
["강모래","자연사(시내도착도)",4.4000000000000004,"㎥",30000,132000,{"$f":"자재단가!$R$36","v":30000},{"$f":"TRUNC(C928*G928,1)","v":132000},0,{"$f":"TRUNC(C928*I928,1)","v":0},0,{"$f":"TRUNC(C928*K928,1)","v":0},""]
["공구손료","인력품의 %",3,"%",772505.59999999998,23175.1,0,{"$f":"TRUNC(C931/100*G931,1)","v":0},0,{"$f":"TRUNC(C931/100*I931,1)","v":0},{"$f":"SUM($J$929:$J$929)","v":772505.59999999998},{"$f":"TRUNC(C931/100*K931,1)","v":23175.1},"",null,null,null,null,null,null,null,null,null,null,null,null,null,null,null,null,null,null,null,null,null,null,null,null,null,null,null,null,null,null,null,null,null,null,null,null,null,null,null,null,null,null,null,null,null,null,null,null,null,null,null,null,null,null,null,null,null,null,null,null,null,null,null,null,null,null,null,null,null,null,null,null,null,null,null,null,null,null,null,null,null,null,null,null,null,null,null,null,null,null,null,null,null,null,null,null,null,null,null,null,null,null,null,"M0717051",""]
["강모래","자연사(시내도착도)",4.4000000000000004,"㎥",30000,132000,{"$f":"자재단가!$R$36","v":30000},{"$f":"TRUNC(C936*G936,1)","v":132000},0,{"$f":"TRUNC(C936*I936,1)","v":0},0,{"$f":"TRUNC(C936*K936,1)","v":0},""]
[null,null,null,null,null,null,null,null,null,null,null,null,null,null,null,null,null,null,null,null,null,null,null,null,null,null,null,null,null,null,null,null,null,null,null,null,null,null,null,null,null,null,null,null,null,null,null,null,null,null,null,null,null,null,null,null,null,null,null,null,null,null,null,null,null,null,null,null,null,null,null,null,null,null,null,null,null,null,null,null,null,null,null,null,null,null,null,null,null,null,null,null,null,null,null,null,null,null,null,null,null,null,null,null,null,null,null,null,null,null,null,null,null,null,null,null,"BB00-0270",""]
["제01120호표 ：보도블록포장[투수콘크리트블록] (20*20*6~8Cm) a 당",null,null,null,null,null,null,null,null,null,null,null,null,null,null,null,null,null,null,null,null,null,null,null,null,null,null,null,null,null,null,null,null,null,null,null,null,null,null,null,null,null,null,null,null,null,null,null,null,null,null,null,null,null,null,null,null,null,null,null,null,null,null,null,null,null,null,null,null,null,null,null,null,null,null,null,null,null,null,null,null,null,null,null,null,null,null,null,null,null,null,null,null,null,null,null,null,null,null,null,null,null,null,null,null,null,null,null,null,null,null,null,null,null,null,null,"%RAN*LM","1..3"]
["잡재료비","인력품의 %",5,"%",772505.59999999998,38625.199999999997,{"$f":"SUM($J$946:$J$946)","v":772505.59999999998},{"$f":"TRUNC(C947/100*G947,1)","v":38625.199999999997},0,{"$f":"TRUNC(C947/100*I947,1)","v":0},0,{"$f":"TRUNC(C947/100*K947,1)","v":0},"",null,null,null,null,null,null,null,null,null,null,null,null,null,null,null,null,null,null,null,null,null,null,null,null,null,null,null,null,null,null,null,null,null,null,null,null,null,null,null,null,null,null,null,null,null,null,null,null,null,null,null,null,null,null,null,null,null,null,null,null,null,null,null,null,null,null,null,null,null,null,null,null,null,null,null,null,null,null,null,null,null,null,null,null,null,null,null,null,null,null,null,null,null,null,null,null,null,null,null,null,null,null,null,"M1284013",""]
[null,null,null,null,null,null,null,null,null,null,null,null,null,null,null,null,null,null,null,null,null,null,null,null,null,null,null,null,null,null,null,null,null,null,null,null,null,null,null,null,null,null,null,null,null,null,null,null,null,null,null,null,null,null,null,null,null,null,null,null,null,null,null,null,null,null,null,null,null,null,null,null,null,null,null,null,null,null,null,null,null,null,null,null,null,null,null,null,null,null,null,null,null,null,null,null,null,null,null,null,null,null,null,null,null,null,null,null,null,null,null,null,null,null,null,null,"%RAN*LM","1..3"]
["잡재료비","인력품의 %",2,"%",968234.4,19364.599999999999,{"$f":"SUM($J$955)","v":968234.4},{"$f":"TRUNC(C956/100*G956,1)","v":19364.599999999999},0,{"$f":"TRUNC(C956/100*I956,1)","v":0},0,{"$f":"TRUNC(C956/100*K956,1)","v":0},"",null,null,null,null,null,null,null,null,null,null,null,null,null,null,null,null,null,null,null,null,null,null,null,null,null,null,null,null,null,null,null,null,null,null,null,null,null,null,null,null,null,null,null,null,null,null,null,null,null,null,null,null,null,null,null,null,null,null,null,null,null,null,null,null,null,null,null,null,null,null,null,null,null,null,null,null,null,null,null,null,null,null,null,null,null,null,null,null,null,null,null,null,null,null,null,null,null,null,null,null,null,null,null,"M1284013",""]
["공구손료","인력품의 %",2,"%",968234.4,19364.599999999999,0,{"$f":"TRUNC(C957/100*G957,1)","v":0},0,{"$f":"TRUNC(C957/100*I957,1)","v":0},{"$f":"SUM($J$955)","v":968234.4},{"$f":"TRUNC(C957/100*K957,1)","v":19364.599999999999},"",null,null,null,null,null,null,null,null,null,null,null,null,null,null,null,null,null,null,null,null,null,null,null,null,null,null,null,null,null,null,null,null,null,null,null,null,null,null,null,null,null,null,null,null,null,null,null,null,null,null,null,null,null,null,null,null,null,null,null,null,null,null,null,null,null,null,null,null,null,null,null,null,null,null,null,null,null,null,null,null,null,null,null,null,null,null,null,null,null,null,null,null,null,null,null,null,null,null,null,null,null,null,null,"M0717051",""]
["강모래","자연사(시내도착도)",4.4000000000000004,"㎥",30000,132000,{"$f":"자재단가!$R$36","v":30000},{"$f":"TRUNC(C962*G962,1)","v":132000},0,{"$f":"TRUNC(C962*I962,1)","v":0},0,{"$f":"TRUNC(C962*K962,1)","v":0},""]
["             계             ",null,null,null,null,{"$f":"H967+J967+L967","v":1478250},null,{"$f":"ROUNDDOWN(SUM(H961:H965)-(H961),0)","v":228295},null,{"$f":"ROUNDDOWN(SUM(J961:J966)-(J961),0)","v":1158758},null,{"$f":"ROUNDDOWN(SUM(L961:L965)-(L961),0)","v":91197},null,null,null,null,null,null,null,null,null,null,null,null,null,null,null,null,null,null,null,null,null,null,null,null,null,null,null,null,null,null,null,null,null,null,null,null,null,null,null,null,null,null,null,null,null,null,null,null,null,null,null,null,null,null,null,null,null,null,null,null,null,null,null,null,null,null,null,null,null,null,null,null,null,null,null,null,null,null,null,null,null,null,null,null,null,null,null,null,null,null,null,null,null,null,null,null,null,null,null,null,null,null,null,null,"ED00002",""]
["판석붙임(화강석)",null,100,"㎡",85668,8566800,null,0,{"$f":"J981","v":85668},8566800,null,0,"제 114-1호표"]
["와이어메시 바닥깔기",null,100,"㎡",3079,307900,{"$f":"H1552","v":2004},200400,{"$f":"J1552","v":1075},107500,{"$f":"L1552","v":0},0,"",null,null,null,null,null,null,null,null,null,null,null,null,null,null,null,null,null,null,null,null,null,null,null,null,null,null,null,null,null,null,null,null,null,null,null,null,null,null,null,null,null,null,null,null,null,null,null,null,null,null,null,null,null,null,null,null,null,null,null,null,null,null,null,null,null,null,null,null,null,null,null,null,null,null,null,null,null,null,null,null,null,null,null,null,null,null,null,null,null,null,null,null,null,null,null,null,null,null,null,null,null,null,null,"E000-112",""]
[]
[null,null,null,null,null,null,null,null,null,null,null,null,null,null,null,null,null,null,null,null,null,null,null,null,null,null,null,null,null,null,null,null,null,null,null,null,null,null,null,null,null,null,null,null,null,null,null,null,null,null,null,null,null,null,null,null,null,null,null,null,null,null,null,null,null,null,null,null,null,null,null,null,null,null,null,null,null,null,null,null,null,null,null,null,null,null,null,null,null,null,null,null,null,null,null,null,null,null,null,null,null,null,null,null,null,null,null,null,null,null,null,null,null,null,null,null,"ED00002",""]
["보통인부",null,40,"인",141096,5643840,null,0,{"$f":"노임단가!K8","v":141096},5643840,null,0,"",null,null,null,null,null,null,null,null,null,null,null,null,null,null,null,null,null,null,null,null,null,null,null,null,null,null,null,null,null,null,null,null,null,null,null,null,null,null,null,null,null,null,null,null,null,null,null,null,null,null,null,null,null,null,null,null,null,null,null,null,null,null,null,null,null,null,null,null,null,null,null,null,null,null,null,null,null,null,null,null,null,null,null,null,null,null,null,null,null,null,null,null,null,null,null,null,null,null,null,null,null,null,null,":B0149"]
["덤프트럭","2.5톤",160,"HR",47328,7572480,{"$f":"건설기계!$I$146","v":5217},834720,{"$f":"건설기계!$K$146","v":36224},5795840,{"$f":"건설기계!$M$146","v":5887},941920,"",null,null,null,null,null,null,null,null,null,null,null,null,null,null,null,null,null,null,null,null,null,null,null,null,null,null,null,null,null,null,null,null,null,null,null,null,null,null,null,null,null,null,null,null,null,null,null,null,null,null,null,null,null,null,null,null,null,null,null,null,null,null,null,null,null,null,null,null,null,null,null,null,null,null,null,null,null,null,null,null,null,null,null,null,null,null,null,null,null,null,null,null,null,null,null,null,null,null,null,null,null,null,null,"M1284013",""]
["굴삭기","0.4 ㎥",1,"HR",{"$f":"G993+I993+K993","v":75473},{"$f":"H993+J993+L993","v":75473},{"$f":"'건설기계 목록'!$F$13","v":15745},{"$f":"TRUNC(C993*G993,1)","v":15745},{"$f":"'건설기계 목록'!$G$13","v":44299},{"$f":"TRUNC(C993*I993,1)","v":44299},{"$f":"'건설기계 목록'!$H$13","v":15429},{"$f":"TRUNC(C993*K993,1)","v":15429}]
["특별인부",null,0.125,"인",{"$f":"G998+I998+K998","v":179203},{"$f":"H998+J998+L998","v":22400.3},0,{"$f":"TRUNC(C998/100*G998,1)","v":0},{"$f":"노임단가!$K$7","v":179203},{"$f":"TRUNC(C998*I998,1)","v":22400.3},0,{"$f":"TRUNC(C998/100*K998,1)","v":0}]
["콘크리트 블록","T=60~80㎜ ",104,"㎡",{"$f":"G1002+I1002+K1002","v":11800},{"$f":"H1002+J1002+L1002","v":1227200},{"$f":"자재단가!$P$164","v":11800},{"$f":"TRUNC(C1002*G1002,1)","v":1227200},0,{"$f":"TRUNC(C1002*I1002,1)","v":0},0,{"$f":"TRUNC(C1002*K1002,1)","v":0},"   관  급  ",null,null,null,null,null,null,null,null,null,null,null,null,null,null,null,null,null,null,null,null,null,null,null,null,null,null,null,null,null,null,null,null,null,null,null,null,null,null,null,null,null,null,null,null,null,null,null,null,null,null,null,null,null,null,null,null,null,null,null,null,null,null,null,null,null,null,null,null,null,null,null,null,null,null,null,null,null,null,null,null,null,null,null,null,null,null,null,null,null,null,null,null,null,null,null,null,null,null,null,null,null,null,null,"%RAN*LE","1..3"]
["강모래","자연사(시내도착도)",4.4000000000000004,"㎥",30000,132000,{"$f":"자재단가!$R$36","v":30000},132000,0,0,{"$f":"$L$1066","v":0},0]
[null,null,null,null,null,null,null,null,null,null,null,null,null,null,null,null,null,null,null,null,null,null,null,null,null,null,null,null,null,null,null,null,null,null,null,null,null,null,null,null,null,null,null,null,null,null,null,null,null,null,null,null,null,null,null,null,null,null,null,null,null,null,null,null,null,null,null,null,null,null,null,null,null,null,null,null,null,null,null,null,null,null,null,null,null,null,null,null,null,null,null,null,null,null,null,null,null,null,null,null,null,null,null,null,null,null,null,null,null,null,null,null,null,null,null,null,"%RAN*LM","1..3"]
["잡재료비","노무비의 %",2,"%",null,null,null,null,null,null,{"$f":"$J$1012","v":1573627.5},{"$f":"TRUNC(C1013/100*K1013,1)","v":31472.5},null,null,null,null,null,null,null,null,null,null,null,null,null,null,null,null,null,null,null,null,null,null,null,null,null,null,null,null,null,null,null,null,null,null,null,null,null,null,null,null,null,null,null,null,null,null,null,null,null,null,null,null,null,null,null,null,null,null,null,null,null,null,null,null,null,null,null,null,null,null,null,null,null,null,null,null,null,null,null,null,null,null,null,null,null,null,null,null,null,null,null,null,null,null,null,null,null,null,null,null,null,null,null,null,"M1284013-1",""]
["콘크리트 블록","T=60~80㎜ ",104,"㎡",{"$f":"G1018+I1018+K1018","v":11800},{"$f":"H1018+J1018+L1018","v":1227200},{"$f":"자재단가!$P$164","v":11800},{"$f":"TRUNC(C1018*G1018,1)","v":1227200},0,{"$f":"TRUNC(C1018*I1018,1)","v":0},0,{"$f":"TRUNC(C1018*K1018,1)","v":0},"   관  급  ",null,null,null,null,null,null,null,null,null,null,null,null,null,null,null,null,null,null,null,null,null,null,null,null,null,null,null,null,null,null,null,null,null,null,null,null,null,null,null,null,null,null,null,null,null,null,null,null,null,null,null,null,null,null,null,null,null,null,null,null,null,null,null,null,null,null,null,null,null,null,null,null,null,null,null,null,null,null,null,null,null,null,null,null,null,null,null,null,null,null,null,null,null,null,null,null,null,null,null,null,null,null,null,"%RAN*LE","1..3"]
["보도소파보수[소형고압, 콘크리트블록]","일 시공량 104.5㎡",7.65,"HR",227628,1741354.2,{"$f":"$H$999","v":22062},168774.3,{"$f":"$J$999","v":184050},1407982.5,{"$f":"$L$999","v":21516},164597.4,"제 114-4호표"]
["             계             ",null,null,null,null,{"$f":"H1023+J1023+L1023","v":1929672},null,{"$f":"ROUNDDOWN(SUM(H1018:H1022)-SUM(H1018:H1018),0)","v":300774},null,{"$f":"ROUNDDOWN(SUM(J1018:J1022),0)","v":1407982},null,{"$f":"ROUNDDOWN(SUM(L1018:L1022)-(L1018),0)","v":220916},null,null,null,null,null,null,null,null,null,null,null,null,null,null,null,null,null,null,null,null,null,null,null,null,null,null,null,null,null,null,null,null,null,null,null,null,null,null,null,null,null,null,null,null,null,null,null,null,null,null,null,null,null,null,null,null,null,null,null,null,null,null,null,null,null,null,null,null,null,null,null,null,null,null,null,null,null,null,null,null,null,null,null,null,null,null,null,null,null,null,null,null,null,null,null,null,null,null,null,null,null,null,null,null,"BB00-0270",""]
["보도소파보수[소형고압, 콘크리트블록]","일 시공량 110㎡",7.27,"HR",227628,1654855.5,{"$f":"$H$999","v":22062},160390.70000000001,{"$f":"$J$999","v":184050},1338043.5,{"$f":"$L$999","v":21516},156421.29999999999,"제 114-4호표"]
["제01148호표 ：보도소파보수[소형고압,콘크리트블록](개소별 평균 시공면적 110㎡ 초과, 시공량 할증계수 1.05) a 당",null,null,null,null,null,null,null,null,null,null,null,null,null,null,null,null,null,null,null,null,null,null,null,null,null,null,null,null,null,null,null,null,null,null,null,null,null,null,null,null,null,null,null,null,null,null,null,null,null,null,null,null,null,null,null,null,null,null,null,null,null,null,null,null,null,null,null,null,null,null,null,null,null,null,null,null,null,null,null,null,null,null,null,null,null,null,null,null,null,null,null,null,null,null,null,null,null,null,null,null,null,null,null,null,null,null,null,null,null,null,null,null,null,null,null,"%RAN*LM","1..3"]
["콘크리트 블록","T=60~80㎜ ",104,"㎡",{"$f":"G1034+I1034+K1034","v":0},{"$f":"H1034+J1034+L1034","v":0},{"$f":"자재단가!P224","v":0},{"$f":"TRUNC(C1034*G1034,1)","v":0},0,{"$f":"TRUNC(C1034*I1034,1)","v":0},0,{"$f":"TRUNC(C1034*K1034,1)","v":0},"   관  급  ",null,null,null,null,null,null,null,null,null,null,null,null,null,null,null,null,null,null,null,null,null,null,null,null,null,null,null,null,null,null,null,null,null,null,null,null,null,null,null,null,null,null,null,null,null,null,null,null,null,null,null,null,null,null,null,null,null,null,null,null,null,null,null,null,null,null,null,null,null,null,null,null,null,null,null,null,null,null,null,null,null,null,null,null,null,null,null,null,null,null,null,null,null,null,null,null,null,null,null,null,null,null,null,"%RAN*LE","1..3"]
["             계             ",null,null,null,null,{"$f":"H1039+J1039+L1039","v":1758130},null,{"$f":"ROUNDDOWN(SUM(H1034:H1038)-SUM(H1034:H1034),0)","v":284669},null,{"$f":"ROUNDDOWN(SUM(J1034:J1038),0)","v":1273626},null,{"$f":"ROUNDDOWN(SUM(L1034:L1038)-(L1034),0)","v":199835},null,null,null,null,null,null,null,null,null,null,null,null,null,null,null,null,null,null,null,null,null,null,null,null,null,null,null,null,null,null,null,null,null,null,null,null,null,null,null,null,null,null,null,null,null,null,null,null,null,null,null,null,null,null,null,null,null,null,null,null,null,null,null,null,null,null,null,null,null,null,null,null,null,null,null,null,null,null,null,null,null,null,null,null,null,null,null,null,null,null,null,null,null,null,null,null,null,null,null,null,null,null,null,null,"BB00-0270",""]
["점자및유도블럭","300*300*60 황색",1200,"매",{"$f":"G1042+I1042+K1042","v":2500},3000000,{"$f":"자재단가!$R$35","v":2500},{"$f":"TRUNC(C1042*G1042,1)","v":3000000},0,{"$f":"TRUNC(C1042*I1042,1)","v":0},0,{"$f":"TRUNC(C1042*K1042,1)","v":0},""]
[]
["제01151호표 ：보도블럭포장 재설치[점자및유도] (T=6cm) a 당",null,null,null,null,null,null,null,null,null,null,null,null,null,null,null,null,null,null,null,null,null,null,null,null,null,null,null,null,null,null,null,null,null,null,null,null,null,null,null,null,null,null,null,null,null,null,null,null,null,null,null,null,null,null,null,null,null,null,null,null,null,null,null,null,null,null,null,null,null,null,null,null,null,null,null,null,null,null,null,null,null,null,null,null,null,null,null,null,null,null,null,null,null,null,null,null,null,null,null,null,null,null,null,null,null,null,null,null,null,null,null,null,null,null,null,"%RAN*LE","1..3"]
["공구손료","노무비의 %",3,"%",772505.59999999998,23175.1,0,{"$f":"TRUNC(C1054/100*G1054,1)","v":0},0,{"$f":"TRUNC(C1054/100*I1054,1)","v":0},{"$f":"SUM($J$1042:$J$1044)","v":772505.59999999998},{"$f":"TRUNC(C1054/100*K1054,1)","v":23175.1},"",null,null,null,null,null,null,null,null,null,null,null,null,null,null,null,null,null,null,null,null,null,null,null,null,null,null,null,null,null,null,null,null,null,null,null,null,null,null,null,null,null,null,null,null,null,null,null,null,null,null,null,null,null,null,null,null,null,null,null,null,null,null,null,null,null,null,null,null,null,null,null,null,null,null,null,null,null,null,null,null,null,null,null,null,null,null,null,null,null,null,null,null,null,null,null,null,null,null,null,null,null,null,null,"W1002",""]
["보통인부","",0.63900000000000001,"인",141096,90160.3,0,{"$f":"TRUNC(C1059*G1059,1)","v":0},{"$f":"노임단가!$K$8","v":141096},{"$f":"TRUNC(C1059*I1059,1)","v":90160.3},0,{"$f":"TRUNC(C1059*K1059,1)","v":0},"",null,null,null,null,null,null,null,null,null,null,null,null,null,null,null,null,null,null,null,null,null,null,null,null,null,null,null,null,null,null,null,null,null,null,null,null,null,null,null,null,null,null,null,null,null,null,null,null,null,null,null,null,null,null,null,null,null,null,null,null,null,null,null,null,null,null,null,null,null,null,null,null,null,null,null,null,null,null,null,null,null,null,null,null,null,null,null,null,null,null,null,null,null,null,null,null,null,null,null,null,null,null,null,"M0054",""]
["부직포","1*1m",108,"㎡",{"$f":"G1064+I1064+K1064","v":1250},{"$f":"H1064+J1064+L1064","v":135000},{"$f":"자재단가!$R$116","v":1250},{"$f":"TRUNC(C1064*G1064,1)","v":135000},0,{"$f":"TRUNC(C1064*I1064,1)","v":0},0,{"$f":"TRUNC(C1064*K1064,1)","v":0},"",null,null,null,null,null,null,null,null,null,null,null,null,null,null,null,null,null,null,null,null,null,null,null,null,null,null,null,null,null,null,null,null,null,null,null,null,null,null,null,null,null,null,null,null,null,null,null,null,null,null,null,null,null,null,null,null,null,null,null,null,null,null,null,null,null,null,null,null,null,null,null,null,null,null,null,null,null,null,null,null,null,null,null,null,null,null,null,null,null,null,null,null,null,null,null,null,null,null,null,null,null,null,null,"M000-0210-1",""]
["보통인부","",0.2,"인",{"$f":"G1065+I1065+K1065","v":141096},{"$f":"H1065+J1065+L1065","v":28219.200000000001},0,{"$f":"TRUNC(C1065*G1065,1)","v":0},{"$f":"노임단가!$K$8","v":141096},{"$f":"TRUNC(C1065*I1065,1)","v":28219.200000000001},0,{"$f":"TRUNC(C1065*K1065,1)","v":0},"",null,null,null,null,null,null,null,null,null,null,null,null,null,null,null,null,null,null,null,null,null,null,null,null,null,null,null,null,null,null,null,null,null,null,null,null,null,null,null,null,null,null,null,null,null,null,null,null,null,null,null,null,null,null,null,null,null,null,null,null,null,null,null,null,null,null,null,null,null,null,null,null,null,null,null,null,null,null,null,null,null,null,null,null,null,null,null,null,null,null,null,null,null,null,null,null,null,null,null,null,null,null,null,"W1002",""]
["wovon geotextile(하부부직포)","240g/㎡",108,"㎡",{"$f":"G1069+I1069+K1069","v":2800},{"$f":"H1069+J1069+L1069","v":302400},{"$f":"자재단가!$R$162","v":2800},{"$f":"TRUNC(C1069*G1069,1)","v":302400},0,{"$f":"TRUNC(C1069*I1069,1)","v":0},0,{"$f":"TRUNC(C1069*K1069,1)","v":0},"",null,null,null,null,null,null,null,null,null,null,null,null,null,null,null,null,null,null,null,null,null,null,null,null,null,null,null,null,null,null,null,null,null,null,null,null,null,null,null,null,null,null,null,null,null,null,null,null,null,null,null,null,null,null,null,null,null,null,null,null,null,null,null,null,null,null,null,null,null,null,null,null,null,null,null,null,null,null,null,null,null,null,null,null,null,null,null,null,null,null,null,null,null,null,null,null,null,null,null,null,null,null,null,"M000-0230-1",""]
["투수 콘크리트 블록","198*60*80",104,"㎡",{"$f":"G1074+I1074+K1074","v":27800},{"$f":"H1074+J1074+L1074","v":2891200},{"$f":"자재단가!$R$163","v":27800},{"$f":"TRUNC(C1074*G1074,1)","v":2891200},0,{"$f":"TRUNC(C1074*I1074,1)","v":0},0,{"$f":"TRUNC(C1074*K1074,1)","v":0},"   관  급  ",null,null,null,null,null,null,null,null,null,null,null,null,null,null,null,null,null,null,null,null,null,null,null,null,null,null,null,null,null,null,null,null,null,null,null,null,null,null,null,null,null,null,null,null,null,null,null,null,null,null,null,null,null,null,null,null,null,null,null,null,null,null,null,null,null,null,null,null,null,null,null,null,null,null,null,null,null,null,null,null,null,null,null,null,null,null,null,null,null,null,null,null,null,null,null,null,null,null,null,null,null,null,null,"BB00-0270",""]
["보도블럭포장(보도용)","공통",3.2,"HR",280687,898198.4,{"$f":"$H$865","v":18022},57670.400000000001,{"$f":"$J$865","v":241408},772505.59999999998,{"$f":"$L$865","v":21257},68022.399999999994,"제 105호표"]
["기층블록포장(공통, 지장물5%미만) ","a당",1.08,"a",540210,583426.6,{"$f":"$H$880","v":27156},29328.400000000001,{"$f":"$J$880","v":469983},507581.6,{"$f":"$L$880","v":43071},46516.6,"제 106호표",null,null,null,null,null,null,null,null,null,null,null,null,null,null,null,null,null,null,null,null,null,null,null,null,null,null,null,null,null,null,null,null,null,null,null,null,null,null,null,null,null,null,null,null,null,null,null,null,null,null,null,null,null,null,null,null,null,null,null,null,null,null,null,null,null,null,null,null,null,null,null,null,null,null,null,null,null,null,null,null,null,null,null,null,null,null,null,null,null,null,null,null,null,null,null,null,null,null,null,null,null,null,null,":BHF1110"]
["제01200호표 ：빗물받이설치[1호] ([300x400] 차도측) 개소 당",null,null,null,null,null,null,null,null,null,null,null,null,null,null,null,null,null,null,null,null,null,null,null,null,null,null,null,null,null,null,null,null,null,null,null,null,null,null,null,null,null,null,null,null,null,null,null,null,null,null,null,null,null,null,null,null,null,null,null,null,null,null,null,null,null,null,null,null,null,null,null,null,null,null,null,null,null,null,null,null,null,null,null,null,null,null,null,null,null,null,null,null,null,null,null,null,null,null,null,null,null,null,null,null,null,null,null,null,null,null,null,null,null,null,null,"BFC2650",""]
["거푸집(합판2회)","매우복잡/소규모",0.45,"㎡",62541,28143.4,{"$f":"$H$168","v":14756},6640.2,{"$f":"$J$168","v":47785},21503.200000000001,{"$f":"$L$168","v":0},0,"제  24호표",null,null,null,null,null,null,null,null,null,null,null,null,null,null,null,null,null,null,null,null,null,null,null,null,null,null,null,null,null,null,null,null,null,null,null,null,null,null,null,null,null,null,null,null,null,null,null,null,null,null,null,null,null,null,null,null,null,null,null,null,null,null,null,null,null,null,null,null,null,null,null,null,null,null,null,null,null,null,null,null,null,null,null,null,null,null,null,null,null,null,null,null,null,null,null,null,null,null,null,null,null,null,null,":BHF1120"]
[null,null,null,null,null,null,null,null,null,null,null,null,null,null,null,null,null,null,null,null,null,null,null,null,null,null,null,null,null,null,null,null,null,null,null,null,null,null,null,null,null,null,null,null,null,null,null,null,null,null,null,null,null,null,null,null,null,null,null,null,null,null,null,null,null,null,null,null,null,null,null,null,null,null,null,null,null,null,null,null,null,null,null,null,null,null,null,null,null,null,null,null,null,null,null,null,null,null,null,null,null,null,null,null,null,null,null,null,null,null,null,null,null,null,null,null,"BFB3330",""]
["제01210호표 ：빗물받이설치[2호] ([300x900] 차도측) 개소 당",null,null,null,null,null,null,null,null,null,null,null,null,null,null,null,null,null,null,null,null,null,null,null,null,null,null,null,null,null,null,null,null,null,null,null,null,null,null,null,null,null,null,null,null,null,null,null,null,null,null,null,null,null,null,null,null,null,null,null,null,null,null,null,null,null,null,null,null,null,null,null,null,null,null,null,null,null,null,null,null,null,null,null,null,null,null,null,null,null,null,null,null,null,null,null,null,null,null,null,null,null,null,null,null,null,null,null,null,null,null,null,null,null,null,null,"BFC2650",""]
["거푸집(합판2회)","매우복잡/소규모",0.56999999999999995,"㎡",62541,35648.300000000003,{"$f":"$H$168","v":14756},8410.9,{"$f":"$J$168","v":47785},27237.4,{"$f":"$L$168","v":0},0,"제  24호표",null,null,null,null,null,null,null,null,null,null,null,null,null,null,null,null,null,null,null,null,null,null,null,null,null,null,null,null,null,null,null,null,null,null,null,null,null,null,null,null,null,null,null,null,null,null,null,null,null,null,null,null,null,null,null,null,null,null,null,null,null,null,null,null,null,null,null,null,null,null,null,null,null,null,null,null,null,null,null,null,null,null,null,null,null,null,null,null,null,null,null,null,null,null,null,null,null,null,null,null,null,null,null,":BDB3210"]
["제01220호표 ：석축헐기[메쌓기] (인력[뒷길이45∼60cm]) ㎡ 당",null,null,null,null,null,null,null,null,null,null,null,null,null,null,null,null,null,null,null,null,null,null,null,null,null,null,null,null,null,null,null,null,null,null,null,null,null,null,null,null,null,null,null,null,null,null,null,null,null,null,null,null,null,null,null,null,null,null,null,null,null,null,null,null,null,null,null,null,null,null,null,null,null,null,null,null,null,null,null,null,null,null,null,null,null,null,null,null,null,null,null,null,null,null,null,null,null,null,null,null,null,null,null,null,null,null,null,null,null,null,null,null,null,null,null,":BDB3220"]
["제01230호표 ：석축헐기[메쌓기] (인력[뒷길이60∼90cm]) ㎡ 당",null,null,null,null,null,null,null,null,null,null,null,null,null,null,null,null,null,null,null,null,null,null,null,null,null,null,null,null,null,null,null,null,null,null,null,null,null,null,null,null,null,null,null,null,null,null,null,null,null,null,null,null,null,null,null,null,null,null,null,null,null,null,null,null,null,null,null,null,null,null,null,null,null,null,null,null,null,null,null,null,null,null,null,null,null,null,null,null,null,null,null,null,null,null,null,null,null,null,null,null,null,null,null,null,null,null,null,null,null,null,null,null,null,null,null,":B0310"]
["보통인부","",0.3,"인",{"$f":"G1111+I1111+K1111","v":141096},{"$f":"H1111+J1111+L1111","v":42328.800000000003},0,{"$f":"TRUNC(C1111*G1111,1)","v":0},{"$f":"노임단가!$K$8","v":141096},{"$f":"TRUNC(C1111*I1111,1)","v":42328.800000000003},0,{"$f":"TRUNC(C1111*K1111,1)","v":0},"",null,null,null,null,null,null,null,null,null,null,null,null,null,null,null,null,null,null,null,null,null,null,null,null,null,null,null,null,null,null,null,null,null,null,null,null,null,null,null,null,null,null,null,null,null,null,null,null,null,null,null,null,null,null,null,null,null,null,null,null,null,null,null,null,null,null,null,null,null,null,null,null,null,null,null,null,null,null,null,null,null,null,null,null,null,null,null,null,null,null,null,null,null,null,null,null,null,null,null,null,null,null,null,"M000-3130",""]
["세립도 표층용 투수콘","TC-3, 적색",2.08,"㎥",310000,644800,{"$f":"자재단가!$R$127","v":310000},644800,0,0,0,0,"   관  급  ",null,null,null,null,null,null,null,null,null,null,null,null,null,null,null,null,null,null,null,null,null,null,null,null,null,null,null,null,null,null,null,null,null,null,null,null,null,null,null,null,null,null,null,null,null,null,null,null,null,null,null,null,null,null,null,null,null,null,null,null,null,null,null,null,null,null,null,null,null,null,null,null,null,null,null,null,null,null,null,null,null,null,null,null,null,null,null,null,null,null,null,null,null,null,null,null,null,null,null,null,null,null,null,"W1019",""]
["진동롤러(핸드가이드식)","0.7 ton",0.47620000000000001,"시간",49251,23453.1,{"$f":"건설기계!$I$224","v":3240},1542.8,{"$f":"건설기계!$K$224","v":44299},21095.1,{"$f":"건설기계!$M$224","v":1712},815.2,"",null,null,null,null,null,null,null,null,null,null,null,null,null,null,null,null,null,null,null,null,null,null,null,null,null,null,null,null,null,null,null,null,null,null,null,null,null,null,null,null,null,null,null,null,null,null,null,null,null,null,null,null,null,null,null,null,null,null,null,null,null,null,null,null,null,null,null,null,null,null,null,null,null,null,null,null,null,null,null,null,null,null,null,null,null,null,null,null,null,null,null,null,null,null,null,null,null,null,null,null,null,null,null,"W1002",""]
["보통인부","기층",0.12,"인",141096,16931.5,0,0,{"$f":"노임단가!$K$8","v":141096},16931.5,0,0,""]
["보통인부","청소및살수",0.8,"인",141096,112876.8,0,0,{"$f":"노임단가!$K$8","v":141096},112876.8,0,0,"",null,null,null,null,null,null,null,null,null,null,null,null,null,null,null,null,null,null,null,null,null,null,null,null,null,null,null,null,null,null,null,null,null,null,null,null,null,null,null,null,null,null,null,null,null,null,null,null,null,null,null,null,null,null,null,null,null,null,null,null,null,null,null,null,null,null,null,null,null,null,null,null,null,null,null,null,null,null,null,null,null,null,null,null,null,null,null,null,null,null,null,null,null,null,null,null,null,null,null,null,null,null,null,":BFG1120"]
["제01250호표 ：수축줄눈 (20x25MM) m 당",null,null,null,null,null,null,null,null,null,null,null,null,null,null,null,null,null,null,null,null,null,null,null,null,null,null,null,null,null,null,null,null,null,null,null,null,null,null,null,null,null,null,null,null,null,null,null,null,null,null,null,null,null,null,null,null,null,null,null,null,null,null,null,null,null,null,null,null,null,null,null,null,null,null,null,null,null,null,null,null,null,null,null,null,null,null,null,null,null,null,null,null,null,null,null,null,null,null,null,null,null,null,null,null,null,null,null,null,null,null,null,null,null,null,null,":BFG2210"]
["제01260호표 ：수팽창지수재 m 당",null,null,null,null,null,null,null,null,null,null,null,null,null,null,null,null,null,null,null,null,null,null,null,null,null,null,null,null,null,null,null,null,null,null,null,null,null,null,null,null,null,null,null,null,null,null,null,null,null,null,null,null,null,null,null,null,null,null,null,null,null,null,null,null,null,null,null,null,null,null,null,null,null,null,null,null,null,null,null,null,null,null,null,null,null,null,null,null,null,null,null,null,null,null,null,null,null,null,null,null,null,null,null,null,null,null,null,null,null,null,null,null,null,null,null,":BFJ6000"]
["             계             ",null,null,null,null,{"$f":"H1139+J1139+L1139","v":2094},null,{"$f":"ROUNDDOWN(SUM(H1137:H1138),0)","v":1995},null,{"$f":"ROUNDDOWN(SUM(J1137:J1138),0)","v":99},null,{"$f":"ROUNDDOWN(SUM(L1137:L1138),0)","v":0},null,null,null,null,null,null,null,null,null,null,null,null,null,null,null,null,null,null,null,null,null,null,null,null,null,null,null,null,null,null,null,null,null,null,null,null,null,null,null,null,null,null,null,null,null,null,null,null,null,null,null,null,null,null,null,null,null,null,null,null,null,null,null,null,null,null,null,null,null,null,null,null,null,null,null,null,null,null,null,null,null,null,null,null,null,null,null,null,null,null,null,null,null,null,null,null,null,null,null,null,null,null,null,null,"W1029",""]
["제01270호표 ：신구콘크리트접합 (EPOXY바르기) ㎡ 당"]
["             계             ",null,null,null,null,{"$f":"H1146+J1146+L1146","v":48108},null,{"$f":"ROUNDDOWN(SUM(H1142:H1145),0)","v":21955},null,{"$f":"ROUNDDOWN(SUM(J1142:J1145),0)","v":25641},null,{"$f":"ROUNDDOWN(SUM(L1142:L1145),0)","v":512},null,null,null,null,null,null,null,null,null,null,null,null,null,null,null,null,null,null,null,null,null,null,null,null,null,null,null,null,null,null,null,null,null,null,null,null,null,null,null,null,null,null,null,null,null,null,null,null,null,null,null,null,null,null,null,null,null,null,null,null,null,null,null,null,null,null,null,null,null,null,null,null,null,null,null,null,null,null,null,null,null,null,null,null,null,null,null,null,null,null,null,null,null,null,null,null,null,null,null,null,null,null,null,null,"W1002",""]
["진동롤러(자주식)","2.5 ton",1,"시간",52321,52321,{"$f":"건설기계!$I$231","v":3388},3388,{"$f":"건설기계!$K$231","v":44299},44299,{"$f":"건설기계!$M$231","v":4634},4634,"",null,null,null,null,null,null,null,null,null,null,null,null,null,null,null,null,null,null,null,null,null,null,null,null,null,null,null,null,null,null,null,null,null,null,null,null,null,null,null,null,null,null,null,null,null,null,null,null,null,null,null,null,null,null,null,null,null,null,null,null,null,null,null,null,null,null,null,null,null,null,null,null,null,null,null,null,null,null,null,null,null,null,null,null,null,null,null,null,null,null,null,null,null,null,null,null,null,null,null,null,null,null,null,"D1730-0015",""]
["             계             ",null,null,null,null,{"$f":"H1156+J1156+L1156","v":416433},null,{"$f":"ROUNDDOWN(SUM(H1149:H1155),0)","v":31351},null,{"$f":"ROUNDDOWN(SUM(J1149:J1155),0)","v":347066},null,{"$f":"ROUNDDOWN(SUM(L1149:L1155),0)","v":38016},null,null,null,null,null,null,null,null,null,null,null,null,null,null,null,null,null,null,null,null,null,null,null,null,null,null,null,null,null,null,null,null,null,null,null,null,null,null,null,null,null,null,null,null,null,null,null,null,null,null,null,null,null,null,null,null,null,null,null,null,null,null,null,null,null,null,null,null,null,null,null,null,null,null,null,null,null,null,null,null,null,null,null,null,null,null,null,null,null,null,null,null,null,null,null,null,null,null,null,null,null,null,null,null,"SQC1000",""]
[]
["아스팔트콘크리트","BB-2, t30mm, 3등급 기층용",17.748000000000001,"M/T",60000,1064880,{"$f":"자재단가!$R$13","v":60000},{"$f":"TRUNC(C1161*G1161,1)","v":1064880},0,{"$f":"TRUNC(C1161*I1161,1)","v":0},0,{"$f":"TRUNC(C1161*K1161,1)","v":0},"   관  급  "]
["제01282호표 ：소파보수[포장복구] (B타입 개소별 평균 시공면적 10㎡ 이하, 시공량 할증계수 0.92) a 당"]
["아스팔트(유제) 운반","서빙고역",105,"L",{"$f":"G1171+I1171+K1171","v":12},{"$f":"H1171+J1171+L1171","v":1260},{"$f":"단가산출!$CY$1483","v":"0"},{"$f":"TRUNC(C1171*G1171,1)","v":0},{"$f":"단가산출!$CZ$1483","v":"0"},{"$f":"TRUNC(C1171*I1171,1)","v":0},{"$f":"단가산출!$DA$1483","v":"12"},{"$f":"TRUNC(C1171*K1171,1)","v":1260},"산근  37호표",null,null,null,null,null,null,null,null,null,null,null,null,null,null,null,null,null,null,null,null,null,null,null,null,null,null,null,null,null,null,null,null,null,null,null,null,null,null,null,null,null,null,null,null,null,null,null,null,null,null,null,null,null,null,null,null,null,null,null,null,null,null,null,null,null,null,null,null,null,null,null,null,null,null,null,null,null,null,null,null,null,null,null,null,null,null,null,null,null,null,null,null,null,null,null,null,null,null,null,null,null,null,null,"B000-0110",""]
["             계             ",null,null,null,null,{"$f":"H1172+J1172+L1172","v":8120245},null,{"$f":"ROUNDDOWN(SUM(H1167,H1170),0)","v":679201},null,{"$f":"ROUNDDOWN(SUM(J1167:J1171),0)","v":6705315},null,{"$f":"ROUNDDOWN(SUM(L1167:L1171),0)","v":735729},null,null,null,null,null,null,null,null,null,null,null,null,null,null,null,null,null,null,null,null,null,null,null,null,null,null,null,null,null,null,null,null,null,null,null,null,null,null,null,null,null,null,null,null,null,null,null,null,null,null,null,null,null,null,null,null,null,null,null,null,null,null,null,null,null,null,null,null,null,null,null,null,null,null,null,null,null,null,null,null,null,null,null,null,null,null,null,null,null,null,null,null,null,null,null,null,null,null,null,null,null,null,null,null,"SQC1000",""]
["아스팔트콘크리트","BB-2, t30mm, 3등급 기층용",17.748000000000001,"M/T",60000,1064880,{"$f":"자재단가!$R$13","v":60000},{"$f":"TRUNC(C1177*G1177,1)","v":1064880},0,{"$f":"TRUNC(C1177*I1177,1)","v":0},0,{"$f":"TRUNC(C1177*K1177,1)","v":0},"   관  급  "]
["제01284호표 ：소파보수[포장복구] (B타입 개소별 평균 시공면적 30㎡ 이하, 시공량 할증계수 1.09) a 당"]
["아스팔트(유제) 운반","서빙고역",105,"L",{"$f":"G1187+I1187+K1187","v":12},{"$f":"H1187+J1187+L1187","v":1260},{"$f":"단가산출!$CY$1483","v":"0"},{"$f":"TRUNC(C1187*G1187,1)","v":0},{"$f":"단가산출!$CZ$1483","v":"0"},{"$f":"TRUNC(C1187*I1187,1)","v":0},{"$f":"단가산출!$DA$1483","v":"12"},{"$f":"TRUNC(C1187*K1187,1)","v":1260},"산근  37호표",null,null,null,null,null,null,null,null,null,null,null,null,null,null,null,null,null,null,null,null,null,null,null,null,null,null,null,null,null,null,null,null,null,null,null,null,null,null,null,null,null,null,null,null,null,null,null,null,null,null,null,null,null,null,null,null,null,null,null,null,null,null,null,null,null,null,null,null,null,null,null,null,null,null,null,null,null,null,null,null,null,null,null,null,null,null,null,null,null,null,null,null,null,null,null,null,null,null,null,null,null,null,null,"B000-0110",""]
["             계             ",null,null,null,null,{"$f":"H1188+J1188+L1188","v":6866780},null,{"$f":"ROUNDDOWN(SUM(H1183,H1186),0)","v":584834},null,{"$f":"ROUNDDOWN(SUM(J1183:J1187),0)","v":5660646},null,{"$f":"ROUNDDOWN(SUM(L1183:L1187),0)","v":621300},null,null,null,null,null,null,null,null,null,null,null,null,null,null,null,null,null,null,null,null,null,null,null,null,null,null,null,null,null,null,null,null,null,null,null,null,null,null,null,null,null,null,null,null,null,null,null,null,null,null,null,null,null,null,null,null,null,null,null,null,null,null,null,null,null,null,null,null,null,null,null,null,null,null,null,null,null,null,null,null,null,null,null,null,null,null,null,null,null,null,null,null,null,null,null,null,null,null,null,null,null,null,null,null,"SQC1000",""]
["아스팔트콘크리트","WC-2, t13mm, 3등급 표층용",11.832000000000001,"M/T",70000,828240,{"$f":"자재단가!$R$12","v":70000},{"$f":"TRUNC(C1192*G1192,1)","v":828240},0,{"$f":"TRUNC(C1192*I1192,1)","v":0},0,{"$f":"TRUNC(C1192*K1192,1)","v":0},"   관  급  ",null,null,null,null,null,null,null,null,null,null,null,null,null,null,null,null,null,null,null,null,null,null,null,null,null,null,null,null,null,null,null,null,null,null,null,null,null,null,null,null,null,null,null,null,null,null,null,null,null,null,null,null,null,null,null,null,null,null,null,null,null,null,null,null,null,null,null,null,null,null,null,null,null,null,null,null,null,null,null,null,null,null,null,null,null,null,null,null,null,null,null,null,null,null,null,null,null,null,null,null,null,null,null,"M1155009",""]
[null,null,null,null,null,null,null,null,null,null,null,null,null,null,null,null,null,null,null,null,null,null,null,null,null,null,null,null,null,null,null,null,null,null,null,null,null,null,null,null,null,null,null,null,null,null,null,null,null,null,null,null,null,null,null,null,null,null,null,null,null,null,null,null,null,null,null,null,null,null,null,null,null,null,null,null,null,null,null,null,null,null,null,null,null,null,null,null,null,null,null,null,null,null,null,null,null,null,null,null,null,null,null,null,null,null,null,null,null,null,null,null,null,null,null,null,"W1019",""]
["아스팔트 스프레이어","400 ℓ",1,"시간",46893,46893,{"$f":"건설기계!$I$350","v":1907},{"$f":"TRUNC(C1202*G1202,1)","v":1907},{"$f":"건설기계!$K$350","v":44299},{"$f":"TRUNC(C1202*I1202,1)","v":44299},{"$f":"건설기계!$M$350","v":687},{"$f":"TRUNC(C1202*K1202,1)","v":687},"",null,null,null,null,null,null,null,null,null,null,null,null,null,null,null,null,null,null,null,null,null,null,null,null,null,null,null,null,null,null,null,null,null,null,null,null,null,null,null,null,null,null,null,null,null,null,null,null,null,null,null,null,null,null,null,null,null,null,null,null,null,null,null,null,null,null,null,null,null,null,null,null,null,null,null,null,null,null,null,null,null,null,null,null,null,null,null,null,null,null,null,null,null,null,null,null,null,null,null,null,null,null,null,"M0720051",""]
["트럭"," 2.5 ton",2,"시간",47328,94656,{"$f":"건설기계!$I$146","v":5217},{"$f":"TRUNC(C1203*G1203,1)","v":10434},{"$f":"건설기계!$K$146","v":36224},72448,{"$f":"건설기계!$M$146","v":5887},11774,""]
["제01291호표 ：소파보수[표층] (C타입 개소별 평균 시공면적 5㎡ 이하, 시공량 할증계수 0.79) a 당"]
["             계             ",null,null,null,null,{"$f":"H1213+J1213+L1213","v":8581370},null,{"$f":"ROUNDDOWN(SUM(H1209,H1211),0)","v":707905},null,{"$f":"ROUNDDOWN(SUM(J1209:J1212),0)","v":7024615},null,{"$f":"ROUNDDOWN(SUM(L1209:L1212),0)","v":848850},null,null,null,null,null,null,null,null,null,null,null,null,null,null,null,null,null,null,null,null,null,null,null,null,null,null,null,null,null,null,null,null,null,null,null,null,null,null,null,null,null,null,null,null,null,null,null,null,null,null,null,null,null,null,null,null,null,null,null,null,null,null,null,null,null,null,null,null,null,null,null,null,null,null,null,null,null,null,null,null,null,null,null,null,null,null,null,null,null,null,null,null,null,null,null,null,null,null,null,null,null,null,null,null,"B000-0140",""]
["아스팔트콘크리트","WC-2, t13mm, 3등급 표층용",11.832000000000001,"M/T",70000,828240,{"$f":"자재단가!$R$12","v":70000},{"$f":"TRUNC(C1217*G1217,1)","v":828240},0,{"$f":"TRUNC(C1217*I1217,1)","v":0},0,{"$f":"TRUNC(C1217*K1217,1)","v":0},"   관  급  "]
["소파보수(표층)","일 시공량 44.5㎡, 시간당 5.56㎡",17.989999999999998,"hr",{"$f":"G1218+I1218+K1218","v":422881},{"$f":"H1218+J1218+L1218","v":7607628.8999999994},{"$f":"$H$1206","v":33938},{"$f":"TRUNC(G1218*C1218,1)","v":610544.6},{"$f":"$J$1206","v":347066},{"$f":"TRUNC(C1218*I1218,1)","v":6243717.2999999998},{"$f":"$L$1206","v":41877},{"$f":"TRUNC(K1218*C1218)","v":753367},"제  1290호표",null,null,null,null,null,null,null,null,null,null,null,null,null,null,null,null,null,null,null,null,null,null,null,null,null,null,null,null,null,null,null,null,null,null,null,null,null,null,null,null,null,null,null,null,null,null,null,null,null,null,null,null,null,null,null,null,null,null,null,null,null,null,null,null,null,null,null,null,null,null,null,null,null,null,null,null,null,null,null,null,null,null,null,null,null,null,null,null,null,null,null,null,null,null,null,null,null,null,null,null,null,null,null,"D1730-0015",""]
["아스팔트유제","RSC-3",0.15,"D/M",{"$f":"G1223+I1223+K1223","v":140000},{"$f":"H1223+J1223+L1223","v":21000},{"$f":"자재단가!$R$81","v":140000},{"$f":"TRUNC(C1223*G1223,1)","v":21000},0,{"$f":"TRUNC(C1223*I1223,1)","v":0},0,{"$f":"TRUNC(C1223*K1223,1)","v":0},"",null,null,null,null,null,null,null,null,null,null,null,null,null,null,null,null,null,null,null,null,null,null,null,null,null,null,null,null,null,null,null,null,null,null,null,null,null,null,null,null,null,null,null,null,null,null,null,null,null,null,null,null,null,null,null,null,null,null,null,null,null,null,null,null,null,null,null,null,null,null,null,null,null,null,null,null,null,null,null,null,null,null,null,null,null,null,null,null,null,null,null,null,null,null,null,null,null,null,null,null,null,null,null,"D1305-0007",""]
[null,null,null,null,null,null,null,null,null,null,null,null,null,null,null,null,null,null,null,null,null,null,null,null,null,null,null,null,null,null,null,null,null,null,null,null,null,null,null,null,null,null,null,null,null,null,null,null,null,null,null,null,null,null,null,null,null,null,null,null,null,null,null,null,null,null,null,null,null,null,null,null,null,null,null,null,null,null,null,null,null,null,null,null,null,null,null,null,null,null,null,null,null,null,null,null,null,null,null,null,null,null,null,null,null,null,null,null,null,null,null,null,null,null,null,null,"D1305-0007",""]
["아스팔트(유제) 운반","서빙고역",105,"L",{"$f":"G1233+I1233+K1233","v":12},{"$f":"H1233+J1233+L1233","v":1260},{"$f":"단가산출!$CY$1483","v":"0"},{"$f":"TRUNC(C1233*G1233,1)","v":0},{"$f":"단가산출!$CZ$1483","v":"0"},{"$f":"TRUNC(C1233*I1233,1)","v":0},{"$f":"단가산출!$DA$1483","v":"12"},{"$f":"TRUNC(C1233*K1233,1)","v":1260},"산근  37호표",null,null,null,null,null,null,null,null,null,null,null,null,null,null,null,null,null,null,null,null,null,null,null,null,null,null,null,null,null,null,null,null,null,null,null,null,null,null,null,null,null,null,null,null,null,null,null,null,null,null,null,null,null,null,null,null,null,null,null,null,null,null,null,null,null,null,null,null,null,null,null,null,null,null,null,null,null,null,null,null,null,null,null,null,null,null,null,null,null,null,null,null,null,null,null,null,null,null,null,null,null,null,null,"M1158003",""]
[null,null,null,null,null,null,null,null,null,null,null,null,null,null,null,null,null,null,null,null,null,null,null,null,null,null,null,null,null,null,null,null,null,null,null,null,null,null,null,null,null,null,null,null,null,null,null,null,null,null,null,null,null,null,null,null,null,null,null,null,null,null,null,null,null,null,null,null,null,null,null,null,null,null,null,null,null,null,null,null,null,null,null,null,null,null,null,null,null,null,null,null,null,null,null,null,null,null,null,null,null,null,null,null,null,null,null,null,null,null,null,null,null,null,null,null,"D1305-0007",""]
["아스팔트콘크리트","WC-2, t13mm, 3등급 표층용",11.832000000000001,"M/T",70000,828240,{"$f":"자재단가!$R$12","v":70000},{"$f":"TRUNC(C1238*G1238,1)","v":828240},0,{"$f":"TRUNC(C1238*I1238,1)","v":0},0,{"$f":"TRUNC(C1238*K1238,1)","v":0},"   관  급  ",null,null,null,null,null,null,null,null,null,null,null,null,null,null,null,null,null,null,null,null,null,null,null,null,null,null,null,null,null,null,null,null,null,null,null,null,null,null,null,null,null,null,null,null,null,null,null,null,null,null,null,null,null,null,null,null,null,null,null,null,null,null,null,null,null,null,null,null,null,null,null,null,null,null,null,null,null,null,null,null,null,null,null,null,null,null,null,null,null,null,null,null,null,null,null,null,null,null,null,null,null,null,null,"M1158003",""]
["제01300호표 ：소파보수[도로복구, T=65cm] (B타입 시간당 시공량 4.375㎡) HR 당 ",null,null,null,null,null,null,null,null,null,null,null,null,null,null,null,null,null,null,null,null,null,null,null,null,null,null,null,null,null,null,null,null,null,null,null,null,null,null,null,null,null,null,null,null,null,null,null,null,null,null,null,null,null,null,null,null,null,null,null,null,null,null,null,null,null,null,null,null,null,null,null,null,null,null,null,null,null,null,null,null,null,null,null,null,null,null,null,null,null,null,null,null,null,null,null,null,null,null,null,null,null,null,null,null,null,null,null,null,null,null,null,null,null,null,null,"D0302-0057",""]
["아스팔트 스프레이어","400 ℓ",1,"시간",{"$f":"G1248+I1248+K1248","v":46893},46893,{"$f":"건설기계!$I$350","v":1907},{"$f":"TRUNC(C1248*G1248,1)","v":1907},{"$f":"건설기계!$K$350","v":44299},{"$f":"TRUNC(C1248*I1248,1)","v":44299},{"$f":"건설기계!$M$350","v":687},{"$f":"TRUNC(C1248*K1248,1)","v":687},""]
["덤프트럭"," 2.5 ton",2,"시간",47328,94656,{"$f":"건설기계!$I$146","v":5217},{"$f":"TRUNC(C1249*G1249,1)","v":10434},{"$f":"건설기계!$K$146","v":36224},{"$f":"TRUNC(C1249*I1249,1)","v":72448},{"$f":"건설기계!$M$146","v":5887},{"$f":"TRUNC(C1249*K1249,1)","v":11774},""]
["제01301호표 ：소파보수[도로복구] (B타입 개소별 평균 시공면적 4㎡ 이하, 시공량 할증계수 0.89) a 당"]
["소파보수(도로복구)","일 시공량 31.15㎡, 시간당 3.89㎡",25.71,"hr",{"$f":"G1258+I1258+K1258","v":503744},{"$f":"H1258+J1258+L1258","v":12951258},{"$f":"$H$1252","v":41426},{"$f":"TRUNC(G1258*C1258,1)","v":1065062.3999999999},{"$f":"$J$1252","v":419869},10794831.9,{"$f":"$L$1252","v":42449},{"$f":"TRUNC(K1258*C1258,1)","v":1091363.7},"제  1300호표",null,null,null,null,null,null,null,null,null,null,null,null,null,null,null,null,null,null,null,null,null,null,null,null,null,null,null,null,null,null,null,null,null,null,null,null,null,null,null,null,null,null,null,null,null,null,null,null,null,null,null,null,null,null,null,null,null,null,null,null,null,null,null,null,null,null,null,null,null,null,null,null,null,null,null,null,null,null,null,null,null,null,null,null,null,null,null,null,null,null,null,null,null,null,null,null,null,null,null,null,null,null,null,"M1155009",""]
[]
["제01302호표 ：소파보수[도로복구] (B타입 개소별 평균 시공면적 8㎡ 이하, 시공량 할증계수 0.94) a 당"]
["아스팔트(유제) 운반","서빙고역",105,"L",{"$f":"G1269+I1269+K1269","v":12},{"$f":"H1269+J1269+L1269","v":1260},{"$f":"단가산출!$CY$1483","v":"0"},{"$f":"TRUNC(C1269*G1269,1)","v":0},{"$f":"단가산출!$CZ$1483","v":"0"},{"$f":"TRUNC(C1269*I1269,1)","v":0},{"$f":"단가산출!$DA$1483","v":"12"},{"$f":"TRUNC(C1269*K1269,1)","v":1260},"산근  37호표"]
["제01303호표 ：소파보수[도로복구] (B타입 개소별 평균 시공면적 16㎡ 이하, 시공량 할증계수 1.0) a 당"]
["아스팔트(유제) 운반","서빙고역",105,"L",{"$f":"G1279+I1279+K1279","v":12},{"$f":"H1279+J1279+L1279","v":1260},{"$f":"단가산출!$CY$1483","v":"0"},{"$f":"TRUNC(C1279*G1279,1)","v":0},{"$f":"단가산출!$CZ$1483","v":"0"},{"$f":"TRUNC(C1279*I1279,1)","v":0},{"$f":"단가산출!$DA$1483","v":"12"},{"$f":"TRUNC(C1279*K1279,1)","v":1260},"산근  37호표"]
["혼합골재(서울)","40mm 이하",25.584,"㎥",20000,511680,{"$f":"자재단가!$R$39","v":20000},{"$f":"TRUNC(C1280*G1280,1)","v":511680},0,{"$f":"TRUNC(C1280*I1280,1)","v":0},0,{"$f":"TRUNC(C1280*K1280,1)","v":0},"",null,null,null,null,null,null,null,null,null,null,null,null,null,null,null,null,null,null,null,null,null,null,null,null,null,null,null,null,null,null,null,null,null,null,null,null,null,null,null,null,null,null,null,null,null,null,null,null,null,null,null,null,null,null,null,null,null,null,null,null,null,null,null,null,null,null,null,null,null,null,null,null,null,null,null,null,null,null,null,null,null,null,null,null,null,null,null,null,null,null,null,null,null,null,null,null,null,null,null,null,null,null,null,"M1158003",""]
["제01304호표 ：소파보수[도로복구] (B타입 개소별 평균 시공면적 24㎡ 이하, 시공량 할증계수 1.06) a 당"]
["아스팔트(유제) 운반","서빙고역",105,"L",{"$f":"G1289+I1289+K1289","v":12},{"$f":"H1289+J1289+L1289","v":1260},{"$f":"단가산출!$CY$1483","v":"0"},{"$f":"TRUNC(C1289*G1289,1)","v":0},{"$f":"단가산출!$CZ$1483","v":"0"},{"$f":"TRUNC(C1289*I1289,1)","v":0},{"$f":"단가산출!$DA$1483","v":"12"},{"$f":"TRUNC(C1289*K1289,1)","v":1260},"산근  37호표"]
["제01305호표 ：소파보수[도로복구] (B타입 개소별 평균 시공면적 24㎡ 초과, 시공량 할증계수 1.13) a 당"]
["아스팔트유제","RSC-3,4",0.52500000000000002,"D/M",{"$f":"G1295+I1295+K1295","v":140000},{"$f":"H1295+J1295+L1295","v":73500},{"$f":"자재단가!$R$81","v":140000},{"$f":"TRUNC(C1295*G1295,1)","v":73500},0,{"$f":"TRUNC(C1295*I1295,1)","v":0},0,{"$f":"TRUNC(C1295*K1295,1)","v":0},"",null,null,null,null,null,null,null,null,null,null,null,null,null,null,null,null,null,null,null,null,null,null,null,null,null,null,null,null,null,null,null,null,null,null,null,null,null,null,null,null,null,null,null,null,null,null,null,null,null,null,null,null,null,null,null,null,null,null,null,null,null,null,null,null,null,null,null,null,null,null,null,null,null,null,null,null,null,null,null,null,null,null,null,null,null,null,null,null,null,null,null,null,null,null,null,null,null,null,null,null,null,null,null,":B000-0145"]
["혼합골재(서울)","40mm 이하",25.584,"㎥",20000,511680,{"$f":"자재단가!$R$39","v":20000},{"$f":"TRUNC(C1300*G1300,1)","v":511680},0,{"$f":"TRUNC(C1300*I1300,1)","v":0},0,{"$f":"TRUNC(C1300*K1300,1)","v":0},"",null,null,null,null,null,null,null,null,null,null,null,null,null,null,null,null,null,null,null,null,null,null,null,null,null,null,null,null,null,null,null,null,null,null,null,null,null,null,null,null,null,null,null,null,null,null,null,null,null,null,null,null,null,null,null,null,null,null,null,null,null,null,null,null,null,null,null,null,null,null,null,null,null,null,null,null,null,null,null,null,null,null,null,null,null,null,null,null,null,null,null,null,null,null,null,null,null,null,null,null,null,null,null,"M1152009",""]
["플레이트콤팩트","1.5 ton",1,"시간",{"$f":"G1305+I1305+K1305","v":30909},30909,{"$f":"건설기계!$I$273","v":1799},{"$f":"TRUNC(C1305*G1305,1)","v":1799},{"$f":"건설기계!$K$273","v":28571},{"$f":"TRUNC(C1305*I1305,1)","v":28571},{"$f":"건설기계!$M$273","v":539},{"$f":"TRUNC(C1305*K1305,1)","v":539},"",null,null,null,null,null,null,null,null,null,null,null,null,null,null,null,null,null,null,null,null,null,null,null,null,null,null,null,null,null,null,null,null,null,null,null,null,null,null,null,null,null,null,null,null,null,null,null,null,null,null,null,null,null,null,null,null,null,null,null,null,null,null,null,null,null,null,null,null,null,null,null,null,null,null,null,null,null,null,null,null,null,null,null,null,null,null,null,null,null,null,null,null,null,null,null,null,null,null,null,null,null,null,null,"B0337",""]
["포 장 공","",0.125,"인",212761,26595.1,0,0,{"$f":"노임단가!$K$10","v":212761},26595.1,0,0,"",null,null,null,null,null,null,null,null,null,null,null,null,null,null,null,null,null,null,null,null,null,null,null,null,null,null,null,null,null,null,null,null,null,null,null,null,null,null,null,null,null,null,null,null,null,null,null,null,null,null,null,null,null,null,null,null,null,null,null,null,null,null,null,null,null,null,null,null,null,null,null,null,null,null,null,null,null,null,null,null,null,null,null,null,null,null,null,null,null,null,null,null,null,null,null,null,null,null,null,null,null,null,null,"M1152009",""]
["보통인부","포설",0.125,"인",141096,17637,0,0,{"$f":"노임단가!$K$8","v":141096},17637,0,0,"",null,null,null,null,null,null,null,null,null,null,null,null,null,null,null,null,null,null,null,null,null,null,null,null,null,null,null,null,null,null,null,null,null,null,null,null,null,null,null,null,null,null,null,null,null,null,null,null,null,null,null,null,null,null,null,null,null,null,null,null,null,null,null,null,null,null,null,null,null,null,null,null,null,null,null,null,null,null,null,null,null,null,null,null,null,null,null,null,null,null,null,null,null,null,null,null,null,null,null,null,null,null,null,"M1155009",""]
["아스팔트 피니셔","3 m",1,"시간",{"$f":"G1315+I1315+K1315","v":111437},111437,{"$f":"건설기계!$I$336","v":18134},{"$f":"TRUNC(C1315*G1315,1)","v":18134},{"$f":"건설기계!$K$336","v":44299},{"$f":"TRUNC(C1315*I1315,1)","v":44299},{"$f":"건설기계!$M$336","v":49004},{"$f":"TRUNC(C1315*K1315,1)","v":49004},""]
["포 장 공","",0.5,"인",212761,106380.5,0,0,{"$f":"노임단가!$K$10","v":212761},106380.5,0,0,"",null,null,null,null,null,null,null,null,null,null,null,null,null,null,null,null,null,null,null,null,null,null,null,null,null,null,null,null,null,null,null,null,null,null,null,null,null,null,null,null,null,null,null,null,null,null,null,null,null,null,null,null,null,null,null,null,null,null,null,null,null,null,null,null,null,null,null,null,null,null,null,null,null,null,null,null,null,null,null,null,null,null,null,null,null,null,null,null,null,null,null,null,null,null,null,null,null,null,null,null,null,null,null,"SQC1000",""]
["아스팔트 피니셔","1.7 m",1,"시간",{"$f":"G1325+I1325+K1325","v":100003},100003,{"$f":"건설기계!$I$329","v":9764},{"$f":"TRUNC(C1325*G1325,1)","v":9764},{"$f":"건설기계!$K$329","v":44299},{"$f":"TRUNC(C1325*I1325,1)","v":44299},{"$f":"건설기계!$M$329","v":45940},{"$f":"TRUNC(C1325*K1325,1)","v":45940},"",null,null,null,null,null,null,null,null,null,null,null,null,null,null,null,null,null,null,null,null,null,null,null,null,null,null,null,null,null,null,null,null,null,null,null,null,null,null,null,null,null,null,null,null,null,null,null,null,null,null,null,null,null,null,null,null,null,null,null,null,null,null,null,null,null,null,null,null,null,null,null,null,null,null,null,null,null,null,null,null,null,null,null,null,null,null,null,null,null,null,null,null,null,null,null,null,null,null,null,null,null,null,null,"D5701-0020",""]
["굴삭기(무한궤도)"," 0.6 ㎥",1,"시간",81240,81240,{"$f":"건설기계!$I$70","v":16223},{"$f":"TRUNC(C1326*G1326,1)","v":16223},{"$f":"건설기계!$K$70","v":44299},44299,{"$f":"건설기계!$M$70","v":20718},20718,"",null,null,null,null,null,null,null,null,null,null,null,null,null,null,null,null,null,null,null,null,null,null,null,null,null,null,null,null,null,null,null,null,null,null,null,null,null,null,null,null,null,null,null,null,null,null,null,null,null,null,null,null,null,null,null,null,null,null,null,null,null,null,null,null,null,null,null,null,null,null,null,null,null,null,null,null,null,null,null,null,null,null,null,null,null,null,null,null,null,null,null,null,null,null,null,null,null,null,null,null,null,null,null,"D0302-0057",""]
["             계             ",null,null,null,null,{"$f":"H1332+J1332+L1332","v":436461},null,{"$f":"ROUNDDOWN(SUM(H1325:H1331),0)","v":53415},null,{"$f":"ROUNDDOWN(SUM(J1325:J1331),0)","v":292730},null,{"$f":"ROUNDDOWN(SUM(L1325:L1331),0)","v":90316},null,null,null,null,null,null,null,null,null,null,null,null,null,null,null,null,null,null,null,null,null,null,null,null,null,null,null,null,null,null,null,null,null,null,null,null,null,null,null,null,null,null,null,null,null,null,null,null,null,null,null,null,null,null,null,null,null,null,null,null,null,null,null,null,null,null,null,null,null,null,null,null,null,null,null,null,null,null,null,null,null,null,null,null,null,null,null,null,null,null,null,null,null,null,null,null,null,null,null,null,null,null,null,null,"W1002",""]
["아스팔트유제","RSC-3",0.15,"D/M",{"$f":"G1335+I1335+K1335","v":140000},21000,{"$f":"자재단가!$R$81","v":140000},{"$f":"TRUNC(C1335*G1335,1)","v":21000},0,{"$f":"TRUNC(C1335*I1335,1)","v":0},0,{"$f":"TRUNC(C1335*K1335,1)","v":0},"",null,null,null,null,null,null,null,null,null,null,null,null,null,null,null,null,null,null,null,null,null,null,null,null,null,null,null,null,null,null,null,null,null,null,null,null,null,null,null,null,null,null,null,null,null,null,null,null,null,null,null,null,null,null,null,null,null,null,null,null,null,null,null,null,null,null,null,null,null,null,null,null,null,null,null,null,null,null,null,null,null,null,null,null,null,null,null,null,null,null,null,null,null,null,null,null,null,null,null,null,null,null,null,":BKB5300"]
["청소비(아스팔트)","",1,"a",14549,14549,{"$f":"$H$1829","v":440},440,{"$f":"$J$1829","v":14109},14109,{"$f":"$L$1829","v":0},0,"제 189호표",null,null,null,null,null,null,null,null,null,null,null,null,null,null,null,null,null,null,null,null,null,null,null,null,null,null,null,null,null,null,null,null,null,null,null,null,null,null,null,null,null,null,null,null,null,null,null,null,null,null,null,null,null,null,null,null,null,null,null,null,null,null,null,null,null,null,null,null,null,null,null,null,null,null,null,null,null,null,null,null,null,null,null,null,null,null,null,null,null,null,null,null,null,null,null,null,null,null,null,null,null,null,null,"B000-0134",""]
["             계             ",null,null,null,null,{"$f":"H1341+J1341+L1341","v":657288},null,{"$f":"ROUNDDOWN(SUM(H1335:H1340)-(H1336),0)","v":73607},null,{"$f":"ROUNDDOWN(SUM(J1335:J1340)-(J1336),0)","v":547865},null,{"$f":"ROUNDDOWN(SUM(L1335:L1340)-(L1336),0)","v":35816},null,null,null,null,null,null,null,null,null,null,null,null,null,null,null,null,null,null,null,null,null,null,null,null,null,null,null,null,null,null,null,null,null,null,null,null,null,null,null,null,null,null,null,null,null,null,null,null,null,null,null,null,null,null,null,null,null,null,null,null,null,null,null,null,null,null,null,null,null,null,null,null,null,null,null,null,null,null,null,null,null,null,null,null,null,null,null,null,null,null,null,null,null,null,null,null,null,null,null,null,null,null,null,null,"B0337",""]
["아스팔트포장(기계,신설포장)","표층,중간층",0.16700000000000001,"HR",476352,79550.599999999991,{"$f":"$H$1322","v":63890},10669.6,{"$f":"$J$1322","v":319325},53327.199999999997,{"$f":"$L$1322","v":93137},15553.8,"제 135호표",null,null,null,null,null,null,null,null,null,null,null,null,null,null,null,null,null,null,null,null,null,null,null,null,null,null,null,null,null,null,null,null,null,null,null,null,null,null,null,null,null,null,null,null,null,null,null,null,null,null,null,null,null,null,null,null,null,null,null,null,null,null,null,null,null,null,null,null,null,null,null,null,null,null,null,null,null,null,null,null,null,null,null,null,null,null,null,null,null,null,null,null,null,null,null,null,null,null,null,null,null,null,null,"M1158003",""]
[]
["아스팔트콘크리트","WC-2, t13mm, 3등급 표층용",11.832000000000001,"M/T",70000,828240,{"$f":"자재단가!$R$12","v":70000},828240,0,0,0,0,"   관  급  ",null,null,null,null,null,null,null,null,null,null,null,null,null,null,null,null,null,null,null,null,null,null,null,null,null,null,null,null,null,null,null,null,null,null,null,null,null,null,null,null,null,null,null,null,null,null,null,null,null,null,null,null,null,null,null,null,null,null,null,null,null,null,null,null,null,null,null,null,null,null,null,null,null,null,null,null,null,null,null,null,null,null,null,null,null,null,null,null,null,null,null,null,null,null,null,null,null,null,null,null,null,null,null,"M1152009",""]
["아스팔트(유제) 운반","서빙고역",30,"L",12,360,{"$f":"단가산출!$CY$1483","v":"0"},0,{"$f":"단가산출!$CZ$1483","v":"0"},0,{"$f":"단가산출!$DA$1483","v":"12"},360,"산근  37호표",null,null,null,null,null,null,null,null,null,null,null,null,null,null,null,null,null,null,null,null,null,null,null,null,null,null,null,null,null,null,null,null,null,null,null,null,null,null,null,null,null,null,null,null,null,null,null,null,null,null,null,null,null,null,null,null,null,null,null,null,null,null,null,null,null,null,null,null,null,null,null,null,null,null,null,null,null,null,null,null,null,null,null,null,null,null,null,null,null,null,null,null,null,null,null,null,null,null,null,null,null,null,null,"SQC1000",""]
["제01380호표 ：아스콘표층공[기계,신설포장] (T=5Cm[2m≤시공폭<3m]) a 당"]
["텍코팅","RSC-3(30ℓ/a,기계식)",1,"a",3761,3761,{"$f":"$H$2068","v":710},710,{"$f":"$J$2068","v":2477},2477,{"$f":"$L$2068","v":574},574,"제 219호표",null,null,null,null,null,null,null,null,null,null,null,null,null,null,null,null,null,null,null,null,null,null,null,null,null,null,null,null,null,null,null,null,null,null,null,null,null,null,null,null,null,null,null,null,null,null,null,null,null,null,null,null,null,null,null,null,null,null,null,null,null,null,null,null,null,null,null,null,null,null,null,null,null,null,null,null,null,null,null,null,null,null,null,null,null,null,null,null,null,null,null,null,null,null,null,null,null,null,null,null,null,null,null,":BB00-0520"]
["아스팔트콘크리트","WC-2, t13mm, 3등급 표층용",11.832000000000001,"M/T",{"$f":"G1371+I1371+K1371","v":70000},{"$f":"H1371+J1371+L1371","v":828240},{"$f":"자재단가!$R$12","v":70000},{"$f":"TRUNC(C1371*G1371,1)","v":828240},0,{"$f":"TRUNC(C1371*I1371,1)","v":0},0,{"$f":"TRUNC(C1371*K1371,1)","v":0},"   관  급  "]
["아스팔트유제","RSC-3",0.15,"D/M",140000,21000,{"$f":"자재단가!$R$81","v":140000},21000,0,0,0,0,"",null,null,null,null,null,null,null,null,null,null,null,null,null,null,null,null,null,null,null,null,null,null,null,null,null,null,null,null,null,null,null,null,null,null,null,null,null,null,null,null,null,null,null,null,null,null,null,null,null,null,null,null,null,null,null,null,null,null,null,null,null,null,null,null,null,null,null,null,null,null,null,null,null,null,null,null,null,null,null,null,null,null,null,null,null,null,null,null,null,null,null,null,null,null,null,null,null,null,null,null,null,null,null,"M0717051",""]
["보통인부","절삭,청소",0.23,"인",141096,32452,0,0,{"$f":"노임단가!$K$8","v":141096},32452,0,0,"",null,null,null,null,null,null,null,null,null,null,null,null,null,null,null,null,null,null,null,null,null,null,null,null,null,null,null,null,null,null,null,null,null,null,null,null,null,null,null,null,null,null,null,null,null,null,null,null,null,null,null,null,null,null,null,null,null,null,null,null,null,null,null,null,null,null,null,null,null,null,null,null,null,null,null,null,null,null,null,null,null,null,null,null,null,null,null,null,null,null,null,null,null,null,null,null,null,null,null,null,null,null,null,"W1013",""]
["머캐덤롤러(자주식)","10~12 ton",0.61499999999999999,"시간",69312,42626.700000000004,{"$f":"건설기계!$I$196","v":14306},8798.1,{"$f":"건설기계!$K$196","v":44299},27243.8,{"$f":"건설기계!$M$196","v":10707},6584.8,""]
["             계             ",null,null,null,null,{"$f":"H1386+J1386+L1386","v":642528},null,{"$f":"ROUNDDOWN(SUM(H1372:H1385),0)","v":151455},null,{"$f":"ROUNDDOWN(SUM(J1372:J1385),0)","v":313869},null,{"$f":"ROUNDDOWN(SUM(L1372:L1385),0)","v":177204},null,null,null,null,null,null,null,null,null,null,null,null,null,null,null,null,null,null,null,null,null,null,null,null,null,null,null,null,null,null,null,null,null,null,null,null,null,null,null,null,null,null,null,null,null,null,null,null,null,null,null,null,null,null,null,null,null,null,null,null,null,null,null,null,null,null,null,null,null,null,null,null,null,null,null,null,null,null,null,null,null,null,null,null,null,null,null,null,null,null,null,null,null,null,null,null,null,null,null,null,null,null,null,null,"BB00-0510",""]
[null,null,null,null,null,null,null,null,null,null,null,null,null,null,null,null,null,null,null,null,null,null,null,null,null,null,null,null,null,null,null,null,null,null,null,null,null,null,null,null,null,null,null,null,null,null,null,null,null,null,null,null,null,null,null,null,null,null,null,null,null,null,null,null,null,null,null,null,null,null,null,null,null,null,null,null,null,null,null,null,null,null,null,null,null,null,null,null,null,null,null,null,null,null,null,null,null,null,null,null,null,null,null,null,null,null,null,null,null,null,null,null,null,null,null,null,"SQC1000",""]
["아스팔트(유제) 운반","서빙고역",75,"L",12,900,{"$f":"단가산출!$CY$1483","v":"0"},0,{"$f":"단가산출!$CZ$1483","v":"0"},0,{"$f":"단가산출!$DA$1483","v":"12"},900,"산근  37호표",null,null,null,null,null,null,null,null,null,null,null,null,null,null,null,null,null,null,null,null,null,null,null,null,null,null,null,null,null,null,null,null,null,null,null,null,null,null,null,null,null,null,null,null,null,null,null,null,null,null,null,null,null,null,null,null,null,null,null,null,null,null,null,null,null,null,null,null,null,null,null,null,null,null,null,null,null,null,null,null,null,null,null,null,null,null,null,null,null,null,null,null,null,null,null,null,null,null,null,null,null,null,null,"M1155009",""]
["제01400호표 ：아스콘중층공[기계,신설포장] (T=7.5Cm[3m≤시공폭]) a 당",null,null,null,null,null,null,null,null,null,null,null,null,null,null,null,null,null,null,null,null,null,null,null,null,null,null,null,null,null,null,null,null,null,null,null,null,null,null,null,null,null,null,null,null,null,null,null,null,null,null,null,null,null,null,null,null,null,null,null,null,null,null,null,null,null,null,null,null,null,null,null,null,null,null,null,null,null,null,null,null,null,null,null,null,null,null,null,null,null,null,null,null,null,null,null,null,null,null,null,null,null,null,null,null,null,null,null,null,null,null,null,null,null,null,null,"D000-0170",""]
["아스팔트콘크리트","BB-2, t30mm, 3등급 기층용",17.748000000000001,"M/T",60000,1064880,{"$f":"자재단가!$R$13","v":60000},1064880,0,0,0,0,"   관  급  ",null,null,null,null,null,null,null,null,null,null,null,null,null,null,null,null,null,null,null,null,null,null,null,null,null,null,null,null,null,null,null,null,null,null,null,null,null,null,null,null,null,null,null,null,null,null,null,null,null,null,null,null,null,null,null,null,null,null,null,null,null,null,null,null,null,null,null,null,null,null,null,null,null,null,null,null,null,null,null,null,null,null,null,null,null,null,null,null,null,null,null,null,null,null,null,null,null,null,null,null,null,null,null,"D1305-0007",""]
["프라임코팅","RSC-4,기계식",1,"a",3761,3761,{"$f":"$H$2078","v":710},710,{"$f":"$J$2078","v":2477},2477,{"$f":"$L$2078","v":574},574,"제 220호표"]
["아스팔트유제","RSC-4",0.375,"D/M",{"$f":"G1407+I1407+K1407","v":140000},52500,{"$f":"자재단가!$R$81","v":140000},{"$f":"TRUNC(C1407*G1407,1)","v":52500},0,{"$f":"TRUNC(C1407*I1407,1)","v":0},0,{"$f":"TRUNC(C1407*K1407,1)","v":0},""]
["청소비(아스팔트)","",1,"a",14549,14549,{"$f":"$H$1829","v":440},440,{"$f":"$J$1829","v":14109},14109,{"$f":"$L$1829","v":0},0,"제 189호표"]
["아스팔트콘크리트","BB-2, t30mm, 3등급 기층용",17.748000000000001,"M/T",60000,1064880,{"$f":"자재단가!$R$13","v":60000},1064880,0,0,0,0,"   관  급  ",null,null,null,null,null,null,null,null,null,null,null,null,null,null,null,null,null,null,null,null,null,null,null,null,null,null,null,null,null,null,null,null,null,null,null,null,null,null,null,null,null,null,null,null,null,null,null,null,null,null,null,null,null,null,null,null,null,null,null,null,null,null,null,null,null,null,null,null,null,null,null,null,null,null,null,null,null,null,null,null,null,null,null,null,null,null,null,null,null,null,null,null,null,null,null,null,null,null,null,null,null,null,null,":B0048"]
["아스팔트(유제) 운반","서빙고역",75,"L",12,900,{"$f":"단가산출!$CY$1483","v":"0"},0,{"$f":"단가산출!$CZ$1483","v":"0"},0,{"$f":"단가산출!$DA$1483","v":"12"},900,"산근  37호표",null,null,null,null,null,null,null,null,null,null,null,null,null,null,null,null,null,null,null,null,null,null,null,null,null,null,null,null,null,null,null,null,null,null,null,null,null,null,null,null,null,null,null,null,null,null,null,null,null,null,null,null,null,null,null,null,null,null,null,null,null,null,null,null,null,null,null,null,null,null,null,null,null,null,null,null,null,null,null,null,null,null,null,null,null,null,null,null,null,null,null,null,null,null,null,null,null,null,null,null,null,null,null,"W1002",""]
["제01420호표 ：절삭 후 아스팔트 덧씌우기 (C타입, 시간당 225㎡) HR 당",null,null,null,null,null,null,null,null,null,null,null,"제 142호표",null,null,null,null,null,null,null,null,null,null,null,null,null,null,null,null,null,null,null,null,null,null,null,null,null,null,null,null,null,null,null,null,null,null,null,null,null,null,null,null,null,null,null,null,null,null,null,null,null,null,null,null,null,null,null,null,null,null,null,null,null,null,null,null,null,null,null,null,null,null,null,null,null,null,null,null,null,null,null,null,null,null,null,null,null,null,null,null,null,null,null,null,null,null,null,null,null,null,null,null,null,null,null,"M0720051",""]
["로더(타이어)","0.57 ㎥",1,"시간",57433,57433,{"$f":"건설기계!$I$125","v":6570},{"$f":"TRUNC(C1427*G1427,1)","v":6570},{"$f":"건설기계!$K$125","v":44299},{"$f":"TRUNC(C1427*I1427,1)","v":44299},{"$f":"건설기계!$M$125","v":6564},6564,""]
["아스팔트 디스트리뷰터","38000 ℓ",1,"시간",76422,76422,{"$f":"건설기계!$I$357","v":17762},{"$f":"TRUNC(C1432*G1432,1)","v":17762},{"$f":"건설기계!$K$357","v":44299},44299,{"$f":"건설기계!$M$357","v":14361},14361,"",null,null,null,null,null,null,null,null,null,null,null,null,null,null,null,null,null,null,null,null,null,null,null,null,null,null,null,null,null,null,null,null,null,null,null,null,null,null,null,null,null,null,null,null,null,null,null,null,null,null,null,null,null,null,null,null,null,null,null,null,null,null,null,null,null,null,null,null,null,null,null,null,null,null,null,null,null,null,null,null,null,null,null,null,null,null,null,null,null,null,null,null,null,null,null,null,null,null,null,null,null,null,null,"M0720051",""]
["물탱크(살수차)","16000 ℓ",1,"시간",75171,75171,{"$f":"건설기계!$I$441","v":21862},21862,{"$f":"건설기계!$K$441","v":36224},36224,{"$f":"건설기계!$M$441","v":17085},17085,"",null,null,null,null,null,null,null,null,null,null,null,null,null,null,null,null,null,null,null,null,null,null,null,null,null,null,null,null,null,null,null,null,null,null,null,null,null,null,null,null,null,null,null,null,null,null,null,null,null,null,null,null,null,null,null,null,null,null,null,null,null,null,null,null,null,null,null,null,null,null,null,null,null,null,null,null,null,null,null,null,null,null,null,null,null,null,null,null,null,null,null,null,null,null,null,null,null,null,null,null,null,null,null,"W1013",""]
["제01430호표 ：절삭 후 아스팔트 덧씌우기 (T=5cm) a 당",null,null,null,null,null,null,null,null,null,null,null,null,null,null,null,null,null,null,null,null,null,null,null,null,null,null,null,null,null,null,null,null,null,null,null,null,null,null,null,null,null,null,null,null,null,null,null,null,null,null,null,null,null,null,null,null,null,null,null,null,null,null,null,null,null,null,null,null,null,null,null,null,null,null,null,null,null,null,null,null,null,null,null,null,null,null,null,null,null,null,null,null,null,null,null,null,null,null,null,null,null,null,null,null,null,null,null,null,null,null,null,null,null,null,null,"M0747003",""]
["팁(날)",null,3.45,"개",{"$f":"G1443+I1443+K1443","v":6000},{"$f":"H1443+J1443+L1443","v":20700},{"$f":"자재단가!$P$166","v":6000},{"$f":"TRUNC(C1443*G1443,1)","v":20700}]
["제01440호표 ：아스팔트포장도로[균열보수] (아스팔트가열장비이용) m 당",null,null,null,null,null,null,null,null,null,null,null,null,null,null,null,null,null,null,null,null,null,null,null,null,null,null,null,null,null,null,null,null,null,null,null,null,null,null,null,null,null,null,null,null,null,null,null,null,null,null,null,null,null,null,null,null,null,null,null,null,null,null,null,null,null,null,null,null,null,null,null,null,null,null,null,null,null,null,null,null,null,null,null,null,null,null,null,null,null,null,null,null,null,null,null,null,null,null,null,null,null,null,null,null,null,null,null,null,null,null,null,null,null,null,null,"M0747003",""]
["아스팔트유제","RSC-3",0.12,"D/M",140000,16800,{"$f":"자재단가!$R$81","v":140000},16800,0,0,0,0,"",null,null,null,null,null,null,null,null,null,null,null,null,null,null,null,null,null,null,null,null,null,null,null,null,null,null,null,null,null,null,null,null,null,null,null,null,null,null,null,null,null,null,null,null,null,null,null,null,null,null,null,null,null,null,null,null,null,null,null,null,null,null,null,null,null,null,null,null,null,null,null,null,null,null,null,null,null,null,null,null,null,null,null,null,null,null,null,null,null,null,null,null,null,null,null,null,null,null,null,null,null,null,null,"M0720053",""]
["로더(타이어)","0.57 ㎥",7.4999999999999997E-2,"시간",57433,4307.3999999999996,{"$f":"건설기계!$I$125","v":6570},492.7,{"$f":"건설기계!$K$125","v":44299},3322.4,{"$f":"건설기계!$M$125","v":6564},492.3,"",null,null,null,null,null,null,null,null,null,null,null,null,null,null,null,null,null,null,null,null,null,null,null,null,null,null,null,null,null,null,null,null,null,null,null,null,null,null,null,null,null,null,null,null,null,null,null,null,null,null,null,null,null,null,null,null,null,null,null,null,null,null,null,null,null,null,null,null,null,null,null,null,null,null,null,null,null,null,null,null,null,null,null,null,null,null,null,null,null,null,null,null,null,null,null,null,null,null,null,null,null,null,null,":BFB3220"]
["제01450호표 ：아스팔트포장도로(측구앞복구) a 당",null,null,null,null,null,null,null,null,null,null,null,null,null,null,null,null,null,null,null,null,null,null,null,null,null,null,null,null,null,null,null,null,null,null,null,null,null,null,null,null,null,null,null,null,null,null,null,null,null,null,null,null,null,null,null,null,null,null,null,null,null,null,null,null,null,null,null,null,null,null,null,null,null,null,null,null,null,null,null,null,null,null,null,null,null,null,null,null,null,null,null,null,null,null,null,null,null,null,null,null,null,null,null,null,null,null,null,null,null,null,null,null,null,null,null,"W1002",""]
["제01460호표 ：윙카설치 m 당",null,null,null,null,null,null,null,null,null,null,null,null,null,null,null,null,null,null,null,null,null,null,null,null,null,null,null,null,null,null,null,null,null,null,null,null,null,null,null,null,null,null,null,null,null,null,null,null,null,null,null,null,null,null,null,null,null,null,null,null,null,null,null,null,null,null,null,null,null,null,null,null,null,null,null,null,null,null,null,null,null,null,null,null,null,null,null,null,null,null,null,null,null,null,null,null,null,null,null,null,null,null,null,null,null,null,null,null,null,null,null,null,null,null,null,"M0717051",""]
["윙카","10m",0.1,"개",{"$f":"G1464+I1464+K1464","v":15000},{"$f":"H1464+J1464+L1464","v":1500},null,{"$f":"TRUNC(C1464*G1464,1)","v":0},0,{"$f":"TRUNC(C1464*I1464,1)","v":0},{"$f":"자재단가!$R$156","v":15000},{"$f":"TRUNC(C1464*K1464,1)","v":1500},"",null,null,null,null,null,null,null,null,null,null,null,null,null,null,null,null,null,null,null,null,null,null,null,null,null,null,null,null,null,null,null,null,null,null,null,null,null,null,null,null,null,null,null,null,null,null,null,null,null,null,null,null,null,null,null,null,null,null,null,null,null,null,null,null,null,null,null,null,null,null,null,null,null,null,null,null,null,null,null,null,null,null,null,null,null,null,null,null,null,null,null,null,null,null,null,null,null,null,null,null,null,null,null,"M0720053",""]
["보통인부","",0.2,"인",{"$f":"G1469+I1469+K1469","v":141096},{"$f":"H1469+J1469+L1469","v":28219.200000000001},0,{"$f":"TRUNC(C1469*G1469,1)","v":0},{"$f":"노임단가!$K$8","v":141096},{"$f":"TRUNC(C1469*I1469,1)","v":28219.200000000001},0,{"$f":"TRUNC(C1469*K1469,1)","v":0},"",null,null,null,null,null,null,null,null,null,null,null,null,null,null,null,null,null,null,null,null,null,null,null,null,null,null,null,null,null,null,null,null,null,null,null,null,null,null,null,null,null,null,null,null,null,null,null,null,null,null,null,null,null,null,null,null,null,null,null,null,null,null,null,null,null,null,null,null,null,null,null,null,null,null,null,null,null,null,null,null,null,null,null,null,null,null,null,null,null,null,null,null,null,null,null,null,null,null,null,null,null,null,null,":BFB3110"]
["보통인부","",0.14000000000000001,"인",{"$f":"G1473+I1473+K1473","v":141096},{"$f":"H1473+J1473+L1473","v":19753.400000000001},0,{"$f":"TRUNC(C1473*G1473,1)","v":0},{"$f":"노임단가!$K$8","v":141096},{"$f":"TRUNC(C1473*I1473,1)","v":19753.400000000001},0,{"$f":"TRUNC(C1473*K1473,1)","v":0},"",null,null,null,null,null,null,null,null,null,null,null,null,null,null,null,null,null,null,null,null,null,null,null,null,null,null,null,null,null,null,null,null,null,null,null,null,null,null,null,null,null,null,null,null,null,null,null,null,null,null,null,null,null,null,null,null,null,null,null,null,null,null,null,null,null,null,null,null,null,null,null,null,null,null,null,null,null,null,null,null,null,null,null,null,null,null,null,null,null,null,null,null,null,null,null,null,null,null,null,null,null,null,null,"W1013",""]
["강모래","자연사(시내도착도)",0.48,"㎥",30000,14400,{"$f":"자재단가!$R$36","v":30000},{"$f":"TRUNC(C1478*G1478,1)","v":14400},0,{"$f":"TRUNC(C1478*I1478,1)","v":0},0,{"$f":"TRUNC(C1478*K1478,1)","v":0},"",null,null,null,null,null,null,null,null,null,null,null,null,null,null,null,null,null,null,null,null,null,null,null,null,null,null,null,null,null,null,null,null,null,null,null,null,null,null,null,null,null,null,null,null,null,null,null,null,null,null,null,null,null,null,null,null,null,null,null,null,null,null,null,null,null,null,null,null,null,null,null,null,null,null,null,null,null,null,null,null,null,null,null,null,null,null,null,null,null,null,null,null,null,null,null,null,null,null,null,null,null,null,null,"M0747003",""]
["자연자갈(서울)","#467(시내도착도)",0.74,"㎥",30000,22200,{"$f":"자재단가!$R$37","v":30000},{"$f":"TRUNC(C1479*G1479,1)","v":22200},0,{"$f":"TRUNC(C1479*I1479,1)","v":0},0,{"$f":"TRUNC(C1479*K1479,1)","v":0},"",null,null,null,null,null,null,null,null,null,null,null,null,null,null,null,null,null,null,null,null,null,null,null,null,null,null,null,null,null,null,null,null,null,null,null,null,null,null,null,null,null,null,null,null,null,null,null,null,null,null,null,null,null,null,null,null,null,null,null,null,null,null,null,null,null,null,null,null,null,null,null,null,null,null,null,null,null,null,null,null,null,null,null,null,null,null,null,null,null,null,null,null,null,null,null,null,null,null,null,null,null,null,null,"M0717051",""]
["제01500호표 ：인력비빔타설[fck=180kgf/cm2] (철근구조물) ㎥ 당"]
["보통인부","",0.99,"인",141096,139685,0,{"$f":"TRUNC(C1489*G1489,1)","v":0},{"$f":"노임단가!$K$8","v":141096},{"$f":"TRUNC(C1489*I1489,1)","v":139685},0,{"$f":"TRUNC(C1489*K1489,1)","v":0},"",null,null,null,null,null,null,null,null,null,null,null,null,null,null,null,null,null,null,null,null,null,null,null,null,null,null,null,null,null,null,null,null,null,null,null,null,null,null,null,null,null,null,null,null,null,null,null,null,null,null,null,null,null,null,null,null,null,null,null,null,null,null,null,null,null,null,null,null,null,null,null,null,null,null,null,null,null,null,null,null,null,null,null,null,null,null,null,null,null,null,null,null,null,null,null,null,null,null,null,null,null,null,null,"W1013",""]
["강모래","자연사(시내도착도)",0.48799999999999999,"㎥",30000,14640,{"$f":"자재단가!$R$36","v":30000},{"$f":"TRUNC(C1494*G1494,1)","v":14640},0,{"$f":"TRUNC(C1494*I1494,1)","v":0},0,{"$f":"TRUNC(C1494*K1494,1)","v":0},"",null,null,null,null,null,null,null,null,null,null,null,null,null,null,null,null,null,null,null,null,null,null,null,null,null,null,null,null,null,null,null,null,null,null,null,null,null,null,null,null,null,null,null,null,null,null,null,null,null,null,null,null,null,null,null,null,null,null,null,null,null,null,null,null,null,null,null,null,null,null,null,null,null,null,null,null,null,null,null,null,null,null,null,null,null,null,null,null,null,null,null,null,null,null,null,null,null,null,null,null,null,null,null,"M000-0133",""]
["자연자갈(서울)","#467(시내도착도)",0.74099999999999999,"㎥",30000,22230,{"$f":"자재단가!$R$37","v":30000},{"$f":"TRUNC(C1495*G1495,1)","v":22230},0,{"$f":"TRUNC(C1495*I1495,1)","v":0},0,{"$f":"TRUNC(C1495*K1495,1)","v":0},"",null,null,null,null,null,null,null,null,null,null,null,null,null,null,null,null,null,null,null,null,null,null,null,null,null,null,null,null,null,null,null,null,null,null,null,null,null,null,null,null,null,null,null,null,null,null,null,null,null,null,null,null,null,null,null,null,null,null,null,null,null,null,null,null,null,null,null,null,null,null,null,null,null,null,null,null,null,null,null,null,null,null,null,null,null,null,null,null,null,null,null,null,null,null,null,null,null,null,null,null,null,null,null,"M000-0135",""]
[null,null,null,null,null,null,null,null,null,null,null,null,null,null,null,null,null,null,null,null,null,null,null,null,null,null,null,null,null,null,null,null,null,null,null,null,null,null,null,null,null,null,null,null,null,null,null,null,null,null,null,null,null,null,null,null,null,null,null,null,null,null,null,null,null,null,null,null,null,null,null,null,null,null,null,null,null,null,null,null,null,null,null,null,null,null,null,null,null,null,null,null,null,null,null,null,null,null,null,null,null,null,null,null,null,null,null,null,null,null,null,null,null,null,null,null,":BDC1001"]
["콘크리트공","",0.85,"인",215145,182873.2,0,{"$f":"TRUNC(C1504*G1504,1)","v":0},{"$f":"노임단가!$K$11","v":215145},{"$f":"TRUNC(C1504*I1504,1)","v":182873.2},0,{"$f":"TRUNC(C1504*K1504,1)","v":0},"",null,null,null,null,null,null,null,null,null,null,null,null,null,null,null,null,null,null,null,null,null,null,null,null,null,null,null,null,null,null,null,null,null,null,null,null,null,null,null,null,null,null,null,null,null,null,null,null,null,null,null,null,null,null,null,null,null,null,null,null,null,null,null,null,null,null,null,null,null,null,null,null,null,null,null,null,null,null,null,null,null,null,null,null,null,null,null,null,null,null,null,null,null,null,null,null,null,null,null,null,null,null,null,"M1152009",""]
["보통시멘트","40KG/대(포장품)",309,"KG",{"$f":"G1509+I1509+K1509","v":125.075},38648.1,{"$f":"자재단가!$R$34","v":99.075000000000003},{"$f":"TRUNC(C1509*G1509,1)","v":30614.1},0,{"$f":"TRUNC(C1509*I1509,1)","v":0},26,{"$f":"TRUNC(C1509*K1509,1)","v":8034},"",null,null,null,null,null,null,null,null,null,null,null,null,null,null,null,null,null,null,null,null,null,null,null,null,null,null,null,null,null,null,null,null,null,null,null,null,null,null,null,null,null,null,null,null,null,null,null,null,null,null,null,null,null,null,null,null,null,null,null,null,null,null,null,null,null,null,null,null,null,null,null,null,null,null,null,null,null,null,null,null,null,null,null,null,null,null,null,null,null,null,null,null,null,null,null,null,null,null,null,null,null,null,null,"B0337",""]
["강모래","자연사(시내도착도)",0.5,"㎥",30000,15000,{"$f":"자재단가!$R$36","v":30000},{"$f":"TRUNC(C1510*G1510,1)","v":15000},0,{"$f":"TRUNC(C1510*I1510,1)","v":0},0,{"$f":"TRUNC(C1510*K1510,1)","v":0},"",null,null,null,null,null,null,null,null,null,null,null,null,null,null,null,null,null,null,null,null,null,null,null,null,null,null,null,null,null,null,null,null,null,null,null,null,null,null,null,null,null,null,null,null,null,null,null,null,null,null,null,null,null,null,null,null,null,null,null,null,null,null,null,null,null,null,null,null,null,null,null,null,null,null,null,null,null,null,null,null,null,null,null,null,null,null,null,null,null,null,null,null,null,null,null,null,null,null,null,null,null,null,null,"",""]
[null,null,null,null,null,null,null,null,null,null,null,null,null,null,null,null,null,null,null,null,null,null,null,null,null,null,null,null,null,null,null,null,null,null,null,null,null,null,null,null,null,null,null,null,null,null,null,null,null,null,null,null,null,null,null,null,null,null,null,null,null,null,null,null,null,null,null,null,null,null,null,null,null,null,null,null,null,null,null,null,null,null,null,null,null,null,null,null,null,null,null,null,null,null,null,null,null,null,null,null,null,null,null,null,null,null,null,null,null,null,null,null,null,null,null,null,"W1038",""]
["강모래","자연사(시내도착도)",0.505,"㎥",30000,15150,{"$f":"자재단가!$R$36","v":30000},{"$f":"TRUNC(C1518*G1518,1)","v":15150},0,{"$f":"TRUNC(C1518*I1518,1)","v":0},0,{"$f":"TRUNC(C1518*K1518,1)","v":0},""]
["제01550호표 ：인력비빔타설[fck=240kgf/cm2] (무근구조물) ㎥ 당",null,null,null,null,null,null,null,null,null,null,null,null,null,null,null,null,null,null,null,null,null,null,null,null,null,null,null,null,null,null,null,null,null,null,null,null,null,null,null,null,null,null,null,null,null,null,null,null,null,null,null,null,null,null,null,null,null,null,null,null,null,null,null,null,null,null,null,null,null,null,null,null,null,null,null,null,null,null,null,null,null,null,null,null,null,null,null,null,null,null,null,null,null,null,null,null,null,null,null,null,null,null,null,null,null,null,null,null,null,null,null,null,null,null,null,"%RAN*LE","2"]
["보통시멘트","40KG/대(포장품)",338,"KG",{"$f":"G1525+I1525+K1525","v":125.075},42275.3,{"$f":"자재단가!$R$34","v":99.075000000000003},{"$f":"TRUNC(C1525*G1525,1)","v":33487.300000000003},0,{"$f":"TRUNC(C1525*I1525,1)","v":0},26,{"$f":"TRUNC(C1525*K1525,1)","v":8788},""]
["             계             ",null,null,null,null,{"$f":"H1530+J1530+L1530","v":375946},null,{"$f":"ROUNDDOWN(SUM(H1525:H1529),0)","v":68587},null,{"$f":"ROUNDDOWN(SUM(J1525:J1529),0)","v":298571},null,{"$f":"ROUNDDOWN(SUM(L1525:L1529),0)","v":8788},null,null,null,null,null,null,null,null,null,null,null,null,null,null,null,null,null,null,null,null,null,null,null,null,null,null,null,null,null,null,null,null,null,null,null,null,null,null,null,null,null,null,null,null,null,null,null,null,null,null,null,null,null,null,null,null,null,null,null,null,null,null,null,null,null,null,null,null,null,null,null,null,null,null,null,null,null,null,null,null,null,null,null,null,null,null,null,null,null,null,null,null,null,null,null,null,null,null,null,null,null,null,null,null,"W1052",""]
["자연자갈(서울)","#57(시내도착도)",0.68,"㎥",30000,20400,{"$f":"자재단가!$R$38","v":30000},{"$f":"TRUNC(C1535*G1535,1)","v":20400},0,{"$f":"TRUNC(C1535*I1535,1)","v":0},0,{"$f":"TRUNC(C1535*K1535,1)","v":0},"",null,null,null,null,null,null,null,null,null,null,null,null,null,null,null,null,null,null,null,null,null,null,null,null,null,null,null,null,null,null,null,null,null,null,null,null,null,null,null,null,null,null,null,null,null,null,null,null,null,null,null,null,null,null,null,null,null,null,null,null,null,null,null,null,null,null,null,null,null,null,null,null,null,null,null,null,null,null,null,null,null,null,null,null,null,null,null,null,null,null,null,null,null,null,null,null,null,null,null,null,null,null,null,"%%",""]
["제01570호표 ：인력비빔타설[fck=240kgf/cm2] (소형구조물 3㎥미만) ㎥ 당",null,null,null,null,null,null,null,null,null,null,null,null,null,null,null,null,null,null,null,null,null,null,null,null,null,null,null,null,null,null,null,null,null,null,null,null,null,null,null,null,null,null,null,null,null,null,null,null,null,null,null,null,null,null,null,null,null,null,null,null,null,null,null,null,null,null,null,null,null,null,null,null,null,null,null,null,null,null,null,null,null,null,null,null,null,null,null,null,null,null,null,null,null,null,null,null,null,null,null,null,null,null,null,null,null,null,null,null,null,null,null,null,null,null,null,"W1009",""]
["자연자갈(서울)","#57(시내도착도)",0.68,"㎥",30000,20400,{"$f":"자재단가!$R$38","v":30000},{"$f":"TRUNC(C1543*G1543,1)","v":20400},0,{"$f":"TRUNC(C1543*I1543,1)","v":0},0,{"$f":"TRUNC(C1543*K1543,1)","v":0},"",null,null,null,null,null,null,null,null,null,null,null,null,null,null,null,null,null,null,null,null,null,null,null,null,null,null,null,null,null,null,null,null,null,null,null,null,null,null,null,null,null,null,null,null,null,null,null,null,null,null,null,null,null,null,null,null,null,null,null,null,null,null,null,null,null,null,null,null,null,null,null,null,null,null,null,null,null,null,null,null,null,null,null,null,null,null,null,null,null,null,null,null,null,null,null,null,null,null,null,null,null,null,null,"W1003",""]
["보통인부","",1.36,"인",141096,191890.5,0,{"$f":"TRUNC(C1545*G1545,1)","v":0},{"$f":"노임단가!$K$8","v":141096},{"$f":"TRUNC(C1545*I1545,1)","v":191890.5},0,{"$f":"TRUNC(C1545*K1545,1)","v":0},"",null,null,null,null,null,null,null,null,null,null,null,null,null,null,null,null,null,null,null,null,null,null,null,null,null,null,null,null,null,null,null,null,null,null,null,null,null,null,null,null,null,null,null,null,null,null,null,null,null,null,null,null,null,null,null,null,null,null,null,null,null,null,null,null,null,null,null,null,null,null,null,null,null,null,null,null,null,null,null,null,null,null,null,null,null,null,null,null,null,null,null,null,null,null,null,null,null,null,null,null,null,null,null,"D7611-0200",""]
["와이어메쉬","#8,150㎜*150㎜",1.02,"㎡",1900,1938,{"$f":"자재단가!$R$159","v":1900},{"$f":"TRUNC(C1550*G1550,1)","v":1938},0,{"$f":"TRUNC(C1550*I1550,1)","v":0},0,{"$f":"TRUNC(C1550*K1550,1)","v":0},"",null,null,null,null,null,null,null,null,null,null,null,null,null,null,null,null,null,null,null,null,null,null,null,null,null,null,null,null,null,null,null,null,null,null,null,null,null,null,null,null,null,null,null,null,null,null,null,null,null,null,null,null,null,null,null,null,null,null,null,null,null,null,null,null,null,null,null,null,null,null,null,null,null,null,null,null,null,null,null,null,null,null,null,null,null,null,null,null,null,null,null,null,null,null,null,null,null,null,null,null,null,null,null,":BAA3211"]
["아스팔트유제","RSC-3",0.15,"D/M",{"$f":"G1555+I1555+K1555","v":140000},21000,{"$f":"자재단가!$R$81","v":140000},{"$f":"TRUNC(C1555*G1555,1)","v":21000},0,{"$f":"TRUNC(C1555*I1555,1)","v":0},0,{"$f":"TRUNC(C1555*K1555,1)","v":0},"",null,null,null,null,null,null,null,null,null,null,null,null,null,null,null,null,null,null,null,null,null,null,null,null,null,null,null,null,null,null,null,null,null,null,null,null,null,null,null,null,null,null,null,null,null,null,null,null,null,null,null,null,null,null,null,null,null,null,null,null,null,null,null,null,null,null,null,null,null,null,null,null,null,null,null,null,null,null,null,null,null,null,null,null,null,null,null,null,null,null,null,null,null,null,null,null,null,null,null,null,null,null,null,"W1006",""]
["아스팔트콘크리트","WC-2, t13mm, 3등급 표층용",23.66,"M/T",70000,1656200,{"$f":"자재단가!$R$12","v":70000},1656200,0,0,0,0,"   관  급  ",null,null,null,null,null,null,null,null,null,null,null,null,null,null,null,null,null,null,null,null,null,null,null,null,null,null,null,null,null,null,null,null,null,null,null,null,null,null,null,null,null,null,null,null,null,null,null,null,null,null,null,null,null,null,null,null,null,null,null,null,null,null,null,null,null,null,null,null,null,null,null,null,null,null,null,null,null,null,null,null,null,null,null,null,null,null,null,null,null,null,null,null,null,null,null,null,null,null,null,null,null,null,null,"W1002",""]
["미끄럼방지포장","적색컬러도포용(1식)",1,"a",945000,945000,945000,945000,0,0,0,0,"계약심사 실적",null,null,null,null,null,null,null,null,null,null,null,null,null,null,null,null,null,null,null,null,null,null,null,null,null,null,null,null,null,null,null,null,null,null,null,null,null,null,null,null,null,null,null,null,null,null,null,null,null,null,null,null,null,null,null,null,null,null,null,null,null,null,null,null,null,null,null,null,null,null,null,null,null,null,null,null,null,null,null,null,null,null,null,null,null,null,null,null,null,null,null,null,null,null,null,null,null,null,null,null,null,null,null,":BAA3212"]
["자연석(조경석)","4목 40*50*60",1,"M/T",{"$f":"G1565+I1565+K1565","v":80000},80000,{"$f":"자재단가!$R$115","v":80000},{"$f":"TRUNC(C1565*G1565,1)","v":80000},0,{"$f":"TRUNC(C1565*I1565,1)","v":0},0,{"$f":"TRUNC(C1565*K1565,1)","v":0},"   관  급  ",null,null,null,null,null,null,null,null,null,null,null,null,null,null,null,null,null,null,null,null,null,null,null,null,null,null,null,null,null,null,null,null,null,null,null,null,null,null,null,null,null,null,null,null,null,null,null,null,null,null,null,null,null,null,null,null,null,null,null,null,null,null,null,null,null,null,null,null,null,null,null,null,null,null,null,null,null,null,null,null,null,null,null,null,null,null,null,null,null,null,null,null,null,null,null,null,null,null,null,null,null,null,null,"BFB3130",""]
[]
["제01620호표 ：정원석쌓기 (20톤미만) TON 당"]
["             계             ",null,null,null,null,{"$f":"H1576+J1576+L1576","v":281958},null,{"$f":"ROUNDDOWN(SUM(H1572:H1575)-(H1572),0)","v":12120},null,{"$f":"ROUNDDOWN(SUM(J1572:J1575)-(J1572),0)","v":248934},null,{"$f":"ROUNDDOWN(SUM(L1572:L1575)-(L1572),0)","v":20904},null,null,null,null,null,null,null,null,null,null,null,null,null,null,null,null,null,null,null,null,null,null,null,null,null,null,null,null,null,null,null,null,null,null,null,null,null,null,null,null,null,null,null,null,null,null,null,null,null,null,null,null,null,null,null,null,null,null,null,null,null,null,null,null,null,null,null,null,null,null,null,null,null,null,null,null,null,null,null,null,null,null,null,null,null,null,null,null,null,null,null,null,null,null,null,null,null,null,null,null,null,null,null,null,"BFB3130",""]
["석  공","",0.251,"인",212629,53369.8,0,{"$f":"TRUNC(C1581*G1581,1)","v":0},{"$f":"노임단가!$K$38","v":212629},{"$f":"TRUNC(C1581*I1581,1)","v":53369.8},0,{"$f":"TRUNC(C1581*K1581,1)","v":0},""]
["1. 재료비","",0,"",0,0,0,0,0,0,0,0,""]
["산소","99.8% 이상",6300,"ℓ",1.91,12033,{"$f":"자재단가!$R$43","v":1.91},{"$f":"TRUNC(C1588*G1588,1)","v":12033},0,{"$f":"TRUNC(C1588*I1588,1)","v":0},0,{"$f":"TRUNC(C1588*K1588,1)","v":0},"",null,null,null,null,null,null,null,null,null,null,null,null,null,null,null,null,null,null,null,null,null,null,null,null,null,null,null,null,null,null,null,null,null,null,null,null,null,null,null,null,null,null,null,null,null,null,null,null,null,null,null,null,null,null,null,null,null,null,null,null,null,null,null,null,null,null,null,null,null,null,null,null,null,null,null,null,null,null,null,null,null,null,null,null,null,null,null,null,null,null,null,null,null,null,null,null,null,null,null,null,null,null,null,":B0178"]
["철    공","",27.65,"인",{"$f":"G1591+I1591+K1591","v":200155},5534285.7000000002,0,{"$f":"TRUNC(C1591*G1591,1)","v":0},{"$f":"노임단가!$K$25","v":200155},{"$f":"TRUNC(C1591*I1591,1)","v":5534285.7000000002},0,{"$f":"TRUNC(C1591*K1591,1)","v":0},"",null,null,null,null,null,null,null,null,null,null,null,null,null,null,null,null,null,null,null,null,null,null,null,null,null,null,null,null,null,null,null,null,null,null,null,null,null,null,null,null,null,null,null,null,null,null,null,null,null,null,null,null,null,null,null,null,null,null,null,null,null,null,null,null,null,null,null,null,null,null,null,null,null,null,null,null,null,null,null,null,null,null,null,null,null,null,null,null,null,null,null,null,null,null,null,null,null,null,null,null,null,null,null,"M0090",""]
["용접기(교류)","200 Amp",20.83,"시간",{"$f":"G1596+I1596+K1596","v":82},1708,{"$f":"건설기계!$I$473","v":0},{"$f":"TRUNC(C1596*G1596,1)","v":0},{"$f":"건설기계!$K$473","v":0},{"$f":"TRUNC(C1596*I1596,1)","v":0},{"$f":"건설기계!$M$473","v":82},{"$f":"TRUNC(C1596*K1596,1)","v":1708},"",null,null,null,null,null,null,null,null,null,null,null,null,null,null,null,null,null,null,null,null,null,null,null,null,null,null,null,null,null,null,null,null,null,null,null,null,null,null,null,null,null,null,null,null,null,null,null,null,null,null,null,null,null,null,null,null,null,null,null,null,null,null,null,null,null,null,null,null,null,null,null,null,null,null,null,null,null,null,null,null,null,null,null,null,null,null,null,null,null,null,null,null,null,null,null,null,null,null,null,null,null,null,null,"M0828009",""]
["제01650호표 ：잡철물제작설치 (보통) TON 당"]
["잡철물제작설치","(간단)",1.2,"TON",{"$f":"G1602+I1602+K1602","v":6636935},{"$f":"H1602+J1602+L1602","v":7964322},{"$f":"$H$1599","v":97272},{"$f":"TRUNC(C1602*G1602,1)","v":116726.39999999999},{"$f":"$J$1599","v":6347530},{"$f":"TRUNC(C1602*I1602,1)","v":7617036},{"$f":"$L$1599","v":192133},{"$f":"TRUNC(C1602*K1602,1)","v":230559.6},"제 164호표"]
["기둥","각파이프 60*60㎜",0.106,"M",3918,415.3,{"$f":"자재단가!$R$62","v":3918},415.3,0,0,0,0,"",null,null,null,null,null,null,null,null,null,null,null,null,null,null,null,null,null,null,null,null,null,null,null,null,null,null,null,null,null,null,null,null,null,null,null,null,null,null,null,null,null,null,null,null,null,null,null,null,null,null,null,null,null,null,null,null,null,null,null,null,null,null,null,null,null,null,null,null,null,null,null,null,null,null,null,null,null,null,null,null,null,null,null,null,null,null,null,null,null,null,null,null,null,null,null,null,null,null,null,null,null,null,null,"W1002",""]
["잡재료비","노무비의 5%",5,"%",43198.100000000006,2159.9,{"$f":"SUM($J$1609:$J$1611)","v":43198.100000000006},{"$f":"TRUNC(C1612/100*G1612,1)","v":2159.9},0,{"$f":"TRUNC(C1612/100*I1612,1)","v":0},0,{"$f":"TRUNC(C1612/100*K1612,1)","v":0},"",null,null,null,null,null,null,null,null,null,null,null,null,null,null,null,null,null,null,null,null,null,null,null,null,null,null,null,null,null,null,null,null,null,null,null,null,null,null,null,null,null,null,null,null,null,null,null,null,null,null,null,null,null,null,null,null,null,null,null,null,null,null,null,null,null,null,null,null,null,null,null,null,null,null,null,null,null,null,null,null,null,null,null,null,null,null,null,null,null,null,null,null,null,null,null,null,null,null,null,null,null,null,null,"D0602-0045",""]
["             계             ",null,null,null,null,{"$f":"H1614+J1614+L1614","v":73103},null,{"$f":"ROUNDDOWN(SUM(H1606:H1613),0)","v":8761},null,{"$f":"ROUNDDOWN(SUM(J1606:J1613),0)","v":43198},null,{"$f":"ROUNDDOWN(SUM(L1606:L1613),0)","v":21144},null,null,null,null,null,null,null,null,null,null,null,null,null,null,null,null,null,null,null,null,null,null,null,null,null,null,null,null,null,null,null,null,null,null,null,null,null,null,null,null,null,null,null,null,null,null,null,null,null,null,null,null,null,null,null,null,null,null,null,null,null,null,null,null,null,null,null,null,null,null,null,null,null,null,null,null,null,null,null,null,null,null,null,null,null,null,null,null,null,null,null,null,null,null,null,null,null,null,null,null,null,null,null,null,"W1002",""]
["칼라철판(강판)","800*2000*0.45",0.33250000000000002,"매",{"$f":"G1617+I1617+K1617","v":16511},5489.9,{"$f":"자재단가!$R$134","v":16511},{"$f":"TRUNC(C1617*G1617,1)","v":5489.9},0,{"$f":"TRUNC(C1617*I1617,1)","v":0},0,{"$f":"TRUNC(C1617*K1617,1)","v":0},"",null,null,null,null,null,null,null,null,null,null,null,null,null,null,null,null,null,null,null,null,null,null,null,null,null,null,null,null,null,null,null,null,null,null,null,null,null,null,null,null,null,null,null,null,null,null,null,null,null,null,null,null,null,null,null,null,null,null,null,null,null,null,null,null,null,null,null,null,null,null,null,null,null,null,null,null,null,null,null,null,null,null,null,null,null,null,null,null,null,null,null,null,null,null,null,null,null,null,null,null,null,null,null,":B000-0160"]
["보통인부","",0.05,"인",141096,7054.8,0,0,{"$f":"노임단가!$K$8","v":141096},7054.8,0,0,""]
["제01680호표 ：조립식가설울타리설치및해체 (12개월) m 당",null,null,null,null,null,null,null,null,null,null,null,"제 168호표",null,null,null,null,null,null,null,null,null,null,null,null,null,null,null,null,null,null,null,null,null,null,null,null,null,null,null,null,null,null,null,null,null,null,null,null,null,null,null,null,null,null,null,null,null,null,null,null,null,null,null,null,null,null,null,null,null,null,null,null,null,null,null,null,null,null,null,null,null,null,null,null,null,null,null,null,null,null,null,null,null,null,null,null,null,null,null,null,null,null,null,null,null,null,null,null,null,null,null,null,null,null,null,"M9384003",""]
["비 계 공","",0.1,"인",247977,24797.7,0,0,{"$f":"노임단가!$K$13","v":247977},24797.7,0,0,"",null,null,null,null,null,null,null,null,null,null,null,null,null,null,null,null,null,null,null,null,null,null,null,null,null,null,null,null,null,null,null,null,null,null,null,null,null,null,null,null,null,null,null,null,null,null,null,null,null,null,null,null,null,null,null,null,null,null,null,null,null,null,null,null,null,null,null,null,null,null,null,null,null,null,null,null,null,null,null,null,null,null,null,null,null,null,null,null,null,null,null,null,null,null,null,null,null,null,null,null,null,null,null,"%RAN*LE","5..7"]
["보통인부","",0.05,"인",141096,7054.8,0,0,{"$f":"노임단가!$K$8","v":141096},7054.8,0,0,""]
[null,null,null,null,null,null,null,null,null,null,null,null,null,null,null,null,null,null,null,null,null,null,null,null,null,null,null,null,null,null,null,null,null,null,null,null,null,null,null,null,null,null,null,null,null,null,null,null,null,null,null,null,null,null,null,null,null,null,null,null,null,null,null,null,null,null,null,null,null,null,null,null,null,null,null,null,null,null,null,null,null,null,null,null,null,null,null,null,null,null,null,null,null,null,null,null,null,null,null,null,null,null,null,null,null,null,null,null,null,null,null,null,null,null,null,null,"M000-0130",""]
[null,null,null,null,null,null,null,null,null,null,null,null,null,null,null,null,null,null,null,null,null,null,null,null,null,null,null,null,null,null,null,null,null,null,null,null,null,null,null,null,null,null,null,null,null,null,null,null,null,null,null,null,null,null,null,null,null,null,null,null,null,null,null,null,null,null,null,null,null,null,null,null,null,null,null,null,null,null,null,null,null,null,null,null,null,null,null,null,null,null,null,null,null,null,null,null,null,null,null,null,null,null,null,null,null,null,null,null,null,null,null,null,null,null,null,null,"W1003",""]
["             계             ",null,null,null,null,{"$f":"H1647+J1647+L1647","v":21813},null,{"$f":"ROUNDDOWN(SUM(H1644:H1646),0)","v":20700},null,{"$f":"ROUNDDOWN(SUM(J1644:J1646),0)","v":1113},null,{"$f":"ROUNDDOWN(SUM(L1644:L1646),0)","v":0},null,null,null,null,null,null,null,null,null,null,null,null,null,null,null,null,null,null,null,null,null,null,null,null,null,null,null,null,null,null,null,null,null,null,null,null,null,null,null,null,null,null,null,null,null,null,null,null,null,null,null,null,null,null,null,null,null,null,null,null,null,null,null,null,null,null,null,null,null,null,null,null,null,null,null,null,null,null,null,null,null,null,null,null,null,null,null,null,null,null,null,null,null,null,null,null,null,null,null,null,null,null,null,null,":B000-0170"]
[null,null,null,null,null,null,null,null,null,null,null,null,null,null,null,null,null,null,null,null,null,null,null,null,null,null,null,null,null,null,null,null,null,null,null,null,null,null,null,null,null,null,null,null,null,null,null,null,null,null,null,null,null,null,null,null,null,null,null,null,null,null,null,null,null,null,null,null,null,null,null,null,null,null,null,null,null,null,null,null,null,null,null,null,null,null,null,null,null,null,null,null,null,null,null,null,null,null,null,null,null,null,null,null,null,null,null,null,null,null,null,null,null,null,null,null,"M000-01601",""]
["보통인부","",0.01,"인",141096,1410.9,0,{"$f":"TRUNC(C1653*G1653,1)","v":0},{"$f":"노임단가!$K$8","v":141096},{"$f":"TRUNC(C1653*I1653,1)","v":1410.9},0,{"$f":"TRUNC(C1653*K1653,1)","v":0},"",null,null,null,null,null,null,null,null,null,null,null,null,null,null,null,null,null,null,null,null,null,null,null,null,null,null,null,null,null,null,null,null,null,null,null,null,null,null,null,null,null,null,null,null,null,null,null,null,null,null,null,null,null,null,null,null,null,null,null,null,null,null,null,null,null,null,null,null,null,null,null,null,null,null,null,null,null,null,null,null,null,null,null,null,null,null,null,null,null,null,null,null,null,null,null,null,null,null,null,null,null,null,null,"W1002",""]
["제01720호표 ：차선도색[융착식,실선] (시간당 62.5㎡) HR 당"]
["보통인부","",0.25,"인",141096,35274,0,{"$f":"TRUNC(C1662*G1662,1)","v":0},{"$f":"노임단가!$K$8","v":141096},{"$f":"TRUNC(C1662*I1662,1)","v":35274},0,{"$f":"TRUNC(C1662*K1662,1)","v":0},"",null,null,null,null,null,null,null,null,null,null,null,null,null,null,null,null,null,null,null,null,null,null,null,null,null,null,null,null,null,null,null,null,null,null,null,null,null,null,null,null,null,null,null,null,null,null,null,null,null,null,null,null,null,null,null,null,null,null,null,null,null,null,null,null,null,null,null,null,null,null,null,null,null,null,null,null,null,null,null,null,null,null,null,null,null,null,null,null,null,null,null,null,null,null,null,null,null,null,null,null,null,null,null,"M000-0130",""]
["공구손료","인력품의",10,"%",80074.7,8007.4,0,{"$f":"TRUNC(C1663/100*G1663,1)","v":0},0,{"$f":"TRUNC(C1663/100*I1663,1)","v":0},{"$f":"SUM($J$1661:$J$1662)","v":80074.7},{"$f":"TRUNC(C1663/100*K1663,1)","v":8007.4},"",null,null,null,null,null,null,null,null,null,null,null,null,null,null,null,null,null,null,null,null,null,null,null,null,null,null,null,null,null,null,null,null,null,null,null,null,null,null,null,null,null,null,null,null,null,null,null,null,null,null,null,null,null,null,null,null,null,null,null,null,null,null,null,null,null,null,null,null,null,null,null,null,null,null,null,null,null,null,null,null,null,null,null,null,null,null,null,null,null,null,null,null,null,null,null,null,null,null,null,null,null,null,null,"M1500021",""]
["덤프트럭","4.5 ton",1,"시간",52092,52092,{"$f":"건설기계!$I$153","v":8995},{"$f":"TRUNC(C1668*G1668,1)","v":8995},{"$f":"건설기계!$K$153","v":36224},{"$f":"TRUNC(C1668*I1668,1)","v":36224},{"$f":"건설기계!$M$153","v":6873},{"$f":"TRUNC(C1668*K1668,1)","v":6873},"",null,null,null,null,null,null,null,null,null,null,null,null,null,null,null,null,null,null,null,null,null,null,null,null,null,null,null,null,null,null,null,null,null,null,null,null,null,null,null,null,null,null,null,null,null,null,null,null,null,null,null,null,null,null,null,null,null,null,null,null,null,null,null,null,null,null,null,null,null,null,null,null,null,null,null,null,null,null,null,null,null,null,null,null,null,null,null,null,null,null,null,null,null,null,null,null,null,null,null,null,null,null,null,"W1003",""]
[null,null,null,null,null,null,null,null,null,null,null,null,null,null,null,null,null,null,null,null,null,null,null,null,null,null,null,null,null,null,null,null,null,null,null,null,null,null,null,null,null,null,null,null,null,null,null,null,null,null,null,null,null,null,null,null,null,null,null,null,null,null,null,null,null,null,null,null,null,null,null,null,null,null,null,null,null,null,null,null,null,null,null,null,null,null,null,null,null,null,null,null,null,null,null,null,null,null,null,null,null,null,null,null,null,null,null,null,null,null,null,null,null,null,null,null,":BKI1300"]
["보통인부","",0.25,"인",141096,35274,0,{"$f":"TRUNC(C1678*G1678,1)","v":0},{"$f":"노임단가!$K$8","v":141096},{"$f":"TRUNC(C1678*I1678,1)","v":35274},0,{"$f":"TRUNC(C1678*K1678,1)","v":0},"",null,null,null,null,null,null,null,null,null,null,null,null,null,null,null,null,null,null,null,null,null,null,null,null,null,null,null,null,null,null,null,null,null,null,null,null,null,null,null,null,null,null,null,null,null,null,null,null,null,null,null,null,null,null,null,null,null,null,null,null,null,null,null,null,null,null,null,null,null,null,null,null,null,null,null,null,null,null,null,null,null,null,null,null,null,null,null,null,null,null,null,null,null,null,null,null,null,null,null,null,null,null,null,"M9384003",""]
["공구손료","인력품의",10,"%",80074.7,8007.4,0,{"$f":"TRUNC(C1679/100*G1679,1)","v":0},0,{"$f":"TRUNC(C1679/100*I1679,1)","v":0},{"$f":"SUM($J$1677:$J$1678)","v":80074.7},{"$f":"TRUNC(C1679/100*K1679,1)","v":8007.4},"",null,null,null,null,null,null,null,null,null,null,null,null,null,null,null,null,null,null,null,null,null,null,null,null,null,null,null,null,null,null,null,null,null,null,null,null,null,null,null,null,null,null,null,null,null,null,null,null,null,null,null,null,null,null,null,null,null,null,null,null,null,null,null,null,null,null,null,null,null,null,null,null,null,null,null,null,null,null,null,null,null,null,null,null,null,null,null,null,null,null,null,null,null,null,null,null,null,null,null,null,null,null,null,"BB00-0490",""]
["도로표지용유리알","KSL2521 2호",0.31,"㎏",1700,527,{"$f":"자재단가!$R$58","v":1700},527,0,0,0,0,""]
["보통인부","차로 밑그림 작업",1.8499999999999999E-2,"인",141096,2610.1999999999998,0,0,{"$f":"노임단가!$K$8","v":141096},2610.1999999999998,0,0,"",null,null,null,null,null,null,null,null,null,null,null,null,null,null,null,null,null,null,null,null,null,null,null,null,null,null,null,null,null,null,null,null,null,null,null,null,null,null,null,null,null,null,null,null,null,null,null,null,null,null,null,null,null,null,null,null,null,null,null,null,null,null,null,null,null,null,null,null,null,null,null,null,null,null,null,null,null,null,null,null,null,null,null,null,null,null,null,null,null,null,null,null,null,null,null,null,null,null,null,null,null,null,null,"M1500021",""]
[null,null,null,null,null,null,null,null,null,null,null,null,null,null,null,null,null,null,null,null,null,null,null,null,null,null,null,null,null,null,null,null,null,null,null,null,null,null,null,null,null,null,null,null,null,null,null,null,null,null,null,null,null,null,null,null,null,null,null,null,null,null,null,null,null,null,null,null,null,null,null,null,null,null,null,null,null,null,null,null,null,null,null,null,null,null,null,null,null,null,null,null,null,null,null,null,null,null,null,null,null,null,null,null,null,null,null,null,null,null,null,null,null,null,null,null,"%RAN*LM","5..7"]
["제01760호표 ：차선도색[실선,백색] (B=15Cm[고성능융착식 수동]) ㎡ 당",null,null,null,null,null,null,null,null,null,null,null,null,null,null,null,null,null,null,null,null,null,null,null,null,null,null,null,null,null,null,null,null,null,null,null,null,null,null,null,null,null,null,null,null,null,null,null,null,null,null,null,null,null,null,null,null,null,null,null,null,null,null,null,null,null,null,null,null,null,null,null,null,null,null,null,null,null,null,null,null,null,null,null,null,null,null,null,null,null,null,null,null,null,null,null,null,null,null,null,null,null,null,null,null,null,null,null,null,null,null,null,null,null,null,null,"%RAN*LE","5..7"]
["차선도색(융착식,실선)","시간당 62.5㎡",1.6E-2,"HR",187501,2999.8,{"$f":"$H$1664","v":14212},227.3,{"$f":"$J$1664","v":152522},2440.3000000000002,{"$f":"$L$1664","v":20767},332.2,"제 172호표",null,null,null,null,null,null,null,null,null,null,null,null,null,null,null,null,null,null,null,null,null,null,null,null,null,null,null,null,null,null,null,null,null,null,null,null,null,null,null,null,null,null,null,null,null,null,null,null,null,null,null,null,null,null,null,null,null,null,null,null,null,null,null,null,null,null,null,null,null,null,null,null,null,null,null,null,null,null,null,null,null,null,null,null,null,null,null,null,null,null,null,null,null,null,null,null,null,null,null,null,null,null,null,"M1488003",""]
["             계             ",null,null,null,null,{"$f":"H1704+J1704+L1704","v":33655},null,{"$f":"ROUNDDOWN(SUM(H1695:H1703),0)","v":29279},null,{"$f":"ROUNDDOWN(SUM(J1695:J1703),0)","v":3968},null,{"$f":"ROUNDDOWN(SUM(L1695:L1703),0)","v":408},null,null,null,null,null,null,null,null,null,null,null,null,null,null,null,null,null,null,null,null,null,null,null,null,null,null,null,null,null,null,null,null,null,null,null,null,null,null,null,null,null,null,null,null,null,null,null,null,null,null,null,null,null,null,null,null,null,null,null,null,null,null,null,null,null,null,null,null,null,null,null,null,null,null,null,null,null,null,null,null,null,null,null,null,null,null,null,null,null,null,null,null,null,null,null,null,null,null,null,null,null,null,null,null,"%RAN*LM","5..7"]
["제01770호표 ：차선도색[실선,황색] (B=15Cm[고성능융착식 수동]) ㎡ 당"]
["프라이머","융착식 도료용 접착제",0.2,"ℓ",4500,900,{"$f":"자재단가!$R$56","v":4500},900,0,0,0,0,"",null,null,null,null,null,null,null,null,null,null,null,null,null,null,null,null,null,null,null,null,null,null,null,null,null,null,null,null,null,null,null,null,null,null,null,null,null,null,null,null,null,null,null,null,null,null,null,null,null,null,null,null,null,null,null,null,null,null,null,null,null,null,null,null,null,null,null,null,null,null,null,null,null,null,null,null,null,null,null,null,null,null,null,null,null,null,null,null,null,null,null,null,null,null,null,null,null,null,null,null,null,null,null,"M1500067",""]
["덤프트럭","2.5 ton",1.2999999999999999E-2,"시간",47328,615.19999999999993,{"$f":"건설기계!$I$146","v":5217},67.8,{"$f":"건설기계!$K$146","v":36224},{"$f":"TRUNC(C1714*I1714,1)","v":470.9},{"$f":"건설기계!$M$146","v":5887},{"$f":"TRUNC(C1714*K1714,1)","v":76.5},"",null,null,null,null,null,null,null,null,null,null,null,null,null,null,null,null,null,null,null,null,null,null,null,null,null,null,null,null,null,null,null,null,null,null,null,null,null,null,null,null,null,null,null,null,null,null,null,null,null,null,null,null,null,null,null,null,null,null,null,null,null,null,null,null,null,null,null,null,null,null,null,null,null,null,null,null,null,null,null,null,null,null,null,null,null,null,null,null,null,null,null,null,null,null,null,null,null,null,null,null,null,null,null,"W1003",""]
["고성능융착식 도료","KSM6080-로드스틱, 백색",4.53,"㎏",{"$f":"G1719+I1719+K1719","v":5980},{"$f":"H1719+J1719+L1719","v":27089.4},{"$f":"자재단가!$R$54","v":5980},{"$f":"TRUNC(C1719*G1719,1)","v":27089.4},0,{"$f":"TRUNC(C1719*I1719,1)","v":0},0,{"$f":"TRUNC(C1719*K1719,1)","v":0},"",null,null,null,null,null,null,null,null,null,null,null,null,null,null,null,null,null,null,null,null,null,null,null,null,null,null,null,null,null,null,null,null,null,null,null,null,null,null,null,null,null,null,null,null,null,null,null,null,null,null,null,null,null,null,null,null,null,null,null,null,null,null,null,null,null,null,null,null,null,null,null,null,null,null,null,null,null,null,null,null,null,null,null,null,null,null,null,null,null,null,null,null,null,null,null,null,null,null,null,null,null,null,null,":BKI1200"]
["보통인부","차로 밑그림 작업",8.6999999999999994E-3,"인",141096,1227.5,0,0,{"$f":"노임단가!$K$8","v":141096},1227.5,0,0,"",null,null,null,null,null,null,null,null,null,null,null,null,null,null,null,null,null,null,null,null,null,null,null,null,null,null,null,null,null,null,null,null,null,null,null,null,null,null,null,null,null,null,null,null,null,null,null,null,null,null,null,null,null,null,null,null,null,null,null,null,null,null,null,null,null,null,null,null,null,null,null,null,null,null,null,null,null,null,null,null,null,null,null,null,null,null,null,null,null,null,null,null,null,null,null,null,null,null,null,null,null,null,null,"W1002",""]
["특별인부","차로 밑그림 작업",8.6999999999999994E-3,"인",179203,1559,0,0,{"$f":"노임단가!$K$7","v":179203},1559,0,0,"",null,null,null,null,null,null,null,null,null,null,null,null,null,null,null,null,null,null,null,null,null,null,null,null,null,null,null,null,null,null,null,null,null,null,null,null,null,null,null,null,null,null,null,null,null,null,null,null,null,null,null,null,null,null,null,null,null,null,null,null,null,null,null,null,null,null,null,null,null,null,null,null,null,null,null,null,null,null,null,null,null,null,null,null,null,null,null,null,null,null,null,null,null,null,null,null,null,null,null,null,null,null,null,"W1003",""]
[]
["프로판가스","일반용",0.2,"㎏",894,178.8,{"$f":"자재단가!$R$94","v":894},178.8,0,0,0,0,""]
["잡재료비","주재료비의",1,"%",17092,170.9,{"$f":"SUM($H$1731:$H$1735)","v":17092},{"$f":"TRUNC(C1739/100*G1739,1)","v":170.9},0,{"$f":"TRUNC(C1739/100*I1739,1)","v":0},0,{"$f":"TRUNC(C1739/100*K1739,1)","v":0},""]
["             계             ",null,null,null,null,{"$f":"H1740+J1740+L1740","v":42076},null,{"$f":"ROUNDDOWN(SUM(H1731:H1739),0)","v":17648},null,{"$f":"ROUNDDOWN(SUM(J1731:J1739),0)","v":22149},null,{"$f":"ROUNDDOWN(SUM(L1731:L1739),0)","v":2279}]
["프라이머","융착식 도료용 접착제",0.2,"ℓ",4500,900,{"$f":"자재단가!$R$56","v":4500},900,0,0,0,0,"",null,null,null,null,null,null,null,null,null,null,null,null,null,null,null,null,null,null,null,null,null,null,null,null,null,null,null,null,null,null,null,null,null,null,null,null,null,null,null,null,null,null,null,null,null,null,null,null,null,null,null,null,null,null,null,null,null,null,null,null,null,null,null,null,null,null,null,null,null,null,null,null,null,null,null,null,null,null,null,null,null,null,null,null,null,null,null,null,null,null,null,null,null,null,null,null,null,null,null,null,null,null,null,"W1002",""]
["덤프트럭","2.5 ton",1.2999999999999999E-2,"시간",47328,615.19999999999993,{"$f":"건설기계!$I$146","v":5217},67.8,{"$f":"건설기계!$K$146","v":36224},{"$f":"TRUNC(C1750*I1750,1)","v":470.9},{"$f":"건설기계!$M$146","v":5887},{"$f":"TRUNC(C1750*K1750,1)","v":76.5},"",null,null,null,null,null,null,null,null,null,null,null,null,null,null,null,null,null,null,null,null,null,null,null,null,null,null,null,null,null,null,null,null,null,null,null,null,null,null,null,null,null,null,null,null,null,null,null,null,null,null,null,null,null,null,null,null,null,null,null,null,null,null,null,null,null,null,null,null,null,null,null,null,null,null,null,null,null,null,null,null,null,null,null,null,null,null,null,null,null,null,null,null,null,null,null,null,null,null,null,null,null,null,null,":BFF1200"]
["도로표지용 도료","융착식(수용성) 청색1호",4.53,"㎏",{"$f":"G1755+I1755+K1755","v":4400},{"$f":"H1755+J1755+L1755","v":19932},{"$f":"자재단가!$R$53","v":4400},{"$f":"TRUNC(C1755*G1755,1)","v":19932},0,{"$f":"TRUNC(C1755*I1755,1)","v":0},0,{"$f":"TRUNC(C1755*K1755,1)","v":0},"",null,null,null,null,null,null,null,null,null,null,null,null,null,null,null,null,null,null,null,null,null,null,null,null,null,null,null,null,null,null,null,null,null,null,null,null,null,null,null,null,null,null,null,null,null,null,null,null,null,null,null,null,null,null,null,null,null,null,null,null,null,null,null,null,null,null,null,null,null,null,null,null,null,null,null,null,null,null,null,null,null,null,null,null,null,null,null,null,null,null,null,null,null,null,null,null,null,null,null,null,null,null,null,"%RAN*LE","3..4"]
["프로판가스","일반용",0.2,"㎏",894,178.8,{"$f":"자재단가!$R$94","v":894},178.8,0,0,0,0,""]
["보통인부","차로 밑그림 작업",3.3E-3,"인",141096,465.6,0,0,{"$f":"노임단가!$K$8","v":141096},465.6,0,0,"",null,null,null,null,null,null,null,null,null,null,null,null,null,null,null,null,null,null,null,null,null,null,null,null,null,null,null,null,null,null,null,null,null,null,null,null,null,null,null,null,null,null,null,null,null,null,null,null,null,null,null,null,null,null,null,null,null,null,null,null,null,null,null,null,null,null,null,null,null,null,null,null,null,null,null,null,null,null,null,null,null,null,null,null,null,null,null,null,null,null,null,null,null,null,null,null,null,null,null,null,null,null,null,"S000-0150",""]
[null,null,null,null,null,null,null,null,null,null,null,null,null,null,null,null,null,null,null,null,null,null,null,null,null,null,null,null,null,null,null,null,null,null,null,null,null,null,null,null,null,null,null,null,null,null,null,null,null,null,null,null,null,null,null,null,null,null,null,null,null,null,null,null,null,null,null,null,null,null,null,null,null,null,null,null,null,null,null,null,null,null,null,null,null,null,null,null,null,null,null,null,null,null,null,null,null,null,null,null,null,null,null,null,null,null,null,null,null,null,null,null,null,null,null,null,"W1002",""]
["프로판가스","일반용",0.2,"㎏",894,178.8,{"$f":"자재단가!$R$94","v":894},178.8,0,0,0,0,""]
["차선도색(융착식,실선)","시간당 62.5㎡",1.6E-2,"HR",187501,2999.8,{"$f":"$H$1664","v":14212},227.3,{"$f":"$J$1664","v":152522},2440.3000000000002,{"$f":"$L$1664","v":20767},332.2,"제 172호표",null,null,null,null,null,null,null,null,null,null,null,null,null,null,null,null,null,null,null,null,null,null,null,null,null,null,null,null,null,null,null,null,null,null,null,null,null,null,null,null,null,null,null,null,null,null,null,null,null,null,null,null,null,null,null,null,null,null,null,null,null,null,null,null,null,null,null,null,null,null,null,null,null,null,null,null,null,null,null,null,null,null,null,null,null,null,null,null,null,null,null,null,null,null,null,null,null,null,null,null,null,null,null,"D2104-0010","%TE"]
["             계             ",null,null,null,null,{"$f":"H1776+J1776+L1776","v":25053},null,{"$f":"ROUNDDOWN(SUM(H1767:H1775),0)","v":20677},null,{"$f":"ROUNDDOWN(SUM(J1767:J1775),0)","v":3968},null,{"$f":"ROUNDDOWN(SUM(L1767:L1775),0)","v":408},null,null,null,null,null,null,null,null,null,null,null,null,null,null,null,null,null,null,null,null,null,null,null,null,null,null,null,null,null,null,null,null,null,null,null,null,null,null,null,null,null,null,null,null,null,null,null,null,null,null,null,null,null,null,null,null,null,null,null,null,null,null,null,null,null,null,null,null,null,null,null,null,null,null,null,null,null,null,null,null,null,null,null,null,null,null,null,null,null,null,null,null,null,null,null,null,null,null,null,null,null,null,null,null,"M3357042",""]
["프라이머","융착식 도료용 접착제",0.2,"ℓ",4500,900,{"$f":"자재단가!$R$56","v":4500},900,0,0,0,0,""]
["특별인부","차로 밑그림 작업",8.6999999999999994E-3,"인",179203,1559,0,0,{"$f":"노임단가!$K$7","v":179203},1559,0,0,"",null,null,null,null,null,null,null,null,null,null,null,null,null,null,null,null,null,null,null,null,null,null,null,null,null,null,null,null,null,null,null,null,null,null,null,null,null,null,null,null,null,null,null,null,null,null,null,null,null,null,null,null,null,null,null,null,null,null,null,null,null,null,null,null,null,null,null,null,null,null,null,null,null,null,null,null,null,null,null,null,null,null,null,null,null,null,null,null,null,null,null,null,null,null,null,null,null,null,null,null,null,null,null,"D2104-0010","%TE"]
["덤프트럭","2.5 ton",3.5000000000000003E-2,"시간",47328,1656.3,{"$f":"건설기계!$I$146","v":5217},182.5,{"$f":"건설기계!$K$146","v":36224},{"$f":"TRUNC(C1786*I1786,1)","v":1267.8},{"$f":"건설기계!$M$146","v":5887},{"$f":"TRUNC(C1786*K1786,1)","v":206},"",null,null,null,null,null,null,null,null,null,null,null,null,null,null,null,null,null,null,null,null,null,null,null,null,null,null,null,null,null,null,null,null,null,null,null,null,null,null,null,null,null,null,null,null,null,null,null,null,null,null,null,null,null,null,null,null,null,null,null,null,null,null,null,null,null,null,null,null,null,null,null,null,null,null,null,null,null,null,null,null,null,null,null,null,null,null,null,null,null,null,null,null,null,null,null,null,null,null,null,null,null,null,null,"W1006","%TE"]
["차선제거기","6.71kW",1,"시간",{"$f":"G1791+I1791+K1791","v":41851},41851,{"$f":"건설기계!$I$448","v":9949},{"$f":"TRUNC(C1791*G1791,1)","v":9949},{"$f":"건설기계!$K$448","v":28571},{"$f":"TRUNC(C1791*I1791,1)","v":28571},{"$f":"건설기계!$M$448","v":3331},{"$f":"TRUNC(C1791*K1791,1)","v":3331},"",null,null,null,null,null,null,null,null,null,null,null,null,null,null,null,null,null,null,null,null,null,null,null,null,null,null,null,null,null,null,null,null,null,null,null,null,null,null,null,null,null,null,null,null,null,null,null,null,null,null,null,null,null,null,null,null,null,null,null,null,null,null,null,null,null,null,null,null,null,null,null,null,null,null,null,null,null,null,null,null,null,null,null,null,null,null,null,null,null,null,null,null,null,null,null,null,null,null,null,null,null,null,null,"M3357012",""]
[]
[null,null,null,null,null,null,null,null,null,null,null,null,null,null,null,null,null,null,null,null,null,null,null,null,null,null,null,null,null,null,null,null,null,null,null,null,null,null,null,null,null,null,null,null,null,null,null,null,null,null,null,null,null,null,null,null,null,null,null,null,null,null,null,null,null,null,null,null,null,null,null,null,null,null,null,null,null,null,null,null,null,null,null,null,null,null,null,null,null,null,null,null,null,null,null,null,null,null,null,null,null,null,null,null,null,null,null,null,null,null,null,null,null,null,null,null,"D2104-0010","%TE"]
["이형철근","D16MM~D32MM, SD300",1.03,"TON",{"$f":"G1803+I1803+K1803","v":670000},690100,{"$f":"자재단가!$R$30","v":670000},{"$f":"TRUNC(C1803*G1803,1)","v":690100},0,{"$f":"TRUNC(C1803*I1803,1)","v":0},0,{"$f":"TRUNC(C1803*K1803,1)","v":0},"   관  급  ",null,null,null,null,null,null,null,null,null,null,null,null,null,null,null,null,null,null,null,null,null,null,null,null,null,null,null,null,null,null,null,null,null,null,null,null,null,null,null,null,null,null,null,null,null,null,null,null,null,null,null,null,null,null,null,null,null,null,null,null,null,null,null,null,null,null,null,null,null,null,null,null,null,null,null,null,null,null,null,null,null,null,null,null,null,null,null,null,null,null,null,null,null,null,null,null,null,null,null,null,null,null,null,"W1003","%TE"]
["보통인부","가공",0.35,"인",141096,49383.6,0,{"$f":"TRUNC(C1806*G1806,1)","v":0},{"$f":"노임단가!$K$8","v":141096},{"$f":"TRUNC(C1806*I1806,1)","v":49383.6},0,{"$f":"TRUNC(C1806*K1806,1)","v":0},"",null,null,null,null,null,null,null,null,null,null,null,null,null,null,null,null,null,null,null,null,null,null,null,null,null,null,null,null,null,null,null,null,null,null,null,null,null,null,null,null,null,null,null,null,null,null,null,null,null,null,null,null,null,null,null,null,null,null,null,null,null,null,null,null,null,null,null,null,null,null,null,null,null,null,null,null,null,null,null,null,null,null,null,null,null,null,null,null,null,null,null,null,null,null,null,null,null,null,null,null,null,null,null,":BAD6927"]
[null,null,null,null,null,null,null,null,null,null,null,null,null,null,null,null,null,null,null,null,null,null,null,null,null,null,null,null,null,null,null,null,null,null,null,null,null,null,null,null,null,null,null,null,null,null,null,null,null,null,null,null,null,null,null,null,null,null,null,null,null,null,null,null,null,null,null,null,null,null,null,null,null,null,null,null,null,null,null,null,null,null,null,null,null,null,null,null,null,null,null,null,null,null,null,null,null,null,null,null,null,null,null,null,null,null,null,null,null,null,null,null,null,null,null,null,"W1003","%TE"]
["보통인부","가공",0.45,"인",141096,63493.2,0,{"$f":"TRUNC(C1816*G1816,1)","v":0},{"$f":"노임단가!$K$8","v":141096},{"$f":"TRUNC(C1816*I1816,1)","v":63493.2},0,{"$f":"TRUNC(C1816*K1816,1)","v":0},"",null,null,null,null,null,null,null,null,null,null,null,null,null,null,null,null,null,null,null,null,null,null,null,null,null,null,null,null,null,null,null,null,null,null,null,null,null,null,null,null,null,null,null,null,null,null,null,null,null,null,null,null,null,null,null,null,null,null,null,null,null,null,null,null,null,null,null,null,null,null,null,null,null,null,null,null,null,null,null,null,null,null,null,null,null,null,null,null,null,null,null,null,null,null,null,null,null,null,null,null,null,null,null,"%RAN*TE","1"]
["기계기구손료","노무비의 2%",2,"%",347324.2,6946.4,0,{"$f":"TRUNC(C1817/100*G1817,1)","v":0},0,{"$f":"TRUNC(C1817/100*I1817,1)","v":0},{"$f":"SUM($J$1815:$J$1816)","v":347324.2},{"$f":"TRUNC(C1817/100*K1817,1)","v":6946.4},"",null,null,null,null,null,null,null,null,null,null,null,null,null,null,null,null,null,null,null,null,null,null,null,null,null,null,null,null,null,null,null,null,null,null,null,null,null,null,null,null,null,null,null,null,null,null,null,null,null,null,null,null,null,null,null,null,null,null,null,null,null,null,null,null,null,null,null,null,null,null,null,null,null,null,null,null,null,null,null,null,null,null,null,null,null,null,null,null,null,null,null,null,null,null,null,null,null,null,null,null,null,null,null,"D2104-0010","%TE"]
["제01880호표 ：청소 및 건조 m 당",null,null,null,null,null,null,null,null,null,null,null,null,null,null,null,null,null,null,null,null,null,null,null,null,null,null,null,null,null,null,null,null,null,null,null,null,null,null,null,null,null,null,null,null,null,null,null,null,null,null,null,null,null,null,null,null,null,null,null,null,null,null,null,null,null,null,null,null,null,null,null,null,null,null,null,null,null,null,null,null,null,null,null,null,null,null,null,null,null,null,null,null,null,null,null,null,null,null,null,null,null,null,null,null,null,null,null,null,null,null,null,null,null,null,null,":BAD6946"]
[null,null,null,null,null,null,null,null,null,null,null,null,null,null,null,null,null,null,null,null,null,null,null,null,null,null,null,null,null,null,null,null,null,null,null,null,null,null,null,null,null,null,null,null,null,null,null,null,null,null,null,null,null,null,null,null,null,null,null,null,null,null,null,null,null,null,null,null,null,null,null,null,null,null,null,null,null,null,null,null,null,null,null,null,null,null,null,null,null,null,null,null,null,null,null,null,null,null,null,null,null,null,null,null,null,null,null,null,null,null,null,null,null,null,null,null,"D2104-0010","%TE"]
["제01900호표 ：컨테이너형가설건축물[사무실] (9*3.0m[3개월]) 개 당",null,null,null,null,null,null,null,null,null,null,null,null,null,null,null,null,null,null,null,null,null,null,null,null,null,null,null,null,null,null,null,null,null,null,null,null,null,null,null,null,null,null,null,null,null,null,null,null,null,null,null,null,null,null,null,null,null,null,null,null,null,null,null,null,null,null,null,null,null,null,null,null,null,null,null,null,null,null,null,null,null,null,null,null,null,null,null,null,null,null,null,null,null,null,null,null,null,null,null,null,null,null,null,null,null,null,null,null,null,null,null,null,null,null,null,"M3357018",""]
["콘테이너하우스","9x 3.0x2.6m(사무실용)",1,"동",{"$f":"G1832+I1832+K1832","v":3032000},3032000,{"$f":"자재단가!$R$86","v":3032000},{"$f":"TRUNC(C1832*G1832,1)","v":3032000},0,{"$f":"TRUNC(C1832*I1832,1)","v":0},0,{"$f":"TRUNC(C1832*K1832,1)","v":0},"",null,null,null,null,null,null,null,null,null,null,null,null,null,null,null,null,null,null,null,null,null,null,null,null,null,null,null,null,null,null,null,null,null,null,null,null,null,null,null,null,null,null,null,null,null,null,null,null,null,null,null,null,null,null,null,null,null,null,null,null,null,null,null,null,null,null,null,null,null,null,null,null,null,null,null,null,null,null,null,null,null,null,null,null,null,null,null,null,null,null,null,null,null,null,null,null,null,null,null,null,null,null,null,"%RAN*TE","1"]
["             계             ",null,null,null,null,{"$f":"H1837+J1837+L1837","v":575795},null,{"$f":"ROUNDDOWN(SUM(H1832:H1836)-(H1832),0)","v":0},null,{"$f":"ROUNDDOWN(SUM(J1832:J1836)-(J1832),0)","v":0},null,{"$f":"ROUNDDOWN(SUM(L1832:L1836)-(L1832),0)","v":575795}]
["크레인(타이어)","10 ton",1,"시간",79404,79404,0,{"$f":"TRUNC(C1842*G1842,1)","v":0},0,{"$f":"TRUNC(C1842*I1842,1)","v":0},{"$f":"건설기계!$I$280+건설기계!$K$280+건설기계!$M$280","v":79404},{"$f":"TRUNC(C1842*K1842,1)","v":79404},""]
["제01920호표 ：컨테이너형가설건축물[사무실] (9*3.0m[12개월]) 개 당"]
["콘테이너하우스","9x 3.0x2.6m(사무실용)",1,"동",{"$f":"G1848+I1848+K1848","v":3032000},3032000,{"$f":"자재단가!$R$86","v":3032000},{"$f":"TRUNC(C1848*G1848,1)","v":3032000},0,{"$f":"TRUNC(C1848*I1848,1)","v":0},0,{"$f":"TRUNC(C1848*K1848,1)","v":0},""]
["특별인부","",0.2,"인",179203,35840.6,0,{"$f":"TRUNC(C1852*G1852,1)","v":0},0,{"$f":"TRUNC(C1852*I1852,1)","v":0},{"$f":"노임단가!$K$7","v":179203},{"$f":"TRUNC(C1852*K1852,1)","v":35840.6},"",null,null,null,null,null,null,null,null,null,null,null,null,null,null,null,null,null,null,null,null,null,null,null,null,null,null,null,null,null,null,null,null,null,null,null,null,null,null,null,null,null,null,null,null,null,null,null,null,null,null,null,null,null,null,null,null,null,null,null,null,null,null,null,null,null,null,null,null,null,null,null,null,null,null,null,null,null,null,null,null,null,null,null,null,null,null,null,null,null,null,null,null,null,null,null,null,null,null,null,null,null,null,null,"W1002",""]
["손율12%","",12,"%",1840000,220800,0,{"$f":"TRUNC(C1857/100*G1857,1)","v":0},0,{"$f":"TRUNC(C1857/100*I1857,1)","v":0},{"$f":"$H$1856+$J$1856+$L$1856","v":1840000},{"$f":"TRUNC(C1857/100*K1857,1)","v":220800},"",null,null,null,null,null,null,null,null,null,null,null,null,null,null,null,null,null,null,null,null,null,null,null,null,null,null,null,null,null,null,null,null,null,null,null,null,null,null,null,null,null,null,null,null,null,null,null,null,null,null,null,null,null,null,null,null,null,null,null,null,null,null,null,null,null,null,null,null,null,null,null,null,null,null,null,null,null,null,null,null,null,null,null,null,null,null,null,null,null,null,null,null,null,null,null,null,null,null,null,null,null,null,null,"M0765034",""]
[null,null,null,null,null,null,null,null,null,null,null,null,null,null,null,null,null,null,null,null,null,null,null,null,null,null,null,null,null,null,null,null,null,null,null,null,null,null,null,null,null,null,null,null,null,null,null,null,null,null,null,null,null,null,null,null,null,null,null,null,null,null,null,null,null,null,null,null,null,null,null,null,null,null,null,null,null,null,null,null,null,null,null,null,null,null,null,null,null,null,null,null,null,null,null,null,null,null,null,null,null,null,null,null,null,null,null,null,null,null,null,null,null,null,null,null,"%RAN*LM","3..4"]
["제01940호표 ：컨테이너형가설건축물[창고] (6*3.0m[6개월]) 개 당"]
["특별인부","",0.17,"인",179203,30464.5,0,{"$f":"TRUNC(C1868*G1868,1)","v":0},0,{"$f":"TRUNC(C1868*I1868,1)","v":0},{"$f":"노임단가!$K$7","v":179203},{"$f":"TRUNC(C1868*K1868,1)","v":30464.5},"",null,null,null,null,null,null,null,null,null,null,null,null,null,null,null,null,null,null,null,null,null,null,null,null,null,null,null,null,null,null,null,null,null,null,null,null,null,null,null,null,null,null,null,null,null,null,null,null,null,null,null,null,null,null,null,null,null,null,null,null,null,null,null,null,null,null,null,null,null,null,null,null,null,null,null,null,null,null,null,null,null,null,null,null,null,null,null,null,null,null,null,null,null,null,null,null,null,null,null,null,null,null,null,"BB00-0420",""]
["손율25%","",25,"%",1840000,460000,0,{"$f":"TRUNC(C1873/100*G1873,1)","v":0},0,{"$f":"TRUNC(C1873/100*I1873,1)","v":0},{"$f":"$H$1872+$J$1872+$L$1872","v":1840000},{"$f":"TRUNC(C1873/100*K1873,1)","v":460000},""]
["             계             ",null,null,null,null,{"$f":"H1877+J1877+L1877","v":641781},null,{"$f":"ROUNDDOWN(SUM(H1872:H1876)-(H1872),0)","v":0},null,{"$f":"ROUNDDOWN(SUM(J1872:J1876)-(J1872),0)","v":0},null,{"$f":"ROUNDDOWN(SUM(L1872:L1876)-(L1872),0)","v":641781},null,null,null,null,null,null,null,null,null,null,null,null,null,null,null,null,null,null,null,null,null,null,null,null,null,null,null,null,null,null,null,null,null,null,null,null,null,null,null,null,null,null,null,null,null,null,null,null,null,null,null,null,null,null,null,null,null,null,null,null,null,null,null,null,null,null,null,null,null,null,null,null,null,null,null,null,null,null,null,null,null,null,null,null,null,null,null,null,null,null,null,null,null,null,null,null,null,null,null,null,null,null,null,null,"BB00-0420",""]
[null,null,null,null,null,null,null,null,null,null,null,null,null,null,null,null,null,null,null,null,null,null,null,null,null,null,null,null,null,null,null,null,null,null,null,null,null,null,null,null,null,null,null,null,null,null,null,null,null,null,null,null,null,null,null,null,null,null,null,null,null,null,null,null,null,null,null,null,null,null,null,null,null,null,null,null,null,null,null,null,null,null,null,null,null,null,null,null,null,null,null,null,null,null,null,null,null,null,null,null,null,null,null,null,null,null,null,null,null,null,null,null,null,null,null,null,"W1002",""]
["비 계 공","",0.38,"인",247977,94231.2,0,{"$f":"TRUNC(C1883*G1883,1)","v":0},0,{"$f":"TRUNC(C1883*I1883,1)","v":0},{"$f":"노임단가!$K$13","v":247977},{"$f":"TRUNC(C1883*K1883,1)","v":94231.2},"",null,null,null,null,null,null,null,null,null,null,null,null,null,null,null,null,null,null,null,null,null,null,null,null,null,null,null,null,null,null,null,null,null,null,null,null,null,null,null,null,null,null,null,null,null,null,null,null,null,null,null,null,null,null,null,null,null,null,null,null,null,null,null,null,null,null,null,null,null,null,null,null,null,null,null,null,null,null,null,null,null,null,null,null,null,null,null,null,null,null,null,null,null,null,null,null,null,null,null,null,null,null,null,":BB00-0420"]
["콘테이너하우스","12x3.0x2.6m(창고용)",1,"동",{"$f":"G1888+I1888+K1888","v":3348000},3348000,{"$f":"자재단가!$R$85","v":3348000},{"$f":"TRUNC(C1888*G1888,1)","v":3348000},0,{"$f":"TRUNC(C1888*I1888,1)","v":0},0,{"$f":"TRUNC(C1888*K1888,1)","v":0},"",null,null,null,null,null,null,null,null,null,null,null,null,null,null,null,null,null,null,null,null,null,null,null,null,null,null,null,null,null,null,null,null,null,null,null,null,null,null,null,null,null,null,null,null,null,null,null,null,null,null,null,null,null,null,null,null,null,null,null,null,null,null,null,null,null,null,null,null,null,null,null,null,null,null,null,null,null,null,null,null,null,null,null,null,null,null,null,null,null,null,null,null,null,null,null,null,null,null,null,null,null,null,null,":BKC1100"]
["             계             ",null,null,null,null,{"$f":"H1893+J1893+L1893","v":743363},null,{"$f":"ROUNDDOWN(SUM(H1888:H1892)-(H1888),0)","v":0},null,{"$f":"ROUNDDOWN(SUM(J1888:J1892)-(J1888),0)","v":0},null,{"$f":"ROUNDDOWN(SUM(L1888:L1892)-(L1888),0)","v":743363}]
[]
["특별인부","",0.19,"인",179203,34048.5,0,{"$f":"TRUNC(C1900*G1900,1)","v":0},0,{"$f":"TRUNC(C1900*I1900,1)","v":0},{"$f":"노임단가!$K$7","v":179203},{"$f":"TRUNC(C1900*K1900,1)","v":34048.5},"",null,null,null,null,null,null,null,null,null,null,null,null,null,null,null,null,null,null,null,null,null,null,null,null,null,null,null,null,null,null,null,null,null,null,null,null,null,null,null,null,null,null,null,null,null,null,null,null,null,null,null,null,null,null,null,null,null,null,null,null,null,null,null,null,null,null,null,null,null,null,null,null,null,null,null,null,null,null,null,null,null,null,null,null,null,null,null,null,null,null,null,null,null,null,null,null,null,null,null,null,null,null,null,"W1002",""]
["제01990호표 ：콘크리트보양 (비닐) a 당",null,null,null,null,null,null,null,null,null,null,null,null,null,null,null,null,null,null,null,null,null,null,null,null,null,null,null,null,null,null,null,null,null,null,null,null,null,null,null,null,null,null,null,null,null,null,null,null,null,null,null,null,null,null,null,null,null,null,null,null,null,null,null,null,null,null,null,null,null,null,null,null,null,null,null,null,null,null,null,null,null,null,null,null,null,null,null,null,null,null,null,null,null,null,null,null,null,null,null,null,null,null,null,null,null,null,null,null,null,null,null,null,null,null,null,":BDD1101"]
["제02000호표 ：콘크리트양생 (피믹양생재) ㎡ 당",null,null,null,null,null,null,null,null,null,null,null,null,null,null,null,null,null,null,null,null,null,null,null,null,null,null,null,null,null,null,null,null,null,null,null,null,null,null,null,null,null,null,null,null,null,null,null,null,null,null,null,null,null,null,null,null,null,null,null,null,null,null,null,null,null,null,null,null,null,null,null,null,null,null,null,null,null,null,null,null,null,null,null,null,null,null,null,null,null,null,null,null,null,null,null,null,null,null,null,null,null,null,null,null,null,null,null,null,null,null,null,null,null,null,null,"W1002",""]
["양생제(피막양생제)","",0.17499999999999999,"L",{"$f":"G1909+I1909+K1909","v":2000},350,{"$f":"자재단가!$R$69","v":2000},{"$f":"TRUNC(C1909*G1909,1)","v":350},0,{"$f":"TRUNC(C1909*I1909,1)","v":0},0,{"$f":"TRUNC(C1909*K1909,1)","v":0},""]
["제02010호표 ：콘크리트양생 (마대) ㎡ 당"]
["             계             ",null,null,null,null,{"$f":"H1919+J1919+L1919","v":2696},null,{"$f":"ROUNDDOWN(SUM(H1915:H1918),0)","v":1003},null,{"$f":"ROUNDDOWN(SUM(J1915:J1918),0)","v":1693},null,{"$f":"ROUNDDOWN(SUM(L1915:L1918),0)","v":0}]
["레미콘","#57  25-210-08",10,"㎥",{"$f":"G1922+I1922+K1922","v":64900},649000,{"$f":"자재단가!$R$10","v":64900},{"$f":"TRUNC(C1922*G1922,1)","v":649000},0,{"$f":"TRUNC(C1922*I1922,1)","v":0},0,{"$f":"TRUNC(C1922*K1922,1)","v":0},"   관  급  ",null,null,null,null,null,null,null,null,null,null,null,null,null,null,null,null,null,null,null,null,null,null,null,null,null,null,null,null,null,null,null,null,null,null,null,null,null,null,null,null,null,null,null,null,null,null,null,null,null,null,null,null,null,null,null,null,null,null,null,null,null,null,null,null,null,null,null,null,null,null,null,null,null,null,null,null,null,null,null,null,null,null,null,null,null,null,null,null,null,null,null,null,null,null,null,null,null,null,null,null,null,null,null,"D3201-0003",""]
["콘크리트포장(인력)","공통",0.8,"HR",132696,106156.8,{"$f":"$H$1951","v":0},{"$f":"TRUNC(C1924*G1924,1)","v":0},{"$f":"$J$1951","v":132696},{"$f":"TRUNC(C1924*I1924,1)","v":106156.8},{"$f":"$L$1951","v":0},{"$f":"TRUNC(C1924*K1924,1)","v":0},"제 205호표",null,null,null,null,null,null,null,null,null,null,null,null,null,null,null,null,null,null,null,null,null,null,null,null,null,null,null,null,null,null,null,null,null,null,null,null,null,null,null,null,null,null,null,null,null,null,null,null,null,null,null,null,null,null,null,null,null,null,null,null,null,null,null,null,null,null,null,null,null,null,null,null,null,null,null,null,null,null,null,null,null,null,null,null,null,null,null,null,null,null,null,null,null,null,null,null,null,null,null,null,null,null,null,"D1206-0008",""]
[]
["보통인부","모래깔기",0.30299999999999999,"인",141096,42752,0,{"$f":"TRUNC(C1934*G1934,1)","v":0},{"$f":"노임단가!$K$8","v":141096},{"$f":"TRUNC(C1934*I1934,1)","v":42752},0,{"$f":"TRUNC(C1934*K1934,1)","v":0},""]
["제02040호표 ：콘크리트포장[레미콘] (T=20cm) a 당",null,null,null,null,null,null,null,null,null,null,null,null,null,null,null,null,null,null,null,null,null,null,null,null,null,null,null,null,null,null,null,null,null,null,null,null,null,null,null,null,null,null,null,null,null,null,null,null,null,null,null,null,null,null,null,null,null,null,null,null,null,null,null,null,null,null,null,null,null,null,null,null,null,null,null,null,null,null,null,null,null,null,null,null,null,null,null,null,null,null,null,null,null,null,null,null,null,null,null,null,null,null,null,null,null,null,null,null,null,null,null,null,null,null,null,"W1002",""]
["레미콘","#57  25-210-08",20,"㎥",{"$f":"G1940+I1940+K1940","v":64900},1298000,{"$f":"자재단가!$R$10","v":64900},{"$f":"TRUNC(C1940*G1940,1)","v":1298000},0,{"$f":"TRUNC(C1940*I1940,1)","v":0},0,{"$f":"TRUNC(C1940*K1940,1)","v":0},"   관  급  "]
["PE필림","0.1MMx90CMx91M",100,"㎡",475,47500,{"$f":"자재단가!$R$93","v":475},{"$f":"TRUNC(C1944*G1944,1)","v":47500},0,{"$f":"TRUNC(C1944*I1944,1)","v":0},0,{"$f":"TRUNC(C1944*K1944,1)","v":0},"",null,null,null,null,null,null,null,null,null,null,null,null,null,null,null,null,null,null,null,null,null,null,null,null,null,null,null,null,null,null,null,null,null,null,null,null,null,null,null,null,null,null,null,null,null,null,null,null,null,null,null,null,null,null,null,null,null,null,null,null,null,null,null,null,null,null,null,null,null,null,null,null,null,null,null,null,null,null,null,null,null,null,null,null,null,null,null,null,null,null,null,null,null,null,null,null,null,null,null,null,null,null,null,"D1305-0007",""]
["포 장 공","",0.375,"인",{"$f":"G1949+I1949+K1949","v":212761},{"$f":"H1949+J1949+L1949","v":79785.3},0,{"$f":"TRUNC(C1949*G1949,1)","v":0},{"$f":"노임단가!$K$10","v":212761},{"$f":"TRUNC(C1949*I1949,1)","v":79785.3},0,{"$f":"TRUNC(C1949*K1949,1)","v":0},""]
["인력비빔타설(fck=180kgf/cm2)","무근구조물",20,"㎥",{"$f":"G1954+I1954+K1954","v":367815},7356300,{"$f":"$H$1482","v":62458},{"$f":"TRUNC(C1954*G1954,1)","v":1249160},{"$f":"$J$1482","v":298571},{"$f":"TRUNC(C1954*I1954,1)","v":5971420},{"$f":"$L$1482","v":6786},{"$f":"TRUNC(C1954*K1954,1)","v":135720},"제 149호표",null,null,null,null,null,null,null,null,null,null,null,null,null,null,null,null,null,null,null,null,null,null,null,null,null,null,null,null,null,null,null,null,null,null,null,null,null,null,null,null,null,null,null,null,null,null,null,null,null,null,null,null,null,null,null,null,null,null,null,null,null,null,null,null,null,null,null,null,null,null,null,null,null,null,null,null,null,null,null,null,null,null,null,null,null,null,null,null,null,null,null,null,null,null,null,null,null,null,null,null,null,null,null,"B0177",""]
["강모래","자연사(시내도착도)",3,"㎥",30000,90000,{"$f":"자재단가!$R$36","v":30000},{"$f":"TRUNC(C1955*G1955,1)","v":90000},0,{"$f":"TRUNC(C1955*I1955,1)","v":0},0,{"$f":"TRUNC(C1955*K1955,1)","v":0},"",null,null,null,null,null,null,null,null,null,null,null,null,null,null,null,null,null,null,null,null,null,null,null,null,null,null,null,null,null,null,null,null,null,null,null,null,null,null,null,null,null,null,null,null,null,null,null,null,null,null,null,null,null,null,null,null,null,null,null,null,null,null,null,null,null,null,null,null,null,null,null,null,null,null,null,null,null,null,null,null,null,null,null,null,null,null,null,null,null,null,null,null,null,null,null,null,null,null,null,null,null,null,null,"B0180",""]
["제02070호표 ：콘크리트표면마무리 (쇠흙손) ㎡ 당",null,null,null,null,null,null,null,null,null,null,null,null,null,null,null,null,null,null,null,null,null,null,null,null,null,null,null,null,null,null,null,null,null,null,null,null,null,null,null,null,null,null,null,null,null,null,null,null,null,null,null,null,null,null,null,null,null,null,null,null,null,null,null,null,null,null,null,null,null,null,null,null,null,null,null,null,null,null,null,null,null,null,null,null,null,null,null,null,null,null,null,null,null,null,null,null,null,null,null,null,null,null,null,null,null,null,null,null,null,null,null,null,null,null,null,"M0110",""]
["보통인부","",0.26,"인",{"$f":"G1965+I1965+K1965","v":141096},{"$f":"H1965+J1965+L1965","v":36684.9},0,{"$f":"TRUNC(C1965*G1965,1)","v":0},{"$f":"노임단가!$K$8","v":141096},{"$f":"TRUNC(C1965*I1965,1)","v":36684.9},0,{"$f":"TRUNC(C1965*K1965,1)","v":0},"",null,null,null,null,null,null,null,null,null,null,null,null,null,null,null,null,null,null,null,null,null,null,null,null,null,null,null,null,null,null,null,null,null,null,null,null,null,null,null,null,null,null,null,null,null,null,null,null,null,null,null,null,null,null,null,null,null,null,null,null,null,null,null,null,null,null,null,null,null,null,null,null,null,null,null,null,null,null,null,null,null,null,null,null,null,null,null,null,null,null,null,null,null,null,null,null,null,null,null,null,null,null,null,"%RAN*LM","2..5"]
["보통인부","",0.2,"인",{"$f":"G1969+I1969+K1969","v":141096},{"$f":"H1969+J1969+L1969","v":28219.200000000001},0,{"$f":"TRUNC(C1969*G1969,1)","v":0},{"$f":"노임단가!$K$8","v":141096},{"$f":"TRUNC(C1969*I1969,1)","v":28219.200000000001},0,{"$f":"TRUNC(C1969*K1969,1)","v":0},"",null,null,null,null,null,null,null,null,null,null,null,null,null,null,null,null,null,null,null,null,null,null,null,null,null,null,null,null,null,null,null,null,null,null,null,null,null,null,null,null,null,null,null,null,null,null,null,null,null,null,null,null,null,null,null,null,null,null,null,null,null,null,null,null,null,null,null,null,null,null,null,null,null,null,null,null,null,null,null,null,null,null,null,null,null,null,null,null,null,null,null,null,null,null,null,null,null,null,null,null,null,null,null,"D3430-0400",""]
["             계             ",null,null,null,null,{"$f":"H1970+J1970+L1970","v":28219},null,{"$f":"ROUNDDOWN(SUM(H1969:H1969),0)","v":0},null,{"$f":"ROUNDDOWN(SUM(J1969:J1969),0)","v":28219},null,{"$f":"ROUNDDOWN(SUM(L1969:L1969),0)","v":0},null,null,null,null,null,null,null,null,null,null,null,null,null,null,null,null,null,null,null,null,null,null,null,null,null,null,null,null,null,null,null,null,null,null,null,null,null,null,null,null,null,null,null,null,null,null,null,null,null,null,null,null,null,null,null,null,null,null,null,null,null,null,null,null,null,null,null,null,null,null,null,null,null,null,null,null,null,null,null,null,null,null,null,null,null,null,null,null,null,null,null,null,null,null,null,null,null,null,null,null,null,null,null,null,"W1002",""]
[null,null,null,null,null,null,null,null,null,null,null,null,null,null,null,null,null,null,null,null,null,null,null,null,null,null,null,null,null,null,null,null,null,null,null,null,null,null,null,null,null,null,null,null,null,null,null,null,null,null,null,null,null,null,null,null,null,null,null,null,null,null,null,null,null,null,null,null,null,null,null,null,null,null,null,null,null,null,null,null,null,null,null,null,null,null,null,null,null,null,null,null,null,null,null,null,null,null,null,null,null,null,null,null,null,null,null,null,null,null,null,null,null,null,null,null,"W1002",""]
[null,null,null,null,null,null,null,null,null,null,null,null,null,null,null,null,null,null,null,null,null,null,null,null,null,null,null,null,null,null,null,null,null,null,null,null,null,null,null,null,null,null,null,null,null,null,null,null,null,null,null,null,null,null,null,null,null,null,null,null,null,null,null,null,null,null,null,null,null,null,null,null,null,null,null,null,null,null,null,null,null,null,null,null,null,null,null,null,null,null,null,null,null,null,null,null,null,null,null,null,null,null,null,null,null,null,null,null,null,null,null,null,null,null,null,null,"W1002",""]
[null,null,null,null,null,null,null,null,null,null,null,null,null,null,null,null,null,null,null,null,null,null,null,null,null,null,null,null,null,null,null,null,null,null,null,null,null,null,null,null,null,null,null,null,null,null,null,null,null,null,null,null,null,null,null,null,null,null,null,null,null,null,null,null,null,null,null,null,null,null,null,null,null,null,null,null,null,null,null,null,null,null,null,null,null,null,null,null,null,null,null,null,null,null,null,null,null,null,null,null,null,null,null,null,null,null,null,null,null,null,null,null,null,null,null,null,"W1002",""]
["제02130호표 ：투수아스팔트포장공사 (T=7cm) HR 당"]
["포 장 공","",0.5,"인",212761,106380.5,0,0,{"$f":"노임단가!$K$10","v":212761},106380.5,0,0,"",null,null,null,null,null,null,null,null,null,null,null,null,null,null,null,null,null,null,null,null,null,null,null,null,null,null,null,null,null,null,null,null,null,null,null,null,null,null,null,null,null,null,null,null,null,null,null,null,null,null,null,null,null,null,null,null,null,null,null,null,null,null,null,null,null,null,null,null,null,null,null,null,null,null,null,null,null,null,null,null,null,null,null,null,null,null,null,null,null,null,null,null,null,null,null,null,null,null,null,null,null,null,null,"%RAN*LE","3"]
["제02140호표 ：투수아스팔트포장공사 (T=7cm,3m≤시공폭) a 당"]
[null,null,null,null,null,null,null,null,null,null,null,null,null,null,null,null,null,null,null,null,null,null,null,null,null,null,null,null,null,null,null,null,null,null,null,null,null,null,null,null,null,null,null,null,null,null,null,null,null,null,null,null,null,null,null,null,null,null,null,null,null,null,null,null,null,null,null,null,null,null,null,null,null,null,null,null,null,null,null,null,null,null,null,null,null,null,null,null,null,null,null,null,null,null,null,null,null,null,null,null,null,null,null,null,null,null,null,null,null,null,null,null,null,null,null,null,"M4119007",""]
["제02141호표 ：투수아스팔트 소규모 포장공사 (T=7cm) HR 당"]
["보통인부","",0.125,"인",141096,17637,0,0,{"$f":"노임단가!$K$8","v":141096},17637,0,0,"",null,null,null,null,null,null,null,null,null,null,null,null,null,null,null,null,null,null,null,null,null,null,null,null,null,null,null,null,null,null,null,null,null,null,null,null,null,null,null,null,null,null,null,null,null,null,null,null,null,null,null,null,null,null,null,null,null,null,null,null,null,null,null,null,null,null,null,null,null,null,null,null,null,null,null,null,null,null,null,null,null,null,null,null,null,null,null,null,null,null,null,null,null,null,null,null,null,null,null,null,null,null,null,"W1029",""]
["투수아스팔트콘크리트","8mm, 암갈색",16.7,"톤",{"$f":"G2011+I2011+K2011","v":115000},{"$f":"H2011+J2011+L2011","v":1920500},{"$f":"자재단가!$R$129","v":115000},{"$f":"TRUNC(C2011*G2011,1)","v":1920500},0,{"$f":"TRUNC(C2011*I2011,1)","v":0},0,{"$f":"TRUNC(C2011*K2011,1)","v":0},"",null,null,null,null,null,null,null,null,null,null,null,null,null,null,null,null,null,null,null,null,null,null,null,null,null,null,null,null,null,null,null,null,null,null,null,null,null,null,null,null,null,null,null,null,null,null,null,null,null,null,null,null,null,null,null,null,null,null,null,null,null,null,null,null,null,null,null,null,null,null,null,null,null,null,null,null,null,null,null,null,null,null,null,null,null,null,null,null,null,null,null,null,null,null,null,null,null,null,null,null,null,null,null,":BPC1112"]
["제02143호표 ：투수아스팔트포장공사 (소형장비, T=7cm, 시공량 1,200㎡) a당"]
["아스팔트 페이버(피니셔)","1.7 m",0.66,"시간",{"$f":"G2018+I2018+K2018","v":100003},{"$f":"H2018+J2018+L2018","v":66001.899999999994},{"$f":"'건설기계 목록'!$F$53","v":9764},{"$f":"TRUNC(C2018*G2018,1)","v":6444.2},{"$f":"'건설기계 목록'!$G$53","v":44299},{"$f":"TRUNC(C2018*I2018,1)","v":29237.3},{"$f":"'건설기계 목록'!$H$53","v":45940},{"$f":"TRUNC(C2018*K2018,1)","v":30320.400000000001},""]
["탠덤롤러(진동자주식)","5~8ton",0.66,"시간",60245,39761.600000000006,{"$f":"'건설기계 목록'!$F$36","v":7691},5076,{"$f":"'건설기계 목록'!$G$36","v":44299},29237.3,{"$f":"'건설기계 목록'!$H$36","v":8255},5448.3,"",null,null,null,null,null,null,null,null,null,null,null,null,null,null,null,null,null,null,null,null,null,null,null,null,null,null,null,null,null,null,null,null,null,null,null,null,null,null,null,null,null,null,null,null,null,null,null,null,null,null,null,null,null,null,null,null,null,null,null,null,null,null,null,null,null,null,null,null,null,null,null,null,null,null,null,null,null,null,null,null,null,null,null,null,null,null,null,null,null,null,null,null,null,null,null,null,null,null,null,null,null,null,null,"M4077021",""]
["             계             ",null,null,null,null,{"$f":"H2026+J2026+L2026","v":2399778},null,{"$f":"ROUNDDOWN(SUM(H2017:H2025),0)","v":2130611},null,{"$f":"ROUNDDOWN(SUM(J2017:J2025),0)","v":208263},null,{"$f":"ROUNDDOWN(SUM(L2017:L2025),0)","v":60904},null,null,null,null,null,null,null,null,null,null,null,null,null,null,null,null,null,null,null,null,null,null,null,null,null,null,null,null,null,null,null,null,null,null,null,null,null,null,null,null,null,null,null,null,null,null,null,null,null,null,null,null,null,null,null,null,null,null,null,null,null,null,null,null,null,null,null,null,null,null,null,null,null,null,null,null,null,null,null,null,null,null,null,null,null,null,null,null,null,null,null,null,null,null,null,null,null,null,null,null,null,null,null,null,"%RAN*ME","1..2"]
["보통인부","",1.6,"인",141096,225753.60000000001,0,{"$f":"TRUNC(C2031*G2031,1)","v":0},{"$f":"노임단가!$K$8","v":141096},{"$f":"TRUNC(C2031*I2031,1)","v":225753.60000000001},0,{"$f":"TRUNC(C2031*K2031,1)","v":0},""]
["             계             ",null,null,null,null,{"$f":"H2032+J2032+L2032","v":318888},null,{"$f":"ROUNDDOWN(SUM(H2029:H2031),0)","v":93135},null,{"$f":"ROUNDDOWN(SUM(J2029:J2031),0)","v":225753},null,{"$f":"ROUNDDOWN(SUM(L2029:L2031),0)","v":0}]
["굴삭기(무한궤도)"," 0.6 ㎥",1,"시간",81240,81240,{"$f":"건설기계!$I$70","v":16223},{"$f":"TRUNC(C2037*G2037,1)","v":16223},{"$f":"건설기계!$K$70","v":44299},{"$f":"TRUNC(C2037*I2037,1)","v":44299},{"$f":"건설기계!$M$70","v":20718},{"$f":"TRUNC(C2037*K2037,1)","v":20718},"",null,null,null,null,null,null,null,null,null,null,null,null,null,null,null,null,null,null,null,null,null,null,null,null,null,null,null,null,null,null,null,null,null,null,null,null,null,null,null,null,null,null,null,null,null,null,null,null,null,null,null,null,null,null,null,null,null,null,null,null,null,null,null,null,null,null,null,null,null,null,null,null,null,null,null,null,null,null,null,null,null,null,null,null,null,null,null,null,null,null,null,null,null,null,null,null,null,null,null,null,null,null,null,"M4119007",""]
[]
["표면보호공","스프레이어(300)",1,"a",187577,187577,{"$f":"$H$2212","v":172954},{"$f":"TRUNC(C2046*G2046,1)","v":172954},{"$f":"$J$2212","v":14459},{"$f":"TRUNC(C2046*I2046,1)","v":14459},{"$f":"$L$2212","v":164},{"$f":"TRUNC(C2046*K2046,1)","v":164},"제 237호표",null,null,null,null,null,null,null,null,null,null,null,null,null,null,null,null,null,null,null,null,null,null,null,null,null,null,null,null,null,null,null,null,null,null,null,null,null,null,null,null,null,null,null,null,null,null,null,null,null,null,null,null,null,null,null,null,null,null,null,null,null,null,null,null,null,null,null,null,null,null,null,null,null,null,null,null,null,null,null,null,null,null,null,null,null,null,null,null,null,null,null,null,null,null,null,null,null,null,null,null,null,null,null,"M4119007",""]
["모래포설 및 다짐(T=5cm)","투수콘포장용",1,"a",437830,437830,{"$f":"$H$626","v":150000},{"$f":"TRUNC(C2047*G2047,1)","v":150000},{"$f":"$J$626","v":282190},{"$f":"TRUNC(C2047*I2047,1)","v":282190},{"$f":"$L$626","v":5640},{"$f":"TRUNC(C2047*K2047,1)","v":5640},"제  80호표",null,null,null,null,null,null,null,null,null,null,null,null,null,null,null,null,null,null,null,null,null,null,null,null,null,null,null,null,null,null,null,null,null,null,null,null,null,null,null,null,null,null,null,null,null,null,null,null,null,null,null,null,null,null,null,null,null,null,null,null,null,null,null,null,null,null,null,null,null,null,null,null,null,null,null,null,null,null,null,null,null,null,null,null,null,null,null,null,null,null,null,null,null,null,null,null,null,null,null,null,null,null,null,"M8916003",""]
["칼라투수콘크리트(보도용)","10~180\"㎏/㎡\"",10.4,"㎥",{"$f":"G2052+I2052+K2052","v":120000},1248000,{"$f":"자재단가!$R$14","v":120000},{"$f":"TRUNC(C2052*G2052,1)","v":1248000},0,{"$f":"TRUNC(C2052*I2052,1)","v":0},0,{"$f":"TRUNC(C2052*K2052,1)","v":0},"   관  급  "]
["잡재료비","노무비의",5,"%",867477,43373.8,{"$f":"SUM($J$2053:$J$2056)","v":867477},{"$f":"TRUNC(C2057/100*G2057,1)","v":43373.8},0,{"$f":"TRUNC(C2057/100*I2057,1)","v":0},0,{"$f":"TRUNC(C2057/100*K2057,1)","v":0},"",null,null,null,null,null,null,null,null,null,null,null,null,null,null,null,null,null,null,null,null,null,null,null,null,null,null,null,null,null,null,null,null,null,null,null,null,null,null,null,null,null,null,null,null,null,null,null,null,null,null,null,null,null,null,null,null,null,null,null,null,null,null,null,null,null,null,null,null,null,null,null,null,null,null,null,null,null,null,null,null,null,null,null,null,null,null,null,null,null,null,null,null,null,null,null,null,null,null,null,null,null,null,null,"M8916006",""]
["보통인부","",2.5000000000000001E-2,"인",{"$f":"G2062+I2062+K2062","v":141096},{"$f":"H2062+J2062+L2062","v":3527.4},0,{"$f":"TRUNC(C2062*G2062,1)","v":0},{"$f":"노임단가!$K$8","v":141096},{"$f":"TRUNC(C2062*I2062,1)","v":3527.4},0,{"$f":"TRUNC(C2062*K2062,1)","v":0},"",null,null,null,null,null,null,null,null,null,null,null,null,null,null,null,null,null,null,null,null,null,null,null,null,null,null,null,null,null,null,null,null,null,null,null,null,null,null,null,null,null,null,null,null,null,null,null,null,null,null,null,null,null,null,null,null,null,null,null,null,null,null,null,null,null,null,null,null,null,null,null,null,null,null,null,null,null,null,null,null,null,null,null,null,null,null,null,null,null,null,null,null,null,null,null,null,null,null,null,null,null,null,null,"%RAN*ME","1..4"]
["             계             ",null,null,null,null,{"$f":"H2063+J2063+L2063","v":8215},null,{"$f":"ROUNDDOWN(SUM(H2061:H2062),0)","v":190},null,{"$f":"ROUNDDOWN(SUM(J2061:J2062),0)","v":7957},null,{"$f":"ROUNDDOWN(SUM(L2061:L2062),0)","v":68}]
["보통인부","",5.0000000000000001E-3,"인",{"$f":"G2067+I2067+K2067","v":141096},{"$f":"H2067+J2067+L2067","v":705.4},0,{"$f":"TRUNC(C2067*G2067,1)","v":0},{"$f":"노임단가!$K$8","v":141096},{"$f":"TRUNC(C2067*I2067,1)","v":705.4},0,{"$f":"TRUNC(C2067*K2067,1)","v":0},"",null,null,null,null,null,null,null,null,null,null,null,null,null,null,null,null,null,null,null,null,null,null,null,null,null,null,null,null,null,null,null,null,null,null,null,null,null,null,null,null,null,null,null,null,null,null,null,null,null,null,null,null,null,null,null,null,null,null,null,null,null,null,null,null,null,null,null,null,null,null,null,null,null,null,null,null,null,null,null,null,null,null,null,null,null,null,null,null,null,null,null,null,null,null,null,null,null,null,null,null,null,null,null,"M4092005",""]
["보통인부","",2.5000000000000001E-2,"인",{"$f":"G2072+I2072+K2072","v":141096},{"$f":"H2072+J2072+L2072","v":3527.4},0,{"$f":"TRUNC(C2072*G2072,1)","v":0},{"$f":"노임단가!$K$8","v":141096},{"$f":"TRUNC(C2072*I2072,1)","v":3527.4},0,{"$f":"TRUNC(C2072*K2072,1)","v":0},"",null,null,null,null,null,null,null,null,null,null,null,null,null,null,null,null,null,null,null,null,null,null,null,null,null,null,null,null,null,null,null,null,null,null,null,null,null,null,null,null,null,null,null,null,null,null,null,null,null,null,null,null,null,null,null,null,null,null,null,null,null,null,null,null,null,null,null,null,null,null,null,null,null,null,null,null,null,null,null,null,null,null,null,null,null,null,null,null,null,null,null,null,null,null,null,null,null,null,null,null,null,null,null,"%RAN*LM","5"]
["보통인부","",5.0000000000000001E-3,"인",{"$f":"G2077+I2077+K2077","v":141096},{"$f":"H2077+J2077+L2077","v":705.4},0,{"$f":"TRUNC(C2077*G2077,1)","v":0},{"$f":"노임단가!$K$8","v":141096},{"$f":"TRUNC(C2077*I2077,1)","v":705.4},0,{"$f":"TRUNC(C2077*K2077,1)","v":0},"",null,null,null,null,null,null,null,null,null,null,null,null,null,null,null,null,null,null,null,null,null,null,null,null,null,null,null,null,null,null,null,null,null,null,null,null,null,null,null,null,null,null,null,null,null,null,null,null,null,null,null,null,null,null,null,null,null,null,null,null,null,null,null,null,null,null,null,null,null,null,null,null,null,null,null,null,null,null,null,null,null,null,null,null,null,null,null,null,null,null,null,null,null,null,null,null,null,null,null,null,null,null,null,"M4077021",""]
["             계             ",null,null,null,null,{"$f":"H2078+J2078+L2078","v":3761},null,{"$f":"ROUNDDOWN(SUM(H2076:H2077),0)","v":710},null,{"$f":"ROUNDDOWN(SUM(J2076:J2077),0)","v":2477},null,{"$f":"ROUNDDOWN(SUM(L2076:L2077),0)","v":574},null,null,null,null,null,null,null,null,null,null,null,null,null,null,null,null,null,null,null,null,null,null,null,null,null,null,null,null,null,null,null,null,null,null,null,null,null,null,null,null,null,null,null,null,null,null,null,null,null,null,null,null,null,null,null,null,null,null,null,null,null,null,null,null,null,null,null,null,null,null,null,null,null,null,null,null,null,null,null,null,null,null,null,null,null,null,null,null,null,null,null,null,null,null,null,null,null,null,null,null,null,null,null,null,"M4092005",""]
["도 장 공","",0.02,"인",213676,4273.5,0,{"$f":"TRUNC(C2083*G2083,1)","v":0},{"$f":"노임단가!$K$12","v":213676},{"$f":"TRUNC(C2083*I2083,1)","v":4273.5},0,{"$f":"TRUNC(C2083*K2083,1)","v":0},""]
["제02220호표 ：페인트칠[조합,붓칠] (목재면[2회]) ㎡ 당",null,null,null,null,null,null,null,null,null,null,null,null,null,null,null,null,null,null,null,null,null,null,null,null,null,null,null,null,null,null,null,null,null,null,null,null,null,null,null,null,null,null,null,null,null,null,null,null,null,null,null,null,null,null,null,null,null,null,null,null,null,null,null,null,null,null,null,null,null,null,null,null,null,null,null,null,null,null,null,null,null,null,null,null,null,null,null,null,null,null,null,null,null,null,null,null,null,null,null,null,null,null,null,null,null,null,null,null,null,null,null,null,null,null,null,"W1029",""]
["퍼티","코레돔 MC-319",0.03,"ℓ",3090,92.7,{"$f":"자재단가!$R$48","v":3090},{"$f":"TRUNC(C2092*G2092,1)","v":92.7},0,{"$f":"TRUNC(C2092*I2092,1)","v":0},0,{"$f":"TRUNC(C2092*K2092,1)","v":0},""]
["도 장 공","",4.1000000000000002E-2,"인",213676,8760.7000000000007,0,{"$f":"TRUNC(C2093*G2093,1)","v":0},{"$f":"노임단가!$K$12","v":213676},{"$f":"TRUNC(C2093*I2093,1)","v":8760.7000000000007},0,{"$f":"TRUNC(C2093*K2093,1)","v":0},"",null,null,null,null,null,null,null,null,null,null,null,null,null,null,null,null,null,null,null,null,null,null,null,null,null,null,null,null,null,null,null,null,null,null,null,null,null,null,null,null,null,null,null,null,null,null,null,null,null,null,null,null,null,null,null,null,null,null,null,null,null,null,null,null,null,null,null,null,null,null,null,null,null,null,null,null,null,null,null,null,null,null,null,null,null,null,null,null,null,null,null,null,null,null,null,null,null,null,null,null,null,null,null,":B0210"]
["제02230호표 ：페인트칠[조합,붓칠] (목재면[3회]) ㎡ 당",null,null,null,null,null,null,null,null,null,null,null,null,null,null,null,null,null,null,null,null,null,null,null,null,null,null,null,null,null,null,null,null,null,null,null,null,null,null,null,null,null,null,null,null,null,null,null,null,null,null,null,null,null,null,null,null,null,null,null,null,null,null,null,null,null,null,null,null,null,null,null,null,null,null,null,null,null,null,null,null,null,null,null,null,null,null,null,null,null,null,null,null,null,null,null,null,null,null,null,null,null,null,null,null,null,null,null,null,null,null,null,null,null,null,null,"W1003",""]
["도 장 공","",6.0999999999999999E-2,"인",213676,13034.2,0,{"$f":"TRUNC(C2103*G2103,1)","v":0},{"$f":"노임단가!$K$12","v":213676},{"$f":"TRUNC(C2103*I2103,1)","v":13034.2},0,{"$f":"TRUNC(C2103*K2103,1)","v":0},"",null,null,null,null,null,null,null,null,null,null,null,null,null,null,null,null,null,null,null,null,null,null,null,null,null,null,null,null,null,null,null,null,null,null,null,null,null,null,null,null,null,null,null,null,null,null,null,null,null,null,null,null,null,null,null,null,null,null,null,null,null,null,null,null,null,null,null,null,null,null,null,null,null,null,null,null,null,null,null,null,null,null,null,null,null,null,null,null,null,null,null,null,null,null,null,null,null,null,null,null,null,null,null,"W1015",""]
["제02240호표 ：페인트칠[조합,붓칠] (철재면[2회]) ㎡ 당"]
["퍼티","코레돔 MC-319",0.08,"ℓ",3090,247.2,{"$f":"자재단가!$R$48","v":3090},247.2,0,0,0,0,"",null,null,null,null,null,null,null,null,null,null,null,null,null,null,null,null,null,null,null,null,null,null,null,null,null,null,null,null,null,null,null,null,null,null,null,null,null,null,null,null,null,null,null,null,null,null,null,null,null,null,null,null,null,null,null,null,null,null,null,null,null,null,null,null,null,null,null,null,null,null,null,null,null,null,null,null,null,null,null,null,null,null,null,null,null,null,null,null,null,null,null,null,null,null,null,null,null,null,null,null,null,null,null,"W1003",""]
["도 장 공","",0.04,"인",213676,8547,0,0,{"$f":"노임단가!K12","v":213676},8547,0,0,""]
[null,null,null,null,null,null,null,null,null,null,null,null,null,null,null,null,null,null,null,null,null,null,null,null,null,null,null,null,null,null,null,null,null,null,null,null,null,null,null,null,null,null,null,null,null,null,null,null,null,null,null,null,null,null,null,null,null,null,null,null,null,null,null,null,null,null,null,null,null,null,null,null,null,null,null,null,null,null,null,null,null,null,null,null,null,null,null,null,null,null,null,null,null,null,null,null,null,null,null,null,null,null,null,null,null,null,null,null,null,null,null,null,null,null,null,null,"D5210-0025",""]
["퍼티","코레돔 MC-319",0.06,"ℓ",3090,185.4,{"$f":"자재단가!$R$48","v":3090},185.4,0,0,0,0,"",null,null,null,null,null,null,null,null,null,null,null,null,null,null,null,null,null,null,null,null,null,null,null,null,null,null,null,null,null,null,null,null,null,null,null,null,null,null,null,null,null,null,null,null,null,null,null,null,null,null,null,null,null,null,null,null,null,null,null,null,null,null,null,null,null,null,null,null,null,null,null,null,null,null,null,null,null,null,null,null,null,null,null,null,null,null,null,null,null,null,null,null,null,null,null,null,null,null,null,null,null,null,null,":B0139"]
["도 장 공","",4.8000000000000001E-2,"인",213676,10256.4,0,0,{"$f":"노임단가!$K$12","v":213676},10256.4,0,0,"",null,null,null,null,null,null,null,null,null,null,null,null,null,null,null,null,null,null,null,null,null,null,null,null,null,null,null,null,null,null,null,null,null,null,null,null,null,null,null,null,null,null,null,null,null,null,null,null,null,null,null,null,null,null,null,null,null,null,null,null,null,null,null,null,null,null,null,null,null,null,null,null,null,null,null,null,null,null,null,null,null,null,null,null,null,null,null,null,null,null,null,null,null,null,null,null,null,null,null,null,null,null,null,"M0717051",""]
[null,null,null,null,null,null,null,null,null,null,null,null,null,null,null,null,null,null,null,null,null,null,null,null,null,null,null,null,null,null,null,null,null,null,null,null,null,null,null,null,null,null,null,null,null,null,null,null,null,null,null,null,null,null,null,null,null,null,null,null,null,null,null,null,null,null,null,null,null,null,null,null,null,null,null,null,null,null,null,null,null,null,null,null,null,null,null,null,null,null,null,null,null,null,null,null,null,null,null,null,null,null,null,null,null,null,null,null,null,null,null,null,null,null,null,null,":BB00-0390"]
["연마지","연질용#180-#240",0.5,"매",200,100,{"$f":"자재단가!$R$90","v":200},100,0,0,0,0,"",null,null,null,null,null,null,null,null,null,null,null,null,null,null,null,null,null,null,null,null,null,null,null,null,null,null,null,null,null,null,null,null,null,null,null,null,null,null,null,null,null,null,null,null,null,null,null,null,null,null,null,null,null,null,null,null,null,null,null,null,null,null,null,null,null,null,null,null,null,null,null,null,null,null,null,null,null,null,null,null,null,null,null,null,null,null,null,null,null,null,null,null,null,null,null,null,null,null,null,null,null,null,null,"W1002",""]
["잡재료비","자재비의%",5,"%",1333.1000000000001,66.599999999999994,0,{"$f":"TRUNC(C2138/100*G2138,1)","v":0},0,{"$f":"TRUNC(C2138/100*I2138,1)","v":0},{"$f":"SUM($H$2131:$H$2134)","v":1333.1000000000001},{"$f":"TRUNC(C2138/100*K2138,1)","v":66.599999999999994},"",null,null,null,null,null,null,null,null,null,null,null,null,null,null,null,null,null,null,null,null,null,null,null,null,null,null,null,null,null,null,null,null,null,null,null,null,null,null,null,null,null,null,null,null,null,null,null,null,null,null,null,null,null,null,null,null,null,null,null,null,null,null,null,null,null,null,null,null,null,null,null,null,null,null,null,null,null,null,null,null,null,null,null,null,null,null,null,null,null,null,null,null,null,null,null,null,null,null,null,null,null,null,null,"M8922017",""]
["             계             ",null,null,null,null,{"$f":"H2139+J2139+L2139","v":18509},null,{"$f":"ROUNDDOWN(SUM(H2131:H2138),0)","v":1366},null,{"$f":"ROUNDDOWN(SUM(J2131:J2138),0)","v":17077},null,{"$f":"ROUNDDOWN(SUM(L2131:L2138),0)","v":66},null,null,null,null,null,null,null,null,null,null,null,null,null,null,null,null,null,null,null,null,null,null,null,null,null,null,null,null,null,null,null,null,null,null,null,null,null,null,null,null,null,null,null,null,null,null,null,null,null,null,null,null,null,null,null,null,null,null,null,null,null,null,null,null,null,null,null,null,null,null,null,null,null,null,null,null,null,null,null,null,null,null,null,null,null,null,null,null,null,null,null,null,null,null,null,null,null,null,null,null,null,null,null,null,"MA0004-1",""]
["도 장 공","",0.03,"인",213676,6410.2,0,{"$f":"TRUNC(C2144*G2144,1)","v":0},{"$f":"노임단가!$K$12","v":213676},{"$f":"TRUNC(C2144*I2144,1)","v":6410.2},0,{"$f":"TRUNC(C2144*K2144,1)","v":0},"",null,null,null,null,null,null,null,null,null,null,null,null,null,null,null,null,null,null,null,null,null,null,null,null,null,null,null,null,null,null,null,null,null,null,null,null,null,null,null,null,null,null,null,null,null,null,null,null,null,null,null,null,null,null,null,null,null,null,null,null,null,null,null,null,null,null,null,null,null,null,null,null,null,null,null,null,null,null,null,null,null,null,null,null,null,null,null,null,null,null,null,null,null,null,null,null,null,null,null,null,null,null,null,"S0148",""]
["제02280호표 ：페인트칠[녹막이] (녹막이1회) ㎡ 당",null,null,null,null,null,null,null,null,null,null,null,null,null,null,null,null,null,null,null,null,null,null,null,null,null,null,null,null,null,null,null,null,null,null,null,null,null,null,null,null,null,null,null,null,null,null,null,null,null,null,null,null,null,null,null,null,null,null,null,null,null,null,null,null,null,null,null,null,null,null,null,null,null,null,null,null,null,null,null,null,null,null,null,null,null,null,null,null,null,null,null,null,null,null,null,null,null,null,null,null,null,null,null,null,null,null,null,null,null,null,null,null,null,null,null,":B191"]
["보통인부","",3.0000000000000001E-3,"인",141096,423.2,0,{"$f":"TRUNC(C2154*G2154,1)","v":0},{"$f":"노임단가!K8","v":141096},{"$f":"TRUNC(C2154*I2154,1)","v":423.2},0,{"$f":"TRUNC(C2154*K2154,1)","v":0},""]
["기구손료","인건비의 2%",2,"%",423.2,8.4,{"$f":"$J$2154","v":423.2},{"$f":"TRUNC(C2155/100*G2155,1)","v":8.4},0,{"$f":"TRUNC(C2155/100*I2155,1)","v":0},0,{"$f":"TRUNC(C2155/100*K2155,1)","v":0},"",null,null,null,null,null,null,null,null,null,null,null,null,null,null,null,null,null,null,null,null,null,null,null,null,null,null,null,null,null,null,null,null,null,null,null,null,null,null,null,null,null,null,null,null,null,null,null,null,null,null,null,null,null,null,null,null,null,null,null,null,null,null,null,null,null,null,null,null,null,null,null,null,null,null,null,null,null,null,null,null,null,null,null,null,null,null,null,null,null,null,null,null,null,null,null,null,null,null,null,null,null,null,null,":BHI3300"]
["             계             ",null,null,null,null,{"$f":"H2160+J2160+L2160","v":17920},null,{"$f":"ROUNDDOWN(SUM(H2159:H2159),0)","v":0},null,{"$f":"ROUNDDOWN(SUM(J2159:J2159),0)","v":17920},null,{"$f":"ROUNDDOWN(SUM(L2159:L2159),0)","v":0},null,null,null,null,null,null,null,null,null,null,null,null,null,null,null,null,null,null,null,null,null,null,null,null,null,null,null,null,null,null,null,null,null,null,null,null,null,null,null,null,null,null,null,null,null,null,null,null,null,null,null,null,null,null,null,null,null,null,null,null,null,null,null,null,null,null,null,null,null,null,null,null,null,null,null,null,null,null,null,null,null,null,null,null,null,null,null,null,null,null,null,null,null,null,null,null,null,null,null,null,null,null,null,null,"D00S00012",""]
["잡재료비","인건비의 5%",5,"%",{"$f":"G2164+I2164+K2164","v":272388.5},{"$f":"H2164+J2164+L2164","v":13619.4},{"$f":"$J$2163","v":272388.5},{"$f":"TRUNC(C2164/100*G2164,1)","v":13619.4},0,{"$f":"TRUNC(C2164/100*I2164,1)","v":0},0,{"$f":"TRUNC(C2164/100*K2164,1)","v":0},"",null,null,null,null,null,null,null,null,null,null,null,null,null,null,null,null,null,null,null,null,null,null,null,null,null,null,null,null,null,null,null,null,null,null,null,null,null,null,null,null,null,null,null,null,null,null,null,null,null,null,null,null,null,null,null,null,null,null,null,null,null,null,null,null,null,null,null,null,null,null,null,null,null,null,null,null,null,null,null,null,null,null,null,null,null,null,null,null,null,null,null,null,null,null,null,null,null,null,null,null,null,null,null,"%CHO*TT","BHI3300"]
["보통인부","",0.16,"인",141096,22575.3,0,{"$f":"TRUNC(C2169*G2169,1)","v":0},{"$f":"노임단가!$K$8","v":141096},{"$f":"TRUNC(C2169*I2169,1)","v":22575.3},0,{"$f":"TRUNC(C2169*K2169,1)","v":0},""]
["소형브레이커(공압식)","(1.3 ㎥/min)",1.26,"시간",433,545.5,{"$f":"건설기계!$I$402","v":0},{"$f":"TRUNC(C2170*G2170,1)","v":0},{"$f":"건설기계!$K$402","v":0},{"$f":"TRUNC(C2170*I2170,1)","v":0},{"$f":"건설기계!$M$402","v":433},{"$f":"TRUNC(C2170*K2170,1)","v":545.5},""]
["제02320호표 ：포장깨기[콘크리트] (인력) ㎥ 당"]
["제02330호표 ：포장깨기[콘크리트] (소형브레이카+공기압축기) ㎥ 당",null,null,null,null,null,null,null,null,null,null,null,null,null,null,null,null,null,null,null,null,null,null,null,null,null,null,null,null,null,null,null,null,null,null,null,null,null,null,null,null,null,null,null,null,null,null,null,null,null,null,null,null,null,null,null,null,null,null,null,null,null,null,null,null,null,null,null,null,null,null,null,null,null,null,null,null,null,null,null,null,null,null,null,null,null,null,null,null,null,null,null,null,null,null,null,null,null,null,null,null,null,null,null,null,null,null,null,null,null,null,null,null,null,null,null,"%RAN*LE","1..2"]
["보통인부","",0.21,"인",141096,29630.1,0,{"$f":"TRUNC(C2182*G2182,1)","v":0},{"$f":"노임단가!$K$8","v":141096},{"$f":"TRUNC(C2182*I2182,1)","v":29630.1},0,{"$f":"TRUNC(C2182*K2182,1)","v":0},""]
["잡재료비","인력품의 1%",1,"%",114376.6,1143.7,{"$f":"SUM($J$2181:$J$2184)","v":114376.6},{"$f":"TRUNC(C2185/100*G2185,1)","v":1143.7},0,{"$f":"TRUNC(C2185/100*I2185,1)","v":0},0,{"$f":"TRUNC(C2185/100*K2185,1)","v":0},"",null,null,null,null,null,null,null,null,null,null,null,null,null,null,null,null,null,null,null,null,null,null,null,null,null,null,null,null,null,null,null,null,null,null,null,null,null,null,null,null,null,null,null,null,null,null,null,null,null,null,null,null,null,null,null,null,null,null,null,null,null,null,null,null,null,null,null,null,null,null,null,null,null,null,null,null,null,null,null,null,null,null,null,null,null,null,null,null,null,null,null,null,null,null,null,null,null,null,null,null,null,null,null,"BHI4100",""]
["보통인부","",0.4,"인",141096,56438.400000000001,0,{"$f":"TRUNC(C2190*G2190,1)","v":0},{"$f":"노임단가!$K$8","v":141096},{"$f":"TRUNC(C2190*I2190,1)","v":56438.400000000001},0,{"$f":"TRUNC(C2190*K2190,1)","v":0},"",null,null,null,null,null,null,null,null,null,null,null,null,null,null,null,null,null,null,null,null,null,null,null,null,null,null,null,null,null,null,null,null,null,null,null,null,null,null,null,null,null,null,null,null,null,null,null,null,null,null,null,null,null,null,null,null,null,null,null,null,null,null,null,null,null,null,null,null,null,null,null,null,null,null,null,null,null,null,null,null,null,null,null,null,null,null,null,null,null,null,null,null,null,null,null,null,null,null,null,null,null,null,null,"M5370017",""]
["커터(콘크리트 및 아스팔트용)","320~400 mm",1,"시간",{"$f":"G2195+I2195+K2195","v":40423},40423,{"$f":"건설기계!$I$378","v":10075},{"$f":"TRUNC(C2195*G2195,1)","v":10075},{"$f":"건설기계!$K$378","v":28571},{"$f":"TRUNC(C2195*I2195,1)","v":28571},{"$f":"건설기계!$M$378","v":1777},{"$f":"TRUNC(C2195*K2195,1)","v":1777},"",null,null,null,null,null,null,null,null,null,null,null,null,null,null,null,null,null,null,null,null,null,null,null,null,null,null,null,null,null,null,null,null,null,null,null,null,null,null,null,null,null,null,null,null,null,null,null,null,null,null,null,null,null,null,null,null,null,null,null,null,null,null,null,null,null,null,null,null,null,null,null,null,null,null,null,null,null,null,null,null,null,null,null,null,null,null,null,null,null,null,null,null,null,null,null,null,null,null,null,null,null,null,null,":BHI2100"]
["             계             ",null,null,null,null,{"$f":"H2200+J2200+L2200","v":89322},null,{"$f":"ROUNDDOWN(SUM(H2195:H2199),0)","v":16821},null,{"$f":"ROUNDDOWN(SUM(J2195:J2199),0)","v":68608},null,{"$f":"ROUNDDOWN(SUM(L2195:L2199),0)","v":3893},null,null,null,null,null,null,null,null,null,null,null,null,null,null,null,null,null,null,null,null,null,null,null,null,null,null,null,null,null,null,null,null,null,null,null,null,null,null,null,null,null,null,null,null,null,null,null,null,null,null,null,null,null,null,null,null,null,null,null,null,null,null,null,null,null,null,null,null,null,null,null,null,null,null,null,null,null,null,null,null,null,null,null,null,null,null,null,null,null,null,null,null,null,null,null,null,null,null,null,null,null,null,null,null,"D7204-0055",""]
[null,null,null,null,null,null,null,null,null,null,null,null,null,null,null,null,null,null,null,null,null,null,null,null,null,null,null,null,null,null,null,null,null,null,null,null,null,null,null,null,null,null,null,null,null,null,null,null,null,null,null,null,null,null,null,null,null,null,null,null,null,null,null,null,null,null,null,null,null,null,null,null,null,null,null,null,null,null,null,null,null,null,null,null,null,null,null,null,null,null,null,null,null,null,null,null,null,null,null,null,null,null,null,null,null,null,null,null,null,null,null,null,null,null,null,null,"MA0004",""]
[null,null,null,null,null,null,null,null,null,null,null,null,null,null,null,null,null,null,null,null,null,null,null,null,null,null,null,null,null,null,null,null,null,null,null,null,null,null,null,null,null,null,null,null,null,null,null,null,null,null,null,null,null,null,null,null,null,null,null,null,null,null,null,null,null,null,null,null,null,null,null,null,null,null,null,null,null,null,null,null,null,null,null,null,null,null,null,null,null,null,null,null,null,null,null,null,null,null,null,null,null,null,null,null,null,null,null,null,null,null,null,null,null,null,null,null,"W1003",""]
["ㅁ","",32,"㎏",5000,160000,{"$f":"자재단가!$R$113","v":5000},{"$f":"TRUNC(C2210*G2210,1)","v":160000},0,{"$f":"TRUNC(C2210*I2210,1)","v":0},0,{"$f":"TRUNC(C2210*K2210,1)","v":0},"",null,null,null,null,null,null,null,null,null,null,null,null,null,null,null,null,null,null,null,null,null,null,null,null,null,null,null,null,null,null,null,null,null,null,null,null,null,null,null,null,null,null,null,null,null,null,null,null,null,null,null,null,null,null,null,null,null,null,null,null,null,null,null,null,null,null,null,null,null,null,null,null,null,null,null,null,null,null,null,null,null,null,null,null,null,null,null,null,null,null,null,null,null,null,null,null,null,null,null,null,null,null,null,"D7204-0055",""]
["공사실명제표지판(S/T)","10*15Cm(S/T)",1,"개",{"$f":"G2215+I2215+K2215","v":6000},6000,null,{"$f":"TRUNC(C2215*G2215,1)","v":0},{"$f":"견적및기타!$L$21","v":0},{"$f":"TRUNC(C2215*I2215,1)","v":0},{"$f":"견적및기타!$K$21","v":6000},{"$f":"TRUNC(C2215*K2215,1)","v":6000},"",null,null,null,null,null,null,null,null,null,null,null,null,null,null,null,null,null,null,null,null,null,null,null,null,null,null,null,null,null,null,null,null,null,null,null,null,null,null,null,null,null,null,null,null,null,null,null,null,null,null,null,null,null,null,null,null,null,null,null,null,null,null,null,null,null,null,null,null,null,null,null,null,null,null,null,null,null,null,null,null,null,null,null,null,null,null,null,null,null,null,null,null,null,null,null,null,null,null,null,null,null,null,null,"W1003",""]
["보통인부","설치",0.08,"인",141096,11287.6,0,{"$f":"TRUNC(C2216*G2216,1)","v":0},null,{"$f":"TRUNC(C2216*I2216,1)","v":0},{"$f":"노임단가!$K$8","v":141096},{"$f":"TRUNC(C2216*K2216,1)","v":11287.6},""]
["특별인부","",2,"인",{"$f":"G2221+I2221+K2221","v":179203},358406,0,{"$f":"TRUNC(C2221*G2221,1)","v":0},{"$f":"노임단가!$K$7","v":179203},{"$f":"TRUNC(C2221*I2221,1)","v":358406},0,{"$f":"TRUNC(C2221*K2221,1)","v":0},""]
[null,null,null,null,null,null,null,null,null,null,null,null,null,null,null,null,null,null,null,null,null,null,null,null,null,null,null,null,null,null,null,null,null,null,null,null,null,null,null,null,null,null,null,null,null,null,null,null,null,null,null,null,null,null,null,null,null,null,null,null,null,null,null,null,null,null,null,null,null,null,null,null,null,null,null,null,null,null,null,null,null,null,null,null,null,null,null,null,null,null,null,null,null,null,null,null,null,null,null,null,null,null,null,null,null,null,null,null,null,null,null,null,null,null,null,null,"MA0204",""]
["             계             ",null,null,null,null,{"$f":"H2229+J2229+L2229","v":1946},null,{"$f":"ROUNDDOWN(SUM(H2228:H2228),0)","v":43},null,{"$f":"ROUNDDOWN(SUM(J2228:J2228),0)","v":1397},null,{"$f":"ROUNDDOWN(SUM(L2228:L2228),0)","v":506},null,null,null,null,null,null,null,null,null,null,null,null,null,null,null,null,null,null,null,null,null,null,null,null,null,null,null,null,null,null,null,null,null,null,null,null,null,null,null,null,null,null,null,null,null,null,null,null,null,null,null,null,null,null,null,null,null,null,null,null,null,null,null,null,null,null,null,null,null,null,null,null,null,null,null,null,null,null,null,null,null,null,null,null,null,null,null,null,null,null,null,null,null,null,null,null,null,null,null,null,null,null,null,null,"D5205-0035",""]
["제02410호표 ：하수관내C.C.TV조사 (기존관[L=320m/일]) m 당"]
["PVC파이프(일반용VG2)","150mm x 4m",1,"본",{"$f":"G2236+I2236+K2236","v":42210},42210,{"$f":"자재단가!$R$88","v":42210},{"$f":"TRUNC(C2236*G2236,1)","v":42210},0,{"$f":"TRUNC(C2236*I2236,1)","v":0},0,{"$f":"TRUNC(C2236*K2236,1)","v":0},""]
["제02430호표 ：하수관연결[가정관] (Φ=150mm, L=1M) 개소 당",null,null,null,null,null,null,null,null,null,null,null,null,null,null,null,null,null,null,null,null,null,null,null,null,null,null,null,null,null,null,null,null,null,null,null,null,null,null,null,null,null,null,null,null,null,null,null,null,null,null,null,null,null,null,null,null,null,null,null,null,null,null,null,null,null,null,null,null,null,null,null,null,null,null,null,null,null,null,null,null,null,null,null,null,null,null,null,null,null,null,null,null,null,null,null,null,null,null,null,null,null,null,null,null,null,null,null,null,null,null,null,null,null,null,null,"MA0206",""]
[null,null,null,null,null,null,null,null,null,null,null,null,null,null,null,null,null,null,null,null,null,null,null,null,null,null,null,null,null,null,null,null,null,null,null,null,null,null,null,null,null,null,null,null,null,null,null,null,null,null,null,null,null,null,null,null,null,null,null,null,null,null,null,null,null,null,null,null,null,null,null,null,null,null,null,null,null,null,null,null,null,null,null,null,null,null,null,null,null,null,null,null,null,null,null,null,null,null,null,null,null,null,null,null,null,null,null,null,null,null,null,null,null,null,null,null,"%RAN*LE","1..2"]
["제02440호표 ：하수관연결[가정관] (Φ=150mm, L=2M) 개소 당"]
[]
["잡품","노무비의",5,"%",17323,866.1,0,{"$f":"TRUNC(C2256/100*G2256,1)","v":0},0,{"$f":"TRUNC(C2256/100*I2256,1)","v":0},{"$f":"SUM($J$2254:$J$2255)","v":17323},{"$f":"TRUNC(C2256/100*K2256,1)","v":866.1},"",null,null,null,null,null,null,null,null,null,null,null,null,null,null,null,null,null,null,null,null,null,null,null,null,null,null,null,null,null,null,null,null,null,null,null,null,null,null,null,null,null,null,null,null,null,null,null,null,null,null,null,null,null,null,null,null,null,null,null,null,null,null,null,null,null,null,null,null,null,null,null,null,null,null,null,null,null,null,null,null,null,null,null,null,null,null,null,null,null,null,null,null,null,null,null,null,null,null,null,null,null,null,null,"W1002",""]
["보통인부","",0.25,"인",141096,35274,0,0,{"$f":"노임단가!$K$8","v":141096},35274,0,0,"",null,null,null,null,null,null,null,null,null,null,null,null,null,null,null,null,null,null,null,null,null,null,null,null,null,null,null,null,null,null,null,null,null,null,null,null,null,null,null,null,null,null,null,null,null,null,null,null,null,null,null,null,null,null,null,null,null,null,null,null,null,null,null,null,null,null,null,null,null,null,null,null,null,null,null,null,null,null,null,null,null,null,null,null,null,null,null,null,null,null,null,null,null,null,null,null,null,null,null,null,null,null,null,"D5205-0035",""]
["수밀시험기","D=300",1,"개소",59900,59900,{"$f":"H2285","v":59900},59900,0,0,0,0,"",null,null,null,null,null,null,null,null,null,null,null,null,null,null,null,null,null,null,null,null,null,null,null,null,null,null,null,null,null,null,null,null,null,null,null,null,null,null,null,null,null,null,null,null,null,null,null,null,null,null,null,null,null,null,null,null,null,null,null,null,null,null,null,null,null,null,null,null,null,null,null,null,null,null,null,null,null,null,null,null,null,null,null,null,null,null,null,null,null,null,null,null,null,null,null,null,null,null,null,null,null,null,null,"%RAN*LE","1..2"]
["기구손료","노무비의",5,"%",122073,6103.6,{"$f":"(H2262+H2263+H2265)","v":122073},{"$f":"TRUNC(C2267/100*G2267,1)","v":6103.6},0,{"$f":"TRUNC(C2267/100*I2267,1)","v":0},null,{"$f":"TRUNC(C2267/100*K2267,1)","v":0},""]
["공기호스","(수밀시험용)",2,"EA",24000,48000,{"$f":"자재단가!R170","v":24000},48000,null,{"$f":"TRUNC(C2272*I2272,1)","v":0},null,{"$f":"TRUNC(C2272*K2272,1)","v":0},"",null,null,null,null,null,null,null,null,null,null,null,null,null,null,null,null,null,null,null,null,null,null,null,null,null,null,null,null,null,null,null,null,null,null,null,null,null,null,null,null,null,null,null,null,null,null,null,null,null,null,null,null,null,null,null,null,null,null,null,null,null,null,null,null,null,null,null,null,null,null,null,null,null,null,null,null,null,null,null,null,null,null,null,null,null,null,null,null,null,null,null,null,null,null,null,null,null,null,null,null,null,null,null,"%RAN*LM","2..4"]
["수직시험관","(수밀시험용)",1,"EA",60000,60000,{"$f":"자재단가!R172","v":60000},60000,null,{"$f":"TRUNC(C2274*I2274,1)","v":0},null,{"$f":"TRUNC(C2274*K2274,1)","v":0},""]
[null,null,null,null,null,null,null,null,null,null,null,null,null,null,null,null,null,null,null,null,null,null,null,null,null,null,null,null,null,null,null,null,null,null,null,null,null,null,null,null,null,null,null,null,null,null,null,null,null,null,null,null,null,null,null,null,null,null,null,null,null,null,null,null,null,null,null,null,null,null,null,null,null,null,null,null,null,null,null,null,null,null,null,null,null,null,null,null,null,null,null,null,null,null,null,null,null,null,null,null,null,null,null,null,null,null,null,null,null,null,null,null,null,null,null,null,"W1002",""]
["제02463호표 ：수밀시험기기 D=300mm (1SET/10개소) 개소 당",null,null,null,null,null,null,null,null,null,null,null,null,null,null,null,null,null,null,null,null,null,null,null,null,null,null,null,null,null,null,null,null,null,null,null,null,null,null,null,null,null,null,null,null,null,null,null,null,null,null,null,null,null,null,null,null,null,null,null,null,null,null,null,null,null,null,null,null,null,null,null,null,null,null,null,null,null,null,null,null,null,null,null,null,null,null,null,null,null,null,null,null,null,null,null,null,null,null,null,null,null,null,null,null,null,null,null,null,null,null,null,null,null,null,null,"W1003",""]
["제02471호표 ：수밀시험기기 D=450mm (1SET/10개소) 개소 당"]
["제02480호표 ：하수관수밀시험 (D=600mm 이하[60m기준]) 개소 당",null,null,null,null,null,null,null,null,null,null,null,null,null,null,null,null,null,null,null,null,null,null,null,null,null,null,null,null,null,null,null,null,null,null,null,null,null,null,null,null,null,null,null,null,null,null,null,null,null,null,null,null,null,null,null,null,null,null,null,null,null,null,null,null,null,null,null,null,null,null,null,null,null,null,null,null,null,null,null,null,null,null,null,null,null,null,null,null,null,null,null,null,null,null,null,null,null,null,null,null,null,null,null,null,null,null,null,null,null,null,null,null,null,null,null,"M0054",""]
["배 관 공(수도)","",0.66,"인",{"$f":"G2293+I2293+K2293","v":205381},135551.4,0,{"$f":"TRUNC(C2293*G2293,1)","v":0},{"$f":"노임단가!$K$23","v":205381},{"$f":"TRUNC(C2293*I2293,1)","v":135551.4},0,{"$f":"TRUNC(C2293*K2293,1)","v":0},"",null,null,null,null,null,null,null,null,null,null,null,null,null,null,null,null,null,null,null,null,null,null,null,null,null,null,null,null,null,null,null,null,null,null,null,null,null,null,null,null,null,null,null,null,null,null,null,null,null,null,null,null,null,null,null,null,null,null,null,null,null,null,null,null,null,null,null,null,null,null,null,null,null,null,null,null,null,null,null,null,null,null,null,null,null,null,null,null,null,null,null,null,null,null,null,null,null,null,null,null,null,null,null,"B0343",""]
["물","",17,"Ton",1470,24990,{"$f":"자재단가!$R$96","v":1470},24990,0,0,0,0,"",null,null,null,null,null,null,null,null,null,null,null,null,null,null,null,null,null,null,null,null,null,null,null,null,null,null,null,null,null,null,null,null,null,null,null,null,null,null,null,null,null,null,null,null,null,null,null,null,null,null,null,null,null,null,null,null,null,null,null,null,null,null,null,null,null,null,null,null,null,null,null,null,null,null,null,null,null,null,null,null,null,null,null,null,null,null,null,null,null,null,null,null,null,null,null,null,null,null,null,null,null,null,null,"BFB3330",""]
["             계             ",null,null,null,null,{"$f":"H2301+J2301+L2301","v":703809},null,{"$f":"ROUNDDOWN(SUM(H2293:H2300),0)","v":319902},null,{"$f":"ROUNDDOWN(SUM(J2293:J2300),0)","v":354467},null,{"$f":"ROUNDDOWN(SUM(L2293:L2300),0)","v":29440}]
[]
["제02490호표 ：하수관수밀시험 (D=800mm 이하[60m기준]) 개소 당"]
["물탱크(살수차)"," 5500 ℓ",4,"시간",60893,243572,{"$f":"건설기계!$I$434","v":15761},63044,{"$f":"건설기계!$K$434","v":36224},144896,{"$f":"건설기계!$M$434","v":8908},35632,""]
[null,null,null,null,null,null,null,null,null,null,null,null,null,null,null,null,null,null,null,null,null,null,null,null,null,null,null,null,null,null,null,null,null,null,null,null,null,null,null,null,null,null,null,null,null,null,null,null,null,null,null,null,null,null,null,null,null,null,null,null,null,null,null,null,null,null,null,null,null,null,null,null,null,null,null,null,null,null,null,null,null,null,null,null,null,null,null,null,null,null,null,null,null,null,null,null,null,null,null,null,null,null,null,null,null,null,null,null,null,null,null,null,null,null,null,null,"W1050",""]
["제02500호표 ：하수관천공및접합 (D450mm,연결관200mm) 개소 당",null,null,null,null,null,null,null,null,null,null,null,null,null,null,null,null,null,null,null,null,null,null,null,null,null,null,null,null,null,null,null,null,null,null,null,null,null,null,null,null,null,null,null,null,null,null,null,null,null,null,null,null,null,null,null,null,null,null,null,null,null,null,null,null,null,null,null,null,null,null,null,null,null,null,null,null,null,null,null,null,null,null,null,null,null,null,null,null,null,null,null,null,null,null,null,null,null,null,null,null,null,null,null,null,null,null,null,null,null,null,null,null,null,null,null,"W1050",""]
["공구손료 및 소모재료","인력품의",5,"%",17323.8,866.1,{"$f":"SUM($J$2324:$J$2325)","v":17323.8},{"$f":"TRUNC(C2326/100*G2326,1)","v":866.1},0,{"$f":"TRUNC(C2326/100*I2326,1)","v":0},0,{"$f":"TRUNC(C2326/100*K2326,1)","v":0},""]
[null,null,null,null,null,null,null,null,null,null,null,null,null,null,null,null,null,null,null,null,null,null,null,null,null,null,null,null,null,null,null,null,null,null,null,null,null,null,null,null,null,null,null,null,null,null,null,null,null,null,null,null,null,null,null,null,null,null,null,null,null,null,null,null,null,null,null,null,null,null,null,null,null,null,null,null,null,null,null,null,null,null,null,null,null,null,null,null,null,null,null,null,null,null,null,null,null,null,null,null,null,null,null,null,null,null,null,null,null,null,null,null,null,null,null,null,"W1002",""]
["             계             ",null,null,null,null,{"$f":"H2333+J2333+L2333","v":36379},null,{"$f":"ROUNDDOWN(SUM(H2330:H2332),0)","v":1732},null,{"$f":"ROUNDDOWN(SUM(J2330:J2332),0)","v":34647},null,{"$f":"ROUNDDOWN(SUM(L2330:L2332),0)","v":0},null,null,null,null,null,null,null,null,null,null,null,null,null,null,null,null,null,null,null,null,null,null,null,null,null,null,null,null,null,null,null,null,null,null,null,null,null,null,null,null,null,null,null,null,null,null,null,null,null,null,null,null,null,null,null,null,null,null,null,null,null,null,null,null,null,null,null,null,null,null,null,null,null,null,null,null,null,null,null,null,null,null,null,null,null,null,null,null,null,null,null,null,null,null,null,null,null,null,null,null,null,null,null,null,":BHJ2210"]
["공구손료 및 소모재료","인력품의",5,"%",34647.699999999997,1732.3,{"$f":"SUM($J$2336:$J$2337)","v":34647.699999999997},{"$f":"TRUNC(C2338/100*G2338,1)","v":1732.3},0,{"$f":"TRUNC(C2338/100*I2338,1)","v":0},0,{"$f":"TRUNC(C2338/100*K2338,1)","v":0},"",null,null,null,null,null,null,null,null,null,null,null,null,null,null,null,null,null,null,null,null,null,null,null,null,null,null,null,null,null,null,null,null,null,null,null,null,null,null,null,null,null,null,null,null,null,null,null,null,null,null,null,null,null,null,null,null,null,null,null,null,null,null,null,null,null,null,null,null,null,null,null,null,null,null,null,null,null,null,null,null,null,null,null,null,null,null,null,null,null,null,null,null,null,null,null,null,null,null,null,null,null,null,null,"BHI2231",""]
["             계             ",null,null,null,null,{"$f":"H2339+J2339+L2339","v":36379},null,{"$f":"ROUNDDOWN(SUM(H2336:H2338),0)","v":1732},null,{"$f":"ROUNDDOWN(SUM(J2336:J2338),0)","v":34647},null,{"$f":"ROUNDDOWN(SUM(L2336:L2338),0)","v":0}]
["공구손료 및 소모재료","인력품의",5,"%",38112.400000000001,1905.6,{"$f":"SUM($J$2342:$J$2343)","v":38112.400000000001},{"$f":"TRUNC(C2344/100*G2344,1)","v":1905.6},0,{"$f":"TRUNC(C2344/100*I2344,1)","v":0},0,{"$f":"TRUNC(C2344/100*K2344,1)","v":0},""]
["배 관 공(수도)","",0.11,"인",{"$f":"G2348+I2348+K2348","v":205381},22591.9,0,{"$f":"TRUNC(C2348*G2348,1)","v":0},{"$f":"노임단가!$K$23","v":205381},{"$f":"TRUNC(C2348*I2348,1)","v":22591.9},0,{"$f":"TRUNC(C2348*K2348,1)","v":0},""]
["제02550호표 ：호안블럭붙임 (400*400*120) ㎡ 당",null,null,null,null,null,null,null,null,null,null,null,null,null,null,null,null,null,null,null,null,null,null,null,null,null,null,null,null,null,null,null,null,null,null,null,null,null,null,null,null,null,null,null,null,null,null,null,null,null,null,null,null,null,null,null,null,null,null,null,null,null,null,null,null,null,null,null,null,null,null,null,null,null,null,null,null,null,null,null,null,null,null,null,null,null,null,null,null,null,null,null,null,null,null,null,null,null,null,null,null,null,null,null,null,null,null,null,null,null,null,null,null,null,null,null,":BHJ2260"]
["호안블럭","I형 400*400*120",1.05,"㎡",{"$f":"G2354+I2354+K2354","v":12800},13440,{"$f":"자재단가!$R$33","v":12800},{"$f":"TRUNC(C2354*G2354,1)","v":13440},0,{"$f":"TRUNC(C2354*I2354,1)","v":0},0,{"$f":"TRUNC(C2354*K2354,1)","v":0},"",null,null,null,null,null,null,null,null,null,null,null,null,null,null,null,null,null,null,null,null,null,null,null,null,null,null,null,null,null,null,null,null,null,null,null,null,null,null,null,null,null,null,null,null,null,null,null,null,null,null,null,null,null,null,null,null,null,null,null,null,null,null,null,null,null,null,null,null,null,null,null,null,null,null,null,null,null,null,null,null,null,null,null,null,null,null,null,null,null,null,null,null,null,null,null,null,null,null,null,null,null,null,null,"BHI2233",""]
["             계             ",null,null,null,null,{"$f":"H2359+J2359+L2359","v":41168},null,{"$f":"ROUNDDOWN(SUM(H2354:H2358),0)","v":15266},null,{"$f":"ROUNDDOWN(SUM(J2354:J2358),0)","v":25405},null,{"$f":"ROUNDDOWN(SUM(L2354:L2358),0)","v":497}]
["거푸집(합판4회)","보통",7.58,"㎡",40275,305284.40000000002,{"$f":"$H$182","v":11152},{"$f":"TRUNC(C2364*G2364,1)","v":84532.1},{"$f":"$J$182","v":29123},{"$f":"TRUNC(C2364*I2364,1)","v":220752.3},{"$f":"$L$182","v":0},{"$f":"TRUNC(C2364*K2364,1)","v":0},"제  21호표"]
["보통인부","",0.01,"인",{"$f":"G2369+I2369+K2369","v":141096},1410.9,0,{"$f":"TRUNC(C2369*G2369,1)","v":0},{"$f":"노임단가!$K$8","v":141096},{"$f":"TRUNC(C2369*I2369,1)","v":1410.9},0,{"$f":"TRUNC(C2369*K2369,1)","v":0},"",null,null,null,null,null,null,null,null,null,null,null,null,null,null,null,null,null,null,null,null,null,null,null,null,null,null,null,null,null,null,null,null,null,null,null,null,null,null,null,null,null,null,null,null,null,null,null,null,null,null,null,null,null,null,null,null,null,null,null,null,null,null,null,null,null,null,null,null,null,null,null,null,null,null,null,null,null,null,null,null,null,null,null,null,null,null,null,null,null,null,null,null,null,null,null,null,null,null,null,null,null,null,null,"D2105-0010",""]
["잡재료비","노무비의",6,"%",3464.7000000000003,207.8,{"$f":"SUM(J2369:J2370)","v":3464.7000000000003},{"$f":"TRUNC(C2371*G2371%,1)","v":207.8},null,{"$f":"TRUNC(C2371*I2371,1)","v":0},0,{"$f":"TRUNC(C2371*K2371,1)","v":0},"",null,null,null,null,null,null,null,null,null,null,null,null,null,null,null,null,null,null,null,null,null,null,null,null,null,null,null,null,null,null,null,null,null,null,null,null,null,null,null,null,null,null,null,null,null,null,null,null,null,null,null,null,null,null,null,null,null,null,null,null,null,null,null,null,null,null,null,null,null,null,null,null,null,null,null,null,null,null,null,null,null,null,null,null,null,null,null,null,null,null,null,null,null,null,null,null,null,null,null,null,null,null,null,"W1002",""]
["제02580호표 ：흄관절단 (D=450㎜) 개소 당"]
[null,null,null,null,null,null,null,null,null,null,null,null,null,null,null,null,null,null,null,null,null,null,null,null,null,null,null,null,null,null,null,null,null,null,null,null,null,null,null,null,null,null,null,null,null,null,null,null,null,null,null,null,null,null,null,null,null,null,null,null,null,null,null,null,null,null,null,null,null,null,null,null,null,null,null,null,null,null,null,null,null,null,null,null,null,null,null,null,null,null,null,null,null,null,null,null,null,null,null,null,null,null,null,null,null,null,null,null,null,null,null,null,null,null,null,null,"D2105-0010",""]
["             계             ",null,null,null,null,{"$f":"H2384+J2384+L2384","v":29381},null,{"$f":"ROUNDDOWN(SUM(H2381:H2383),0)","v":1663},null,{"$f":"ROUNDDOWN(SUM(J2381:J2382),0)","v":27718},null,{"$f":"ROUNDDOWN(SUM(L2381:L2382),0)","v":0}]
[null,null,null,null,null,null,null,null,null,null,null,null,null,null,null,null,null,null,null,null,null,null,null,null,null,null,null,null,null,null,null,null,null,null,null,null,null,null,null,null,null,null,null,null,null,null,null,null,null,null,null,null,null,null,null,null,null,null,null,null,null,null,null,null,null,null,null,null,null,null,null,null,null,null,null,null,null,null,null,null,null,null,null,null,null,null,null,null,null,null,null,null,null,null,null,null,null,null,null,null,null,null,null,null,null,null,null,null,null,null,null,null,null,null,null,null,":BHA4130"]
["             계             ",null,null,null,null,{"$f":"H2390+J2390+L2390","v":55089},null,{"$f":"ROUNDDOWN(SUM(H2387:H2389),0)","v":3118},null,{"$f":"ROUNDDOWN(SUM(J2387:J2388),0)","v":51971},null,{"$f":"ROUNDDOWN(SUM(L2387:L2388),0)","v":0},null,null,null,null,null,null,null,null,null,null,null,null,null,null,null,null,null,null,null,null,null,null,null,null,null,null,null,null,null,null,null,null,null,null,null,null,null,null,null,null,null,null,null,null,null,null,null,null,null,null,null,null,null,null,null,null,null,null,null,null,null,null,null,null,null,null,null,null,null,null,null,null,null,null,null,null,null,null,null,null,null,null,null,null,null,null,null,null,null,null,null,null,null,null,null,null,null,null,null,null,null,null,null,null,"W1039",""]
["보통인부","",0.19,"인",{"$f":"G2393+I2393+K2393","v":141096},26808.2,0,{"$f":"TRUNC(C2393*G2393,1)","v":0},{"$f":"노임단가!$K$8","v":141096},{"$f":"TRUNC(C2393*I2393,1)","v":26808.2},0,{"$f":"TRUNC(C2393*K2393,1)","v":0},""]
["기초지정및다짐","(모래)",0.09,"㎥",{"$f":"G2399+I2399+K2399","v":43697},{"$f":"H2399+J2399+L2399","v":3932.6},{"$f":"$H$328","v":36553},{"$f":"TRUNC(C2399*G2399,1)","v":3289.7},{"$f":"$J$328","v":6368},{"$f":"TRUNC(C2399*I2399,1)","v":573.1},{"$f":"$L$328","v":776},{"$f":"TRUNC(C2399*K2399,1)","v":69.8},"제  45호표",null,null,null,null,null,null,null,null,null,null,null,null,null,null,null,null,null,null,null,null,null,null,null,null,null,null,null,null,null,null,null,null,null,null,null,null,null,null,null,null,null,null,null,null,null,null,null,null,null,null,null,null,null,null,null,null,null,null,null,null,null,null,null,null,null,null,null,null,null,null,null,null,null,null,null,null,null,null,null,null,null,null,null,null,null,null,null,null,null,null,null,null,null,null,null,null,null,null,null,null,null,null,null,"D2105-0015",""]
["             계             ",null,null,null,null,{"$f":"H2400+J2400+L2400","v":3931},null,{"$f":"ROUNDDOWN(SUM(H2399:H2399),0)","v":3289},null,{"$f":"ROUNDDOWN(SUM(J2399:J2399),0)","v":573},null,{"$f":"ROUNDDOWN(SUM(L2399:L2399),0)","v":69},null,null,null,null,null,null,null,null,null,null,null,null,null,null,null,null,null,null,null,null,null,null,null,null,null,null,null,null,null,null,null,null,null,null,null,null,null,null,null,null,null,null,null,null,null,null,null,null,null,null,null,null,null,null,null,null,null,null,null,null,null,null,null,null,null,null,null,null,null,null,null,null,null,null,null,null,null,null,null,null,null,null,null,null,null,null,null,null,null,null,null,null,null,null,null,null,null,null,null,null,null,null,null,null,"W1039",""]
[null,null,null,null,null,null,null,null,null,null,null,null,null,null,null,null,null,null,null,null,null,null,null,null,null,null,null,null,null,null,null,null,null,null,null,null,null,null,null,null,null,null,null,null,null,null,null,null,null,null,null,null,null,null,null,null,null,null,null,null,null,null,null,null,null,null,null,null,null,null,null,null,null,null,null,null,null,null,null,null,null,null,null,null,null,null,null,null,null,null,null,null,null,null,null,null,null,null,null,null,null,null,null,null,null,null,null,null,null,null,null,null,null,null,null,null,":BHA4150"]
["제02650호표 ：흄관기초[모래360°기초] (ø300M/M) M 당",null,null,null,null,null,null,null,null,null,null,null,null,null,null,null,null,null,null,null,null,null,null,null,null,null,null,null,null,null,null,null,null,null,null,null,null,null,null,null,null,null,null,null,null,null,null,null,null,null,null,null,null,null,null,null,null,null,null,null,null,null,null,null,null,null,null,null,null,null,null,null,null,null,null,null,null,null,null,null,null,null,null,null,null,null,null,null,null,null,null,null,null,null,null,null,null,null,null,null,null,null,null,null,null,null,null,null,null,null,null,null,null,null,null,null,"W1039",""]
["기초지정및다짐","(자갈)",0.09,"㎥",{"$f":"G2415+I2415+K2415","v":43021},{"$f":"H2415+J2415+L2415","v":3871.8},{"$f":"$H$336","v":33736},{"$f":"TRUNC(C2415*G2415,1)","v":3036.2},{"$f":"$J$336","v":8326},{"$f":"TRUNC(C2415*I2415,1)","v":749.3},{"$f":"$L$336","v":959},{"$f":"TRUNC(C2415*K2415,1)","v":86.3},"제  46호표",null,null,null,null,null,null,null,null,null,null,null,null,null,null,null,null,null,null,null,null,null,null,null,null,null,null,null,null,null,null,null,null,null,null,null,null,null,null,null,null,null,null,null,null,null,null,null,null,null,null,null,null,null,null,null,null,null,null,null,null,null,null,null,null,null,null,null,null,null,null,null,null,null,null,null,null,null,null,null,null,null,null,null,null,null,null,null,null,null,null,null,null,null,null,null,null,null,null,null,null,null,null,null,":BHA3110"]
["             계             ",null,null,null,null,{"$f":"H2416+J2416+L2416","v":3871},null,{"$f":"ROUNDDOWN(SUM(H2415:H2415),0)","v":3036},null,{"$f":"ROUNDDOWN(SUM(J2415:J2415),0)","v":749},null,{"$f":"ROUNDDOWN(SUM(L2415:L2415),0)","v":86},null,null,null,null,null,null,null,null,null,null,null,null,null,null,null,null,null,null,null,null,null,null,null,null,null,null,null,null,null,null,null,null,null,null,null,null,null,null,null,null,null,null,null,null,null,null,null,null,null,null,null,null,null,null,null,null,null,null,null,null,null,null,null,null,null,null,null,null,null,null,null,null,null,null,null,null,null,null,null,null,null,null,null,null,null,null,null,null,null,null,null,null,null,null,null,null,null,null,null,null,null,null,null,null,"M1749009",""]
["             계             ",null,null,null,null,{"$f":"H2420+J2420+L2420","v":5505},null,{"$f":"ROUNDDOWN(SUM(H2419:H2419),0)","v":4318},null,{"$f":"ROUNDDOWN(SUM(J2419:J2419),0)","v":1065},null,{"$f":"ROUNDDOWN(SUM(L2419:L2419),0)","v":122},null,null,null,null,null,null,null,null,null,null,null,null,null,null,null,null,null,null,null,null,null,null,null,null,null,null,null,null,null,null,null,null,null,null,null,null,null,null,null,null,null,null,null,null,null,null,null,null,null,null,null,null,null,null,null,null,null,null,null,null,null,null,null,null,null,null,null,null,null,null,null,null,null,null,null,null,null,null,null,null,null,null,null,null,null,null,null,null,null,null,null,null,null,null,null,null,null,null,null,null,null,null,null,null,"W1002",""]
[]
["제02680호표 ：흄관기초[자갈120°기초] (ø300M/M) M 당"]
["기초지정및다짐","(자갈)",0.151,"㎥",{"$f":"G2423+I2423+K2423","v":43021},{"$f":"H2423+J2423+L2423","v":6496.1},{"$f":"$H$336","v":33736},{"$f":"TRUNC(C2423*G2423,1)","v":5094.1000000000004},{"$f":"$J$336","v":8326},{"$f":"TRUNC(C2423*I2423,1)","v":1257.2},{"$f":"$L$336","v":959},{"$f":"TRUNC(C2423*K2423,1)","v":144.80000000000001},"제  46호표"]
["             계             ",null,null,null,null,{"$f":"H2424+J2424+L2424","v":6495},null,{"$f":"ROUNDDOWN(SUM(H2423:H2423),0)","v":5094},null,{"$f":"ROUNDDOWN(SUM(J2423:J2423),0)","v":1257},null,{"$f":"ROUNDDOWN(SUM(L2423:L2423),0)","v":144},null,null,null,null,null,null,null,null,null,null,null,null,null,null,null,null,null,null,null,null,null,null,null,null,null,null,null,null,null,null,null,null,null,null,null,null,null,null,null,null,null,null,null,null,null,null,null,null,null,null,null,null,null,null,null,null,null,null,null,null,null,null,null,null,null,null,null,null,null,null,null,null,null,null,null,null,null,null,null,null,null,null,null,null,null,null,null,null,null,null,null,null,null,null,null,null,null,null,null,null,null,null,null,null,":BHA3130"]
[null,null,null,null,null,null,null,null,null,null,null,null,null,null,null,null,null,null,null,null,null,null,null,null,null,null,null,null,null,null,null,null,null,null,null,null,null,null,null,null,null,null,null,null,null,null,null,null,null,null,null,null,null,null,null,null,null,null,null,null,null,null,null,null,null,null,null,null,null,null,null,null,null,null,null,null,null,null,null,null,null,null,null,null,null,null,null,null,null,null,null,null,null,null,null,null,null,null,null,null,null,null,null,null,null,null,null,null,null,null,null,null,null,null,null,null,"M1749018",""]
["제02690호표 ：흄관기초[자갈360°기초] (ø300M/M) M 당",null,null,null,null,null,null,null,null,null,null,null,null,null,null,null,null,null,null,null,null,null,null,null,null,null,null,null,null,null,null,null,null,null,null,null,null,null,null,null,null,null,null,null,null,null,null,null,null,null,null,null,null,null,null,null,null,null,null,null,null,null,null,null,null,null,null,null,null,null,null,null,null,null,null,null,null,null,null,null,null,null,null,null,null,null,null,null,null,null,null,null,null,null,null,null,null,null,null,null,null,null,null,null,null,null,null,null,null,null,null,null,null,null,null,null,"SQE1132",""]
["기초지정및다짐","(자갈)",0.45300000000000001,"㎥",{"$f":"G2427+I2427+K2427","v":43021},{"$f":"H2427+J2427+L2427","v":19488.400000000001},{"$f":"$H$336","v":33736},{"$f":"TRUNC(C2427*G2427,1)","v":15282.4},{"$f":"$J$336","v":8326},{"$f":"TRUNC(C2427*I2427,1)","v":3771.6},{"$f":"$L$336","v":959},{"$f":"TRUNC(C2427*K2427,1)","v":434.4},"제  46호표",null,null,null,null,null,null,null,null,null,null,null,null,null,null,null,null,null,null,null,null,null,null,null,null,null,null,null,null,null,null,null,null,null,null,null,null,null,null,null,null,null,null,null,null,null,null,null,null,null,null,null,null,null,null,null,null,null,null,null,null,null,null,null,null,null,null,null,null,null,null,null,null,null,null,null,null,null,null,null,null,null,null,null,null,null,null,null,null,null,null,null,null,null,null,null,null,null,null,null,null,null,null,null,"D2105-0010",""]
["             계             ",null,null,null,null,{"$f":"H2428+J2428+L2428","v":19487},null,{"$f":"ROUNDDOWN(SUM(H2427:H2427),0)","v":15282},null,{"$f":"ROUNDDOWN(SUM(J2427:J2427),0)","v":3771},null,{"$f":"ROUNDDOWN(SUM(L2427:L2427),0)","v":434},null,null,null,null,null,null,null,null,null,null,null,null,null,null,null,null,null,null,null,null,null,null,null,null,null,null,null,null,null,null,null,null,null,null,null,null,null,null,null,null,null,null,null,null,null,null,null,null,null,null,null,null,null,null,null,null,null,null,null,null,null,null,null,null,null,null,null,null,null,null,null,null,null,null,null,null,null,null,null,null,null,null,null,null,null,null,null,null,null,null,null,null,null,null,null,null,null,null,null,null,null,null,null,null,"W1039",""]
[null,null,null,null,null,null,null,null,null,null,null,null,null,null,null,null,null,null,null,null,null,null,null,null,null,null,null,null,null,null,null,null,null,null,null,null,null,null,null,null,null,null,null,null,null,null,null,null,null,null,null,null,null,null,null,null,null,null,null,null,null,null,null,null,null,null,null,null,null,null,null,null,null,null,null,null,null,null,null,null,null,null,null,null,null,null,null,null,null,null,null,null,null,null,null,null,null,null,null,null,null,null,null,null,null,null,null,null,null,null,null,null,null,null,null,null,"W1002",""]
["제02700호표 ：흄관접합및부설[P.P수밀밴드접합] (ø400M/M 기계) m 당"]
["원심력철근콘크리트관","보통관 400*35(MM)",1,"M",{"$f":"G2431+I2431+K2431","v":20108},20108,{"$f":"자재단가!$R$24","v":20108},{"$f":"TRUNC(C2431*G2431,1)","v":20108},0,{"$f":"TRUNC(C2431*I2431,1)","v":0},0,{"$f":"TRUNC(C2431*K2431,1)","v":0},"   관  급  "]
["흄관하차","Φ 400",1,"M",598,598,{"$f":"단가산출!$CY$5365","v":"0"},0,{"$f":"단가산출!$CZ$5365","v":"0"},0,{"$f":"단가산출!$DA$5365","v":"598"},598,"산근 124호표"]
["PP수밀밴드(벨트)","ψ400㎜(흄관용)",0.4,"EA",20600,8240,{"$f":"자재단가!$R$136","v":20600},8240,0,0,0,0,"",null,null,null,null,null,null,null,null,null,null,null,null,null,null,null,null,null,null,null,null,null,null,null,null,null,null,null,null,null,null,null,null,null,null,null,null,null,null,null,null,null,null,null,null,null,null,null,null,null,null,null,null,null,null,null,null,null,null,null,null,null,null,null,null,null,null,null,null,null,null,null,null,null,null,null,null,null,null,null,null,null,null,null,null,null,null,null,null,null,null,null,null,null,null,null,null,null,null,null,null,null,null,null,":BHA3140"]
["트럭탑재형크레인","10 ton",0.12,"시간",72827,8739.1,{"$f":"건설기계!$I$294","v":16113},1933.5,{"$f":"건설기계!$K$294","v":36224},4346.8,{"$f":"건설기계!$M$294","v":20490},2458.8000000000002,"",null,null,null,null,null,null,null,null,null,null,null,null,null,null,null,null,null,null,null,null,null,null,null,null,null,null,null,null,null,null,null,null,null,null,null,null,null,null,null,null,null,null,null,null,null,null,null,null,null,null,null,null,null,null,null,null,null,null,null,null,null,null,null,null,null,null,null,null,null,null,null,null,null,null,null,null,null,null,null,null,null,null,null,null,null,null,null,null,null,null,null,null,null,null,null,null,null,null,null,null,null,null,null,"M1749024",""]
["배 관 공(수도)","",6.8000000000000005E-2,"인",205381,13965.9,0,0,{"$f":"노임단가!$K$23","v":205381},13965.9,0,0,"",null,null,null,null,null,null,null,null,null,null,null,null,null,null,null,null,null,null,null,null,null,null,null,null,null,null,null,null,null,null,null,null,null,null,null,null,null,null,null,null,null,null,null,null,null,null,null,null,null,null,null,null,null,null,null,null,null,null,null,null,null,null,null,null,null,null,null,null,null,null,null,null,null,null,null,null,null,null,null,null,null,null,null,null,null,null,null,null,null,null,null,null,null,null,null,null,null,null,null,null,null,null,null,"SQE1133",""]
["보통인부","",3.2000000000000001E-2,"인",141096,4515,0,0,{"$f":"노임단가!$K$8","v":141096},4515,0,0,"",null,null,null,null,null,null,null,null,null,null,null,null,null,null,null,null,null,null,null,null,null,null,null,null,null,null,null,null,null,null,null,null,null,null,null,null,null,null,null,null,null,null,null,null,null,null,null,null,null,null,null,null,null,null,null,null,null,null,null,null,null,null,null,null,null,null,null,null,null,null,null,null,null,null,null,null,null,null,null,null,null,null,null,null,null,null,null,null,null,null,null,null,null,null,null,null,null,null,null,null,null,null,null,"D2105-0010",""]
["공구손료 및 잡재료","인력품의",2,"%",18480.900000000001,369.6,{"$f":"SUM(J2435:J2436)","v":18480.900000000001},{"$f":"TRUNC(C2437*G2437%,1)","v":369.6},null,0,0,0,null,null,null,null,null,null,null,null,null,null,null,null,null,null,null,null,null,null,null,null,null,null,null,null,null,null,null,null,null,null,null,null,null,null,null,null,null,null,null,null,null,null,null,null,null,null,null,null,null,null,null,null,null,null,null,null,null,null,null,null,null,null,null,null,null,null,null,null,null,null,null,null,null,null,null,null,null,null,null,null,null,null,null,null,null,null,null,null,null,null,null,null,null,null,null,null,null,null,null,null,null,null,null,null,"W1039",""]
["             계             ",null,null,null,null,{"$f":"H2438+J2438+L2438","v":36426},null,{"$f":"ROUNDDOWN(SUM(H2431:H2437)-(H2431),0)","v":10543},null,{"$f":"ROUNDDOWN(SUM(J2431:J2437)-(J2431),0)","v":22827},null,{"$f":"ROUNDDOWN(SUM(L2431:L2437)-(L2431),0)","v":3056},null,null,null,null,null,null,null,null,null,null,null,null,null,null,null,null,null,null,null,null,null,null,null,null,null,null,null,null,null,null,null,null,null,null,null,null,null,null,null,null,null,null,null,null,null,null,null,null,null,null,null,null,null,null,null,null,null,null,null,null,null,null,null,null,null,null,null,null,null,null,null,null,null,null,null,null,null,null,null,null,null,null,null,null,null,null,null,null,null,null,null,null,null,null,null,null,null,null,null,null,null,null,null,null,"W1002",""]
[]
["제02710호표 ：흄관접합및부설[P.P수밀밴드접합] (ø600M/M 기계) m 당"]
["원심력철근콘크리트관","보통관 600*50(MM)",1,"M",{"$f":"G2441+I2441+K2441","v":38048},38048,{"$f":"자재단가!$R$26","v":38048},{"$f":"TRUNC(C2441*G2441,1)","v":38048},0,{"$f":"TRUNC(C2441*I2441,1)","v":0},0,{"$f":"TRUNC(C2441*K2441,1)","v":0},"   관  급  "]
["흄관하차","Φ 600",1,"M",1289,1289,{"$f":"단가산출!$CY$5403","v":"0"},0,{"$f":"단가산출!$CZ$5403","v":"0"},0,{"$f":"단가산출!$DA$5403","v":"1,289"},1289,"산근 126호표",null,null,null,null,null,null,null,null,null,null,null,null,null,null,null,null,null,null,null,null,null,null,null,null,null,null,null,null,null,null,null,null,null,null,null,null,null,null,null,null,null,null,null,null,null,null,null,null,null,null,null,null,null,null,null,null,null,null,null,null,null,null,null,null,null,null,null,null,null,null,null,null,null,null,null,null,null,null,null,null,null,null,null,null,null,null,null,null,null,null,null,null,null,null,null,null,null,null,null,null,null,null,null,":BHA3150"]
["PP수밀밴드(벨트)","ψ600㎜(흄관용)",0.4,"EA",26900,10760,{"$f":"자재단가!$R$137","v":26900},10760,0,0,0,0,"",null,null,null,null,null,null,null,null,null,null,null,null,null,null,null,null,null,null,null,null,null,null,null,null,null,null,null,null,null,null,null,null,null,null,null,null,null,null,null,null,null,null,null,null,null,null,null,null,null,null,null,null,null,null,null,null,null,null,null,null,null,null,null,null,null,null,null,null,null,null,null,null,null,null,null,null,null,null,null,null,null,null,null,null,null,null,null,null,null,null,null,null,null,null,null,null,null,null,null,null,null,null,null,"M1749030",""]
["트럭탑재형크레인","10 ton",0.17599999999999999,"시간",72827,12817.400000000001,{"$f":"건설기계!$I$294","v":16113},2835.8,{"$f":"건설기계!$K$294","v":36224},6375.4,{"$f":"건설기계!$M$294","v":20490},3606.2,"",null,null,null,null,null,null,null,null,null,null,null,null,null,null,null,null,null,null,null,null,null,null,null,null,null,null,null,null,null,null,null,null,null,null,null,null,null,null,null,null,null,null,null,null,null,null,null,null,null,null,null,null,null,null,null,null,null,null,null,null,null,null,null,null,null,null,null,null,null,null,null,null,null,null,null,null,null,null,null,null,null,null,null,null,null,null,null,null,null,null,null,null,null,null,null,null,null,null,null,null,null,null,null,"SQE1134",""]
["배 관 공(수도)","",0.13200000000000001,"인",205381,27110.2,0,0,{"$f":"노임단가!$K$23","v":205381},27110.2,0,0,"",null,null,null,null,null,null,null,null,null,null,null,null,null,null,null,null,null,null,null,null,null,null,null,null,null,null,null,null,null,null,null,null,null,null,null,null,null,null,null,null,null,null,null,null,null,null,null,null,null,null,null,null,null,null,null,null,null,null,null,null,null,null,null,null,null,null,null,null,null,null,null,null,null,null,null,null,null,null,null,null,null,null,null,null,null,null,null,null,null,null,null,null,null,null,null,null,null,null,null,null,null,null,null,"D2105-0010",""]
["보통인부","",6.4000000000000001E-2,"인",141096,9030.1,0,0,{"$f":"노임단가!$K$8","v":141096},9030.1,0,0,"",null,null,null,null,null,null,null,null,null,null,null,null,null,null,null,null,null,null,null,null,null,null,null,null,null,null,null,null,null,null,null,null,null,null,null,null,null,null,null,null,null,null,null,null,null,null,null,null,null,null,null,null,null,null,null,null,null,null,null,null,null,null,null,null,null,null,null,null,null,null,null,null,null,null,null,null,null,null,null,null,null,null,null,null,null,null,null,null,null,null,null,null,null,null,null,null,null,null,null,null,null,null,null,"W1039",""]
["공구손료 및 잡재료","인력품의",2,"%",36140.300000000003,722.8,{"$f":"SUM(J2445:J2446)","v":36140.300000000003},{"$f":"TRUNC(C2447*G2447%,1)","v":722.8},null,0,0,0,null,null,null,null,null,null,null,null,null,null,null,null,null,null,null,null,null,null,null,null,null,null,null,null,null,null,null,null,null,null,null,null,null,null,null,null,null,null,null,null,null,null,null,null,null,null,null,null,null,null,null,null,null,null,null,null,null,null,null,null,null,null,null,null,null,null,null,null,null,null,null,null,null,null,null,null,null,null,null,null,null,null,null,null,null,null,null,null,null,null,null,null,null,null,null,null,null,null,null,null,null,null,null,null,"W1002",""]
["             계             ",null,null,null,null,{"$f":"H2448+J2448+L2448","v":61728},null,{"$f":"ROUNDDOWN(SUM(H2441:H2447)-(H2441),0)","v":14318},null,{"$f":"ROUNDDOWN(SUM(J2441:J2447)-(J2441),0)","v":42515},null,{"$f":"ROUNDDOWN(SUM(L2441:L2447)-(L2441),0)","v":4895}]
[]
["제02720호표 ：흄관접합및부설[P.P수밀밴드접합] (ø800M/M 기계) m 당"]
["원심력철근콘크리트관","보통관 800*66(MM)",1,"M",{"$f":"G2451+I2451+K2451","v":63180},63180,{"$f":"자재단가!$R$27","v":63180},{"$f":"TRUNC(C2451*G2451,1)","v":63180},0,{"$f":"TRUNC(C2451*I2451,1)","v":0},0,{"$f":"TRUNC(C2451*K2451,1)","v":0},"   관  급  ",null,null,null,null,null,null,null,null,null,null,null,null,null,null,null,null,null,null,null,null,null,null,null,null,null,null,null,null,null,null,null,null,null,null,null,null,null,null,null,null,null,null,null,null,null,null,null,null,null,null,null,null,null,null,null,null,null,null,null,null,null,null,null,null,null,null,null,null,null,null,null,null,null,null,null,null,null,null,null,null,null,null,null,null,null,null,null,null,null,null,null,null,null,null,null,null,null,null,null,null,null,null,null,":BHA3160"]
["흄관하차","Φ 800",1,"M",2256,2256,{"$f":"단가산출!$CY$5422","v":"0"},0,{"$f":"단가산출!$CZ$5422","v":"0"},0,{"$f":"단가산출!$DA$5422","v":"2,256"},2256,"산근 127호표",null,null,null,null,null,null,null,null,null,null,null,null,null,null,null,null,null,null,null,null,null,null,null,null,null,null,null,null,null,null,null,null,null,null,null,null,null,null,null,null,null,null,null,null,null,null,null,null,null,null,null,null,null,null,null,null,null,null,null,null,null,null,null,null,null,null,null,null,null,null,null,null,null,null,null,null,null,null,null,null,null,null,null,null,null,null,null,null,null,null,null,null,null,null,null,null,null,null,null,null,null,null,null,"M1749036",""]
["PP수밀밴드(벨트)","ψ800㎜(흄관용)",0.4,"EA",32400,12960,{"$f":"자재단가!$R$138","v":32400},12960,0,0,0,0,"",null,null,null,null,null,null,null,null,null,null,null,null,null,null,null,null,null,null,null,null,null,null,null,null,null,null,null,null,null,null,null,null,null,null,null,null,null,null,null,null,null,null,null,null,null,null,null,null,null,null,null,null,null,null,null,null,null,null,null,null,null,null,null,null,null,null,null,null,null,null,null,null,null,null,null,null,null,null,null,null,null,null,null,null,null,null,null,null,null,null,null,null,null,null,null,null,null,null,null,null,null,null,null,"SQE1135",""]
["트럭탑재형크레인","10 ton",0.252,"시간",72827,18352.199999999997,{"$f":"건설기계!$I$294","v":16113},4060.4,{"$f":"건설기계!$K$294","v":36224},9128.4,{"$f":"건설기계!$M$294","v":20490},5163.3999999999996,"",null,null,null,null,null,null,null,null,null,null,null,null,null,null,null,null,null,null,null,null,null,null,null,null,null,null,null,null,null,null,null,null,null,null,null,null,null,null,null,null,null,null,null,null,null,null,null,null,null,null,null,null,null,null,null,null,null,null,null,null,null,null,null,null,null,null,null,null,null,null,null,null,null,null,null,null,null,null,null,null,null,null,null,null,null,null,null,null,null,null,null,null,null,null,null,null,null,null,null,null,null,null,null,"D2105-0015",""]
["배 관 공(수도)","",0.23599999999999999,"인",205381,48469.9,0,0,{"$f":"노임단가!$K$23","v":205381},48469.9,0,0,"",null,null,null,null,null,null,null,null,null,null,null,null,null,null,null,null,null,null,null,null,null,null,null,null,null,null,null,null,null,null,null,null,null,null,null,null,null,null,null,null,null,null,null,null,null,null,null,null,null,null,null,null,null,null,null,null,null,null,null,null,null,null,null,null,null,null,null,null,null,null,null,null,null,null,null,null,null,null,null,null,null,null,null,null,null,null,null,null,null,null,null,null,null,null,null,null,null,null,null,null,null,null,null,"W1039",""]
["보통인부","",0.11600000000000001,"인",141096,16367.1,0,0,{"$f":"노임단가!$K$8","v":141096},16367.1,0,0,"",null,null,null,null,null,null,null,null,null,null,null,null,null,null,null,null,null,null,null,null,null,null,null,null,null,null,null,null,null,null,null,null,null,null,null,null,null,null,null,null,null,null,null,null,null,null,null,null,null,null,null,null,null,null,null,null,null,null,null,null,null,null,null,null,null,null,null,null,null,null,null,null,null,null,null,null,null,null,null,null,null,null,null,null,null,null,null,null,null,null,null,null,null,null,null,null,null,null,null,null,null,null,null,"W1002",""]
["공구손료 및 잡재료","인력품의",2,"%",64837,1296.7,{"$f":"SUM(J2455:J2456)","v":64837},{"$f":"TRUNC(C2457*G2457%,1)","v":1296.7},null,0,0,0]
["             계             ",null,null,null,null,{"$f":"H2458+J2458+L2458","v":99701},null,{"$f":"ROUNDDOWN(SUM(H2451:H2457)-(H2451),0)","v":18317},null,{"$f":"ROUNDDOWN(SUM(J2451:J2457)-(J2451),0)","v":73965},null,{"$f":"ROUNDDOWN(SUM(L2451:L2457)-(L2451),0)","v":7419}]
[]
["제02730호표 ：흄관접합및부설[P.P수밀밴드접합] (ø1000M/M 기계) m 당",null,null,null,null,null,null,null,null,null,null,null,null,null,null,null,null,null,null,null,null,null,null,null,null,null,null,null,null,null,null,null,null,null,null,null,null,null,null,null,null,null,null,null,null,null,null,null,null,null,null,null,null,null,null,null,null,null,null,null,null,null,null,null,null,null,null,null,null,null,null,null,null,null,null,null,null,null,null,null,null,null,null,null,null,null,null,null,null,null,null,null,null,null,null,null,null,null,null,null,null,null,null,null,null,null,null,null,null,null,null,null,null,null,null,null,":BHA3170"]
["원심력철근콘크리트관","보통관 1000*82(MM)",1,"M",{"$f":"G2461+I2461+K2461","v":109364},109364,{"$f":"자재단가!$R$28","v":109364},{"$f":"TRUNC(C2461*G2461,1)","v":109364},0,{"$f":"TRUNC(C2461*I2461,1)","v":0},0,{"$f":"TRUNC(C2461*K2461,1)","v":0},"   관  급  ",null,null,null,null,null,null,null,null,null,null,null,null,null,null,null,null,null,null,null,null,null,null,null,null,null,null,null,null,null,null,null,null,null,null,null,null,null,null,null,null,null,null,null,null,null,null,null,null,null,null,null,null,null,null,null,null,null,null,null,null,null,null,null,null,null,null,null,null,null,null,null,null,null,null,null,null,null,null,null,null,null,null,null,null,null,null,null,null,null,null,null,null,null,null,null,null,null,null,null,null,null,null,null,"M1749042",""]
["흄관하차","Φ 1,000",1,"M",3591,3591,{"$f":"단가산출!$CY$5441","v":"0"},0,{"$f":"단가산출!$CZ$5441","v":"0"},0,{"$f":"단가산출!$DA$5441","v":"3,591"},3591,"산근 128호표",null,null,null,null,null,null,null,null,null,null,null,null,null,null,null,null,null,null,null,null,null,null,null,null,null,null,null,null,null,null,null,null,null,null,null,null,null,null,null,null,null,null,null,null,null,null,null,null,null,null,null,null,null,null,null,null,null,null,null,null,null,null,null,null,null,null,null,null,null,null,null,null,null,null,null,null,null,null,null,null,null,null,null,null,null,null,null,null,null,null,null,null,null,null,null,null,null,null,null,null,null,null,null,"SQE1136",""]
["PP수밀밴드(벨트)","ψ1000㎜(흄관용)",0.4,"EA",52600,21040,{"$f":"자재단가!$R$139","v":52600},21040,0,0,0,0,"",null,null,null,null,null,null,null,null,null,null,null,null,null,null,null,null,null,null,null,null,null,null,null,null,null,null,null,null,null,null,null,null,null,null,null,null,null,null,null,null,null,null,null,null,null,null,null,null,null,null,null,null,null,null,null,null,null,null,null,null,null,null,null,null,null,null,null,null,null,null,null,null,null,null,null,null,null,null,null,null,null,null,null,null,null,null,null,null,null,null,null,null,null,null,null,null,null,null,null,null,null,null,null,"D2105-0015",""]
["트럭탑재형크레인","15 ton",0.3,"시간",80086,24025.8,{"$f":"건설기계!$I$301","v":17208},5162.3999999999996,{"$f":"건설기계!$K$301","v":36224},10867.2,{"$f":"건설기계!$M$301","v":26654},7996.2,"",null,null,null,null,null,null,null,null,null,null,null,null,null,null,null,null,null,null,null,null,null,null,null,null,null,null,null,null,null,null,null,null,null,null,null,null,null,null,null,null,null,null,null,null,null,null,null,null,null,null,null,null,null,null,null,null,null,null,null,null,null,null,null,null,null,null,null,null,null,null,null,null,null,null,null,null,null,null,null,null,null,null,null,null,null,null,null,null,null,null,null,null,null,null,null,null,null,null,null,null,null,null,null,"W1039",""]
["배 관 공(수도)","",0.40799999999999997,"인",205381,83795.399999999994,0,0,{"$f":"노임단가!$K$23","v":205381},83795.399999999994,0,0,"",null,null,null,null,null,null,null,null,null,null,null,null,null,null,null,null,null,null,null,null,null,null,null,null,null,null,null,null,null,null,null,null,null,null,null,null,null,null,null,null,null,null,null,null,null,null,null,null,null,null,null,null,null,null,null,null,null,null,null,null,null,null,null,null,null,null,null,null,null,null,null,null,null,null,null,null,null,null,null,null,null,null,null,null,null,null,null,null,null,null,null,null,null,null,null,null,null,null,null,null,null,null,null,"W1002",""]
["보통인부","",0.2,"인",141096,28219.200000000001,0,0,{"$f":"노임단가!$K$8","v":141096},28219.200000000001,0,0,""]
["공구손료 및 잡재료","인력품의",2,"%",112014.59999999999,2240.1999999999998,{"$f":"SUM(J2465:J2466)","v":112014.59999999999},{"$f":"TRUNC(C2467*G2467%,1)","v":2240.1999999999998},null,0,0,0]
["             계             ",null,null,null,null,{"$f":"H2468+J2468+L2468","v":162910},null,{"$f":"ROUNDDOWN(SUM(H2461:H2467)-(H2461),0)","v":28442},null,{"$f":"ROUNDDOWN(SUM(J2461:J2467)-(J2461),0)","v":122881},null,{"$f":"ROUNDDOWN(SUM(L2461:L2467)-(L2461),0)","v":11587}]
[null,null,null,null,null,null,null,null,null,null,null,null,null,null,null,null,null,null,null,null,null,null,null,null,null,null,null,null,null,null,null,null,null,null,null,null,null,null,null,null,null,null,null,null,null,null,null,null,null,null,null,null,null,null,null,null,null,null,null,null,null,null,null,null,null,null,null,null,null,null,null,null,null,null,null,null,null,null,null,null,null,null,null,null,null,null,null,null,null,null,null,null,null,null,null,null,null,null,null,null,null,null,null,null,null,null,null,null,null,null,null,null,null,null,null,null,":BHA1222"]
["제02740호표 ：흄관접합및부설[P.P수밀밴드접합] (ø1200M/M 기계) m 당",null,null,null,null,null,null,null,null,null,null,null,null,null,null,null,null,null,null,null,null,null,null,null,null,null,null,null,null,null,null,null,null,null,null,null,null,null,null,null,null,null,null,null,null,null,null,null,null,null,null,null,null,null,null,null,null,null,null,null,null,null,null,null,null,null,null,null,null,null,null,null,null,null,null,null,null,null,null,null,null,null,null,null,null,null,null,null,null,null,null,null,null,null,null,null,null,null,null,null,null,null,null,null,null,null,null,null,null,null,null,null,null,null,null,null,"M1749009",""]
["원심력철근콘크리트관","보통관 1200*95(MM)",1,"M",{"$f":"G2471+I2471+K2471","v":153356},153356,{"$f":"자재단가!$R$29","v":153356},{"$f":"TRUNC(C2471*G2471,1)","v":153356},0,{"$f":"TRUNC(C2471*I2471,1)","v":0},0,{"$f":"TRUNC(C2471*K2471,1)","v":0},"   관  급  ",null,null,null,null,null,null,null,null,null,null,null,null,null,null,null,null,null,null,null,null,null,null,null,null,null,null,null,null,null,null,null,null,null,null,null,null,null,null,null,null,null,null,null,null,null,null,null,null,null,null,null,null,null,null,null,null,null,null,null,null,null,null,null,null,null,null,null,null,null,null,null,null,null,null,null,null,null,null,null,null,null,null,null,null,null,null,null,null,null,null,null,null,null,null,null,null,null,null,null,null,null,null,null,"SQE1130",""]
["흄관하차","Φ 1200",1,"M",4973,4973,{"$f":"단가산출!$CY$5460","v":"0"},0,{"$f":"단가산출!$CZ$5460","v":"0"},0,{"$f":"단가산출!$DA$5460","v":"4,973"},4973,"산근 129호표",null,null,null,null,null,null,null,null,null,null,null,null,null,null,null,null,null,null,null,null,null,null,null,null,null,null,null,null,null,null,null,null,null,null,null,null,null,null,null,null,null,null,null,null,null,null,null,null,null,null,null,null,null,null,null,null,null,null,null,null,null,null,null,null,null,null,null,null,null,null,null,null,null,null,null,null,null,null,null,null,null,null,null,null,null,null,null,null,null,null,null,null,null,null,null,null,null,null,null,null,null,null,null,"W1039",""]
["PP수밀밴드(벨트)","ψ1200㎜(흄관용)",0.4,"EA",65700,26280,{"$f":"자재단가!$R$140","v":65700},26280,0,0,0,0,"",null,null,null,null,null,null,null,null,null,null,null,null,null,null,null,null,null,null,null,null,null,null,null,null,null,null,null,null,null,null,null,null,null,null,null,null,null,null,null,null,null,null,null,null,null,null,null,null,null,null,null,null,null,null,null,null,null,null,null,null,null,null,null,null,null,null,null,null,null,null,null,null,null,null,null,null,null,null,null,null,null,null,null,null,null,null,null,null,null,null,null,null,null,null,null,null,null,null,null,null,null,null,null,"W1002",""]
["트럭탑재형크레인","15 ton",0.36799999999999999,"시간",80086,29471.5,{"$f":"건설기계!$I$301","v":17208},6332.5,{"$f":"건설기계!$K$301","v":36224},13330.4,{"$f":"건설기계!$M$301","v":26654},9808.6,"",null,null,null,null,null,null,null,null,null,null,null,null,null,null,null,null,null,null,null,null,null,null,null,null,null,null,null,null,null,null,null,null,null,null,null,null,null,null,null,null,null,null,null,null,null,null,null,null,null,null,null,null,null,null,null,null,null,null,null,null,null,null,null,null,null,null,null,null,null,null,null,null,null,null,null,null,null,null,null,null,null,null,null,null,null,null,null,null,null,null,null,null,null,null,null,null,null,null,null,null,null,null,null,"BFJ8200",""]
["배 관 공(수도)","",0.54800000000000004,"인",205381,112548.7,0,0,{"$f":"노임단가!$K$23","v":205381},112548.7,0,0,""]
["보통인부","",0.26800000000000002,"인",141096,37813.699999999997,0,0,{"$f":"노임단가!$K$8","v":141096},37813.699999999997,0,0,""]
["공구손료 및 잡재료","인력품의",2,"%",150362.4,3007.2,{"$f":"SUM(J2475:J2476)","v":150362.4},{"$f":"TRUNC(C2477*G2477%,1)","v":3007.2},null,0,0,0,null,null,null,null,null,null,null,null,null,null,null,null,null,null,null,null,null,null,null,null,null,null,null,null,null,null,null,null,null,null,null,null,null,null,null,null,null,null,null,null,null,null,null,null,null,null,null,null,null,null,null,null,null,null,null,null,null,null,null,null,null,null,null,null,null,null,null,null,null,null,null,null,null,null,null,null,null,null,null,null,null,null,null,null,null,null,null,null,null,null,null,null,null,null,null,null,null,null,null,null,null,null,null,null,":B000-0320"]
["             계             ",null,null,null,null,{"$f":"H2478+J2478+L2478","v":214092},null,{"$f":"ROUNDDOWN(SUM(H2471:H2477)-(H2471),0)","v":35619},null,{"$f":"ROUNDDOWN(SUM(J2471:J2477)-(J2471),0)","v":163692},null,{"$f":"ROUNDDOWN(SUM(L2471:L2477)-(L2471),0)","v":14781},null,null,null,null,null,null,null,null,null,null,null,null,null,null,null,null,null,null,null,null,null,null,null,null,null,null,null,null,null,null,null,null,null,null,null,null,null,null,null,null,null,null,null,null,null,null,null,null,null,null,null,null,null,null,null,null,null,null,null,null,null,null,null,null,null,null,null,null,null,null,null,null,null,null,null,null,null,null,null,null,null,null,null,null,null,null,null,null,null,null,null,null,null,null,null,null,null,null,null,null,null,null,null,null,"W1051",""]
[]
["제02750호표 ：흄관접합및부설[고무링접합] (ø300M/M 기계) m 당"]
["원심력철근콘크리트관","보통관 300*30(MM)",1,"M",{"$f":"G2481+I2481+K2481","v":19640},19640,{"$f":"자재단가!$R$23","v":19640},{"$f":"TRUNC(C2481*G2481,1)","v":19640},0,{"$f":"TRUNC(C2481*I2481,1)","v":0},0,{"$f":"TRUNC(C2481*K2481,1)","v":0},"   관  급  "]
["흄관하차","Φ 300",1,"M",368,368,{"$f":"단가산출!$CY$5346","v":"0"},{"$f":"TRUNC(C2482*G2482,1)","v":0},{"$f":"단가산출!$CZ$5346","v":"0"},0,{"$f":"단가산출!$DA$5346","v":"368"},368,"산근 123호표"]
["트럭탑재형크레인","10 ton",0.104,"시간",72827,7573.7999999999993,{"$f":"건설기계!$I$294","v":16113},{"$f":"TRUNC(C2483*G2483,1)","v":1675.7},{"$f":"건설기계!$K$294","v":36224},3767.2,{"$f":"건설기계!$M$294","v":20490},2130.9,""]
["배 관 공(수도)","",6.8000000000000005E-2,"인",205381,13965.9,0,{"$f":"TRUNC(C2484*G2484,1)","v":0},{"$f":"노임단가!$K$23","v":205381},13965.9,0,0,""]
["보통인부","",2.8000000000000001E-2,"인",141096,3950.6,0,{"$f":"TRUNC(C2485*G2485,1)","v":0},{"$f":"노임단가!$K$8","v":141096},3950.6,0,0,""]
["공구손료 및 잡재료","인력품의",1,"%",17916.5,179.1,{"$f":"SUM(J2484:J2485)","v":17916.5},{"$f":"TRUNC(C2486*G2486%,1)","v":179.1},null,0,0,0]
["             계             ",null,null,null,null,{"$f":"H2487+J2487+L2487","v":26035},null,{"$f":"ROUNDDOWN(SUM(H2481:H2486)-(H2481),0)","v":1854},null,{"$f":"ROUNDDOWN(SUM(J2481:J2485)-(J2481),0)","v":21683},null,{"$f":"ROUNDDOWN(SUM(L2481:L2485)-(L2481),0)","v":2498}]
[]
["제02760호표 ：흄관접합및부설[고무링접합] (ø450M/M 기계) m 당"]
["원심력철근콘크리트관","보통관 450*38(MM)",1,"M",{"$f":"G2490+I2490+K2490","v":22680},22680,{"$f":"자재단가!$R$25","v":22680},{"$f":"TRUNC(C2490*G2490,1)","v":22680},0,{"$f":"TRUNC(C2490*I2490,1)","v":0},0,{"$f":"TRUNC(C2490*K2490,1)","v":0},"   관  급  "]
["흄관하차","Φ 450",1,"M",736,736,{"$f":"단가산출!$CY$5384","v":"0"},{"$f":"TRUNC(C2491*G2491,1)","v":0},{"$f":"단가산출!$CZ$5384","v":"0"},0,{"$f":"단가산출!$DA$5384","v":"736"},736,"산근 125호표"]
["트럭탑재형크레인","10 ton",0.14799999999999999,"시간",72827,10778.3,{"$f":"건설기계!$I$294","v":16113},{"$f":"TRUNC(C2492*G2492,1)","v":2384.6999999999998},{"$f":"건설기계!$K$294","v":36224},5361.1,{"$f":"건설기계!$M$294","v":20490},3032.5,""]
["배 관 공(수도)","",0.1,"인",205381,20538.099999999999,0,{"$f":"TRUNC(C2493*G2493,1)","v":0},{"$f":"노임단가!$K$23","v":205381},20538.099999999999,0,0,""]
["보통인부","",0.04,"인",141096,5643.8,0,{"$f":"TRUNC(C2494*G2494,1)","v":0},{"$f":"노임단가!$K$8","v":141096},5643.8,0,0,""]
["공구손료 및 잡재료","인력품의",1,"%",26181.899999999998,261.8,{"$f":"SUM(J2493:J2494)","v":26181.899999999998},{"$f":"TRUNC(C2495*G2495%,1)","v":261.8},null,0,0,0]
["             계             ",null,null,null,null,{"$f":"H2496+J2496+L2496","v":37957},null,{"$f":"ROUNDDOWN(SUM(H2490:H2495)-(H2490),0)","v":2646},null,{"$f":"ROUNDDOWN(SUM(J2490:J2495)-(J2490),0)","v":31543},null,{"$f":"ROUNDDOWN(SUM(L2490:L2495)-(L2490),0)","v":3768}]
[]
["제02770호표 ：흄관접합및부설[고무링접합] (ø600M/M 기계) m 당"]
["원심력철근콘크리트관","보통관 600*50(MM)",1,"M",{"$f":"G2499+I2499+K2499","v":38048},38048,{"$f":"자재단가!$R$26","v":38048},{"$f":"TRUNC(C2499*G2499,1)","v":38048},0,{"$f":"TRUNC(C2499*I2499,1)","v":0},0,{"$f":"TRUNC(C2499*K2499,1)","v":0},"   관  급  "]
["흄관하차","Φ 600",1,"M",1289,1289,{"$f":"단가산출!$CY$5403","v":"0"},{"$f":"TRUNC(C2500*G2500,1)","v":0},{"$f":"단가산출!$CZ$5403","v":"0"},0,{"$f":"단가산출!$DA$5403","v":"1,289"},1289,"산근 126호표"]
["트럭탑재형크레인","10 ton",0.188,"시간",72827,13691.4,{"$f":"건설기계!$I$294","v":16113},{"$f":"TRUNC(C2501*G2501,1)","v":3029.2},{"$f":"건설기계!$K$294","v":36224},6810.1,{"$f":"건설기계!$M$294","v":20490},3852.1,""]
["배 관 공(수도)","",0.14799999999999999,"인",205381,30396.3,0,{"$f":"TRUNC(C2502*G2502,1)","v":0},{"$f":"노임단가!$K$23","v":205381},30396.3,0,0,""]
["보통인부","",0.06,"인",141096,8465.7000000000007,0,{"$f":"TRUNC(C2503*G2503,1)","v":0},{"$f":"노임단가!$K$8","v":141096},8465.7000000000007,0,0,""]
["공구손료 및 잡재료","인력품의",1,"%",38862,388.6,{"$f":"SUM(J2502:J2503)","v":38862},{"$f":"TRUNC(C2504*G2504%,1)","v":388.6},null,0,0,0]
["             계             ",null,null,null,null,{"$f":"H2505+J2505+L2505","v":54230},null,{"$f":"ROUNDDOWN(SUM(H2499:H2504)-(H2499),0)","v":3417},null,{"$f":"ROUNDDOWN(SUM(J2499:J2504)-(J2499),0)","v":45672},null,{"$f":"ROUNDDOWN(SUM(L2499:L2504)-(L2499),0)","v":5141}]
[]
["제02780호표 ：흄관접합및부설[고무링접합] (ø800M/M 기계) m 당"]
["원심력철근콘크리트관","보통관 800*66(MM)",1,"M",{"$f":"G2508+I2508+K2508","v":63180},63180,{"$f":"자재단가!$R$27","v":63180},{"$f":"TRUNC(C2508*G2508,1)","v":63180},0,{"$f":"TRUNC(C2508*I2508,1)","v":0},0,{"$f":"TRUNC(C2508*K2508,1)","v":0},"   관  급  "]
["흄관하차","Φ 800",1,"M",2256,2256,{"$f":"단가산출!$CY$5422","v":"0"},{"$f":"TRUNC(C2509*G2509,1)","v":0},{"$f":"단가산출!$CZ$5422","v":"0"},0,{"$f":"단가산출!$DA$5422","v":"2,256"},2256,"산근 127호표"]
["트럭탑재형크레인","10 ton",0.24,"시간",72827,17478.400000000001,{"$f":"건설기계!$I$294","v":16113},{"$f":"TRUNC(C2510*G2510,1)","v":3867.1},{"$f":"건설기계!$K$294","v":36224},8693.7000000000007,{"$f":"건설기계!$M$294","v":20490},4917.6000000000004,""]
["배 관 공(수도)","",0.26,"인",205381,53399,0,{"$f":"TRUNC(C2511*G2511,1)","v":0},{"$f":"노임단가!$K$23","v":205381},53399,0,0,""]
["보통인부","",0.104,"인",141096,14673.9,0,{"$f":"TRUNC(C2512*G2512,1)","v":0},{"$f":"노임단가!$K$8","v":141096},14673.9,0,0,""]
["공구손료 및 잡재료","인력품의",1,"%",68072.899999999994,680.7,{"$f":"SUM(J2511:J2512)","v":68072.899999999994},{"$f":"TRUNC(C2513*G2513%,1)","v":680.7},null,0,0,0]
["             계             ",null,null,null,null,{"$f":"H2514+J2514+L2514","v":88486},null,{"$f":"ROUNDDOWN(SUM(H2508:H2513)-(H2508),0)","v":4547},null,{"$f":"ROUNDDOWN(SUM(J2508:J2513)-(J2508),0)","v":76766},null,{"$f":"ROUNDDOWN(SUM(L2508:L2513)-(L2508),0)","v":7173}]
[]
["제02790호표 ：흄관접합및부설[고무링접합] (ø1000M/M 기계) m 당"]
["원심력철근콘크리트관","보통관 1000*82(MM)",1,"M",{"$f":"G2517+I2517+K2517","v":109364},109364,{"$f":"자재단가!$R$28","v":109364},{"$f":"TRUNC(C2517*G2517,1)","v":109364},0,{"$f":"TRUNC(C2517*I2517,1)","v":0},0,{"$f":"TRUNC(C2517*K2517,1)","v":0},"   관  급  "]
["흄관하차","Φ 1,000",1,"M",3591,3591,{"$f":"단가산출!$CY$5441","v":"0"},{"$f":"TRUNC(C2518*G2518,1)","v":0},{"$f":"단가산출!$CZ$5441","v":"0"},0,{"$f":"단가산출!$DA$5441","v":"3,591"},3591,"산근 128호표"]
["트럭탑재형크레인","15 ton",0.29599999999999999,"시간",80086,23705.3,{"$f":"건설기계!$I$301","v":17208},{"$f":"TRUNC(C2519*G2519,1)","v":5093.5},{"$f":"건설기계!$K$301","v":36224},10722.3,{"$f":"건설기계!$M$301","v":26654},7889.5,""]
["배 관 공(수도)","",0.45200000000000001,"인",205381,92832.2,0,{"$f":"TRUNC(C2520*G2520,1)","v":0},{"$f":"노임단가!$K$23","v":205381},92832.2,0,0,""]
["보통인부","",0.18,"인",141096,25397.200000000001,0,{"$f":"TRUNC(C2521*G2521,1)","v":0},{"$f":"노임단가!$K$8","v":141096},25397.200000000001,0,0,""]
["공구손료 및 잡재료","인력품의",1,"%",118229.4,1182.2,{"$f":"SUM(J2520:J2521)","v":118229.4},{"$f":"TRUNC(C2522*G2522%,1)","v":1182.2},null,0,0,0]
["             계             ",null,null,null,null,{"$f":"H2523+J2523+L2523","v":146706},null,{"$f":"ROUNDDOWN(SUM(H2517:H2522)-(H2517),0)","v":6275},null,{"$f":"ROUNDDOWN(SUM(J2517:J2522)-(J2517),0)","v":128951},null,{"$f":"ROUNDDOWN(SUM(L2517:L2522)-(L2517),0)","v":11480}]
[]
["제02800호표 ：흄관접합및부설[고무링접합] (ø1200M/M 기계) m 당"]
["원심력철근콘크리트관","보통관 1200*95(MM)",1,"M",{"$f":"G2526+I2526+K2526","v":153356},153356,{"$f":"자재단가!$R$29","v":153356},{"$f":"TRUNC(C2526*G2526,1)","v":153356},0,{"$f":"TRUNC(C2526*I2526,1)","v":0},0,{"$f":"TRUNC(C2526*K2526,1)","v":0},"   관  급  "]
["흄관하차","Φ 1200",1,"M",4973,4973,{"$f":"단가산출!$CY$5460","v":"0"},{"$f":"TRUNC(C2527*G2527,1)","v":0},{"$f":"단가산출!$CZ$5460","v":"0"},0,{"$f":"단가산출!$DA$5460","v":"4,973"},4973,"산근 129호표"]
["트럭탑재형크레인","15 ton",0.34799999999999998,"시간",80086,27869.7,{"$f":"건설기계!$I$301","v":17208},{"$f":"TRUNC(C2528*G2528,1)","v":5988.3},{"$f":"건설기계!$K$301","v":36224},12605.9,{"$f":"건설기계!$M$301","v":26654},9275.5,""]
["배 관 공(수도)","",0.59199999999999997,"인",205381,121585.5,0,{"$f":"TRUNC(C2529*G2529,1)","v":0},{"$f":"노임단가!$K$23","v":205381},121585.5,0,0,""]
["보통인부","",0.24,"인",141096,33863,0,{"$f":"TRUNC(C2530*G2530,1)","v":0},{"$f":"노임단가!$K$8","v":141096},33863,0,0,""]
["공구손료 및 잡재료","인력품의",1,"%",155448.5,1554.4,{"$f":"SUM(J2529:J2530)","v":155448.5},{"$f":"TRUNC(C2531*G2531%,1)","v":1554.4},null,0,0,0]
["             계             ",null,null,null,null,{"$f":"H2532+J2532+L2532","v":189844},null,{"$f":"ROUNDDOWN(SUM(H2526:H2531)-(H2526),0)","v":7542},null,{"$f":"ROUNDDOWN(SUM(J2526:J2531)-(J2526),0)","v":168054},null,{"$f":"ROUNDDOWN(SUM(L2526:L2531)-(L2526),0)","v":14248}]
[]
["제02810호표 ：흄관접합및부설[칼라식,인력] (ø300M/M) m 당"]
["원심력철근콘크리트관","보통관 300*30(MM)",1,"M",{"$f":"G2535+I2535+K2535","v":19640},19640,{"$f":"자재단가!$R$23","v":19640},{"$f":"TRUNC(C2535*G2535,1)","v":19640},0,{"$f":"TRUNC(C2535*I2535,1)","v":0},0,{"$f":"TRUNC(C2535*K2535,1)","v":0},"   관  급  "]
["흄관하차","Φ 300",1,"M",368,368,{"$f":"단가산출!$CY$5346","v":"0"},{"$f":"TRUNC(C2536*G2536,1)","v":0},{"$f":"단가산출!$CZ$5346","v":"0"},{"$f":"TRUNC(C2536*I2536,1)","v":0},{"$f":"단가산출!$DA$5346","v":"368"},{"$f":"TRUNC(C2536*K2536,1)","v":368},"산근 123호표"]
["배 관 공","",0.112,"인",201852,22607.4,0,{"$f":"TRUNC(C2537*G2537,1)","v":0},{"$f":"노임단가!$K$22","v":201852},{"$f":"TRUNC(C2537*I2537,1)","v":22607.4},0,{"$f":"TRUNC(C2537*K2537,1)","v":0},""]
["보통인부","",0.45200000000000001,"인",141096,63775.3,0,{"$f":"TRUNC(C2538*G2538,1)","v":0},{"$f":"노임단가!$K$8","v":141096},{"$f":"TRUNC(C2538*I2538,1)","v":63775.3},0,{"$f":"TRUNC(C2538*K2538,1)","v":0},""]
["모르터","배합비 1:2",2.3E-3,"㎥",175122,402.6,{"$f":"$H$638","v":96771},{"$f":"TRUNC(C2539*G2539,1)","v":222.5},{"$f":"$J$638","v":60671},{"$f":"TRUNC(C2539*I2539,1)","v":139.5},{"$f":"$L$638","v":17680},{"$f":"TRUNC(C2539*K2539,1)","v":40.6},"제  82호표"]
["             계             ",null,null,null,null,{"$f":"H2540+J2540+L2540","v":87152},null,{"$f":"ROUNDDOWN(SUM(H2535:H2539)-(H2535),0)","v":222},null,{"$f":"ROUNDDOWN(SUM(J2535:J2539)-(J2535),0)","v":86522},null,{"$f":"ROUNDDOWN(SUM(L2535:L2539)-(L2535),0)","v":408}]
[]
["제02820호표 ：수밀코킹 M 당"]
["코 킹 공","m",2.5000000000000001E-2,"인",{"$f":"G2543+I2543+K2543","v":187843},{"$f":"H2543+J2543+L2543","v":4696},0,{"$f":"TRUNC(C2543*G2543,1)","v":0},{"$f":"노임단가!$K$37","v":187843},{"$f":"TRUNC(C2543*I2543,1)","v":4696},0,{"$f":"TRUNC(C2543*K2543,1)","v":0},""]
["             계             ",null,null,null,null,{"$f":"H2544+J2544+L2544","v":4696},null,{"$f":"ROUNDDOWN(SUM(H2543:H2543),0)","v":0},null,{"$f":"ROUNDDOWN(SUM(J2543:J2543),0)","v":4696},null,{"$f":"ROUNDDOWN(SUM(L2543:L2543),0)","v":0}]

{"sheet":"단가산출 목록","index":5,"n_rows":144,"n_cols":119,"rows_kept":144,"cut":false,"hidden":false,"merged":[[0,0,0,8],[2,0,3,0],[2,1,3,1],[2,2,3,2],[2,3,3,3],[2,4,3,4],[2,5,3,5],[2,6,3,6],[2,7,3,7],[2,8,3,8]]}
["단 가 산 출  목 록 표",null,null,null,null,null,null,null,null,null,null,null,null,null,null,null,null,null,null,null,null,null,null,null,null,null,null,null,null,null,null,null,null,null,null,null,null,null,null,null,null,null,null,null,null,null,null,null,null,null,null,null,null,null,null,null,null,null,null,null,null,null,null,null,null,null,null,null,null,null,null,null,null,null,null,null,null,null,null,null,null,null,null,null,null,null,null,null,null,null,null,null,null,null,null,null,null,null,null,null,null,null,null,null,null,null,null,null,null,null,null,null,null,null,null,null,null,null,5]
[null,null,null,null,null,null,null,null,null,null,null,null,null,null,null,null,null,null,null,null,null,null,null,null,null,null,null,null,null,null,null,null,null,null,null,null,null,null,null,null,null,null,null,null,null,null,null,null,null,null,null,null,null,null,null,null,null,null,null,null,null,null,null,null,null,null,null,null,null,null,null,null,null,null,null,null,null,null,null,null,null,null,null,null,null,null,null,null,null,null,null,null,null,null,null,null,null,null,null,null,null,null,null,null,null,null,null,null,null,null,null,null,null,null,null,null,null,null,"A"]
["공    종","규  격","수 량","단위","합    계","재 료 비","노 무 비","경    비","비  고",null,null,null,null,null,null,null,null,null,null,null,null,null,null,null,null,null,null,null,null,null,null,null,null,null,null,null,null,null,null,null,null,null,null,null,null,null,null,null,null,null,null,null,null,null,null,null,null,null,null,null,null,null,null,null,null,null,null,null,null,null,null,null,null,null,null,null,null,null,null,null,null,null,null,null,null,null,null,null,null,null,null,null,null,null,null,null,null,null,null,null,null,null,null,null,null,null,null,null,null,null,null,null,null,null,null,null,null,null,133]
[null,null,null,null,null,null,null,null,null,null,null,null,null,null,null,null,null,null,null,null,null,null,null,null,null,null,null,null,null,null,null,null,null,null,null,null,null,null,null,null,null,null,null,null,null,null,null,null,null,null,null,null,null,null,null,null,null,null,null,null,null,null,null,null,null,null,null,null,null,null,null,null,null,null,null,null,null,null,null,null,null,null,null,null,null,null,null,null,null,null,null,null,null,null,null,null,null,null,null,null,null,null,null,null,null,null,null,null,null,null,null,null,null,null,null,null,null,null,"I"]
["기계터파기(토사)","굴삭기0.2㎥",1,"㎥",{"$f":"F5+G5+H5","v":4491},{"$f":"단가산출!CY44","v":"547"},{"$f":"단가산출!CZ44","v":"3,076"},{"$f":"단가산출!DA44","v":"868"},"산근   1호표",null,null,null,null,null,null,null,null,null,null,null,null,null,null,null,null,null,null,null,null,null,null,null,null,null,null,null,null,null,null,null,null,null,null,null,null,null,null,null,null,null,null,null,null,null,null,null,null,null,null,null,null,null,null,null,null,null,null,null,null,null,null,null,null,null,null,null,null,null,null,null,null,null,null,null,null,null,null,null,null,null,null,null,null,null,null,null,null,null,null,null,null,null,null,null,null,null,null,null,null,null,null,null,null,null,null,null,"SDD2110"]
["기계터파기(토사)","굴삭기0.4㎥",1,"㎥",2015,{"$f":"단가산출!CY83","v":"420"},{"$f":"단가산출!CZ83","v":"1,183"},{"$f":"단가산출!DA83","v":"412"},"산근   2호표",null,null,null,null,null,null,null,null,null,null,null,null,null,null,null,null,null,null,null,null,null,null,null,null,null,null,null,null,null,null,null,null,null,null,null,null,null,null,null,null,null,null,null,null,null,null,null,null,null,null,null,null,null,null,null,null,null,null,null,null,null,null,null,null,null,null,null,null,null,null,null,null,null,null,null,null,null,null,null,null,null,null,null,null,null,null,null,null,null,null,null,null,null,null,null,null,null,null,null,null,null,null,null,null,null,null,null,"SDD2120"]
["기계터파기(토사)","굴삭기0.7㎥",1,"㎥",1432,{"$f":"단가산출!CY122","v":"312"},{"$f":"단가산출!CZ122","v":"751"},{"$f":"단가산출!DA122","v":"369"},"산근   3호표",null,null,null,null,null,null,null,null,null,null,null,null,null,null,null,null,null,null,null,null,null,null,null,null,null,null,null,null,null,null,null,null,null,null,null,null,null,null,null,null,null,null,null,null,null,null,null,null,null,null,null,null,null,null,null,null,null,null,null,null,null,null,null,null,null,null,null,null,null,null,null,null,null,null,null,null,null,null,null,null,null,null,null,null,null,null,null,null,null,null,null,null,null,null,null,null,null,null,null,null,null,null,null,null,null,null,null,"SDD2130"]
["기계터파기(토사)","굴삭기1.0㎥",1,"㎥",1266,{"$f":"단가산출!CY161","v":"386"},{"$f":"단가산출!CZ161","v":"552"},{"$f":"단가산출!DA161","v":"328"},"산근   4호표",null,null,null,null,null,null,null,null,null,null,null,null,null,null,null,null,null,null,null,null,null,null,null,null,null,null,null,null,null,null,null,null,null,null,null,null,null,null,null,null,null,null,null,null,null,null,null,null,null,null,null,null,null,null,null,null,null,null,null,null,null,null,null,null,null,null,null,null,null,null,null,null,null,null,null,null,null,null,null,null,null,null,null,null,null,null,null,null,null,null,null,null,null,null,null,null,null,null,null,null,null,null,null,null,null,null,null,"SDD2140"]
["기계터파기(토사)-관로부설","굴삭기0.2㎥",1,"㎥",7486,{"$f":"단가산출!CY202","v":"912"},{"$f":"단가산출!CZ202","v":"5,127"},{"$f":"단가산출!DA202","v":"1,447"},"산근   5호표",null,null,null,null,null,null,null,null,null,null,null,null,null,null,null,null,null,null,null,null,null,null,null,null,null,null,null,null,null,null,null,null,null,null,null,null,null,null,null,null,null,null,null,null,null,null,null,null,null,null,null,null,null,null,null,null,null,null,null,null,null,null,null,null,null,null,null,null,null,null,null,null,null,null,null,null,null,null,null,null,null,null,null,null,null,null,null,null,null,null,null,null,null,null,null,null,null,null,null,null,null,null,null,null,null,null,null,"SDD2110-1"]
["기계터파기(토사)-관로부설","굴삭기0.4㎥",1,"㎥",4361,{"$f":"단가산출!CY241","v":"910"},{"$f":"단가산출!CZ241","v":"2,560"},{"$f":"단가산출!DA241","v":"891"},"산근   6호표",null,null,null,null,null,null,null,null,null,null,null,null,null,null,null,null,null,null,null,null,null,null,null,null,null,null,null,null,null,null,null,null,null,null,null,null,null,null,null,null,null,null,null,null,null,null,null,null,null,null,null,null,null,null,null,null,null,null,null,null,null,null,null,null,null,null,null,null,null,null,null,null,null,null,null,null,null,null,null,null,null,null,null,null,null,null,null,null,null,null,null,null,null,null,null,null,null,null,null,null,null,null,null,null,null,null,null,"SDD2120-1"]
["기계터파기(토사)-관로부설","굴삭기0.7㎥",1,"㎥",3104,{"$f":"단가산출!CY280","v":"677"},{"$f":"단가산출!CZ280","v":"1,627"},{"$f":"단가산출!DA280","v":"800"},"산근   7호표",null,null,null,null,null,null,null,null,null,null,null,null,null,null,null,null,null,null,null,null,null,null,null,null,null,null,null,null,null,null,null,null,null,null,null,null,null,null,null,null,null,null,null,null,null,null,null,null,null,null,null,null,null,null,null,null,null,null,null,null,null,null,null,null,null,null,null,null,null,null,null,null,null,null,null,null,null,null,null,null,null,null,null,null,null,null,null,null,null,null,null,null,null,null,null,null,null,null,null,null,null,null,null,null,null,null,null,"SDD2130-1"]
["기계터파기(토사)-관로부설","굴삭기1.0㎥",1,"㎥",2745,{"$f":"단가산출!CY319","v":"837"},{"$f":"단가산출!CZ319","v":"1,196"},{"$f":"단가산출!DA319","v":"712"},"산근   8호표",null,null,null,null,null,null,null,null,null,null,null,null,null,null,null,null,null,null,null,null,null,null,null,null,null,null,null,null,null,null,null,null,null,null,null,null,null,null,null,null,null,null,null,null,null,null,null,null,null,null,null,null,null,null,null,null,null,null,null,null,null,null,null,null,null,null,null,null,null,null,null,null,null,null,null,null,null,null,null,null,null,null,null,null,null,null,null,null,null,null,null,null,null,null,null,null,null,null,null,null,null,null,null,null,null,null,null,"SDD2140-1"]
["공사용수운반(컷터용)","(물탱크:5500ℓ)",1,"㎥",7366,{"$f":"단가산출!CY352","v":"0"},{"$f":"단가산출!CZ352","v":"0"},{"$f":"단가산출!DA352","v":"7,366"},"산근   9호표",null,null,null,null,null,null,null,null,null,null,null,null,null,null,null,null,null,null,null,null,null,null,null,null,null,null,null,null,null,null,null,null,null,null,null,null,null,null,null,null,null,null,null,null,null,null,null,null,null,null,null,null,null,null,null,null,null,null,null,null,null,null,null,null,null,null,null,null,null,null,null,null,null,null,null,null,null,null,null,null,null,null,null,null,null,null,null,null,null,null,null,null,null,null,null,null,null,null,null,null,null,null,null,null,null,null,null,"SQI1000"]
["노면파쇄기","0.6M",1,"a",705891,{"$f":"단가산출!CY381","v":"67,384"},{"$f":"단가산출!CZ381","v":"340,761"},{"$f":"단가산출!DA381","v":"297,746"},"산근  10호표",null,null,null,null,null,null,null,null,null,null,null,null,null,null,null,null,null,null,null,null,null,null,null,null,null,null,null,null,null,null,null,null,null,null,null,null,null,null,null,null,null,null,null,null,null,null,null,null,null,null,null,null,null,null,null,null,null,null,null,null,null,null,null,null,null,null,null,null,null,null,null,null,null,null,null,null,null,null,null,null,null,null,null,null,null,null,null,null,null,null,null,null,null,null,null,null,null,null,null,null,null,null,null,null,null,null,null,"SD133-0150"]
["노면파쇄기","1M",1,"a",530425,{"$f":"단가산출!CY410","v":"63,696"},{"$f":"단가산출!CZ410","v":"134,239"},{"$f":"단가산출!DA410","v":"332,490"},"산근  11호표",null,null,null,null,null,null,null,null,null,null,null,null,null,null,null,null,null,null,null,null,null,null,null,null,null,null,null,null,null,null,null,null,null,null,null,null,null,null,null,null,null,null,null,null,null,null,null,null,null,null,null,null,null,null,null,null,null,null,null,null,null,null,null,null,null,null,null,null,null,null,null,null,null,null,null,null,null,null,null,null,null,null,null,null,null,null,null,null,null,null,null,null,null,null,null,null,null,null,null,null,null,null,null,null,null,null,null,"S0134"]
["노면파쇄기","2M",1,"a",124268,{"$f":"단가산출!CY439","v":"36,225"},{"$f":"단가산출!CZ439","v":"20,135"},{"$f":"단가산출!DA439","v":"67,908"},"산근  12호표",null,null,null,null,null,null,null,null,null,null,null,null,null,null,null,null,null,null,null,null,null,null,null,null,null,null,null,null,null,null,null,null,null,null,null,null,null,null,null,null,null,null,null,null,null,null,null,null,null,null,null,null,null,null,null,null,null,null,null,null,null,null,null,null,null,null,null,null,null,null,null,null,null,null,null,null,null,null,null,null,null,null,null,null,null,null,null,null,null,null,null,null,null,null,null,null,null,null,null,null,null,null,null,null,null,null,null,"S0136"]
["도로경계브럭 운반 ","15x15x100",1,"개",677,{"$f":"단가산출!CY471","v":"0"},{"$f":"단가산출!CZ471","v":"0"},{"$f":"단가산출!DA471","v":"677"},"산근  13호표",null,null,null,null,null,null,null,null,null,null,null,null,null,null,null,null,null,null,null,null,null,null,null,null,null,null,null,null,null,null,null,null,null,null,null,null,null,null,null,null,null,null,null,null,null,null,null,null,null,null,null,null,null,null,null,null,null,null,null,null,null,null,null,null,null,null,null,null,null,null,null,null,null,null,null,null,null,null,null,null,null,null,null,null,null,null,null,null,null,null,null,null,null,null,null,null,null,null,null,null,null,null,null,null,null,null,null,"S006"]
["도로경계브럭 운반 ","20x25x100",1,"개",1473,{"$f":"단가산출!CY503","v":"0"},{"$f":"단가산출!CZ503","v":"0"},{"$f":"단가산출!DA503","v":"1,473"},"산근  14호표",null,null,null,null,null,null,null,null,null,null,null,null,null,null,null,null,null,null,null,null,null,null,null,null,null,null,null,null,null,null,null,null,null,null,null,null,null,null,null,null,null,null,null,null,null,null,null,null,null,null,null,null,null,null,null,null,null,null,null,null,null,null,null,null,null,null,null,null,null,null,null,null,null,null,null,null,null,null,null,null,null,null,null,null,null,null,null,null,null,null,null,null,null,null,null,null,null,null,null,null,null,null,null,null,null,null,null,"S006-001"]
["되메우기","굴삭기0.2㎥",1,"㎥",2851,{"$f":"단가산출!CY544","v":"347"},{"$f":"단가산출!CZ544","v":"1,953"},{"$f":"단가산출!DA544","v":"551"},"산근  15호표",null,null,null,null,null,null,null,null,null,null,null,null,null,null,null,null,null,null,null,null,null,null,null,null,null,null,null,null,null,null,null,null,null,null,null,null,null,null,null,null,null,null,null,null,null,null,null,null,null,null,null,null,null,null,null,null,null,null,null,null,null,null,null,null,null,null,null,null,null,null,null,null,null,null,null,null,null,null,null,null,null,null,null,null,null,null,null,null,null,null,null,null,null,null,null,null,null,null,null,null,null,null,null,null,null,null,null,"SDE2221"]
["되메우기","굴삭기0.4㎥",1,"㎥",1663,{"$f":"단가산출!CY585","v":"347"},{"$f":"단가산출!CZ585","v":"976"},{"$f":"단가산출!DA585","v":"340"},"산근  16호표",null,null,null,null,null,null,null,null,null,null,null,null,null,null,null,null,null,null,null,null,null,null,null,null,null,null,null,null,null,null,null,null,null,null,null,null,null,null,null,null,null,null,null,null,null,null,null,null,null,null,null,null,null,null,null,null,null,null,null,null,null,null,null,null,null,null,null,null,null,null,null,null,null,null,null,null,null,null,null,null,null,null,null,null,null,null,null,null,null,null,null,null,null,null,null,null,null,null,null,null,null,null,null,null,null,null,null,"SDE2222"]
["되메우기","굴삭기0.7㎥",1,"㎥",1276,{"$f":"단가산출!CY626","v":"278"},{"$f":"단가산출!CZ626","v":"669"},{"$f":"단가산출!DA626","v":"329"},"산근  17호표",null,null,null,null,null,null,null,null,null,null,null,null,null,null,null,null,null,null,null,null,null,null,null,null,null,null,null,null,null,null,null,null,null,null,null,null,null,null,null,null,null,null,null,null,null,null,null,null,null,null,null,null,null,null,null,null,null,null,null,null,null,null,null,null,null,null,null,null,null,null,null,null,null,null,null,null,null,null,null,null,null,null,null,null,null,null,null,null,null,null,null,null,null,null,null,null,null,null,null,null,null,null,null,null,null,null,null,"SDE2223"]
["되메우기(다짐)","굴삭기0.2㎥",1,"㎥",9742,{"$f":"단가산출!CY703","v":"611"},{"$f":"단가산출!CZ703","v":"8,476"},{"$f":"단가산출!DA703","v":"655"},"산근  18호표",null,null,null,null,null,null,null,null,null,null,null,null,null,null,null,null,null,null,null,null,null,null,null,null,null,null,null,null,null,null,null,null,null,null,null,null,null,null,null,null,null,null,null,null,null,null,null,null,null,null,null,null,null,null,null,null,null,null,null,null,null,null,null,null,null,null,null,null,null,null,null,null,null,null,null,null,null,null,null,null,null,null,null,null,null,null,null,null,null,null,null,null,null,null,null,null,null,null,null,null,null,null,null,null,null,null,null,"SDE2220"]
["되메우기(다짐)","굴삭기0.4㎥",1,"㎥",8553,{"$f":"단가산출!CY778","v":"610"},{"$f":"단가산출!CZ778","v":"7,499"},{"$f":"단가산출!DA778","v":"444"},"산근  19호표",null,null,null,null,null,null,null,null,null,null,null,null,null,null,null,null,null,null,null,null,null,null,null,null,null,null,null,null,null,null,null,null,null,null,null,null,null,null,null,null,null,null,null,null,null,null,null,null,null,null,null,null,null,null,null,null,null,null,null,null,null,null,null,null,null,null,null,null,null,null,null,null,null,null,null,null,null,null,null,null,null,null,null,null,null,null,null,null,null,null,null,null,null,null,null,null,null,null,null,null,null,null,null,null,null,null,null,"SDE2220-1"]
["되메우기(다짐)","굴삭기0.7㎥",1,"㎥",8167,{"$f":"단가산출!CY853","v":"542"},{"$f":"단가산출!CZ853","v":"7,192"},{"$f":"단가산출!DA853","v":"433"},"산근  20호표",null,null,null,null,null,null,null,null,null,null,null,null,null,null,null,null,null,null,null,null,null,null,null,null,null,null,null,null,null,null,null,null,null,null,null,null,null,null,null,null,null,null,null,null,null,null,null,null,null,null,null,null,null,null,null,null,null,null,null,null,null,null,null,null,null,null,null,null,null,null,null,null,null,null,null,null,null,null,null,null,null,null,null,null,null,null,null,null,null,null,null,null,null,null,null,null,null,null,null,null,null,null,null,null,null,null,null,"SDE2220-2"]
["물운반비(2.5톤 트럭)","",1,"TON",14341,{"$f":"단가산출!CY880","v":"0"},{"$f":"단가산출!CZ880","v":"0"},{"$f":"단가산출!DA880","v":"14,341"},"산근  21호표",null,null,null,null,null,null,null,null,null,null,null,null,null,null,null,null,null,null,null,null,null,null,null,null,null,null,null,null,null,null,null,null,null,null,null,null,null,null,null,null,null,null,null,null,null,null,null,null,null,null,null,null,null,null,null,null,null,null,null,null,null,null,null,null,null,null,null,null,null,null,null,null,null,null,null,null,null,null,null,null,null,null,null,null,null,null,null,null,null,null,null,null,null,null,null,null,null,null,null,null,null,null,null,null,null,null,null,"S000-0240"]
["보조기층살수","T=30Cm(물탱크5500ℓ)",1,"a",14606,{"$f":"단가산출!CY915","v":"2,208"},{"$f":"단가산출!CZ915","v":"9,951"},{"$f":"단가산출!DA915","v":"2,447"},"산근  22호표",null,null,null,null,null,null,null,null,null,null,null,null,null,null,null,null,null,null,null,null,null,null,null,null,null,null,null,null,null,null,null,null,null,null,null,null,null,null,null,null,null,null,null,null,null,null,null,null,null,null,null,null,null,null,null,null,null,null,null,null,null,null,null,null,null,null,null,null,null,null,null,null,null,null,null,null,null,null,null,null,null,null,null,null,null,null,null,null,null,null,null,null,null,null,null,null,null,null,null,null,null,null,null,null,null,null,null,"SKZ1300"]
["보조기층전압","T=20Cm(롤러8-15T)",1,"a",44961,{"$f":"단가산출!CY956","v":"9,985"},{"$f":"단가산출!CZ956","v":"23,962"},{"$f":"단가산출!DA956","v":"11,014"},"산근  23호표",null,null,null,null,null,null,null,null,null,null,null,null,null,null,null,null,null,null,null,null,null,null,null,null,null,null,null,null,null,null,null,null,null,null,null,null,null,null,null,null,null,null,null,null,null,null,null,null,null,null,null,null,null,null,null,null,null,null,null,null,null,null,null,null,null,null,null,null,null,null,null,null,null,null,null,null,null,null,null,null,null,null,null,null,null,null,null,null,null,null,null,null,null,null,null,null,null,null,null,null,null,null,null,null,null,null,null,"SKZ1100"]
["보조기층전압","T=30Cm(롤러2.5-8T)",1,"a",67493,{"$f":"단가산출!CY997","v":"14,991"},{"$f":"단가산출!CZ997","v":"35,967"},{"$f":"단가산출!DA997","v":"16,535"},"산근  24호표",null,null,null,null,null,null,null,null,null,null,null,null,null,null,null,null,null,null,null,null,null,null,null,null,null,null,null,null,null,null,null,null,null,null,null,null,null,null,null,null,null,null,null,null,null,null,null,null,null,null,null,null,null,null,null,null,null,null,null,null,null,null,null,null,null,null,null,null,null,null,null,null,null,null,null,null,null,null,null,null,null,null,null,null,null,null,null,null,null,null,null,null,null,null,null,null,null,null,null,null,null,null,null,null,null,null,null,"SKZ1200"]
["비산먼지방지비","",1,"㎡",4,{"$f":"단가산출!CY1028","v":"1"},{"$f":"단가산출!CZ1028","v":"2"},{"$f":"단가산출!DA1028","v":"1"},"산근  25호표",null,null,null,null,null,null,null,null,null,null,null,null,null,null,null,null,null,null,null,null,null,null,null,null,null,null,null,null,null,null,null,null,null,null,null,null,null,null,null,null,null,null,null,null,null,null,null,null,null,null,null,null,null,null,null,null,null,null,null,null,null,null,null,null,null,null,null,null,null,null,null,null,null,null,null,null,null,null,null,null,null,null,null,null,null,null,null,null,null,null,null,null,null,null,null,null,null,null,null,null,null,null,null,null,null,null,null,"SAC2620"]
["소형고압브럭 운반","t=60㎜",1,"㎡",1105,{"$f":"단가산출!CY1060","v":"0"},{"$f":"단가산출!CZ1060","v":"0"},{"$f":"단가산출!DA1060","v":"1,105"},"산근  26호표",null,null,null,null,null,null,null,null,null,null,null,null,null,null,null,null,null,null,null,null,null,null,null,null,null,null,null,null,null,null,null,null,null,null,null,null,null,null,null,null,null,null,null,null,null,null,null,null,null,null,null,null,null,null,null,null,null,null,null,null,null,null,null,null,null,null,null,null,null,null,null,null,null,null,null,null,null,null,null,null,null,null,null,null,null,null,null,null,null,null,null,null,null,null,null,null,null,null,null,null,null,null,null,null,null,null,null,"S005"]
["소형고압브럭 전압비","1.5톤",1,"회",11446,{"$f":"단가산출!CY1087","v":"666"},{"$f":"단가산출!CZ1087","v":"10,581"},{"$f":"단가산출!DA1087","v":"199"},"산근  27호표",null,null,null,null,null,null,null,null,null,null,null,null,null,null,null,null,null,null,null,null,null,null,null,null,null,null,null,null,null,null,null,null,null,null,null,null,null,null,null,null,null,null,null,null,null,null,null,null,null,null,null,null,null,null,null,null,null,null,null,null,null,null,null,null,null,null,null,null,null,null,null,null,null,null,null,null,null,null,null,null,null,null,null,null,null,null,null,null,null,null,null,null,null,null,null,null,null,null,null,null,null,null,null,null,null,null,null,"S0116"]
["시멘트운반","40KG",1,"포대",1334,{"$f":"단가산출!CY1148","v":"0"},{"$f":"단가산출!CZ1148","v":"0"},{"$f":"단가산출!DA1148","v":"1,334"},"산근  28호표",null,null,null,null,null,null,null,null,null,null,null,null,null,null,null,null,null,null,null,null,null,null,null,null,null,null,null,null,null,null,null,null,null,null,null,null,null,null,null,null,null,null,null,null,null,null,null,null,null,null,null,null,null,null,null,null,null,null,null,null,null,null,null,null,null,null,null,null,null,null,null,null,null,null,null,null,null,null,null,null,null,null,null,null,null,null,null,null,null,null,null,null,null,null,null,null,null,null,null,null,null,null,null,null,null,null,null,"SQD1000"]
["아스콘전압(#467)","t=7.5Cm",1,"a",62721,{"$f":"단가산출!CY1213","v":"11,401"},{"$f":"단가산출!CZ1213","v":"40,719"},{"$f":"단가산출!DA1213","v":"10,601"},"산근  29호표",null,null,null,null,null,null,null,null,null,null,null,null,null,null,null,null,null,null,null,null,null,null,null,null,null,null,null,null,null,null,null,null,null,null,null,null,null,null,null,null,null,null,null,null,null,null,null,null,null,null,null,null,null,null,null,null,null,null,null,null,null,null,null,null,null,null,null,null,null,null,null,null,null,null,null,null,null,null,null,null,null,null,null,null,null,null,null,null,null,null,null,null,null,null,null,null,null,null,null,null,null,null,null,null,null,null,null,"SKZ2300"]
["아스콘전압(#467)","콤팩터1.5T(t=7.5Cm)",1,"a",22894,{"$f":"단가산출!CY1238","v":"1,332"},{"$f":"단가산출!CZ1238","v":"21,163"},{"$f":"단가산출!DA1238","v":"399"},"산근  30호표",null,null,null,null,null,null,null,null,null,null,null,null,null,null,null,null,null,null,null,null,null,null,null,null,null,null,null,null,null,null,null,null,null,null,null,null,null,null,null,null,null,null,null,null,null,null,null,null,null,null,null,null,null,null,null,null,null,null,null,null,null,null,null,null,null,null,null,null,null,null,null,null,null,null,null,null,null,null,null,null,null,null,null,null,null,null,null,null,null,null,null,null,null,null,null,null,null,null,null,null,null,null,null,null,null,null,null,"SKZ2600"]
["아스콘전압(#78)","롤러8-15T(t=5Cm)",1,"a",49025,{"$f":"단가산출!CY1303","v":"8,921"},{"$f":"단가산출!CZ1303","v":"31,322"},{"$f":"단가산출!DA1303","v":"8,782"},"산근  31호표",null,null,null,null,null,null,null,null,null,null,null,null,null,null,null,null,null,null,null,null,null,null,null,null,null,null,null,null,null,null,null,null,null,null,null,null,null,null,null,null,null,null,null,null,null,null,null,null,null,null,null,null,null,null,null,null,null,null,null,null,null,null,null,null,null,null,null,null,null,null,null,null,null,null,null,null,null,null,null,null,null,null,null,null,null,null,null,null,null,null,null,null,null,null,null,null,null,null,null,null,null,null,null,null,null,null,null,"SKZ2000"]
["아스콘전압(#78)","콤팩터1.5T(t=5Cm)",1,"a",17170,{"$f":"단가산출!CY1328","v":"999"},{"$f":"단가산출!CZ1328","v":"15,872"},{"$f":"단가산출!DA1328","v":"299"},"산근  32호표",null,null,null,null,null,null,null,null,null,null,null,null,null,null,null,null,null,null,null,null,null,null,null,null,null,null,null,null,null,null,null,null,null,null,null,null,null,null,null,null,null,null,null,null,null,null,null,null,null,null,null,null,null,null,null,null,null,null,null,null,null,null,null,null,null,null,null,null,null,null,null,null,null,null,null,null,null,null,null,null,null,null,null,null,null,null,null,null,null,null,null,null,null,null,null,null,null,null,null,null,null,null,null,null,null,null,null,"SKZ2500"]
["아스콘포설(#467)","피니셔(t=7.5Cm)",1,"a",{"$f":"F37+G37+H37","v":25794},{"$f":"단가산출!CY1357","v":"4,197"},{"$f":"단가산출!CZ1357","v":"10,254"},{"$f":"단가산출!DA1357","v":"11,343"},"산근  33호표",null,null,null,null,null,null,null,null,null,null,null,null,null,null,null,null,null,null,null,null,null,null,null,null,null,null,null,null,null,null,null,null,null,null,null,null,null,null,null,null,null,null,null,null,null,null,null,null,null,null,null,null,null,null,null,null,null,null,null,null,null,null,null,null,null,null,null,null,null,null,null,null,null,null,null,null,null,null,null,null,null,null,null,null,null,null,null,null,null,null,null,null,null,null,null,null,null,null,null,null,null,null,null,null,null,null,null,"SKZ2200"]
["아스콘포설(#78)","피니셔(t=5Cm)",1,"a",25794,{"$f":"단가산출!CY1386","v":"4,197"},{"$f":"단가산출!CZ1386","v":"10,254"},{"$f":"단가산출!DA1386","v":"11,343"},"산근  34호표",null,null,null,null,null,null,null,null,null,null,null,null,null,null,null,null,null,null,null,null,null,null,null,null,null,null,null,null,null,null,null,null,null,null,null,null,null,null,null,null,null,null,null,null,null,null,null,null,null,null,null,null,null,null,null,null,null,null,null,null,null,null,null,null,null,null,null,null,null,null,null,null,null,null,null,null,null,null,null,null,null,null,null,null,null,null,null,null,null,null,null,null,null,null,null,null,null,null,null,null,null,null,null,null,null,null,null,"SKZ1900"]
["아스팔트 가열","적외선",1,"M",5154,{"$f":"단가산출!CY1427","v":"2,874"},{"$f":"단가산출!CZ1427","v":"1,523"},{"$f":"단가산출!DA1427","v":"757"},"산근  35호표",null,null,null,null,null,null,null,null,null,null,null,null,null,null,null,null,null,null,null,null,null,null,null,null,null,null,null,null,null,null,null,null,null,null,null,null,null,null,null,null,null,null,null,null,null,null,null,null,null,null,null,null,null,null,null,null,null,null,null,null,null,null,null,null,null,null,null,null,null,null,null,null,null,null,null,null,null,null,null,null,null,null,null,null,null,null,null,null,null,null,null,null,null,null,null,null,null,null,null,null,null,null,null,null,null,null,null,"S000-0180"]
["아스팔트 다짐","진동로라",1,"M",1054,{"$f":"단가산출!CY1454","v":"69"},{"$f":"단가산출!CZ1454","v":"949"},{"$f":"단가산출!DA1454","v":"36"},"산근  36호표",null,null,null,null,null,null,null,null,null,null,null,null,null,null,null,null,null,null,null,null,null,null,null,null,null,null,null,null,null,null,null,null,null,null,null,null,null,null,null,null,null,null,null,null,null,null,null,null,null,null,null,null,null,null,null,null,null,null,null,null,null,null,null,null,null,null,null,null,null,null,null,null,null,null,null,null,null,null,null,null,null,null,null,null,null,null,null,null,null,null,null,null,null,null,null,null,null,null,null,null,null,null,null,null,null,null,null,"S000-0190"]
["아스팔트(유제) 운반","서빙고역",1,"L",12,{"$f":"단가산출!CY1483","v":"0"},{"$f":"단가산출!CZ1483","v":"0"},{"$f":"단가산출!DA1483","v":"12"},"산근  37호표",null,null,null,null,null,null,null,null,null,null,null,null,null,null,null,null,null,null,null,null,null,null,null,null,null,null,null,null,null,null,null,null,null,null,null,null,null,null,null,null,null,null,null,null,null,null,null,null,null,null,null,null,null,null,null,null,null,null,null,null,null,null,null,null,null,null,null,null,null,null,null,null,null,null,null,null,null,null,null,null,null,null,null,null,null,null,null,null,null,null,null,null,null,null,null,null,null,null,null,null,null,null,null,null,null,null,null,"SQC1000"]
["아스팔트코팅","수동식",1,"M",85,{"$f":"단가산출!CY1514","v":"56"},{"$f":"단가산출!CZ1514","v":"29"},{"$f":"단가산출!DA1514","v":"0"},"산근  38호표",null,null,null,null,null,null,null,null,null,null,null,null,null,null,null,null,null,null,null,null,null,null,null,null,null,null,null,null,null,null,null,null,null,null,null,null,null,null,null,null,null,null,null,null,null,null,null,null,null,null,null,null,null,null,null,null,null,null,null,null,null,null,null,null,null,null,null,null,null,null,null,null,null,null,null,null,null,null,null,null,null,null,null,null,null,null,null,null,null,null,null,null,null,null,null,null,null,null,null,null,null,null,null,null,null,null,null,"S000-0160"]
["아스팔트포설","인력",1,"M",1842,{"$f":"단가산출!CY1533","v":"0"},{"$f":"단가산출!CZ1533","v":"1,842"},{"$f":"단가산출!DA1533","v":"0"},"산근  39호표",null,null,null,null,null,null,null,null,null,null,null,null,null,null,null,null,null,null,null,null,null,null,null,null,null,null,null,null,null,null,null,null,null,null,null,null,null,null,null,null,null,null,null,null,null,null,null,null,null,null,null,null,null,null,null,null,null,null,null,null,null,null,null,null,null,null,null,null,null,null,null,null,null,null,null,null,null,null,null,null,null,null,null,null,null,null,null,null,null,null,null,null,null,null,null,null,null,null,null,null,null,null,null,null,null,null,null,"S000-0170"]
["잔토처리상차(인력)","인력",1,"㎥",15677,{"$f":"단가산출!CY1548","v":"0"},{"$f":"단가산출!CZ1548","v":"15,677"},{"$f":"단가산출!DA1548","v":"0"},"산근  40호표",null,null,null,null,null,null,null,null,null,null,null,null,null,null,null,null,null,null,null,null,null,null,null,null,null,null,null,null,null,null,null,null,null,null,null,null,null,null,null,null,null,null,null,null,null,null,null,null,null,null,null,null,null,null,null,null,null,null,null,null,null,null,null,null,null,null,null,null,null,null,null,null,null,null,null,null,null,null,null,null,null,null,null,null,null,null,null,null,null,null,null,null,null,null,null,null,null,null,null,null,null,null,null,null,null,null,null,"S0037-110"]
["잔토처리상차(기계)","굴삭기0.2㎥",1,"㎥",2994,{"$f":"단가산출!CY1581","v":"365"},{"$f":"단가산출!CZ1581","v":"2,050"},{"$f":"단가산출!DA1581","v":"579"},"산근  41호표",null,null,null,null,null,null,null,null,null,null,null,null,null,null,null,null,null,null,null,null,null,null,null,null,null,null,null,null,null,null,null,null,null,null,null,null,null,null,null,null,null,null,null,null,null,null,null,null,null,null,null,null,null,null,null,null,null,null,null,null,null,null,null,null,null,null,null,null,null,null,null,null,null,null,null,null,null,null,null,null,null,null,null,null,null,null,null,null,null,null,null,null,null,null,null,null,null,null,null,null,null,null,null,null,null,null,null,"S0037"]
["잔토처리상차(기계)","굴삭기0.4㎥",1,"㎥",1746,{"$f":"단가산출!CY1614","v":"364"},{"$f":"단가산출!CZ1614","v":"1,025"},{"$f":"단가산출!DA1614","v":"357"},"산근  42호표",null,null,null,null,null,null,null,null,null,null,null,null,null,null,null,null,null,null,null,null,null,null,null,null,null,null,null,null,null,null,null,null,null,null,null,null,null,null,null,null,null,null,null,null,null,null,null,null,null,null,null,null,null,null,null,null,null,null,null,null,null,null,null,null,null,null,null,null,null,null,null,null,null,null,null,null,null,null,null,null,null,null,null,null,null,null,null,null,null,null,null,null,null,null,null,null,null,null,null,null,null,null,null,null,null,null,null,"S0035"]
["잔토처리상차(기계)","굴삭기0.7㎥",1,"㎥",1242,{"$f":"단가산출!CY1647","v":"271"},{"$f":"단가산출!CZ1647","v":"651"},{"$f":"단가산출!DA1647","v":"320"},"산근  43호표",null,null,null,null,null,null,null,null,null,null,null,null,null,null,null,null,null,null,null,null,null,null,null,null,null,null,null,null,null,null,null,null,null,null,null,null,null,null,null,null,null,null,null,null,null,null,null,null,null,null,null,null,null,null,null,null,null,null,null,null,null,null,null,null,null,null,null,null,null,null,null,null,null,null,null,null,null,null,null,null,null,null,null,null,null,null,null,null,null,null,null,null,null,null,null,null,null,null,null,null,null,null,null,null,null,null,null,"S0033"]
["잔토처리운반(L=3Km)","DT(2.5TON),인력",1,"㎥",21767,{"$f":"단가산출!CY1690","v":"0"},{"$f":"단가산출!CZ1690","v":"0"},{"$f":"단가산출!DA1690","v":"21,767"},"산근  44호표",null,null,null,null,null,null,null,null,null,null,null,null,null,null,null,null,null,null,null,null,null,null,null,null,null,null,null,null,null,null,null,null,null,null,null,null,null,null,null,null,null,null,null,null,null,null,null,null,null,null,null,null,null,null,null,null,null,null,null,null,null,null,null,null,null,null,null,null,null,null,null,null,null,null,null,null,null,null,null,null,null,null,null,null,null,null,null,null,null,null,null,null,null,null,null,null,null,null,null,null,null,null,null,null,null,null,null,"SDC41112"]
["잔토처리운반(L=3Km)","DT(4.5TON),B/H 0.2㎥",1,"㎥",10134,{"$f":"단가산출!CY1737","v":"0"},{"$f":"단가산출!CZ1737","v":"0"},{"$f":"단가산출!DA1737","v":"10,134"},"산근  45호표",null,null,null,null,null,null,null,null,null,null,null,null,null,null,null,null,null,null,null,null,null,null,null,null,null,null,null,null,null,null,null,null,null,null,null,null,null,null,null,null,null,null,null,null,null,null,null,null,null,null,null,null,null,null,null,null,null,null,null,null,null,null,null,null,null,null,null,null,null,null,null,null,null,null,null,null,null,null,null,null,null,null,null,null,null,null,null,null,null,null,null,null,null,null,null,null,null,null,null,null,null,null,null,null,null,null,null,"SSA00-001"]
["잔토처리운반(L=3Km)","DT(8.0TON),B/H 0.4㎥",1,"㎥",6638,{"$f":"단가산출!CY1784","v":"0"},{"$f":"단가산출!CZ1784","v":"0"},{"$f":"단가산출!DA1784","v":"6,638"},"산근  46호표",null,null,null,null,null,null,null,null,null,null,null,null,null,null,null,null,null,null,null,null,null,null,null,null,null,null,null,null,null,null,null,null,null,null,null,null,null,null,null,null,null,null,null,null,null,null,null,null,null,null,null,null,null,null,null,null,null,null,null,null,null,null,null,null,null,null,null,null,null,null,null,null,null,null,null,null,null,null,null,null,null,null,null,null,null,null,null,null,null,null,null,null,null,null,null,null,null,null,null,null,null,null,null,null,null,null,null,"SSA00-005"]
["잔토처리운반(L=3Km)","DT(15TON),B/H 0.6㎥",1,"㎥",5506,{"$f":"단가산출!CY1831","v":"0"},{"$f":"단가산출!CZ1831","v":"0"},{"$f":"단가산출!DA1831","v":"5,506"},"산근  47호표",null,null,null,null,null,null,null,null,null,null,null,null,null,null,null,null,null,null,null,null,null,null,null,null,null,null,null,null,null,null,null,null,null,null,null,null,null,null,null,null,null,null,null,null,null,null,null,null,null,null,null,null,null,null,null,null,null,null,null,null,null,null,null,null,null,null,null,null,null,null,null,null,null,null,null,null,null,null,null,null,null,null,null,null,null,null,null,null,null,null,null,null,null,null,null,null,null,null,null,null,null,null,null,null,null,null,null,"SSA00-009"]
["잔토처리운반(L=5Km)","DT(2.5TON),인력",1,"㎥",27765,{"$f":"단가산출!CY1872","v":"0"},{"$f":"단가산출!CZ1872","v":"0"},{"$f":"단가산출!DA1872","v":"27,765"},"산근  48호표",null,null,null,null,null,null,null,null,null,null,null,null,null,null,null,null,null,null,null,null,null,null,null,null,null,null,null,null,null,null,null,null,null,null,null,null,null,null,null,null,null,null,null,null,null,null,null,null,null,null,null,null,null,null,null,null,null,null,null,null,null,null,null,null,null,null,null,null,null,null,null,null,null,null,null,null,null,null,null,null,null,null,null,null,null,null,null,null,null,null,null,null,null,null,null,null,null,null,null,null,null,null,null,null,null,null,null,"SDC41112-011"]
["잔토처리운반(L=5Km)","DT(4.5TON),B/H 0.2㎥",1,"㎥",13817,{"$f":"단가산출!CY1919","v":"0"},{"$f":"단가산출!CZ1919","v":"0"},{"$f":"단가산출!DA1919","v":"13,817"},"산근  49호표",null,null,null,null,null,null,null,null,null,null,null,null,null,null,null,null,null,null,null,null,null,null,null,null,null,null,null,null,null,null,null,null,null,null,null,null,null,null,null,null,null,null,null,null,null,null,null,null,null,null,null,null,null,null,null,null,null,null,null,null,null,null,null,null,null,null,null,null,null,null,null,null,null,null,null,null,null,null,null,null,null,null,null,null,null,null,null,null,null,null,null,null,null,null,null,null,null,null,null,null,null,null,null,null,null,null,null,"SSA00-002"]
["잔토처리운반(L=5Km)","DT(8.0TON),B/H 0.4㎥",1,"㎥",9133,{"$f":"단가산출!CY1966","v":"0"},{"$f":"단가산출!CZ1966","v":"0"},{"$f":"단가산출!DA1966","v":"9,133"},"산근  50호표",null,null,null,null,null,null,null,null,null,null,null,null,null,null,null,null,null,null,null,null,null,null,null,null,null,null,null,null,null,null,null,null,null,null,null,null,null,null,null,null,null,null,null,null,null,null,null,null,null,null,null,null,null,null,null,null,null,null,null,null,null,null,null,null,null,null,null,null,null,null,null,null,null,null,null,null,null,null,null,null,null,null,null,null,null,null,null,null,null,null,null,null,null,null,null,null,null,null,null,null,null,null,null,null,null,null,null,"SSA00-006"]
["잔토처리운반(L=5Km)","DT(15TON),B/H 0.6㎥",1,"㎥",7460,{"$f":"단가산출!CY2013","v":"0"},{"$f":"단가산출!CZ2013","v":"0"},{"$f":"단가산출!DA2013","v":"7,460"},"산근  51호표",null,null,null,null,null,null,null,null,null,null,null,null,null,null,null,null,null,null,null,null,null,null,null,null,null,null,null,null,null,null,null,null,null,null,null,null,null,null,null,null,null,null,null,null,null,null,null,null,null,null,null,null,null,null,null,null,null,null,null,null,null,null,null,null,null,null,null,null,null,null,null,null,null,null,null,null,null,null,null,null,null,null,null,null,null,null,null,null,null,null,null,null,null,null,null,null,null,null,null,null,null,null,null,null,null,null,null,"SSA00-0010"]
["잔토처리운반(L=7Km)","DT(2.5TON),인력",1,"㎥",33878,{"$f":"단가산출!CY2054","v":"0"},{"$f":"단가산출!CZ2054","v":"0"},{"$f":"단가산출!DA2054","v":"33,878"},"산근  52호표",null,null,null,null,null,null,null,null,null,null,null,null,null,null,null,null,null,null,null,null,null,null,null,null,null,null,null,null,null,null,null,null,null,null,null,null,null,null,null,null,null,null,null,null,null,null,null,null,null,null,null,null,null,null,null,null,null,null,null,null,null,null,null,null,null,null,null,null,null,null,null,null,null,null,null,null,null,null,null,null,null,null,null,null,null,null,null,null,null,null,null,null,null,null,null,null,null,null,null,null,null,null,null,null,null,null,null,"SDC41112-012"]
["잔토처리운반(L=7Km)","DT(4.5TON),B/H 0.2㎥",1,"㎥",17539,{"$f":"단가산출!CY2101","v":"0"},{"$f":"단가산출!CZ2101","v":"0"},{"$f":"단가산출!DA2101","v":"17,539"},"산근  53호표",null,null,null,null,null,null,null,null,null,null,null,null,null,null,null,null,null,null,null,null,null,null,null,null,null,null,null,null,null,null,null,null,null,null,null,null,null,null,null,null,null,null,null,null,null,null,null,null,null,null,null,null,null,null,null,null,null,null,null,null,null,null,null,null,null,null,null,null,null,null,null,null,null,null,null,null,null,null,null,null,null,null,null,null,null,null,null,null,null,null,null,null,null,null,null,null,null,null,null,null,null,null,null,null,null,null,null,"SSA00-003"]
["잔토처리운반(L=7Km)","DT(8.0TON),B/H 0.4㎥",1,"㎥",11633,{"$f":"단가산출!CY2148","v":"0"},{"$f":"단가산출!CZ2148","v":"0"},{"$f":"단가산출!DA2148","v":"11,633"},"산근  54호표",null,null,null,null,null,null,null,null,null,null,null,null,null,null,null,null,null,null,null,null,null,null,null,null,null,null,null,null,null,null,null,null,null,null,null,null,null,null,null,null,null,null,null,null,null,null,null,null,null,null,null,null,null,null,null,null,null,null,null,null,null,null,null,null,null,null,null,null,null,null,null,null,null,null,null,null,null,null,null,null,null,null,null,null,null,null,null,null,null,null,null,null,null,null,null,null,null,null,null,null,null,null,null,null,null,null,null,"SSA00-007"]
["잔토처리운반(L=7Km)","DT(15TON),B/H 0.6㎥",1,"㎥",9413,{"$f":"단가산출!CY2195","v":"0"},{"$f":"단가산출!CZ2195","v":"0"},{"$f":"단가산출!DA2195","v":"9,413"},"산근  55호표",null,null,null,null,null,null,null,null,null,null,null,null,null,null,null,null,null,null,null,null,null,null,null,null,null,null,null,null,null,null,null,null,null,null,null,null,null,null,null,null,null,null,null,null,null,null,null,null,null,null,null,null,null,null,null,null,null,null,null,null,null,null,null,null,null,null,null,null,null,null,null,null,null,null,null,null,null,null,null,null,null,null,null,null,null,null,null,null,null,null,null,null,null,null,null,null,null,null,null,null,null,null,null,null,null,null,null,"SSA00-0011"]
["잔토처리운반(L=9Km)","DT(2.5TON),인력",1,"㎥",40051,{"$f":"단가산출!CY2236","v":"0"},{"$f":"단가산출!CZ2236","v":"0"},{"$f":"단가산출!DA2236","v":"40,051"},"산근  56호표",null,null,null,null,null,null,null,null,null,null,null,null,null,null,null,null,null,null,null,null,null,null,null,null,null,null,null,null,null,null,null,null,null,null,null,null,null,null,null,null,null,null,null,null,null,null,null,null,null,null,null,null,null,null,null,null,null,null,null,null,null,null,null,null,null,null,null,null,null,null,null,null,null,null,null,null,null,null,null,null,null,null,null,null,null,null,null,null,null,null,null,null,null,null,null,null,null,null,null,null,null,null,null,null,null,null,null,"SDC41112-013"]
["잔토처리운반(L=9Km)","DT(4.5TON),B/H 0.2㎥",1,"㎥",20836,{"$f":"단가산출!CY2283","v":"0"},{"$f":"단가산출!CZ2283","v":"0"},{"$f":"단가산출!DA2283","v":"20,836"},"산근  57호표",null,null,null,null,null,null,null,null,null,null,null,null,null,null,null,null,null,null,null,null,null,null,null,null,null,null,null,null,null,null,null,null,null,null,null,null,null,null,null,null,null,null,null,null,null,null,null,null,null,null,null,null,null,null,null,null,null,null,null,null,null,null,null,null,null,null,null,null,null,null,null,null,null,null,null,null,null,null,null,null,null,null,null,null,null,null,null,null,null,null,null,null,null,null,null,null,null,null,null,null,null,null,null,null,null,null,null,"SSA00-004"]
["잔토처리운반(L=9Km)","DT(8.0TON),B/H 0.4㎥",1,"㎥",14133,{"$f":"단가산출!CY2330","v":"0"},{"$f":"단가산출!CZ2330","v":"0"},{"$f":"단가산출!DA2330","v":"14,133"},"산근  58호표",null,null,null,null,null,null,null,null,null,null,null,null,null,null,null,null,null,null,null,null,null,null,null,null,null,null,null,null,null,null,null,null,null,null,null,null,null,null,null,null,null,null,null,null,null,null,null,null,null,null,null,null,null,null,null,null,null,null,null,null,null,null,null,null,null,null,null,null,null,null,null,null,null,null,null,null,null,null,null,null,null,null,null,null,null,null,null,null,null,null,null,null,null,null,null,null,null,null,null,null,null,null,null,null,null,null,null,"SSA00-008"]
["잔토처리운반(L=9Km)","DT(15TON),B/H 0.6㎥",1,"㎥",11375,{"$f":"단가산출!CY2377","v":"0"},{"$f":"단가산출!CZ2377","v":"0"},{"$f":"단가산출!DA2377","v":"11,375"},"산근  59호표",null,null,null,null,null,null,null,null,null,null,null,null,null,null,null,null,null,null,null,null,null,null,null,null,null,null,null,null,null,null,null,null,null,null,null,null,null,null,null,null,null,null,null,null,null,null,null,null,null,null,null,null,null,null,null,null,null,null,null,null,null,null,null,null,null,null,null,null,null,null,null,null,null,null,null,null,null,null,null,null,null,null,null,null,null,null,null,null,null,null,null,null,null,null,null,null,null,null,null,null,null,null,null,null,null,null,null,"SSA00-0012"]
["잔토처리운반(집하장-김포)L=52.6km","DT(15TON)",1,"㎥",34084,{"$f":"단가산출!CY2432","v":"0"},{"$f":"단가산출!CZ2432","v":"0"},{"$f":"단가산출!DA2432","v":"34,084"},"산근  60호표",null,null,null,null,null,null,null,null,null,null,null,null,null,null,null,null,null,null,null,null,null,null,null,null,null,null,null,null,null,null,null,null,null,null,null,null,null,null,null,null,null,null,null,null,null,null,null,null,null,null,null,null,null,null,null,null,null,null,null,null,null,null,null,null,null,null,null,null,null,null,null,null,null,null,null,null,null,null,null,null,null,null,null,null,null,null,null,null,null,null,null,null,null,null,null,null,null,null,null,null,null,null,null,null,null,null,null,"SDC4112"]
["잔토처리운반(집하장-김포)L=52.6km","DT(24TON)",1,"㎥",26984,{"$f":"단가산출!CY2487","v":"0"},{"$f":"단가산출!CZ2487","v":"0"},{"$f":"단가산출!DA2487","v":"26,984"},"산근  61호표",null,null,null,null,null,null,null,null,null,null,null,null,null,null,null,null,null,null,null,null,null,null,null,null,null,null,null,null,null,null,null,null,null,null,null,null,null,null,null,null,null,null,null,null,null,null,null,null,null,null,null,null,null,null,null,null,null,null,null,null,null,null,null,null,null,null,null,null,null,null,null,null,null,null,null,null,null,null,null,null,null,null,null,null,null,null,null,null,null,null,null,null,null,null,null,null,null,null,null,null,null,null,null,null,null,null,null,"SDC4113"]
["중기운반(포장장비)","",1,"식",235668,{"$f":"단가산출!CY2524","v":"0"},{"$f":"단가산출!CZ2524","v":"0"},{"$f":"단가산출!DA2524","v":"235,668"},"산근  62호표",null,null,null,null,null,null,null,null,null,null,null,null,null,null,null,null,null,null,null,null,null,null,null,null,null,null,null,null,null,null,null,null,null,null,null,null,null,null,null,null,null,null,null,null,null,null,null,null,null,null,null,null,null,null,null,null,null,null,null,null,null,null,null,null,null,null,null,null,null,null,null,null,null,null,null,null,null,null,null,null,null,null,null,null,null,null,null,null,null,null,null,null,null,null,null,null,null,null,null,null,null,null,null,null,null,null,null,"S000-0230"]
["철근운반","",1,"TON",16854,{"$f":"단가산출!CY2561","v":"0"},{"$f":"단가산출!CZ2561","v":"0"},{"$f":"단가산출!DA2561","v":"16,854"},"산근  63호표",null,null,null,null,null,null,null,null,null,null,null,null,null,null,null,null,null,null,null,null,null,null,null,null,null,null,null,null,null,null,null,null,null,null,null,null,null,null,null,null,null,null,null,null,null,null,null,null,null,null,null,null,null,null,null,null,null,null,null,null,null,null,null,null,null,null,null,null,null,null,null,null,null,null,null,null,null,null,null,null,null,null,null,null,null,null,null,null,null,null,null,null,null,null,null,null,null,null,null,null,null,null,null,null,null,null,null,"SQB1000"]
["청소 및 건조","",1,"M",30765,{"$f":"단가산출!CY2624","v":"4,760"},{"$f":"단가산출!CZ2624","v":"24,268"},{"$f":"단가산출!DA2624","v":"1,737"},"산근  64호표",null,null,null,null,null,null,null,null,null,null,null,null,null,null,null,null,null,null,null,null,null,null,null,null,null,null,null,null,null,null,null,null,null,null,null,null,null,null,null,null,null,null,null,null,null,null,null,null,null,null,null,null,null,null,null,null,null,null,null,null,null,null,null,null,null,null,null,null,null,null,null,null,null,null,null,null,null,null,null,null,null,null,null,null,null,null,null,null,null,null,null,null,null,null,null,null,null,null,null,null,null,null,null,null,null,null,null,"S000-0150"]
["초조강시멘트운반","자재비포함",1,"㎏",{"$f":"F69+G69+H69","v":335},{"$f":"단가산출!CY2651","v":"0"},{"$f":"단가산출!CZ2651","v":"0"},{"$f":"단가산출!DA2651","v":"335"},"산근  65호표",null,null,null,null,null,null,null,null,null,null,null,null,null,null,null,null,null,null,null,null,null,null,null,null,null,null,null,null,null,null,null,null,null,null,null,null,null,null,null,null,null,null,null,null,null,null,null,null,null,null,null,null,null,null,null,null,null,null,null,null,null,null,null,null,null,null,null,null,null,null,null,null,null,null,null,null,null,null,null,null,null,null,null,null,null,null,null,null,null,null,null,null,null,null,null,null,null,null,null,null,null,null,null,null,null,null,null,"S0002"]
["층따기","(도쟈19TON)",1,"㎥",1489,{"$f":"단가산출!CY2726","v":"504"},{"$f":"단가산출!CZ2726","v":"591"},{"$f":"단가산출!DA2726","v":"394"},"산근  66호표",null,null,null,null,null,null,null,null,null,null,null,null,null,null,null,null,null,null,null,null,null,null,null,null,null,null,null,null,null,null,null,null,null,null,null,null,null,null,null,null,null,null,null,null,null,null,null,null,null,null,null,null,null,null,null,null,null,null,null,null,null,null,null,null,null,null,null,null,null,null,null,null,null,null,null,null,null,null,null,null,null,null,null,null,null,null,null,null,null,null,null,null,null,null,null,null,null,null,null,null,null,null,null,null,null,null,null,"SDE4000"]
["콘크리트깨기(무근,두께30cm미만)","굴삭기0.2㎥+브레이카",1,"㎥",48943,{"$f":"단가산출!CY2765","v":"4,886"},{"$f":"단가산출!CZ2765","v":"35,391"},{"$f":"단가산출!DA2765","v":"8,666"},"산근  67호표",null,null,null,null,null,null,null,null,null,null,null,null,null,null,null,null,null,null,null,null,null,null,null,null,null,null,null,null,null,null,null,null,null,null,null,null,null,null,null,null,null,null,null,null,null,null,null,null,null,null,null,null,null,null,null,null,null,null,null,null,null,null,null,null,null,null,null,null,null,null,null,null,null,null,null,null,null,null,null,null,null,null,null,null,null,null,null,null,null,null,null,null,null,null,null,null,null,null,null,null,null,null,null,null,null,null,null,"SDB1231"]
["콘크리트깨기(무근,두께30cm미만)","굴삭기0.4㎥+브레이카",1,"㎥",29930,{"$f":"단가산출!CY2804","v":"5,013"},{"$f":"단가산출!CZ2804","v":"18,768"},{"$f":"단가산출!DA2804","v":"6,149"},"산근  68호표",null,null,null,null,null,null,null,null,null,null,null,null,null,null,null,null,null,null,null,null,null,null,null,null,null,null,null,null,null,null,null,null,null,null,null,null,null,null,null,null,null,null,null,null,null,null,null,null,null,null,null,null,null,null,null,null,null,null,null,null,null,null,null,null,null,null,null,null,null,null,null,null,null,null,null,null,null,null,null,null,null,null,null,null,null,null,null,null,null,null,null,null,null,null,null,null,null,null,null,null,null,null,null,null,null,null,null,"SDB1232"]
["콘크리트깨기(무근,두께30cm미만)","굴삭기0.6㎥+브레이카",1,"㎥",27332,{"$f":"단가산출!CY2843","v":"4,605"},{"$f":"단가산출!CZ2843","v":"15,483"},{"$f":"단가산출!DA2843","v":"7,244"},"산근  69호표",null,null,null,null,null,null,null,null,null,null,null,null,null,null,null,null,null,null,null,null,null,null,null,null,null,null,null,null,null,null,null,null,null,null,null,null,null,null,null,null,null,null,null,null,null,null,null,null,null,null,null,null,null,null,null,null,null,null,null,null,null,null,null,null,null,null,null,null,null,null,null,null,null,null,null,null,null,null,null,null,null,null,null,null,null,null,null,null,null,null,null,null,null,null,null,null,null,null,null,null,null,null,null,null,null,null,null,"SDB1232-1"]
["콘크리트깨기(무근,두께30cm미만)","굴삭기0.7㎥+브레이카",1,"㎥",24833,{"$f":"단가산출!CY2882","v":"4,445"},{"$f":"단가산출!CZ2882","v":"13,464"},{"$f":"단가산출!DA2882","v":"6,924"},"산근  70호표",null,null,null,null,null,null,null,null,null,null,null,null,null,null,null,null,null,null,null,null,null,null,null,null,null,null,null,null,null,null,null,null,null,null,null,null,null,null,null,null,null,null,null,null,null,null,null,null,null,null,null,null,null,null,null,null,null,null,null,null,null,null,null,null,null,null,null,null,null,null,null,null,null,null,null,null,null,null,null,null,null,null,null,null,null,null,null,null,null,null,null,null,null,null,null,null,null,null,null,null,null,null,null,null,null,null,null,"SDB1233"]
["콘크리트깨기(무근,두께30cm미만)","굴삭기0.8㎥+브레이카",1,"㎥",24021,{"$f":"단가산출!CY2921","v":"5,064"},{"$f":"단가산출!CZ2921","v":"11,910"},{"$f":"단가산출!DA2921","v":"7,047"},"산근  71호표",null,null,null,null,null,null,null,null,null,null,null,null,null,null,null,null,null,null,null,null,null,null,null,null,null,null,null,null,null,null,null,null,null,null,null,null,null,null,null,null,null,null,null,null,null,null,null,null,null,null,null,null,null,null,null,null,null,null,null,null,null,null,null,null,null,null,null,null,null,null,null,null,null,null,null,null,null,null,null,null,null,null,null,null,null,null,null,null,null,null,null,null,null,null,null,null,null,null,null,null,null,null,null,null,null,null,null,"SDB1234"]
["콘크리트깨기(철근,두께30cm미만)","굴삭기0.4㎥+브레이카",1,"㎥",61733,{"$f":"단가산출!CY2960","v":"10,340"},{"$f":"단가산출!CZ2960","v":"38,709"},{"$f":"단가산출!DA2960","v":"12,684"},"산근  72호표",null,null,null,null,null,null,null,null,null,null,null,null,null,null,null,null,null,null,null,null,null,null,null,null,null,null,null,null,null,null,null,null,null,null,null,null,null,null,null,null,null,null,null,null,null,null,null,null,null,null,null,null,null,null,null,null,null,null,null,null,null,null,null,null,null,null,null,null,null,null,null,null,null,null,null,null,null,null,null,null,null,null,null,null,null,null,null,null,null,null,null,null,null,null,null,null,null,null,null,null,null,null,null,null,null,null,null,"SDB1132"]
["콘크리트깨기(철근,두께30cm미만)","굴삭기0.6㎥+브레이카",1,"㎥",54667,{"$f":"단가산출!CY2999","v":"9,211"},{"$f":"단가산출!CZ2999","v":"30,968"},{"$f":"단가산출!DA2999","v":"14,488"},"산근  73호표",null,null,null,null,null,null,null,null,null,null,null,null,null,null,null,null,null,null,null,null,null,null,null,null,null,null,null,null,null,null,null,null,null,null,null,null,null,null,null,null,null,null,null,null,null,null,null,null,null,null,null,null,null,null,null,null,null,null,null,null,null,null,null,null,null,null,null,null,null,null,null,null,null,null,null,null,null,null,null,null,null,null,null,null,null,null,null,null,null,null,null,null,null,null,null,null,null,null,null,null,null,null,null,null,null,null,null,"SDB1132-1"]
["콘크리트깨기(철근,두께30cm미만)","굴삭기0.7㎥+브레이카",1,"㎥",46626,{"$f":"단가산출!CY3038","v":"8,346"},{"$f":"단가산출!CZ3038","v":"25,279"},{"$f":"단가산출!DA3038","v":"13,001"},"산근  74호표",null,null,null,null,null,null,null,null,null,null,null,null,null,null,null,null,null,null,null,null,null,null,null,null,null,null,null,null,null,null,null,null,null,null,null,null,null,null,null,null,null,null,null,null,null,null,null,null,null,null,null,null,null,null,null,null,null,null,null,null,null,null,null,null,null,null,null,null,null,null,null,null,null,null,null,null,null,null,null,null,null,null,null,null,null,null,null,null,null,null,null,null,null,null,null,null,null,null,null,null,null,null,null,null,null,null,null,"SDB1133"]
["콘크리트깨기(철근,두께30cm미만)","굴삭기0.8㎥+브레이카",1,"㎥",43074,{"$f":"단가산출!CY3077","v":"9,080"},{"$f":"단가산출!CZ3077","v":"21,357"},{"$f":"단가산출!DA3077","v":"12,637"},"산근  75호표",null,null,null,null,null,null,null,null,null,null,null,null,null,null,null,null,null,null,null,null,null,null,null,null,null,null,null,null,null,null,null,null,null,null,null,null,null,null,null,null,null,null,null,null,null,null,null,null,null,null,null,null,null,null,null,null,null,null,null,null,null,null,null,null,null,null,null,null,null,null,null,null,null,null,null,null,null,null,null,null,null,null,null,null,null,null,null,null,null,null,null,null,null,null,null,null,null,null,null,null,null,null,null,null,null,null,null,"SDB1134"]
["토사깍기","(도쟈19TON)",1,"㎥",1489,{"$f":"단가산출!CY3215","v":"504"},{"$f":"단가산출!CZ3215","v":"591"},{"$f":"단가산출!DA3215","v":"394"},"산근  76호표",null,null,null,null,null,null,null,null,null,null,null,null,null,null,null,null,null,null,null,null,null,null,null,null,null,null,null,null,null,null,null,null,null,null,null,null,null,null,null,null,null,null,null,null,null,null,null,null,null,null,null,null,null,null,null,null,null,null,null,null,null,null,null,null,null,null,null,null,null,null,null,null,null,null,null,null,null,null,null,null,null,null,null,null,null,null,null,null,null,null,null,null,null,null,null,null,null,null,null,null,null,null,null,null,null,null,null,"SDC2110"]
["토사깍기","(도쟈32TON)",1,"㎥",1184,{"$f":"단가산출!CY3290","v":"504"},{"$f":"단가산출!CZ3290","v":"355"},{"$f":"단가산출!DA3290","v":"325"},"산근  77호표",null,null,null,null,null,null,null,null,null,null,null,null,null,null,null,null,null,null,null,null,null,null,null,null,null,null,null,null,null,null,null,null,null,null,null,null,null,null,null,null,null,null,null,null,null,null,null,null,null,null,null,null,null,null,null,null,null,null,null,null,null,null,null,null,null,null,null,null,null,null,null,null,null,null,null,null,null,null,null,null,null,null,null,null,null,null,null,null,null,null,null,null,null,null,null,null,null,null,null,null,null,null,null,null,null,null,null,"SDC2120"]
["투수콘운반","DT(15TON)",1,"㎥",20062,{"$f":"단가산출!CY3329","v":"0"},{"$f":"단가산출!CZ3329","v":"0"},{"$f":"단가산출!DA3329","v":"20,062"},"산근  78호표",null,null,null,null,null,null,null,null,null,null,null,null,null,null,null,null,null,null,null,null,null,null,null,null,null,null,null,null,null,null,null,null,null,null,null,null,null,null,null,null,null,null,null,null,null,null,null,null,null,null,null,null,null,null,null,null,null,null,null,null,null,null,null,null,null,null,null,null,null,null,null,null,null,null,null,null,null,null,null,null,null,null,null,null,null,null,null,null,null,null,null,null,null,null,null,null,null,null,null,null,null,null,null,null,null,null,null,"S0009"]
["투수콘크리트포설및다짐(표층용)","T=2cm",1,"a",137915,{"$f":"단가산출!CY3406","v":"7,458"},{"$f":"단가산출!CZ3406","v":"124,453"},{"$f":"단가산출!DA3406","v":"6,004"},"산근  79호표",null,null,null,null,null,null,null,null,null,null,null,null,null,null,null,null,null,null,null,null,null,null,null,null,null,null,null,null,null,null,null,null,null,null,null,null,null,null,null,null,null,null,null,null,null,null,null,null,null,null,null,null,null,null,null,null,null,null,null,null,null,null,null,null,null,null,null,null,null,null,null,null,null,null,null,null,null,null,null,null,null,null,null,null,null,null,null,null,null,null,null,null,null,null,null,null,null,null,null,null,null,null,null,null,null,null,null,"S0230"]
["투수콘크리트포설및다짐(기층용)","T=5cm",1,"a",84565,{"$f":"단가산출!CY3481","v":"6,562"},{"$f":"단가산출!CZ3481","v":"71,517"},{"$f":"단가산출!DA3481","v":"6,486"},"산근  80호표",null,null,null,null,null,null,null,null,null,null,null,null,null,null,null,null,null,null,null,null,null,null,null,null,null,null,null,null,null,null,null,null,null,null,null,null,null,null,null,null,null,null,null,null,null,null,null,null,null,null,null,null,null,null,null,null,null,null,null,null,null,null,null,null,null,null,null,null,null,null,null,null,null,null,null,null,null,null,null,null,null,null,null,null,null,null,null,null,null,null,null,null,null,null,null,null,null,null,null,null,null,null,null,null,null,null,null,"S0220"]
["투수콘크리트 포설및다짐","T=7cm,인력",1,"a",205238,{"$f":"단가산출!CY3558","v":"7,534"},{"$f":"단가산출!CZ3558","v":"192,252"},{"$f":"단가산출!DA3558","v":"5,452"},"산근  81호표",null,null,null,null,null,null,null,null,null,null,null,null,null,null,null,null,null,null,null,null,null,null,null,null,null,null,null,null,null,null,null,null,null,null,null,null,null,null,null,null,null,null,null,null,null,null,null,null,null,null,null,null,null,null,null,null,null,null,null,null,null,null,null,null,null,null,null,null,null,null,null,null,null,null,null,null,null,null,null,null,null,null,null,null,null,null,null,null,null,null,null,null,null,null,null,null,null,null,null,null,null,null,null,null,null,null,null,"S0146"]
["투수콘크리트 포설및다짐","T=10cm,인력",1,"a",210216,{"$f":"단가산출!CY3635","v":"8,572"},{"$f":"단가산출!CZ3635","v":"195,174"},{"$f":"단가산출!DA3635","v":"6,470"},"산근  82호표",null,null,null,null,null,null,null,null,null,null,null,null,null,null,null,null,null,null,null,null,null,null,null,null,null,null,null,null,null,null,null,null,null,null,null,null,null,null,null,null,null,null,null,null,null,null,null,null,null,null,null,null,null,null,null,null,null,null,null,null,null,null,null,null,null,null,null,null,null,null,null,null,null,null,null,null,null,null,null,null,null,null,null,null,null,null,null,null,null,null,null,null,null,null,null,null,null,null,null,null,null,null,null,null,null,null,null,"S0147"]
["포장깨기(아스팔트)","굴삭기0.2㎥+브레이카",1,"㎥",20931,{"$f":"단가산출!CY3709","v":"2,126"},{"$f":"단가산출!CZ3709","v":"15,106"},{"$f":"단가산출!DA3709","v":"3,699"},"산근  83-1호표",null,null,null,null,null,null,null,null,null,null,null,null,null,null,null,null,null,null,null,null,null,null,null,null,null,null,null,null,null,null,null,null,null,null,null,null,null,null,null,null,null,null,null,null,null,null,null,null,null,null,null,null,null,null,null,null,null,null,null,null,null,null,null,null,null,null,null,null,null,null,null,null,null,null,null,null,null,null,null,null,null,null,null,null,null,null,null,null,null,null,null,null,null,null,null,null,null,null,null,null,null,null,null,null,null,null,null,"SDB2232-1"]
["포장깨기(아스팔트)","굴삭기0.4㎥+브레이카",1,"㎥",{"$f":"F88+G88+H88","v":14343},{"$f":"단가산출!CY3746","v":"2,426"},{"$f":"단가산출!CZ3746","v":"8,976"},{"$f":"단가산출!DA3746","v":"2,941"},"산근  83-2호표",null,null,null,null,null,null,null,null,null,null,null,null,null,null,null,null,null,null,null,null,null,null,null,null,null,null,null,null,null,null,null,null,null,null,null,null,null,null,null,null,null,null,null,null,null,null,null,null,null,null,null,null,null,null,null,null,null,null,null,null,null,null,null,null,null,null,null,null,null,null,null,null,null,null,null,null,null,null,null,null,null,null,null,null,null,null,null,null,null,null,null,null,null,null,null,null,null,null,null,null,null,null,null,null,null,null,null,"SDB2232-1"]
["포장깨기(아스팔트)","굴삭기0.6㎥+브레이카",1,"㎥",6831,{"$f":"단가산출!CY3672","v":"1,151"},{"$f":"단가산출!CZ3672","v":"3,870"},{"$f":"단가산출!DA3672","v":"1,810"},"산근  83호표",null,null,null,null,null,null,null,null,null,null,null,null,null,null,null,null,null,null,null,null,null,null,null,null,null,null,null,null,null,null,null,null,null,null,null,null,null,null,null,null,null,null,null,null,null,null,null,null,null,null,null,null,null,null,null,null,null,null,null,null,null,null,null,null,null,null,null,null,null,null,null,null,null,null,null,null,null,null,null,null,null,null,null,null,null,null,null,null,null,null,null,null,null,null,null,null,null,null,null,null,null,null,null,null,null,null,null,"SDB2232-1"]
["포장깨기(아스팔트)","굴삭기0.7㎥+브레이카",1,"㎥",7138,{"$f":"단가산출!CY3783","v":"1,278"},{"$f":"단가산출!CZ3783","v":"3,870"},{"$f":"단가산출!DA3783","v":"1,990"},"산근  84호표",null,null,null,null,null,null,null,null,null,null,null,null,null,null,null,null,null,null,null,null,null,null,null,null,null,null,null,null,null,null,null,null,null,null,null,null,null,null,null,null,null,null,null,null,null,null,null,null,null,null,null,null,null,null,null,null,null,null,null,null,null,null,null,null,null,null,null,null,null,null,null,null,null,null,null,null,null,null,null,null,null,null,null,null,null,null,null,null,null,null,null,null,null,null,null,null,null,null,null,null,null,null,null,null,null,null,null,"SDB2233"]
["포장깨기(아스팔트)","굴삭기0.8㎥+브레이카",1,"㎥",7805,{"$f":"단가산출!CY3820","v":"1,645"},{"$f":"단가산출!CZ3820","v":"3,870"},{"$f":"단가산출!DA3820","v":"2,290"},"산근  85호표",null,null,null,null,null,null,null,null,null,null,null,null,null,null,null,null,null,null,null,null,null,null,null,null,null,null,null,null,null,null,null,null,null,null,null,null,null,null,null,null,null,null,null,null,null,null,null,null,null,null,null,null,null,null,null,null,null,null,null,null,null,null,null,null,null,null,null,null,null,null,null,null,null,null,null,null,null,null,null,null,null,null,null,null,null,null,null,null,null,null,null,null,null,null,null,null,null,null,null,null,null,null,null,null,null,null,null,"SDB2234"]
["포장파쇄(아스팔트)","소형",1,"M",4262,{"$f":"단가산출!CY3859","v":"424"},{"$f":"단가산출!CZ3859","v":"2,548"},{"$f":"단가산출!DA3859","v":"1,290"},"산근  86호표",null,null,null,null,null,null,null,null,null,null,null,null,null,null,null,null,null,null,null,null,null,null,null,null,null,null,null,null,null,null,null,null,null,null,null,null,null,null,null,null,null,null,null,null,null,null,null,null,null,null,null,null,null,null,null,null,null,null,null,null,null,null,null,null,null,null,null,null,null,null,null,null,null,null,null,null,null,null,null,null,null,null,null,null,null,null,null,null,null,null,null,null,null,null,null,null,null,null,null,null,null,null,null,null,null,null,null,"S000-0140"]
["포장깨기(콘크리트)","굴삭기0.2㎥+브레이카",1,"㎥",48943,{"$f":"단가산출!CY3896","v":"4,886"},{"$f":"단가산출!CZ3896","v":"35,391"},{"$f":"단가산출!DA3896","v":"8,666"},"산근  87호표",null,null,null,null,null,null,null,null,null,null,null,null,null,null,null,null,null,null,null,null,null,null,null,null,null,null,null,null,null,null,null,null,null,null,null,null,null,null,null,null,null,null,null,null,null,null,null,null,null,null,null,null,null,null,null,null,null,null,null,null,null,null,null,null,null,null,null,null,null,null,null,null,null,null,null,null,null,null,null,null,null,null,null,null,null,null,null,null,null,null,null,null,null,null,null,null,null,null,null,null,null,null,null,null,null,null,null,"SDB2131"]
["포장깨기(콘크리트)","굴삭기0.4㎥+브레이카",1,"㎥",29930,{"$f":"단가산출!CY3933","v":"5,013"},{"$f":"단가산출!CZ3933","v":"18,768"},{"$f":"단가산출!DA3933","v":"6,149"},"산근  88호표",null,null,null,null,null,null,null,null,null,null,null,null,null,null,null,null,null,null,null,null,null,null,null,null,null,null,null,null,null,null,null,null,null,null,null,null,null,null,null,null,null,null,null,null,null,null,null,null,null,null,null,null,null,null,null,null,null,null,null,null,null,null,null,null,null,null,null,null,null,null,null,null,null,null,null,null,null,null,null,null,null,null,null,null,null,null,null,null,null,null,null,null,null,null,null,null,null,null,null,null,null,null,null,null,null,null,null,"SDB2132"]
["포장깨기(콘크리트)","굴삭기0.6㎥+브레이카",1,"㎥",27332,{"$f":"단가산출!CY3970","v":"4,605"},{"$f":"단가산출!CZ3970","v":"15,483"},{"$f":"단가산출!DA3970","v":"7,244"},"산근  89호표",null,null,null,null,null,null,null,null,null,null,null,null,null,null,null,null,null,null,null,null,null,null,null,null,null,null,null,null,null,null,null,null,null,null,null,null,null,null,null,null,null,null,null,null,null,null,null,null,null,null,null,null,null,null,null,null,null,null,null,null,null,null,null,null,null,null,null,null,null,null,null,null,null,null,null,null,null,null,null,null,null,null,null,null,null,null,null,null,null,null,null,null,null,null,null,null,null,null,null,null,null,null,null,null,null,null,null,"SDB2132-1"]
["포장깨기(콘크리트)","굴삭기0.7㎥+브레이카",1,"㎥",24833,{"$f":"단가산출!CY4007","v":"4,445"},{"$f":"단가산출!CZ4007","v":"13,464"},{"$f":"단가산출!DA4007","v":"6,924"},"산근  90호표",null,null,null,null,null,null,null,null,null,null,null,null,null,null,null,null,null,null,null,null,null,null,null,null,null,null,null,null,null,null,null,null,null,null,null,null,null,null,null,null,null,null,null,null,null,null,null,null,null,null,null,null,null,null,null,null,null,null,null,null,null,null,null,null,null,null,null,null,null,null,null,null,null,null,null,null,null,null,null,null,null,null,null,null,null,null,null,null,null,null,null,null,null,null,null,null,null,null,null,null,null,null,null,null,null,null,null,"SDB2133"]
["포장깨기(콘크리트)","굴삭기0.8㎥+브레이카",1,"㎥",24021,{"$f":"단가산출!CY4044","v":"5,064"},{"$f":"단가산출!CZ4044","v":"11,910"},{"$f":"단가산출!DA4044","v":"7,047"},"산근  91호표",null,null,null,null,null,null,null,null,null,null,null,null,null,null,null,null,null,null,null,null,null,null,null,null,null,null,null,null,null,null,null,null,null,null,null,null,null,null,null,null,null,null,null,null,null,null,null,null,null,null,null,null,null,null,null,null,null,null,null,null,null,null,null,null,null,null,null,null,null,null,null,null,null,null,null,null,null,null,null,null,null,null,null,null,null,null,null,null,null,null,null,null,null,null,null,null,null,null,null,null,null,null,null,null,null,null,null,"SDB2134"]
["파쇄물처리상차(기계)","굴삭기0.7㎥",1,"㎥",3816,{"$f":"단가산출!CY4077","v":"833"},{"$f":"단가산출!CZ4077","v":"2,000"},{"$f":"단가산출!DA4077","v":"983"},"산근  92호표",null,null,null,null,null,null,null,null,null,null,null,null,null,null,null,null,null,null,null,null,null,null,null,null,null,null,null,null,null,null,null,null,null,null,null,null,null,null,null,null,null,null,null,null,null,null,null,null,null,null,null,null,null,null,null,null,null,null,null,null,null,null,null,null,null,null,null,null,null,null,null,null,null,null,null,null,null,null,null,null,null,null,null,null,null,null,null,null,null,null,null,null,null,null,null,null,null,null,null,null,null,null,null,null,null,null,null,"S0039"]
["파쇄물처리상차(기계)","굴삭기0.4㎥",1,"㎥",5366,{"$f":"단가산출!CY4110","v":"1,119"},{"$f":"단가산출!CZ4110","v":"3,150"},{"$f":"단가산출!DA4110","v":"1,097"},"산근  93호표",null,null,null,null,null,null,null,null,null,null,null,null,null,null,null,null,null,null,null,null,null,null,null,null,null,null,null,null,null,null,null,null,null,null,null,null,null,null,null,null,null,null,null,null,null,null,null,null,null,null,null,null,null,null,null,null,null,null,null,null,null,null,null,null,null,null,null,null,null,null,null,null,null,null,null,null,null,null,null,null,null,null,null,null,null,null,null,null,null,null,null,null,null,null,null,null,null,null,null,null,null,null,null,null,null,null,null,"S0041"]
["파쇄물처리상차(기계)","굴삭기0.2㎥",1,"㎥",9201,{"$f":"단가산출!CY4143","v":"1,121"},{"$f":"단가산출!CZ4143","v":"6,301"},{"$f":"단가산출!DA4143","v":"1,779"},"산근  94호표",null,null,null,null,null,null,null,null,null,null,null,null,null,null,null,null,null,null,null,null,null,null,null,null,null,null,null,null,null,null,null,null,null,null,null,null,null,null,null,null,null,null,null,null,null,null,null,null,null,null,null,null,null,null,null,null,null,null,null,null,null,null,null,null,null,null,null,null,null,null,null,null,null,null,null,null,null,null,null,null,null,null,null,null,null,null,null,null,null,null,null,null,null,null,null,null,null,null,null,null,null,null,null,null,null,null,null,"S0043"]
["폐기물상차비","적치장상차(굴삭기0.4㎥)",1,"TON",1492,{"$f":"단가산출!CY4178","v":"782"},{"$f":"단가산출!CZ4178","v":"326"},{"$f":"단가산출!DA4178","v":"384"},"산근  95호표",null,null,null,null,null,null,null,null,null,null,null,null,null,null,null,null,null,null,null,null,null,null,null,null,null,null,null,null,null,null,null,null,null,null,null,null,null,null,null,null,null,null,null,null,null,null,null,null,null,null,null,null,null,null,null,null,null,null,null,null,null,null,null,null,null,null,null,null,null,null,null,null,null,null,null,null,null,null,null,null,null,null,null,null,null,null,null,null,null,null,null,null,null,null,null,null,null,null,null,null,null,null,null,null,null,null,null,"S0128"]
["파쇄물처리상차(인력)","상차",1,"㎥",18812,{"$f":"단가산출!CY4195","v":"0"},{"$f":"단가산출!CZ4195","v":"18,812"},{"$f":"단가산출!DA4195","v":"0"},"산근  96호표",null,null,null,null,null,null,null,null,null,null,null,null,null,null,null,null,null,null,null,null,null,null,null,null,null,null,null,null,null,null,null,null,null,null,null,null,null,null,null,null,null,null,null,null,null,null,null,null,null,null,null,null,null,null,null,null,null,null,null,null,null,null,null,null,null,null,null,null,null,null,null,null,null,null,null,null,null,null,null,null,null,null,null,null,null,null,null,null,null,null,null,null,null,null,null,null,null,null,null,null,null,null,null,null,null,null,null,"S0045"]
["파쇄물처리운반(L=3Km)","DT(2.5TON),인력",1,"㎥",{"$f":"F103+G103+H103","v":30243},{"$f":"단가산출!CY4236","v":"0"},{"$f":"단가산출!CZ4236","v":"0"},{"$f":"단가산출!DA4236","v":"30,243"},"산근  97호표",null,null,null,null,null,null,null,null,null,null,null,null,null,null,null,null,null,null,null,null,null,null,null,null,null,null,null,null,null,null,null,null,null,null,null,null,null,null,null,null,null,null,null,null,null,null,null,null,null,null,null,null,null,null,null,null,null,null,null,null,null,null,null,null,null,null,null,null,null,null,null,null,null,null,null,null,null,null,null,null,null,null,null,null,null,null,null,null,null,null,null,null,null,null,null,null,null,null,null,null,null,null,null,null,null,null,null,"SDC4311-1"]
["파쇄물처리운반(L=3Km)","DT(4.5TON),B/H 0.2㎥",1,"㎥",{"$f":"F104+G104+H104","v":15971},{"$f":"단가산출!CY4283","v":"0"},{"$f":"단가산출!CZ4283","v":"0"},{"$f":"단가산출!DA4283","v":"15,971"},"산근  98호표",null,null,null,null,null,null,null,null,null,null,null,null,null,null,null,null,null,null,null,null,null,null,null,null,null,null,null,null,null,null,null,null,null,null,null,null,null,null,null,null,null,null,null,null,null,null,null,null,null,null,null,null,null,null,null,null,null,null,null,null,null,null,null,null,null,null,null,null,null,null,null,null,null,null,null,null,null,null,null,null,null,null,null,null,null,null,null,null,null,null,null,null,null,null,null,null,null,null,null,null,null,null,null,null,null,null,null,"SDC4312-1"]
["파쇄물처리운반(L=3Km)","DT(8.0TON),B/H 0.4㎥",1,"㎥",9844,{"$f":"단가산출!CY4330","v":"0"},{"$f":"단가산출!CZ4330","v":"0"},{"$f":"단가산출!DA4330","v":"9,844"},"산근  99호표",null,null,null,null,null,null,null,null,null,null,null,null,null,null,null,null,null,null,null,null,null,null,null,null,null,null,null,null,null,null,null,null,null,null,null,null,null,null,null,null,null,null,null,null,null,null,null,null,null,null,null,null,null,null,null,null,null,null,null,null,null,null,null,null,null,null,null,null,null,null,null,null,null,null,null,null,null,null,null,null,null,null,null,null,null,null,null,null,null,null,null,null,null,null,null,null,null,null,null,null,null,null,null,null,null,null,null,"SDC4313-1"]
["파쇄물처리운반(L=3Km)","DT(15TON),B/H 0.6㎥",1,"㎥",8085,{"$f":"단가산출!CY4377","v":"0"},{"$f":"단가산출!CZ4377","v":"0"},{"$f":"단가산출!DA4377","v":"8,085"},"산근 100호표",null,null,null,null,null,null,null,null,null,null,null,null,null,null,null,null,null,null,null,null,null,null,null,null,null,null,null,null,null,null,null,null,null,null,null,null,null,null,null,null,null,null,null,null,null,null,null,null,null,null,null,null,null,null,null,null,null,null,null,null,null,null,null,null,null,null,null,null,null,null,null,null,null,null,null,null,null,null,null,null,null,null,null,null,null,null,null,null,null,null,null,null,null,null,null,null,null,null,null,null,null,null,null,null,null,null,null,"SDC43132-1"]
["파쇄물처리운반(L=5Km)","DT(2.5TON),인력",1,"㎥",{"$f":"F107+G107+H107","v":39158},{"$f":"단가산출!CY4418","v":"0"},{"$f":"단가산출!CZ4418","v":"0"},{"$f":"단가산출!DA4418","v":"39,158"},"산근 101호표",null,null,null,null,null,null,null,null,null,null,null,null,null,null,null,null,null,null,null,null,null,null,null,null,null,null,null,null,null,null,null,null,null,null,null,null,null,null,null,null,null,null,null,null,null,null,null,null,null,null,null,null,null,null,null,null,null,null,null,null,null,null,null,null,null,null,null,null,null,null,null,null,null,null,null,null,null,null,null,null,null,null,null,null,null,null,null,null,null,null,null,null,null,null,null,null,null,null,null,null,null,null,null,null,null,null,null,"SDC4311-011"]
["파쇄물처리운반(L=5Km)","DT(4.5TON),B/H 0.2㎥",1,"㎥",21348,{"$f":"단가산출!CY4465","v":"0"},{"$f":"단가산출!CZ4465","v":"0"},{"$f":"단가산출!DA4465","v":"21,348"},"산근 102호표",null,null,null,null,null,null,null,null,null,null,null,null,null,null,null,null,null,null,null,null,null,null,null,null,null,null,null,null,null,null,null,null,null,null,null,null,null,null,null,null,null,null,null,null,null,null,null,null,null,null,null,null,null,null,null,null,null,null,null,null,null,null,null,null,null,null,null,null,null,null,null,null,null,null,null,null,null,null,null,null,null,null,null,null,null,null,null,null,null,null,null,null,null,null,null,null,null,null,null,null,null,null,null,null,null,null,null,"SDC4312-011"]
["파쇄물처리운반(L=5Km)","DT(8.0TON),B/H 0.4㎥",1,"㎥",13472,{"$f":"단가산출!CY4512","v":"0"},{"$f":"단가산출!CZ4512","v":"0"},{"$f":"단가산출!DA4512","v":"13,472"},"산근 103호표",null,null,null,null,null,null,null,null,null,null,null,null,null,null,null,null,null,null,null,null,null,null,null,null,null,null,null,null,null,null,null,null,null,null,null,null,null,null,null,null,null,null,null,null,null,null,null,null,null,null,null,null,null,null,null,null,null,null,null,null,null,null,null,null,null,null,null,null,null,null,null,null,null,null,null,null,null,null,null,null,null,null,null,null,null,null,null,null,null,null,null,null,null,null,null,null,null,null,null,null,null,null,null,null,null,null,null,"SDC4313-011"]
["파쇄물처리운반(L=5Km)","DT(15TON),B/H 0.6㎥",1,"㎥",10932,{"$f":"단가산출!CY4559","v":"0"},{"$f":"단가산출!CZ4559","v":"0"},{"$f":"단가산출!DA4559","v":"10,932"},"산근 104호표",null,null,null,null,null,null,null,null,null,null,null,null,null,null,null,null,null,null,null,null,null,null,null,null,null,null,null,null,null,null,null,null,null,null,null,null,null,null,null,null,null,null,null,null,null,null,null,null,null,null,null,null,null,null,null,null,null,null,null,null,null,null,null,null,null,null,null,null,null,null,null,null,null,null,null,null,null,null,null,null,null,null,null,null,null,null,null,null,null,null,null,null,null,null,null,null,null,null,null,null,null,null,null,null,null,null,null,"SDC43132-011"]
["파쇄물처리운반(L=7Km)","DT(2.5TON),인력",1,"㎥",47841,{"$f":"단가산출!CY4600","v":"0"},{"$f":"단가산출!CZ4600","v":"0"},{"$f":"단가산출!DA4600","v":"47,841"},"산근 105호표",null,null,null,null,null,null,null,null,null,null,null,null,null,null,null,null,null,null,null,null,null,null,null,null,null,null,null,null,null,null,null,null,null,null,null,null,null,null,null,null,null,null,null,null,null,null,null,null,null,null,null,null,null,null,null,null,null,null,null,null,null,null,null,null,null,null,null,null,null,null,null,null,null,null,null,null,null,null,null,null,null,null,null,null,null,null,null,null,null,null,null,null,null,null,null,null,null,null,null,null,null,null,null,null,null,null,null,"SDC4311-012"]
["파쇄물처리운반(L=7Km)","DT(4.5TON),B/H 0.2㎥",1,"㎥",26650,{"$f":"단가산출!CY4647","v":"0"},{"$f":"단가산출!CZ4647","v":"0"},{"$f":"단가산출!DA4647","v":"26,650"},"산근 106호표",null,null,null,null,null,null,null,null,null,null,null,null,null,null,null,null,null,null,null,null,null,null,null,null,null,null,null,null,null,null,null,null,null,null,null,null,null,null,null,null,null,null,null,null,null,null,null,null,null,null,null,null,null,null,null,null,null,null,null,null,null,null,null,null,null,null,null,null,null,null,null,null,null,null,null,null,null,null,null,null,null,null,null,null,null,null,null,null,null,null,null,null,null,null,null,null,null,null,null,null,null,null,null,null,null,null,null,"SDC4312-012"]
["파쇄물처리운반(L=7Km)","DT(8.0TON),B/H 0.4㎥",1,"㎥",{"$f":"F113+G113+H113","v":17098},{"$f":"단가산출!CY4694","v":"0"},{"$f":"단가산출!CZ4694","v":"0"},{"$f":"단가산출!DA4694","v":"17,098"},"산근 107호표",null,null,null,null,null,null,null,null,null,null,null,null,null,null,null,null,null,null,null,null,null,null,null,null,null,null,null,null,null,null,null,null,null,null,null,null,null,null,null,null,null,null,null,null,null,null,null,null,null,null,null,null,null,null,null,null,null,null,null,null,null,null,null,null,null,null,null,null,null,null,null,null,null,null,null,null,null,null,null,null,null,null,null,null,null,null,null,null,null,null,null,null,null,null,null,null,null,null,null,null,null,null,null,null,null,null,null,"SDC4313-012"]
["파쇄물처리운반(L=7Km)","DT(15TON),B/H 0.6㎥",1,"㎥",13730,{"$f":"단가산출!CY4741","v":"0"},{"$f":"단가산출!CZ4741","v":"0"},{"$f":"단가산출!DA4741","v":"13,730"},"산근 108호표",null,null,null,null,null,null,null,null,null,null,null,null,null,null,null,null,null,null,null,null,null,null,null,null,null,null,null,null,null,null,null,null,null,null,null,null,null,null,null,null,null,null,null,null,null,null,null,null,null,null,null,null,null,null,null,null,null,null,null,null,null,null,null,null,null,null,null,null,null,null,null,null,null,null,null,null,null,null,null,null,null,null,null,null,null,null,null,null,null,null,null,null,null,null,null,null,null,null,null,null,null,null,null,null,null,null,null,"SDC43132-012"]
["파쇄물처리운반(L=9Km)","DT(2.5TON),인력",1,"㎥",56432,{"$f":"단가산출!CY4782","v":"0"},{"$f":"단가산출!CZ4782","v":"0"},{"$f":"단가산출!DA4782","v":"56,432"},"산근 109호표",null,null,null,null,null,null,null,null,null,null,null,null,null,null,null,null,null,null,null,null,null,null,null,null,null,null,null,null,null,null,null,null,null,null,null,null,null,null,null,null,null,null,null,null,null,null,null,null,null,null,null,null,null,null,null,null,null,null,null,null,null,null,null,null,null,null,null,null,null,null,null,null,null,null,null,null,null,null,null,null,null,null,null,null,null,null,null,null,null,null,null,null,null,null,null,null,null,null,null,null,null,null,null,null,null,null,null,"SDC4311-013"]
["파쇄물처리운반(L=9Km)","DT(4.5TON),B/H 0.2㎥",1,"㎥",32098,{"$f":"단가산출!CY4829","v":"0"},{"$f":"단가산출!CZ4829","v":"0"},{"$f":"단가산출!DA4829","v":"32,098"},"산근 110호표",null,null,null,null,null,null,null,null,null,null,null,null,null,null,null,null,null,null,null,null,null,null,null,null,null,null,null,null,null,null,null,null,null,null,null,null,null,null,null,null,null,null,null,null,null,null,null,null,null,null,null,null,null,null,null,null,null,null,null,null,null,null,null,null,null,null,null,null,null,null,null,null,null,null,null,null,null,null,null,null,null,null,null,null,null,null,null,null,null,null,null,null,null,null,null,null,null,null,null,null,null,null,null,null,null,null,null,"SDC4312-013"]
["파쇄물처리운반(L=9Km)","DT(8.0TON),B/H 0.4㎥",1,"㎥",20729,{"$f":"단가산출!CY4876","v":"0"},{"$f":"단가산출!CZ4876","v":"0"},{"$f":"단가산출!DA4876","v":"20,729"},"산근 111호표",null,null,null,null,null,null,null,null,null,null,null,null,null,null,null,null,null,null,null,null,null,null,null,null,null,null,null,null,null,null,null,null,null,null,null,null,null,null,null,null,null,null,null,null,null,null,null,null,null,null,null,null,null,null,null,null,null,null,null,null,null,null,null,null,null,null,null,null,null,null,null,null,null,null,null,null,null,null,null,null,null,null,null,null,null,null,null,null,null,null,null,null,null,null,null,null,null,null,null,null,null,null,null,null,null,null,null,"SDC4313-013"]
["파쇄물처리운반(L=9Km)","DT(15TON),B/H 0.6㎥",1,"㎥",16569,{"$f":"단가산출!CY4923","v":"0"},{"$f":"단가산출!CZ4923","v":"0"},{"$f":"단가산출!DA4923","v":"16,569"},"산근 112호표",null,null,null,null,null,null,null,null,null,null,null,null,null,null,null,null,null,null,null,null,null,null,null,null,null,null,null,null,null,null,null,null,null,null,null,null,null,null,null,null,null,null,null,null,null,null,null,null,null,null,null,null,null,null,null,null,null,null,null,null,null,null,null,null,null,null,null,null,null,null,null,null,null,null,null,null,null,null,null,null,null,null,null,null,null,null,null,null,null,null,null,null,null,null,null,null,null,null,null,null,null,null,null,null,null,null,null,"SDC43132-013"]
["파쇄물 절취및집적(보도용블록)","굴삭기 0.2㎥",1,"㎥",7672,{"$f":"단가산출!CY4950","v":"935"},{"$f":"단가산출!CZ4950","v":"5,254"},{"$f":"단가산출!DA4950","v":"1,483"},"산근 113호표",null,null,null,null,null,null,null,null,null,null,null,null,null,null,null,null,null,null,null,null,null,null,null,null,null,null,null,null,null,null,null,null,null,null,null,null,null,null,null,null,null,null,null,null,null,null,null,null,null,null,null,null,null,null,null,null,null,null,null,null,null,null,null,null,null,null,null,null,null,null,null,null,null,null,null,null,null,null,null,null,null,null,null,null,null,null,null,null,null,null,null,null,null,null,null,null,null,null,null,null,null,null,null,null,null,null,null,"S000-0170-1"]
["파쇄물 절취및집적(보도용블록)","굴삭기 0.4㎥",1,"㎥",4472,{"$f":"단가산출!CY4977","v":"933"},{"$f":"단가산출!CZ4977","v":"2,625"},{"$f":"단가산출!DA4977","v":"914"},"산근 114호표",null,null,null,null,null,null,null,null,null,null,null,null,null,null,null,null,null,null,null,null,null,null,null,null,null,null,null,null,null,null,null,null,null,null,null,null,null,null,null,null,null,null,null,null,null,null,null,null,null,null,null,null,null,null,null,null,null,null,null,null,null,null,null,null,null,null,null,null,null,null,null,null,null,null,null,null,null,null,null,null,null,null,null,null,null,null,null,null,null,null,null,null,null,null,null,null,null,null,null,null,null,null,null,null,null,null,null,"S000-0171-1"]
["폐기물운반비","DT(15TON),L=34.4km",1,"TON",16168,{"$f":"단가산출!CY5054","v":"0"},{"$f":"단가산출!CZ5054","v":"0"},{"$f":"단가산출!DA5054","v":"16,168"},"산근 115호표",null,null,null,null,null,null,null,null,null,null,null,null,null,null,null,null,null,null,null,null,null,null,null,null,null,null,null,null,null,null,null,null,null,null,null,null,null,null,null,null,null,null,null,null,null,null,null,null,null,null,null,null,null,null,null,null,null,null,null,null,null,null,null,null,null,null,null,null,null,null,null,null,null,null,null,null,null,null,null,null,null,null,null,null,null,null,null,null,null,null,null,null,null,null,null,null,null,null,null,null,null,null,null,null,null,null,null,"S0127"]
["폐기물운반비","DT(24TON),L=34.4km",1,"TON",12299,{"$f":"단가산출!CY5131","v":"0"},{"$f":"단가산출!CZ5131","v":"0"},{"$f":"단가산출!DA5131","v":"12,299"},"산근 116호표",null,null,null,null,null,null,null,null,null,null,null,null,null,null,null,null,null,null,null,null,null,null,null,null,null,null,null,null,null,null,null,null,null,null,null,null,null,null,null,null,null,null,null,null,null,null,null,null,null,null,null,null,null,null,null,null,null,null,null,null,null,null,null,null,null,null,null,null,null,null,null,null,null,null,null,null,null,null,null,null,null,null,null,null,null,null,null,null,null,null,null,null,null,null,null,null,null,null,null,null,null,null,null,null,null,null,null,"S000-500"]
["표면보호공(투수콘)","300L,수동식",1,"a",15037,{"$f":"단가산출!CY5158","v":"414"},{"$f":"단가산출!CZ5158","v":"14,459"},{"$f":"단가산출!DA5158","v":"164"},"산근 117호표",null,null,null,null,null,null,null,null,null,null,null,null,null,null,null,null,null,null,null,null,null,null,null,null,null,null,null,null,null,null,null,null,null,null,null,null,null,null,null,null,null,null,null,null,null,null,null,null,null,null,null,null,null,null,null,null,null,null,null,null,null,null,null,null,null,null,null,null,null,null,null,null,null,null,null,null,null,null,null,null,null,null,null,null,null,null,null,null,null,null,null,null,null,null,null,null,null,null,null,null,null,null,null,null,null,null,null,"S0148"]
["혼합골재전압","T=10Cm(롤러0.7TON)",1,"a",104788,{"$f":"단가산출!CY5183","v":"6,893"},{"$f":"단가산출!CZ5183","v":"94,253"},{"$f":"단가산출!DA5183","v":"3,642"},"산근 118호표",null,null,null,null,null,null,null,null,null,null,null,null,null,null,null,null,null,null,null,null,null,null,null,null,null,null,null,null,null,null,null,null,null,null,null,null,null,null,null,null,null,null,null,null,null,null,null,null,null,null,null,null,null,null,null,null,null,null,null,null,null,null,null,null,null,null,null,null,null,null,null,null,null,null,null,null,null,null,null,null,null,null,null,null,null,null,null,null,null,null,null,null,null,null,null,null,null,null,null,null,null,null,null,null,null,null,null,"SKZ1800"]
["혼합기층살수","T=20Cm(물탱크5500ℓ)",1,"a",16752,{"$f":"단가산출!CY5218","v":"2,781"},{"$f":"단가산출!CZ5218","v":"11,214"},{"$f":"단가산출!DA5218","v":"2,757"},"산근 119호표",null,null,null,null,null,null,null,null,null,null,null,null,null,null,null,null,null,null,null,null,null,null,null,null,null,null,null,null,null,null,null,null,null,null,null,null,null,null,null,null,null,null,null,null,null,null,null,null,null,null,null,null,null,null,null,null,null,null,null,null,null,null,null,null,null,null,null,null,null,null,null,null,null,null,null,null,null,null,null,null,null,null,null,null,null,null,null,null,null,null,null,null,null,null,null,null,null,null,null,null,null,null,null,null,null,null,null,"SKZ1600"]
["혼합기층전압","T=20Cm(롤러8-15T)",1,"a",44961,{"$f":"단가산출!CY5257","v":"9,985"},{"$f":"단가산출!CZ5257","v":"23,962"},{"$f":"단가산출!DA5257","v":"11,014"},"산근 120호표",null,null,null,null,null,null,null,null,null,null,null,null,null,null,null,null,null,null,null,null,null,null,null,null,null,null,null,null,null,null,null,null,null,null,null,null,null,null,null,null,null,null,null,null,null,null,null,null,null,null,null,null,null,null,null,null,null,null,null,null,null,null,null,null,null,null,null,null,null,null,null,null,null,null,null,null,null,null,null,null,null,null,null,null,null,null,null,null,null,null,null,null,null,null,null,null,null,null,null,null,null,null,null,null,null,null,null,"SKZ1500"]
["혼합기층전압","T=20Cm(롤러2.5-8T)",1,"a",171910,{"$f":"단가산출!CY5296","v":"12,486"},{"$f":"단가산출!CZ5296","v":"142,389"},{"$f":"단가산출!DA5296","v":"17,035"},"산근 121호표",null,null,null,null,null,null,null,null,null,null,null,null,null,null,null,null,null,null,null,null,null,null,null,null,null,null,null,null,null,null,null,null,null,null,null,null,null,null,null,null,null,null,null,null,null,null,null,null,null,null,null,null,null,null,null,null,null,null,null,null,null,null,null,null,null,null,null,null,null,null,null,null,null,null,null,null,null,null,null,null,null,null,null,null,null,null,null,null,null,null,null,null,null,null,null,null,null,null,null,null,null,null,null,null,null,null,null,"SKZ1700"]
["혼합기층포설","T=20Cm(그레이더)",1,"a",39677,{"$f":"단가산출!CY5327","v":"10,122"},{"$f":"단가산출!CZ5327","v":"15,275"},{"$f":"단가산출!DA5327","v":"14,280"},"산근 122호표",null,null,null,null,null,null,null,null,null,null,null,null,null,null,null,null,null,null,null,null,null,null,null,null,null,null,null,null,null,null,null,null,null,null,null,null,null,null,null,null,null,null,null,null,null,null,null,null,null,null,null,null,null,null,null,null,null,null,null,null,null,null,null,null,null,null,null,null,null,null,null,null,null,null,null,null,null,null,null,null,null,null,null,null,null,null,null,null,null,null,null,null,null,null,null,null,null,null,null,null,null,null,null,null,null,null,null,"SKZ1400"]
["흄관하차","Φ 300",1,"M",368,{"$f":"단가산출!CY5346","v":"0"},{"$f":"단가산출!CZ5346","v":"0"},{"$f":"단가산출!DA5346","v":"368"},"산근 123호표",null,null,null,null,null,null,null,null,null,null,null,null,null,null,null,null,null,null,null,null,null,null,null,null,null,null,null,null,null,null,null,null,null,null,null,null,null,null,null,null,null,null,null,null,null,null,null,null,null,null,null,null,null,null,null,null,null,null,null,null,null,null,null,null,null,null,null,null,null,null,null,null,null,null,null,null,null,null,null,null,null,null,null,null,null,null,null,null,null,null,null,null,null,null,null,null,null,null,null,null,null,null,null,null,null,null,null,"SQE1130"]
["흄관하차","Φ 400",1,"M",598,{"$f":"단가산출!CY5365","v":"0"},{"$f":"단가산출!CZ5365","v":"0"},{"$f":"단가산출!DA5365","v":"598"},"산근 124호표",null,null,null,null,null,null,null,null,null,null,null,null,null,null,null,null,null,null,null,null,null,null,null,null,null,null,null,null,null,null,null,null,null,null,null,null,null,null,null,null,null,null,null,null,null,null,null,null,null,null,null,null,null,null,null,null,null,null,null,null,null,null,null,null,null,null,null,null,null,null,null,null,null,null,null,null,null,null,null,null,null,null,null,null,null,null,null,null,null,null,null,null,null,null,null,null,null,null,null,null,null,null,null,null,null,null,null,"SQE1131"]
["흄관하차","Φ 450",1,"M",736,{"$f":"단가산출!CY5384","v":"0"},{"$f":"단가산출!CZ5384","v":"0"},{"$f":"단가산출!DA5384","v":"736"},"산근 125호표",null,null,null,null,null,null,null,null,null,null,null,null,null,null,null,null,null,null,null,null,null,null,null,null,null,null,null,null,null,null,null,null,null,null,null,null,null,null,null,null,null,null,null,null,null,null,null,null,null,null,null,null,null,null,null,null,null,null,null,null,null,null,null,null,null,null,null,null,null,null,null,null,null,null,null,null,null,null,null,null,null,null,null,null,null,null,null,null,null,null,null,null,null,null,null,null,null,null,null,null,null,null,null,null,null,null,null,"SQE1132"]
["흄관하차","Φ 600",1,"M",1289,{"$f":"단가산출!CY5403","v":"0"},{"$f":"단가산출!CZ5403","v":"0"},{"$f":"단가산출!DA5403","v":"1,289"},"산근 126호표",null,null,null,null,null,null,null,null,null,null,null,null,null,null,null,null,null,null,null,null,null,null,null,null,null,null,null,null,null,null,null,null,null,null,null,null,null,null,null,null,null,null,null,null,null,null,null,null,null,null,null,null,null,null,null,null,null,null,null,null,null,null,null,null,null,null,null,null,null,null,null,null,null,null,null,null,null,null,null,null,null,null,null,null,null,null,null,null,null,null,null,null,null,null,null,null,null,null,null,null,null,null,null,null,null,null,null,"SQE1133"]
["흄관하차","Φ 800",1,"M",2256,{"$f":"단가산출!CY5422","v":"0"},{"$f":"단가산출!CZ5422","v":"0"},{"$f":"단가산출!DA5422","v":"2,256"},"산근 127호표",null,null,null,null,null,null,null,null,null,null,null,null,null,null,null,null,null,null,null,null,null,null,null,null,null,null,null,null,null,null,null,null,null,null,null,null,null,null,null,null,null,null,null,null,null,null,null,null,null,null,null,null,null,null,null,null,null,null,null,null,null,null,null,null,null,null,null,null,null,null,null,null,null,null,null,null,null,null,null,null,null,null,null,null,null,null,null,null,null,null,null,null,null,null,null,null,null,null,null,null,null,null,null,null,null,null,null,"SQE1134"]
["흄관하차","Φ 1,000",1,"M",3591,{"$f":"단가산출!CY5441","v":"0"},{"$f":"단가산출!CZ5441","v":"0"},{"$f":"단가산출!DA5441","v":"3,591"},"산근 128호표",null,null,null,null,null,null,null,null,null,null,null,null,null,null,null,null,null,null,null,null,null,null,null,null,null,null,null,null,null,null,null,null,null,null,null,null,null,null,null,null,null,null,null,null,null,null,null,null,null,null,null,null,null,null,null,null,null,null,null,null,null,null,null,null,null,null,null,null,null,null,null,null,null,null,null,null,null,null,null,null,null,null,null,null,null,null,null,null,null,null,null,null,null,null,null,null,null,null,null,null,null,null,null,null,null,null,null,"SQE1135"]
["흄관하차","Φ 1200",1,"M",{"$f":"F135+G135+H135","v":4973},{"$f":"단가산출!CY5460","v":"0"},{"$f":"단가산출!CZ5460","v":"0"},{"$f":"단가산출!DA5460","v":"4,973"},"산근 129호표",null,null,null,null,null,null,null,null,null,null,null,null,null,null,null,null,null,null,null,null,null,null,null,null,null,null,null,null,null,null,null,null,null,null,null,null,null,null,null,null,null,null,null,null,null,null,null,null,null,null,null,null,null,null,null,null,null,null,null,null,null,null,null,null,null,null,null,null,null,null,null,null,null,null,null,null,null,null,null,null,null,null,null,null,null,null,null,null,null,null,null,null,null,null,null,null,null,null,null,null,null,null,null,null,null,null,null,"SQE1136"]
["모래상차(집하장)","굴삭기 0.7㎥",1,"㎥",{"$f":"F136+G136+H136","v":761},{"$f":"단가산출!CY5493","v":"166"},{"$f":"단가산출!CZ5493","v":"399"},{"$f":"단가산출!DA5493","v":"196"},"산근 130호표",null,null,null,null,null,null,null,null,null,null,null,null,null,null,null,null,null,null,null,null,null,null,null,null,null,null,null,null,null,null,null,null,null,null,null,null,null,null,null,null,null,null,null,null,null,null,null,null,null,null,null,null,null,null,null,null,null,null,null,null,null,null,null,null,null,null,null,null,null,null,null,null,null,null,null,null,null,null,null,null,null,null,null,null,null,null,null,null,null,null,null,null,null,null,null,null,null,null,null,null,null,null,null,null,null,null,null,"SQE1136"]
["보조기층재상차(집하장)","굴삭기 0.4㎥",1,"㎥",761,{"$f":"단가산출!CY5526","v":"166"},{"$f":"단가산출!CZ5526","v":"399"},{"$f":"단가산출!DA5526","v":"196"},"산근 131호표",null,null,null,null,null,null,null,null,null,null,null,null,null,null,null,null,null,null,null,null,null,null,null,null,null,null,null,null,null,null,null,null,null,null,null,null,null,null,null,null,null,null,null,null,null,null,null,null,null,null,null,null,null,null,null,null,null,null,null,null,null,null,null,null,null,null,null,null,null,null,null,null,null,null,null,null,null,null,null,null,null,null,null,null,null,null,null,null,null,null,null,null,null,null,null,null,null,null,null,null,null,null,null,null,null,null,null,"SQE1136"]
["모래소운반(적치장→현장,3km)","DT(4.5TON)",1,"㎥",7965,{"$f":"단가산출!CY5573","v":"0"},{"$f":"단가산출!CZ5573","v":"0"},{"$f":"단가산출!DA5573","v":"7,965"},"산근 132호표",null,null,null,null,null,null,null,null,null,null,null,null,null,null,null,null,null,null,null,null,null,null,null,null,null,null,null,null,null,null,null,null,null,null,null,null,null,null,null,null,null,null,null,null,null,null,null,null,null,null,null,null,null,null,null,null,null,null,null,null,null,null,null,null,null,null,null,null,null,null,null,null,null,null,null,null,null,null,null,null,null,null,null,null,null,null,null,null,null,null,null,null,null,null,null,null,null,null,null,null,null,null,null,null,null,null,null,"SQE1136"]
["보조기층재소운반(적치장→현장,3km)","DT(4.5TON)",1,"㎥",7965,{"$f":"단가산출!CY5620","v":"0"},{"$f":"단가산출!CZ5620","v":"0"},{"$f":"단가산출!DA5620","v":"7,965"},"산근 133호표",null,null,null,null,null,null,null,null,null,null,null,null,null,null,null,null,null,null,null,null,null,null,null,null,null,null,null,null,null,null,null,null,null,null,null,null,null,null,null,null,null,null,null,null,null,null,null,null,null,null,null,null,null,null,null,null,null,null,null,null,null,null,null,null,null,null,null,null,null,null,null,null,null,null,null,null,null,null,null,null,null,null,null,null,null,null,null,null,null,null,null,null,null,null,null,null,null,null,null,null,null,null,null,null,null,null,null,"SQE1136"]
["작업차량비(보도블록포장공사)","더블캡(1TON)",1,"일",96725,{"$f":"단가산출!CY5658","v":"0"},{"$f":"단가산출!CZ5658","v":"42,642"},{"$f":"단가산출!DA5658","v":"54,083"},"산근 134호표",null,null,null,null,null,null,null,null,null,null,null,null,null,null,null,null,null,null,null,null,null,null,null,null,null,null,null,null,null,null,null,null,null,null,null,null,null,null,null,null,null,null,null,null,null,null,null,null,null,null,null,null,null,null,null,null,null,null,null,null,null,null,null,null,null,null,null,null,null,null,null,null,null,null,null,null,null,null,null,null,null,null,null,null,null,null,null,null,null,null,null,null,null,null,null,null,null,null,null,null,null,null,null,null,null,null,null,"SQE1136"]
["포장장비운반비(이면도로)","L=10km",1,"식",{"$f":"F141+G141+H141","v":1129708},{"$f":"단가산출!CY5732","v":"0"},{"$f":"단가산출!CZ5732","v":"0"},{"$f":"단가산출!DA5732","v":"1,129,708"},"산근 135호표",null,null,null,null,null,null,null,null,null,null,null,null,null,null,null,null,null,null,null,null,null,null,null,null,null,null,null,null,null,null,null,null,null,null,null,null,null,null,null,null,null,null,null,null,null,null,null,null,null,null,null,null,null,null,null,null,null,null,null,null,null,null,null,null,null,null,null,null,null,null,null,null,null,null,null,null,null,null,null,null,null,null,null,null,null,null,null,null,null,null,null,null,null,null,null,null,null,null,null,null,null,null,null,null,null,null,null,"SQE1136"]
["포장장비운반비(이면도로-구간이동)","L=500m",1,"식",226402,{"$f":"단가산출!CY5803","v":"0"},{"$f":"단가산출!CZ5803","v":"0"},{"$f":"단가산출!DA5803","v":"226,402"},"산근 136호표",null,null,null,null,null,null,null,null,null,null,null,null,null,null,null,null,null,null,null,null,null,null,null,null,null,null,null,null,null,null,null,null,null,null,null,null,null,null,null,null,null,null,null,null,null,null,null,null,null,null,null,null,null,null,null,null,null,null,null,null,null,null,null,null,null,null,null,null,null,null,null,null,null,null,null,null,null,null,null,null,null,null,null,null,null,null,null,null,null,null,null,null,null,null,null,null,null,null,null,null,null,null,null,null,null,null,null,"SQE1136"]
["포장장비운반비(이면도로-구간이동)","L=1000m",1,"식",245157,{"$f":"단가산출!CY5874","v":"1,811"},{"$f":"단가산출!CZ5874","v":"12,363"},{"$f":"단가산출!DA5874","v":"230,983"},"산근 137호표",null,null,null,null,null,null,null,null,null,null,null,null,null,null,null,null,null,null,null,null,null,null,null,null,null,null,null,null,null,null,null,null,null,null,null,null,null,null,null,null,null,null,null,null,null,null,null,null,null,null,null,null,null,null,null,null,null,null,null,null,null,null,null,null,null,null,null,null,null,null,null,null,null,null,null,null,null,null,null,null,null,null,null,null,null,null,null,null,null,null,null,null,null,null,null,null,null,null,null,null,null,null,null,null,null,null,null,"SQE1136"]
["잔토상차비","적치장상차[굴삭기 0.7㎥]",1,"㎥",761,{"$f":"단가산출!CY5908","v":"166"},{"$f":"단가산출!CZ5908","v":"399"},{"$f":"단가산출!DA5908","v":"196"},"산근 138호표"]

{"sheet":"단가산출","index":6,"n_rows":5908,"n_cols":140,"rows_kept":1125,"cut":true,"hidden":false,"merged":[[0,0,0,104],[2,0,3,100],[2,101,3,101],[2,102,3,102],[2,103,3,103],[2,104,3,104]],"bounds":{"rows_first":500,"rows_last":125,"rows_between":500,"halvings":2}}
["단 가 산 출 근 거",null,null,null,null,null,null,null,null,null,null,null,null,null,null,null,null,null,null,null,null,null,null,null,null,null,null,null,null,null,null,null,null,null,null,null,null,null,null,null,null,null,null,null,null,null,null,null,null,null,null,null,null,null,null,null,null,null,null,null,null,null,null,null,null,null,null,null,null,null,null,null,null,null,null,null,null,null,null,null,null,null,null,null,null,null,null,null,null,null,null,null,null,null,null,null,null,null,null,null,null,null,null,null,null,null,null,null,null,null,null,null,null,null,null,null,null,null,5]
["",null,null,null,null,null,null,null,null,null,null,null,null,null,null,null,null,null,null,null,null,null,null,null,null,null,null,null,null,null,null,null,null,null,null,null,null,null,null,null,null,null,null,null,null,null,null,null,null,null,null,null,null,null,null,null,null,null,null,null,null,null,null,null,null,null,null,null,null,null,null,null,null,null,null,null,null,null,null,null,null,null,null,null,null,null,null,null,null,null,null,null,null,null,null,null,null,null,null,null,null,null,null,null,null,null,null,null,null,null,null,null,null,null,null,null,null,null,"A"]
["산      출      근      거",null,null,null,null,null,null,null,null,null,null,null,null,null,null,null,null,null,null,null,null,null,null,null,null,null,null,null,null,null,null,null,null,null,null,null,null,null,null,null,null,null,null,null,null,null,null,null,null,null,null,null,null,null,null,null,null,null,null,null,null,null,null,null,null,null,null,null,null,null,null,null,null,null,null,null,null,null,null,null,null,null,null,null,null,null,null,null,null,null,null,null,null,null,null,null,null,null,null,null,null,"합  계","재료비","노무비","경  비",null,null,null,null,null,null,null,null,null,null,null,null,null,5243]
[null,null,null,null,null,null,null,null,null,null,null,null,null,null,null,null,null,null,null,null,null,null,null,null,null,null,null,null,null,null,null,null,null,null,null,null,null,null,null,null,null,null,null,null,null,null,null,null,null,null,null,null,null,null,null,null,null,null,null,null,null,null,null,null,null,null,null,null,null,null,null,null,null,null,null,null,null,null,null,null,null,null,null,null,null,null,null,null,null,null,null,null,null,null,null,null,null,null,null,null,null,null,null,null,null,null,null,null,null,null,null,null,null,null,null,null,null,null,"DA"]
["산근00010호표 ：기계터파기[토사] (굴삭기0.2㎥) ㎥ 당",null,null,null,null,null,null,null,null,null,null,null,null,null,null,null,null,null,null,null,null,null,null,null,null,null,null,null,null,null,null,null,null,null,null,null,null,null,null,null,null,null,null,null,null,null,null,null,null,null,null,null,null,null,null,null,null,null,null,null,null,null,null,null,null,null,null,null,null,null,null,null,null,null,null,null,null,null,null,null,null,null,null,null,null,null,null,null,null,null,null,null,null,null,null,null,null,null,null,null,null,null,null,null,null,null,null,null,null,null,null,null,null,null,null,null,":SDD2110"]
["◈ 기계터파기(토사) 굴삭기0.2㎥ ; M3당",null,null,null,null,null,null,null,null,null,null,null,null,null,null,null,null,null,null,null,null,null,null,null,null,null,null,null,null,null,null,null,null,null,null,null,null,null,null,null,null,null,null,null,null,null,null,null,null,null,null,null,null,null,null,null,null,null,null,null,null,null,null,null,null,null,null,null,null,null,null,null,null,null,null,null,null,null,null,null,null,null,null,null,null,null,null,null,null,null,null,null,null,null,null,null,null,null,null,null,null,null,null,null,null,null,null,null,null,null,null,null,null,null,null,null,""]
[""]
["   Q  = 3600 x q x k x f x E / Cm"]
[""]
["   여기서, Q  : 시간당작업량(㎥/hr)"]
[""]
["           q  : 버켓용량(㎥)  k  : 버켓계수   f  : 토량환산계수"]
[""]
["           E  : 작업효율(터파기에 대하여는 0.05를 뺀 값으로 한다)"]
[""]
["           Cm : 1회싸이클시간(초)"]
[""]
[null,null,null,null,null,"q",null,null,"=",null,{"$f":"TEXT(0.2,\"#,##0.00#######\")","v":"0.20"},null,null,null,null,"<굴삭기0.2㎥용(㎥)>",null,null,null,null,null,null,null,null,null,null,null,null,null,null,null,null,null,null,null,null,null,null,null,null,null,null,null,null,null,null,null,null,null,null,null,null,null,null,null,null,null,null,null,null,null,null,null,null,null,null,null,null,null,null,null,null,null,null,null,null,null,null,null,null,null,null,null,null,null,null,null,null,null,null,null,null,null,null,null,null,null,null,null,null,null,null,null,null,null,null,null,null,null,null,null,null,null,null,null,null,""]
[""]
[null,null,null,null,null,"k",null,null,"=",null,{"$f":"TEXT(0.9,\"#,##0.00#######\")","v":"0.90"},null,null,null,null,"<버켓에 거의 가득 채울수 있는 보통토>",null,null,null,null,null,null,null,null,null,null,null,null,null,null,null,null,null,null,null,null,null,null,null,null,null,null,null,null,null,null,null,null,null,null,null,null,null,null,null,null,null,null,null,null,null,null,null,null,null,null,null,null,null,null,null,null,null,null,null,null,null,null,null,null,null,null,null,null,null,null,null,null,null,null,null,null,null,null,null,null,null,null,null,null,null,null,null,null,null,null,null,null,null,null,null,null,null,null,null,null,""]
[""]
[null,null,null,null,null,"E",null,null,"=",null,{"$f":"TEXT(0.55,\"#,##0.00#######\")","v":"0.55"},null,null,null,null,"-",null,{"$f":"TEXT(0.05,\"#,##0.00#######\")","v":"0.05"},null,null,null,null,"=",null,{"$f":"TEXT(ROUND(K22-R22,1),\"#,##0.0#######\")","v":"0.5"},null,null,null,null,"<자연상태(불량)>",null,null,null,null,null,",",null,null,"f",null,null,"=",null,{"$f":"TEXT(1,\"#,##0\")","v":"1"},null,"/",null,{"$f":"TEXT(1.25,\"#,##0.00#######\")","v":"1.25"},null,null,null,null,"=",null,{"$f":"TEXT(ROUND(AR22/AV22,1),\"#,##0.0#######\")","v":"0.8"},null,null,null,null,"<보통토(1/L)>",null,null,null,null,null,null,null,null,null,null,null,null,null,null,null,null,null,null,null,null,null,null,null,null,null,null,null,null,null,null,null,null,null,null,null,null,null,null,null,null,null,null,null,null,null,null,null,null,null,null,null,null,null,null,null,null,""]
[""]
["   f값적용기준, 수량 : 자연상태(1)"]
[""]
["            q  : 흐트러진상태(L)"]
[""]
["            f  : 흐트러진상태의 단가를 자연상태로 환산(1/L)"]
[""]
[null,null,null,null,null,"Cm",null,null,"=",null,{"$f":"TEXT(18,\"#,##0\")","v":"18"},null,null,"<선회각도135°(초)>",null,null,null,null,null,null,null,null,null,null,null,null,null,null,null,null,null,null,null,null,null,null,null,null,null,null,null,null,null,null,null,null,null,null,null,null,null,null,null,null,null,null,null,null,null,null,null,null,null,null,null,null,null,null,null,null,null,null,null,null,null,null,null,null,null,null,null,null,null,null,null,null,null,null,null,null,null,null,null,null,null,null,null,null,null,null,null,null,null,null,null,null,null,null,null,null,null,null,null,null,null,null,""]
[""]
[null,null,null,null,null,"Q",null,null,"=",null,{"$f":"TEXT(3600,\"#,##0\")","v":"3,600"},null,null,null,null,"*",null,"q",null,"*",null,"k",null,"*",null,"f",null,"*",null,"E",null,"/",null,"Cm",null,null,"=",null,{"$f":"TEXT(ROUND(K32*K18*K20*BC22*Y22/K30,1),\"#,##0.0#######\")","v":"14.4"},null,null,null,null,null,"<㎥/hr>",null,null,null,null,null,null,null,null,null,null,null,null,null,null,null,null,null,null,null,null,null,null,null,null,null,null,null,null,null,null,null,null,null,null,null,null,null,null,null,null,null,null,null,null,null,null,null,null,null,null,null,null,null,null,null,null,null,null,null,null,null,null,null,null,null,null,null,null,null,null,null,""]
[""]
[null,null,null,null,null,"재료비 :",null,null,null,null,null,{"$f":"TEXT(TRUNC(건설기계!$I$56,0),\"#,##0\")","v":"7,887"},null,null,null,null,null,"/",null,null,"Q",null,"<㎥/hr>",null,null,null,null,"=",null,{"$f":"TEXT(ROUNDDOWN(L34/AM32,1),\"#,##0.0#######\")","v":"547.7"},null,null,null,null,null,null,null,null,null,null,null,null,null,null,null,null,null,null,null,null,null,null,null,null,null,null,null,null,null,null,null,null,null,null,null,null,null,null,null,null,null,null,null,null,null,null,null,null,null,null,null,null,null,null,null,null,null,null,null,null,null,null,null,null,null,null,null,null,null,null,null,{"$f":"CY34+CZ34+DA34","v":547.70000000000005},{"$f":"TEXT(AD34,\"#,###.0\")","v":"547.7"},null,null,null,null,null,null,null,null,null,null,null,null,null,"D0201-0020"]
[""]
[null,null,null,null,null,"노무비 :",null,null,null,null,null,{"$f":"TEXT(TRUNC(건설기계!$K$56,0),\"#,##0\")","v":"44,299"},null,null,null,null,null,null,"/",null,null,"Q",null,"<㎥/hr>",null,null,null,null,"=",null,{"$f":"TEXT(ROUNDDOWN(L36/AM32,1),\"#,##0.0#######\")","v":"3,076.3"},null,null,null,null,null,null,null,null,null,null,null,null,null,null,null,null,null,null,null,null,null,null,null,null,null,null,null,null,null,null,null,null,null,null,null,null,null,null,null,null,null,null,null,null,null,null,null,null,null,null,null,null,null,null,null,null,null,null,null,null,null,null,null,null,null,null,null,null,null,null,{"$f":"CY36+CZ36+DA36","v":3076.3},null,{"$f":"TEXT(AE36,\"#,###.0\")","v":"3,076.3"},null,null,null,null,null,null,null,null,null,null,null,null,"D0201-0020"]
[""]
[null,null,null,null,null,"경  비 :",null,null,null,null,null,{"$f":"TEXT(TRUNC(건설기계!$M$56,0),\"#,##0\")","v":"12,510"},null,null,null,null,null,null,"/",null,null,"Q",null,"<㎥/hr>",null,null,null,null,"=",null,{"$f":"TEXT(ROUNDDOWN(L38/AM32,1),\"#,##0.0#######\")","v":"868.7"},null,null,null,null,null,null,null,null,null,null,null,null,null,null,null,null,null,null,null,null,null,null,null,null,null,null,null,null,null,null,null,null,null,null,null,null,null,null,null,null,null,null,null,null,null,null,null,null,null,null,null,null,null,null,null,null,null,null,null,null,null,null,null,null,null,null,null,null,null,null,{"$f":"CY38+CZ38+DA38","v":868.7},null,null,{"$f":"TEXT(AE38,\"#,###.0\")","v":"868.7"},null,null,null,null,null,null,null,null,null,null,null,"D0201-0020"]
[""]
["   ------------------------------------------------------------",null,null,null,null,null,null,null,null,null,null,null,null,null,null,null,null,null,null,null,null,null,null,null,null,null,null,null,null,null,null,null,null,null,null,null,null,null,null,null,null,null,null,null,null,null,null,null,null,null,null,null,null,null,null,null,null,null,null,null,null,null,null,null,null,null,null,null,null,null,null,null,null,null,null,null,null,null,null,null,null,null,null,null,null,null,null,null,null,null,null,null,null,null,null,null,null,null,null,null,null,null,null,null,null,null,null,null,null,null,null,null,null,null,null,null,""]
[""]
[null,"합",null,null,null,"계",null,null,null,null,null,null,null,null,null,null,null,null,null,null,null,null,null,null,null,null,null,null,null,null,null,null,null,null,null,null,null,null,null,null,null,null,null,null,null,null,null,null,null,null,null,null,null,null,null,null,null,null,null,null,null,null,null,null,null,null,null,null,null,null,null,null,null,null,null,null,null,null,null,null,null,null,null,null,null,null,null,null,null,null,null,null,null,null,null,null,null,null,null,null,null,{"$f":"CY42+CZ42+DA42","v":4492.7},{"$f":"TEXT(TRUNC(CY34+CY36+CY38,1),\"#,###.0\")","v":"547.7"},{"$f":"TEXT(TRUNC(CZ34+CZ36+CZ38,1),\"#,###.0\")","v":"3,076.3"},{"$f":"TEXT(TRUNC(DA34+DA36+DA38,1),\"#,###.0\")","v":"868.7"},null,null,null,null,null,null,null,null,null,null,null,""]
[]
["      계",null,null,null,null,null,null,null,null,null,null,null,null,null,null,null,null,null,null,null,null,null,null,null,null,null,null,null,null,null,null,null,null,null,null,null,null,null,null,null,null,null,null,null,null,null,null,null,null,null,null,null,null,null,null,null,null,null,null,null,null,null,null,null,null,null,null,null,null,null,null,null,null,null,null,null,null,null,null,null,null,null,null,null,null,null,null,null,null,null,null,null,null,null,null,null,null,null,null,null,null,{"$f":"TEXT(CY44+CZ44+DA44,\"#,##0\")","v":"4,491"},{"$f":"TEXT(TRUNC(CY42,0),\"#,##0\")","v":"547"},{"$f":"TEXT(TRUNC(CZ42,0),\"#,##0\")","v":"3,076"},{"$f":"TEXT(TRUNC(DA42,0),\"#,##0\")","v":"868"}]
[]
["산근00020호표 ：기계터파기[토사] (굴삭기0.4㎥) ㎥ 당",null,null,null,null,null,null,null,null,null,null,null,null,null,null,null,null,null,null,null,null,null,null,null,null,null,null,null,null,null,null,null,null,null,null,null,null,null,null,null,null,null,null,null,null,null,null,null,null,null,null,null,null,null,null,null,null,null,null,null,null,null,null,null,null,null,null,null,null,null,null,null,null,null,null,null,null,null,null,null,null,null,null,null,null,null,null,null,null,null,null,null,null,null,null,null,null,null,null,null,null,null,null,null,null,null,null,null,null,null,null,null,null,null,null,null,":SDD2120"]
["◈ 기계터파기(토사) 굴삭기0.4㎥ ; M3당",null,null,null,null,null,null,null,null,null,null,null,null,null,null,null,null,null,null,null,null,null,null,null,null,null,null,null,null,null,null,null,null,null,null,null,null,null,null,null,null,null,null,null,null,null,null,null,null,null,null,null,null,null,null,null,null,null,null,null,null,null,null,null,null,null,null,null,null,null,null,null,null,null,null,null,null,null,null,null,null,null,null,null,null,null,null,null,null,null,null,null,null,null,null,null,null,null,null,null,null,{"$f":"CY47+CZ47+DA47","v":0},null,null,null,null,null,null,null,null,null,null,null,null,null,null,""]
[""]
["   Q  = 3600 x q x k x f x E / Cm"]
[""]
["   여기서, Q  : 시간당작업량(㎥/hr)"]
[""]
["          q  : 버켓용량(㎥)  k  : 버켓계수   f  : 토량환산계수"]
[""]
["          E  : 작업효율(터파기에 대하여는 0.05를 뺀 값으로 한다)"]
[""]
["          Cm : 1회싸이클시간(초)"]
[""]
[null,null,null,null,null,"q",null,null,"=",null,{"$f":"TEXT(0.4,\"#,##0.00#######\")","v":"0.40"},null,null,null,null,"<굴삭기0.4㎥용(㎥)>",null,null,null,null,null,",",null,null,null,"k",null,null,"=",null,{"$f":"TEXT(0.9,\"#,##0.00#######\")","v":"0.90"},null,null,null,null,"<버켓에 거의 가득 채울수 있는 보통토>",null,null,null,null,null,null,null,null,null,null,null,null,null,null,null,null,null,null,null,null,null,null,null,null,null,null,null,null,null,null,null,null,null,null,null,null,null,null,null,null,null,null,null,null,null,null,null,null,null,null,null,null,null,null,null,null,null,null,null,null,null,null,null,null,null,null,null,null,null,null,null,null,null,null,null,null,null,null,null,null,""]
[""]
[null,null,null,null,null,"E",null,null,"=",null,{"$f":"TEXT(0.7,\"#,##0.00#######\")","v":"0.70"},null,null,null,null,"-",null,{"$f":"TEXT(0.05,\"#,##0.00#######\")","v":"0.05"},null,null,null,null,"=",null,{"$f":"TEXT(ROUND(K61-R61,2),\"#,##0.00#######\")","v":"0.65"},null,null,null,null,null,"<자연상태(보통)>",null,null,null,null,null,",",null,null,"f",null,null,"=",null,{"$f":"TEXT(1,\"#,##0\")","v":"1"},null,"/",null,{"$f":"TEXT(1.25,\"#,##0.00#######\")","v":"1.25"},null,null,null,null,"=",null,{"$f":"TEXT(ROUND(AS61/AW61,1),\"#,##0.0#######\")","v":"0.8"},null,null,null,null,"<보통토(1/L)>",null,null,null,null,null,null,null,null,null,null,null,null,null,null,null,null,null,null,null,null,null,null,null,null,null,null,null,null,null,null,null,null,null,null,null,null,null,null,null,null,null,null,null,null,null,null,null,null,null,null,null,null,null,null,null,""]
[""]
["   f값적용기준, 수량 : 자연상태(1)"]
[""]
["     q  : 흐트러진상태(L)"]
[""]
["     f  : 흐트러진상태의 단가를 자연상태로 환산(1/L)"]
[""]
[null,null,null,null,"Cm",null,null,"=",null,{"$f":"TEXT(18,\"#,##0\")","v":"18"},null,null,"<선회각도135°(초)>",null,null,null,null,null,null,null,null,null,null,null,null,null,null,null,null,null,null,null,null,null,null,null,null,null,null,null,null,null,null,null,null,null,null,null,null,null,null,null,null,null,null,null,null,null,null,null,null,null,null,null,null,null,null,null,null,null,null,null,null,null,null,null,null,null,null,null,null,null,null,null,null,null,null,null,null,null,null,null,null,null,null,null,null,null,null,null,null,null,null,null,null,null,null,null,null,null,null,null,null,null,null,null,""]
[""]
[null,null,null,null,null,"Q",null,null,"=",null,{"$f":"TEXT(3600,\"#,##0\")","v":"3,600"},null,null,null,null,"*",null,"q",null,"*",null,"k",null,"*",null,"f",null,"*",null,"E",null,"/",null,"Cm",null,null,"=",null,{"$f":"TEXT(ROUND(K71*K59*AE59*BD61*Y61/J69,2),\"#,##0.00#######\")","v":"37.44"},null,null,null,null,null,null,"<㎥/hr>",null,null,null,null,null,null,null,null,null,null,null,null,null,null,null,null,null,null,null,null,null,null,null,null,null,null,null,null,null,null,null,null,null,null,null,null,null,null,null,null,null,null,null,null,null,null,null,null,null,null,null,null,null,null,null,null,null,null,null,null,null,null,null,null,null,null,null,null,null,null,""]
[""]
[null,null,null,null,null,"재료비 :",null,null,null,null,null,{"$f":"TEXT(TRUNC(건설기계!$I$63,0),\"#,##0\")","v":"15,745"},null,null,null,null,null,null,"/",null,null,"Q",null,"<㎥/hr>",null,null,null,null,"=",null,{"$f":"TEXT(ROUNDDOWN(L73/AM71,1),\"#,##0.0#######\")","v":"420.5"},null,null,null,null,null,null,null,null,null,null,null,null,null,null,null,null,null,null,null,null,null,null,null,null,null,null,null,null,null,null,null,null,null,null,null,null,null,null,null,null,null,null,null,null,null,null,null,null,null,null,null,null,null,null,null,null,null,null,null,null,null,null,null,null,null,null,null,null,null,null,{"$f":"CY73+CZ73+DA73","v":420.5},{"$f":"TEXT(AE73,\"#,###.0\")","v":"420.5"},null,null,null,null,null,null,null,null,null,null,null,null,null,"D0201-0040"]
[""]
[null,null,null,null,null,"노무비 :",null,null,null,null,null,{"$f":"TEXT(TRUNC(건설기계!$K$63,0),\"#,##0\")","v":"44,299"},null,null,null,null,null,null,"/",null,null,"Q",null,"<㎥/hr>",null,null,null,null,"=",null,{"$f":"TEXT(ROUNDDOWN(L75/AM71,1),\"#,##0.0#######\")","v":"1,183.1"},null,null,null,null,null,null,null,null,null,null,null,null,null,null,null,null,null,null,null,null,null,null,null,null,null,null,null,null,null,null,null,null,null,null,null,null,null,null,null,null,null,null,null,null,null,null,null,null,null,null,null,null,null,null,null,null,null,null,null,null,null,null,null,null,null,null,null,null,null,null,{"$f":"CY75+CZ75+DA75","v":1183.0999999999999},null,{"$f":"TEXT(AE75,\"#,###.0\")","v":"1,183.1"},null,null,null,null,null,null,null,null,null,null,null,null,"D0201-0040"]
[""]
[null,null,null,null,null,"경  비 :",null,null,null,null,null,{"$f":"TEXT(TRUNC(건설기계!$M$63,0),\"#,##0\")","v":"15,429"},null,null,null,null,null,null,"/",null,null,"Q",null,"<㎥/hr>",null,null,null,null,"=",null,{"$f":"TEXT(ROUNDDOWN(L77/AM71,1),\"#,##0.0#######\")","v":"412.0"},null,null,null,null,null,null,null,null,null,null,null,null,null,null,null,null,null,null,null,null,null,null,null,null,null,null,null,null,null,null,null,null,null,null,null,null,null,null,null,null,null,null,null,null,null,null,null,null,null,null,null,null,null,null,null,null,null,null,null,null,null,null,null,null,null,null,null,null,null,null,{"$f":"CY77+CZ77+DA77","v":412},null,null,{"$f":"TEXT(AE77,\"#,###.0\")","v":"412.0"},null,null,null,null,null,null,null,null,null,null,null,"D0201-0040"]
[""]
["   ------------------------------------------------------------",null,null,null,null,null,null,null,null,null,null,null,null,null,null,null,null,null,null,null,null,null,null,null,null,null,null,null,null,null,null,null,null,null,null,null,null,null,null,null,null,null,null,null,null,null,null,null,null,null,null,null,null,null,null,null,null,null,null,null,null,null,null,null,null,null,null,null,null,null,null,null,null,null,null,null,null,null,null,null,null,null,null,null,null,null,null,null,null,null,null,null,null,null,null,null,null,null,null,null,null,null,null,null,null,null,null,null,null,null,null,null,null,null,null,null,""]
[""]
[null,"합",null,null,null,"계",null,null,null,null,null,null,null,null,null,null,null,null,null,null,null,null,null,null,null,null,null,null,null,null,null,null,null,null,null,null,null,null,null,null,null,null,null,null,null,null,null,null,null,null,null,null,null,null,null,null,null,null,null,null,null,null,null,null,null,null,null,null,null,null,null,null,null,null,null,null,null,null,null,null,null,null,null,null,null,null,null,null,null,null,null,null,null,null,null,null,null,null,null,null,null,{"$f":"CY81+CZ81+DA81","v":2015.6},{"$f":"TEXT(TRUNC(CY73+CY75+CY77,1),\"#,###.0\")","v":"420.5"},{"$f":"TEXT(TRUNC(CZ73+CZ75+CZ77,1),\"#,###.0\")","v":"1,183.1"},{"$f":"TEXT(TRUNC(DA73+DA75+DA77,1),\"#,###.0\")","v":"412.0"},null,null,null,null,null,null,null,null,null,null,null,""]
[]
["      계",null,null,null,null,null,null,null,null,null,null,null,null,null,null,null,null,null,null,null,null,null,null,null,null,null,null,null,null,null,null,null,null,null,null,null,null,null,null,null,null,null,null,null,null,null,null,null,null,null,null,null,null,null,null,null,null,null,null,null,null,null,null,null,null,null,null,null,null,null,null,null,null,null,null,null,null,null,null,null,null,null,null,null,null,null,null,null,null,null,null,null,null,null,null,null,null,null,null,null,null,{"$f":"TEXT(CY83+CZ83+DA83,\"#,##0\")","v":"2,015"},{"$f":"TEXT(TRUNC(CY81,0),\"#,##0\")","v":"420"},{"$f":"TEXT(TRUNC(CZ81,0),\"#,##0\")","v":"1,183"},{"$f":"TEXT(TRUNC(DA81,0),\"#,##0\")","v":"412"}]
[]
["산근00030호표 ：기계터파기[토사] (굴삭기0.7㎥) ㎥ 당",null,null,null,null,null,null,null,null,null,null,null,null,null,null,null,null,null,null,null,null,null,null,null,null,null,null,null,null,null,null,null,null,null,null,null,null,null,null,null,null,null,null,null,null,null,null,null,null,null,null,null,null,null,null,null,null,null,null,null,null,null,null,null,null,null,null,null,null,null,null,null,null,null,null,null,null,null,null,null,null,null,null,null,null,null,null,null,null,null,null,null,null,null,null,null,null,null,null,null,null,null,null,null,null,null,null,null,null,null,null,null,null,null,null,null,":SDD2130"]
["◈ 기계터파기(토사) 굴삭기0.7㎥ ; M3당",null,null,null,null,null,null,null,null,null,null,null,null,null,null,null,null,null,null,null,null,null,null,null,null,null,null,null,null,null,null,null,null,null,null,null,null,null,null,null,null,null,null,null,null,null,null,null,null,null,null,null,null,null,null,null,null,null,null,null,null,null,null,null,null,null,null,null,null,null,null,null,null,null,null,null,null,null,null,null,null,null,null,null,null,null,null,null,null,null,null,null,null,null,null,null,null,null,null,null,null,{"$f":"CY86+CZ86+DA86","v":0},null,null,null,null,null,null,null,null,null,null,null,null,null,null,""]
[""]
["   Q  = 3600 x q x k x f x E / Cm"]
[""]
["   여기서, Q  : 시간당작업량(㎥/hr)"]
[""]
["           q  : 버켓용량(㎥)   k  : 버켓계수"]
[""]
["           f  : 토량환산계수   E  : 작업효율(터파기에 대하여는 0.05를 뺀 값으로 한다)"]
[""]
["           Cm : 1회싸이클시간(초)"]
[""]
[null,null,null,null,null,"q",null,null,"=",null,{"$f":"TEXT(0.7,\"#,##0.00#######\")","v":"0.70"},null,null,null,null,"<굴삭기0.7㎥용(㎥)>",null,null,null,null,null,null,null,null,null,null,null,null,null,null,null,null,null,null,null,null,null,null,null,null,null,null,null,null,null,null,null,null,null,null,null,null,null,null,null,null,null,null,null,null,null,null,null,null,null,null,null,null,null,null,null,null,null,null,null,null,null,null,null,null,null,null,null,null,null,null,null,null,null,null,null,null,null,null,null,null,null,null,null,null,null,null,null,null,null,null,null,null,null,null,null,null,null,null,null,null,""]
[""]
[null,null,null,null,null,"k",null,null,"=",null,{"$f":"TEXT(0.9,\"#,##0.00#######\")","v":"0.90"},null,null,null,null,"<버켓에 거의 가득 채울수 있는 보통토>",null,null,null,null,null,null,null,null,null,null,null,null,null,null,null,null,null,null,null,null,null,null,null,null,null,null,null,null,null,null,null,null,null,null,null,null,null,null,null,null,null,null,null,null,null,null,null,null,null,null,null,null,null,null,null,null,null,null,null,null,null,null,null,null,null,null,null,null,null,null,null,null,null,null,null,null,null,null,null,null,null,null,null,null,null,null,null,null,null,null,null,null,null,null,null,null,null,null,null,null,""]
[""]
[null,null,null,null,null,"E",null,null,"=",null,{"$f":"TEXT(0.7,\"#,##0.00#######\")","v":"0.70"},null,null,null,null,"-",null,{"$f":"TEXT(0.05,\"#,##0.00#######\")","v":"0.05"},null,null,null,null,"=",null,{"$f":"TEXT(ROUND(K102-R102,2),\"#,##0.00#######\")","v":"0.65"},null,null,null,null,null,"<자연상태(보통)>",null,null,null,null,null,",",null,null,"f",null,null,"=",null,{"$f":"TEXT(1,\"#,##0\")","v":"1"},null,"/",null,{"$f":"TEXT(1.25,\"#,##0.00#######\")","v":"1.25"},null,null,null,null,"=",null,{"$f":"TEXT(ROUND(AS102/AW102,1),\"#,##0.0#######\")","v":"0.8"},null,null,null,null,"<보통토(1/L)>",null,null,null,null,null,null,null,null,null,null,null,null,null,null,null,null,null,null,null,null,null,null,null,null,null,null,null,null,null,null,null,null,null,null,null,null,null,null,null,null,null,null,null,null,null,null,null,null,null,null,null,null,null,null,null,""]
[""]
["          f값적용기준, 수량 : 자연상태(1)"]
[""]
["          q  : 흐트러진상태(L)   f  : 흐트러진상태의 단가를 자연상태로 환산(1/L)"]
[""]
[null,null,null,null,null,"Cm",null,null,"=",null,{"$f":"TEXT(20,\"#,##0\")","v":"20"},null,null,"<선회각도135°(초)>",null,null,null,null,null,null,null,null,null,null,null,null,null,null,null,null,null,null,null,null,null,null,null,null,null,null,null,null,null,null,null,null,null,null,null,null,null,null,null,null,null,null,null,null,null,null,null,null,null,null,null,null,null,null,null,null,null,null,null,null,null,null,null,null,null,null,null,null,null,null,null,null,null,null,null,null,null,null,null,null,null,null,null,null,null,null,null,null,null,null,null,null,null,null,null,null,null,null,null,null,null,null,""]
[""]
[null,null,null,null,null,"Q",null,null,"=",null,{"$f":"TEXT(3600,\"#,##0\")","v":"3,600"},null,null,null,null,"*",null,"q",null,"*",null,"k",null,"*",null,"f",null,"*",null,"E",null,"/",null,"Cm",null,null,"=",null,{"$f":"TEXT(ROUND(K110*K98*K100*BD102*Y102/K108,2),\"#,##0.00#######\")","v":"58.97"},null,null,null,null,null,null,"<㎥/hr>",null,null,null,null,null,null,null,null,null,null,null,null,null,null,null,null,null,null,null,null,null,null,null,null,null,null,null,null,null,null,null,null,null,null,null,null,null,null,null,null,null,null,null,null,null,null,null,null,null,null,null,null,null,null,null,null,null,null,null,null,null,null,null,null,null,null,null,null,null,null,""]
[""]
[null,null,null,null,null,"재료비 :",null,null,null,null,null,{"$f":"TEXT(TRUNC(건설기계!$I$77,0),\"#,##0\")","v":"18,449"},null,null,null,null,null,null,"/",null,null,"Q",null,"<㎥/hr>",null,null,null,null,"=",null,{"$f":"TEXT(ROUNDDOWN(L112/AM110,1),\"#,##0.0#######\")","v":"312.8"},null,null,null,null,null,null,null,null,null,null,null,null,null,null,null,null,null,null,null,null,null,null,null,null,null,null,null,null,null,null,null,null,null,null,null,null,null,null,null,null,null,null,null,null,null,null,null,null,null,null,null,null,null,null,null,null,null,null,null,null,null,null,null,null,null,null,null,null,null,null,{"$f":"CY112+CZ112+DA112","v":312.8},{"$f":"TEXT(AE112,\"#,###.0\")","v":"312.8"},null,null,null,null,null,null,null,null,null,null,null,null,null,"D0201-0070"]
[""]
[null,null,null,null,null,"노무비 :",null,null,null,null,null,{"$f":"TEXT(TRUNC(건설기계!$K$77,0),\"#,##0\")","v":"44,299"},null,null,null,null,null,null,"/",null,null,"Q",null,"<㎥/hr>",null,null,null,null,"=",null,{"$f":"TEXT(ROUNDDOWN(L114/AM110,1),\"#,##0.0#######\")","v":"751.2"},null,null,null,null,null,null,null,null,null,null,null,null,null,null,null,null,null,null,null,null,null,null,null,null,null,null,null,null,null,null,null,null,null,null,null,null,null,null,null,null,null,null,null,null,null,null,null,null,null,null,null,null,null,null,null,null,null,null,null,null,null,null,null,null,null,null,null,null,null,null,{"$f":"CY114+CZ114+DA114","v":751.2},null,{"$f":"TEXT(AE114,\"#,###.0\")","v":"751.2"},null,null,null,null,null,null,null,null,null,null,null,null,"D0201-0070"]
[""]
[null,null,null,null,null,"경  비 :",null,null,null,null,null,{"$f":"TEXT(TRUNC(건설기계!$M$77,0),\"#,##0\")","v":"21,780"},null,null,null,null,null,null,"/",null,null,"Q",null,"<㎥/hr>",null,null,null,null,"=",null,{"$f":"TEXT(ROUNDDOWN(L116/AM110,1),\"#,##0.0#######\")","v":"369.3"},null,null,null,null,null,null,null,null,null,null,null,null,null,null,null,null,null,null,null,null,null,null,null,null,null,null,null,null,null,null,null,null,null,null,null,null,null,null,null,null,null,null,null,null,null,null,null,null,null,null,null,null,null,null,null,null,null,null,null,null,null,null,null,null,null,null,null,null,null,null,{"$f":"CY116+CZ116+DA116","v":369.3},null,null,{"$f":"TEXT(AE116,\"#,###.0\")","v":"369.3"},null,null,null,null,null,null,null,null,null,null,null,"D0201-0070"]
[""]
["   ------------------------------------------------------------",null,null,null,null,null,null,null,null,null,null,null,null,null,null,null,null,null,null,null,null,null,null,null,null,null,null,null,null,null,null,null,null,null,null,null,null,null,null,null,null,null,null,null,null,null,null,null,null,null,null,null,null,null,null,null,null,null,null,null,null,null,null,null,null,null,null,null,null,null,null,null,null,null,null,null,null,null,null,null,null,null,null,null,null,null,null,null,null,null,null,null,null,null,null,null,null,null,null,null,null,null,null,null,null,null,null,null,null,null,null,null,null,null,null,null,""]
[""]
[null,"합",null,null,null,"계",null,null,null,null,null,null,null,null,null,null,null,null,null,null,null,null,null,null,null,null,null,null,null,null,null,null,null,null,null,null,null,null,null,null,null,null,null,null,null,null,null,null,null,null,null,null,null,null,null,null,null,null,null,null,null,null,null,null,null,null,null,null,null,null,null,null,null,null,null,null,null,null,null,null,null,null,null,null,null,null,null,null,null,null,null,null,null,null,null,null,null,null,null,null,null,{"$f":"CY120+CZ120+DA120","v":1433.3},{"$f":"TEXT(TRUNC(CY112+CY114+CY116,1),\"#,###.0\")","v":"312.8"},{"$f":"TEXT(TRUNC(CZ112+CZ114+CZ116,1),\"#,###.0\")","v":"751.2"},{"$f":"TEXT(TRUNC(DA112+DA114+DA116,1),\"#,###.0\")","v":"369.3"},null,null,null,null,null,null,null,null,null,null,null,""]
[]
["      계",null,null,null,null,null,null,null,null,null,null,null,null,null,null,null,null,null,null,null,null,null,null,null,null,null,null,null,null,null,null,null,null,null,null,null,null,null,null,null,null,null,null,null,null,null,null,null,null,null,null,null,null,null,null,null,null,null,null,null,null,null,null,null,null,null,null,null,null,null,null,null,null,null,null,null,null,null,null,null,null,null,null,null,null,null,null,null,null,null,null,null,null,null,null,null,null,null,null,null,null,{"$f":"TEXT(CY122+CZ122+DA122,\"#,##0\")","v":"1,432"},{"$f":"TEXT(TRUNC(CY120,0),\"#,##0\")","v":"312"},{"$f":"TEXT(TRUNC(CZ120,0),\"#,##0\")","v":"751"},{"$f":"TEXT(TRUNC(DA120,0),\"#,##0\")","v":"369"}]
[]
["산근00040호표 ：기계터파기[토사] (굴삭기1.0㎥) ㎥ 당",null,null,null,null,null,null,null,null,null,null,null,null,null,null,null,null,null,null,null,null,null,null,null,null,null,null,null,null,null,null,null,null,null,null,null,null,null,null,null,null,null,null,null,null,null,null,null,null,null,null,null,null,null,null,null,null,null,null,null,null,null,null,null,null,null,null,null,null,null,null,null,null,null,null,null,null,null,null,null,null,null,null,null,null,null,null,null,null,null,null,null,null,null,null,null,null,null,null,null,null,null,null,null,null,null,null,null,null,null,null,null,null,null,null,null,":SDD2140"]
["◈ 기계터파기(토사) 굴삭기1.0㎥ ; M3당",null,null,null,null,null,null,null,null,null,null,null,null,null,null,null,null,null,null,null,null,null,null,null,null,null,null,null,null,null,null,null,null,null,null,null,null,null,null,null,null,null,null,null,null,null,null,null,null,null,null,null,null,null,null,null,null,null,null,null,null,null,null,null,null,null,null,null,null,null,null,null,null,null,null,null,null,null,null,null,null,null,null,null,null,null,null,null,null,null,null,null,null,null,null,null,null,null,null,null,null,{"$f":"CY125+CZ125+DA125","v":0},null,null,null,null,null,null,null,null,null,null,null,null,null,null,""]
[""]
["   Q  = 3600 x q x k x f x E / Cm"]
[""]
["   여기서, Q  : 시간당작업량(㎥/hr)"]
[""]
["           q  : 버켓용량(㎥)  k  : 버켓계수"]
[""]
["           f  : 토량환산계수  E  : 작업효율(터파기에 대하여는 0.05를 뺀 값으로 한다)"]
[""]
["           Cm : 1회싸이클시간(초)"]
[""]
[null,null,null,null,null,"q",null,null,"=",null,{"$f":"TEXT(1,\"#,##0.00#######\")","v":"1.00"},null,null,null,null,"<굴삭기1.0㎥용(㎥)>",null,null,null,null,null,null,null,null,null,null,null,null,null,null,null,null,null,null,null,null,null,null,null,null,null,null,null,null,null,null,null,null,null,null,null,null,null,null,null,null,null,null,null,null,null,null,null,null,null,null,null,null,null,null,null,null,null,null,null,null,null,null,null,null,null,null,null,null,null,null,null,null,null,null,null,null,null,null,null,null,null,null,null,null,null,null,null,null,null,null,null,null,null,null,null,null,null,null,null,null,""]
[""]
[null,null,null,null,null,"k",null,null,"=",null,{"$f":"TEXT(0.9,\"#,##0.00#######\")","v":"0.90"},null,null,null,null,"<버켓에 거의 가득 채울수 있는 보통토>",null,null,null,null,null,null,null,null,null,null,null,null,null,null,null,null,null,null,null,null,null,null,null,null,null,null,null,null,null,null,null,null,null,null,null,null,null,null,null,null,null,null,null,null,null,null,null,null,null,null,null,null,null,null,null,null,null,null,null,null,null,null,null,null,null,null,null,null,null,null,null,null,null,null,null,null,null,null,null,null,null,null,null,null,null,null,null,null,null,null,null,null,null,null,null,null,null,null,null,null,""]
[""]
[null,null,null,null,null,"E",null,null,"=",null,{"$f":"TEXT(0.7,\"#,##0.00#######\")","v":"0.70"},null,null,null,null,"-",null,{"$f":"TEXT(0.05,\"#,##0.00#######\")","v":"0.05"},null,null,null,null,"=",null,{"$f":"TEXT(ROUND(K141-R141,2),\"#,##0.00#######\")","v":"0.65"},null,null,null,null,null,"<자연상태(보통)>",null,null,null,null,null,",",null,null,"f",null,null,"=",null,{"$f":"TEXT(1,\"#,##0\")","v":"1"},null,"/",null,{"$f":"TEXT(1.25,\"#,##0.00#######\")","v":"1.25"},null,null,null,null,"=",null,{"$f":"TEXT(ROUND(AS141/AW141,1),\"#,##0.0#######\")","v":"0.8"},null,null,null,null,"<보통토(1/L)>",null,null,null,null,null,null,null,null,null,null,null,null,null,null,null,null,null,null,null,null,null,null,null,null,null,null,null,null,null,null,null,null,null,null,null,null,null,null,null,null,null,null,null,null,null,null,null,null,null,null,null,null,null,null,null,""]
[""]
["    f값적용기준, 수량 : 자연상태(1)"]
[""]
["     q  : 흐트러진상태(L)   f  : 흐트러진상태의 단가를 자연상태로 환산(1/L)"]
[""]
[null,null,null,null,null,"Cm",null,null,"=",null,{"$f":"TEXT(21,\"#,##0\")","v":"21"},null,null,"<선회각도135°(초)>",null,null,null,null,null,null,null,null,null,null,null,null,null,null,null,null,null,null,null,null,null,null,null,null,null,null,null,null,null,null,null,null,null,null,null,null,null,null,null,null,null,null,null,null,null,null,null,null,null,null,null,null,null,null,null,null,null,null,null,null,null,null,null,null,null,null,null,null,null,null,null,null,null,null,null,null,null,null,null,null,null,null,null,null,null,null,null,null,null,null,null,null,null,null,null,null,null,null,null,null,null,null,""]
[""]
[null,null,null,null,null,"Q",null,null,"=",null,{"$f":"TEXT(3600,\"#,##0\")","v":"3,600"},null,null,null,null,"*",null,"q",null,"*",null,"k",null,"*",null,"f",null,"*",null,"E",null,"/",null,"Cm",null,null,"=",null,{"$f":"TEXT(ROUND(K149*K137*K139*BD141*Y141/K147,2),\"#,##0.00#######\")","v":"80.23"},null,null,null,null,null,null,"<㎥/hr>",null,null,null,null,null,null,null,null,null,null,null,null,null,null,null,null,null,null,null,null,null,null,null,null,null,null,null,null,null,null,null,null,null,null,null,null,null,null,null,null,null,null,null,null,null,null,null,null,null,null,null,null,null,null,null,null,null,null,null,null,null,null,null,null,null,null,null,null,null,null,""]
[""]
[null,null,null,null,null,"재료비 :",null,null,null,null,null,{"$f":"TEXT(TRUNC(건설기계!$I$91,0),\"#,##0\")","v":"31,014"},null,null,null,null,null,null,"/",null,null,"Q",null,"<㎥/hr>",null,null,null,null,"=",null,{"$f":"TEXT(ROUNDDOWN(L151/AM149,1),\"#,##0.0#######\")","v":"386.5"},null,null,null,null,null,null,null,null,null,null,null,null,null,null,null,null,null,null,null,null,null,null,null,null,null,null,null,null,null,null,null,null,null,null,null,null,null,null,null,null,null,null,null,null,null,null,null,null,null,null,null,null,null,null,null,null,null,null,null,null,null,null,null,null,null,null,null,null,null,null,{"$f":"CY151+CZ151+DA151","v":386.5},{"$f":"TEXT(AE151,\"#,###.0\")","v":"386.5"},null,null,null,null,null,null,null,null,null,null,null,null,null,"D0201-0100"]
[""]
[null,null,null,null,null,"노무비 :",null,null,null,null,null,{"$f":"TEXT(TRUNC(건설기계!$K$91,0),\"#,##0\")","v":"44,299"},null,null,null,null,null,null,"/",null,null,"Q",null,"<㎥/hr>",null,null,null,null,"=",null,{"$f":"TEXT(ROUNDDOWN(L153/AM149,1),\"#,##0.0#######\")","v":"552.1"},null,null,null,null,null,null,null,null,null,null,null,null,null,null,null,null,null,null,null,null,null,null,null,null,null,null,null,null,null,null,null,null,null,null,null,null,null,null,null,null,null,null,null,null,null,null,null,null,null,null,null,null,null,null,null,null,null,null,null,null,null,null,null,null,null,null,null,null,null,null,{"$f":"CY153+CZ153+DA153","v":552.1},null,{"$f":"TEXT(AE153,\"#,###.0\")","v":"552.1"},null,null,null,null,null,null,null,null,null,null,null,null,"D0201-0100"]
[""]
[null,null,null,null,null,"경  비 :",null,null,null,null,null,{"$f":"TEXT(TRUNC(건설기계!$M$91,0),\"#,##0\")","v":"26,368"},null,null,null,null,null,null,"/",null,null,"Q",null,"<㎥/hr>",null,null,null,null,"=",null,{"$f":"TEXT(ROUNDDOWN(L155/AM149,1),\"#,##0.0#######\")","v":"328.6"},null,null,null,null,null,null,null,null,null,null,null,null,null,null,null,null,null,null,null,null,null,null,null,null,null,null,null,null,null,null,null,null,null,null,null,null,null,null,null,null,null,null,null,null,null,null,null,null,null,null,null,null,null,null,null,null,null,null,null,null,null,null,null,null,null,null,null,null,null,null,{"$f":"CY155+CZ155+DA155","v":328.6},null,null,{"$f":"TEXT(AE155,\"#,###.0\")","v":"328.6"},null,null,null,null,null,null,null,null,null,null,null,"D0201-0100"]
[""]
["   ------------------------------------------------------------",null,null,null,null,null,null,null,null,null,null,null,null,null,null,null,null,null,null,null,null,null,null,null,null,null,null,null,null,null,null,null,null,null,null,null,null,null,null,null,null,null,null,null,null,null,null,null,null,null,null,null,null,null,null,null,null,null,null,null,null,null,null,null,null,null,null,null,null,null,null,null,null,null,null,null,null,null,null,null,null,null,null,null,null,null,null,null,null,null,null,null,null,null,null,null,null,null,null,null,null,null,null,null,null,null,null,null,null,null,null,null,null,null,null,null,""]
[""]
[null,"합",null,null,null,"계",null,null,null,null,null,null,null,null,null,null,null,null,null,null,null,null,null,null,null,null,null,null,null,null,null,null,null,null,null,null,null,null,null,null,null,null,null,null,null,null,null,null,null,null,null,null,null,null,null,null,null,null,null,null,null,null,null,null,null,null,null,null,null,null,null,null,null,null,null,null,null,null,null,null,null,null,null,null,null,null,null,null,null,null,null,null,null,null,null,null,null,null,null,null,null,{"$f":"CY159+CZ159+DA159","v":1267.2},{"$f":"TEXT(TRUNC(CY151+CY153+CY155,1),\"#,###.0\")","v":"386.5"},{"$f":"TEXT(TRUNC(CZ151+CZ153+CZ155,1),\"#,###.0\")","v":"552.1"},{"$f":"TEXT(TRUNC(DA151+DA153+DA155,1),\"#,###.0\")","v":"328.6"},null,null,null,null,null,null,null,null,null,null,null,""]
[]
["      계",null,null,null,null,null,null,null,null,null,null,null,null,null,null,null,null,null,null,null,null,null,null,null,null,null,null,null,null,null,null,null,null,null,null,null,null,null,null,null,null,null,null,null,null,null,null,null,null,null,null,null,null,null,null,null,null,null,null,null,null,null,null,null,null,null,null,null,null,null,null,null,null,null,null,null,null,null,null,null,null,null,null,null,null,null,null,null,null,null,null,null,null,null,null,null,null,null,null,null,null,{"$f":"TEXT(CY161+CZ161+DA161,\"#,##0\")","v":"1,266"},{"$f":"TEXT(TRUNC(CY159,0),\"#,##0\")","v":"386"},{"$f":"TEXT(TRUNC(CZ159,0),\"#,##0\")","v":"552"},{"$f":"TEXT(TRUNC(DA159,0),\"#,##0\")","v":"328"}]
[]
["산근00050호표 ：기계터파기[토사]-관로부설 (굴삭기0.2㎥) ㎥ 당",null,null,null,null,null,null,null,null,null,null,null,null,null,null,null,null,null,null,null,null,null,null,null,null,null,null,null,null,null,null,null,null,null,null,null,null,null,null,null,null,null,null,null,null,null,null,null,null,null,null,null,null,null,null,null,null,null,null,null,null,null,null,null,null,null,null,null,null,null,null,null,null,null,null,null,null,null,null,null,null,null,null,null,null,null,null,null,null,null,null,null,null,null,null,null,null,null,null,null,null,null,null,null,null,null,null,null,null,null,null,null,null,null,null,null,":SDD2110-1"]
["◈ 기계터파기(토사) 굴삭기0.2㎥ ; M3당",null,null,null,null,null,null,null,null,null,null,null,null,null,null,null,null,null,null,null,null,null,null,null,null,null,null,null,null,null,null,null,null,null,null,null,null,null,null,null,null,null,null,null,null,null,null,null,null,null,null,null,null,null,null,null,null,null,null,null,null,null,null,null,null,null,null,null,null,null,null,null,null,null,null,null,null,null,null,null,null,null,null,null,null,null,null,null,null,null,null,null,null,null,null,null,null,null,null,null,null,{"$f":"CY164+CZ164+DA164","v":0},null,null,null,null,null,null,null,null,null,null,null,null,null,null,""]
[""]
["   Q  = 3600 x q x k x f x E / Cm"]
[""]
["   여기서, Q  : 시간당작업량(㎥/hr)"]
[""]
["           q  : 버켓용량(㎥)  k  : 버켓계수   f  : 토량환산계수"]
[""]
["           E  : 작업효율(터파기에 대하여는 0.05를 뺀 값으로 한다)"]
[""]
["           Cm : 1회싸이클시간(초)"]
[""]
[null,null,null,null,null,"q",null,null,"=",null,{"$f":"TEXT(0.2,\"#,##0.00#######\")","v":"0.20"},null,null,null,null,"<굴삭기0.2㎥용(㎥)>",null,null,null,null,null,null,null,null,null,null,null,null,null,null,null,null,null,null,null,null,null,null,null,null,null,null,null,null,null,null,null,null,null,null,null,null,null,null,null,null,null,null,null,null,null,null,null,null,null,null,null,null,null,null,null,null,null,null,null,null,null,null,null,null,null,null,null,null,null,null,null,null,null,null,null,null,null,null,null,null,null,null,null,null,null,null,null,null,null,null,null,null,null,null,null,null,null,null,null,null,""]
[""]
[null,null,null,null,null,"k",null,null,"=",null,{"$f":"TEXT(0.9,\"#,##0.00#######\")","v":"0.90"},null,null,null,null,"<버켓에 거의 가득 채울수 있는 보통토>",null,null,null,null,null,null,null,null,null,null,null,null,null,null,null,null,null,null,null,null,null,null,null,null,null,null,null,null,null,null,null,null,null,null,null,null,null,null,null,null,null,null,null,null,null,null,null,null,null,null,null,null,null,null,null,null,null,null,null,null,null,null,null,null,null,null,null,null,null,null,null,null,null,null,null,null,null,null,null,null,null,null,null,null,null,null,null,null,null,null,null,null,null,null,null,null,null,null,null,null,""]
[""]
[null,null,null,null,null,"E",null,null,"=",null,{"$f":"TEXT(0.3,\"#,##0.00#######\")","v":"0.30"},null,null,null,null,"-",null,null,null,null,null,null,"=",null,{"$f":"TEXT(ROUND(K180-R180,2),\"#,##0.00#######\")","v":"0.30"},null,null,null,null,null,"<자연상태(불량)>",null,null,null,null,null,",",null,null,"f",null,null,"=",null,{"$f":"TEXT(1,\"#,##0\")","v":"1"},null,"/",null,{"$f":"TEXT(1.25,\"#,##0.00#######\")","v":"1.25"},null,null,null,null,"=",null,{"$f":"TEXT(ROUND(AS180/AW180,1),\"#,##0.0#######\")","v":"0.8"},null,null,null,null,"<보통토(1/L)>",null,null,null,null,null,null,null,null,null,null,null,null,null,null,null,null,null,null,null,null,null,null,null,null,null,null,null,null,null,null,null,null,null,null,null,null,null,null,null,null,null,null,null,null,null,null,null,null,null,null,null,null,null,null,null,""]
[""]
["   f값적용기준, 수량 : 자연상태(1)"]
[""]
["            q  : 흐트러진상태(L)"]
[""]
["            f  : 흐트러진상태의 단가를 자연상태로 환산(1/L)"]
[""]
[null,null,null,null,null,"Cm",null,null,"=",null,{"$f":"TEXT(18,\"#,##0\")","v":"18"},null,null,"<선회각도135°(초)>",null,null,null,null,null,null,null,null,null,null,null,null,null,null,null,null,null,null,null,null,null,null,null,null,null,null,null,null,null,null,null,null,null,null,null,null,null,null,null,null,null,null,null,null,null,null,null,null,null,null,null,null,null,null,null,null,null,null,null,null,null,null,null,null,null,null,null,null,null,null,null,null,null,null,null,null,null,null,null,null,null,null,null,null,null,null,null,null,null,null,null,null,null,null,null,null,null,null,null,null,null,null,""]
[""]
[null,null,null,null,null,"Q",null,null,"=",null,{"$f":"TEXT(3600,\"#,##0\")","v":"3,600"},null,null,null,null,"*",null,"q",null,"*",null,"k",null,"*",null,"f",null,"*",null,"E",null,"/",null,"Cm",null,null,"=",null,{"$f":"TEXT(ROUND(K190*K176*K178*BD180*Y180/K188,2),\"#,##0.00#######\")","v":"8.64"},null,null,null,null,null,"<㎥/hr>",null,null,null,null,null,null,null,null,null,null,null,null,null,null,null,null,null,null,null,null,null,null,null,null,null,null,null,null,null,null,null,null,null,null,null,null,null,null,null,null,null,null,null,null,null,null,null,null,null,null,null,null,null,null,null,null,null,null,null,null,null,null,null,null,null,null,null,null,null,null,null,""]
[""]
[null,null,null,null,null,"재료비 :",null,null,null,null,null,{"$f":"TEXT(TRUNC(건설기계!$I$56,0),\"#,##0\")","v":"7,887"},null,null,null,null,null,"/",null,null,"Q",null,"<㎥/hr>",null,null,null,null,"=",null,{"$f":"TEXT(ROUNDDOWN(L192/AM190,1),\"#,##0.0#######\")","v":"912.8"},null,null,null,null,null,null,null,null,null,null,null,null,null,null,null,null,null,null,null,null,null,null,null,null,null,null,null,null,null,null,null,null,null,null,null,null,null,null,null,null,null,null,null,null,null,null,null,null,null,null,null,null,null,null,null,null,null,null,null,null,null,null,null,null,null,null,null,null,null,null,null,{"$f":"CY192+CZ192+DA192","v":912.8},{"$f":"TEXT(AD192,\"#,###.0\")","v":"912.8"},null,null,null,null,null,null,null,null,null,null,null,null,null,"D0201-0020"]
[""]
[null,null,null,null,null,"노무비 :",null,null,null,null,null,{"$f":"TEXT(TRUNC(건설기계!$K$56,0),\"#,##0\")","v":"44,299"},null,null,null,null,null,null,"/",null,null,"Q",null,"<㎥/hr>",null,null,null,null,"=",null,{"$f":"TEXT(ROUNDDOWN(L194/AM190,1),\"#,##0.0#######\")","v":"5,127.1"},null,null,null,null,null,null,null,null,null,null,null,null,null,null,null,null,null,null,null,null,null,null,null,null,null,null,null,null,null,null,null,null,null,null,null,null,null,null,null,null,null,null,null,null,null,null,null,null,null,null,null,null,null,null,null,null,null,null,null,null,null,null,null,null,null,null,null,null,null,null,{"$f":"CY194+CZ194+DA194","v":5127.1000000000004},null,{"$f":"TEXT(AE194,\"#,###.0\")","v":"5,127.1"},null,null,null,null,null,null,null,null,null,null,null,null,"D0201-0020"]
[""]
[null,null,null,null,null,"경  비 :",null,null,null,null,null,{"$f":"TEXT(TRUNC(건설기계!$M$56,0),\"#,##0\")","v":"12,510"},null,null,null,null,null,null,"/",null,null,"Q",null,"<㎥/hr>",null,null,null,null,"=",null,{"$f":"TEXT(ROUNDDOWN(L196/AM190,1),\"#,##0.0#######\")","v":"1,447.9"},null,null,null,null,null,null,null,null,null,null,null,null,null,null,null,null,null,null,null,null,null,null,null,null,null,null,null,null,null,null,null,null,null,null,null,null,null,null,null,null,null,null,null,null,null,null,null,null,null,null,null,null,null,null,null,null,null,null,null,null,null,null,null,null,null,null,null,null,null,null,{"$f":"CY196+CZ196+DA196","v":1447.9},null,null,{"$f":"TEXT(AE196,\"#,###.0\")","v":"1,447.9"},null,null,null,null,null,null,null,null,null,null,null,"D0201-0020"]
[""]
["   ------------------------------------------------------------",null,null,null,null,null,null,null,null,null,null,null,null,null,null,null,null,null,null,null,null,null,null,null,null,null,null,null,null,null,null,null,null,null,null,null,null,null,null,null,null,null,null,null,null,null,null,null,null,null,null,null,null,null,null,null,null,null,null,null,null,null,null,null,null,null,null,null,null,null,null,null,null,null,null,null,null,null,null,null,null,null,null,null,null,null,null,null,null,null,null,null,null,null,null,null,null,null,null,null,null,null,null,null,null,null,null,null,null,null,null,null,null,null,null,null,""]
[""]
[null,"합",null,null,null,"계",null,null,null,null,null,null,null,null,null,null,null,null,null,null,null,null,null,null,null,null,null,null,null,null,null,null,null,null,null,null,null,null,null,null,null,null,null,null,null,null,null,null,null,null,null,null,null,null,null,null,null,null,null,null,null,null,null,null,null,null,null,null,null,null,null,null,null,null,null,null,null,null,null,null,null,null,null,null,null,null,null,null,null,null,null,null,null,null,null,null,null,null,null,null,null,{"$f":"CY200+CZ200+DA200","v":7487.8000000000011},{"$f":"TEXT(TRUNC(CY192+CY194+CY196,1),\"#,###.0\")","v":"912.8"},{"$f":"TEXT(TRUNC(CZ192+CZ194+CZ196,1),\"#,###.0\")","v":"5,127.1"},{"$f":"TEXT(TRUNC(DA192+DA194+DA196,1),\"#,###.0\")","v":"1,447.9"},null,null,null,null,null,null,null,null,null,null,null,""]
[]
["      계",null,null,null,null,null,null,null,null,null,null,null,null,null,null,null,null,null,null,null,null,null,null,null,null,null,null,null,null,null,null,null,null,null,null,null,null,null,null,null,null,null,null,null,null,null,null,null,null,null,null,null,null,null,null,null,null,null,null,null,null,null,null,null,null,null,null,null,null,null,null,null,null,null,null,null,null,null,null,null,null,null,null,null,null,null,null,null,null,null,null,null,null,null,null,null,null,null,null,null,null,{"$f":"TEXT(CY202+CZ202+DA202,\"#,##0\")","v":"7,486"},{"$f":"TEXT(TRUNC(CY200,0),\"#,##0\")","v":"912"},{"$f":"TEXT(TRUNC(CZ200,0),\"#,##0\")","v":"5,127"},{"$f":"TEXT(TRUNC(DA200,0),\"#,##0\")","v":"1,447"}]
[]
["산근00060호표 ：기계터파기[토사]-관로부설 (굴삭기0.4㎥) ㎥ 당",null,null,null,null,null,null,null,null,null,null,null,null,null,null,null,null,null,null,null,null,null,null,null,null,null,null,null,null,null,null,null,null,null,null,null,null,null,null,null,null,null,null,null,null,null,null,null,null,null,null,null,null,null,null,null,null,null,null,null,null,null,null,null,null,null,null,null,null,null,null,null,null,null,null,null,null,null,null,null,null,null,null,null,null,null,null,null,null,null,null,null,null,null,null,null,null,null,null,null,null,null,null,null,null,null,null,null,null,null,null,null,null,null,null,null,":SDD2120-1"]
["◈ 기계터파기(토사) 굴삭기0.4㎥ ; M3당",null,null,null,null,null,null,null,null,null,null,null,null,null,null,null,null,null,null,null,null,null,null,null,null,null,null,null,null,null,null,null,null,null,null,null,null,null,null,null,null,null,null,null,null,null,null,null,null,null,null,null,null,null,null,null,null,null,null,null,null,null,null,null,null,null,null,null,null,null,null,null,null,null,null,null,null,null,null,null,null,null,null,null,null,null,null,null,null,null,null,null,null,null,null,null,null,null,null,null,null,{"$f":"CY205+CZ205+DA205","v":0},null,null,null,null,null,null,null,null,null,null,null,null,null,null,""]
[""]
["   Q  = 3600 x q x k x f x E / Cm"]
[""]
["   여기서, Q  : 시간당작업량(㎥/hr)"]
[""]
["          q  : 버켓용량(㎥)  k  : 버켓계수   f  : 토량환산계수"]
[""]
["          E  : 작업효율(터파기에 대하여는 0.05를 뺀 값으로 한다)"]
[""]
["          Cm : 1회싸이클시간(초)"]
[""]
[null,null,null,null,null,"q",null,null,"=",null,{"$f":"TEXT(0.4,\"#,##0.00#######\")","v":"0.40"},null,null,null,null,"<굴삭기0.4㎥용(㎥)>",null,null,null,null,null,",",null,null,null,"k",null,null,"=",null,{"$f":"TEXT(0.9,\"#,##0.00#######\")","v":"0.90"},null,null,null,null,"<버켓에 거의 가득 채울수 있는 보통토>",null,null,null,null,null,null,null,null,null,null,null,null,null,null,null,null,null,null,null,null,null,null,null,null,null,null,null,null,null,null,null,null,null,null,null,null,null,null,null,null,null,null,null,null,null,null,null,null,null,null,null,null,null,null,null,null,null,null,null,null,null,null,null,null,null,null,null,null,null,null,null,null,null,null,null,null,null,null,null,null,""]
[""]
[null,null,null,null,null,"E",null,null,"=",null,{"$f":"TEXT(0.3,\"#,##0.00#######\")","v":"0.30"},null,null,null,null,"-",null,null,null,null,null,null,"=",null,{"$f":"TEXT(ROUND(K219-R219,2),\"#,##0.00#######\")","v":"0.30"},null,null,null,null,null,"<자연상태(보통)>",null,null,null,null,null,",",null,null,"f",null,null,"=",null,{"$f":"TEXT(1,\"#,##0\")","v":"1"},null,"/",null,{"$f":"TEXT(1.25,\"#,##0.00#######\")","v":"1.25"},null,null,null,null,"=",null,{"$f":"TEXT(ROUND(AS219/AW219,1),\"#,##0.0#######\")","v":"0.8"},null,null,null,null,"<보통토(1/L)>",null,null,null,null,null,null,null,null,null,null,null,null,null,null,null,null,null,null,null,null,null,null,null,null,null,null,null,null,null,null,null,null,null,null,null,null,null,null,null,null,null,null,null,null,null,null,null,null,null,null,null,null,null,null,null,""]
[""]
["   f값적용기준, 수량 : 자연상태(1)"]
[""]
["     q  : 흐트러진상태(L)"]
[""]
["     f  : 흐트러진상태의 단가를 자연상태로 환산(1/L)"]
[""]
[null,null,null,null,"Cm",null,null,"=",null,{"$f":"TEXT(18,\"#,##0\")","v":"18"},null,null,"<선회각도135°(초)>",null,null,null,null,null,null,null,null,null,null,null,null,null,null,null,null,null,null,null,null,null,null,null,null,null,null,null,null,null,null,null,null,null,null,null,null,null,null,null,null,null,null,null,null,null,null,null,null,null,null,null,null,null,null,null,null,null,null,null,null,null,null,null,null,null,null,null,null,null,null,null,null,null,null,null,null,null,null,null,null,null,null,null,null,null,null,null,null,null,null,null,null,null,null,null,null,null,null,null,null,null,null,null,""]
[""]
[null,null,null,null,null,"Q",null,null,"=",null,{"$f":"TEXT(3600,\"#,##0\")","v":"3,600"},null,null,null,null,"*",null,"q",null,"*",null,"k",null,"*",null,"f",null,"*",null,"E",null,"/",null,"Cm",null,null,"=",null,{"$f":"TEXT(ROUND(K229*K217*AE217*BD219*Y219/J227,1),\"#,##0.0#######\")","v":"17.3"},null,null,null,null,null,"<㎥/hr>",null,null,null,null,null,null,null,null,null,null,null,null,null,null,null,null,null,null,null,null,null,null,null,null,null,null,null,null,null,null,null,null,null,null,null,null,null,null,null,null,null,null,null,null,null,null,null,null,null,null,null,null,null,null,null,null,null,null,null,null,null,null,null,null,null,null,null,null,null,null,null,""]
[""]
[null,null,null,null,null,"재료비 :",null,null,null,null,null,{"$f":"TEXT(TRUNC(건설기계!$I$63,0),\"#,##0\")","v":"15,745"},null,null,null,null,null,null,"/",null,null,"Q",null,"<㎥/hr>",null,null,null,null,"=",null,{"$f":"TEXT(ROUNDDOWN(L231/AM229,1),\"#,##0.0#######\")","v":"910.1"},null,null,null,null,null,null,null,null,null,null,null,null,null,null,null,null,null,null,null,null,null,null,null,null,null,null,null,null,null,null,null,null,null,null,null,null,null,null,null,null,null,null,null,null,null,null,null,null,null,null,null,null,null,null,null,null,null,null,null,null,null,null,null,null,null,null,null,null,null,null,{"$f":"CY231+CZ231+DA231","v":910.1},{"$f":"TEXT(AE231,\"#,###.0\")","v":"910.1"},null,null,null,null,null,null,null,null,null,null,null,null,null,"D0201-0040"]
[""]
[null,null,null,null,null,"노무비 :",null,null,null,null,null,{"$f":"TEXT(TRUNC(건설기계!$K$63,0),\"#,##0\")","v":"44,299"},null,null,null,null,null,null,"/",null,null,"Q",null,"<㎥/hr>",null,null,null,null,"=",null,{"$f":"TEXT(ROUNDDOWN(L233/AM229,1),\"#,##0.0#######\")","v":"2,560.6"},null,null,null,null,null,null,null,null,null,null,null,null,null,null,null,null,null,null,null,null,null,null,null,null,null,null,null,null,null,null,null,null,null,null,null,null,null,null,null,null,null,null,null,null,null,null,null,null,null,null,null,null,null,null,null,null,null,null,null,null,null,null,null,null,null,null,null,null,null,null,{"$f":"CY233+CZ233+DA233","v":2560.6},null,{"$f":"TEXT(AE233,\"#,###.0\")","v":"2,560.6"},null,null,null,null,null,null,null,null,null,null,null,null,"D0201-0040"]
[""]
[null,null,null,null,null,"경  비 :",null,null,null,null,null,{"$f":"TEXT(TRUNC(건설기계!$M$63,0),\"#,##0\")","v":"15,429"},null,null,null,null,null,null,"/",null,null,"Q",null,"<㎥/hr>",null,null,null,null,"=",null,{"$f":"TEXT(ROUNDDOWN(L235/AM229,1),\"#,##0.0#######\")","v":"891.8"},null,null,null,null,null,null,null,null,null,null,null,null,null,null,null,null,null,null,null,null,null,null,null,null,null,null,null,null,null,null,null,null,null,null,null,null,null,null,null,null,null,null,null,null,null,null,null,null,null,null,null,null,null,null,null,null,null,null,null,null,null,null,null,null,null,null,null,null,null,null,{"$f":"CY235+CZ235+DA235","v":891.8},null,null,{"$f":"TEXT(AE235,\"#,###.0\")","v":"891.8"},null,null,null,null,null,null,null,null,null,null,null,"D0201-0040"]
[""]
["   ------------------------------------------------------------",null,null,null,null,null,null,null,null,null,null,null,null,null,null,null,null,null,null,null,null,null,null,null,null,null,null,null,null,null,null,null,null,null,null,null,null,null,null,null,null,null,null,null,null,null,null,null,null,null,null,null,null,null,null,null,null,null,null,null,null,null,null,null,null,null,null,null,null,null,null,null,null,null,null,null,null,null,null,null,null,null,null,null,null,null,null,null,null,null,null,null,null,null,null,null,null,null,null,null,null,null,null,null,null,null,null,null,null,null,null,null,null,null,null,null,""]
[""]
[null,"합",null,null,null,"계",null,null,null,null,null,null,null,null,null,null,null,null,null,null,null,null,null,null,null,null,null,null,null,null,null,null,null,null,null,null,null,null,null,null,null,null,null,null,null,null,null,null,null,null,null,null,null,null,null,null,null,null,null,null,null,null,null,null,null,null,null,null,null,null,null,null,null,null,null,null,null,null,null,null,null,null,null,null,null,null,null,null,null,null,null,null,null,null,null,null,null,null,null,null,null,{"$f":"CY239+CZ239+DA239","v":4362.5},{"$f":"TEXT(TRUNC(CY231+CY233+CY235,1),\"#,###.0\")","v":"910.1"},{"$f":"TEXT(TRUNC(CZ231+CZ233+CZ235,1),\"#,###.0\")","v":"2,560.6"},{"$f":"TEXT(TRUNC(DA231+DA233+DA235,1),\"#,###.0\")","v":"891.8"},null,null,null,null,null,null,null,null,null,null,null,""]
[]
["      계",null,null,null,null,null,null,null,null,null,null,null,null,null,null,null,null,null,null,null,null,null,null,null,null,null,null,null,null,null,null,null,null,null,null,null,null,null,null,null,null,null,null,null,null,null,null,null,null,null,null,null,null,null,null,null,null,null,null,null,null,null,null,null,null,null,null,null,null,null,null,null,null,null,null,null,null,null,null,null,null,null,null,null,null,null,null,null,null,null,null,null,null,null,null,null,null,null,null,null,null,{"$f":"TEXT(CY241+CZ241+DA241,\"#,##0\")","v":"4,361"},{"$f":"TEXT(TRUNC(CY239,0),\"#,##0\")","v":"910"},{"$f":"TEXT(TRUNC(CZ239,0),\"#,##0\")","v":"2,560"},{"$f":"TEXT(TRUNC(DA239,0),\"#,##0\")","v":"891"}]
[]
["산근00070호표 ：기계터파기[토사]-관로부설 (굴삭기0.7㎥) ㎥ 당",null,null,null,null,null,null,null,null,null,null,null,null,null,null,null,null,null,null,null,null,null,null,null,null,null,null,null,null,null,null,null,null,null,null,null,null,null,null,null,null,null,null,null,null,null,null,null,null,null,null,null,null,null,null,null,null,null,null,null,null,null,null,null,null,null,null,null,null,null,null,null,null,null,null,null,null,null,null,null,null,null,null,null,null,null,null,null,null,null,null,null,null,null,null,null,null,null,null,null,null,null,null,null,null,null,null,null,null,null,null,null,null,null,null,null,":SDD2130-1"]
["◈ 기계터파기(토사) 굴삭기0.7㎥ ; M3당",null,null,null,null,null,null,null,null,null,null,null,null,null,null,null,null,null,null,null,null,null,null,null,null,null,null,null,null,null,null,null,null,null,null,null,null,null,null,null,null,null,null,null,null,null,null,null,null,null,null,null,null,null,null,null,null,null,null,null,null,null,null,null,null,null,null,null,null,null,null,null,null,null,null,null,null,null,null,null,null,null,null,null,null,null,null,null,null,null,null,null,null,null,null,null,null,null,null,null,null,{"$f":"CY244+CZ244+DA244","v":0},null,null,null,null,null,null,null,null,null,null,null,null,null,null,""]
[""]
["   Q  = 3600 x q x k x f x E / Cm"]
[""]
["   여기서, Q  : 시간당작업량(㎥/hr)"]
[""]
["           q  : 버켓용량(㎥)   k  : 버켓계수"]
[""]
["           f  : 토량환산계수   E  : 작업효율(터파기에 대하여는 0.05를 뺀 값으로 한다)"]
[""]
["           Cm : 1회싸이클시간(초)"]
[""]
[null,null,null,null,null,"q",null,null,"=",null,{"$f":"TEXT(0.7,\"#,##0.00#######\")","v":"0.70"},null,null,null,null,"<굴삭기0.7㎥용(㎥)>",null,null,null,null,null,null,null,null,null,null,null,null,null,null,null,null,null,null,null,null,null,null,null,null,null,null,null,null,null,null,null,null,null,null,null,null,null,null,null,null,null,null,null,null,null,null,null,null,null,null,null,null,null,null,null,null,null,null,null,null,null,null,null,null,null,null,null,null,null,null,null,null,null,null,null,null,null,null,null,null,null,null,null,null,null,null,null,null,null,null,null,null,null,null,null,null,null,null,null,null,""]
[""]
[null,null,null,null,null,"k",null,null,"=",null,{"$f":"TEXT(0.9,\"#,##0.00#######\")","v":"0.90"},null,null,null,null,"<버켓에 거의 가득 채울수 있는 보통토>",null,null,null,null,null,null,null,null,null,null,null,null,null,null,null,null,null,null,null,null,null,null,null,null,null,null,null,null,null,null,null,null,null,null,null,null,null,null,null,null,null,null,null,null,null,null,null,null,null,null,null,null,null,null,null,null,null,null,null,null,null,null,null,null,null,null,null,null,null,null,null,null,null,null,null,null,null,null,null,null,null,null,null,null,null,null,null,null,null,null,null,null,null,null,null,null,null,null,null,null,""]
[""]
[null,null,null,null,null,"E",null,null,"=",null,{"$f":"TEXT(0.3,\"#,##0.00#######\")","v":"0.30"},null,null,null,null,"-",null,null,null,null,null,null,"=",null,{"$f":"TEXT(ROUND(K260-R260,2),\"#,##0.00#######\")","v":"0.30"},null,null,null,null,null,"<자연상태(보통)>",null,null,null,null,null,",",null,null,"f",null,null,"=",null,{"$f":"TEXT(1,\"#,##0\")","v":"1"},null,"/",null,{"$f":"TEXT(1.25,\"#,##0.00#######\")","v":"1.25"},null,null,null,null,"=",null,{"$f":"TEXT(ROUND(AS260/AW260,1),\"#,##0.0#######\")","v":"0.8"},null,null,null,null,"<보통토(1/L)>",null,null,null,null,null,null,null,null,null,null,null,null,null,null,null,null,null,null,null,null,null,null,null,null,null,null,null,null,null,null,null,null,null,null,null,null,null,null,null,null,null,null,null,null,null,null,null,null,null,null,null,null,null,null,null,""]
[""]
["          f값적용기준, 수량 : 자연상태(1)"]
[""]
["          q  : 흐트러진상태(L)   f  : 흐트러진상태의 단가를 자연상태로 환산(1/L)"]
[""]
[null,null,null,null,null,"Cm",null,null,"=",null,{"$f":"TEXT(20,\"#,##0\")","v":"20"},null,null,"<선회각도135°(초)>",null,null,null,null,null,null,null,null,null,null,null,null,null,null,null,null,null,null,null,null,null,null,null,null,null,null,null,null,null,null,null,null,null,null,null,null,null,null,null,null,null,null,null,null,null,null,null,null,null,null,null,null,null,null,null,null,null,null,null,null,null,null,null,null,null,null,null,null,null,null,null,null,null,null,null,null,null,null,null,null,null,null,null,null,null,null,null,null,null,null,null,null,null,null,null,null,null,null,null,null,null,null,""]
[""]
[null,null,null,null,null,"Q",null,null,"=",null,{"$f":"TEXT(3600,\"#,##0\")","v":"3,600"},null,null,null,null,"*",null,"q",null,"*",null,"k",null,"*",null,"f",null,"*",null,"E",null,"/",null,"Cm",null,null,"=",null,{"$f":"TEXT(ROUND(K268*K256*K258*BD260*Y260/K266,2),\"#,##0.00#######\")","v":"27.22"},null,null,null,null,null,null,"<㎥/hr>",null,null,null,null,null,null,null,null,null,null,null,null,null,null,null,null,null,null,null,null,null,null,null,null,null,null,null,null,null,null,null,null,null,null,null,null,null,null,null,null,null,null,null,null,null,null,null,null,null,null,null,null,null,null,null,null,null,null,null,null,null,null,null,null,null,null,null,null,null,null,""]
[""]
[null,null,null,null,null,"재료비 :",null,null,null,null,null,{"$f":"TEXT(TRUNC(건설기계!$I$77,0),\"#,##0\")","v":"18,449"},null,null,null,null,null,null,"/",null,null,"Q",null,"<㎥/hr>",null,null,null,null,"=",null,{"$f":"TEXT(ROUNDDOWN(L270/AM268,1),\"#,##0.0#######\")","v":"677.7"},null,null,null,null,null,null,null,null,null,null,null,null,null,null,null,null,null,null,null,null,null,null,null,null,null,null,null,null,null,null,null,null,null,null,null,null,null,null,null,null,null,null,null,null,null,null,null,null,null,null,null,null,null,null,null,null,null,null,null,null,null,null,null,null,null,null,null,null,null,null,{"$f":"CY270+CZ270+DA270","v":677.7},{"$f":"TEXT(AE270,\"#,###.0\")","v":"677.7"},null,null,null,null,null,null,null,null,null,null,null,null,null,"D0201-0070"]
[""]
[null,null,null,null,null,"노무비 :",null,null,null,null,null,{"$f":"TEXT(TRUNC(건설기계!$K$77,0),\"#,##0\")","v":"44,299"},null,null,null,null,null,null,"/",null,null,"Q",null,"<㎥/hr>",null,null,null,null,"=",null,{"$f":"TEXT(ROUNDDOWN(L272/AM268,1),\"#,##0.0#######\")","v":"1,627.4"},null,null,null,null,null,null,null,null,null,null,null,null,null,null,null,null,null,null,null,null,null,null,null,null,null,null,null,null,null,null,null,null,null,null,null,null,null,null,null,null,null,null,null,null,null,null,null,null,null,null,null,null,null,null,null,null,null,null,null,null,null,null,null,null,null,null,null,null,null,null,{"$f":"CY272+CZ272+DA272","v":1627.4},null,{"$f":"TEXT(AE272,\"#,###.0\")","v":"1,627.4"},null,null,null,null,null,null,null,null,null,null,null,null,"D0201-0070"]
[""]
[null,null,null,null,null,"경  비 :",null,null,null,null,null,{"$f":"TEXT(TRUNC(건설기계!$M$77,0),\"#,##0\")","v":"21,780"},null,null,null,null,null,null,"/",null,null,"Q",null,"<㎥/hr>",null,null,null,null,"=",null,{"$f":"TEXT(ROUNDDOWN(L274/AM268,1),\"#,##0.0#######\")","v":"800.1"},null,null,null,null,null,null,null,null,null,null,null,null,null,null,null,null,null,null,null,null,null,null,null,null,null,null,null,null,null,null,null,null,null,null,null,null,null,null,null,null,null,null,null,null,null,null,null,null,null,null,null,null,null,null,null,null,null,null,null,null,null,null,null,null,null,null,null,null,null,null,{"$f":"CY274+CZ274+DA274","v":800.1},null,null,{"$f":"TEXT(AE274,\"#,###.0\")","v":"800.1"},null,null,null,null,null,null,null,null,null,null,null,"D0201-0070"]
[""]
["   ------------------------------------------------------------",null,null,null,null,null,null,null,null,null,null,null,null,null,null,null,null,null,null,null,null,null,null,null,null,null,null,null,null,null,null,null,null,null,null,null,null,null,null,null,null,null,null,null,null,null,null,null,null,null,null,null,null,null,null,null,null,null,null,null,null,null,null,null,null,null,null,null,null,null,null,null,null,null,null,null,null,null,null,null,null,null,null,null,null,null,null,null,null,null,null,null,null,null,null,null,null,null,null,null,null,null,null,null,null,null,null,null,null,null,null,null,null,null,null,null,""]
[""]
[null,"합",null,null,null,"계",null,null,null,null,null,null,null,null,null,null,null,null,null,null,null,null,null,null,null,null,null,null,null,null,null,null,null,null,null,null,null,null,null,null,null,null,null,null,null,null,null,null,null,null,null,null,null,null,null,null,null,null,null,null,null,null,null,null,null,null,null,null,null,null,null,null,null,null,null,null,null,null,null,null,null,null,null,null,null,null,null,null,null,null,null,null,null,null,null,null,null,null,null,null,null,{"$f":"CY278+CZ278+DA278","v":3105.2000000000003},{"$f":"TEXT(TRUNC(CY270+CY272+CY274,1),\"#,###.0\")","v":"677.7"},{"$f":"TEXT(TRUNC(CZ270+CZ272+CZ274,1),\"#,###.0\")","v":"1,627.4"},{"$f":"TEXT(TRUNC(DA270+DA272+DA274,1),\"#,###.0\")","v":"800.1"},null,null,null,null,null,null,null,null,null,null,null,""]
[]
["      계",null,null,null,null,null,null,null,null,null,null,null,null,null,null,null,null,null,null,null,null,null,null,null,null,null,null,null,null,null,null,null,null,null,null,null,null,null,null,null,null,null,null,null,null,null,null,null,null,null,null,null,null,null,null,null,null,null,null,null,null,null,null,null,null,null,null,null,null,null,null,null,null,null,null,null,null,null,null,null,null,null,null,null,null,null,null,null,null,null,null,null,null,null,null,null,null,null,null,null,null,{"$f":"TEXT(CY280+CZ280+DA280,\"#,##0\")","v":"3,104"},{"$f":"TEXT(TRUNC(CY278,0),\"#,##0\")","v":"677"},{"$f":"TEXT(TRUNC(CZ278,0),\"#,##0\")","v":"1,627"},{"$f":"TEXT(TRUNC(DA278,0),\"#,##0\")","v":"800"}]
[]
["산근00080호표 ：기계터파기[토사]-관로부설 (굴삭기1.0㎥) ㎥ 당",null,null,null,null,null,null,null,null,null,null,null,null,null,null,null,null,null,null,null,null,null,null,null,null,null,null,null,null,null,null,null,null,null,null,null,null,null,null,null,null,null,null,null,null,null,null,null,null,null,null,null,null,null,null,null,null,null,null,null,null,null,null,null,null,null,null,null,null,null,null,null,null,null,null,null,null,null,null,null,null,null,null,null,null,null,null,null,null,null,null,null,null,null,null,null,null,null,null,null,null,null,null,null,null,null,null,null,null,null,null,null,null,null,null,null,":SDD2140-1"]
["◈ 기계터파기(토사) 굴삭기1.0㎥ ; M3당",null,null,null,null,null,null,null,null,null,null,null,null,null,null,null,null,null,null,null,null,null,null,null,null,null,null,null,null,null,null,null,null,null,null,null,null,null,null,null,null,null,null,null,null,null,null,null,null,null,null,null,null,null,null,null,null,null,null,null,null,null,null,null,null,null,null,null,null,null,null,null,null,null,null,null,null,null,null,null,null,null,null,null,null,null,null,null,null,null,null,null,null,null,null,null,null,null,null,null,null,{"$f":"CY283+CZ283+DA283","v":0},null,null,null,null,null,null,null,null,null,null,null,null,null,null,""]
[""]
["   Q  = 3600 x q x k x f x E / Cm"]
[""]
["   여기서, Q  : 시간당작업량(㎥/hr)"]
[""]
["           q  : 버켓용량(㎥)  k  : 버켓계수"]
[""]
["           f  : 토량환산계수  E  : 작업효율(터파기에 대하여는 0.05를 뺀 값으로 한다)"]
[""]
["           Cm : 1회싸이클시간(초)"]
[""]
[null,null,null,null,null,"q",null,null,"=",null,{"$f":"TEXT(1,\"#,##0.00#######\")","v":"1.00"},null,null,null,null,"<굴삭기1.0㎥용(㎥)>",null,null,null,null,null,null,null,null,null,null,null,null,null,null,null,null,null,null,null,null,null,null,null,null,null,null,null,null,null,null,null,null,null,null,null,null,null,null,null,null,null,null,null,null,null,null,null,null,null,null,null,null,null,null,null,null,null,null,null,null,null,null,null,null,null,null,null,null,null,null,null,null,null,null,null,null,null,null,null,null,null,null,null,null,null,null,null,null,null,null,null,null,null,null,null,null,null,null,null,null,""]
[""]
[null,null,null,null,null,"k",null,null,"=",null,{"$f":"TEXT(0.9,\"#,##0.00#######\")","v":"0.90"},null,null,null,null,"<버켓에 거의 가득 채울수 있는 보통토>",null,null,null,null,null,null,null,null,null,null,null,null,null,null,null,null,null,null,null,null,null,null,null,null,null,null,null,null,null,null,null,null,null,null,null,null,null,null,null,null,null,null,null,null,null,null,null,null,null,null,null,null,null,null,null,null,null,null,null,null,null,null,null,null,null,null,null,null,null,null,null,null,null,null,null,null,null,null,null,null,null,null,null,null,null,null,null,null,null,null,null,null,null,null,null,null,null,null,null,null,""]
[""]
[null,null,null,null,null,"E",null,null,"=",null,{"$f":"TEXT(0.3,\"#,##0.00#######\")","v":"0.30"},null,null,null,null,"-",null,null,null,null,null,null,"=",null,{"$f":"TEXT(ROUND(K299-R299,2),\"#,##0.00#######\")","v":"0.30"},null,null,null,null,null,"<자연상태(보통)>",null,null,null,null,null,",",null,null,"f",null,null,"=",null,{"$f":"TEXT(1,\"#,##0\")","v":"1"},null,"/",null,{"$f":"TEXT(1.25,\"#,##0.00#######\")","v":"1.25"},null,null,null,null,"=",null,{"$f":"TEXT(ROUND(AS299/AW299,1),\"#,##0.0#######\")","v":"0.8"},null,null,null,null,"<보통토(1/L)>",null,null,null,null,null,null,null,null,null,null,null,null,null,null,null,null,null,null,null,null,null,null,null,null,null,null,null,null,null,null,null,null,null,null,null,null,null,null,null,null,null,null,null,null,null,null,null,null,null,null,null,null,null,null,null,""]
[""]
["    f값적용기준, 수량 : 자연상태(1)"]
[""]
["     q  : 흐트러진상태(L)   f  : 흐트러진상태의 단가를 자연상태로 환산(1/L)"]
[""]
[null,null,null,null,null,"Cm",null,null,"=",null,{"$f":"TEXT(21,\"#,##0\")","v":"21"},null,null,"<선회각도135°(초)>",null,null,null,null,null,null,null,null,null,null,null,null,null,null,null,null,null,null,null,null,null,null,null,null,null,null,null,null,null,null,null,null,null,null,null,null,null,null,null,null,null,null,null,null,null,null,null,null,null,null,null,null,null,null,null,null,null,null,null,null,null,null,null,null,null,null,null,null,null,null,null,null,null,null,null,null,null,null,null,null,null,null,null,null,null,null,null,null,null,null,null,null,null,null,null,null,null,null,null,null,null,null,""]
[""]
[null,null,null,null,null,"Q",null,null,"=",null,{"$f":"TEXT(3600,\"#,##0\")","v":"3,600"},null,null,null,null,"*",null,"q",null,"*",null,"k",null,"*",null,"f",null,"*",null,"E",null,"/",null,"Cm",null,null,"=",null,{"$f":"TEXT(ROUND(K307*K295*K297*BD299*Y299/K305,2),\"#,##0.00#######\")","v":"37.03"},null,null,null,null,null,null,"<㎥/hr>",null,null,null,null,null,null,null,null,null,null,null,null,null,null,null,null,null,null,null,null,null,null,null,null,null,null,null,null,null,null,null,null,null,null,null,null,null,null,null,null,null,null,null,null,null,null,null,null,null,null,null,null,null,null,null,null,null,null,null,null,null,null,null,null,null,null,null,null,null,null,""]
[""]
[null,null,null,null,null,"재료비 :",null,null,null,null,null,{"$f":"TEXT(TRUNC(건설기계!$I$91,0),\"#,##0\")","v":"31,014"},null,null,null,null,null,null,"/",null,null,"Q",null,"<㎥/hr>",null,null,null,null,"=",null,{"$f":"TEXT(ROUNDDOWN(L309/AM307,1),\"#,##0.0#######\")","v":"837.5"},null,null,null,null,null,null,null,null,null,null,null,null,null,null,null,null,null,null,null,null,null,null,null,null,null,null,null,null,null,null,null,null,null,null,null,null,null,null,null,null,null,null,null,null,null,null,null,null,null,null,null,null,null,null,null,null,null,null,null,null,null,null,null,null,null,null,null,null,null,null,{"$f":"CY309+CZ309+DA309","v":837.5},{"$f":"TEXT(AE309,\"#,###.0\")","v":"837.5"},null,null,null,null,null,null,null,null,null,null,null,null,null,"D0201-0100"]
[""]
[null,null,null,null,null,"노무비 :",null,null,null,null,null,{"$f":"TEXT(TRUNC(건설기계!$K$91,0),\"#,##0\")","v":"44,299"},null,null,null,null,null,null,"/",null,null,"Q",null,"<㎥/hr>",null,null,null,null,"=",null,{"$f":"TEXT(ROUNDDOWN(L311/AM307,1),\"#,##0.0#######\")","v":"1,196.3"},null,null,null,null,null,null,null,null,null,null,null,null,null,null,null,null,null,null,null,null,null,null,null,null,null,null,null,null,null,null,null,null,null,null,null,null,null,null,null,null,null,null,null,null,null,null,null,null,null,null,null,null,null,null,null,null,null,null,null,null,null,null,null,null,null,null,null,null,null,null,{"$f":"CY311+CZ311+DA311","v":1196.3},null,{"$f":"TEXT(AE311,\"#,###.0\")","v":"1,196.3"},null,null,null,null,null,null,null,null,null,null,null,null,"D0201-0100"]
[""]
[null,null,null,null,null,"경  비 :",null,null,null,null,null,{"$f":"TEXT(TRUNC(건설기계!$M$91,0),\"#,##0\")","v":"26,368"},null,null,null,null,null,null,"/",null,null,"Q",null,"<㎥/hr>",null,null,null,null,"=",null,{"$f":"TEXT(ROUNDDOWN(L313/AM307,1),\"#,##0.0#######\")","v":"712.0"},null,null,null,null,null,null,null,null,null,null,null,null,null,null,null,null,null,null,null,null,null,null,null,null,null,null,null,null,null,null,null,null,null,null,null,null,null,null,null,null,null,null,null,null,null,null,null,null,null,null,null,null,null,null,null,null,null,null,null,null,null,null,null,null,null,null,null,null,null,null,{"$f":"CY313+CZ313+DA313","v":712},null,null,{"$f":"TEXT(AE313,\"#,###.0\")","v":"712.0"},null,null,null,null,null,null,null,null,null,null,null,"D0201-0100"]
[""]
["   ------------------------------------------------------------",null,null,null,null,null,null,null,null,null,null,null,null,null,null,null,null,null,null,null,null,null,null,null,null,null,null,null,null,null,null,null,null,null,null,null,null,null,null,null,null,null,null,null,null,null,null,null,null,null,null,null,null,null,null,null,null,null,null,null,null,null,null,null,null,null,null,null,null,null,null,null,null,null,null,null,null,null,null,null,null,null,null,null,null,null,null,null,null,null,null,null,null,null,null,null,null,null,null,null,null,null,null,null,null,null,null,null,null,null,null,null,null,null,null,null,""]
[""]
[null,"합",null,null,null,"계",null,null,null,null,null,null,null,null,null,null,null,null,null,null,null,null,null,null,null,null,null,null,null,null,null,null,null,null,null,null,null,null,null,null,null,null,null,null,null,null,null,null,null,null,null,null,null,null,null,null,null,null,null,null,null,null,null,null,null,null,null,null,null,null,null,null,null,null,null,null,null,null,null,null,null,null,null,null,null,null,null,null,null,null,null,null,null,null,null,null,null,null,null,null,null,{"$f":"CY317+CZ317+DA317","v":2745.8},{"$f":"TEXT(TRUNC(CY309+CY311+CY313,1),\"#,###.0\")","v":"837.5"},{"$f":"TEXT(TRUNC(CZ309+CZ311+CZ313,1),\"#,###.0\")","v":"1,196.3"},{"$f":"TEXT(TRUNC(DA309+DA311+DA313,1),\"#,###.0\")","v":"712.0"},null,null,null,null,null,null,null,null,null,null,null,""]
[]
["      계",null,null,null,null,null,null,null,null,null,null,null,null,null,null,null,null,null,null,null,null,null,null,null,null,null,null,null,null,null,null,null,null,null,null,null,null,null,null,null,null,null,null,null,null,null,null,null,null,null,null,null,null,null,null,null,null,null,null,null,null,null,null,null,null,null,null,null,null,null,null,null,null,null,null,null,null,null,null,null,null,null,null,null,null,null,null,null,null,null,null,null,null,null,null,null,null,null,null,null,null,{"$f":"TEXT(CY319+CZ319+DA319,\"#,##0\")","v":"2,745"},{"$f":"TEXT(TRUNC(CY317,0),\"#,##0\")","v":"837"},{"$f":"TEXT(TRUNC(CZ317,0),\"#,##0\")","v":"1,196"},{"$f":"TEXT(TRUNC(DA317,0),\"#,##0\")","v":"712"}]
[]
["산근00090호표 ：공사용수운반[컷터용] (물탱크：5500ℓ) ㎥ 당",null,null,null,null,null,null,null,null,null,null,null,null,null,null,null,null,null,null,null,null,null,null,null,null,null,null,null,null,null,null,null,null,null,null,null,null,null,null,null,null,null,null,null,null,null,null,null,null,null,null,null,null,null,null,null,null,null,null,null,null,null,null,null,null,null,null,null,null,null,null,null,null,null,null,null,null,null,null,null,null,null,null,null,null,null,null,null,null,null,null,null,null,null,null,null,null,null,null,null,null,null,null,null,null,null,null,null,null,null,null,null,null,null,null,null,":SQI1000"]
["◈ 공사용수운반(컷터용) (물탱크:5500ℓ) ; ㎥당",null,null,null,null,null,null,null,null,null,null,null,null,null,null,null,null,null,null,null,null,null,null,null,null,null,null,null,null,null,null,null,null,null,null,null,null,null,null,null,null,null,null,null,null,null,null,null,null,null,null,null,null,null,null,null,null,null,null,null,null,null,null,null,null,null,null,null,null,null,null,null,null,null,null,null,null,null,null,null,null,null,null,null,null,null,null,null,null,null,null,null,null,null,null,null,null,null,null,null,null,{"$f":"CY322+CZ322+DA322","v":0},null,null,null,null,null,null,null,null,null,null,null,null,null,null,""]
[""]
["1) 공사용수"]
[""]
[null,null,null,null,null,"L",null,"=",null,{"$f":"TEXT(1,\"#,##0.0#######\")","v":"1.0"},null,null,null,"㎞",null,null,null,null,null,",",null,null,null,"E",null,"=",null,{"$f":"TEXT(0.9,\"#,##0.0#######\")","v":"0.9"},null,null,null,null,null,null,null,null,null,null,null,null,null,null,null,null,null,null,null,null,null,null,null,null,null,null,null,null,null,null,null,null,null,null,null,null,null,null,null,null,null,null,null,null,null,null,null,null,null,null,null,null,null,null,null,null,null,null,null,null,null,null,null,null,null,null,null,null,null,null,null,null,null,null,null,null,null,null,null,null,null,null,null,null,null,null,null,null,""]
[""]
[null,null,null,null,null," 현장내 속도",null,null,null,null,null,"V",null,"=",null,{"$f":"TEXT(25,\"#,##0\")","v":"25"},null,null,"㎞/hr",null,null,null,null,null,null,null,null,null,null,null,null,null,null,null,null,null,null,null,null,null,null,null,null,null,null,null,null,null,null,null,null,null,null,null,null,null,null,null,null,null,null,null,null,null,null,null,null,null,null,null,null,null,null,null,null,null,null,null,null,null,null,null,null,null,null,null,null,null,null,null,null,null,null,null,null,null,null,null,null,null,null,null,null,null,null,null,null,null,null,null,null,null,null,null,null,null,""]
[""]
["    흡입준비  5분, 흡입시간 10 분"]
[""]
["    살수시간 20분"]
[""]
[null,null,null,null,null," 운반시간 ",null,null,null,null,"t2",null,null,"=",null,"L",null,"/",null,"V",null,"*",null,{"$f":"TEXT(60,\"#,##0\")","v":"60"},null,null,"*",null,{"$f":"TEXT(2,\"#,##0\")","v":"2"},null,"=",null,{"$f":"TEXT(ROUND(J326/P328*X334*AC334,1),\"#,##0.0#######\")","v":"4.8"},null,null,null,"min",null,null,null,null,null,null,null,null,null,null,null,null,null,null,null,null,null,null,null,null,null,null,null,null,null,null,null,null,null,null,null,null,null,null,null,null,null,null,null,null,null,null,null,null,null,null,null,null,null,null,null,null,null,null,null,null,null,null,null,null,null,null,null,null,null,null,null,null,null,null,null,null,null,null,null,null,null,null,null,""]
[""]
[null,null,null,null,null,"Cm",null,null,"=",null,"t2",null,null,"+",null,{"$f":"TEXT(35,\"#,##0\")","v":"35"},null,null,"=",null,{"$f":"TEXT(ROUND(AG334+P336,1),\"#,##0.0#######\")","v":"39.8"},null,null,null,null,"min",null,null,null,null,null,null,null,null,null,null,null,null,null,null,null,null,null,null,null,null,null,null,null,null,null,null,null,null,null,null,null,null,null,null,null,null,null,null,null,null,null,null,null,null,null,null,null,null,null,null,null,null,null,null,null,null,null,null,null,null,null,null,null,null,null,null,null,null,null,null,null,null,null,null,null,null,null,null,null,null,null,null,null,null,null,null,null,null,null,null,""]
[""]
[null,null,null,null,null,"To",null,null,"=",null,"Cm",null,null,"-",null,{"$f":"TEXT(15,\"#,##0\")","v":"15"},null,null,"=",null,{"$f":"TEXT(ROUND(U336-P338,1),\"#,##0.0#######\")","v":"24.8"},null,null,null,null,"min",null,null,null,null,null,null,null,null,null,null,null,null,null,null,null,null,null,null,null,null,null,null,null,null,null,null,null,null,null,null,null,null,null,null,null,null,null,null,null,null,null,null,null,null,null,null,null,null,null,null,null,null,null,null,null,null,null,null,null,null,null,null,null,null,null,null,null,null,null,null,null,null,null,null,null,null,null,null,null,null,null,null,null,null,null,null,null,null,null,null,""]
[""]
[null,null,null,null,null,"Q",null,"=",null,{"$f":"TEXT(60,\"#,##0\")","v":"60"},null,null,"*",null,{"$f":"TEXT(5.5,\"#,##0.0#######\")","v":"5.5"},null,null,null,"*",null,{"$f":"TEXT(0.9,\"#,##0.0#######\")","v":"0.9"},null,null,null,"/",null,"Cm",null,null,"=",null,{"$f":"TEXT(ROUND(J340*O340*U340/U336,2),\"#,##0.00#######\")","v":"7.46"},null,null,null,null,"ton/Hr",null,null,null,null,null,null,null,null,null,null,null,null,null,null,null,null,null,null,null,null,null,null,null,null,null,null,null,null,null,null,null,null,null,null,null,null,null,null,null,null,null,null,null,null,null,null,null,null,null,null,null,null,null,null,null,null,null,null,null,null,null,null,null,null,null,null,null,null,null,null,null,null,null,null,null,null,null,null,null,""]
[""]
[null,null,null,null,"경  비:",null,null,null,null,null,{"$f":"TEXT(TRUNC(건설기계!$M$434,0),\"#,##0\")","v":"8,908"},null,null,null,null,null,"/",null,"Q",null,"=",null,{"$f":"TEXT(ROUNDDOWN(K342/AF340,1),\"#,##0.0#######\")","v":"1,194.1"},null,null,null,null,null,null,null,null,null,null,null,null,null,null,null,null,null,null,null,null,null,null,null,null,null,null,null,null,null,null,null,null,null,null,null,null,null,null,null,null,null,null,null,null,null,null,null,null,null,null,null,null,null,null,null,null,null,null,null,null,null,null,null,null,null,null,null,null,null,null,null,null,null,null,null,null,null,null,{"$f":"CY342+CZ342+DA342","v":1194.0999999999999},null,null,{"$f":"TEXT(W342,\"#,###.0\")","v":"1,194.1"},null,null,null,null,null,null,null,null,null,null,null,"D7204-0055"]
[""]
[null,null,null,null,"노무비:",null,null,null,null,null,{"$f":"TEXT(TRUNC(건설기계!$K$434,0),\"#,##0\")","v":"36,224"},null,null,null,null,null,null,"/",null,"Q",null,"=",null,{"$f":"TEXT(ROUNDDOWN(K344/AF340,1),\"#,##0.0#######\")","v":"4,855.7"},null,null,null,null,null,null,null,null,null,null,null,null,null,null,null,null,null,null,null,null,null,null,null,null,null,null,null,null,null,null,null,null,null,null,null,null,null,null,null,null,null,null,null,null,null,null,null,null,null,null,null,null,null,null,null,null,null,null,null,null,null,null,null,null,null,null,null,null,null,null,null,null,null,null,null,null,null,{"$f":"CY344+CZ344+DA344","v":4855.7},null,null,{"$f":"TEXT(X344,\"#,###.0\")","v":"4,855.7"},null,null,null,null,null,null,null,null,null,null,null,"D7204-0055"]
[""]
[null,null,null,null,"재료비:",null,null,null,null,null,{"$f":"TEXT(TRUNC(건설기계!$I$434,0),\"#,##0\")","v":"15,761"},null,null,null,null,null,null,"/",null,"Q",null,"*",null,"To",null,null,"/",null,"Cm",null,null,"=",null,{"$f":"TEXT(ROUNDDOWN(K346/AF340*U338/U336,1),\"#,##0.0#######\")","v":"1,316.4"},null,null,null,null,null,null,null,null,null,null,null,null,null,null,null,null,null,null,null,null,null,null,null,null,null,null,null,null,null,null,null,null,null,null,null,null,null,null,null,null,null,null,null,null,null,null,null,null,null,null,null,null,null,null,null,null,null,null,null,null,null,null,null,null,null,null,null,{"$f":"CY346+CZ346+DA346","v":1316.4},null,null,{"$f":"TEXT(AH346,\"#,###.0\")","v":"1,316.4"},null,null,null,null,null,null,null,null,null,null,null,"D7204-0055"]
[""]
["   ------------------------------------------------------------",null,null,null,null,null,null,null,null,null,null,null,null,null,null,null,null,null,null,null,null,null,null,null,null,null,null,null,null,null,null,null,null,null,null,null,null,null,null,null,null,null,null,null,null,null,null,null,null,null,null,null,null,null,null,null,null,null,null,null,null,null,null,null,null,null,null,null,null,null,null,null,null,null,null,null,null,null,null,null,null,null,null,null,null,null,null,null,null,null,null,null,null,null,null,null,null,null,null,null,null,null,null,null,null,null,null,null,null,null,null,null,null,null,null,null,""]
[""]
[null,"합",null,null,null,"계",null,null,null,null,null,null,null,null,null,null,null,null,null,null,null,null,null,null,null,null,null,null,null,null,null,null,null,null,null,null,null,null,null,null,null,null,null,null,null,null,null,null,null,null,null,null,null,null,null,null,null,null,null,null,null,null,null,null,null,null,null,null,null,null,null,null,null,null,null,null,null,null,null,null,null,null,null,null,null,null,null,null,null,null,null,null,null,null,null,null,null,null,null,null,null,{"$f":"CY350+CZ350+DA350","v":7366.2},{"$f":"TEXT(TRUNC(CY342+CY344+CY346,1),\"#,###.0\")","v":".0"},{"$f":"TEXT(TRUNC(CZ342+CZ344+CZ346,1),\"#,###.0\")","v":".0"},{"$f":"TEXT(TRUNC(DA342+DA344+DA346,1),\"#,###.0\")","v":"7,366.2"},null,null,null,null,null,null,null,null,null,null,null,""]
[]
["      계",null,null,null,null,null,null,null,null,null,null,null,null,null,null,null,null,null,null,null,null,null,null,null,null,null,null,null,null,null,null,null,null,null,null,null,null,null,null,null,null,null,null,null,null,null,null,null,null,null,null,null,null,null,null,null,null,null,null,null,null,null,null,null,null,null,null,null,null,null,null,null,null,null,null,null,null,null,null,null,null,null,null,null,null,null,null,null,null,null,null,null,null,null,null,null,null,null,null,null,null,{"$f":"TEXT(CY352+CZ352+DA352,\"#,##0\")","v":"7,366"},{"$f":"TEXT(TRUNC(CY350,0),\"#,##0\")","v":"0"},{"$f":"TEXT(TRUNC(CZ350,0),\"#,##0\")","v":"0"},{"$f":"TEXT(TRUNC(DA350,0),\"#,##0\")","v":"7,366"}]
[]
["산근00100호표 ：노면파쇄기 (0.6M) a 당",null,null,null,null,null,null,null,null,null,null,null,null,null,null,null,null,null,null,null,null,null,null,null,null,null,null,null,null,null,null,null,null,null,null,null,null,null,null,null,null,null,null,null,null,null,null,null,null,null,null,null,null,null,null,null,null,null,null,null,null,null,null,null,null,null,null,null,null,null,null,null,null,null,null,null,null,null,null,null,null,null,null,null,null,null,null,null,null,null,null,null,null,null,null,null,null,null,null,null,null,null,null,null,null,null,null,null,null,null,null,null,null,null,null,null,":SD133-0150"]
["◈ 노면파쇄기 0.6M ; a당",null,null,null,null,null,null,null,null,null,null,null,null,null,null,null,null,null,null,null,null,null,null,null,null,null,null,null,null,null,null,null,null,null,null,null,null,null,null,null,null,null,null,null,null,null,null,null,null,null,null,null,null,null,null,null,null,null,null,null,null,null,null,null,null,null,null,null,null,null,null,null,null,null,null,null,null,null,null,null,null,null,null,null,null,null,null,null,null,null,null,null,null,null,null,null,null,null,null,null,null,{"$f":"CY355+CZ355+DA355","v":0},null,null,null,null,null,null,null,null,null,null,null,null,null,null,""]
[""]
[" 1.노면파쇄기 0.6M"]
[""]
[null,null,null,"W",null,"=",null,{"$f":"TEXT(0.6,\"#,##0.0#######\")","v":"0.6"},null,null,null,null,"m 기계의 절삭폭",null,null,null,null,null,null,null,null,null,null,null,null,null,null,null,null,null,null,null,null,null,null,null,null,null,null,null,null,null,null,null,null,null,null,null,null,null,null,null,null,null,null,null,null,null,null,null,null,null,null,null,null,null,null,null,null,null,null,null,null,null,null,null,null,null,null,null,null,null,null,null,null,null,null,null,null,null,null,null,null,null,null,null,null,null,null,null,null,null,null,null,null,null,null,null,null,null,null,null,null,null,null,null,""]
[""]
[null,null,null,"V",null,"=",null,{"$f":"TEXT(40,\"#,##0\")","v":"40"},null,null,null,"m/hr 작업속도",null,null,null,null,null,null,null,null,null,null,null,null,null,null,null,null,null,null,null,null,null,null,null,null,null,null,null,null,null,null,null,null,null,null,null,null,null,null,null,null,null,null,null,null,null,null,null,null,null,null,null,null,null,null,null,null,null,null,null,null,null,null,null,null,null,null,null,null,null,null,null,null,null,null,null,null,null,null,null,null,null,null,null,null,null,null,null,null,null,null,null,null,null,null,null,null,null,null,null,null,null,null,null,null,""]
[""]
[null,null,null,"t",null,"=",null,{"$f":"TEXT(0.05,\"#,##0.00#######\")","v":"0.05"},null,null,null,null,null,"m 절삭깊이",null,null,null,null,null,null,null,null,null,null,null,null,null,null,null,null,null,null,null,null,null,null,null,null,null,null,null,null,null,null,null,null,null,null,null,null,null,null,null,null,null,null,null,null,null,null,null,null,null,null,null,null,null,null,null,null,null,null,null,null,null,null,null,null,null,null,null,null,null,null,null,null,null,null,null,null,null,null,null,null,null,null,null,null,null,null,null,null,null,null,null,null,null,null,null,null,null,null,null,null,null,null,""]
[""]
[null,null,null,"E",null,"=",null,{"$f":"TEXT(0.55,\"#,##0.00#######\")","v":"0.55"},null,null,null,null,null,"작업효율 200m이하",null,null,null,null,null,null,null,null,null,null,null,null,null,null,null,null,null,null,null,null,null,null,null,null,null,null,null,null,null,null,null,null,null,null,null,null,null,null,null,null,null,null,null,null,null,null,null,null,null,null,null,null,null,null,null,null,null,null,null,null,null,null,null,null,null,null,null,null,null,null,null,null,null,null,null,null,null,null,null,null,null,null,null,null,null,null,null,null,null,null,null,null,null,null,null,null,null,null,null,null,null,null,""]
[""]
[null,null,null,"Q",null,"=",null,"W",null,"*",null,"V",null,"*",null,"t",null,"*",null,"E",null,"=",null,{"$f":"TEXT(ROUND(H359*H361*H363*H365,2),\"#,##0.00#######\")","v":"0.66"},null,null,null,null,null,"㎥/hr",null,null,null,null,null,null,null,null,null,null,null,null,null,null,null,null,null,null,null,null,null,null,null,null,null,null,null,null,null,null,null,null,null,null,null,null,null,null,null,null,null,null,null,null,null,null,null,null,null,null,null,null,null,null,null,null,null,null,null,null,null,null,null,null,null,null,null,null,null,null,null,null,null,null,null,null,null,null,null,null,null,null,null,null,null,null,""]
[""]
[null,null,null,"Q1",null,null,"=",null,"Q",null,"/",null,{"$f":"TEXT(5,\"#,##0\")","v":"5"},null,"=",null,{"$f":"TEXT(ROUND(X367/M369,2),\"#,##0.00#######\")","v":"0.13"},null,null,null,null,null,"a/hr",null,null,null,null,null,null,null,null,null,null,null,null,null,null,null,null,null,null,null,null,null,null,null,null,null,null,null,null,null,null,null,null,null,null,null,null,null,null,null,null,null,null,null,null,null,null,null,null,null,null,null,null,null,null,null,null,null,null,null,null,null,null,null,null,null,null,null,null,null,null,null,null,null,null,null,null,null,null,null,null,null,null,null,null,null,null,null,null,null,null,null,null,null,""]
[""]
[null,null,null,null,"재료비 :",null,null,null,null,null,{"$f":"TEXT(TRUNC(건설기계!$I$409,0),\"#,##0\")","v":"8,760"},null,null,null,null,null,null,"/",null,"Q1",null,null,"=",null,{"$f":"TEXT(ROUNDDOWN(K371/Q369,1),\"#,##0.0#######\")","v":"67,384.6"},null,null,null,null,null,null,null,null,null,null,null,null,null,null,null,null,null,null,null,null,null,null,null,null,null,null,null,null,null,null,null,null,null,null,null,null,null,null,null,null,null,null,null,null,null,null,null,null,null,null,null,null,null,null,null,null,null,null,null,null,null,null,null,null,null,null,null,null,null,null,null,null,null,null,null,null,{"$f":"CY371+CZ371+DA371","v":67384.600000000006},{"$f":"TEXT(Y371,\"#,###.0\")","v":"67,384.6"},null,null,null,null,null,null,null,null,null,null,null,null,null,"D5701-0006"]
[""]
[null,null,null,null,"노무비 :",null,null,null,null,null,{"$f":"TEXT(TRUNC(건설기계!$K$409,0),\"#,##0\")","v":"44,299"},null,null,null,null,null,null,"/",null,"Q1",null,null,"=",null,{"$f":"TEXT(ROUNDDOWN(K373/Q369,1),\"#,##0.0#######\")","v":"340,761.5"},null,null,null,null,null,null,null,null,null,null,null,null,null,null,null,null,null,null,null,null,null,null,null,null,null,null,null,null,null,null,null,null,null,null,null,null,null,null,null,null,null,null,null,null,null,null,null,null,null,null,null,null,null,null,null,null,null,null,null,null,null,null,null,null,null,null,null,null,null,null,null,null,null,null,null,null,{"$f":"CY373+CZ373+DA373","v":340761.5},null,{"$f":"TEXT(Y373,\"#,###.0\")","v":"340,761.5"},null,null,null,null,null,null,null,null,null,null,null,null,"D5701-0006"]
[""]
[null,null,null,null,"경  비 :",null,null,null,null,null,{"$f":"TEXT(TRUNC(건설기계!$M$409,0),\"#,##0\")","v":"38,707"},null,null,null,null,null,null,"/",null,"Q1",null,null,"=",null,{"$f":"TEXT(ROUNDDOWN(K375/Q369,1),\"#,##0.0#######\")","v":"297,746.1"},null,null,null,null,null,null,null,null,null,null,null,null,null,null,null,null,null,null,null,null,null,null,null,null,null,null,null,null,null,null,null,null,null,null,null,null,null,null,null,null,null,null,null,null,null,null,null,null,null,null,null,null,null,null,null,null,null,null,null,null,null,null,null,null,null,null,null,null,null,null,null,null,null,null,null,null,{"$f":"CY375+CZ375+DA375","v":297746.09999999998},null,null,{"$f":"TEXT(Y375,\"#,###.0\")","v":"297,746.1"},null,null,null,null,null,null,null,null,null,null,null,"D5701-0006"]
[""]
["   ------------------------------------------------------------",null,null,null,null,null,null,null,null,null,null,null,null,null,null,null,null,null,null,null,null,null,null,null,null,null,null,null,null,null,null,null,null,null,null,null,null,null,null,null,null,null,null,null,null,null,null,null,null,null,null,null,null,null,null,null,null,null,null,null,null,null,null,null,null,null,null,null,null,null,null,null,null,null,null,null,null,null,null,null,null,null,null,null,null,null,null,null,null,null,null,null,null,null,null,null,null,null,null,null,null,null,null,null,null,null,null,null,null,null,null,null,null,null,null,null,""]
[""]
[null,"합",null,null,null,"계",null,null,null,null,null,null,null,null,null,null,null,null,null,null,null,null,null,null,null,null,null,null,null,null,null,null,null,null,null,null,null,null,null,null,null,null,null,null,null,null,null,null,null,null,null,null,null,null,null,null,null,null,null,null,null,null,null,null,null,null,null,null,null,null,null,null,null,null,null,null,null,null,null,null,null,null,null,null,null,null,null,null,null,null,null,null,null,null,null,null,null,null,null,null,null,{"$f":"CY379+CZ379+DA379","v":705892.2},{"$f":"TEXT(TRUNC(CY371+CY373+CY375,1),\"#,###.0\")","v":"67,384.6"},{"$f":"TEXT(TRUNC(CZ371+CZ373+CZ375,1),\"#,###.0\")","v":"340,761.5"},{"$f":"TEXT(TRUNC(DA371+DA373+DA375,1),\"#,###.0\")","v":"297,746.1"},null,null,null,null,null,null,null,null,null,null,null,""]
[]
["      계",null,null,null,null,null,null,null,null,null,null,null,null,null,null,null,null,null,null,null,null,null,null,null,null,null,null,null,null,null,null,null,null,null,null,null,null,null,null,null,null,null,null,null,null,null,null,null,null,null,null,null,null,null,null,null,null,null,null,null,null,null,null,null,null,null,null,null,null,null,null,null,null,null,null,null,null,null,null,null,null,null,null,null,null,null,null,null,null,null,null,null,null,null,null,null,null,null,null,null,null,{"$f":"TEXT(CY381+CZ381+DA381,\"#,##0\")","v":"705,891"},{"$f":"TEXT(TRUNC(CY379,0),\"#,##0\")","v":"67,384"},{"$f":"TEXT(TRUNC(CZ379,0),\"#,##0\")","v":"340,761"},{"$f":"TEXT(TRUNC(DA379,0),\"#,##0\")","v":"297,746"}]
[]
["산근00110호표 ：노면파쇄기 (1M) a 당",null,null,null,null,null,null,null,null,null,null,null,null,null,null,null,null,null,null,null,null,null,null,null,null,null,null,null,null,null,null,null,null,null,null,null,null,null,null,null,null,null,null,null,null,null,null,null,null,null,null,null,null,null,null,null,null,null,null,null,null,null,null,null,null,null,null,null,null,null,null,null,null,null,null,null,null,null,null,null,null,null,null,null,null,null,null,null,null,null,null,null,null,null,null,null,null,null,null,null,null,null,null,null,null,null,null,null,null,null,null,null,null,null,null,null,":S0134"]
["◈ 노면파쇄기 1M ; a당",null,null,null,null,null,null,null,null,null,null,null,null,null,null,null,null,null,null,null,null,null,null,null,null,null,null,null,null,null,null,null,null,null,null,null,null,null,null,null,null,null,null,null,null,null,null,null,null,null,null,null,null,null,null,null,null,null,null,null,null,null,null,null,null,null,null,null,null,null,null,null,null,null,null,null,null,null,null,null,null,null,null,null,null,null,null,null,null,null,null,null,null,null,null,null,null,null,null,null,null,{"$f":"CY384+CZ384+DA384","v":0},null,null,null,null,null,null,null,null,null,null,null,null,null,null,""]
[""]
[" 1.노면파쇄기 1M"]
[""]
[null,null,null,"W",null,"=",null,{"$f":"TEXT(1,\"#,##0.0#######\")","v":"1.0"},null,null,null,null,"m 기계의 절삭폭",null,null,null,null,null,null,null,null,null,null,null,null,null,null,null,null,null,null,null,null,null,null,null,null,null,null,null,null,null,null,null,null,null,null,null,null,null,null,null,null,null,null,null,null,null,null,null,null,null,null,null,null,null,null,null,null,null,null,null,null,null,null,null,null,null,null,null,null,null,null,null,null,null,null,null,null,null,null,null,null,null,null,null,null,null,null,null,null,null,null,null,null,null,null,null,null,null,null,null,null,null,null,null,""]
[""]
[null,null,null,"V",null,"=",null,{"$f":"TEXT(60,\"#,##0\")","v":"60"},null,null,null,"m/hr 작업속도",null,null,null,null,null,null,null,null,null,null,null,null,null,null,null,null,null,null,null,null,null,null,null,null,null,null,null,null,null,null,null,null,null,null,null,null,null,null,null,null,null,null,null,null,null,null,null,null,null,null,null,null,null,null,null,null,null,null,null,null,null,null,null,null,null,null,null,null,null,null,null,null,null,null,null,null,null,null,null,null,null,null,null,null,null,null,null,null,null,null,null,null,null,null,null,null,null,null,null,null,null,null,null,null,""]
[""]
[null,null,null,"t",null,"=",null,{"$f":"TEXT(0.05,\"#,##0.00#######\")","v":"0.05"},null,null,null,null,null,"m 절삭깊이",null,null,null,null,null,null,null,null,null,null,null,null,null,null,null,null,null,null,null,null,null,null,null,null,null,null,null,null,null,null,null,null,null,null,null,null,null,null,null,null,null,null,null,null,null,null,null,null,null,null,null,null,null,null,null,null,null,null,null,null,null,null,null,null,null,null,null,null,null,null,null,null,null,null,null,null,null,null,null,null,null,null,null,null,null,null,null,null,null,null,null,null,null,null,null,null,null,null,null,null,null,null,""]
[""]
[null,null,null,"E",null,"=",null,{"$f":"TEXT(0.55,\"#,##0.00#######\")","v":"0.55"},null,null,null,null,null,"작업효율 200m이하",null,null,null,null,null,null,null,null,null,null,null,null,null,null,null,null,null,null,null,null,null,null,null,null,null,null,null,null,null,null,null,null,null,null,null,null,null,null,null,null,null,null,null,null,null,null,null,null,null,null,null,null,null,null,null,null,null,null,null,null,null,null,null,null,null,null,null,null,null,null,null,null,null,null,null,null,null,null,null,null,null,null,null,null,null,null,null,null,null,null,null,null,null,null,null,null,null,null,null,null,null,null,""]
[""]
[null,null,null,"Q",null,"=",null,"W",null,"*",null,"V",null,"*",null,"t",null,"*",null,"E",null,"=",null,{"$f":"TEXT(ROUND(H388*H390*H392*H394,2),\"#,##0.00#######\")","v":"1.65"},null,null,null,null,null,"㎥/hr",null,null,null,null,null,null,null,null,null,null,null,null,null,null,null,null,null,null,null,null,null,null,null,null,null,null,null,null,null,null,null,null,null,null,null,null,null,null,null,null,null,null,null,null,null,null,null,null,null,null,null,null,null,null,null,null,null,null,null,null,null,null,null,null,null,null,null,null,null,null,null,null,null,null,null,null,null,null,null,null,null,null,null,null,null,null,""]
[""]
[null,null,null,"Q1",null,null,"=",null,"Q",null,"/",null,{"$f":"TEXT(5,\"#,##0\")","v":"5"},null,"=",null,{"$f":"TEXT(ROUND(X396/M398,2),\"#,##0.00#######\")","v":"0.33"},null,null,null,null,null,"a/hr",null,null,null,null,null,null,null,null,null,null,null,null,null,null,null,null,null,null,null,null,null,null,null,null,null,null,null,null,null,null,null,null,null,null,null,null,null,null,null,null,null,null,null,null,null,null,null,null,null,null,null,null,null,null,null,null,null,null,null,null,null,null,null,null,null,null,null,null,null,null,null,null,null,null,null,null,null,null,null,null,null,null,null,null,null,null,null,null,null,null,null,null,null,""]
[""]
[null,null,null,null,"재료비 :",null,null,null,null,null,{"$f":"TEXT(TRUNC(건설기계!$I$416,0),\"#,##0\")","v":"21,020"},null,null,null,null,null,null,"/",null,"Q1",null,null,"=",null,{"$f":"TEXT(ROUNDDOWN(K400/Q398,1),\"#,##0.0#######\")","v":"63,696.9"},null,null,null,null,null,null,null,null,null,null,null,null,null,null,null,null,null,null,null,null,null,null,null,null,null,null,null,null,null,null,null,null,null,null,null,null,null,null,null,null,null,null,null,null,null,null,null,null,null,null,null,null,null,null,null,null,null,null,null,null,null,null,null,null,null,null,null,null,null,null,null,null,null,null,null,null,{"$f":"CY400+CZ400+DA400","v":63696.9},{"$f":"TEXT(Y400,\"#,###.0\")","v":"63,696.9"},null,null,null,null,null,null,null,null,null,null,null,null,null,"D5701-0010"]
[""]
[null,null,null,null,"노무비 :",null,null,null,null,null,{"$f":"TEXT(TRUNC(건설기계!$K$416,0),\"#,##0\")","v":"44,299"},null,null,null,null,null,null,"/",null,"Q1",null,null,"=",null,{"$f":"TEXT(ROUNDDOWN(K402/Q398,1),\"#,##0.0#######\")","v":"134,239.3"},null,null,null,null,null,null,null,null,null,null,null,null,null,null,null,null,null,null,null,null,null,null,null,null,null,null,null,null,null,null,null,null,null,null,null,null,null,null,null,null,null,null,null,null,null,null,null,null,null,null,null,null,null,null,null,null,null,null,null,null,null,null,null,null,null,null,null,null,null,null,null,null,null,null,null,null,{"$f":"CY402+CZ402+DA402","v":134239.29999999999},null,{"$f":"TEXT(Y402,\"#,###.0\")","v":"134,239.3"},null,null,null,null,null,null,null,null,null,null,null,null,"D5701-0010"]
[""]
[null,null,null,null,"경  비 :",null,null,null,null,null,{"$f":"TEXT(TRUNC(건설기계!$M$416,0),\"#,##0\")","v":"109,722"},null,null,null,null,null,null,null,"/",null,"Q1",null,null,"=",null,{"$f":"TEXT(ROUNDDOWN(K404/Q398,1),\"#,##0.0#######\")","v":"332,490.9"},null,null,null,null,null,null,null,null,null,null,null,null,null,null,null,null,null,null,null,null,null,null,null,null,null,null,null,null,null,null,null,null,null,null,null,null,null,null,null,null,null,null,null,null,null,null,null,null,null,null,null,null,null,null,null,null,null,null,null,null,null,null,null,null,null,null,null,null,null,null,null,null,null,null,null,{"$f":"CY404+CZ404+DA404","v":332490.90000000002},null,null,{"$f":"TEXT(Z404,\"#,###.0\")","v":"332,490.9"},null,null,null,null,null,null,null,null,null,null,null,"D5701-0010"]
[""]
["   ------------------------------------------------------------",null,null,null,null,null,null,null,null,null,null,null,null,null,null,null,null,null,null,null,null,null,null,null,null,null,null,null,null,null,null,null,null,null,null,null,null,null,null,null,null,null,null,null,null,null,null,null,null,null,null,null,null,null,null,null,null,null,null,null,null,null,null,null,null,null,null,null,null,null,null,null,null,null,null,null,null,null,null,null,null,null,null,null,null,null,null,null,null,null,null,null,null,null,null,null,null,null,null,null,null,null,null,null,null,null,null,null,null,null,null,null,null,null,null,null,""]
[""]
[null,"합",null,null,null,"계",null,null,null,null,null,null,null,null,null,null,null,null,null,null,null,null,null,null,null,null,null,null,null,null,null,null,null,null,null,null,null,null,null,null,null,null,null,null,null,null,null,null,null,null,null,null,null,null,null,null,null,null,null,null,null,null,null,null,null,null,null,null,null,null,null,null,null,null,null,null,null,null,null,null,null,null,null,null,null,null,null,null,null,null,null,null,null,null,null,null,null,null,null,null,null,{"$f":"CY408+CZ408+DA408","v":530427.1},{"$f":"TEXT(TRUNC(CY400+CY402+CY404,1),\"#,###.0\")","v":"63,696.9"},{"$f":"TEXT(TRUNC(CZ400+CZ402+CZ404,1),\"#,###.0\")","v":"134,239.3"},{"$f":"TEXT(TRUNC(DA400+DA402+DA404,1),\"#,###.0\")","v":"332,490.9"},null,null,null,null,null,null,null,null,null,null,null,""]
[]
["      계",null,null,null,null,null,null,null,null,null,null,null,null,null,null,null,null,null,null,null,null,null,null,null,null,null,null,null,null,null,null,null,null,null,null,null,null,null,null,null,null,null,null,null,null,null,null,null,null,null,null,null,null,null,null,null,null,null,null,null,null,null,null,null,null,null,null,null,null,null,null,null,null,null,null,null,null,null,null,null,null,null,null,null,null,null,null,null,null,null,null,null,null,null,null,null,null,null,null,null,null,{"$f":"TEXT(CY410+CZ410+DA410,\"#,##0\")","v":"530,425"},{"$f":"TEXT(TRUNC(CY408,0),\"#,##0\")","v":"63,696"},{"$f":"TEXT(TRUNC(CZ408,0),\"#,##0\")","v":"134,239"},{"$f":"TEXT(TRUNC(DA408,0),\"#,##0\")","v":"332,490"}]
[]
["산근00120호표 ：노면파쇄기 (2M) a 당",null,null,null,null,null,null,null,null,null,null,null,null,null,null,null,null,null,null,null,null,null,null,null,null,null,null,null,null,null,null,null,null,null,null,null,null,null,null,null,null,null,null,null,null,null,null,null,null,null,null,null,null,null,null,null,null,null,null,null,null,null,null,null,null,null,null,null,null,null,null,null,null,null,null,null,null,null,null,null,null,null,null,null,null,null,null,null,null,null,null,null,null,null,null,null,null,null,null,null,null,null,null,null,null,null,null,null,null,null,null,null,null,null,null,null,":S0136"]
["◈ 노면파쇄기 2M ; a당",null,null,null,null,null,null,null,null,null,null,null,null,null,null,null,null,null,null,null,null,null,null,null,null,null,null,null,null,null,null,null,null,null,null,null,null,null,null,null,null,null,null,null,null,null,null,null,null,null,null,null,null,null,null,null,null,null,null,null,null,null,null,null,null,null,null,null,null,null,null,null,null,null,null,null,null,null,null,null,null,null,null,null,null,null,null,null,null,null,null,null,null,null,null,null,null,null,null,null,null,{"$f":"CY413+CZ413+DA413","v":0},null,null,null,null,null,null,null,null,null,null,null,null,null,null,""]
[""]
["  1.노면파쇄기 2M"]
[""]
[null,null,null,"W",null,"=",null,{"$f":"TEXT(2,\"#,##0.0#######\")","v":"2.0"},null,null,null,null,"m 기계의 절삭폭",null,null,null,null,null,null,null,null,null,null,null,null,null,null,null,null,null,null,null,null,null,null,null,null,null,null,null,null,null,null,null,null,null,null,null,null,null,null,null,null,null,null,null,null,null,null,null,null,null,null,null,null,null,null,null,null,null,null,null,null,null,null,null,null,null,null,null,null,null,null,null,null,null,null,null,null,null,null,null,null,null,null,null,null,null,null,null,null,null,null,null,null,null,null,null,null,null,null,null,null,null,null,null,""]
[""]
[null,null,null,"V",null,"=",null,{"$f":"TEXT(200,\"#,##0\")","v":"200"},null,null,null,null,"m/hr 작업속도",null,null,null,null,null,null,null,null,null,null,null,null,null,null,null,null,null,null,null,null,null,null,null,null,null,null,null,null,null,null,null,null,null,null,null,null,null,null,null,null,null,null,null,null,null,null,null,null,null,null,null,null,null,null,null,null,null,null,null,null,null,null,null,null,null,null,null,null,null,null,null,null,null,null,null,null,null,null,null,null,null,null,null,null,null,null,null,null,null,null,null,null,null,null,null,null,null,null,null,null,null,null,null,""]
[""]
[null,null,null,"t",null,"=",null,{"$f":"TEXT(0.05,\"#,##0.00#######\")","v":"0.05"},null,null,null,null,null,"m 절삭깊이",null,null,null,null,null,null,null,null,null,null,null,null,null,null,null,null,null,null,null,null,null,null,null,null,null,null,null,null,null,null,null,null,null,null,null,null,null,null,null,null,null,null,null,null,null,null,null,null,null,null,null,null,null,null,null,null,null,null,null,null,null,null,null,null,null,null,null,null,null,null,null,null,null,null,null,null,null,null,null,null,null,null,null,null,null,null,null,null,null,null,null,null,null,null,null,null,null,null,null,null,null,null,""]
[""]
[null,null,null,"E",null,"=",null,{"$f":"TEXT(0.55,\"#,##0.00#######\")","v":"0.55"},null,null,null,null,null,"작업효율",null,null,null,null,null,null,null,null,null,null,null,null,null,null,null,null,null,null,null,null,null,null,null,null,null,null,null,null,null,null,null,null,null,null,null,null,null,null,null,null,null,null,null,null,null,null,null,null,null,null,null,null,null,null,null,null,null,null,null,null,null,null,null,null,null,null,null,null,null,null,null,null,null,null,null,null,null,null,null,null,null,null,null,null,null,null,null,null,null,null,null,null,null,null,null,null,null,null,null,null,null,null,""]
[""]
[null,null,null,"Q",null,"=",null,"W",null,"*",null,"V",null,"*",null,"t",null,"*",null,"E",null,"=",null,{"$f":"TEXT(ROUND(H417*H419*H421*H423,0),\"#,##0\")","v":"11"},null,null,null,"㎥/hr",null,null,null,null,null,null,null,null,null,null,null,null,null,null,null,null,null,null,null,null,null,null,null,null,null,null,null,null,null,null,null,null,null,null,null,null,null,null,null,null,null,null,null,null,null,null,null,null,null,null,null,null,null,null,null,null,null,null,null,null,null,null,null,null,null,null,null,null,null,null,null,null,null,null,null,null,null,null,null,null,null,null,null,null,null,null,null,null,""]
[""]
[null,null,null,"Q1",null,null,"=",null,"Q",null,"/",null,{"$f":"TEXT(5,\"#,##0\")","v":"5"},null,"=",null,{"$f":"TEXT(ROUND(X425/M427,1),\"#,##0.0#######\")","v":"2.2"},null,null,null,null,"a/hr",null,null,null,null,null,null,null,null,null,null,null,null,null,null,null,null,null,null,null,null,null,null,null,null,null,null,null,null,null,null,null,null,null,null,null,null,null,null,null,null,null,null,null,null,null,null,null,null,null,null,null,null,null,null,null,null,null,null,null,null,null,null,null,null,null,null,null,null,null,null,null,null,null,null,null,null,null,null,null,null,null,null,null,null,null,null,null,null,null,null,null,null,null,null,""]
[""]
[null,null,null,null,"재료비 :",null,null,null,null,null,{"$f":"TEXT(TRUNC(건설기계!$I$423,0),\"#,##0\")","v":"79,697"},null,null,null,null,null,null,"/",null,"Q1",null,null,"=",null,{"$f":"TEXT(ROUNDDOWN(K429/Q427,1),\"#,##0.0#######\")","v":"36,225.9"},null,null,null,null,null,null,null,null,null,null,null,null,null,null,null,null,null,null,null,null,null,null,null,null,null,null,null,null,null,null,null,null,null,null,null,null,null,null,null,null,null,null,null,null,null,null,null,null,null,null,null,null,null,null,null,null,null,null,null,null,null,null,null,null,null,null,null,null,null,null,null,null,null,null,null,null,{"$f":"CY429+CZ429+DA429","v":36225.9},{"$f":"TEXT(Y429,\"#,###.0\")","v":"36,225.9"},null,null,null,null,null,null,null,null,null,null,null,null,null,"D5701-0020"]
[""]
[null,null,null,null,"노무비 :",null,null,null,null,null,{"$f":"TEXT(TRUNC(건설기계!$K$423,0),\"#,##0\")","v":"44,299"},null,null,null,null,null,null,"/",null,"Q1",null,null,"=",null,{"$f":"TEXT(ROUNDDOWN(K431/Q427,1),\"#,##0.0#######\")","v":"20,135.9"},null,null,null,null,null,null,null,null,null,null,null,null,null,null,null,null,null,null,null,null,null,null,null,null,null,null,null,null,null,null,null,null,null,null,null,null,null,null,null,null,null,null,null,null,null,null,null,null,null,null,null,null,null,null,null,null,null,null,null,null,null,null,null,null,null,null,null,null,null,null,null,null,null,null,null,null,{"$f":"CY431+CZ431+DA431","v":20135.900000000001},null,{"$f":"TEXT(Y431,\"#,###.0\")","v":"20,135.9"},null,null,null,null,null,null,null,null,null,null,null,null,"D5701-0020"]
[""]
[null,null,null,null,"경  비 :",null,null,null,null,null,{"$f":"TEXT(TRUNC(건설기계!$M$423,0),\"#,##0\")","v":"149,399"},null,null,null,null,null,null,null,"/",null,"Q1",null,null,"=",null,{"$f":"TEXT(ROUNDDOWN(K433/Q427,1),\"#,##0.0#######\")","v":"67,908.6"},null,null,null,null,null,null,null,null,null,null,null,null,null,null,null,null,null,null,null,null,null,null,null,null,null,null,null,null,null,null,null,null,null,null,null,null,null,null,null,null,null,null,null,null,null,null,null,null,null,null,null,null,null,null,null,null,null,null,null,null,null,null,null,null,null,null,null,null,null,null,null,null,null,null,null,{"$f":"CY433+CZ433+DA433","v":67908.600000000006},null,null,{"$f":"TEXT(Z433,\"#,###.0\")","v":"67,908.6"},null,null,null,null,null,null,null,null,null,null,null,"D5701-0020"]
[""]
["   ------------------------------------------------------------",null,null,null,null,null,null,null,null,null,null,null,null,null,null,null,null,null,null,null,null,null,null,null,null,null,null,null,null,null,null,null,null,null,null,null,null,null,null,null,null,null,null,null,null,null,null,null,null,null,null,null,null,null,null,null,null,null,null,null,null,null,null,null,null,null,null,null,null,null,null,null,null,null,null,null,null,null,null,null,null,null,null,null,null,null,null,null,null,null,null,null,null,null,null,null,null,null,null,null,null,null,null,null,null,null,null,null,null,null,null,null,null,null,null,null,""]
[""]
[null,"합",null,null,null,"계",null,null,null,null,null,null,null,null,null,null,null,null,null,null,null,null,null,null,null,null,null,null,null,null,null,null,null,null,null,null,null,null,null,null,null,null,null,null,null,null,null,null,null,null,null,null,null,null,null,null,null,null,null,null,null,null,null,null,null,null,null,null,null,null,null,null,null,null,null,null,null,null,null,null,null,null,null,null,null,null,null,null,null,null,null,null,null,null,null,null,null,null,null,null,null,{"$f":"CY437+CZ437+DA437","v":124270.40000000001},{"$f":"TEXT(TRUNC(CY429+CY431+CY433,1),\"#,###.0\")","v":"36,225.9"},{"$f":"TEXT(TRUNC(CZ429+CZ431+CZ433,1),\"#,###.0\")","v":"20,135.9"},{"$f":"TEXT(TRUNC(DA429+DA431+DA433,1),\"#,###.0\")","v":"67,908.6"},null,null,null,null,null,null,null,null,null,null,null,""]
[]
["      계",null,null,null,null,null,null,null,null,null,null,null,null,null,null,null,null,null,null,null,null,null,null,null,null,null,null,null,null,null,null,null,null,null,null,null,null,null,null,null,null,null,null,null,null,null,null,null,null,null,null,null,null,null,null,null,null,null,null,null,null,null,null,null,null,null,null,null,null,null,null,null,null,null,null,null,null,null,null,null,null,null,null,null,null,null,null,null,null,null,null,null,null,null,null,null,null,null,null,null,null,{"$f":"TEXT(CY439+CZ439+DA439,\"#,##0\")","v":"124,268"},{"$f":"TEXT(TRUNC(CY437,0),\"#,##0\")","v":"36,225"},{"$f":"TEXT(TRUNC(CZ437,0),\"#,##0\")","v":"20,135"},{"$f":"TEXT(TRUNC(DA437,0),\"#,##0\")","v":"67,908"}]
[]
["산근00130호표 ：도로경계브럭 운반 (15x15x100) 개 당",null,null,null,null,null,null,null,null,null,null,null,null,null,null,null,null,null,null,null,null,null,null,null,null,null,null,null,null,null,null,null,null,null,null,null,null,null,null,null,null,null,null,null,null,null,null,null,null,null,null,null,null,null,null,null,null,null,null,null,null,null,null,null,null,null,null,null,null,null,null,null,null,null,null,null,null,null,null,null,null,null,null,null,null,null,null,null,null,null,null,null,null,null,null,null,null,null,null,null,null,null,null,null,null,null,null,null,null,null,null,null,null,null,null,null,":S006"]
["◈ 도로경계브럭 운반 (150x150x1000) ; 개당",null,null,null,null,null,null,null,null,null,null,null,null,null,null,null,null,null,null,null,null,null,null,null,null,null,null,null,null,null,null,null,null,null,null,null,null,null,null,null,null,null,null,null,null,null,null,null,null,null,null,null,null,null,null,null,null,null,null,null,null,null,null,null,null,null,null,null,null,null,null,null,null,null,null,null,null,null,null,null,null,null,null,null,null,null,null,null,null,null,null,null,null,null,null,null,null,null,null,null,null,{"$f":"CY442+CZ442+DA442","v":0},null,null,null,null,null,null,null,null,null,null,null,null,null,null,""]
[""]
[""]
[null,null,"⊙",null,null,"구역화물",null,null,null,null,null,null,null,null,"자동차",null,null,null,null,null,null,"운임에",null,null,null,null,null,null,"의거",null,null,null,null,"산출하여",null,null,null,null,null,null,null,null,"경비로",null,null,null,null,null,null,"계산",null,null,null,null,null,null,null,null,null,null,null,null,null,null,null,null,null,null,null,null,null,null,null,null,null,null,null,null,null,null,null,null,null,null,null,null,null,null,null,null,null,null,null,null,null,null,null,null,null,null,null,null,null,null,null,null,null,null,null,null,null,null,null,null,null,null,""]
[""]
[null,null,"⊙",null,null,"운반장비",null,null,null,null,null,null,null,null,":",null,null,null,null,null,null,null,{"$f":"TEXT(8,\"#,##0\")","v":"8"},null,"톤",null,null,"BOXER",null,null,null,null,null,null,null,null,null,null,null,null,null,null,null,null,null,null,null,null,null,null,null,null,null,null,null,null,null,null,null,null,null,null,null,null,null,null,null,null,null,null,null,null,null,null,null,null,null,null,null,null,null,null,null,null,null,null,null,null,null,null,null,null,null,null,null,null,null,null,null,null,null,null,null,null,null,null,null,null,null,null,null,null,null,null,null,null,""]
[""]
[null,null,null,null,null,null,null,null,null,null,null,null,null,null,null,null,null,null,null,null,null,null,null,null,null,"10KM",null,null,null,null,null,null,null,null,null,null,null,null,null,null,null,null,null,null,null,null,null,null,null,null,null,null,null,null,null,null,null,null,null,null,null,null,null,null,null,null,null,null,null,null,null,null,null,null,null,null,null,null,null,null,null,null,null,null,null,null,null,null,null,null,null,null,null,null,null,null,null,null,null,null,null,null,null,null,null,null,null,null,null,null,null,null,null,null,null,null,""]
[null,null,"⊙",null,null,"운반거리",null,null,null,null,null,null,null,null,":",null,"공장",null,null,null,null,null,"-",null,null,"-",null,null,"-",null,null,"-",null,null,"-",null,null,"-",null,null,"-",null,null,"-",null,null,"-",null,">",null,"현장",null,null,null,null,null,null,null,null,null,null,null,null,null,null,null,null,null,null,null,null,null,null,null,null,null,null,null,null,null,null,null,null,null,null,null,null,null,null,null,null,null,null,null,null,null,null,null,null,null,null,null,null,null,null,null,null,null,null,null,null,null,null,null,null,null,""]
[""]
[null,null,"⊙",null,null,"인도거리",null,null,null,null,null,null,null,null,":",null,"공장상차도",null,null,null,null,null,null,null,null,null,null,null,null,null,null,null,null,null,null,null,null,null,null,null,null,null,null,null,null,null,null,null,null,null,null,null,null,null,null,null,null,null,null,null,null,null,null,null,null,null,null,null,null,null,null,null,null,null,null,null,null,null,null,null,null,null,null,null,null,null,null,null,null,null,null,null,null,null,null,null,null,null,null,null,null,null,null,null,null,null,null,null,null,null,null,null,null,null,null,null,""]
[""]
[""]
[null,null,null,"⊙ 개당중량",null,null,null,null,null,"Wt",null,null,"=",null,{"$f":"TEXT(0.15,\"#,##0.00#######\")","v":"0.15"},null,null,null,null,"*",null,{"$f":"TEXT(0.15,\"#,##0.00#######\")","v":"0.15"},null,null,null,null,"*",null,{"$f":"TEXT(1,\"#,##0.0#######\")","v":"1.0"},null,null,null,"*",null,{"$f":"TEXT(2.65,\"#,##0.00#######\")","v":"2.65"},null,null,null,null,"=",null,{"$f":"TEXT(ROUND(O455*V455*AC455*AI455,2),\"#,##0.00#######\")","v":"0.06"},null,null,null,null,null,null,null,null,null,null,null,null,null,null,null,null,null,null,null,null,null,null,null,null,null,null,null,null,null,null,null,null,null,null,null,null,null,null,null,null,null,null,null,null,null,null,null,null,null,null,null,null,null,null,null,null,null,null,null,null,null,null,null,null,null,null,null,null,null,null,null,null,null,null,""]
[""]
[" ⊙ 적재량"]
[""]
[null,null,null,"Qt",null,null,"=",null,null,"A",null,"/",null,"(",null,"Wt)",null,null,null,"=",null,{"$f":"TEXT(133,\"#,##0\")","v":"133"},null,null,null,"개",null,null,"/",null,"대",null,null,null,null,null,null,null,null,null,null,null,null,null,null,null,null,null,null,null,null,null,null,null,null,null,null,null,null,null,null,null,null,null,null,null,null,null,null,null,null,null,null,null,null,null,null,null,null,null,null,null,null,null,null,null,null,null,null,null,null,null,null,null,null,null,null,null,null,null,null,null,null,null,null,null,null,null,null,null,null,null,null,null,null,null,""]
[""]
[null,null," ⊙ 하차비",null,null,null,null,null,{"$f":"TEXT(TRUNC((견적및기타!$K$9+견적및기타!$L$9+견적및기타!$M$9),0),\"#,##0\")","v":"3,656"},null,null,null,null,null,"*",null,"Wt",null,null,"=",null,{"$f":"TEXT(TRUNC(I461*AP455,0),\"#,##0\")","v":"219"},null,null,null,null,null,null,null,null,null,null,null,null,null,null,null,null,null,null,null,null,null,null,null,null,null,null,null,null,null,null,null,null,null,null,null,null,null,null,null,null,null,null,null,null,null,null,null,null,null,null,null,null,null,null,null,null,null,null,null,null,null,null,null,null,null,null,null,null,null,null,null,null,null,null,null,null,null,null,null,{"$f":"CY461+CZ461+DA461","v":219},null,null,{"$f":"TEXT(TRUNC(견적및기타!M9*AP455,0),\"#,##0\")","v":"219"},null,null,null,null,null,null,null,null,null,null,null,"E001701"]
[""]
[" ⊙ 운반비 산출"]
[""]
[null,null,null,null,null,null,null,null,null,null,null,null,null,null,{"$f":"TEXT(TRUNC((견적및기타!$K$7+견적및기타!$L$7+견적및기타!$M$7),0),\"#,##0\")","v":"67,020"},null,null,null,null,null,null,null,"/",null,{"$f":"TEXT(1.1,\"#,##0.0#######\")","v":"1.1"},null,null,null,"/",null,"Qt",null,null,"=",null,{"$f":"TEXT(TRUNC(O465/Y465/V459,0),\"#,##0\")","v":"458"},null,null,null,null,null,null,null,null,null,null,null,null,null,null,null,null,null,null,null,null,null,null,null,null,null,null,null,null,null,null,null,null,null,null,null,null,null,null,null,null,null,null,null,null,null,null,null,null,null,null,null,null,null,null,null,null,null,null,null,null,null,null,null,null,null,{"$f":"CY465+CZ465+DA465","v":458},null,null,{"$f":"TEXT(TRUNC(견적및기타!M7/Y465/V459,0),\"#,##0\")","v":"458"},null,null,null,null,null,null,null,null,null,null,null,"E0001"]
[""]
["   ------------------------------------------------------------",null,null,null,null,null,null,null,null,null,null,null,null,null,null,null,null,null,null,null,null,null,null,null,null,null,null,null,null,null,null,null,null,null,null,null,null,null,null,null,null,null,null,null,null,null,null,null,null,null,null,null,null,null,null,null,null,null,null,null,null,null,null,null,null,null,null,null,null,null,null,null,null,null,null,null,null,null,null,null,null,null,null,null,null,null,null,null,null,null,null,null,null,null,null,null,null,null,null,null,null,null,null,null,null,null,null,null,null,null,null,null,null,null,null,null,""]
[""]
[null,"합",null,null,null,"계",null,null,null,null,null,null,null,null,null,null,null,null,null,null,null,null,null,null,null,null,null,null,null,null,null,null,null,null,null,null,null,null,null,null,null,null,null,null,null,null,null,null,null,null,null,null,null,null,null,null,null,null,null,null,null,null,null,null,null,null,null,null,null,null,null,null,null,null,null,null,null,null,null,null,null,null,null,null,null,null,null,null,null,null,null,null,null,null,null,null,null,null,null,null,null,{"$f":"CY469+CZ469+DA469","v":677},{"$f":"TEXT(TRUNC(CY461+CY465,1),\"#,###.0\")","v":".0"},{"$f":"TEXT(TRUNC(CZ461+CZ465,1),\"#,###.0\")","v":".0"},{"$f":"TEXT(TRUNC(DA461+DA465,1),\"#,###.0\")","v":"677.0"},null,null,null,null,null,null,null,null,null,null,null,""]
[]
["      계",null,null,null,null,null,null,null,null,null,null,null,null,null,null,null,null,null,null,null,null,null,null,null,null,null,null,null,null,null,null,null,null,null,null,null,null,null,null,null,null,null,null,null,null,null,null,null,null,null,null,null,null,null,null,null,null,null,null,null,null,null,null,null,null,null,null,null,null,null,null,null,null,null,null,null,null,null,null,null,null,null,null,null,null,null,null,null,null,null,null,null,null,null,null,null,null,null,null,null,null,{"$f":"TEXT(CY471+CZ471+DA471,\"#,##0\")","v":"677"},{"$f":"TEXT(TRUNC(CY469,0),\"#,##0\")","v":"0"},{"$f":"TEXT(TRUNC(CZ469,0),\"#,##0\")","v":"0"},{"$f":"TEXT(TRUNC(DA469,0),\"#,##0\")","v":"677"}]
[]
["산근00140호표 ：도로경계브럭 운반 (20x25x100) 개 당",null,null,null,null,null,null,null,null,null,null,null,null,null,null,null,null,null,null,null,null,null,null,null,null,null,null,null,null,null,null,null,null,null,null,null,null,null,null,null,null,null,null,null,null,null,null,null,null,null,null,null,null,null,null,null,null,null,null,null,null,null,null,null,null,null,null,null,null,null,null,null,null,null,null,null,null,null,null,null,null,null,null,null,null,null,null,null,null,null,null,null,null,null,null,null,null,null,null,null,null,null,null,null,null,null,null,null,null,null,null,null,null,null,null,null,":S006-001"]
["◈ 도로경계브럭 운반 (200x250x1000) ; 개당",null,null,null,null,null,null,null,null,null,null,null,null,null,null,null,null,null,null,null,null,null,null,null,null,null,null,null,null,null,null,null,null,null,null,null,null,null,null,null,null,null,null,null,null,null,null,null,null,null,null,null,null,null,null,null,null,null,null,null,null,null,null,null,null,null,null,null,null,null,null,null,null,null,null,null,null,null,null,null,null,null,null,null,null,null,null,null,null,null,null,null,null,null,null,null,null,null,null,null,null,{"$f":"CY474+CZ474+DA474","v":0},null,null,null,null,null,null,null,null,null,null,null,null,null,null,""]
[""]
[""]
[null,null,"⊙",null,null,"구역화물",null,null,null,null,null,null,null,null,"자동차",null,null,null,null,null,null,"운임에",null,null,null,null,null,null,"의거",null,null,null,null,"산출하여",null,null,null,null,null,null,null,null,"경비로",null,null,null,null,null,null,"계산",null,null,null,null,null,null,null,null,null,null,null,null,null,null,null,null,null,null,null,null,null,null,null,null,null,null,null,null,null,null,null,null,null,null,null,null,null,null,null,null,null,null,null,null,null,null,null,null,null,null,null,null,null,null,null,null,null,null,null,null,null,null,null,null,null,null,""]
[""]
[null,null,"⊙",null,null,"운반장비",null,null,null,null,null,null,null,null,":",null,null,null,null,null,null,null,{"$f":"TEXT(8,\"#,##0\")","v":"8"},null,"톤",null,null,"BOXER",null,null,null,null,null,null,null,null,null,null,null,null,null,null,null,null,null,null,null,null,null,null,null,null,null,null,null,null,null,null,null,null,null,null,null,null,null,null,null,null,null,null,null,null,null,null,null,null,null,null,null,null,null,null,null,null,null,null,null,null,null,null,null,null,null,null,null,null,null,null,null,null,null,null,null,null,null,null,null,null,null,null,null,null,null,null,null,null,""]
[""]
[null,null,null,null,null,null,null,null,null,null,null,null,null,null,null,null,null,null,null,null,null,null,null,null,null,"10KM",null,null,null,null,null,null,null,null,null,null,null,null,null,null,null,null,null,null,null,null,null,null,null,null,null,null,null,null,null,null,null,null,null,null,null,null,null,null,null,null,null,null,null,null,null,null,null,null,null,null,null,null,null,null,null,null,null,null,null,null,null,null,null,null,null,null,null,null,null,null,null,null,null,null,null,null,null,null,null,null,null,null,null,null,null,null,null,null,null,null,""]
[null,null,"⊙",null,null,"운반거리",null,null,null,null,null,null,null,null,":",null,"공장",null,null,null,null,null,"-",null,null,"-",null,null,"-",null,null,"-",null,null,"-",null,null,"-",null,null,"-",null,null,"-",null,null,"-",null,">",null,"현장",null,null,null,null,null,null,null,null,null,null,null,null,null,null,null,null,null,null,null,null,null,null,null,null,null,null,null,null,null,null,null,null,null,null,null,null,null,null,null,null,null,null,null,null,null,null,null,null,null,null,null,null,null,null,null,null,null,null,null,null,null,null,null,null,null,""]
[""]
[null,null,"⊙",null,null,"인도거리",null,null,null,null,null,null,null,null,":",null,"공장상차도",null,null,null,null,null,null,null,null,null,null,null,null,null,null,null,null,null,null,null,null,null,null,null,null,null,null,null,null,null,null,null,null,null,null,null,null,null,null,null,null,null,null,null,null,null,null,null,null,null,null,null,null,null,null,null,null,null,null,null,null,null,null,null,null,null,null,null,null,null,null,null,null,null,null,null,null,null,null,null,null,null,null,null,null,null,null,null,null,null,null,null,null,null,null,null,null,null,null,null,""]
[""]
[""]
[null,null,null,"⊙ 개당중량",null,null,null,null,null,"Wt",null,null,"=",null,{"$f":"TEXT(0.2,\"#,##0.00#######\")","v":"0.20"},null,null,null,null,"*",null,{"$f":"TEXT(0.25,\"#,##0.00#######\")","v":"0.25"},null,null,null,null,"*",null,{"$f":"TEXT(1,\"#,##0.0#######\")","v":"1.0"},null,null,null,"*",null,{"$f":"TEXT(2.65,\"#,##0.00#######\")","v":"2.65"},null,null,null,null,"=",null,{"$f":"TEXT(ROUND(O487*V487*AC487*AI487,2),\"#,##0.00#######\")","v":"0.13"},null,null,null,null,null,null,null,null,null,null,null,null,null,null,null,null,null,null,null,null,null,null,null,null,null,null,null,null,null,null,null,null,null,null,null,null,null,null,null,null,null,null,null,null,null,null,null,null,null,null,null,null,null,null,null,null,null,null,null,null,null,null,null,null,null,null,null,null,null,null,null,null,null,null,""]
[""]
[" ⊙ 적재량"]
[""]
[null,null,null,"Qt",null,null,"=",null,null,"A",null,"/",null,"(",null,"Wt)",null,null,null,"=",null,{"$f":"TEXT(61,\"#,##0\")","v":"61"},null,null,"개",null,null,"/",null,"대",null,null,null,null,null,null,null,null,null,null,null,null,null,null,null,null,null,null,null,null,null,null,null,null,null,null,null,null,null,null,null,null,null,null,null,null,null,null,null,null,null,null,null,null,null,null,null,null,null,null,null,null,null,null,null,null,null,null,null,null,null,null,null,null,null,null,null,null,null,null,null,null,null,null,null,null,null,null,null,null,null,null,null,null,null,null,""]
[""]
[null,null," ⊙ 하차비",null,null,null,null,null,{"$f":"TEXT(TRUNC((견적및기타!$K$9+견적및기타!$L$9+견적및기타!$M$9),0),\"#,##0\")","v":"3,656"},null,null,null,null,null,"*",null,"Wt",null,null,"=",null,{"$f":"TEXT(TRUNC(I493*AP487,0),\"#,##0\")","v":"475"},null,null,null,null,null,null,null,null,null,null,null,null,null,null,null,null,null,null,null,null,null,null,null,null,null,null,null,null,null,null,null,null,null,null,null,null,null,null,null,null,null,null,null,null,null,null,null,null,null,null,null,null,null,null,null,null,null,null,null,null,null,null,null,null,null,null,null,null,null,null,null,null,null,null,null,null,null,null,null,{"$f":"CY493+CZ493+DA493","v":475},null,null,{"$f":"TEXT(TRUNC(견적및기타!M9*AP487,0),\"#,##0\")","v":"475"},null,null,null,null,null,null,null,null,null,null,null,"E001701"]
[""]
[" ⊙ 운반비 산출"]
[""]
[null,null,null,null,null,null,null,null,null,null,null,null,null,null,{"$f":"TEXT(TRUNC((견적및기타!$K$7+견적및기타!$L$7+견적및기타!$M$7),0),\"#,##0\")","v":"67,020"},null,null,null,null,null,null,null,"/",null,{"$f":"TEXT(1.1,\"#,##0.0#######\")","v":"1.1"},null,null,null,"/",null,"Qt",null,null,"=",null,{"$f":"TEXT(TRUNC(O497/Y497/V491,0),\"#,##0\")","v":"998"},null,null,null,null,null,null,null,null,null,null,null,null,null,null,null,null,null,null,null,null,null,null,null,null,null,null,null,null,null,null,null,null,null,null,null,null,null,null,null,null,null,null,null,null,null,null,null,null,null,null,null,null,null,null,null,null,null,null,null,null,null,null,null,null,null,{"$f":"CY497+CZ497+DA497","v":998},null,null,{"$f":"TEXT(TRUNC(견적및기타!M7/Y497/V491,0),\"#,##0\")","v":"998"},null,null,null,null,null,null,null,null,null,null,null,"E0001"]
[""]
["   ------------------------------------------------------------",null,null,null,null,null,null,null,null,null,null,null,null,null,null,null,null,null,null,null,null,null,null,null,null,null,null,null,null,null,null,null,null,null,null,null,null,null,null,null,null,null,null,null,null,null,null,null,null,null,null,null,null,null,null,null,null,null,null,null,null,null,null,null,null,null,null,null,null,null,null,null,null,null,null,null,null,null,null,null,null,null,null,null,null,null,null,null,null,null,null,null,null,null,null,null,null,null,null,null,null,null,null,null,null,null,null,null,null,null,null,null,null,null,null,null,""]
[""]
["◈ 되메우기 기계 ; M3당",null,null,null,null,null,null,null,null,null,null,null,null,null,null,null,null,null,null,null,null,null,null,null,null,null,null,null,null,null,null,null,null,null,null,null,null,null,null,null,null,null,null,null,null,null,null,null,null,null,null,null,null,null,null,null,null,null,null,null,null,null,null,null,null,null,null,null,null,null,null,null,null,null,null,null,null,null,null,null,null,null,null,null,null,null,null,null,null,null,null,null,null,null,null,null,null,null,null,null,null,{"$f":"CY506+CZ506+DA506","v":0},null,null,null,null,null,null,null,null,null,null,null,null,null,null,""]
[""]
[""]
[""]
[""]
[null,null,null,null,null,"k",null,null,"=",null,{"$f":"TEXT(0.9,\"#,##0.00#######\")","v":"0.90"},null,null,null,null,"<버켓에 거의 가득 채울수 있는 보통토>",null,null,null,null,null,null,null,null,null,null,null,null,null,null,null,null,null,null,null,null,null,null,null,null,null,null,null,null,null,null,null,null,null,null,null,null,null,null,null,null,null,null,null,null,null,null,null,null,null,null,null,null,null,null,null,null,null,null,null,null,null,null,null,null,null,null,null,null,null,null,null,null,null,null,null,null,null,null,null,null,null,null,null,null,null,null,null,null,null,null,null,null,null,null,null,null,null,null,null,null,""]
["         q  : 흐트러진상태(L)   f  : 흐트러진상태의 단가를 다져진상태로 환산(C/L)"]
[""]
[]
[null,null,null,null,null,"q",null,null,"=",null,{"$f":"TEXT(0.7,\"#,##0.00#######\")","v":"0.70"},null,null,null,null,"<굴삭기0.7m3용(m3)>",null,null,null,null,null,null,null,null,null,null,null,null,null,null,null,null,null,null,null,null,null,null,null,null,null,null,null,null,null,null,null,null,null,null,null,null,null,null,null,null,null,null,null,null,null,null,null,null,null,null,null,null,null,null,null,null,null,null,null,null,null,null,null,null,null,null,null,null,null,null,null,null,null,null,null,null,null,null,null,null,null,null,null,null,null,null,null,null,null,null,null,null,null,null,null,null,null,null,null,null,""]
["         q  : 흐트러진상태(L)   f  : 흐트러진상태의 단가를 다져진상태로 환산(C/L)"]
[""]
[""]
[""]
[null,null,null,null,null,"Cm",null,null,"=",null,{"$f":"TEXT(15,\"#,##0\")","v":"15"},null,null,"<선회각도90°>",null,null,null,null,null,null,null,null,null,null,null,null,null,null,null,null,null,null,null,null,null,null,null,null,null,null,null,null,null,null,null,null,null,null,null,null,null,null,null,null,null,null,null,null,null,null,null,null,null,null,null,null,null,null,null,null,null,null,null,null,null,null,null,null,null,null,null,null,null,null,null,null,null,null,null,null,null,null,null,null,null,null,null,null,null,null,null,null,null,null,null,null,null,null,null,null,null,null,null,null,null,null,""]
[""]
[null,null,null,null,null,"N",null,null,"=",null,{"$f":"TEXT(36000,\"#,##0\")","v":"36,000"},null,null,null,null,null,"<타격횟수(회/hr)>",null,null,null,null,null,",",null,null,"H",null,null,"=",null,{"$f":"TEXT(0.15,\"#,##0.00#######\")","v":"0.15"},null,null,null,null,"<성토15cm, 점토10cm(m)>",null,null,null,null,null,",",null,null,"f",null,null,"=",null,{"$f":"TEXT(1,\"#,##0.00#######\")","v":"1.00"},null,null,null,null,"<토량환산계수>",null,null,null,null,null,null,null,null,null,null,null,null,null,null,null,null,null,null,null,null,null,null,null,null,null,null,null,null,null,null,null,null,null,null,null,null,null,null,null,null,null,null,null,null,null,null,null,null,null,null,null,null,null,null,null,null,null,null,null,null,null,""]
["        q  : 다짐상태(C)   f  : 다짐상태의 환산계수(1)"]
[""]
[""]
[""]
["   f값적용기준,수량 : 다짐상태(C)자연상태의흙으로 다져진상태"]
[""]
["            H  : 다짐두께(m),  f  : 토량환산계수, E  : 작업효율(0.3∼0.7),  P  : 중복 다짐횟수(57회)"]
[null,null,null,null,null,"f",null,null,"=",null,{"$f":"TEXT(1,\"#,##0.00#######\")","v":"1.00"},null,null,null,null,"<토량환산계수>",null,null,null,null,null,null,null,null,null,null,null,null,null,null,null,null,null,null,null,null,null,null,null,null,null,null,null,null,null,null,null,null,null,null,null,null,null,null,null,null,null,null,null,null,null,null,null,null,null,null,null,null,null,null,null,null,null,null,null,null,null,null,null,null,null,null,null,null,null,null,null,null,null,null,null,null,null,null,null,null,null,null,null,null,null,null,null,null,null,null,null,null,null,null,null,null,null,null,null,null,""]
[""]
[null,"합",null,null,null,"계",null,null,null,null,null,null,null,null,null,null,null,null,null,null,null,null,null,null,null,null,null,null,null,null,null,null,null,null,null,null,null,null,null,null,null,null,null,null,null,null,null,null,null,null,null,null,null,null,null,null,null,null,null,null,null,null,null,null,null,null,null,null,null,null,null,null,null,null,null,null,null,null,null,null,null,null,null,null,null,null,null,null,null,null,null,null,null,null,null,null,null,null,null,null,null,{"$f":"CY776+CZ776+DA776","v":8554.5},{"$f":"TEXT(TRUNC(CY738+CY772,1),\"#,###.0\")","v":"610.5"},{"$f":"TEXT(TRUNC(CZ738+CZ772,1),\"#,###.0\")","v":"7,499.6"},{"$f":"TEXT(TRUNC(DA738+DA772,1),\"#,###.0\")","v":"444.4"},null,null,null,null,null,null,null,null,null,null,null,""]
[""]
[""]
[null,null,null,null,null,"경  비 :",null,null,null,null,null,{"$f":"TEXT(TRUNC(건설기계!$M$77,0),\"#,##0\")","v":"21,780"},null,null,null,null,null,null,"/",null,"Q",null,"<m3/hr>",null,null,null,null,"=",null,{"$f":"TEXT(ROUNDDOWN(L809/AM803,1),\"#,##0.0#######\")","v":"329.2"},null,null,null,null,null,null,null,null,null,null,null,null,null,null,null,null,null,null,null,null,null,null,null,null,null,null,null,null,null,null,null,null,null,null,null,null,null,null,null,null,null,null,null,null,null,null,null,null,null,null,null,null,null,null,null,null,null,null,null,null,null,null,null,null,null,null,null,null,null,null,null,{"$f":"CY809+CZ809+DA809","v":329.2},null,null,{"$f":"TEXT(AD809,\"#,###.0\")","v":"329.2"},null,null,null,null,null,null,null,null,null,null,null,"D0201-0070"]
["   Q  = A x N x H x f x E / P"]
[""]
[""]
["   ------------------------------------------------------------",null,null,null,null,null,null,null,null,null,null,null,null,null,null,null,null,null,null,null,null,null,null,null,null,null,null,null,null,null,null,null,null,null,null,null,null,null,null,null,null,null,null,null,null,null,null,null,null,null,null,null,null,null,null,null,null,null,null,null,null,null,null,null,null,null,null,null,null,null,null,null,null,null,null,null,null,null,null,null,null,null,null,null,null,null,null,null,null,null,null,null,null,null,null,null,null,null,null,null,null,null,null,null,null,null,null,null,null,null,null,null,null,null,null,null,""]
[""]
[""]
[""]
[null,null,null,null,null,null,null,"P",null,"(재료비율)",null,null,null,null,"=",null,"(t2",null,null,null,"+",null,"t3",null,null,")",null,"/",null,"Cm",null,null,"=",null,{"$f":"TEXT(ROUND((AT891+M893)/AG897,2),\"#,##0.00#######\")","v":"0.51"},null,null,null,null,null,null,null,null,null,null,null,null,null,null,null,null,null,null,null,null,null,null,null,null,null,null,null,null,null,null,null,null,null,null,null,null,null,null,null,null,null,null,null,null,null,null,null,null,null,null,null,null,null,null,null,null,null,null,null,null,null,null,null,null,null,null,null,null,null,null,null,null,null,null,null,null,null,null,null,null,null,""]
[null,null,null,null,null,null,null,"노무비:",null,null,null,null,null,{"$f":"TEXT(TRUNC(건설기계!$K$434,0),\"#,##0\")","v":"36,224"},null,null,null,null,null,null,"/",null,"Q",null,"*",null,"W",null,"=",null,{"$f":"TEXT(ROUNDDOWN(N907/AD903*S887,1),\"#,##0.0#######\")","v":"9,951.6"},null,null,null,null,null,null,null,null,null,null,null,null,null,null,null,null,null,null,null,null,null,null,null,null,null,null,null,null,null,null,null,null,null,null,null,null,null,null,null,null,null,null,null,null,null,null,null,null,null,null,null,null,null,null,null,null,null,null,null,null,null,null,null,null,null,null,null,null,null,null,{"$f":"CY907+CZ907+DA907","v":9951.6},null,{"$f":"TEXT(AE907,\"#,###.0\")","v":"9,951.6"},null,null,null,null,null,null,null,null,null,null,null,null,"D7204-0055"]
[null,"합",null,null,null,"계",null,null,null,null,null,null,null,null,null,null,null,null,null,null,null,null,null,null,null,null,null,null,null,null,null,null,null,null,null,null,null,null,null,null,null,null,null,null,null,null,null,null,null,null,null,null,null,null,null,null,null,null,null,null,null,null,null,null,null,null,null,null,null,null,null,null,null,null,null,null,null,null,null,null,null,null,null,null,null,null,null,null,null,null,null,null,null,null,null,null,null,null,null,null,null,{"$f":"CY913+CZ913+DA913","v":14607},{"$f":"TEXT(TRUNC(CY905+CY907+CY909,1),\"#,###.0\")","v":"2,208.2"},{"$f":"TEXT(TRUNC(CZ905+CZ907+CZ909,1),\"#,###.0\")","v":"9,951.6"},{"$f":"TEXT(TRUNC(DA905+DA907+DA909,1),\"#,###.0\")","v":"2,447.2"},null,null,null,null,null,null,null,null,null,null,null,""]
[""]
[null,null,null,null,null,null,"V",null,"=",null,{"$f":"TEXT(4,\"#,##0.0#######\")","v":"4.0"},null,null,null,",",null,null,"W",null,"=",null,{"$f":"TEXT(1.8,\"#,##0.0#######\")","v":"1.8"},null,null,null,",",null,null,"D",null,"=",null,{"$f":"TEXT(0.2,\"#,##0.0#######\")","v":"0.2"},null,null,null,",",null,null,"E",null,"=",null,{"$f":"TEXT(0.2,\"#,##0.0#######\")","v":"0.2"},null,null,null,",",null,null,"f",null,"=",null,{"$f":"TEXT(1,\"#,##0\")","v":"1"},null,",",null,null,null,"N",null,"=",null,{"$f":"TEXT(4,\"#,##0\")","v":"4"},null,null,null,null,null,null,null,null,null,null,null,null,null,null,null,null,null,null,null,null,null,null,null,null,null,null,null,null,null,null,null,null,null,null,null,null,null,null,null,null,null,null,null,null,null,null,null,null,null,null,null,""]
[null,null,null,null,null,null,null,"경    비 :",null,null,null,null,null,{"$f":"TEXT(TRUNC(건설기계!$M$259,0),\"#,##0\")","v":"16,629"},null,null,null,null,null,null,"/",null,"A",null,"=",null,{"$f":"TEXT(ROUNDDOWN(N948/BQ942,1),\"#,##0.0#######\")","v":"4,619.1"},null,null,null,null,null,null,null,null,null,null,null,null,null,null,null,null,null,null,null,null,null,null,null,null,null,null,null,null,null,null,null,null,null,null,null,null,null,null,null,null,null,null,null,null,null,null,null,null,null,null,null,null,null,null,null,null,null,null,null,null,null,null,null,null,null,null,null,null,null,null,null,null,null,null,{"$f":"CY948+CZ948+DA948","v":4619.1000000000004},null,null,{"$f":"TEXT(AA948,\"#,###.0\")","v":"4,619.1"},null,null,null,null,null,null,null,null,null,null,null,"D1406-0015"]
[]
[""]
[""]
[""]
["▨ 비산먼지 발생억제를 위한 살수"]
[""]
["      계",null,null,null,null,null,null,null,null,null,null,null,null,null,null,null,null,null,null,null,null,null,null,null,null,null,null,null,null,null,null,null,null,null,null,null,null,null,null,null,null,null,null,null,null,null,null,null,null,null,null,null,null,null,null,null,null,null,null,null,null,null,null,null,null,null,null,null,null,null,null,null,null,null,null,null,null,null,null,null,null,null,null,null,null,null,null,null,null,null,null,null,null,null,null,null,null,null,null,null,null,{"$f":"TEXT(CY1028+CZ1028+DA1028,\"#,##0\")","v":"4"},{"$f":"TEXT(TRUNC(CY1026,0),\"#,##0\")","v":"1"},{"$f":"TEXT(TRUNC(CZ1026,0),\"#,##0\")","v":"2"},{"$f":"TEXT(TRUNC(DA1026,0),\"#,##0\")","v":"1"}]
[null,null,"⊙",null,null,"구역화물",null,null,null,null,null,null,null,null,"자동차",null,null,null,null,null,null,"운임에",null,null,null,null,null,null,"의거",null,null,null,null,"산출하여",null,null,null,null,null,null,null,null,"경비로",null,null,null,null,null,null,"계산",null,null,null,null,null,null,null,null,null,null,null,null,null,null,null,null,null,null,null,null,null,null,null,null,null,null,null,null,null,null,null,null,null,null,null,null,null,null,null,null,null,null,null,null,null,null,null,null,null,null,null,null,null,null,null,null,null,null,null,null,null,null,null,null,null,null,""]
[""]
[""]
[null,null,null,"W",null,"=",null,{"$f":"TEXT(0.45,\"#,##0.00#######\")","v":"0.45"},null,null,null,null,null,"다짐 유효폭(M)",null,null,null,null,null,null,null,null,null,null,null,null,null,null,null,null,null,null,null,null,null,null,null,null,null,null,null,null,null,null,null,null,null,null,null,null,null,null,null,null,null,null,null,null,null,null,null,null,null,null,null,null,null,null,null,null,null,null,null,null,null,null,null,null,null,null,null,null,null,null,null,null,null,null,null,null,null,null,null,null,null,null,null,null,null,null,null,null,null,null,null,null,null,null,null,null,null,null,null,null,null,null,""]
[null,null,null,"Q",null,"=",null,{"$f":"TEXT(1000,\"#,##0\")","v":"1,000"},null,null,null,null,"*",null,"V",null,"*",null,"W",null,"*",null,"E",null,"/",null,"N",null,"=",null,{"$f":"TEXT(ROUND(H1075*H1067*H1069*H1071/H1073,0),\"#,##0\")","v":"270"},null,null,null,null,"㎡/HR",null,null,null,null,null,null,null,null,null,null,null,null,null,null,null,null,null,null,null,null,null,null,null,null,null,null,null,null,null,null,null,null,null,null,null,null,null,null,null,null,null,null,null,null,null,null,null,null,null,null,null,null,null,null,null,null,null,null,null,null,null,null,null,null,null,null,null,null,null,null,null,null,null,null,null,null,null,null,null,null,""]
[""]
[""]
[""]
[null,null,null,null,null,"트럭위 및 창고내 인부 :",null,null,null,null,"A",null,"=",null,{"$f":"TEXT(2,\"#,##0\")","v":"2"},null,"인",null,null,null,null,null,null,null,null,null,null,null,null,null,null,null,null,null,null,null,null,null,null,null,null,null,null,null,null,null,null,null,null,null,null,null,null,null,null,null,null,null,null,null,null,null,null,null,null,null,null,null,null,null,null,null,null,null,null,null,null,null,null,null,null,null,null,null,null,null,null,null,null,null,null,null,null,null,null,null,null,null,null,null,null,null,null,null,null,null,null,null,null,null,null,null,null,null,null,null,""]
["   인부작업장 이동및 차량대기 적재함"]
[null,null,null,null,null,"대당 하차비 :",null,null,null,null,null,{"$f":"TEXT(1,\"#,##0\")","v":"1"},null,"/",null,{"$f":"TEXT(112,\"#,##0\")","v":"112"},null,null,null,"*",null,{"$f":"TEXT(31,\"#,##0\")","v":"31"},null,null,"/",null,{"$f":"TEXT(450,\"#,##0\")","v":"450"},null,null,null,"*",null,{"$f":"TEXT(7,\"#,##0\")","v":"7"},null,"인",null,null,null,null,null,"*",null,{"$f":"TEXT(TRUNC(노임단가!K8,0),\"#,##0\")","v":"141,096"},null,null,null,null,null,null,"=",null,{"$f":"TEXT(ROUNDDOWN(L1138/P1138*V1138/AA1138*AG1138*AQ1138,1),\"#,##0.0#######\")","v":"607.4"},null,null,null,null,null,null,"원/대",null,null,null,null,null,null,null,null,null,null,null,null,null,null,null,null,null,null,null,null,null,null,null,null,null,null,null,null,null,null,null,null,null,null,null,null,null,null,null,null,null,null,{"$f":"CY1138+CZ1138+DA1138","v":607.4},null,null,{"$f":"TEXT(AZ1138,\"#,###.0\")","v":"607.4"},null,null,null,null,null,null,null,null,null,null,null,"W1002"]
["      계",null,null,null,null,null,null,null,null,null,null,null,null,null,null,null,null,null,null,null,null,null,null,null,null,null,null,null,null,null,null,null,null,null,null,null,null,null,null,null,null,null,null,null,null,null,null,null,null,null,null,null,null,null,null,null,null,null,null,null,null,null,null,null,null,null,null,null,null,null,null,null,null,null,null,null,null,null,null,null,null,null,null,null,null,null,null,null,null,null,null,null,null,null,null,null,null,null,null,null,null,{"$f":"TEXT(CY1148+CZ1148+DA1148,\"#,##0\")","v":"1,334"},{"$f":"TEXT(TRUNC(CY1146,0),\"#,##0\")","v":"0"},{"$f":"TEXT(TRUNC(CZ1146,0),\"#,##0\")","v":"0"},{"$f":"TEXT(TRUNC(DA1146,0),\"#,##0\")","v":"1,334"}]
[null,null,null,null,null,null,null,"노 무 비 :",null,null,null,null,null,{"$f":"TEXT(TRUNC(건설기계!$K$189,0),\"#,##0\")","v":"44,299"},null,null,null,null,null,null,"/",null,"A",null,"=",null,{"$f":"TEXT(ROUNDDOWN(N1165/AT1161,1),\"#,##0.0#######\")","v":"16,108.7"},null,null,null,null,null,null,null,null,null,null,null,null,null,null,null,null,null,null,null,null,null,null,null,null,null,null,null,null,null,null,null,null,null,null,null,null,null,null,null,null,null,null,null,null,null,null,null,null,null,null,null,null,null,null,null,null,null,null,null,null,null,null,null,null,null,null,null,null,null,null,null,null,null,null,{"$f":"CY1165+CZ1165+DA1165","v":16108.7},null,{"$f":"TEXT(AA1165,\"#,###.0\")","v":"16,108.7"},null,null,null,null,null,null,null,null,null,null,null,null,"D1106-0010"]
[""]
[""]
[""]
[null,null,null,null,null,null,null,"재 료 비 :",null,null,null,null,null,{"$f":"TEXT(TRUNC(건설기계!$I$259,0),\"#,##0\")","v":"12,828"},null,null,null,null,null,null,"/",null,"A",null,"=",null,{"$f":"TEXT(ROUNDDOWN(N1199/AT1197,1),\"#,##0.0#######\")","v":"3,959.2"},null,null,null,null,null,null,null,null,null,null,null,null,null,null,null,null,null,null,null,null,null,null,null,null,null,null,null,null,null,null,null,null,null,null,null,null,null,null,null,null,null,null,null,null,null,null,null,null,null,null,null,null,null,null,null,null,null,null,null,null,null,null,null,null,null,null,null,null,null,null,null,null,null,null,{"$f":"CY1199+CZ1199+DA1199","v":3959.2},{"$f":"TEXT(AA1199,\"#,###.0\")","v":"3,959.2"},null,null,null,null,null,null,null,null,null,null,null,null,null,"D1406-0015"]
[null,"합",null,null,null,"계",null,null,null,null,null,null,null,null,null,null,null,null,null,null,null,null,null,null,null,null,null,null,null,null,null,null,null,null,null,null,null,null,null,null,null,null,null,null,null,null,null,null,null,null,null,null,null,null,null,null,null,null,null,null,null,null,null,null,null,null,null,null,null,null,null,null,null,null,null,null,null,null,null,null,null,null,null,null,null,null,null,null,null,null,null,null,null,null,null,null,null,null,null,null,null,{"$f":"CY1211+CZ1211+DA1211","v":62721.7},{"$f":"TEXT(TRUNC(CY1171+CY1189+CY1207,1),\"#,###.0\")","v":"11,401.0"},{"$f":"TEXT(TRUNC(CZ1171+CZ1189+CZ1207,1),\"#,###.0\")","v":"40,719.2"},{"$f":"TEXT(TRUNC(DA1171+DA1189+DA1207,1),\"#,###.0\")","v":"10,601.5"},null,null,null,null,null,null,null,null,null,null,null,""]
[null,null,null,null,null,null,null,"재 료 비 :",null,null,null,null,null,{"$f":"TEXT(TRUNC(건설기계!$I$273,0),\"#,##0\")","v":"1,799"},null,null,null,null,null,"/",null,"A",null,"=",null,{"$f":"TEXT(ROUNDDOWN(N1228/AQ1226,1),\"#,##0.0#######\")","v":"1,332.5"},null,null,null,null,null,null,null,null,null,null,null,null,null,null,null,null,null,null,null,null,null,null,null,null,null,null,null,null,null,null,null,null,null,null,null,null,null,null,null,null,null,null,null,null,null,null,null,null,null,null,null,null,null,null,null,null,null,null,null,null,null,null,null,null,null,null,null,null,null,null,null,null,null,null,null,{"$f":"CY1228+CZ1228+DA1228","v":1332.5},{"$f":"TEXT(Z1228,\"#,###.0\")","v":"1,332.5"},null,null,null,null,null,null,null,null,null,null,null,null,null,"D1730-0015"]
[null,null,null,null,null,null,null,"경    비 :",null,null,null,null,null,{"$f":"TEXT(TRUNC(건설기계!$M$273,0),\"#,##0\")","v":"539"},null,null,null,"/",null,"A",null,"=",null,{"$f":"TEXT(ROUNDDOWN(N1232/AQ1226,1),\"#,##0.0#######\")","v":"399.2"},null,null,null,null,null,null,null,null,null,null,null,null,null,null,null,null,null,null,null,null,null,null,null,null,null,null,null,null,null,null,null,null,null,null,null,null,null,null,null,null,null,null,null,null,null,null,null,null,null,null,null,null,null,null,null,null,null,null,null,null,null,null,null,null,null,null,null,null,null,null,null,null,null,null,null,null,null,{"$f":"CY1232+CZ1232+DA1232","v":399.2},null,null,{"$f":"TEXT(X1232,\"#,###.0\")","v":"399.2"},null,null,null,null,null,null,null,null,null,null,null,"D1730-0015"]
["1. 다  짐"]
["   ------------------------------------------------------------",null,null,null,null,null,null,null,null,null,null,null,null,null,null,null,null,null,null,null,null,null,null,null,null,null,null,null,null,null,null,null,null,null,null,null,null,null,null,null,null,null,null,null,null,null,null,null,null,null,null,null,null,null,null,null,null,null,null,null,null,null,null,null,null,null,null,null,null,null,null,null,null,null,null,null,null,null,null,null,null,null,null,null,null,null,null,null,null,null,null,null,null,null,null,null,null,null,null,null,null,null,null,null,null,null,null,null,null,null,null,null,null,null,null,null,""]
[null,null,null,null,null,null,"A",null,"=",null,"(",null,{"$f":"TEXT(1000,\"#,##0\")","v":"1,000"},null,null,null,null,"*",null,"V",null,"*",null,"W",null,"*",null,"E)",null,null,"/",null,"(N",null,null,"*",null,{"$f":"TEXT(100,\"#,##0\")","v":"100"},null,null,null,")",null,"=",null,{"$f":"TEXT(ROUND((M1269*K1265*AE1265*K1267)/(Z1267*AL1269),2),\"#,##0.00#######\")","v":"4.05"},null,null,null,null,null,"a/hr",null,null,null,null,null,null,null,null,null,null,null,null,null,null,null,null,null,null,null,null,null,null,null,null,null,null,null,null,null,null,null,null,null,null,null,null,null,null,null,null,null,null,null,null,null,null,null,null,null,null,null,null,null,null,null,null,null,null,null,null,null,null,null,null,""]
[""]
[""]
[null,"합",null,null,null,"계",null,null,null,null,null,null,null,null,null,null,null,null,null,null,null,null,null,null,null,null,null,null,null,null,null,null,null,null,null,null,null,null,null,null,null,null,null,null,null,null,null,null,null,null,null,null,null,null,null,null,null,null,null,null,null,null,null,null,null,null,null,null,null,null,null,null,null,null,null,null,null,null,null,null,null,null,null,null,null,null,null,null,null,null,null,null,null,null,null,null,null,null,null,null,null,{"$f":"CY1301+CZ1301+DA1301","v":49025.8},{"$f":"TEXT(TRUNC(CY1261+CY1279+CY1297,1),\"#,###.0\")","v":"8,921.1"},{"$f":"TEXT(TRUNC(CZ1261+CZ1279+CZ1297,1),\"#,###.0\")","v":"31,322.4"},{"$f":"TEXT(TRUNC(DA1261+DA1279+DA1297,1),\"#,###.0\")","v":"8,782.3"},null,null,null,null,null,null,null,null,null,null,null,""]
[""]
[null,null,null,null,null,null,"A",null,"=",null,"(",null,{"$f":"TEXT(1000,\"#,##0\")","v":"1,000"},null,null,null,null,"*",null,"V",null,"*",null,"W",null,"*",null,"E)",null,null,"/",null,"N",null,"/",null,{"$f":"TEXT(100,\"#,##0\")","v":"100"},null,null,null,"=",null,{"$f":"TEXT(ROUND((M1316*K1312*AB1312*K1314)/AB1314/AK1316,1),\"#,##0.0#######\")","v":"1.8"},null,null,null,null,"a/hr",null,null,null,null,null,null,null,null,null,null,null,null,null,null,null,null,null,null,null,null,null,null,null,null,null,null,null,null,null,null,null,null,null,null,null,null,null,null,null,null,null,null,null,null,null,null,null,null,null,null,null,null,null,null,null,null,null,null,null,null,null,null,null,null,null,null,null,null,""]
["산근00330호표 ：아스콘포설[#467] (피니셔[t=7.5Cm]) a 당",null,null,null,null,null,null,null,null,null,null,null,null,null,null,null,null,null,null,null,null,null,null,null,null,null,null,null,null,null,null,null,null,null,null,null,null,null,null,null,null,null,null,null,null,null,null,null,null,null,null,null,null,null,null,null,null,null,null,null,null,null,null,null,null,null,null,null,null,null,null,null,null,null,null,null,null,null,null,null,null,null,null,null,null,null,null,null,null,null,null,null,null,null,null,null,null,null,null,null,null,null,null,null,null,null,null,null,null,null,null,null,null,null,null,null,":SKZ2200"]
[""]
[null,null,null,null,null,null,null,"재 료 비 :",null,null,null,null,null,{"$f":"TEXT(TRUNC(건설기계!$I$336,0),\"#,##0\")","v":"18,134"},null,null,null,null,null,null,"/",null,"A",null,"=",null,{"$f":"TEXT(ROUNDDOWN(N1347/T1345,1),\"#,##0.0#######\")","v":"4,197.6"},null,null,null,null,null,null,null,null,null,null,null,null,null,null,null,null,null,null,null,null,null,null,null,null,null,null,null,null,null,null,null,null,null,null,null,null,null,null,null,null,null,null,null,null,null,null,null,null,null,null,null,null,null,null,null,null,null,null,null,null,null,null,null,null,null,null,null,null,null,null,null,null,null,null,{"$f":"CY1347+CZ1347+DA1347","v":4197.6000000000004},{"$f":"TEXT(AA1347,\"#,###.0\")","v":"4,197.6"},null,null,null,null,null,null,null,null,null,null,null,null,null,"D3201-0003"]
[" 가. 기계(피니셔 3.0 m)"]
[null,null,null,null,null,null,"A",null,"=",null,"Q",null,"/",null,"q1",null,null,"=",null,{"$f":"TEXT(ROUND(AE1372/AF1370,2),\"#,##0.00#######\")","v":"4.32"},null,null,null,null,null,"a/Hr",null,null,null,null,null,null,null,null,null,null,null,null,null,null,null,null,null,null,null,null,null,null,null,null,null,null,null,null,null,null,null,null,null,null,null,null,null,null,null,null,null,null,null,null,null,null,null,null,null,null,null,null,null,null,null,null,null,null,null,null,null,null,null,null,null,null,null,null,null,null,null,null,null,null,null,null,null,null,null,null,null,null,null,null,null,null,null,null,null,null,""]
[""]
["◈ 아스팔트 가열 (적외선) ; M당",null,null,null,null,null,null,null,null,null,null,null,null,null,null,null,null,null,null,null,null,null,null,null,null,null,null,null,null,null,null,null,null,null,null,null,null,null,null,null,null,null,null,null,null,null,null,null,null,null,null,null,null,null,null,null,null,null,null,null,null,null,null,null,null,null,null,null,null,null,null,null,null,null,null,null,null,null,null,null,null,null,null,null,null,null,null,null,null,null,null,null,null,null,null,null,null,null,null,null,null,{"$f":"CY1389+CZ1389+DA1389","v":0},null,null,null,null,null,null,null,null,null,null,null,null,null,null,""]
["  1) 발전기(100kw)"]
[null,null,null,null,null,null,"재료비:",null,null,null,null,null,{"$f":"TEXT(TRUNC(건설기계!$I$469,0),\"#,##0\")","v":"28,128"},null,null,null,null,null,null,"/",null,"Q",null,"=",null,{"$f":"TEXT(ROUNDDOWN(M1411/K1409,1),\"#,##0.0#######\")","v":"562.5"},null,null,null,null,null,null,"\\/a",null,null,null,null,null,null,null,null,null,null,null,null,null,null,null,null,null,null,null,null,null,null,null,null,null,null,null,null,null,null,null,null,null,null,null,null,null,null,null,null,null,null,null,null,null,null,null,null,null,null,null,null,null,null,null,null,null,null,null,null,null,null,null,null,null,null,null,null,{"$f":"CY1411+CZ1411+DA1411","v":562.5},{"$f":"TEXT(Z1411,\"#,###.0\")","v":"562.5"},null,null,null,null,null,null,null,null,null,null,null,null,null,"D7505-0100"]
[""]
[""]
[""]
[null,"합",null,null,null,"계",null,null,null,null,null,null,null,null,null,null,null,null,null,null,null,null,null,null,null,null,null,null,null,null,null,null,null,null,null,null,null,null,null,null,null,null,null,null,null,null,null,null,null,null,null,null,null,null,null,null,null,null,null,null,null,null,null,null,null,null,null,null,null,null,null,null,null,null,null,null,null,null,null,null,null,null,null,null,null,null,null,null,null,null,null,null,null,null,null,null,null,null,null,null,null,{"$f":"CY1452+CZ1452+DA1452","v":1055.0999999999999},{"$f":"TEXT(TRUNC(CY1450,1),\"#,###.0\")","v":"69.4"},{"$f":"TEXT(TRUNC(CZ1450,1),\"#,###.0\")","v":"949.1"},{"$f":"TEXT(TRUNC(DA1450,1),\"#,###.0\")","v":"36.6"},null,null,null,null,null,null,null,null,null,null,null,""]
["2. 하 차 비"]
[""]
[]
[""]
["   ------------------------------------------------------------",null,null,null,null,null,null,null,null,null,null,null,null,null,null,null,null,null,null,null,null,null,null,null,null,null,null,null,null,null,null,null,null,null,null,null,null,null,null,null,null,null,null,null,null,null,null,null,null,null,null,null,null,null,null,null,null,null,null,null,null,null,null,null,null,null,null,null,null,null,null,null,null,null,null,null,null,null,null,null,null,null,null,null,null,null,null,null,null,null,null,null,null,null,null,null,null,null,null,null,null,null,null,null,null,null,null,null,null,null,null,null,null,null,null,null,""]
[""]
[null,null,null,null,null,null,"보통인부 :",null,null,null,null,null,{"$f":"TEXT(TRUNC(노임단가!$K$8,0),\"#,##0\")","v":"141,096"},null,null,null,null,null,null,"*",null,{"$f":"TEXT(3.8,\"#,##0.0#######\")","v":"3.8"},null,null,null,"/",null,{"$f":"TEXT(100,\"#,##0\")","v":"100"},null,null,null,"*",null,{"$f":"TEXT(0.13,\"#,##0.00#######\")","v":"0.13"},null,null,null,null,"=",null,{"$f":"TEXT(ROUNDDOWN(M1525*V1525/AB1525*AH1525,1),\"#,##0.0#######\")","v":"697.0"},null,null,null,null,null,null,"원/a",null,null,null,null,null,null,null,null,null,null,null,null,null,null,null,null,null,null,null,null,null,null,null,null,null,null,null,null,null,null,null,null,null,null,null,null,null,null,null,null,null,null,null,null,null,null,null,null,null,null,null,null,null,{"$f":"CY1525+CZ1525+DA1525","v":697},null,{"$f":"TEXT(AO1525,\"#,###.0\")","v":"697.0"},null,null,null,null,null,null,null,null,null,null,null,null,"W1002"]
["   ------------------------------------------------------------",null,null,null,null,null,null,null,null,null,null,null,null,null,null,null,null,null,null,null,null,null,null,null,null,null,null,null,null,null,null,null,null,null,null,null,null,null,null,null,null,null,null,null,null,null,null,null,null,null,null,null,null,null,null,null,null,null,null,null,null,null,null,null,null,null,null,null,null,null,null,null,null,null,null,null,null,null,null,null,null,null,null,null,null,null,null,null,null,null,null,null,null,null,null,null,null,null,null,null,null,null,null,null,null,null,null,null,null,null,null,null,null,null,null,null,""]
["  가. 토사 (굴삭기0.2㎥)"]
[null,null,null,null,"qo",null,null,"=",null,{"$f":"TEXT(0.2,\"#,##0.0#######\")","v":"0.2"},null,null,null,null,null,null,null,null,null,null,null,null,null,null,null,null,null,null,null,null,null,null,null,null,null,null,null,null,null,null,null,null,null,null,null,null,null,null,null,null,null,null,null,null,null,null,null,null,null,null,null,null,null,null,null,null,null,null,null,null,null,null,null,null,null,null,null,null,null,null,null,null,null,null,null,null,null,null,null,null,null,null,null,null,null,null,null,null,null,null,null,null,null,null,null,null,null,null,null,null,null,null,null,null,null,null,""]
[""]
[null,"합",null,null,null,"계",null,null,null,null,null,null,null,null,null,null,null,null,null,null,null,null,null,null,null,null,null,null,null,null,null,null,null,null,null,null,null,null,null,null,null,null,null,null,null,null,null,null,null,null,null,null,null,null,null,null,null,null,null,null,null,null,null,null,null,null,null,null,null,null,null,null,null,null,null,null,null,null,null,null,null,null,null,null,null,null,null,null,null,null,null,null,null,null,null,null,null,null,null,null,null,{"$f":"CY1579+CZ1579+DA1579","v":2995},{"$f":"TEXT(TRUNC(CY1571+CY1573+CY1575,1),\"#,###.0\")","v":"365.1"},{"$f":"TEXT(TRUNC(CZ1571+CZ1573+CZ1575,1),\"#,###.0\")","v":"2,050.8"},{"$f":"TEXT(TRUNC(DA1571+DA1573+DA1575,1),\"#,###.0\")","v":"579.1"},null,null,null,null,null,null,null,null,null,null,null,""]
[""]
[""]
["산근00430호표 ：잔토처리상차[기계] (굴삭기0.7㎥) ㎥ 당",null,null,null,null,null,null,null,null,null,null,null,null,null,null,null,null,null,null,null,null,null,null,null,null,null,null,null,null,null,null,null,null,null,null,null,null,null,null,null,null,null,null,null,null,null,null,null,null,null,null,null,null,null,null,null,null,null,null,null,null,null,null,null,null,null,null,null,null,null,null,null,null,null,null,null,null,null,null,null,null,null,null,null,null,null,null,null,null,null,null,null,null,null,null,null,null,null,null,null,null,null,null,null,null,null,null,null,null,null,null,null,null,null,null,null,":S0033"]
[""]
[null,null,null,null,null,"재 료 비:",null,null,null,null,null,{"$f":"TEXT(TRUNC(건설기계!$I$77,0),\"#,##0\")","v":"18,449"},null,null,null,null,null,null,"/",null,"Q",null,"=",null,{"$f":"TEXT(ROUNDDOWN(L1637/AQ1635,1),\"#,##0.0#######\")","v":"271.1"},null,null,null,null,null,null,null,null,null,null,null,null,null,null,null,null,null,null,null,null,null,null,null,null,null,null,null,null,null,null,null,null,null,null,null,null,null,null,null,null,null,null,null,null,null,null,null,null,null,null,null,null,null,null,null,null,null,null,null,null,null,null,null,null,null,null,null,null,null,null,null,null,null,null,null,null,{"$f":"CY1637+CZ1637+DA1637","v":271.10000000000002},{"$f":"TEXT(Y1637,\"#,###.0\")","v":"271.1"},null,null,null,null,null,null,null,null,null,null,null,null,null,"D0201-0070"]
["산근00440호표 ：잔토처리운반[L=3Km] (인력+DT 2.5TON) ㎥ 당",null,null,null,null,null,null,null,null,null,null,null,null,null,null,null,null,null,null,null,null,null,null,null,null,null,null,null,null,null,null,null,null,null,null,null,null,null,null,null,null,null,null,null,null,null,null,null,null,null,null,null,null,null,null,null,null,null,null,null,null,null,null,null,null,null,null,null,null,null,null,null,null,null,null,null,null,null,null,null,null,null,null,null,null,null,null,null,null,null,null,null,null,null,null,null,null,null,null,null,null,null,null,null,null,null,null,null,null,null,null,null,null,null,null,null,":SDC41112"]
[null,null,null,null,null,null,null,null,null,"L1",null,null,"=",null,{"$f":"TEXT(3,\"#,##0.0#######\")","v":"3.0"},null,null,null,"㎞",null,null,null,null,null,null,null,null,null,null,null,null,null,null,null,null,null,null,null,null,null,null,null,null,null,null,null,null,null,null,null,null,null,null,null,null,null,null,null,null,null,null,null,null,null,null,null,null,null,null,null,null,null,null,null,null,null,null,null,null,null,null,null,null,null,null,null,null,null,null,null,null,null,null,null,null,null,null,null,null,null,null,null,null,null,null,null,null,null,null,null,null,null,null,null,null,null,""]
[null,null,null,null,null,"t1",null,null,"=",null,{"$f":"TEXT(10,\"#,##0\")","v":"10"},null,null,"Min/m3",null,null,null,null,"*",null,"q",null,"=",null,{"$f":"TEXT(ROUND(K1666*Y1664,1),\"#,##0.0#######\")","v":"19.5"},null,null,null,null,null,",",null,null,"L1",null,null,"=",null,{"$f":"TEXT(3,\"#,##0.0#######\")","v":"3.0"},null,null,null,"km",null,null,null,null,null,",",null,null,null,"V1",null,null,"=",null,{"$f":"TEXT(20,\"#,##0\")","v":"20"},null,null,"km",null,null,null,null,null,",",null,null,"V2",null,null,"=",null,{"$f":"TEXT(25,\"#,##0\")","v":"25"},null,null,"km",null,null,null,null,null,null,null,null,null,null,null,null,null,null,null,null,null,null,null,null,null,null,null,null,null,null,null,null,null,null,null,null,null,null,null,null,null,null,""]
[null,null,null,null,null,null,"재 료 비:",null,null,null,null,null,{"$f":"TEXT(TRUNC(건설기계!$I$146,0),\"#,##0\")","v":"5,217"},null,null,null,null,null,"/",null,"Q",null,"*",null,"P",null,"=",null,{"$f":"TEXT(ROUNDDOWN(M1678/AI1676*AM1674,1),\"#,##0.0#######\")","v":"1,125.2"},null,null,null,null,null,null,null,null,null,null,null,null,null,null,null,null,null,null,null,null,null,null,null,null,null,null,null,null,null,null,null,null,null,null,null,null,null,null,null,null,null,null,null,null,null,null,null,null,null,null,null,null,null,null,null,null,null,null,null,null,null,null,null,null,null,null,null,null,null,null,null,null,{"$f":"CY1678+CZ1678+DA1678","v":1125.2},null,null,{"$f":"TEXT(AC1678,\"#,###.0\")","v":"1,125.2"},null,null,null,null,null,null,null,null,null,null,null,"D0602-0025"]
[""]
[""]
[""]
[""]
[]
["      계",null,null,null,null,null,null,null,null,null,null,null,null,null,null,null,null,null,null,null,null,null,null,null,null,null,null,null,null,null,null,null,null,null,null,null,null,null,null,null,null,null,null,null,null,null,null,null,null,null,null,null,null,null,null,null,null,null,null,null,null,null,null,null,null,null,null,null,null,null,null,null,null,null,null,null,null,null,null,null,null,null,null,null,null,null,null,null,null,null,null,null,null,null,null,null,null,null,null,null,null,{"$f":"TEXT(CY1737+CZ1737+DA1737,\"#,##0\")","v":"10,134"},{"$f":"TEXT(TRUNC(CY1735,0),\"#,##0\")","v":"0"},{"$f":"TEXT(TRUNC(CZ1735,0),\"#,##0\")","v":"0"},{"$f":"TEXT(TRUNC(DA1735,0),\"#,##0\")","v":"10,134"}]
[""]
[null,null,null,null,null,"t2",null,null,"=",null,"((L1",null,null,null,null,"/",null,"V1",null,null,")",null,"+",null,"(L1",null,null,null,"/",null,"V2",null,null,"))",null,null,"*",null,{"$f":"TEXT(60,\"#,##0\")","v":"60"},null,null,"=",null,{"$f":"TEXT(ROUND(((AM1762/BH1762)+(AM1762/BY1762))*AM1764,1),\"#,##0.0#######\")","v":"16.2"},null,null,null,null,null,",",null,null,"t3",null,null,"=",null,{"$f":"TEXT(1.05,\"#,##0.00#######\")","v":"1.05"},null,null,null,null,",",null,null,"t4",null,null,"=",null,{"$f":"TEXT(0.7,\"#,##0.0#######\")","v":"0.7"},null,null,null,",",null,null,"t5",null,null,"=",null,{"$f":"TEXT(3.77,\"#,##0.00#######\")","v":"3.77"},null,null,null,null,null,null,null,null,null,null,null,null,null,null,null,null,null,null,null,null,null,null,null,null,null,null,null,null,null,null,null,null,null,""]
[""]
[]
["가. 운반비(현장 ---> 집하장 L=3.0㎞)"]
[null,null,null,null,null,"n",null,"=",null,"q",null,"/",null,"(q1",null,null,null,"*",null,"K)",null,null,"=",null,{"$f":"TEXT(ROUND(Y1801/(AE1803*BL1803),1),\"#,##0.0#######\")","v":"21.7"},null,null,null,null,null,null,null,null,null,null,null,null,null,null,null,null,null,null,null,null,null,null,null,null,null,null,null,null,null,null,null,null,null,null,null,null,null,null,null,null,null,null,null,null,null,null,null,null,null,null,null,null,null,null,null,null,null,null,null,null,null,null,null,null,null,null,null,null,null,null,null,null,null,null,null,null,null,null,null,null,null,null,null,null,null,null,null,null,null,null,null,""]
[""]
["      계",null,null,null,null,null,null,null,null,null,null,null,null,null,null,null,null,null,null,null,null,null,null,null,null,null,null,null,null,null,null,null,null,null,null,null,null,null,null,null,null,null,null,null,null,null,null,null,null,null,null,null,null,null,null,null,null,null,null,null,null,null,null,null,null,null,null,null,null,null,null,null,null,null,null,null,null,null,null,null,null,null,null,null,null,null,null,null,null,null,null,null,null,null,null,null,null,null,null,null,null,{"$f":"TEXT(CY1831+CZ1831+DA1831,\"#,##0\")","v":"5,506"},{"$f":"TEXT(TRUNC(CY1829,0),\"#,##0\")","v":"0"},{"$f":"TEXT(TRUNC(CZ1829,0),\"#,##0\")","v":"0"},{"$f":"TEXT(TRUNC(DA1829,0),\"#,##0\")","v":"5,506"}]
[""]
[null,null,null,null,null,"T",null,"=",null,{"$f":"TEXT(2.5,\"#,##0.0#######\")","v":"2.5"},null,null,null,",",null,null,null,"rt",null,null,"=",null,{"$f":"TEXT(1.6,\"#,##0.0#######\")","v":"1.6"},null,null,null,",",null,null,null,"L",null,"=",null,{"$f":"TEXT(1.25,\"#,##0.00#######\")","v":"1.25"},null,null,null,null,",",null,null,null,"E",null,"=",null,{"$f":"TEXT(0.9,\"#,##0.0#######\")","v":"0.9"},null,null,null,null,null,null,null,null,null,null,null,null,null,null,null,null,null,null,null,null,null,null,null,null,null,null,null,null,null,null,null,null,null,null,null,null,null,null,null,null,null,null,null,null,null,null,null,null,null,null,null,null,null,null,null,null,null,null,null,null,null,null,null,null,null,null,null,null,""]
[""]
[null,null,null,null,null,null,"경    비:",null,null,null,null,null,{"$f":"TEXT(TRUNC(건설기계!$M$146,0),\"#,##0\")","v":"5,887"},null,null,null,null,null,"/",null,"Q",null,"=",null,{"$f":"TEXT(ROUNDDOWN(M1864/AI1858,1),\"#,##0.0#######\")","v":"3,633.9"},null,null,null,null,null,null,null,null,null,null,null,null,null,null,null,null,null,null,null,null,null,null,null,null,null,null,null,null,null,null,null,null,null,null,null,null,null,null,null,null,null,null,null,null,null,null,null,null,null,null,null,null,null,null,null,null,null,null,null,null,null,null,null,null,null,null,null,null,null,null,null,null,null,null,null,null,{"$f":"CY1864+CZ1864+DA1864","v":3633.9},null,null,{"$f":"TEXT(Y1864,\"#,###.0\")","v":"3,633.9"},null,null,null,null,null,null,null,null,null,null,null,"D0602-0025"]
[""]
[null,null,null,null,null,"Cms",null,null,null,"=",null,{"$f":"TEXT(18,\"#,##0\")","v":"18"},null,null,"sec(90°)",null,null,null,null,null,",",null,null,null,null,"q1",null,null,"=",null,{"$f":"TEXT(S1876,\"#,##0.0#######\")","v":"0.2"},null,null,null,"m3",null,null,null,null,null,",",null,null,null,null,"Es",null,null,"=",null,{"$f":"TEXT(0.75,\"#,##0.00#######\")","v":"0.75"},null,null,null,null,",",null,null,null,"K",null,"=",null,{"$f":"TEXT(0.9,\"#,##0.0#######\")","v":"0.9"},null,null,null,null,null,null,null,null,null,null,null,null,null,null,null,null,null,null,null,null,null,null,null,null,null,null,null,null,null,null,null,null,null,null,null,null,null,null,null,null,null,null,null,null,null,null,null,null,null,null,null,null,""]
[""]
[""]
["      계",null,null,null,null,null,null,null,null,null,null,null,null,null,null,null,null,null,null,null,null,null,null,null,null,null,null,null,null,null,null,null,null,null,null,null,null,null,null,null,null,null,null,null,null,null,null,null,null,null,null,null,null,null,null,null,null,null,null,null,null,null,null,null,null,null,null,null,null,null,null,null,null,null,null,null,null,null,null,null,null,null,null,null,null,null,null,null,null,null,null,null,null,null,null,null,null,null,null,null,null,{"$f":"TEXT(CY1919+CZ1919+DA1919,\"#,##0\")","v":"13,817"},{"$f":"TEXT(TRUNC(CY1917,0),\"#,##0\")","v":"0"},{"$f":"TEXT(TRUNC(CZ1917,0),\"#,##0\")","v":"0"},{"$f":"TEXT(TRUNC(DA1917,0),\"#,##0\")","v":"13,817"}]
[""]
[""]
[""]
[null,null,null,null,null,"소",null,null,null,"계",null,null,null,null,null,null,null,null,null,null,null,null,null,null,null,null,null,null,null,null,null,null,null,null,null,null,null,null,null,null,null,null,null,null,null,null,null,null,null,null,null,null,null,null,null,null,null,null,null,null,null,null,null,null,null,null,null,null,null,null,null,null,null,null,null,null,null,null,null,null,null,null,null,null,null,null,null,null,null,null,null,null,null,null,null,null,null,null,null,null,null,{"$f":"CY1962+CZ1962+DA1962","v":9133.4},{"$f":"TEXT(TRUNC(CY1954+CY1956+CY1958,1),\"#,###.0\")","v":".0"},{"$f":"TEXT(TRUNC(CZ1954+CZ1956+CZ1958,1),\"#,###.0\")","v":".0"},{"$f":"TEXT(TRUNC(DA1954+DA1956+DA1958,1),\"#,###.0\")","v":"9,133.4"},null,null,null,null,null,null,null,null,null,null,null,""]
["1. 잔토처리운반"]
[null,null,null,null,null,"t1",null,null,"=",null,"(Cms",null,null,null,null,"*",null,"n)",null,null,"/",null,"(",null,{"$f":"TEXT(60,\"#,##0\")","v":"60"},null,null,"*",null,"Es)",null,null,null,"=",null,{"$f":"TEXT(ROUND((L1985*Y1987)/(Y1989*AY1985),2),\"#,##0.00#######\")","v":"8.68"},null,null,null,null,null,null,null,null,null,null,null,null,null,null,null,null,null,null,null,null,null,null,null,null,null,null,null,null,null,null,null,null,null,null,null,null,null,null,null,null,null,null,null,null,null,null,null,null,null,null,null,null,null,null,null,null,null,null,null,null,null,null,null,null,null,null,null,null,null,null,null,null,null,null,null,null,null,null,null,null,""]
[null,null,null,null,null,"Q",null,"=",null,"(",null,{"$f":"TEXT(60,\"#,##0\")","v":"60"},null,null,"*",null,"q",null,"*",null,"f",null,"*",null,"E)",null,null,"/",null,"Cm",null,null,"=",null,{"$f":"TEXT(ROUND((L1999*Y1983*AX1983*AW1981)/AJ1995,2),\"#,##0.00#######\")","v":"12.29"},null,null,null,null,null,null,null,null,null,null,null,null,null,null,null,null,null,null,null,null,null,null,null,null,null,null,null,null,null,null,null,null,null,null,null,null,null,null,null,null,null,null,null,null,null,null,null,null,null,null,null,null,null,null,null,null,null,null,null,null,null,null,null,null,null,null,null,null,null,null,null,null,null,null,null,null,null,null,null,null,null,""]
[""]
[]
["1. 잔토처리운반"]
[""]
[null,null,null,null,null,null,"경    비:",null,null,null,null,null,{"$f":"TEXT(TRUNC(건설기계!$M$146,0),\"#,##0\")","v":"5,887"},null,null,null,null,null,"/",null,"Q",null,"=",null,{"$f":"TEXT(ROUNDDOWN(M2046/AI2040,1),\"#,##0.0#######\")","v":"4,393.2"},null,null,null,null,null,null,null,null,null,null,null,null,null,null,null,null,null,null,null,null,null,null,null,null,null,null,null,null,null,null,null,null,null,null,null,null,null,null,null,null,null,null,null,null,null,null,null,null,null,null,null,null,null,null,null,null,null,null,null,null,null,null,null,null,null,null,null,null,null,null,null,null,null,null,null,null,{"$f":"CY2046+CZ2046+DA2046","v":4393.2},null,null,{"$f":"TEXT(Y2046,\"#,###.0\")","v":"4,393.2"},null,null,null,null,null,null,null,null,null,null,null,"D0602-0025"]
["산근00530호표 ：잔토처리운반[L=7Km] (BH0.2+DT 4.5TON) ㎥ 당",null,null,null,null,null,null,null,null,null,null,null,null,null,null,null,null,null,null,null,null,null,null,null,null,null,null,null,null,null,null,null,null,null,null,null,null,null,null,null,null,null,null,null,null,null,null,null,null,null,null,null,null,null,null,null,null,null,null,null,null,null,null,null,null,null,null,null,null,null,null,null,null,null,null,null,null,null,null,null,null,null,null,null,null,null,null,null,null,null,null,null,null,null,null,null,null,null,null,null,null,null,null,null,null,null,null,null,null,null,null,null,null,null,null,null,":SSA00-003"]
[""]
[null,null,null,null,null,"t1",null,null,"=",null,"(Cms",null,null,null,null,"*",null,"n)",null,null,"/",null,"(",null,{"$f":"TEXT(60,\"#,##0\")","v":"60"},null,null,"*",null,"Es)",null,null,null,"=",null,{"$f":"TEXT(ROUND((L2073*Y2075)/(Y2077*AY2073),2),\"#,##0.00#######\")","v":"7.84"},null,null,null,null,null,null,null,null,null,null,null,null,null,null,null,null,null,null,null,null,null,null,null,null,null,null,null,null,null,null,null,null,null,null,null,null,null,null,null,null,null,null,null,null,null,null,null,null,null,null,null,null,null,null,null,null,null,null,null,null,null,null,null,null,null,null,null,null,null,null,null,null,null,null,null,null,null,null,null,null,""]
[null,null,null,null,null,"Q",null,"=",null,"(",null,{"$f":"TEXT(60,\"#,##0\")","v":"60"},null,null,"*",null,"q",null,"*",null,"f",null,"*",null,"E)",null,null,"/",null,"Cm",null,null,"=",null,{"$f":"TEXT(ROUND((L2087*Y2071*AW2071*AV2069)/AJ2083,2),\"#,##0.00#######\")","v":"2.97"},null,null,null,null,null,null,null,null,null,null,null,null,null,null,null,null,null,null,null,null,null,null,null,null,null,null,null,null,null,null,null,null,null,null,null,null,null,null,null,null,null,null,null,null,null,null,null,null,null,null,null,null,null,null,null,null,null,null,null,null,null,null,null,null,null,null,null,null,null,null,null,null,null,null,null,null,null,null,null,null,null,""]
["◈ 잔토처리운반 DT(8.0TON) ; m3당",null,null,null,null,null,null,null,null,null,null,null,null,null,null,null,null,null,null,null,null,null,null,null,null,null,null,null,null,null,null,null,null,null,null,null,null,null,null,null,null,null,null,null,null,null,null,null,null,null,null,null,null,null,null,null,null,null,null,null,null,null,null,null,null,null,null,null,null,null,null,null,null,null,null,null,null,null,null,null,null,null,null,null,null,null,null,null,null,null,null,null,null,null,null,null,null,null,null,null,null,{"$f":"CY2104+CZ2104+DA2104","v":0},null,null,null,null,null,null,null,null,null,null,null,null,null,null,""]
[null,null,null,null,null,"T",null,"=",null,{"$f":"TEXT(8,\"#,##0.0#######\")","v":"8.0"},null,null,null,",",null,null,null,"rt",null,null,"=",null,{"$f":"TEXT(1.6,\"#,##0.0#######\")","v":"1.6"},null,null,null,",",null,null,null,"L",null,"=",null,{"$f":"TEXT(1.25,\"#,##0.00#######\")","v":"1.25"},null,null,null,null,",",null,null,null,"E",null,"=",null,{"$f":"TEXT(0.9,\"#,##0.0#######\")","v":"0.9"},null,null,null,null,null,null,null,null,null,null,null,null,null,null,null,null,null,null,null,null,null,null,null,null,null,null,null,null,null,null,null,null,null,null,null,null,null,null,null,null,null,null,null,null,null,null,null,null,null,null,null,null,null,null,null,null,null,null,null,null,null,null,null,null,null,null,null,null,""]
[""]
[""]
[""]
[""]
[null,null,null,null,null,"Cms",null,null,null,"=",null,{"$f":"TEXT(18,\"#,##0\")","v":"18"},null,null,"sec(90°)",null,null,null,null,null,",",null,null,null,null,"q1",null,null,"=",null,{"$f":"TEXT(S2152,\"#,##0.0#######\")","v":"0.6"},null,null,null,"m3",null,null,null,null,null,",",null,null,null,null,"Es",null,null,"=",null,{"$f":"TEXT(0.75,\"#,##0.00#######\")","v":"0.75"},null,null,null,null,",",null,null,null,"K",null,"=",null,{"$f":"TEXT(0.9,\"#,##0.0#######\")","v":"0.9"},null,null,null,null,null,null,null,null,null,null,null,null,null,null,null,null,null,null,null,null,null,null,null,null,null,null,null,null,null,null,null,null,null,null,null,null,null,null,null,null,null,null,null,null,null,null,null,null,null,null,null,null,""]
[null,null,null,null,null,"t1",null,null,"=",null,"(Cms",null,null,null,null,"*",null,"n)",null,null,"/",null,"(",null,{"$f":"TEXT(60,\"#,##0\")","v":"60"},null,null,"*",null,"Es)",null,null,null,"=",null,{"$f":"TEXT(ROUND((L2167*Y2169)/(Y2171*AY2167),2),\"#,##0.00#######\")","v":"8.68"},null,null,null,null,null,null,null,null,null,null,null,null,null,null,null,null,null,null,null,null,null,null,null,null,null,null,null,null,null,null,null,null,null,null,null,null,null,null,null,null,null,null,null,null,null,null,null,null,null,null,null,null,null,null,null,null,null,null,null,null,null,null,null,null,null,null,null,null,null,null,null,null,null,null,null,null,null,null,null,null,""]
[""]
[""]
[null,null,null,null,null,null,null,null,null,"V1",null,null,"=",null,{"$f":"TEXT(20,\"#,##0\")","v":"20"},null,null,"km",null,null,null,null,null,",",null,null,"V2",null,null,"=",null,{"$f":"TEXT(25,\"#,##0\")","v":"25"},null,null,"KM",null,null,null,null,null,null,null,null,null,null,null,null,null,null,null,null,null,null,null,null,null,null,null,null,null,null,null,null,null,null,null,null,null,null,null,null,null,null,null,null,null,null,null,null,null,null,null,null,null,null,null,null,null,null,null,null,null,null,null,null,null,null,null,null,null,null,null,null,null,null,null,null,null,null,null,null,null,null,null,null,null,""]
[null,null,null,null,null,"t1",null,null,"=",null,{"$f":"TEXT(10,\"#,##0\")","v":"10"},null,null,"Min/m3",null,null,null,null,"*",null,"q",null,"=",null,{"$f":"TEXT(ROUND(K2214*Y2212,1),\"#,##0.0#######\")","v":"19.5"},null,null,null,null,null,",",null,null,"L1",null,null,"=",null,{"$f":"TEXT(9,\"#,##0.0#######\")","v":"9.0"},null,null,null,"km",null,null,null,null,null,",",null,null,null,null,"V1",null,null,"=",null,{"$f":"TEXT(20,\"#,##0\")","v":"20"},null,null,"km",null,null,null,null,null,",",null,null,null,"V2",null,null,"=",null,{"$f":"TEXT(25,\"#,##0\")","v":"25"},null,null,"KM",null,null,null,null,null,null,null,null,null,null,null,null,null,null,null,null,null,null,null,null,null,null,null,null,null,null,null,null,null,null,null,null,null,null,null,null,""]
[""]
["",null,null," - 상차장비 : B/H ",null,null,null,null,null,null,null,null,null,null,null,null,null,null,{"$f":"TEXT(0.2,\"#,##0.0#######\")","v":"0.2"},null,"㎥"]
[""]
[null,null,null,null,null,"Cms",null,null,null,"=",null,{"$f":"TEXT(18,\"#,##0\")","v":"18"},null,null,"sec(90°)",null,null,null,null,null,",",null,null,null,null,"q1",null,null,"=",null,{"$f":"TEXT(S2240,\"#,##0.0#######\")","v":"0.2"},null,null,null,"m3",null,null,null,null,null,",",null,null,null,null,"Es",null,null,"=",null,{"$f":"TEXT(0.75,\"#,##0.00#######\")","v":"0.75"},null,null,null,null,",",null,null,null,"K",null,"=",null,{"$f":"TEXT(0.9,\"#,##0.0#######\")","v":"0.9"},null,null,null,null,null,null,null,null,null,null,null,null,null,null,null,null,null,null,null,null,null,null,null,null,null,null,null,null,null,null,null,null,null,null,null,null,null,null,null,null,null,null,null,null,null,null,null,null,null,null,null,null,""]
[""]
[null,"합",null,null,null,"계",null,null,null,null,null,null,null,null,null,null,null,null,null,null,null,null,null,null,null,null,null,null,null,null,null,null,null,null,null,null,null,null,null,null,null,null,null,null,null,null,null,null,null,null,null,null,null,null,null,null,null,null,null,null,null,null,null,null,null,null,null,null,null,null,null,null,null,null,null,null,null,null,null,null,null,null,null,null,null,null,null,null,null,null,null,null,null,null,null,null,null,null,null,null,null,{"$f":"CY2281+CZ2281+DA2281","v":20836.8},{"$f":"TEXT(TRUNC(CY2279,1),\"#,###.0\")","v":".0"},{"$f":"TEXT(TRUNC(CZ2279,1),\"#,###.0\")","v":".0"},{"$f":"TEXT(TRUNC(DA2279,1),\"#,###.0\")","v":"20,836.8"},null,null,null,null,null,null,null,null,null,null,null,""]
["",null,null," - 상차장비 : B/H ",null,null,null,null,null,null,null,null,null,null,null,null,null,null,{"$f":"TEXT(0.4,\"#,##0.0#######\")","v":"0.4"},null,"㎥"]
[null,null,null,null,null,"Cms",null,null,null,"=",null,{"$f":"TEXT(18,\"#,##0\")","v":"18"},null,null,"sec(90°)",null,null,null,null,null,",",null,null,null,null,"q1",null,null,"=",null,{"$f":"TEXT(S2287,\"#,##0.0#######\")","v":"0.4"},null,null,null,"m3",null,null,null,null,null,",",null,null,null,null,"Es",null,null,"=",null,{"$f":"TEXT(0.75,\"#,##0.00#######\")","v":"0.75"},null,null,null,null,",",null,null,null,"K",null,"=",null,{"$f":"TEXT(0.9,\"#,##0.0#######\")","v":"0.9"},null,null,null,null,null,null,null,null,null,null,null,null,null,null,null,null,null,null,null,null,null,null,null,null,null,null,null,null,null,null,null,null,null,null,null,null,null,null,null,null,null,null,null,null,null,null,null,null,null,null,null,null,""]
[""]
[""]
[null,"합",null,null,null,"계",null,null,null,null,null,null,null,null,null,null,null,null,null,null,null,null,null,null,null,null,null,null,null,null,null,null,null,null,null,null,null,null,null,null,null,null,null,null,null,null,null,null,null,null,null,null,null,null,null,null,null,null,null,null,null,null,null,null,null,null,null,null,null,null,null,null,null,null,null,null,null,null,null,null,null,null,null,null,null,null,null,null,null,null,null,null,null,null,null,null,null,null,null,null,null,{"$f":"CY2328+CZ2328+DA2328","v":14133.9},{"$f":"TEXT(TRUNC(CY2326,1),\"#,###.0\")","v":".0"},{"$f":"TEXT(TRUNC(CZ2326,1),\"#,###.0\")","v":".0"},{"$f":"TEXT(TRUNC(DA2326,1),\"#,###.0\")","v":"14,133.9"},null,null,null,null,null,null,null,null,null,null,null,""]
[null,null,null,null,null,"T",null,"=",null,{"$f":"TEXT(15,\"#,##0.0#######\")","v":"15.0"},null,null,null,null,",",null,null,null,"rt",null,null,"=",null,{"$f":"TEXT(1.6,\"#,##0.0#######\")","v":"1.6"},null,null,null,",",null,null,null,"L",null,"=",null,{"$f":"TEXT(1.25,\"#,##0.00#######\")","v":"1.25"},null,null,null,null,",",null,null,null,"E",null,"=",null,{"$f":"TEXT(0.9,\"#,##0.0#######\")","v":"0.9"},null,null,null,null,null,null,null,null,null,null,null,null,null,null,null,null,null,null,null,null,null,null,null,null,null,null,null,null,null,null,null,null,null,null,null,null,null,null,null,null,null,null,null,null,null,null,null,null,null,null,null,null,null,null,null,null,null,null,null,null,null,null,null,null,null,null,null,""]
[""]
[""]
["산근00600호표 ：잔토처리운반[집하장-김포]L=52.6km (DT 15TON) ㎥ 당",null,null,null,null,null,null,null,null,null,null,null,null,null,null,null,null,null,null,null,null,null,null,null,null,null,null,null,null,null,null,null,null,null,null,null,null,null,null,null,null,null,null,null,null,null,null,null,null,null,null,null,null,null,null,null,null,null,null,null,null,null,null,null,null,null,null,null,null,null,null,null,null,null,null,null,null,null,null,null,null,null,null,null,null,null,null,null,null,null,null,null,null,null,null,null,null,null,null,null,null,null,null,null,null,null,null,null,null,null,null,null,null,null,null,null,":SDC4112"]
[null,null,null,null,null,null,null,null,null,"L1",null,null,"=",null,{"$f":"TEXT(5.1,\"#,##0.0#######\")","v":"5.1"},null,null,null,"㎞",null,null,null,null,null,",",null,null,null,null,null,null,null,null,null,null,null,null,null,null,null,null,"L2",null,null,"=",null,{"$f":"TEXT(24.1,\"#,##0.0#######\")","v":"24.1"},null,null,null,null,"㎞",null,null,null,null,null,null,null,null,null,null,null,null,null,null,null,null,null,null,null,null,null,null,null,null,null,null,null,null,null,null,null,null,null,null,null,null,null,null,null,null,null,null,null,null,null,null,null,null,null,null,null,null,null,null,null,null,null,null,null,null,null,null,null,null,""]
[null,null,null,null,null,null,null,null,null,null,null,null,null,null,null,null,null,"V7",null,null,"=",null,{"$f":"TEXT(35,\"#,##0\")","v":"35"},null,null,"km",null,null,null,null,null,",",null,null,null,null,null,null,null,null,null,null,null,null,null,null,null,null,null,null,"V8",null,null,"=",null,{"$f":"TEXT(25,\"#,##0\")","v":"25"},null,null,"km",null,null,null,null,null,null,null,null,null,null,null,null,null,null,null,null,null,null,null,null,null,null,null,null,null,null,null,null,null,null,null,null,null,null,null,null,null,null,null,null,null,null,null,null,null,null,null,null,null,null,null,null,null,null,null,null,null,""]
[null,null,null,null,null,"n",null,"=",null,"q",null,"/",null,"(q1",null,null,null,"*",null,"K)",null,null,"=",null,{"$f":"TEXT(ROUND(Y2404/(AE2406*BL2406),1),\"#,##0.0#######\")","v":"18.6"},null,null,null,null,null,null,null,null,null,null,null,null,null,null,null,null,null,null,null,null,null,null,null,null,null,null,null,null,null,null,null,null,null,null,null,null,null,null,null,null,null,null,null,null,null,null,null,null,null,null,null,null,null,null,null,null,null,null,null,null,null,null,null,null,null,null,null,null,null,null,null,null,null,null,null,null,null,null,null,null,null,null,null,null,null,null,null,null,null,null,null,""]
[null,null,null,null,null,"Q",null,"=",null,"(",null,{"$f":"TEXT(60,\"#,##0\")","v":"60"},null,null,"*",null,"q",null,"*",null,"f",null,"*",null,"E)",null,null,"/",null,"Cm",null,null,"=",null,{"$f":"TEXT(ROUND((L2418*Y2404*AW2404*AU2402)/AJ2416,2),\"#,##0.00#######\")","v":"2.69"},null,null,null,null,null,null,null,null,null,null,null,null,null,null,null,null,null,null,null,null,null,null,null,null,null,null,null,null,null,null,null,null,null,null,null,null,null,null,null,null,null,null,null,null,null,null,null,null,null,null,null,null,null,null,null,null,null,null,null,null,null,null,null,null,null,null,null,null,null,null,null,null,null,null,null,null,null,null,null,null,null,""]
[""]
[""]
[""]
["가. 운반비(집하장 ---> 매립지 L=52.6㎞) DT(24T)"]
[null,null,null,null,null,"Q",null,"=",null,"(",null,{"$f":"TEXT(60,\"#,##0\")","v":"60"},null,null,"*",null,"q",null,"*",null,"f",null,"*",null,"E)",null,null,"/",null,"Cm",null,null,"=",null,{"$f":"TEXT(ROUND((L2473*Y2459*AW2459*AU2457)/AJ2471,2),\"#,##0.00#######\")","v":"4.21"},null,null,null,null,null,null,null,null,null,null,null,null,null,null,null,null,null,null,null,null,null,null,null,null,null,null,null,null,null,null,null,null,null,null,null,null,null,null,null,null,null,null,null,null,null,null,null,null,null,null,null,null,null,null,null,null,null,null,null,null,null,null,null,null,null,null,null,null,null,null,null,null,null,null,null,null,null,null,null,null,null,""]
["   ------------------------------------------------------------",null,null,null,null,null,null,null,null,null,null,null,null,null,null,null,null,null,null,null,null,null,null,null,null,null,null,null,null,null,null,null,null,null,null,null,null,null,null,null,null,null,null,null,null,null,null,null,null,null,null,null,null,null,null,null,null,null,null,null,null,null,null,null,null,null,null,null,null,null,null,null,null,null,null,null,null,null,null,null,null,null,null,null,null,null,null,null,null,null,null,null,null,null,null,null,null,null,null,null,null,null,null,null,null,null,null,null,null,null,null,null,null,null,null,null,""]
[null,null,null,null,null,"q1",null,null,"=",null,{"$f":"TEXT(1,\"#,##0\")","v":"1"},null,"대",null,null,null,null,null,",",null,null,"f",null,"=",null,{"$f":"TEXT(1,\"#,##0\")","v":"1"},null,",",null,"E",null,"=",null,{"$f":"TEXT(0.9,\"#,##0.0#######\")","v":"0.9"},null,null,null,",",null,"L",null,"=",null,{"$f":"TEXT(20,\"#,##0\")","v":"20"},null,null,"km",null,null,null,null,null,",",null,null,"Va",null,null,"=",null,{"$f":"TEXT(35,\"#,##0\")","v":"35"},null,null,"Km/hr",null,null,null,null,null,null,null,null,null,null,null,null,null,null,null,null,null,null,null,null,null,null,null,null,null,null,null,null,null,null,null,null,null,null,null,null,null,null,null,null,null,null,null,null,null,null,null,null,null,null,null,null,""]
[""]
[""]
["◈ 철근운반 (\\3-) ; TON당",null,null,null,null,null,null,null,null,null,null,null,null,null,null,null,null,null,null,null,null,null,null,null,null,null,null,null,null,null,null,null,null,null,null,null,null,null,null,null,null,null,null,null,null,null,null,null,null,null,null,null,null,null,null,null,null,null,null,null,null,null,null,null,null,null,null,null,null,null,null,null,null,null,null,null,null,null,null,null,null,null,null,null,null,null,null,null,null,null,null,null,null,null,null,null,null,null,null,null,null,{"$f":"CY2527+CZ2527+DA2527","v":0},null,null,null,null,null,null,null,null,null,null,null,null,null,null,""]
["   - 하차거리 : 5m     -운반거리 : 10m"]
[""]
[""]
["      계",null,null,null,null,null,null,null,null,null,null,null,null,null,null,null,null,null,null,null,null,null,null,null,null,null,null,null,null,null,null,null,null,null,null,null,null,null,null,null,null,null,null,null,null,null,null,null,null,null,null,null,null,null,null,null,null,null,null,null,null,null,null,null,null,null,null,null,null,null,null,null,null,null,null,null,null,null,null,null,null,null,null,null,null,null,null,null,null,null,null,null,null,null,null,null,null,null,null,null,null,{"$f":"TEXT(CY2561+CZ2561+DA2561,\"#,##0\")","v":"16,854"},{"$f":"TEXT(TRUNC(CY2559,0),\"#,##0\")","v":"0"},{"$f":"TEXT(TRUNC(CZ2559,0),\"#,##0\")","v":"0"},{"$f":"TEXT(TRUNC(DA2559,0),\"#,##0\")","v":"16,854"}]
[null,null,null,null,null,null,"경  비:",null,null,null,null,null,{"$f":"TEXT(TRUNC(건설기계!$M$398,0),\"#,##0\")","v":"3,129"},null,null,null,null,null,"/",null,"Q",null,"=",null,{"$f":"TEXT(ROUNDDOWN(M2576/K2570,1),\"#,##0.0#######\")","v":"312.9"},null,null,null,null,null,null,"\\/a",null,null,null,null,null,null,null,null,null,null,null,null,null,null,null,null,null,null,null,null,null,null,null,null,null,null,null,null,null,null,null,null,null,null,null,null,null,null,null,null,null,null,null,null,null,null,null,null,null,null,null,null,null,null,null,null,null,null,null,null,null,null,null,null,null,null,null,null,null,{"$f":"CY2576+CZ2576+DA2576","v":312.89999999999998},null,null,{"$f":"TEXT(Y2576,\"#,###.0\")","v":"312.9"},null,null,null,null,null,null,null,null,null,null,null,"D5205-0071"]
["   ------------------------------------------------------------",null,null,null,null,null,null,null,null,null,null,null,null,null,null,null,null,null,null,null,null,null,null,null,null,null,null,null,null,null,null,null,null,null,null,null,null,null,null,null,null,null,null,null,null,null,null,null,null,null,null,null,null,null,null,null,null,null,null,null,null,null,null,null,null,null,null,null,null,null,null,null,null,null,null,null,null,null,null,null,null,null,null,null,null,null,null,null,null,null,null,null,null,null,null,null,null,null,null,null,null,null,null,null,null,null,null,null,null,null,null,null,null,null,null,null,""]
[null,null,null,null,null,null,"Q",null,"=",null,{"$f":"TEXT(18,\"#,##0\")","v":"18"},null,null,"㎡/hr",null,null,null,null,null,null,null,null,null,null,null,null,null,null,null,null,null,null,null,null,null,null,null,null,null,null,null,null,null,null,null,null,null,null,null,null,null,null,null,null,null,null,null,null,null,null,null,null,null,null,null,null,null,null,null,null,null,null,null,null,null,null,null,null,null,null,null,null,null,null,null,null,null,null,null,null,null,null,null,null,null,null,null,null,null,null,null,null,null,null,null,null,null,null,null,null,null,null,null,null,null,null,""]
["  3) 기구손료(노무비의3%)"]
[""]
[""]
[""]
[null,"합",null,null,null,"계",null,null,null,null,null,null,null,null,null,null,null,null,null,null,null,null,null,null,null,null,null,null,null,null,null,null,null,null,null,null,null,null,null,null,null,null,null,null,null,null,null,null,null,null,null,null,null,null,null,null,null,null,null,null,null,null,null,null,null,null,null,null,null,null,null,null,null,null,null,null,null,null,null,null,null,null,null,null,null,null,null,null,null,null,null,null,null,null,null,null,null,null,null,null,null,{"$f":"CY2649+CZ2649+DA2649","v":335.2},{"$f":"TEXT(TRUNC(CY2645+CY2647,1),\"#,###.0\")","v":".0"},{"$f":"TEXT(TRUNC(CZ2645+CZ2647,1),\"#,###.0\")","v":".0"},{"$f":"TEXT(TRUNC(DA2645+DA2647,1),\"#,###.0\")","v":"335.2"},null,null,null,null,null,null,null,null,null,null,null,""]
["            E  : 작업효율(터파기시 0.05를 뺀 값으로 한다)"]
[""]
[""]
["                   f  : 흐트러진상태의 단가를 자연상태로 환산(1/L)"]
[""]
[""]
["   ------------------------------------------------------------",null,null,null,null,null,null,null,null,null,null,null,null,null,null,null,null,null,null,null,null,null,null,null,null,null,null,null,null,null,null,null,null,null,null,null,null,null,null,null,null,null,null,null,null,null,null,null,null,null,null,null,null,null,null,null,null,null,null,null,null,null,null,null,null,null,null,null,null,null,null,null,null,null,null,null,null,null,null,null,null,null,null,null,null,null,null,null,null,null,null,null,null,null,null,null,null,null,null,null,null,null,null,null,null,null,null,null,null,null,null,null,null,null,null,null,""]
[""]
[""]
[""]
[""]
["  1) 기계사용료(굴삭기0.4M3)"]
[null,null,null,null,null,null,"경  비 :",null,null,null,null,null,{"$f":"TEXT(TRUNC(건설기계!$M$63,0),\"#,##0\")","v":"15,429"},null,null,null,null,null,null,"/",null,null,"Q",null,"=",null,{"$f":"TEXT(ROUNDDOWN(M2786/I2776,1),\"#,##0.0#######\")","v":"4,675.4"},null,null,null,null,null,null,null,null,"<M3/HR>",null,null,null,null,null,null,null,null,null,null,null,null,null,null,null,null,null,null,null,null,null,null,null,null,null,null,null,null,null,null,null,null,null,null,null,null,null,null,null,null,null,null,null,null,null,null,null,null,null,null,null,null,null,null,null,null,null,null,null,null,null,null,null,null,null,{"$f":"CY2786+CZ2786+DA2786","v":4675.3999999999996},null,null,{"$f":"TEXT(AA2786,\"#,###.0\")","v":"4,675.4"},null,null,null,null,null,null,null,null,null,null,null,"D0201-0040"]
[null,null,null,null,null,"합",null,null,null,"계",null,null,null,null,null,null,null,null,null,null,null,null,null,null,null,null,null,null,null,null,null,null,null,null,null,null,null,null,null,null,null,null,null,null,null,null,null,null,null,null,null,null,null,null,null,null,null,null,null,null,null,null,null,null,null,null,null,null,null,null,null,null,null,null,null,null,null,null,null,null,null,null,null,null,null,null,null,null,null,null,null,null,null,null,null,null,null,null,null,null,null,{"$f":"CY2802+CZ2802+DA2802","v":29931.9},{"$f":"TEXT(TRUNC(CY2782+CY2784+CY2786+CY2790+CY2794+CY2798,1),\"#,###.0\")","v":"5,013.6"},{"$f":"TEXT(TRUNC(CZ2782+CZ2784+CZ2786+CZ2790+CZ2794+CZ2798,1),\"#,###.0\")","v":"18,768.4"},{"$f":"TEXT(TRUNC(DA2782+DA2784+DA2786+DA2790+DA2794+DA2798,1),\"#,###.0\")","v":"6,149.9"},null,null,null,null,null,null,null,null,null,null,null,""]
["   무근구조물(평균두께 30cm미만)"]
[" 2. 구조물헐기"]
["  2) 기계사용료(대형브레이카0.6M3)"]
[""]
[""]
[""]
[""]
["산근00710호표 ：콘크리트깨기[무근,두께30cm미만] (굴삭기0.8㎥+브레이카) ㎥ 당",null,null,null,null,null,null,null,null,null,null,null,null,null,null,null,null,null,null,null,null,null,null,null,null,null,null,null,null,null,null,null,null,null,null,null,null,null,null,null,null,null,null,null,null,null,null,null,null,null,null,null,null,null,null,null,null,null,null,null,null,null,null,null,null,null,null,null,null,null,null,null,null,null,null,null,null,null,null,null,null,null,null,null,null,null,null,null,null,null,null,null,null,null,null,null,null,null,null,null,null,null,null,null,null,null,null,null,null,null,null,null,null,null,null,null,":SDB1234"]
[""]
[null,null,null,null,null,null,"경  비 :",null,null,null,null,null,{"$f":"TEXT(TRUNC(건설기계!$M$118,0),\"#,##0\")","v":"13,197"},null,null,null,null,null,"/",null,null,"Q",null,"=",null,{"$f":"TEXT(ROUNDDOWN(M2907/I2893,1),\"#,##0.0#######\")","v":"2,537.8"},null,null,null,null,null,null,null,null,"<M3/HR>",null,null,null,null,null,null,null,null,null,null,null,null,null,null,null,null,null,null,null,null,null,null,null,null,null,null,null,null,null,null,null,null,null,null,null,null,null,null,null,null,null,null,null,null,null,null,null,null,null,null,null,null,null,null,null,null,null,null,null,null,null,null,null,null,null,null,{"$f":"CY2907+CZ2907+DA2907","v":2537.8000000000002},null,null,{"$f":"TEXT(Z2907,\"#,###.0\")","v":"2,537.8"},null,null,null,null,null,null,null,null,null,null,null,"D0230-0008"]
["  4) 치  즐 (0.7㎥용)"]
[]
[" 2. 구조물헐기"]
["  3) 작업보조"]
[]
[""]
[""]
[""]
["   ------------------------------------------------------------",null,null,null,null,null,null,null,null,null,null,null,null,null,null,null,null,null,null,null,null,null,null,null,null,null,null,null,null,null,null,null,null,null,null,null,null,null,null,null,null,null,null,null,null,null,null,null,null,null,null,null,null,null,null,null,null,null,null,null,null,null,null,null,null,null,null,null,null,null,null,null,null,null,null,null,null,null,null,null,null,null,null,null,null,null,null,null,null,null,null,null,null,null,null,null,null,null,null,null,null,null,null,null,null,null,null,null,null,null,null,null,null,null,null,null,""]
[""]
[""]
[null,null,null,null,null,null,"보통인부 :",null,null,null,null,{"$f":"TEXT(1,\"#,##0\")","v":"1"},null,"<인>",null,null,null,null,"*",null,{"$f":"TEXT(TRUNC(노임단가!$K$8,0),\"#,##0\")","v":"141,096"},null,null,null,null,null,null,"/",null,{"$f":"TEXT(8,\"#,##0\")","v":"8"},null,"<HR>",null,null,null,null,"/",null,null,"Q",null,"=",null,{"$f":"TEXT(ROUNDDOWN(L3028*U3028/AD3028/I3010,1),\"#,##0.0#######\")","v":"7,198.7"},null,null,null,null,null,null,null,null,"<M3/HR>",null,null,null,null,null,null,null,null,null,null,null,null,null,null,null,null,null,null,null,null,null,null,null,null,null,null,null,null,null,null,null,null,null,null,null,null,null,null,null,null,null,null,null,null,null,null,null,null,{"$f":"CY3028+CZ3028+DA3028","v":7198.7},null,{"$f":"TEXT(AR3028,\"#,###.0\")","v":"7,198.7"},null,null,null,null,null,null,null,null,null,null,null,null,"W1002"]
[" 1. 적용기준(조합기준 및 작업능력)"]
[null,null,null,null,null,null,"재료비 :",null,null,null,null,null,{"$f":"TEXT(TRUNC(건설기계!$I$84,0),\"#,##0\")","v":"24,334"},null,null,null,null,null,null,"/",null,null,"Q",null,"=",null,{"$f":"TEXT(ROUNDDOWN(M3055/I3049,1),\"#,##0.0#######\")","v":"8,391.0"},null,null,null,null,null,null,null,null,"<M3/HR>",null,null,null,null,null,null,null,null,null,null,null,null,null,null,null,null,null,null,null,null,null,null,null,null,null,null,null,null,null,null,null,null,null,null,null,null,null,null,null,null,null,null,null,null,null,null,null,null,null,null,null,null,null,null,null,null,null,null,null,null,null,null,null,null,null,{"$f":"CY3055+CZ3055+DA3055","v":8391},{"$f":"TEXT(AA3055,\"#,###.0\")","v":"8,391.0"},null,null,null,null,null,null,null,null,null,null,null,null,null,"D0201-0080"]
[""]
[null,null,null,null,null,"합",null,null,null,"계",null,null,null,null,null,null,null,null,null,null,null,null,null,null,null,null,null,null,null,null,null,null,null,null,null,null,null,null,null,null,null,null,null,null,null,null,null,null,null,null,null,null,null,null,null,null,null,null,null,null,null,null,null,null,null,null,null,null,null,null,null,null,null,null,null,null,null,null,null,null,null,null,null,null,null,null,null,null,null,null,null,null,null,null,null,null,null,null,null,null,null,{"$f":"CY3075+CZ3075+DA3075","v":43074.9},{"$f":"TEXT(TRUNC(CY3055+CY3057+CY3059+CY3063+CY3067+CY3071,1),\"#,###.0\")","v":"9,080.6"},{"$f":"TEXT(TRUNC(CZ3055+CZ3057+CZ3059+CZ3063+CZ3067+CZ3071,1),\"#,###.0\")","v":"21,357.2"},{"$f":"TEXT(TRUNC(DA3055+DA3057+DA3059+DA3063+DA3067+DA3071,1),\"#,###.0\")","v":"12,637.1"},null,null,null,null,null,null,null,null,null,null,null,""]
["           q  : 삽날의용량(m3)"]
["           f  : 토량환산계수"]
[null,null,"│운반거리(m)",null,null,null,null,null,null,null,null,null,null,null,null,null,"│",null,null,{"$f":"TEXT(10,\"#,##0\")","v":"10"},null,null,"이하│",null,null,null,null,null,null,{"$f":"TEXT(20,\"#,##0\")","v":"20"},null,null,"│",null,null,{"$f":"TEXT(30,\"#,##0\")","v":"30"},null,null,"│",null,null,{"$f":"TEXT(40,\"#,##0\")","v":"40"},null,null,"│",null,null,{"$f":"TEXT(50,\"#,##0\")","v":"50"},null,null,"│",null,null,{"$f":"TEXT(60,\"#,##0\")","v":"60"},null,null,"│",null,null,{"$f":"TEXT(70,\"#,##0\")","v":"70"},null,null,"│",null,null,{"$f":"TEXT(80,\"#,##0\")","v":"80"},null,null,"│",null,null,null,null,null,null,null,null,null,null,null,null,null,null,null,null,null,null,null,null,null,null,null,null,null,null,null,null,null,null,null,null,null,null,null,null,null,null,null,null,null,null,null,null,null,null,null,""]
[""]
[""]
["           q  : 흐트러진상태(L)"]
[""]
[null,"├──────────┼──┼─┼─┼─┼──┼─┼─┼─┤",null,null,null,null,null,null,null,null,null,null,null,null,null,null,null,null,null,null,null,null,null,null,null,null,null,null,null,null,null,null,null,null,null,null,null,null,null,null,null,null,null,null,null,null,null,null,null,null,null,null,null,null,null,null,null,null,null,null,null,null,null,null,null,null,null,null,null,null,null,null,null,null,null,null,null,null,null,null,null,null,null,null,null,null,null,null,null,null,null,null,null,null,null,null,null,null,null,null,null,null,null,null,null,null,null,null,null,null,null,null,null,null,null,null,""]
[null,"└──────────┴──┴─┴─┴─┴──┴─┴─┴─┘",null,null,null,null,null,null,null,null,null,null,null,null,null,null,null,null,null,null,null,null,null,null,null,null,null,null,null,null,null,null,null,null,null,null,null,null,null,null,null,null,null,null,null,null,null,null,null,null,null,null,null,null,null,null,null,null,null,null,null,null,null,null,null,null,null,null,null,null,null,null,null,null,null,null,null,null,null,null,null,null,null,null,null,null,null,null,null,null,null,null,null,null,null,null,null,null,null,null,null,null,null,null,null,null,null,null,null,null,null,null,null,null,null,null,""]
[""]
["           t  :  기어 변속시간(분)"]
[" 2. 중기사용료"]
["   ------------------------------------------------------------",null,null,null,null,null,null,null,null,null,null,null,null,null,null,null,null,null,null,null,null,null,null,null,null,null,null,null,null,null,null,null,null,null,null,null,null,null,null,null,null,null,null,null,null,null,null,null,null,null,null,null,null,null,null,null,null,null,null,null,null,null,null,null,null,null,null,null,null,null,null,null,null,null,null,null,null,null,null,null,null,null,null,null,null,null,null,null,null,null,null,null,null,null,null,null,null,null,null,null,null,null,null,null,null,null,null,null,null,null,null,null,null,null,null,null,""]
[""]
["   여기서, qo : 거리를 고려하지 않은 삽날의 용량(m3)"]
[""]
[""]
["   여기서, L  :  운반거리(m)"]
[null,null,null,null,null,"V2",null,null,"=",null,{"$f":"TEXT(43,\"#,##0\")","v":"43"},null,null,"<무한궤도32T,굴착후진1단속도(m/분)>",null,null,null,null,null,null,null,null,null,null,null,null,null,null,null,null,null,null,null,null,null,null,null,null,null,null,null,null,null,null,null,null,null,null,null,null,null,null,null,null,null,null,null,null,null,null,null,null,null,null,null,null,null,null,null,null,null,null,null,null,null,null,null,null,null,null,null,null,null,null,null,null,null,null,null,null,null,null,null,null,null,null,null,null,null,null,null,null,null,null,null,null,null,null,null,null,null,null,null,null,null,null,""]
[null,null,null,null,null,"경  비 :",null,null,null,null,null,{"$f":"TEXT(TRUNC(건설기계!$M$49,0),\"#,##0\")","v":"40,630"},null,null,null,null,null,null,"/",null,null,"Q",null,"<M3/HR>",null,null,null,null,"=",null,{"$f":"TEXT(ROUNDDOWN(L3284/AG3276,1),\"#,##0.0#######\")","v":"325.9"},null,null,null,null,null,null,null,null,null,null,null,null,null,null,null,null,null,null,null,null,null,null,null,null,null,null,null,null,null,null,null,null,null,null,null,null,null,null,null,null,null,null,null,null,null,null,null,null,null,null,null,null,null,null,null,null,null,null,null,null,null,null,null,null,null,null,null,null,null,null,{"$f":"CY3284+CZ3284+DA3284","v":325.89999999999998},null,null,{"$f":"TEXT(AE3284,\"#,###.0\")","v":"325.9"},null,null,null,null,null,null,null,null,null,null,null,"D0101-0032"]
[]
[""]
[""]
[""]
[null,null,null,null,null,null,"보통인부 :",null,null,null,null,null,{"$f":"TEXT(TRUNC(노임단가!$K$8,0),\"#,##0\")","v":"141,096"},null,null,null,null,null,null,"*",null,{"$f":"TEXT(0.4,\"#,##0.0#######\")","v":"0.4"},null,null,null,"*",null,{"$f":"TEXT(0.1,\"#,##0.0#######\")","v":"0.1"},null,null,null,"=",null,{"$f":"TEXT(ROUNDDOWN(M3342*V3342*AB3342,1),\"#,##0.0#######\")","v":"5,643.8"},null,null,null,null,null,null,null,null,"원/a",null,null,null,null,null,null,null,null,null,null,null,null,null,null,null,null,null,null,null,null,null,null,null,null,null,null,null,null,null,null,null,null,null,null,null,null,null,null,null,null,null,null,null,null,null,null,null,null,null,null,null,null,null,null,null,null,null,null,{"$f":"CY3342+CZ3342+DA3342","v":5643.8},null,{"$f":"TEXT(AH3342,\"#,###.0\")","v":"5,643.8"},null,null,null,null,null,null,null,null,null,null,null,null,"W1002"]
[""]
[""]
[null,null,null,null,null,"경  비 :",null,null,null,null,null,{"$f":"TEXT(TRUNC(건설기계!$M$203,0),\"#,##0\")","v":"9,198"},null,null,null,null,null,"/",null,"A1",null,null,"=",null,{"$f":"TEXT(ROUNDDOWN(L3368/BP3362,1),\"#,##0.0#######\")","v":"2,479.2"},null,null,null,null,null,null,null,null,"원/a",null,null,null,null,null,null,null,null,null,null,null,null,null,null,null,null,null,null,null,null,null,null,null,null,null,null,null,null,null,null,null,null,null,null,null,null,null,null,null,null,null,null,null,null,null,null,null,null,null,null,null,null,null,null,null,null,null,null,null,null,null,null,null,null,null,null,null,{"$f":"CY3368+CZ3368+DA3368","v":2479.1999999999998},null,null,{"$f":"TEXT(Y3368,\"#,###.0\")","v":"2,479.2"},null,null,null,null,null,null,null,null,null,null,null,"D1206-0008"]
[""]
[""]
[""]
["   (1)인력 (10%)"]
[""]
[null,"계",null,null,null,null,null,null,null,null,null,null,null,null,null,null,null,null,null,null,null,null,null,null,null,null,null,null,null,null,null,null,null,null,null,null,null,null,null,null,null,null,null,null,null,null,null,null,null,null,null,null,null,null,null,null,null,null,null,null,null,null,null,null,null,null,null,null,null,null,null,null,null,null,null,null,null,null,null,null,null,null,null,null,null,null,null,null,null,null,null,null,null,null,null,null,null,null,null,null,null,{"$f":"CY3437+CZ3437+DA3437","v":42119.399999999994},{"$f":"TEXT(TRUNC(CY3435,1),\"#,###.0\")","v":"1,837.1"},{"$f":"TEXT(TRUNC(CZ3435,1),\"#,###.0\")","v":"38,482.1"},{"$f":"TEXT(TRUNC(DA3435,1),\"#,###.0\")","v":"1,800.2"},null,null,null,null,null,null,null,null,null,null,null,""]
[null,null,null,null,"A",null,"=",null,{"$f":"TEXT(1000,\"#,##0\")","v":"1,000"},null,null,null,null,"*",null,"V",null,"*",null,"w",null,"*",null,"E",null,"/",null,"N",null,"=",null,{"$f":"TEXT(ROUND(I3445*I3443*S3443*AE3443/AR3443,2),\"#,##0.00#######\")","v":"371.25"},null,null,null,null,null,null,null,"㎡/hr",null,null,null,null,null,null,null,null,null,null,null,null,null,null,null,null,null,null,null,null,null,null,null,null,null,null,null,null,null,null,null,null,null,null,null,null,null,null,null,null,null,null,null,null,null,null,null,null,null,null,null,null,null,null,null,null,null,null,null,null,null,null,null,null,null,null,null,null,null,null,null,null,null,null,null,null,""]
[""]
[null,null,null,null,null,null,null,"노 무 비 :",null,null,null,null,null,{"$f":"TEXT(TRUNC(건설기계!$K$231,0),\"#,##0\")","v":"44,299"},null,null,null,null,null,null,"/",null,"A",null,"=",null,{"$f":"TEXT(ROUNDDOWN(N3469/AT3465,1),\"#,##0.0#######\")","v":"21,094.7"},null,null,null,null,null,null,null,null,null,null,null,null,null,null,null,null,null,null,null,null,null,null,null,null,null,null,null,null,null,null,null,null,null,null,null,null,null,null,null,null,null,null,null,null,null,null,null,null,null,null,null,null,null,null,null,null,null,null,null,null,null,null,null,null,null,null,null,null,null,null,null,null,null,null,{"$f":"CY3469+CZ3469+DA3469","v":21094.7},null,{"$f":"TEXT(AA3469,\"#,###.0\")","v":"21,094.7"},null,null,null,null,null,null,null,null,null,null,null,null,"D1306-0025"]
[""]
["◈ 투수콘크리트 포설및다짐 (T=7cm,#13mm) ; a당",null,null,null,null,null,null,null,null,null,null,null,null,null,null,null,null,null,null,null,null,null,null,null,null,null,null,null,null,null,null,null,null,null,null,null,null,null,null,null,null,null,null,null,null,null,null,null,null,null,null,null,null,null,null,null,null,null,null,null,null,null,null,null,null,null,null,null,null,null,null,null,null,null,null,null,null,null,null,null,null,null,null,null,null,null,null,null,null,null,null,null,null,null,null,null,null,null,null,null,null,{"$f":"CY3484+CZ3484+DA3484","v":0},null,null,null,null,null,null,null,null,null,null,null,null,null,null,""]
[""]
["   ------------------------------------------------------------",null,null,null,null,null,null,null,null,null,null,null,null,null,null,null,null,null,null,null,null,null,null,null,null,null,null,null,null,null,null,null,null,null,null,null,null,null,null,null,null,null,null,null,null,null,null,null,null,null,null,null,null,null,null,null,null,null,null,null,null,null,null,null,null,null,null,null,null,null,null,null,null,null,null,null,null,null,null,null,null,null,null,null,null,null,null,null,null,null,null,null,null,null,null,null,null,null,null,null,null,null,null,null,null,null,null,null,null,null,null,null,null,null,null,null,""]
["  2)다짐"]
[""]
[null,null,null,null,"A1",null,null,"=",null,"A",null,"/",null,{"$f":"TEXT(100,\"#,##0\")","v":"100"},null,null,null,"=",null,{"$f":"TEXT(ROUND(AF3540/N3542,1),\"#,##0.0#######\")","v":"0.9"},null,null,null,null,"a/hr",null,null,null,null,null,null,null,null,null,null,null,null,null,null,null,null,null,null,null,null,null,null,null,null,null,null,null,null,null,null,null,null,null,null,null,null,null,null,null,null,null,null,null,null,null,null,null,null,null,null,null,null,null,null,null,null,null,null,null,null,null,null,null,null,null,null,null,null,null,null,null,null,null,null,null,null,null,null,null,null,null,null,null,null,null,null,null,null,null,null,null,""]
[""]
[]
[""]
[null,null,null,null,null,null,"노무비 :",null,null,null,null,null,{"$f":"TEXT(TRUNC(건설기계!$K$63,0),\"#,##0\")","v":"44,299"},null,null,null,null,null,null,"/",null,"Q",null,"*",null,{"$f":"TEXT(10,\"#,##0\")","v":"10"},null,null,"*",null,{"$f":"TEXT(0.9,\"#,##0.0#######\")","v":"0.9"},null,null,null,"=",null,{"$f":"TEXT(ROUNDDOWN(M3583/AL3579*Z3583*AE3583,1),\"#,##0.0#######\")","v":"9,740.8"},null,null,null,null,null,null,null,null,"원/a",null,null,null,null,null,null,null,null,null,null,null,null,null,null,null,null,null,null,null,null,null,null,null,null,null,null,null,null,null,null,null,null,null,null,null,null,null,null,null,null,null,null,null,null,null,null,null,null,null,null,null,null,null,null,null,{"$f":"CY3583+CZ3583+DA3583","v":9740.7999999999993},null,{"$f":"TEXT(AK3583,\"#,###.0\")","v":"9,740.8"},null,null,null,null,null,null,null,null,null,null,null,null,"D0201-0040"]
["  2)다짐"]
[null,null,null,null,null,"노무비 :",null,null,null,null,null,{"$f":"TEXT(TRUNC(건설기계!$K$203,0),\"#,##0\")","v":"44,299"},null,null,null,null,null,null,"/",null,"A1",null,null,"=",null,{"$f":"TEXT(ROUNDDOWN(L3605/T3601,1),\"#,##0.0#######\")","v":"11,940.4"},null,null,null,null,null,null,null,null,"원/a",null,null,null,null,null,null,null,null,null,null,null,null,null,null,null,null,null,null,null,null,null,null,null,null,null,null,null,null,null,null,null,null,null,null,null,null,null,null,null,null,null,null,null,null,null,null,null,null,null,null,null,null,null,null,null,null,null,null,null,null,null,null,null,null,null,null,{"$f":"CY3605+CZ3605+DA3605","v":11940.4},null,{"$f":"TEXT(Z3605,\"#,###.0\")","v":"11,940.4"},null,null,null,null,null,null,null,null,null,null,null,null,"D1206-0008"]
[""]
[""]
[""]
[""]
[null,null,null,null,null,null,"재료비 :",null,null,null,null,null,{"$f":"TEXT(TRUNC(건설기계!$I$70,0),\"#,##0\")","v":"16,223"},null,null,null,null,null,null,"/",null,null,"Q",null,"<M3/HR>",null,null,null,null,"=",null,{"$f":"TEXT(ROUNDDOWN(M3652/U3642,1),\"#,##0.0#######\")","v":"1,013.9"},null,null,null,null,null,null,null,null,null,null,null,null,null,null,null,null,null,null,null,null,null,null,null,null,null,null,null,null,null,null,null,null,null,null,null,null,null,null,null,null,null,null,null,null,null,null,null,null,null,null,null,null,null,null,null,null,null,null,null,null,null,null,null,null,null,null,null,null,null,{"$f":"CY3652+CZ3652+DA3652","v":1013.9},{"$f":"TEXT(AF3652,\"#,###.0\")","v":"1,013.9"},null,null,null,null,null,null,null,null,null,null,null,null,null,"D0201-0060"]
[null,null,null,null,null,null,"보통인부 :",null,null,null,null,{"$f":"TEXT(1,\"#,##0\")","v":"1"},null,"<인>",null,null,null,null,"*",null,{"$f":"TEXT(TRUNC(노임단가!$K$8,0),\"#,##0\")","v":"141,096"},null,null,null,null,null,null,"/",null,{"$f":"TEXT(8,\"#,##0\")","v":"8"},null,"<HR>",null,null,null,null,"/",null,null,"Q",null,"<M3/HR>",null,null,null,null,"=",null,{"$f":"TEXT(ROUNDDOWN(L3660*U3660/AD3660/U3642,1),\"#,##0.0#######\")","v":"1,102.3"},null,null,null,null,null,null,null,null,null,null,null,null,null,null,null,null,null,null,null,null,null,null,null,null,null,null,null,null,null,null,null,null,null,null,null,null,null,null,null,null,null,null,null,null,null,null,null,null,null,null,null,null,{"$f":"CY3660+CZ3660+DA3660","v":1102.3},null,{"$f":"TEXT(AW3660,\"#,###.0\")","v":"1,102.3"},null,null,null,null,null,null,null,null,null,null,null,null,"W1002"]
[""]
[" 2. 구조물헐기"]
[null,null,null,null,null,null,"경  비 :",null,null,null,null,null,{"$f":"TEXT(TRUNC(건설기계!$M$102,0),\"#,##0\")","v":"2,656"},null,null,null,null,null,"/",null,null,"Q",null,"<M3/HR>",null,null,null,null,"=",null,{"$f":"TEXT(ROUNDDOWN(M3693/U3679,1),\"#,##0.0#######\")","v":"647.8"},null,null,null,null,null,null,null,null,null,null,null,null,null,null,null,null,null,null,null,null,null,null,null,null,null,null,null,null,null,null,null,null,null,null,null,null,null,null,null,null,null,null,null,null,null,null,null,null,null,null,null,null,null,null,null,null,null,null,null,null,null,null,null,null,null,null,null,null,null,null,{"$f":"CY3693+CZ3693+DA3693","v":647.79999999999995},null,null,{"$f":"TEXT(AE3693,\"#,###.0\")","v":"647.8"},null,null,null,null,null,null,null,null,null,null,null,"D0230-0006"]
[]
["  1) 기계사용료(굴삭기0.4M3)"]
[""]
[""]
[" 1. 적용기준(조합기준 및 작업능력)"]
[""]
[""]
["      계",null,null,null,null,null,null,null,null,null,null,null,null,null,null,null,null,null,null,null,null,null,null,null,null,null,null,null,null,null,null,null,null,null,null,null,null,null,null,null,null,null,null,null,null,null,null,null,null,null,null,null,null,null,null,null,null,null,null,null,null,null,null,null,null,null,null,null,null,null,null,null,null,null,null,null,null,null,null,null,null,null,null,null,null,null,null,null,null,null,null,null,null,null,null,null,null,null,null,null,null,{"$f":"TEXT(CY3783+CZ3783+DA3783,\"#,##0\")","v":"7,138"},{"$f":"TEXT(TRUNC(CY3781,0),\"#,##0\")","v":"1,278"},{"$f":"TEXT(TRUNC(CZ3781,0),\"#,##0\")","v":"3,870"},{"$f":"TEXT(TRUNC(DA3781,0),\"#,##0\")","v":"1,990"}]
[""]
[null,null,null,null,null,null,"노무비 :",null,null,null,null,null,{"$f":"TEXT(TRUNC(건설기계!$K$84,0),\"#,##0\")","v":"44,299"},null,null,null,null,null,null,"/",null,null,"Q",null,"<M3/HR>",null,null,null,null,"=",null,{"$f":"TEXT(ROUNDDOWN(M3798/U3790,1),\"#,##0.0#######\")","v":"2,768.6"},null,null,null,null,null,null,null,null,null,null,null,null,null,null,null,null,null,null,null,null,null,null,null,null,null,null,null,null,null,null,null,null,null,null,null,null,null,null,null,null,null,null,null,null,null,null,null,null,null,null,null,null,null,null,null,null,null,null,null,null,null,null,null,null,null,null,null,null,null,{"$f":"CY3798+CZ3798+DA3798","v":2768.6},null,{"$f":"TEXT(AF3798,\"#,###.0\")","v":"2,768.6"},null,null,null,null,null,null,null,null,null,null,null,null,"D0201-0080"]
[null,null,null,null,null,null,"보통인부 :",null,null,null,null,{"$f":"TEXT(1,\"#,##0\")","v":"1"},null,"<인>",null,null,null,null,"*",null,{"$f":"TEXT(TRUNC(노임단가!$K$8,0),\"#,##0\")","v":"141,096"},null,null,null,null,null,null,"/",null,{"$f":"TEXT(8,\"#,##0\")","v":"8"},null,"<HR>",null,null,null,null,"/",null,null,"Q",null,"<M3/HR>",null,null,null,null,"=",null,{"$f":"TEXT(ROUNDDOWN(L3808*U3808/AD3808/U3790,1),\"#,##0.0#######\")","v":"1,102.3"},null,null,null,null,null,null,null,null,null,null,null,null,null,null,null,null,null,null,null,null,null,null,null,null,null,null,null,null,null,null,null,null,null,null,null,null,null,null,null,null,null,null,null,null,null,null,null,null,null,null,null,null,{"$f":"CY3808+CZ3808+DA3808","v":1102.3},null,{"$f":"TEXT(AW3808,\"#,###.0\")","v":"1,102.3"},null,null,null,null,null,null,null,null,null,null,null,null,"W1002"]
["      계",null,null,null,null,null,null,null,null,null,null,null,null,null,null,null,null,null,null,null,null,null,null,null,null,null,null,null,null,null,null,null,null,null,null,null,null,null,null,null,null,null,null,null,null,null,null,null,null,null,null,null,null,null,null,null,null,null,null,null,null,null,null,null,null,null,null,null,null,null,null,null,null,null,null,null,null,null,null,null,null,null,null,null,null,null,null,null,null,null,null,null,null,null,null,null,null,null,null,null,null,{"$f":"TEXT(CY3820+CZ3820+DA3820,\"#,##0\")","v":"7,805"},{"$f":"TEXT(TRUNC(CY3818,0),\"#,##0\")","v":"1,645"},{"$f":"TEXT(TRUNC(CZ3818,0),\"#,##0\")","v":"3,870"},{"$f":"TEXT(TRUNC(DA3818,0),\"#,##0\")","v":"2,290"}]
["   ------------------------------------------------------------",null,null,null,null,null,null,null,null,null,null,null,null,null,null,null,null,null,null,null,null,null,null,null,null,null,null,null,null,null,null,null,null,null,null,null,null,null,null,null,null,null,null,null,null,null,null,null,null,null,null,null,null,null,null,null,null,null,null,null,null,null,null,null,null,null,null,null,null,null,null,null,null,null,null,null,null,null,null,null,null,null,null,null,null,null,null,null,null,null,null,null,null,null,null,null,null,null,null,null,null,null,null,null,null,null,null,null,null,null,null,null,null,null,null,null,""]
[""]
[""]
["산근00870호표 ：포장깨기[콘크리트] (굴삭기0.2㎥+브레이카) ㎥ 당",null,null,null,null,null,null,null,null,null,null,null,null,null,null,null,null,null,null,null,null,null,null,null,null,null,null,null,null,null,null,null,null,null,null,null,null,null,null,null,null,null,null,null,null,null,null,null,null,null,null,null,null,null,null,null,null,null,null,null,null,null,null,null,null,null,null,null,null,null,null,null,null,null,null,null,null,null,null,null,null,null,null,null,null,null,null,null,null,null,null,null,null,null,null,null,null,null,null,null,null,null,null,null,null,null,null,null,null,null,null,null,null,null,null,null,":SDB2131"]
["   2) 기계사용료(대형브레이카0.2M3)"]
[""]
[""]
[""]
["   3) 작업보조"]
["      계",null,null,null,null,null,null,null,null,null,null,null,null,null,null,null,null,null,null,null,null,null,null,null,null,null,null,null,null,null,null,null,null,null,null,null,null,null,null,null,null,null,null,null,null,null,null,null,null,null,null,null,null,null,null,null,null,null,null,null,null,null,null,null,null,null,null,null,null,null,null,null,null,null,null,null,null,null,null,null,null,null,null,null,null,null,null,null,null,null,null,null,null,null,null,null,null,null,null,null,null,{"$f":"TEXT(CY3933+CZ3933+DA3933,\"#,##0\")","v":"29,930"},{"$f":"TEXT(TRUNC(CY3931,0),\"#,##0\")","v":"5,013"},{"$f":"TEXT(TRUNC(CZ3931,0),\"#,##0\")","v":"18,768"},{"$f":"TEXT(TRUNC(DA3931,0),\"#,##0\")","v":"6,149"}]
[]
[""]
["   3) 작업보조"]
[null,null,null,null,null,"소",null,null,null,"계",null,null,null,null,null,null,null,null,null,null,null,null,null,null,null,null,null,null,null,null,null,null,null,null,null,null,null,null,null,null,null,null,null,null,null,null,null,null,null,null,null,null,null,null,null,null,null,null,null,null,null,null,null,null,null,null,null,null,null,null,null,null,null,null,null,null,null,null,null,null,null,null,null,null,null,null,null,null,null,null,null,null,null,null,null,null,null,null,null,null,null,{"$f":"CY3966+CZ3966+DA3966","v":27333.8},{"$f":"TEXT(TRUNC(CY3946+CY3948+CY3950+CY3954+CY3958+CY3962,1),\"#,###.0\")","v":"4,605.7"},{"$f":"TEXT(TRUNC(CZ3946+CZ3948+CZ3950+CZ3954+CZ3958+CZ3962,1),\"#,###.0\")","v":"15,483.9"},{"$f":"TEXT(TRUNC(DA3946+DA3948+DA3950+DA3954+DA3958+DA3962,1),\"#,###.0\")","v":"7,244.2"},null,null,null,null,null,null,null,null,null,null,null,""]
[null,null,null,null,null,null,"경  비 :",null,null,null,null,null,{"$f":"TEXT(TRUNC(건설기계!$M$77,0),\"#,##0\")","v":"21,780"},null,null,null,null,null,null,"/",null,null,"Q",null,"<M3/HR>",null,null,null,null,"=",null,{"$f":"TEXT(ROUNDDOWN(M3983/S3977,1),\"#,##0.0#######\")","v":"4,734.7"},null,null,null,null,null,null,null,null,null,null,null,null,null,null,null,null,null,null,null,null,null,null,null,null,null,null,null,null,null,null,null,null,null,null,null,null,null,null,null,null,null,null,null,null,null,null,null,null,null,null,null,null,null,null,null,null,null,null,null,null,null,null,null,null,null,null,null,null,null,{"$f":"CY3983+CZ3983+DA3983","v":4734.7},null,null,{"$f":"TEXT(AF3983,\"#,###.0\")","v":"4,734.7"},null,null,null,null,null,null,null,null,null,null,null,"D0201-0070"]
[""]
[""]
[null,null,null,null,null," 대형브레이카 + 굴삭기0.8M3",null,null,null,null,null,",",null,null,"Q",null,"=",null,{"$f":"TEXT(5.2,\"#,##0.00#######\")","v":"5.20"},null,null,null,null,"<M3/HR>",null,null,null,null,null,null,null,null,null,null,null,null,null,null,null,null,null,null,null,null,null,null,null,null,null,null,null,null,null,null,null,null,null,null,null,null,null,null,null,null,null,null,null,null,null,null,null,null,null,null,null,null,null,null,null,null,null,null,null,null,null,null,null,null,null,null,null,null,null,null,null,null,null,null,null,null,null,null,null,null,null,null,null,null,null,null,null,null,null,null,null,null,""]
[null,null,null,null,null,null,"재료비 :",null,null,null,null,null,{"$f":"TEXT(TRUNC(건설기계!$I$84,0),\"#,##0\")","v":"24,334"},null,null,null,null,null,null,"/",null,null,"Q",null,"<M3/HR>",null,null,null,null,"=",null,{"$f":"TEXT(ROUNDDOWN(M4024/S4014,1),\"#,##0.0#######\")","v":"4,679.6"},null,null,null,null,null,null,null,null,null,null,null,null,null,null,null,null,null,null,null,null,null,null,null,null,null,null,null,null,null,null,null,null,null,null,null,null,null,null,null,null,null,null,null,null,null,null,null,null,null,null,null,null,null,null,null,null,null,null,null,null,null,null,null,null,null,null,null,null,null,{"$f":"CY4024+CZ4024+DA4024","v":4679.6000000000004},{"$f":"TEXT(AF4024,\"#,###.0\")","v":"4,679.6"},null,null,null,null,null,null,null,null,null,null,null,null,null,"D0201-0080"]
[""]
["산근00920호표 ：파쇄물처리상차[기계] (굴삭기0.7㎥) ㎥ 당",null,null,null,null,null,null,null,null,null,null,null,null,null,null,null,null,null,null,null,null,null,null,null,null,null,null,null,null,null,null,null,null,null,null,null,null,null,null,null,null,null,null,null,null,null,null,null,null,null,null,null,null,null,null,null,null,null,null,null,null,null,null,null,null,null,null,null,null,null,null,null,null,null,null,null,null,null,null,null,null,null,null,null,null,null,null,null,null,null,null,null,null,null,null,null,null,null,null,null,null,null,null,null,null,null,null,null,null,null,null,null,null,null,null,null,":S0039"]
[""]
[null,null,null,null,"E",null,"=",null,{"$f":"TEXT(0.45,\"#,##0.00#######\")","v":"0.45"},null,null,null,null,null,null,null,null,null,null,null,null,null,null,null,null,null,null,null,null,null,null,null,null,null,null,null,null,null,null,null,null,null,null,null,null,null,null,null,null,null,null,null,null,null,null,null,null,null,null,null,null,null,null,null,null,null,null,null,null,null,null,null,null,null,null,null,null,null,null,null,null,null,null,null,null,null,null,null,null,null,null,null,null,null,null,null,null,null,null,null,null,null,null,null,null,null,null,null,null,null,null,null,null,null,null,null,""]
["      계",null,null,null,null,null,null,null,null,null,null,null,null,null,null,null,null,null,null,null,null,null,null,null,null,null,null,null,null,null,null,null,null,null,null,null,null,null,null,null,null,null,null,null,null,null,null,null,null,null,null,null,null,null,null,null,null,null,null,null,null,null,null,null,null,null,null,null,null,null,null,null,null,null,null,null,null,null,null,null,null,null,null,null,null,null,null,null,null,null,null,null,null,null,null,null,null,null,null,null,null,{"$f":"TEXT(CY4077+CZ4077+DA4077,\"#,##0\")","v":"3,816"},{"$f":"TEXT(TRUNC(CY4075,0),\"#,##0\")","v":"833"},{"$f":"TEXT(TRUNC(CZ4075,0),\"#,##0\")","v":"2,000"},{"$f":"TEXT(TRUNC(DA4075,0),\"#,##0\")","v":"983"}]
[""]
[""]
["      계",null,null,null,null,null,null,null,null,null,null,null,null,null,null,null,null,null,null,null,null,null,null,null,null,null,null,null,null,null,null,null,null,null,null,null,null,null,null,null,null,null,null,null,null,null,null,null,null,null,null,null,null,null,null,null,null,null,null,null,null,null,null,null,null,null,null,null,null,null,null,null,null,null,null,null,null,null,null,null,null,null,null,null,null,null,null,null,null,null,null,null,null,null,null,null,null,null,null,null,null,{"$f":"TEXT(CY4110+CZ4110+DA4110,\"#,##0\")","v":"5,366"},{"$f":"TEXT(TRUNC(CY4108,0),\"#,##0\")","v":"1,119"},{"$f":"TEXT(TRUNC(CZ4108,0),\"#,##0\")","v":"3,150"},{"$f":"TEXT(TRUNC(DA4108,0),\"#,##0\")","v":"1,097"}]
[null,null,null,null,"qo",null,null,"=",null,{"$f":"TEXT(0.2,\"#,##0.0#######\")","v":"0.2"},null,null,null,null,null,null,null,null,null,null,null,null,null,null,null,null,null,null,null,null,null,null,null,null,null,null,null,null,null,null,null,null,null,null,null,null,null,null,null,null,null,null,null,null,null,null,null,null,null,null,null,null,null,null,null,null,null,null,null,null,null,null,null,null,null,null,null,null,null,null,null,null,null,null,null,null,null,null,null,null,null,null,null,null,null,null,null,null,null,null,null,null,null,null,null,null,null,null,null,null,null,null,null,null,null,null,""]
[null,null,null,null,"E",null,"=",null,{"$f":"TEXT(0.45,\"#,##0.00#######\")","v":"0.45"},null,null,null,null,null,null,null,null,null,null,null,null,null,null,null,null,null,null,null,null,null,null,null,null,null,null,null,null,null,null,null,null,null,null,null,null,null,null,null,null,null,null,null,null,null,null,null,null,null,null,null,null,null,null,null,null,null,null,null,null,null,null,null,null,null,null,null,null,null,null,null,null,null,null,null,null,null,null,null,null,null,null,null,null,null,null,null,null,null,null,null,null,null,null,null,null,null,null,null,null,null,null,null,null,null,null,null,""]
["산근00950호표 ：폐기물상차비 (적치장상차[굴삭기0.7㎥]) TON 당",null,null,null,null,null,null,null,null,null,null,null,null,null,null,null,null,null,null,null,null,null,null,null,null,null,null,null,null,null,null,null,null,null,null,null,null,null,null,null,null,null,null,null,null,null,null,null,null,null,null,null,null,null,null,null,null,null,null,null,null,null,null,null,null,null,null,null,null,null,null,null,null,null,null,null,null,null,null,null,null,null,null,null,null,null,null,null,null,null,null,null,null,null,null,null,null,null,null,null,null,null,null,null,null,null,null,null,null,null,null,null,null,null,null,null,":S0128"]
[" 1. 폐기물상차"]
[null,null,null,null,"E",null,"=",null,{"$f":"TEXT(0.45,\"#,##0.00#######\")","v":"0.45"},null,null,null,null,null,null,null,null,null,null,null,null,null,null,null,null,null,null,null,null,null,null,null,null,null,null,null,null,null,null,null,null,null,null,null,null,null,null,null,null,null,null,null,null,null,null,null,null,null,null,null,null,null,null,null,null,null,null,null,null,null,null,null,null,null,null,null,null,null,null,null,null,null,null,null,null,null,null,null,null,null,null,null,null,null,null,null,null,null,null,null,null,null,null,null,null,null,null,null,null,null,null,null,null,null,null,null,""]
[""]
[""]
[""]
[" 가. 운반비(현장 ---> 집하장 L=3.0㎞)"]
[null,null,null,null,null,"Cm",null,null,"=",null,"t1",null,null,"+",null,"t2",null,null,"+",null,"t3",null,null,"+",null,"t4",null,null,"+",null,"t5",null,null,"=",null,{"$f":"TEXT(ROUND(Y4214+BQ4214+K4216+X4216+AK4216,2),\"#,##0.00#######\")","v":"39.71"},null,null,null,null,null,null,null,null,null,null,null,null,null,null,null,null,null,null,null,null,null,null,null,null,null,null,null,null,null,null,null,null,null,null,null,null,null,null,null,null,null,null,null,null,null,null,null,null,null,null,null,null,null,null,null,null,null,null,null,null,null,null,null,null,null,null,null,null,null,null,null,null,null,null,null,null,null,null,null,null,""]
[""]
["",null,null," - 상차장비 : B/H ",null,null,null,null,null,null,null,null,null,null,null,null,null,null,{"$f":"TEXT(0.2,\"#,##0.0#######\")","v":"0.2"},null,"㎥"]
[""]
[null,null,null,null,null,"Cms",null,null,null,"=",null,{"$f":"TEXT(15,\"#,##0\")","v":"15"},null,null,"sec(90°)",null,null,null,null,null,",",null,null,null,null,"q1",null,null,"=",null,{"$f":"TEXT(S4240,\"#,##0.0#######\")","v":"0.2"},null,null,null,"m3",null,null,null,null,null,",",null,null,null,null,"Es",null,null,"=",null,{"$f":"TEXT(0.45,\"#,##0.00#######\")","v":"0.45"},null,null,null,null,",",null,null,null,"K",null,"=",null,{"$f":"TEXT(0.55,\"#,##0.0#######\")","v":"0.55"},null,null,null,null,null,null,null,null,null,null,null,null,null,null,null,null,null,null,null,null,null,null,null,null,null,null,null,null,null,null,null,null,null,null,null,null,null,null,null,null,null,null,null,null,null,null,null,null,null,null,null,null,""]
[""]
[null,null,null,null,null,null,"경    비:",null,null,null,null,null,{"$f":"TEXT(TRUNC(건설기계!$M$153,0),\"#,##0\")","v":"6,873"},null,null,null,null,null,"/",null,"Q",null,"=",null,{"$f":"TEXT(ROUNDDOWN(M4275/AI4269,1),\"#,##0.0#######\")","v":"2,306.3"},null,null,null,null,null,null,null,null,null,null,null,null,null,null,null,null,null,null,null,null,null,null,null,null,null,null,null,null,null,null,null,null,null,null,null,null,null,null,null,null,null,null,null,null,null,null,null,null,null,null,null,null,null,null,null,null,null,null,null,null,null,null,null,null,null,null,null,null,null,null,null,null,null,null,null,null,{"$f":"CY4275+CZ4275+DA4275","v":2306.3000000000002},null,null,{"$f":"TEXT(Y4275,\"#,###.0\")","v":"2,306.3"},null,null,null,null,null,null,null,null,null,null,null,"D0602-0045"]
["",null,null," - 상차장비 : B/H ",null,null,null,null,null,null,null,null,null,null,null,null,null,null,{"$f":"TEXT(0.4,\"#,##0.0#######\")","v":"0.4"},null,"㎥"]
[null,null,null,null,null,"Cms",null,null,null,"=",null,{"$f":"TEXT(15,\"#,##0\")","v":"15"},null,null,"sec(90°)",null,null,null,null,null,",",null,null,null,null,"q1",null,null,"=",null,{"$f":"TEXT(S4287,\"#,##0.0#######\")","v":"0.4"},null,null,null,"m3",null,null,null,null,null,",",null,null,null,null,"Es",null,null,"=",null,{"$f":"TEXT(0.45,\"#,##0.00#######\")","v":"0.45"},null,null,null,null,",",null,null,null,"K",null,"=",null,{"$f":"TEXT(0.55,\"#,##0.0#######\")","v":"0.55"},null,null,null,null,null,null,null,null,null,null,null,null,null,null,null,null,null,null,null,null,null,null,null,null,null,null,null,null,null,null,null,null,null,null,null,null,null,null,null,null,null,null,null,null,null,null,null,null,null,null,null,null,""]
[""]
[""]
[null,"합",null,null,null,"계",null,null,null,null,null,null,null,null,null,null,null,null,null,null,null,null,null,null,null,null,null,null,null,null,null,null,null,null,null,null,null,null,null,null,null,null,null,null,null,null,null,null,null,null,null,null,null,null,null,null,null,null,null,null,null,null,null,null,null,null,null,null,null,null,null,null,null,null,null,null,null,null,null,null,null,null,null,null,null,null,null,null,null,null,null,null,null,null,null,null,null,null,null,null,null,{"$f":"CY4328+CZ4328+DA4328","v":9844.7000000000007},{"$f":"TEXT(TRUNC(CY4326,1),\"#,###.0\")","v":".0"},{"$f":"TEXT(TRUNC(CZ4326,1),\"#,###.0\")","v":".0"},{"$f":"TEXT(TRUNC(DA4326,1),\"#,###.0\")","v":"9,844.7"},null,null,null,null,null,null,null,null,null,null,null,""]
[null,null,null,null,null,"T",null,"=",null,{"$f":"TEXT(15,\"#,##0\")","v":"15"},null,null,",",null,null,null,"rt",null,null,"=",null,{"$f":"TEXT(2.3,\"#,##0.0#######\")","v":"2.3"},null,null,null,",",null,null,null,"L",null,"=",null,{"$f":"TEXT(1.4,\"#,##0.0#######\")","v":"1.4"},null,null,null,",",null,null,null,"E",null,"=",null,{"$f":"TEXT(0.9,\"#,##0.0#######\")","v":"0.9"},null,null,null,null,null,null,null,null,null,null,null,null,null,null,null,null,null,null,null,null,null,null,null,null,null,null,null,null,null,null,null,null,null,null,null,null,null,null,null,null,null,null,null,null,null,null,null,null,null,null,null,null,null,null,null,null,null,null,null,null,null,null,null,null,null,null,null,null,null,null,""]
[""]
[""]
[null,null,null,null,null,"소",null,null,null,"계",null,null,null,null,null,null,null,null,null,null,null,null,null,null,null,null,null,null,null,null,null,null,null,null,null,null,null,null,null,null,null,null,null,null,null,null,null,null,null,null,null,null,null,null,null,null,null,null,null,null,null,null,null,null,null,null,null,null,null,null,null,null,null,null,null,null,null,null,null,null,null,null,null,null,null,null,null,null,null,null,null,null,null,null,null,null,null,null,null,null,null,{"$f":"CY4373+CZ4373+DA4373","v":8085.5},{"$f":"TEXT(TRUNC(CY4365+CY4367+CY4369,1),\"#,###.0\")","v":".0"},{"$f":"TEXT(TRUNC(CZ4365+CZ4367+CZ4369,1),\"#,###.0\")","v":".0"},{"$f":"TEXT(TRUNC(DA4365+DA4367+DA4369,1),\"#,###.0\")","v":"8,085.5"},null,null,null,null,null,null,null,null,null,null,null,""]
[null,null,null,null,null,null,null,null,null,"V1",null,null,"=",null,{"$f":"TEXT(20,\"#,##0\")","v":"20"},null,null,"km",null,null,null,null,null,null,",",null,null,"V2",null,null,"=",null,{"$f":"TEXT(25,\"#,##0\")","v":"25"},null,null,"KM",null,null,null,null,null,null,null,null,null,null,null,null,null,null,null,null,null,null,null,null,null,null,null,null,null,null,null,null,null,null,null,null,null,null,null,null,null,null,null,null,null,null,null,null,null,null,null,null,null,null,null,null,null,null,null,null,null,null,null,null,null,null,null,null,null,null,null,null,null,null,null,null,null,null,null,null,null,null,null,null,""]
[" 가. 운반비(현장 ---> 집하장 L=5.0㎞)"]
[null,null,null,null,null,null,"노 무 비:",null,null,null,null,null,{"$f":"TEXT(TRUNC(건설기계!$K$146,0),\"#,##0\")","v":"36,224"},null,null,null,null,null,null,"/",null,"Q",null,"=",null,{"$f":"TEXT(ROUNDDOWN(M4408/AI4404,1),\"#,##0.0#######\")","v":"31,499.1"},null,null,null,null,null,null,null,null,null,null,null,null,null,null,null,null,null,null,null,null,null,null,null,null,null,null,null,null,null,null,null,null,null,null,null,null,null,null,null,null,null,null,null,null,null,null,null,null,null,null,null,null,null,null,null,null,null,null,null,null,null,null,null,null,null,null,null,null,null,null,null,null,null,null,null,{"$f":"CY4408+CZ4408+DA4408","v":31499.1},null,null,{"$f":"TEXT(Z4408,\"#,###.0\")","v":"31,499.1"},null,null,null,null,null,null,null,null,null,null,null,"D0602-0025"]
[]
[null,null,null,null,null,null,null,null,null,"L1",null,null,"=",null,{"$f":"TEXT(5,\"#,##0.0#######\")","v":"5.0"},null,null,null,"㎞",null,null,null,null,null,null,null,null,null,null,null,null,null,null,null,null,null,null,null,null,null,null,null,null,null,null,null,null,null,null,null,null,null,null,null,null,null,null,null,null,null,null,null,null,null,null,null,null,null,null,null,null,null,null,null,null,null,null,null,null,null,null,null,null,null,null,null,null,null,null,null,null,null,null,null,null,null,null,null,null,null,null,null,null,null,null,null,null,null,null,null,null,null,null,null,null,null,""]
[null,null,null,null,null,"T",null,"=",null,{"$f":"TEXT(4.5,\"#,##0.0#######\")","v":"4.5"},null,null,null,",",null,null,null,"rt",null,null,"=",null,{"$f":"TEXT(2.3,\"#,##0.0#######\")","v":"2.3"},null,null,null,",",null,null,null,"L",null,"=",null,{"$f":"TEXT(1.4,\"#,##0.0#######\")","v":"1.4"},null,null,null,",",null,null,null,"E",null,"=",null,{"$f":"TEXT(0.9,\"#,##0.0#######\")","v":"0.9"},null,null,null,null,null,null,null,null,null,null,null,null,null,null,null,null,null,null,null,null,null,null,null,null,null,null,null,null,null,null,null,null,null,null,null,null,null,null,null,null,null,null,null,null,null,null,null,null,null,null,null,null,null,null,null,null,null,null,null,null,null,null,null,null,null,null,null,null,null,""]
[""]
[null,null,null,null,null,null,"노 무 비:",null,null,null,null,null,{"$f":"TEXT(TRUNC(건설기계!$K$153,0),\"#,##0\")","v":"36,224"},null,null,null,null,null,null,"/",null,"Q",null,"=",null,{"$f":"TEXT(ROUNDDOWN(M4455/AI4451,1),\"#,##0.0#######\")","v":"15,887.7"},null,null,null,null,null,null,null,null,null,null,null,null,null,null,null,null,null,null,null,null,null,null,null,null,null,null,null,null,null,null,null,null,null,null,null,null,null,null,null,null,null,null,null,null,null,null,null,null,null,null,null,null,null,null,null,null,null,null,null,null,null,null,null,null,null,null,null,null,null,null,null,null,null,null,null,{"$f":"CY4455+CZ4455+DA4455","v":15887.7},null,null,{"$f":"TEXT(Z4455,\"#,###.0\")","v":"15,887.7"},null,null,null,null,null,null,null,null,null,null,null,"D0602-0045"]
["산근01030호표 ：파쇄물처리운반[L=5Km] (BH0.4+DT 8.0TON) ㎥ 당",null,null,null,null,null,null,null,null,null,null,null,null,null,null,null,null,null,null,null,null,null,null,null,null,null,null,null,null,null,null,null,null,null,null,null,null,null,null,null,null,null,null,null,null,null,null,null,null,null,null,null,null,null,null,null,null,null,null,null,null,null,null,null,null,null,null,null,null,null,null,null,null,null,null,null,null,null,null,null,null,null,null,null,null,null,null,null,null,null,null,null,null,null,null,null,null,null,null,null,null,null,null,null,null,null,null,null,null,null,null,null,null,null,null,null,":SDC4313-011"]
[""]
[null,null,null,null,null,"Cms",null,null,null,"=",null,{"$f":"TEXT(15,\"#,##0\")","v":"15"},null,null,"sec(90°)",null,null,null,null,null,",",null,null,null,null,"q1",null,null,"=",null,{"$f":"TEXT(S4469,\"#,##0.0#######\")","v":"0.4"},null,null,null,"m3",null,null,null,null,null,",",null,null,null,null,"Es",null,null,"=",null,{"$f":"TEXT(0.45,\"#,##0.00#######\")","v":"0.45"},null,null,null,null,",",null,null,null,"K",null,"=",null,{"$f":"TEXT(0.55,\"#,##0.0#######\")","v":"0.55"},null,null,null,null,null,null,null,null,null,null,null,null,null,null,null,null,null,null,null,null,null,null,null,null,null,null,null,null,null,null,null,null,null,null,null,null,null,null,null,null,null,null,null,null,null,null,null,null,null,null,null,null,""]
[null,null,null,null,null,"P",null,"(재료비율)",null,null,null,null,null,"=",null,"(t2",null,null,null,"+",null,"t3",null,null,"+",null,"t4",null,null,")",null,"/",null,"Cm",null,null,"=",null,{"$f":"TEXT(ROUND((BR4490+K4492+X4492)/AJ4494,2),\"#,##0.00#######\")","v":"0.64"},null,null,null,null,null,null,null,null,null,null,null,null,null,null,null,null,null,null,null,null,null,null,null,null,null,null,null,null,null,null,null,null,null,null,null,null,null,null,null,null,null,null,null,null,null,null,null,null,null,null,null,null,null,null,null,null,null,null,null,null,null,null,null,null,null,null,null,null,null,null,null,null,null,null,null,null,null,""]
[]
[null,null,null,null,null,null,null,null,null,"L1",null,null,"=",null,{"$f":"TEXT(5,\"#,##0.0#######\")","v":"5.0"},null,null,null,"㎞",null,null,null,null,null,null,null,null,null,null,null,null,null,null,null,null,null,null,null,null,null,null,null,null,null,null,null,null,null,null,null,null,null,null,null,null,null,null,null,null,null,null,null,null,null,null,null,null,null,null,null,null,null,null,null,null,null,null,null,null,null,null,null,null,null,null,null,null,null,null,null,null,null,null,null,null,null,null,null,null,null,null,null,null,null,null,null,null,null,null,null,null,null,null,null,null,null,""]
[""]
[""]
[""]
[""]
[""]
[null,null,null,null,null,"Q",null,"=",null,"(",null,{"$f":"TEXT(60,\"#,##0\")","v":"60"},null,null,"*",null,"q",null,"*",null,"f",null,"*",null,"E)",null,null,"/",null,"Cm",null,null,"=",null,{"$f":"TEXT(ROUND((L4586*Y4576*AW4576*AU4574)/AJ4582,2),\"#,##0.00#######\")","v":"0.95"},null,null,null,null,null,null,null,null,null,null,null,null,null,null,null,null,null,null,null,null,null,null,null,null,null,null,null,null,null,null,null,null,null,null,null,null,null,null,null,null,null,null,null,null,null,null,null,null,null,null,null,null,null,null,null,null,null,null,null,null,null,null,null,null,null,null,null,null,null,null,null,null,null,null,null,null,null,null,null,null,null,""]
[null,"합",null,null,null,"계",null,null,null,null,null,null,null,null,null,null,null,null,null,null,null,null,null,null,null,null,null,null,null,null,null,null,null,null,null,null,null,null,null,null,null,null,null,null,null,null,null,null,null,null,null,null,null,null,null,null,null,null,null,null,null,null,null,null,null,null,null,null,null,null,null,null,null,null,null,null,null,null,null,null,null,null,null,null,null,null,null,null,null,null,null,null,null,null,null,null,null,null,null,null,null,{"$f":"CY4598+CZ4598+DA4598","v":47841.9},{"$f":"TEXT(TRUNC(CY4596,1),\"#,###.0\")","v":".0"},{"$f":"TEXT(TRUNC(CZ4596,1),\"#,###.0\")","v":".0"},{"$f":"TEXT(TRUNC(DA4596,1),\"#,###.0\")","v":"47,841.9"},null,null,null,null,null,null,null,null,null,null,null,""]
[]
[null,null,null,null,null,"T",null,"=",null,{"$f":"TEXT(4.5,\"#,##0.0#######\")","v":"4.5"},null,null,null,",",null,null,null,"rt",null,null,"=",null,{"$f":"TEXT(2.3,\"#,##0.0#######\")","v":"2.3"},null,null,null,",",null,null,null,"L",null,"=",null,{"$f":"TEXT(1.4,\"#,##0.0#######\")","v":"1.4"},null,null,null,",",null,null,null,"E",null,"=",null,{"$f":"TEXT(0.9,\"#,##0.0#######\")","v":"0.9"},null,null,null,null,null,null,null,null,null,null,null,null,null,null,null,null,null,null,null,null,null,null,null,null,null,null,null,null,null,null,null,null,null,null,null,null,null,null,null,null,null,null,null,null,null,null,null,null,null,null,null,null,null,null,null,null,null,null,null,null,null,null,null,null,null,null,null,null,null,""]
[null,null,null,null,null,"t1",null,null,"=",null,"(Cms",null,null,null,null,"*",null,"n)",null,null,"/",null,"(",null,{"$f":"TEXT(60,\"#,##0\")","v":"60"},null,null,"*",null,"Es)",null,null,null,"=",null,{"$f":"TEXT(ROUND((L4619*Y4621)/(Y4623*AY4619),2),\"#,##0.00#######\")","v":"13.83"},null,null,null,null,null,null,null,null,null,null,null,null,null,null,null,null,null,null,null,null,null,null,null,null,null,null,null,null,null,null,null,null,null,null,null,null,null,null,null,null,null,null,null,null,null,null,null,null,null,null,null,null,null,null,null,null,null,null,null,null,null,null,null,null,null,null,null,null,null,null,null,null,null,null,null,null,null,null,null,null,""]
[""]
["산근01070호표 ：파쇄물처리운반[L=7Km] (BH0.4+DT 8.0TON) ㎥ 당",null,null,null,null,null,null,null,null,null,null,null,null,null,null,null,null,null,null,null,null,null,null,null,null,null,null,null,null,null,null,null,null,null,null,null,null,null,null,null,null,null,null,null,null,null,null,null,null,null,null,null,null,null,null,null,null,null,null,null,null,null,null,null,null,null,null,null,null,null,null,null,null,null,null,null,null,null,null,null,null,null,null,null,null,null,null,null,null,null,null,null,null,null,null,null,null,null,null,null,null,null,null,null,null,null,null,null,null,null,null,null,null,null,null,null,":SDC4313-012"]
[""]
[""]
[""]
[null,"합",null,null,null,"계",null,null,null,null,null,null,null,null,null,null,null,null,null,null,null,null,null,null,null,null,null,null,null,null,null,null,null,null,null,null,null,null,null,null,null,null,null,null,null,null,null,null,null,null,null,null,null,null,null,null,null,null,null,null,null,null,null,null,null,null,null,null,null,null,null,null,null,null,null,null,null,null,null,null,null,null,null,null,null,null,null,null,null,null,null,null,null,null,null,null,null,null,null,null,null,{"$f":"CY4692+CZ4692+DA4692","v":17098.099999999999},{"$f":"TEXT(TRUNC(CY4690,1),\"#,###.0\")","v":".0"},{"$f":"TEXT(TRUNC(CZ4690,1),\"#,###.0\")","v":".0"},{"$f":"TEXT(TRUNC(DA4690,1),\"#,###.0\")","v":"17,098.1"},null,null,null,null,null,null,null,null,null,null,null,""]
["산근01080호표 ：파쇄물처리운반[L=7Km] (BH0.6+DT 15TON) ㎥ 당",null,null,null,null,null,null,null,null,null,null,null,null,null,null,null,null,null,null,null,null,null,null,null,null,null,null,null,null,null,null,null,null,null,null,null,null,null,null,null,null,null,null,null,null,null,null,null,null,null,null,null,null,null,null,null,null,null,null,null,null,null,null,null,null,null,null,null,null,null,null,null,null,null,null,null,null,null,null,null,null,null,null,null,null,null,null,null,null,null,null,null,null,null,null,null,null,null,null,null,null,null,null,null,null,null,null,null,null,null,null,null,null,null,null,null,":SDC43132-012"]
[null,null,null,null,null,"T",null,"=",null,{"$f":"TEXT(15,\"#,##0\")","v":"15"},null,null,",",null,null,null,"rt",null,null,"=",null,{"$f":"TEXT(2.3,\"#,##0.0#######\")","v":"2.3"},null,null,null,",",null,null,null,"L",null,"=",null,{"$f":"TEXT(1.4,\"#,##0.0#######\")","v":"1.4"},null,null,null,",",null,null,null,"E",null,"=",null,{"$f":"TEXT(0.9,\"#,##0.0#######\")","v":"0.9"},null,null,null,null,null,null,null,null,null,null,null,null,null,null,null,null,null,null,null,null,null,null,null,null,null,null,null,null,null,null,null,null,null,null,null,null,null,null,null,null,null,null,null,null,null,null,null,null,null,null,null,null,null,null,null,null,null,null,null,null,null,null,null,null,null,null,null,null,null,null,""]
[""]
[""]
[null,null,null,null,null,"소",null,null,null,"계",null,null,null,null,null,null,null,null,null,null,null,null,null,null,null,null,null,null,null,null,null,null,null,null,null,null,null,null,null,null,null,null,null,null,null,null,null,null,null,null,null,null,null,null,null,null,null,null,null,null,null,null,null,null,null,null,null,null,null,null,null,null,null,null,null,null,null,null,null,null,null,null,null,null,null,null,null,null,null,null,null,null,null,null,null,null,null,null,null,null,null,{"$f":"CY4737+CZ4737+DA4737","v":13730.7},{"$f":"TEXT(TRUNC(CY4729+CY4731+CY4733,1),\"#,###.0\")","v":".0"},{"$f":"TEXT(TRUNC(CZ4729+CZ4731+CZ4733,1),\"#,###.0\")","v":".0"},{"$f":"TEXT(TRUNC(DA4729+DA4731+DA4733,1),\"#,###.0\")","v":"13,730.7"},null,null,null,null,null,null,null,null,null,null,null,""]
[" 가. 운반비(현장 ---> 집하장 L=9.0㎞)"]
[""]
[""]
[null,"합",null,null,null,"계",null,null,null,null,null,null,null,null,null,null,null,null,null,null,null,null,null,null,null,null,null,null,null,null,null,null,null,null,null,null,null,null,null,null,null,null,null,null,null,null,null,null,null,null,null,null,null,null,null,null,null,null,null,null,null,null,null,null,null,null,null,null,null,null,null,null,null,null,null,null,null,null,null,null,null,null,null,null,null,null,null,null,null,null,null,null,null,null,null,null,null,null,null,null,null,{"$f":"CY4780+CZ4780+DA4780","v":56432.9},{"$f":"TEXT(TRUNC(CY4778,1),\"#,###.0\")","v":".0"},{"$f":"TEXT(TRUNC(CZ4778,1),\"#,###.0\")","v":".0"},{"$f":"TEXT(TRUNC(DA4778,1),\"#,###.0\")","v":"56,432.9"},null,null,null,null,null,null,null,null,null,null,null,""]
[" 가. 운반비(현장 ---> 집하장 L=9.0㎞)"]
[null,null,null,null,null,null,null,null,null,null,null,null,null,null,null,null,null,null,null,null,null,null,null,null,null,null,null,null,null,null,null,null,null,null,null,null,"t2",null,null,"=",null,"(L1",null,null,null,"/",null,"V1",null,null,"+",null,"L1",null,null,"/",null,"V2",null,null,")",null,"*",null,{"$f":"TEXT(60,\"#,##0\")","v":"60"},null,null,"=",null,{"$f":"TEXT(ROUND((O4787/O4791+O4787/AG4791)*BM4807,2),\"#,##0.00#######\")","v":"48.60"},null,null,null,null,null,null,null,null,null,null,null,null,null,null,null,null,null,null,null,null,null,null,null,null,null,null,null,null,null,null,null,null,null,null,null,null,null,null,null,null,null,null,null,null,null,null,""]
[null,null,null,null,null,null,"재 료 비:",null,null,null,null,null,{"$f":"TEXT(TRUNC(건설기계!$I$153,0),\"#,##0\")","v":"8,995"},null,null,null,null,null,"/",null,"Q",null,"*",null,"P",null,"=",null,{"$f":"TEXT(ROUNDDOWN(M4817/AI4815*AM4813,1),\"#,##0.0#######\")","v":"4,294.3"},null,null,null,null,null,null,null,null,null,null,null,null,null,null,null,null,null,null,null,null,null,null,null,null,null,null,null,null,null,null,null,null,null,null,null,null,null,null,null,null,null,null,null,null,null,null,null,null,null,null,null,null,null,null,null,null,null,null,null,null,null,null,null,null,null,null,null,null,null,null,null,null,{"$f":"CY4817+CZ4817+DA4817","v":4294.3},null,null,{"$f":"TEXT(AC4817,\"#,###.0\")","v":"4,294.3"},null,null,null,null,null,null,null,null,null,null,null,"D0602-0045"]
[null,"합",null,null,null,"계",null,null,null,null,null,null,null,null,null,null,null,null,null,null,null,null,null,null,null,null,null,null,null,null,null,null,null,null,null,null,null,null,null,null,null,null,null,null,null,null,null,null,null,null,null,null,null,null,null,null,null,null,null,null,null,null,null,null,null,null,null,null,null,null,null,null,null,null,null,null,null,null,null,null,null,null,null,null,null,null,null,null,null,null,null,null,null,null,null,null,null,null,null,null,null,{"$f":"CY4827+CZ4827+DA4827","v":32098.7},{"$f":"TEXT(TRUNC(CY4825,1),\"#,###.0\")","v":".0"},{"$f":"TEXT(TRUNC(CZ4825,1),\"#,###.0\")","v":".0"},{"$f":"TEXT(TRUNC(DA4825,1),\"#,###.0\")","v":"32,098.7"},null,null,null,null,null,null,null,null,null,null,null,""]
["1. 파쇄물처리"]
[""]
[""]
[null,null,null,null,null,null,"재 료 비:",null,null,null,null,null,{"$f":"TEXT(TRUNC(건설기계!$I$160,0),\"#,##0\")","v":"16,731"},null,null,null,null,null,null,"/",null,"Q",null,"*",null,"P",null,"=",null,{"$f":"TEXT(ROUNDDOWN(M4864/AI4862*AM4860,1),\"#,##0.0#######\")","v":"4,509.0"},null,null,null,null,null,null,null,null,null,null,null,null,null,null,null,null,null,null,null,null,null,null,null,null,null,null,null,null,null,null,null,null,null,null,null,null,null,null,null,null,null,null,null,null,null,null,null,null,null,null,null,null,null,null,null,null,null,null,null,null,null,null,null,null,null,null,null,null,null,null,null,{"$f":"CY4864+CZ4864+DA4864","v":4509},null,null,{"$f":"TEXT(AD4864,\"#,###.0\")","v":"4,509.0"},null,null,null,null,null,null,null,null,null,null,null,"D0602-0080"]
[""]
[""]
[""]
[null,null,null,null,null,"P",null,"(재료비율)",null,null,null,null,null,"=",null,"(t2",null,null,null,"+",null,"t3",null,null,"+",null,"t4",null,null,")",null,"/",null,"Cm",null,null,"=",null,{"$f":"TEXT(ROUND((BS4901+K4903+X4903)/AJ4905,2),\"#,##0.00#######\")","v":"0.72"},null,null,null,null,null,null,null,null,null,null,null,null,null,null,null,null,null,null,null,null,null,null,null,null,null,null,null,null,null,null,null,null,null,null,null,null,null,null,null,null,null,null,null,null,null,null,null,null,null,null,null,null,null,null,null,null,null,null,null,null,null,null,null,null,null,null,null,null,null,null,null,null,null,null,null,null,null,""]
[]
[null,"E",null,"=",null,{"$f":"TEXT(0.45,\"#,##0.00#######\")","v":"0.45"},null,null,null,null,null,null,null,null,null,null,null,null,null,null,null,null,null,null,null,null,null,null,null,null,null,null,null,null,null,null,null,null,null,null,null,null,null,null,null,null,null,null,null,null,null,null,null,null,null,null,null,null,null,null,null,null,null,null,null,null,null,null,null,null,null,null,null,null,null,null,null,null,null,null,null,null,null,null,null,null,null,null,null,null,null,null,null,null,null,null,null,null,null,null,null,null,null,null,null,null,null,null,null,null,null,null,null,null,null,null,""]
[null,"합",null,null,null,"계",null,null,null,null,null,null,null,null,null,null,null,null,null,null,null,null,null,null,null,null,null,null,null,null,null,null,null,null,null,null,null,null,null,null,null,null,null,null,null,null,null,null,null,null,null,null,null,null,null,null,null,null,null,null,null,null,null,null,null,null,null,null,null,null,null,null,null,null,null,null,null,null,null,null,null,null,null,null,null,null,null,null,null,null,null,null,null,null,null,null,null,null,null,null,null,{"$f":"CY4948+CZ4948+DA4948","v":7674.2999999999993},{"$f":"TEXT(TRUNC(CY4940+CY4942+CY4944,1),\"#,###.0\")","v":"935.5"},{"$f":"TEXT(TRUNC(CZ4940+CZ4942+CZ4944,1),\"#,###.0\")","v":"5,254.9"},{"$f":"TEXT(TRUNC(DA4940+DA4942+DA4944,1),\"#,###.0\")","v":"1,483.9"},null,null,null,null,null,null,null,null,null,null,null,""]
[null,"q",null,null,"바켓용량",null,null,null,null,null,"=",null,{"$f":"TEXT(0.4,\"#,##0.0#######\")","v":"0.4"},null,null,null,null,null,null,null,null,null,null,null,null,null,null,null,null,null,null,null,null,null,null,null,null,null,null,null,null,null,null,null,null,null,null,null,null,null,null,null,null,null,null,null,null,null,null,null,null,null,null,null,null,null,null,null,null,null,null,null,null,null,null,null,null,null,null,null,null,null,null,null,null,null,null,null,null,null,null,null,null,null,null,null,null,null,null,null,null,null,null,null,null,null,null,null,null,null,null,null,null,null,null,null,""]
[null,"cm",null,null,null,"1회 싸이클시간",null,null,null,null,null,"=",null,{"$f":"TEXT(15,\"#,##0\")","v":"15"},null,null,null,null,null,null,null,null,null,null,null,null,null,null,null,null,null,null,null,null,null,null,null,null,null,null,null,null,null,null,null,null,null,null,null,null,null,null,null,null,null,null,null,null,null,null,null,null,null,null,null,null,null,null,null,null,null,null,null,null,null,null,null,null,null,null,null,null,null,null,null,null,null,null,null,null,null,null,null,null,null,null,null,null,null,null,null,null,null,null,null,null,null,null,null,null,null,null,null,null,null,null,""]
[""]
[""]
[""]
[""]
[""]
[null,null,null,"n",null,"=",null,"Qt",null,null,"/",null,"(q",null,null,"*",null,"k)",null,null,"=",null,{"$f":"TEXT(ROUND(X5030/(H5026*H5028),1),\"#,##0.0#######\")","v":"41.5"},null,null,null,null,null,"(적재 소요회수(회/대))",null,null,null,null,null,null,null,null,null,null,null,null,null,null,null,null,null,null,null,null,null,null,null,null,null,null,null,null,null,null,null,null,null,null,null,null,null,null,null,null,null,null,null,null,null,null,null,null,null,null,null,null,null,null,null,null,null,null,null,null,null,null,null,null,null,null,null,null,null,null,null,null,null,null,null,null,null,null,null,null,null,null,null,null,null,null,null,""]
[""]
[""]
[""]
[""]
[""]
[""]
[null,null,null,"Cms",null,null,null,"=",null,{"$f":"TEXT(16,\"#,##0.0#######\")","v":"16.0"},null,null,null,null,null,"적재기계의 1회 사이클 시간(초)",null,null,null,null,null,null,null,null,null,null,null,null,null,null,null,null,null,null,null,null,null,null,null,null,null,null,null,null,null,null,null,null,null,null,null,null,null,null,null,null,null,null,null,null,null,null,null,null,null,null,null,null,null,null,null,null,null,null,null,null,null,null,null,null,null,null,null,null,null,null,null,null,null,null,null,null,null,null,null,null,null,null,null,null,null,null,null,null,null,null,null,null,null,null,null,null,null,null,null,null,""]
[""]
[""]
["      계",null,null,null,null,null,null,null,null,null,null,null,null,null,null,null,null,null,null,null,null,null,null,null,null,null,null,null,null,null,null,null,null,null,null,null,null,null,null,null,null,null,null,null,null,null,null,null,null,null,null,null,null,null,null,null,null,null,null,null,null,null,null,null,null,null,null,null,null,null,null,null,null,null,null,null,null,null,null,null,null,null,null,null,null,null,null,null,null,null,null,null,null,null,null,null,null,null,null,null,null,{"$f":"TEXT(CY5131+CZ5131+DA5131,\"#,##0\")","v":"12,299"},{"$f":"TEXT(TRUNC(CY5129,0),\"#,##0\")","v":"0"},{"$f":"TEXT(TRUNC(CZ5129,0),\"#,##0\")","v":"0"},{"$f":"TEXT(TRUNC(DA5129,0),\"#,##0\")","v":"12,299"}]
[null,null,null,null,null,"노무비 :",null,null,null,null,null,{"$f":"TEXT(TRUNC(건설기계!$K$343,0),\"#,##0\")","v":"44,299"},null,null,null,null,null,null,"/",null,"Q2",null,null,"*",null,{"$f":"TEXT(100,\"#,##0\")","v":"100"},null,null,null,"=",null,{"$f":"TEXT(ROUNDDOWN(L5148/BF5144*Z5148,1),\"#,##0.0#######\")","v":"14,459.7"},null,null,null,null,null,null,null,null,null,null,null,null,null,null,null,null,null,null,null,null,null,null,null,null,null,null,null,null,null,null,null,null,null,null,null,null,null,null,null,null,null,null,null,null,null,null,null,null,null,null,null,null,null,null,null,null,null,null,null,null,null,null,null,null,null,null,null,null,null,{"$f":"CY5148+CZ5148+DA5148","v":14459.7},null,{"$f":"TEXT(AF5148,\"#,###.0\")","v":"14,459.7"},null,null,null,null,null,null,null,null,null,null,null,null,"D3430-0300"]
[]
["1. 진동롤러(핸드가이드식 0.7TON)"]
[""]
[""]
[""]
[""]
["◈ 혼합기층전압 (T=20Cm(롤러8-15T) ; a당",null,null,null,null,null,null,null,null,null,null,null,null,null,null,null,null,null,null,null,null,null,null,null,null,null,null,null,null,null,null,null,null,null,null,null,null,null,null,null,null,null,null,null,null,null,null,null,null,null,null,null,null,null,null,null,null,null,null,null,null,null,null,null,null,null,null,null,null,null,null,null,null,null,null,null,null,null,null,null,null,null,null,null,null,null,null,null,null,null,null,null,null,null,null,null,null,null,null,null,null,{"$f":"CY5221+CZ5221+DA5221","v":0},null,null,null,null,null,null,null,null,null,null,null,null,null,null,""]
[""]
[""]
[null,null,null,null,null,null,null,"노무비:",null,null,null,null,null,{"$f":"TEXT(TRUNC(건설기계!$K$259,0),\"#,##0\")","v":"44,299"},null,null,null,null,null,null,"/",null,"A",null,"=",null,{"$f":"TEXT(ROUNDDOWN(N5247/BP5243,1),\"#,##0.0#######\")","v":"12,305.2"},null,null,null,null,null,null,null,null,null,null,null,null,null,null,null,null,null,null,null,null,null,null,null,null,null,null,null,null,null,null,null,null,null,null,null,null,null,null,null,null,null,null,null,null,null,null,null,null,null,null,null,null,null,null,null,null,null,null,null,null,null,null,null,null,null,null,null,null,null,null,null,null,null,null,{"$f":"CY5247+CZ5247+DA5247","v":12305.2},null,{"$f":"TEXT(AA5247,\"#,###.0\")","v":"12,305.2"},null,null,null,null,null,null,null,null,null,null,null,null,"D1406-0015"]
[]
[null,null,null,null,null,null,null,"노 무 비 :",null,null,null,null,null,{"$f":"TEXT(TRUNC(건설기계!$K$231,0),\"#,##0\")","v":"44,299"},null,null,null,null,null,null,"/",null,"A",null,"=",null,{"$f":"TEXT(ROUNDDOWN(N5274/BN5270,1),\"#,##0.0#######\")","v":"126,568.5"},null,null,null,null,null,null,null,null,null,null,null,null,null,null,null,null,null,null,null,null,null,null,null,null,null,null,null,null,null,null,null,null,null,null,null,null,null,null,null,null,null,null,null,null,null,null,null,null,null,null,null,null,null,null,null,null,null,null,null,null,null,null,null,null,null,null,null,null,null,null,null,null,null,null,{"$f":"CY5274+CZ5274+DA5274","v":126568.5},null,{"$f":"TEXT(AA5274,\"#,###.0\")","v":"126,568.5"},null,null,null,null,null,null,null,null,null,null,null,null,"D1306-0025"]
[null,null,null,null,null,null,null,"재 료 비 :",null,null,null,null,null,{"$f":"TEXT(TRUNC(건설기계!$I$252,0),\"#,##0\")","v":"7,857"},null,null,null,null,null,"/",null,"A",null,"=",null,{"$f":"TEXT(ROUNDDOWN(N5284/BP5282,1),\"#,##0.0#######\")","v":"2,806.0"},null,null,null,null,null,null,null,null,null,null,null,null,null,null,null,null,null,null,null,null,null,null,null,null,null,null,null,null,null,null,null,null,null,null,null,null,null,null,null,null,null,null,null,null,null,null,null,null,null,null,null,null,null,null,null,null,null,null,null,null,null,null,null,null,null,null,null,null,null,null,null,null,null,null,null,{"$f":"CY5284+CZ5284+DA5284","v":2806},{"$f":"TEXT(Z5284,\"#,###.0\")","v":"2,806.0"},null,null,null,null,null,null,null,null,null,null,null,null,null,"D1406-0008"]
[""]
["◈ 혼합기층포설 (T=20Cm(그레이더) ; a당",null,null,null,null,null,null,null,null,null,null,null,null,null,null,null,null,null,null,null,null,null,null,null,null,null,null,null,null,null,null,null,null,null,null,null,null,null,null,null,null,null,null,null,null,null,null,null,null,null,null,null,null,null,null,null,null,null,null,null,null,null,null,null,null,null,null,null,null,null,null,null,null,null,null,null,null,null,null,null,null,null,null,null,null,null,null,null,null,null,null,null,null,null,null,null,null,null,null,null,null,{"$f":"CY5299+CZ5299+DA5299","v":0},null,null,null,null,null,null,null,null,null,null,null,null,null,null,""]
[""]
[""]
[""]
[]
["   하차비"]
[""]
[null,null,null,null,null,"○ 단위중량 :",null,null,null,null,null,"Wt",null,null,"=",null,{"$f":"TEXT(0.404,\"#,##0.000#######\")","v":"0.404"},null,null,null,null,null,null,"ton/본",null,null,null,null,null,null,null,null,null,null,null,null,null,null,null,null,null,null,null,null,null,null,null,null,null,null,null,null,null,null,null,null,null,null,null,null,null,null,null,null,null,null,null,null,null,null,null,null,null,null,null,null,null,null,null,null,null,null,null,null,null,null,null,null,null,null,null,null,null,null,null,null,null,null,null,null,null,null,null,null,null,null,null,null,null,null,null,null,null,null,null,null,""]
["  흄관하차 (Φ 600 mm) / 본"]
["   하차비"]
[]
["      계",null,null,null,null,null,null,null,null,null,null,null,null,null,null,null,null,null,null,null,null,null,null,null,null,null,null,null,null,null,null,null,null,null,null,null,null,null,null,null,null,null,null,null,null,null,null,null,null,null,null,null,null,null,null,null,null,null,null,null,null,null,null,null,null,null,null,null,null,null,null,null,null,null,null,null,null,null,null,null,null,null,null,null,null,null,null,null,null,null,null,null,null,null,null,null,null,null,null,null,null,{"$f":"TEXT(CY5422+CZ5422+DA5422,\"#,##0\")","v":"2,256"},{"$f":"TEXT(TRUNC(CY5420,0),\"#,##0\")","v":"0"},{"$f":"TEXT(TRUNC(CZ5420,0),\"#,##0\")","v":"0"},{"$f":"TEXT(TRUNC(DA5420,0),\"#,##0\")","v":"2,256"}]
[""]
[null,"합",null,null,null,"계",null,null,null,null,null,null,null,null,null,null,null,null,null,null,null,null,null,null,null,null,null,null,null,null,null,null,null,null,null,null,null,null,null,null,null,null,null,null,null,null,null,null,null,null,null,null,null,null,null,null,null,null,null,null,null,null,null,null,null,null,null,null,null,null,null,null,null,null,null,null,null,null,null,null,null,null,null,null,null,null,null,null,null,null,null,null,null,null,null,null,null,null,null,null,null,{"$f":"CY5439+CZ5439+DA5439","v":3591.9},{"$f":"TEXT(TRUNC(CY5435,1),\"#,###.0\")","v":".0"},{"$f":"TEXT(TRUNC(CZ5435,1),\"#,###.0\")","v":".0"},{"$f":"TEXT(TRUNC(DA5435,1),\"#,###.0\")","v":"3,591.9"},null,null,null,null,null,null,null,null,null,null,null,""]
["   하차비"]
["산근01300호표 ：모래상차 (적치장상차[굴삭기 0.7㎥]) ㎥ 당",null,null,null,null,null,null,null,null,null,null,null,null,null,null,null,null,null,null,null,null,null,null,null,null,null,null,null,null,null,null,null,null,null,null,null,null,null,null,null,null,null,null,null,null,null,null,null,null,null,null,null,null,null,null,null,null,null,null,null,null,null,null,null,null,null,null,null,null,null,null,null,null,null,null,null,null,null,null,null,null,null,null,null,null,null,null,null,null,null,null,null,null,null,null,null,null,null,null,null,null,null,null,null,null,null,null,null,null,null,null,null,null,null,null,null,":S0033"]
[""]
[""]
["   ------------------------------------------------------------",null,null,null,null,null,null,null,null,null,null,null,null,null,null,null,null,null,null,null,null,null,null,null,null,null,null,null,null,null,null,null,null,null,null,null,null,null,null,null,null,null,null,null,null,null,null,null,null,null,null,null,null,null,null,null,null,null,null,null,null,null,null,null,null,null,null,null,null,null,null,null,null,null,null,null,null,null,null,null,null,null,null,null,null,null,null,null,null,null,null,null,null,null,null,null,null,null,null,null,null,null,null,null,null,null,null,null,null,null,null,null,null,null,null,null,""]
[""]
[null,null,null,null,null,"재 료 비:",null,null,null,null,null,{"$f":"TEXT(TRUNC(건설기계!$I$77,0),\"#,##0\")","v":"18,449"},null,null,null,null,null,null,"/",null,"Q",null,"=",null,{"$f":"TEXT(ROUNDDOWN(L5516/AQ5514,1),\"#,##0.0#######\")","v":"166.3"},null,null,null,null,null,null,null,null,null,null,null,null,null,null,null,null,null,null,null,null,null,null,null,null,null,null,null,null,null,null,null,null,null,null,null,null,null,null,null,null,null,null,null,null,null,null,null,null,null,null,null,null,null,null,null,null,null,null,null,null,null,null,null,null,null,null,null,null,null,null,null,null,null,null,null,null,{"$f":"CY5516+CZ5516+DA5516","v":166.3},{"$f":"TEXT(Y5516,\"#,###.0\")","v":"166.3"},null,null,null,null,null,null,null,null,null,null,null,null,null,"D0201-0070"]
[]
["1. 잔토처리운반"]
[""]
[]
[""]
[]
[""]
[null,null,null,null,null,null,null,null,null,null,null,null,null,null,null,null,null,null,null,null,null,null,null,null,null,null,null,null,null,null,null,null,null,"L1",null,null,"=",null,{"$f":"TEXT(3,\"#,##0.0#######\")","v":"3.0"},null,null,null,"km",null,null,null,null,null,",",null,null,null,null,"V1",null,null,"=",null,{"$f":"TEXT(20,\"#,##0\")","v":"20"},null,null,"km",null,null,null,null,null,",",null,null,null,"V2",null,null,"=",null,{"$f":"TEXT(25,\"#,##0\")","v":"25"},null,null,"KM",null,null,null,null,null,null,null,null,null,null,null,null,null,null,null,null,null,null,null,null,null,null,null,null,null,null,null,null,null,null,null,null,null,null,null,null,""]
[]
["      계",null,null,null,null,null,null,null,null,null,null,null,null,null,null,null,null,null,null,null,null,null,null,null,null,null,null,null,null,null,null,null,null,null,null,null,null,null,null,null,null,null,null,null,null,null,null,null,null,null,null,null,null,null,null,null,null,null,null,null,null,null,null,null,null,null,null,null,null,null,null,null,null,null,null,null,null,null,null,null,null,null,null,null,null,null,null,null,null,null,null,null,null,null,null,null,null,null,null,null,null,{"$f":"TEXT(CY5620+CZ5620+DA5620,\"#,##0\")","v":"7,965"},{"$f":"TEXT(TRUNC(CY5618,0),\"#,##0\")","v":"0"},{"$f":"TEXT(TRUNC(CZ5618,0),\"#,##0\")","v":"0"},{"$f":"TEXT(TRUNC(DA5618,0),\"#,##0\")","v":"7,965"}]
["               현장사무실"]
["    t3(적하시간) = ",null,null,null,null,null,null,null,null,null,null,null,null,null,null,null,{"$f":"TEXT(14,\"#,#########\")","v":"14"},null,null,"분"]
["    합  계","합",null,null,null,"계",null,null,null,null,null,null,null,null,null,null,null,null,null,null,null,null,null,null,null,null,null,null,null,null,null,null,null,null,null,null,null,null,null,null,null,null,null,null,null,null,null,null,null,null,null,null,null,null,null,null,null,null,null,null,null,null,null,null,null,null,null,null,null,null,null,null,null,null,null,null,null,null,null,null,null,null,null,null,null,null,null,null,null,null,null,null,null,null,null,null,null,null,null,null,null,{"$f":"CY5656+CZ5656+DA5656","v":96725.700000000012},{"$f":"TEXT(TRUNC(CY5652+CY5644,1),\"#,###.0\")","v":".0"},{"$f":"TEXT(TRUNC(CZ5652+CZ5644,1),\"#,###.0\")","v":"42,642.3"},{"$f":"TEXT(TRUNC(DA5652+DA5644,1),\"#,###.0\")","v":"54,083.4"},null,null,null,null,null,null,null,null,null,null,null,""]
["1. 투입장비"]
[" - 노면파쇄기 (2.0m)                                    : 1대"]
[" - CH = (Cm -t1) / Cm = 0.8"]
[""]
[" - CH = (Cm -t1) / Cm = 1"]
[" - t3 = 7.5분, t4 = 0.42min, E =0.9"]
[""]
[]
[" - t1 = 20, t2 = 0.5 / 20 x 2 x 60 = 3min"]
[" - t3 = 20, t4 = 0.42min, E =0.9"]
["",null,null,null,null,null,null,null,null,null,null,null,null,null,null,null,null,null,null,null,null,null,null,null,null,null,null,null,null,null,null,null,null,null,null,null,null,null,null,null,null,null,null,null,null,null,null,null,null,null,null,null,null,null,null,null,null,null,null,null,null,null,null,null,null,null,null,null,null,null,null,null,null,null,null,null,null,null,null,null,null,null,null,null,null,null,null,null,null,null,null,null,null,null,null,null,null,null,null,null,null,{"$f":"CY5766+CZ5766+DA5766","v":0}]
[""]
["다)트럭(4.5톤)"]
[" - t1 = 7.5분 , t2 = 0.5 / 40 x 2 x 60 = 1.5min"]
[" - t3 = 7.5분, t4 = 0.42min, E =0.9"]
[" - Cm =t1 +t2 +t3 +t4  = 16.92min"]
[" - N = (60 x E) / Cm = 3.19회/hr"]
[" - CH = (Cm -t1) / Cm = 0.56"]
[""]
["    재료비:",null,null,null,null,null,null,null,null,null,{"$f":"TEXT(TRUNC(건설기계!$I$153,0),\"#,##0\")","v":"8,995"},null,null,null,null,"/3.19 x 1대 x 0.56   =",null,null,null,null,null,null,null,null,null,null,null,null,null,null,null,null,{"$f":"TEXT(ROUNDDOWN((건설기계!I153)/3.19*0.56,1),\"#,##0.0#######\")","v":"1,579.0"},null,null,null,null,null,null,null,null,null,null,null,null,null,null,null,null,null,null,null,null,null,null,null,null,null,null,null,null,null,null,null,null,null,null,null,null,null,null,null,null,null,null,null,null,null,null,null,null,null,null,null,null,null,null,null,null,null,null,null,null,null,null,null,null,null,null,null,null,{"$f":"CY5791+CZ5791+DA5791","v":1579},null,null,{"$f":"TEXT(AG5791,\"#,###.0\")","v":"1,579.0"}]
[""]
["    노무비:",null,null,null,null,null,null,null,null,null,{"$f":"TEXT(TRUNC(건설기계!$K$153,0),\"#,##0\")","v":"36,224"},null,null,null,null,"/3.19 x 1대   =",null,null,null,null,null,null,null,null,null,null,null,{"$f":"TEXT(ROUNDDOWN((건설기계!K153)/3.19*1,1),\"#,##0.0#######\")","v":"11,355.4"},null,null,null,null,null,null,null,null,null,null,null,null,null,null,null,null,null,null,null,null,null,null,null,null,null,null,null,null,null,null,null,null,null,null,null,null,null,null,null,null,null,null,null,null,null,null,null,null,null,null,null,null,null,null,null,null,null,null,null,null,null,null,null,null,null,null,null,null,null,null,null,null,null,{"$f":"CY5793+CZ5793+DA5793","v":11355.4},null,null,{"$f":"TEXT(AB5793,\"#,###.0\")","v":"11,355.4"}]
[""]
["    경  비:",null,null,null,null,null,null,null,null,null,{"$f":"TEXT(TRUNC(건설기계!$M$153,0),\"#,##0\")","v":"6,873"},null,null,null,null,"/3.19 x 1대   =",null,null,null,null,null,null,null,null,null,null,null,{"$f":"TEXT(ROUNDDOWN((건설기계!M153)/3.19*1,1),\"#,##0.0#######\")","v":"2,154.5"},null,null,null,null,null,null,null,null,null,null,null,null,null,null,null,null,null,null,null,null,null,null,null,null,null,null,null,null,null,null,null,null,null,null,null,null,null,null,null,null,null,null,null,null,null,null,null,null,null,null,null,null,null,null,null,null,null,null,null,null,null,null,null,null,null,null,null,null,null,null,null,null,null,{"$f":"CY5795+CZ5795+DA5795","v":2154.5},null,null,{"$f":"TEXT(AB5795,\"#,###.0\")","v":"2,154.5"}]
[""]
["   ------------------------------------------------------------"]
[""]
["   소  계",null,null,null,null,null,null,null,null,null,null,null,null,null,null,null,null,null,null,null,null,null,null,null,null,null,null,null,null,null,null,null,null,null,null,null,null,null,null,null,null,null,null,null,null,null,null,null,null,null,null,null,null,null,null,null,null,null,null,null,null,null,null,null,null,null,null,null,null,null,null,null,null,null,null,null,null,null,null,null,null,null,null,null,null,null,null,null,null,null,null,null,null,null,null,null,null,null,null,null,null,{"$f":"CY5799+CZ5799+DA5799","v":15088.9},{"$f":"TEXT(TRUNC(CY5795+CY5793+CY5791,1),\"#,###.0\")","v":".0"},{"$f":"TEXT(TRUNC(CZ5795+CZ5793+CZ5791,1),\"#,###.0\")","v":".0"},{"$f":"TEXT(TRUNC(DA5795+DA5793+DA5791,1),\"#,###.0\")","v":"15,088.9"}]
[""]
["    합  계","합",null,null,null,"계",null,null,null,null,null,null,null,null,null,null,null,null,null,null,null,null,null,null,null,null,null,null,null,null,null,null,null,null,null,null,null,null,null,null,null,null,null,null,null,null,null,null,null,null,null,null,null,null,null,null,null,null,null,null,null,null,null,null,null,null,null,null,null,null,null,null,null,null,null,null,null,null,null,null,null,null,null,null,null,null,null,null,null,null,null,null,null,null,null,null,null,null,null,null,null,{"$f":"CY5801+CZ5801+DA5801","v":226402.3},{"$f":"TEXT(TRUNC(CY5799+CY5765+CY5782,1),\"#,###.0\")","v":".0"},{"$f":"TEXT(TRUNC(CZ5799+CZ5765+CZ5782,1),\"#,###.0\")","v":".0"},"226,402.3",null,null,null,null,null,null,null,null,null,null,null,""]
[]
["      계",null,null,null,null,null,null,null,null,null,null,null,null,null,null,null,null,null,null,null,null,null,null,null,null,null,null,null,null,null,null,null,null,null,null,null,null,null,null,null,null,null,null,null,null,null,null,null,null,null,null,null,null,null,null,null,null,null,null,null,null,null,null,null,null,null,null,null,null,null,null,null,null,null,null,null,null,null,null,null,null,null,null,null,null,null,null,null,null,null,null,null,null,null,null,null,null,null,null,null,null,{"$f":"TEXT(CY5803+CZ5803+DA5803,\"#,##0\")","v":"226,402"},{"$f":"TEXT(TRUNC(CY5801,0),\"#,##0\")","v":"0"},{"$f":"TEXT(TRUNC(CZ5801,0),\"#,##0\")","v":"0"},{"$f":"TEXT(TRUNC(DA5801,0),\"#,##0\")","v":"226,402"}]
[]
[]
["산근01370호표 ：포장장비운반 (이면도로 구간이동 L=1000m) 식",null,null,null,null,null,null,null,null,null,null,null,null,null,null,null,null,null,null,null,null,null,null,null,null,null,null,null,null,null,null,null,null,null,null,null,null,null,null,null,null,null,null,null,null,null,null,null,null,null,null,null,null,null,null,null,null,null,null,null,null,null,null,null,null,null,null,null,null,null,null,null,null,null,null,null,null,null,null,null,null,null,null,null,null,null,null,null,null,null,null,null,null,null,null,null,null,null,null,null,null,null,null,null,null,null,null,null,null,null,null,null,null,null,null,null,":SQE1136"]
["◈ 구간이동 1000m",null,null,null,null,null,null,null,null,null,null,null,null,null,null,null,null,null,null,null,null,null,null,null,null,null,null,null,null,null,null,null,null,null,null,null,null,null,null,null,null,null,null,null,null,null,null,null,null,null,null,null,null,null,null,null,null,null,null,null,null,null,null,null,null,null,null,null,null,null,null,null,null,null,null,null,null,null,null,null,null,null,null,null,null,null,null,null,null,null,null,null,null,null,null,null,null,null,null,null,null,{"$f":"CY5807+CZ5807+DA5807","v":0},null,null,null,null,null,null,null,null,null,null,null,null,null,null,""]
[""]
["1. 투입장비"]
["가)트레일러 운반 (30톤)"]
[" - 피니셔 (3.0m) + 머캐덤(10~14톤)                      : 1대",null,null,null,null,null,null,null,null,null,null,null,null,null,null,null,null,null,null,null,null,null,null,null,null,null,null,null,null,null,null,null,null,null,null,null,null,null,null,null,null,null,null,null,null,null,null,null,null,null,null,null,null,null,null,null,null,null,null,null,null,null,null,null,null,null,null,null,null,null,null,null,null,null,null,null,null,null,null,null,null,null,null,null,null,null,null,null,null,null,null,null,null,null,null,null,null,null,null,null,null,null,null,null,null,null,null,null,null,null,null,null,null,null,null,null,""]
[" - 노면파쇄기 (2.0m)                                    : 1대"]
[" -탠덤롤러(10~14톤) + 타이어롤러(8~15톤)                : 1대",null,null,null,null,null,null,null,null,null,null,null,null,null,null,null,null,null,null,null,null,null,null,null,null,null,null,null,null,null,null,null,null,null,null,null,null,null,null,null,null,null,null,null,null,null,null,null,null,null,null,null,null,null,null,null,null,null,null,null,null,null,null,null,null,null,null,null,null,null,null,null,null,null,null,null,null,null,null,null,null,null,null,null,null,null,null,null,null,null,null,null,null,null,null,null,null,null,null,null,null,null,null,null,null,null,null,null,null,null,null,null,null,null,null,null,""]
["TOTAL                                                   : 3대"]
["나) 트럭운반(2.5톤)"]
[" - 로더(0.57m3):                                        : 2대"]
["다) 트럭운반(4.5톤)"]
[" - 바브켓파쇄기                                         : 1대"]
[""]
["2.운반비(식)"]
["가)트레일러(30톤)"]
[" - t1 = 20, t2 = 1.0 / 20 x 2 x 60 = 6min"]
[" - t3 = 20, t4 = 0.42min, E =0.9"]
[" - Cm =t1 +t2 +t3 +t4  = 46.42min"]
[" - N = (60 x E) / Cm = 1.16회/hr"]
[" - CH = (Cm -t1) / Cm = 0.56"]
[""]
["    재료비:",null,null,null,null,null,null,null,null,null,{"$f":"TEXT(TRUNC(건설기계!$I$322,0),\"#,##0\")","v":"31,168"},null,null,null,null,"/1.16 x 3대 x 0.56   =",null,null,null,null,null,null,null,null,null,null,null,null,null,null,null,null,{"$f":"TEXT(ROUNDDOWN((건설기계!I322)/1.16*3*0.56,1),\"#,##0.0#######\")","v":"45,139.8"},null,null,null,null,null,null,null,null,null,null,null,null,null,null,null,null,null,null,null,null,null,null,null,null,null,null,null,null,null,null,null,null,null,null,null,null,null,null,null,null,null,null,null,null,null,null,null,null,null,null,null,null,null,null,null,null,null,null,null,null,null,null,null,null,null,null,null,null,{"$f":"CY5828+CZ5828+DA5828","v":45139.8},null,null,{"$f":"TEXT(AG5828,\"#,###.0\")","v":"45,139.8"}]
[""]
["    노무비:",null,null,null,null,null,null,null,null,null,{"$f":"TEXT(TRUNC(건설기계!$K$322,0),\"#,##0\")","v":"44,299"},null,null,null,null,"/1.16 x 3대   =",null,null,null,null,null,null,null,null,null,null,null,{"$f":"TEXT(ROUNDDOWN((건설기계!K322)/1.16*3,1),\"#,##0.0#######\")","v":"114,566.3"},null,null,null,null,null,null,null,null,null,null,null,null,null,null,null,null,null,null,null,null,null,null,null,null,null,null,null,null,null,null,null,null,null,null,null,null,null,null,null,null,null,null,null,null,null,null,null,null,null,null,null,null,null,null,null,null,null,null,null,null,null,null,null,null,null,null,null,null,null,null,null,null,null,{"$f":"CY5830+CZ5830+DA5830","v":114566.3},null,null,{"$f":"TEXT(AB5830,\"#,###.0\")","v":"114,566.3"}]
[""]
["    경  비:",null,null,null,null,null,null,null,null,null,{"$f":"TEXT(TRUNC(건설기계!$M$322,0),\"#,##0\")","v":"20,690"},null,null,null,null,"/1.16 x 3대   =",null,null,null,null,null,null,null,null,null,null,null,{"$f":"TEXT(ROUNDDOWN((건설기계!M322)/1.16*3,1),\"#,##0.0#######\")","v":"53,508.6"},null,null,null,null,null,null,null,null,null,null,null,null,null,null,null,null,null,null,null,null,null,null,null,null,null,null,null,null,null,null,null,null,null,null,null,null,null,null,null,null,null,null,null,null,null,null,null,null,null,null,null,null,null,null,null,null,null,null,null,null,null,null,null,null,null,null,null,null,null,null,null,null,null,{"$f":"CY5832+CZ5832+DA5832","v":53508.6},null,null,{"$f":"TEXT(AB5832,\"#,###.0\")","v":"53,508.6"}]
[""]
["   ------------------------------------------------------------"]
[""]
["   소  계",null,null,null,null,null,null,null,null,null,null,null,null,null,null,null,null,null,null,null,null,null,null,null,null,null,null,null,null,null,null,null,null,null,null,null,null,null,null,null,null,null,null,null,null,null,null,null,null,null,null,null,null,null,null,null,null,null,null,null,null,null,null,null,null,null,null,null,null,null,null,null,null,null,null,null,null,null,null,null,null,null,null,null,null,null,null,null,null,null,null,null,null,null,null,null,null,null,null,null,null,{"$f":"CY5836+CZ5836+DA5836","v":213214.7},{"$f":"TEXT(TRUNC(CY5832+CY5830+CY5828,1),\"#,###.0\")","v":".0"},{"$f":"TEXT(TRUNC(CZ5832+CZ5830+CZ5828,1),\"#,###.0\")","v":".0"},{"$f":"TEXT(TRUNC(DA5832+DA5830+DA5828,1),\"#,###.0\")","v":"213,214.7"}]
["",null,null,null,null,null,null,null,null,null,null,null,null,null,null,null,null,null,null,null,null,null,null,null,null,null,null,null,null,null,null,null,null,null,null,null,null,null,null,null,null,null,null,null,null,null,null,null,null,null,null,null,null,null,null,null,null,null,null,null,null,null,null,null,null,null,null,null,null,null,null,null,null,null,null,null,null,null,null,null,null,null,null,null,null,null,null,null,null,null,null,null,null,null,null,null,null,null,null,null,null,{"$f":"CY5837+CZ5837+DA5837","v":0}]
["나)트럭(2.5톤)"]
[" - t1 = 7.5분 , t2 = 1.0 / 40 x 2 x 60 = 6min"]
[" - t3 = 7.5분, t4 = 0.42min, E =0.9"]
[" - Cm =t1 +t2 +t3 +t4  = 18.42min"]
[" - N = (60 x E) / Cm = 2.93회/hr"]
[" - CH = (Cm -t1) / Cm = 0.59"]
[""]
["    재료비:",null,null,null,null,null,null,null,null,null,{"$f":"TEXT(TRUNC(건설기계!$I$146,0),\"#,##0\")","v":"5,217"},null,null,null,null,"/2.93 x 1대 x 0.59   =",null,null,null,null,null,null,null,null,null,null,null,null,null,null,null,null,{"$f":"TEXT(ROUNDDOWN((건설기계!I146)/2.93*1*0.59,1),\"#,##0.0#######\")","v":"1,050.5"},null,null,null,null,null,null,null,null,null,null,null,null,null,null,null,null,null,null,null,null,null,null,null,null,null,null,null,null,null,null,null,null,null,null,null,null,null,null,null,null,null,null,null,null,null,null,null,null,null,null,null,null,null,null,null,null,null,null,null,null,null,null,null,null,null,null,null,null,{"$f":"CY5845+CZ5845+DA5845","v":1050.5},null,null,{"$f":"TEXT(AG5845,\"#,###.0\")","v":"1,050.5"}]
[""]
["    노무비:",null,null,null,null,null,null,null,null,null,{"$f":"TEXT(TRUNC(건설기계!$K$146,0),\"#,##0\")","v":"36,224"},null,null,null,null,"/2.93 x 1대   =",null,null,null,null,null,null,null,null,null,null,null,{"$f":"TEXT(ROUNDDOWN((건설기계!K146)/2.93*1,1),\"#,##0.0#######\")","v":"12,363.1"},null,null,null,null,null,null,null,null,null,null,null,null,null,null,null,null,null,null,null,null,null,null,null,null,null,null,null,null,null,null,null,null,null,null,null,null,null,null,null,null,null,null,null,null,null,null,null,null,null,null,null,null,null,null,null,null,null,null,null,null,null,null,null,null,null,null,null,null,null,null,null,null,null,{"$f":"CY5847+CZ5847+DA5847","v":12363.1},null,null,{"$f":"TEXT(AB5847,\"#,###.0\")","v":"12,363.1"}]
[""]
["    경  비:",null,null,null,null,null,null,null,null,null,{"$f":"TEXT(TRUNC(건설기계!$M$146,0),\"#,##0\")","v":"5,887"},null,null,null,null,"/2.93 x 1대   =",null,null,null,null,null,null,null,null,null,null,null,{"$f":"TEXT(ROUNDDOWN((건설기계!M146)/2.93*1,1),\"#,##0.0#######\")","v":"2,009.2"},null,null,null,null,null,null,null,null,null,null,null,null,null,null,null,null,null,null,null,null,null,null,null,null,null,null,null,null,null,null,null,null,null,null,null,null,null,null,null,null,null,null,null,null,null,null,null,null,null,null,null,null,null,null,null,null,null,null,null,null,null,null,null,null,null,null,null,null,null,null,null,null,null,{"$f":"CY5849+CZ5849+DA5849","v":2009.2},null,null,{"$f":"TEXT(AB5849,\"#,###.0\")","v":"2,009.2"}]
[""]
["   ------------------------------------------------------------"]
[""]
["   소  계",null,null,null,null,null,null,null,null,null,null,null,null,null,null,null,null,null,null,null,null,null,null,null,null,null,null,null,null,null,null,null,null,null,null,null,null,null,null,null,null,null,null,null,null,null,null,null,null,null,null,null,null,null,null,null,null,null,null,null,null,null,null,null,null,null,null,null,null,null,null,null,null,null,null,null,null,null,null,null,null,null,null,null,null,null,null,null,null,null,null,null,null,null,null,null,null,null,null,null,null,{"$f":"CY5853+CZ5853+DA5853","v":15422.8},{"$f":"TEXT(TRUNC(CY5849+CY5847+CY5845,1),\"#,###.0\")","v":".0"},{"$f":"TEXT(TRUNC(CZ5849+CZ5847+CZ5845,1),\"#,###.0\")","v":".0"},{"$f":"TEXT(TRUNC(DA5849+DA5847+DA5845,1),\"#,###.0\")","v":"15,422.8"}]
[""]
["다)트럭(4.5톤)"]
[" - t1 = 7.5분 , t2 = 1.0 / 40 x 2 x 60 = 3.0min"]
[" - t3 = 7.5분, t4 = 0.42min, E =0.9"]
[" - Cm =t1 +t2 +t3 +t4  = 18.42min"]
[" - N = (60 x E) / Cm = 2.93회/hr"]
[" - CH = (Cm -t1) / Cm = 0.59"]
[""]
["    재료비:",null,null,null,null,null,null,null,null,null,{"$f":"TEXT(TRUNC(건설기계!$I$153,0),\"#,##0\")","v":"8,995"},null,null,null,null,"/2.93 x 1대 x 0.59   =",null,null,null,null,null,null,null,null,null,null,null,null,null,null,null,null,{"$f":"TEXT(ROUNDDOWN((건설기계!I153)/2.93*1*0.59,1),\"#,##0.0#######\")","v":"1,811.2"},null,null,null,null,null,null,null,null,null,null,null,null,null,null,null,null,null,null,null,null,null,null,null,null,null,null,null,null,null,null,null,null,null,null,null,null,null,null,null,null,null,null,null,null,null,null,null,null,null,null,null,null,null,null,null,null,null,null,null,null,null,null,null,null,null,null,null,null,{"$f":"CY5862+CZ5862+DA5862","v":1811.2},{"$f":"TEXT(AG5862,\"#,###.0\")","v":"1,811.2"}]
[""]
["    노무비:",null,null,null,null,null,null,null,null,null,{"$f":"TEXT(TRUNC(건설기계!$K$153,0),\"#,##0\")","v":"36,224"},null,null,null,null,"/2.93 x 1대   =",null,null,null,null,null,null,null,null,null,null,null,{"$f":"TEXT(ROUNDDOWN((건설기계!K153)/2.93*1,1),\"#,##0.0#######\")","v":"12,363.1"},null,null,null,null,null,null,null,null,null,null,null,null,null,null,null,null,null,null,null,null,null,null,null,null,null,null,null,null,null,null,null,null,null,null,null,null,null,null,null,null,null,null,null,null,null,null,null,null,null,null,null,null,null,null,null,null,null,null,null,null,null,null,null,null,null,null,null,null,null,null,null,null,null,{"$f":"CY5864+CZ5864+DA5864","v":12363.1},null,{"$f":"TEXT(AB5864,\"#,###.0\")","v":"12,363.1"}]
[""]
["    경  비:",null,null,null,null,null,null,null,null,null,{"$f":"TEXT(TRUNC(건설기계!$M$153,0),\"#,##0\")","v":"6,873"},null,null,null,null,"/2.93 x 1대   =",null,null,null,null,null,null,null,null,null,null,null,{"$f":"TEXT(ROUNDDOWN((건설기계!M153)/2.93*1,1),\"#,##0.0#######\")","v":"2,345.7"},null,null,null,null,null,null,null,null,null,null,null,null,null,null,null,null,null,null,null,null,null,null,null,null,null,null,null,null,null,null,null,null,null,null,null,null,null,null,null,null,null,null,null,null,null,null,null,null,null,null,null,null,null,null,null,null,null,null,null,null,null,null,null,null,null,null,null,null,null,null,null,null,null,{"$f":"CY5866+CZ5866+DA5866","v":2345.6999999999998},null,null,{"$f":"TEXT(AB5866,\"#,###.0\")","v":"2,345.7"}]
[""]
["   ------------------------------------------------------------"]
[""]
["   소  계",null,null,null,null,null,null,null,null,null,null,null,null,null,null,null,null,null,null,null,null,null,null,null,null,null,null,null,null,null,null,null,null,null,null,null,null,null,null,null,null,null,null,null,null,null,null,null,null,null,null,null,null,null,null,null,null,null,null,null,null,null,null,null,null,null,null,null,null,null,null,null,null,null,null,null,null,null,null,null,null,null,null,null,null,null,null,null,null,null,null,null,null,null,null,null,null,null,null,null,null,{"$f":"CY5870+CZ5870+DA5870","v":16520},{"$f":"TEXT(TRUNC(CY5866+CY5864+CY5862,1),\"#,###.0\")","v":"1,811.2"},{"$f":"TEXT(TRUNC(CZ5866+CZ5864+CZ5862,1),\"#,###.0\")","v":"12,363.1"},{"$f":"TEXT(TRUNC(DA5866+DA5864+DA5862,1),\"#,###.0\")","v":"2,345.7"}]
[""]
["    합  계","합",null,null,null,"계",null,null,null,null,null,null,null,null,null,null,null,null,null,null,null,null,null,null,null,null,null,null,null,null,null,null,null,null,null,null,null,null,null,null,null,null,null,null,null,null,null,null,null,null,null,null,null,null,null,null,null,null,null,null,null,null,null,null,null,null,null,null,null,null,null,null,null,null,null,null,null,null,null,null,null,null,null,null,null,null,null,null,null,null,null,null,null,null,null,null,null,null,null,null,null,{"$f":"CY5872+CZ5872+DA5872","v":245157.5},{"$f":"TEXT(TRUNC(CY5870+CY5836+CY5853,1),\"#,###.0\")","v":"1,811.2"},{"$f":"TEXT(TRUNC(CZ5870+CZ5836+CZ5853,1),\"#,###.0\")","v":"12,363.1"},"230,983.2",null,null,null,null,null,null,null,null,null,null,null,""]
[]
["      계",null,null,null,null,null,null,null,null,null,null,null,null,null,null,null,null,null,null,null,null,null,null,null,null,null,null,null,null,null,null,null,null,null,null,null,null,null,null,null,null,null,null,null,null,null,null,null,null,null,null,null,null,null,null,null,null,null,null,null,null,null,null,null,null,null,null,null,null,null,null,null,null,null,null,null,null,null,null,null,null,null,null,null,null,null,null,null,null,null,null,null,null,null,null,null,null,null,null,null,null,{"$f":"TEXT(CY5874+CZ5874+DA5874,\"#,##0\")","v":"245,157"},{"$f":"TEXT(TRUNC(CY5872,0),\"#,##0\")","v":"1,811"},{"$f":"TEXT(TRUNC(CZ5872,0),\"#,##0\")","v":"12,363"},{"$f":"TEXT(TRUNC(DA5872,0),\"#,##0\")","v":"230,983"}]
[]
[]
["산근01380호표 ：잔토상차비 (적치장상차[굴삭기 0.7㎥]) ㎥ 당",null,null,null,null,null,null,null,null,null,null,null,null,null,null,null,null,null,null,null,null,null,null,null,null,null,null,null,null,null,null,null,null,null,null,null,null,null,null,null,null,null,null,null,null,null,null,null,null,null,null,null,null,null,null,null,null,null,null,null,null,null,null,null,null,null,null,null,null,null,null,null,null,null,null,null,null,null,null,null,null,null,null,null,null,null,null,null,null,null,null,null,null,null,null,null,null,null,null,null,null,null,null,null,null,null,null,null,null,null,null,null,null,null,null,null,":S0033"]
["◈ 잔토처리상차 (굴삭기0.7㎥) ; ㎥당",null,null,null,null,null,null,null,null,null,null,null,null,null,null,null,null,null,null,null,null,null,null,null,null,null,null,null,null,null,null,null,null,null,null,null,null,null,null,null,null,null,null,null,null,null,null,null,null,null,null,null,null,null,null,null,null,null,null,null,null,null,null,null,null,null,null,null,null,null,null,null,null,null,null,null,null,null,null,null,null,null,null,null,null,null,null,null,null,null,null,null,null,null,null,null,null,null,null,null,null,{"$f":"CY5878+CZ5878+DA5878","v":0},null,null,null,null,null,null,null,null,null,null,null,null,null,null,""]
[""]
["   1. 기계상차"]
[""]
["  가. 토사 (굴삭기0.7㎥)"]
[""]
[null,null,null,null,"qo",null,null,"=",null,{"$f":"TEXT(0.7,\"#,##0.0#######\")","v":"0.7"},null,null,null,null,null,null,null,null,null,null,null,null,null,null,null,null,null,null,null,null,null,null,null,null,null,null,null,null,null,null,null,null,null,null,null,null,null,null,null,null,null,null,null,null,null,null,null,null,null,null,null,null,null,null,null,null,null,null,null,null,null,null,null,null,null,null,null,null,null,null,null,null,null,null,null,null,null,null,null,null,null,null,null,null,null,null,null,null,null,null,null,null,null,null,null,null,null,null,null,null,null,null,null,null,null,null,""]
[""]
[null,null,null,null,"L",null,"=",null,{"$f":"TEXT(1.25,\"#,##0.00#######\")","v":"1.25"},null,null,null,null,null,null,null,null,null,null,null,null,null,null,null,null,null,null,null,null,null,null,null,null,null,null,null,null,null,null,null,null,null,null,null,null,null,null,null,null,null,null,null,null,null,null,null,null,null,null,null,null,null,null,null,null,null,null,null,null,null,null,null,null,null,null,null,null,null,null,null,null,null,null,null,null,null,null,null,null,null,null,null,null,null,null,null,null,null,null,null,null,null,null,null,null,null,null,null,null,null,null,null,null,null,null,null,""]
[""]
[null,null,null,null,"f",null,"=",null,{"$f":"TEXT(1,\"#,##0\")","v":"1"},null,"/",null,"L",null,"=",null,{"$f":"TEXT(ROUND(I5888/I5886,1),\"#,##0.0#######\")","v":"0.8"},null,null,null,null,null,null,null,null,null,null,null,null,null,null,null,null,null,null,null,null,null,null,null,null,null,null,null,null,null,null,null,null,null,null,null,null,null,null,null,null,null,null,null,null,null,null,null,null,null,null,null,null,null,null,null,null,null,null,null,null,null,null,null,null,null,null,null,null,null,null,null,null,null,null,null,null,null,null,null,null,null,null,null,null,null,null,null,null,null,null,null,null,null,null,null,null,null,null,null,""]
[""]
[null,null,null,null,"K",null,"=",null,{"$f":"TEXT(1.1,\"#,##0.0#######\")","v":"1.1"},null,null,null,null,null,null,null,null,null,null,null,null,null,null,null,null,null,null,null,null,null,null,null,null,null,null,null,null,null,null,null,null,null,null,null,null,null,null,null,null,null,null,null,null,null,null,null,null,null,null,null,null,null,null,null,null,null,null,null,null,null,null,null,null,null,null,null,null,null,null,null,null,null,null,null,null,null,null,null,null,null,null,null,null,null,null,null,null,null,null,null,null,null,null,null,null,null,null,null,null,null,null,null,null,null,null,null,""]
[""]
[null,null,null,null,"E",null,"=",null,{"$f":"TEXT(0.9,\"#,##0.00#######\")","v":"0.90"},null,null,null,null,null,null,null,null,null,null,null,null,null,null,null,null,null,null,null,null,null,null,null,null,null,null,null,null,null,null,null,null,null,null,null,null,null,null,null,null,null,null,null,null,null,null,null,null,null,null,null,null,null,null,null,null,null,null,null,null,null,null,null,null,null,null,null,null,null,null,null,null,null,null,null,null,null,null,null,null,null,null,null,null,null,null,null,null,null,null,null,null,null,null,null,null,null,null,null,null,null,null,null,null,null,null,null,""]
[""]
[null,null,null,null,"Cm",null,null,"=",null,{"$f":"TEXT(18,\"#,##0.0#######\")","v":"18.0"},null,null,null,null,null,"SEC(90도)",null,null,null,null,null,null,null,null,null,null,null,null,null,null,null,null,null,null,null,null,null,null,null,null,null,null,null,null,null,null,null,null,null,null,null,null,null,null,null,null,null,null,null,null,null,null,null,null,null,null,null,null,null,null,null,null,null,null,null,null,null,null,null,null,null,null,null,null,null,null,null,null,null,null,null,null,null,null,null,null,null,null,null,null,null,null,null,null,null,null,null,null,null,null,null,null,null,null,null,null,""]
[""]
[null,null,null,null,"Q",null,"=",null,{"$f":"TEXT(3600,\"#,##0\")","v":"3,600"},null,null,null,null,"*",null,null,"qo",null,null,"*",null,null,"f",null,"*",null,null,"K",null,"*",null,null,"E",null,"/",null,null,"Cm",null,null,"=",null,{"$f":"TEXT(ROUND(I5896*J5884*Q5888*I5890*I5892/J5894,2),\"#,##0.00#######\")","v":"110.88"},null,null,null,null,null,null,null,null,null,null,null,null,null,null,null,null,null,null,null,null,null,null,null,null,null,null,null,null,null,null,null,null,null,null,null,null,null,null,null,null,null,null,null,null,null,null,null,null,null,null,null,null,null,null,null,null,null,null,null,null,null,null,null,null,null,null,null,null,null,null,null,null,null,""]
[""]
[null,null,null,null,null,"재 료 비:",null,null,null,null,null,{"$f":"TEXT(TRUNC(건설기계!$I$77,0),\"#,##0\")","v":"18,449"},null,null,null,null,null,null,"/",null,"Q",null,"=",null,{"$f":"TEXT(ROUNDDOWN(L5898/AQ5896,1),\"#,##0.0#######\")","v":"166.3"},null,null,null,null,null,null,null,null,null,null,null,null,null,null,null,null,null,null,null,null,null,null,null,null,null,null,null,null,null,null,null,null,null,null,null,null,null,null,null,null,null,null,null,null,null,null,null,null,null,null,null,null,null,null,null,null,null,null,null,null,null,null,null,null,null,null,null,null,null,null,null,null,null,null,null,null,{"$f":"CY5898+CZ5898+DA5898","v":166.3},{"$f":"TEXT(Y5898,\"#,###.0\")","v":"166.3"},null,null,null,null,null,null,null,null,null,null,null,null,null,"D0201-0070"]
[""]
[null,null,null,null,null,"노 무 비:",null,null,null,null,null,{"$f":"TEXT(TRUNC(건설기계!$K$77,0),\"#,##0\")","v":"44,299"},null,null,null,null,null,null,"/",null,"Q",null,"=",null,{"$f":"TEXT(ROUNDDOWN(L5900/AQ5896,1),\"#,##0.0#######\")","v":"399.5"},null,null,null,null,null,null,null,null,null,null,null,null,null,null,null,null,null,null,null,null,null,null,null,null,null,null,null,null,null,null,null,null,null,null,null,null,null,null,null,null,null,null,null,null,null,null,null,null,null,null,null,null,null,null,null,null,null,null,null,null,null,null,null,null,null,null,null,null,null,null,null,null,null,null,null,null,{"$f":"CY5900+CZ5900+DA5900","v":399.5},null,{"$f":"TEXT(Y5900,\"#,###.0\")","v":"399.5"},null,null,null,null,null,null,null,null,null,null,null,null,"D0201-0070"]
[""]
[null,null,null,null,null,"경    비:",null,null,null,null,null,{"$f":"TEXT(TRUNC(건설기계!$M$77,0),\"#,##0\")","v":"21,780"},null,null,null,null,null,null,"/",null,"Q",null,"=",null,{"$f":"TEXT(ROUNDDOWN(L5902/AQ5896,1),\"#,##0.0#######\")","v":"196.4"},null,null,null,null,null,null,null,null,null,null,null,null,null,null,null,null,null,null,null,null,null,null,null,null,null,null,null,null,null,null,null,null,null,null,null,null,null,null,null,null,null,null,null,null,null,null,null,null,null,null,null,null,null,null,null,null,null,null,null,null,null,null,null,null,null,null,null,null,null,null,null,null,null,null,null,null,{"$f":"CY5902+CZ5902+DA5902","v":196.4},null,null,{"$f":"TEXT(Y5902,\"#,###.0\")","v":"196.4"},null,null,null,null,null,null,null,null,null,null,null,"D0201-0070"]
[""]
["   ------------------------------------------------------------",null,null,null,null,null,null,null,null,null,null,null,null,null,null,null,null,null,null,null,null,null,null,null,null,null,null,null,null,null,null,null,null,null,null,null,null,null,null,null,null,null,null,null,null,null,null,null,null,null,null,null,null,null,null,null,null,null,null,null,null,null,null,null,null,null,null,null,null,null,null,null,null,null,null,null,null,null,null,null,null,null,null,null,null,null,null,null,null,null,null,null,null,null,null,null,null,null,null,null,null,null,null,null,null,null,null,null,null,null,null,null,null,null,null,null,""]
[""]
[null,"합",null,null,null,"계",null,null,null,null,null,null,null,null,null,null,null,null,null,null,null,null,null,null,null,null,null,null,null,null,null,null,null,null,null,null,null,null,null,null,null,null,null,null,null,null,null,null,null,null,null,null,null,null,null,null,null,null,null,null,null,null,null,null,null,null,null,null,null,null,null,null,null,null,null,null,null,null,null,null,null,null,null,null,null,null,null,null,null,null,null,null,null,null,null,null,null,null,null,null,null,{"$f":"CY5906+CZ5906+DA5906","v":762.19999999999993},{"$f":"TEXT(TRUNC(CY5898+CY5900+CY5902,1),\"#,###.0\")","v":"166.3"},{"$f":"TEXT(TRUNC(CZ5898+CZ5900+CZ5902,1),\"#,###.0\")","v":"399.5"},{"$f":"TEXT(TRUNC(DA5898+DA5900+DA5902,1),\"#,###.0\")","v":"196.4"},null,null,null,null,null,null,null,null,null,null,null,""]
[]
["      계",null,null,null,null,null,null,null,null,null,null,null,null,null,null,null,null,null,null,null,null,null,null,null,null,null,null,null,null,null,null,null,null,null,null,null,null,null,null,null,null,null,null,null,null,null,null,null,null,null,null,null,null,null,null,null,null,null,null,null,null,null,null,null,null,null,null,null,null,null,null,null,null,null,null,null,null,null,null,null,null,null,null,null,null,null,null,null,null,null,null,null,null,null,null,null,null,null,null,null,null,{"$f":"TEXT(CY5908+CZ5908+DA5908,\"#,##0\")","v":"761"},{"$f":"TEXT(TRUNC(CY5906,0),\"#,##0\")","v":"166"},{"$f":"TEXT(TRUNC(CZ5906,0),\"#,##0\")","v":"399"},{"$f":"TEXT(TRUNC(DA5906,0),\"#,##0\")","v":"196"}]

{"sheet":"건설기계 목록","index":7,"n_rows":78,"n_cols":119,"rows_kept":78,"cut":false,"hidden":false,"merged":[[0,0,0,8],[2,0,3,0],[2,1,3,1],[2,2,3,2],[2,3,3,3],[2,4,3,4],[2,5,3,5],[2,6,3,6],[2,7,3,7],[2,8,3,8]]}
["건 설 기 계  목 록 표",null,null,null,null,null,null,null,null,null,null,null,null,null,null,null,null,null,null,null,null,null,null,null,null,null,null,null,null,null,null,null,null,null,null,null,null,null,null,null,null,null,null,null,null,null,null,null,null,null,null,null,null,null,null,null,null,null,null,null,null,null,null,null,null,null,null,null,null,null,null,null,null,null,null,null,null,null,null,null,null,null,null,null,null,null,null,null,null,null,null,null,null,null,null,null,null,null,null,null,null,null,null,null,null,null,null,null,null,null,null,null,null,null,null,null,null,null,5]
[null,null,null,null,null,null,null,null,null,null,null,null,null,null,null,null,null,null,null,null,null,null,null,null,null,null,null,null,null,null,null,null,null,null,null,null,null,null,null,null,null,null,null,null,null,null,null,null,null,null,null,null,null,null,null,null,null,null,null,null,null,null,null,null,null,null,null,null,null,null,null,null,null,null,null,null,null,null,null,null,null,null,null,null,null,null,null,null,null,null,null,null,null,null,null,null,null,null,null,null,null,null,null,null,null,null,null,null,null,null,null,null,null,null,null,null,null,null,"A"]
["공    종","규  격","수 량","단위","합    계","재 료 비","노 무 비","경    비","비  고",null,null,null,null,null,null,null,null,null,null,null,null,null,null,null,null,null,null,null,null,null,null,null,null,null,null,null,null,null,null,null,null,null,null,null,null,null,null,null,null,null,null,null,null,null,null,null,null,null,null,null,null,null,null,null,null,null,null,null,null,null,null,null,null,null,null,null,null,null,null,null,null,null,null,null,null,null,null,null,null,null,null,null,null,null,null,null,null,null,null,null,null,null,null,null,null,null,null,null,null,null,null,null,null,null,null,null,null,null,70]
[null,null,null,null,null,null,null,null,null,null,null,null,null,null,null,null,null,null,null,null,null,null,null,null,null,null,null,null,null,null,null,null,null,null,null,null,null,null,null,null,null,null,null,null,null,null,null,null,null,null,null,null,null,null,null,null,null,null,null,null,null,null,null,null,null,null,null,null,null,null,null,null,null,null,null,null,null,null,null,null,null,null,null,null,null,null,null,null,null,null,null,null,null,null,null,null,null,null,null,null,null,null,null,null,null,null,null,null,null,null,null,null,null,null,null,null,null,null,"I"]
["히트랜서","18m2/hr",1,"HR",{"$f":"F5+G5+H5","v":33862},{"$f":"건설기계!I10","v":4023},{"$f":"건설기계!K10","v":28571},{"$f":"건설기계!M10","v":1268},"D000-0160",null,null,null,null,null,null,null,null,null,null,null,null,null,null,null,null,null,null,null,null,null,null,null,null,null,null,null,null,null,null,null,null,null,null,null,null,null,null,null,null,null,null,null,null,null,null,null,null,null,null,null,null,null,null,null,null,null,null,null,null,null,null,null,null,null,null,null,null,null,null,null,null,null,null,null,null,null,null,null,null,null,null,null,null,null,null,null,null,null,null,null,null,null,null,null,null,null,null,null,null,null,null,null,null,null,null,null,"D000-0160"]
["아스팔트가열기","적외선",1,"HR",117076,{"$f":"건설기계!I17","v":69356},{"$f":"건설기계!K17","v":28571},{"$f":"건설기계!M17","v":19149},"D000-0170",null,null,null,null,null,null,null,null,null,null,null,null,null,null,null,null,null,null,null,null,null,null,null,null,null,null,null,null,null,null,null,null,null,null,null,null,null,null,null,null,null,null,null,null,null,null,null,null,null,null,null,null,null,null,null,null,null,null,null,null,null,null,null,null,null,null,null,null,null,null,null,null,null,null,null,null,null,null,null,null,null,null,null,null,null,null,null,null,null,null,null,null,null,null,null,null,null,null,null,null,null,null,null,null,null,null,null,"D000-0170"]
["노면파쇄기","소형",1,"HR",91766,{"$f":"건설기계!I24","v":8760},{"$f":"건설기계!K24","v":44299},{"$f":"건설기계!M24","v":38707},"D000-0220",null,null,null,null,null,null,null,null,null,null,null,null,null,null,null,null,null,null,null,null,null,null,null,null,null,null,null,null,null,null,null,null,null,null,null,null,null,null,null,null,null,null,null,null,null,null,null,null,null,null,null,null,null,null,null,null,null,null,null,null,null,null,null,null,null,null,null,null,null,null,null,null,null,null,null,null,null,null,null,null,null,null,null,null,null,null,null,null,null,null,null,null,null,null,null,null,null,null,null,null,null,null,null,null,null,null,null,"D000-0220"]
["C.C.TV 카메라","HAN SAN SYSTEM HS10",1,"HR",31000,{"$f":"건설기계!I28","v":0},{"$f":"건설기계!K28","v":0},{"$f":"건설기계!M28","v":31000},"D00S00011",null,null,null,null,null,null,null,null,null,null,null,null,null,null,null,null,null,null,null,null,null,null,null,null,null,null,null,null,null,null,null,null,null,null,null,null,null,null,null,null,null,null,null,null,null,null,null,null,null,null,null,null,null,null,null,null,null,null,null,null,null,null,null,null,null,null,null,null,null,null,null,null,null,null,null,null,null,null,null,null,null,null,null,null,null,null,null,null,null,null,null,null,null,null,null,null,null,null,null,null,null,null,null,null,null,null,null,"D00S00011"]
["C.C.TV 적재차","스타렉스 9인",1,"HR",33378,{"$f":"건설기계!I35","v":2815},{"$f":"건설기계!K35","v":28571},{"$f":"건설기계!M35","v":1992},"D00S00012",null,null,null,null,null,null,null,null,null,null,null,null,null,null,null,null,null,null,null,null,null,null,null,null,null,null,null,null,null,null,null,null,null,null,null,null,null,null,null,null,null,null,null,null,null,null,null,null,null,null,null,null,null,null,null,null,null,null,null,null,null,null,null,null,null,null,null,null,null,null,null,null,null,null,null,null,null,null,null,null,null,null,null,null,null,null,null,null,null,null,null,null,null,null,null,null,null,null,null,null,null,null,null,null,null,null,null,"D00S00012"]
["불도저(무한궤도)","19 ton",1,"시간",111649,{"$f":"건설기계!I42","v":37806},{"$f":"건설기계!K42","v":44299},{"$f":"건설기계!M42","v":29544},"D0101-0019",null,null,null,null,null,null,null,null,null,null,null,null,null,null,null,null,null,null,null,null,null,null,null,null,null,null,null,null,null,null,null,null,null,null,null,null,null,null,null,null,null,null,null,null,null,null,null,null,null,null,null,null,null,null,null,null,null,null,null,null,null,null,null,null,null,null,null,null,null,null,null,null,null,null,null,null,null,null,null,null,null,null,null,null,null,null,null,null,null,null,null,null,null,null,null,null,null,null,null,null,null,null,null,null,null,null,null,"D0101-0019"]
["불도저(무한궤도)","32 ton",1,"시간",147839,{"$f":"건설기계!I49","v":62910},{"$f":"건설기계!K49","v":44299},{"$f":"건설기계!M49","v":40630},"D0101-0032",null,null,null,null,null,null,null,null,null,null,null,null,null,null,null,null,null,null,null,null,null,null,null,null,null,null,null,null,null,null,null,null,null,null,null,null,null,null,null,null,null,null,null,null,null,null,null,null,null,null,null,null,null,null,null,null,null,null,null,null,null,null,null,null,null,null,null,null,null,null,null,null,null,null,null,null,null,null,null,null,null,null,null,null,null,null,null,null,null,null,null,null,null,null,null,null,null,null,null,null,null,null,null,null,null,null,null,"D0101-0032"]
["굴삭기(무한궤도)"," 0.2 ㎥",1,"시간",64696,{"$f":"건설기계!I56","v":7887},{"$f":"건설기계!K56","v":44299},{"$f":"건설기계!M56","v":12510},"D0201-0020",null,null,null,null,null,null,null,null,null,null,null,null,null,null,null,null,null,null,null,null,null,null,null,null,null,null,null,null,null,null,null,null,null,null,null,null,null,null,null,null,null,null,null,null,null,null,null,null,null,null,null,null,null,null,null,null,null,null,null,null,null,null,null,null,null,null,null,null,null,null,null,null,null,null,null,null,null,null,null,null,null,null,null,null,null,null,null,null,null,null,null,null,null,null,null,null,null,null,null,null,null,null,null,null,null,null,null,"D0201-0020"]
["굴삭기(무한궤도)"," 0.4 ㎥",1,"시간",75473,{"$f":"건설기계!I63","v":15745},{"$f":"건설기계!K63","v":44299},{"$f":"건설기계!M63","v":15429},"D0201-0040",null,null,null,null,null,null,null,null,null,null,null,null,null,null,null,null,null,null,null,null,null,null,null,null,null,null,null,null,null,null,null,null,null,null,null,null,null,null,null,null,null,null,null,null,null,null,null,null,null,null,null,null,null,null,null,null,null,null,null,null,null,null,null,null,null,null,null,null,null,null,null,null,null,null,null,null,null,null,null,null,null,null,null,null,null,null,null,null,null,null,null,null,null,null,null,null,null,null,null,null,null,null,null,null,null,null,null,"D0201-0040"]
["굴삭기(무한궤도)"," 0.6 ㎥",1,"시간",81240,{"$f":"건설기계!I70","v":16223},{"$f":"건설기계!K70","v":44299},{"$f":"건설기계!M70","v":20718},"D0201-0060",null,null,null,null,null,null,null,null,null,null,null,null,null,null,null,null,null,null,null,null,null,null,null,null,null,null,null,null,null,null,null,null,null,null,null,null,null,null,null,null,null,null,null,null,null,null,null,null,null,null,null,null,null,null,null,null,null,null,null,null,null,null,null,null,null,null,null,null,null,null,null,null,null,null,null,null,null,null,null,null,null,null,null,null,null,null,null,null,null,null,null,null,null,null,null,null,null,null,null,null,null,null,null,null,null,null,null,"D0201-0060"]
["굴삭기(무한궤도)"," 0.7 ㎥",1,"시간",84528,{"$f":"건설기계!I77","v":18449},{"$f":"건설기계!K77","v":44299},{"$f":"건설기계!M77","v":21780},"D0201-0070",null,null,null,null,null,null,null,null,null,null,null,null,null,null,null,null,null,null,null,null,null,null,null,null,null,null,null,null,null,null,null,null,null,null,null,null,null,null,null,null,null,null,null,null,null,null,null,null,null,null,null,null,null,null,null,null,null,null,null,null,null,null,null,null,null,null,null,null,null,null,null,null,null,null,null,null,null,null,null,null,null,null,null,null,null,null,null,null,null,null,null,null,null,null,null,null,null,null,null,null,null,null,null,null,null,null,null,"D0201-0070"]
["굴삭기(무한궤도)"," 0.8 ㎥",1,"시간",92084,{"$f":"건설기계!I84","v":24334},{"$f":"건설기계!K84","v":44299},{"$f":"건설기계!M84","v":23451},"D0201-0080",null,null,null,null,null,null,null,null,null,null,null,null,null,null,null,null,null,null,null,null,null,null,null,null,null,null,null,null,null,null,null,null,null,null,null,null,null,null,null,null,null,null,null,null,null,null,null,null,null,null,null,null,null,null,null,null,null,null,null,null,null,null,null,null,null,null,null,null,null,null,null,null,null,null,null,null,null,null,null,null,null,null,null,null,null,null,null,null,null,null,null,null,null,null,null,null,null,null,null,null,null,null,null,null,null,null,null,"D0201-0080"]
["굴삭기(무한궤도)"," 1.0 ㎥",1,"시간",101681,{"$f":"건설기계!I91","v":31014},{"$f":"건설기계!K91","v":44299},{"$f":"건설기계!M91","v":26368},"D0201-0100",null,null,null,null,null,null,null,null,null,null,null,null,null,null,null,null,null,null,null,null,null,null,null,null,null,null,null,null,null,null,null,null,null,null,null,null,null,null,null,null,null,null,null,null,null,null,null,null,null,null,null,null,null,null,null,null,null,null,null,null,null,null,null,null,null,null,null,null,null,null,null,null,null,null,null,null,null,null,null,null,null,null,null,null,null,null,null,null,null,null,null,null,null,null,null,null,null,null,null,null,null,null,null,null,null,null,null,"D0201-0100"]
["굴삭기(타이어)","0.18 ㎥",1,"시간",67708,{"$f":"건설기계!I98","v":9052},{"$f":"건설기계!K98","v":44299},{"$f":"건설기계!M98","v":14357},"D0211-0018",null,null,null,null,null,null,null,null,null,null,null,null,null,null,null,null,null,null,null,null,null,null,null,null,null,null,null,null,null,null,null,null,null,null,null,null,null,null,null,null,null,null,null,null,null,null,null,null,null,null,null,null,null,null,null,null,null,null,null,null,null,null,null,null,null,null,null,null,null,null,null,null,null,null,null,null,null,null,null,null,null,null,null,null,null,null,null,null,null,null,null,null,null,null,null,null,null,null,null,null,null,null,null,null,null,null,null,"D0211-0018"]
["대형브레이커","0.2 ㎥",1,"시간",2656,{"$f":"건설기계!I102","v":0},{"$f":"건설기계!K102","v":0},{"$f":"건설기계!M102","v":2656},"D0230-0002",null,null,null,null,null,null,null,null,null,null,null,null,null,null,null,null,null,null,null,null,null,null,null,null,null,null,null,null,null,null,null,null,null,null,null,null,null,null,null,null,null,null,null,null,null,null,null,null,null,null,null,null,null,null,null,null,null,null,null,null,null,null,null,null,null,null,null,null,null,null,null,null,null,null,null,null,null,null,null,null,null,null,null,null,null,null,null,null,null,null,null,null,null,null,null,null,null,null,null,null,null,null,null,null,null,null,null,"D0230-0002"]
["대형브레이커","0.4 ㎥",1,"시간",4866,{"$f":"건설기계!I106","v":0},{"$f":"건설기계!K106","v":0},{"$f":"건설기계!M106","v":4866},"D0230-0004",null,null,null,null,null,null,null,null,null,null,null,null,null,null,null,null,null,null,null,null,null,null,null,null,null,null,null,null,null,null,null,null,null,null,null,null,null,null,null,null,null,null,null,null,null,null,null,null,null,null,null,null,null,null,null,null,null,null,null,null,null,null,null,null,null,null,null,null,null,null,null,null,null,null,null,null,null,null,null,null,null,null,null,null,null,null,null,null,null,null,null,null,null,null,null,null,null,null,null,null,null,null,null,null,null,null,null,"D0230-0004"]
["대형브레이커","0.6 ㎥",1,"시간",8259,{"$f":"건설기계!I110","v":0},{"$f":"건설기계!K110","v":0},{"$f":"건설기계!M110","v":8259},"D0230-0006",null,null,null,null,null,null,null,null,null,null,null,null,null,null,null,null,null,null,null,null,null,null,null,null,null,null,null,null,null,null,null,null,null,null,null,null,null,null,null,null,null,null,null,null,null,null,null,null,null,null,null,null,null,null,null,null,null,null,null,null,null,null,null,null,null,null,null,null,null,null,null,null,null,null,null,null,null,null,null,null,null,null,null,null,null,null,null,null,null,null,null,null,null,null,null,null,null,null,null,null,null,null,null,null,null,null,null,"D0230-0006"]
["대형브레이커","0.7 ㎥",1,"시간",10073,{"$f":"건설기계!I114","v":0},{"$f":"건설기계!K114","v":0},{"$f":"건설기계!M114","v":10073},"D0230-0007",null,null,null,null,null,null,null,null,null,null,null,null,null,null,null,null,null,null,null,null,null,null,null,null,null,null,null,null,null,null,null,null,null,null,null,null,null,null,null,null,null,null,null,null,null,null,null,null,null,null,null,null,null,null,null,null,null,null,null,null,null,null,null,null,null,null,null,null,null,null,null,null,null,null,null,null,null,null,null,null,null,null,null,null,null,null,null,null,null,null,null,null,null,null,null,null,null,null,null,null,null,null,null,null,null,null,null,"D0230-0007"]
["대형브레이커","0.8 ㎥",1,"시간",13197,{"$f":"건설기계!I118","v":0},{"$f":"건설기계!K118","v":0},{"$f":"건설기계!M118","v":13197},"D0230-0008",null,null,null,null,null,null,null,null,null,null,null,null,null,null,null,null,null,null,null,null,null,null,null,null,null,null,null,null,null,null,null,null,null,null,null,null,null,null,null,null,null,null,null,null,null,null,null,null,null,null,null,null,null,null,null,null,null,null,null,null,null,null,null,null,null,null,null,null,null,null,null,null,null,null,null,null,null,null,null,null,null,null,null,null,null,null,null,null,null,null,null,null,null,null,null,null,null,null,null,null,null,null,null,null,null,null,null,"D0230-0008"]
["로더(타이어)","0.57 ㎥",1,"시간",57433,{"$f":"건설기계!I125","v":6570},{"$f":"건설기계!K125","v":44299},{"$f":"건설기계!M125","v":6564},"D0302-0057",null,null,null,null,null,null,null,null,null,null,null,null,null,null,null,null,null,null,null,null,null,null,null,null,null,null,null,null,null,null,null,null,null,null,null,null,null,null,null,null,null,null,null,null,null,null,null,null,null,null,null,null,null,null,null,null,null,null,null,null,null,null,null,null,null,null,null,null,null,null,null,null,null,null,null,null,null,null,null,null,null,null,null,null,null,null,null,null,null,null,null,null,null,null,null,null,null,null,null,null,null,null,null,null,null,null,null,"D0302-0057"]
["로더(타이어)","0.95 ㎥",1,"시간",64059,{"$f":"건설기계!I132","v":11639},{"$f":"건설기계!K132","v":44299},{"$f":"건설기계!M132","v":8121},"D0302-0095"]
["모터그레이더","3.6 m(일반용)",1,"시간",115067,{"$f":"건설기계!I139","v":29356},{"$f":"건설기계!K139","v":44299},{"$f":"건설기계!M139","v":41412},"D0502-0036",null,null,null,null,null,null,null,null,null,null,null,null,null,null,null,null,null,null,null,null,null,null,null,null,null,null,null,null,null,null,null,null,null,null,null,null,null,null,null,null,null,null,null,null,null,null,null,null,null,null,null,null,null,null,null,null,null,null,null,null,null,null,null,null,null,null,null,null,null,null,null,null,null,null,null,null,null,null,null,null,null,null,null,null,null,null,null,null,null,null,null,null,null,null,null,null,null,null,null,null,null,null,null,null,null,null,null,"D0502-0036"]
["덤프트럭"," 2.5 ton",1,"시간",47328,{"$f":"건설기계!I146","v":5217},{"$f":"건설기계!K146","v":36224},{"$f":"건설기계!M146","v":5887},"D0602-0025",null,null,null,null,null,null,null,null,null,null,null,null,null,null,null,null,null,null,null,null,null,null,null,null,null,null,null,null,null,null,null,null,null,null,null,null,null,null,null,null,null,null,null,null,null,null,null,null,null,null,null,null,null,null,null,null,null,null,null,null,null,null,null,null,null,null,null,null,null,null,null,null,null,null,null,null,null,null,null,null,null,null,null,null,null,null,null,null,null,null,null,null,null,null,null,null,null,null,null,null,null,null,null,null,null,null,null,"D0602-0025"]
["덤프트럭","4.5 ton",1,"시간",52092,{"$f":"건설기계!I153","v":8995},{"$f":"건설기계!K153","v":36224},{"$f":"건설기계!M153","v":6873},"D0602-0045",null,null,null,null,null,null,null,null,null,null,null,null,null,null,null,null,null,null,null,null,null,null,null,null,null,null,null,null,null,null,null,null,null,null,null,null,null,null,null,null,null,null,null,null,null,null,null,null,null,null,null,null,null,null,null,null,null,null,null,null,null,null,null,null,null,null,null,null,null,null,null,null,null,null,null,null,null,null,null,null,null,null,null,null,null,null,null,null,null,null,null,null,null,null,null,null,null,null,null,null,null,null,null,null,null,null,null,"D0602-0045"]
["덤프트럭","8 ton",1,"시간",62473,{"$f":"건설기계!I160","v":16731},{"$f":"건설기계!K160","v":36224},{"$f":"건설기계!M160","v":9518},"D0602-0080",null,null,null,null,null,null,null,null,null,null,null,null,null,null,null,null,null,null,null,null,null,null,null,null,null,null,null,null,null,null,null,null,null,null,null,null,null,null,null,null,null,null,null,null,null,null,null,null,null,null,null,null,null,null,null,null,null,null,null,null,null,null,null,null,null,null,null,null,null,null,null,null,null,null,null,null,null,null,null,null,null,null,null,null,null,null,null,null,null,null,null,null,null,null,null,null,null,null,null,null,null,null,null,null,null,null,null,"D0602-0080"]
["덤프트럭","15 ton",1,"시간",91688,{"$f":"건설기계!I167","v":28605},{"$f":"건설기계!K167","v":44299},{"$f":"건설기계!M167","v":18784},"D0602-0150",null,null,null,null,null,null,null,null,null,null,null,null,null,null,null,null,null,null,null,null,null,null,null,null,null,null,null,null,null,null,null,null,null,null,null,null,null,null,null,null,null,null,null,null,null,null,null,null,null,null,null,null,null,null,null,null,null,null,null,null,null,null,null,null,null,null,null,null,null,null,null,null,null,null,null,null,null,null,null,null,null,null,null,null,null,null,null,null,null,null,null,null,null,null,null,null,null,null,null,null,null,null,null,null,null,null,null,"D0602-0150"]
["덤프트럭","24ton,자동덮개",1,"시간",116162,{"$f":"건설기계!I175","v":41379},{"$f":"건설기계!K175","v":44299},{"$f":"건설기계!M175","v":30484},"D0602-0240",null,null,null,null,null,null,null,null,null,null,null,null,null,null,null,null,null,null,null,null,null,null,null,null,null,null,null,null,null,null,null,null,null,null,null,null,null,null,null,null,null,null,null,null,null,null,null,null,null,null,null,null,null,null,null,null,null,null,null,null,null,null,null,null,null,null,null,null,null,null,null,null,null,null,null,null,null,null,null,null,null,null,null,null,null,null,null,null,null,null,null,null,null,null,null,null,null,null,null,null,null,null,null,null,null,null,null,"D0602-0240"]
["카고트럭(더블캡)","1 ton",1,"시간",{"$f":"F32+G32+H32","v":45484},{"$f":"건설기계!I182","v":5217},{"$f":"건설기계!K182","v":36224},{"$f":"건설기계!M182","v":4043},"D0604-0010",null,null,null,null,null,null,null,null,null,null,null,null,null,null,null,null,null,null,null,null,null,null,null,null,null,null,null,null,null,null,null,null,null,null,null,null,null,null,null,null,null,null,null,null,null,null,null,null,null,null,null,null,null,null,null,null,null,null,null,null,null,null,null,null,null,null,null,null,null,null,null,null,null,null,null,null,null,null,null,null,null,null,null,null,null,null,null,null,null,null,null,null,null,null,null,null,null,null,null,null,null,null,null,null,null,null,null,"D0602-0240"]
["머캐덤롤러(자주식)"," 8~10 ton",1,"시간",64566,{"$f":"건설기계!I189","v":11691},{"$f":"건설기계!K189","v":44299},{"$f":"건설기계!M189","v":8576},"D1106-0010",null,null,null,null,null,null,null,null,null,null,null,null,null,null,null,null,null,null,null,null,null,null,null,null,null,null,null,null,null,null,null,null,null,null,null,null,null,null,null,null,null,null,null,null,null,null,null,null,null,null,null,null,null,null,null,null,null,null,null,null,null,null,null,null,null,null,null,null,null,null,null,null,null,null,null,null,null,null,null,null,null,null,null,null,null,null,null,null,null,null,null,null,null,null,null,null,null,null,null,null,null,null,null,null,null,null,null,"D1106-0010"]
["머캐덤롤러(자주식)","10~12 ton",1,"시간",69312,{"$f":"건설기계!I196","v":14306},{"$f":"건설기계!K196","v":44299},{"$f":"건설기계!M196","v":10707},"D1106-0012",null,null,null,null,null,null,null,null,null,null,null,null,null,null,null,null,null,null,null,null,null,null,null,null,null,null,null,null,null,null,null,null,null,null,null,null,null,null,null,null,null,null,null,null,null,null,null,null,null,null,null,null,null,null,null,null,null,null,null,null,null,null,null,null,null,null,null,null,null,null,null,null,null,null,null,null,null,null,null,null,null,null,null,null,null,null,null,null,null,null,null,null,null,null,null,null,null,null,null,null,null,null,null,null,null,null,null,"D1106-0012"]
["탠덤롤러(진동자주식)","  4ton",1,"시간",65042,{"$f":"건설기계!I203","v":11545},{"$f":"건설기계!K203","v":44299},{"$f":"건설기계!M203","v":9198},"D1206-0008",null,null,null,null,null,null,null,null,null,null,null,null,null,null,null,null,null,null,null,null,null,null,null,null,null,null,null,null,null,null,null,null,null,null,null,null,null,null,null,null,null,null,null,null,null,null,null,null,null,null,null,null,null,null,null,null,null,null,null,null,null,null,null,null,null,null,null,null,null,null,null,null,null,null,null,null,null,null,null,null,null,null,null,null,null,null,null,null,null,null,null,null,null,null,null,null,null,null,null,null,null,null,null,null,null,null,null,"D1206-0008"]
["탠덤롤러(자주식)","5~8 ton",1,"시간",60245,{"$f":"건설기계!I210","v":7691},{"$f":"건설기계!K210","v":44299},{"$f":"건설기계!M210","v":8255},"D1206-00158",null,null,null,null,null,null,null,null,null,null,null,null,null,null,null,null,null,null,null,null,null,null,null,null,null,null,null,null,null,null,null,null,null,null,null,null,null,null,null,null,null,null,null,null,null,null,null,null,null,null,null,null,null,null,null,null,null,null,null,null,null,null,null,null,null,null,null,null,null,null,null,null,null,null,null,null,null,null,null,null,null,null,null,null,null,null,null,null,null,null,null,null,null,null,null,null,null,null,null,null,null,null,null,null,null,null,null,"D1206-00158"]
["탠덤롤러(자주식)","10~14 ton",1,"시간",66741,{"$f":"건설기계!I217","v":12922},{"$f":"건설기계!K217","v":44299},{"$f":"건설기계!M217","v":9520},"D1206-0014",null,null,null,null,null,null,null,null,null,null,null,null,null,null,null,null,null,null,null,null,null,null,null,null,null,null,null,null,null,null,null,null,null,null,null,null,null,null,null,null,null,null,null,null,null,null,null,null,null,null,null,null,null,null,null,null,null,null,null,null,null,null,null,null,null,null,null,null,null,null,null,null,null,null,null,null,null,null,null,null,null,null,null,null,null,null,null,null,null,null,null,null,null,null,null,null,null,null,null,null,null,null,null,null,null,null,null,"D1206-0014"]
["진동롤러(핸드가이드식)","0.7 ton",1,"시간",49251,{"$f":"건설기계!I224","v":3240},{"$f":"건설기계!K224","v":44299},{"$f":"건설기계!M224","v":1712},"D1305-0007",null,null,null,null,null,null,null,null,null,null,null,null,null,null,null,null,null,null,null,null,null,null,null,null,null,null,null,null,null,null,null,null,null,null,null,null,null,null,null,null,null,null,null,null,null,null,null,null,null,null,null,null,null,null,null,null,null,null,null,null,null,null,null,null,null,null,null,null,null,null,null,null,null,null,null,null,null,null,null,null,null,null,null,null,null,null,null,null,null,null,null,null,null,null,null,null,null,null,null,null,null,null,null,null,null,null,null,"D1305-0007"]
["진동롤러(자주식)","2.5 ton",1,"시간",{"$f":"F39+G39+H39","v":52321},{"$f":"건설기계!I231","v":3388},{"$f":"건설기계!K231","v":44299},{"$f":"건설기계!M231","v":4634},"D1306-0025",null,null,null,null,null,null,null,null,null,null,null,null,null,null,null,null,null,null,null,null,null,null,null,null,null,null,null,null,null,null,null,null,null,null,null,null,null,null,null,null,null,null,null,null,null,null,null,null,null,null,null,null,null,null,null,null,null,null,null,null,null,null,null,null,null,null,null,null,null,null,null,null,null,null,null,null,null,null,null,null,null,null,null,null,null,null,null,null,null,null,null,null,null,null,null,null,null,null,null,null,null,null,null,null,null,null,null,"D1306-0025"]
["진동롤러(자주식)","10.0 ton",1,"시간",93008,{"$f":"건설기계!I238","v":24405},{"$f":"건설기계!K238","v":44299},{"$f":"건설기계!M238","v":24304},"D1306-0100",null,null,null,null,null,null,null,null,null,null,null,null,null,null,null,null,null,null,null,null,null,null,null,null,null,null,null,null,null,null,null,null,null,null,null,null,null,null,null,null,null,null,null,null,null,null,null,null,null,null,null,null,null,null,null,null,null,null,null,null,null,null,null,null,null,null,null,null,null,null,null,null,null,null,null,null,null,null,null,null,null,null,null,null,null,null,null,null,null,null,null,null,null,null,null,null,null,null,null,null,null,null,null,null,null,null,null,"D1306-0100"]
["진동롤러(자주식)","12.0 ton",1,"시간",{"$f":"F41+G41+H41","v":97066},{"$f":"건설기계!I245","v":26777},{"$f":"건설기계!K245","v":44299},{"$f":"건설기계!M245","v":25990},"D1306-0120",null,null,null,null,null,null,null,null,null,null,null,null,null,null,null,null,null,null,null,null,null,null,null,null,null,null,null,null,null,null,null,null,null,null,null,null,null,null,null,null,null,null,null,null,null,null,null,null,null,null,null,null,null,null,null,null,null,null,null,null,null,null,null,null,null,null,null,null,null,null,null,null,null,null,null,null,null,null,null,null,null,null,null,null,null,null,null,null,null,null,null,null,null,null,null,null,null,null,null,null,null,null,null,null,null,null,null,"D1306-0100"]
["타이어롤러(자주식)","5~8 ton",1,"시간",62784,{"$f":"건설기계!I252","v":7857},{"$f":"건설기계!K252","v":44299},{"$f":"건설기계!M252","v":10628},"D1406-0008",null,null,null,null,null,null,null,null,null,null,null,null,null,null,null,null,null,null,null,null,null,null,null,null,null,null,null,null,null,null,null,null,null,null,null,null,null,null,null,null,null,null,null,null,null,null,null,null,null,null,null,null,null,null,null,null,null,null,null,null,null,null,null,null,null,null,null,null,null,null,null,null,null,null,null,null,null,null,null,null,null,null,null,null,null,null,null,null,null,null,null,null,null,null,null,null,null,null,null,null,null,null,null,null,null,null,null,"D1406-0008"]
["타이어롤러(자주식)","8~15 ton",1,"시간",73756,{"$f":"건설기계!I259","v":12828},{"$f":"건설기계!K259","v":44299},{"$f":"건설기계!M259","v":16629},"D1406-0015",null,null,null,null,null,null,null,null,null,null,null,null,null,null,null,null,null,null,null,null,null,null,null,null,null,null,null,null,null,null,null,null,null,null,null,null,null,null,null,null,null,null,null,null,null,null,null,null,null,null,null,null,null,null,null,null,null,null,null,null,null,null,null,null,null,null,null,null,null,null,null,null,null,null,null,null,null,null,null,null,null,null,null,null,null,null,null,null,null,null,null,null,null,null,null,null,null,null,null,null,null,null,null,null,null,null,null,"D1406-0015"]
["래머","80 ㎏",1,"시간",30182,{"$f":"건설기계!I266","v":1154},{"$f":"건설기계!K266","v":28571},{"$f":"건설기계!M266","v":457},"D1630-0080",null,null,null,null,null,null,null,null,null,null,null,null,null,null,null,null,null,null,null,null,null,null,null,null,null,null,null,null,null,null,null,null,null,null,null,null,null,null,null,null,null,null,null,null,null,null,null,null,null,null,null,null,null,null,null,null,null,null,null,null,null,null,null,null,null,null,null,null,null,null,null,null,null,null,null,null,null,null,null,null,null,null,null,null,null,null,null,null,null,null,null,null,null,null,null,null,null,null,null,null,null,null,null,null,null,null,null,"D1630-0080"]
["플레이트콤팩트","1.5 ton",1,"시간",30909,{"$f":"건설기계!I273","v":1799},{"$f":"건설기계!K273","v":28571},{"$f":"건설기계!M273","v":539},"D1730-0015",null,null,null,null,null,null,null,null,null,null,null,null,null,null,null,null,null,null,null,null,null,null,null,null,null,null,null,null,null,null,null,null,null,null,null,null,null,null,null,null,null,null,null,null,null,null,null,null,null,null,null,null,null,null,null,null,null,null,null,null,null,null,null,null,null,null,null,null,null,null,null,null,null,null,null,null,null,null,null,null,null,null,null,null,null,null,null,null,null,null,null,null,null,null,null,null,null,null,null,null,null,null,null,null,null,null,null,"D1730-0015"]
["크레인(타이어)","10 ton",1,"시간",79404,{"$f":"건설기계!I280","v":6886},{"$f":"건설기계!K280","v":44299},{"$f":"건설기계!M280","v":28219},"D2104-0010",null,null,null,null,null,null,null,null,null,null,null,null,null,null,null,null,null,null,null,null,null,null,null,null,null,null,null,null,null,null,null,null,null,null,null,null,null,null,null,null,null,null,null,null,null,null,null,null,null,null,null,null,null,null,null,null,null,null,null,null,null,null,null,null,null,null,null,null,null,null,null,null,null,null,null,null,null,null,null,null,null,null,null,null,null,null,null,null,null,null,null,null,null,null,null,null,null,null,null,null,null,null,null,null,null,null,null,"D2104-0010"]
["트럭탑재형크레인","5 ton",1,"시간",53671,{"$f":"건설기계!I287","v":7978},{"$f":"건설기계!K287","v":36224},{"$f":"건설기계!M287","v":9469},"D2105-0005",null,null,null,null,null,null,null,null,null,null,null,null,null,null,null,null,null,null,null,null,null,null,null,null,null,null,null,null,null,null,null,null,null,null,null,null,null,null,null,null,null,null,null,null,null,null,null,null,null,null,null,null,null,null,null,null,null,null,null,null,null,null,null,null,null,null,null,null,null,null,null,null,null,null,null,null,null,null,null,null,null,null,null,null,null,null,null,null,null,null,null,null,null,null,null,null,null,null,null,null,null,null,null,null,null,null,null,"D2105-0005"]
["트럭탑재형크레인","10 ton",1,"시간",72827,{"$f":"건설기계!I294","v":16113},{"$f":"건설기계!K294","v":36224},{"$f":"건설기계!M294","v":20490},"D2105-0010",null,null,null,null,null,null,null,null,null,null,null,null,null,null,null,null,null,null,null,null,null,null,null,null,null,null,null,null,null,null,null,null,null,null,null,null,null,null,null,null,null,null,null,null,null,null,null,null,null,null,null,null,null,null,null,null,null,null,null,null,null,null,null,null,null,null,null,null,null,null,null,null,null,null,null,null,null,null,null,null,null,null,null,null,null,null,null,null,null,null,null,null,null,null,null,null,null,null,null,null,null,null,null,null,null,null,null,"D2105-0010"]
["트럭탑재형크레인","15 ton",1,"시간",80086,{"$f":"건설기계!I301","v":17208},{"$f":"건설기계!K301","v":36224},{"$f":"건설기계!M301","v":26654},"D2105-0015",null,null,null,null,null,null,null,null,null,null,null,null,null,null,null,null,null,null,null,null,null,null,null,null,null,null,null,null,null,null,null,null,null,null,null,null,null,null,null,null,null,null,null,null,null,null,null,null,null,null,null,null,null,null,null,null,null,null,null,null,null,null,null,null,null,null,null,null,null,null,null,null,null,null,null,null,null,null,null,null,null,null,null,null,null,null,null,null,null,null,null,null,null,null,null,null,null,null,null,null,null,null,null,null,null,null,null,"D2105-0015"]
["지게차","2.5 ton",1,"시간",55127,{"$f":"건설기계!I308","v":7144},{"$f":"건설기계!K308","v":44299},{"$f":"건설기계!M308","v":3684},"D2502-0025",null,null,null,null,null,null,null,null,null,null,null,null,null,null,null,null,null,null,null,null,null,null,null,null,null,null,null,null,null,null,null,null,null,null,null,null,null,null,null,null,null,null,null,null,null,null,null,null,null,null,null,null,null,null,null,null,null,null,null,null,null,null,null,null,null,null,null,null,null,null,null,null,null,null,null,null,null,null,null,null,null,null,null,null,null,null,null,null,null,null,null,null,null,null,null,null,null,null,null,null,null,null,null,null,null,null,null,"D2502-0025"]
["트럭트랙터 및 평판트레일러","20 ton",1,"시간",89554,{"$f":"건설기계!I315","v":29900},{"$f":"건설기계!K315","v":44299},{"$f":"건설기계!M315","v":15355},"D2702-0020",null,null,null,null,null,null,null,null,null,null,null,null,null,null,null,null,null,null,null,null,null,null,null,null,null,null,null,null,null,null,null,null,null,null,null,null,null,null,null,null,null,null,null,null,null,null,null,null,null,null,null,null,null,null,null,null,null,null,null,null,null,null,null,null,null,null,null,null,null,null,null,null,null,null,null,null,null,null,null,null,null,null,null,null,null,null,null,null,null,null,null,null,null,null,null,null,null,null,null,null,null,null,null,null,null,null,null,"D2702-0020"]
["트레일러","30 ton",1,"시간",{"$f":"F52+G52+H52","v":96157},{"$f":"건설기계!I322","v":31168},{"$f":"건설기계!K322","v":44299},{"$f":"건설기계!M322","v":20690},"D2702-0030",null,null,null,null,null,null,null,null,null,null,null,null,null,null,null,null,null,null,null,null,null,null,null,null,null,null,null,null,null,null,null,null,null,null,null,null,null,null,null,null,null,null,null,null,null,null,null,null,null,null,null,null,null,null,null,null,null,null,null,null,null,null,null,null,null,null,null,null,null,null,null,null,null,null,null,null,null,null,null,null,null,null,null,null,null,null,null,null,null,null,null,null,null,null,null,null,null,null,null,null,null,null,null,null,null,null,null,"D2702-0020"]
["아스팔트 피니셔","1.7 m",1,"시간",100003,{"$f":"건설기계!I329","v":9764},{"$f":"건설기계!K329","v":44299},{"$f":"건설기계!M329","v":45940},"D3201-0001",null,null,null,null,null,null,null,null,null,null,null,null,null,null,null,null,null,null,null,null,null,null,null,null,null,null,null,null,null,null,null,null,null,null,null,null,null,null,null,null,null,null,null,null,null,null,null,null,null,null,null,null,null,null,null,null,null,null,null,null,null,null,null,null,null,null,null,null,null,null,null,null,null,null,null,null,null,null,null,null,null,null,null,null,null,null,null,null,null,null,null,null,null,null,null,null,null,null,null,null,null,null,null,null,null,null,null,"D3201-0003"]
["아스팔트 피니셔","3 m",1,"시간",111437,{"$f":"건설기계!I336","v":18134},{"$f":"건설기계!K336","v":44299},{"$f":"건설기계!M336","v":49004},"D3201-0003",null,null,null,null,null,null,null,null,null,null,null,null,null,null,null,null,null,null,null,null,null,null,null,null,null,null,null,null,null,null,null,null,null,null,null,null,null,null,null,null,null,null,null,null,null,null,null,null,null,null,null,null,null,null,null,null,null,null,null,null,null,null,null,null,null,null,null,null,null,null,null,null,null,null,null,null,null,null,null,null,null,null,null,null,null,null,null,null,null,null,null,null,null,null,null,null,null,null,null,null,null,null,null,null,null,null,null,"D3201-0003"]
["아스팔트 스프레이어","300 ℓ",1,"시간",46075,{"$f":"건설기계!I343","v":1271},{"$f":"건설기계!K343","v":44299},{"$f":"건설기계!M343","v":505},"D3430-0300",null,null,null,null,null,null,null,null,null,null,null,null,null,null,null,null,null,null,null,null,null,null,null,null,null,null,null,null,null,null,null,null,null,null,null,null,null,null,null,null,null,null,null,null,null,null,null,null,null,null,null,null,null,null,null,null,null,null,null,null,null,null,null,null,null,null,null,null,null,null,null,null,null,null,null,null,null,null,null,null,null,null,null,null,null,null,null,null,null,null,null,null,null,null,null,null,null,null,null,null,null,null,null,null,null,null,null,"D3430-0300"]
["아스팔트 스프레이어","400 ℓ",1,"시간",46893,{"$f":"건설기계!I350","v":1907},{"$f":"건설기계!K350","v":44299},{"$f":"건설기계!M350","v":687},"D3430-0400",null,null,null,null,null,null,null,null,null,null,null,null,null,null,null,null,null,null,null,null,null,null,null,null,null,null,null,null,null,null,null,null,null,null,null,null,null,null,null,null,null,null,null,null,null,null,null,null,null,null,null,null,null,null,null,null,null,null,null,null,null,null,null,null,null,null,null,null,null,null,null,null,null,null,null,null,null,null,null,null,null,null,null,null,null,null,null,null,null,null,null,null,null,null,null,null,null,null,null,null,null,null,null,null,null,null,null,"D3430-0400"]
["아스팔트 디스트리뷰터","3800 ℓ",1,"시간",{"$f":"F57+G57+H57","v":76422},{"$f":"건설기계!I357","v":17762},{"$f":"건설기계!K357","v":44299},{"$f":"건설기계!M357","v":14361},"D3302-0038",null,null,null,null,null,null,null,null,null,null,null,null,null,null,null,null,null,null,null,null,null,null,null,null,null,null,null,null,null,null,null,null,null,null,null,null,null,null,null,null,null,null,null,null,null,null,null,null,null,null,null,null,null,null,null,null,null,null,null,null,null,null,null,null,null,null,null,null,null,null,null,null,null,null,null,null,null,null,null,null,null,null,null,null,null,null,null,null,null,null,null,null,null,null,null,null,null,null,null,null,null,null,null,null,null,null,null,"D3430-0400"]
["콘크리트 믹서","0.20 ㎥",1,"시간",31530,{"$f":"건설기계!I364","v":1988},{"$f":"건설기계!K364","v":28571},{"$f":"건설기계!M364","v":971},"D4205-0020",null,null,null,null,null,null,null,null,null,null,null,null,null,null,null,null,null,null,null,null,null,null,null,null,null,null,null,null,null,null,null,null,null,null,null,null,null,null,null,null,null,null,null,null,null,null,null,null,null,null,null,null,null,null,null,null,null,null,null,null,null,null,null,null,null,null,null,null,null,null,null,null,null,null,null,null,null,null,null,null,null,null,null,null,null,null,null,null,null,null,null,null,null,null,null,null,null,null,null,null,null,null,null,null,null,null,null,"D4205-0020"]
["콘크리트 믹서","0.45 ㎥",1,"시간",36040,{"$f":"건설기계!I371","v":5964},{"$f":"건설기계!K371","v":28571},{"$f":"건설기계!M371","v":1505},"D4205-0045",null,null,null,null,null,null,null,null,null,null,null,null,null,null,null,null,null,null,null,null,null,null,null,null,null,null,null,null,null,null,null,null,null,null,null,null,null,null,null,null,null,null,null,null,null,null,null,null,null,null,null,null,null,null,null,null,null,null,null,null,null,null,null,null,null,null,null,null,null,null,null,null,null,null,null,null,null,null,null,null,null,null,null,null,null,null,null,null,null,null,null,null,null,null,null,null,null,null,null,null,null,null,null,null,null,null,null,"D4205-0045"]
["커터(콘크리트 및 아스팔트용)","320~400 mm",1,"시간",40423,{"$f":"건설기계!I378","v":10075},{"$f":"건설기계!K378","v":28571},{"$f":"건설기계!M378","v":1777},"D4430-0400",null,null,null,null,null,null,null,null,null,null,null,null,null,null,null,null,null,null,null,null,null,null,null,null,null,null,null,null,null,null,null,null,null,null,null,null,null,null,null,null,null,null,null,null,null,null,null,null,null,null,null,null,null,null,null,null,null,null,null,null,null,null,null,null,null,null,null,null,null,null,null,null,null,null,null,null,null,null,null,null,null,null,null,null,null,null,null,null,null,null,null,null,null,null,null,null,null,null,null,null,null,null,null,null,null,null,null,"D4430-0400"]
["콘크리트 진동기(엔진식)","2.6 kW",1,"시간",1769,{"$f":"건설기계!I384","v":1649},{"$f":"건설기계!K384","v":0},{"$f":"건설기계!M384","v":120},"D4611-0350",null,null,null,null,null,null,null,null,null,null,null,null,null,null,null,null,null,null,null,null,null,null,null,null,null,null,null,null,null,null,null,null,null,null,null,null,null,null,null,null,null,null,null,null,null,null,null,null,null,null,null,null,null,null,null,null,null,null,null,null,null,null,null,null,null,null,null,null,null,null,null,null,null,null,null,null,null,null,null,null,null,null,null,null,null,null,null,null,null,null,null,null,null,null,null,null,null,null,null,null,null,null,null,null,null,null,null,"D4611-0350"]
["공기압축기(이동식)","3.5 ㎥/min",1,"시간",40107,{"$f":"건설기계!I391","v":9376},{"$f":"건설기계!K391","v":28571},{"$f":"건설기계!M391","v":2160},"D5205-0035",null,null,null,null,null,null,null,null,null,null,null,null,null,null,null,null,null,null,null,null,null,null,null,null,null,null,null,null,null,null,null,null,null,null,null,null,null,null,null,null,null,null,null,null,null,null,null,null,null,null,null,null,null,null,null,null,null,null,null,null,null,null,null,null,null,null,null,null,null,null,null,null,null,null,null,null,null,null,null,null,null,null,null,null,null,null,null,null,null,null,null,null,null,null,null,null,null,null,null,null,null,null,null,null,null,null,null,"D5205-0035"]
["공기압축기(이동식)","7.1 ㎥/min",1,"시간",46822,{"$f":"건설기계!I398","v":15122},{"$f":"건설기계!K398","v":28571},{"$f":"건설기계!M398","v":3129},"D5205-0071",null,null,null,null,null,null,null,null,null,null,null,null,null,null,null,null,null,null,null,null,null,null,null,null,null,null,null,null,null,null,null,null,null,null,null,null,null,null,null,null,null,null,null,null,null,null,null,null,null,null,null,null,null,null,null,null,null,null,null,null,null,null,null,null,null,null,null,null,null,null,null,null,null,null,null,null,null,null,null,null,null,null,null,null,null,null,null,null,null,null,null,null,null,null,null,null,null,null,null,null,null,null,null,null,null,null,null,"D5205-0071"]
["소형브레이커(공압식)","(1.3 ㎥/min)",1,"시간",433,{"$f":"건설기계!I402","v":0},{"$f":"건설기계!K402","v":0},{"$f":"건설기계!M402","v":433},"D5210-0025",null,null,null,null,null,null,null,null,null,null,null,null,null,null,null,null,null,null,null,null,null,null,null,null,null,null,null,null,null,null,null,null,null,null,null,null,null,null,null,null,null,null,null,null,null,null,null,null,null,null,null,null,null,null,null,null,null,null,null,null,null,null,null,null,null,null,null,null,null,null,null,null,null,null,null,null,null,null,null,null,null,null,null,null,null,null,null,null,null,null,null,null,null,null,null,null,null,null,null,null,null,null,null,null,null,null,null,"D5210-0025"]
["소형노면파쇄기","0.6 m",1,"HR",91766,{"$f":"건설기계!I409","v":8760},{"$f":"건설기계!K409","v":44299},{"$f":"건설기계!M409","v":38707},"D5701-0006",null,null,null,null,null,null,null,null,null,null,null,null,null,null,null,null,null,null,null,null,null,null,null,null,null,null,null,null,null,null,null,null,null,null,null,null,null,null,null,null,null,null,null,null,null,null,null,null,null,null,null,null,null,null,null,null,null,null,null,null,null,null,null,null,null,null,null,null,null,null,null,null,null,null,null,null,null,null,null,null,null,null,null,null,null,null,null,null,null,null,null,null,null,null,null,null,null,null,null,null,null,null,null,null,null,null,null,"D5701-0006"]
["노면파쇄기","1.0 m",1,"시간",175041,{"$f":"건설기계!I416","v":21020},{"$f":"건설기계!K416","v":44299},{"$f":"건설기계!M416","v":109722},"D5701-0010",null,null,null,null,null,null,null,null,null,null,null,null,null,null,null,null,null,null,null,null,null,null,null,null,null,null,null,null,null,null,null,null,null,null,null,null,null,null,null,null,null,null,null,null,null,null,null,null,null,null,null,null,null,null,null,null,null,null,null,null,null,null,null,null,null,null,null,null,null,null,null,null,null,null,null,null,null,null,null,null,null,null,null,null,null,null,null,null,null,null,null,null,null,null,null,null,null,null,null,null,null,null,null,null,null,null,null,"D5701-0010"]
["노면파쇄기","2.0 m",1,"시간",273395,{"$f":"건설기계!I423","v":79697},{"$f":"건설기계!K423","v":44299},{"$f":"건설기계!M423","v":149399},"D5701-0020",null,null,null,null,null,null,null,null,null,null,null,null,null,null,null,null,null,null,null,null,null,null,null,null,null,null,null,null,null,null,null,null,null,null,null,null,null,null,null,null,null,null,null,null,null,null,null,null,null,null,null,null,null,null,null,null,null,null,null,null,null,null,null,null,null,null,null,null,null,null,null,null,null,null,null,null,null,null,null,null,null,null,null,null,null,null,null,null,null,null,null,null,null,null,null,null,null,null,null,null,null,null,null,null,null,null,null,"D5701-0020"]
["하수관 천공기","수동식",1,"시간",278,{"$f":"건설기계!I427","v":0},{"$f":"건설기계!K427","v":0},{"$f":"건설기계!M427","v":278},"D7103-0010",null,null,null,null,null,null,null,null,null,null,null,null,null,null,null,null,null,null,null,null,null,null,null,null,null,null,null,null,null,null,null,null,null,null,null,null,null,null,null,null,null,null,null,null,null,null,null,null,null,null,null,null,null,null,null,null,null,null,null,null,null,null,null,null,null,null,null,null,null,null,null,null,null,null,null,null,null,null,null,null,null,null,null,null,null,null,null,null,null,null,null,null,null,null,null,null,null,null,null,null,null,null,null,null,null,null,null,"D7103-0010"]
["물탱크(살수차)"," 5500 ℓ",1,"시간",60893,{"$f":"건설기계!I434","v":15761},{"$f":"건설기계!K434","v":36224},{"$f":"건설기계!M434","v":8908},"D7204-0055",null,null,null,null,null,null,null,null,null,null,null,null,null,null,null,null,null,null,null,null,null,null,null,null,null,null,null,null,null,null,null,null,null,null,null,null,null,null,null,null,null,null,null,null,null,null,null,null,null,null,null,null,null,null,null,null,null,null,null,null,null,null,null,null,null,null,null,null,null,null,null,null,null,null,null,null,null,null,null,null,null,null,null,null,null,null,null,null,null,null,null,null,null,null,null,null,null,null,null,null,null,null,null,null,null,null,null,"D7204-0055"]
["물탱크(살수차)","16000 ℓ",1,"시간",75171,{"$f":"건설기계!I441","v":21862},{"$f":"건설기계!K441","v":36224},{"$f":"건설기계!M441","v":17085},"D7204-0160",null,null,null,null,null,null,null,null,null,null,null,null,null,null,null,null,null,null,null,null,null,null,null,null,null,null,null,null,null,null,null,null,null,null,null,null,null,null,null,null,null,null,null,null,null,null,null,null,null,null,null,null,null,null,null,null,null,null,null,null,null,null,null,null,null,null,null,null,null,null,null,null,null,null,null,null,null,null,null,null,null,null,null,null,null,null,null,null,null,null,null,null,null,null,null,null,null,null,null,null,null,null,null,null,null,null,null,"D7204-0160"]
["차선제거기","4.10kW",1,"시간",41851,{"$f":"건설기계!I448","v":9949},{"$f":"건설기계!K448","v":28571},{"$f":"건설기계!M448","v":3331},"D7360-0055",null,null,null,null,null,null,null,null,null,null,null,null,null,null,null,null,null,null,null,null,null,null,null,null,null,null,null,null,null,null,null,null,null,null,null,null,null,null,null,null,null,null,null,null,null,null,null,null,null,null,null,null,null,null,null,null,null,null,null,null,null,null,null,null,null,null,null,null,null,null,null,null,null,null,null,null,null,null,null,null,null,null,null,null,null,null,null,null,null,null,null,null,null,null,null,null,null,null,null,null,null,null,null,null,null,null,null,"D7360-0055"]
["발전기"," 25 ㎾",1,"시간",38567,{"$f":"건설기계!I455","v":6951},{"$f":"건설기계!K455","v":28571},{"$f":"건설기계!M455","v":3045},"D7505-0025",null,null,null,null,null,null,null,null,null,null,null,null,null,null,null,null,null,null,null,null,null,null,null,null,null,null,null,null,null,null,null,null,null,null,null,null,null,null,null,null,null,null,null,null,null,null,null,null,null,null,null,null,null,null,null,null,null,null,null,null,null,null,null,null,null,null,null,null,null,null,null,null,null,null,null,null,null,null,null,null,null,null,null,null,null,null,null,null,null,null,null,null,null,null,null,null,null,null,null,null,null,null,null,null,null,null,null,"D7505-0025"]
["발전기"," 50 ㎾",1,"시간",46818,{"$f":"건설기계!I462","v":14064},{"$f":"건설기계!K462","v":28571},{"$f":"건설기계!M462","v":4183},"D7505-0050",null,null,null,null,null,null,null,null,null,null,null,null,null,null,null,null,null,null,null,null,null,null,null,null,null,null,null,null,null,null,null,null,null,null,null,null,null,null,null,null,null,null,null,null,null,null,null,null,null,null,null,null,null,null,null,null,null,null,null,null,null,null,null,null,null,null,null,null,null,null,null,null,null,null,null,null,null,null,null,null,null,null,null,null,null,null,null,null,null,null,null,null,null,null,null,null,null,null,null,null,null,null,null,null,null,null,null,"D7505-0050"]
["발전기","100 ㎾",1,"시간",61781,{"$f":"건설기계!I469","v":28128},{"$f":"건설기계!K469","v":28571},{"$f":"건설기계!M469","v":5082},"D7505-0100",null,null,null,null,null,null,null,null,null,null,null,null,null,null,null,null,null,null,null,null,null,null,null,null,null,null,null,null,null,null,null,null,null,null,null,null,null,null,null,null,null,null,null,null,null,null,null,null,null,null,null,null,null,null,null,null,null,null,null,null,null,null,null,null,null,null,null,null,null,null,null,null,null,null,null,null,null,null,null,null,null,null,null,null,null,null,null,null,null,null,null,null,null,null,null,null,null,null,null,null,null,null,null,null,null,null,null,"D7505-0100"]
["용접기(교류)","200 Amp",1,"시간",{"$f":"F75+G75+H75","v":82},{"$f":"건설기계!I473","v":0},{"$f":"건설기계!K473","v":0},{"$f":"건설기계!M473","v":82},"D7611-0200",null,null,null,null,null,null,null,null,null,null,null,null,null,null,null,null,null,null,null,null,null,null,null,null,null,null,null,null,null,null,null,null,null,null,null,null,null,null,null,null,null,null,null,null,null,null,null,null,null,null,null,null,null,null,null,null,null,null,null,null,null,null,null,null,null,null,null,null,null,null,null,null,null,null,null,null,null,null,null,null,null,null,null,null,null,null,null,null,null,null,null,null,null,null,null,null,null,null,null,null,null,null,null,null,null,null,null,"D7611-0200"]
["건식 그루버","50HP",1,"HR",{"$f":"F76+G76+H76","v":105880},{"$f":"건설기계!I480","v":30046},{"$f":"건설기계!K480","v":0},{"$f":"건설기계!M480","v":75834},"D000-0110",null,null,null,null,null,null,null,null,null,null,null,null,null,null,null,null,null,null,null,null,null,null,null,null,null,null,null,null,null,null,null,null,null,null,null,null,null,null,null,null,null,null,null,null,null,null,null,null,null,null,null,null,null,null,null,null,null,null,null,null,null,null,null,null,null,null,null,null,null,null,null,null,null,null,null,null,null,null,null,null,null,null,null,null,null,null,null,null,null,null,null,null,null,null,null,null,null,null,null,null,null,null,null,null,null,null,null,"D000-0110"]
["동력분무기","4.85kw",1,"HR",{"$f":"F77+G77+H77","v":13723},{"$f":"건설기계!I497","v":13493},{"$f":"건설기계!K497","v":0},{"$f":"건설기계!M497","v":230},"D7210-0485",null,null,null,null,null,null,null,null,null,null,null,null,null,null,null,null,null,null,null,null,null,null,null,null,null,null,null,null,null,null,null,null,null,null,null,null,null,null,null,null,null,null,null,null,null,null,null,null,null,null,null,null,null,null,null,null,null,null,null,null,null,null,null,null,null,null,null,null,null,null,null,null,null,null,null,null,null,null,null,null,null,null,null,null,null,null,null,null,null,null,null,null,null,null,null,null,null,null,null,null,null,null,null,null,null,null,null,"D000-0110"]
["소형노면파쇄기","0.95 ㎥",1,"시간",{"$f":"F78+G78+H78","v":10097},{"$f":"건설기계!I501","v":0},{"$f":"건설기계!K501","v":0},{"$f":"건설기계!M501","v":10097},"D5702-0095"]

{"sheet":"건설기계","index":8,"n_rows":501,"n_cols":120,"rows_kept":501,"cut":false,"hidden":false,"merged":[[0,1,0,13],[2,1,3,1],[2,2,3,2],[2,3,3,3],[2,4,3,4],[2,13,3,13],[2,5,2,6],[2,7,2,8],[2,9,2,10],[2,11,2,12]]}
[null,"건 설 기 계  손 료",null,null,null,null,null,null,null,null,null,null,null,null,null,null,null,null,null,null,null,null,null,null,null,null,null,null,null,null,null,null,null,null,null,null,null,null,null,null,null,null,null,null,null,null,null,null,null,null,null,null,null,null,null,null,null,null,null,null,null,null,null,null,null,null,null,null,null,null,null,null,null,null,null,null,null,null,null,null,null,null,null,null,null,null,null,null,null,null,null,null,null,null,null,null,null,null,null,null,null,null,null,null,null,null,null,null,null,null,null,null,null,null,null,null,null,null,null,5]
[null,null,null,null,null,null,null,null,null,null,null,null,null,null,null,null,null,null,null,null,null,null,null,null,null,null,null,null,null,null,null,null,null,null,null,null,null,null,null,null,null,null,null,null,null,null,null,null,null,null,null,null,null,null,null,null,null,null,null,null,null,null,null,null,null,null,null,null,null,null,null,null,null,null,null,null,null,null,null,null,null,null,null,null,null,null,null,null,null,null,null,null,null,null,null,null,null,null,null,null,null,null,null,null,null,null,null,null,null,null,null,null,null,null,null,null,null,null,null,"A"]
[null,"구    분","규 격","수량","단위","합    계",null,"재 료 비",null,"노 무 비",null,"경    비",null,"비  고",null,null,null,null,null,null,null,null,null,null,null,null,null,null,null,null,null,null,null,null,null,null,null,null,null,null,null,null,null,null,null,null,null,null,null,null,null,null,null,null,null,null,null,null,null,null,null,null,null,null,null,null,null,null,null,null,null,null,null,null,null,null,null,null,null,null,null,null,null,null,null,null,null,null,null,null,null,null,null,null,null,null,null,null,null,null,null,null,null,null,null,null,null,null,null,null,null,null,null,null,null,null,null,null,null,438]
[null,null,null,null,null,"단 가","금  액","단 가","금  액","단 가","금  액","단 가","금  액",null,null,null,null,null,null,null,null,null,null,null,null,null,null,null,null,null,null,null,null,null,null,null,null,null,null,null,null,null,null,null,null,null,null,null,null,null,null,null,null,null,null,null,null,null,null,null,null,null,null,null,null,null,null,null,null,null,null,null,null,null,null,null,null,null,null,null,null,null,null,null,null,null,null,null,null,null,null,null,null,null,null,null,null,null,null,null,null,null,null,null,null,null,null,null,null,null,null,null,null,null,null,null,null,null,null,"M"]
[null," ：히트랜서 (18m2/hr)",null,null,null,null,null,null,null,null,null,null,null,null,null,null,null,null,null,null,null,null,null,null,null,null,null,null,null,null,null,null,null,null,null,null,null,null,null,null,null,null,null,null,null,null,null,null,null,null,null,null,null,null,null,null,null,null,null,null,null,null,null,null,null,null,null,null,null,null,null,null,null,null,null,null,null,null,null,null,null,null,null,null,null,null,null,null,null,null,null,null,null,null,null,null,null,null,null,null,null,null,null,null,null,null,null,null,null,null,null,null,null,null,null,null,null,":D000-0160"]
[null,"기계손료","",{"$f":"2588*10^-7*1000","v":0.25880000000000003},"",{"$f":"H6+J6+L6","v":4900},1268.0999999999999,0,{"$f":"TRUNC(D6*H6,1)","v":0},0,{"$f":"TRUNC(D6*J6,1)","v":0},4900,{"$f":"TRUNC(D6*L6,1)","v":1268.0999999999999},"",null,null,null,null,null,null,null,null,null,null,null,null,null,null,null,null,null,null,null,null,null,null,null,null,null,null,null,null,null,null,null,null,null,null,null,null,null,null,null,null,null,null,null,null,null,null,null,null,null,null,null,null,null,null,null,null,null,null,null,null,null,null,null,null,null,null,null,null,null,null,null,null,null,null,null,null,null,null,null,null,null,null,null,null,null,null,null,null,null,null,null,null,null,null,null,null,null,null,null,null,null,null,null,"%SON-LYO","2588"]
[null,"일반기계운전사","",1,"인",28571,28571,0,{"$f":"TRUNC(D7*H7,1)","v":0},{"$f":"TRUNC(노임단가!K9*16/12*1/8*25/20,0)","v":28571},{"$f":"TRUNC(D7*J7,1)","v":28571},0,{"$f":"TRUNC(D7*L7,1)","v":0},"",null,null,null,null,null,null,null,null,null,null,null,null,null,null,null,null,null,null,null,null,null,null,null,null,null,null,null,null,null,null,null,null,null,null,null,null,null,null,null,null,null,null,null,null,null,null,null,null,null,null,null,null,null,null,null,null,null,null,null,null,null,null,null,null,null,null,null,null,null,null,null,null,null,null,null,null,null,null,null,null,null,null,null,null,null,null,null,null,null,null,null,null,null,null,null,null,null,null,null,null,null,null,null,"W1050",""]
[null,"프로판가스","프로판가스",3.75,"㎏",894,3352.5,{"$f":"자재단가!R94","v":894},{"$f":"TRUNC(D8*H8,1)","v":3352.5},0,{"$f":"TRUNC(D8*J8,1)","v":0},0,{"$f":"TRUNC(D8*L8,1)","v":0},"",null,null,null,null,null,null,null,null,null,null,null,null,null,null,null,null,null,null,null,null,null,null,null,null,null,null,null,null,null,null,null,null,null,null,null,null,null,null,null,null,null,null,null,null,null,null,null,null,null,null,null,null,null,null,null,null,null,null,null,null,null,null,null,null,null,null,null,null,null,null,null,null,null,null,null,null,null,null,null,null,null,null,null,null,null,null,null,null,null,null,null,null,null,null,null,null,null,null,null,null,null,null,null,"M9384003",""]
[null,"잡    품","주연료비의 %",20,"%",3352.5,670.5,{"$f":"SUM(I6:I8)","v":3352.5},{"$f":"TRUNC(D9/100*H9,1)","v":670.5},0,{"$f":"TRUNC(D9/100*J9,1)","v":0},0,{"$f":"TRUNC(D9/100*L9,1)","v":0},"",null,null,null,null,null,null,null,null,null,null,null,null,null,null,null,null,null,null,null,null,null,null,null,null,null,null,null,null,null,null,null,null,null,null,null,null,null,null,null,null,null,null,null,null,null,null,null,null,null,null,null,null,null,null,null,null,null,null,null,null,null,null,null,null,null,null,null,null,null,null,null,null,null,null,null,null,null,null,null,null,null,null,null,null,null,null,null,null,null,null,null,null,null,null,null,null,null,null,null,null,null,null,null,"%RAN*MM",""]
[null,"             계             ",null,null,null,null,{"$f":"I10+K10+M10","v":33862},null,{"$f":"ROUNDDOWN(SUM(I6:I9),0)","v":4023},null,{"$f":"ROUNDDOWN(SUM(K6:K9),0)","v":28571},null,{"$f":"ROUNDDOWN(SUM(M6:M9),0)","v":1268}]
[]
[null," ：아스팔트가열기 (적외선)",null,null,null,null,null,null,null,null,null,null,null,null,null,null,null,null,null,null,null,null,null,null,null,null,null,null,null,null,null,null,null,null,null,null,null,null,null,null,null,null,null,null,null,null,null,null,null,null,null,null,null,null,null,null,null,null,null,null,null,null,null,null,null,null,null,null,null,null,null,null,null,null,null,null,null,null,null,null,null,null,null,null,null,null,null,null,null,null,null,null,null,null,null,null,null,null,null,null,null,null,null,null,null,null,null,null,null,null,null,null,null,null,null,null,null,":D000-0170"]
[null,"주 연 료","경    유",38,"ℓ",{"$f":"H13+J13+L13","v":1303.69},49540.2,{"$f":"자재단가!R7","v":1303.69},{"$f":"TRUNC(D13*H13,1)","v":49540.2},0,{"$f":"TRUNC(D13*J13,1)","v":0},0,{"$f":"TRUNC(D13*L13,1)","v":0},"",null,null,null,null,null,null,null,null,null,null,null,null,null,null,null,null,null,null,null,null,null,null,null,null,null,null,null,null,null,null,null,null,null,null,null,null,null,null,null,null,null,null,null,null,null,null,null,null,null,null,null,null,null,null,null,null,null,null,null,null,null,null,null,null,null,null,null,null,null,null,null,null,null,null,null,null,null,null,null,null,null,null,null,null,null,null,null,null,null,null,null,null,null,null,null,null,null,null,null,null,null,null,null,"M0000-101",""]
[null,"잡    품","주연료비의 %",40,"%",49540.2,19816,{"$f":"I13","v":49540.2},{"$f":"TRUNC(D14/100*H14,1)","v":19816},0,{"$f":"TRUNC(D14/100*J14,1)","v":0},0,{"$f":"TRUNC(D14/100*L14,1)","v":0},"",null,null,null,null,null,null,null,null,null,null,null,null,null,null,null,null,null,null,null,null,null,null,null,null,null,null,null,null,null,null,null,null,null,null,null,null,null,null,null,null,null,null,null,null,null,null,null,null,null,null,null,null,null,null,null,null,null,null,null,null,null,null,null,null,null,null,null,null,null,null,null,null,null,null,null,null,null,null,null,null,null,null,null,null,null,null,null,null,null,null,null,null,null,null,null,null,null,null,null,null,null,null,null,"%RAN*MM",""]
[null,"일반기계운전사","",1,"인",28571,28571,0,{"$f":"TRUNC(D15*H15,1)","v":0},{"$f":"TRUNC(노임단가!K9*16/12*1/8*25/20,0)","v":28571},{"$f":"TRUNC(D15*J15,1)","v":28571},0,{"$f":"TRUNC(D15*L15,1)","v":0},"",null,null,null,null,null,null,null,null,null,null,null,null,null,null,null,null,null,null,null,null,null,null,null,null,null,null,null,null,null,null,null,null,null,null,null,null,null,null,null,null,null,null,null,null,null,null,null,null,null,null,null,null,null,null,null,null,null,null,null,null,null,null,null,null,null,null,null,null,null,null,null,null,null,null,null,null,null,null,null,null,null,null,null,null,null,null,null,null,null,null,null,null,null,null,null,null,null,null,null,null,null,null,null,"W1050",""]
[null,"기계손료","",{"$f":"3030*10^-7*1000","v":0.30299999999999999},"",63200,19149.599999999999,0,{"$f":"TRUNC(D16*H16,1)","v":0},0,{"$f":"TRUNC(D16*J16,1)","v":0},63200,{"$f":"TRUNC(D16*L16,1)","v":19149.599999999999},"",null,null,null,null,null,null,null,null,null,null,null,null,null,null,null,null,null,null,null,null,null,null,null,null,null,null,null,null,null,null,null,null,null,null,null,null,null,null,null,null,null,null,null,null,null,null,null,null,null,null,null,null,null,null,null,null,null,null,null,null,null,null,null,null,null,null,null,null,null,null,null,null,null,null,null,null,null,null,null,null,null,null,null,null,null,null,null,null,null,null,null,null,null,null,null,null,null,null,null,null,null,null,null,"%SON-LYO","3030"]
[null,"             계             ",null,null,null,null,{"$f":"I17+K17+M17","v":117076},null,{"$f":"ROUNDDOWN(SUM(I13:I16),0)","v":69356},null,{"$f":"ROUNDDOWN(SUM(K13:K16),0)","v":28571},null,{"$f":"ROUNDDOWN(SUM(M13:M16),0)","v":19149}]
[]
[null," ：노면파쇄기 (소형)",null,null,null,null,null,null,null,null,null,null,null,null,null,null,null,null,null,null,null,null,null,null,null,null,null,null,null,null,null,null,null,null,null,null,null,null,null,null,null,null,null,null,null,null,null,null,null,null,null,null,null,null,null,null,null,null,null,null,null,null,null,null,null,null,null,null,null,null,null,null,null,null,null,null,null,null,null,null,null,null,null,null,null,null,null,null,null,null,null,null,null,null,null,null,null,null,null,null,null,null,null,null,null,null,null,null,null,null,null,null,null,null,null,null,null,":D000-0220"]
[null,"기계손료",null,0.4032,"",{"$f":"H20+J20+L20","v":96000},38707.199999999997,0,{"$f":"TRUNC(D20*H20,1)","v":0},0,{"$f":"TRUNC(D20*J20,1)","v":0},96000,{"$f":"TRUNC(D20*L20,1)","v":38707.199999999997},"",null,null,null,null,null,null,null,null,null,null,null,null,null,null,null,null,null,null,null,null,null,null,null,null,null,null,null,null,null,null,null,null,null,null,null,null,null,null,null,null,null,null,null,null,null,null,null,null,null,null,null,null,null,null,null,null,null,null,null,null,null,null,null,null,null,null,null,null,null,null,null,null,null,null,null,null,null,null,null,null,null,null,null,null,null,null,null,null,null,null,null,null,null,null,null,null,null,null,null,null,null,null,null,"%SON-LYO","6639"]
[null,"경    유","휘 발 유",5.6,"ℓ",1303.69,7300.6,{"$f":"자재단가!R7","v":1303.69},{"$f":"TRUNC(D21*H21,1)","v":7300.6},0,{"$f":"TRUNC(D21*J21,1)","v":0},0,{"$f":"TRUNC(D21*L21,1)","v":0},"",null,null,null,null,null,null,null,null,null,null,null,null,null,null,null,null,null,null,null,null,null,null,null,null,null,null,null,null,null,null,null,null,null,null,null,null,null,null,null,null,null,null,null,null,null,null,null,null,null,null,null,null,null,null,null,null,null,null,null,null,null,null,null,null,null,null,null,null,null,null,null,null,null,null,null,null,null,null,null,null,null,null,null,null,null,null,null,null,null,null,null,null,null,null,null,null,null,null,null,null,null,null,null,"M0000-100",""]
[null,"잡    품","주연료비의 %",20,"%",7300.6,1460.1,{"$f":"SUM(I20:I21)","v":7300.6},{"$f":"TRUNC(D22/100*H22,1)","v":1460.1},0,{"$f":"TRUNC(D22/100*J22,1)","v":0},0,{"$f":"TRUNC(D22/100*L22,1)","v":0},"",null,null,null,null,null,null,null,null,null,null,null,null,null,null,null,null,null,null,null,null,null,null,null,null,null,null,null,null,null,null,null,null,null,null,null,null,null,null,null,null,null,null,null,null,null,null,null,null,null,null,null,null,null,null,null,null,null,null,null,null,null,null,null,null,null,null,null,null,null,null,null,null,null,null,null,null,null,null,null,null,null,null,null,null,null,null,null,null,null,null,null,null,null,null,null,null,null,null,null,null,null,null,null,"%RAN*MM",""]
[null,"건설기계운전사","",1,"인",44299,44299,0,{"$f":"TRUNC(D23*H23,1)","v":0},{"$f":"TRUNC(노임단가!K6*16/12*1/8*25/20,0)","v":44299},{"$f":"TRUNC(D23*J23,1)","v":44299},0,{"$f":"TRUNC(D23*L23,1)","v":0},"",null,null,null,null,null,null,null,null,null,null,null,null,null,null,null,null,null,null,null,null,null,null,null,null,null,null,null,null,null,null,null,null,null,null,null,null,null,null,null,null,null,null,null,null,null,null,null,null,null,null,null,null,null,null,null,null,null,null,null,null,null,null,null,null,null,null,null,null,null,null,null,null,null,null,null,null,null,null,null,null,null,null,null,null,null,null,null,null,null,null,null,null,null,null,null,null,null,null,null,null,null,null,null,"W1050",""]
[null,"             계             ",null,null,null,null,{"$f":"I24+K24+M24","v":91766},null,{"$f":"ROUNDDOWN(SUM(I20:I23),0)","v":8760},null,{"$f":"ROUNDDOWN(SUM(K20:K23),0)","v":44299},null,{"$f":"ROUNDDOWN(SUM(M20:M23),0)","v":38707}]
[]
[null," ：C.C.TV 카메라 (HAN SAN SYSTEM HS10)",null,null,null,null,null,null,null,null,null,null,null,null,null,null,null,null,null,null,null,null,null,null,null,null,null,null,null,null,null,null,null,null,null,null,null,null,null,null,null,null,null,null,null,null,null,null,null,null,null,null,null,null,null,null,null,null,null,null,null,null,null,null,null,null,null,null,null,null,null,null,null,null,null,null,null,null,null,null,null,null,null,null,null,null,null,null,null,null,null,null,null,null,null,null,null,null,null,null,null,null,null,null,null,null,null,null,null,null,null,null,null,null,null,null,null,":D00S00011"]
[null,"기계손료","HAN SAN SYSTEM HS10",{"$f":"(5000+0+0)*10^-7*1000","v":0.5},"",{"$f":"H27+J27+L27","v":62000},{"$f":"I27+K27+M27","v":31000},0,{"$f":"TRUNC(D27*H27,1)","v":0},0,{"$f":"TRUNC(D27*J27,1)","v":0},62000,{"$f":"TRUNC(D27*L27,1)","v":31000},"",null,null,null,null,null,null,null,null,null,null,null,null,null,null,null,null,null,null,null,null,null,null,null,null,null,null,null,null,null,null,null,null,null,null,null,null,null,null,null,null,null,null,null,null,null,null,null,null,null,null,null,null,null,null,null,null,null,null,null,null,null,null,null,null,null,null,null,null,null,null,null,null,null,null,null,null,null,null,null,null,null,null,null,null,null,null,null,null,null,null,null,null,null,null,null,null,null,null,null,null,null,null,null,"%SON-LYO","(5000+0+0)"]
[null,"             계             ",null,null,null,null,{"$f":"I28+K28+M28","v":31000},null,{"$f":"ROUNDDOWN(SUM(I27:I27),0)","v":0},null,{"$f":"ROUNDDOWN(SUM(K27:K27),0)","v":0},null,{"$f":"ROUNDDOWN(SUM(M27:M27),0)","v":31000}]
[]
[null," ：C.C.TV 적재차 (스타렉스 9인)",null,null,null,null,null,null,null,null,null,null,null,null,null,null,null,null,null,null,null,null,null,null,null,null,null,null,null,null,null,null,null,null,null,null,null,null,null,null,null,null,null,null,null,null,null,null,null,null,null,null,null,null,null,null,null,null,null,null,null,null,null,null,null,null,null,null,null,null,null,null,null,null,null,null,null,null,null,null,null,null,null,null,null,null,null,null,null,null,null,null,null,null,null,null,null,null,null,null,null,null,null,null,null,null,null,null,null,null,null,null,null,null,null,null,null,":D00S00012"]
[null,"기계손료","스타렉스9인승",{"$f":"(1476+0+0)*10^-7*1000","v":0.14759999999999998},"",{"$f":"H31+J31+L31","v":13500},1992.6,0,{"$f":"TRUNC(D31*H31,1)","v":0},0,{"$f":"TRUNC(D31*J31,1)","v":0},13500,{"$f":"TRUNC(D31*L31,1)","v":1992.6},"",null,null,null,null,null,null,null,null,null,null,null,null,null,null,null,null,null,null,null,null,null,null,null,null,null,null,null,null,null,null,null,null,null,null,null,null,null,null,null,null,null,null,null,null,null,null,null,null,null,null,null,null,null,null,null,null,null,null,null,null,null,null,null,null,null,null,null,null,null,null,null,null,null,null,null,null,null,null,null,null,null,null,null,null,null,null,null,null,null,null,null,null,null,null,null,null,null,null,null,null,null,null,null,"%SON-LYO","(1476+0+0)"]
[null,"일반기계운전사","",1,"인",28571,28571,0,{"$f":"TRUNC(D32*H32,1)","v":0},{"$f":"TRUNC(노임단가!K9*16/12*1/8*25/20,0)","v":28571},{"$f":"TRUNC(D32*J32,1)","v":28571},0,{"$f":"TRUNC(D32*L32,1)","v":0},"",null,null,null,null,null,null,null,null,null,null,null,null,null,null,null,null,null,null,null,null,null,null,null,null,null,null,null,null,null,null,null,null,null,null,null,null,null,null,null,null,null,null,null,null,null,null,null,null,null,null,null,null,null,null,null,null,null,null,null,null,null,null,null,null,null,null,null,null,null,null,null,null,null,null,null,null,null,null,null,null,null,null,null,null,null,null,null,null,null,null,null,null,null,null,null,null,null,null,null,null,null,null,null,"W1050",""]
[null,"경유","경    유",1.8,"ℓ",1303.69,2346.6,{"$f":"자재단가!R7","v":1303.69},{"$f":"TRUNC(D33*H33,1)","v":2346.6},0,{"$f":"TRUNC(D33*J33,1)","v":0},0,{"$f":"TRUNC(D33*L33,1)","v":0},"",null,null,null,null,null,null,null,null,null,null,null,null,null,null,null,null,null,null,null,null,null,null,null,null,null,null,null,null,null,null,null,null,null,null,null,null,null,null,null,null,null,null,null,null,null,null,null,null,null,null,null,null,null,null,null,null,null,null,null,null,null,null,null,null,null,null,null,null,null,null,null,null,null,null,null,null,null,null,null,null,null,null,null,null,null,null,null,null,null,null,null,null,null,null,null,null,null,null,null,null,null,null,null,"M0000-101",""]
[null,"잡    품","",20,"%",2346.6,469.3,{"$f":"SUM(I31:I33)","v":2346.6},{"$f":"TRUNC(D34/100*H34,1)","v":469.3},0,{"$f":"TRUNC(D34/100*J34,1)","v":0},0,{"$f":"TRUNC(D34/100*L34,1)","v":0},"",null,null,null,null,null,null,null,null,null,null,null,null,null,null,null,null,null,null,null,null,null,null,null,null,null,null,null,null,null,null,null,null,null,null,null,null,null,null,null,null,null,null,null,null,null,null,null,null,null,null,null,null,null,null,null,null,null,null,null,null,null,null,null,null,null,null,null,null,null,null,null,null,null,null,null,null,null,null,null,null,null,null,null,null,null,null,null,null,null,null,null,null,null,null,null,null,null,null,null,null,null,null,null,"%RAN*MM",""]
[null,"             계             ",null,null,null,null,{"$f":"I35+K35+M35","v":33378},null,{"$f":"ROUNDDOWN(SUM(I31:I34),0)","v":2815},null,{"$f":"ROUNDDOWN(SUM(K31:K34),0)","v":28571},null,{"$f":"ROUNDDOWN(SUM(M31:M34),0)","v":1992}]
[]
[null," ：불도저(무한궤도) [19 ton]",null,null,null,null,null,null,null,null,null,null,null,null,null,null,null,null,null,null,null,null,null,null,null,null,null,null,null,null,null,null,null,null,null,null,null,null,null,null,null,null,null,null,null,null,null,null,null,null,null,null,null,null,null,null,null,null,null,null,null,null,null,null,null,null,null,null,null,null,null,null,null,null,null,null,null,null,null,null,null,null,null,null,null,null,null,null,null,null,null,null,null,null,null,null,null,null,null,null,null,null,null,null,null,null,null,null,null,null,null,null,null,null,null,null,null,":D0101-0019"]
[null,"경    유","경    유",25,"ℓ",{"$f":"H38+J38+L38","v":1303.69},32592.2,{"$f":"자재단가!R7","v":1303.69},{"$f":"TRUNC(D38*H38,1)","v":32592.2},0,{"$f":"TRUNC(D38*J38,1)","v":0},0,{"$f":"TRUNC(D38*L38,1)","v":0},"",null,null,null,null,null,null,null,null,null,null,null,null,null,null,null,null,null,null,null,null,null,null,null,null,null,null,null,null,null,null,null,null,null,null,null,null,null,null,null,null,null,null,null,null,null,null,null,null,null,null,null,null,null,null,null,null,null,null,null,null,null,null,null,null,null,null,null,null,null,null,null,null,null,null,null,null,null,null,null,null,null,null,null,null,null,null,null,null,null,null,null,null,null,null,null,null,null,null,null,null,null,null,null,"M0000-101",""]
[null,"잡    품","주연료비의 %",16,"%",32592.2,5214.7,{"$f":"I38","v":32592.2},{"$f":"TRUNC(D39/100*H39,1)","v":5214.7},0,{"$f":"TRUNC(D39/100*J39,1)","v":0},0,{"$f":"TRUNC(D39/100*L39,1)","v":0},"",null,null,null,null,null,null,null,null,null,null,null,null,null,null,null,null,null,null,null,null,null,null,null,null,null,null,null,null,null,null,null,null,null,null,null,null,null,null,null,null,null,null,null,null,null,null,null,null,null,null,null,null,null,null,null,null,null,null,null,null,null,null,null,null,null,null,null,null,null,null,null,null,null,null,null,null,null,null,null,null,null,null,null,null,null,null,null,null,null,null,null,null,null,null,null,null,null,null,null,null,null,null,null,"%RAN*MM","1"]
[null,"건설기계운전사","",1,"인",44299,44299,0,{"$f":"TRUNC(D40*H40,1)","v":0},{"$f":"TRUNC(노임단가!K6*16/12*1/8*25/20,0)","v":44299},{"$f":"TRUNC(D40*J40,1)","v":44299},0,{"$f":"TRUNC(D40*L40,1)","v":0},"",null,null,null,null,null,null,null,null,null,null,null,null,null,null,null,null,null,null,null,null,null,null,null,null,null,null,null,null,null,null,null,null,null,null,null,null,null,null,null,null,null,null,null,null,null,null,null,null,null,null,null,null,null,null,null,null,null,null,null,null,null,null,null,null,null,null,null,null,null,null,null,null,null,null,null,null,null,null,null,null,null,null,null,null,null,null,null,null,null,null,null,null,null,null,null,null,null,null,null,null,null,null,null,"W1048",""]
[null,"기계손료","상각비:750/정비비:583/관리비:478",{"$f":"1811*10^-7*1000","v":0.18109999999999998},"",163140,29544.6,0,{"$f":"TRUNC(D41*H41,1)","v":0},0,{"$f":"TRUNC(D41*J41,1)","v":0},163140,{"$f":"TRUNC(D41*L41,1)","v":29544.6},"",null,null,null,null,null,null,null,null,null,null,null,null,null,null,null,null,null,null,null,null,null,null,null,null,null,null,null,null,null,null,null,null,null,null,null,null,null,null,null,null,null,null,null,null,null,null,null,null,null,null,null,null,null,null,null,null,null,null,null,null,null,null,null,null,null,null,null,null,null,null,null,null,null,null,null,null,null,null,null,null,null,null,null,null,null,null,null,null,null,null,null,null,null,null,null,null,null,null,null,null,null,null,null,"%SON-LYO","1763"]
[null,"             계             ",null,null,null,null,{"$f":"I42+K42+M42","v":111649},null,{"$f":"ROUNDDOWN(SUM(I38:I41),0)","v":37806},null,{"$f":"ROUNDDOWN(SUM(K38:K41),0)","v":44299},null,{"$f":"ROUNDDOWN(SUM(M38:M41),0)","v":29544}]
[]
[null," ：불도저(무한궤도) [32 ton]",null,null,null,null,null,null,null,null,null,null,null,null,null,null,null,null,null,null,null,null,null,null,null,null,null,null,null,null,null,null,null,null,null,null,null,null,null,null,null,null,null,null,null,null,null,null,null,null,null,null,null,null,null,null,null,null,null,null,null,null,null,null,null,null,null,null,null,null,null,null,null,null,null,null,null,null,null,null,null,null,null,null,null,null,null,null,null,null,null,null,null,null,null,null,null,null,null,null,null,null,null,null,null,null,null,null,null,null,null,null,null,null,null,null,null,":D0101-0032"]
[null,"경    유","경    유",41.6,"ℓ",{"$f":"H45+J45+L45","v":1303.69},54233.5,{"$f":"자재단가!R7","v":1303.69},{"$f":"TRUNC(D45*H45,1)","v":54233.5},0,{"$f":"TRUNC(D45*J45,1)","v":0},0,{"$f":"TRUNC(D45*L45,1)","v":0},"",null,null,null,null,null,null,null,null,null,null,null,null,null,null,null,null,null,null,null,null,null,null,null,null,null,null,null,null,null,null,null,null,null,null,null,null,null,null,null,null,null,null,null,null,null,null,null,null,null,null,null,null,null,null,null,null,null,null,null,null,null,null,null,null,null,null,null,null,null,null,null,null,null,null,null,null,null,null,null,null,null,null,null,null,null,null,null,null,null,null,null,null,null,null,null,null,null,null,null,null,null,null,null,"M0000-101",""]
[null,"잡    품","주연료비의 %",16,"%",54233.5,8677.2999999999993,{"$f":"I45","v":54233.5},{"$f":"TRUNC(D46/100*H46,1)","v":8677.2999999999993},0,{"$f":"TRUNC(D46/100*J46,1)","v":0},0,{"$f":"TRUNC(D46/100*L46,1)","v":0},"",null,null,null,null,null,null,null,null,null,null,null,null,null,null,null,null,null,null,null,null,null,null,null,null,null,null,null,null,null,null,null,null,null,null,null,null,null,null,null,null,null,null,null,null,null,null,null,null,null,null,null,null,null,null,null,null,null,null,null,null,null,null,null,null,null,null,null,null,null,null,null,null,null,null,null,null,null,null,null,null,null,null,null,null,null,null,null,null,null,null,null,null,null,null,null,null,null,null,null,null,null,null,null,"%RAN*MM","1"]
[null,"건설기계운전사","",1,"인",44299,44299,0,{"$f":"TRUNC(D47*H47,1)","v":0},{"$f":"TRUNC(노임단가!K6*16/12*1/8*25/20,0)","v":44299},{"$f":"TRUNC(D47*J47,1)","v":44299},0,{"$f":"TRUNC(D47*L47,1)","v":0},"",null,null,null,null,null,null,null,null,null,null,null,null,null,null,null,null,null,null,null,null,null,null,null,null,null,null,null,null,null,null,null,null,null,null,null,null,null,null,null,null,null,null,null,null,null,null,null,null,null,null,null,null,null,null,null,null,null,null,null,null,null,null,null,null,null,null,null,null,null,null,null,null,null,null,null,null,null,null,null,null,null,null,null,null,null,null,null,null,null,null,null,null,null,null,null,null,null,null,null,null,null,null,null,"W1048",""]
[null,"기계손료","상각비:750/정비비:583/관리비:478",{"$f":"1811*10^-7*1000","v":0.18109999999999998},"",224355,40630.6,0,{"$f":"TRUNC(D48*H48,1)","v":0},0,{"$f":"TRUNC(D48*J48,1)","v":0},224355,{"$f":"TRUNC(D48*L48,1)","v":40630.6},"",null,null,null,null,null,null,null,null,null,null,null,null,null,null,null,null,null,null,null,null,null,null,null,null,null,null,null,null,null,null,null,null,null,null,null,null,null,null,null,null,null,null,null,null,null,null,null,null,null,null,null,null,null,null,null,null,null,null,null,null,null,null,null,null,null,null,null,null,null,null,null,null,null,null,null,null,null,null,null,null,null,null,null,null,null,null,null,null,null,null,null,null,null,null,null,null,null,null,null,null,null,null,null,"%SON-LYO","1763"]
[null,"             계             ",null,null,null,null,{"$f":"I49+K49+M49","v":147839},null,{"$f":"ROUNDDOWN(SUM(I45:I48),0)","v":62910},null,{"$f":"ROUNDDOWN(SUM(K45:K48),0)","v":44299},null,{"$f":"ROUNDDOWN(SUM(M45:M48),0)","v":40630}]
[]
[null," ：굴삭기(무한궤도) [0.2 ㎥]",null,null,null,null,null,null,null,null,null,null,null,null,null,null,null,null,null,null,null,null,null,null,null,null,null,null,null,null,null,null,null,null,null,null,null,null,null,null,null,null,null,null,null,null,null,null,null,null,null,null,null,null,null,null,null,null,null,null,null,null,null,null,null,null,null,null,null,null,null,null,null,null,null,null,null,null,null,null,null,null,null,null,null,null,null,null,null,null,null,null,null,null,null,null,null,null,null,null,null,null,null,null,null,null,null,null,null,null,null,null,null,null,null,null,null,":D0201-0020"]
[null,"경    유","경    유",5,"ℓ",{"$f":"H52+J52+L52","v":1303.69},6518.4,{"$f":"자재단가!R7","v":1303.69},{"$f":"TRUNC(D52*H52,1)","v":6518.4},0,{"$f":"TRUNC(D52*J52,1)","v":0},0,{"$f":"TRUNC(D52*L52,1)","v":0},"",null,null,null,null,null,null,null,null,null,null,null,null,null,null,null,null,null,null,null,null,null,null,null,null,null,null,null,null,null,null,null,null,null,null,null,null,null,null,null,null,null,null,null,null,null,null,null,null,null,null,null,null,null,null,null,null,null,null,null,null,null,null,null,null,null,null,null,null,null,null,null,null,null,null,null,null,null,null,null,null,null,null,null,null,null,null,null,null,null,null,null,null,null,null,null,null,null,null,null,null,null,null,null,"M0000-101",""]
[null,"잡    품","주연료비의 %",21,"%",6518.4,1368.8,{"$f":"I52","v":6518.4},{"$f":"TRUNC(D53/100*H53,1)","v":1368.8},0,{"$f":"TRUNC(D53/100*J53,1)","v":0},0,{"$f":"TRUNC(D53/100*L53,1)","v":0},"",null,null,null,null,null,null,null,null,null,null,null,null,null,null,null,null,null,null,null,null,null,null,null,null,null,null,null,null,null,null,null,null,null,null,null,null,null,null,null,null,null,null,null,null,null,null,null,null,null,null,null,null,null,null,null,null,null,null,null,null,null,null,null,null,null,null,null,null,null,null,null,null,null,null,null,null,null,null,null,null,null,null,null,null,null,null,null,null,null,null,null,null,null,null,null,null,null,null,null,null,null,null,null,"%RAN*MM","1"]
[null,"건설기계운전사","",1,"인",44299,44299,0,{"$f":"TRUNC(D54*H54,1)","v":0},{"$f":"TRUNC(노임단가!K6*16/12*1/8*25/20,0)","v":44299},{"$f":"TRUNC(D54*J54,1)","v":44299},0,{"$f":"TRUNC(D54*L54,1)","v":0},"",null,null,null,null,null,null,null,null,null,null,null,null,null,null,null,null,null,null,null,null,null,null,null,null,null,null,null,null,null,null,null,null,null,null,null,null,null,null,null,null,null,null,null,null,null,null,null,null,null,null,null,null,null,null,null,null,null,null,null,null,null,null,null,null,null,null,null,null,null,null,null,null,null,null,null,null,null,null,null,null,null,null,null,null,null,null,null,null,null,null,null,null,null,null,null,null,null,null,null,null,null,null,null,"W1048",""]
[null,"기계손료","상각비:900/정비비:700/관리비:485",{"$f":"2085*10^-7*1000","v":0.20849999999999999},"",60000,12510,0,{"$f":"TRUNC(D55*H55,1)","v":0},0,{"$f":"TRUNC(D55*J55,1)","v":0},60000,{"$f":"TRUNC(D55*L55,1)","v":12510},"",null,null,null,null,null,null,null,null,null,null,null,null,null,null,null,null,null,null,null,null,null,null,null,null,null,null,null,null,null,null,null,null,null,null,null,null,null,null,null,null,null,null,null,null,null,null,null,null,null,null,null,null,null,null,null,null,null,null,null,null,null,null,null,null,null,null,null,null,null,null,null,null,null,null,null,null,null,null,null,null,null,null,null,null,null,null,null,null,null,null,null,null,null,null,null,null,null,null,null,null,null,null,null,"%SON-LYO","2038"]
[null,"             계             ",null,null,null,null,{"$f":"I56+K56+M56","v":64696},null,{"$f":"ROUNDDOWN(SUM(I52:I55),0)","v":7887},null,{"$f":"ROUNDDOWN(SUM(K52:K55),0)","v":44299},null,{"$f":"ROUNDDOWN(SUM(M52:M55),0)","v":12510}]
[]
[null," ：굴삭기(무한궤도) [0.4 ㎥]",null,null,null,null,null,null,null,null,null,null,null,null,null,null,null,null,null,null,null,null,null,null,null,null,null,null,null,null,null,null,null,null,null,null,null,null,null,null,null,null,null,null,null,null,null,null,null,null,null,null,null,null,null,null,null,null,null,null,null,null,null,null,null,null,null,null,null,null,null,null,null,null,null,null,null,null,null,null,null,null,null,null,null,null,null,null,null,null,null,null,null,null,null,null,null,null,null,null,null,null,null,null,null,null,null,null,null,null,null,null,null,null,null,null,null,":D0201-0040"]
[null,"경    유","경    유",9.9,"ℓ",{"$f":"H59+J59+L59","v":1303.69},12906.5,{"$f":"자재단가!R7","v":1303.69},{"$f":"TRUNC(D59*H59,1)","v":12906.5},0,{"$f":"TRUNC(D59*J59,1)","v":0},0,{"$f":"TRUNC(D59*L59,1)","v":0},"",null,null,null,null,null,null,null,null,null,null,null,null,null,null,null,null,null,null,null,null,null,null,null,null,null,null,null,null,null,null,null,null,null,null,null,null,null,null,null,null,null,null,null,null,null,null,null,null,null,null,null,null,null,null,null,null,null,null,null,null,null,null,null,null,null,null,null,null,null,null,null,null,null,null,null,null,null,null,null,null,null,null,null,null,null,null,null,null,null,null,null,null,null,null,null,null,null,null,null,null,null,null,null,"M0000-101",""]
[null,"잡    품","주연료비의 %",22,"%",12906.5,2839.4,{"$f":"I59","v":12906.5},{"$f":"TRUNC(D60/100*H60,1)","v":2839.4},0,{"$f":"TRUNC(D60/100*J60,1)","v":0},0,{"$f":"TRUNC(D60/100*L60,1)","v":0},"",null,null,null,null,null,null,null,null,null,null,null,null,null,null,null,null,null,null,null,null,null,null,null,null,null,null,null,null,null,null,null,null,null,null,null,null,null,null,null,null,null,null,null,null,null,null,null,null,null,null,null,null,null,null,null,null,null,null,null,null,null,null,null,null,null,null,null,null,null,null,null,null,null,null,null,null,null,null,null,null,null,null,null,null,null,null,null,null,null,null,null,null,null,null,null,null,null,null,null,null,null,null,null,"%RAN*MM","1"]
[null,"건설기계운전사","",1,"인",44299,44299,0,{"$f":"TRUNC(D61*H61,1)","v":0},{"$f":"TRUNC(노임단가!K6*16/12*1/8*25/20,0)","v":44299},{"$f":"TRUNC(D61*J61,1)","v":44299},0,{"$f":"TRUNC(D61*L61,1)","v":0},"",null,null,null,null,null,null,null,null,null,null,null,null,null,null,null,null,null,null,null,null,null,null,null,null,null,null,null,null,null,null,null,null,null,null,null,null,null,null,null,null,null,null,null,null,null,null,null,null,null,null,null,null,null,null,null,null,null,null,null,null,null,null,null,null,null,null,null,null,null,null,null,null,null,null,null,null,null,null,null,null,null,null,null,null,null,null,null,null,null,null,null,null,null,null,null,null,null,null,null,null,null,null,null,"W1048",""]
[null,"기계손료","상각비:900/정비비:700/관리비:485",{"$f":"2085*10^-7*1000","v":0.20849999999999999},"",74000,15429,0,{"$f":"TRUNC(D62*H62,1)","v":0},0,{"$f":"TRUNC(D62*J62,1)","v":0},74000,{"$f":"TRUNC(D62*L62,1)","v":15429},"",null,null,null,null,null,null,null,null,null,null,null,null,null,null,null,null,null,null,null,null,null,null,null,null,null,null,null,null,null,null,null,null,null,null,null,null,null,null,null,null,null,null,null,null,null,null,null,null,null,null,null,null,null,null,null,null,null,null,null,null,null,null,null,null,null,null,null,null,null,null,null,null,null,null,null,null,null,null,null,null,null,null,null,null,null,null,null,null,null,null,null,null,null,null,null,null,null,null,null,null,null,null,null,"%SON-LYO","2038"]
[null,"             계             ",null,null,null,null,{"$f":"I63+K63+M63","v":75473},null,{"$f":"ROUNDDOWN(SUM(I59:I62),0)","v":15745},null,{"$f":"ROUNDDOWN(SUM(K59:K62),0)","v":44299},null,{"$f":"ROUNDDOWN(SUM(M59:M62),0)","v":15429}]
[]
[null," ：굴삭기(무한궤도) [0.6 ㎥]",null,null,null,null,null,null,null,null,null,null,null,null,null,null,null,null,null,null,null,null,null,null,null,null,null,null,null,null,null,null,null,null,null,null,null,null,null,null,null,null,null,null,null,null,null,null,null,null,null,null,null,null,null,null,null,null,null,null,null,null,null,null,null,null,null,null,null,null,null,null,null,null,null,null,null,null,null,null,null,null,null,null,null,null,null,null,null,null,null,null,null,null,null,null,null,null,null,null,null,null,null,null,null,null,null,null,null,null,null,null,null,null,null,null,null,":D0201-0060"]
[null,"경    유","경    유",10.199999999999999,"ℓ",{"$f":"H66+J66+L66","v":1303.69},13297.6,{"$f":"자재단가!R7","v":1303.69},{"$f":"TRUNC(D66*H66,1)","v":13297.6},0,{"$f":"TRUNC(D66*J66,1)","v":0},0,{"$f":"TRUNC(D66*L66,1)","v":0},"",null,null,null,null,null,null,null,null,null,null,null,null,null,null,null,null,null,null,null,null,null,null,null,null,null,null,null,null,null,null,null,null,null,null,null,null,null,null,null,null,null,null,null,null,null,null,null,null,null,null,null,null,null,null,null,null,null,null,null,null,null,null,null,null,null,null,null,null,null,null,null,null,null,null,null,null,null,null,null,null,null,null,null,null,null,null,null,null,null,null,null,null,null,null,null,null,null,null,null,null,null,null,null,"M0000-101",""]
[null,"잡    품","주연료비의 %",22,"%",13297.6,2925.4,{"$f":"I66","v":13297.6},{"$f":"TRUNC(D67/100*H67,1)","v":2925.4},0,{"$f":"TRUNC(D67/100*J67,1)","v":0},0,{"$f":"TRUNC(D67/100*L67,1)","v":0},"",null,null,null,null,null,null,null,null,null,null,null,null,null,null,null,null,null,null,null,null,null,null,null,null,null,null,null,null,null,null,null,null,null,null,null,null,null,null,null,null,null,null,null,null,null,null,null,null,null,null,null,null,null,null,null,null,null,null,null,null,null,null,null,null,null,null,null,null,null,null,null,null,null,null,null,null,null,null,null,null,null,null,null,null,null,null,null,null,null,null,null,null,null,null,null,null,null,null,null,null,null,null,null,"%RAN*MM","1"]
[null,"건설기계운전사","",1,"인",44299,44299,0,{"$f":"TRUNC(D68*H68,1)","v":0},{"$f":"TRUNC(노임단가!K6*16/12*1/8*25/20,0)","v":44299},{"$f":"TRUNC(D68*J68,1)","v":44299},0,{"$f":"TRUNC(D68*L68,1)","v":0},"",null,null,null,null,null,null,null,null,null,null,null,null,null,null,null,null,null,null,null,null,null,null,null,null,null,null,null,null,null,null,null,null,null,null,null,null,null,null,null,null,null,null,null,null,null,null,null,null,null,null,null,null,null,null,null,null,null,null,null,null,null,null,null,null,null,null,null,null,null,null,null,null,null,null,null,null,null,null,null,null,null,null,null,null,null,null,null,null,null,null,null,null,null,null,null,null,null,null,null,null,null,null,null,"W1048",""]
[null,"기계손료","상각비:900/정비비:700/관리비:485",{"$f":"2085*10^-7*1000","v":0.20849999999999999},"",99370,20718.599999999999,0,{"$f":"TRUNC(D69*H69,1)","v":0},0,{"$f":"TRUNC(D69*J69,1)","v":0},99370,{"$f":"TRUNC(D69*L69,1)","v":20718.599999999999},"",null,null,null,null,null,null,null,null,null,null,null,null,null,null,null,null,null,null,null,null,null,null,null,null,null,null,null,null,null,null,null,null,null,null,null,null,null,null,null,null,null,null,null,null,null,null,null,null,null,null,null,null,null,null,null,null,null,null,null,null,null,null,null,null,null,null,null,null,null,null,null,null,null,null,null,null,null,null,null,null,null,null,null,null,null,null,null,null,null,null,null,null,null,null,null,null,null,null,null,null,null,null,null,"%SON-LYO","2038"]
[null,"             계             ",null,null,null,null,{"$f":"I70+K70+M70","v":81240},null,{"$f":"ROUNDDOWN(SUM(I66:I69),0)","v":16223},null,{"$f":"ROUNDDOWN(SUM(K66:K69),0)","v":44299},null,{"$f":"ROUNDDOWN(SUM(M66:M69),0)","v":20718}]
[]
[null," ：굴삭기(무한궤도) [0.7 ㎥]",null,null,null,null,null,null,null,null,null,null,null,null,null,null,null,null,null,null,null,null,null,null,null,null,null,null,null,null,null,null,null,null,null,null,null,null,null,null,null,null,null,null,null,null,null,null,null,null,null,null,null,null,null,null,null,null,null,null,null,null,null,null,null,null,null,null,null,null,null,null,null,null,null,null,null,null,null,null,null,null,null,null,null,null,null,null,null,null,null,null,null,null,null,null,null,null,null,null,null,null,null,null,null,null,null,null,null,null,null,null,null,null,null,null,null,":D0201-0070"]
[null,"경    유","경    유",11.6,"ℓ",{"$f":"H73+J73+L73","v":1303.69},15122.8,{"$f":"자재단가!R7","v":1303.69},{"$f":"TRUNC(D73*H73,1)","v":15122.8},0,{"$f":"TRUNC(D73*J73,1)","v":0},0,{"$f":"TRUNC(D73*L73,1)","v":0},"",null,null,null,null,null,null,null,null,null,null,null,null,null,null,null,null,null,null,null,null,null,null,null,null,null,null,null,null,null,null,null,null,null,null,null,null,null,null,null,null,null,null,null,null,null,null,null,null,null,null,null,null,null,null,null,null,null,null,null,null,null,null,null,null,null,null,null,null,null,null,null,null,null,null,null,null,null,null,null,null,null,null,null,null,null,null,null,null,null,null,null,null,null,null,null,null,null,null,null,null,null,null,null,"M0000-101",""]
[null,"잡    품","주연료비의 %",22,"%",15122.8,3327,{"$f":"I73","v":15122.8},{"$f":"TRUNC(D74/100*H74,1)","v":3327},0,{"$f":"TRUNC(D74/100*J74,1)","v":0},0,{"$f":"TRUNC(D74/100*L74,1)","v":0},"",null,null,null,null,null,null,null,null,null,null,null,null,null,null,null,null,null,null,null,null,null,null,null,null,null,null,null,null,null,null,null,null,null,null,null,null,null,null,null,null,null,null,null,null,null,null,null,null,null,null,null,null,null,null,null,null,null,null,null,null,null,null,null,null,null,null,null,null,null,null,null,null,null,null,null,null,null,null,null,null,null,null,null,null,null,null,null,null,null,null,null,null,null,null,null,null,null,null,null,null,null,null,null,"%RAN*MM","1"]
[null,"건설기계운전사","",1,"인",44299,44299,0,{"$f":"TRUNC(D75*H75,1)","v":0},{"$f":"TRUNC(노임단가!K6*16/12*1/8*25/20,0)","v":44299},{"$f":"TRUNC(D75*J75,1)","v":44299},0,{"$f":"TRUNC(D75*L75,1)","v":0},"",null,null,null,null,null,null,null,null,null,null,null,null,null,null,null,null,null,null,null,null,null,null,null,null,null,null,null,null,null,null,null,null,null,null,null,null,null,null,null,null,null,null,null,null,null,null,null,null,null,null,null,null,null,null,null,null,null,null,null,null,null,null,null,null,null,null,null,null,null,null,null,null,null,null,null,null,null,null,null,null,null,null,null,null,null,null,null,null,null,null,null,null,null,null,null,null,null,null,null,null,null,null,null,"W1048",""]
[null,"기계손료","상각비:900/정비비:700/관리비:485",{"$f":"2085*10^-7*1000","v":0.20849999999999999},"",104465,21780.9,0,{"$f":"TRUNC(D76*H76,1)","v":0},0,{"$f":"TRUNC(D76*J76,1)","v":0},104465,{"$f":"TRUNC(D76*L76,1)","v":21780.9},"",null,null,null,null,null,null,null,null,null,null,null,null,null,null,null,null,null,null,null,null,null,null,null,null,null,null,null,null,null,null,null,null,null,null,null,null,null,null,null,null,null,null,null,null,null,null,null,null,null,null,null,null,null,null,null,null,null,null,null,null,null,null,null,null,null,null,null,null,null,null,null,null,null,null,null,null,null,null,null,null,null,null,null,null,null,null,null,null,null,null,null,null,null,null,null,null,null,null,null,null,null,null,null,"%SON-LYO","2038"]
[null,"             계             ",null,null,null,null,{"$f":"I77+K77+M77","v":84528},null,{"$f":"ROUNDDOWN(SUM(I73:I76),0)","v":18449},null,{"$f":"ROUNDDOWN(SUM(K73:K76),0)","v":44299},null,{"$f":"ROUNDDOWN(SUM(M73:M76),0)","v":21780}]
[]
[null," ：굴삭기(무한궤도) [0.8 ㎥]",null,null,null,null,null,null,null,null,null,null,null,null,null,null,null,null,null,null,null,null,null,null,null,null,null,null,null,null,null,null,null,null,null,null,null,null,null,null,null,null,null,null,null,null,null,null,null,null,null,null,null,null,null,null,null,null,null,null,null,null,null,null,null,null,null,null,null,null,null,null,null,null,null,null,null,null,null,null,null,null,null,null,null,null,null,null,null,null,null,null,null,null,null,null,null,null,null,null,null,null,null,null,null,null,null,null,null,null,null,null,null,null,null,null,null,":D0201-0080"]
[null,"경    유","경    유",15.3,"ℓ",{"$f":"H80+J80+L80","v":1303.69},19946.400000000001,{"$f":"자재단가!R7","v":1303.69},{"$f":"TRUNC(D80*H80,1)","v":19946.400000000001},0,{"$f":"TRUNC(D80*J80,1)","v":0},0,{"$f":"TRUNC(D80*L80,1)","v":0},"",null,null,null,null,null,null,null,null,null,null,null,null,null,null,null,null,null,null,null,null,null,null,null,null,null,null,null,null,null,null,null,null,null,null,null,null,null,null,null,null,null,null,null,null,null,null,null,null,null,null,null,null,null,null,null,null,null,null,null,null,null,null,null,null,null,null,null,null,null,null,null,null,null,null,null,null,null,null,null,null,null,null,null,null,null,null,null,null,null,null,null,null,null,null,null,null,null,null,null,null,null,null,null,"M0000-101",""]
[null,"잡    품","주연료비의 %",22,"%",19946.400000000001,4388.2,{"$f":"I80","v":19946.400000000001},{"$f":"TRUNC(D81/100*H81,1)","v":4388.2},0,{"$f":"TRUNC(D81/100*J81,1)","v":0},0,{"$f":"TRUNC(D81/100*L81,1)","v":0},"",null,null,null,null,null,null,null,null,null,null,null,null,null,null,null,null,null,null,null,null,null,null,null,null,null,null,null,null,null,null,null,null,null,null,null,null,null,null,null,null,null,null,null,null,null,null,null,null,null,null,null,null,null,null,null,null,null,null,null,null,null,null,null,null,null,null,null,null,null,null,null,null,null,null,null,null,null,null,null,null,null,null,null,null,null,null,null,null,null,null,null,null,null,null,null,null,null,null,null,null,null,null,null,"%RAN*MM","1"]
[null,"건설기계운전사","",1,"인",44299,44299,0,{"$f":"TRUNC(D82*H82,1)","v":0},{"$f":"TRUNC(노임단가!K6*16/12*1/8*25/20,0)","v":44299},{"$f":"TRUNC(D82*J82,1)","v":44299},0,{"$f":"TRUNC(D82*L82,1)","v":0},"",null,null,null,null,null,null,null,null,null,null,null,null,null,null,null,null,null,null,null,null,null,null,null,null,null,null,null,null,null,null,null,null,null,null,null,null,null,null,null,null,null,null,null,null,null,null,null,null,null,null,null,null,null,null,null,null,null,null,null,null,null,null,null,null,null,null,null,null,null,null,null,null,null,null,null,null,null,null,null,null,null,null,null,null,null,null,null,null,null,null,null,null,null,null,null,null,null,null,null,null,null,null,null,"W1048",""]
[null,"기계손료","상각비:900/정비비:700/관리비:485",{"$f":"2085*10^-7*1000","v":0.20849999999999999},"",112475,23451,0,{"$f":"TRUNC(D83*H83,1)","v":0},0,{"$f":"TRUNC(D83*J83,1)","v":0},112475,{"$f":"TRUNC(D83*L83,1)","v":23451},"",null,null,null,null,null,null,null,null,null,null,null,null,null,null,null,null,null,null,null,null,null,null,null,null,null,null,null,null,null,null,null,null,null,null,null,null,null,null,null,null,null,null,null,null,null,null,null,null,null,null,null,null,null,null,null,null,null,null,null,null,null,null,null,null,null,null,null,null,null,null,null,null,null,null,null,null,null,null,null,null,null,null,null,null,null,null,null,null,null,null,null,null,null,null,null,null,null,null,null,null,null,null,null,"%SON-LYO","2038"]
[null,"             계             ",null,null,null,null,{"$f":"I84+K84+M84","v":92084},null,{"$f":"ROUNDDOWN(SUM(I80:I83),0)","v":24334},null,{"$f":"ROUNDDOWN(SUM(K80:K83),0)","v":44299},null,{"$f":"ROUNDDOWN(SUM(M80:M83),0)","v":23451}]
[]
[null," ：굴삭기(무한궤도) [1.0 ㎥]",null,null,null,null,null,null,null,null,null,null,null,null,null,null,null,null,null,null,null,null,null,null,null,null,null,null,null,null,null,null,null,null,null,null,null,null,null,null,null,null,null,null,null,null,null,null,null,null,null,null,null,null,null,null,null,null,null,null,null,null,null,null,null,null,null,null,null,null,null,null,null,null,null,null,null,null,null,null,null,null,null,null,null,null,null,null,null,null,null,null,null,null,null,null,null,null,null,null,null,null,null,null,null,null,null,null,null,null,null,null,null,null,null,null,null,":D0201-0100"]
[null,"경    유","경    유",19.5,"ℓ",{"$f":"H87+J87+L87","v":1303.69},25421.9,{"$f":"자재단가!R7","v":1303.69},{"$f":"TRUNC(D87*H87,1)","v":25421.9},0,{"$f":"TRUNC(D87*J87,1)","v":0},0,{"$f":"TRUNC(D87*L87,1)","v":0},"",null,null,null,null,null,null,null,null,null,null,null,null,null,null,null,null,null,null,null,null,null,null,null,null,null,null,null,null,null,null,null,null,null,null,null,null,null,null,null,null,null,null,null,null,null,null,null,null,null,null,null,null,null,null,null,null,null,null,null,null,null,null,null,null,null,null,null,null,null,null,null,null,null,null,null,null,null,null,null,null,null,null,null,null,null,null,null,null,null,null,null,null,null,null,null,null,null,null,null,null,null,null,null,"M0000-101",""]
[null,"잡    품","주연료비의 %",22,"%",25421.9,5592.8,{"$f":"I87","v":25421.9},{"$f":"TRUNC(D88/100*H88,1)","v":5592.8},0,{"$f":"TRUNC(D88/100*J88,1)","v":0},0,{"$f":"TRUNC(D88/100*L88,1)","v":0},"",null,null,null,null,null,null,null,null,null,null,null,null,null,null,null,null,null,null,null,null,null,null,null,null,null,null,null,null,null,null,null,null,null,null,null,null,null,null,null,null,null,null,null,null,null,null,null,null,null,null,null,null,null,null,null,null,null,null,null,null,null,null,null,null,null,null,null,null,null,null,null,null,null,null,null,null,null,null,null,null,null,null,null,null,null,null,null,null,null,null,null,null,null,null,null,null,null,null,null,null,null,null,null,"%RAN*MM","1"]
[null,"건설기계운전사","",1,"인",44299,44299,0,{"$f":"TRUNC(D89*H89,1)","v":0},{"$f":"TRUNC(노임단가!K6*16/12*1/8*25/20,0)","v":44299},{"$f":"TRUNC(D89*J89,1)","v":44299},0,{"$f":"TRUNC(D89*L89,1)","v":0},"",null,null,null,null,null,null,null,null,null,null,null,null,null,null,null,null,null,null,null,null,null,null,null,null,null,null,null,null,null,null,null,null,null,null,null,null,null,null,null,null,null,null,null,null,null,null,null,null,null,null,null,null,null,null,null,null,null,null,null,null,null,null,null,null,null,null,null,null,null,null,null,null,null,null,null,null,null,null,null,null,null,null,null,null,null,null,null,null,null,null,null,null,null,null,null,null,null,null,null,null,null,null,null,"W1048",""]
[null,"기계손료","상각비:900/정비비:700/관리비:485",{"$f":"2085*10^-7*1000","v":0.20849999999999999},"",126468,26368.5,0,{"$f":"TRUNC(D90*H90,1)","v":0},0,{"$f":"TRUNC(D90*J90,1)","v":0},126468,{"$f":"TRUNC(D90*L90,1)","v":26368.5},"",null,null,null,null,null,null,null,null,null,null,null,null,null,null,null,null,null,null,null,null,null,null,null,null,null,null,null,null,null,null,null,null,null,null,null,null,null,null,null,null,null,null,null,null,null,null,null,null,null,null,null,null,null,null,null,null,null,null,null,null,null,null,null,null,null,null,null,null,null,null,null,null,null,null,null,null,null,null,null,null,null,null,null,null,null,null,null,null,null,null,null,null,null,null,null,null,null,null,null,null,null,null,null,"%SON-LYO","2038"]
[null,"             계             ",null,null,null,null,{"$f":"I91+K91+M91","v":101681},null,{"$f":"ROUNDDOWN(SUM(I87:I90),0)","v":31014},null,{"$f":"ROUNDDOWN(SUM(K87:K90),0)","v":44299},null,{"$f":"ROUNDDOWN(SUM(M87:M90),0)","v":26368}]
[]
[null," ：굴삭기(타이어) [0.18 ㎥]",null,null,null,null,null,null,null,null,null,null,null,null,null,null,null,null,null,null,null,null,null,null,null,null,null,null,null,null,null,null,null,null,null,null,null,null,null,null,null,null,null,null,null,null,null,null,null,null,null,null,null,null,null,null,null,null,null,null,null,null,null,null,null,null,null,null,null,null,null,null,null,null,null,null,null,null,null,null,null,null,null,null,null,null,null,null,null,null,null,null,null,null,null,null,null,null,null,null,null,null,null,null,null,null,null,null,null,null,null,null,null,null,null,null,null,":D0211-0018"]
[null,"경    유","경    유",5.6,"ℓ",{"$f":"H94+J94+L94","v":1303.69},7300.6,{"$f":"자재단가!R7","v":1303.69},{"$f":"TRUNC(D94*H94,1)","v":7300.6},0,{"$f":"TRUNC(D94*J94,1)","v":0},0,{"$f":"TRUNC(D94*L94,1)","v":0},"",null,null,null,null,null,null,null,null,null,null,null,null,null,null,null,null,null,null,null,null,null,null,null,null,null,null,null,null,null,null,null,null,null,null,null,null,null,null,null,null,null,null,null,null,null,null,null,null,null,null,null,null,null,null,null,null,null,null,null,null,null,null,null,null,null,null,null,null,null,null,null,null,null,null,null,null,null,null,null,null,null,null,null,null,null,null,null,null,null,null,null,null,null,null,null,null,null,null,null,null,null,null,null,"M0000-101",""]
[null,"잡    품","주연료비의 %",24,"%",7300.6,1752.1,{"$f":"I94","v":7300.6},{"$f":"TRUNC(D95/100*H95,1)","v":1752.1},0,{"$f":"TRUNC(D95/100*J95,1)","v":0},0,{"$f":"TRUNC(D95/100*L95,1)","v":0},"",null,null,null,null,null,null,null,null,null,null,null,null,null,null,null,null,null,null,null,null,null,null,null,null,null,null,null,null,null,null,null,null,null,null,null,null,null,null,null,null,null,null,null,null,null,null,null,null,null,null,null,null,null,null,null,null,null,null,null,null,null,null,null,null,null,null,null,null,null,null,null,null,null,null,null,null,null,null,null,null,null,null,null,null,null,null,null,null,null,null,null,null,null,null,null,null,null,null,null,null,null,null,null,"%RAN*MM","1"]
[null,"건설기계운전사","",1,"인",44299,44299,0,{"$f":"TRUNC(D96*H96,1)","v":0},{"$f":"TRUNC(노임단가!K6*16/12*1/8*25/20,0)","v":44299},{"$f":"TRUNC(D96*J96,1)","v":44299},0,{"$f":"TRUNC(D96*L96,1)","v":0},"",null,null,null,null,null,null,null,null,null,null,null,null,null,null,null,null,null,null,null,null,null,null,null,null,null,null,null,null,null,null,null,null,null,null,null,null,null,null,null,null,null,null,null,null,null,null,null,null,null,null,null,null,null,null,null,null,null,null,null,null,null,null,null,null,null,null,null,null,null,null,null,null,null,null,null,null,null,null,null,null,null,null,null,null,null,null,null,null,null,null,null,null,null,null,null,null,null,null,null,null,null,null,null,"W1048",""]
[null,"기계손료","상각비:900/정비비:700/관리비:679",{"$f":"2279*10^-7*1000","v":0.22789999999999999},"",63000,14357.7,0,{"$f":"TRUNC(D97*H97,1)","v":0},0,{"$f":"TRUNC(D97*J97,1)","v":0},63000,{"$f":"TRUNC(D97*L97,1)","v":14357.7},"",null,null,null,null,null,null,null,null,null,null,null,null,null,null,null,null,null,null,null,null,null,null,null,null,null,null,null,null,null,null,null,null,null,null,null,null,null,null,null,null,null,null,null,null,null,null,null,null,null,null,null,null,null,null,null,null,null,null,null,null,null,null,null,null,null,null,null,null,null,null,null,null,null,null,null,null,null,null,null,null,null,null,null,null,null,null,null,null,null,null,null,null,null,null,null,null,null,null,null,null,null,null,null,"%SON-LYO","2213"]
[null,"             계             ",null,null,null,null,{"$f":"I98+K98+M98","v":67708},null,{"$f":"ROUNDDOWN(SUM(I94:I97),0)","v":9052},null,{"$f":"ROUNDDOWN(SUM(K94:K97),0)","v":44299},null,{"$f":"ROUNDDOWN(SUM(M94:M97),0)","v":14357}]
[]
[null," ：대형브레이커 (0.2 ㎥)",null,null,null,null,null,null,null,null,null,null,null,null,null,null,null,null,null,null,null,null,null,null,null,null,null,null,null,null,null,null,null,null,null,null,null,null,null,null,null,null,null,null,null,null,null,null,null,null,null,null,null,null,null,null,null,null,null,null,null,null,null,null,null,null,null,null,null,null,null,null,null,null,null,null,null,null,null,null,null,null,null,null,null,null,null,null,null,null,null,null,null,null,null,null,null,null,null,null,null,null,null,null,null,null,null,null,null,null,null,null,null,null,null,null,null,":D0230-0002"]
[null,"기계손료","상각비:3000/정비비:2833/관리비:768",{"$f":"6601*10^-7*1000","v":0.66009999999999991},"",{"$f":"H101+J101+L101","v":4024},{"$f":"I101+K101+M101","v":2656.2},0,{"$f":"TRUNC(D101*H101,1)","v":0},0,{"$f":"TRUNC(D101*J101,1)","v":0},4024,{"$f":"TRUNC(D101*L101,1)","v":2656.2},"",null,null,null,null,null,null,null,null,null,null,null,null,null,null,null,null,null,null,null,null,null,null,null,null,null,null,null,null,null,null,null,null,null,null,null,null,null,null,null,null,null,null,null,null,null,null,null,null,null,null,null,null,null,null,null,null,null,null,null,null,null,null,null,null,null,null,null,null,null,null,null,null,null,null,null,null,null,null,null,null,null,null,null,null,null,null,null,null,null,null,null,null,null,null,null,null,null,null,null,null,null,null,null,"%SON-LYO","6533"]
[null,"             계             ",null,null,null,null,{"$f":"I102+K102+M102","v":2656},null,{"$f":"ROUNDDOWN(SUM(I101:I101),0)","v":0},null,{"$f":"ROUNDDOWN(SUM(K101:K101),0)","v":0},null,{"$f":"ROUNDDOWN(SUM(M101:M101),0)","v":2656}]
[]
[null," ：대형브레이커 (0.4 ㎥)",null,null,null,null,null,null,null,null,null,null,null,null,null,null,null,null,null,null,null,null,null,null,null,null,null,null,null,null,null,null,null,null,null,null,null,null,null,null,null,null,null,null,null,null,null,null,null,null,null,null,null,null,null,null,null,null,null,null,null,null,null,null,null,null,null,null,null,null,null,null,null,null,null,null,null,null,null,null,null,null,null,null,null,null,null,null,null,null,null,null,null,null,null,null,null,null,null,null,null,null,null,null,null,null,null,null,null,null,null,null,null,null,null,null,null,":D0230-0004"]
[null,"기계손료","상각비:3000/정비비:2833/관리비:768",{"$f":"6601*10^-7*1000","v":0.66009999999999991},"",{"$f":"H105+J105+L105","v":7373},{"$f":"I105+K105+M105","v":4866.8999999999996},0,{"$f":"TRUNC(D105*H105,1)","v":0},0,{"$f":"TRUNC(D105*J105,1)","v":0},7373,{"$f":"TRUNC(D105*L105,1)","v":4866.8999999999996},"",null,null,null,null,null,null,null,null,null,null,null,null,null,null,null,null,null,null,null,null,null,null,null,null,null,null,null,null,null,null,null,null,null,null,null,null,null,null,null,null,null,null,null,null,null,null,null,null,null,null,null,null,null,null,null,null,null,null,null,null,null,null,null,null,null,null,null,null,null,null,null,null,null,null,null,null,null,null,null,null,null,null,null,null,null,null,null,null,null,null,null,null,null,null,null,null,null,null,null,null,null,null,null,"%SON-LYO","6533"]
[null,"             계             ",null,null,null,null,{"$f":"I106+K106+M106","v":4866},null,{"$f":"ROUNDDOWN(SUM(I105:I105),0)","v":0},null,{"$f":"ROUNDDOWN(SUM(K105:K105),0)","v":0},null,{"$f":"ROUNDDOWN(SUM(M105:M105),0)","v":4866}]
[]
[null," ：대형브레이커 (0.6 ㎥)",null,null,null,null,null,null,null,null,null,null,null,null,null,null,null,null,null,null,null,null,null,null,null,null,null,null,null,null,null,null,null,null,null,null,null,null,null,null,null,null,null,null,null,null,null,null,null,null,null,null,null,null,null,null,null,null,null,null,null,null,null,null,null,null,null,null,null,null,null,null,null,null,null,null,null,null,null,null,null,null,null,null,null,null,null,null,null,null,null,null,null,null,null,null,null,null,null,null,null,null,null,null,null,null,null,null,null,null,null,null,null,null,null,null,null,":D0230-0006"]
[null,"기계손료","상각비:3000/정비비:2833/관리비:768",{"$f":"6601*10^-7*1000","v":0.66009999999999991},"",{"$f":"H109+J109+L109","v":12512},{"$f":"I109+K109+M109","v":8259.1},0,{"$f":"TRUNC(D109*H109,1)","v":0},0,{"$f":"TRUNC(D109*J109,1)","v":0},12512,{"$f":"TRUNC(D109*L109,1)","v":8259.1},"",null,null,null,null,null,null,null,null,null,null,null,null,null,null,null,null,null,null,null,null,null,null,null,null,null,null,null,null,null,null,null,null,null,null,null,null,null,null,null,null,null,null,null,null,null,null,null,null,null,null,null,null,null,null,null,null,null,null,null,null,null,null,null,null,null,null,null,null,null,null,null,null,null,null,null,null,null,null,null,null,null,null,null,null,null,null,null,null,null,null,null,null,null,null,null,null,null,null,null,null,null,null,null,"%SON-LYO","6533"]
[null,"             계             ",null,null,null,null,{"$f":"I110+K110+M110","v":8259},null,{"$f":"ROUNDDOWN(SUM(I109:I109),0)","v":0},null,{"$f":"ROUNDDOWN(SUM(K109:K109),0)","v":0},null,{"$f":"ROUNDDOWN(SUM(M109:M109),0)","v":8259}]
[]
[null," ：대형브레이커 (0.7 ㎥)",null,null,null,null,null,null,null,null,null,null,null,null,null,null,null,null,null,null,null,null,null,null,null,null,null,null,null,null,null,null,null,null,null,null,null,null,null,null,null,null,null,null,null,null,null,null,null,null,null,null,null,null,null,null,null,null,null,null,null,null,null,null,null,null,null,null,null,null,null,null,null,null,null,null,null,null,null,null,null,null,null,null,null,null,null,null,null,null,null,null,null,null,null,null,null,null,null,null,null,null,null,null,null,null,null,null,null,null,null,null,null,null,null,null,null,":D0230-0007"]
[null,"기계손료","상각비:3000/정비비:2833/관리비:768",{"$f":"6601*10^-7*1000","v":0.66009999999999991},"",{"$f":"H113+J113+L113","v":15261},{"$f":"I113+K113+M113","v":10073.700000000001},0,{"$f":"TRUNC(D113*H113,1)","v":0},0,{"$f":"TRUNC(D113*J113,1)","v":0},15261,{"$f":"TRUNC(D113*L113,1)","v":10073.700000000001},"",null,null,null,null,null,null,null,null,null,null,null,null,null,null,null,null,null,null,null,null,null,null,null,null,null,null,null,null,null,null,null,null,null,null,null,null,null,null,null,null,null,null,null,null,null,null,null,null,null,null,null,null,null,null,null,null,null,null,null,null,null,null,null,null,null,null,null,null,null,null,null,null,null,null,null,null,null,null,null,null,null,null,null,null,null,null,null,null,null,null,null,null,null,null,null,null,null,null,null,null,null,null,null,"%SON-LYO","6533"]
[null,"             계             ",null,null,null,null,{"$f":"I114+K114+M114","v":10073},null,{"$f":"ROUNDDOWN(SUM(I113:I113),0)","v":0},null,{"$f":"ROUNDDOWN(SUM(K113:K113),0)","v":0},null,{"$f":"ROUNDDOWN(SUM(M113:M113),0)","v":10073}]
[]
[null," ：대형브레이커 (0.8 ㎥)",null,null,null,null,null,null,null,null,null,null,null,null,null,null,null,null,null,null,null,null,null,null,null,null,null,null,null,null,null,null,null,null,null,null,null,null,null,null,null,null,null,null,null,null,null,null,null,null,null,null,null,null,null,null,null,null,null,null,null,null,null,null,null,null,null,null,null,null,null,null,null,null,null,null,null,null,null,null,null,null,null,null,null,null,null,null,null,null,null,null,null,null,null,null,null,null,null,null,null,null,null,null,null,null,null,null,null,null,null,null,null,null,null,null,null,":D0230-0008"]
[null,"기계손료","상각비:3000/정비비:2833/관리비:768",{"$f":"6601*10^-7*1000","v":0.66009999999999991},"",{"$f":"H117+J117+L117","v":19993},{"$f":"I117+K117+M117","v":13197.3},0,{"$f":"TRUNC(D117*H117,1)","v":0},0,{"$f":"TRUNC(D117*J117,1)","v":0},19993,{"$f":"TRUNC(D117*L117,1)","v":13197.3},"",null,null,null,null,null,null,null,null,null,null,null,null,null,null,null,null,null,null,null,null,null,null,null,null,null,null,null,null,null,null,null,null,null,null,null,null,null,null,null,null,null,null,null,null,null,null,null,null,null,null,null,null,null,null,null,null,null,null,null,null,null,null,null,null,null,null,null,null,null,null,null,null,null,null,null,null,null,null,null,null,null,null,null,null,null,null,null,null,null,null,null,null,null,null,null,null,null,null,null,null,null,null,null,"%SON-LYO","6533"]
[null,"             계             ",null,null,null,null,{"$f":"I118+K118+M118","v":13197},null,{"$f":"ROUNDDOWN(SUM(I117:I117),0)","v":0},null,{"$f":"ROUNDDOWN(SUM(K117:K117),0)","v":0},null,{"$f":"ROUNDDOWN(SUM(M117:M117),0)","v":13197}]
[]
[null," ：로더(타이어) [0.57 ㎥]",null,null,null,null,null,null,null,null,null,null,null,null,null,null,null,null,null,null,null,null,null,null,null,null,null,null,null,null,null,null,null,null,null,null,null,null,null,null,null,null,null,null,null,null,null,null,null,null,null,null,null,null,null,null,null,null,null,null,null,null,null,null,null,null,null,null,null,null,null,null,null,null,null,null,null,null,null,null,null,null,null,null,null,null,null,null,null,null,null,null,null,null,null,null,null,null,null,null,null,null,null,null,null,null,null,null,null,null,null,null,null,null,null,null,null,":D0302-0057"]
[null,"경    유","경    유",3.5,"ℓ",{"$f":"H121+J121+L121","v":1303.69},{"$f":"I121+K121+M121","v":4562.8999999999996},{"$f":"자재단가!R7","v":1303.69},{"$f":"TRUNC(D121*H121,1)","v":4562.8999999999996},0,{"$f":"TRUNC(D121*J121,1)","v":0},0,{"$f":"TRUNC(D121*L121,1)","v":0},"",null,null,null,null,null,null,null,null,null,null,null,null,null,null,null,null,null,null,null,null,null,null,null,null,null,null,null,null,null,null,null,null,null,null,null,null,null,null,null,null,null,null,null,null,null,null,null,null,null,null,null,null,null,null,null,null,null,null,null,null,null,null,null,null,null,null,null,null,null,null,null,null,null,null,null,null,null,null,null,null,null,null,null,null,null,null,null,null,null,null,null,null,null,null,null,null,null,null,null,null,null,null,null,"M0000-101",""]
[null,"잡    품","주연료비의 %",44,"%",4562.8999999999996,2007.6,{"$f":"I121","v":4562.8999999999996},{"$f":"TRUNC(D122/100*H122,1)","v":2007.6},0,{"$f":"TRUNC(D122/100*J122,1)","v":0},0,{"$f":"TRUNC(D122/100*L122,1)","v":0},"",null,null,null,null,null,null,null,null,null,null,null,null,null,null,null,null,null,null,null,null,null,null,null,null,null,null,null,null,null,null,null,null,null,null,null,null,null,null,null,null,null,null,null,null,null,null,null,null,null,null,null,null,null,null,null,null,null,null,null,null,null,null,null,null,null,null,null,null,null,null,null,null,null,null,null,null,null,null,null,null,null,null,null,null,null,null,null,null,null,null,null,null,null,null,null,null,null,null,null,null,null,null,null,"%RAN*MM","1"]
[null,"건설기계운전사","",1,"인",44299,44299,0,{"$f":"TRUNC(D123*H123,1)","v":0},{"$f":"TRUNC(노임단가!K6*16/12*1/8*25/20,0)","v":44299},{"$f":"TRUNC(D123*J123,1)","v":44299},0,{"$f":"TRUNC(D123*L123,1)","v":0},"",null,null,null,null,null,null,null,null,null,null,null,null,null,null,null,null,null,null,null,null,null,null,null,null,null,null,null,null,null,null,null,null,null,null,null,null,null,null,null,null,null,null,null,null,null,null,null,null,null,null,null,null,null,null,null,null,null,null,null,null,null,null,null,null,null,null,null,null,null,null,null,null,null,null,null,null,null,null,null,null,null,null,null,null,null,null,null,null,null,null,null,null,null,null,null,null,null,null,null,null,null,null,null,"W1048",""]
[null,"기계손료","상각비:900/정비비:700/관리비:485",{"$f":"2085*10^-7*1000","v":0.20849999999999999},"",31484,6564.4,0,{"$f":"TRUNC(D124*H124,1)","v":0},0,{"$f":"TRUNC(D124*J124,1)","v":0},31484,{"$f":"TRUNC(D124*L124,1)","v":6564.4},"",null,null,null,null,null,null,null,null,null,null,null,null,null,null,null,null,null,null,null,null,null,null,null,null,null,null,null,null,null,null,null,null,null,null,null,null,null,null,null,null,null,null,null,null,null,null,null,null,null,null,null,null,null,null,null,null,null,null,null,null,null,null,null,null,null,null,null,null,null,null,null,null,null,null,null,null,null,null,null,null,null,null,null,null,null,null,null,null,null,null,null,null,null,null,null,null,null,null,null,null,null,null,null,"%SON-LYO","2038"]
[null,"             계             ",null,null,null,null,{"$f":"I125+K125+M125","v":57433},null,{"$f":"ROUNDDOWN(SUM(I121:I124),0)","v":6570},null,{"$f":"ROUNDDOWN(SUM(K121:K124),0)","v":44299},null,{"$f":"ROUNDDOWN(SUM(M121:M124),0)","v":6564}]
[]
[null," ：로더(타이어) [0.95 ㎥]"]
[null,"경    유","경    유",6.2,"ℓ",{"$f":"H128+J128+L128","v":1303.69},{"$f":"I128+K128+M128","v":8082.8},{"$f":"자재단가!R7","v":1303.69},{"$f":"TRUNC(D128*H128,1)","v":8082.8},0,{"$f":"TRUNC(D128*J128,1)","v":0},0,{"$f":"TRUNC(D128*L128,1)","v":0},"",null,null,null,null,null,null,null,null,null,null,null,null,null,null,null,null,null,null,null,null,null,null,null,null,null,null,null,null,null,null,null,null,null,null,null,null,null,null,null,null,null,null,null,null,null,null,null,null,null,null,null,null,null,null,null,null,null,null,null,null,null,null,null,null,null,null,null,null,null,null,null,null,null,null,null,null,null,null,null,null,null,null,null,null,null,null,null,null,null,null,null,null,null,null,null,null,null,null,null,null,null,null,null,":D0502-0036"]
[null,"잡    품","주연료비의 %",44,"%",8082.8,3556.4,{"$f":"I128","v":8082.8},{"$f":"TRUNC(D129/100*H129,1)","v":3556.4},0,{"$f":"TRUNC(D129/100*J129,1)","v":0},0,{"$f":"TRUNC(D129/100*L129,1)","v":0},"",null,null,null,null,null,null,null,null,null,null,null,null,null,null,null,null,null,null,null,null,null,null,null,null,null,null,null,null,null,null,null,null,null,null,null,null,null,null,null,null,null,null,null,null,null,null,null,null,null,null,null,null,null,null,null,null,null,null,null,null,null,null,null,null,null,null,null,null,null,null,null,null,null,null,null,null,null,null,null,null,null,null,null,null,null,null,null,null,null,null,null,null,null,null,null,null,null,null,null,null,null,null,null,"M0000-101",""]
[null,"건설기계운전사","",1,"인",44299,44299,0,{"$f":"TRUNC(D130*H130,1)","v":0},{"$f":"TRUNC(노임단가!K6*16/12*1/8*25/20,0)","v":44299},{"$f":"TRUNC(D130*J130,1)","v":44299},0,{"$f":"TRUNC(D130*L130,1)","v":0},"",null,null,null,null,null,null,null,null,null,null,null,null,null,null,null,null,null,null,null,null,null,null,null,null,null,null,null,null,null,null,null,null,null,null,null,null,null,null,null,null,null,null,null,null,null,null,null,null,null,null,null,null,null,null,null,null,null,null,null,null,null,null,null,null,null,null,null,null,null,null,null,null,null,null,null,null,null,null,null,null,null,null,null,null,null,null,null,null,null,null,null,null,null,null,null,null,null,null,null,null,null,null,null,"%RAN*MM","1"]
[null,"기계손료","상각비:900/정비비:700/관리비:485",{"$f":"2085*10^-7*1000","v":0.20849999999999999},"",38953,8121.7,0,{"$f":"TRUNC(D131*H131,1)","v":0},0,{"$f":"TRUNC(D131*J131,1)","v":0},38953,{"$f":"TRUNC(D131*L131,1)","v":8121.7},"",null,null,null,null,null,null,null,null,null,null,null,null,null,null,null,null,null,null,null,null,null,null,null,null,null,null,null,null,null,null,null,null,null,null,null,null,null,null,null,null,null,null,null,null,null,null,null,null,null,null,null,null,null,null,null,null,null,null,null,null,null,null,null,null,null,null,null,null,null,null,null,null,null,null,null,null,null,null,null,null,null,null,null,null,null,null,null,null,null,null,null,null,null,null,null,null,null,null,null,null,null,null,null,"W1048",""]
[null,"             계             ",null,null,null,null,{"$f":"I132+K132+M132","v":64059},null,{"$f":"ROUNDDOWN(SUM(I128:I131),0)","v":11639},null,{"$f":"ROUNDDOWN(SUM(K128:K131),0)","v":44299},null,{"$f":"ROUNDDOWN(SUM(M128:M131),0)","v":8121},null,null,null,null,null,null,null,null,null,null,null,null,null,null,null,null,null,null,null,null,null,null,null,null,null,null,null,null,null,null,null,null,null,null,null,null,null,null,null,null,null,null,null,null,null,null,null,null,null,null,null,null,null,null,null,null,null,null,null,null,null,null,null,null,null,null,null,null,null,null,null,null,null,null,null,null,null,null,null,null,null,null,null,null,null,null,null,null,null,null,null,null,null,null,null,null,null,null,null,null,null,null,null,null,"%SON-LYO","1461"]
[]
[null," ：모터그레이더 [3.6 m(일반용)]"]
[null,"경    유","경    유",16.2,"ℓ",{"$f":"H135+J135+L135","v":1303.69},21119.7,{"$f":"자재단가!R7","v":1303.69},{"$f":"TRUNC(D135*H135,1)","v":21119.7},0,{"$f":"TRUNC(D135*J135,1)","v":0},0,{"$f":"TRUNC(D135*L135,1)","v":0},"",null,null,null,null,null,null,null,null,null,null,null,null,null,null,null,null,null,null,null,null,null,null,null,null,null,null,null,null,null,null,null,null,null,null,null,null,null,null,null,null,null,null,null,null,null,null,null,null,null,null,null,null,null,null,null,null,null,null,null,null,null,null,null,null,null,null,null,null,null,null,null,null,null,null,null,null,null,null,null,null,null,null,null,null,null,null,null,null,null,null,null,null,null,null,null,null,null,null,null,null,null,null,null,":D0602-0025"]
[null,"잡    품","주연료비의 %",39,"%",21119.7,8236.6,{"$f":"I135","v":21119.7},{"$f":"TRUNC(D136/100*H136,1)","v":8236.6},0,{"$f":"TRUNC(D136/100*J136,1)","v":0},0,{"$f":"TRUNC(D136/100*L136,1)","v":0},"",null,null,null,null,null,null,null,null,null,null,null,null,null,null,null,null,null,null,null,null,null,null,null,null,null,null,null,null,null,null,null,null,null,null,null,null,null,null,null,null,null,null,null,null,null,null,null,null,null,null,null,null,null,null,null,null,null,null,null,null,null,null,null,null,null,null,null,null,null,null,null,null,null,null,null,null,null,null,null,null,null,null,null,null,null,null,null,null,null,null,null,null,null,null,null,null,null,null,null,null,null,null,null,"M0000-101",""]
[null,"건설기계운전사","",1,"인",44299,44299,0,{"$f":"TRUNC(D137*H137,1)","v":0},{"$f":"TRUNC(노임단가!K6*16/12*1/8*25/20,0)","v":44299},{"$f":"TRUNC(D137*J137,1)","v":44299},0,{"$f":"TRUNC(D137*L137,1)","v":0},"",null,null,null,null,null,null,null,null,null,null,null,null,null,null,null,null,null,null,null,null,null,null,null,null,null,null,null,null,null,null,null,null,null,null,null,null,null,null,null,null,null,null,null,null,null,null,null,null,null,null,null,null,null,null,null,null,null,null,null,null,null,null,null,null,null,null,null,null,null,null,null,null,null,null,null,null,null,null,null,null,null,null,null,null,null,null,null,null,null,null,null,null,null,null,null,null,null,null,null,null,null,null,null,"%RAN*MM","1"]
[null,"기계손료","상각비:643/정비비:393/관리비:472",{"$f":"1508*10^-7*1000","v":0.15080000000000002},"",274621,41412.800000000003,0,{"$f":"TRUNC(D138*H138,1)","v":0},0,{"$f":"TRUNC(D138*J138,1)","v":0},274621,{"$f":"TRUNC(D138*L138,1)","v":41412.800000000003},"",null,null,null,null,null,null,null,null,null,null,null,null,null,null,null,null,null,null,null,null,null,null,null,null,null,null,null,null,null,null,null,null,null,null,null,null,null,null,null,null,null,null,null,null,null,null,null,null,null,null,null,null,null,null,null,null,null,null,null,null,null,null,null,null,null,null,null,null,null,null,null,null,null,null,null,null,null,null,null,null,null,null,null,null,null,null,null,null,null,null,null,null,null,null,null,null,null,null,null,null,null,null,null,"W1049",""]
[null,"             계             ",null,null,null,null,{"$f":"I139+K139+M139","v":115067},null,{"$f":"ROUNDDOWN(SUM(I135:I138),0)","v":29356},null,{"$f":"ROUNDDOWN(SUM(K135:K138),0)","v":44299},null,{"$f":"ROUNDDOWN(SUM(M135:M138),0)","v":41412},null,null,null,null,null,null,null,null,null,null,null,null,null,null,null,null,null,null,null,null,null,null,null,null,null,null,null,null,null,null,null,null,null,null,null,null,null,null,null,null,null,null,null,null,null,null,null,null,null,null,null,null,null,null,null,null,null,null,null,null,null,null,null,null,null,null,null,null,null,null,null,null,null,null,null,null,null,null,null,null,null,null,null,null,null,null,null,null,null,null,null,null,null,null,null,null,null,null,null,null,null,null,null,null,"%SON-LYO","2901"]
[]
[null," ：덤프트럭 (2.5 ton)"]
[null,"경    유","경    유",2.9,"ℓ",{"$f":"H142+J142+L142","v":1303.69},3780.7,{"$f":"자재단가!R7","v":1303.69},{"$f":"TRUNC(D142*H142,1)","v":3780.7},0,{"$f":"TRUNC(D142*J142,1)","v":0},0,{"$f":"TRUNC(D142*L142,1)","v":0},"",null,null,null,null,null,null,null,null,null,null,null,null,null,null,null,null,null,null,null,null,null,null,null,null,null,null,null,null,null,null,null,null,null,null,null,null,null,null,null,null,null,null,null,null,null,null,null,null,null,null,null,null,null,null,null,null,null,null,null,null,null,null,null,null,null,null,null,null,null,null,null,null,null,null,null,null,null,null,null,null,null,null,null,null,null,null,null,null,null,null,null,null,null,null,null,null,null,null,null,null,null,null,null,":D0602-0045"]
[null,"잡    품","주연료비의 %",38,"%",3780.7,1436.6,{"$f":"I142","v":3780.7},{"$f":"TRUNC(D143/100*H143,1)","v":1436.6},0,{"$f":"TRUNC(D143/100*J143,1)","v":0},0,{"$f":"TRUNC(D143/100*L143,1)","v":0},"",null,null,null,null,null,null,null,null,null,null,null,null,null,null,null,null,null,null,null,null,null,null,null,null,null,null,null,null,null,null,null,null,null,null,null,null,null,null,null,null,null,null,null,null,null,null,null,null,null,null,null,null,null,null,null,null,null,null,null,null,null,null,null,null,null,null,null,null,null,null,null,null,null,null,null,null,null,null,null,null,null,null,null,null,null,null,null,null,null,null,null,null,null,null,null,null,null,null,null,null,null,null,null,"M0000-101",""]
[null,"화물차운전사","",1,"인",36224,36224,0,{"$f":"TRUNC(D144*H144,1)","v":0},{"$f":"TRUNC(노임단가!K5*16/12*1/8*25/20,0)","v":36224},{"$f":"TRUNC(D144*J144,1)","v":36224},0,{"$f":"TRUNC(D144*L144,1)","v":0},"",null,null,null,null,null,null,null,null,null,null,null,null,null,null,null,null,null,null,null,null,null,null,null,null,null,null,null,null,null,null,null,null,null,null,null,null,null,null,null,null,null,null,null,null,null,null,null,null,null,null,null,null,null,null,null,null,null,null,null,null,null,null,null,null,null,null,null,null,null,null,null,null,null,null,null,null,null,null,null,null,null,null,null,null,null,null,null,null,null,null,null,null,null,null,null,null,null,null,null,null,null,null,null,"%RAN*MM","1"]
[null,"기계손료","상각비:1200/정비비:1067/관리비:700",{"$f":"2967*10^-7*1000","v":0.29670000000000002},"",19844,5887.7,0,{"$f":"TRUNC(D145*H145,1)","v":0},0,{"$f":"TRUNC(D145*J145,1)","v":0},19844,{"$f":"TRUNC(D145*L145,1)","v":5887.7},"",null,null,null,null,null,null,null,null,null,null,null,null,null,null,null,null,null,null,null,null,null,null,null,null,null,null,null,null,null,null,null,null,null,null,null,null,null,null,null,null,null,null,null,null,null,null,null,null,null,null,null,null,null,null,null,null,null,null,null,null,null,null,null,null,null,null,null,null,null,null,null,null,null,null,null,null,null,null,null,null,null,null,null,null,null,null,null,null,null,null,null,null,null,null,null,null,null,null,null,null,null,null,null,"W1049",""]
[null,"             계             ",null,null,null,null,{"$f":"I146+K146+M146","v":47328},null,{"$f":"ROUNDDOWN(SUM(I142:I145),0)","v":5217},null,{"$f":"ROUNDDOWN(SUM(K142:K145),0)","v":36224},null,{"$f":"ROUNDDOWN(SUM(M142:M145),0)","v":5887},null,null,null,null,null,null,null,null,null,null,null,null,null,null,null,null,null,null,null,null,null,null,null,null,null,null,null,null,null,null,null,null,null,null,null,null,null,null,null,null,null,null,null,null,null,null,null,null,null,null,null,null,null,null,null,null,null,null,null,null,null,null,null,null,null,null,null,null,null,null,null,null,null,null,null,null,null,null,null,null,null,null,null,null,null,null,null,null,null,null,null,null,null,null,null,null,null,null,null,null,null,null,null,null,"%SON-LYO","2901"]
[]
[null," ：덤프트럭 (4.5 ton)"]
[null,"경    유","경    유",5,"ℓ",{"$f":"H149+J149+L149","v":1303.69},6518.4,{"$f":"자재단가!R7","v":1303.69},{"$f":"TRUNC(D149*H149,1)","v":6518.4},0,{"$f":"TRUNC(D149*J149,1)","v":0},0,{"$f":"TRUNC(D149*L149,1)","v":0},"",null,null,null,null,null,null,null,null,null,null,null,null,null,null,null,null,null,null,null,null,null,null,null,null,null,null,null,null,null,null,null,null,null,null,null,null,null,null,null,null,null,null,null,null,null,null,null,null,null,null,null,null,null,null,null,null,null,null,null,null,null,null,null,null,null,null,null,null,null,null,null,null,null,null,null,null,null,null,null,null,null,null,null,null,null,null,null,null,null,null,null,null,null,null,null,null,null,null,null,null,null,null,null,":D0602-0080"]
[null,"잡    품","주연료비의 %",38,"%",6518.4,2476.9,{"$f":"I149","v":6518.4},{"$f":"TRUNC(D150/100*H150,1)","v":2476.9},0,{"$f":"TRUNC(D150/100*J150,1)","v":0},0,{"$f":"TRUNC(D150/100*L150,1)","v":0},"",null,null,null,null,null,null,null,null,null,null,null,null,null,null,null,null,null,null,null,null,null,null,null,null,null,null,null,null,null,null,null,null,null,null,null,null,null,null,null,null,null,null,null,null,null,null,null,null,null,null,null,null,null,null,null,null,null,null,null,null,null,null,null,null,null,null,null,null,null,null,null,null,null,null,null,null,null,null,null,null,null,null,null,null,null,null,null,null,null,null,null,null,null,null,null,null,null,null,null,null,null,null,null,"M0000-101",""]
[null,"화물차운전사","",1,"인",36224,36224,0,{"$f":"TRUNC(D151*H151,1)","v":0},{"$f":"TRUNC(노임단가!K5*16/12*1/8*25/20,0)","v":36224},{"$f":"TRUNC(D151*J151,1)","v":36224},0,{"$f":"TRUNC(D151*L151,1)","v":0},"",null,null,null,null,null,null,null,null,null,null,null,null,null,null,null,null,null,null,null,null,null,null,null,null,null,null,null,null,null,null,null,null,null,null,null,null,null,null,null,null,null,null,null,null,null,null,null,null,null,null,null,null,null,null,null,null,null,null,null,null,null,null,null,null,null,null,null,null,null,null,null,null,null,null,null,null,null,null,null,null,null,null,null,null,null,null,null,null,null,null,null,null,null,null,null,null,null,null,null,null,null,null,null,"%RAN*MM","1"]
[null,"기계손료","상각비:1200/정비비:1067/관리비:700",{"$f":"2967*10^-7*1000","v":0.29670000000000002},"",23167,6873.6,0,{"$f":"TRUNC(D152*H152,1)","v":0},0,{"$f":"TRUNC(D152*J152,1)","v":0},23167,{"$f":"TRUNC(D152*L152,1)","v":6873.6},"",null,null,null,null,null,null,null,null,null,null,null,null,null,null,null,null,null,null,null,null,null,null,null,null,null,null,null,null,null,null,null,null,null,null,null,null,null,null,null,null,null,null,null,null,null,null,null,null,null,null,null,null,null,null,null,null,null,null,null,null,null,null,null,null,null,null,null,null,null,null,null,null,null,null,null,null,null,null,null,null,null,null,null,null,null,null,null,null,null,null,null,null,null,null,null,null,null,null,null,null,null,null,null,"W1049",""]
[null,"             계             ",null,null,null,null,{"$f":"I153+K153+M153","v":52092},null,{"$f":"ROUNDDOWN(SUM(I149:I152),0)","v":8995},null,{"$f":"ROUNDDOWN(SUM(K149:K152),0)","v":36224},null,{"$f":"ROUNDDOWN(SUM(M149:M152),0)","v":6873},null,null,null,null,null,null,null,null,null,null,null,null,null,null,null,null,null,null,null,null,null,null,null,null,null,null,null,null,null,null,null,null,null,null,null,null,null,null,null,null,null,null,null,null,null,null,null,null,null,null,null,null,null,null,null,null,null,null,null,null,null,null,null,null,null,null,null,null,null,null,null,null,null,null,null,null,null,null,null,null,null,null,null,null,null,null,null,null,null,null,null,null,null,null,null,null,null,null,null,null,null,null,null,null,"%SON-LYO","2754"]
[]
[null," ：덤프트럭 (8 ton)"]
[null,"경    유","경    유",9.3000000000000007,"ℓ",{"$f":"H156+J156+L156","v":1303.69},12124.3,{"$f":"자재단가!R7","v":1303.69},{"$f":"TRUNC(D156*H156,1)","v":12124.3},0,{"$f":"TRUNC(D156*J156,1)","v":0},0,{"$f":"TRUNC(D156*L156,1)","v":0},"",null,null,null,null,null,null,null,null,null,null,null,null,null,null,null,null,null,null,null,null,null,null,null,null,null,null,null,null,null,null,null,null,null,null,null,null,null,null,null,null,null,null,null,null,null,null,null,null,null,null,null,null,null,null,null,null,null,null,null,null,null,null,null,null,null,null,null,null,null,null,null,null,null,null,null,null,null,null,null,null,null,null,null,null,null,null,null,null,null,null,null,null,null,null,null,null,null,null,null,null,null,null,null,":D0602-0150"]
[null,"잡    품","주연료비의 %",38,"%",12124.3,4607.2,{"$f":"I156","v":12124.3},{"$f":"TRUNC(D157/100*H157,1)","v":4607.2},0,{"$f":"TRUNC(D157/100*J157,1)","v":0},0,{"$f":"TRUNC(D157/100*L157,1)","v":0},"",null,null,null,null,null,null,null,null,null,null,null,null,null,null,null,null,null,null,null,null,null,null,null,null,null,null,null,null,null,null,null,null,null,null,null,null,null,null,null,null,null,null,null,null,null,null,null,null,null,null,null,null,null,null,null,null,null,null,null,null,null,null,null,null,null,null,null,null,null,null,null,null,null,null,null,null,null,null,null,null,null,null,null,null,null,null,null,null,null,null,null,null,null,null,null,null,null,null,null,null,null,null,null,"M0000-101",""]
[null,"화물차운전사","",1,"인",36224,36224,0,{"$f":"TRUNC(D158*H158,1)","v":0},{"$f":"TRUNC(노임단가!K5*16/12*1/8*25/20,0)","v":36224},{"$f":"TRUNC(D158*J158,1)","v":36224},0,{"$f":"TRUNC(D158*L158,1)","v":0},"",null,null,null,null,null,null,null,null,null,null,null,null,null,null,null,null,null,null,null,null,null,null,null,null,null,null,null,null,null,null,null,null,null,null,null,null,null,null,null,null,null,null,null,null,null,null,null,null,null,null,null,null,null,null,null,null,null,null,null,null,null,null,null,null,null,null,null,null,null,null,null,null,null,null,null,null,null,null,null,null,null,null,null,null,null,null,null,null,null,null,null,null,null,null,null,null,null,null,null,null,null,null,null,"%RAN*MM","1"]
[null,"기계손료","상각비:1125/정비비:1000/관리비:695",{"$f":"2820*10^-7*1000","v":0.28199999999999997},"",33755,9518.9,0,{"$f":"TRUNC(D159*H159,1)","v":0},0,{"$f":"TRUNC(D159*J159,1)","v":0},33755,{"$f":"TRUNC(D159*L159,1)","v":9518.9},"",null,null,null,null,null,null,null,null,null,null,null,null,null,null,null,null,null,null,null,null,null,null,null,null,null,null,null,null,null,null,null,null,null,null,null,null,null,null,null,null,null,null,null,null,null,null,null,null,null,null,null,null,null,null,null,null,null,null,null,null,null,null,null,null,null,null,null,null,null,null,null,null,null,null,null,null,null,null,null,null,null,null,null,null,null,null,null,null,null,null,null,null,null,null,null,null,null,null,null,null,null,null,null,"W1048",""]
[null,"             계             ",null,null,null,null,{"$f":"I160+K160+M160","v":62473},null,{"$f":"ROUNDDOWN(SUM(I156:I159),0)","v":16731},null,{"$f":"ROUNDDOWN(SUM(K156:K159),0)","v":36224},null,{"$f":"ROUNDDOWN(SUM(M156:M159),0)","v":9518},null,null,null,null,null,null,null,null,null,null,null,null,null,null,null,null,null,null,null,null,null,null,null,null,null,null,null,null,null,null,null,null,null,null,null,null,null,null,null,null,null,null,null,null,null,null,null,null,null,null,null,null,null,null,null,null,null,null,null,null,null,null,null,null,null,null,null,null,null,null,null,null,null,null,null,null,null,null,null,null,null,null,null,null,null,null,null,null,null,null,null,null,null,null,null,null,null,null,null,null,null,null,null,null,"%SON-LYO","2213"]
[]
[null," ：덤프트럭 (15 ton)"]
[null,"경    유","경    유",15.9,"ℓ",{"$f":"H163+J163+L163","v":1303.69},20728.599999999999,{"$f":"자재단가!R7","v":1303.69},{"$f":"TRUNC(D163*H163,1)","v":20728.599999999999},0,{"$f":"TRUNC(D163*J163,1)","v":0},0,{"$f":"TRUNC(D163*L163,1)","v":0},"",null,null,null,null,null,null,null,null,null,null,null,null,null,null,null,null,null,null,null,null,null,null,null,null,null,null,null,null,null,null,null,null,null,null,null,null,null,null,null,null,null,null,null,null,null,null,null,null,null,null,null,null,null,null,null,null,null,null,null,null,null,null,null,null,null,null,null,null,null,null,null,null,null,null,null,null,null,null,null,null,null,null,null,null,null,null,null,null,null,null,null,null,null,null,null,null,null,null,null,null,null,null,null,":D0602-0240"]
[null,"잡    품","주연료비의 %",38,"%",20728.599999999999,7876.8,{"$f":"I163","v":20728.599999999999},{"$f":"TRUNC(D164/100*H164,1)","v":7876.8},0,{"$f":"TRUNC(D164/100*J164,1)","v":0},0,{"$f":"TRUNC(D164/100*L164,1)","v":0},"",null,null,null,null,null,null,null,null,null,null,null,null,null,null,null,null,null,null,null,null,null,null,null,null,null,null,null,null,null,null,null,null,null,null,null,null,null,null,null,null,null,null,null,null,null,null,null,null,null,null,null,null,null,null,null,null,null,null,null,null,null,null,null,null,null,null,null,null,null,null,null,null,null,null,null,null,null,null,null,null,null,null,null,null,null,null,null,null,null,null,null,null,null,null,null,null,null,null,null,null,null,null,null,"M0000-101",""]
[null,"건설기계운전사","",1,"인",44299,44299,0,{"$f":"TRUNC(D165*H165,1)","v":0},{"$f":"TRUNC(노임단가!K6*16/12*1/8*25/20,0)","v":44299},{"$f":"TRUNC(D165*J165,1)","v":44299},0,{"$f":"TRUNC(D165*L165,1)","v":0},"",null,null,null,null,null,null,null,null,null,null,null,null,null,null,null,null,null,null,null,null,null,null,null,null,null,null,null,null,null,null,null,null,null,null,null,null,null,null,null,null,null,null,null,null,null,null,null,null,null,null,null,null,null,null,null,null,null,null,null,null,null,null,null,null,null,null,null,null,null,null,null,null,null,null,null,null,null,null,null,null,null,null,null,null,null,null,null,null,null,null,null,null,null,null,null,null,null,null,null,null,null,null,null,"%RAN*MM","1"]
[null,"기계손료","상각비:900/정비비:700/관리비:679",{"$f":"2279*10^-7*1000","v":0.22789999999999999},"",82425,18784.599999999999,0,{"$f":"TRUNC(D166*H166,1)","v":0},0,{"$f":"TRUNC(D166*J166,1)","v":0},82425,{"$f":"TRUNC(D166*L166,1)","v":18784.599999999999},"",null,null,null,null,null,null,null,null,null,null,null,null,null,null,null,null,null,null,null,null,null,null,null,null,null,null,null,null,null,null,null,null,null,null,null,null,null,null,null,null,null,null,null,null,null,null,null,null,null,null,null,null,null,null,null,null,null,null,null,null,null,null,null,null,null,null,null,null,null,null,null,null,null,null,null,null,null,null,null,null,null,null,null,null,null,null,null,null,null,null,null,null,null,null,null,null,null,null,null,null,null,null,null,"W1048",""]
[null,"             계             ",null,null,null,null,{"$f":"I167+K167+M167","v":91688},null,{"$f":"ROUNDDOWN(SUM(I163:I166),0)","v":28605},null,{"$f":"ROUNDDOWN(SUM(K163:K166),0)","v":44299},null,{"$f":"ROUNDDOWN(SUM(M163:M166),0)","v":18784},null,null,null,null,null,null,null,null,null,null,null,null,null,null,null,null,null,null,null,null,null,null,null,null,null,null,null,null,null,null,null,null,null,null,null,null,null,null,null,null,null,null,null,null,null,null,null,null,null,null,null,null,null,null,null,null,null,null,null,null,null,null,null,null,null,null,null,null,null,null,null,null,null,null,null,null,null,null,null,null,null,null,null,null,null,null,null,null,null,null,null,null,null,null,null,null,null,null,null,null,null,null,null,null,"%SON-LYO","2637"]
[null,null,null,null,null,null,null,null,null,null,null,null,null,null,null,null,null,null,null,null,null,null,null,null,null,null,null,null,null,null,null,null,null,null,null,null,null,null,null,null,null,null,null,null,null,null,null,null,null,null,null,null,null,null,null,null,null,null,null,null,null,null,null,null,null,null,null,null,null,null,null,null,null,null,null,null,null,null,null,null,null,null,null,null,null,null,null,null,null,null,null,null,null,null,null,null,null,null,null,null,null,null,null,null,null,null,null,null,null,null,null,null,null,null,null,null,null,"%SON-LYO","2637"]
[null," ：덤프트럭 (24ton,자동덮개)"]
[null,"경    유","경    유",23,"ℓ",{"$f":"H170+J170+L170","v":1303.69},29984.799999999999,{"$f":"자재단가!R7","v":1303.69},{"$f":"TRUNC(D170*H170,1)","v":29984.799999999999},0,{"$f":"TRUNC(D170*J170,1)","v":0},0,{"$f":"TRUNC(D170*L170,1)","v":0},""]
[null,"잡    품","주연료비의 %",38,"%",29984.799999999999,11394.2,{"$f":"I170","v":29984.799999999999},{"$f":"TRUNC(D171/100*H171,1)","v":11394.2},0,{"$f":"TRUNC(D171/100*J171,1)","v":0},0,{"$f":"TRUNC(D171/100*L171,1)","v":0},"",null,null,null,null,null,null,null,null,null,null,null,null,null,null,null,null,null,null,null,null,null,null,null,null,null,null,null,null,null,null,null,null,null,null,null,null,null,null,null,null,null,null,null,null,null,null,null,null,null,null,null,null,null,null,null,null,null,null,null,null,null,null,null,null,null,null,null,null,null,null,null,null,null,null,null,null,null,null,null,null,null,null,null,null,null,null,null,null,null,null,null,null,null,null,null,null,null,null,null,null,null,null,null,":D0602-0240"]
[null,"건설기계운전사","",1,"인",44299,44299,0,{"$f":"TRUNC(D172*H172,1)","v":0},{"$f":"TRUNC(노임단가!K6*16/12*1/8*25/20,0)","v":44299},{"$f":"TRUNC(D172*J172,1)","v":44299},0,{"$f":"TRUNC(D172*L172,1)","v":0},"",null,null,null,null,null,null,null,null,null,null,null,null,null,null,null,null,null,null,null,null,null,null,null,null,null,null,null,null,null,null,null,null,null,null,null,null,null,null,null,null,null,null,null,null,null,null,null,null,null,null,null,null,null,null,null,null,null,null,null,null,null,null,null,null,null,null,null,null,null,null,null,null,null,null,null,null,null,null,null,null,null,null,null,null,null,null,null,null,null,null,null,null,null,null,null,null,null,null,null,null,null,null,null,"M0000-101",""]
[null,"자동덮개","상각비:1125/정비비:1063/관리비:496",{"$f":"2684*10^-7*1000","v":0.26839999999999997},"",{"$f":"H173+J173+L173","v":1712},{"$f":"I173+K173+M173","v":459.5},0,{"$f":"TRUNC(D173*H173,1)","v":0},0,{"$f":"TRUNC(D173*J173,1)","v":0},1712,{"$f":"TRUNC(D173*L173,1)","v":459.5},"",null,null,null,null,null,null,null,null,null,null,null,null,null,null,null,null,null,null,null,null,null,null,null,null,null,null,null,null,null,null,null,null,null,null,null,null,null,null,null,null,null,null,null,null,null,null,null,null,null,null,null,null,null,null,null,null,null,null,null,null,null,null,null,null,null,null,null,null,null,null,null,null,null,null,null,null,null,null,null,null,null,null,null,null,null,null,null,null,null,null,null,null,null,null,null,null,null,null,null,null,null,null,null,"%RAN*MM","1"]
[null,"기계손료","상각비:900/정비비:650/관리비:679",{"$f":"2229*10^-7*1000","v":0.22289999999999999},"",134700,30024.6,0,{"$f":"TRUNC(D174*H174,1)","v":0},0,{"$f":"TRUNC(D174*J174,1)","v":0},134700,{"$f":"TRUNC(D174*L174,1)","v":30024.6},"",null,null,null,null,null,null,null,null,null,null,null,null,null,null,null,null,null,null,null,null,null,null,null,null,null,null,null,null,null,null,null,null,null,null,null,null,null,null,null,null,null,null,null,null,null,null,null,null,null,null,null,null,null,null,null,null,null,null,null,null,null,null,null,null,null,null,null,null,null,null,null,null,null,null,null,null,null,null,null,null,null,null,null,null,null,null,null,null,null,null,null,null,null,null,null,null,null,null,null,null,null,null,null,"W1048",""]
[null,"             계             ",null,null,null,null,{"$f":"I175+K175+M175","v":116162},null,{"$f":"ROUNDDOWN(SUM(I170:I174),0)","v":41379},null,{"$f":"ROUNDDOWN(SUM(K170:K174),0)","v":44299},null,{"$f":"ROUNDDOWN(SUM(M170:M174),0)","v":30484},null,null,null,null,null,null,null,null,null,null,null,null,null,null,null,null,null,null,null,null,null,null,null,null,null,null,null,null,null,null,null,null,null,null,null,null,null,null,null,null,null,null,null,null,null,null,null,null,null,null,null,null,null,null,null,null,null,null,null,null,null,null,null,null,null,null,null,null,null,null,null,null,null,null,null,null,null,null,null,null,null,null,null,null,null,null,null,null,null,null,null,null,null,null,null,null,null,null,null,null,null,null,null,null,"%SON-LYO","2637"]
[]
[null," ：카고트럭(더블캡 1ton)"]
[null,"경    유","경    유",2.9,"ℓ",{"$f":"H178+J178+L178","v":1303.69},{"$f":"I178+K178+M178","v":3780.7},{"$f":"자재단가!R7","v":1303.69},{"$f":"TRUNC(D178*H178,1)","v":3780.7},0,{"$f":"TRUNC(D178*J178,1)","v":0},0,{"$f":"TRUNC(D178*L178,1)","v":0},"",null,null,null,null,null,null,null,null,null,null,null,null,null,null,null,null,null,null,null,null,null,null,null,null,null,null,null,null,null,null,null,null,null,null,null,null,null,null,null,null,null,null,null,null,null,null,null,null,null,null,null,null,null,null,null,null,null,null,null,null,null,null,null,null,null,null,null,null,null,null,null,null,null,null,null,null,null,null,null,null,null,null,null,null,null,null,null,null,null,null,null,null,null,null,null,null,null,null,null,null,null,null,null,":D1106-0010"]
[null,"잡    품","주연료비의 %",38,"%",3780.7,1436.6,{"$f":"I178","v":3780.7},{"$f":"TRUNC(D179/100*H179,1)","v":1436.6},0,{"$f":"TRUNC(D179/100*J179,1)","v":0},0,{"$f":"TRUNC(D179/100*L179,1)","v":0},"",null,null,null,null,null,null,null,null,null,null,null,null,null,null,null,null,null,null,null,null,null,null,null,null,null,null,null,null,null,null,null,null,null,null,null,null,null,null,null,null,null,null,null,null,null,null,null,null,null,null,null,null,null,null,null,null,null,null,null,null,null,null,null,null,null,null,null,null,null,null,null,null,null,null,null,null,null,null,null,null,null,null,null,null,null,null,null,null,null,null,null,null,null,null,null,null,null,null,null,null,null,null,null,"M0000-101",""]
[null,"건설기계운전사","",1,"인",36224,36224,0,{"$f":"TRUNC(D180*H180,1)","v":0},{"$f":"TRUNC(노임단가!K5*16/12*1/8*25/20,0)","v":36224},{"$f":"TRUNC(D180*J180,1)","v":36224},0,{"$f":"TRUNC(D180*L180,1)","v":0},"",null,null,null,null,null,null,null,null,null,null,null,null,null,null,null,null,null,null,null,null,null,null,null,null,null,null,null,null,null,null,null,null,null,null,null,null,null,null,null,null,null,null,null,null,null,null,null,null,null,null,null,null,null,null,null,null,null,null,null,null,null,null,null,null,null,null,null,null,null,null,null,null,null,null,null,null,null,null,null,null,null,null,null,null,null,null,null,null,null,null,null,null,null,null,null,null,null,null,null,null,null,null,null,"%RAN*MM","1"]
[null,"기계손료","상각비:1200/정비비:1067/관리비:634",0.29010000000000002,"",13940,4043.9,0,{"$f":"TRUNC(D181*H181,1)","v":0},0,{"$f":"TRUNC(D181*J181,1)","v":0},13940,{"$f":"TRUNC(D181*L181,1)","v":4043.9},"",null,null,null,null,null,null,null,null,null,null,null,null,null,null,null,null,null,null,null,null,null,null,null,null,null,null,null,null,null,null,null,null,null,null,null,null,null,null,null,null,null,null,null,null,null,null,null,null,null,null,null,null,null,null,null,null,null,null,null,null,null,null,null,null,null,null,null,null,null,null,null,null,null,null,null,null,null,null,null,null,null,null,null,null,null,null,null,null,null,null,null,null,null,null,null,null,null,null,null,null,null,null,null,"W1048",""]
[null,"             계             ",null,null,null,null,{"$f":"I182+K182+M182","v":45484},null,{"$f":"ROUNDDOWN(SUM(I178:I181),0)","v":5217},null,{"$f":"ROUNDDOWN(SUM(K178:K181),0)","v":36224},null,{"$f":"ROUNDDOWN(SUM(M178:M181),0)","v":4043},null,null,null,null,null,null,null,null,null,null,null,null,null,null,null,null,null,null,null,null,null,null,null,null,null,null,null,null,null,null,null,null,null,null,null,null,null,null,null,null,null,null,null,null,null,null,null,null,null,null,null,null,null,null,null,null,null,null,null,null,null,null,null,null,null,null,null,null,null,null,null,null,null,null,null,null,null,null,null,null,null,null,null,null,null,null,null,null,null,null,null,null,null,null,null,null,null,null,null,null,null,null,null,null,"%SON-LYO","1746"]
[]
[null," ：머캐덤롤러(자주식) [8~10 ton]"]
[null,"경    유","경    유",7.6,"ℓ",{"$f":"H185+J185+L185","v":1303.69},9908,{"$f":"자재단가!R7","v":1303.69},{"$f":"TRUNC(D185*H185,1)","v":9908},0,{"$f":"TRUNC(D185*J185,1)","v":0},0,{"$f":"TRUNC(D185*L185,1)","v":0},"",null,null,null,null,null,null,null,null,null,null,null,null,null,null,null,null,null,null,null,null,null,null,null,null,null,null,null,null,null,null,null,null,null,null,null,null,null,null,null,null,null,null,null,null,null,null,null,null,null,null,null,null,null,null,null,null,null,null,null,null,null,null,null,null,null,null,null,null,null,null,null,null,null,null,null,null,null,null,null,null,null,null,null,null,null,null,null,null,null,null,null,null,null,null,null,null,null,null,null,null,null,null,null,":D1106-0012"]
[null,"잡    품","주연료비의 %",18,"%",9908,1783.4,{"$f":"I185","v":9908},{"$f":"TRUNC(D186/100*H186,1)","v":1783.4},0,{"$f":"TRUNC(D186/100*J186,1)","v":0},0,{"$f":"TRUNC(D186/100*L186,1)","v":0},"",null,null,null,null,null,null,null,null,null,null,null,null,null,null,null,null,null,null,null,null,null,null,null,null,null,null,null,null,null,null,null,null,null,null,null,null,null,null,null,null,null,null,null,null,null,null,null,null,null,null,null,null,null,null,null,null,null,null,null,null,null,null,null,null,null,null,null,null,null,null,null,null,null,null,null,null,null,null,null,null,null,null,null,null,null,null,null,null,null,null,null,null,null,null,null,null,null,null,null,null,null,null,null,"M0000-101",""]
[null,"건설기계운전사","",1,"인",44299,44299,0,{"$f":"TRUNC(D187*H187,1)","v":0},{"$f":"TRUNC(노임단가!K6*16/12*1/8*25/20,0)","v":44299},{"$f":"TRUNC(D187*J187,1)","v":44299},0,{"$f":"TRUNC(D187*L187,1)","v":0},"",null,null,null,null,null,null,null,null,null,null,null,null,null,null,null,null,null,null,null,null,null,null,null,null,null,null,null,null,null,null,null,null,null,null,null,null,null,null,null,null,null,null,null,null,null,null,null,null,null,null,null,null,null,null,null,null,null,null,null,null,null,null,null,null,null,null,null,null,null,null,null,null,null,null,null,null,null,null,null,null,null,null,null,null,null,null,null,null,null,null,null,null,null,null,null,null,null,null,null,null,null,null,null,"%RAN*MM","1"]
[null,"기계손료","상각비:750/정비비:500/관리비:552",{"$f":"1802*10^-7*1000","v":0.1802},"",47593,8576.2000000000007,0,{"$f":"TRUNC(D188*H188,1)","v":0},0,{"$f":"TRUNC(D188*J188,1)","v":0},47593,{"$f":"TRUNC(D188*L188,1)","v":8576.2000000000007},"",null,null,null,null,null,null,null,null,null,null,null,null,null,null,null,null,null,null,null,null,null,null,null,null,null,null,null,null,null,null,null,null,null,null,null,null,null,null,null,null,null,null,null,null,null,null,null,null,null,null,null,null,null,null,null,null,null,null,null,null,null,null,null,null,null,null,null,null,null,null,null,null,null,null,null,null,null,null,null,null,null,null,null,null,null,null,null,null,null,null,null,null,null,null,null,null,null,null,null,null,null,null,null,"W1048",""]
[null,"             계             ",null,null,null,null,{"$f":"I189+K189+M189","v":64566},null,{"$f":"ROUNDDOWN(SUM(I185:I188),0)","v":11691},null,{"$f":"ROUNDDOWN(SUM(K185:K188),0)","v":44299},null,{"$f":"ROUNDDOWN(SUM(M185:M188),0)","v":8576},null,null,null,null,null,null,null,null,null,null,null,null,null,null,null,null,null,null,null,null,null,null,null,null,null,null,null,null,null,null,null,null,null,null,null,null,null,null,null,null,null,null,null,null,null,null,null,null,null,null,null,null,null,null,null,null,null,null,null,null,null,null,null,null,null,null,null,null,null,null,null,null,null,null,null,null,null,null,null,null,null,null,null,null,null,null,null,null,null,null,null,null,null,null,null,null,null,null,null,null,null,null,null,null,"%SON-LYO","1746"]
[]
[null," ：머캐덤롤러(자주식) [10~12 ton]"]
[null,"경    유","경    유",9.3000000000000007,"ℓ",{"$f":"H192+J192+L192","v":1303.69},12124.3,{"$f":"자재단가!R7","v":1303.69},{"$f":"TRUNC(D192*H192,1)","v":12124.3},0,{"$f":"TRUNC(D192*J192,1)","v":0},0,{"$f":"TRUNC(D192*L192,1)","v":0},"",null,null,null,null,null,null,null,null,null,null,null,null,null,null,null,null,null,null,null,null,null,null,null,null,null,null,null,null,null,null,null,null,null,null,null,null,null,null,null,null,null,null,null,null,null,null,null,null,null,null,null,null,null,null,null,null,null,null,null,null,null,null,null,null,null,null,null,null,null,null,null,null,null,null,null,null,null,null,null,null,null,null,null,null,null,null,null,null,null,null,null,null,null,null,null,null,null,null,null,null,null,null,null,":D1206-0008"]
[null,"잡    품","주연료비의 %",18,"%",12124.3,2182.3000000000002,{"$f":"I192","v":12124.3},{"$f":"TRUNC(D193/100*H193,1)","v":2182.3000000000002},0,{"$f":"TRUNC(D193/100*J193,1)","v":0},0,{"$f":"TRUNC(D193/100*L193,1)","v":0},"",null,null,null,null,null,null,null,null,null,null,null,null,null,null,null,null,null,null,null,null,null,null,null,null,null,null,null,null,null,null,null,null,null,null,null,null,null,null,null,null,null,null,null,null,null,null,null,null,null,null,null,null,null,null,null,null,null,null,null,null,null,null,null,null,null,null,null,null,null,null,null,null,null,null,null,null,null,null,null,null,null,null,null,null,null,null,null,null,null,null,null,null,null,null,null,null,null,null,null,null,null,null,null,"M0000-101",""]
[null,"건설기계운전사","",1,"인",44299,44299,0,{"$f":"TRUNC(D194*H194,1)","v":0},{"$f":"TRUNC(노임단가!K6*16/12*1/8*25/20,0)","v":44299},{"$f":"TRUNC(D194*J194,1)","v":44299},0,{"$f":"TRUNC(D194*L194,1)","v":0},"",null,null,null,null,null,null,null,null,null,null,null,null,null,null,null,null,null,null,null,null,null,null,null,null,null,null,null,null,null,null,null,null,null,null,null,null,null,null,null,null,null,null,null,null,null,null,null,null,null,null,null,null,null,null,null,null,null,null,null,null,null,null,null,null,null,null,null,null,null,null,null,null,null,null,null,null,null,null,null,null,null,null,null,null,null,null,null,null,null,null,null,null,null,null,null,null,null,null,null,null,null,null,null,"%RAN*MM","1"]
[null,"기계손료","상각비:750/정비비:500/관리비:552",{"$f":"1802*10^-7*1000","v":0.1802},"",59419,10707.3,0,{"$f":"TRUNC(D195*H195,1)","v":0},0,{"$f":"TRUNC(D195*J195,1)","v":0},59419,{"$f":"TRUNC(D195*L195,1)","v":10707.3},"",null,null,null,null,null,null,null,null,null,null,null,null,null,null,null,null,null,null,null,null,null,null,null,null,null,null,null,null,null,null,null,null,null,null,null,null,null,null,null,null,null,null,null,null,null,null,null,null,null,null,null,null,null,null,null,null,null,null,null,null,null,null,null,null,null,null,null,null,null,null,null,null,null,null,null,null,null,null,null,null,null,null,null,null,null,null,null,null,null,null,null,null,null,null,null,null,null,null,null,null,null,null,null,"W1048",""]
[null,"             계             ",null,null,null,null,{"$f":"I196+K196+M196","v":69312},null,{"$f":"ROUNDDOWN(SUM(I192:I195),0)","v":14306},null,{"$f":"ROUNDDOWN(SUM(K192:K195),0)","v":44299},null,{"$f":"ROUNDDOWN(SUM(M192:M195),0)","v":10707},null,null,null,null,null,null,null,null,null,null,null,null,null,null,null,null,null,null,null,null,null,null,null,null,null,null,null,null,null,null,null,null,null,null,null,null,null,null,null,null,null,null,null,null,null,null,null,null,null,null,null,null,null,null,null,null,null,null,null,null,null,null,null,null,null,null,null,null,null,null,null,null,null,null,null,null,null,null,null,null,null,null,null,null,null,null,null,null,null,null,null,null,null,null,null,null,null,null,null,null,null,null,null,null,"%SON-LYO","1796"]
[]
[null," ：탠덤롤러(진동자주식) [4ton]"]
[null,"경    유","경    유",8.1999999999999993,"ℓ",{"$f":"H199+J199+L199","v":1303.69},10690.2,{"$f":"자재단가!R7","v":1303.69},{"$f":"TRUNC(D199*H199,1)","v":10690.2},0,{"$f":"TRUNC(D199*J199,1)","v":0},0,{"$f":"TRUNC(D199*L199,1)","v":0},"",null,null,null,null,null,null,null,null,null,null,null,null,null,null,null,null,null,null,null,null,null,null,null,null,null,null,null,null,null,null,null,null,null,null,null,null,null,null,null,null,null,null,null,null,null,null,null,null,null,null,null,null,null,null,null,null,null,null,null,null,null,null,null,null,null,null,null,null,null,null,null,null,null,null,null,null,null,null,null,null,null,null,null,null,null,null,null,null,null,null,null,null,null,null,null,null,null,null,null,null,null,null,null,":D1206-00158"]
[null,"잡    품","주연료비의 %",8,"%",10690.2,855.2,{"$f":"I199","v":10690.2},{"$f":"TRUNC(D200/100*H200,1)","v":855.2},0,{"$f":"TRUNC(D200/100*J200,1)","v":0},0,{"$f":"TRUNC(D200/100*L200,1)","v":0},"",null,null,null,null,null,null,null,null,null,null,null,null,null,null,null,null,null,null,null,null,null,null,null,null,null,null,null,null,null,null,null,null,null,null,null,null,null,null,null,null,null,null,null,null,null,null,null,null,null,null,null,null,null,null,null,null,null,null,null,null,null,null,null,null,null,null,null,null,null,null,null,null,null,null,null,null,null,null,null,null,null,null,null,null,null,null,null,null,null,null,null,null,null,null,null,null,null,null,null,null,null,null,null,"M0000-101",""]
[null,"건설기계운전사","",1,"인",44299,44299,0,{"$f":"TRUNC(D201*H201,1)","v":0},{"$f":"TRUNC(노임단가!K6*16/12*1/8*25/20,0)","v":44299},{"$f":"TRUNC(D201*J201,1)","v":44299},0,{"$f":"TRUNC(D201*L201,1)","v":0},"",null,null,null,null,null,null,null,null,null,null,null,null,null,null,null,null,null,null,null,null,null,null,null,null,null,null,null,null,null,null,null,null,null,null,null,null,null,null,null,null,null,null,null,null,null,null,null,null,null,null,null,null,null,null,null,null,null,null,null,null,null,null,null,null,null,null,null,null,null,null,null,null,null,null,null,null,null,null,null,null,null,null,null,null,null,null,null,null,null,null,null,null,null,null,null,null,null,null,null,null,null,null,null,"%RAN*MM","1"]
[null,"기계손료","상각비:1000/정비비:667/관리비:490",{"$f":"2157*10^-7*1000","v":0.21569999999999998},"",42645,9198.5,0,{"$f":"TRUNC(D202*H202,1)","v":0},0,{"$f":"TRUNC(D202*J202,1)","v":0},42645,{"$f":"TRUNC(D202*L202,1)","v":9198.5},"",null,null,null,null,null,null,null,null,null,null,null,null,null,null,null,null,null,null,null,null,null,null,null,null,null,null,null,null,null,null,null,null,null,null,null,null,null,null,null,null,null,null,null,null,null,null,null,null,null,null,null,null,null,null,null,null,null,null,null,null,null,null,null,null,null,null,null,null,null,null,null,null,null,null,null,null,null,null,null,null,null,null,null,null,null,null,null,null,null,null,null,null,null,null,null,null,null,null,null,null,null,null,null,"W1048",""]
[null,"             계             ",null,null,null,null,{"$f":"I203+K203+M203","v":65042},null,{"$f":"ROUNDDOWN(SUM(I199:I202),0)","v":11545},null,{"$f":"ROUNDDOWN(SUM(K199:K202),0)","v":44299},null,{"$f":"ROUNDDOWN(SUM(M199:M202),0)","v":9198},null,null,null,null,null,null,null,null,null,null,null,null,null,null,null,null,null,null,null,null,null,null,null,null,null,null,null,null,null,null,null,null,null,null,null,null,null,null,null,null,null,null,null,null,null,null,null,null,null,null,null,null,null,null,null,null,null,null,null,null,null,null,null,null,null,null,null,null,null,null,null,null,null,null,null,null,null,null,null,null,null,null,null,null,null,null,null,null,null,null,null,null,null,null,null,null,null,null,null,null,null,null,null,null,"%SON-LYO","1796"]
[]
[null," ：탠덤롤러(자주식) [5~8 ton]"]
[null,"경    유","경    유",5,"ℓ",{"$f":"H206+J206+L206","v":1303.69},6518.4,{"$f":"자재단가!R7","v":1303.69},{"$f":"TRUNC(D206*H206,1)","v":6518.4},0,{"$f":"TRUNC(D206*J206,1)","v":0},0,{"$f":"TRUNC(D206*L206,1)","v":0},"",null,null,null,null,null,null,null,null,null,null,null,null,null,null,null,null,null,null,null,null,null,null,null,null,null,null,null,null,null,null,null,null,null,null,null,null,null,null,null,null,null,null,null,null,null,null,null,null,null,null,null,null,null,null,null,null,null,null,null,null,null,null,null,null,null,null,null,null,null,null,null,null,null,null,null,null,null,null,null,null,null,null,null,null,null,null,null,null,null,null,null,null,null,null,null,null,null,null,null,null,null,null,null,":D1206-0014"]
[null,"잡    품","주연료비의 %",18,"%",6518.4,1173.3,{"$f":"I206","v":6518.4},{"$f":"TRUNC(D207/100*H207,1)","v":1173.3},0,{"$f":"TRUNC(D207/100*J207,1)","v":0},0,{"$f":"TRUNC(D207/100*L207,1)","v":0},"",null,null,null,null,null,null,null,null,null,null,null,null,null,null,null,null,null,null,null,null,null,null,null,null,null,null,null,null,null,null,null,null,null,null,null,null,null,null,null,null,null,null,null,null,null,null,null,null,null,null,null,null,null,null,null,null,null,null,null,null,null,null,null,null,null,null,null,null,null,null,null,null,null,null,null,null,null,null,null,null,null,null,null,null,null,null,null,null,null,null,null,null,null,null,null,null,null,null,null,null,null,null,null,"M0000-101",""]
[null,"건설기계운전사","",1,"인",44299,44299,0,{"$f":"TRUNC(D208*H208,1)","v":0},{"$f":"TRUNC(노임단가!K6*16/12*1/8*25/20,0)","v":44299},{"$f":"TRUNC(D208*J208,1)","v":44299},0,{"$f":"TRUNC(D208*L208,1)","v":0},"",null,null,null,null,null,null,null,null,null,null,null,null,null,null,null,null,null,null,null,null,null,null,null,null,null,null,null,null,null,null,null,null,null,null,null,null,null,null,null,null,null,null,null,null,null,null,null,null,null,null,null,null,null,null,null,null,null,null,null,null,null,null,null,null,null,null,null,null,null,null,null,null,null,null,null,null,null,null,null,null,null,null,null,null,null,null,null,null,null,null,null,null,null,null,null,null,null,null,null,null,null,null,null,"%RAN*MM","1"]
[null,"기계손료","상각비:750/정비비:458/관리비:655",{"$f":"1863*10^-7*1000","v":0.18629999999999999},"",44314,8255.6,0,{"$f":"TRUNC(D209*H209,1)","v":0},0,{"$f":"TRUNC(D209*J209,1)","v":0},44314,{"$f":"TRUNC(D209*L209,1)","v":8255.6},"",null,null,null,null,null,null,null,null,null,null,null,null,null,null,null,null,null,null,null,null,null,null,null,null,null,null,null,null,null,null,null,null,null,null,null,null,null,null,null,null,null,null,null,null,null,null,null,null,null,null,null,null,null,null,null,null,null,null,null,null,null,null,null,null,null,null,null,null,null,null,null,null,null,null,null,null,null,null,null,null,null,null,null,null,null,null,null,null,null,null,null,null,null,null,null,null,null,null,null,null,null,null,null,"W1048",""]
[null,"             계             ",null,null,null,null,{"$f":"I210+K210+M210","v":60245},null,{"$f":"ROUNDDOWN(SUM(I206:I209),0)","v":7691},null,{"$f":"ROUNDDOWN(SUM(K206:K209),0)","v":44299},null,{"$f":"ROUNDDOWN(SUM(M206:M209),0)","v":8255},null,null,null,null,null,null,null,null,null,null,null,null,null,null,null,null,null,null,null,null,null,null,null,null,null,null,null,null,null,null,null,null,null,null,null,null,null,null,null,null,null,null,null,null,null,null,null,null,null,null,null,null,null,null,null,null,null,null,null,null,null,null,null,null,null,null,null,null,null,null,null,null,null,null,null,null,null,null,null,null,null,null,null,null,null,null,null,null,null,null,null,null,null,null,null,null,null,null,null,null,null,null,null,null,"%SON-LYO","1796"]
[]
[null," ：탠덤롤러(자주식) [10~14 ton]"]
[null,"경    유","경    유",8.4,"ℓ",{"$f":"H213+J213+L213","v":1303.69},10950.9,{"$f":"자재단가!R7","v":1303.69},{"$f":"TRUNC(D213*H213,1)","v":10950.9},0,{"$f":"TRUNC(D213*J213,1)","v":0},0,{"$f":"TRUNC(D213*L213,1)","v":0},"",null,null,null,null,null,null,null,null,null,null,null,null,null,null,null,null,null,null,null,null,null,null,null,null,null,null,null,null,null,null,null,null,null,null,null,null,null,null,null,null,null,null,null,null,null,null,null,null,null,null,null,null,null,null,null,null,null,null,null,null,null,null,null,null,null,null,null,null,null,null,null,null,null,null,null,null,null,null,null,null,null,null,null,null,null,null,null,null,null,null,null,null,null,null,null,null,null,null,null,null,null,null,null,":D1305-0007"]
[null,"잡    품","주연료비의 %",18,"%",10950.9,1971.1,{"$f":"I213","v":10950.9},{"$f":"TRUNC(D214/100*H214,1)","v":1971.1},0,{"$f":"TRUNC(D214/100*J214,1)","v":0},0,{"$f":"TRUNC(D214/100*L214,1)","v":0},"",null,null,null,null,null,null,null,null,null,null,null,null,null,null,null,null,null,null,null,null,null,null,null,null,null,null,null,null,null,null,null,null,null,null,null,null,null,null,null,null,null,null,null,null,null,null,null,null,null,null,null,null,null,null,null,null,null,null,null,null,null,null,null,null,null,null,null,null,null,null,null,null,null,null,null,null,null,null,null,null,null,null,null,null,null,null,null,null,null,null,null,null,null,null,null,null,null,null,null,null,null,null,null,"M0000-101",""]
[null,"건설기계운전사","",1,"인",44299,44299,0,{"$f":"TRUNC(D215*H215,1)","v":0},{"$f":"TRUNC(노임단가!K6*16/12*1/8*25/20,0)","v":44299},{"$f":"TRUNC(D215*J215,1)","v":44299},0,{"$f":"TRUNC(D215*L215,1)","v":0},"",null,null,null,null,null,null,null,null,null,null,null,null,null,null,null,null,null,null,null,null,null,null,null,null,null,null,null,null,null,null,null,null,null,null,null,null,null,null,null,null,null,null,null,null,null,null,null,null,null,null,null,null,null,null,null,null,null,null,null,null,null,null,null,null,null,null,null,null,null,null,null,null,null,null,null,null,null,null,null,null,null,null,null,null,null,null,null,null,null,null,null,null,null,null,null,null,null,null,null,null,null,null,null,"%RAN*MM","1"]
[null,"기계손료","상각비:750/정비비:458/관리비:655",{"$f":"1863*10^-7*1000","v":0.18629999999999999},"",51105,9520.7999999999993,0,{"$f":"TRUNC(D216*H216,1)","v":0},0,{"$f":"TRUNC(D216*J216,1)","v":0},51105,{"$f":"TRUNC(D216*L216,1)","v":9520.7999999999993},"",null,null,null,null,null,null,null,null,null,null,null,null,null,null,null,null,null,null,null,null,null,null,null,null,null,null,null,null,null,null,null,null,null,null,null,null,null,null,null,null,null,null,null,null,null,null,null,null,null,null,null,null,null,null,null,null,null,null,null,null,null,null,null,null,null,null,null,null,null,null,null,null,null,null,null,null,null,null,null,null,null,null,null,null,null,null,null,null,null,null,null,null,null,null,null,null,null,null,null,null,null,null,null,"W1048",""]
[null,"             계             ",null,null,null,null,{"$f":"I217+K217+M217","v":66741},null,{"$f":"ROUNDDOWN(SUM(I213:I216),0)","v":12922},null,{"$f":"ROUNDDOWN(SUM(K213:K216),0)","v":44299},null,{"$f":"ROUNDDOWN(SUM(M213:M216),0)","v":9520},null,null,null,null,null,null,null,null,null,null,null,null,null,null,null,null,null,null,null,null,null,null,null,null,null,null,null,null,null,null,null,null,null,null,null,null,null,null,null,null,null,null,null,null,null,null,null,null,null,null,null,null,null,null,null,null,null,null,null,null,null,null,null,null,null,null,null,null,null,null,null,null,null,null,null,null,null,null,null,null,null,null,null,null,null,null,null,null,null,null,null,null,null,null,null,null,null,null,null,null,null,null,null,null,"%SON-LYO","2757"]
[]
[null," ：진동롤러(핸드가이드식) [0.7 ton]"]
[null,"경    유","경    유",2.2000000000000002,"ℓ",{"$f":"H220+J220+L220","v":1303.69},2868.1,{"$f":"자재단가!R7","v":1303.69},{"$f":"TRUNC(D220*H220,1)","v":2868.1},0,{"$f":"TRUNC(D220*J220,1)","v":0},0,{"$f":"TRUNC(D220*L220,1)","v":0},"",null,null,null,null,null,null,null,null,null,null,null,null,null,null,null,null,null,null,null,null,null,null,null,null,null,null,null,null,null,null,null,null,null,null,null,null,null,null,null,null,null,null,null,null,null,null,null,null,null,null,null,null,null,null,null,null,null,null,null,null,null,null,null,null,null,null,null,null,null,null,null,null,null,null,null,null,null,null,null,null,null,null,null,null,null,null,null,null,null,null,null,null,null,null,null,null,null,null,null,null,null,null,null,":D1306-0025"]
[null,"잡    품","주연료비의 %",13,"%",2868.1,372.8,{"$f":"I220","v":2868.1},{"$f":"TRUNC(D221/100*H221,1)","v":372.8},0,{"$f":"TRUNC(D221/100*J221,1)","v":0},0,{"$f":"TRUNC(D221/100*L221,1)","v":0},"",null,null,null,null,null,null,null,null,null,null,null,null,null,null,null,null,null,null,null,null,null,null,null,null,null,null,null,null,null,null,null,null,null,null,null,null,null,null,null,null,null,null,null,null,null,null,null,null,null,null,null,null,null,null,null,null,null,null,null,null,null,null,null,null,null,null,null,null,null,null,null,null,null,null,null,null,null,null,null,null,null,null,null,null,null,null,null,null,null,null,null,null,null,null,null,null,null,null,null,null,null,null,null,"M0000-101",""]
[null,"건설기계운전사","",1,"인",44299,44299,0,{"$f":"TRUNC(D222*H222,1)","v":0},{"$f":"TRUNC(노임단가!K6*16/12*1/8*25/20,0)","v":44299},{"$f":"TRUNC(D222*J222,1)","v":44299},0,{"$f":"TRUNC(D222*L222,1)","v":0},"",null,null,null,null,null,null,null,null,null,null,null,null,null,null,null,null,null,null,null,null,null,null,null,null,null,null,null,null,null,null,null,null,null,null,null,null,null,null,null,null,null,null,null,null,null,null,null,null,null,null,null,null,null,null,null,null,null,null,null,null,null,null,null,null,null,null,null,null,null,null,null,null,null,null,null,null,null,null,null,null,null,null,null,null,null,null,null,null,null,null,null,null,null,null,null,null,null,null,null,null,null,null,null,"%RAN*MM","1"]
[null,"기계손료","상각비:1286/정비비:857/관리비:682",{"$f":"2825*10^-7*1000","v":0.28249999999999997},"",6061,1712.2,0,{"$f":"TRUNC(D223*H223,1)","v":0},0,{"$f":"TRUNC(D223*J223,1)","v":0},6061,{"$f":"TRUNC(D223*L223,1)","v":1712.2},"",null,null,null,null,null,null,null,null,null,null,null,null,null,null,null,null,null,null,null,null,null,null,null,null,null,null,null,null,null,null,null,null,null,null,null,null,null,null,null,null,null,null,null,null,null,null,null,null,null,null,null,null,null,null,null,null,null,null,null,null,null,null,null,null,null,null,null,null,null,null,null,null,null,null,null,null,null,null,null,null,null,null,null,null,null,null,null,null,null,null,null,null,null,null,null,null,null,null,null,null,null,null,null,"W1048",""]
[null,"             계             ",null,null,null,null,{"$f":"I224+K224+M224","v":49251},null,{"$f":"ROUNDDOWN(SUM(I220:I223),0)","v":3240},null,{"$f":"ROUNDDOWN(SUM(K220:K223),0)","v":44299},null,{"$f":"ROUNDDOWN(SUM(M220:M223),0)","v":1712},null,null,null,null,null,null,null,null,null,null,null,null,null,null,null,null,null,null,null,null,null,null,null,null,null,null,null,null,null,null,null,null,null,null,null,null,null,null,null,null,null,null,null,null,null,null,null,null,null,null,null,null,null,null,null,null,null,null,null,null,null,null,null,null,null,null,null,null,null,null,null,null,null,null,null,null,null,null,null,null,null,null,null,null,null,null,null,null,null,null,null,null,null,null,null,null,null,null,null,null,null,null,null,null,"%SON-LYO","2757"]
[]
[null," ：진동롤러(자주식) [2.5 ton]"]
[null,"경    유","경    유",2.2999999999999998,"ℓ",{"$f":"H227+J227+L227","v":1303.69},2998.4,{"$f":"자재단가!R7","v":1303.69},{"$f":"TRUNC(D227*H227,1)","v":2998.4},0,{"$f":"TRUNC(D227*J227,1)","v":0},0,{"$f":"TRUNC(D227*L227,1)","v":0},"",null,null,null,null,null,null,null,null,null,null,null,null,null,null,null,null,null,null,null,null,null,null,null,null,null,null,null,null,null,null,null,null,null,null,null,null,null,null,null,null,null,null,null,null,null,null,null,null,null,null,null,null,null,null,null,null,null,null,null,null,null,null,null,null,null,null,null,null,null,null,null,null,null,null,null,null,null,null,null,null,null,null,null,null,null,null,null,null,null,null,null,null,null,null,null,null,null,null,null,null,null,null,null,":D1306-0100"]
[null,"잡    품","주연료비의 %",13,"%",2998.4,389.7,{"$f":"I227","v":2998.4},{"$f":"TRUNC(D228/100*H228,1)","v":389.7},0,{"$f":"TRUNC(D228/100*J228,1)","v":0},0,{"$f":"TRUNC(D228/100*L228,1)","v":0},"",null,null,null,null,null,null,null,null,null,null,null,null,null,null,null,null,null,null,null,null,null,null,null,null,null,null,null,null,null,null,null,null,null,null,null,null,null,null,null,null,null,null,null,null,null,null,null,null,null,null,null,null,null,null,null,null,null,null,null,null,null,null,null,null,null,null,null,null,null,null,null,null,null,null,null,null,null,null,null,null,null,null,null,null,null,null,null,null,null,null,null,null,null,null,null,null,null,null,null,null,null,null,null,"M0000-101",""]
[null,"건설기계운전사","",1,"인",44299,44299,0,{"$f":"TRUNC(D229*H229,1)","v":0},{"$f":"TRUNC(노임단가!K6*16/12*1/8*25/20,0)","v":44299},{"$f":"TRUNC(D229*J229,1)","v":44299},0,{"$f":"TRUNC(D229*L229,1)","v":0},"",null,null,null,null,null,null,null,null,null,null,null,null,null,null,null,null,null,null,null,null,null,null,null,null,null,null,null,null,null,null,null,null,null,null,null,null,null,null,null,null,null,null,null,null,null,null,null,null,null,null,null,null,null,null,null,null,null,null,null,null,null,null,null,null,null,null,null,null,null,null,null,null,null,null,null,null,null,null,null,null,null,null,null,null,null,null,null,null,null,null,null,null,null,null,null,null,null,null,null,null,null,null,null,"%RAN*MM","1"]
[null,"기계손료","상각비:1286/정비비:857/관리비:682",{"$f":"2825*10^-7*1000","v":0.28249999999999997},"",16407,4634.8999999999996,0,{"$f":"TRUNC(D230*H230,1)","v":0},0,{"$f":"TRUNC(D230*J230,1)","v":0},16407,{"$f":"TRUNC(D230*L230,1)","v":4634.8999999999996},"",null,null,null,null,null,null,null,null,null,null,null,null,null,null,null,null,null,null,null,null,null,null,null,null,null,null,null,null,null,null,null,null,null,null,null,null,null,null,null,null,null,null,null,null,null,null,null,null,null,null,null,null,null,null,null,null,null,null,null,null,null,null,null,null,null,null,null,null,null,null,null,null,null,null,null,null,null,null,null,null,null,null,null,null,null,null,null,null,null,null,null,null,null,null,null,null,null,null,null,null,null,null,null,"W1048",""]
[null,"             계             ",null,null,null,null,{"$f":"I231+K231+M231","v":52321},null,{"$f":"ROUNDDOWN(SUM(I227:I230),0)","v":3388},null,{"$f":"ROUNDDOWN(SUM(K227:K230),0)","v":44299},null,{"$f":"ROUNDDOWN(SUM(M227:M230),0)","v":4634},null,null,null,null,null,null,null,null,null,null,null,null,null,null,null,null,null,null,null,null,null,null,null,null,null,null,null,null,null,null,null,null,null,null,null,null,null,null,null,null,null,null,null,null,null,null,null,null,null,null,null,null,null,null,null,null,null,null,null,null,null,null,null,null,null,null,null,null,null,null,null,null,null,null,null,null,null,null,null,null,null,null,null,null,null,null,null,null,null,null,null,null,null,null,null,null,null,null,null,null,null,null,null,null,"%SON-LYO","2757"]
[]
[null," ：진동롤러(자주식) [10.0 ton]"]
[null,"경    유","경    유",14.4,"ℓ",{"$f":"H234+J234+L234","v":1303.69},18773.099999999999,{"$f":"자재단가!R7","v":1303.69},{"$f":"TRUNC(D234*H234,1)","v":18773.099999999999},0,{"$f":"TRUNC(D234*J234,1)","v":0},0,{"$f":"TRUNC(D234*L234,1)","v":0},"",null,null,null,null,null,null,null,null,null,null,null,null,null,null,null,null,null,null,null,null,null,null,null,null,null,null,null,null,null,null,null,null,null,null,null,null,null,null,null,null,null,null,null,null,null,null,null,null,null,null,null,null,null,null,null,null,null,null,null,null,null,null,null,null,null,null,null,null,null,null,null,null,null,null,null,null,null,null,null,null,null,null,null,null,null,null,null,null,null,null,null,null,null,null,null,null,null,null,null,null,null,null,null,":D1306-0100"]
[null,"잡    품","주연료비의 %",30,"%",18773.099999999999,5631.9,{"$f":"I234","v":18773.099999999999},{"$f":"TRUNC(D235/100*H235,1)","v":5631.9},0,{"$f":"TRUNC(D235/100*J235,1)","v":0},0,{"$f":"TRUNC(D235/100*L235,1)","v":0},"",null,null,null,null,null,null,null,null,null,null,null,null,null,null,null,null,null,null,null,null,null,null,null,null,null,null,null,null,null,null,null,null,null,null,null,null,null,null,null,null,null,null,null,null,null,null,null,null,null,null,null,null,null,null,null,null,null,null,null,null,null,null,null,null,null,null,null,null,null,null,null,null,null,null,null,null,null,null,null,null,null,null,null,null,null,null,null,null,null,null,null,null,null,null,null,null,null,null,null,null,null,null,null,"M0000-101",""]
[null,"건설기계운전사","",1,"인",44299,44299,0,{"$f":"TRUNC(D236*H236,1)","v":0},{"$f":"TRUNC(노임단가!K6*16/12*1/8*25/20,0)","v":44299},{"$f":"TRUNC(D236*J236,1)","v":44299},0,{"$f":"TRUNC(D236*L236,1)","v":0},"",null,null,null,null,null,null,null,null,null,null,null,null,null,null,null,null,null,null,null,null,null,null,null,null,null,null,null,null,null,null,null,null,null,null,null,null,null,null,null,null,null,null,null,null,null,null,null,null,null,null,null,null,null,null,null,null,null,null,null,null,null,null,null,null,null,null,null,null,null,null,null,null,null,null,null,null,null,null,null,null,null,null,null,null,null,null,null,null,null,null,null,null,null,null,null,null,null,null,null,null,null,null,null,"%RAN*MM","1"]
[null,"기계손료","상각비:1286/정비비:857/관리비:682",{"$f":"2825*10^-7*1000","v":0.28249999999999997},"",86033,24304.3,0,{"$f":"TRUNC(D237*H237,1)","v":0},0,{"$f":"TRUNC(D237*J237,1)","v":0},86033,{"$f":"TRUNC(D237*L237,1)","v":24304.3},"",null,null,null,null,null,null,null,null,null,null,null,null,null,null,null,null,null,null,null,null,null,null,null,null,null,null,null,null,null,null,null,null,null,null,null,null,null,null,null,null,null,null,null,null,null,null,null,null,null,null,null,null,null,null,null,null,null,null,null,null,null,null,null,null,null,null,null,null,null,null,null,null,null,null,null,null,null,null,null,null,null,null,null,null,null,null,null,null,null,null,null,null,null,null,null,null,null,null,null,null,null,null,null,"W1048",""]
[null,"             계             ",null,null,null,null,{"$f":"I238+K238+M238","v":93008},null,{"$f":"ROUNDDOWN(SUM(I234:I237),0)","v":24405},null,{"$f":"ROUNDDOWN(SUM(K234:K237),0)","v":44299},null,{"$f":"ROUNDDOWN(SUM(M234:M237),0)","v":24304},null,null,null,null,null,null,null,null,null,null,null,null,null,null,null,null,null,null,null,null,null,null,null,null,null,null,null,null,null,null,null,null,null,null,null,null,null,null,null,null,null,null,null,null,null,null,null,null,null,null,null,null,null,null,null,null,null,null,null,null,null,null,null,null,null,null,null,null,null,null,null,null,null,null,null,null,null,null,null,null,null,null,null,null,null,null,null,null,null,null,null,null,null,null,null,null,null,null,null,null,null,null,null,null,"%SON-LYO","2757"]
[]
[null," ：진동롤러(자주식) [12.0 ton]"]
[null,"경    유","경    유",15.8,"ℓ",{"$f":"H241+J241+L241","v":1303.69},{"$f":"I241+K241+M241","v":20598.3},{"$f":"자재단가!R7","v":1303.69},{"$f":"TRUNC(D241*H241,1)","v":20598.3},0,{"$f":"TRUNC(D241*J241,1)","v":0},0,{"$f":"TRUNC(D241*L241,1)","v":0},"",null,null,null,null,null,null,null,null,null,null,null,null,null,null,null,null,null,null,null,null,null,null,null,null,null,null,null,null,null,null,null,null,null,null,null,null,null,null,null,null,null,null,null,null,null,null,null,null,null,null,null,null,null,null,null,null,null,null,null,null,null,null,null,null,null,null,null,null,null,null,null,null,null,null,null,null,null,null,null,null,null,null,null,null,null,null,null,null,null,null,null,null,null,null,null,null,null,null,null,null,null,null,null,":D1406-0008"]
[null,"잡    품","주연료비의 %",30,"%",20598.3,6179.4,{"$f":"I241","v":20598.3},{"$f":"TRUNC(D242/100*H242,1)","v":6179.4},0,{"$f":"TRUNC(D242/100*J242,1)","v":0},0,{"$f":"TRUNC(D242/100*L242,1)","v":0},"",null,null,null,null,null,null,null,null,null,null,null,null,null,null,null,null,null,null,null,null,null,null,null,null,null,null,null,null,null,null,null,null,null,null,null,null,null,null,null,null,null,null,null,null,null,null,null,null,null,null,null,null,null,null,null,null,null,null,null,null,null,null,null,null,null,null,null,null,null,null,null,null,null,null,null,null,null,null,null,null,null,null,null,null,null,null,null,null,null,null,null,null,null,null,null,null,null,null,null,null,null,null,null,"M0000-101",""]
[null,"건설기계운전사","",1,"인",44299,44299,0,{"$f":"TRUNC(D243*H243,1)","v":0},{"$f":"TRUNC(노임단가!K6*16/12*1/8*25/20,0)","v":44299},{"$f":"TRUNC(D243*J243,1)","v":44299},0,{"$f":"TRUNC(D243*L243,1)","v":0},"",null,null,null,null,null,null,null,null,null,null,null,null,null,null,null,null,null,null,null,null,null,null,null,null,null,null,null,null,null,null,null,null,null,null,null,null,null,null,null,null,null,null,null,null,null,null,null,null,null,null,null,null,null,null,null,null,null,null,null,null,null,null,null,null,null,null,null,null,null,null,null,null,null,null,null,null,null,null,null,null,null,null,null,null,null,null,null,null,null,null,null,null,null,null,null,null,null,null,null,null,null,null,null,"%RAN*MM","1"]
[null,"기계손료","상각비:1286/정비비:857/관리비:682",{"$f":"2825*10^-7*1000","v":0.28249999999999997},"",92000,25990,0,{"$f":"TRUNC(D244*H244,1)","v":0},0,{"$f":"TRUNC(D244*J244,1)","v":0},92000,{"$f":"TRUNC(D244*L244,1)","v":25990},"",null,null,null,null,null,null,null,null,null,null,null,null,null,null,null,null,null,null,null,null,null,null,null,null,null,null,null,null,null,null,null,null,null,null,null,null,null,null,null,null,null,null,null,null,null,null,null,null,null,null,null,null,null,null,null,null,null,null,null,null,null,null,null,null,null,null,null,null,null,null,null,null,null,null,null,null,null,null,null,null,null,null,null,null,null,null,null,null,null,null,null,null,null,null,null,null,null,null,null,null,null,null,null,"W1048",""]
[null,"             계             ",null,null,null,null,{"$f":"I245+K245+M245","v":97066},null,{"$f":"ROUNDDOWN(SUM(I241:I244),0)","v":26777},null,{"$f":"ROUNDDOWN(SUM(K241:K244),0)","v":44299},null,{"$f":"ROUNDDOWN(SUM(M241:M244),0)","v":25990},null,null,null,null,null,null,null,null,null,null,null,null,null,null,null,null,null,null,null,null,null,null,null,null,null,null,null,null,null,null,null,null,null,null,null,null,null,null,null,null,null,null,null,null,null,null,null,null,null,null,null,null,null,null,null,null,null,null,null,null,null,null,null,null,null,null,null,null,null,null,null,null,null,null,null,null,null,null,null,null,null,null,null,null,null,null,null,null,null,null,null,null,null,null,null,null,null,null,null,null,null,null,null,null,"%SON-LYO","1889"]
[]
[null," ：타이어롤러(자주식) [5~8 ton]"]
[null,"경    유","경    유",4.9000000000000004,"ℓ",{"$f":"H248+J248+L248","v":1303.69},6388,{"$f":"자재단가!R7","v":1303.69},{"$f":"TRUNC(D248*H248,1)","v":6388},0,{"$f":"TRUNC(D248*J248,1)","v":0},0,{"$f":"TRUNC(D248*L248,1)","v":0},"",null,null,null,null,null,null,null,null,null,null,null,null,null,null,null,null,null,null,null,null,null,null,null,null,null,null,null,null,null,null,null,null,null,null,null,null,null,null,null,null,null,null,null,null,null,null,null,null,null,null,null,null,null,null,null,null,null,null,null,null,null,null,null,null,null,null,null,null,null,null,null,null,null,null,null,null,null,null,null,null,null,null,null,null,null,null,null,null,null,null,null,null,null,null,null,null,null,null,null,null,null,null,null,":D1406-0015"]
[null,"잡    품","주연료비의 %",23,"%",6388,1469.2,{"$f":"I248","v":6388},{"$f":"TRUNC(D249/100*H249,1)","v":1469.2},0,{"$f":"TRUNC(D249/100*J249,1)","v":0},0,{"$f":"TRUNC(D249/100*L249,1)","v":0},"",null,null,null,null,null,null,null,null,null,null,null,null,null,null,null,null,null,null,null,null,null,null,null,null,null,null,null,null,null,null,null,null,null,null,null,null,null,null,null,null,null,null,null,null,null,null,null,null,null,null,null,null,null,null,null,null,null,null,null,null,null,null,null,null,null,null,null,null,null,null,null,null,null,null,null,null,null,null,null,null,null,null,null,null,null,null,null,null,null,null,null,null,null,null,null,null,null,null,null,null,null,null,null,"M0000-101",""]
[null,"건설기계운전사","",1,"인",44299,44299,0,{"$f":"TRUNC(D250*H250,1)","v":0},{"$f":"TRUNC(노임단가!K6*16/12*1/8*25/20,0)","v":44299},{"$f":"TRUNC(D250*J250,1)","v":44299},0,{"$f":"TRUNC(D250*L250,1)","v":0},"",null,null,null,null,null,null,null,null,null,null,null,null,null,null,null,null,null,null,null,null,null,null,null,null,null,null,null,null,null,null,null,null,null,null,null,null,null,null,null,null,null,null,null,null,null,null,null,null,null,null,null,null,null,null,null,null,null,null,null,null,null,null,null,null,null,null,null,null,null,null,null,null,null,null,null,null,null,null,null,null,null,null,null,null,null,null,null,null,null,null,null,null,null,null,null,null,null,null,null,null,null,null,null,"%RAN*MM","1"]
[null,"기계손료","상각비:833/정비비:556/관리비:556",{"$f":"1945*10^-7*1000","v":0.19449999999999998},"",54645,10628.4,0,{"$f":"TRUNC(D251*H251,1)","v":0},0,{"$f":"TRUNC(D251*J251,1)","v":0},54645,{"$f":"TRUNC(D251*L251,1)","v":10628.4},"",null,null,null,null,null,null,null,null,null,null,null,null,null,null,null,null,null,null,null,null,null,null,null,null,null,null,null,null,null,null,null,null,null,null,null,null,null,null,null,null,null,null,null,null,null,null,null,null,null,null,null,null,null,null,null,null,null,null,null,null,null,null,null,null,null,null,null,null,null,null,null,null,null,null,null,null,null,null,null,null,null,null,null,null,null,null,null,null,null,null,null,null,null,null,null,null,null,null,null,null,null,null,null,"W1048",""]
[null,"             계             ",null,null,null,null,{"$f":"I252+K252+M252","v":62784},null,{"$f":"ROUNDDOWN(SUM(I248:I251),0)","v":7857},null,{"$f":"ROUNDDOWN(SUM(K248:K251),0)","v":44299},null,{"$f":"ROUNDDOWN(SUM(M248:M251),0)","v":10628},null,null,null,null,null,null,null,null,null,null,null,null,null,null,null,null,null,null,null,null,null,null,null,null,null,null,null,null,null,null,null,null,null,null,null,null,null,null,null,null,null,null,null,null,null,null,null,null,null,null,null,null,null,null,null,null,null,null,null,null,null,null,null,null,null,null,null,null,null,null,null,null,null,null,null,null,null,null,null,null,null,null,null,null,null,null,null,null,null,null,null,null,null,null,null,null,null,null,null,null,null,null,null,null,"%SON-LYO","1889"]
[]
[null," ：타이어롤러(자주식) [8~15 ton]"]
[null,"경    유","경    유",8,"ℓ",{"$f":"H255+J255+L255","v":1303.69},10429.5,{"$f":"자재단가!R7","v":1303.69},{"$f":"TRUNC(D255*H255,1)","v":10429.5},0,{"$f":"TRUNC(D255*J255,1)","v":0},0,{"$f":"TRUNC(D255*L255,1)","v":0},"",null,null,null,null,null,null,null,null,null,null,null,null,null,null,null,null,null,null,null,null,null,null,null,null,null,null,null,null,null,null,null,null,null,null,null,null,null,null,null,null,null,null,null,null,null,null,null,null,null,null,null,null,null,null,null,null,null,null,null,null,null,null,null,null,null,null,null,null,null,null,null,null,null,null,null,null,null,null,null,null,null,null,null,null,null,null,null,null,null,null,null,null,null,null,null,null,null,null,null,null,null,null,null,":D1630-0080"]
[null,"잡    품","주연료비의 %",23,"%",10429.5,2398.6999999999998,{"$f":"I255","v":10429.5},{"$f":"TRUNC(D256/100*H256,1)","v":2398.6999999999998},0,{"$f":"TRUNC(D256/100*J256,1)","v":0},0,{"$f":"TRUNC(D256/100*L256,1)","v":0},"",null,null,null,null,null,null,null,null,null,null,null,null,null,null,null,null,null,null,null,null,null,null,null,null,null,null,null,null,null,null,null,null,null,null,null,null,null,null,null,null,null,null,null,null,null,null,null,null,null,null,null,null,null,null,null,null,null,null,null,null,null,null,null,null,null,null,null,null,null,null,null,null,null,null,null,null,null,null,null,null,null,null,null,null,null,null,null,null,null,null,null,null,null,null,null,null,null,null,null,null,null,null,null,"M0000-100",""]
[null,"건설기계운전사","",1,"인",44299,44299,0,{"$f":"TRUNC(D257*H257,1)","v":0},{"$f":"TRUNC(노임단가!K6*16/12*1/8*25/20,0)","v":44299},{"$f":"TRUNC(D257*J257,1)","v":44299},0,{"$f":"TRUNC(D257*L257,1)","v":0},"",null,null,null,null,null,null,null,null,null,null,null,null,null,null,null,null,null,null,null,null,null,null,null,null,null,null,null,null,null,null,null,null,null,null,null,null,null,null,null,null,null,null,null,null,null,null,null,null,null,null,null,null,null,null,null,null,null,null,null,null,null,null,null,null,null,null,null,null,null,null,null,null,null,null,null,null,null,null,null,null,null,null,null,null,null,null,null,null,null,null,null,null,null,null,null,null,null,null,null,null,null,null,null,"%RAN*MM","1"]
[null,"기계손료","상각비:833/정비비:556/관리비:556",{"$f":"1945*10^-7*1000","v":0.19449999999999998},"",85501,16629.900000000001,0,{"$f":"TRUNC(D258*H258,1)","v":0},0,{"$f":"TRUNC(D258*J258,1)","v":0},85501,{"$f":"TRUNC(D258*L258,1)","v":16629.900000000001},"",null,null,null,null,null,null,null,null,null,null,null,null,null,null,null,null,null,null,null,null,null,null,null,null,null,null,null,null,null,null,null,null,null,null,null,null,null,null,null,null,null,null,null,null,null,null,null,null,null,null,null,null,null,null,null,null,null,null,null,null,null,null,null,null,null,null,null,null,null,null,null,null,null,null,null,null,null,null,null,null,null,null,null,null,null,null,null,null,null,null,null,null,null,null,null,null,null,null,null,null,null,null,null,"W1050",""]
[null,"             계             ",null,null,null,null,{"$f":"I259+K259+M259","v":73756},null,{"$f":"ROUNDDOWN(SUM(I255:I258),0)","v":12828},null,{"$f":"ROUNDDOWN(SUM(K255:K258),0)","v":44299},null,{"$f":"ROUNDDOWN(SUM(M255:M258),0)","v":16629},null,null,null,null,null,null,null,null,null,null,null,null,null,null,null,null,null,null,null,null,null,null,null,null,null,null,null,null,null,null,null,null,null,null,null,null,null,null,null,null,null,null,null,null,null,null,null,null,null,null,null,null,null,null,null,null,null,null,null,null,null,null,null,null,null,null,null,null,null,null,null,null,null,null,null,null,null,null,null,null,null,null,null,null,null,null,null,null,null,null,null,null,null,null,null,null,null,null,null,null,null,null,null,null,"%SON-LYO","3640"]
[]
[null," ：래머 (80 ㎏)"]
[null,"휘 발 유","휘 발 유",0.7,"d",{"$f":"H262+J262+L262","v":1499.33},1049.5,{"$f":"자재단가!R6","v":1499.33},{"$f":"TRUNC(D262*H262,1)","v":1049.5},0,{"$f":"TRUNC(D262*J262,1)","v":0},0,{"$f":"TRUNC(D262*L262,1)","v":0},"",null,null,null,null,null,null,null,null,null,null,null,null,null,null,null,null,null,null,null,null,null,null,null,null,null,null,null,null,null,null,null,null,null,null,null,null,null,null,null,null,null,null,null,null,null,null,null,null,null,null,null,null,null,null,null,null,null,null,null,null,null,null,null,null,null,null,null,null,null,null,null,null,null,null,null,null,null,null,null,null,null,null,null,null,null,null,null,null,null,null,null,null,null,null,null,null,null,null,null,null,null,null,null,":D1730-0015"]
[null,"잡    품","주연료비의 %",10,"%",1049.5,104.9,{"$f":"I262","v":1049.5},{"$f":"TRUNC(D263/100*H263,1)","v":104.9},0,{"$f":"TRUNC(D263/100*J263,1)","v":0},0,{"$f":"TRUNC(D263/100*L263,1)","v":0},"",null,null,null,null,null,null,null,null,null,null,null,null,null,null,null,null,null,null,null,null,null,null,null,null,null,null,null,null,null,null,null,null,null,null,null,null,null,null,null,null,null,null,null,null,null,null,null,null,null,null,null,null,null,null,null,null,null,null,null,null,null,null,null,null,null,null,null,null,null,null,null,null,null,null,null,null,null,null,null,null,null,null,null,null,null,null,null,null,null,null,null,null,null,null,null,null,null,null,null,null,null,null,null,"M0000-100",""]
[null,"일반기계운전사","",1,"인",28571,28571,0,{"$f":"TRUNC(D264*H264,1)","v":0},{"$f":"TRUNC(노임단가!K9*16/12*1/8*25/20,0)","v":28571},{"$f":"TRUNC(D264*J264,1)","v":28571},0,{"$f":"TRUNC(D264*L264,1)","v":0},"",null,null,null,null,null,null,null,null,null,null,null,null,null,null,null,null,null,null,null,null,null,null,null,null,null,null,null,null,null,null,null,null,null,null,null,null,null,null,null,null,null,null,null,null,null,null,null,null,null,null,null,null,null,null,null,null,null,null,null,null,null,null,null,null,null,null,null,null,null,null,null,null,null,null,null,null,null,null,null,null,null,null,null,null,null,null,null,null,null,null,null,null,null,null,null,null,null,null,null,null,null,null,null,"%RAN*MM","1"]
[null,"기계손료","상각비:1800/정비비:1200/관리비:708",{"$f":"3708*10^-7*1000","v":0.37079999999999996},"",1233,457.1,0,{"$f":"TRUNC(D265*H265,1)","v":0},0,{"$f":"TRUNC(D265*J265,1)","v":0},1233,{"$f":"TRUNC(D265*L265,1)","v":457.1},"",null,null,null,null,null,null,null,null,null,null,null,null,null,null,null,null,null,null,null,null,null,null,null,null,null,null,null,null,null,null,null,null,null,null,null,null,null,null,null,null,null,null,null,null,null,null,null,null,null,null,null,null,null,null,null,null,null,null,null,null,null,null,null,null,null,null,null,null,null,null,null,null,null,null,null,null,null,null,null,null,null,null,null,null,null,null,null,null,null,null,null,null,null,null,null,null,null,null,null,null,null,null,null,"W1050",""]
[null,"             계             ",null,null,null,null,{"$f":"I266+K266+M266","v":30182},null,{"$f":"ROUNDDOWN(SUM(I262:I265),0)","v":1154},null,{"$f":"ROUNDDOWN(SUM(K262:K265),0)","v":28571},null,{"$f":"ROUNDDOWN(SUM(M262:M265),0)","v":457},null,null,null,null,null,null,null,null,null,null,null,null,null,null,null,null,null,null,null,null,null,null,null,null,null,null,null,null,null,null,null,null,null,null,null,null,null,null,null,null,null,null,null,null,null,null,null,null,null,null,null,null,null,null,null,null,null,null,null,null,null,null,null,null,null,null,null,null,null,null,null,null,null,null,null,null,null,null,null,null,null,null,null,null,null,null,null,null,null,null,null,null,null,null,null,null,null,null,null,null,null,null,null,null,"%SON-LYO","3640"]
[]
[null," ：플레이트콤팩트 (1.5 ton)"]
[null,"휘 발 유","휘 발 유",1,"d",{"$f":"H269+J269+L269","v":1499.33},1499.3,{"$f":"자재단가!R6","v":1499.33},{"$f":"TRUNC(D269*H269,1)","v":1499.3},0,{"$f":"TRUNC(D269*J269,1)","v":0},0,{"$f":"TRUNC(D269*L269,1)","v":0},"",null,null,null,null,null,null,null,null,null,null,null,null,null,null,null,null,null,null,null,null,null,null,null,null,null,null,null,null,null,null,null,null,null,null,null,null,null,null,null,null,null,null,null,null,null,null,null,null,null,null,null,null,null,null,null,null,null,null,null,null,null,null,null,null,null,null,null,null,null,null,null,null,null,null,null,null,null,null,null,null,null,null,null,null,null,null,null,null,null,null,null,null,null,null,null,null,null,null,null,null,null,null,null,":D2104-0010"]
[null,"잡    품","주연료비의 %",20,"%",1499.3,299.8,{"$f":"I269","v":1499.3},{"$f":"TRUNC(D270/100*H270,1)","v":299.8},0,{"$f":"TRUNC(D270/100*J270,1)","v":0},0,{"$f":"TRUNC(D270/100*L270,1)","v":0},"",null,null,null,null,null,null,null,null,null,null,null,null,null,null,null,null,null,null,null,null,null,null,null,null,null,null,null,null,null,null,null,null,null,null,null,null,null,null,null,null,null,null,null,null,null,null,null,null,null,null,null,null,null,null,null,null,null,null,null,null,null,null,null,null,null,null,null,null,null,null,null,null,null,null,null,null,null,null,null,null,null,null,null,null,null,null,null,null,null,null,null,null,null,null,null,null,null,null,null,null,null,null,null,"M0000-101",""]
[null,"일반기계운전사","",1,"인",28571,28571,0,{"$f":"TRUNC(D271*H271,1)","v":0},{"$f":"TRUNC(노임단가!K9*16/12*1/8*25/20,0)","v":28571},{"$f":"TRUNC(D271*J271,1)","v":28571},0,{"$f":"TRUNC(D271*L271,1)","v":0},"",null,null,null,null,null,null,null,null,null,null,null,null,null,null,null,null,null,null,null,null,null,null,null,null,null,null,null,null,null,null,null,null,null,null,null,null,null,null,null,null,null,null,null,null,null,null,null,null,null,null,null,null,null,null,null,null,null,null,null,null,null,null,null,null,null,null,null,null,null,null,null,null,null,null,null,null,null,null,null,null,null,null,null,null,null,null,null,null,null,null,null,null,null,null,null,null,null,null,null,null,null,null,null,"%RAN*MM","1"]
[null,"기계손료","상각비:1800/정비비:1200/관리비:708",{"$f":"3708*10^-7*1000","v":0.37079999999999996},"",1455,539.5,0,{"$f":"TRUNC(D272*H272,1)","v":0},0,{"$f":"TRUNC(D272*J272,1)","v":0},1455,{"$f":"TRUNC(D272*L272,1)","v":539.5},"",null,null,null,null,null,null,null,null,null,null,null,null,null,null,null,null,null,null,null,null,null,null,null,null,null,null,null,null,null,null,null,null,null,null,null,null,null,null,null,null,null,null,null,null,null,null,null,null,null,null,null,null,null,null,null,null,null,null,null,null,null,null,null,null,null,null,null,null,null,null,null,null,null,null,null,null,null,null,null,null,null,null,null,null,null,null,null,null,null,null,null,null,null,null,null,null,null,null,null,null,null,null,null,"W1048",""]
[null,"             계             ",null,null,null,null,{"$f":"I273+K273+M273","v":30909},null,{"$f":"ROUNDDOWN(SUM(I269:I272),0)","v":1799},null,{"$f":"ROUNDDOWN(SUM(K269:K272),0)","v":28571},null,{"$f":"ROUNDDOWN(SUM(M269:M272),0)","v":539},null,null,null,null,null,null,null,null,null,null,null,null,null,null,null,null,null,null,null,null,null,null,null,null,null,null,null,null,null,null,null,null,null,null,null,null,null,null,null,null,null,null,null,null,null,null,null,null,null,null,null,null,null,null,null,null,null,null,null,null,null,null,null,null,null,null,null,null,null,null,null,null,null,null,null,null,null,null,null,null,null,null,null,null,null,null,null,null,null,null,null,null,null,null,null,null,null,null,null,null,null,null,null,null,"%SON-LYO","2232"]
[]
[null," ：크레인(타이어) [10 ton]"]
[null,"경    유","경    유",3.8,"ℓ",{"$f":"H276+J276+L276","v":1303.69},4954,{"$f":"자재단가!R7","v":1303.69},{"$f":"TRUNC(D276*H276,1)","v":4954},0,{"$f":"TRUNC(D276*J276,1)","v":0},0,{"$f":"TRUNC(D276*L276,1)","v":0},"",null,null,null,null,null,null,null,null,null,null,null,null,null,null,null,null,null,null,null,null,null,null,null,null,null,null,null,null,null,null,null,null,null,null,null,null,null,null,null,null,null,null,null,null,null,null,null,null,null,null,null,null,null,null,null,null,null,null,null,null,null,null,null,null,null,null,null,null,null,null,null,null,null,null,null,null,null,null,null,null,null,null,null,null,null,null,null,null,null,null,null,null,null,null,null,null,null,null,null,null,null,null,null,":D2105-0005"]
[null,"잡    품","주연료비의 %",39,"%",4954,1932,{"$f":"I276","v":4954},{"$f":"TRUNC(D277/100*H277,1)","v":1932},0,{"$f":"TRUNC(D277/100*J277,1)","v":0},0,{"$f":"TRUNC(D277/100*L277,1)","v":0},"",null,null,null,null,null,null,null,null,null,null,null,null,null,null,null,null,null,null,null,null,null,null,null,null,null,null,null,null,null,null,null,null,null,null,null,null,null,null,null,null,null,null,null,null,null,null,null,null,null,null,null,null,null,null,null,null,null,null,null,null,null,null,null,null,null,null,null,null,null,null,null,null,null,null,null,null,null,null,null,null,null,null,null,null,null,null,null,null,null,null,null,null,null,null,null,null,null,null,null,null,null,null,null,"M0000-101",""]
[null,"건설기계운전사","",1,"인",44299,44299,0,{"$f":"TRUNC(D278*H278,1)","v":0},{"$f":"TRUNC(노임단가!K6*16/12*1/8*25/20,0)","v":44299},{"$f":"TRUNC(D278*J278,1)","v":44299},0,{"$f":"TRUNC(D278*L278,1)","v":0},"",null,null,null,null,null,null,null,null,null,null,null,null,null,null,null,null,null,null,null,null,null,null,null,null,null,null,null,null,null,null,null,null,null,null,null,null,null,null,null,null,null,null,null,null,null,null,null,null,null,null,null,null,null,null,null,null,null,null,null,null,null,null,null,null,null,null,null,null,null,null,null,null,null,null,null,null,null,null,null,null,null,null,null,null,null,null,null,null,null,null,null,null,null,null,null,null,null,null,null,null,null,null,null,"%RAN*MM","1"]
[null,"기계손료","상각비:1071/정비비:536/관리비:691",{"$f":"2298*10^-7*1000","v":0.2298},"",122800,28219.4,0,{"$f":"TRUNC(D279*H279,1)","v":0},0,{"$f":"TRUNC(D279*J279,1)","v":0},122800,{"$f":"TRUNC(D279*L279,1)","v":28219.4},"",null,null,null,null,null,null,null,null,null,null,null,null,null,null,null,null,null,null,null,null,null,null,null,null,null,null,null,null,null,null,null,null,null,null,null,null,null,null,null,null,null,null,null,null,null,null,null,null,null,null,null,null,null,null,null,null,null,null,null,null,null,null,null,null,null,null,null,null,null,null,null,null,null,null,null,null,null,null,null,null,null,null,null,null,null,null,null,null,null,null,null,null,null,null,null,null,null,null,null,null,null,null,null,"W1049",""]
[null,"             계             ",null,null,null,null,{"$f":"I280+K280+M280","v":79404},null,{"$f":"ROUNDDOWN(SUM(I276:I279),0)","v":6886},null,{"$f":"ROUNDDOWN(SUM(K276:K279),0)","v":44299},null,{"$f":"ROUNDDOWN(SUM(M276:M279),0)","v":28219},null,null,null,null,null,null,null,null,null,null,null,null,null,null,null,null,null,null,null,null,null,null,null,null,null,null,null,null,null,null,null,null,null,null,null,null,null,null,null,null,null,null,null,null,null,null,null,null,null,null,null,null,null,null,null,null,null,null,null,null,null,null,null,null,null,null,null,null,null,null,null,null,null,null,null,null,null,null,null,null,null,null,null,null,null,null,null,null,null,null,null,null,null,null,null,null,null,null,null,null,null,null,null,null,"%SON-LYO","2503"]
[]
[null," ：트럭탑재형크레인 (5 ton)"]
[null,"경    유","경    유",5.0999999999999996,"ℓ",{"$f":"H283+J283+L283","v":1303.69},6648.8,{"$f":"자재단가!R7","v":1303.69},{"$f":"TRUNC(D283*H283,1)","v":6648.8},0,{"$f":"TRUNC(D283*J283,1)","v":0},0,{"$f":"TRUNC(D283*L283,1)","v":0},"",null,null,null,null,null,null,null,null,null,null,null,null,null,null,null,null,null,null,null,null,null,null,null,null,null,null,null,null,null,null,null,null,null,null,null,null,null,null,null,null,null,null,null,null,null,null,null,null,null,null,null,null,null,null,null,null,null,null,null,null,null,null,null,null,null,null,null,null,null,null,null,null,null,null,null,null,null,null,null,null,null,null,null,null,null,null,null,null,null,null,null,null,null,null,null,null,null,null,null,null,null,null,null,":D2105-0010"]
[null,"잡    품","주연료비의 %",20,"%",6648.8,1329.7,{"$f":"I283","v":6648.8},{"$f":"TRUNC(D284/100*H284,1)","v":1329.7},0,{"$f":"TRUNC(D284/100*J284,1)","v":0},0,{"$f":"TRUNC(D284/100*L284,1)","v":0},"",null,null,null,null,null,null,null,null,null,null,null,null,null,null,null,null,null,null,null,null,null,null,null,null,null,null,null,null,null,null,null,null,null,null,null,null,null,null,null,null,null,null,null,null,null,null,null,null,null,null,null,null,null,null,null,null,null,null,null,null,null,null,null,null,null,null,null,null,null,null,null,null,null,null,null,null,null,null,null,null,null,null,null,null,null,null,null,null,null,null,null,null,null,null,null,null,null,null,null,null,null,null,null,"M0000-101",""]
[null,"화물차운전사","",1,"인",36224,36224,0,{"$f":"TRUNC(D285*H285,1)","v":0},{"$f":"TRUNC(노임단가!K5*16/12*1/8*25/20,0)","v":36224},{"$f":"TRUNC(D285*J285,1)","v":36224},0,{"$f":"TRUNC(D285*L285,1)","v":0},"",null,null,null,null,null,null,null,null,null,null,null,null,null,null,null,null,null,null,null,null,null,null,null,null,null,null,null,null,null,null,null,null,null,null,null,null,null,null,null,null,null,null,null,null,null,null,null,null,null,null,null,null,null,null,null,null,null,null,null,null,null,null,null,null,null,null,null,null,null,null,null,null,null,null,null,null,null,null,null,null,null,null,null,null,null,null,null,null,null,null,null,null,null,null,null,null,null,null,null,null,null,null,null,"%RAN*MM","1"]
[null,"기계손료","상각비:1286/정비비:357/관리비:955",{"$f":"2598*10^-7*1000","v":0.25979999999999998},"",36449,9469.4,0,{"$f":"TRUNC(D286*H286,1)","v":0},0,{"$f":"TRUNC(D286*J286,1)","v":0},36449,{"$f":"TRUNC(D286*L286,1)","v":9469.4},"",null,null,null,null,null,null,null,null,null,null,null,null,null,null,null,null,null,null,null,null,null,null,null,null,null,null,null,null,null,null,null,null,null,null,null,null,null,null,null,null,null,null,null,null,null,null,null,null,null,null,null,null,null,null,null,null,null,null,null,null,null,null,null,null,null,null,null,null,null,null,null,null,null,null,null,null,null,null,null,null,null,null,null,null,null,null,null,null,null,null,null,null,null,null,null,null,null,null,null,null,null,null,null,"W1049",""]
[null,"             계             ",null,null,null,null,{"$f":"I287+K287+M287","v":53671},null,{"$f":"ROUNDDOWN(SUM(I283:I286),0)","v":7978},null,{"$f":"ROUNDDOWN(SUM(K283:K286),0)","v":36224},null,{"$f":"ROUNDDOWN(SUM(M283:M286),0)","v":9469},null,null,null,null,null,null,null,null,null,null,null,null,null,null,null,null,null,null,null,null,null,null,null,null,null,null,null,null,null,null,null,null,null,null,null,null,null,null,null,null,null,null,null,null,null,null,null,null,null,null,null,null,null,null,null,null,null,null,null,null,null,null,null,null,null,null,null,null,null,null,null,null,null,null,null,null,null,null,null,null,null,null,null,null,null,null,null,null,null,null,null,null,null,null,null,null,null,null,null,null,null,null,null,null,"%SON-LYO","2503"]
[]
[null," ：트럭탑재형크레인 (10 ton)"]
[null,"경    유","경    유",10.3,"ℓ",{"$f":"H290+J290+L290","v":1303.69},13428,{"$f":"자재단가!R7","v":1303.69},{"$f":"TRUNC(D290*H290,1)","v":13428},0,{"$f":"TRUNC(D290*J290,1)","v":0},0,{"$f":"TRUNC(D290*L290,1)","v":0},"",null,null,null,null,null,null,null,null,null,null,null,null,null,null,null,null,null,null,null,null,null,null,null,null,null,null,null,null,null,null,null,null,null,null,null,null,null,null,null,null,null,null,null,null,null,null,null,null,null,null,null,null,null,null,null,null,null,null,null,null,null,null,null,null,null,null,null,null,null,null,null,null,null,null,null,null,null,null,null,null,null,null,null,null,null,null,null,null,null,null,null,null,null,null,null,null,null,null,null,null,null,null,null,":D2105-0015"]
[null,"잡    품","주연료비의 %",20,"%",13428,2685.6,{"$f":"I290","v":13428},{"$f":"TRUNC(D291/100*H291,1)","v":2685.6},0,{"$f":"TRUNC(D291/100*J291,1)","v":0},0,{"$f":"TRUNC(D291/100*L291,1)","v":0},"",null,null,null,null,null,null,null,null,null,null,null,null,null,null,null,null,null,null,null,null,null,null,null,null,null,null,null,null,null,null,null,null,null,null,null,null,null,null,null,null,null,null,null,null,null,null,null,null,null,null,null,null,null,null,null,null,null,null,null,null,null,null,null,null,null,null,null,null,null,null,null,null,null,null,null,null,null,null,null,null,null,null,null,null,null,null,null,null,null,null,null,null,null,null,null,null,null,null,null,null,null,null,null,"M0000-101",""]
[null,"화물차운전사","",1,"인",36224,36224,0,{"$f":"TRUNC(D292*H292,1)","v":0},{"$f":"TRUNC(노임단가!K5*16/12*1/8*25/20,0)","v":36224},{"$f":"TRUNC(D292*J292,1)","v":36224},0,{"$f":"TRUNC(D292*L292,1)","v":0},"",null,null,null,null,null,null,null,null,null,null,null,null,null,null,null,null,null,null,null,null,null,null,null,null,null,null,null,null,null,null,null,null,null,null,null,null,null,null,null,null,null,null,null,null,null,null,null,null,null,null,null,null,null,null,null,null,null,null,null,null,null,null,null,null,null,null,null,null,null,null,null,null,null,null,null,null,null,null,null,null,null,null,null,null,null,null,null,null,null,null,null,null,null,null,null,null,null,null,null,null,null,null,null,"%RAN*MM","1"]
[null,"기계손료","상각비:1286/정비비:357/관리비:955",{"$f":"2598*10^-7*1000","v":0.25979999999999998},"",78871,20490.599999999999,0,{"$f":"TRUNC(D293*H293,1)","v":0},0,{"$f":"TRUNC(D293*J293,1)","v":0},78871,{"$f":"TRUNC(D293*L293,1)","v":20490.599999999999},"",null,null,null,null,null,null,null,null,null,null,null,null,null,null,null,null,null,null,null,null,null,null,null,null,null,null,null,null,null,null,null,null,null,null,null,null,null,null,null,null,null,null,null,null,null,null,null,null,null,null,null,null,null,null,null,null,null,null,null,null,null,null,null,null,null,null,null,null,null,null,null,null,null,null,null,null,null,null,null,null,null,null,null,null,null,null,null,null,null,null,null,null,null,null,null,null,null,null,null,null,null,null,null,"W1049",""]
[null,"             계             ",null,null,null,null,{"$f":"I294+K294+M294","v":72827},null,{"$f":"ROUNDDOWN(SUM(I290:I293),0)","v":16113},null,{"$f":"ROUNDDOWN(SUM(K290:K293),0)","v":36224},null,{"$f":"ROUNDDOWN(SUM(M290:M293),0)","v":20490},null,null,null,null,null,null,null,null,null,null,null,null,null,null,null,null,null,null,null,null,null,null,null,null,null,null,null,null,null,null,null,null,null,null,null,null,null,null,null,null,null,null,null,null,null,null,null,null,null,null,null,null,null,null,null,null,null,null,null,null,null,null,null,null,null,null,null,null,null,null,null,null,null,null,null,null,null,null,null,null,null,null,null,null,null,null,null,null,null,null,null,null,null,null,null,null,null,null,null,null,null,null,null,null,"%SON-LYO","2503"]
[]
[null," ：트럭탑재형크레인 (15 ton)"]
[null,"경    유","경    유",11,"ℓ",{"$f":"H297+J297+L297","v":1303.69},14340.5,{"$f":"자재단가!R7","v":1303.69},{"$f":"TRUNC(D297*H297,1)","v":14340.5},0,{"$f":"TRUNC(D297*J297,1)","v":0},0,{"$f":"TRUNC(D297*L297,1)","v":0},"",null,null,null,null,null,null,null,null,null,null,null,null,null,null,null,null,null,null,null,null,null,null,null,null,null,null,null,null,null,null,null,null,null,null,null,null,null,null,null,null,null,null,null,null,null,null,null,null,null,null,null,null,null,null,null,null,null,null,null,null,null,null,null,null,null,null,null,null,null,null,null,null,null,null,null,null,null,null,null,null,null,null,null,null,null,null,null,null,null,null,null,null,null,null,null,null,null,null,null,null,null,null,null,":D2502-0025"]
[null,"잡    품","주연료비의 %",20,"%",14340.5,2868.1,{"$f":"I297","v":14340.5},{"$f":"TRUNC(D298/100*H298,1)","v":2868.1},0,{"$f":"TRUNC(D298/100*J298,1)","v":0},0,{"$f":"TRUNC(D298/100*L298,1)","v":0},"",null,null,null,null,null,null,null,null,null,null,null,null,null,null,null,null,null,null,null,null,null,null,null,null,null,null,null,null,null,null,null,null,null,null,null,null,null,null,null,null,null,null,null,null,null,null,null,null,null,null,null,null,null,null,null,null,null,null,null,null,null,null,null,null,null,null,null,null,null,null,null,null,null,null,null,null,null,null,null,null,null,null,null,null,null,null,null,null,null,null,null,null,null,null,null,null,null,null,null,null,null,null,null,"M0000-101",""]
[null,"화물차운전사","",1,"인",36224,36224,0,{"$f":"TRUNC(D299*H299,1)","v":0},{"$f":"TRUNC(노임단가!K5*16/12*1/8*25/20,0)","v":36224},{"$f":"TRUNC(D299*J299,1)","v":36224},0,{"$f":"TRUNC(D299*L299,1)","v":0},"",null,null,null,null,null,null,null,null,null,null,null,null,null,null,null,null,null,null,null,null,null,null,null,null,null,null,null,null,null,null,null,null,null,null,null,null,null,null,null,null,null,null,null,null,null,null,null,null,null,null,null,null,null,null,null,null,null,null,null,null,null,null,null,null,null,null,null,null,null,null,null,null,null,null,null,null,null,null,null,null,null,null,null,null,null,null,null,null,null,null,null,null,null,null,null,null,null,null,null,null,null,null,null,"%RAN*MM","1"]
[null,"기계손료","상각비:1286/정비비:357/관리비:955",{"$f":"2598*10^-7*1000","v":0.25979999999999998},"",102596,26654.400000000001,0,{"$f":"TRUNC(D300*H300,1)","v":0},0,{"$f":"TRUNC(D300*J300,1)","v":0},102596,{"$f":"TRUNC(D300*L300,1)","v":26654.400000000001},"",null,null,null,null,null,null,null,null,null,null,null,null,null,null,null,null,null,null,null,null,null,null,null,null,null,null,null,null,null,null,null,null,null,null,null,null,null,null,null,null,null,null,null,null,null,null,null,null,null,null,null,null,null,null,null,null,null,null,null,null,null,null,null,null,null,null,null,null,null,null,null,null,null,null,null,null,null,null,null,null,null,null,null,null,null,null,null,null,null,null,null,null,null,null,null,null,null,null,null,null,null,null,null,"W1048",""]
[null,"             계             ",null,null,null,null,{"$f":"I301+K301+M301","v":80086},null,{"$f":"ROUNDDOWN(SUM(I297:I300),0)","v":17208},null,{"$f":"ROUNDDOWN(SUM(K297:K300),0)","v":36224},null,{"$f":"ROUNDDOWN(SUM(M297:M300),0)","v":26654},null,null,null,null,null,null,null,null,null,null,null,null,null,null,null,null,null,null,null,null,null,null,null,null,null,null,null,null,null,null,null,null,null,null,null,null,null,null,null,null,null,null,null,null,null,null,null,null,null,null,null,null,null,null,null,null,null,null,null,null,null,null,null,null,null,null,null,null,null,null,null,null,null,null,null,null,null,null,null,null,null,null,null,null,null,null,null,null,null,null,null,null,null,null,null,null,null,null,null,null,null,null,null,null,"%SON-LYO","1457"]
[]
[null," ：지게차 (2.5 ton)"]
[null,"경    유","경    유",4,"ℓ",{"$f":"H304+J304+L304","v":1303.69},5214.7,{"$f":"자재단가!R7","v":1303.69},{"$f":"TRUNC(D304*H304,1)","v":5214.7},0,{"$f":"TRUNC(D304*J304,1)","v":0},0,{"$f":"TRUNC(D304*L304,1)","v":0},"",null,null,null,null,null,null,null,null,null,null,null,null,null,null,null,null,null,null,null,null,null,null,null,null,null,null,null,null,null,null,null,null,null,null,null,null,null,null,null,null,null,null,null,null,null,null,null,null,null,null,null,null,null,null,null,null,null,null,null,null,null,null,null,null,null,null,null,null,null,null,null,null,null,null,null,null,null,null,null,null,null,null,null,null,null,null,null,null,null,null,null,null,null,null,null,null,null,null,null,null,null,null,null,":D2702-0020"]
[null,"잡    품","주연료비의 %",37,"%",5214.7,1929.4,{"$f":"I304","v":5214.7},{"$f":"TRUNC(D305/100*H305,1)","v":1929.4},0,{"$f":"TRUNC(D305/100*J305,1)","v":0},0,{"$f":"TRUNC(D305/100*L305,1)","v":0},"",null,null,null,null,null,null,null,null,null,null,null,null,null,null,null,null,null,null,null,null,null,null,null,null,null,null,null,null,null,null,null,null,null,null,null,null,null,null,null,null,null,null,null,null,null,null,null,null,null,null,null,null,null,null,null,null,null,null,null,null,null,null,null,null,null,null,null,null,null,null,null,null,null,null,null,null,null,null,null,null,null,null,null,null,null,null,null,null,null,null,null,null,null,null,null,null,null,null,null,null,null,null,null,"M0000-101",""]
[null,"건설기계운전사","",1,"인",44299,44299,0,{"$f":"TRUNC(D306*H306,1)","v":0},{"$f":"TRUNC(노임단가!K6*16/12*1/8*25/20,0)","v":44299},{"$f":"TRUNC(D306*J306,1)","v":44299},0,{"$f":"TRUNC(D306*L306,1)","v":0},"",null,null,null,null,null,null,null,null,null,null,null,null,null,null,null,null,null,null,null,null,null,null,null,null,null,null,null,null,null,null,null,null,null,null,null,null,null,null,null,null,null,null,null,null,null,null,null,null,null,null,null,null,null,null,null,null,null,null,null,null,null,null,null,null,null,null,null,null,null,null,null,null,null,null,null,null,null,null,null,null,null,null,null,null,null,null,null,null,null,null,null,null,null,null,null,null,null,null,null,null,null,null,null,"%RAN*MM","1"]
[null,"기계손료","상각비:857/정비비:190/관리비:453",{"$f":"1500*10^-7*1000","v":0.15},"",24564,3684.6,0,{"$f":"TRUNC(D307*H307,1)","v":0},0,{"$f":"TRUNC(D307*J307,1)","v":0},24564,{"$f":"TRUNC(D307*L307,1)","v":3684.6},"",null,null,null,null,null,null,null,null,null,null,null,null,null,null,null,null,null,null,null,null,null,null,null,null,null,null,null,null,null,null,null,null,null,null,null,null,null,null,null,null,null,null,null,null,null,null,null,null,null,null,null,null,null,null,null,null,null,null,null,null,null,null,null,null,null,null,null,null,null,null,null,null,null,null,null,null,null,null,null,null,null,null,null,null,null,null,null,null,null,null,null,null,null,null,null,null,null,null,null,null,null,null,null,"W1048",""]
[null,"             계             ",null,null,null,null,{"$f":"I308+K308+M308","v":55127},null,{"$f":"ROUNDDOWN(SUM(I304:I307),0)","v":7144},null,{"$f":"ROUNDDOWN(SUM(K304:K307),0)","v":44299},null,{"$f":"ROUNDDOWN(SUM(M304:M307),0)","v":3684},null,null,null,null,null,null,null,null,null,null,null,null,null,null,null,null,null,null,null,null,null,null,null,null,null,null,null,null,null,null,null,null,null,null,null,null,null,null,null,null,null,null,null,null,null,null,null,null,null,null,null,null,null,null,null,null,null,null,null,null,null,null,null,null,null,null,null,null,null,null,null,null,null,null,null,null,null,null,null,null,null,null,null,null,null,null,null,null,null,null,null,null,null,null,null,null,null,null,null,null,null,null,null,null,"%SON-LYO","2529"]
[]
[null," ：트럭트랙터 및 평판트레일러 (20 ton)"]
[null,"경    유","경    유",16.5,"ℓ",{"$f":"H311+J311+L311","v":1303.69},21510.799999999999,{"$f":"자재단가!R7","v":1303.69},{"$f":"TRUNC(D311*H311,1)","v":21510.799999999999},0,{"$f":"TRUNC(D311*J311,1)","v":0},0,{"$f":"TRUNC(D311*L311,1)","v":0},"",null,null,null,null,null,null,null,null,null,null,null,null,null,null,null,null,null,null,null,null,null,null,null,null,null,null,null,null,null,null,null,null,null,null,null,null,null,null,null,null,null,null,null,null,null,null,null,null,null,null,null,null,null,null,null,null,null,null,null,null,null,null,null,null,null,null,null,null,null,null,null,null,null,null,null,null,null,null,null,null,null,null,null,null,null,null,null,null,null,null,null,null,null,null,null,null,null,null,null,null,null,null,null,":D2702-0020"]
[null,"잡    품","주연료비의 %",39,"%",21510.799999999999,8389.2000000000007,{"$f":"I311","v":21510.799999999999},{"$f":"TRUNC(D312/100*H312,1)","v":8389.2000000000007},0,{"$f":"TRUNC(D312/100*J312,1)","v":0},0,{"$f":"TRUNC(D312/100*L312,1)","v":0},"",null,null,null,null,null,null,null,null,null,null,null,null,null,null,null,null,null,null,null,null,null,null,null,null,null,null,null,null,null,null,null,null,null,null,null,null,null,null,null,null,null,null,null,null,null,null,null,null,null,null,null,null,null,null,null,null,null,null,null,null,null,null,null,null,null,null,null,null,null,null,null,null,null,null,null,null,null,null,null,null,null,null,null,null,null,null,null,null,null,null,null,null,null,null,null,null,null,null,null,null,null,null,null,"M0000-101",""]
[null,"건설기계운전사","",1,"인",44299,44299,0,{"$f":"TRUNC(D313*H313,1)","v":0},{"$f":"TRUNC(노임단가!K6*16/12*1/8*25/20,0)","v":44299},{"$f":"TRUNC(D313*J313,1)","v":44299},0,{"$f":"TRUNC(D313*L313,1)","v":0},"",null,null,null,null,null,null,null,null,null,null,null,null,null,null,null,null,null,null,null,null,null,null,null,null,null,null,null,null,null,null,null,null,null,null,null,null,null,null,null,null,null,null,null,null,null,null,null,null,null,null,null,null,null,null,null,null,null,null,null,null,null,null,null,null,null,null,null,null,null,null,null,null,null,null,null,null,null,null,null,null,null,null,null,null,null,null,null,null,null,null,null,null,null,null,null,null,null,null,null,null,null,null,null,"%RAN*MM","1"]
[null,"기계손료","상각비:1286/정비비:786/관리비:504",{"$f":"2576*10^-7*1000","v":0.2576},"",59609,15355.2,0,{"$f":"TRUNC(D314*H314,1)","v":0},0,{"$f":"TRUNC(D314*J314,1)","v":0},59609,{"$f":"TRUNC(D314*L314,1)","v":15355.2},"",null,null,null,null,null,null,null,null,null,null,null,null,null,null,null,null,null,null,null,null,null,null,null,null,null,null,null,null,null,null,null,null,null,null,null,null,null,null,null,null,null,null,null,null,null,null,null,null,null,null,null,null,null,null,null,null,null,null,null,null,null,null,null,null,null,null,null,null,null,null,null,null,null,null,null,null,null,null,null,null,null,null,null,null,null,null,null,null,null,null,null,null,null,null,null,null,null,null,null,null,null,null,null,"W1048",""]
[null,"             계             ",null,null,null,null,{"$f":"I315+K315+M315","v":89554},null,{"$f":"ROUNDDOWN(SUM(I311:I314),0)","v":29900},null,{"$f":"ROUNDDOWN(SUM(K311:K314),0)","v":44299},null,{"$f":"ROUNDDOWN(SUM(M311:M314),0)","v":15355},null,null,null,null,null,null,null,null,null,null,null,null,null,null,null,null,null,null,null,null,null,null,null,null,null,null,null,null,null,null,null,null,null,null,null,null,null,null,null,null,null,null,null,null,null,null,null,null,null,null,null,null,null,null,null,null,null,null,null,null,null,null,null,null,null,null,null,null,null,null,null,null,null,null,null,null,null,null,null,null,null,null,null,null,null,null,null,null,null,null,null,null,null,null,null,null,null,null,null,null,null,null,null,null,"%SON-LYO","2529"]
[]
[null," ：트레일러 (30 ton)"]
[null,"경    유","경    유",17.2,"ℓ",{"$f":"H318+J318+L318","v":1303.69},{"$f":"I318+K318+M318","v":22423.4},{"$f":"자재단가!R7","v":1303.69},{"$f":"TRUNC(D318*H318,1)","v":22423.4},0,{"$f":"TRUNC(D318*J318,1)","v":0},0,{"$f":"TRUNC(D318*L318,1)","v":0},"",null,null,null,null,null,null,null,null,null,null,null,null,null,null,null,null,null,null,null,null,null,null,null,null,null,null,null,null,null,null,null,null,null,null,null,null,null,null,null,null,null,null,null,null,null,null,null,null,null,null,null,null,null,null,null,null,null,null,null,null,null,null,null,null,null,null,null,null,null,null,null,null,null,null,null,null,null,null,null,null,null,null,null,null,null,null,null,null,null,null,null,null,null,null,null,null,null,null,null,null,null,null,null,":D3201-0003"]
[null,"잡    품","주연료비의 %",39,"%",22423.4,8745.1,{"$f":"I318","v":22423.4},{"$f":"TRUNC(D319/100*H319,1)","v":8745.1},0,{"$f":"TRUNC(D319/100*J319,1)","v":0},0,{"$f":"TRUNC(D319/100*L319,1)","v":0},"",null,null,null,null,null,null,null,null,null,null,null,null,null,null,null,null,null,null,null,null,null,null,null,null,null,null,null,null,null,null,null,null,null,null,null,null,null,null,null,null,null,null,null,null,null,null,null,null,null,null,null,null,null,null,null,null,null,null,null,null,null,null,null,null,null,null,null,null,null,null,null,null,null,null,null,null,null,null,null,null,null,null,null,null,null,null,null,null,null,null,null,null,null,null,null,null,null,null,null,null,null,null,null,"M0000-101",""]
[null,"건설기계운전사","",1,"인",44299,44299,0,{"$f":"TRUNC(D320*H320,1)","v":0},{"$f":"TRUNC(노임단가!K6*16/12*1/8*25/20,0)","v":44299},{"$f":"TRUNC(D320*J320,1)","v":44299},0,{"$f":"TRUNC(D320*L320,1)","v":0},"",null,null,null,null,null,null,null,null,null,null,null,null,null,null,null,null,null,null,null,null,null,null,null,null,null,null,null,null,null,null,null,null,null,null,null,null,null,null,null,null,null,null,null,null,null,null,null,null,null,null,null,null,null,null,null,null,null,null,null,null,null,null,null,null,null,null,null,null,null,null,null,null,null,null,null,null,null,null,null,null,null,null,null,null,null,null,null,null,null,null,null,null,null,null,null,null,null,null,null,null,null,null,null,"%RAN*MM","1"]
[null,"기계손료","상각비:1286/정비비:786/관리비:504",{"$f":"2576*10^-7*1000","v":0.2576},"",80321,20690.599999999999,0,{"$f":"TRUNC(D321*H321,1)","v":0},0,{"$f":"TRUNC(D321*J321,1)","v":0},80321,{"$f":"TRUNC(D321*L321,1)","v":20690.599999999999},"",null,null,null,null,null,null,null,null,null,null,null,null,null,null,null,null,null,null,null,null,null,null,null,null,null,null,null,null,null,null,null,null,null,null,null,null,null,null,null,null,null,null,null,null,null,null,null,null,null,null,null,null,null,null,null,null,null,null,null,null,null,null,null,null,null,null,null,null,null,null,null,null,null,null,null,null,null,null,null,null,null,null,null,null,null,null,null,null,null,null,null,null,null,null,null,null,null,null,null,null,null,null,null,"W1048",""]
[null,"             계             ",null,null,null,null,{"$f":"I322+K322+M322","v":96157},null,{"$f":"ROUNDDOWN(SUM(I318:I321),0)","v":31168},null,{"$f":"ROUNDDOWN(SUM(K318:K321),0)","v":44299},null,{"$f":"ROUNDDOWN(SUM(M318:M321),0)","v":20690},null,null,null,null,null,null,null,null,null,null,null,null,null,null,null,null,null,null,null,null,null,null,null,null,null,null,null,null,null,null,null,null,null,null,null,null,null,null,null,null,null,null,null,null,null,null,null,null,null,null,null,null,null,null,null,null,null,null,null,null,null,null,null,null,null,null,null,null,null,null,null,null,null,null,null,null,null,null,null,null,null,null,null,null,null,null,null,null,null,null,null,null,null,null,null,null,null,null,null,null,null,null,null,null,"%SON-LYO","2294"]
[]
[null," ：아스팔트 피니셔 [1.7 m]"]
[null,"경    유","경    유",7,"ℓ",{"$f":"H325+J325+L325","v":1303.69},{"$f":"I325+K325+M325","v":9125.7999999999993},{"$f":"자재단가!R7","v":1303.69},{"$f":"TRUNC(D325*H325,1)","v":9125.7999999999993},0,{"$f":"TRUNC(D325*J325,1)","v":0},0,{"$f":"TRUNC(D325*L325,1)","v":0},"",null,null,null,null,null,null,null,null,null,null,null,null,null,null,null,null,null,null,null,null,null,null,null,null,null,null,null,null,null,null,null,null,null,null,null,null,null,null,null,null,null,null,null,null,null,null,null,null,null,null,null,null,null,null,null,null,null,null,null,null,null,null,null,null,null,null,null,null,null,null,null,null,null,null,null,null,null,null,null,null,null,null,null,null,null,null,null,null,null,null,null,null,null,null,null,null,null,null,null,null,null,null,null,":D3201-0003"]
[null,"잡    품","주연료비의 %",7,"%",9125.7999999999993,638.79999999999995,{"$f":"I325","v":9125.7999999999993},{"$f":"TRUNC(D326/100*H326,1)","v":638.79999999999995},0,{"$f":"TRUNC(D326/100*J326,1)","v":0},0,{"$f":"TRUNC(D326/100*L326,1)","v":0},"",null,null,null,null,null,null,null,null,null,null,null,null,null,null,null,null,null,null,null,null,null,null,null,null,null,null,null,null,null,null,null,null,null,null,null,null,null,null,null,null,null,null,null,null,null,null,null,null,null,null,null,null,null,null,null,null,null,null,null,null,null,null,null,null,null,null,null,null,null,null,null,null,null,null,null,null,null,null,null,null,null,null,null,null,null,null,null,null,null,null,null,null,null,null,null,null,null,null,null,null,null,null,null,"M0000-101",""]
[null,"건설기계운전사","",1,"인",44299,44299,0,{"$f":"TRUNC(D327*H327,1)","v":0},{"$f":"TRUNC(노임단가!K6*16/12*1/8*25/20,0)","v":44299},{"$f":"TRUNC(D327*J327,1)","v":44299},0,{"$f":"TRUNC(D327*L327,1)","v":0},"",null,null,null,null,null,null,null,null,null,null,null,null,null,null,null,null,null,null,null,null,null,null,null,null,null,null,null,null,null,null,null,null,null,null,null,null,null,null,null,null,null,null,null,null,null,null,null,null,null,null,null,null,null,null,null,null,null,null,null,null,null,null,null,null,null,null,null,null,null,null,null,null,null,null,null,null,null,null,null,null,null,null,null,null,null,null,null,null,null,null,null,null,null,null,null,null,null,null,null,null,null,null,null,"%RAN*MM","1"]
[null,"기계손료","상각비:1125/정비비:563/관리비:674",{"$f":"2362*10^-7*1000","v":0.23619999999999999},"",194500,45940.9,0,{"$f":"TRUNC(D328*H328,1)","v":0},0,{"$f":"TRUNC(D328*J328,1)","v":0},194500,{"$f":"TRUNC(D328*L328,1)","v":45940.9},"",null,null,null,null,null,null,null,null,null,null,null,null,null,null,null,null,null,null,null,null,null,null,null,null,null,null,null,null,null,null,null,null,null,null,null,null,null,null,null,null,null,null,null,null,null,null,null,null,null,null,null,null,null,null,null,null,null,null,null,null,null,null,null,null,null,null,null,null,null,null,null,null,null,null,null,null,null,null,null,null,null,null,null,null,null,null,null,null,null,null,null,null,null,null,null,null,null,null,null,null,null,null,null,"W1048",""]
[null,"             계             ",null,null,null,null,{"$f":"I329+K329+M329","v":100003},null,{"$f":"ROUNDDOWN(SUM(I325:I328),0)","v":9764},null,{"$f":"ROUNDDOWN(SUM(K325:K328),0)","v":44299},null,{"$f":"ROUNDDOWN(SUM(M325:M328),0)","v":45940},null,null,null,null,null,null,null,null,null,null,null,null,null,null,null,null,null,null,null,null,null,null,null,null,null,null,null,null,null,null,null,null,null,null,null,null,null,null,null,null,null,null,null,null,null,null,null,null,null,null,null,null,null,null,null,null,null,null,null,null,null,null,null,null,null,null,null,null,null,null,null,null,null,null,null,null,null,null,null,null,null,null,null,null,null,null,null,null,null,null,null,null,null,null,null,null,null,null,null,null,null,null,null,null,"%SON-LYO","2294"]
[]
[null," ：아스팔트 피니셔 [3 m]"]
[null,"경    유","경    유",13,"ℓ",{"$f":"H332+J332+L332","v":1303.69},16947.900000000001,{"$f":"자재단가!R7","v":1303.69},{"$f":"TRUNC(D332*H332,1)","v":16947.900000000001},0,{"$f":"TRUNC(D332*J332,1)","v":0},0,{"$f":"TRUNC(D332*L332,1)","v":0},"",null,null,null,null,null,null,null,null,null,null,null,null,null,null,null,null,null,null,null,null,null,null,null,null,null,null,null,null,null,null,null,null,null,null,null,null,null,null,null,null,null,null,null,null,null,null,null,null,null,null,null,null,null,null,null,null,null,null,null,null,null,null,null,null,null,null,null,null,null,null,null,null,null,null,null,null,null,null,null,null,null,null,null,null,null,null,null,null,null,null,null,null,null,null,null,null,null,null,null,null,null,null,null,":D3430-0300"]
[null,"잡    품","주연료비의 %",7,"%",16947.900000000001,1186.3,{"$f":"I332","v":16947.900000000001},{"$f":"TRUNC(D333/100*H333,1)","v":1186.3},0,{"$f":"TRUNC(D333/100*J333,1)","v":0},0,{"$f":"TRUNC(D333/100*L333,1)","v":0},"",null,null,null,null,null,null,null,null,null,null,null,null,null,null,null,null,null,null,null,null,null,null,null,null,null,null,null,null,null,null,null,null,null,null,null,null,null,null,null,null,null,null,null,null,null,null,null,null,null,null,null,null,null,null,null,null,null,null,null,null,null,null,null,null,null,null,null,null,null,null,null,null,null,null,null,null,null,null,null,null,null,null,null,null,null,null,null,null,null,null,null,null,null,null,null,null,null,null,null,null,null,null,null,"M0000-100",""]
[null,"건설기계운전사","",1,"인",44299,44299,0,{"$f":"TRUNC(D334*H334,1)","v":0},{"$f":"TRUNC(노임단가!K6*16/12*1/8*25/20,0)","v":44299},{"$f":"TRUNC(D334*J334,1)","v":44299},0,{"$f":"TRUNC(D334*L334,1)","v":0},"",null,null,null,null,null,null,null,null,null,null,null,null,null,null,null,null,null,null,null,null,null,null,null,null,null,null,null,null,null,null,null,null,null,null,null,null,null,null,null,null,null,null,null,null,null,null,null,null,null,null,null,null,null,null,null,null,null,null,null,null,null,null,null,null,null,null,null,null,null,null,null,null,null,null,null,null,null,null,null,null,null,null,null,null,null,null,null,null,null,null,null,null,null,null,null,null,null,null,null,null,null,null,null,"%RAN*MM","1"]
[null,"기계손료","상각비:1125/정비비:563/관리비:674",{"$f":"2362*10^-7*1000","v":0.23619999999999999},"",207472,49004.800000000003,0,{"$f":"TRUNC(D335*H335,1)","v":0},0,{"$f":"TRUNC(D335*J335,1)","v":0},207472,{"$f":"TRUNC(D335*L335,1)","v":49004.800000000003},"",null,null,null,null,null,null,null,null,null,null,null,null,null,null,null,null,null,null,null,null,null,null,null,null,null,null,null,null,null,null,null,null,null,null,null,null,null,null,null,null,null,null,null,null,null,null,null,null,null,null,null,null,null,null,null,null,null,null,null,null,null,null,null,null,null,null,null,null,null,null,null,null,null,null,null,null,null,null,null,null,null,null,null,null,null,null,null,null,null,null,null,null,null,null,null,null,null,null,null,null,null,null,null,"W1048",""]
[null,"             계             ",null,null,null,null,{"$f":"I336+K336+M336","v":111437},null,{"$f":"ROUNDDOWN(SUM(I332:I335),0)","v":18134},null,{"$f":"ROUNDDOWN(SUM(K332:K335),0)","v":44299},null,{"$f":"ROUNDDOWN(SUM(M332:M335),0)","v":49004},null,null,null,null,null,null,null,null,null,null,null,null,null,null,null,null,null,null,null,null,null,null,null,null,null,null,null,null,null,null,null,null,null,null,null,null,null,null,null,null,null,null,null,null,null,null,null,null,null,null,null,null,null,null,null,null,null,null,null,null,null,null,null,null,null,null,null,null,null,null,null,null,null,null,null,null,null,null,null,null,null,null,null,null,null,null,null,null,null,null,null,null,null,null,null,null,null,null,null,null,null,null,null,null,"%SON-LYO","2481"]
[]
[null," ：아스팔트 스프레이어 (300 ℓ)"]
[null,"휘 발 유","휘 발 유",0.8,"d",{"$f":"H339+J339+L339","v":1499.33},1199.4000000000001,{"$f":"자재단가!R6","v":1499.33},{"$f":"TRUNC(D339*H339,1)","v":1199.4000000000001},0,{"$f":"TRUNC(D339*J339,1)","v":0},0,{"$f":"TRUNC(D339*L339,1)","v":0},"",null,null,null,null,null,null,null,null,null,null,null,null,null,null,null,null,null,null,null,null,null,null,null,null,null,null,null,null,null,null,null,null,null,null,null,null,null,null,null,null,null,null,null,null,null,null,null,null,null,null,null,null,null,null,null,null,null,null,null,null,null,null,null,null,null,null,null,null,null,null,null,null,null,null,null,null,null,null,null,null,null,null,null,null,null,null,null,null,null,null,null,null,null,null,null,null,null,null,null,null,null,null,null,":D3430-0400"]
[null,"잡    품","주연료비의 %",6,"%",1199.4000000000001,71.900000000000006,{"$f":"I339","v":1199.4000000000001},{"$f":"TRUNC(D340/100*H340,1)","v":71.900000000000006},0,{"$f":"TRUNC(D340/100*J340,1)","v":0},0,{"$f":"TRUNC(D340/100*L340,1)","v":0},"",null,null,null,null,null,null,null,null,null,null,null,null,null,null,null,null,null,null,null,null,null,null,null,null,null,null,null,null,null,null,null,null,null,null,null,null,null,null,null,null,null,null,null,null,null,null,null,null,null,null,null,null,null,null,null,null,null,null,null,null,null,null,null,null,null,null,null,null,null,null,null,null,null,null,null,null,null,null,null,null,null,null,null,null,null,null,null,null,null,null,null,null,null,null,null,null,null,null,null,null,null,null,null,"M0000-100",""]
[null,"건설기계운전사","",1,"인",44299,44299,0,{"$f":"TRUNC(D341*H341,1)","v":0},{"$f":"TRUNC(노임단가!K6*16/12*1/8*25/20,0)","v":44299},{"$f":"TRUNC(D341*J341,1)","v":44299},0,{"$f":"TRUNC(D341*L341,1)","v":0},"",null,null,null,null,null,null,null,null,null,null,null,null,null,null,null,null,null,null,null,null,null,null,null,null,null,null,null,null,null,null,null,null,null,null,null,null,null,null,null,null,null,null,null,null,null,null,null,null,null,null,null,null,null,null,null,null,null,null,null,null,null,null,null,null,null,null,null,null,null,null,null,null,null,null,null,null,null,null,null,null,null,null,null,null,null,null,null,null,null,null,null,null,null,null,null,null,null,null,null,null,null,null,null,"%RAN*MM","1"]
[null,"기계손료","상각비:1125/정비비:750/관리비:674",{"$f":"2549*10^-7*1000","v":0.25489999999999996},"",1982,505.2,0,{"$f":"TRUNC(D342*H342,1)","v":0},0,{"$f":"TRUNC(D342*J342,1)","v":0},1982,{"$f":"TRUNC(D342*L342,1)","v":505.2},"",null,null,null,null,null,null,null,null,null,null,null,null,null,null,null,null,null,null,null,null,null,null,null,null,null,null,null,null,null,null,null,null,null,null,null,null,null,null,null,null,null,null,null,null,null,null,null,null,null,null,null,null,null,null,null,null,null,null,null,null,null,null,null,null,null,null,null,null,null,null,null,null,null,null,null,null,null,null,null,null,null,null,null,null,null,null,null,null,null,null,null,null,null,null,null,null,null,null,null,null,null,null,null,"W1048",""]
[null,"             계             ",null,null,null,null,{"$f":"I343+K343+M343","v":46075},null,{"$f":"ROUNDDOWN(SUM(I339:I342),0)","v":1271},null,{"$f":"ROUNDDOWN(SUM(K339:K342),0)","v":44299},null,{"$f":"ROUNDDOWN(SUM(M339:M342),0)","v":505},null,null,null,null,null,null,null,null,null,null,null,null,null,null,null,null,null,null,null,null,null,null,null,null,null,null,null,null,null,null,null,null,null,null,null,null,null,null,null,null,null,null,null,null,null,null,null,null,null,null,null,null,null,null,null,null,null,null,null,null,null,null,null,null,null,null,null,null,null,null,null,null,null,null,null,null,null,null,null,null,null,null,null,null,null,null,null,null,null,null,null,null,null,null,null,null,null,null,null,null,null,null,null,null,"%SON-LYO","2481"]
[]
[null," ：아스팔트 스프레이어 (400 ℓ)"]
[null,"휘 발 유","휘 발 유",1.2,"d",{"$f":"H346+J346+L346","v":1499.33},1799.1,{"$f":"자재단가!R6","v":1499.33},{"$f":"TRUNC(D346*H346,1)","v":1799.1},0,{"$f":"TRUNC(D346*J346,1)","v":0},0,{"$f":"TRUNC(D346*L346,1)","v":0},"",null,null,null,null,null,null,null,null,null,null,null,null,null,null,null,null,null,null,null,null,null,null,null,null,null,null,null,null,null,null,null,null,null,null,null,null,null,null,null,null,null,null,null,null,null,null,null,null,null,null,null,null,null,null,null,null,null,null,null,null,null,null,null,null,null,null,null,null,null,null,null,null,null,null,null,null,null,null,null,null,null,null,null,null,null,null,null,null,null,null,null,null,null,null,null,null,null,null,null,null,null,null,null,":D3430-0400"]
[null,"잡    품","주연료비의 %",6,"%",1799.1,107.9,{"$f":"I346","v":1799.1},{"$f":"TRUNC(D347/100*H347,1)","v":107.9},0,{"$f":"TRUNC(D347/100*J347,1)","v":0},0,{"$f":"TRUNC(D347/100*L347,1)","v":0},"",null,null,null,null,null,null,null,null,null,null,null,null,null,null,null,null,null,null,null,null,null,null,null,null,null,null,null,null,null,null,null,null,null,null,null,null,null,null,null,null,null,null,null,null,null,null,null,null,null,null,null,null,null,null,null,null,null,null,null,null,null,null,null,null,null,null,null,null,null,null,null,null,null,null,null,null,null,null,null,null,null,null,null,null,null,null,null,null,null,null,null,null,null,null,null,null,null,null,null,null,null,null,null,"M0000-100",""]
[null,"건설기계운전사","",1,"인",44299,44299,0,{"$f":"TRUNC(D348*H348,1)","v":0},{"$f":"TRUNC(노임단가!K6*16/12*1/8*25/20,0)","v":44299},{"$f":"TRUNC(D348*J348,1)","v":44299},0,{"$f":"TRUNC(D348*L348,1)","v":0},"",null,null,null,null,null,null,null,null,null,null,null,null,null,null,null,null,null,null,null,null,null,null,null,null,null,null,null,null,null,null,null,null,null,null,null,null,null,null,null,null,null,null,null,null,null,null,null,null,null,null,null,null,null,null,null,null,null,null,null,null,null,null,null,null,null,null,null,null,null,null,null,null,null,null,null,null,null,null,null,null,null,null,null,null,null,null,null,null,null,null,null,null,null,null,null,null,null,null,null,null,null,null,null,"%RAN*MM","1"]
[null,"기계손료","상각비:1125/정비비:750/관리비:674",{"$f":"2549*10^-7*1000","v":0.25489999999999996},"",2696,687.2,0,{"$f":"TRUNC(D349*H349,1)","v":0},0,{"$f":"TRUNC(D349*J349,1)","v":0},2696,{"$f":"TRUNC(D349*L349,1)","v":687.2},"",null,null,null,null,null,null,null,null,null,null,null,null,null,null,null,null,null,null,null,null,null,null,null,null,null,null,null,null,null,null,null,null,null,null,null,null,null,null,null,null,null,null,null,null,null,null,null,null,null,null,null,null,null,null,null,null,null,null,null,null,null,null,null,null,null,null,null,null,null,null,null,null,null,null,null,null,null,null,null,null,null,null,null,null,null,null,null,null,null,null,null,null,null,null,null,null,null,null,null,null,null,null,null,"W1048",""]
[null,"             계             ",null,null,null,null,{"$f":"I350+K350+M350","v":46893},null,{"$f":"ROUNDDOWN(SUM(I346:I349),0)","v":1907},null,{"$f":"ROUNDDOWN(SUM(K346:K349),0)","v":44299},null,{"$f":"ROUNDDOWN(SUM(M346:M349),0)","v":687},null,null,null,null,null,null,null,null,null,null,null,null,null,null,null,null,null,null,null,null,null,null,null,null,null,null,null,null,null,null,null,null,null,null,null,null,null,null,null,null,null,null,null,null,null,null,null,null,null,null,null,null,null,null,null,null,null,null,null,null,null,null,null,null,null,null,null,null,null,null,null,null,null,null,null,null,null,null,null,null,null,null,null,null,null,null,null,null,null,null,null,null,null,null,null,null,null,null,null,null,null,null,null,null,"%SON-LYO","2481"]
[]
[null," ：아스팔트 디스트리뷰터 (3800 ℓ)"]
[null,"경    유","경    유",10.9,"ℓ",{"$f":"H353+J353+L353","v":1303.69},{"$f":"I353+K353+M353","v":14210.2},{"$f":"자재단가!R7","v":1303.69},{"$f":"TRUNC(D353*H353,1)","v":14210.2},0,{"$f":"TRUNC(D353*J353,1)","v":0},0,{"$f":"TRUNC(D353*L353,1)","v":0},"",null,null,null,null,null,null,null,null,null,null,null,null,null,null,null,null,null,null,null,null,null,null,null,null,null,null,null,null,null,null,null,null,null,null,null,null,null,null,null,null,null,null,null,null,null,null,null,null,null,null,null,null,null,null,null,null,null,null,null,null,null,null,null,null,null,null,null,null,null,null,null,null,null,null,null,null,null,null,null,null,null,null,null,null,null,null,null,null,null,null,null,null,null,null,null,null,null,null,null,null,null,null,null,":D4205-0020"]
[null,"잡    품","주연료비의 %",25,"%",14210.2,3552.5,{"$f":"I353","v":14210.2},{"$f":"TRUNC(D354/100*H354,1)","v":3552.5},0,{"$f":"TRUNC(D354/100*J354,1)","v":0},0,{"$f":"TRUNC(D354/100*L354,1)","v":0},"",null,null,null,null,null,null,null,null,null,null,null,null,null,null,null,null,null,null,null,null,null,null,null,null,null,null,null,null,null,null,null,null,null,null,null,null,null,null,null,null,null,null,null,null,null,null,null,null,null,null,null,null,null,null,null,null,null,null,null,null,null,null,null,null,null,null,null,null,null,null,null,null,null,null,null,null,null,null,null,null,null,null,null,null,null,null,null,null,null,null,null,null,null,null,null,null,null,null,null,null,null,null,null,"M0000-100",""]
[null,"건설기계운전사","",1,"인",44299,44299,0,{"$f":"TRUNC(D355*H355,1)","v":0},{"$f":"TRUNC(노임단가!K6*16/12*1/8*25/20,0)","v":44299},{"$f":"TRUNC(D355*J355,1)","v":44299},0,{"$f":"TRUNC(D355*L355,1)","v":0},"",null,null,null,null,null,null,null,null,null,null,null,null,null,null,null,null,null,null,null,null,null,null,null,null,null,null,null,null,null,null,null,null,null,null,null,null,null,null,null,null,null,null,null,null,null,null,null,null,null,null,null,null,null,null,null,null,null,null,null,null,null,null,null,null,null,null,null,null,null,null,null,null,null,null,null,null,null,null,null,null,null,null,null,null,null,null,null,null,null,null,null,null,null,null,null,null,null,null,null,null,null,null,null,"%RAN*MM","1"]
[null,"기계손료","상각비:1125/정비비:500/관리비:944",{"$f":"2569*10^-7*1000","v":0.25690000000000002},"",55905,14361.9,0,{"$f":"TRUNC(D356*H356,1)","v":0},0,{"$f":"TRUNC(D356*J356,1)","v":0},55905,{"$f":"TRUNC(D356*L356,1)","v":14361.9},"",null,null,null,null,null,null,null,null,null,null,null,null,null,null,null,null,null,null,null,null,null,null,null,null,null,null,null,null,null,null,null,null,null,null,null,null,null,null,null,null,null,null,null,null,null,null,null,null,null,null,null,null,null,null,null,null,null,null,null,null,null,null,null,null,null,null,null,null,null,null,null,null,null,null,null,null,null,null,null,null,null,null,null,null,null,null,null,null,null,null,null,null,null,null,null,null,null,null,null,null,null,null,null,"W1050",""]
[null,"             계             ",null,null,null,null,{"$f":"I357+K357+M357","v":76422},null,{"$f":"ROUNDDOWN(SUM(I353:I356),0)","v":17762},null,{"$f":"ROUNDDOWN(SUM(K353:K356),0)","v":44299},null,{"$f":"ROUNDDOWN(SUM(M353:M356),0)","v":14361},null,null,null,null,null,null,null,null,null,null,null,null,null,null,null,null,null,null,null,null,null,null,null,null,null,null,null,null,null,null,null,null,null,null,null,null,null,null,null,null,null,null,null,null,null,null,null,null,null,null,null,null,null,null,null,null,null,null,null,null,null,null,null,null,null,null,null,null,null,null,null,null,null,null,null,null,null,null,null,null,null,null,null,null,null,null,null,null,null,null,null,null,null,null,null,null,null,null,null,null,null,null,null,null,"%SON-LYO","2971"]
[]
[null," ：콘크리트 믹서 (0.20 ㎥)"]
[null,"휘 발 유","휘 발 유",1.3,"d",{"$f":"H360+J360+L360","v":1499.33},1949.1,{"$f":"자재단가!R6","v":1499.33},{"$f":"TRUNC(D360*H360,1)","v":1949.1},0,{"$f":"TRUNC(D360*J360,1)","v":0},0,{"$f":"TRUNC(D360*L360,1)","v":0},"",null,null,null,null,null,null,null,null,null,null,null,null,null,null,null,null,null,null,null,null,null,null,null,null,null,null,null,null,null,null,null,null,null,null,null,null,null,null,null,null,null,null,null,null,null,null,null,null,null,null,null,null,null,null,null,null,null,null,null,null,null,null,null,null,null,null,null,null,null,null,null,null,null,null,null,null,null,null,null,null,null,null,null,null,null,null,null,null,null,null,null,null,null,null,null,null,null,null,null,null,null,null,null,":D4205-0045"]
[null,"잡    품","주연료비의 %",2,"%",1949.1,38.9,{"$f":"I360","v":1949.1},{"$f":"TRUNC(D361/100*H361,1)","v":38.9},0,{"$f":"TRUNC(D361/100*J361,1)","v":0},0,{"$f":"TRUNC(D361/100*L361,1)","v":0},"",null,null,null,null,null,null,null,null,null,null,null,null,null,null,null,null,null,null,null,null,null,null,null,null,null,null,null,null,null,null,null,null,null,null,null,null,null,null,null,null,null,null,null,null,null,null,null,null,null,null,null,null,null,null,null,null,null,null,null,null,null,null,null,null,null,null,null,null,null,null,null,null,null,null,null,null,null,null,null,null,null,null,null,null,null,null,null,null,null,null,null,null,null,null,null,null,null,null,null,null,null,null,null,"M0000-100",""]
[null,"일반기계운전사","",1,"인",28571,28571,0,{"$f":"TRUNC(D362*H362,1)","v":0},{"$f":"TRUNC(노임단가!K9*16/12*1/8*25/20,0)","v":28571},{"$f":"TRUNC(D362*J362,1)","v":28571},0,{"$f":"TRUNC(D362*L362,1)","v":0},"",null,null,null,null,null,null,null,null,null,null,null,null,null,null,null,null,null,null,null,null,null,null,null,null,null,null,null,null,null,null,null,null,null,null,null,null,null,null,null,null,null,null,null,null,null,null,null,null,null,null,null,null,null,null,null,null,null,null,null,null,null,null,null,null,null,null,null,null,null,null,null,null,null,null,null,null,null,null,null,null,null,null,null,null,null,null,null,null,null,null,null,null,null,null,null,null,null,null,null,null,null,null,null,"%RAN*MM","1"]
[null,"기계손료","상각비:1286/정비비:1071/관리비:682",{"$f":"3039*10^-7*1000","v":0.30389999999999995},"",3198,971.8,0,{"$f":"TRUNC(D363*H363,1)","v":0},0,{"$f":"TRUNC(D363*J363,1)","v":0},3198,{"$f":"TRUNC(D363*L363,1)","v":971.8},"",null,null,null,null,null,null,null,null,null,null,null,null,null,null,null,null,null,null,null,null,null,null,null,null,null,null,null,null,null,null,null,null,null,null,null,null,null,null,null,null,null,null,null,null,null,null,null,null,null,null,null,null,null,null,null,null,null,null,null,null,null,null,null,null,null,null,null,null,null,null,null,null,null,null,null,null,null,null,null,null,null,null,null,null,null,null,null,null,null,null,null,null,null,null,null,null,null,null,null,null,null,null,null,"W1050",""]
[null,"             계             ",null,null,null,null,{"$f":"I364+K364+M364","v":31530},null,{"$f":"ROUNDDOWN(SUM(I360:I363),0)","v":1988},null,{"$f":"ROUNDDOWN(SUM(K360:K363),0)","v":28571},null,{"$f":"ROUNDDOWN(SUM(M360:M363),0)","v":971},null,null,null,null,null,null,null,null,null,null,null,null,null,null,null,null,null,null,null,null,null,null,null,null,null,null,null,null,null,null,null,null,null,null,null,null,null,null,null,null,null,null,null,null,null,null,null,null,null,null,null,null,null,null,null,null,null,null,null,null,null,null,null,null,null,null,null,null,null,null,null,null,null,null,null,null,null,null,null,null,null,null,null,null,null,null,null,null,null,null,null,null,null,null,null,null,null,null,null,null,null,null,null,null,"%SON-LYO","2971"]
[]
[null," ：콘크리트 믹서 (0.45 ㎥)"]
[null,"휘 발 유","휘 발 유",3.9,"d",{"$f":"H367+J367+L367","v":1499.33},5847.3,{"$f":"자재단가!R6","v":1499.33},{"$f":"TRUNC(D367*H367,1)","v":5847.3},0,{"$f":"TRUNC(D367*J367,1)","v":0},0,{"$f":"TRUNC(D367*L367,1)","v":0},"",null,null,null,null,null,null,null,null,null,null,null,null,null,null,null,null,null,null,null,null,null,null,null,null,null,null,null,null,null,null,null,null,null,null,null,null,null,null,null,null,null,null,null,null,null,null,null,null,null,null,null,null,null,null,null,null,null,null,null,null,null,null,null,null,null,null,null,null,null,null,null,null,null,null,null,null,null,null,null,null,null,null,null,null,null,null,null,null,null,null,null,null,null,null,null,null,null,null,null,null,null,null,null,":D4430-0400"]
[null,"잡    품","주연료비의 %",2,"%",5847.3,116.9,{"$f":"I367","v":5847.3},{"$f":"TRUNC(D368/100*H368,1)","v":116.9},0,{"$f":"TRUNC(D368/100*J368,1)","v":0},0,{"$f":"TRUNC(D368/100*L368,1)","v":0},"",null,null,null,null,null,null,null,null,null,null,null,null,null,null,null,null,null,null,null,null,null,null,null,null,null,null,null,null,null,null,null,null,null,null,null,null,null,null,null,null,null,null,null,null,null,null,null,null,null,null,null,null,null,null,null,null,null,null,null,null,null,null,null,null,null,null,null,null,null,null,null,null,null,null,null,null,null,null,null,null,null,null,null,null,null,null,null,null,null,null,null,null,null,null,null,null,null,null,null,null,null,null,null,"M0000-100",""]
[null,"일반기계운전사","",1,"인",28571,28571,0,{"$f":"TRUNC(D369*H369,1)","v":0},{"$f":"TRUNC(노임단가!K9*16/12*1/8*25/20,0)","v":28571},{"$f":"TRUNC(D369*J369,1)","v":28571},0,{"$f":"TRUNC(D369*L369,1)","v":0},"",null,null,null,null,null,null,null,null,null,null,null,null,null,null,null,null,null,null,null,null,null,null,null,null,null,null,null,null,null,null,null,null,null,null,null,null,null,null,null,null,null,null,null,null,null,null,null,null,null,null,null,null,null,null,null,null,null,null,null,null,null,null,null,null,null,null,null,null,null,null,null,null,null,null,null,null,null,null,null,null,null,null,null,null,null,null,null,null,null,null,null,null,null,null,null,null,null,null,null,null,null,null,null,"%RAN*MM","1"]
[null,"기계손료","상각비:1286/정비비:1071/관리비:682",{"$f":"3039*10^-7*1000","v":0.30389999999999995},"",4953,1505.2,0,{"$f":"TRUNC(D370*H370,1)","v":0},0,{"$f":"TRUNC(D370*J370,1)","v":0},4953,{"$f":"TRUNC(D370*L370,1)","v":1505.2},"",null,null,null,null,null,null,null,null,null,null,null,null,null,null,null,null,null,null,null,null,null,null,null,null,null,null,null,null,null,null,null,null,null,null,null,null,null,null,null,null,null,null,null,null,null,null,null,null,null,null,null,null,null,null,null,null,null,null,null,null,null,null,null,null,null,null,null,null,null,null,null,null,null,null,null,null,null,null,null,null,null,null,null,null,null,null,null,null,null,null,null,null,null,null,null,null,null,null,null,null,null,null,null,"W1050",""]
[null,"             계             ",null,null,null,null,{"$f":"I371+K371+M371","v":36040},null,{"$f":"ROUNDDOWN(SUM(I367:I370),0)","v":5964},null,{"$f":"ROUNDDOWN(SUM(K367:K370),0)","v":28571},null,{"$f":"ROUNDDOWN(SUM(M367:M370),0)","v":1505},null,null,null,null,null,null,null,null,null,null,null,null,null,null,null,null,null,null,null,null,null,null,null,null,null,null,null,null,null,null,null,null,null,null,null,null,null,null,null,null,null,null,null,null,null,null,null,null,null,null,null,null,null,null,null,null,null,null,null,null,null,null,null,null,null,null,null,null,null,null,null,null,null,null,null,null,null,null,null,null,null,null,null,null,null,null,null,null,null,null,null,null,null,null,null,null,null,null,null,null,null,null,null,null,"%SON-LYO","6266"]
[]
[null," ：커터(콘크리트 및 아스팔트용) [320~400 mm]"]
[null,"휘 발 유","휘 발 유",5.6,"d",{"$f":"H374+J374+L374","v":1499.33},8396.2000000000007,{"$f":"자재단가!R6","v":1499.33},{"$f":"TRUNC(D374*H374,1)","v":8396.2000000000007},0,{"$f":"TRUNC(D374*J374,1)","v":0},0,{"$f":"TRUNC(D374*L374,1)","v":0},"",null,null,null,null,null,null,null,null,null,null,null,null,null,null,null,null,null,null,null,null,null,null,null,null,null,null,null,null,null,null,null,null,null,null,null,null,null,null,null,null,null,null,null,null,null,null,null,null,null,null,null,null,null,null,null,null,null,null,null,null,null,null,null,null,null,null,null,null,null,null,null,null,null,null,null,null,null,null,null,null,null,null,null,null,null,null,null,null,null,null,null,null,null,null,null,null,null,null,null,null,null,null,null,":D4611-0350"]
[null,"잡    품","주연료비의 %",20,"%",8396.2000000000007,1679.2,{"$f":"I374","v":8396.2000000000007},{"$f":"TRUNC(D375/100*H375,1)","v":1679.2},0,{"$f":"TRUNC(D375/100*J375,1)","v":0},0,{"$f":"TRUNC(D375/100*L375,1)","v":0},"",null,null,null,null,null,null,null,null,null,null,null,null,null,null,null,null,null,null,null,null,null,null,null,null,null,null,null,null,null,null,null,null,null,null,null,null,null,null,null,null,null,null,null,null,null,null,null,null,null,null,null,null,null,null,null,null,null,null,null,null,null,null,null,null,null,null,null,null,null,null,null,null,null,null,null,null,null,null,null,null,null,null,null,null,null,null,null,null,null,null,null,null,null,null,null,null,null,null,null,null,null,null,null,"M0000-100",""]
[null,"일반기계운전사","",1,"인",28571,28571,0,{"$f":"TRUNC(D376*H376,1)","v":0},{"$f":"TRUNC(노임단가!K9*16/12*1/8*25/20,0)","v":28571},{"$f":"TRUNC(D376*J376,1)","v":28571},0,{"$f":"TRUNC(D376*L376,1)","v":0},"",null,null,null,null,null,null,null,null,null,null,null,null,null,null,null,null,null,null,null,null,null,null,null,null,null,null,null,null,null,null,null,null,null,null,null,null,null,null,null,null,null,null,null,null,null,null,null,null,null,null,null,null,null,null,null,null,null,null,null,null,null,null,null,null,null,null,null,null,null,null,null,null,null,null,null,null,null,null,null,null,null,null,null,null,null,null,null,null,null,null,null,null,null,null,null,null,null,null,null,null,null,null,null,"%RAN*MM","1"]
[null,"기계손료","상각비:4000/정비비:1333/관리비:1021",{"$f":"6354*10^-7*1000","v":0.63539999999999996},"",2797,1777.2,0,{"$f":"TRUNC(D377*H377,1)","v":0},0,{"$f":"TRUNC(D377*J377,1)","v":0},2797,{"$f":"TRUNC(D377*L377,1)","v":1777.2},"",null,null,null,null,null,null,null,null,null,null,null,null,null,null,null,null,null,null,null,null,null,null,null,null,null,null,null,null,null,null,null,null,null,null,null,null,null,null,null,null,null,null,null,null,null,null,null,null,null,null,null,null,null,null,null,null,null,null,null,null,null,null,null,null,null,null,null,null,null,null,null,null,null,null,null,null,null,null,null,null,null,null,null,null,null,null,null,null,null,null,null,null,null,null,null,null,null,null,null,null,null,null,null,"%SON-LYO","5033"]
[null,"             계             ",null,null,null,null,{"$f":"I378+K378+M378","v":40423},null,{"$f":"ROUNDDOWN(SUM(I374:I377),0)","v":10075},null,{"$f":"ROUNDDOWN(SUM(K374:K377),0)","v":28571},null,{"$f":"ROUNDDOWN(SUM(M374:M377),0)","v":1777}]
[]
[null," ：콘크리트 진동기(엔진식) [2.6 kW]",null,null,null,null,null,null,null,null,null,null,null,null,null,null,null,null,null,null,null,null,null,null,null,null,null,null,null,null,null,null,null,null,null,null,null,null,null,null,null,null,null,null,null,null,null,null,null,null,null,null,null,null,null,null,null,null,null,null,null,null,null,null,null,null,null,null,null,null,null,null,null,null,null,null,null,null,null,null,null,null,null,null,null,null,null,null,null,null,null,null,null,null,null,null,null,null,null,null,null,null,null,null,null,null,null,null,null,null,null,null,null,null,null,null,null,":D5205-0035"]
[null,"휘 발 유","휘 발 유",1,"d",{"$f":"H381+J381+L381","v":1499.33},1499.3,{"$f":"자재단가!R6","v":1499.33},{"$f":"TRUNC(D381*H381,1)","v":1499.3},0,{"$f":"TRUNC(D381*J381,1)","v":0},0,{"$f":"TRUNC(D381*L381,1)","v":0},"",null,null,null,null,null,null,null,null,null,null,null,null,null,null,null,null,null,null,null,null,null,null,null,null,null,null,null,null,null,null,null,null,null,null,null,null,null,null,null,null,null,null,null,null,null,null,null,null,null,null,null,null,null,null,null,null,null,null,null,null,null,null,null,null,null,null,null,null,null,null,null,null,null,null,null,null,null,null,null,null,null,null,null,null,null,null,null,null,null,null,null,null,null,null,null,null,null,null,null,null,null,null,null,"M0000-101",""]
[null,"잡    품","주연료비의 %",10,"%",1499.3,149.9,{"$f":"I381","v":1499.3},{"$f":"TRUNC(D382/100*H382,1)","v":149.9},0,{"$f":"TRUNC(D382/100*J382,1)","v":0},0,{"$f":"TRUNC(D382/100*L382,1)","v":0},"",null,null,null,null,null,null,null,null,null,null,null,null,null,null,null,null,null,null,null,null,null,null,null,null,null,null,null,null,null,null,null,null,null,null,null,null,null,null,null,null,null,null,null,null,null,null,null,null,null,null,null,null,null,null,null,null,null,null,null,null,null,null,null,null,null,null,null,null,null,null,null,null,null,null,null,null,null,null,null,null,null,null,null,null,null,null,null,null,null,null,null,null,null,null,null,null,null,null,null,null,null,null,null,"%RAN*MM","1"]
[null,"기계손료","상각비:3000/정비비:1333/관리비:768",{"$f":"5101*10^-7*1000","v":0.5101},"",237,120.8,0,{"$f":"TRUNC(D383*H383,1)","v":0},0,{"$f":"TRUNC(D383*J383,1)","v":0},237,{"$f":"TRUNC(D383*L383,1)","v":120.8},"",null,null,null,null,null,null,null,null,null,null,null,null,null,null,null,null,null,null,null,null,null,null,null,null,null,null,null,null,null,null,null,null,null,null,null,null,null,null,null,null,null,null,null,null,null,null,null,null,null,null,null,null,null,null,null,null,null,null,null,null,null,null,null,null,null,null,null,null,null,null,null,null,null,null,null,null,null,null,null,null,null,null,null,null,null,null,null,null,null,null,null,null,null,null,null,null,null,null,null,null,null,null,null,"W1048",""]
[null,"             계             ",null,null,null,null,{"$f":"I384+K384+M384","v":1769},null,{"$f":"ROUNDDOWN(SUM(I381:I383),0)","v":1649},null,{"$f":"ROUNDDOWN(SUM(K381:K383),0)","v":0},null,{"$f":"ROUNDDOWN(SUM(M381:M383),0)","v":120},null,null,null,null,null,null,null,null,null,null,null,null,null,null,null,null,null,null,null,null,null,null,null,null,null,null,null,null,null,null,null,null,null,null,null,null,null,null,null,null,null,null,null,null,null,null,null,null,null,null,null,null,null,null,null,null,null,null,null,null,null,null,null,null,null,null,null,null,null,null,null,null,null,null,null,null,null,null,null,null,null,null,null,null,null,null,null,null,null,null,null,null,null,null,null,null,null,null,null,null,null,null,null,null,"%SON-LYO","1663"]
[]
[null," ：공기압축기(이동식) [3.5 ㎥/min]"]
[null,"경    유","경    유",6.2,"ℓ",{"$f":"H387+J387+L387","v":1303.69},8082.8,{"$f":"자재단가!R7","v":1303.69},{"$f":"TRUNC(D387*H387,1)","v":8082.8},0,{"$f":"TRUNC(D387*J387,1)","v":0},0,{"$f":"TRUNC(D387*L387,1)","v":0},"",null,null,null,null,null,null,null,null,null,null,null,null,null,null,null,null,null,null,null,null,null,null,null,null,null,null,null,null,null,null,null,null,null,null,null,null,null,null,null,null,null,null,null,null,null,null,null,null,null,null,null,null,null,null,null,null,null,null,null,null,null,null,null,null,null,null,null,null,null,null,null,null,null,null,null,null,null,null,null,null,null,null,null,null,null,null,null,null,null,null,null,null,null,null,null,null,null,null,null,null,null,null,null,":D5205-0071"]
[null,"잡    품","주연료비의 %",16,"%",8082.8,1293.2,{"$f":"I387","v":8082.8},{"$f":"TRUNC(D388/100*H388,1)","v":1293.2},0,{"$f":"TRUNC(D388/100*J388,1)","v":0},0,{"$f":"TRUNC(D388/100*L388,1)","v":0},"",null,null,null,null,null,null,null,null,null,null,null,null,null,null,null,null,null,null,null,null,null,null,null,null,null,null,null,null,null,null,null,null,null,null,null,null,null,null,null,null,null,null,null,null,null,null,null,null,null,null,null,null,null,null,null,null,null,null,null,null,null,null,null,null,null,null,null,null,null,null,null,null,null,null,null,null,null,null,null,null,null,null,null,null,null,null,null,null,null,null,null,null,null,null,null,null,null,null,null,null,null,null,null,"M0000-101",""]
[null,"일반기계운전사","",1,"인",28571,28571,0,{"$f":"TRUNC(D389*H389,1)","v":0},{"$f":"TRUNC(노임단가!K9*16/12*1/8*25/20,0)","v":28571},{"$f":"TRUNC(D389*J389,1)","v":28571},0,{"$f":"TRUNC(D389*L389,1)","v":0},"",null,null,null,null,null,null,null,null,null,null,null,null,null,null,null,null,null,null,null,null,null,null,null,null,null,null,null,null,null,null,null,null,null,null,null,null,null,null,null,null,null,null,null,null,null,null,null,null,null,null,null,null,null,null,null,null,null,null,null,null,null,null,null,null,null,null,null,null,null,null,null,null,null,null,null,null,null,null,null,null,null,null,null,null,null,null,null,null,null,null,null,null,null,null,null,null,null,null,null,null,null,null,null,"%RAN*MM","1"]
[null,"기계손료","상각비:750/정비비:417/관리비:552",{"$f":"1719*10^-7*1000","v":0.1719},"",12570,2160.6999999999998,0,{"$f":"TRUNC(D390*H390,1)","v":0},0,{"$f":"TRUNC(D390*J390,1)","v":0},12570,{"$f":"TRUNC(D390*L390,1)","v":2160.6999999999998},"",null,null,null,null,null,null,null,null,null,null,null,null,null,null,null,null,null,null,null,null,null,null,null,null,null,null,null,null,null,null,null,null,null,null,null,null,null,null,null,null,null,null,null,null,null,null,null,null,null,null,null,null,null,null,null,null,null,null,null,null,null,null,null,null,null,null,null,null,null,null,null,null,null,null,null,null,null,null,null,null,null,null,null,null,null,null,null,null,null,null,null,null,null,null,null,null,null,null,null,null,null,null,null,"W1048",""]
[null,"             계             ",null,null,null,null,{"$f":"I391+K391+M391","v":40107},null,{"$f":"ROUNDDOWN(SUM(I387:I390),0)","v":9376},null,{"$f":"ROUNDDOWN(SUM(K387:K390),0)","v":28571},null,{"$f":"ROUNDDOWN(SUM(M387:M390),0)","v":2160},null,null,null,null,null,null,null,null,null,null,null,null,null,null,null,null,null,null,null,null,null,null,null,null,null,null,null,null,null,null,null,null,null,null,null,null,null,null,null,null,null,null,null,null,null,null,null,null,null,null,null,null,null,null,null,null,null,null,null,null,null,null,null,null,null,null,null,null,null,null,null,null,null,null,null,null,null,null,null,null,null,null,null,null,null,null,null,null,null,null,null,null,null,null,null,null,null,null,null,null,null,null,null,null,"%SON-LYO","1663"]
[]
[null," ：공기압축기(이동식) [7.1 ㎥/min]"]
[null,"경    유","경    유",10,"ℓ",{"$f":"H394+J394+L394","v":1303.69},13036.9,{"$f":"자재단가!R7","v":1303.69},{"$f":"TRUNC(D394*H394,1)","v":13036.9},0,{"$f":"TRUNC(D394*J394,1)","v":0},0,{"$f":"TRUNC(D394*L394,1)","v":0},"",null,null,null,null,null,null,null,null,null,null,null,null,null,null,null,null,null,null,null,null,null,null,null,null,null,null,null,null,null,null,null,null,null,null,null,null,null,null,null,null,null,null,null,null,null,null,null,null,null,null,null,null,null,null,null,null,null,null,null,null,null,null,null,null,null,null,null,null,null,null,null,null,null,null,null,null,null,null,null,null,null,null,null,null,null,null,null,null,null,null,null,null,null,null,null,null,null,null,null,null,null,null,null,":D5210-0025"]
[null,"잡    품","주연료비의 %",16,"%",13036.9,2085.9,{"$f":"I394","v":13036.9},{"$f":"TRUNC(D395/100*H395,1)","v":2085.9},0,{"$f":"TRUNC(D395/100*J395,1)","v":0},0,{"$f":"TRUNC(D395/100*L395,1)","v":0},"",null,null,null,null,null,null,null,null,null,null,null,null,null,null,null,null,null,null,null,null,null,null,null,null,null,null,null,null,null,null,null,null,null,null,null,null,null,null,null,null,null,null,null,null,null,null,null,null,null,null,null,null,null,null,null,null,null,null,null,null,null,null,null,null,null,null,null,null,null,null,null,null,null,null,null,null,null,null,null,null,null,null,null,null,null,null,null,null,null,null,null,null,null,null,null,null,null,null,null,null,null,null,null,"%SON-LYO","2500"]
[null,"일반기계운전사","",1,"인",28571,28571,0,{"$f":"TRUNC(D396*H396,1)","v":0},{"$f":"TRUNC(노임단가!K9*16/12*1/8*25/20,0)","v":28571},{"$f":"TRUNC(D396*J396,1)","v":28571},0,{"$f":"TRUNC(D396*L396,1)","v":0},""]
[null,"기계손료","상각비:750/정비비:417/관리비:552",{"$f":"1719*10^-7*1000","v":0.1719},"",18206,3129.6,0,{"$f":"TRUNC(D397*H397,1)","v":0},0,{"$f":"TRUNC(D397*J397,1)","v":0},18206,{"$f":"TRUNC(D397*L397,1)","v":3129.6},""]
[null,"             계             ",null,null,null,null,{"$f":"I398+K398+M398","v":46822},null,{"$f":"ROUNDDOWN(SUM(I394:I397),0)","v":15122},null,{"$f":"ROUNDDOWN(SUM(K394:K397),0)","v":28571},null,{"$f":"ROUNDDOWN(SUM(M394:M397),0)","v":3129},null,null,null,null,null,null,null,null,null,null,null,null,null,null,null,null,null,null,null,null,null,null,null,null,null,null,null,null,null,null,null,null,null,null,null,null,null,null,null,null,null,null,null,null,null,null,null,null,null,null,null,null,null,null,null,null,null,null,null,null,null,null,null,null,null,null,null,null,null,null,null,null,null,null,null,null,null,null,null,null,null,null,null,null,null,null,null,null,null,null,null,null,null,null,null,null,null,null,null,null,null,null,null,null,":D5701-0006"]
[null,null,null,null,null,null,null,null,null,null,null,null,null,null,null,null,null,null,null,null,null,null,null,null,null,null,null,null,null,null,null,null,null,null,null,null,null,null,null,null,null,null,null,null,null,null,null,null,null,null,null,null,null,null,null,null,null,null,null,null,null,null,null,null,null,null,null,null,null,null,null,null,null,null,null,null,null,null,null,null,null,null,null,null,null,null,null,null,null,null,null,null,null,null,null,null,null,null,null,null,null,null,null,null,null,null,null,null,null,null,null,null,null,null,null,null,null,"M0000-101",""]
[null," ：소형브레이커(공압식) (1.3 ㎥/min)",null,null,null,null,null,null,null,null,null,null,null,null,null,null,null,null,null,null,null,null,null,null,null,null,null,null,null,null,null,null,null,null,null,null,null,null,null,null,null,null,null,null,null,null,null,null,null,null,null,null,null,null,null,null,null,null,null,null,null,null,null,null,null,null,null,null,null,null,null,null,null,null,null,null,null,null,null,null,null,null,null,null,null,null,null,null,null,null,null,null,null,null,null,null,null,null,null,null,null,null,null,null,null,null,null,null,null,null,null,null,null,null,null,null,null,"%RAN*MM",""]
[null,"기계손료","계:2500",{"$f":"2500*10^-7*1000","v":0.25},"",{"$f":"H401+J401+L401","v":1734},{"$f":"I401+K401+M401","v":433.5},0,{"$f":"TRUNC(D401*H401,1)","v":0},0,{"$f":"TRUNC(D401*J401,1)","v":0},1734,{"$f":"TRUNC(D401*L401,1)","v":433.5},"",null,null,null,null,null,null,null,null,null,null,null,null,null,null,null,null,null,null,null,null,null,null,null,null,null,null,null,null,null,null,null,null,null,null,null,null,null,null,null,null,null,null,null,null,null,null,null,null,null,null,null,null,null,null,null,null,null,null,null,null,null,null,null,null,null,null,null,null,null,null,null,null,null,null,null,null,null,null,null,null,null,null,null,null,null,null,null,null,null,null,null,null,null,null,null,null,null,null,null,null,null,null,null,"W1048",""]
[null,"             계             ",null,null,null,null,{"$f":"I402+K402+M402","v":433},null,{"$f":"ROUNDDOWN(SUM(I401:I401),0)","v":0},null,{"$f":"ROUNDDOWN(SUM(K401:K401),0)","v":0},null,{"$f":"ROUNDDOWN(SUM(M401:M401),0)","v":433},null,null,null,null,null,null,null,null,null,null,null,null,null,null,null,null,null,null,null,null,null,null,null,null,null,null,null,null,null,null,null,null,null,null,null,null,null,null,null,null,null,null,null,null,null,null,null,null,null,null,null,null,null,null,null,null,null,null,null,null,null,null,null,null,null,null,null,null,null,null,null,null,null,null,null,null,null,null,null,null,null,null,null,null,null,null,null,null,null,null,null,null,null,null,null,null,null,null,null,null,null,null,null,null,"%SON-LYO","3944"]
[]
[null," ：소형노면파쇄기 (0.6 m) "]
[null,"경    유","경    유",5.6,"ℓ",{"$f":"H405+J405+L405","v":1303.69},7300.6,{"$f":"자재단가!R7","v":1303.69},{"$f":"TRUNC(D405*H405,1)","v":7300.6},0,{"$f":"TRUNC(D405*J405,1)","v":0},0,{"$f":"TRUNC(D405*L405,1)","v":0},"",null,null,null,null,null,null,null,null,null,null,null,null,null,null,null,null,null,null,null,null,null,null,null,null,null,null,null,null,null,null,null,null,null,null,null,null,null,null,null,null,null,null,null,null,null,null,null,null,null,null,null,null,null,null,null,null,null,null,null,null,null,null,null,null,null,null,null,null,null,null,null,null,null,null,null,null,null,null,null,null,null,null,null,null,null,null,null,null,null,null,null,null,null,null,null,null,null,null,null,null,null,null,null,":D5701-0010"]
[null,"잡    품","주연료비의 %",20,"%",7300.6,1460.1,{"$f":"I405","v":7300.6},{"$f":"TRUNC(D406/100*H406,1)","v":1460.1},0,{"$f":"TRUNC(D406/100*J406,1)","v":0},0,{"$f":"TRUNC(D406/100*L406,1)","v":0},"",null,null,null,null,null,null,null,null,null,null,null,null,null,null,null,null,null,null,null,null,null,null,null,null,null,null,null,null,null,null,null,null,null,null,null,null,null,null,null,null,null,null,null,null,null,null,null,null,null,null,null,null,null,null,null,null,null,null,null,null,null,null,null,null,null,null,null,null,null,null,null,null,null,null,null,null,null,null,null,null,null,null,null,null,null,null,null,null,null,null,null,null,null,null,null,null,null,null,null,null,null,null,null,"M0000-101",""]
[null,"건설기계운전사","",1,"인",44299,{"$f":"I407+K407+M407","v":44299},0,{"$f":"TRUNC(D407*H407,1)","v":0},{"$f":"TRUNC(노임단가!K6*16/12*1/8*25/20,0)","v":44299},{"$f":"TRUNC(D407*J407,1)","v":44299},0,{"$f":"TRUNC(D407*L407,1)","v":0},"",null,null,null,null,null,null,null,null,null,null,null,null,null,null,null,null,null,null,null,null,null,null,null,null,null,null,null,null,null,null,null,null,null,null,null,null,null,null,null,null,null,null,null,null,null,null,null,null,null,null,null,null,null,null,null,null,null,null,null,null,null,null,null,null,null,null,null,null,null,null,null,null,null,null,null,null,null,null,null,null,null,null,null,null,null,null,null,null,null,null,null,null,null,null,null,null,null,null,null,null,null,null,null,"%RAN*MM","1"]
[null,"기계손료",null,{"$f":"4032*10^-7*1000","v":0.4032},"",96000,38707.199999999997,0,{"$f":"TRUNC(D408*H408,1)","v":0},0,{"$f":"TRUNC(D408*J408,1)","v":0},96000,{"$f":"TRUNC(D408*L408,1)","v":38707.199999999997},"",null,null,null,null,null,null,null,null,null,null,null,null,null,null,null,null,null,null,null,null,null,null,null,null,null,null,null,null,null,null,null,null,null,null,null,null,null,null,null,null,null,null,null,null,null,null,null,null,null,null,null,null,null,null,null,null,null,null,null,null,null,null,null,null,null,null,null,null,null,null,null,null,null,null,null,null,null,null,null,null,null,null,null,null,null,null,null,null,null,null,null,null,null,null,null,null,null,null,null,null,null,null,null,"W1048",""]
[null,"             계             ",null,null,null,null,{"$f":"I409+K409+M409","v":91766},null,{"$f":"ROUNDDOWN(SUM(I405:I408),0)","v":8760},null,{"$f":"ROUNDDOWN(SUM(K405:K408),0)","v":44299},null,{"$f":"ROUNDDOWN(SUM(M405:M408),0)","v":38707},null,null,null,null,null,null,null,null,null,null,null,null,null,null,null,null,null,null,null,null,null,null,null,null,null,null,null,null,null,null,null,null,null,null,null,null,null,null,null,null,null,null,null,null,null,null,null,null,null,null,null,null,null,null,null,null,null,null,null,null,null,null,null,null,null,null,null,null,null,null,null,null,null,null,null,null,null,null,null,null,null,null,null,null,null,null,null,null,null,null,null,null,null,null,null,null,null,null,null,null,null,null,null,null,"%SON-LYO","3944"]
[]
[null," ：노면파쇄기 (1.0 m)"]
[null,"경    유","경    유",13.9,"ℓ",{"$f":"H412+J412+L412","v":1303.69},18121.2,{"$f":"자재단가!R7","v":1303.69},{"$f":"TRUNC(D412*H412,1)","v":18121.2},0,{"$f":"TRUNC(D412*J412,1)","v":0},0,{"$f":"TRUNC(D412*L412,1)","v":0},"",null,null,null,null,null,null,null,null,null,null,null,null,null,null,null,null,null,null,null,null,null,null,null,null,null,null,null,null,null,null,null,null,null,null,null,null,null,null,null,null,null,null,null,null,null,null,null,null,null,null,null,null,null,null,null,null,null,null,null,null,null,null,null,null,null,null,null,null,null,null,null,null,null,null,null,null,null,null,null,null,null,null,null,null,null,null,null,null,null,null,null,null,null,null,null,null,null,null,null,null,null,null,null,":D5701-0020"]
[null,"잡    품","주연료비의 %",16,"%",18121.2,2899.3,{"$f":"I412","v":18121.2},{"$f":"TRUNC(D413/100*H413,1)","v":2899.3},0,{"$f":"TRUNC(D413/100*J413,1)","v":0},0,{"$f":"TRUNC(D413/100*L413,1)","v":0},"",null,null,null,null,null,null,null,null,null,null,null,null,null,null,null,null,null,null,null,null,null,null,null,null,null,null,null,null,null,null,null,null,null,null,null,null,null,null,null,null,null,null,null,null,null,null,null,null,null,null,null,null,null,null,null,null,null,null,null,null,null,null,null,null,null,null,null,null,null,null,null,null,null,null,null,null,null,null,null,null,null,null,null,null,null,null,null,null,null,null,null,null,null,null,null,null,null,null,null,null,null,null,null,"M0000-101",""]
[null,"건설기계운전사","",1,"인",44299,44299,0,{"$f":"TRUNC(D414*H414,1)","v":0},{"$f":"TRUNC(노임단가!K6*16/12*1/8*25/20,0)","v":44299},{"$f":"TRUNC(D414*J414,1)","v":44299},0,{"$f":"TRUNC(D414*L414,1)","v":0},"",null,null,null,null,null,null,null,null,null,null,null,null,null,null,null,null,null,null,null,null,null,null,null,null,null,null,null,null,null,null,null,null,null,null,null,null,null,null,null,null,null,null,null,null,null,null,null,null,null,null,null,null,null,null,null,null,null,null,null,null,null,null,null,null,null,null,null,null,null,null,null,null,null,null,null,null,null,null,null,null,null,null,null,null,null,null,null,null,null,null,null,null,null,null,null,null,null,null,null,null,null,null,null,"%RAN*MM","1"]
[null,"기계손료","상각비:2000/정비비:1111/관리비:921",{"$f":"4032*10^-7*1000","v":0.4032},"",272128,109722,0,{"$f":"TRUNC(D415*H415,1)","v":0},0,{"$f":"TRUNC(D415*J415,1)","v":0},272128,{"$f":"TRUNC(D415*L415,1)","v":109722},"",null,null,null,null,null,null,null,null,null,null,null,null,null,null,null,null,null,null,null,null,null,null,null,null,null,null,null,null,null,null,null,null,null,null,null,null,null,null,null,null,null,null,null,null,null,null,null,null,null,null,null,null,null,null,null,null,null,null,null,null,null,null,null,null,null,null,null,null,null,null,null,null,null,null,null,null,null,null,null,null,null,null,null,null,null,null,null,null,null,null,null,null,null,null,null,null,null,null,null,null,null,null,null,"W1048",""]
[null,"             계             ",null,null,null,null,{"$f":"I416+K416+M416","v":175041},null,{"$f":"ROUNDDOWN(SUM(I412:I415),0)","v":21020},null,{"$f":"ROUNDDOWN(SUM(K412:K415),0)","v":44299},null,{"$f":"ROUNDDOWN(SUM(M412:M415),0)","v":109722},null,null,null,null,null,null,null,null,null,null,null,null,null,null,null,null,null,null,null,null,null,null,null,null,null,null,null,null,null,null,null,null,null,null,null,null,null,null,null,null,null,null,null,null,null,null,null,null,null,null,null,null,null,null,null,null,null,null,null,null,null,null,null,null,null,null,null,null,null,null,null,null,null,null,null,null,null,null,null,null,null,null,null,null,null,null,null,null,null,null,null,null,null,null,null,null,null,null,null,null,null,null,null,null,"%SON-LYO","3944"]
[]
[null," ：노면파쇄기 (2.0 m)"]
[null,"경    유","경    유",52.7,"ℓ",{"$f":"H419+J419+L419","v":1303.69},68704.399999999994,{"$f":"자재단가!R7","v":1303.69},{"$f":"TRUNC(D419*H419,1)","v":68704.399999999994},0,{"$f":"TRUNC(D419*J419,1)","v":0},0,{"$f":"TRUNC(D419*L419,1)","v":0},"",null,null,null,null,null,null,null,null,null,null,null,null,null,null,null,null,null,null,null,null,null,null,null,null,null,null,null,null,null,null,null,null,null,null,null,null,null,null,null,null,null,null,null,null,null,null,null,null,null,null,null,null,null,null,null,null,null,null,null,null,null,null,null,null,null,null,null,null,null,null,null,null,null,null,null,null,null,null,null,null,null,null,null,null,null,null,null,null,null,null,null,null,null,null,null,null,null,null,null,null,null,null,null,":D7103-0010"]
[null,"잡    품","주연료비의 %",16,"%",68704.399999999994,10992.7,{"$f":"I419","v":68704.399999999994},{"$f":"TRUNC(D420/100*H420,1)","v":10992.7},0,{"$f":"TRUNC(D420/100*J420,1)","v":0},0,{"$f":"TRUNC(D420/100*L420,1)","v":0},"",null,null,null,null,null,null,null,null,null,null,null,null,null,null,null,null,null,null,null,null,null,null,null,null,null,null,null,null,null,null,null,null,null,null,null,null,null,null,null,null,null,null,null,null,null,null,null,null,null,null,null,null,null,null,null,null,null,null,null,null,null,null,null,null,null,null,null,null,null,null,null,null,null,null,null,null,null,null,null,null,null,null,null,null,null,null,null,null,null,null,null,null,null,null,null,null,null,null,null,null,null,null,null,"%SON-LYO","3144"]
[null,"건설기계운전사","",1,"인",44299,44299,0,{"$f":"TRUNC(D421*H421,1)","v":0},{"$f":"TRUNC(노임단가!K6*16/12*1/8*25/20,0)","v":44299},{"$f":"TRUNC(D421*J421,1)","v":44299},0,{"$f":"TRUNC(D421*L421,1)","v":0},""]
[null,"기계손료","상각비:2000/정비비:1111/관리비:921",{"$f":"4032*10^-7*1000","v":0.4032},"",370535,149399.70000000001,0,{"$f":"TRUNC(D422*H422,1)","v":0},0,{"$f":"TRUNC(D422*J422,1)","v":0},370535,{"$f":"TRUNC(D422*L422,1)","v":149399.70000000001},""]
[null,"             계             ",null,null,null,null,{"$f":"I423+K423+M423","v":273395},null,{"$f":"ROUNDDOWN(SUM(I419:I422),0)","v":79697},null,{"$f":"ROUNDDOWN(SUM(K419:K422),0)","v":44299},null,{"$f":"ROUNDDOWN(SUM(M419:M422),0)","v":149399},null,null,null,null,null,null,null,null,null,null,null,null,null,null,null,null,null,null,null,null,null,null,null,null,null,null,null,null,null,null,null,null,null,null,null,null,null,null,null,null,null,null,null,null,null,null,null,null,null,null,null,null,null,null,null,null,null,null,null,null,null,null,null,null,null,null,null,null,null,null,null,null,null,null,null,null,null,null,null,null,null,null,null,null,null,null,null,null,null,null,null,null,null,null,null,null,null,null,null,null,null,null,null,null,":D7204-0055"]
[null,null,null,null,null,null,null,null,null,null,null,null,null,null,null,null,null,null,null,null,null,null,null,null,null,null,null,null,null,null,null,null,null,null,null,null,null,null,null,null,null,null,null,null,null,null,null,null,null,null,null,null,null,null,null,null,null,null,null,null,null,null,null,null,null,null,null,null,null,null,null,null,null,null,null,null,null,null,null,null,null,null,null,null,null,null,null,null,null,null,null,null,null,null,null,null,null,null,null,null,null,null,null,null,null,null,null,null,null,null,null,null,null,null,null,null,null,"M0000-101",""]
[null," ：하수관 천공기 (수동식)",null,null,null,null,null,null,null,null,null,null,null,null,null,null,null,null,null,null,null,null,null,null,null,null,null,null,null,null,null,null,null,null,null,null,null,null,null,null,null,null,null,null,null,null,null,null,null,null,null,null,null,null,null,null,null,null,null,null,null,null,null,null,null,null,null,null,null,null,null,null,null,null,null,null,null,null,null,null,null,null,null,null,null,null,null,null,null,null,null,null,null,null,null,null,null,null,null,null,null,null,null,null,null,null,null,null,null,null,null,null,null,null,null,null,null,"%RAN*MM","1"]
[null,"기계손료","상각비:1429/정비비:1032/관리비:759",{"$f":"3220*10^-7*1000","v":0.32199999999999995},"",{"$f":"H426+J426+L426","v":865},{"$f":"I426+K426+M426","v":278.5},0,{"$f":"TRUNC(D426*H426,1)","v":0},0,{"$f":"TRUNC(D426*J426,1)","v":0},865,{"$f":"TRUNC(D426*L426,1)","v":278.5},"",null,null,null,null,null,null,null,null,null,null,null,null,null,null,null,null,null,null,null,null,null,null,null,null,null,null,null,null,null,null,null,null,null,null,null,null,null,null,null,null,null,null,null,null,null,null,null,null,null,null,null,null,null,null,null,null,null,null,null,null,null,null,null,null,null,null,null,null,null,null,null,null,null,null,null,null,null,null,null,null,null,null,null,null,null,null,null,null,null,null,null,null,null,null,null,null,null,null,null,null,null,null,null,"W1049",""]
[null,"             계             ",null,null,null,null,{"$f":"I427+K427+M427","v":278},null,{"$f":"ROUNDDOWN(SUM(I426:I426),0)","v":0},null,{"$f":"ROUNDDOWN(SUM(K426:K426),0)","v":0},null,{"$f":"ROUNDDOWN(SUM(M426:M426),0)","v":278},null,null,null,null,null,null,null,null,null,null,null,null,null,null,null,null,null,null,null,null,null,null,null,null,null,null,null,null,null,null,null,null,null,null,null,null,null,null,null,null,null,null,null,null,null,null,null,null,null,null,null,null,null,null,null,null,null,null,null,null,null,null,null,null,null,null,null,null,null,null,null,null,null,null,null,null,null,null,null,null,null,null,null,null,null,null,null,null,null,null,null,null,null,null,null,null,null,null,null,null,null,null,null,null,"%SON-LYO","2045"]
[]
[null," ：물탱크(살수차) [5500 ℓ]"]
[null,"경    유","경    유",9.3000000000000007,"ℓ",{"$f":"H430+J430+L430","v":1303.69},12124.3,{"$f":"자재단가!R7","v":1303.69},{"$f":"TRUNC(D430*H430,1)","v":12124.3},0,{"$f":"TRUNC(D430*J430,1)","v":0},0,{"$f":"TRUNC(D430*L430,1)","v":0},"",null,null,null,null,null,null,null,null,null,null,null,null,null,null,null,null,null,null,null,null,null,null,null,null,null,null,null,null,null,null,null,null,null,null,null,null,null,null,null,null,null,null,null,null,null,null,null,null,null,null,null,null,null,null,null,null,null,null,null,null,null,null,null,null,null,null,null,null,null,null,null,null,null,null,null,null,null,null,null,null,null,null,null,null,null,null,null,null,null,null,null,null,null,null,null,null,null,null,null,null,null,null,null,":D7204-0160"]
[null,"잡    품","주연료비의 %",30,"%",12124.3,3637.2,{"$f":"I430","v":12124.3},{"$f":"TRUNC(D431/100*H431,1)","v":3637.2},0,{"$f":"TRUNC(D431/100*J431,1)","v":0},0,{"$f":"TRUNC(D431/100*L431,1)","v":0},"",null,null,null,null,null,null,null,null,null,null,null,null,null,null,null,null,null,null,null,null,null,null,null,null,null,null,null,null,null,null,null,null,null,null,null,null,null,null,null,null,null,null,null,null,null,null,null,null,null,null,null,null,null,null,null,null,null,null,null,null,null,null,null,null,null,null,null,null,null,null,null,null,null,null,null,null,null,null,null,null,null,null,null,null,null,null,null,null,null,null,null,null,null,null,null,null,null,null,null,null,null,null,null,"M0000-101",""]
[null,"화물차운전사","",1,"인",36224,36224,0,{"$f":"TRUNC(D432*H432,1)","v":0},{"$f":"TRUNC(노임단가!K5*16/12*1/8*25/20,0)","v":36224},{"$f":"TRUNC(D432*J432,1)","v":36224},0,{"$f":"TRUNC(D432*L432,1)","v":0},"",null,null,null,null,null,null,null,null,null,null,null,null,null,null,null,null,null,null,null,null,null,null,null,null,null,null,null,null,null,null,null,null,null,null,null,null,null,null,null,null,null,null,null,null,null,null,null,null,null,null,null,null,null,null,null,null,null,null,null,null,null,null,null,null,null,null,null,null,null,null,null,null,null,null,null,null,null,null,null,null,null,null,null,null,null,null,null,null,null,null,null,null,null,null,null,null,null,null,null,null,null,null,null,"%RAN*MM","1"]
[null,"기계손료","상각비:818/정비비:636/관리비:659",{"$f":"2113*10^-7*1000","v":0.21129999999999999},"",42159,8908.1,0,{"$f":"TRUNC(D433*H433,1)","v":0},0,{"$f":"TRUNC(D433*J433,1)","v":0},42159,{"$f":"TRUNC(D433*L433,1)","v":8908.1},"",null,null,null,null,null,null,null,null,null,null,null,null,null,null,null,null,null,null,null,null,null,null,null,null,null,null,null,null,null,null,null,null,null,null,null,null,null,null,null,null,null,null,null,null,null,null,null,null,null,null,null,null,null,null,null,null,null,null,null,null,null,null,null,null,null,null,null,null,null,null,null,null,null,null,null,null,null,null,null,null,null,null,null,null,null,null,null,null,null,null,null,null,null,null,null,null,null,null,null,null,null,null,null,"W1049",""]
[null,"             계             ",null,null,null,null,{"$f":"I434+K434+M434","v":60893},null,{"$f":"ROUNDDOWN(SUM(I430:I433),0)","v":15761},null,{"$f":"ROUNDDOWN(SUM(K430:K433),0)","v":36224},null,{"$f":"ROUNDDOWN(SUM(M430:M433),0)","v":8908},null,null,null,null,null,null,null,null,null,null,null,null,null,null,null,null,null,null,null,null,null,null,null,null,null,null,null,null,null,null,null,null,null,null,null,null,null,null,null,null,null,null,null,null,null,null,null,null,null,null,null,null,null,null,null,null,null,null,null,null,null,null,null,null,null,null,null,null,null,null,null,null,null,null,null,null,null,null,null,null,null,null,null,null,null,null,null,null,null,null,null,null,null,null,null,null,null,null,null,null,null,null,null,null,"%SON-LYO","2045"]
[]
[null," ：물탱크(살수차) [16000 ℓ]"]
[null,"경    유","경    유",12.9,"ℓ",{"$f":"H437+J437+L437","v":1303.69},16817.599999999999,{"$f":"자재단가!R7","v":1303.69},{"$f":"TRUNC(D437*H437,1)","v":16817.599999999999},0,{"$f":"TRUNC(D437*J437,1)","v":0},0,{"$f":"TRUNC(D437*L437,1)","v":0},"",null,null,null,null,null,null,null,null,null,null,null,null,null,null,null,null,null,null,null,null,null,null,null,null,null,null,null,null,null,null,null,null,null,null,null,null,null,null,null,null,null,null,null,null,null,null,null,null,null,null,null,null,null,null,null,null,null,null,null,null,null,null,null,null,null,null,null,null,null,null,null,null,null,null,null,null,null,null,null,null,null,null,null,null,null,null,null,null,null,null,null,null,null,null,null,null,null,null,null,null,null,null,null,":D7360-0055"]
[null,"잡    품","주연료비의 %",30,"%",16817.599999999999,5045.2,{"$f":"I437","v":16817.599999999999},{"$f":"TRUNC(D438/100*H438,1)","v":5045.2},0,{"$f":"TRUNC(D438/100*J438,1)","v":0},0,{"$f":"TRUNC(D438/100*L438,1)","v":0},"",null,null,null,null,null,null,null,null,null,null,null,null,null,null,null,null,null,null,null,null,null,null,null,null,null,null,null,null,null,null,null,null,null,null,null,null,null,null,null,null,null,null,null,null,null,null,null,null,null,null,null,null,null,null,null,null,null,null,null,null,null,null,null,null,null,null,null,null,null,null,null,null,null,null,null,null,null,null,null,null,null,null,null,null,null,null,null,null,null,null,null,null,null,null,null,null,null,null,null,null,null,null,null,"M0000-100",""]
[null,"화물차운전사","",1,"인",36224,36224,0,{"$f":"TRUNC(D439*H439,1)","v":0},{"$f":"TRUNC(노임단가!K5*16/12*1/8*25/20,0)","v":36224},{"$f":"TRUNC(D439*J439,1)","v":36224},0,{"$f":"TRUNC(D439*L439,1)","v":0},"",null,null,null,null,null,null,null,null,null,null,null,null,null,null,null,null,null,null,null,null,null,null,null,null,null,null,null,null,null,null,null,null,null,null,null,null,null,null,null,null,null,null,null,null,null,null,null,null,null,null,null,null,null,null,null,null,null,null,null,null,null,null,null,null,null,null,null,null,null,null,null,null,null,null,null,null,null,null,null,null,null,null,null,null,null,null,null,null,null,null,null,null,null,null,null,null,null,null,null,null,null,null,null,"%RAN*MM",""]
[null,"기계손료","상각비:818/정비비:636/관리비:659",{"$f":"2113*10^-7*1000","v":0.21129999999999999},"",80859,17085.5,0,{"$f":"TRUNC(D440*H440,1)","v":0},0,{"$f":"TRUNC(D440*J440,1)","v":0},80859,{"$f":"TRUNC(D440*L440,1)","v":17085.5},"",null,null,null,null,null,null,null,null,null,null,null,null,null,null,null,null,null,null,null,null,null,null,null,null,null,null,null,null,null,null,null,null,null,null,null,null,null,null,null,null,null,null,null,null,null,null,null,null,null,null,null,null,null,null,null,null,null,null,null,null,null,null,null,null,null,null,null,null,null,null,null,null,null,null,null,null,null,null,null,null,null,null,null,null,null,null,null,null,null,null,null,null,null,null,null,null,null,null,null,null,null,null,null,"W1050",""]
[null,"             계             ",null,null,null,null,{"$f":"I441+K441+M441","v":75171},null,{"$f":"ROUNDDOWN(SUM(I437:I440),0)","v":21862},null,{"$f":"ROUNDDOWN(SUM(K437:K440),0)","v":36224},null,{"$f":"ROUNDDOWN(SUM(M437:M440),0)","v":17085},null,null,null,null,null,null,null,null,null,null,null,null,null,null,null,null,null,null,null,null,null,null,null,null,null,null,null,null,null,null,null,null,null,null,null,null,null,null,null,null,null,null,null,null,null,null,null,null,null,null,null,null,null,null,null,null,null,null,null,null,null,null,null,null,null,null,null,null,null,null,null,null,null,null,null,null,null,null,null,null,null,null,null,null,null,null,null,null,null,null,null,null,null,null,null,null,null,null,null,null,null,null,null,null,"%SON-LYO","2731"]
[]
[null," ：차선제거기 (6.71kW)"]
[null,"휘 발 유","휘 발 유",5.53,"d",{"$f":"H444+J444+L444","v":1499.33},8291.2000000000007,{"$f":"자재단가!R6","v":1499.33},{"$f":"TRUNC(D444*H444,1)","v":8291.2000000000007},0,{"$f":"TRUNC(D444*J444,1)","v":0},0,{"$f":"TRUNC(D444*L444,1)","v":0},"",null,null,null,null,null,null,null,null,null,null,null,null,null,null,null,null,null,null,null,null,null,null,null,null,null,null,null,null,null,null,null,null,null,null,null,null,null,null,null,null,null,null,null,null,null,null,null,null,null,null,null,null,null,null,null,null,null,null,null,null,null,null,null,null,null,null,null,null,null,null,null,null,null,null,null,null,null,null,null,null,null,null,null,null,null,null,null,null,null,null,null,null,null,null,null,null,null,null,null,null,null,null,null,":D7505-0025"]
[null,"잡    품","주연료비의 %",20,"%",8291.2000000000007,1658.2,{"$f":"I444","v":8291.2000000000007},{"$f":"TRUNC(D445/100*H445,1)","v":1658.2},0,{"$f":"TRUNC(D445/100*J445,1)","v":0},0,{"$f":"TRUNC(D445/100*L445,1)","v":0},"",null,null,null,null,null,null,null,null,null,null,null,null,null,null,null,null,null,null,null,null,null,null,null,null,null,null,null,null,null,null,null,null,null,null,null,null,null,null,null,null,null,null,null,null,null,null,null,null,null,null,null,null,null,null,null,null,null,null,null,null,null,null,null,null,null,null,null,null,null,null,null,null,null,null,null,null,null,null,null,null,null,null,null,null,null,null,null,null,null,null,null,null,null,null,null,null,null,null,null,null,null,null,null,"M0000-101",""]
[null,"일반기계운전사","",1,"인",28571,28571,0,{"$f":"TRUNC(D446*H446,1)","v":0},{"$f":"TRUNC(노임단가!K9*16/12*1/8*25/20,0)","v":28571},{"$f":"TRUNC(D446*J446,1)","v":28571},0,{"$f":"TRUNC(D446*L446,1)","v":0},"",null,null,null,null,null,null,null,null,null,null,null,null,null,null,null,null,null,null,null,null,null,null,null,null,null,null,null,null,null,null,null,null,null,null,null,null,null,null,null,null,null,null,null,null,null,null,null,null,null,null,null,null,null,null,null,null,null,null,null,null,null,null,null,null,null,null,null,null,null,null,null,null,null,null,null,null,null,null,null,null,null,null,null,null,null,null,null,null,null,null,null,null,null,null,null,null,null,null,null,null,null,null,null,"%RAN*MM","1"]
[null,"기계손료","상각비:1125/정비비:1000/관리비:674",{"$f":"2799*10^-7*1000","v":0.27989999999999998},"",11903,3331.6,0,{"$f":"TRUNC(D447*H447,1)","v":0},0,{"$f":"TRUNC(D447*J447,1)","v":0},11903,{"$f":"TRUNC(D447*L447,1)","v":3331.6},"",null,null,null,null,null,null,null,null,null,null,null,null,null,null,null,null,null,null,null,null,null,null,null,null,null,null,null,null,null,null,null,null,null,null,null,null,null,null,null,null,null,null,null,null,null,null,null,null,null,null,null,null,null,null,null,null,null,null,null,null,null,null,null,null,null,null,null,null,null,null,null,null,null,null,null,null,null,null,null,null,null,null,null,null,null,null,null,null,null,null,null,null,null,null,null,null,null,null,null,null,null,null,null,"W1050",""]
[null,"             계             ",null,null,null,null,{"$f":"I448+K448+M448","v":41851},null,{"$f":"ROUNDDOWN(SUM(I444:I447),0)","v":9949},null,{"$f":"ROUNDDOWN(SUM(K444:K447),0)","v":28571},null,{"$f":"ROUNDDOWN(SUM(M444:M447),0)","v":3331},null,null,null,null,null,null,null,null,null,null,null,null,null,null,null,null,null,null,null,null,null,null,null,null,null,null,null,null,null,null,null,null,null,null,null,null,null,null,null,null,null,null,null,null,null,null,null,null,null,null,null,null,null,null,null,null,null,null,null,null,null,null,null,null,null,null,null,null,null,null,null,null,null,null,null,null,null,null,null,null,null,null,null,null,null,null,null,null,null,null,null,null,null,null,null,null,null,null,null,null,null,null,null,null,"%SON-LYO","2294"]
[]
[null," ：발전기 (25 ㎾)"]
[null,"경    유","경    유",4.3,"ℓ",{"$f":"H451+J451+L451","v":1303.69},5605.8,{"$f":"자재단가!R7","v":1303.69},{"$f":"TRUNC(D451*H451,1)","v":5605.8},0,{"$f":"TRUNC(D451*J451,1)","v":0},0,{"$f":"TRUNC(D451*L451,1)","v":0},"",null,null,null,null,null,null,null,null,null,null,null,null,null,null,null,null,null,null,null,null,null,null,null,null,null,null,null,null,null,null,null,null,null,null,null,null,null,null,null,null,null,null,null,null,null,null,null,null,null,null,null,null,null,null,null,null,null,null,null,null,null,null,null,null,null,null,null,null,null,null,null,null,null,null,null,null,null,null,null,null,null,null,null,null,null,null,null,null,null,null,null,null,null,null,null,null,null,null,null,null,null,null,null,":D7505-0050"]
[null,"잡    품","주연료비의 %",24,"%",5605.8,1345.3,{"$f":"I451","v":5605.8},{"$f":"TRUNC(D452/100*H452,1)","v":1345.3},0,{"$f":"TRUNC(D452/100*J452,1)","v":0},0,{"$f":"TRUNC(D452/100*L452,1)","v":0},"",null,null,null,null,null,null,null,null,null,null,null,null,null,null,null,null,null,null,null,null,null,null,null,null,null,null,null,null,null,null,null,null,null,null,null,null,null,null,null,null,null,null,null,null,null,null,null,null,null,null,null,null,null,null,null,null,null,null,null,null,null,null,null,null,null,null,null,null,null,null,null,null,null,null,null,null,null,null,null,null,null,null,null,null,null,null,null,null,null,null,null,null,null,null,null,null,null,null,null,null,null,null,null,"M0000-101",""]
[null,"일반기계운전사","",1,"인",28571,28571,0,{"$f":"TRUNC(D453*H453,1)","v":0},{"$f":"TRUNC(노임단가!K9*16/12*1/8*25/20,0)","v":28571},{"$f":"TRUNC(D453*J453,1)","v":28571},0,{"$f":"TRUNC(D453*L453,1)","v":0},"",null,null,null,null,null,null,null,null,null,null,null,null,null,null,null,null,null,null,null,null,null,null,null,null,null,null,null,null,null,null,null,null,null,null,null,null,null,null,null,null,null,null,null,null,null,null,null,null,null,null,null,null,null,null,null,null,null,null,null,null,null,null,null,null,null,null,null,null,null,null,null,null,null,null,null,null,null,null,null,null,null,null,null,null,null,null,null,null,null,null,null,null,null,null,null,null,null,null,null,null,null,null,null,"%RAN*MM","1"]
[null,"기계손료","상각비:1125/정비비:563/관리비:674",{"$f":"2362*10^-7*1000","v":0.23619999999999999},"",12892,3045,0,{"$f":"TRUNC(D454*H454,1)","v":0},0,{"$f":"TRUNC(D454*J454,1)","v":0},12892,{"$f":"TRUNC(D454*L454,1)","v":3045},"",null,null,null,null,null,null,null,null,null,null,null,null,null,null,null,null,null,null,null,null,null,null,null,null,null,null,null,null,null,null,null,null,null,null,null,null,null,null,null,null,null,null,null,null,null,null,null,null,null,null,null,null,null,null,null,null,null,null,null,null,null,null,null,null,null,null,null,null,null,null,null,null,null,null,null,null,null,null,null,null,null,null,null,null,null,null,null,null,null,null,null,null,null,null,null,null,null,null,null,null,null,null,null,"W1050",""]
[null,"             계             ",null,null,null,null,{"$f":"I455+K455+M455","v":38567},null,{"$f":"ROUNDDOWN(SUM(I451:I454),0)","v":6951},null,{"$f":"ROUNDDOWN(SUM(K451:K454),0)","v":28571},null,{"$f":"ROUNDDOWN(SUM(M451:M454),0)","v":3045},null,null,null,null,null,null,null,null,null,null,null,null,null,null,null,null,null,null,null,null,null,null,null,null,null,null,null,null,null,null,null,null,null,null,null,null,null,null,null,null,null,null,null,null,null,null,null,null,null,null,null,null,null,null,null,null,null,null,null,null,null,null,null,null,null,null,null,null,null,null,null,null,null,null,null,null,null,null,null,null,null,null,null,null,null,null,null,null,null,null,null,null,null,null,null,null,null,null,null,null,null,null,null,null,"%SON-LYO","2294"]
[]
[null," ：발전기 (50 ㎾)"]
[null,"경    유","경    유",8.6999999999999993,"ℓ",{"$f":"H458+J458+L458","v":1303.69},11342.1,{"$f":"자재단가!R7","v":1303.69},{"$f":"TRUNC(D458*H458,1)","v":11342.1},0,{"$f":"TRUNC(D458*J458,1)","v":0},0,{"$f":"TRUNC(D458*L458,1)","v":0},"",null,null,null,null,null,null,null,null,null,null,null,null,null,null,null,null,null,null,null,null,null,null,null,null,null,null,null,null,null,null,null,null,null,null,null,null,null,null,null,null,null,null,null,null,null,null,null,null,null,null,null,null,null,null,null,null,null,null,null,null,null,null,null,null,null,null,null,null,null,null,null,null,null,null,null,null,null,null,null,null,null,null,null,null,null,null,null,null,null,null,null,null,null,null,null,null,null,null,null,null,null,null,null,":D7505-0100"]
[null,"잡    품","주연료비의 %",24,"%",11342.1,2722.1,{"$f":"I458","v":11342.1},{"$f":"TRUNC(D459/100*H459,1)","v":2722.1},0,{"$f":"TRUNC(D459/100*J459,1)","v":0},0,{"$f":"TRUNC(D459/100*L459,1)","v":0},"",null,null,null,null,null,null,null,null,null,null,null,null,null,null,null,null,null,null,null,null,null,null,null,null,null,null,null,null,null,null,null,null,null,null,null,null,null,null,null,null,null,null,null,null,null,null,null,null,null,null,null,null,null,null,null,null,null,null,null,null,null,null,null,null,null,null,null,null,null,null,null,null,null,null,null,null,null,null,null,null,null,null,null,null,null,null,null,null,null,null,null,null,null,null,null,null,null,null,null,null,null,null,null,"M0000-101",""]
[null,"일반기계운전사","",1,"인",28571,28571,0,{"$f":"TRUNC(D460*H460,1)","v":0},{"$f":"TRUNC(노임단가!K9*16/12*1/8*25/20,0)","v":28571},{"$f":"TRUNC(D460*J460,1)","v":28571},0,{"$f":"TRUNC(D460*L460,1)","v":0},"",null,null,null,null,null,null,null,null,null,null,null,null,null,null,null,null,null,null,null,null,null,null,null,null,null,null,null,null,null,null,null,null,null,null,null,null,null,null,null,null,null,null,null,null,null,null,null,null,null,null,null,null,null,null,null,null,null,null,null,null,null,null,null,null,null,null,null,null,null,null,null,null,null,null,null,null,null,null,null,null,null,null,null,null,null,null,null,null,null,null,null,null,null,null,null,null,null,null,null,null,null,null,null,"%RAN*MM","1"]
[null,"기계손료","상각비:1125/정비비:563/관리비:674",{"$f":"2362*10^-7*1000","v":0.23619999999999999},"",17712,4183.5,0,{"$f":"TRUNC(D461*H461,1)","v":0},0,{"$f":"TRUNC(D461*J461,1)","v":0},17712,{"$f":"TRUNC(D461*L461,1)","v":4183.5},"",null,null,null,null,null,null,null,null,null,null,null,null,null,null,null,null,null,null,null,null,null,null,null,null,null,null,null,null,null,null,null,null,null,null,null,null,null,null,null,null,null,null,null,null,null,null,null,null,null,null,null,null,null,null,null,null,null,null,null,null,null,null,null,null,null,null,null,null,null,null,null,null,null,null,null,null,null,null,null,null,null,null,null,null,null,null,null,null,null,null,null,null,null,null,null,null,null,null,null,null,null,null,null,"W1050",""]
[null,"             계             ",null,null,null,null,{"$f":"I462+K462+M462","v":46818},null,{"$f":"ROUNDDOWN(SUM(I458:I461),0)","v":14064},null,{"$f":"ROUNDDOWN(SUM(K458:K461),0)","v":28571},null,{"$f":"ROUNDDOWN(SUM(M458:M461),0)","v":4183},null,null,null,null,null,null,null,null,null,null,null,null,null,null,null,null,null,null,null,null,null,null,null,null,null,null,null,null,null,null,null,null,null,null,null,null,null,null,null,null,null,null,null,null,null,null,null,null,null,null,null,null,null,null,null,null,null,null,null,null,null,null,null,null,null,null,null,null,null,null,null,null,null,null,null,null,null,null,null,null,null,null,null,null,null,null,null,null,null,null,null,null,null,null,null,null,null,null,null,null,null,null,null,null,"%SON-LYO","2294"]
[]
[null," ：발전기 (100 ㎾)"]
[null,"경    유","경    유",17.399999999999999,"ℓ",{"$f":"H465+J465+L465","v":1303.69},22684.2,{"$f":"자재단가!R7","v":1303.69},{"$f":"TRUNC(D465*H465,1)","v":22684.2},0,{"$f":"TRUNC(D465*J465,1)","v":0},0,{"$f":"TRUNC(D465*L465,1)","v":0},"",null,null,null,null,null,null,null,null,null,null,null,null,null,null,null,null,null,null,null,null,null,null,null,null,null,null,null,null,null,null,null,null,null,null,null,null,null,null,null,null,null,null,null,null,null,null,null,null,null,null,null,null,null,null,null,null,null,null,null,null,null,null,null,null,null,null,null,null,null,null,null,null,null,null,null,null,null,null,null,null,null,null,null,null,null,null,null,null,null,null,null,null,null,null,null,null,null,null,null,null,null,null,null,":D7611-0200"]
[null,"잡    품","주연료비의 %",24,"%",22684.2,5444.2,{"$f":"I465","v":22684.2},{"$f":"TRUNC(D466/100*H466,1)","v":5444.2},0,{"$f":"TRUNC(D466/100*J466,1)","v":0},0,{"$f":"TRUNC(D466/100*L466,1)","v":0},"",null,null,null,null,null,null,null,null,null,null,null,null,null,null,null,null,null,null,null,null,null,null,null,null,null,null,null,null,null,null,null,null,null,null,null,null,null,null,null,null,null,null,null,null,null,null,null,null,null,null,null,null,null,null,null,null,null,null,null,null,null,null,null,null,null,null,null,null,null,null,null,null,null,null,null,null,null,null,null,null,null,null,null,null,null,null,null,null,null,null,null,null,null,null,null,null,null,null,null,null,null,null,null,"%SON-LYO","2294"]
[null,"일반기계운전사","",1,"인",28571,28571,0,{"$f":"TRUNC(D467*H467,1)","v":0},{"$f":"TRUNC(노임단가!K9*16/12*1/8*25/20,0)","v":28571},{"$f":"TRUNC(D467*J467,1)","v":28571},0,{"$f":"TRUNC(D467*L467,1)","v":0},""]
[null,"기계손료","상각비:1125/정비비:563/관리비:674",{"$f":"2362*10^-7*1000","v":0.23619999999999999},"",21519,5082.7,0,{"$f":"TRUNC(D468*H468,1)","v":0},0,{"$f":"TRUNC(D468*J468,1)","v":0},21519,{"$f":"TRUNC(D468*L468,1)","v":5082.7},""]
[null,"             계             ",null,null,null,null,{"$f":"I469+K469+M469","v":61781},null,{"$f":"ROUNDDOWN(SUM(I465:I468),0)","v":28128},null,{"$f":"ROUNDDOWN(SUM(K465:K468),0)","v":28571},null,{"$f":"ROUNDDOWN(SUM(M465:M468),0)","v":5082},null,null,null,null,null,null,null,null,null,null,null,null,null,null,null,null,null,null,null,null,null,null,null,null,null,null,null,null,null,null,null,null,null,null,null,null,null,null,null,null,null,null,null,null,null,null,null,null,null,null,null,null,null,null,null,null,null,null,null,null,null,null,null,null,null,null,null,null,null,null,null,null,null,null,null,null,null,null,null,null,null,null,null,null,null,null,null,null,null,null,null,null,null,null,null,null,null,null,null,null,null,null,null,null,":D000-0110"]
[null,null,null,null,null,null,null,null,null,null,null,null,null,null,null,null,null,null,null,null,null,null,null,null,null,null,null,null,null,null,null,null,null,null,null,null,null,null,null,null,null,null,null,null,null,null,null,null,null,null,null,null,null,null,null,null,null,null,null,null,null,null,null,null,null,null,null,null,null,null,null,null,null,null,null,null,null,null,null,null,null,null,null,null,null,null,null,null,null,null,null,null,null,null,null,null,null,null,null,null,null,null,null,null,null,null,null,null,null,null,null,null,null,null,null,null,null,"%SON-LYO","5745"]
[null," ：용접기(교류) [200 Amp]",null,null,null,null,null,null,null,null,null,null,null,null,null,null,null,null,null,null,null,null,null,null,null,null,null,null,null,null,null,null,null,null,null,null,null,null,null,null,null,null,null,null,null,null,null,null,null,null,null,null,null,null,null,null,null,null,null,null,null,null,null,null,null,null,null,null,null,null,null,null,null,null,null,null,null,null,null,null,null,null,null,null,null,null,null,null,null,null,null,null,null,null,null,null,null,null,null,null,null,null,null,null,null,null,null,null,null,null,null,null,null,null,null,null,null,"W1048",""]
[null,"기계손료","상각비:1125/정비비:563/관리비:674",{"$f":"2362*10^-7*1000","v":0.23619999999999999},"",{"$f":"H472+J472+L472","v":348},{"$f":"I472+K472+M472","v":82.1},0,{"$f":"TRUNC(D472*H472,1)","v":0},0,{"$f":"TRUNC(D472*J472,1)","v":0},348,{"$f":"TRUNC(D472*L472,1)","v":82.1},"",null,null,null,null,null,null,null,null,null,null,null,null,null,null,null,null,null,null,null,null,null,null,null,null,null,null,null,null,null,null,null,null,null,null,null,null,null,null,null,null,null,null,null,null,null,null,null,null,null,null,null,null,null,null,null,null,null,null,null,null,null,null,null,null,null,null,null,null,null,null,null,null,null,null,null,null,null,null,null,null,null,null,null,null,null,null,null,null,null,null,null,null,null,null,null,null,null,null,null,null,null,null,null,"M0000-100",""]
[null,"             계             ",null,null,null,null,{"$f":"I473+K473+M473","v":82},null,{"$f":"ROUNDDOWN(SUM(I472:I472),0)","v":0},null,{"$f":"ROUNDDOWN(SUM(K472:K472),0)","v":0},null,{"$f":"ROUNDDOWN(SUM(M472:M472),0)","v":82},null,null,null,null,null,null,null,null,null,null,null,null,null,null,null,null,null,null,null,null,null,null,null,null,null,null,null,null,null,null,null,null,null,null,null,null,null,null,null,null,null,null,null,null,null,null,null,null,null,null,null,null,null,null,null,null,null,null,null,null,null,null,null,null,null,null,null,null,null,null,null,null,null,null,null,null,null,null,null,null,null,null,null,null,null,null,null,null,null,null,null,null,null,null,null,null,null,null,null,null,null,null,null,null,"%RAN*MM",""]
[]
[null," ：건식 그루버 (50HP)"]
[null,"기계손료","",{"$f":"5745*10^-7*1000","v":0.5744999999999999},"",{"$f":"H476+J476+L476","v":132000},75834,0,{"$f":"TRUNC(D476*H476,1)","v":0},0,{"$f":"TRUNC(D476*J476,1)","v":0},132000,{"$f":"TRUNC(D476*L476,1)","v":75834},"",null,null,null,null,null,null,null,null,null,null,null,null,null,null,null,null,null,null,null,null,null,null,null,null,null,null,null,null,null,null,null,null,null,null,null,null,null,null,null,null,null,null,null,null,null,null,null,null,null,null,null,null,null,null,null,null,null,null,null,null,null,null,null,null,null,null,null,null,null,null,null,null,null,null,null,null,null,null,null,null,null,null,null,null,null,null,null,null,null,null,null,null,null,null,null,null,null,null,null,null,null,null,null,":D7360-0055"]
[null,"건설기계운전사","",0,"인",44299,0,0,{"$f":"TRUNC(D477*H477,1)","v":0},{"$f":"TRUNC(노임단가!K6*16/12*1/8*25/20,0)","v":44299},{"$f":"TRUNC(D477*J477,1)","v":0},0,{"$f":"TRUNC(D477*L477,1)","v":0},"",null,null,null,null,null,null,null,null,null,null,null,null,null,null,null,null,null,null,null,null,null,null,null,null,null,null,null,null,null,null,null,null,null,null,null,null,null,null,null,null,null,null,null,null,null,null,null,null,null,null,null,null,null,null,null,null,null,null,null,null,null,null,null,null,null,null,null,null,null,null,null,null,null,null,null,null,null,null,null,null,null,null,null,null,null,null,null,null,null,null,null,null,null,null,null,null,null,null,null,null,null,null,null,"M0000-100",""]
[null,"주 연 료","휘 발 유",16.7,"ℓ",1499.33,25038.799999999999,{"$f":"자재단가!R6","v":1499.33},{"$f":"TRUNC(D478*H478,1)","v":25038.799999999999},0,{"$f":"TRUNC(D478*J478,1)","v":0},0,{"$f":"TRUNC(D478*L478,1)","v":0},"",null,null,null,null,null,null,null,null,null,null,null,null,null,null,null,null,null,null,null,null,null,null,null,null,null,null,null,null,null,null,null,null,null,null,null,null,null,null,null,null,null,null,null,null,null,null,null,null,null,null,null,null,null,null,null,null,null,null,null,null,null,null,null,null,null,null,null,null,null,null,null,null,null,null,null,null,null,null,null,null,null,null,null,null,null,null,null,null,null,null,null,null,null,null,null,null,null,null,null,null,null,null,null,"%RAN*MM",""]
[null,"잡    품","주연료비의 %",20,"%",25038.799999999999,5007.7,{"$f":"SUM(I476:I478)","v":25038.799999999999},{"$f":"TRUNC(D479/100*H479,1)","v":5007.7},0,{"$f":"TRUNC(D479/100*J479,1)","v":0},0,{"$f":"TRUNC(D479/100*L479,1)","v":0},"",null,null,null,null,null,null,null,null,null,null,null,null,null,null,null,null,null,null,null,null,null,null,null,null,null,null,null,null,null,null,null,null,null,null,null,null,null,null,null,null,null,null,null,null,null,null,null,null,null,null,null,null,null,null,null,null,null,null,null,null,null,null,null,null,null,null,null,null,null,null,null,null,null,null,null,null,null,null,null,null,null,null,null,null,null,null,null,null,null,null,null,null,null,null,null,null,null,null,null,null,null,null,null,"W1050",""]
[null,"             계             ",null,null,null,null,{"$f":"I480+K480+M480","v":105880},null,{"$f":"ROUNDDOWN(SUM(I476:I479),0)","v":30046},null,{"$f":"ROUNDDOWN(SUM(K476:K479),0)","v":0},null,{"$f":"ROUNDDOWN(SUM(M476:M479),0)","v":75834},null,null,null,null,null,null,null,null,null,null,null,null,null,null,null,null,null,null,null,null,null,null,null,null,null,null,null,null,null,null,null,null,null,null,null,null,null,null,null,null,null,null,null,null,null,null,null,null,null,null,null,null,null,null,null,null,null,null,null,null,null,null,null,null,null,null,null,null,null,null,null,null,null,null,null,null,null,null,null,null,null,null,null,null,null,null,null,null,null,null,null,null,null,null,null,null,null,null,null,null,null,null,null,null,"%SON-LYO","2731"]
[]
[null," ：캇타기 습식 (5HP)"]
[null,"휘 발 유","휘 발 유",5.6,"ℓ",{"$f":"H483+J483+L483","v":1499.33},{"$f":"I483+K483+M483","v":8396.2000000000007},{"$f":"자재단가!R6","v":1499.33},{"$f":"TRUNC(D483*H483,1)","v":8396.2000000000007},0,{"$f":"TRUNC(D483*J483,1)","v":0},0,{"$f":"TRUNC(D483*L483,1)","v":0},"",null,null,null,null,null,null,null,null,null,null,null,null,null,null,null,null,null,null,null,null,null,null,null,null,null,null,null,null,null,null,null,null,null,null,null,null,null,null,null,null,null,null,null,null,null,null,null,null,null,null,null,null,null,null,null,null,null,null,null,null,null,null,null,null,null,null,null,null,null,null,null,null,null,null,null,null,null,null,null,null,null,null,null,null,null,null,null,null,null,null,null,null,null,null,null,null,null,null,null,null,null,null,null,":D7360-0055"]
[null,"잡    품","주연료비의 %",20,"%",8396.2000000000007,1679.2,{"$f":"I483","v":8396.2000000000007},{"$f":"TRUNC(D484/100*H484,1)","v":1679.2},0,{"$f":"TRUNC(D484/100*J484,1)","v":0},0,{"$f":"TRUNC(D484/100*L484,1)","v":0},"",null,null,null,null,null,null,null,null,null,null,null,null,null,null,null,null,null,null,null,null,null,null,null,null,null,null,null,null,null,null,null,null,null,null,null,null,null,null,null,null,null,null,null,null,null,null,null,null,null,null,null,null,null,null,null,null,null,null,null,null,null,null,null,null,null,null,null,null,null,null,null,null,null,null,null,null,null,null,null,null,null,null,null,null,null,null,null,null,null,null,null,null,null,null,null,null,null,null,null,null,null,null,null,"%SON-LYO","2731"]
[null,"일반기계운전사","",1,"인",28571,28571,0,{"$f":"TRUNC(D485*H485,1)","v":0},{"$f":"TRUNC(노임단가!K9*16/12*1/8*25/20,0)","v":28571},{"$f":"TRUNC(D485*J485,1)","v":28571},0,{"$f":"TRUNC(D485*L485,1)","v":0},""]
[null,"기계손료","상각비:1125/정비비:1000/관리비:606",{"$f":"627*10^-7*1000","v":6.2699999999999992E-2},"",12000,752.4,0,{"$f":"TRUNC(D486*H486,1)","v":0},0,{"$f":"TRUNC(D486*J486,1)","v":0},12000,{"$f":"TRUNC(D486*L486,1)","v":752.4},""]
[null,"             계             ",null,null,null,null,{"$f":"I487+K487+M487","v":39398},null,{"$f":"ROUNDDOWN(SUM(I483:I486),0)","v":10075},null,{"$f":"ROUNDDOWN(SUM(K483:K486),0)","v":28571},null,{"$f":"ROUNDDOWN(SUM(M483:M486),0)","v":752},null,null,null,null,null,null,null,null,null,null,null,null,null,null,null,null,null,null,null,null,null,null,null,null,null,null,null,null,null,null,null,null,null,null,null,null,null,null,null,null,null,null,null,null,null,null,null,null,null,null,null,null,null,null,null,null,null,null,null,null,null,null,null,null,null,null,null,null,null,null,null,null,null,null,null,null,null,null,null,null,null,null,null,null,null,null,null,null,null,null,null,null,null,null,null,null,null,null,null,null,null,null,null,null,":D7360-0055"]
[null,null,null,null,null,null,null,null,null,null,null,null,null,null,null,null,null,null,null,null,null,null,null,null,null,null,null,null,null,null,null,null,null,null,null,null,null,null,null,null,null,null,null,null,null,null,null,null,null,null,null,null,null,null,null,null,null,null,null,null,null,null,null,null,null,null,null,null,null,null,null,null,null,null,null,null,null,null,null,null,null,null,null,null,null,null,null,null,null,null,null,null,null,null,null,null,null,null,null,null,null,null,null,null,null,null,null,null,null,null,null,null,null,null,null,null,null,"M0000-100",""]
[null," ：절단기 (40.64cm)",null,null,null,null,null,null,null,null,null,null,null,null,null,null,null,null,null,null,null,null,null,null,null,null,null,null,null,null,null,null,null,null,null,null,null,null,null,null,null,null,null,null,null,null,null,null,null,null,null,null,null,null,null,null,null,null,null,null,null,null,null,null,null,null,null,null,null,null,null,null,null,null,null,null,null,null,null,null,null,null,null,null,null,null,null,null,null,null,null,null,null,null,null,null,null,null,null,null,null,null,null,null,null,null,null,null,null,null,null,null,null,null,null,null,null,"%RAN*MM",""]
[null,"기계손료","상각비:4000/정비비:1111/관리비:1021",0.61319999999999997,"",{"$f":"H490+J490+L490","v":1350},{"$f":"I490+K490+M490","v":827.8},0,{"$f":"TRUNC(D490*H490,1)","v":0},0,{"$f":"TRUNC(D490*J490,1)","v":0},1350,{"$f":"TRUNC(D490*L490,1)","v":827.8},"",null,null,null,null,null,null,null,null,null,null,null,null,null,null,null,null,null,null,null,null,null,null,null,null,null,null,null,null,null,null,null,null,null,null,null,null,null,null,null,null,null,null,null,null,null,null,null,null,null,null,null,null,null,null,null,null,null,null,null,null,null,null,null,null,null,null,null,null,null,null,null,null,null,null,null,null,null,null,null,null,null,null,null,null,null,null,null,null,null,null,null,null,null,null,null,null,null,null,null,null,null,null,null,"%SON-LYO","2731"]
[null,"             계             ",null,null,null,null,{"$f":"I491+K491+M491","v":827},null,{"$f":"ROUNDDOWN(SUM(I490:I490),0)","v":0},null,{"$f":"ROUNDDOWN(SUM(K490:K490),0)","v":0},null,{"$f":"ROUNDDOWN(SUM(M490:M490),0)","v":827}]
[]
[null," ：동력분무기 (4.85kw)"]
[null,"휘 발 유","휘 발 유",7.5,"ℓ",{"$f":"H494+J494+L494","v":1499.33},{"$f":"I494+K494+M494","v":11244.9},{"$f":"자재단가!R6","v":1499.33},{"$f":"TRUNC(D494*H494,1)","v":11244.9},0,{"$f":"TRUNC(D494*J494,1)","v":0},0,{"$f":"TRUNC(D494*L494,1)","v":0},""]
[null,"잡    품","주연료비의 %",20,"%",11244.9,2248.9,{"$f":"I494","v":11244.9},{"$f":"TRUNC(D495/100*H495,1)","v":2248.9},0,{"$f":"TRUNC(D495/100*J495,1)","v":0},0,{"$f":"TRUNC(D495/100*L495,1)","v":0},""]
[null,"기계손료","상각비:1125/정비비:1000/관리비:674",{"$f":"2799*10^-7*1000","v":0.27989999999999998},"",823,230.3,0,{"$f":"TRUNC(D496*H496,1)","v":0},0,{"$f":"TRUNC(D496*J496,1)","v":0},823,{"$f":"TRUNC(D496*L496,1)","v":230.3},""]
[null,"             계             ",null,null,null,null,{"$f":"I497+K497+M497","v":13723},null,{"$f":"ROUNDDOWN(SUM(I494:I496),0)","v":13493},null,{"$f":"ROUNDDOWN(SUM(K494:K496),0)","v":0},null,{"$f":"ROUNDDOWN(SUM(M494:M496),0)","v":230}]
[]
[null," ：소형노면파쇄기 (0.95 ㎥) "]
[null,"기계손료","상각비:2000/정비비:1111/관리비:921",{"$f":"4032*10^-7*1000","v":0.4032},"",{"$f":"H500+J500+L500","v":25044},{"$f":"I500+K500+M500","v":10097.700000000001},0,{"$f":"TRUNC(D500*H500,1)","v":0},0,{"$f":"TRUNC(D500*J500,1)","v":0},25044,{"$f":"TRUNC(D500*L500,1)","v":10097.700000000001},"",null,null,null,null,null,null,null,null,null,null,null,null,null,null,null,null,null,null,null,null,null,null,null,null,null,null,null,null,null,null,null,null,null,null,null,null,null,null,null,null,null,null,null,null,null,null,null,null,null,null,null,null,null,null,null,null,null,null,null,null,null,null,null,null,null,null,null,null,null,null,null,null,null,null,null,null,null,null,null,null,null,null,null,null,null,null,null,null,null,null,null,null,null,null,null,null,null,null,null,null,null,null,null,"W1048",""]
[null,"             계             ",null,null,null,null,{"$f":"I501+K501+M501","v":10097},null,{"$f":"ROUNDDOWN(SUM(I500:I500),0)","v":0},null,{"$f":"ROUNDDOWN(SUM(K500:K500),0)","v":0},null,{"$f":"ROUNDDOWN(SUM(M500:M500),0)","v":10097},null,null,null,null,null,null,null,null,null,null,null,null,null,null,null,null,null,null,null,null,null,null,null,null,null,null,null,null,null,null,null,null,null,null,null,null,null,null,null,null,null,null,null,null,null,null,null,null,null,null,null,null,null,null,null,null,null,null,null,null,null,null,null,null,null,null,null,null,null,null,null,null,null,null,null,null,null,null,null,null,null,null,null,null,null,null,null,null,null,null,null,null,null,null,null,null,null,null,null,null,null,null,null,null,"%SON-LYO","3944"]

{"sheet":"건설기계 적용기준","index":9,"n_rows":25,"n_cols":119,"rows_kept":25,"cut":false,"hidden":false,"merged":[]}
[null,null,null,null,null,null,null,null,null,null,null,null,null,null,null,null,null,null,null,null,null,null,null,null,null,null,null,null,null,null,null,null,null,null,null,null,null,null,null,null,null,null,null,null,null,null,null,null,null,null,null,null,null,null,null,null,null,null,null,null,null,null,null,null,null,null,null,null,null,null,null,null,null,null,null,null,null,null,null,null,null,null,null,null,null,null,null,null,null,null,null,null,null,null,null,null,null,null,null,null,null,null,null,null,null,null,null,null,null,null,null,null,null,null,null,null,null,null,5]
[null,null,null,null,null,null,null,null,null,null,null,null,null,null,null,null,null,null,null,null,null,null,null,null,null,null,null,null,null,null,null,null,null,null,null,null,null,null,null,null,null,null,null,null,null,null,null,null,null,null,null,null,null,null,null,null,null,null,null,null,null,null,null,null,null,null,null,null,null,null,null,null,null,null,null,null,null,null,null,null,null,null,null,null,null,null,null,null,null,null,null,null,null,null,null,null,null,null,null,null,null,null,null,null,null,null,null,null,null,null,null,null,null,null,null,null,null,null,"B"]
[null,null,null,null,null,null,null,null,null,null,null,null,null,null,null,null,null,null,null,null,null,null,null,null,null,null,null,null,null,null,null,null,null,null,null,null,null,null,null,null,null,null,null,null,null,null,null,null,null,null,null,null,null,null,null,null,null,null,null,null,null,null,null,null,null,null,null,null,null,null,null,null,null,null,null,null,null,null,null,null,null,null,null,null,null,null,null,null,null,null,null,null,null,null,null,null,null,null,null,null,null,null,null,null,null,null,null,null,null,null,null,null,null,null,null,null,null,null,22]
[null,null,null,null,null,null,null,null,null,null,null,null,null,null,null,null,null,null,null,null,null,null,null,null,null,null,null,null,null,null,null,null,null,null,null,null,null,null,null,null,null,null,null,null,null,null,null,null,null,null,null,null,null,null,null,null,null,null,null,null,null,null,null,null,null,null,null,null,null,null,null,null,null,null,null,null,null,null,null,null,null,null,null,null,null,null,null,null,null,null,null,null,null,null,null,null,null,null,null,null,null,null,null,null,null,null,null,null,null,null,null,null,null,null,null,null,null,null,"I"]
[null,null,"",null,null,null,null,null,null,null,null,null,null,null,null,null,null,null,null,null,null,null,null,null,null,null,null,null,null,null,null,null,null,null,null,null,null,null,null,null,null,null,null,null,null,null,null,null,null,null,null,null,null,null,null,null,null,null,null,null,null,null,null,null,null,null,null,null,null,null,null,null,null,null,null,null,null,null,null,null,null,null,null,null,null,null,null,null,null,null,null,null,null,null,null,null,null,null,null,null,null,null,null,null,null,null,null,null,null,null,null,null,null,null,null,null,"S_1EXCHANGE","M0000-001"]
[null,null,"◈ ◈ 적    용    기    준 ◈ ◈",null,null,null,null,null,null,null,null,null,null,null,null,null,null,null,null,null,null,null,null,null,null,null,null,null,null,null,null,null,null,null,null,null,null,null,null,null,null,null,null,null,null,null,null,null,null,null,null,null,null,null,null,null,null,null,null,null,null,null,null,null,null,null,null,null,null,null,null,null,null,null,null,null,null,null,null,null,null,null,null,null,null,null,null,null,null,null,null,null,null,null,null,null,null,null,null,null,null,null,null,null,null,null,null,null,null,null,null,null,null,null,null,null,"S_VOLATILE","M0000-100"]
[null,null,"",null,null,null,null,null,null,null,null,null,null,null,null,null,null,null,null,null,null,null,null,null,null,null,null,null,null,null,null,null,null,null,null,null,null,null,null,null,null,null,null,null,null,null,null,null,null,null,null,null,null,null,null,null,null,null,null,null,null,null,null,null,null,null,null,null,null,null,null,null,null,null,null,null,null,null,null,null,null,null,null,null,null,null,null,null,null,null,null,null,null,null,null,null,null,null,null,null,null,null,null,null,null,null,null,null,null,null,null,null,null,null,null,null,"S_LIGHTOIL","M0000-101"]
[null,null,"▣ 환    율",null,null,null,null,null,null,null,null,null,null,null,null,null,null,null,null,null,null,null,null,null,null,null,null,null,null,null,null,null,null,null,null,null,null,null,null,null,null,null,null,null,null,null,null,null,null,null,null,null,null,null,null,null,null,null,null,null,null,null,null,null,null,null,null,null,null,null,null,null,null,null,null,null,null,null,null,null,null,null,null,null,null,null,null,null,null,null,null,null,null,null,null,null,null,null,null,null,null,null,null,null,null,null,null,null,null,null,null,null,null,null,null,null,"S_HEAVYOIL","M9372007"]
[null,null,"  1 달러($)     : 1,083.10원",null,"(2021.1.5. 기준)",null,null,null,null,null,null,null,null,null,null,null,null,null,null,null,null,null,null,null,null,null,null,null,null,null,null,null,null,null,null,null,null,null,null,null,null,null,null,null,null,null,null,null,null,null,null,null,null,null,null,null,null,null,null,null,null,null,null,null,null,null,null,null,null,null,null,null,null,null,null,null,null,null,null,null,null,null,null,null,null,null,null,null,null,null,null,null,null,null,null,null,null,null,null,null,null,null,null,null,null,null,null,null,null,null,null,null,null,null,null,null,"S_DRIVER","W1048"]
[null,null,"",null,null,null,null,null,null,null,null,null,null,null,null,null,null,null,null,null,null,null,null,null,null,null,null,null,null,null,null,null,null,null,null,null,null,null,null,null,null,null,null,null,null,null,null,null,null,null,null,null,null,null,null,null,null,null,null,null,null,null,null,null,null,null,null,null,null,null,null,null,null,null,null,null,null,null,null,null,null,null,null,null,null,null,null,null,null,null,null,null,null,null,null,null,null,null,null,null,null,null,null,null,null,null,null,null,null,null,null,null,null,null,null,null,"S_1DRIVER","W1049"]
[null,null,"▣ 유 류 대",null,null,null,null,null,null,null,null,null,null,null,null,null,null,null,null,null,null,null,null,null,null,null,null,null,null,null,null,null,null,null,null,null,null,null,null,null,null,null,null,null,null,null,null,null,null,null,null,null,null,null,null,null,null,null,null,null,null,null,null,null,null,null,null,null,null,null,null,null,null,null,null,null,null,null,null,null,null,null,null,null,null,null,null,null,null,null,null,null,null,null,null,null,null,null,null,null,null,null,null,null,null,null,null,null,null,null,null,null,null,null,null,null,"S_2DRIVER","W1050"]
[null,null,"  휘 발 유 : 1,499.33 원",null,"(2021.1.1. 기준)",null,null,null,null,null,null,null,null,null,null,null,null,null,null,null,null,null,null,null,null,null,null,null,null,null,null,null,null,null,null,null,null,null,null,null,null,null,null,null,null,null,null,null,null,null,null,null,null,null,null,null,null,null,null,null,null,null,null,null,null,null,null,null,null,null,null,null,null,null,null,null,null,null,null,null,null,null,null,null,null,null,null,null,null,null,null,null,null,null,null,null,null,null,null,null,null,null,null,null,null,null,null,null,null,null,null,null,null,null,null,null,"S_FOREMAN","W1047"]
[null,null,"  경    유 : 1,303.69 원",null,"(2021.1.1. 기준)",null,null,null,null,null,null,null,null,null,null,null,null,null,null,null,null,null,null,null,null,null,null,null,null,null,null,null,null,null,null,null,null,null,null,null,null,null,null,null,null,null,null,null,null,null,null,null,null,null,null,null,null,null,null,null,null,null,null,null,null,null,null,null,null,null,null,null,null,null,null,null,null,null,null,null,null,null,null,null,null,null,null,null,null,null,null,null,null,null,null,null,null,null,null,null,null,null,null,null,null,null,null,null,null,null,null,null,null,null,null,null,"S_LABCGYESU","16/12 * 1/8 * 25/20"]
[null,null,"",null,null,null,null,null,null,null,null,null,null,null,null,null,null,null,null,null,null,null,null,null,null,null,null,null,null,null,null,null,null,null,null,null,null,null,null,null,null,null,null,null,null,null,null,null,null,null,null,null,null,null,null,null,null,null,null,null,null,null,null,null,null,null,null,null,null,null,null,null,null,null,null,null,null,null,null,null,null,null,null,null,null,null,null,null,null,null,null,null,null,null,null,null,null,null,null,null,null,null,null,null,null,null,null,null,null,null,null,null,null,null,null,null,"S_2LABCGYESU","16/12 * 1/8 * 25/20"]
[null,null,"▣ 노 무 비",null,null,null,null,null,null,null,null,null,null,null,null,null,null,null,null,null,null,null,null,null,null,null,null,null,null,null,null,null,null,null,null,null,null,null,null,null,null,null,null,null,null,null,null,null,null,null,null,null,null,null,null,null,null,null,null,null,null,null,null,null,null,null,null,null,null,null,null,null,null,null,null,null,null,null,null,null,null,null,null,null,null,null,null,null,null,null,null,null,null,null,null,null,null,null,null,null,null,null,null,null,null,null,null,null,null,null,null,null,null,null,null,null,"S_3LABCGYESU","16/12 * 1/8 * 25/20"]
[null,null,"  ⊙ 노임산출계수(보통)",null,null,null,null,null,null,null,null,null,null,null,null,null,null,null,null,null,null,null,null,null,null,null,null,null,null,null,null,null,null,null,null,null,null,null,null,null,null,null,null,null,null,null,null,null,null,null,null,null,null,null,null,null,null,null,null,null,null,null,null,null,null,null,null,null,null,null,null,null,null,null,null,null,null,null,null,null,null,null,null,null,null,null,null,null,null,null,null,null,null,null,null,null,null,null,null,null,null,null,null,null,null,null,null,null,null,null,null,null,null,null,null,null,"S_GYESUDEC","0"]
[null,null,"  건설기계운전사 : 212,637.00 x 16/12 x 1/8 x 25/20 = 44,299원",null,null,null,null,null,null,null,null,null,null,null,null,null,null,null,null,null,null,null,null,null,null,null,null,null,null,null,null,null,null,null,null,null,null,null,null,null,null,null,null,null,null,null,null,null,null,null,null,null,null,null,null,null,null,null,null,null,null,null,null,null,null,null,null,null,null,null,null,null,null,null,null,null,null,null,null,null,null,null,null,null,null,null,null,null,null,null,null,null,null,null,null,null,null,null,null,null,null,null,null,null,null,null,null,null,null,null,null,null,null,null,null,null,"S_LABJARISU","0"]
[null,null,"  화물차  운전사 : 173,879.00 x 16/12 x 1/8 x 25/20 = 36,224원",null,null,null,null,null,null,null,null,null,null,null,null,null,null,null,null,null,null,null,null,null,null,null,null,null,null,null,null,null,null,null,null,null,null,null,null,null,null,null,null,null,null,null,null,null,null,null,null,null,null,null,null,null,null,null,null,null,null,null,null,null,null,null,null,null,null,null,null,null,null,null,null,null,null,null,null,null,null,null,null,null,null,null,null,null,null,null,null,null,null,null,null,null,null,null,null,null,null,null,null,null,null,null,null,null,null,null,null,null,null,null,null,null,"S_K_SONLYO","10^-7*1000"]
[null,null,"  일반기계운전사 : 137,143.00 x 16/12 x 1/8 x 25/20 = 28,571원",null,null,null,null,null,null,null,null,null,null,null,null,null,null,null,null,null,null,null,null,null,null,null,null,null,null,null,null,null,null,null,null,null,null,null,null,null,null,null,null,null,null,null,null,null,null,null,null,null,null,null,null,null,null,null,null,null,null,null,null,null,null,null,null,null,null,null,null,null,null,null,null,null,null,null,null,null,null,null,null,null,null,null,null,null,null,null,null,null,null,null,null,null,null,null,null,null,null,null,null,null,null,null,null,null,null,null,null,null,null,null,null,null,"S_JB_METHOD","2"]
[null,null,"",null,null,null,null,null,null,null,null,null,null,null,null,null,null,null,null,null,null,null,null,null,null,null,null,null,null,null,null,null,null,null,null,null,null,null,null,null,null,null,null,null,null,null,null,null,null,null,null,null,null,null,null,null,null,null,null,null,null,null,null,null,null,null,null,null,null,null,null,null,null,null,null,null,null,null,null,null,null,null,null,null,null,null,null,null,null,null,null,null,null,null,null,null,null,null,null,null,null,null,null,null,null,null,null,null,null,null,null,null,null,null,null,null,"S_JB_AMTDEC","1"]
[null,null,null,null,null,null,null,null,null,null,null,null,null,null,null,null,null,null,null,null,null,null,null,null,null,null,null,null,null,null,null,null,null,null,null,null,null,null,null,null,null,null,null,null,null,null,null,null,null,null,null,null,null,null,null,null,null,null,null,null,null,null,null,null,null,null,null,null,null,null,null,null,null,null,null,null,null,null,null,null,null,null,null,null,null,null,null,null,null,null,null,null,null,null,null,null,null,null,null,null,null,null,null,null,null,null,null,null,null,null,null,null,null,null,null,null,"S_JB_RES_RMK","0"]
[null,null,null,null,null,null,null,null,null,null,null,null,null,null,null,null,null,null,null,null,null,null,null,null,null,null,null,null,null,null,null,null,null,null,null,null,null,null,null,null,null,null,null,null,null,null,null,null,null,null,null,null,null,null,null,null,null,null,null,null,null,null,null,null,null,null,null,null,null,null,null,null,null,null,null,null,null,null,null,null,null,null,null,null,null,null,null,null,null,null,null,null,null,null,null,null,null,null,null,null,null,null,null,null,null,null,null,null,null,null,null,null,null,null,null,null,"S_JB_JBK_RMK","1"]
[null,null,null,null,null,null,null,null,null,null,null,null,null,null,null,null,null,null,null,null,null,null,null,null,null,null,null,null,null,null,null,null,null,null,null,null,null,null,null,null,null,null,null,null,null,null,null,null,null,null,null,null,null,null,null,null,null,null,null,null,null,null,null,null,null,null,null,null,null,null,null,null,null,null,null,null,null,null,null,null,null,null,null,null,null,null,null,null,null,null,null,null,null,null,null,null,null,null,null,null,null,null,null,null,null,null,null,null,null,null,null,null,null,null,null,null,"S_JB_HP_FIRST","기손"]
[null,null,null,null,null,null,null,null,null,null,null,null,null,null,null,null,null,null,null,null,null,null,null,null,null,null,null,null,null,null,null,null,null,null,null,null,null,null,null,null,null,null,null,null,null,null,null,null,null,null,null,null,null,null,null,null,null,null,null,null,null,null,null,null,null,null,null,null,null,null,null,null,null,null,null,null,null,null,null,null,null,null,null,null,null,null,null,null,null,null,null,null,null,null,null,null,null,null,null,null,null,null,null,null,null,null,null,null,null,null,null,null,null,null,null,null,"S_JB_HP_LAST","호표"]
[null,null,null,null,null,null,null,null,null,null,null,null,null,null,null,null,null,null,null,null,null,null,null,null,null,null,null,null,null,null,null,null,null,null,null,null,null,null,null,null,null,null,null,null,null,null,null,null,null,null,null,null,null,null,null,null,null,null,null,null,null,null,null,null,null,null,null,null,null,null,null,null,null,null,null,null,null,null,null,null,null,null,null,null,null,null,null,null,null,null,null,null,null,null,null,null,null,null,null,null,null,null,null,null,null,null,null,null,null,null,null,null,null,null,null,null,"S_JB_LNK_MODE","2"]

{"sheet":"견적및기타","index":10,"n_rows":23,"n_cols":119,"rows_kept":23,"cut":false,"hidden":false,"merged":[[15,13,19,13],[2,12,3,12],[2,13,3,13],[0,0,0,13],[2,0,3,0],[2,1,3,1],[2,2,3,2],[2,3,3,3],[2,4,3,4],[2,5,3,5],[2,6,3,6],[2,7,3,7],[2,8,3,8],[2,9,3,9],[2,10,3,10],[2,11,3,11]]}
["견 적  및  기 타 단 가",null,null,null,null,null,null,null,null,null,null,null,null,null,null,null,null,null,null,null,null,null,null,null,null,null,null,null,null,null,null,null,null,null,null,null,null,null,null,null,null,null,null,null,null,null,null,null,null,null,null,null,null,null,null,null,null,null,null,null,null,null,null,null,null,null,null,null,null,null,null,null,null,null,null,null,null,null,null,null,null,null,null,null,null,null,null,null,null,null,null,null,null,null,null,null,null,null,null,null,null,null,null,null,null,null,null,null,null,null,null,null,null,null,null,null,null,null,5]
[null,null,null,null,null,null,null,null,null,null,null,null,null,null,null,null,null,null,null,null,null,null,null,null,null,null,null,null,null,null,null,null,null,null,null,null,null,null,null,null,null,null,null,null,null,null,null,null,null,null,null,null,null,null,null,null,null,null,null,null,null,null,null,null,null,null,null,null,null,null,null,null,null,null,null,null,null,null,null,null,null,null,null,null,null,null,null,null,null,null,null,null,null,null,null,null,null,null,null,null,null,null,null,null,null,null,null,null,null,null,null,null,null,null,null,null,null,null,"A"]
["구    분","규  격","수량","단위","합    계","재 료 비","노 무 비","경    비","낙찰율(%)","합 계","재료비","노무비","경 비","비  고",null,null,null,null,null,null,null,null,null,null,null,null,null,null,null,null,null,null,null,null,null,null,null,null,null,null,null,null,null,null,null,null,null,null,null,null,null,null,null,null,null,null,null,null,null,null,null,null,null,null,null,null,null,null,null,null,null,null,null,null,null,null,null,null,null,null,null,null,null,null,null,null,null,null,null,null,null,null,null,null,null,null,null,null,null,null,null,null,null,null,null,null,null,null,null,null,null,null,null,null,null,null,null,null,20]
[null,null,null,null,null,null,null,null,null,null,null,null,null,null,null,null,null,null,null,null,null,null,null,null,null,null,null,null,null,null,null,null,null,null,null,null,null,null,null,null,null,null,null,null,null,null,null,null,null,null,null,null,null,null,null,null,null,null,null,null,null,null,null,null,null,null,null,null,null,null,null,null,null,null,null,null,null,null,null,null,null,null,null,null,null,null,null,null,null,null,null,null,null,null,null,null,null,null,null,null,null,null,null,null,null,null,null,null,null,null,null,null,null,null,null,null,null,null,"N"]
["구역화물(4.5TON)","10Km이내",1,"대",{"$f":"F5+G5+H5","v":42300},0,0,42300,0,{"$f":"K5+L5+M5","v":42300},{"$f":"IF(I5=0,F5,TRUNC(I5/100*F5,0))","v":0},{"$f":"IF(I5=0,G5,TRUNC(I5/100*G5,0))","v":0},{"$f":"IF(I5=0,H5,TRUNC(I5/100*H5,0))","v":42300},"",null,null,null,null,null,null,null,null,null,null,null,null,null,null,null,null,null,null,null,null,null,null,null,null,null,null,null,null,null,null,null,null,null,null,null,null,null,null,null,null,null,null,null,null,null,null,null,null,null,null,null,null,null,null,null,null,null,null,null,null,null,null,null,null,null,null,null,null,null,null,null,null,null,null,null,null,null,null,null,null,null,null,null,null,null,null,null,null,null,null,null,null,null,null,null,null,null,null,null,null,null,null,"E0002"]
["구역화물(8.0TON)","40㎞이내",1,"대",128630,0,0,128630,0,128630,0,0,128630,"",null,null,null,null,null,null,null,null,null,null,null,null,null,null,null,null,null,null,null,null,null,null,null,null,null,null,null,null,null,null,null,null,null,null,null,null,null,null,null,null,null,null,null,null,null,null,null,null,null,null,null,null,null,null,null,null,null,null,null,null,null,null,null,null,null,null,null,null,null,null,null,null,null,null,null,null,null,null,null,null,null,null,null,null,null,null,null,null,null,null,null,null,null,null,null,null,null,null,null,null,null,null,"E0001"]
["구역화물(8.0TON)","10Km이내",1,"대",67020,0,0,67020,0,67020,0,0,67020,"",null,null,null,null,null,null,null,null,null,null,null,null,null,null,null,null,null,null,null,null,null,null,null,null,null,null,null,null,null,null,null,null,null,null,null,null,null,null,null,null,null,null,null,null,null,null,null,null,null,null,null,null,null,null,null,null,null,null,null,null,null,null,null,null,null,null,null,null,null,null,null,null,null,null,null,null,null,null,null,null,null,null,null,null,null,null,null,null,null,null,null,null,null,null,null,null,null,null,null,null,null,null,"ET20007"]
["구역화물(10.5TON)","10㎞이내",1,"대",87720,0,0,87720,0,87720,0,0,87720,"",null,null,null,null,null,null,null,null,null,null,null,null,null,null,null,null,null,null,null,null,null,null,null,null,null,null,null,null,null,null,null,null,null,null,null,null,null,null,null,null,null,null,null,null,null,null,null,null,null,null,null,null,null,null,null,null,null,null,null,null,null,null,null,null,null,null,null,null,null,null,null,null,null,null,null,null,null,null,null,null,null,null,null,null,null,null,null,null,null,null,null,null,null,null,null,null,null,null,null,null,null,null,"ES00383"]
["하차비","팔레트화물(기타)",1,"Ton",3656,0,0,3656,0,3656,0,0,3656,"항만하역 일반육상 기타",null,null,null,null,null,null,null,null,null,null,null,null,null,null,null,null,null,null,null,null,null,null,null,null,null,null,null,null,null,null,null,null,null,null,null,null,null,null,null,null,null,null,null,null,null,null,null,null,null,null,null,null,null,null,null,null,null,null,null,null,null,null,null,null,null,null,null,null,null,null,null,null,null,null,null,null,null,null,null,null,null,null,null,null,null,null,null,null,null,null,null,null,null,null,null,null,null,null,null,null,null,null,"E001701"]
["하차비","일반포장품(드럼류)",1,"Ton",3672,0,0,3672,0,3672,0,0,3672,"항만하역 일반육상 일반",null,null,null,null,null,null,null,null,null,null,null,null,null,null,null,null,null,null,null,null,null,null,null,null,null,null,null,null,null,null,null,null,null,null,null,null,null,null,null,null,null,null,null,null,null,null,null,null,null,null,null,null,null,null,null,null,null,null,null,null,null,null,null,null,null,null,null,null,null,null,null,null,null,null,null,null,null,null,null,null,null,null,null,null,null,null,null,null,null,null,null,null,null,null,null,null,null,null,null,null,null,null,"E001702"]
["하차비","유태화물(석, 석재)",1,"Ton",4605,0,0,4605,0,4605,0,0,4605,"항만하역 일반육상 유태",null,null,null,null,null,null,null,null,null,null,null,null,null,null,null,null,null,null,null,null,null,null,null,null,null,null,null,null,null,null,null,null,null,null,null,null,null,null,null,null,null,null,null,null,null,null,null,null,null,null,null,null,null,null,null,null,null,null,null,null,null,null,null,null,null,null,null,null,null,null,null,null,null,null,null,null,null,null,null,null,null,null,null,null,null,null,null,null,null,null,null,null,null,null,null,null,null,null,null,null,null,null,"E001703"]
["포스트금형제작비","",1,"식",4600,1658,2942,0,0,4600,{"$f":"IF(I12=0,F12,TRUNC(I12/100*F12,0))","v":1658},2942,0,"",null,null,null,null,null,null,null,null,null,null,null,null,null,null,null,null,null,null,null,null,null,null,null,null,null,null,null,null,null,null,null,null,null,null,null,null,null,null,null,null,null,null,null,null,null,null,null,null,null,null,null,null,null,null,null,null,null,null,null,null,null,null,null,null,null,null,null,null,null,null,null,null,null,null,null,null,null,null,null,null,null,null,null,null,null,null,null,null,null,null,null,null,null,null,null,null,null,null,null,null,null,null,"E1000"]
["포스트도장","본체칼라도장",1,"식",36000,0,36000,0,0,36000,0,36000,0,"",null,null,null,null,null,null,null,null,null,null,null,null,null,null,null,null,null,null,null,null,null,null,null,null,null,null,null,null,null,null,null,null,null,null,null,null,null,null,null,null,null,null,null,null,null,null,null,null,null,null,null,null,null,null,null,null,null,null,null,null,null,null,null,null,null,null,null,null,null,null,null,null,null,null,null,null,null,null,null,null,null,null,null,null,null,null,null,null,null,null,null,null,null,null,null,null,null,null,null,null,null,null,"E1001"]
["핸드믹서","200ℓ",1,"시간",18008,1494,12948,3566,0,18008,1494,12948,3566,"",null,null,null,null,null,null,null,null,null,null,null,null,null,null,null,null,null,null,null,null,null,null,null,null,null,null,null,null,null,null,null,null,null,null,null,null,null,null,null,null,null,null,null,null,null,null,null,null,null,null,null,null,null,null,null,null,null,null,null,null,null,null,null,null,null,null,null,null,null,null,null,null,null,null,null,null,null,null,null,null,null,null,null,null,null,null,null,null,null,null,null,null,null,null,null,null,null,null,null,null,null,null,"ED00001"]
["화강판석포장(T50mm)","레미콘,와아어매쉬,몰탈포함",1,"시간",6569000,0,3021740,3547260,0,6569000,0,3021740,3547260,"",null,null,null,null,null,null,null,null,null,null,null,null,null,null,null,null,null,null,null,null,null,null,null,null,null,null,null,null,null,null,null,null,null,null,null,null,null,null,null,null,null,null,null,null,null,null,null,null,null,null,null,null,null,null,null,null,null,null,null,null,null,null,null,null,null,null,null,null,null,null,null,null,null,null,null,null,null,null,null,null,null,null,null,null,null,null,null,null,null,null,null,null,null,null,null,null,null,null,null,null,null,null,"ED00002"]
["건설폐기물처리(폐콘크리트)","",1,"Ton",18244,0,0,18244,0,21000,0,0,21000,"기준단가로 공사시행 시 별도 견적 확인 필요",null,null,null,null,null,null,null,null,null,null,null,null,null,null,null,null,null,null,null,null,null,null,null,null,null,null,null,null,null,null,null,null,null,null,null,null,null,null,null,null,null,null,null,null,null,null,null,null,null,null,null,null,null,null,null,null,null,null,null,null,null,null,null,null,null,null,null,null,null,null,null,null,null,null,null,null,null,null,null,null,null,null,null,null,null,null,null,null,null,null,null,null,null,null,null,null,null,null,null,null,null,null,"E0030"]
["건설폐기물처리(폐아스팔트)","",1,"Ton",19819,0,0,19819,0,22000,0,0,22000,null,null,null,null,null,null,null,null,null,null,null,null,null,null,null,null,null,null,null,null,null,null,null,null,null,null,null,null,null,null,null,null,null,null,null,null,null,null,null,null,null,null,null,null,null,null,null,null,null,null,null,null,null,null,null,null,null,null,null,null,null,null,null,null,null,null,null,null,null,null,null,null,null,null,null,null,null,null,null,null,null,null,null,null,null,null,null,null,null,null,null,null,null,null,null,null,null,null,null,null,null,null,null,"E0031"]
["건설폐기물처리(혼합폐기물)","소각5%이하,(건설폐재류에 폐목재, 폐합성수지 등 가연성폐기물이 혼합된 것)",1,"Ton",{"$f":"F18+G18+H18","v":19819},0,0,19819,0,{"$f":"K18+L18+M18","v":58000},{"$f":"IF(I18=0,F18,TRUNC(I18/100*F18,0))","v":0},{"$f":"IF(I18=0,G18,TRUNC(I18/100*G18,0))","v":0},58000,null,null,null,null,null,null,null,null,null,null,null,null,null,null,null,null,null,null,null,null,null,null,null,null,null,null,null,null,null,null,null,null,null,null,null,null,null,null,null,null,null,null,null,null,null,null,null,null,null,null,null,null,null,null,null,null,null,null,null,null,null,null,null,null,null,null,null,null,null,null,null,null,null,null,null,null,null,null,null,null,null,null,null,null,null,null,null,null,null,null,null,null,null,null,null,null,null,null,null,null,null,null,null,"E0031"]
["건설폐기물처리(혼합폐기물)","소각5%이하, 그밖의 건설폐기물(폐보드류, 폐판넬 등)에 가연성폐기물이 혼합된것",1,"Ton",{"$f":"F19+G19+H19","v":19819},0,0,19819,0,{"$f":"K19+L19+M19","v":140000},{"$f":"IF(I19=0,F19,TRUNC(I19/100*F19,0))","v":0},{"$f":"IF(I19=0,G19,TRUNC(I19/100*G19,0))","v":0},140000,null,null,null,null,null,null,null,null,null,null,null,null,null,null,null,null,null,null,null,null,null,null,null,null,null,null,null,null,null,null,null,null,null,null,null,null,null,null,null,null,null,null,null,null,null,null,null,null,null,null,null,null,null,null,null,null,null,null,null,null,null,null,null,null,null,null,null,null,null,null,null,null,null,null,null,null,null,null,null,null,null,null,null,null,null,null,null,null,null,null,null,null,null,null,null,null,null,null,null,null,null,null,null,"E0031"]
["건설폐기물처리(폐합성수지)",null,1,"Ton",{"$f":"F20+G20+H20","v":19819},0,0,19819,0,{"$f":"K20+L20+M20","v":300000},{"$f":"IF(I20=0,F20,TRUNC(I20/100*F20,0))","v":0},{"$f":"IF(I20=0,G20,TRUNC(I20/100*G20,0))","v":0},300000,null,null,null,null,null,null,null,null,null,null,null,null,null,null,null,null,null,null,null,null,null,null,null,null,null,null,null,null,null,null,null,null,null,null,null,null,null,null,null,null,null,null,null,null,null,null,null,null,null,null,null,null,null,null,null,null,null,null,null,null,null,null,null,null,null,null,null,null,null,null,null,null,null,null,null,null,null,null,null,null,null,null,null,null,null,null,null,null,null,null,null,null,null,null,null,null,null,null,null,null,null,null,null,"E0031"]
["공사실명제표지판(S/T)","10*15Cm(S/T)",1,"개",6000,6000,0,0,0,6000,6000,0,0,"",null,null,null,null,null,null,null,null,null,null,null,null,null,null,null,null,null,null,null,null,null,null,null,null,null,null,null,null,null,null,null,null,null,null,null,null,null,null,null,null,null,null,null,null,null,null,null,null,null,null,null,null,null,null,null,null,null,null,null,null,null,null,null,null,null,null,null,null,null,null,null,null,null,null,null,null,null,null,null,null,null,null,null,null,null,null,null,null,null,null,null,null,null,null,null,null,null,null,null,null,null,null,"E161"]
["공사안내간판","0.9*1.8m",1,"개",120000,0,0,120000,0,120000,0,0,120000,"",null,null,null,null,null,null,null,null,null,null,null,null,null,null,null,null,null,null,null,null,null,null,null,null,null,null,null,null,null,null,null,null,null,null,null,null,null,null,null,null,null,null,null,null,null,null,null,null,null,null,null,null,null,null,null,null,null,null,null,null,null,null,null,null,null,null,null,null,null,null,null,null,null,null,null,null,null,null,null,null,null,null,null,null,null,null,null,null,null,null,null,null,null,null,null,null,null,null,null,null,null,null,"E000-0110"]
["플레이트콤팩트","",1,"식",11600,1100,10300,200,0,11600,1100,10300,200,"",null,null,null,null,null,null,null,null,null,null,null,null,null,null,null,null,null,null,null,null,null,null,null,null,null,null,null,null,null,null,null,null,null,null,null,null,null,null,null,null,null,null,null,null,null,null,null,null,null,null,null,null,null,null,null,null,null,null,null,null,null,null,null,null,null,null,null,null,null,null,null,null,null,null,null,null,null,null,null,null,null,null,null,null,null,null,null,null,null,null,null,null,null,null,null,null,null,null,null,null,null,null,"E000-112"]

{"sheet":"노임단가","index":11,"n_rows":131,"n_cols":118,"rows_kept":131,"cut":false,"hidden":false,"merged":[[2,13,2,14],[2,5,2,6],[0,0,0,11],[2,0,3,0],[2,1,3,1],[2,2,3,2],[2,7,3,7],[2,8,3,8],[2,9,3,9],[2,10,3,10],[2,11,3,11],[2,3,2,4]]}
["노 임 단 가",null,null,null,null,null,null,null,null,null,null,null,null,null,null,null,null,null,null,null,null,null,null,null,null,null,null,null,null,null,null,null,null,null,null,null,null,null,null,null,null,null,null,null,null,null,null,null,null,null,null,null,null,null,null,null,null,null,null,null,null,null,null,null,null,null,null,null,null,null,null,null,null,null,null,null,null,null,null,null,null,null,null,null,null,null,null,null,null,null,null,null,null,null,null,null,null,null,null,null,null,null,null,null,null,null,null,null,null,null,null,null,null,null,null,null,null,5]
[null,null,null,null,null,null,null,null,null,null,null,null,null,null,null,null,null,null,null,null,null,null,null,null,null,null,null,null,null,null,null,null,null,null,null,null,null,null,null,null,null,null,null,null,null,null,null,null,null,null,null,null,null,null,null,null,null,null,null,null,null,null,null,null,null,null,null,null,null,null,null,null,null,null,null,null,null,null,null,null,null,null,null,null,null,null,null,null,null,null,null,null,null,null,null,null,null,null,null,null,null,null,null,null,null,null,null,null,null,null,null,null,null,null,null,null,null,"A"]
["번호","직 종 명","단위","건 설 협 회",null,"조  달  청",null,"기타단가","단  가","낙찰율(%)","단  가","비  고",null,"건설부문 시중노임",null,"공표일",null,null,null,null,null,null,null,null,null,null,null,null,null,null,null,null,null,null,null,null,null,null,null,null,null,null,null,null,null,null,null,null,null,null,null,null,null,null,null,null,null,null,null,null,null,null,null,null,null,null,null,null,null,null,null,null,null,null,null,null,null,null,null,null,null,null,null,null,null,null,null,null,null,null,null,null,null,null,null,null,null,null,null,null,null,null,null,null,null,null,null,null,null,null,null,null,null,null,null,null,null,38]
[null,null,null,"2021상반기","2020년하반기","상반기","하반기",null,null,null,null,null,null,"번 호","직 종 명","2021.1.1",null,null,null,null,null,null,null,null,null,null,null,null,null,null,null,null,null,null,null,null,null,null,null,null,null,null,null,null,null,null,null,null,null,null,null,null,null,null,null,null,null,null,null,null,null,null,null,null,null,null,null,null,null,null,null,null,null,null,null,null,null,null,null,null,null,null,null,null,null,null,null,null,null,null,null,null,null,null,null,null,null,null,null,null,null,null,null,null,null,null,null,null,null,null,null,null,null,null,null,null,null,"L"]
[1049,"화물차운전사","인",{"$f":"VLOOKUP(A5,$N$5:$P$128,3,0)","v":173879},176975,0,0,0,{"$f":"D5","v":173879},0,{"$f":"IF(J5=0,I5,TRUNC(J5/100*I5,0))","v":173879},"",null,1001,"작업반장",180013,null,null,null,null,null,null,null,null,null,null,null,null,null,null,null,null,null,null,null,null,null,null,null,null,null,null,null,null,null,null,null,null,null,null,null,null,null,null,null,null,null,null,null,null,null,null,null,null,null,null,null,null,null,null,null,null,null,null,null,null,null,null,null,null,null,null,null,null,null,null,null,null,null,null,null,null,null,null,null,null,null,null,null,null,null,null,null,null,null,null,null,null,null,null,null,null,null,null,null,"W1049"]
[1048,"건설기계운전사","인",{"$f":"VLOOKUP(A6,$N$5:$P$128,3,0)","v":212637},203878,0,0,0,{"$f":"D6","v":212637},0,212637,"",null,1002,"보통인부",141096,null,null,null,null,null,null,null,null,null,null,null,null,null,null,null,null,null,null,null,null,null,null,null,null,null,null,null,null,null,null,null,null,null,null,null,null,null,null,null,null,null,null,null,null,null,null,null,null,null,null,null,null,null,null,null,null,null,null,null,null,null,null,null,null,null,null,null,null,null,null,null,null,null,null,null,null,null,null,null,null,null,null,null,null,null,null,null,null,null,null,null,null,null,null,null,null,null,null,null,"W1048"]
[1003,"특별인부","인",{"$f":"VLOOKUP(A7,$N$5:$P$128,3,0)","v":179203},167926,0,0,0,179203,0,179203,"",null,1003,"특별인부",179203,null,null,null,null,null,null,null,null,null,null,null,null,null,null,null,null,null,null,null,null,null,null,null,null,null,null,null,null,null,null,null,null,null,null,null,null,null,null,null,null,null,null,null,null,null,null,null,null,null,null,null,null,null,null,null,null,null,null,null,null,null,null,null,null,null,null,null,null,null,null,null,null,null,null,null,null,null,null,null,null,null,null,null,null,null,null,null,null,null,null,null,null,null,null,null,null,null,null,null,"W1003"]
[1002,"보통인부","인",141096,138989,0,0,0,141096,0,141096,"",null,1004,"조력공",152740,null,null,null,null,null,null,null,null,null,null,null,null,null,null,null,null,null,null,null,null,null,null,null,null,null,null,null,null,null,null,null,null,null,null,null,null,null,null,null,null,null,null,null,null,null,null,null,null,null,null,null,null,null,null,null,null,null,null,null,null,null,null,null,null,null,null,null,null,null,null,null,null,null,null,null,null,null,null,null,null,null,null,null,null,null,null,null,null,null,null,null,null,null,null,null,null,null,null,null,"W1002"]
[1050,"일반기계운전사","인",{"$f":"VLOOKUP(A9,$N$5:$P$128,3,0)","v":137143},137974,0,0,0,137143,0,137143,"",null,1005,"제도사",186251,null,null,null,null,null,null,null,null,null,null,null,null,null,null,null,null,null,null,null,null,null,null,null,null,null,null,null,null,null,null,null,null,null,null,null,null,null,null,null,null,null,null,null,null,null,null,null,null,null,null,null,null,null,null,null,null,null,null,null,null,null,null,null,null,null,null,null,null,null,null,null,null,null,null,null,null,null,null,null,null,null,null,null,null,null,null,null,null,null,null,null,null,null,null,null,null,null,null,null,"W1050"]
[1019,"포 장 공","인",212761,196174,0,0,0,212761,0,212761,"",null,1006,"비계공",247977,null,null,null,null,null,null,null,null,null,null,null,null,null,null,null,null,null,null,null,null,null,null,null,null,null,null,null,null,null,null,null,null,null,null,null,null,null,null,null,null,null,null,null,null,null,null,null,null,null,null,null,null,null,null,null,null,null,null,null,null,null,null,null,null,null,null,null,null,null,null,null,null,null,null,null,null,null,null,null,null,null,null,null,null,null,null,null,null,null,null,null,null,null,null,null,null,null,null,null,"W1019"]
[1013,"콘크리트공","인",215145,211203,0,0,0,215145,0,215145,"",null,1007,"형틀목공",226280,null,null,null,null,null,null,null,null,null,null,null,null,null,null,null,null,null,null,null,null,null,null,null,null,null,null,null,null,null,null,null,null,null,null,null,null,null,null,null,null,null,null,null,null,null,null,null,null,null,null,null,null,null,null,null,null,null,null,null,null,null,null,null,null,null,null,null,null,null,null,null,null,null,null,null,null,null,null,null,null,null,null,null,null,null,null,null,null,null,null,null,null,null,null,null,null,null,null,null,"W1013"]
[1029,"도 장 공","인",213676,200386,0,0,0,213676,0,213676,"",null,1008,"철근공",228896,null,null,null,null,null,null,null,null,null,null,null,null,null,null,null,null,null,null,null,null,null,null,null,null,null,null,null,null,null,null,null,null,null,null,null,null,null,null,null,null,null,null,null,null,null,null,null,null,null,null,null,null,null,null,null,null,null,null,null,null,null,null,null,null,null,null,null,null,null,null,null,null,null,null,null,null,null,null,null,null,null,null,null,null,null,null,null,null,null,null,null,null,null,null,null,null,null,null,null,"W1029"]
[1006,"비 계 공","인",247977,236858,0,0,0,247977,0,247977,"",null,1009,"철공",200155,null,null,null,null,null,null,null,null,null,null,null,null,null,null,null,null,null,null,null,null,null,null,null,null,null,null,null,null,null,null,null,null,null,null,null,null,null,null,null,null,null,null,null,null,null,null,null,null,null,null,null,null,null,null,null,null,null,null,null,null,null,null,null,null,null,null,null,null,null,null,null,null,null,null,null,null,null,null,null,null,null,null,null,null,null,null,null,null,null,null,null,null,null,null,null,null,null,null,null,"W1006"]
[1007,"형틀목공","인",226280,220808,0,0,0,226280,0,226280,"",null,1010,"철판공",181604,null,null,null,null,null,null,null,null,null,null,null,null,null,null,null,null,null,null,null,null,null,null,null,null,null,null,null,null,null,null,null,null,null,null,null,null,null,null,null,null,null,null,null,null,null,null,null,null,null,null,null,null,null,null,null,null,null,null,null,null,null,null,null,null,null,null,null,null,null,null,null,null,null,null,null,null,null,null,null,null,null,null,null,null,null,null,null,null,null,null,null,null,null,null,null,null,null,null,null,"W1007"]
[1017,"할 석 공","인",189028,189535,0,0,0,189028,0,189028,"",null,1011,"철골공",205246,null,null,null,null,null,null,null,null,null,null,null,null,null,null,null,null,null,null,null,null,null,null,null,null,null,null,null,null,null,null,null,null,null,null,null,null,null,null,null,null,null,null,null,null,null,null,null,null,null,null,null,null,null,null,null,null,null,null,null,null,null,null,null,null,null,null,null,null,null,null,null,null,null,null,null,null,null,null,null,null,null,null,null,null,null,null,null,null,null,null,null,null,null,null,null,null,null,null,null,"W1017"]
[1015,"착 암 공","인",173250,164614,0,0,0,173250,0,173250,"",null,1012,"용접공",225966,null,null,null,null,null,null,null,null,null,null,null,null,null,null,null,null,null,null,null,null,null,null,null,null,null,null,null,null,null,null,null,null,null,null,null,null,null,null,null,null,null,null,null,null,null,null,null,null,null,null,null,null,null,null,null,null,null,null,null,null,null,null,null,null,null,null,null,null,null,null,null,null,null,null,null,null,null,null,null,null,null,null,null,null,null,null,null,null,null,null,null,null,null,null,null,null,null,null,null,"W1015"]
[1012,"용 접 공","인",225966,224357,0,0,0,225966,0,225966,"",null,1013,"콘크리트공",215145,null,null,null,null,null,null,null,null,null,null,null,null,null,null,null,null,null,null,null,null,null,null,null,null,null,null,null,null,null,null,null,null,null,null,null,null,null,null,null,null,null,null,null,null,null,null,null,null,null,null,null,null,null,null,null,null,null,null,null,null,null,null,null,null,null,null,null,null,null,null,null,null,null,null,null,null,null,null,null,null,null,null,null,null,null,null,null,null,null,null,null,null,null,null,null,null,null,null,null,"W1012"]
[1001,"작업반장","인",180013,174074,0,0,0,180013,0,180013,"",null,1014,"보링공",191340,null,null,null,null,null,null,null,null,null,null,null,null,null,null,null,null,null,null,null,null,null,null,null,null,null,null,null,null,null,null,null,null,null,null,null,null,null,null,null,null,null,null,null,null,null,null,null,null,null,null,null,null,null,null,null,null,null,null,null,null,null,null,null,null,null,null,null,null,null,null,null,null,null,null,null,null,null,null,null,null,null,null,null,null,null,null,null,null,null,null,null,null,null,null,null,null,null,null,null,"W1001"]
[1008,"철 근 공","인",228896,225461,0,0,0,228896,0,228896,"",null,1015,"착암공",173250,null,null,null,null,null,null,null,null,null,null,null,null,null,null,null,null,null,null,null,null,null,null,null,null,null,null,null,null,null,null,null,null,null,null,null,null,null,null,null,null,null,null,null,null,null,null,null,null,null,null,null,null,null,null,null,null,null,null,null,null,null,null,null,null,null,null,null,null,null,null,null,null,null,null,null,null,null,null,null,null,null,null,null,null,null,null,null,null,null,null,null,null,null,null,null,null,null,null,null,"W1008"]
[1018,"포 설 공","인",172935,161580,0,0,0,172935,0,172935,"",null,1016,"화약취급공",206294,null,null,null,null,null,null,null,null,null,null,null,null,null,null,null,null,null,null,null,null,null,null,null,null,null,null,null,null,null,null,null,null,null,null,null,null,null,null,null,null,null,null,null,null,null,null,null,null,null,null,null,null,null,null,null,null,null,null,null,null,null,null,null,null,null,null,null,null,null,null,null,null,null,null,null,null,null,null,null,null,null,null,null,null,null,null,null,null,null,null,null,null,null,null,null,null,null,null,null,"W1018"]
[1038,"조 경 공","인",181378,183149,0,0,0,181378,0,181378,"",null,1017,"할석공",189028,null,null,null,null,null,null,null,null,null,null,null,null,null,null,null,null,null,null,null,null,null,null,null,null,null,null,null,null,null,null,null,null,null,null,null,null,null,null,null,null,null,null,null,null,null,null,null,null,null,null,null,null,null,null,null,null,null,null,null,null,null,null,null,null,null,null,null,null,null,null,null,null,null,null,null,null,null,null,null,null,null,null,null,null,null,null,null,null,null,null,null,null,null,null,null,null,null,null,null,"W1038"]
[1039,"배 관 공","인",201852,189198,0,0,0,201852,0,201852,"",null,1018,"포설공",172935,null,null,null,null,null,null,null,null,null,null,null,null,null,null,null,null,null,null,null,null,null,null,null,null,null,null,null,null,null,null,null,null,null,null,null,null,null,null,null,null,null,null,null,null,null,null,null,null,null,null,null,null,null,null,null,null,null,null,null,null,null,null,null,null,null,null,null,null,null,null,null,null,null,null,null,null,null,null,null,null,null,null,null,null,null,null,null,null,null,null,null,null,null,null,null,null,null,null,null,"W1039"]
[1040,"배 관 공(수도)","인",{"$f":"VLOOKUP(A23,$N$5:$P$128,3,0)","v":205381},197689,0,0,0,{"$f":"D23","v":205381},0,{"$f":"IF(J23=0,I23,TRUNC(J23/100*I23,0))","v":205381},"",null,1019,"포장공",212761,null,null,null,null,null,null,null,null,null,null,null,null,null,null,null,null,null,null,null,null,null,null,null,null,null,null,null,null,null,null,null,null,null,null,null,null,null,null,null,null,null,null,null,null,null,null,null,null,null,null,null,null,null,null,null,null,null,null,null,null,null,null,null,null,null,null,null,null,null,null,null,null,null,null,null,null,null,null,null,null,null,null,null,null,null,null,null,null,null,null,null,null,null,null,null,null,null,null,null,"W1039"]
[1027,"미 장 공","인",228423,217740,0,0,0,228423,0,228423,"",null,1020,"잠수부",285645,null,null,null,null,null,null,null,null,null,null,null,null,null,null,null,null,null,null,null,null,null,null,null,null,null,null,null,null,null,null,null,null,null,null,null,null,null,null,null,null,null,null,null,null,null,null,null,null,null,null,null,null,null,null,null,null,null,null,null,null,null,null,null,null,null,null,null,null,null,null,null,null,null,null,null,null,null,null,null,null,null,null,null,null,null,null,null,null,null,null,null,null,null,null,null,null,null,null,null,"W1027"]
[1009,"철    공","인",200155,194315,0,0,0,200155,0,200155,"",null,1021,"조적공",217664,null,null,null,null,null,null,null,null,null,null,null,null,null,null,null,null,null,null,null,null,null,null,null,null,null,null,null,null,null,null,null,null,null,null,null,null,null,null,null,null,null,null,null,null,null,null,null,null,null,null,null,null,null,null,null,null,null,null,null,null,null,null,null,null,null,null,null,null,null,null,null,null,null,null,null,null,null,null,null,null,null,null,null,null,null,null,null,null,null,null,null,null,null,null,null,null,null,null,null,"W1009"]
[1021,"조 적 공","인",217664,210537,0,0,0,217664,0,217664,"",null,1022,"견출공",199735,null,null,null,null,null,null,null,null,null,null,null,null,null,null,null,null,null,null,null,null,null,null,null,null,null,null,null,null,null,null,null,null,null,null,null,null,null,null,null,null,null,null,null,null,null,null,null,null,null,null,null,null,null,null,null,null,null,null,null,null,null,null,null,null,null,null,null,null,null,null,null,null,null,null,null,null,null,null,null,null,null,null,null,null,null,null,null,null,null,null,null,null,null,null,null,null,null,null,null,"W1021"]
[74,"레이저광선원","인",87935,87935,0,0,0,87935,0,87935,"제조업",null,1023,"건축목공",224657,null,null,null,null,null,null,null,null,null,null,null,null,null,null,null,null,null,null,null,null,null,null,null,null,null,null,null,null,null,null,null,null,null,null,null,null,null,null,null,null,null,null,null,null,null,null,null,null,null,null,null,null,null,null,null,null,null,null,null,null,null,null,null,null,null,null,null,null,null,null,null,null,null,null,null,null,null,null,null,null,null,null,null,null,null,null,null,null,null,null,null,null,null,null,null,null,null,null,null,"W1-1059"]
[81,"연삭기 및 연마기조작원","인",80761,80761,0,0,0,80761,0,80761,"제조업",null,1024,"창호공",217409,null,null,null,null,null,null,null,null,null,null,null,null,null,null,null,null,null,null,null,null,null,null,null,null,null,null,null,null,null,null,null,null,null,null,null,null,null,null,null,null,null,null,null,null,null,null,null,null,null,null,null,null,null,null,null,null,null,null,null,null,null,null,null,null,null,null,null,null,null,null,null,null,null,null,null,null,null,null,null,null,null,null,null,null,null,null,null,null,null,null,null,null,null,null,null,null,null,null,null,"W1-1075"]
[59,"재단원[프레스기조작원(자동절단원)]","인",85740,85740,0,0,0,85740,0,85740,"제조업",null,1025,"유리공",205044,null,null,null,null,null,null,null,null,null,null,null,null,null,null,null,null,null,null,null,null,null,null,null,null,null,null,null,null,null,null,null,null,null,null,null,null,null,null,null,null,null,null,null,null,null,null,null,null,null,null,null,null,null,null,null,null,null,null,null,null,null,null,null,null,null,null,null,null,null,null,null,null,null,null,null,null,null,null,null,null,null,null,null,null,null,null,null,null,null,null,null,null,null,null,null,null,null,null,null,"W1-1051"]
[59,"재단원(철물재단원)","인",85740,85740,0,0,0,85740,0,85740,"제조업",null,1026,"방수공",174334,null,null,null,null,null,null,null,null,null,null,null,null,null,null,null,null,null,null,null,null,null,null,null,null,null,null,null,null,null,null,null,null,null,null,null,null,null,null,null,null,null,null,null,null,null,null,null,null,null,null,null,null,null,null,null,null,null,null,null,null,null,null,null,null,null,null,null,null,null,null,null,null,null,null,null,null,null,null,null,null,null,null,null,null,null,null,null,null,null,null,null,null,null,null,null,null,null,null,null,"W1-1032"]
[72,"벤딩머쉰조작원","인",104737,104737,0,0,0,104737,0,104737,"제조업",null,1027,"미장공",228423,null,null,null,null,null,null,null,null,null,null,null,null,null,null,null,null,null,null,null,null,null,null,null,null,null,null,null,null,null,null,null,null,null,null,null,null,null,null,null,null,null,null,null,null,null,null,null,null,null,null,null,null,null,null,null,null,null,null,null,null,null,null,null,null,null,null,null,null,null,null,null,null,null,null,null,null,null,null,null,null,null,null,null,null,null,null,null,null,null,null,null,null,null,null,null,null,null,null,null,"W1-1045"]
[49,"용접원","인",91928,91928,0,0,0,91928,0,91928,"제조업",null,1028,"타일공",230160,null,null,null,null,null,null,null,null,null,null,null,null,null,null,null,null,null,null,null,null,null,null,null,null,null,null,null,null,null,null,null,null,null,null,null,null,null,null,null,null,null,null,null,null,null,null,null,null,null,null,null,null,null,null,null,null,null,null,null,null,null,null,null,null,null,null,null,null,null,null,null,null,null,null,null,null,null,null,null,null,null,null,null,null,null,null,null,null,null,null,null,null,null,null,null,null,null,null,null,"W1-1071"]
[27,"세척원","인",78123,78123,0,0,0,78123,0,78123,"제조업",null,1029,"도장공",213676,null,null,null,null,null,null,null,null,null,null,null,null,null,null,null,null,null,null,null,null,null,null,null,null,null,null,null,null,null,null,null,null,null,null,null,null,null,null,null,null,null,null,null,null,null,null,null,null,null,null,null,null,null,null,null,null,null,null,null,null,null,null,null,null,null,null,null,null,null,null,null,null,null,null,null,null,null,null,null,null,null,null,null,null,null,null,null,null,null,null,null,null,null,null,null,null,null,null,null,"W1-1072"]
[127,"단순노무종사원","인",79552,79552,0,0,0,79552,0,79552,"제조업",null,1030,"내장공",206253,null,null,null,null,null,null,null,null,null,null,null,null,null,null,null,null,null,null,null,null,null,null,null,null,null,null,null,null,null,null,null,null,null,null,null,null,null,null,null,null,null,null,null,null,null,null,null,null,null,null,null,null,null,null,null,null,null,null,null,null,null,null,null,null,null,null,null,null,null,null,null,null,null,null,null,null,null,null,null,null,null,null,null,null,null,null,null,null,null,null,null,null,null,null,null,null,null,null,null,"W1-1077"]
[31,"건설중급기술자","인",219451,219451,0,0,0,219451,0,219451,"엔지니어링",null,1031,"도배공",185814,null,null,null,null,null,null,null,null,null,null,null,null,null,null,null,null,null,null,null,null,null,null,null,null,null,null,null,null,null,null,null,null,null,null,null,null,null,null,null,null,null,null,null,null,null,null,null,null,null,null,null,null,null,null,null,null,null,null,null,null,null,null,null,null,null,null,null,null,null,null,null,null,null,null,null,null,null,null,null,null,null,null,null,null,null,null,null,null,null,null,null,null,null,null,null,null,null,null,null,"W1-1176"]
[32,"건설초급기술자","인",170615,170615,0,0,0,170615,0,170615,"엔지니어링",null,1032,"연마공","-",null,null,null,null,null,null,null,null,null,null,null,null,null,null,null,null,null,null,null,null,null,null,null,null,null,null,null,null,null,null,null,null,null,null,null,null,null,null,null,null,null,null,null,null,null,null,null,null,null,null,null,null,null,null,null,null,null,null,null,null,null,null,null,null,null,null,null,null,null,null,null,null,null,null,null,null,null,null,null,null,null,null,null,null,null,null,null,null,null,null,null,null,null,null,null,null,null,null,null,"W0-0179"]
[5007,"코 킹 공","인",{"$f":"VLOOKUP(A37,$N$5:$P$128,3,0)","v":187843},181699,0,0,0,187843,0,187843,"",null,1033,"석공",212629,null,null,null,null,null,null,null,null,null,null,null,null,null,null,null,null,null,null,null,null,null,null,null,null,null,null,null,null,null,null,null,null,null,null,null,null,null,null,null,null,null,null,null,null,null,null,null,null,null,null,null,null,null,null,null,null,null,null,null,null,null,null,null,null,null,null,null,null,null,null,null,null,null,null,null,null,null,null,null,null,null,null,null,null,null,null,null,null,null,null,null,null,null,null,null,null,null,null,null,"W0-0180"]
[1033,"석  공","인",{"$f":"VLOOKUP(A38,$N$5:$P$128,3,0)","v":212629},218442,0,0,0,212629,0,212629,"",null,1034,"줄눈공",169920,null,null,null,null,null,null,null,null,null,null,null,null,null,null,null,null,null,null,null,null,null,null,null,null,null,null,null,null,null,null,null,null,null,null,null,null,null,null,null,null,null,null,null,null,null,null,null,null,null,null,null,null,null,null,null,null,null,null,null,null,null,null,null,null,null,null,null,null,null,null,null,null,null,null,null,null,null,null,null,null,null,null,null,null,null,null,null,null,null,null,null,null,null,null,null,null,null,null,null,"W1051"]
[null,null,null,null,null,null,null,null,null,null,null,null,null,1035,"판넬조립공",186646,null,null,null,null,null,null,null,null,null,null,null,null,null,null,null,null,null,null,null,null,null,null,null,null,null,null,null,null,null,null,null,null,null,null,null,null,null,null,null,null,null,null,null,null,null,null,null,null,null,null,null,null,null,null,null,null,null,null,null,null,null,null,null,null,null,null,null,null,null,null,null,null,null,null,null,null,null,null,null,null,null,null,null,null,null,null,null,null,null,null,null,null,null,null,null,null,null,null,null,"W1052"]
[null,null,null,null,null,null,null,null,null,null,null,null,null,1036,"지붕잇기공",181305]
[null,null,null,null,null,null,null,null,null,null,null,null,null,1037,"벌목부",200000]
[null,null,null,null,null,null,null,null,null,null,null,null,null,1038,"조경공",181378]
[null,null,null,null,null,null,null,null,null,null,null,null,null,1039,"배관공",201852]
[null,null,null,null,null,null,null,null,null,null,null,null,null,1040,"배관공(수도)",205381]
[null,null,null,null,null,null,null,null,null,null,null,null,null,1041,"보일러공",190000]
[null,null,null,null,null,null,null,null,null,null,null,null,null,1042,"위생공",193773]
[null,null,null,null,null,null,null,null,null,null,null,null,null,1043,"덕트공",181676]
[null,null,null,null,null,null,null,null,null,null,null,null,null,1044,"보온공",184244]
[null,null,null,null,null,null,null,null,null,null,null,null,null,1045,"인력운반공",152601]
[null,null,null,null,null,null,null,null,null,null,null,null,null,1046,"궤도공",163911]
[null,null,null,null,null,null,null,null,null,null,null,null,null,1047,"건설기계조장",162226]
[null,null,null,null,null,null,null,null,null,null,null,null,null,1048,"건설기계운전사",212637]
[null,null,null,null,null,null,null,null,null,null,null,null,null,1049,"화물차운전사",173879]
[null,null,null,null,null,null,null,null,null,null,null,null,null,1050,"일반기계운전사",137143]
[null,null,null,null,null,null,null,null,null,null,null,null,null,1051,"기계설비공",190522]
[null,null,null,null,null,null,null,null,null,null,null,null,null,1052,"준설선선장","-"]
[null,null,null,null,null,null,null,null,null,null,null,null,null,1053,"준설선기관사","- "]
[null,null,null,null,null,null,null,null,null,null,null,null,null,1054,"준설선운전사","- "]
[null,null,null,null,null,null,null,null,null,null,null,null,null,1055,"선원","- "]
[null,null,null,null,null,null,null,null,null,null,null,null,null,1056,"플랜트배관공",266618]
[null,null,null,null,null,null,null,null,null,null,null,null,null,1057,"플랜트제관공",208513]
[null,null,null,null,null,null,null,null,null,null,null,null,null,1058,"플랜트용접공",238423]
[null,null,null,null,null,null,null,null,null,null,null,null,null,1059,"플랜트특수용접공",285714]
[null,null,null,null,null,null,null,null,null,null,null,null,null,1060,"플랜트기계설치공",217415]
[null,null,null,null,null,null,null,null,null,null,null,null,null,1061,"플랜트특별인부",176704]
[null,null,null,null,null,null,null,null,null,null,null,null,null,1062,"플랜트케이블전공",274707]
[null,null,null,null,null,null,null,null,null,null,null,null,null,1063,"플랜트계장공",196381]
[null,null,null,null,null,null,null,null,null,null,null,null,null,1064,"플랜트덕트공",183708]
[null,null,null,null,null,null,null,null,null,null,null,null,null,1065,"플랜트보온공",219868]
[null,null,null,null,null,null,null,null,null,null,null,null,null,1066,"제철축로공",260000]
[null,null,null,null,null,null,null,null,null,null,null,null,null,1067,"비파괴시험공",227625]
[null,null,null,null,null,null,null,null,null,null,null,null,null,1068,"특급품질관리원",182441]
[null,null,null,null,null,null,null,null,null,null,null,null,null,1069,"고급품질관리원",175386]
[null,null,null,null,null,null,null,null,null,null,null,null,null,1070,"중급품질관리원",160900]
[null,null,null,null,null,null,null,null,null,null,null,null,null,1071,"초급품질관리원",136668]
[null,null,null,null,null,null,null,null,null,null,null,null,null,1072,"지적기사",248325]
[null,null,null,null,null,null,null,null,null,null,null,null,null,1073,"지적산업기사",211956]
[null,null,null,null,null,null,null,null,null,null,null,null,null,1074,"지적기능사",172575]
[null,null,null,null,null,null,null,null,null,null,null,null,null,1075,"내선전공",242731]
[null,null,null,null,null,null,null,null,null,null,null,null,null,1076,"특고압케이블전공",371737]
[null,null,null,null,null,null,null,null,null,null,null,null,null,1077,"고압케이블전공",313970]
[null,null,null,null,null,null,null,null,null,null,null,null,null,1078,"저압케이블전공",254661]
[null,null,null,null,null,null,null,null,null,null,null,null,null,1079,"송전전공",458124]
[null,null,null,null,null,null,null,null,null,null,null,null,null,1080,"송전활선전공",501102]
[null,null,null,null,null,null,null,null,null,null,null,null,null,1081,"배전전공",361209]
[null,null,null,null,null,null,null,null,null,null,null,null,null,1082,"배전활선전공",472721]
[null,null,null,null,null,null,null,null,null,null,null,null,null,1083,"플랜트전공",216250]
[null,null,null,null,null,null,null,null,null,null,null,null,null,1084,"계장공",245687]
[null,null,null,null,null,null,null,null,null,null,null,null,null,1085,"철도신호공",254765]
[null,null,null,null,null,null,null,null,null,null,null,null,null,1086,"통신내선공",224251]
[null,null,null,null,null,null,null,null,null,null,null,null,null,1087,"통신설비공",245619]
[null,null,null,null,null,null,null,null,null,null,null,null,null,1088,"통신외선공",319849]
[null,null,null,null,null,null,null,null,null,null,null,null,null,1089,"통신케이블공",339623]
[null,null,null,null,null,null,null,null,null,null,null,null,null,1090,"무선안테나공",273520]
[null,null,null,null,null,null,null,null,null,null,null,null,null,1091,"석면해체공",184615]
[null,null,null,null,null,null,null,null,null,null,null,null,null,2001,"광케이블설치사",360206]
[null,null,null,null,null,null,null,null,null,null,null,null,null,2002,"H/W시험사",330411]
[null,null,null,null,null,null,null,null,null,null,null,null,null,2003,"S/W시험사",354793]
[null,null,null,null,null,null,null,null,null,null,null,null,null,3001,"도편수",421053]
[null,null,null,null,null,null,null,null,null,null,null,null,null,3002,"드잡이공","-"]
[null,null,null,null,null,null,null,null,null,null,null,null,null,3003,"한식목공",246346]
[null,null,null,null,null,null,null,null,null,null,null,null,null,3004,"한식목공조공",202105]
[null,null,null,null,null,null,null,null,null,null,null,null,null,3005,"한식석공",324939]
[null,null,null,null,null,null,null,null,null,null,null,null,null,3006,"한식미장공",246667]
[null,null,null,null,null,null,null,null,null,null,null,null,null,3007,"한식와공",290026]
[null,null,null,null,null,null,null,null,null,null,null,null,null,3008,"한식와공조공",227495]
[null,null,null,null,null,null,null,null,null,null,null,null,null,3009,"목조각공",245000]
[null,null,null,null,null,null,null,null,null,null,null,null,null,3010,"석조각공","- "]
[null,null,null,null,null,null,null,null,null,null,null,null,null,3011,"특수화공","(※238,720)"]
[null,null,null,null,null,null,null,null,null,null,null,null,null,3012,"화공","- "]
[null,null,null,null,null,null,null,null,null,null,null,null,null,3013,"드잡이공편수","- "]
[null,null,null,null,null,null,null,null,null,null,null,null,null,3014,"한식미장공편수",261429]
[null,null,null,null,null,null,null,null,null,null,null,null,null,3015,"한식와공편수",365113]
[null,null,null,null,null,null,null,null,null,null,null,null,null,3016,"한식단청공편수",247727]
[null,null,null,null,null,null,null,null,null,null,null,null,null,3017,"한식석공조공",256000]
[null,null,null,null,null,null,null,null,null,null,null,null,null,3018,"한식미장공조공",220000]
[null,null,null,null,null,null,null,null,null,null,null,null,null,4001,"원자력플랜트전공",219796]
[null,null,null,null,null,null,null,null,null,null,null,null,null,4002,"원자력용접공",201040]
[null,null,null,null,null,null,null,null,null,null,null,null,null,4003,"원자력기계설치공",214418]
[null,null,null,null,null,null,null,null,null,null,null,null,null,4004,"원자력품질관리사",261522]
[null,null,null,null,null,null,null,null,null,null,null,null,null,5001,"통신관련기사",257342]
[null,null,null,null,null,null,null,null,null,null,null,null,null,5002,"통신관련산업기사",254403]
[null,null,null,null,null,null,null,null,null,null,null,null,null,5003,"통신관련기능사",206555]
[null,null,null,null,null,null,null,null,null,null,null,null,null,5004,"전기공사기사",263081]
[null,null,null,null,null,null,null,null,null,null,null,null,null,5005,"전기공사산업기사",241167]
[null,null,null,null,null,null,null,null,null,null,null,null,null,5006,"변전전공",369045]
[null,null,null,null,null,null,null,null,null,null,null,null,null,5007,"코킹공",187843]
[null,null,null,null,null,null,null,null,null,null,null,null,null,5008,"특급품질관리기술인",265082]
[null,null,null,null,null,null,null,null,null,null,null,null,null,5009,"고급품질관리기술인",206730]
[null,null,null,null,null,null,null,null,null,null,null,null,null,5010,"중급품질관리기술인",180381]
[null,null,null,null,null,null,null,null,null,null,null,null,null,5011,"초급품질관리기술인",150360]

{"sheet":"자재단가","index":12,"n_rows":182,"n_cols":119,"rows_kept":182,"cut":false,"hidden":false,"merged":[[0,0,0,18],[2,0,3,0],[2,1,3,1],[2,2,3,2],[2,15,3,15],[2,16,3,16],[2,17,3,17],[2,18,3,18],[2,3,2,4],[2,5,2,6],[2,7,2,8],[2,9,2,10],[2,11,2,12],[2,13,2,14]]}
["자 재 단 가",null,null,null,null,null,null,null,null,null,null,null,null,null,null,null,null,null,null,null,null,null,null,null,null,null,null,null,null,null,null,null,null,null,null,null,null,null,null,null,null,null,null,null,null,null,null,null,null,null,null,null,null,null,null,null,null,null,null,null,null,null,null,null,null,null,null,null,null,null,null,null,null,null,null,null,null,null,null,null,null,null,null,null,null,null,null,null,null,null,null,null,null,null,null,null,null,null,null,null,null,null,null,null,null,null,null,null,null,null,null,null,null,null,null,null,null,null,5]
[null,null,null,null,null,null,null,null,null,null,null,null,null,null,null,null,null,null,"(단위:원, VAT별도)",null,null,null,null,null,null,null,null,null,null,null,null,null,null,null,null,null,null,null,null,null,null,null,null,null,null,null,null,null,null,null,null,null,null,null,null,null,null,null,null,null,null,null,null,null,null,null,null,null,null,null,null,null,null,null,null,null,null,null,null,null,null,null,null,null,null,null,null,null,null,null,null,null,null,null,null,null,null,null,null,null,null,null,null,null,null,null,null,null,null,null,null,null,null,null,null,null,null,null,"A"]
["품    명","규  격","단위","가 격 정 보",null,"물 가 자 료",null,"물 가 정 보",null,"거 래 가 격",null,"유 통 물 가",null,"유 통 물 가",null,"단  가","낙찰율(%)","적 용 단 가","비  고",null,null,null,null,null,null,null,null,null,null,null,null,null,null,null,null,null,null,null,null,null,null,null,null,null,null,null,null,null,null,null,null,null,null,null,null,null,null,null,null,null,null,null,null,null,null,null,null,null,null,null,null,null,null,null,null,null,null,null,null,null,null,null,null,null,null,null,null,null,null,null,null,null,null,null,null,null,null,null,null,null,null,null,null,null,null,null,null,null,null,null,null,null,null,null,null,null,null,null,164]
[null,null,null,"단  가","Page","단  가","Page","단  가","Page","단  가","Page","단  가","Page","단  가","Page",null,null,null,null,null,null,null,null,null,null,null,null,null,null,null,null,null,null,null,null,null,null,null,null,null,null,null,null,null,null,null,null,null,null,null,null,null,null,null,null,null,null,null,null,null,null,null,null,null,null,null,null,null,null,null,null,null,null,null,null,null,null,null,null,null,null,null,null,null,null,null,null,null,null,null,null,null,null,null,null,null,null,null,null,null,null,null,null,null,null,null,null,null,null,null,null,null,null,null,null,null,null,null,"S"]
["환    율","1$","원",1083.0999999999999,"서울외국환",null,null,null,null,null,null,null,null,null,"",{"$f":"MIN(D5,F5,H5,J5,L5,N5)","v":1083.0999999999999},0,{"$f":"IF(Q5=0,P5,TRUNC(Q5/100*P5,0))","v":1083.0999999999999},"1월2일 매매기준율",null,null,null,null,null,null,null,null,null,null,null,null,null,null,null,null,null,null,null,null,null,null,null,null,null,null,null,null,null,null,null,null,null,null,null,null,null,null,null,null,null,null,null,null,null,null,null,null,null,null,null,null,null,null,null,null,null,null,null,null,null,null,null,null,null,null,null,null,null,null,null,null,null,null,null,null,null,null,null,null,null,null,null,null,null,null,null,null,null,null,null,null,null,null,null,null,null,"M0000-001",""]
["휘 발 유","2021.1월","ℓ",1499.33,"석유공사",null,null,null,null,null,null,null,null,null,null,{"$f":"MIN(D6,F6,H6,J6,L6,N6)","v":1499.33},0,1499.33,"부가세제외",null,null,null,null,null,null,null,null,null,null,null,null,null,null,null,null,null,null,null,null,null,null,null,null,null,null,null,null,null,null,null,null,null,null,null,null,null,null,null,null,null,null,null,null,null,null,null,null,null,null,null,null,null,null,null,null,null,null,null,null,null,null,null,null,null,null,null,null,null,null,null,null,null,null,null,null,null,null,null,null,null,null,null,null,null,null,null,null,null,null,null,null,null,null,null,null,null,"M0000-100",""]
["경    유","2021.1월","ℓ",1303.69,"석유공사",null,null,null,null,null,null,null,null,null,null,1303.69,0,1303.69,"부가세제외",null,null,null,null,null,null,null,null,null,null,null,null,null,null,null,null,null,null,null,null,null,null,null,null,null,null,null,null,null,null,null,null,null,null,null,null,null,null,null,null,null,null,null,null,null,null,null,null,null,null,null,null,null,null,null,null,null,null,null,null,null,null,null,null,null,null,null,null,null,null,null,null,null,null,null,null,null,null,null,null,null,null,null,null,null,null,null,null,null,null,null,null,null,null,null,null,null,"M0000-101",""]
["레미콘","#57  25-18-80","㎥",61270,"조달청",66100,110,62229,100,67560,115,null,null,60984,66,{"$f":"MIN(D8,F8,H8,J8,L8,N8)","v":60984},0,{"$f":"IF(Q8=0,P8,TRUNC(Q8/100*P8,0))","v":60984},"공사현장하차도",null,null,null,null,null,null,null,null,null,null,null,null,null,null,null,null,null,null,null,null,null,null,null,null,null,null,null,null,null,null,null,null,null,null,null,null,null,null,null,null,null,null,null,null,null,null,null,null,null,null,null,null,null,null,null,null,null,null,null,null,null,null,null,null,null,null,null,null,null,null,null,null,null,null,null,null,null,null,null,null,null,null,null,null,null,null,null,null,null,null,null,null,null,null,null,null,null,"M0765033","K"]
["레미콘","#57  25-18-150","㎥",62010,"조달청",68380,110,64345,100,69890,115,null,null,63058,66,62010,0,62010,"공사현장하차도",null,null,null,null,null,null,null,null,null,null,null,null,null,null,null,null,null,null,null,null,null,null,null,null,null,null,null,null,null,null,null,null,null,null,null,null,null,null,null,null,null,null,null,null,null,null,null,null,null,null,null,null,null,null,null,null,null,null,null,null,null,null,null,null,null,null,null,null,null,null,null,null,null,null,null,null,null,null,null,null,null,null,null,null,null,null,null,null,null,null,null,null,null,null,null,null,null,"M0765033","K"]
["레미콘","#57  25-21-120","㎥",64900,"조달청",70260,110,68435,100,71810,115,null,null,67066,66,64900,0,64900,"공사현장하차도",null,null,null,null,null,null,null,null,null,null,null,null,null,null,null,null,null,null,null,null,null,null,null,null,null,null,null,null,null,null,null,null,null,null,null,null,null,null,null,null,null,null,null,null,null,null,null,null,null,null,null,null,null,null,null,null,null,null,null,null,null,null,null,null,null,null,null,null,null,null,null,null,null,null,null,null,null,null,null,null,null,null,null,null,null,null,null,null,null,null,null,null,null,null,null,null,null,"M0765034","K"]
["레미콘","#57  25-24-120","㎥",67540,"조달청",73640,110,71698,100,75270,115,null,null,70264,66,67540,0,67540,"공사현장하차도",null,null,null,null,null,null,null,null,null,null,null,null,null,null,null,null,null,null,null,null,null,null,null,null,null,null,null,null,null,null,null,null,null,null,null,null,null,null,null,null,null,null,null,null,null,null,null,null,null,null,null,null,null,null,null,null,null,null,null,null,null,null,null,null,null,null,null,null,null,null,null,null,null,null,null,null,null,null,null,null,null,null,null,null,null,null,null,null,null,null,null,null,null,null,null,null,null,"M0765035","K"]
["아스팔트콘크리트","WC-2, t13mm, 3등급 표층용","TON",72570,"일반단가계약",70000,154,74240,214,70000,177,null,null,null,null,70000,0,70000,"현장도착도",null,null,null,null,null,null,null,null,null,null,null,null,null,null,null,null,null,null,null,null,null,null,null,null,null,null,null,null,null,null,null,null,null,null,null,null,null,null,null,null,null,null,null,null,null,null,null,null,null,null,null,null,null,null,null,null,null,null,null,null,null,null,null,null,null,null,null,null,null,null,null,null,null,null,null,null,null,null,null,null,null,null,null,null,null,null,null,null,null,null,null,null,null,null,null,null,null,"M1155009","K"]
["아스팔트콘크리트","BB-2, t30mm, 3등급 기층용","TON",61340,"일반단가계약",63000,154,63460,214,60000,177,null,null,null,null,60000,0,60000,"현장도착도",null,null,null,null,null,null,null,null,null,null,null,null,null,null,null,null,null,null,null,null,null,null,null,null,null,null,null,null,null,null,null,null,null,null,null,null,null,null,null,null,null,null,null,null,null,null,null,null,null,null,null,null,null,null,null,null,null,null,null,null,null,null,null,null,null,null,null,null,null,null,null,null,null,null,null,null,null,null,null,null,null,null,null,null,null,null,null,null,null,null,null,null,null,null,null,null,null,"M1158003","K"]
["칼라투수콘크리트(보도용)","13~180㎏/㎠","㎥",null,"",null,null,120000,214,120000,179,null,null,null,null,120000,0,120000,"현장도착도",null,null,null,null,null,null,null,null,null,null,null,null,null,null,null,null,null,null,null,null,null,null,null,null,null,null,null,null,null,null,null,null,null,null,null,null,null,null,null,null,null,null,null,null,null,null,null,null,null,null,null,null,null,null,null,null,null,null,null,null,null,null,null,null,null,null,null,null,null,null,null,null,null,null,null,null,null,null,null,null,null,null,null,null,null,null,null,null,null,null,null,null,null,null,null,null,null,"M0110","K"]
["자연석 경계석","도로용(직선)10*10*100","EA",null,null,8280,181,6200,232,6200,208,null,null,6200,193,6200,0,6200,"납품장소차상도",null,null,null,null,null,null,null,null,null,null,null,null,null,null,null,null,null,null,null,null,null,null,null,null,null,null,null,null,null,null,null,null,null,null,null,null,null,null,null,null,null,null,null,null,null,null,null,null,null,null,null,null,null,null,null,null,null,null,null,null,null,null,null,null,null,null,null,null,null,null,null,null,null,null,null,null,null,null,null,null,null,null,null,null,null,null,null,null,null,null,null,null,null,null,null,null,null,"M000-1122","K"]
["자연석 경계석","도로용(직선)15*15*100","EA",null,null,15600,181,11000,232,11000,208,null,null,11000,193,11000,0,11000,"납품장소차상도",null,null,null,null,null,null,null,null,null,null,null,null,null,null,null,null,null,null,null,null,null,null,null,null,null,null,null,null,null,null,null,null,null,null,null,null,null,null,null,null,null,null,null,null,null,null,null,null,null,null,null,null,null,null,null,null,null,null,null,null,null,null,null,null,null,null,null,null,null,null,null,null,null,null,null,null,null,null,null,null,null,null,null,null,null,null,null,null,null,null,null,null,null,null,null,null,null,"M1212009","K"]
["자연석 경계석","보차도(직선)20*25*100,30R","EA",null,null,29520,181,39120,232,null,null,null,null,27490,193,27490,0,27490,"납품장소차상도",null,null,null,null,null,null,null,null,null,null,null,null,null,null,null,null,null,null,null,null,null,null,null,null,null,null,null,null,null,null,null,null,null,null,null,null,null,null,null,null,null,null,null,null,null,null,null,null,null,null,null,null,null,null,null,null,null,null,null,null,null,null,null,null,null,null,null,null,null,null,null,null,null,null,null,null,null,null,null,null,null,null,null,null,null,null,null,null,null,null,null,null,null,null,null,null,null,"M1209009","K"]
["자연석 경계석","보차도(직선)20*30*100,30R","EA",null,null,60480,181,70490,232,null,null,null,null,50500,193,50500,0,50500,"납품장소차상도",null,null,null,null,null,null,null,null,null,null,null,null,null,null,null,null,null,null,null,null,null,null,null,null,null,null,null,null,null,null,null,null,null,null,null,null,null,null,null,null,null,null,null,null,null,null,null,null,null,null,null,null,null,null,null,null,null,null,null,null,null,null,null,null,null,null,null,null,null,null,null,null,null,null,null,null,null,null,null,null,null,null,null,null,null,null,null,null,null,null,null,null,null,null,null,null,null,"M00-0290","K"]
["인터록킹블록","T=60~80㎜ ","㎡",null,null,10000,186,null,null,10500,215,null,null,null,null,10000,0,10000,"납품장소차상도",null,null,null,null,null,null,null,null,null,null,null,null,null,null,null,null,null,null,null,null,null,null,null,null,null,null,null,null,null,null,null,null,null,null,null,null,null,null,null,null,null,null,null,null,null,null,null,null,null,null,null,null,null,null,null,null,null,null,null,null,null,null,null,null,null,null,null,null,null,null,null,null,null,null,null,null,null,null,null,null,null,null,null,null,null,null,null,null,null,null,null,null,null,null,null,null,null,"M1284013","K"]
["스틸그레이팅뚜껑","500x400x50mm","EA",17700,"관급자재",null,null,null,"",null,null,null,null,null,null,17700,0,17700,"납품장소하차도",null,null,null,null,null,null,null,null,null,null,null,null,null,null,null,null,null,null,null,null,null,null,null,null,null,null,null,null,null,null,null,null,null,null,null,null,null,null,null,null,null,null,null,null,null,null,null,null,null,null,null,null,null,null,null,null,null,null,null,null,null,null,null,null,null,null,null,null,null,null,null,null,null,null,null,null,null,null,null,null,null,null,null,null,null,null,null,null,null,null,null,null,null,null,null,null,null,"M1573003","K"]
["스틸그레이팅받침","510x410x55x60mm","EA",10300,"관급자재",null,null,null,"",null,null,null,null,null,null,10300,0,10300,"납품장소하차도",null,null,null,null,null,null,null,null,null,null,null,null,null,null,null,null,null,null,null,null,null,null,null,null,null,null,null,null,null,null,null,null,null,null,null,null,null,null,null,null,null,null,null,null,null,null,null,null,null,null,null,null,null,null,null,null,null,null,null,null,null,null,null,null,null,null,null,null,null,null,null,null,null,null,null,null,null,null,null,null,null,null,null,null,null,null,null,null,null,null,null,null,null,null,null,null,null,"M1573103","K"]
["스틸그레이팅받침","1010x410x55x60mm","EA",14600,"관급자재",null,null,null,"",null,null,null,null,null,null,14600,0,14600,"납품장소하차도",null,null,null,null,null,null,null,null,null,null,null,null,null,null,null,null,null,null,null,null,null,null,null,null,null,null,null,null,null,null,null,null,null,null,null,null,null,null,null,null,null,null,null,null,null,null,null,null,null,null,null,null,null,null,null,null,null,null,null,null,null,null,null,null,null,null,null,null,null,null,null,null,null,null,null,null,null,null,null,null,null,null,null,null,null,null,null,null,null,null,null,null,null,null,null,null,null,"M1573105","K"]
["원심력철근콘크리트관","보통관B2 300*30(MM)","M",19640,"관급자재",21760,298,24900,316,22440,319,null,null,24400,105,19640,0,19640,"납품장소차상도",null,null,null,null,null,null,null,null,null,null,null,null,null,null,null,null,null,null,null,null,null,null,null,null,null,null,null,null,null,null,null,null,null,null,null,null,null,null,null,null,null,null,null,null,null,null,null,null,null,null,null,null,null,null,null,null,null,null,null,null,null,null,null,null,null,null,null,null,null,null,null,null,null,null,null,null,null,null,null,null,null,null,null,null,null,null,null,null,null,null,null,null,null,null,null,null,null,"M1749009","K"]
["원심력철근콘크리트관","보통관B2 400*35(MM)","M",20108,"관급자재",24560,298,28200,316,25360,319,null,null,27600,105,20108,0,20108,"납품장소차상도",null,null,null,null,null,null,null,null,null,null,null,null,null,null,null,null,null,null,null,null,null,null,null,null,null,null,null,null,null,null,null,null,null,null,null,null,null,null,null,null,null,null,null,null,null,null,null,null,null,null,null,null,null,null,null,null,null,null,null,null,null,null,null,null,null,null,null,null,null,null,null,null,null,null,null,null,null,null,null,null,null,null,null,null,null,null,null,null,null,null,null,null,null,null,null,null,null,"M1749015","K"]
["원심력철근콘크리트관","보통관B2 450*38(MM)","M",22680,"관급자재",26480,298,30400,316,27400,319,null,null,29700,105,{"$f":"MIN(D25,F25,H25,J25,L25,N25)","v":22680},0,{"$f":"IF(Q25=0,P25,TRUNC(Q25/100*P25,0))","v":22680},"납품장소차상도",null,null,null,null,null,null,null,null,null,null,null,null,null,null,null,null,null,null,null,null,null,null,null,null,null,null,null,null,null,null,null,null,null,null,null,null,null,null,null,null,null,null,null,null,null,null,null,null,null,null,null,null,null,null,null,null,null,null,null,null,null,null,null,null,null,null,null,null,null,null,null,null,null,null,null,null,null,null,null,null,null,null,null,null,null,null,null,null,null,null,null,null,null,null,null,null,null,"M1749018","K"]
["원심력철근콘크리트관","보통관B2 600*50(MM)","M",38048,"관급자재",43800,298,50300,316,45280,319,null,null,49200,105,{"$f":"MIN(D26,F26,H26,J26,L26,N26)","v":38048},0,{"$f":"IF(Q26=0,P26,TRUNC(Q26/100*P26,0))","v":38048},"납품장소차상도",null,null,null,null,null,null,null,null,null,null,null,null,null,null,null,null,null,null,null,null,null,null,null,null,null,null,null,null,null,null,null,null,null,null,null,null,null,null,null,null,null,null,null,null,null,null,null,null,null,null,null,null,null,null,null,null,null,null,null,null,null,null,null,null,null,null,null,null,null,null,null,null,null,null,null,null,null,null,null,null,null,null,null,null,null,null,null,null,null,null,null,null,null,null,null,null,null,"M1749024","K"]
["원심력철근콘크리트관","보통관B2 800*66(MM)","M",63180,"관급자재",77280,298,88800,316,79840,319,null,null,87000,105,{"$f":"MIN(D27,F27,H27,J27,L27,N27)","v":63180},0,{"$f":"IF(Q27=0,P27,TRUNC(Q27/100*P27,0))","v":63180},"납품장소차상도",null,null,null,null,null,null,null,null,null,null,null,null,null,null,null,null,null,null,null,null,null,null,null,null,null,null,null,null,null,null,null,null,null,null,null,null,null,null,null,null,null,null,null,null,null,null,null,null,null,null,null,null,null,null,null,null,null,null,null,null,null,null,null,null,null,null,null,null,null,null,null,null,null,null,null,null,null,null,null,null,null,null,null,null,null,null,null,null,null,null,null,null,null,null,null,null,null,"M1749030","K"]
["원심력철근콘크리트관","보통관B2 1000*82(MM)","M",109364,"관급자재",122840,298,141200,316,126880,319,null,null,138300,105,{"$f":"MIN(D28,F28,H28,J28,L28,N28)","v":109364},0,{"$f":"IF(Q28=0,P28,TRUNC(Q28/100*P28,0))","v":109364},"납품장소차상도",null,null,null,null,null,null,null,null,null,null,null,null,null,null,null,null,null,null,null,null,null,null,null,null,null,null,null,null,null,null,null,null,null,null,null,null,null,null,null,null,null,null,null,null,null,null,null,null,null,null,null,null,null,null,null,null,null,null,null,null,null,null,null,null,null,null,null,null,null,null,null,null,null,null,null,null,null,null,null,null,null,null,null,null,null,null,null,null,null,null,null,null,null,null,null,null,null,"M1749036","K"]
["원심력철근콘크리트관","보통관B2 1200*95(MM)","M",153356,"관급자재",172400,298,198300,316,178080,319,null,null,194300,105,{"$f":"MIN(D29,F29,H29,J29,L29,N29)","v":153356},0,{"$f":"IF(Q29=0,P29,TRUNC(Q29/100*P29,0))","v":153356},"납품장소차상도",null,null,null,null,null,null,null,null,null,null,null,null,null,null,null,null,null,null,null,null,null,null,null,null,null,null,null,null,null,null,null,null,null,null,null,null,null,null,null,null,null,null,null,null,null,null,null,null,null,null,null,null,null,null,null,null,null,null,null,null,null,null,null,null,null,null,null,null,null,null,null,null,null,null,null,null,null,null,null,null,null,null,null,null,null,null,null,null,null,null,null,null,null,null,null,null,null,"M1749042","K"]
["이형철근","D16MM~D32MM, SD300","TON",null,null,670000,42,686000,46,670000,49,null,null,684000,17,670000,0,670000,"현장도착도",null,null,null,null,null,null,null,null,null,null,null,null,null,null,null,null,null,null,null,null,null,null,null,null,null,null,null,null,null,null,null,null,null,null,null,null,null,null,null,null,null,null,null,null,null,null,null,null,null,null,null,null,null,null,null,null,null,null,null,null,null,null,null,null,null,null,null,null,null,null,null,null,null,null,null,null,null,null,null,null,null,null,null,null,null,null,null,null,null,null,null,null,null,null,null,null,null,"M0012009","K"]
["수목보호판","1200*1000,압연강","조",176700,"다수공급자",296600,368,271600,371,271600,410,null,null,313630,262,176700,0,176700,"납품장소하차도",null,null,null,null,null,null,null,null,null,null,null,null,null,null,null,null,null,null,null,null,null,null,null,null,null,null,null,null,null,null,null,null,null,null,null,null,null,null,null,null,null,null,null,null,null,null,null,null,null,null,null,null,null,null,null,null,null,null,null,null,null,null,null,null,null,null,null,null,null,null,null,null,null,null,null,null,null,null,null,null,null,null,null,null,null,null,null,null,null,null,null,null,null,null,null,null,null,"M0133","K"]
["자연석판석","T=50mm, 버너,포천석","㎡",38800,"관급자재",null,"",null,null,66600,208,null,null,null,"",38800,0,38800,"납품장소차상도",null,null,null,null,null,null,null,null,null,null,null,null,null,null,null,null,null,null,null,null,null,null,null,null,null,null,null,null,null,null,null,null,null,null,null,null,null,null,null,null,null,null,null,null,null,null,null,null,null,null,null,null,null,null,null,null,null,null,null,null,null,null,null,null,null,null,null,null,null,null,null,null,null,null,null,null,null,null,null,null,null,null,null,null,null,null,null,null,null,null,null,null,null,null,null,null,null,"M0134","K"]
["호안블럭","I형 400*400*120","㎡",12800,"",16800,280,null,null,null,null,null,null,null,"",12800,0,12800,"공장상차도",null,null,null,null,null,null,null,null,null,null,null,null,null,null,null,null,null,null,null,null,null,null,null,null,null,null,null,null,null,null,null,null,null,null,null,null,null,null,null,null,null,null,null,null,null,null,null,null,null,null,null,null,null,null,null,null,null,null,null,null,null,null,null,null,null,null,null,null,null,null,null,null,null,null,null,null,null,null,null,null,null,null,null,null,null,null,null,null,null,null,null,null,null,null,null,null,null,"M0112"," "]
["보통시멘트","40KG/대(포장품)","㎏",null,"",102.25,105,109.075,102,104.52500000000001,110,null,null,99.075000000000003,62,99.075000000000003,0,99.075000000000003,"점포상차도",null,null,null,null,null,null,null,null,null,null,null,null,null,null,null,null,null,null,null,null,null,null,null,null,null,null,null,null,null,null,null,null,null,null,null,null,null,null,null,null,null,null,null,null,null,null,null,null,null,null,null,null,null,null,null,null,null,null,null,null,null,null,null,null,null,null,null,null,null,null,null,null,null,null,null,null,null,null,null,null,null,null,null,null,null,null,null,null,null,null,null,null,null,null,null,null,null,"M0747003"," "]
["점자및유도블럭","300*300*60 황색","EA",null,null,2500,184,null,null,3960,214,null,null,3000,195,2500,0,2500,"납품장소하차도",null,null,null,null,null,null,null,null,null,null,null,null,null,null,null,null,null,null,null,null,null,null,null,null,null,null,null,null,null,null,null,null,null,null,null,null,null,null,null,null,null,null,null,null,null,null,null,null,null,null,null,null,null,null,null,null,null,null,null,null,null,null,null,null,null,null,null,null,null,null,null,null,null,null,null,null,null,null,null,null,null,null,null,null,null,null,null,null,null,null,null,null,null,null,null,null,null,"M1284013-1"," "]
["강모래","자연사(시내도착도)","㎥",null,"",30000,103,30000,99,30000,110,null,null,32000,61,{"$f":"MIN(D36,F36,H36,J36,L36,N36)","v":30000},0,30000,"시내도착도",null,null,null,null,null,null,null,null,null,null,null,null,null,null,null,null,null,null,null,null,null,null,null,null,null,null,null,null,null,null,null,null,null,null,null,null,null,null,null,null,null,null,null,null,null,null,null,null,null,null,null,null,null,null,null,null,null,null,null,null,null,null,null,null,null,null,null,null,null,null,null,null,null,null,null,null,null,null,null,null,null,null,null,null,null,null,null,null,null,null,null,null,null,null,null,null,null,"M0717051"," "]
["자연자갈(서울)","#467(시내도착도)","㎥",null,"",30000,102,null,null,null,null,null,null,null,null,30000,0,30000,"시내도착도",null,null,null,null,null,null,null,null,null,null,null,null,null,null,null,null,null,null,null,null,null,null,null,null,null,null,null,null,null,null,null,null,null,null,null,null,null,null,null,null,null,null,null,null,null,null,null,null,null,null,null,null,null,null,null,null,null,null,null,null,null,null,null,null,null,null,null,null,null,null,null,null,null,null,null,null,null,null,null,null,null,null,null,null,null,null,null,null,null,null,null,null,null,null,null,null,null,"M0720051"," "]
["자연자갈(서울)","#57(시내도착도)","㎥",null,"",30000,102,null,null,null,null,null,null,null,null,30000,0,30000,"시내도착도",null,null,null,null,null,null,null,null,null,null,null,null,null,null,null,null,null,null,null,null,null,null,null,null,null,null,null,null,null,null,null,null,null,null,null,null,null,null,null,null,null,null,null,null,null,null,null,null,null,null,null,null,null,null,null,null,null,null,null,null,null,null,null,null,null,null,null,null,null,null,null,null,null,null,null,null,null,null,null,null,null,null,null,null,null,null,null,null,null,null,null,null,null,null,null,null,null,"M0720053"," "]
["혼합골재(서울)","40mm 이하","㎥",null,"",20000,102,23000,99,21000,109,null,null,24000,61,20000,0,20000,"시내도착도",null,null,null,null,null,null,null,null,null,null,null,null,null,null,null,null,null,null,null,null,null,null,null,null,null,null,null,null,null,null,null,null,null,null,null,null,null,null,null,null,null,null,null,null,null,null,null,null,null,null,null,null,null,null,null,null,null,null,null,null,null,null,null,null,null,null,null,null,null,null,null,null,null,null,null,null,null,null,null,null,null,null,null,null,null,null,null,null,null,null,null,null,null,null,null,null,null,"M0723053"," "]
["보조기층재(서울)","70mm 이하","㎥",null,"",20000,102,23000,99,21000,110,null,null,24000,61,20000,0,20000,"시내도착도",null,null,null,null,null,null,null,null,null,null,null,null,null,null,null,null,null,null,null,null,null,null,null,null,null,null,null,null,null,null,null,null,null,null,null,null,null,null,null,null,null,null,null,null,null,null,null,null,null,null,null,null,null,null,null,null,null,null,null,null,null,null,null,null,null,null,null,null,null,null,null,null,null,null,null,null,null,null,null,null,null,null,null,null,null,null,null,null,null,null,null,null,null,null,null,null,null,"M0717081"," "]
["보차도경계블록","B형 18x20.5x25x100㎝","EA",null,"",7600,180,6300,230,5800,207,null,null,7200,194,{"$f":"MIN(D41,F41,H41,J41,L41,N41)","v":5800},0,{"$f":"IF(Q41=0,P41,TRUNC(Q41/100*P41,0))","v":5800},"공장상차도",null,null,null,null,null,null,null,null,null,null,null,null,null,null,null,null,null,null,null,null,null,null,null,null,null,null,null,null,null,null,null,null,null,null,null,null,null,null,null,null,null,null,null,null,null,null,null,null,null,null,null,null,null,null,null,null,null,null,null,null,null,null,null,null,null,null,null,null,null,null,null,null,null,null,null,null,null,null,null,null,null,null,null,null,null,null,null,null,null,null,null,null,null,null,null,null,null,"M1185006"," "]
["도로경계블록","SC형 15x15x100㎝","EA",null,"",4500,180,4500,228,3500,207,null,null,4200,194,{"$f":"MIN(D42,F42,H42,J42,L42,N42)","v":3500},0,{"$f":"IF(Q42=0,P42,TRUNC(Q42/100*P42,0))","v":3500},"공장상차도",null,null,null,null,null,null,null,null,null,null,null,null,null,null,null,null,null,null,null,null,null,null,null,null,null,null,null,null,null,null,null,null,null,null,null,null,null,null,null,null,null,null,null,null,null,null,null,null,null,null,null,null,null,null,null,null,null,null,null,null,null,null,null,null,null,null,null,null,null,null,null,null,null,null,null,null,null,null,null,null,null,null,null,null,null,null,null,null,null,null,null,null,null,null,null,null,null,"M1188009"," "]
["산소","99.8% 이상","ℓ",2.2200000000000002,"시설공통자재\n20204084",1.91,33,2.5,1483,2.5,1467,null,null,1.91,1238,1.91,0,1.91,"점포상차도",null,null,null,null,null,null,null,null,null,null,null,null,null,null,null,null,null,null,null,null,null,null,null,null,null,null,null,null,null,null,null,null,null,null,null,null,null,null,null,null,null,null,null,null,null,null,null,null,null,null,null,null,null,null,null,null,null,null,null,null,null,null,null,null,null,null,null,null,null,null,null,null,null,null,null,null,null,null,null,null,null,null,null,null,null,null,null,null,null,null,null,null,null,null,null,null,null,"M00023"," "]
["아세틸렌","용접용 98% 이상","㎏",12042,"시설공통자재\n20204095",13000,33,25000,1483,14100,1467,null,null,13000,1238,12042,0,12042,"납품장소도",null,null,null,null,null,null,null,null,null,null,null,null,null,null,null,null,null,null,null,null,null,null,null,null,null,null,null,null,null,null,null,null,null,null,null,null,null,null,null,null,null,null,null,null,null,null,null,null,null,null,null,null,null,null,null,null,null,null,null,null,null,null,null,null,null,null,null,null,null,null,null,null,null,null,null,null,null,null,null,null,null,null,null,null,null,null,null,null,null,null,null,null,null,null,null,null,null,"M00025"," "]
["조합페인트","KSM 6020, 2급 백색","ℓ",3640,"시설공통자재\n(건축)",4383.33,624,5116.66,512,4185,600,null,null,4185,476,3640,0,3640,"납품장소도",null,null,null,null,null,null,null,null,null,null,null,null,null,null,null,null,null,null,null,null,null,null,null,null,null,null,null,null,null,null,null,null,null,null,null,null,null,null,null,null,null,null,null,null,null,null,null,null,null,null,null,null,null,null,null,null,null,null,null,null,null,null,null,null,null,null,null,null,null,null,null,null,null,null,null,null,null,null,null,null,null,null,null,null,null,null,null,null,null,null,null,null,null,null,null,null,null,"M4077021"," "]
["녹막이페인트","KSM6030 2종 1류","ℓ",6390,"시설공통자재\n(건축)",6838.88,624,8400,512,6838.88,600,null,null,6383.88,477,6383.88,0,6383.88,"납품장소도",null,null,null,null,null,null,null,null,null,null,null,null,null,null,null,null,null,null,null,null,null,null,null,null,null,null,null,null,null,null,null,null,null,null,null,null,null,null,null,null,null,null,null,null,null,null,null,null,null,null,null,null,null,null,null,null,null,null,null,null,null,null,null,null,null,null,null,null,null,null,null,null,null,null,null,null,null,null,null,null,null,null,null,null,null,null,null,null,null,null,null,null,null,null,null,null,null,"M4074005",""]
["신너(조합페인트용)","KSM-6060(2종)","ℓ",null,"",2683.33,624,2700,512,1777.78,600,null,null,1777.78,476,1777.78,0,1777.78,"납품장소도",null,null,null,null,null,null,null,null,null,null,null,null,null,null,null,null,null,null,null,null,null,null,null,null,null,null,null,null,null,null,null,null,null,null,null,null,null,null,null,null,null,null,null,null,null,null,null,null,null,null,null,null,null,null,null,null,null,null,null,null,null,null,null,null,null,null,null,null,null,null,null,null,null,null,null,null,null,null,null,null,null,null,null,null,null,null,null,null,null,null,null,null,null,null,null,null,null,"M4092005"," "]
["퍼티","코레돔 MC-319","ℓ",3090,"시설공통자재\n(건축)",3833.33,633,3833.33,548,3833.33,606,null,null,3833.33,479,3090,0,3090,"납품장소도",null,null,null,null,null,null,null,null,null,null,null,null,null,null,null,null,null,null,null,null,null,null,null,null,null,null,null,null,null,null,null,null,null,null,null,null,null,null,null,null,null,null,null,null,null,null,null,null,null,null,null,null,null,null,null,null,null,null,null,null,null,null,null,null,null,null,null,null,null,null,null,null,null,null,null,null,null,null,null,null,null,null,null,null,null,null,null,null,null,null,null,null,null,null,null,null,null,"M4119007"," "]
["도로용페인트(상온형)","KSM6080(백색)","ℓ",4275,"시설공통자재\n(건축)",4950,636,4500,266,4450,249,null,null,4950,481,4275,0,4275,"납품장소도",null,null,null,null,null,null,null,null,null,null,null,null,null,null,null,null,null,null,null,null,null,null,null,null,null,null,null,null,null,null,null,null,null,null,null,null,null,null,null,null,null,null,null,null,null,null,null,null,null,null,null,null,null,null,null,null,null,null,null,null,null,null,null,null,null,null,null,null,null,null,null,null,null,null,null,null,null,null,null,null,null,null,null,null,null,null,null,null,null,null,null,null,null,null,null,null,null,"M1500003"," "]
["도로용페인트(상온형)","KSM6080(황색1종)","ℓ",null,"",5877.77,636,5700,266,5650,249,null,null,5877.78,481,5650,0,5650,"공장상차도",null,null,null,null,null,null,null,null,null,null,null,null,null,null,null,null,null,null,null,null,null,null,null,null,null,null,null,null,null,null,null,null,null,null,null,null,null,null,null,null,null,null,null,null,null,null,null,null,null,null,null,null,null,null,null,null,null,null,null,null,null,null,null,null,null,null,null,null,null,null,null,null,null,null,null,null,null,null,null,null,null,null,null,null,null,null,null,null,null,null,null,null,null,null,null,null,null,"M1500006"," "]
["도로표지용 도료","융착식(수용성) 백색","㎏",null,null,3140,636,4300,278,3200,249,null,null,3140,481,3140,0,3140,"납품장소하차도",null,null,null,null,null,null,null,null,null,null,null,null,null,null,null,null,null,null,null,null,null,null,null,null,null,null,null,null,null,null,null,null,null,null,null,null,null,null,null,null,null,null,null,null,null,null,null,null,null,null,null,null,null,null,null,null,null,null,null,null,null,null,null,null,null,null,null,null,null,null,null,null,null,null,null,null,null,null,null,null,null,null,null,null,null,null,null,null,null,null,null,null,null,null,null,null,null,"M1500051"," "]
["도로표지용 도료","융착식(수용성) 황색1종","㎏",null,null,4140,636,4500,278,4100,249,null,null,4140,481,4100,0,4100,"납품장소하차도",null,null,null,null,null,null,null,null,null,null,null,null,null,null,null,null,null,null,null,null,null,null,null,null,null,null,null,null,null,null,null,null,null,null,null,null,null,null,null,null,null,null,null,null,null,null,null,null,null,null,null,null,null,null,null,null,null,null,null,null,null,null,null,null,null,null,null,null,null,null,null,null,null,null,null,null,null,null,null,null,null,null,null,null,null,null,null,null,null,null,null,null,null,null,null,null,null,"M1500067"," "]
["도로표지용 도료","융착식(수용성) 청색1호","㎏",null,"",5300,636,5000,278,4400,249,null,null,5650,481,4400,0,4400,"공장상차도",null,null,null,null,null,null,null,null,null,null,null,null,null,null,null,null,null,null,null,null,null,null,null,null,null,null,null,null,null,null,null,null,null,null,null,null,null,null,null,null,null,null,null,null,null,null,null,null,null,null,null,null,null,null,null,null,null,null,null,null,null,null,null,null,null,null,null,null,null,null,null,null,null,null,null,null,null,null,null,null,null,null,null,null,null,null,null,null,null,null,null,null,null,null,null,null,null,"M1500073",""]
["고성능융착식 도료","KSM6080-로드스틱, 백색","㎏",null,"",5980,636,5980,278,null,"",null,null,null,"",5980,0,5980,"공장상차도",null,null,null,null,null,null,null,null,null,null,null,null,null,null,null,null,null,null,null,null,null,null,null,null,null,null,null,null,null,null,null,null,null,null,null,null,null,null,null,null,null,null,null,null,null,null,null,null,null,null,null,null,null,null,null,null,null,null,null,null,null,null,null,null,null,null,null,null,null,null,null,null,null,null,null,null,null,null,null,null,null,null,null,null,null,null,null,null,null,null,null,null,null,null,null,null,null,"M000-01401"," "]
["고성능융착식 도료","KSM6080-로드스틱, 황색","㎏",null,"",6876,636,6876,278,null,"",null,null,null,"",6876,0,6876,"공장상차도",null,null,null,null,null,null,null,null,null,null,null,null,null,null,null,null,null,null,null,null,null,null,null,null,null,null,null,null,null,null,null,null,null,null,null,null,null,null,null,null,null,null,null,null,null,null,null,null,null,null,null,null,null,null,null,null,null,null,null,null,null,null,null,null,null,null,null,null,null,null,null,null,null,null,null,null,null,null,null,null,null,null,null,null,null,null,null,null,null,null,null,null,null,null,null,null,null,"M000-01601"," "]
["프라이머","융착식 도료용 접착제","ℓ",null,"",null,null,4500,266,4550,249,null,null,null,null,4500,0,4500,"공장상차도",null,null,null,null,null,null,null,null,null,null,null,null,null,null,null,null,null,null,null,null,null,null,null,null,null,null,null,null,null,null,null,null,null,null,null,null,null,null,null,null,null,null,null,null,null,null,null,null,null,null,null,null,null,null,null,null,null,null,null,null,null,null,null,null,null,null,null,null,null,null,null,null,null,null,null,null,null,null,null,null,null,null,null,null,null,null,null,null,null,null,null,null,null,null,null,null,null,"M1500021"," "]
["도로표지용유리알","KSL2521 1호","㎏",null,"",1700,206,1700,266,1700,249,null,null,1700,225,1700,0,1700,"공장상차도",null,null,null,null,null,null,null,null,null,null,null,null,null,null,null,null,null,null,null,null,null,null,null,null,null,null,null,null,null,null,null,null,null,null,null,null,null,null,null,null,null,null,null,null,null,null,null,null,null,null,null,null,null,null,null,null,null,null,null,null,null,null,null,null,null,null,null,null,null,null,null,null,null,null,null,null,null,null,null,null,null,null,null,null,null,null,null,null,null,null,null,null,null,null,null,null,null,"M1488003",""]
["도로표지용유리알","KSL2521 2호","㎏",null,"",1700,206,null,null,null,null,null,null,1700,225,1700,0,1700,"공장상차도",null,null,null,null,null,null,null,null,null,null,null,null,null,null,null,null,null,null,null,null,null,null,null,null,null,null,null,null,null,null,null,null,null,null,null,null,null,null,null,null,null,null,null,null,null,null,null,null,null,null,null,null,null,null,null,null,null,null,null,null,null,null,null,null,null,null,null,null,null,null,null,null,null,null,null,null,null,null,null,null,null,null,null,null,null,null,null,null,null,null,null,null,null,null,null,null,null,"M000-0130"," "]
["냉연강판(CR)","0.9x1219x2438","㎏",null,"",850,52,1005.6,58,885,64,null,null,892.6,27,850,0,850,"점포상차도",null,null,null,null,null,null,null,null,null,null,null,null,null,null,null,null,null,null,null,null,null,null,null,null,null,null,null,null,null,null,null,null,null,null,null,null,null,null,null,null,null,null,null,null,null,null,null,null,null,null,null,null,null,null,null,null,null,null,null,null,null,null,null,null,null,null,null,null,null,null,null,null,null,null,null,null,null,null,null,null,null,null,null,null,null,null,null,null,null,null,null,null,null,null,null,null,null,"M0069024",""]
["전기아연도강판","1.20x914x1829","매",null,"",7190.26,60,9427.4950000000008,60,7973.89,69,null,null,8452.4429999999993,28,7190.26,0,7190.26,"점포상차도",null,null,null,null,null,null,null,null,null,null,null,null,null,null,null,null,null,null,null,null,null,null,null,null,null,null,null,null,null,null,null,null,null,null,null,null,null,null,null,null,null,null,null,null,null,null,null,null,null,null,null,null,null,null,null,null,null,null,null,null,null,null,null,null,null,null,null,null,null,null,null,null,null,null,null,null,null,null,null,null,null,null,null,null,null,null,null,null,null,null,null,null,null,null,null,null,null,"M0084039"," "]
["일반구조용원형강관(HR)","38.1*1.4㎜*1.267","M",null,"",null,null,949.15300000000002,66,1024.653,74,null,null,863.63599999999997,33,863.63599999999997,0,863.63599999999997,"점포상차도",null,null,null,null,null,null,null,null,null,null,null,null,null,null,null,null,null,null,null,null,null,null,null,null,null,null,null,null,null,null,null,null,null,null,null,null,null,null,null,null,null,null,null,null,null,null,null,null,null,null,null,null,null,null,null,null,null,null,null,null,null,null,null,null,null,null,null,null,null,null,null,null,null,null,null,null,null,null,null,null,null,null,null,null,null,null,null,null,null,null,null,null,null,null,null,null,null,"M0129021"," "]
["기둥","각파이프 60*60㎜,백관","M",null,"",null,null,4048,66,4360,74,null,null,3918,33,3918,0,3918,"점포상차도",null,null,null,null,null,null,null,null,null,null,null,null,null,null,null,null,null,null,null,null,null,null,null,null,null,null,null,null,null,null,null,null,null,null,null,null,null,null,null,null,null,null,null,null,null,null,null,null,null,null,null,null,null,null,null,null,null,null,null,null,null,null,null,null,null,null,null,null,null,null,null,null,null,null,null,null,null,null,null,null,null,null,null,null,null,null,null,null,null,null,null,null,null,null,null,null,null,"M000-0190"," "]
["보통철선","#8,4.0MM,10.1M/KG","㎏",null,null,1270,67,1250,75,1250,91,null,null,1070,42,1070,0,1070,"점포상차도",null,null,null,null,null,null,null,null,null,null,null,null,null,null,null,null,null,null,null,null,null,null,null,null,null,null,null,null,null,null,null,null,null,null,null,null,null,null,null,null,null,null,null,null,null,null,null,null,null,null,null,null,null,null,null,null,null,null,null,null,null,null,null,null,null,null,null,null,null,null,null,null,null,null,null,null,null,null,null,null,null,null,null,null,null,null,null,null,null,null,null,null,null,null,null,null,null,"M0144009"," "]
["소철선(어니일링)","#8 4.0MM 10.1M/KG","㎏",null,"",1420,67,1410,42,1350,60,null,null,1160,42,1160,0,1160,"점포상차도",null,null,null,null,null,null,null,null,null,null,null,null,null,null,null,null,null,null,null,null,null,null,null,null,null,null,null,null,null,null,null,null,null,null,null,null,null,null,null,null,null,null,null,null,null,null,null,null,null,null,null,null,null,null,null,null,null,null,null,null,null,null,null,null,null,null,null,null,null,null,null,null,null,null,null,null,null,null,null,null,null,null,null,null,null,null,null,null,null,null,null,null,null,null,null,null,null,"M0147006"," "]
["소철선(어니일링)","#20 0.9M/M 200.4M/KG","㎏",null,"",1560,67,null,null,1580,60,null,null,1360,42,1360,0,1360,"점포상차도",null,null,null,null,null,null,null,null,null,null,null,null,null,null,null,null,null,null,null,null,null,null,null,null,null,null,null,null,null,null,null,null,null,null,null,null,null,null,null,null,null,null,null,null,null,null,null,null,null,null,null,null,null,null,null,null,null,null,null,null,null,null,null,null,null,null,null,null,null,null,null,null,null,null,null,null,null,null,null,null,null,null,null,null,null,null,null,null,null,null,null,null,null,null,null,null,null,"M0147012"," "]
["철못","N75,75x3.25MM","㎏",null,"",1437.39,68,1375,75,1286,90,null,null,1306.25,43,1286,0,1286,"점포상차도",null,null,null,null,null,null,null,null,null,null,null,null,null,null,null,null,null,null,null,null,null,null,null,null,null,null,null,null,null,null,null,null,null,null,null,null,null,null,null,null,null,null,null,null,null,null,null,null,null,null,null,null,null,null,null,null,null,null,null,null,null,null,null,null,null,null,null,null,null,null,null,null,null,null,null,null,null,null,null,null,null,null,null,null,null,null,null,null,null,null,null,null,null,null,null,null,null,"M0177018"," "]
["비닐피복능형철망(PVC코팅능형망)","#10,φ3.2x58x58mm","㎡",null,"",8200,98,null,null,8200,105,null,null,8200,58,8200,0,8200,"공장상차도",null,null,null,null,null,null,null,null,null,null,null,null,null,null,null,null,null,null,null,null,null,null,null,null,null,null,null,null,null,null,null,null,null,null,null,null,null,null,null,null,null,null,null,null,null,null,null,null,null,null,null,null,null,null,null,null,null,null,null,null,null,null,null,null,null,null,null,null,null,null,null,null,null,null,null,null,null,null,null,null,null,null,null,null,null,null,null,null,null,null,null,null,null,null,null,null,null,"M0675012"," "]
["제강슬래그","3-5mm (미끄럼방지용)","㎏",null,"",null,"",null,null,null,null,null,null,110,61,110,0,110,"공장상차도",null,null,null,null,null,null,null,null,null,null,null,null,null,null,null,null,null,null,null,null,null,null,null,null,null,null,null,null,null,null,null,null,null,null,null,null,null,null,null,null,null,null,null,null,null,null,null,null,null,null,null,null,null,null,null,null,null,null,null,null,null,null,null,null,null,null,null,null,null,null,null,null,null,null,null,null,null,null,null,null,null,null,null,null,null,null,null,null,null,null,null,null,null,null,null,null,null,"M0735103"," "]
["양생제(피막양생제)","유성피막양생제","L",null,"",null,null,6000,109,2000,125,null,null,null,"",2000,0,2000,"생산자상차도",null,null,null,null,null,null,null,null,null,null,null,null,null,null,null,null,null,null,null,null,null,null,null,null,null,null,null,null,null,null,null,null,null,null,null,null,null,null,null,null,null,null,null,null,null,null,null,null,null,null,null,null,null,null,null,null,null,null,null,null,null,null,null,null,null,null,null,null,null,null,null,null,null,null,null,null,null,null,null,null,null,null,null,null,null,null,null,null,null,null,null,null,null,null,null,null,null,"M0774003"," "]
["혼화제","무수축 콘크리트","㎏",null,null,2300,115,400,109,350,124,null,null,400,69,350,0,350,"공장상차도",null,null,null,null,null,null,null,null,null,null,null,null,null,null,null,null,null,null,null,null,null,null,null,null,null,null,null,null,null,null,null,null,null,null,null,null,null,null,null,null,null,null,null,null,null,null,null,null,null,null,null,null,null,null,null,null,null,null,null,null,null,null,null,null,null,null,null,null,null,null,null,null,null,null,null,null,null,null,null,null,null,null,null,null,null,null,null,null,null,null,null,null,null,null,null,null,null,"M0789006"," "]
["신구콘크리트접착제","","㎏",null,"",18000,115,null,null,26000,125,null,null,20000,68,18000,0,18000,"공장상차도",null,null,null,null,null,null,null,null,null,null,null,null,null,null,null,null,null,null,null,null,null,null,null,null,null,null,null,null,null,null,null,null,null,null,null,null,null,null,null,null,null,null,null,null,null,null,null,null,null,null,null,null,null,null,null,null,null,null,null,null,null,null,null,null,null,null,null,null,null,null,null,null,null,null,null,null,null,null,null,null,null,null,null,null,null,null,null,null,null,null,null,null,null,null,null,null,null,"M0825112"," "]
["에폭시접착제","신구콘크리트","㎏",null,"",13000,128,null,null,15000,148,null,null,null,null,13000,0,13000,"공장상차도",null,null,null,null,null,null,null,null,null,null,null,null,null,null,null,null,null,null,null,null,null,null,null,null,null,null,null,null,null,null,null,null,null,null,null,null,null,null,null,null,null,null,null,null,null,null,null,null,null,null,null,null,null,null,null,null,null,null,null,null,null,null,null,null,null,null,null,null,null,null,null,null,null,null,null,null,null,null,null,null,null,null,null,null,null,null,null,null,null,null,null,null,null,null,null,null,null,"M0828009"," "]
["외송각재","3.6mx4.5cmx4.5cm","㎥",376675,"시설공통자재",434132,138,440120,129,449101.8,152,null,null,406586.83,73,376675,0,376675,"점포상차도",null,null,null,null,null,null,null,null,null,null,null,null,null,null,null,null,null,null,null,null,null,null,null,null,null,null,null,null,null,null,null,null,null,null,null,null,null,null,null,null,null,null,null,null,null,null,null,null,null,null,null,null,null,null,null,null,null,null,null,null,null,null,null,null,null,null,null,null,null,null,null,null,null,null,null,null,null,null,null,null,null,null,null,null,null,null,null,null,null,null,null,null,null,null,null,null,null,"M0882029"," "]
["외송판재","3.6mx30cmx3.0cm","㎥",423600,"시설공통자재",479042,138,485030,129,502994.01,152,null,null,464670.65,73,423600,0,{"$f":"IF(Q74=0,P74,TRUNC(Q74/100*P74,0))","v":423600},"점포상차도",null,null,null,null,null,null,null,null,null,null,null,null,null,null,null,null,null,null,null,null,null,null,null,null,null,null,null,null,null,null,null,null,null,null,null,null,null,null,null,null,null,null,null,null,null,null,null,null,null,null,null,null,null,null,null,null,null,null,null,null,null,null,null,null,null,null,null,null,null,null,null,null,null,null,null,null,null,null,null,null,null,null,null,null,null,null,null,null,null,null,null,null,null,null,null,null,null,"M0888029"," "]
["강관파이프(단관비계)","Ø48.6*2.3t","M",2700,"",3050,145,4400,132,2900,169,null,null,2958.5,82,{"$f":"MIN(D75,F75,H75,J75,L75,N75)","v":2700},0,2700,"점포상차도",null,null,null,null,null,null,null,null,null,null,null,null,null,null,null,null,null,null,null,null,null,null,null,null,null,null,null,null,null,null,null,null,null,null,null,null,null,null,null,null,null,null,null,null,null,null,null,null,null,null,null,null,null,null,null,null,null,null,null,null,null,null,null,null,null,null,null,null,null,null,null,null,null,null,null,null,null,null,null,null,null,null,null,null,null,null,null,null,null,null,null,null,null,null,null,null,null,"M1002009"," "]
["연결핀","Ø48.6","EA",null,"",900,145,1800,132,1000,168,null,null,873,82,873,0,873,"점포상차도",null,null,null,null,null,null,null,null,null,null,null,null,null,null,null,null,null,null,null,null,null,null,null,null,null,null,null,null,null,null,null,null,null,null,null,null,null,null,null,null,null,null,null,null,null,null,null,null,null,null,null,null,null,null,null,null,null,null,null,null,null,null,null,null,null,null,null,null,null,null,null,null,null,null,null,null,null,null,null,null,null,null,null,null,null,null,null,null,null,null,null,null,null,null,null,null,null,"M1005021"," "]
["문양거푸집재(스치로폴)","910x910","매",null,"",6037,151,null,null,3018,175,null,null,null,null,3018,0,3018,"공장상차도",null,null,null,null,null,null,null,null,null,null,null,null,null,null,null,null,null,null,null,null,null,null,null,null,null,null,null,null,null,null,null,null,null,null,null,null,null,null,null,null,null,null,null,null,null,null,null,null,null,null,null,null,null,null,null,null,null,null,null,null,null,null,null,null,null,null,null,null,null,null,null,null,null,null,null,null,null,null,null,null,null,null,null,null,null,null,null,null,null,null,null,null,null,null,null,null,null,"M1056003"," "]
["문양박리제(유성)","문양거푸집전용 20ℓ/CAN","ℓ",1637,"",4000,151,null,null,null,null,null,null,4000,85,1637,0,1637,"납품장소도",null,null,null,null,null,null,null,null,null,null,null,null,null,null,null,null,null,null,null,null,null,null,null,null,null,null,null,null,null,null,null,null,null,null,null,null,null,null,null,null,null,null,null,null,null,null,null,null,null,null,null,null,null,null,null,null,null,null,null,null,null,null,null,null,null,null,null,null,null,null,null,null,null,null,null,null,null,null,null,null,null,null,null,null,null,null,null,null,null,null,null,null,null,null,null,null,null,"M1059003"," "]
["폼타이(form tie)","D-TYPE 5/16x360mm","조",null,"",null,null,null,null,225,173,null,null,null,"",225,0,225,"공장상차도",null,null,null,null,null,null,null,null,null,null,null,null,null,null,null,null,null,null,null,null,null,null,null,null,null,null,null,null,null,null,null,null,null,null,null,null,null,null,null,null,null,null,null,null,null,null,null,null,null,null,null,null,null,null,null,null,null,null,null,null,null,null,null,null,null,null,null,null,null,null,null,null,null,null,null,null,null,null,null,null,null,null,null,null,null,null,null,null,null,null,null,null,null,null,null,null,null,"M1074021"," "]
["스페이서","토목,슬래브용","본",null,"",80,152,80,132,80,172,null,null,80,87,80,0,80,"공장상차도",null,null,null,null,null,null,null,null,null,null,null,null,null,null,null,null,null,null,null,null,null,null,null,null,null,null,null,null,null,null,null,null,null,null,null,null,null,null,null,null,null,null,null,null,null,null,null,null,null,null,null,null,null,null,null,null,null,null,null,null,null,null,null,null,null,null,null,null,null,null,null,null,null,null,null,null,null,null,null,null,null,null,null,null,null,null,null,null,null,null,null,null,null,null,null,null,null,"M114301M"," "]
["아스팔트유제","RSC-3,4","D/M",155000,"",180000,154,160000,214,180000,177,null,null,140000,181,140000,0,140000,"현장도착도",null,null,null,null,null,null,null,null,null,null,null,null,null,null,null,null,null,null,null,null,null,null,null,null,null,null,null,null,null,null,null,null,null,null,null,null,null,null,null,null,null,null,null,null,null,null,null,null,null,null,null,null,null,null,null,null,null,null,null,null,null,null,null,null,null,null,null,null,null,null,null,null,null,null,null,null,null,null,null,null,null,null,null,null,null,null,null,null,null,null,null,null,null,null,null,null,null,"M1152009"," "]
["수팽창성지수재","시공조인트,박스연결부","M",null,"",3000,335,2500,163,1900,373,null,null,1900,131,1900,0,1900,"공장상차도",null,null,null,null,null,null,null,null,null,null,null,null,null,null,null,null,null,null,null,null,null,null,null,null,null,null,null,null,null,null,null,null,null,null,null,null,null,null,null,null,null,null,null,null,null,null,null,null,null,null,null,null,null,null,null,null,null,null,null,null,null,null,null,null,null,null,null,null,null,null,null,null,null,null,null,null,null,null,null,null,null,null,null,null,null,null,null,null,null,null,null,null,null,null,null,null,null,"M2064003"," "]
["U형 볼트.너트","용융아연도금","EA",null,"",2377,86,2198,88,null,null,null,null,null,"",2198,0,2198,"생산자상차도",null,null,null,null,null,null,null,null,null,null,null,null,null,null,null,null,null,null,null,null,null,null,null,null,null,null,null,null,null,null,null,null,null,null,null,null,null,null,null,null,null,null,null,null,null,null,null,null,null,null,null,null,null,null,null,null,null,null,null,null,null,null,null,null,null,null,null,null,null,null,null,null,null,null,null,null,null,null,null,null,null,null,null,null,null,null,null,null,null,null,null,null,null,null,null,null,null,"M2838931"," "]
["콘테이너하우스","6x 3.0x2.6m(창고용)","동",1840000,"",null,null,2500000,704,2700000,736,null,null,2000000,89,1840000,0,1840000,"납품장소도",null,null,null,null,null,null,null,null,null,null,null,null,null,null,null,null,null,null,null,null,null,null,null,null,null,null,null,null,null,null,null,null,null,null,null,null,null,null,null,null,null,null,null,null,null,null,null,null,null,null,null,null,null,null,null,null,null,null,null,null,null,null,null,null,null,null,null,null,null,null,null,null,null,null,null,null,null,null,null,null,null,null,null,null,null,null,null,null,null,null,null,null,null,null,null,null,null,"M3357012"," "]
["콘테이너하우스","12x3.0x2.6m(창고용)","동",3348000,"",null,null,3900000,704,4200000,736,null,null,null,"",3348000,0,3348000,"납품장소도",null,null,null,null,null,null,null,null,null,null,null,null,null,null,null,null,null,null,null,null,null,null,null,null,null,null,null,null,null,null,null,null,null,null,null,null,null,null,null,null,null,null,null,null,null,null,null,null,null,null,null,null,null,null,null,null,null,null,null,null,null,null,null,null,null,null,null,null,null,null,null,null,null,null,null,null,null,null,null,null,null,null,null,null,null,null,null,null,null,null,null,null,null,null,null,null,null,"M3357018"," "]
["콘테이너하우스","9x 3.0x2.6m(사무실용)","동",3032000,"",3400000,555,4000000,704,3800000,736,null,null,null,"",3032000,0,3032000,"납품장소도",null,null,null,null,null,null,null,null,null,null,null,null,null,null,null,null,null,null,null,null,null,null,null,null,null,null,null,null,null,null,null,null,null,null,null,null,null,null,null,null,null,null,null,null,null,null,null,null,null,null,null,null,null,null,null,null,null,null,null,null,null,null,null,null,null,null,null,null,null,null,null,null,null,null,null,null,null,null,null,null,null,null,null,null,null,null,null,null,null,null,null,null,null,null,null,null,null,"M3357042"," "]
["내수합판","12tx1220x2440㎜","㎡",8419,"",8566.25,687,9453,633,9002.9599999999991,653,null,null,8566.25,417,8419,0,8419,"점포상차도",null,null,null,null,null,null,null,null,null,null,null,null,null,null,null,null,null,null,null,null,null,null,null,null,null,null,null,null,null,null,null,null,null,null,null,null,null,null,null,null,null,null,null,null,null,null,null,null,null,null,null,null,null,null,null,null,null,null,null,null,null,null,null,null,null,null,null,null,null,null,null,null,null,null,null,null,null,null,null,null,null,null,null,null,null,null,null,null,null,null,null,null,null,null,null,null,null,"M4332041"," "]
["PVC파이프(일반용VG2)","150mm x 4m","본",null,null,43210,762,43760,758,42210,779,null,null,44000,568,42210,0,42210,"점포상차도",null,null,null,null,null,null,null,null,null,null,null,null,null,null,null,null,null,null,null,null,null,null,null,null,null,null,null,null,null,null,null,null,null,null,null,null,null,null,null,null,null,null,null,null,null,null,null,null,null,null,null,null,null,null,null,null,null,null,null,null,null,null,null,null,null,null,null,null,null,null,null,null,null,null,null,null,null,null,null,null,null,null,null,null,null,null,null,null,null,null,null,null,null,null,null,null,null,"M5370017"," "]
["연마지","60#230x280㎜(공연마용)","매",null,"",290,1420,null,null,260,1353,null,null,null,null,260,0,260,"점포상차도",null,null,null,null,null,null,null,null,null,null,null,null,null,null,null,null,null,null,null,null,null,null,null,null,null,null,null,null,null,null,null,null,null,null,null,null,null,null,null,null,null,null,null,null,null,null,null,null,null,null,null,null,null,null,null,null,null,null,null,null,null,null,null,null,null,null,null,null,null,null,null,null,null,null,null,null,null,null,null,null,null,null,null,null,null,null,null,null,null,null,null,null,null,null,null,null,null,"M8916003"," "]
["연마지","연질용#180-#240","매",200,"",250,1420,310,1125,220,1353,null,null,310,1216,200,0,200,"납품장소도",null,null,null,null,null,null,null,null,null,null,null,null,null,null,null,null,null,null,null,null,null,null,null,null,null,null,null,null,null,null,null,null,null,null,null,null,null,null,null,null,null,null,null,null,null,null,null,null,null,null,null,null,null,null,null,null,null,null,null,null,null,null,null,null,null,null,null,null,null,null,null,null,null,null,null,null,null,null,null,null,null,null,null,null,null,null,null,null,null,null,null,null,null,null,null,null,null,"M8916006"," "]
["블레이드(Cutter)","14\",t=3.2MM","매",null,"",152000,1422,169800,1128,210000,1354,null,null,169800,1214,152000,0,152000,"점포상차도",null,null,null,null,null,null,null,null,null,null,null,null,null,null,null,null,null,null,null,null,null,null,null,null,null,null,null,null,null,null,null,null,null,null,null,null,null,null,null,null,null,null,null,null,null,null,null,null,null,null,null,null,null,null,null,null,null,null,null,null,null,null,null,null,null,null,null,null,null,null,null,null,null,null,null,null,null,null,null,null,null,null,null,null,null,null,null,null,null,null,null,null,null,null,null,null,null,"M8922017"," "]
["용접봉(연강용)","KSE4301","㎏",null,"",2980,1395,2736,1073,2190,1342,null,null,2190,1180,2190,0,2190,"점포상차도",null,null,null,null,null,null,null,null,null,null,null,null,null,null,null,null,null,null,null,null,null,null,null,null,null,null,null,null,null,null,null,null,null,null,null,null,null,null,null,null,null,null,null,null,null,null,null,null,null,null,null,null,null,null,null,null,null,null,null,null,null,null,null,null,null,null,null,null,null,null,null,null,null,null,null,null,null,null,null,null,null,null,null,null,null,null,null,null,null,null,null,null,null,null,null,null,null,"M9015005"," "]
["PE필름","0.1MMx90CMx91M","㎡",540,"",475,18,null,null,617,1476,null,null,475,1230,475,0,475,"점포상차도",null,null,null,null,null,null,null,null,null,null,null,null,null,null,null,null,null,null,null,null,null,null,null,null,null,null,null,null,null,null,null,null,null,null,null,null,null,null,null,null,null,null,null,null,null,null,null,null,null,null,null,null,null,null,null,null,null,null,null,null,null,null,null,null,null,null,null,null,null,null,null,null,null,null,null,null,null,null,null,null,null,null,null,null,null,null,null,null,null,null,null,null,null,null,null,null,null,"M92280"," "]
["프로판가스","일반용","㎏",null,"",894,0,1695,1482,1571,1467,null,null,1650,1237,894,0,894,"점포상차도",null,null,null,null,null,null,null,null,null,null,null,null,null,null,null,null,null,null,null,null,null,null,null,null,null,null,null,null,null,null,null,null,null,null,null,null,null,null,null,null,null,null,null,null,null,null,null,null,null,null,null,null,null,null,null,null,null,null,null,null,null,null,null,null,null,null,null,null,null,null,null,null,null,null,null,null,null,null,null,null,null,null,null,null,null,null,null,null,null,null,null,null,null,null,null,null,null,"M9384003"," "]
["PP 마대"," 75CM*115CM","매",null,"",716,45,800,1542,770,1486,null,null,null,null,716,0,716,"점포상차도",null,null,null,null,null,null,null,null,null,null,null,null,null,null,null,null,null,null,null,null,null,null,null,null,null,null,null,null,null,null,null,null,null,null,null,null,null,null,null,null,null,null,null,null,null,null,null,null,null,null,null,null,null,null,null,null,null,null,null,null,null,null,null,null,null,null,null,null,null,null,null,null,null,null,null,null,null,null,null,null,null,null,null,null,null,null,null,null,null,null,null,null,null,null,null,null,null,"M9546003"," "]
["물","","Ton",1470,"",null,null,null,null,null,"",null,null,null,"",1470,0,1470,"공공요금",null,null,null,null,null,null,null,null,null,null,null,null,null,null,null,null,null,null,null,null,null,null,null,null,null,null,null,null,null,null,null,null,null,null,null,null,null,null,null,null,null,null,null,null,null,null,null,null,null,null,null,null,null,null,null,null,null,null,null,null,null,null,null,null,null,null,null,null,null,null,null,null,null,null,null,null,null,null,null,null,null,null,null,null,null,null,null,null,null,null,null,null,null,null,null,null,null,"MA0004"," "]
["물","","ℓ",1.47,"",null,null,null,null,null,"",1,"",null,"",{"$f":"MIN(D97,F97,H97,J97,L97,N97)","v":1},0,1,"공공요금",null,null,null,null,null,null,null,null,null,null,null,null,null,null,null,null,null,null,null,null,null,null,null,null,null,null,null,null,null,null,null,null,null,null,null,null,null,null,null,null,null,null,null,null,null,null,null,null,null,null,null,null,null,null,null,null,null,null,null,null,null,null,null,null,null,null,null,null,null,null,null,null,null,null,null,null,null,null,null,null,null,null,null,null,null,null,null,null,null,null,null,null,null,null,null,null,null,"MA0004-1"," "]
["치즐","0.2M3","대",null,"",null,"",83000,1036,null,"",null,null,null,"",83000,0,83000,"지정장소",null,null,null,null,null,null,null,null,null,null,null,null,null,null,null,null,null,null,null,null,null,null,null,null,null,null,null,null,null,null,null,null,null,null,null,null,null,null,null,null,null,null,null,null,null,null,null,null,null,null,null,null,null,null,null,null,null,null,null,null,null,null,null,null,null,null,null,null,null,null,null,null,null,null,null,null,null,null,null,null,null,null,null,null,null,null,null,null,null,null,null,null,null,null,null,null,null,"MJ016000"," "]
["치즐","0.4M3","대",null,"",null,"",100000,null,null,"",null,null,null,"",100000,0,100000,"지정장소",null,null,null,null,null,null,null,null,null,null,null,null,null,null,null,null,null,null,null,null,null,null,null,null,null,null,null,null,null,null,null,null,null,null,null,null,null,null,null,null,null,null,null,null,null,null,null,null,null,null,null,null,null,null,null,null,null,null,null,null,null,null,null,null,null,null,null,null,null,null,null,null,null,null,null,null,null,null,null,null,null,null,null,null,null,null,null,null,null,null,null,null,null,null,null,null,null,"MJ016001"," "]
["치즐","0.6M3","대",null,"",null,"",220000,1036,null,"",null,null,null,"",220000,0,220000,"지정장소",null,null,null,null,null,null,null,null,null,null,null,null,null,null,null,null,null,null,null,null,null,null,null,null,null,null,null,null,null,null,null,null,null,null,null,null,null,null,null,null,null,null,null,null,null,null,null,null,null,null,null,null,null,null,null,null,null,null,null,null,null,null,null,null,null,null,null,null,null,null,null,null,null,null,null,null,null,null,null,null,null,null,null,null,null,null,null,null,null,null,null,null,null,null,null,null,null,"MJ0160011"," "]
["치즐","0.7M3","대",null,"",null,"",200000,null,null,"",null,null,null,"",200000,0,200000,"지정장소",null,null,null,null,null,null,null,null,null,null,null,null,null,null,null,null,null,null,null,null,null,null,null,null,null,null,null,null,null,null,null,null,null,null,null,null,null,null,null,null,null,null,null,null,null,null,null,null,null,null,null,null,null,null,null,null,null,null,null,null,null,null,null,null,null,null,null,null,null,null,null,null,null,null,null,null,null,null,null,null,null,null,null,null,null,null,null,null,null,null,null,null,null,null,null,null,null,"MJ016002"," "]
["클램프","자동","EA",null,"",1500,145,1500,132,1550,167,null,null,1455,82,1455,0,1455,"공장상차도",null,null,null,null,null,null,null,null,null,null,null,null,null,null,null,null,null,null,null,null,null,null,null,null,null,null,null,null,null,null,null,null,null,null,null,null,null,null,null,null,null,null,null,null,null,null,null,null,null,null,null,null,null,null,null,null,null,null,null,null,null,null,null,null,null,null,null,null,null,null,null,null,null,null,null,null,null,null,null,null,null,null,null,null,null,null,null,null,null,null,null,null,null,null,null,null,null,"MYG0040"," "]
["클램프","고정","EA",null,"",1500,145,1500,132,1550,167,null,null,1455,82,1455,0,1455,"공장상차도",null,null,null,null,null,null,null,null,null,null,null,null,null,null,null,null,null,null,null,null,null,null,null,null,null,null,null,null,null,null,null,null,null,null,null,null,null,null,null,null,null,null,null,null,null,null,null,null,null,null,null,null,null,null,null,null,null,null,null,null,null,null,null,null,null,null,null,null,null,null,null,null,null,null,null,null,null,null,null,null,null,null,null,null,null,null,null,null,null,null,null,null,null,null,null,null,null,"MYG0041"," "]
["포스트형강","100*100*1200","개",null,"",null,"",23760,81,null,"",null,null,null,"",23760,0,23760,"점포상차도",null,null,null,null,null,null,null,null,null,null,null,null,null,null,null,null,null,null,null,null,null,null,null,null,null,null,null,null,null,null,null,null,null,null,null,null,null,null,null,null,null,null,null,null,null,null,null,null,null,null,null,null,null,null,null,null,null,null,null,null,null,null,null,null,null,null,null,null,null,null,null,null,null,null,null,null,null,null,null,null,null,null,null,null,null,null,null,null,null,null,null,null,null,null,null,null,null,"M0000001"," "]
["스테인레스원형관","63.5*1.5*2.32","M",8270,"시설공통자재\n(20108833)",8650,77,9200,68,8410,82,null,null,9293,38,8270,0,8270,"점포상차도",null,null,null,null,null,null,null,null,null,null,null,null,null,null,null,null,null,null,null,null,null,null,null,null,null,null,null,null,null,null,null,null,null,null,null,null,null,null,null,null,null,null,null,null,null,null,null,null,null,null,null,null,null,null,null,null,null,null,null,null,null,null,null,null,null,null,null,null,null,null,null,null,null,null,null,null,null,null,null,null,null,null,null,null,null,null,null,null,null,null,null,null,null,null,null,null,null,"M0000002"," "]
["캡","Ø63.5","개",null,"",null,"",7500,"P65",null,"",null,null,null,"",7500,0,{"$f":"IF(Q106=0,P106,TRUNC(Q106/100*P106,0))","v":7500},"공장상차도",null,null,null,null,null,null,null,null,null,null,null,null,null,null,null,null,null,null,null,null,null,null,null,null,null,null,null,null,null,null,null,null,null,null,null,null,null,null,null,null,null,null,null,null,null,null,null,null,null,null,null,null,null,null,null,null,null,null,null,null,null,null,null,null,null,null,null,null,null,null,null,null,null,null,null,null,null,null,null,null,null,null,null,null,null,null,null,null,null,null,null,null,null,null,null,null,null,"M0000003"," "]
["스텐레스봉","4.0*1000","㎏",null,"",null,null,4620,74,null,null,null,null,null,"",{"$f":"MIN(D107,F107,H107,J107,L107,N107)","v":4620},0,{"$f":"IF(Q107=0,P107,TRUNC(Q107/100*P107,0))","v":4620},"점포상차도",null,null,null,null,null,null,null,null,null,null,null,null,null,null,null,null,null,null,null,null,null,null,null,null,null,null,null,null,null,null,null,null,null,null,null,null,null,null,null,null,null,null,null,null,null,null,null,null,null,null,null,null,null,null,null,null,null,null,null,null,null,null,null,null,null,null,null,null,null,null,null,null,null,null,null,null,null,null,null,null,null,null,null,null,null,null,null,null,null,null,null,null,null,null,null,null,null,"M0000004"," "]
["알곤","99.9% 47ℓ","ℓ",null,"",638.29999999999995,33,638.29999999999995,1483,638.29999999999995,1467,null,null,638.29999999999995,1238,638.29999999999995,0,638.29999999999995,"점포상차도",null,null,null,null,null,null,null,null,null,null,null,null,null,null,null,null,null,null,null,null,null,null,null,null,null,null,null,null,null,null,null,null,null,null,null,null,null,null,null,null,null,null,null,null,null,null,null,null,null,null,null,null,null,null,null,null,null,null,null,null,null,null,null,null,null,null,null,null,null,null,null,null,null,null,null,null,null,null,null,null,null,null,null,null,null,null,null,null,null,null,null,null,null,null,null,null,null,"M0000005"," "]
["빗자루","도로청소용","개",null,"",4400,116,4950,1520,null,"",null,null,4950,1310,4400,0,4400,"점포상차도",null,null,null,null,null,null,null,null,null,null,null,null,null,null,null,null,null,null,null,null,null,null,null,null,null,null,null,null,null,null,null,null,null,null,null,null,null,null,null,null,null,null,null,null,null,null,null,null,null,null,null,null,null,null,null,null,null,null,null,null,null,null,null,null,null,null,null,null,null,null,null,null,null,null,null,null,null,null,null,null,null,null,null,null,null,null,null,null,null,null,null,null,null,null,null,null,null,"M0074"," "]
["보온덮개","1.8*10M","롤",null,"",14000,44,null,"",null,"",null,null,null,"",14000,0,14000,"공장상차도",null,null,null,null,null,null,null,null,null,null,null,null,null,null,null,null,null,null,null,null,null,null,null,null,null,null,null,null,null,null,null,null,null,null,null,null,null,null,null,null,null,null,null,null,null,null,null,null,null,null,null,null,null,null,null,null,null,null,null,null,null,null,null,null,null,null,null,null,null,null,null,null,null,null,null,null,null,null,null,null,null,null,null,null,null,null,null,null,null,null,null,null,null,null,null,null,null,"M0091"," "]
["백업 로드","10mm","M",null,"",700,157,null,null,1100,190,null,null,null,null,700,0,700,"공장상차도",null,null,null,null,null,null,null,null,null,null,null,null,null,null,null,null,null,null,null,null,null,null,null,null,null,null,null,null,null,null,null,null,null,null,null,null,null,null,null,null,null,null,null,null,null,null,null,null,null,null,null,null,null,null,null,null,null,null,null,null,null,null,null,null,null,null,null,null,null,null,null,null,null,null,null,null,null,null,null,null,null,null,null,null,null,null,null,null,null,null,null,null,null,null,null,null,null,"M0089"," "]
["씰링재","습식","㎏",null,"",22000,127,20000,118,20000,147,null,null,null,"",20000,0,20000,"점포상차도",null,null,null,null,null,null,null,null,null,null,null,null,null,null,null,null,null,null,null,null,null,null,null,null,null,null,null,null,null,null,null,null,null,null,null,null,null,null,null,null,null,null,null,null,null,null,null,null,null,null,null,null,null,null,null,null,null,null,null,null,null,null,null,null,null,null,null,null,null,null,null,null,null,null,null,null,null,null,null,null,null,null,null,null,null,null,null,null,null,null,null,null,null,null,null,null,null,"M0090"," "]
["에폭시프라이머","","㎏",null,"",6500,128,20900,118,5000,147,null,null,null,"",5000,0,5000,"공장상차도",null,null,null,null,null,null,null,null,null,null,null,null,null,null,null,null,null,null,null,null,null,null,null,null,null,null,null,null,null,null,null,null,null,null,null,null,null,null,null,null,null,null,null,null,null,null,null,null,null,null,null,null,null,null,null,null,null,null,null,null,null,null,null,null,null,null,null,null,null,null,null,null,null,null,null,null,null,null,null,null,null,null,null,null,null,null,null,null,null,null,null,null,null,null,null,null,null,"M0087"," "]
["에폭시신너","","ℓ",null,"",3800,128,3958,548,null,null,null,null,null,null,{"$f":"MIN(D114,F114,H114,J114,L114,N114)","v":3800},0,{"$f":"IF(Q114=0,P114,TRUNC(Q114/100*P114,0))","v":3800},"공장상차도",null,null,null,null,null,null,null,null,null,null,null,null,null,null,null,null,null,null,null,null,null,null,null,null,null,null,null,null,null,null,null,null,null,null,null,null,null,null,null,null,null,null,null,null,null,null,null,null,null,null,null,null,null,null,null,null,null,null,null,null,null,null,null,null,null,null,null,null,null,null,null,null,null,null,null,null,null,null,null,null,null,null,null,null,null,null,null,null,null,null,null,null,null,null,null,null,null,"M0088"," "]
["조경석(부정형,자연석가공장치)","4목 40*50*60","M/T",null,"",80000,380,80000,356,null,null,null,null,null,null,80000,0,80000,"공장상차도",null,null,null,null,null,null,null,null,null,null,null,null,null,null,null,null,null,null,null,null,null,null,null,null,null,null,null,null,null,null,null,null,null,null,null,null,null,null,null,null,null,null,null,null,null,null,null,null,null,null,null,null,null,null,null,null,null,null,null,null,null,null,null,null,null,null,null,null,null,null,null,null,null,null,null,null,null,null,null,null,null,null,null,null,null,null,null,null,null,null,null,null,null,null,null,null,null,"M0075","K"]
["부직포","300g/㎡","㎡",null,"",null,null,1250,160,null,"",null,null,1250,128,1250,0,1250,"공장상차도",null,null,null,null,null,null,null,null,null,null,null,null,null,null,null,null,null,null,null,null,null,null,null,null,null,null,null,null,null,null,null,null,null,null,null,null,null,null,null,null,null,null,null,null,null,null,null,null,null,null,null,null,null,null,null,null,null,null,null,null,null,null,null,null,null,null,null,null,null,null,null,null,null,null,null,null,null,null,null,null,null,null,null,null,null,null,null,null,null,null,null,null,null,null,null,null,null,"M0054"," "]
["라바콘","중 60cm","개",null,"",9000,207,8100,261,null,null,null,null,null,"",8100,0,8100,"점포상차도",null,null,null,null,null,null,null,null,null,null,null,null,null,null,null,null,null,null,null,null,null,null,null,null,null,null,null,null,null,null,null,null,null,null,null,null,null,null,null,null,null,null,null,null,null,null,null,null,null,null,null,null,null,null,null,null,null,null,null,null,null,null,null,null,null,null,null,null,null,null,null,null,null,null,null,null,null,null,null,null,null,null,null,null,null,null,null,null,null,null,null,null,null,null,null,null,null,"M0092"," "]
["초조강시멘트","20kg/대 (포장품)","대",null,"",null,null,11000,104,null,null,null,null,11000,62,11000,0,11000,"점포상차도",null,null,null,null,null,null,null,null,null,null,null,null,null,null,null,null,null,null,null,null,null,null,null,null,null,null,null,null,null,null,null,null,null,null,null,null,null,null,null,null,null,null,null,null,null,null,null,null,null,null,null,null,null,null,null,null,null,null,null,null,null,null,null,null,null,null,null,null,null,null,null,null,null,null,null,null,null,null,null,null,null,null,null,null,null,null,null,null,null,null,null,null,null,null,null,null,null,"M0015"," "]
["결합제(미끄럼방지결합재)","흑색","㎏",null,"",8200,158,null,null,null,"",null,null,null,"",8200,0,8200,"공장상차도",null,null,null,null,null,null,null,null,null,null,null,null,null,null,null,null,null,null,null,null,null,null,null,null,null,null,null,null,null,null,null,null,null,null,null,null,null,null,null,null,null,null,null,null,null,null,null,null,null,null,null,null,null,null,null,null,null,null,null,null,null,null,null,null,null,null,null,null,null,null,null,null,null,null,null,null,null,null,null,null,null,null,null,null,null,null,null,null,null,null,null,null,null,null,null,null,null,"M0735103-2"," "]
["결합제(미끄럼방지결합재)","적색","㎏",null,"",8200,158,null,null,null,"",null,null,null,"",8200,0,8200,"공장상차도",null,null,null,null,null,null,null,null,null,null,null,null,null,null,null,null,null,null,null,null,null,null,null,null,null,null,null,null,null,null,null,null,null,null,null,null,null,null,null,null,null,null,null,null,null,null,null,null,null,null,null,null,null,null,null,null,null,null,null,null,null,null,null,null,null,null,null,null,null,null,null,null,null,null,null,null,null,null,null,null,null,null,null,null,null,null,null,null,null,null,null,null,null,null,null,null,null,"M0735103-3"," "]
["미끄럼방지 모르터","상온도포형","㎏",null,"",64000,160,null,"",null,"",null,null,null,"",64000,0,64000,"지정장소도착도",null,null,null,null,null,null,null,null,null,null,null,null,null,null,null,null,null,null,null,null,null,null,null,null,null,null,null,null,null,null,null,null,null,null,null,null,null,null,null,null,null,null,null,null,null,null,null,null,null,null,null,null,null,null,null,null,null,null,null,null,null,null,null,null,null,null,null,null,null,null,null,null,null,null,null,null,null,null,null,null,null,null,null,null,null,null,null,null,null,null,null,null,null,null,null,null,null,"M011001"," "]
["블레이드(건식그루버장착용)","12\"ⅹ4㎜","매",null,"",null,"",null,null,400000,185,null,null,null,"",400000,0,400000,"점포상차도",null,null,null,null,null,null,null,null,null,null,null,null,null,null,null,null,null,null,null,null,null,null,null,null,null,null,null,null,null,null,null,null,null,null,null,null,null,null,null,null,null,null,null,null,null,null,null,null,null,null,null,null,null,null,null,null,null,null,null,null,null,null,null,null,null,null,null,null,null,null,null,null,null,null,null,null,null,null,null,null,null,null,null,null,null,null,null,null,null,null,null,null,null,null,null,null,null,"M000-0140"," "]
["블레이드(건식그루버장착용)","12\"ⅹ6㎜","매",null,"",null,"",null,null,500000,185,null,null,null,"",500000,0,500000,"점포상차도",null,null,null,null,null,null,null,null,null,null,null,null,null,null,null,null,null,null,null,null,null,null,null,null,null,null,null,null,null,null,null,null,null,null,null,null,null,null,null,null,null,null,null,null,null,null,null,null,null,null,null,null,null,null,null,null,null,null,null,null,null,null,null,null,null,null,null,null,null,null,null,null,null,null,null,null,null,null,null,null,null,null,null,null,null,null,null,null,null,null,null,null,null,null,null,null,null,"M000-0145"," "]
["블레이드","면처리용","개",null,"",null,"",null,null,49000,1354,null,null,null,"",49000,0,49000,"점포상차도",null,null,null,null,null,null,null,null,null,null,null,null,null,null,null,null,null,null,null,null,null,null,null,null,null,null,null,null,null,null,null,null,null,null,null,null,null,null,null,null,null,null,null,null,null,null,null,null,null,null,null,null,null,null,null,null,null,null,null,null,null,null,null,null,null,null,null,null,null,null,null,null,null,null,null,null,null,null,null,null,null,null,null,null,null,null,null,null,null,null,null,null,null,null,null,null,null,"M000-0141"," "]
["PE 안전휀스","1510ⅹ410ⅹ910㎜","개",null,"",16000,207,16000,266,16000,254,null,null,null,"",16000,0,16000,"점포상차도",null,null,null,null,null,null,null,null,null,null,null,null,null,null,null,null,null,null,null,null,null,null,null,null,null,null,null,null,null,null,null,null,null,null,null,null,null,null,null,null,null,null,null,null,null,null,null,null,null,null,null,null,null,null,null,null,null,null,null,null,null,null,null,null,null,null,null,null,null,null,null,null,null,null,null,null,null,null,null,null,null,null,null,null,null,null,null,null,null,null,null,null,null,null,null,null,null,"M000-0160"," "]
["타월","","개",1545,"",2100,138,3300,1533,null,"",null,null,null,"",{"$f":"MIN(D126,F126,H126,J126,L126,N126)","v":1545},0,{"$f":"IF(Q126=0,P126,TRUNC(Q126/100*P126,0))","v":1545},"점포상차도",null,null,null,null,null,null,null,null,null,null,null,null,null,null,null,null,null,null,null,null,null,null,null,null,null,null,null,null,null,null,null,null,null,null,null,null,null,null,null,null,null,null,null,null,null,null,null,null,null,null,null,null,null,null,null,null,null,null,null,null,null,null,null,null,null,null,null,null,null,null,null,null,null,null,null,null,null,null,null,null,null,null,null,null,null,null,null,null,null,null,null,null,null,null,null,null,null,"M000-0170"," "]
["세립도 표층용 투수콘","TC-3, 적색","㎥",null,"",310000,161,310000,214,null,"",null,null,null,"",310000,0,310000,"지정장소도착도",null,null,null,null,null,null,null,null,null,null,null,null,null,null,null,null,null,null,null,null,null,null,null,null,null,null,null,null,null,null,null,null,null,null,null,null,null,null,null,null,null,null,null,null,null,null,null,null,null,null,null,null,null,null,null,null,null,null,null,null,null,null,null,null,null,null,null,null,null,null,null,null,null,null,null,null,null,null,null,null,null,null,null,null,null,null,null,null,null,null,null,null,null,null,null,null,null,"M000-3140","K"]
["세립도 기층용 투수콘","25-180kg/cm2","㎥",null,"",100000,161,100000,214,null,"",null,null,null,"",100000,0,100000,"지정장소도착도",null,null,null,null,null,null,null,null,null,null,null,null,null,null,null,null,null,null,null,null,null,null,null,null,null,null,null,null,null,null,null,null,null,null,null,null,null,null,null,null,null,null,null,null,null,null,null,null,null,null,null,null,null,null,null,null,null,null,null,null,null,null,null,null,null,null,null,null,null,null,null,null,null,null,null,null,null,null,null,null,null,null,null,null,null,null,null,null,null,null,null,null,null,null,null,null,null,"M000-3130","K"]
["투수아스팔트콘크리트","13mm, 암갈색,자전거도로","톤",null,"",115000,155,115000,218,null,null,null,null,125000,183,115000,0,115000,"생산자상차도",null,null,null,null,null,null,null,null,null,null,null,null,null,null,null,null,null,null,null,null,null,null,null,null,null,null,null,null,null,null,null,null,null,null,null,null,null,null,null,null,null,null,null,null,null,null,null,null,null,null,null,null,null,null,null,null,null,null,null,null,null,null,null,null,null,null,null,null,null,null,null,null,null,null,null,null,null,null,null,null,null,null,null,null,null,null,null,null,null,null,null,null,null,null,null,null,null,"M000-3120"," "]
["합성세제","가루분","g",null,"",1.49,138,1.57,1539,null,"",null,null,2.23,1324,{"$f":"MIN(D130,F130,H130,J130,L130,N130)","v":1.49},0,{"$f":"IF(Q130=0,P130,TRUNC(Q130/100*P130,0))","v":1.49},"점포상차도",null,null,null,null,null,null,null,null,null,null,null,null,null,null,null,null,null,null,null,null,null,null,null,null,null,null,null,null,null,null,null,null,null,null,null,null,null,null,null,null,null,null,null,null,null,null,null,null,null,null,null,null,null,null,null,null,null,null,null,null,null,null,null,null,null,null,null,null,null,null,null,null,null,null,null,null,null,null,null,null,null,null,null,null,null,null,null,null,null,null,null,null,null,null,null,null,null,"M000-0180"," "]
["탄력볼라드(디자인)","ø150*1100(세로주름형)","개",189000,"관급자재",null,"",null,"",null,"",null,null,null,"",189000,0,189000,"납품장소하차도",null,null,null,null,null,null,null,null,null,null,null,null,null,null,null,null,null,null,null,null,null,null,null,null,null,null,null,null,null,null,null,null,null,null,null,null,null,null,null,null,null,null,null,null,null,null,null,null,null,null,null,null,null,null,null,null,null,null,null,null,null,null,null,null,null,null,null,null,null,null,null,null,null,null,null,null,null,null,null,null,null,null,null,null,null,null,null,null,null,null,null,null,null,null,null,null,null,"M000-0110","K"]
["u형볼라드","ø105*h900,매립식","개",175000,"관급자재",null,"",null,null,null,"",null,null,null,"",175000,0,175000,"현장설치도",null,null,null,null,null,null,null,null,null,null,null,null,null,null,null,null,null,null,null,null,null,null,null,null,null,null,null,null,null,null,null,null,null,null,null,null,null,null,null,null,null,null,null,null,null,null,null,null,null,null,null,null,null,null,null,null,null,null,null,null,null,null,null,null,null,null,null,null,null,null,null,null,null,null,null,null,null,null,null,null,null,null,null,null,null,null,null,null,null,null,null,null,null,null,null,null,null,"M000-0150","K"]
["차선규제봉","200*80*750㎜","개",11460,"관급자재",30000,207,28500,260,35000,256,null,null,31000,222,11460,0,11460,"납품장소하차도",null,null,null,null,null,null,null,null,null,null,null,null,null,null,null,null,null,null,null,null,null,null,null,null,null,null,null,null,null,null,null,null,null,null,null,null,null,null,null,null,null,null,null,null,null,null,null,null,null,null,null,null,null,null,null,null,null,null,null,null,null,null,null,null,null,null,null,null,null,null,null,null,null,null,null,null,null,null,null,null,null,null,null,null,null,null,null,null,null,null,null,null,null,null,null,null,null,"M000-0210","K"]
["칼라철판(강판)","800*2000*0.45","매",null,"",null,null,16511,50,null,"",null,null,null,"",16511,0,16511,"점포상차도",null,null,null,null,null,null,null,null,null,null,null,null,null,null,null,null,null,null,null,null,null,null,null,null,null,null,null,null,null,null,null,null,null,null,null,null,null,null,null,null,null,null,null,null,null,null,null,null,null,null,null,null,null,null,null,null,null,null,null,null,null,null,null,null,null,null,null,null,null,null,null,null,null,null,null,null,null,null,null,null,null,null,null,null,null,null,null,null,null,null,null,null,null,null,null,null,null,"M000-01",""]
["띠장(컬러C형강)","C-60*30*10*2.2mm","M",null,"",null,null,1913,63,1642.5,59,null,null,1800,23,{"$f":"MIN(D135,F135,H135,J135,L135,N135)","v":1642.5},0,{"$f":"IF(Q135=0,P135,TRUNC(Q135/100*P135,0))","v":1642.5},"점포상차도",null,null,null,null,null,null,null,null,null,null,null,null,null,null,null,null,null,null,null,null,null,null,null,null,null,null,null,null,null,null,null,null,null,null,null,null,null,null,null,null,null,null,null,null,null,null,null,null,null,null,null,null,null,null,null,null,null,null,null,null,null,null,null,null,null,null,null,null,null,null,null,null,null,null,null,null,null,null,null,null,null,null,null,null,null,null,null,null,null,null,null,null,null,null,null,null,null,"M000-0200",""]
["PE수밀벨트(밴드)","ψ400㎜(흄관용)","EA",null,"",null,null,20600,317,20600,319,null,null,null,"",{"$f":"MIN(D136,F136,H136,J136,L136,N136)","v":20600},0,{"$f":"IF(Q136=0,P136,TRUNC(Q136/100*P136,0))","v":20600},"공장상차도",null,null,null,null,null,null,null,null,null,null,null,null,null,null,null,null,null,null,null,null,null,null,null,null,null,null,null,null,null,null,null,null,null,null,null,null,null,null,null,null,null,null,null,null,null,null,null,null,null,null,null,null,null,null,null,null,null,null,null,null,null,null,null,null,null,null,null,null,null,null,null,null,null,null,null,null,null,null,null,null,null,null,null,null,null,null,null,null,null,null,null,null,null,null,null,null,null,"M1759515"," "]
["PE수밀벨트(밴드)","ψ600㎜(흄관용)","EA",null,"",null,null,26900,317,26900,319,null,null,null,"",26900,0,26900,"공장상차도",null,null,null,null,null,null,null,null,null,null,null,null,null,null,null,null,null,null,null,null,null,null,null,null,null,null,null,null,null,null,null,null,null,null,null,null,null,null,null,null,null,null,null,null,null,null,null,null,null,null,null,null,null,null,null,null,null,null,null,null,null,null,null,null,null,null,null,null,null,null,null,null,null,null,null,null,null,null,null,null,null,null,null,null,null,null,null,null,null,null,null,null,null,null,null,null,null,"M1759524"," "]
["PE수밀벨트(밴드)","ψ800㎜(흄관용)","EA",null,"",null,null,32400,317,32400,319,null,null,null,"",32400,0,32400,"공장상차도",null,null,null,null,null,null,null,null,null,null,null,null,null,null,null,null,null,null,null,null,null,null,null,null,null,null,null,null,null,null,null,null,null,null,null,null,null,null,null,null,null,null,null,null,null,null,null,null,null,null,null,null,null,null,null,null,null,null,null,null,null,null,null,null,null,null,null,null,null,null,null,null,null,null,null,null,null,null,null,null,null,null,null,null,null,null,null,null,null,null,null,null,null,null,null,null,null,"M1759530"," "]
["PE수밀벨트(밴드)","ψ1000㎜(흄관용)","EA",null,"",null,null,52600,317,52600,319,null,null,null,"",52600,0,52600,"공장상차도",null,null,null,null,null,null,null,null,null,null,null,null,null,null,null,null,null,null,null,null,null,null,null,null,null,null,null,null,null,null,null,null,null,null,null,null,null,null,null,null,null,null,null,null,null,null,null,null,null,null,null,null,null,null,null,null,null,null,null,null,null,null,null,null,null,null,null,null,null,null,null,null,null,null,null,null,null,null,null,null,null,null,null,null,null,null,null,null,null,null,null,null,null,null,null,null,null,"M1759536"," "]
["PE수밀벨트(밴드)","ψ1200㎜(흄관용)","EA",null,"",null,null,65700,317,65700,319,null,null,null,"",65700,0,65700,"공장상차도",null,null,null,null,null,null,null,null,null,null,null,null,null,null,null,null,null,null,null,null,null,null,null,null,null,null,null,null,null,null,null,null,null,null,null,null,null,null,null,null,null,null,null,null,null,null,null,null,null,null,null,null,null,null,null,null,null,null,null,null,null,null,null,null,null,null,null,null,null,null,null,null,null,null,null,null,null,null,null,null,null,null,null,null,null,null,null,null,null,null,null,null,null,null,null,null,null,"M1759542"," "]
["하수관수밀시험기","D=300","대",null,"",null,"",254000,301,null,"",null,null,254000,114,254000,0,254000,"생산자상차도",null,null,null,null,null,null,null,null,null,null,null,null,null,null,null,null,null,null,null,null,null,null,null,null,null,null,null,null,null,null,null,null,null,null,null,null,null,null,null,null,null,null,null,null,null,null,null,null,null,null,null,null,null,null,null,null,null,null,null,null,null,null,null,null,null,null,null,null,null,null,null,null,null,null,null,null,null,null,null,null,null,null,null,null,null,null,null,null,null,null,null,null,null,null,null,null,null,"MA0201"," "]
["하수관수밀시험기","D=600","대",null,"",null,"",720000,301,null,"",null,null,720000,114,720000,0,720000,"생산자상차도",null,null,null,null,null,null,null,null,null,null,null,null,null,null,null,null,null,null,null,null,null,null,null,null,null,null,null,null,null,null,null,null,null,null,null,null,null,null,null,null,null,null,null,null,null,null,null,null,null,null,null,null,null,null,null,null,null,null,null,null,null,null,null,null,null,null,null,null,null,null,null,null,null,null,null,null,null,null,null,null,null,null,null,null,null,null,null,null,null,null,null,null,null,null,null,null,null,"MA0206"," "]
["하수관수밀시험기","D=800","대",null,"",null,"",1180000,301,null,"",null,null,1180000,114,1180000,0,1180000,"생산자상차도",null,null,null,null,null,null,null,null,null,null,null,null,null,null,null,null,null,null,null,null,null,null,null,null,null,null,null,null,null,null,null,null,null,null,null,null,null,null,null,null,null,null,null,null,null,null,null,null,null,null,null,null,null,null,null,null,null,null,null,null,null,null,null,null,null,null,null,null,null,null,null,null,null,null,null,null,null,null,null,null,null,null,null,null,null,null,null,null,null,null,null,null,null,null,null,null,null,"MA0208"," "]
["PVC지수판","200x5T KS PVC","M",2500,"시설공통자재\n(토목)",4500,334,2900,162,2600,373,null,null,null,"",{"$f":"MIN(D144,F144,H144,J144,L144,N144)","v":2500},0,{"$f":"IF(Q144=0,P144,TRUNC(Q144/100*P144,0))","v":2500},"공장상차도",null,null,null,null,null,null,null,null,null,null,null,null,null,null,null,null,null,null,null,null,null,null,null,null,null,null,null,null,null,null,null,null,null,null,null,null,null,null,null,null,null,null,null,null,null,null,null,null,null,null,null,null,null,null,null,null,null,null,null,null,null,null,null,null,null,null,null,null,null,null,null,null,null,null,null,null,null,null,null,null,null,null,null,null,null,null,null,null,null,null,null,null,null,null,null,null,null,"M2064063"," "]
["전기료","","KWH",87.7,"",null,null,null,null,null,"",null,null,null,"",87.7,0,87.7,"공공요금",null,null,null,null,null,null,null,null,null,null,null,null,null,null,null,null,null,null,null,null,null,null,null,null,null,null,null,null,null,null,null,null,null,null,null,null,null,null,null,null,null,null,null,null,null,null,null,null,null,null,null,null,null,null,null,null,null,null,null,null,null,null,null,null,null,null,null,null,null,null,null,null,null,null,null,null,null,null,null,null,null,null,null,null,null,null,null,null,null,null,null,null,null,null,null,null,null,"M000-0148"," "]
["단지관(이음관,하수도분기관)","D=300㎜(흄관)","조",null,"",139000,306,139000,320,null,"",null,null,139000,107,139000,0,139000,"공장상차도",null,null,null,null,null,null,null,null,null,null,null,null,null,null,null,null,null,null,null,null,null,null,null,null,null,null,null,null,null,null,null,null,null,null,null,null,null,null,null,null,null,null,null,null,null,null,null,null,null,null,null,null,null,null,null,null,null,null,null,null,null,null,null,null,null,null,null,null,null,null,null,null,null,null,null,null,null,null,null,null,null,null,null,null,null,null,null,null,null,null,null,null,null,null,null,null,null,"M000-0320"," "]
["단지관(이음관,하수도분기관)","D=250㎜(흄관)","조",null,"",129000,306,129000,320,null,"",null,null,129000,107,129000,0,129000,"공장상차도",null,null,null,null,null,null,null,null,null,null,null,null,null,null,null,null,null,null,null,null,null,null,null,null,null,null,null,null,null,null,null,null,null,null,null,null,null,null,null,null,null,null,null,null,null,null,null,null,null,null,null,null,null,null,null,null,null,null,null,null,null,null,null,null,null,null,null,null,null,null,null,null,null,null,null,null,null,null,null,null,null,null,null,null,null,null,null,null,null,null,null,null,null,null,null,null,null,"M000-0315"," "]
["단지관(이음관,하수도분기관)","D=200㎜(PVC)","조",null,"",86600,306,86600,320,null,"",null,null,86600,107,86600,0,86600,"공장상차도",null,null,null,null,null,null,null,null,null,null,null,null,null,null,null,null,null,null,null,null,null,null,null,null,null,null,null,null,null,null,null,null,null,null,null,null,null,null,null,null,null,null,null,null,null,null,null,null,null,null,null,null,null,null,null,null,null,null,null,null,null,null,null,null,null,null,null,null,null,null,null,null,null,null,null,null,null,null,null,null,null,null,null,null,null,null,null,null,null,null,null,null,null,null,null,null,null,"M000-0310"," "]
["단지관(이음관,하수도분기관)","D=150㎜(PVC)","조",null,"",46900,306,46900,320,null,"",null,null,46900,107,46900,0,46900,"공장상차도",null,null,null,null,null,null,null,null,null,null,null,null,null,null,null,null,null,null,null,null,null,null,null,null,null,null,null,null,null,null,null,null,null,null,null,null,null,null,null,null,null,null,null,null,null,null,null,null,null,null,null,null,null,null,null,null,null,null,null,null,null,null,null,null,null,null,null,null,null,null,null,null,null,null,null,null,null,null,null,null,null,null,null,null,null,null,null,null,null,null,null,null,null,null,null,null,null,"M000-0305"," "]
["단지관(이음관,하수도분기관)","D=100㎜(PVC)","조",null,"",39700,306,39700,320,null,"",null,null,39700,107,39700,0,39700,"공장상차도",null,null,null,null,null,null,null,null,null,null,null,null,null,null,null,null,null,null,null,null,null,null,null,null,null,null,null,null,null,null,null,null,null,null,null,null,null,null,null,null,null,null,null,null,null,null,null,null,null,null,null,null,null,null,null,null,null,null,null,null,null,null,null,null,null,null,null,null,null,null,null,null,null,null,null,null,null,null,null,null,null,null,null,null,null,null,null,null,null,null,null,null,null,null,null,null,null,"M000-0300"," "]
["콘크리트못","N25, 30㎜","g",2.02,"",2.17,68,null,null,3.1,90,null,null,2.4,43,2.02,0,2.02,"점포상차도",null,null,null,null,null,null,null,null,null,null,null,null,null,null,null,null,null,null,null,null,null,null,null,null,null,null,null,null,null,null,null,null,null,null,null,null,null,null,null,null,null,null,null,null,null,null,null,null,null,null,null,null,null,null,null,null,null,null,null,null,null,null,null,null,null,null,null,null,null,null,null,null,null,null,null,null,null,null,null,null,null,null,null,null,null,null,null,null,null,null,null,null,null,null,null,null,null,"M0210"," "]
["레고식조립블록","소로형","㎡",{"$f":"TRUNC(858000/1.1,0)","v":780000},"",null,"",null,"",null,"",null,null,null,"",780000,0,780000,"점포상차도",null,null,null,null,null,null,null,null,null,null,null,null,null,null,null,null,null,null,null,null,null,null,null,null,null,null,null,null,null,null,null,null,null,null,null,null,null,null,null,null,null,null,null,null,null,null,null,null,null,null,null,null,null,null,null,null,null,null,null,null,null,null,null,null,null,null,null,null,null,null,null,null,null,null,null,null,null,null,null,null,null,null,null,null,null,null,null,null,null,null,null,null,null,null,null,null,null,"M000-0100",""]
["레고식조립블록","중로형","㎡",{"$f":"TRUNC(1140000/1.1,0)","v":1036363},"",null,"",null,"",null,"",null,null,null,"",1036363,0,1036363,"점포상차도",null,null,null,null,null,null,null,null,null,null,null,null,null,null,null,null,null,null,null,null,null,null,null,null,null,null,null,null,null,null,null,null,null,null,null,null,null,null,null,null,null,null,null,null,null,null,null,null,null,null,null,null,null,null,null,null,null,null,null,null,null,null,null,null,null,null,null,null,null,null,null,null,null,null,null,null,null,null,null,null,null,null,null,null,null,null,null,null,null,null,null,null,null,null,null,null,null,"M000-0120",""]
["교통안전유도로봇","20KG","개",null,"",null,"",1800000,272,null,"",null,null,null,"",1800000,0,1800000,"점포상차도",null,null,null,null,null,null,null,null,null,null,null,null,null,null,null,null,null,null,null,null,null,null,null,null,null,null,null,null,null,null,null,null,null,null,null,null,null,null,null,null,null,null,null,null,null,null,null,null,null,null,null,null,null,null,null,null,null,null,null,null,null,null,null,null,null,null,null,null,null,null,null,null,null,null,null,null,null,null,null,null,null,null,null,null,null,null,null,null,null,null,null,null,null,null,null,null,null,"M000-0350",""]
["신축이음채움재","우레탄실란트","㎏",null,"",null,null,3750,280,3800,194,null,null,3750,192,3750,0,3750,"공장상차도",null,null,null,null,null,null,null,null,null,null,null,null,null,null,null,null,null,null,null,null,null,null,null,null,null,null,null,null,null,null,null,null,null,null,null,null,null,null,null,null,null,null,null,null,null,null,null,null,null,null,null,null,null,null,null,null,null,null,null,null,null,null,null,null,null,null,null,null,null,null,null,null,null,null,null,null,null,null,null,null,null,null,null,null,null,null,null,null,null,null,null,null,null,null,null,null,null,"M8904030"," "]
["윙카","10m","개",null,"",15000,205,15000,266,null,null,null,null,null,"",15000,0,15000,"수요자지정장소도",null,null,null,null,null,null,null,null,null,null,null,null,null,null,null,null,null,null,null,null,null,null,null,null,null,null,null,null,null,null,null,null,null,null,null,null,null,null,null,null,null,null,null,null,null,null,null,null,null,null,null,null,null,null,null,null,null,null,null,null,null,null,null,null,null,null,null,null,null,null,null,null,null,null,null,null,null,null,null,null,null,null,null,null,null,null,null,null,null,null,null,null,null,null,null,null,null,"M0055"," "]
["경광등","φ162 고정식D/C","조",null,"",null,"",null,null,42800,1102,null,null,null,"",42800,0,42800,"점포상차도",null,null,null,null,null,null,null,null,null,null,null,null,null,null,null,null,null,null,null,null,null,null,null,null,null,null,null,null,null,null,null,null,null,null,null,null,null,null,null,null,null,null,null,null,null,null,null,null,null,null,null,null,null,null,null,null,null,null,null,null,null,null,null,null,null,null,null,null,null,null,null,null,null,null,null,null,null,null,null,null,null,null,null,null,null,null,null,null,null,null,null,null,null,null,null,null,null,"M0056"," "]
["결속선","#20","㎏",null,"",1530,67,1760,75,1510,91,null,null,1330,42,1330,0,1330,"점포상차도",null,null,null,null,null,null,null,null,null,null,null,null,null,null,null,null,null,null,null,null,null,null,null,null,null,null,null,null,null,null,null,null,null,null,null,null,null,null,null,null,null,null,null,null,null,null,null,null,null,null,null,null,null,null,null,null,null,null,null,null,null,null,null,null,null,null,null,null,null,null,null,null,null,null,null,null,null,null,null,null,null,null,null,null,null,null,null,null,null,null,null,null,null,null,null,null,null,"M000-0133"," "]
["와이어메쉬","#8,150㎜*150㎜","㎡",null,"",2080,96,1920,82,1900,106,null,null,2018,58,1900,0,1900,"공장상차도",null,null,null,null,null,null,null,null,null,null,null,null,null,null,null,null,null,null,null,null,null,null,null,null,null,null,null,null,null,null,null,null,null,null,null,null,null,null,null,null,null,null,null,null,null,null,null,null,null,null,null,null,null,null,null,null,null,null,null,null,null,null,null,null,null,null,null,null,null,null,null,null,null,null,null,null,null,null,null,null,null,null,null,null,null,null,null,null,null,null,null,null,null,null,null,null,null,"M000-0135"," "]
["하수관수밀시험기","D=450","대",null,"",null,"",null,null,null,"",null,null,480000,114,480000,0,480000,"생산자상차도",null,null,null,null,null,null,null,null,null,null,null,null,null,null,null,null,null,null,null,null,null,null,null,null,null,null,null,null,null,null,null,null,null,null,null,null,null,null,null,null,null,null,null,null,null,null,null,null,null,null,null,null,null,null,null,null,null,null,null,null,null,null,null,null,null,null,null,null,null,null,null,null,null,null,null,null,null,null,null,null,null,null,null,null,null,null,null,null,null,null,null,null,null,null,null,null,null,"MA0204"," "]
["투수용 기층공(서울)","40mm이하","㎥",null,"",null,null,null,"",null,"",null,null,45000,62,45000,0,45000,"생산자상차도",null,null,null,null,null,null,null,null,null,null,null,null,null,null,null,null,null,null,null,null,null,null,null,null,null,null,null,null,null,null,null,null,null,null,null,null,null,null,null,null,null,null,null,null,null,null,null,null,null,null,null,null,null,null,null,null,null,null,null,null,null,null,null,null,null,null,null,null,null,null,null,null,null,null,null,null,null,null,null,null,null,null,null,null,null,null,null,null,null,null,null,null,null,null,null,null,null,"M000-0150-1",""]
["wovon geotextile(하부부직포)","240g/㎡","㎡",null,"",null,"",null,"",2800,183,null,null,null,"",2800,0,2800,"납품장소도착도",null,null,null,null,null,null,null,null,null,null,null,null,null,null,null,null,null,null,null,null,null,null,null,null,null,null,null,null,null,null,null,null,null,null,null,null,null,null,null,null,null,null,null,null,null,null,null,null,null,null,null,null,null,null,null,null,null,null,null,null,null,null,null,null,null,null,null,null,null,null,null,null,null,null,null,null,null,null,null,null,null,null,null,null,null,null,null,null,null,null,null,null,null,null,null,null,null,"M000-0210-1",""]
["투수 콘크리트 블록(차도용)","198*162*80","㎡",27800,"관급자재",null,"",null,"",null,"",null,null,null,"",27800,0,{"$f":"IF(Q163=0,P163,TRUNC(Q163/100*P163,0))","v":27800},"납품장소도착도",null,null,null,null,null,null,null,null,null,null,null,null,null,null,null,null,null,null,null,null,null,null,null,null,null,null,null,null,null,null,null,null,null,null,null,null,null,null,null,null,null,null,null,null,null,null,null,null,null,null,null,null,null,null,null,null,null,null,null,null,null,null,null,null,null,null,null,null,null,null,null,null,null,null,null,null,null,null,null,null,null,null,null,null,null,null,null,null,null,null,null,null,null,null,null,null,null,"M000-0230-1","K"]
["투수 콘크리트 블록(보도용)","200*200*60","㎡",11800,"관급자재",null,"",null,"",null,"",null,null,null,"",{"$f":"MIN(D164,F164,H164,J164,L164,N164)","v":11800},0,{"$f":"IF(Q164=0,P164,TRUNC(Q164/100*P164,0))","v":11800},"납품장소도착도",null,null,null,null,null,null,null,null,null,null,null,null,null,null,null,null,null,null,null,null,null,null,null,null,null,null,null,null,null,null,null,null,null,null,null,null,null,null,null,null,null,null,null,null,null,null,null,null,null,null,null,null,null,null,null,null,null,null,null,null,null,null,null,null,null,null,null,null,null,null,null,null,null,null,null,null,null,null,null,null,null,null,null,null,null,null,null,null,null,null,null,null,null,null,null,null,null,"M000-0230-1","K"]
["기층블록(투수)","500*500*120","㎡",24545,"관급자재",null,"",null,"",null,"",null,null,null,"",{"$f":"MIN(D165,F165,H165,J165,L165,N165)","v":24545},0,{"$f":"IF(Q165=0,P165,TRUNC(Q165/100*P165,0))","v":24545},"납품장소도착도",null,null,null,null,null,null,null,null,null,null,null,null,null,null,null,null,null,null,null,null,null,null,null,null,null,null,null,null,null,null,null,null,null,null,null,null,null,null,null,null,null,null,null,null,null,null,null,null,null,null,null,null,null,null,null,null,null,null,null,null,null,null,null,null,null,null,null,null,null,null,null,null,null,null,null,null,null,null,null,null,null,null,null,null,null,null,null,null,null,null,null,null,null,null,null,null,null,"M000-0240-1","K"]
["노면파쇄기팁날","10inch","개",null,null,null,"",null,"",null,"",null,null,6000,"",{"$f":"MIN(D166,F166,H166,J166,L166,N166)","v":6000},0,{"$f":"IF(Q166=0,P166,TRUNC(Q166/100*P166,0))","v":6000},"",null,null,null,null,null,null,null,null,null,null,null,null,null,null,null,null,null,null,null,null,null,null,null,null,null,null,null,null,null,null,null,null,null,null,null,null,null,null,null,null,null,null,null,null,null,null,null,null,null,null,null,null,null,null,null,null,null,null,null,null,null,null,null,null,null,null,null,null,null,null,null,null,null,null,null,null,null,null,null,null,null,null,null,null,null,null,null,null,null,null,null,null,null,null,null,null,null,"M000-0240-1","K"]
["캇타기날","10inch","개",null,null,null,"",null,"",null,"",null,null,90000,1322,90000,0,90000,"점포상차도",null,null,null,null,null,null,null,null,null,null,null,null,null,null,null,null,null,null,null,null,null,null,null,null,null,null,null,null,null,null,null,null,null,null,null,null,null,null,null,null,null,null,null,null,null,null,null,null,null,null,null,null,null,null,null,null,null,null,null,null,null,null,null,null,null,null,null,null,null,null,null,null,null,null,null,null,null,null,null,null,null,null,null,null,null,null,null,null,null,null,null,null,null,null,null,null,null,"M000-0240-1","K"]
["줄눈모래","25kg","포",null,null,null,null,null,null,15000,210,null,null,15000,62,15000,null,15000,null,null,null,null,null,null,null,null,null,null,null,null,null,null,null,null,null,null,null,null,null,null,null,null,null,null,null,null,null,null,null,null,null,null,null,null,null,null,null,null,null,null,null,null,null,null,null,null,null,null,null,null,null,null,null,null,null,null,null,null,null,null,null,null,null,null,null,null,null,null,null,null,null,null,null,null,null,null,null,null,null,null,null,null,null,null,null,null,null,null,null,null,null,null,null,null,null,null,"M000-0240-1","K"]
["공기주입기","(수밀시험용)","EA",30000,null,null,null,null,null,null,null,null,null,null,null,30000,null,30000]
["공기호스","(수밀시험용)","EA",24000,null,null,null,null,null,null,null,null,null,null,null,24000,null,24000]
["급수호스(2\"x10)","(수밀시험용)","EA",24000,null,null,null,null,null,null,null,null,null,null,null,24000,null,24000]
["수직시험관","(수밀시험용)","EA",60000,null,null,null,null,null,null,null,null,null,null,null,60000,null,60000]
["시험관호스","(수밀시험용)","EA",6000,null,null,null,null,null,null,null,null,null,null,null,6000,null,6000]
["Cylinder type","D300mm(10회), 시험기구","개",254000,null,null,null,null,null,null,null,null,null,null,null,254000,null,254000]
["Cylinder type","D450mm(10회), 시험기구","개",480000,null,null,null,null,null,null,null,null,null,null,null,480000,null,480000]
["Cylinder type","D600mm(10회), 시험기구","개",720000,null,null,null,null,null,null,null,null,null,null,null,720000,null,720000]
["Air Release type","D300mm(10회), 시험기구","개",345000,null,null,null,null,null,null,null,null,null,null,null,345000,null,345000]
["Air Release type","D450mm(10회), 시험기구","개",630000,null,null,null,null,null,null,null,null,null,null,null,630000,null,630000]
["Air Release type","D600mm(10회), 시험기구","개",880000,null,null,null,null,null,null,null,null,null,null,null,880000,null,880000]
["Air Release type","D800mm(10회), 시험기구","개",1180000,null,null,null,null,null,null,null,null,null,null,null,1180000,null,1180000]
["Air Release type","D1000mm(10회), 시험기구","개",1700000,null,null,null,null,null,null,null,null,null,null,null,1700000,null,1700000]
["Air Release type","D1100mm(10회), 시험기구","개",1800000,null,null,null,null,null,null,null,null,null,null,null,1800000,null,1800000]